Workbook

Sheet Master sheet
C2: ='Paste data'!A1 -> Paste here | D2: ='Paste data'!B1 -> 0 | E2: ='Paste data'!C1 -> 0 | F2: ='Paste data'!D1 -> 0 | G2: ='Paste data'!E1 -> 0 | H2: ='Paste data'!F1 -> 0 | I2: ='Paste data'!G1 -> 0 | J2: ='Paste data'!H1 -> 0 | ... AF2: ='Paste data'!AD1 -> 0
B3: 1 | C3: ='Paste data'!A2 -> 0 | D3: ='Paste data'!B2 -> 0 | E3: ='Paste data'!C2 -> 0 | F3: ='Paste data'!D2 -> 0 | G3: =UPPER('Paste data'!E2) | H3: =UPPER('Paste data'!F2) | I3: =UPPER('Paste data'!G2) | J3: =UPPER('Paste data'!H2) | K3: ='Paste data'!I2 -> 0 | L3: ='Paste data'!J2 -> 0 | M3: =IF(K3="F","GIRL",IF(K3="M","BOY","")) | N3: ='Paste data'!L2 -> 0 | O3: ='Paste data'!M2 -> 0 | P3: ='Paste data'!N2 -> 0 | Q3: ='Paste data'!O2 -> 0 | R3: ='Paste data'!P2 -> 0 | S3: ='Paste data'!Q2 -> 0 | T3: ='Paste data'!R2 -> 0 | U3: ='Paste data'!S2 -> 0 | ... AF3: ='Paste data'!AD2 -> 0
B4: 2 | C4: ='Paste data'!A3 -> 0 | D4: ='Paste data'!B3 -> 0 | E4: ='Paste data'!C3 -> 0 | F4: ='Paste data'!D3 -> 0 | G4: =UPPER('Paste data'!E3) | H4: =UPPER('Paste data'!F3) | I4: =UPPER('Paste data'!G3) | J4: =UPPER('Paste data'!H3) | K4: ='Paste data'!I3 -> 0 | L4: ='Paste data'!J3 -> 0 | M4: =IF(K4="F","GIRL",IF(K4="M","BOY","")) | N4: ='Paste data'!L3 -> 0 | O4: ='Paste data'!M3 -> 0 | P4: ='Paste data'!N3 -> 0 | Q4: ='Paste data'!O3 -> 0 | R4: ='Paste data'!P3 -> 0 | S4: ='Paste data'!Q3 -> 0 | T4: ='Paste data'!R3 -> 0 | U4: ='Paste data'!S3 -> 0 | ... Y4: ='Paste data'!W3 -> 0 | Z4: ='Paste data'!#REF! -> #REF! | AA4: ='Paste data'!#REF! -> #REF! | AB4: ='Paste data'!#REF! -> #REF! | AC4: ='Paste data'!#REF! -> #REF! | AD4: ='Paste data'!#REF! -> #REF! | AE4: ='Paste data'!#REF! -> #REF! | AF4: ='Paste data'!#REF! -> #REF!
B5: 3 | C5: ='Paste data'!A4 -> 0 | D5: ='Paste data'!B4 -> 0 | E5: ='Paste data'!C4 -> 0 | F5: ='Paste data'!D4 -> 0 | G5: =UPPER('Paste data'!E4) | H5: =UPPER('Paste data'!F4) | I5: =UPPER('Paste data'!G4) | J5: =UPPER('Paste data'!H4) | K5: ='Paste data'!I4 -> 0 | L5: ='Paste data'!J4 -> 0 | M5: =IF(K5="F","GIRL",IF(K5="M","BOY","")) | N5: ='Paste data'!L4 -> 0 | O5: ='Paste data'!M4 -> 0 | P5: ='Paste data'!N4 -> 0 | Q5: ='Paste data'!O4 -> 0 | R5: ='Paste data'!P4 -> 0 | S5: ='Paste data'!Q4 -> 0 | T5: ='Paste data'!R4 -> 0 | U5: ='Paste data'!S4 -> 0 | ... Y5: ='Paste data'!W4 -> 0 | Z5: ='Paste data'!#REF! -> #REF! | AA5: ='Paste data'!#REF! -> #REF! | AB5: ='Paste data'!#REF! -> #REF! | AC5: ='Paste data'!#REF! -> #REF! | AD5: ='Paste data'!#REF! -> #REF! | AE5: ='Paste data'!#REF! -> #REF! | AF5: ='Paste data'!#REF! -> #REF!
B6: 4 | C6: ='Paste data'!A5 -> 0 | D6: ='Paste data'!B5 -> 0 | E6: ='Paste data'!C5 -> 0 | F6: ='Paste data'!D5 -> 0 | G6: =UPPER('Paste data'!E5) | H6: =UPPER('Paste data'!F5) | I6: =UPPER('Paste data'!G5) | J6: =UPPER('Paste data'!H5) | K6: ='Paste data'!I5 -> 0 | L6: ='Paste data'!J5 -> 0 | M6: =IF(K6="F","GIRL",IF(K6="M","BOY","")) | N6: ='Paste data'!L5 -> 0 | O6: ='Paste data'!M5 -> 0 | P6: ='Paste data'!N5 -> 0 | Q6: ='Paste data'!O5 -> 0 | R6: ='Paste data'!P5 -> 0 | S6: ='Paste data'!Q5 -> 0 | T6: ='Paste data'!R5 -> 0 | U6: ='Paste data'!S5 -> 0 | ... Y6: ='Paste data'!W5 -> 0 | Z6: ='Paste data'!#REF! -> #REF! | AA6: ='Paste data'!#REF! -> #REF! | AB6: ='Paste data'!#REF! -> #REF! | AC6: ='Paste data'!#REF! -> #REF! | AD6: ='Paste data'!#REF! -> #REF! | AE6: ='Paste data'!#REF! -> #REF! | AF6: ='Paste data'!#REF! -> #REF!
B7: 5 | C7: ='Paste data'!A6 -> 0 | D7: ='Paste data'!B6 -> 0 | E7: ='Paste data'!C6 -> 0 | F7: ='Paste data'!D6 -> 0 | G7: =UPPER('Paste data'!E6) | H7: =UPPER('Paste data'!F6) | I7: =UPPER('Paste data'!G6) | J7: =UPPER('Paste data'!H6) | K7: ='Paste data'!I6 -> 0 | L7: ='Paste data'!J6 -> 0 | M7: =IF(K7="F","GIRL",IF(K7="M","BOY","")) | N7: ='Paste data'!L6 -> 0 | O7: ='Paste data'!M6 -> 0 | P7: ='Paste data'!N6 -> 0 | Q7: ='Paste data'!O6 -> 0 | R7: ='Paste data'!P6 -> 0 | S7: ='Paste data'!Q6 -> 0 | T7: ='Paste data'!R6 -> 0 | U7: ='Paste data'!S6 -> 0 | ... Y7: ='Paste data'!W6 -> 0 | Z7: ='Paste data'!#REF! -> #REF! | AA7: ='Paste data'!#REF! -> #REF! | AB7: ='Paste data'!#REF! -> #REF! | AC7: ='Paste data'!#REF! -> #REF! | AD7: ='Paste data'!#REF! -> #REF! | AE7: ='Paste data'!#REF! -> #REF! | AF7: ='Paste data'!#REF! -> #REF!
B8: 6 | C8: ='Paste data'!A7 -> 0 | D8: ='Paste data'!B7 -> 0 | E8: ='Paste data'!C7 -> 0 | F8: ='Paste data'!D7 -> 0 | G8: =UPPER('Paste data'!E7) | H8: =UPPER('Paste data'!F7) | I8: =UPPER('Paste data'!G7) | J8: =UPPER('Paste data'!H7) | K8: ='Paste data'!I7 -> 0 | L8: ='Paste data'!J7 -> 0 | M8: =IF(K8="F","GIRL",IF(K8="M","BOY","")) | N8: ='Paste data'!L7 -> 0 | O8: ='Paste data'!M7 -> 0 | P8: ='Paste data'!N7 -> 0 | Q8: ='Paste data'!O7 -> 0 | R8: ='Paste data'!P7 -> 0 | S8: ='Paste data'!Q7 -> 0 | T8: ='Paste data'!R7 -> 0 | U8: ='Paste data'!S7 -> 0 | ... Y8: ='Paste data'!W7 -> 0 | Z8: ='Paste data'!#REF! -> #REF! | AA8: ='Paste data'!#REF! -> #REF! | AB8: ='Paste data'!#REF! -> #REF! | AC8: ='Paste data'!#REF! -> #REF! | AD8: ='Paste data'!#REF! -> #REF! | AE8: ='Paste data'!#REF! -> #REF! | AF8: ='Paste data'!#REF! -> #REF!
B9: 7 | C9: ='Paste data'!A8 -> 0 | D9: ='Paste data'!B8 -> 0 | E9: ='Paste data'!C8 -> 0 | F9: ='Paste data'!D8 -> 0 | G9: =UPPER('Paste data'!E8) | H9: =UPPER('Paste data'!F8) | I9: =UPPER('Paste data'!G8) | J9: =UPPER('Paste data'!H8) | K9: ='Paste data'!I8 -> 0 | L9: ='Paste data'!J8 -> 0 | M9: =IF(K9="F","GIRL",IF(K9="M","BOY","")) | N9: ='Paste data'!L8 -> 0 | O9: ='Paste data'!M8 -> 0 | P9: ='Paste data'!N8 -> 0 | Q9: ='Paste data'!O8 -> 0 | R9: ='Paste data'!P8 -> 0 | S9: ='Paste data'!Q8 -> 0 | T9: ='Paste data'!R8 -> 0 | U9: ='Paste data'!S8 -> 0 | ... Y9: ='Paste data'!W8 -> 0 | Z9: ='Paste data'!#REF! -> #REF! | AA9: ='Paste data'!#REF! -> #REF! | AB9: ='Paste data'!#REF! -> #REF! | AC9: ='Paste data'!#REF! -> #REF! | AD9: ='Paste data'!#REF! -> #REF! | AE9: ='Paste data'!#REF! -> #REF! | AF9: ='Paste data'!#REF! -> #REF!
B10: 8 | C10: ='Paste data'!A9 -> 0 | D10: ='Paste data'!B9 -> 0 | E10: ='Paste data'!C9 -> 0 | F10: ='Paste data'!D9 -> 0 | G10: =UPPER('Paste data'!E9) | H10: =UPPER('Paste data'!F9) | I10: =UPPER('Paste data'!G9) | J10: =UPPER('Paste data'!H9) | K10: ='Paste data'!I9 -> 0 | L10: ='Paste data'!J9 -> 0 | M10: =IF(K10="F","GIRL",IF(K10="M","BOY","")) | N10: ='Paste data'!L9 -> 0 | O10: ='Paste data'!M9 -> 0 | P10: ='Paste data'!N9 -> 0 | Q10: ='Paste data'!O9 -> 0 | R10: ='Paste data'!P9 -> 0 | S10: ='Paste data'!Q9 -> 0 | T10: ='Paste data'!R9 -> 0 | U10: ='Paste data'!S9 -> 0 | ... Y10: ='Paste data'!W9 -> 0 | Z10: ='Paste data'!#REF! -> #REF! | AA10: ='Paste data'!#REF! -> #REF! | AB10: ='Paste data'!#REF! -> #REF! | AC10: ='Paste data'!#REF! -> #REF! | AD10: ='Paste data'!#REF! -> #REF! | AE10: ='Paste data'!#REF! -> #REF! | AF10: ='Paste data'!#REF! -> #REF!
B11: 9 | C11: ='Paste data'!A10 -> 0 | D11: ='Paste data'!B10 -> 0 | E11: ='Paste data'!C10 -> 0 | F11: ='Paste data'!D10 -> 0 | G11: =UPPER('Paste data'!E10) | H11: =UPPER('Paste data'!F10) | I11: =UPPER('Paste data'!G10) | J11: =UPPER('Paste data'!H10) | K11: ='Paste data'!I10 -> 0 | L11: ='Paste data'!J10 -> 0 | M11: =IF(K11="F","GIRL",IF(K11="M","BOY","")) | N11: ='Paste data'!L10 -> 0 | O11: ='Paste data'!M10 -> 0 | P11: ='Paste data'!N10 -> 0 | Q11: ='Paste data'!O10 -> 0 | R11: ='Paste data'!P10 -> 0 | S11: ='Paste data'!Q10 -> 0 | T11: ='Paste data'!R10 -> 0 | U11: ='Paste data'!S10 -> 0 | ... Y11: ='Paste data'!W10 -> 0 | Z11: ='Paste data'!#REF! -> #REF! | AA11: ='Paste data'!#REF! -> #REF! | AB11: ='Paste data'!#REF! -> #REF! | AC11: ='Paste data'!#REF! -> #REF! | AD11: ='Paste data'!#REF! -> #REF! | AE11: ='Paste data'!#REF! -> #REF! | AF11: ='Paste data'!#REF! -> #REF!
B12: 10 | C12: ='Paste data'!A11 -> 0 | D12: ='Paste data'!B11 -> 0 | E12: ='Paste data'!C11 -> 0 | F12: ='Paste data'!D11 -> 0 | G12: =UPPER('Paste data'!E11) | H12: =UPPER('Paste data'!F11) | I12: =UPPER('Paste data'!G11) | J12: =UPPER('Paste data'!H11) | K12: ='Paste data'!I11 -> 0 | L12: ='Paste data'!J11 -> 0 | M12: =IF(K12="F","GIRL",IF(K12="M","BOY","")) | N12: ='Paste data'!L11 -> 0 | O12: ='Paste data'!M11 -> 0 | P12: ='Paste data'!N11 -> 0 | Q12: ='Paste data'!O11 -> 0 | R12: ='Paste data'!P11 -> 0 | S12: ='Paste data'!Q11 -> 0 | T12: ='Paste data'!R11 -> 0 | U12: ='Paste data'!S11 -> 0 | ... Y12: ='Paste data'!W11 -> 0 | Z12: ='Paste data'!#REF! -> #REF! | AA12: ='Paste data'!#REF! -> #REF! | AB12: ='Paste data'!#REF! -> #REF! | AC12: ='Paste data'!#REF! -> #REF! | AD12: ='Paste data'!#REF! -> #REF! | AE12: ='Paste data'!#REF! -> #REF! | AF12: ='Paste data'!#REF! -> #REF!
B13: 11 | C13: ='Paste data'!A12 -> 0 | D13: ='Paste data'!B12 -> 0 | E13: ='Paste data'!C12 -> 0 | F13: ='Paste data'!D12 -> 0 | G13: =UPPER('Paste data'!E12) | H13: =UPPER('Paste data'!F12) | I13: =UPPER('Paste data'!G12) | J13: =UPPER('Paste data'!H12) | K13: ='Paste data'!I12 -> 0 | L13: ='Paste data'!J12 -> 0 | M13: =IF(K13="F","GIRL",IF(K13="M","BOY","")) | N13: ='Paste data'!L12 -> 0 | O13: ='Paste data'!M12 -> 0 | P13: ='Paste data'!N12 -> 0 | Q13: ='Paste data'!O12 -> 0 | R13: ='Paste data'!P12 -> 0 | S13: ='Paste data'!Q12 -> 0 | T13: ='Paste data'!R12 -> 0 | U13: ='Paste data'!S12 -> 0 | ... Y13: ='Paste data'!W12 -> 0 | Z13: ='Paste data'!#REF! -> #REF! | AA13: ='Paste data'!#REF! -> #REF! | AB13: ='Paste data'!#REF! -> #REF! | AC13: ='Paste data'!#REF! -> #REF! | AD13: ='Paste data'!#REF! -> #REF! | AE13: ='Paste data'!#REF! -> #REF! | AF13: ='Paste data'!#REF! -> #REF!
B14: 12 | C14: ='Paste data'!A13 -> 0 | D14: ='Paste data'!B13 -> 0 | E14: ='Paste data'!C13 -> 0 | F14: ='Paste data'!D13 -> 0 | G14: =UPPER('Paste data'!E13) | H14: =UPPER('Paste data'!F13) | I14: =UPPER('Paste data'!G13) | J14: =UPPER('Paste data'!H13) | K14: ='Paste data'!I13 -> 0 | L14: ='Paste data'!J13 -> 0 | M14: =IF(K14="F","GIRL",IF(K14="M","BOY","")) | N14: ='Paste data'!L13 -> 0 | O14: ='Paste data'!M13 -> 0 | P14: ='Paste data'!N13 -> 0 | Q14: ='Paste data'!O13 -> 0 | R14: ='Paste data'!P13 -> 0 | S14: ='Paste data'!Q13 -> 0 | T14: ='Paste data'!R13 -> 0 | U14: ='Paste data'!S13 -> 0 | ... Y14: ='Paste data'!W13 -> 0 | Z14: ='Paste data'!#REF! -> #REF! | AA14: ='Paste data'!#REF! -> #REF! | AB14: ='Paste data'!#REF! -> #REF! | AC14: ='Paste data'!#REF! -> #REF! | AD14: ='Paste data'!#REF! -> #REF! | AE14: ='Paste data'!#REF! -> #REF! | AF14: ='Paste data'!#REF! -> #REF!
B15: 13 | C15: ='Paste data'!A14 -> 0 | D15: ='Paste data'!B14 -> 0 | E15: ='Paste data'!C14 -> 0 | F15: ='Paste data'!D14 -> 0 | G15: =UPPER('Paste data'!E14) | H15: =UPPER('Paste data'!F14) | I15: =UPPER('Paste data'!G14) | J15: =UPPER('Paste data'!H14) | K15: ='Paste data'!I14 -> 0 | L15: ='Paste data'!J14 -> 0 | M15: =IF(K15="F","GIRL",IF(K15="M","BOY","")) | N15: ='Paste data'!L14 -> 0 | O15: ='Paste data'!M14 -> 0 | P15: ='Paste data'!N14 -> 0 | Q15: ='Paste data'!O14 -> 0 | R15: ='Paste data'!P14 -> 0 | S15: ='Paste data'!Q14 -> 0 | T15: ='Paste data'!R14 -> 0 | U15: ='Paste data'!S14 -> 0 | ... Y15: ='Paste data'!W14 -> 0 | Z15: ='Paste data'!#REF! -> #REF! | AA15: ='Paste data'!#REF! -> #REF! | AB15: ='Paste data'!#REF! -> #REF! | AC15: ='Paste data'!#REF! -> #REF! | AD15: ='Paste data'!#REF! -> #REF! | AE15: ='Paste data'!#REF! -> #REF! | AF15: ='Paste data'!#REF! -> #REF!
... B158: 156 | C158: ='Paste data'!A157 -> 0 | D158: ='Paste data'!B157 -> 0 | E158: ='Paste data'!C157 -> 0 | F158: ='Paste data'!D157 -> 0 | G158: =UPPER('Paste data'!E157) | H158: =UPPER('Paste data'!F157) | I158: =UPPER('Paste data'!G157) | J158: =UPPER('Paste data'!H157) | K158: ='Paste data'!I157 -> 0 | L158: ='Paste data'!J157 -> 0 | M158: =IF(K158="F","GIRL",IF(K158="M","BOY","")) | N158: ='Paste data'!L157 -> 0 | O158: ='Paste data'!M157 -> 0 | P158: ='Paste data'!N157 -> 0 | Q158: ='Paste data'!O157 -> 0 | R158: ='Paste data'!P157 -> 0 | S158: ='Paste data'!Q157 -> 0 | T158: ='Paste data'!R157 -> 0 | U158: ='Paste data'!S157 -> 0 | ... Y158: ='Paste data'!W157 -> 0 | Z158: ='Paste data'!#REF! -> #REF! | AA158: ='Paste data'!#REF! -> #REF! | AB158: ='Paste data'!#REF! -> #REF! | AC158: ='Paste data'!#REF! -> #REF! | AD158: ='Paste data'!#REF! -> #REF! | AE158: ='Paste data'!#REF! -> #REF! | AF158: ='Paste data'!#REF! -> #REF!
B159: 157 | C159: ='Paste data'!A158 -> 0 | D159: ='Paste data'!B158 -> 0 | E159: ='Paste data'!C158 -> 0 | F159: ='Paste data'!D158 -> 0 | G159: =UPPER('Paste data'!E158) | H159: =UPPER('Paste data'!F158) | I159: =UPPER('Paste data'!G158) | J159: =UPPER('Paste data'!H158) | K159: ='Paste data'!I158 -> 0 | L159: ='Paste data'!J158 -> 0 | M159: =IF(K159="F","GIRL",IF(K159="M","BOY","")) | N159: ='Paste data'!L158 -> 0 | O159: ='Paste data'!M158 -> 0 | P159: ='Paste data'!N158 -> 0 | Q159: ='Paste data'!O158 -> 0 | R159: ='Paste data'!P158 -> 0 | S159: ='Paste data'!Q158 -> 0 | T159: ='Paste data'!R158 -> 0 | U159: ='Paste data'!S158 -> 0 | ... Y159: ='Paste data'!W158 -> 0 | Z159: ='Paste data'!X3 -> 0 | AA159: ='Paste data'!Y3 -> 0 | AB159: ='Paste data'!Z3 -> 0 | AC159: ='Paste data'!AA3 -> 0 | AD159: ='Paste data'!AB3 -> 0 | AE159: ='Paste data'!AC3 -> 0 | AF159: ='Paste data'!AD3 -> 0
B160: 158 | C160: ='Paste data'!A159 -> 0 | D160: ='Paste data'!B159 -> 0 | E160: ='Paste data'!C159 -> 0 | F160: ='Paste data'!D159 -> 0 | G160: =UPPER('Paste data'!E159) | H160: =UPPER('Paste data'!F159) | I160: =UPPER('Paste data'!G159) | J160: =UPPER('Paste data'!H159) | K160: ='Paste data'!I159 -> 0 | L160: ='Paste data'!J159 -> 0 | M160: =IF(K160="F","GIRL",IF(K160="M","BOY","")) | N160: ='Paste data'!L159 -> 0 | O160: ='Paste data'!M159 -> 0 | P160: ='Paste data'!N159 -> 0 | Q160: ='Paste data'!O159 -> 0 | R160: ='Paste data'!P159 -> 0 | S160: ='Paste data'!Q159 -> 0 | T160: ='Paste data'!R159 -> 0 | U160: ='Paste data'!S159 -> 0 | ... Y160: ='Paste data'!W159 -> 0 | Z160: ='Paste data'!X4 -> 0 | AA160: ='Paste data'!Y4 -> 0 | AB160: ='Paste data'!Z4 -> 0 | AC160: ='Paste data'!AA4 -> 0 | AD160: ='Paste data'!AB4 -> 0 | AE160: ='Paste data'!AC4 -> 0 | AF160: ='Paste data'!AD4 -> 0
B161: 159 | C161: ='Paste data'!A160 -> 0 | D161: ='Paste data'!B160 -> 0 | E161: ='Paste data'!C160 -> 0 | F161: ='Paste data'!D160 -> 0 | G161: =UPPER('Paste data'!E160) | H161: =UPPER('Paste data'!F160) | I161: =UPPER('Paste data'!G160) | J161: =UPPER('Paste data'!H160) | K161: ='Paste data'!I160 -> 0 | L161: ='Paste data'!J160 -> 0 | M161: =IF(K161="F","GIRL",IF(K161="M","BOY","")) | N161: ='Paste data'!L160 -> 0 | O161: ='Paste data'!M160 -> 0 | P161: ='Paste data'!N160 -> 0 | Q161: ='Paste data'!O160 -> 0 | R161: ='Paste data'!P160 -> 0 | S161: ='Paste data'!Q160 -> 0 | T161: ='Paste data'!R160 -> 0 | U161: ='Paste data'!S160 -> 0 | ... Y161: ='Paste data'!W160 -> 0 | Z161: ='Paste data'!#REF! -> #REF! | AA161: ='Paste data'!#REF! -> #REF! | AB161: ='Paste data'!#REF! -> #REF! | AC161: ='Paste data'!#REF! -> #REF! | AD161: ='Paste data'!#REF! -> #REF! | AE161: ='Paste data'!#REF! -> #REF! | AF161: ='Paste data'!#REF! -> #REF!
B162: 160 | C162: ='Paste data'!A161 -> 0 | D162: ='Paste data'!B161 -> 0 | E162: ='Paste data'!C161 -> 0 | F162: ='Paste data'!D161 -> 0 | G162: =UPPER('Paste data'!E161) | H162: =UPPER('Paste data'!F161) | I162: =UPPER('Paste data'!G161) | J162: =UPPER('Paste data'!H161) | K162: ='Paste data'!I161 -> 0 | L162: ='Paste data'!J161 -> 0 | M162: =IF(K162="F","GIRL",IF(K162="M","BOY","")) | N162: ='Paste data'!L161 -> 0 | O162: ='Paste data'!M161 -> 0 | P162: ='Paste data'!N161 -> 0 | Q162: ='Paste data'!O161 -> 0 | R162: ='Paste data'!P161 -> 0 | S162: ='Paste data'!Q161 -> 0 | T162: ='Paste data'!R161 -> 0 | U162: ='Paste data'!S161 -> 0 | ... Y162: ='Paste data'!W161 -> 0 | Z162: ='Paste data'!#REF! -> #REF! | AA162: ='Paste data'!#REF! -> #REF! | AB162: ='Paste data'!#REF! -> #REF! | AC162: ='Paste data'!#REF! -> #REF! | AD162: ='Paste data'!#REF! -> #REF! | AE162: ='Paste data'!#REF! -> #REF! | AF162: ='Paste data'!#REF! -> #REF!
B163: 161 | C163: ='Paste data'!A162 -> 0 | D163: ='Paste data'!B162 -> 0 | E163: ='Paste data'!C162 -> 0 | F163: ='Paste data'!D162 -> 0 | G163: =UPPER('Paste data'!E162) | H163: =UPPER('Paste data'!F162) | I163: =UPPER('Paste data'!G162) | J163: =UPPER('Paste data'!H162) | K163: ='Paste data'!I162 -> 0 | L163: ='Paste data'!J162 -> 0 | M163: =IF(K163="F","GIRL",IF(K163="M","BOY","")) | N163: ='Paste data'!L162 -> 0 | O163: ='Paste data'!M162 -> 0 | P163: ='Paste data'!N162 -> 0 | Q163: ='Paste data'!O162 -> 0 | R163: ='Paste data'!P162 -> 0 | S163: ='Paste data'!Q162 -> 0 | T163: ='Paste data'!R162 -> 0 | U163: ='Paste data'!S162 -> 0 | ... Y163: ='Paste data'!W162 -> 0 | Z163: ='Paste data'!#REF! -> #REF! | AA163: ='Paste data'!#REF! -> #REF! | AB163: ='Paste data'!#REF! -> #REF! | AC163: ='Paste data'!#REF! -> #REF! | AD163: ='Paste data'!#REF! -> #REF! | AE163: ='Paste data'!#REF! -> #REF! | AF163: ='Paste data'!#REF! -> #REF!
B164: 162 | C164: ='Paste data'!A163 -> 0 | D164: ='Paste data'!B163 -> 0 | E164: ='Paste data'!C163 -> 0 | F164: ='Paste data'!D163 -> 0 | G164: =UPPER('Paste data'!E163) | H164: =UPPER('Paste data'!F163) | I164: =UPPER('Paste data'!G163) | J164: =UPPER('Paste data'!H163) | K164: ='Paste data'!I163 -> 0 | L164: ='Paste data'!J163 -> 0 | M164: =IF(K164="F","GIRL",IF(K164="M","BOY","")) | N164: ='Paste data'!L163 -> 0 | O164: ='Paste data'!M163 -> 0 | P164: ='Paste data'!N163 -> 0 | Q164: ='Paste data'!O163 -> 0 | R164: ='Paste data'!P163 -> 0 | S164: ='Paste data'!Q163 -> 0 | T164: ='Paste data'!R163 -> 0 | U164: ='Paste data'!S163 -> 0 | ... Y164: ='Paste data'!W163 -> 0 | Z164: ='Paste data'!#REF! -> #REF! | AA164: ='Paste data'!#REF! -> #REF! | AB164: ='Paste data'!#REF! -> #REF! | AC164: ='Paste data'!#REF! -> #REF! | AD164: ='Paste data'!#REF! -> #REF! | AE164: ='Paste data'!#REF! -> #REF! | AF164: ='Paste data'!#REF! -> #REF!
B165: 163 | C165: ='Paste data'!A164 -> 0 | D165: ='Paste data'!B164 -> 0 | E165: ='Paste data'!C164 -> 0 | F165: ='Paste data'!D164 -> 0 | G165: =UPPER('Paste data'!E164) | H165: =UPPER('Paste data'!F164) | I165: =UPPER('Paste data'!G164) | J165: =UPPER('Paste data'!H164) | K165: ='Paste data'!I164 -> 0 | L165: ='Paste data'!J164 -> 0 | M165: =IF(K165="F","GIRL",IF(K165="M","BOY","")) | N165: ='Paste data'!L164 -> 0 | O165: ='Paste data'!M164 -> 0 | P165: ='Paste data'!N164 -> 0 | Q165: ='Paste data'!O164 -> 0 | R165: ='Paste data'!P164 -> 0 | S165: ='Paste data'!Q164 -> 0 | T165: ='Paste data'!R164 -> 0 | U165: ='Paste data'!S164 -> 0 | ... Y165: ='Paste data'!W164 -> 0 | Z165: ='Paste data'!#REF! -> #REF! | AA165: ='Paste data'!#REF! -> #REF! | AB165: ='Paste data'!#REF! -> #REF! | AC165: ='Paste data'!#REF! -> #REF! | AD165: ='Paste data'!#REF! -> #REF! | AE165: ='Paste data'!#REF! -> #REF! | AF165: ='Paste data'!#REF! -> #REF!
B166: 164 | C166: ='Paste data'!A165 -> 0 | D166: ='Paste data'!B165 -> 0 | E166: ='Paste data'!C165 -> 0 | F166: ='Paste data'!D165 -> 0 | G166: =UPPER('Paste data'!E165) | H166: =UPPER('Paste data'!F165) | I166: =UPPER('Paste data'!G165) | J166: =UPPER('Paste data'!H165) | K166: ='Paste data'!I165 -> 0 | L166: ='Paste data'!J165 -> 0 | M166: =IF(K166="F","GIRL",IF(K166="M","BOY","")) | N166: ='Paste data'!L165 -> 0 | O166: ='Paste data'!M165 -> 0 | P166: ='Paste data'!N165 -> 0 | Q166: ='Paste data'!O165 -> 0 | R166: ='Paste data'!P165 -> 0 | S166: ='Paste data'!Q165 -> 0 | T166: ='Paste data'!R165 -> 0 | U166: ='Paste data'!S165 -> 0 | ... Y166: ='Paste data'!W165 -> 0 | Z166: ='Paste data'!#REF! -> #REF! | AA166: ='Paste data'!#REF! -> #REF! | AB166: ='Paste data'!#REF! -> #REF! | AC166: ='Paste data'!#REF! -> #REF! | AD166: ='Paste data'!#REF! -> #REF! | AE166: ='Paste data'!#REF! -> #REF! | AF166: ='Paste data'!#REF! -> #REF!
B167: 165 | C167: ='Paste data'!A166 -> 0 | D167: ='Paste data'!B166 -> 0 | E167: ='Paste data'!C166 -> 0 | F167: ='Paste data'!D166 -> 0 | G167: =UPPER('Paste data'!E166) | H167: =UPPER('Paste data'!F166) | I167: =UPPER('Paste data'!G166) | J167: =UPPER('Paste data'!H166) | K167: ='Paste data'!I166 -> 0 | L167: ='Paste data'!J166 -> 0 | M167: =IF(K167="F","GIRL",IF(K167="M","BOY","")) | N167: ='Paste data'!L166 -> 0 | O167: ='Paste data'!M166 -> 0 | P167: ='Paste data'!N166 -> 0 | Q167: ='Paste data'!O166 -> 0 | R167: ='Paste data'!P166 -> 0 | S167: ='Paste data'!Q166 -> 0 | T167: ='Paste data'!R166 -> 0 | U167: ='Paste data'!S166 -> 0 | ... Y167: ='Paste data'!W166 -> 0 | Z167: ='Paste data'!#REF! -> #REF! | AA167: ='Paste data'!#REF! -> #REF! | AB167: ='Paste data'!#REF! -> #REF! | AC167: ='Paste data'!#REF! -> #REF! | AD167: ='Paste data'!#REF! -> #REF! | AE167: ='Paste data'!#REF! -> #REF! | AF167: ='Paste data'!#REF! -> #REF!
B168: 166 | C168: ='Paste data'!A167 -> 0 | D168: ='Paste data'!B167 -> 0 | E168: ='Paste data'!C167 -> 0 | F168: ='Paste data'!D167 -> 0 | G168: =UPPER('Paste data'!E167) | H168: =UPPER('Paste data'!F167) | I168: =UPPER('Paste data'!G167) | J168: =UPPER('Paste data'!H167) | K168: ='Paste data'!I167 -> 0 | L168: ='Paste data'!J167 -> 0 | M168: =IF(K168="F","GIRL",IF(K168="M","BOY","")) | N168: ='Paste data'!L167 -> 0 | O168: ='Paste data'!M167 -> 0 | P168: ='Paste data'!N167 -> 0 | Q168: ='Paste data'!O167 -> 0 | R168: ='Paste data'!P167 -> 0 | S168: ='Paste data'!Q167 -> 0 | T168: ='Paste data'!R167 -> 0 | U168: ='Paste data'!S167 -> 0 | ... Y168: ='Paste data'!W167 -> 0 | Z168: ='Paste data'!#REF! -> #REF! | AA168: ='Paste data'!#REF! -> #REF! | AB168: ='Paste data'!#REF! -> #REF! | AC168: ='Paste data'!#REF! -> #REF! | AD168: ='Paste data'!#REF! -> #REF! | AE168: ='Paste data'!#REF! -> #REF! | AF168: ='Paste data'!#REF! -> #REF!
B169: 167 | C169: ='Paste data'!A168 -> 0 | D169: ='Paste data'!B168 -> 0 | E169: ='Paste data'!C168 -> 0 | F169: ='Paste data'!D168 -> 0 | G169: =UPPER('Paste data'!E168) | H169: =UPPER('Paste data'!F168) | I169: =UPPER('Paste data'!G168) | J169: =UPPER('Paste data'!H168) | K169: ='Paste data'!I168 -> 0 | L169: ='Paste data'!J168 -> 0 | M169: =IF(K169="F","GIRL",IF(K169="M","BOY","")) | N169: ='Paste data'!L168 -> 0 | O169: ='Paste data'!M168 -> 0 | P169: ='Paste data'!N168 -> 0 | Q169: ='Paste data'!O168 -> 0 | R169: ='Paste data'!P168 -> 0 | S169: ='Paste data'!Q168 -> 0 | T169: ='Paste data'!R168 -> 0 | U169: ='Paste data'!S168 -> 0 | ... Y169: ='Paste data'!W168 -> 0 | Z169: ='Paste data'!#REF! -> #REF! | AA169: ='Paste data'!#REF! -> #REF! | AB169: ='Paste data'!#REF! -> #REF! | AC169: ='Paste data'!#REF! -> #REF! | AD169: ='Paste data'!#REF! -> #REF! | AE169: ='Paste data'!#REF! -> #REF! | AF169: ='Paste data'!#REF! -> #REF!
B170: 168 | C170: ='Paste data'!A169 -> 0 | D170: ='Paste data'!B169 -> 0 | E170: ='Paste data'!C169 -> 0 | F170: ='Paste data'!D169 -> 0 | G170: =UPPER('Paste data'!E169) | H170: =UPPER('Paste data'!F169) | I170: =UPPER('Paste data'!G169) | J170: =UPPER('Paste data'!H169) | K170: ='Paste data'!I169 -> 0 | L170: ='Paste data'!J169 -> 0 | M170: =IF(K170="F","GIRL",IF(K170="M","BOY","")) | N170: ='Paste data'!L169 -> 0 | O170: ='Paste data'!M169 -> 0 | P170: ='Paste data'!N169 -> 0 | Q170: ='Paste data'!O169 -> 0 | R170: ='Paste data'!P169 -> 0 | S170: ='Paste data'!Q169 -> 0 | T170: ='Paste data'!R169 -> 0 | U170: ='Paste data'!S169 -> 0 | ... Y170: ='Paste data'!W169 -> 0 | Z170: ='Paste data'!#REF! -> #REF! | AA170: ='Paste data'!#REF! -> #REF! | AB170: ='Paste data'!#REF! -> #REF! | AC170: ='Paste data'!#REF! -> #REF! | AD170: ='Paste data'!#REF! -> #REF! | AE170: ='Paste data'!#REF! -> #REF! | AF170: ='Paste data'!#REF! -> #REF!
B171: 169 | C171: ='Paste data'!A170 -> 0 | D171: ='Paste data'!B170 -> 0 | E171: ='Paste data'!C170 -> 0 | F171: ='Paste data'!D170 -> 0 | G171: =UPPER('Paste data'!E170) | H171: =UPPER('Paste data'!F170) | I171: =UPPER('Paste data'!G170) | J171: =UPPER('Paste data'!H170) | K171: ='Paste data'!I170 -> 0 | L171: ='Paste data'!J170 -> 0 | M171: =IF(K171="F","GIRL",IF(K171="M","BOY","")) | N171: ='Paste data'!L170 -> 0 | O171: ='Paste data'!M170 -> 0 | P171: ='Paste data'!N170 -> 0 | Q171: ='Paste data'!O170 -> 0 | R171: ='Paste data'!P170 -> 0 | S171: ='Paste data'!Q170 -> 0 | T171: ='Paste data'!R170 -> 0 | U171: ='Paste data'!S170 -> 0 | ... Y171: ='Paste data'!W170 -> 0 | Z171: ='Paste data'!#REF! -> #REF! | AA171: ='Paste data'!#REF! -> #REF! | AB171: ='Paste data'!#REF! -> #REF! | AC171: ='Paste data'!#REF! -> #REF! | AD171: ='Paste data'!#REF! -> #REF! | AE171: ='Paste data'!#REF! -> #REF! | AF171: ='Paste data'!#REF! -> #REF!
B172: 170 | C172: ='Paste data'!A171 -> 0 | D172: ='Paste data'!B171 -> 0 | E172: ='Paste data'!C171 -> 0 | F172: ='Paste data'!D171 -> 0 | G172: =UPPER('Paste data'!E171) | H172: =UPPER('Paste data'!F171) | I172: =UPPER('Paste data'!G171) | J172: =UPPER('Paste data'!H171) | K172: ='Paste data'!I171 -> 0 | L172: ='Paste data'!J171 -> 0 | M172: =IF(K172="F","GIRL",IF(K172="M","BOY","")) | N172: ='Paste data'!L171 -> 0 | O172: ='Paste data'!M171 -> 0 | P172: ='Paste data'!N171 -> 0 | Q172: ='Paste data'!O171 -> 0 | R172: ='Paste data'!P171 -> 0 | S172: ='Paste data'!Q171 -> 0 | T172: ='Paste data'!R171 -> 0 | U172: ='Paste data'!S171 -> 0 | ... Y172: ='Paste data'!W171 -> 0 | Z172: ='Paste data'!#REF! -> #REF! | AA172: ='Paste data'!#REF! -> #REF! | AB172: ='Paste data'!#REF! -> #REF! | AC172: ='Paste data'!#REF! -> #REF! | AD172: ='Paste data'!#REF! -> #REF! | AE172: ='Paste data'!#REF! -> #REF! | AF172: ='Paste data'!#REF! -> #REF!
... B302: 300 | C302: ='Paste data'!A301 -> 0 | D302: ='Paste data'!B301 -> 0 | E302: ='Paste data'!C301 -> 0 | F302: ='Paste data'!D301 -> 0 | G302: =UPPER('Paste data'!E301) | H302: =UPPER('Paste data'!F301) | I302: =UPPER('Paste data'!G301) | J302: =UPPER('Paste data'!H301) | K302: ='Paste data'!I301 -> 0 | L302: ='Paste data'!J301 -> 0 | M302: =IF(K302="F","GIRL",IF(K302="M","BOY","")) | N302: ='Paste data'!L301 -> 0 | O302: ='Paste data'!M301 -> 0 | P302: ='Paste data'!N301 -> 0 | Q302: ='Paste data'!O301 -> 0 | R302: ='Paste data'!P301 -> 0 | S302: ='Paste data'!Q301 -> 0 | T302: ='Paste data'!R301 -> 0 | U302: ='Paste data'!S301 -> 0 | ... Y302: ='Paste data'!W301 -> 0 | Z302: ='Paste data'!#REF! -> #REF! | AA302: ='Paste data'!#REF! -> #REF! | AB302: ='Paste data'!#REF! -> #REF! | AC302: ='Paste data'!#REF! -> #REF! | AD302: ='Paste data'!#REF! -> #REF! | AE302: ='Paste data'!#REF! -> #REF! | AF302: ='Paste data'!#REF! -> #REF!
AG303: Portfolio Student's Detail Page
AG304: कक्षा 1 से 5 के लिए This page created by Surendra pareek 9413273664
AG305: अपने विद्यालय के सभी विद्यार्थियों का पोर्टफोलियो फाइल का प्रथम पेज पुरे विवरण सहित आप इस सॉफ्टवेयर के जरिये एक क्लिक में प्राप्त कर सकते है, इसके लिए निम्न कार्य करें
AG306: 1.शाला दर्पण के डाउनलोड टैब से विद्यार्थी विवरण डाटा फाइल डाउनलोड करें l
AG307: 2.फाइल को खोले A1 से लास्ट तक पुरा डाटा कॉपी करें l
AG308: 3.अपना डाटा को "Paste data" शीट के पीले(येल्लो) बॉक्स में पेस्ट कर देंवें l
AG309: 4. "Final page" शीट पर क्लिक करें और वहां से प्रिंट कमान्ड का उपयोग कर प्रिंट प्राप्त करें l
AG310: नोट- प्रत्येक पेज पर 2 विद्यार्थी का डाटा आएगा, इसमें एक साथ 100 विद्यार्थी के लिए विवरण पेज तैयार हो सकता है l
AG311: सम्पूर्ण पेज प्रिंट ना करें, आवश्यकता अनुसार प्रिंट ले लेंवे l
AG312: विद्यार्थी संख्या 100 से अधिक होने पर "final page" शीट की प्रथम कॉलम में गिनती 101 से भरकर प्रिन्ट ले सकते है l

Sheet Paste data
A1: Paste here

Sheet Final page
A1: 1 | F1: ='Master sheet'!$T$3 -> 0
B2: =VLOOKUP(A1,'Master sheet'!$B$2:AF202,2,0) -> 0 | C2: =IF(B2=1,"2025-26",IF(B2=2,"2024-25",IF(B2=3,"2023-24",IF(B2=4,"2022-23",IF(B2=5,"2021-22",""))))) | F2: School Dise:- | G2: ='Master sheet'!$U$3 -> 0 | I2: Student NIC ID:-
F3: -: Student's Detail for PORTFOLIO File:-
F4: Student's NAME:- | G4: =VLOOKUP(A1,'Master sheet'!$B$2:$AF$202,6,0) | J4: Student Photo
D5: 2021-22 | E5: 2022-23 | F5: Father's NAME:- | G5: =VLOOKUP(A1,'Master sheet'!$B$2:AF202,8,0)
D6: 2022-23 | E6: 2023-24 | F6: Mother's NAME:- | G6: =VLOOKUP(A1,'Master sheet'!$B$2:AF202,9,0)
D7: 2023-24 | E7: 2024-25 | F7: Admission Date:- | G7: =VLOOKUP(A1,'Master sheet'!$B$2:AF202,5,0) -> 0
D8: 2024-25 | E8: 2025-26 | F8: Student's SR No. :- | G8: =VLOOKUP(A1,'Master sheet'!$B$2:AF202,4,0) -> 0 | H8: Gender:- | I8: =VLOOKUP(A1,'Master sheet'!$B$2:AF202,12,0)
D9: 2025-26 | E9: 2026-27 | F9: Date of Birth | G9: =VLOOKUP(A1,'Master sheet'!$B$2:AF202,11,0) -> 0 | H9: Category:- | I9: =VLOOKUP(A1,'Master sheet'!$B$2:AF202,16,0) -> 0
D10: 2026-27 | E10: 2027-28 | F10: Address:- | G10: =VLOOKUP(A1,'Master sheet'!$B$2:AF202,24,0) -> 0
D11: 2027-28 | E11: 2028-29 | F11: Mobile No.:- | G11: =VLOOKUP(A1,'Master sheet'!$B$2:AF202,23,0) -> 0
D12: 2028-29 | E12: 2029-30 | F12: Session | G12: =C2 | H12: =VLOOKUP(G12,$D$5:$E$14,2,0) -> #N/A | I12: =VLOOKUP(H12,$D$5:$E$14,2,0) -> #N/A | J12: =VLOOKUP(I12,$D$5:$E$14,2,0) -> #N/A | K12: =VLOOKUP(J12,$D$5:$E$14,2,0) -> #N/A
D13: 2029-30 | E13: 2030-31 | F13: Class | G13: 1st | H13: 2nd | I13: 3rd | J13: 4th | K13: 5th
D14: 2030-31 | E14: 2031-32
F15: Sign Student Sign Parents Sign Principal/Head master
F17: This page created by Surendra pareek 9413273664
F18: ------------------------------------------ cut from here ----------------------------------------------
A19: 2 | F19: ='Master sheet'!$T$3 -> 0
B20: =VLOOKUP(A19,'Master sheet'!$B$2:AF218,2,0) -> 0 | C20: =IF(B20=1,"2025-26",IF(B20=2,"2024-25",IF(B20=3,"2023-24",IF(B20=4,"2022-23",IF(B20=5,"2021-22",""))))) | F20: School Dise:- | G20: ='Master sheet'!$U$3 -> 0 | I20: Student NIC ID:-
F21: -: Student's Detail for PORTFOLIO File:-
F22: Student's NAME:- | G22: =VLOOKUP(A19,'Master sheet'!$B$2:$AF$202,6,0) | J22: Student Photo
F23: Father's NAME:- | G23: =VLOOKUP(A19,'Master sheet'!$B$2:AF220,8,0)
F24: Mother's NAME:- | G24: =VLOOKUP(A19,'Master sheet'!$B$2:AF220,9,0)
F25: Admission Date:- | G25: =VLOOKUP(A19,'Master sheet'!$B$2:AF220,5,0) -> 0
F26: Student's SR No. :- | G26: =VLOOKUP(A19,'Master sheet'!$B$2:AF220,4,0) -> 0 | H26: Gender:- | I26: =VLOOKUP(A19,'Master sheet'!$B$2:AF220,12,0)
F27: Date of Birth | G27: =VLOOKUP(A19,'Master sheet'!$B$2:AF220,11,0) -> 0 | H27: Category:- | I27: =VLOOKUP(A19,'Master sheet'!$B$2:AF220,16,0) -> 0
F28: Address:- | G28: =VLOOKUP(A19,'Master sheet'!$B$2:AF220,24,0) -> 0
F29: Mobile No.:- | G29: =VLOOKUP(A19,'Master sheet'!$B$2:AF220,23,0) -> 0
F30: Session | G30: =C20 | H30: =VLOOKUP(G30,$D$5:$E$14,2,0) -> #N/A | I30: =VLOOKUP(H30,$D$5:$E$14,2,0) -> #N/A | J30: =VLOOKUP(I30,$D$5:$E$14,2,0) -> #N/A | K30: =VLOOKUP(J30,$D$5:$E$14,2,0) -> #N/A
F31: Class | G31: 1st | H31: 2nd | I31: 3rd | J31: 4th | K31: 5th
F33: Sign Student Sign Parents Sign Principal/Head master
F35: This page created by Surendra pareek 9413273664
A37: 3 | F37: ='Master sheet'!$T$3 -> 0
B38: =VLOOKUP(A37,'Master sheet'!$B$2:AF236,2,0) -> 0 | C38: =IF(B38=1,"2025-26",IF(B38=2,"2024-25",IF(B38=3,"2023-24",IF(B38=4,"2022-23",IF(B38=5,"2021-22",""))))) | F38: School Dise:- | G38: ='Master sheet'!$U$3 -> 0 | I38: Student NIC ID:-
F39: -: Student's Detail for PORTFOLIO File:-
F40: Student's NAME:- | G40: =VLOOKUP(A37,'Master sheet'!$B$2:$AF$202,6,0) | J40: Student Photo
F41: Father's NAME:- | G41: =VLOOKUP(A37,'Master sheet'!$B$2:AF238,8,0)
F42: Mother's NAME:- | G42: =VLOOKUP(A37,'Master sheet'!$B$2:AF238,9,0)
F43: Admission Date:- | G43: =VLOOKUP(A37,'Master sheet'!$B$2:AF238,5,0) -> 0
F44: Student's SR No. :- | G44: =VLOOKUP(A37,'Master sheet'!$B$2:AF238,4,0) -> 0 | H44: Gender:- | I44: =VLOOKUP(A37,'Master sheet'!$B$2:AF238,12,0)
...
