Workbook

Sheet DATA ENTRY
A1: -:सरल गणना प्रपत्र :-
A2: मिड डे मील के मासिक बिल COOKING CONVERSION COST गणना के लिए उपयोगी
A3: This calculation software is created by Surendra pareek 9413273664. Contact for suggestion.
B4: नोट:- आवश्यकता अनुसार सिर्फ डाटा एन्ट्री शीट के पीले कॉलम में ही सुचना भरी जा सकती हैl
B5: न्यूनतम मासिक उपस्थिति 300 या अधिक होने पर ही इसका उपयोग करेंl
B6: आवश्यकता अनुसार सिलेण्डर राशि एवं एवं गेहुं की मात्रा में अपने स्तर पर भी बदलाव कर सकते हैl
B7: सिलेण्डर की संख्या कम ज्यादा होने पर ईंधन से ही समायोजित कर लेंवेंl
A8: विद्यालय का नाम:- | B8: महात्मा गाँधी राजकीय विद्यालय शाहजी मोहल्ला, सुवाणा, भीलवाड़ा
A10: माह का नाम:- | B10: मई | C10: सत्र:- | D10: 2025-26
A12: माह के दौरान भोजन निर्माण में कुल उपयोग लिया गेहूं | D12: प्रति सिलेन्डर राशि
A13: कक्षा 1 से 8
A15: कक्षा | B15: नामांकन | C15: माह के दौरान कुल लाभार्थी
C16: भोजन | D16: दूध
A17: 1 से 5
A18: 6 से 8
A19: 01 मई 2025 से लागू MDM दरों के अनुसार
A20: This calculation software is created by Surendra pareek 9413273664. Contact for suggestion.

Sheet BILL CALULATION
A1: ='DATA ENTRY'!B8 -> महात्मा गाँधी राजकीय विद्यालय शाहजी मोहल्ला, सुवाणा, भीलवाड़ा
A2: मिड डे मील के मासिक बिल COOKING CONVERSION COST गणना के लिए उपयोगी
A3: This calculation software is created by Surendra pareek 9413273664. Contact for suggestion.
A5: माह का नाम:- | B5: ='DATA ENTRY'!B10 -> मई | H5: सत्र:- | I5: ='DATA ENTRY'!D10 -> 2025-26
B6: 1 से 5 | H6: 6 से 8 | I6: 1 से 8
A7: माह के दौरान उपस्थिति | B7: ='DATA ENTRY'!C17 -> 0 | H7: ='DATA ENTRY'!C18 -> 0 | I7: =IF(B7+H7<300,"न्यूनतम उपस्थिति 300",B7+H7) -> न्यूनतम उपस्थिति 300
A8: पोषाहार राशि प्रति छात्र | B8: 6.78 | H8: 10.17
A9: माह में कुल खर्च राशि | B9: =IF(B7="","0",B7*B8) -> 0 | H9: =H7*H8 -> 0 | I9: =ROUND(B9+H9,0) -> 0
B10: सामगी नाम | C10: प्रति छात्र 1से5 | D10: कुल खर्च 1 से5 | E10: प्रति छात्र 6से8 | F10: कुल खर्च 6से8 | G10: कुल खर्च 1से8 | H10: उपयोग ली गई सामग्री | I10: दर | J10: कुल राशि
A11: Bill No. 1 किराणा सामान बिल | B11: तेल | C11: 0.005 | D11: =$B$7*C11 -> 0 | E11: 0.0075 | F11: =$H$7*E11 -> 0 | G11: =D11+F11 -> 0 | H11: =ROUNDUP(D11+F11,1) -> 0 | I11: 160 | J11: =H11*I11 -> 0
B12: मिर्च | C12: 0.002 | D12: =$B$7*C12 -> 0 | E12: 0.003 | F12: =$H$7*E12 -> 0 | G12: =D12+F12 -> 0 | H12: =ROUNDUP(D12+F12,1) -> 0 | I12: 260 | J12: =H12*I12 -> 0
B13: हल्दी | C13: 0.0008 | D13: =$B$7*C13 -> 0 | E13: 0.0012 | F13: =$H$7*E13 -> 0 | G13: =D13+F13 -> 0 | H13: =ROUNDUP(D13+F13,1) -> 0 | I13: 240 | J13: =H13*I13 -> 0
B14: धनिया | C14: 0.001 | D14: =$B$7*C14 -> 0 | E14: 0.0015 | F14: =$H$7*E14 -> 0 | G14: =D14+F14 -> 0 | H14: =ROUNDUP(D14+F14,1) -> 0 | I14: 200 | J14: =H14*I14 -> 0
B15: नमक | C15: 0.004 | D15: =$B$7*C15 -> 0 | E15: 0.006 | F15: =$H$7*E15 -> 0 | G15: =D15+F15 -> 0 | H15: =ROUNDUP(D15+F15,0) -> 0 | I15: 25 | J15: =H15*I15 -> 0
B16: राई | C16: 0.0004 | D16: =$B$7*C16 -> 0 | E16: 0.0006 | F16: =$H$7*E16 -> 0 | G16: =D16+F16 -> 0 | H16: =ROUNDUP(D16+F16,1) -> 0 | I16: 100 | J16: =H16*I16 -> 0
B17: जीरा | C17: 0.0004 | D17: =$B$7*C17 -> 0 | E17: 0.0006 | F17: =$H$7*E17 -> 0 | G17: =D17+F17 -> 0 | H17: =ROUNDUP(D17+F17,1) -> 0 | I17: 400 | J17: =H17*I17 -> 0
B18: मिक्स दाल | C18: 0.01 | D18: =$B$7*C18 -> 0 | E18: 0.015 | F18: =$H$7*E18 -> 0 | G18: =D18+F18 -> 0 | H18: =ROUNDUP(D18+F18,1) -> 0 | I18: 110 | J18: =H18*I18 -> 0
B19: सर्फ़/साबुन | C19: 0.001 | D19: =$B$7*C19 -> 0 | E19: 0.001 | F19: =$H$7*E19 -> 0 | G19: =D19+F19 -> 0 | H19: =ROUNDUP(D19+F19,1) -> 0 | I19: 100 | J19: =H19*I19 -> 0
B20: बिल योग | J20: =SUM(J11:J19) -> 0
A21: Bill No. 2 फल, सब्जी | B21: फल | C21: 0.1 | D21: =$B$7/60 -> 0 | E21: 0.1 | F21: =$H$7/60 -> 0 | G21: =D21+F21 -> 0 | H21: =ROUNDUP(D21+F21,0) -> 0 | I21: 45 | J21: =H21*I21 -> 0
B22: सब्जी | C22: 0.025 | D22: =$B$7*C22 -> 0 | E22: 0.0375 | F22: =$H$7*E22 -> 0 | G22: =D22+F22 -> 0 | H22: =ROUNDUP(G22,0) -> 0 | I22: 60 | J22: =H22*I22 -> 0
B23: बिल योग | J23: =SUM(J21:J22) -> 0
A24: Bill No. 3 पिसाई | B24: पिसाई | C24: 0.1 | D24: =$B$7*C24 -> 0 | E24: 0.15 | F24: =$H$7*E24 -> 0 | G24: =(D24+F24)*2/3 -> 0 | H24: =IF('DATA ENTRY'!B13="",ROUNDUP(G24,0),ROUNDUP('DATA ENTRY'!B13,0)) -> 0 | I24: 3 | J24: =H24*I24 -> 0
B25: बिल योग | J25: =SUM(J24) -> 0
A26: Bill No. 4 ईंधन | B26: सिलेण्डर | C26: 900 पर 1 | D26: =B7/900 -> 0 | E26: =I9-J20-J23-J25 -> 0 | H26: =ROUNDDOWN(E26/I26,0) -> 0 | I26: =IF('DATA ENTRY'!D13="","858",'DATA ENTRY'!D13) -> 858 | J26: =H26*I26 -> 0
B27: अन्य(लकड़ी,कोयला) | J27: =I9-J20-J23-J25-J26 -> 0
B28: बिल योग | J28: =SUM(J26:J27) -> 0
H29: कुल योग | J29: =J20+J23+J25+J28 -> 0
A30: कुक कम हेल्पर भुगतान | B30: माह का नाम | C30: 0.1 | D30: =$B$7*C30 -> 0 | E30: 0.15 | F30: =$H$7*E30 -> 0 | G30: =(D30+F30)*2/3 -> 0 | H30: प्रति हेल्पर राशि | I30: हेल्पर संख्या | J30: कुल देय
B31: =B5 -> मई | H31: =IF(B31="मई","1072",IF(B31="अक्टूबर","1072",IF(B31="जून","00","2143"))) -> 1072 | I31: =IF(C43>150,"3",IF(C43>50,"2","1")) -> 1 | J31: =H31*I31 -> 1072
B33: 1 से 5 | H33: 6 से 8 | I33: 1 से 8
A34: दुग्ध लाभार्थी | B34: ='DATA ENTRY'!D17 -> 0 | H34: ='DATA ENTRY'!D18 -> 0 | I34: =B34+H34 -> 0
A35: उपयोग लिया पाउडर | B35: =B34*0.015 -> 0 | C35: =C34*0.015 -> 0 | D35: =D34*0.015 -> 0 | E35: =E34*0.015 -> 0 | F35: =F34*0.015 -> 0 | G35: =G34*0.015 -> 0 | H35: =H34*0.02 -> 0 | I35: =B35+H35 -> 0
A36: शक्कर राशि प्रति छात्र | B36: 0.378 | H36: 0.459
A37: माह में कुल खर्च राशि | B37: =IF(B34="","0",B34*B36) -> 0 | H37: =H34*H36 -> 0 | I37: =ROUND(B37+H37,0) -> 0
B38: सामगी नाम | C38: प्रति छात्र 1से5 | D38: कुल खर्च 1 से5 | E38: प्रति छात्र 6से8 | F38: कुल खर्च 6से8 | G38: कुल खर्च 1से8 | H38: उपयोग ली गई सामग्री | I38: दर | J38: कुल राशि
A39: Bill No. 1 दूध के लिए शक्कर का बिल | B39: शक्कर | H39: =ROUND(J39/I39,2) -> 0 | I39: 45 | J39: =I37 -> 0
B40: बिल योग | J40: =J39 -> 0
A41: Bill No. 2 दूध गरम करने का मानदेय | B41: कुक कम हेल्पर | C41: 1 | F41: ='DATA ENTRY'!D17+'DATA ENTRY'!D18 -> 0 | I41: =IF(J39=0,"0",IF(H31="2143","500",IF(H31="1072","250","0"))) -> 0 | J41: =I41 -> 0
B42: बिल योग | J42: =J41 -> 0
A43: Bill No. 3 ईंधन | B43: सिलेण्डर | C43: ='DATA ENTRY'!B17+'DATA ENTRY'!B18 -> 0 | G43: =IF(C43>150,1,IF(C43>50,0.5,IF(C43>0,0.33,""))) | I43: =IF('DATA ENTRY'!D13="","858",'DATA ENTRY'!D13) -> 858 | J43: =IF(G43="","",ROUNDUP(G43*I43,0))
B44: अन्य(लकड़ी,कोयला)
B45: बिल योग | J45: =J43
H46: कुल योग | J46: =IF(F41>0,J40+J45+J42,"")
