Workbook
Name ANAND: 'MASTER SHEET'!#REF!
Name ANANDD: 'MASTER SHEET'!#REF!

Sheet MASTER SHEET
B1: इस टेबल को पूर्ण भरने के बाद D.A. ARREAR CALCULATION वाली शीट से प्रिंट निकालें। (D.A. ARREAR CALCULATION 46% TO 50%)
A2: CREATED BY : PARMANAND MEGHWAL | D2: WWW.RAJTEACHERS.NET
A3: OFFICE NAME | C3: GOVT SR. SECONDARY SCHOOL, GORDHANPURA, ATRU (BARAN)
A4: S.N. | B4: NAME OF EMPLOYEE | C4: DESIGNATION | D4: BASIC (01.01.2024) | E4: TAX % | F4: SURRENDER (Jan To Feb) 2024 | G4: GPF/GPF 2004
A5: =IF(B5="","",ROWS($B$5:B5)) -> 1 | B5: RAJENDRA KUMAR CHITTORA | C5: PRINCIPAL | D5: 93100 | E5: 0 | F5: YES | G5: GPF
A6: =IF(B6="","",ROWS($B$5:B6)) -> 2 | B6: GIRDHARI LAL DIGWAL | C6: LECTURER | D6: 45600 | E6: 0 | F6: NO | G6: GPF 2004
A7: =IF(B7="","",ROWS($B$5:B7)) -> 3 | B7: KAILASH CHANDRA NAGAR | C7: SR TEACHER | D7: 51400 | E7: 0 | F7: NO | G7: GPF 2004
A8: =IF(B8="","",ROWS($B$5:B8)) -> 4 | B8: INDAR RAJ MEGHWAL | C8: SR TEACHER | D8: 51400 | E8: 0 | F8: NO | G8: GPF 2004
A9: =IF(B9="","",ROWS($B$5:B9)) -> 5 | B9: SITA RAM MEENA | C9: LECTURER | D9: 51400 | E9: 0 | F9: NO | G9: GPF 2004
A10: =IF(B10="","",ROWS($B$5:B10)) -> 6 | B10: LOKESH KUMAR MEENA | C10: SR TEACHER | D10: 38900 | E10: 0 | F10: NO | G10: GPF 2004
A11: =IF(B11="","",ROWS($B$5:B11)) -> 7 | B11: MURLI DHAR MAHAWER | C11: TEACHER | D11: 73200 | E11: 0 | F11: NO | G11: GPF
A12: =IF(B12="","",ROWS($B$5:B12)) -> 8 | B12: RAM DAYAL MEENA | C12: TEACHER | D12: 49300 | E12: 0 | F12: NO | G12: GPF 2004
A13: =IF(B13="","",ROWS($B$5:B13)) -> 9 | B13: MOHINI BAI UDAIPURIA | C13: TEACHER | D13: 73200 | E13: 0 | F13: YES | G13: GPF
A14: =IF(B14="","",ROWS($B$5:B14))
A15: =IF(B15="","",ROWS($B$5:B15))
A16: =IF(B16="","",ROWS($B$5:B16))
A17: =IF(B17="","",ROWS($B$5:B17))
A18: =IF(B18="","",ROWS($B$5:B18))
A19: =IF(B19="","",ROWS($B$5:B19))
A20: =IF(B20="","",ROWS($B$5:B20))
A21: =IF(B21="","",ROWS($B$5:B21))
A22: =IF(B22="","",ROWS($B$5:B22))
A23: =IF(B23="","",ROWS($B$5:B23))
A24: =IF(B24="","",ROWS($B$5:B24))
A25: CREATED BY: PARMANAND MEGHWAL

Sheet D.A.ARREAR CALCULATION
A1: ='MASTER SHEET'!C3 -> GOVT SR. SECONDARY SCHOOL, GORDHANPURA, ATRU (BARAN)
A2: D.A. ARREAR - 01.01.2024 TO 29.02.2024 (46% TO 50%)
A3: S.N. | C3: EMPLOYEE NAME | E3: DESIGNATION | F3: BASIC PAY | G3: D.A. DUE (50%) | K3: D.A. DRAWN (46%) | O3: DIFFERENCE | T3: DEDUCTION | W3: TOTAL DEDUCTION | X3: NET PAY AMMOUNT
G4: JAN | H4: FEB | I4: SURRENDER | J4: TOTAL | K4: JAN | L4: FEB | M4: SURRENDER | N4: TOTAL | O4: JAN | P4: FEB | Q4: SURRENDER | R4: TOTAL | T4: GPF | U4: GPF 2004 | V4: I TAX
A5: =IF('MASTER SHEET'!A5="","",'MASTER SHEET'!A5) -> 1 | B5: =IF(A5="",A5+1,A5) -> 1 | C5: =VLOOKUP(A5,'MASTER SHEET'!$A$5:$G$1048576,2,0) -> RAJENDRA KUMAR CHITTORA | D5: =IF(A5=B5,"","TOTAL") | E5: =IF(D5="TOTAL","TOTAL",'MASTER SHEET'!C5) -> PRINCIPAL | F5: ='MASTER SHEET'!D5 -> 93100 | G5: =ROUND($F$5*50/100,0) -> 46550 | H5: =G5 -> 46550 | I5: =IF('MASTER SHEET'!F5="YES",'D.A.ARREAR CALCULATION'!F5/2*50%,"") -> 23275 | J5: =SUM(G5:I5) -> 116375 | K5: =ROUND($F$5*46/100,0) -> 42826 | L5: =K5 -> 42826 | M5: =IF('MASTER SHEET'!F5="YES",'D.A.ARREAR CALCULATION'!F5/2*46%,"") -> 21413 | N5: =SUM(K5:M5) -> 107065 | O5: =G5-K5 -> 3724 | P5: =H5-L5 -> 3724 | Q5: =IF(I5="","",I5-M5) -> 1862 | R5: =SUM(O5:Q5) -> 9310 | S5: ='MASTER SHEET'!G5 -> GPF | T5: =IF(S5="GPF",R5-V5,0) -> 9310 | U5: =IF(S5="GPF 2004",R5-V5,0) -> 0 | V5: =ROUND(R5*'MASTER SHEET'!E5/100,0) -> 0 | W5: =SUM(T5:V5) -> 9310 | X5: =R5-W5 -> 0
A6: =IF('MASTER SHEET'!A6="","",'MASTER SHEET'!A6) -> 2 | B6: =IFERROR(IF(A6="","TOTAL",A6),"") -> 2 | C6: =VLOOKUP(A6,'MASTER SHEET'!$A$5:$G$1048576,2,0) -> GIRDHARI LAL DIGWAL | D6: =IF(A6=B6,"","TOTAL") | E6: =IF(D6="TOTAL","TOTAL",'MASTER SHEET'!C6) -> LECTURER | F6: =IF(D6="TOTAL",SUM($F$5:F5),'MASTER SHEET'!D6) -> 45600 | G6: =IFERROR(IF(D6="TOTAL",SUM($G$5:G5),F6*50/100),"") -> 22800 | H6: =G6 -> 22800 | I6: =IF(D6="TOTAL",SUM($I$5:I5),IF('MASTER SHEET'!F6="YES",'D.A.ARREAR CALCULATION'!F6/2*50%,"")) | J6: =SUM(G6:I6) -> 45600 | K6: =IFERROR(IF(D6="TOTAL",SUM($K$5:K5),F6*46/100),"") -> 20976 | L6: =K6 -> 20976 | M6: =IF(D6="TOTAL",SUM($M$5:M5),IF('MASTER SHEET'!F6="YES",'D.A.ARREAR CALCULATION'!F6/2*46%,"")) | N6: =SUM(K6:M6) -> 41952 | O6: =G6-K6 -> 1824 | P6: =H6-L6 -> 1824 | Q6: =IF(I6="","",I6-M6) | R6: =SUM(O6:Q6) -> 3648 | S6: ='MASTER SHEET'!G6 -> GPF 2004 | T6: =IF(D6="TOTAL",SUM($T$5:T5),IF(S6="GPF",R6-V6,0)) -> 0 | U6: =IF(D6="TOTAL",SUM($U$5:U5),IF(S6="GPF 2004",R6-V6,0)) -> 3648 | V6: =IF(D6="TOTAL",SUM($V$5:V5),ROUND(R6*'MASTER SHEET'!E6/100,0)) -> 0 | W6: =SUM(T6:V6) -> 3648 | X6: =R6-W6 -> 0
A7: =IF('MASTER SHEET'!A7="","",'MASTER SHEET'!A7) -> 3 | B7: =IFERROR(IF(A7="",(A6+1),A7),"") -> 3 | C7: =VLOOKUP(A7,'MASTER SHEET'!$A$5:$G$1048576,2,0) -> KAILASH CHANDRA NAGAR | D7: =IF(A7=B7,"","TOTAL") | E7: =IF(D7="TOTAL","TOTAL",'MASTER SHEET'!C7) -> SR TEACHER | F7: =IF(D7="TOTAL",SUM($F$5:F6),'MASTER SHEET'!D7) -> 51400 | G7: =IFERROR(IF(D7="TOTAL",SUM($G$5:G6),F7*50/100),"") -> 25700 | H7: =G7 -> 25700 | I7: =IF(D7="TOTAL",SUM($I$5:I6),IF('MASTER SHEET'!F7="YES",'D.A.ARREAR CALCULATION'!F7/2*50%,"")) | J7: =SUM(G7:I7) -> 51400 | K7: =IFERROR(IF(D7="TOTAL",SUM($K$5:K6),F7*46/100),"") -> 23644 | L7: =K7 -> 23644 | M7: =IF(D7="TOTAL",SUM($M$5:M6),IF('MASTER SHEET'!F7="YES",'D.A.ARREAR CALCULATION'!F7/2*46%,"")) | N7: =SUM(K7:M7) -> 47288 | O7: =G7-K7 -> 2056 | P7: =H7-L7 -> 2056 | Q7: =IF(I7="","",I7-M7) | R7: =SUM(O7:Q7) -> 4112 | S7: ='MASTER SHEET'!G7 -> GPF 2004 | T7: =IF(D7="TOTAL",SUM($T$5:T6),IF(S7="GPF",R7-V7,0)) -> 0 | U7: =IF(D7="TOTAL",SUM($U$5:U6),IF(S7="GPF 2004",R7-V7,0)) -> 4112 | V7: =IF(D7="TOTAL",SUM($V$5:V6),ROUND(R7*'MASTER SHEET'!E7/100,0)) -> 0 | W7: =SUM(T7:V7) -> 4112 | X7: =R7-W7 -> 0
A8: =IF('MASTER SHEET'!A8="","",'MASTER SHEET'!A8) -> 4 | B8: =IFERROR(IF(A8="",(A7+1),A8),"") -> 4 | C8: =VLOOKUP(A8,'MASTER SHEET'!$A$5:$G$1048576,2,0) -> INDAR RAJ MEGHWAL | D8: =IF(A8=B8,"","TOTAL") | E8: =IF(D8="TOTAL","TOTAL",'MASTER SHEET'!C8) -> SR TEACHER | F8: =IF(D8="TOTAL",SUM($F$5:F7),'MASTER SHEET'!D8) -> 51400 | G8: =IFERROR(IF(D8="TOTAL",SUM($G$5:G7),F8*50/100),"") -> 25700 | H8: =G8 -> 25700 | I8: =IF(D8="TOTAL",SUM($I$5:I7),IF('MASTER SHEET'!F8="YES",'D.A.ARREAR CALCULATION'!F8/2*50%,"")) | J8: =SUM(G8:I8) -> 51400 | K8: =IFERROR(IF(D8="TOTAL",SUM($K$5:K7),F8*46/100),"") -> 23644 | L8: =K8 -> 23644 | M8: =IF(D8="TOTAL",SUM($M$5:M7),IF('MASTER SHEET'!F8="YES",'D.A.ARREAR CALCULATION'!F8/2*46%,"")) | N8: =SUM(K8:M8) -> 47288 | O8: =G8-K8 -> 2056 | P8: =H8-L8 -> 2056 | Q8: =IF(I8="","",I8-M8) | R8: =SUM(O8:Q8) -> 4112 | S8: ='MASTER SHEET'!G8 -> GPF 2004 | T8: =IF(D8="TOTAL",SUM($T$5:T7),IF(S8="GPF",R8-V8,0)) -> 0 | U8: =IF(D8="TOTAL",SUM($U$5:U7),IF(S8="GPF 2004",R8-V8,0)) -> 4112 | V8: =IF(D8="TOTAL",SUM($V$5:V7),ROUND(R8*'MASTER SHEET'!E8/100,0)) -> 0 | W8: =SUM(T8:V8) -> 4112 | X8: =R8-W8 -> 0
A9: =IF('MASTER SHEET'!A9="","",'MASTER SHEET'!A9) -> 5 | B9: =IFERROR(IF(A9="",(A8+1),A9),"") -> 5 | C9: =VLOOKUP(A9,'MASTER SHEET'!$A$5:$G$1048576,2,0) -> SITA RAM MEENA | D9: =IF(A9=B9,"","TOTAL") | E9: =IF(D9="TOTAL","TOTAL",'MASTER SHEET'!C9) -> LECTURER | F9: =IF(D9="TOTAL",SUM($F$5:F8),'MASTER SHEET'!D9) -> 51400 | G9: =IFERROR(IF(D9="TOTAL",SUM($G$5:G8),F9*50/100),"") -> 25700 | H9: =G9 -> 25700 | I9: =IF(D9="TOTAL",SUM($I$5:I8),IF('MASTER SHEET'!F9="YES",'D.A.ARREAR CALCULATION'!F9/2*50%,"")) | J9: =SUM(G9:I9) -> 51400 | K9: =IFERROR(IF(D9="TOTAL",SUM($K$5:K8),F9*46/100),"") -> 23644 | L9: =K9 -> 23644 | M9: =IF(D9="TOTAL",SUM($M$5:M8),IF('MASTER SHEET'!F9="YES",'D.A.ARREAR CALCULATION'!F9/2*46%,"")) | N9: =SUM(K9:M9) -> 47288 | O9: =G9-K9 -> 2056 | P9: =H9-L9 -> 2056 | Q9: =IF(I9="","",I9-M9) | R9: =SUM(O9:Q9) -> 4112 | S9: ='MASTER SHEET'!G9 -> GPF 2004 | T9: =IF(D9="TOTAL",SUM($T$5:T8),IF(S9="GPF",R9-V9,0)) -> 0 | U9: =IF(D9="TOTAL",SUM($U$5:U8),IF(S9="GPF 2004",R9-V9,0)) -> 4112 | V9: =IF(D9="TOTAL",SUM($V$5:V8),ROUND(R9*'MASTER SHEET'!E9/100,0)) -> 0 | W9: =SUM(T9:V9) -> 4112 | X9: =R9-W9 -> 0
A10: =IF('MASTER SHEET'!A10="","",'MASTER SHEET'!A10) -> 6 | B10: =IFERROR(IF(A10="",(A9+1),A10),"") -> 6 | C10: =VLOOKUP(A10,'MASTER SHEET'!$A$5:$G$1048576,2,0) -> LOKESH KUMAR MEENA | D10: =IF(A10=B10,"","TOTAL") | E10: =IF(D10="TOTAL","TOTAL",'MASTER SHEET'!C10) -> SR TEACHER | F10: =IF(D10="TOTAL",SUM($F$5:F9),'MASTER SHEET'!D10) -> 38900 | G10: =IFERROR(IF(D10="TOTAL",SUM($G$5:G9),F10*50/100),"") -> 19450 | H10: =G10 -> 19450 | I10: =IF(D10="TOTAL",SUM($I$5:I9),IF('MASTER SHEET'!F10="YES",'D.A.ARREAR CALCULATION'!F10/2*50%,"")) | J10: =SUM(G10:I10) -> 38900 | K10: =IFERROR(IF(D10="TOTAL",SUM($K$5:K9),F10*46/100),"") -> 17894 | L10: =K10 -> 17894 | M10: =IF(D10="TOTAL",SUM($M$5:M9),IF('MASTER SHEET'!F10="YES",'D.A.ARREAR CALCULATION'!F10/2*46%,"")) | N10: =SUM(K10:M10) -> 35788 | O10: =G10-K10 -> 1556 | P10: =H10-L10 -> 1556 | Q10: =IF(I10="","",I10-M10) | R10: =SUM(O10:Q10) -> 3112 | S10: ='MASTER SHEET'!G10 -> GPF 2004 | T10: =IF(D10="TOTAL",SUM($T$5:T9),IF(S10="GPF",R10-V10,0)) -> 0 | U10: =IF(D10="TOTAL",SUM($U$5:U9),IF(S10="GPF 2004",R10-V10,0)) -> 3112 | V10: =IF(D10="TOTAL",SUM($V$5:V9),ROUND(R10*'MASTER SHEET'!E10/100,0)) -> 0 | W10: =SUM(T10:V10) -> 3112 | X10: =R10-W10 -> 0
A11: =IF('MASTER SHEET'!A11="","",'MASTER SHEET'!A11) -> 7 | B11: =IFERROR(IF(A11="",(A10+1),A11),"") -> 7 | C11: =VLOOKUP(A11,'MASTER SHEET'!$A$5:$G$1048576,2,0) -> MURLI DHAR MAHAWER | D11: =IF(A11=B11,"","TOTAL") | E11: =IF(D11="TOTAL","TOTAL",'MASTER SHEET'!C11) -> TEACHER | F11: =IF(D11="TOTAL",SUM($F$5:F10),'MASTER SHEET'!D11) -> 73200 | G11: =IFERROR(IF(D11="TOTAL",SUM($G$5:G10),F11*50/100),"") -> 36600 | H11: =G11 -> 36600 | I11: =IF(D11="TOTAL",SUM($I$5:I10),IF('MASTER SHEET'!F11="YES",'D.A.ARREAR CALCULATION'!F11/2*50%,"")) | J11: =SUM(G11:I11) -> 73200 | K11: =IFERROR(IF(D11="TOTAL",SUM($K$5:K10),F11*46/100),"") -> 33672 | L11: =K11 -> 33672 | M11: =IF(D11="TOTAL",SUM($M$5:M10),IF('MASTER SHEET'!F11="YES",'D.A.ARREAR CALCULATION'!F11/2*46%,"")) | N11: =SUM(K11:M11) -> 67344 | O11: =G11-K11 -> 2928 | P11: =H11-L11 -> 2928 | Q11: =IF(I11="","",I11-M11) | R11: =SUM(O11:Q11) -> 5856 | S11: ='MASTER SHEET'!G11 -> GPF | T11: =IF(D11="TOTAL",SUM($T$5:T10),IF(S11="GPF",R11-V11,0)) -> 5856 | U11: =IF(D11="TOTAL",SUM($U$5:U10),IF(S11="GPF 2004",R11-V11,0)) -> 0 | V11: =IF(D11="TOTAL",SUM($V$5:V10),ROUND(R11*'MASTER SHEET'!E11/100,0)) -> 0 | W11: =SUM(T11:V11) -> 5856 | X11: =R11-W11 -> 0
A12: =IF('MASTER SHEET'!A12="","",'MASTER SHEET'!A12) -> 8 | B12: =IFERROR(IF(A12="",(A11+1),A12),"") -> 8 | C12: =VLOOKUP(A12,'MASTER SHEET'!$A$5:$G$1048576,2,0) -> RAM DAYAL MEENA | D12: =IF(A12=B12,"","TOTAL") | E12: =IF(D12="TOTAL","TOTAL",'MASTER SHEET'!C12) -> TEACHER | F12: =IF(D12="TOTAL",SUM($F$5:F11),'MASTER SHEET'!D12) -> 49300 | G12: =IFERROR(IF(D12="TOTAL",SUM($G$5:G11),F12*50/100),"") -> 24650 | H12: =G12 -> 24650 | I12: =IF(D12="TOTAL",SUM($I$5:I11),IF('MASTER SHEET'!F12="YES",'D.A.ARREAR CALCULATION'!F12/2*50%,"")) | J12: =SUM(G12:I12) -> 49300 | K12: =IFERROR(IF(D12="TOTAL",SUM($K$5:K11),F12*46/100),"") -> 22678 | L12: =K12 -> 22678 | M12: =IF(D12="TOTAL",SUM($M$5:M11),IF('MASTER SHEET'!F12="YES",'D.A.ARREAR CALCULATION'!F12/2*46%,"")) | N12: =SUM(K12:M12) -> 45356 | O12: =G12-K12 -> 1972 | P12: =H12-L12 -> 1972 | Q12: =IF(I12="","",I12-M12) | R12: =SUM(O12:Q12) -> 3944 | S12: ='MASTER SHEET'!G12 -> GPF 2004 | T12: =IF(D12="TOTAL",SUM($T$5:T11),IF(S12="GPF",R12-V12,0)) -> 0 | U12: =IF(D12="TOTAL",SUM($U$5:U11),IF(S12="GPF 2004",R12-V12,0)) -> 3944 | V12: =IF(D12="TOTAL",SUM($V$5:V11),ROUND(R12*'MASTER SHEET'!E12/100,0)) -> 0 | W12: =SUM(T12:V12) -> 3944 | X12: =R12-W12 -> 0
A13: =IF('MASTER SHEET'!A13="","",'MASTER SHEET'!A13) -> 9 | B13: =IFERROR(IF(A13="",(A12+1),A13),"") -> 9 | C13: =VLOOKUP(A13,'MASTER SHEET'!$A$5:$G$1048576,2,0) -> MOHINI BAI UDAIPURIA | D13: =IF(A13=B13,"","TOTAL") | E13: =IF(D13="TOTAL","TOTAL",'MASTER SHEET'!C13) -> TEACHER | F13: =IF(D13="TOTAL",SUM($F$5:F12),'MASTER SHEET'!D13) -> 73200 | G13: =IFERROR(IF(D13="TOTAL",SUM($G$5:G12),F13*50/100),"") -> 36600 | H13: =G13 -> 36600 | I13: =IF(D13="TOTAL",SUM($I$5:I12),IF('MASTER SHEET'!F13="YES",'D.A.ARREAR CALCULATION'!F13/2*50%,"")) -> 18300 | J13: =SUM(G13:I13) -> 91500 | K13: =IFERROR(IF(D13="TOTAL",SUM($K$5:K12),F13*46/100),"") -> 33672 | L13: =K13 -> 33672 | M13: =IF(D13="TOTAL",SUM($M$5:M12),IF('MASTER SHEET'!F13="YES",'D.A.ARREAR CALCULATION'!F13/2*46%,"")) -> 16836 | N13: =SUM(K13:M13) -> 84180 | O13: =G13-K13 -> 2928 | P13: =H13-L13 -> 2928 | Q13: =IF(I13="","",I13-M13) -> 1464 | R13: =SUM(O13:Q13) -> 7320 | S13: ='MASTER SHEET'!G13 -> GPF | T13: =IF(D13="TOTAL",SUM($T$5:T12),IF(S13="GPF",R13-V13,0)) -> 7320 | U13: =IF(D13="TOTAL",SUM($U$5:U12),IF(S13="GPF 2004",R13-V13,0)) -> 0 | V13: =IF(D13="TOTAL",SUM($V$5:V12),ROUND(R13*'MASTER SHEET'!E13/100,0)) -> 0 | W13: =SUM(T13:V13) -> 7320 | X13: =R13-W13 -> 0
A14: =IF('MASTER SHEET'!A14="","",'MASTER SHEET'!A14) | B14: =IFERROR(IF(A14="",(A13+1),A14),"") -> 10 | C14: =VLOOKUP(A14,'MASTER SHEET'!$A$5:$G$1048576,2,0) -> 0 | D14: =IF(A14=B14,"","TOTAL") -> TOTAL | E14: =IF(D14="TOTAL","TOTAL",'MASTER SHEET'!C14) -> TOTAL | F14: =IF(D14="TOTAL",SUM($F$5:F13),'MASTER SHEET'!D14) -> 527500 | G14: =IFERROR(IF(D14="TOTAL",SUM($G$5:G13),F14*50/100),"") -> 263750 | H14: =G14 -> 263750 | I14: =IF(D14="TOTAL",SUM($I$5:I13),IF('MASTER SHEET'!F14="YES",'D.A.ARREAR CALCULATION'!F14/2*50%,"")) -> 41575 | J14: =SUM(G14:I14) -> 569075 | K14: =IFERROR(IF(D14="TOTAL",SUM($K$5:K13),F14*46/100),"") -> 242650 | L14: =K14 -> 242650 | M14: =IF(D14="TOTAL",SUM($M$5:M13),IF('MASTER SHEET'!F14="YES",'D.A.ARREAR CALCULATION'!F14/2*46%,"")) -> 38249 | N14: =SUM(K14:M14) -> 523549 | O14: =G14-K14 -> 21100 | P14: =H14-L14 -> 21100 | Q14: =IF(I14="","",I14-M14) -> 3326 | R14: =SUM(O14:Q14) -> 45526 | S14: ='MASTER SHEET'!G14 -> 0 | T14: =IF(D14="TOTAL",SUM($T$5:T13),IF(S14="GPF",R14-V14,0)) -> 22486 | U14: =IF(D14="TOTAL",SUM($U$5:U13),IF(S14="GPF 2004",R14-V14,0)) -> 23040 | V14: =IF(D14="TOTAL",SUM($V$5:V13),ROUND(R14*'MASTER SHEET'!E14/100,0)) -> 0 | W14: =SUM(T14:V14) -> 45526 | X14: =R14-W14 -> 0
A15: =IF('MASTER SHEET'!A15="","",'MASTER SHEET'!A15) | B15: =IFERROR(IF(A15="",(A14+1),A15),"") | C15: =VLOOKUP(A15,'MASTER SHEET'!$A$5:$G$1048576,2,0) -> 0 | D15: =IF(A15=B15,"","TOTAL") | E15: =IF(D15="TOTAL","TOTAL",'MASTER SHEET'!C15) -> 0 | F15: =IF(D15="TOTAL",SUM($F$5:F14),'MASTER SHEET'!D15) -> 0 | G15: =IFERROR(IF(D15="TOTAL",SUM($G$5:G14),F15*50/100),"") -> 0 | H15: =G15 -> 0 | I15: =IF(D15="TOTAL",SUM($I$5:I14),IF('MASTER SHEET'!F15="YES",'D.A.ARREAR CALCULATION'!F15/2*50%,"")) | J15: =SUM(G15:I15) -> 0 | K15: =IFERROR(IF(D15="TOTAL",SUM($K$5:K14),F15*46/100),"") -> 0 | L15: =K15 -> 0 | M15: =IF(D15="TOTAL",SUM($M$5:M14),IF('MASTER SHEET'!F15="YES",'D.A.ARREAR CALCULATION'!F15/2*46%,"")) | N15: =SUM(K15:M15) -> 0 | O15: =G15-K15 -> 0 | P15: =H15-L15 -> 0 | Q15: =IF(I15="","",I15-M15) | R15: =SUM(O15:Q15) -> 0 | S15: ='MASTER SHEET'!G15 -> 0 | T15: =IF(D15="TOTAL",SUM($T$5:T14),IF(S15="GPF",R15-V15,0)) -> 0 | U15: =IF(D15="TOTAL",SUM($U$5:U14),IF(S15="GPF 2004",R15-V15,0)) -> 0 | V15: =IF(D15="TOTAL",SUM($V$5:V14),ROUND(R15*'MASTER SHEET'!E15/100,0)) -> 0 | W15: =SUM(T15:V15) -> 0 | X15: =R15-W15 -> 0
A16: =IF('MASTER SHEET'!A16="","",'MASTER SHEET'!A16) | B16: =IFERROR(IF(A16="",(A15+1),A16),"") | C16: =VLOOKUP(A16,'MASTER SHEET'!$A$5:$G$1048576,2,0) -> 0 | D16: =IF(A16=B16,"","TOTAL") | E16: =IF(D16="TOTAL","TOTAL",'MASTER SHEET'!C16) -> 0 | F16: =IF(D16="TOTAL",SUM($F$5:F15),'MASTER SHEET'!D16) -> 0 | G16: =IFERROR(IF(D16="TOTAL",SUM($G$5:G15),F16*50/100),"") -> 0 | H16: =G16 -> 0 | I16: =IF(D16="TOTAL",SUM($I$5:I15),IF('MASTER SHEET'!F16="YES",'D.A.ARREAR CALCULATION'!F16/2*50%,"")) | J16: =SUM(G16:I16) -> 0 | K16: =IFERROR(IF(D16="TOTAL",SUM($K$5:K15),F16*46/100),"") -> 0 | L16: =K16 -> 0 | M16: =IF(D16="TOTAL",SUM($M$5:M15),IF('MASTER SHEET'!F16="YES",'D.A.ARREAR CALCULATION'!F16/2*46%,"")) | N16: =SUM(K16:M16) -> 0 | O16: =G16-K16 -> 0 | P16: =H16-L16 -> 0 | Q16: =IF(I16="","",I16-M16) | R16: =SUM(O16:Q16) -> 0 | S16: ='MASTER SHEET'!G16 -> 0 | T16: =IF(D16="TOTAL",SUM($T$5:T15),IF(S16="GPF",R16-V16,0)) -> 0 | U16: =IF(D16="TOTAL",SUM($U$5:U15),IF(S16="GPF 2004",R16-V16,0)) -> 0 | V16: =IF(D16="TOTAL",SUM($V$5:V15),ROUND(R16*'MASTER SHEET'!E16/100,0)) -> 0 | W16: =SUM(T16:V16) -> 0 | X16: =R16-W16 -> 0
A17: =IF('MASTER SHEET'!A17="","",'MASTER SHEET'!A17) | B17: =IFERROR(IF(A17="",(A16+1),A17),"") | C17: =VLOOKUP(A17,'MASTER SHEET'!$A$5:$G$1048576,2,0) -> 0 | D17: =IF(A17=B17,"","TOTAL") | E17: =IF(D17="TOTAL","TOTAL",'MASTER SHEET'!C17) -> 0 | F17: =IF(D17="TOTAL",SUM($F$5:F16),'MASTER SHEET'!D17) -> 0 | G17: =IFERROR(IF(D17="TOTAL",SUM($G$5:G16),F17*50/100),"") -> 0 | H17: =G17 -> 0 | I17: =IF(D17="TOTAL",SUM($I$5:I16),IF('MASTER SHEET'!F17="YES",'D.A.ARREAR CALCULATION'!F17/2*50%,"")) | J17: =SUM(G17:I17) -> 0 | K17: =IFERROR(IF(D17="TOTAL",SUM($K$5:K16),F17*46/100),"") -> 0 | L17: =K17 -> 0 | M17: =IF(D17="TOTAL",SUM($M$5:M16),IF('MASTER SHEET'!F17="YES",'D.A.ARREAR CALCULATION'!F17/2*46%,"")) | N17: =SUM(K17:M17) -> 0 | O17: =G17-K17 -> 0 | P17: =H17-L17 -> 0 | Q17: =IF(I17="","",I17-M17) | R17: =SUM(O17:Q17) -> 0 | S17: ='MASTER SHEET'!G17 -> 0 | T17: =IF(D17="TOTAL",SUM($T$5:T16),IF(S17="GPF",R17-V17,0)) -> 0 | U17: =IF(D17="TOTAL",SUM($U$5:U16),IF(S17="GPF 2004",R17-V17,0)) -> 0 | V17: =IF(D17="TOTAL",SUM($V$5:V16),ROUND(R17*'MASTER SHEET'!E17/100,0)) -> 0 | W17: =SUM(T17:V17) -> 0 | X17: =R17-W17 -> 0
A18: =IF('MASTER SHEET'!A18="","",'MASTER SHEET'!A18) | B18: =IFERROR(IF(A18="",(A17+1),A18),"") | C18: =VLOOKUP(A18,'MASTER SHEET'!$A$5:$G$1048576,2,0) -> 0 | D18: =IF(A18=B18,"","TOTAL") | E18: =IF(D18="TOTAL","TOTAL",'MASTER SHEET'!C18) -> 0 | F18: =IF(D18="TOTAL",SUM($F$5:F17),'MASTER SHEET'!D18) -> 0 | G18: =IFERROR(IF(D18="TOTAL",SUM($G$5:G17),F18*50/100),"") -> 0 | H18: =G18 -> 0 | I18: =IF(D18="TOTAL",SUM($I$5:I17),IF('MASTER SHEET'!F18="YES",'D.A.ARREAR CALCULATION'!F18/2*50%,"")) | J18: =SUM(G18:I18) -> 0 | K18: =IFERROR(IF(D18="TOTAL",SUM($K$5:K17),F18*46/100),"") -> 0 | L18: =K18 -> 0 | M18: =IF(D18="TOTAL",SUM($M$5:M17),IF('MASTER SHEET'!F18="YES",'D.A.ARREAR CALCULATION'!F18/2*46%,"")) | N18: =SUM(K18:M18) -> 0 | O18: =G18-K18 -> 0 | P18: =H18-L18 -> 0 | Q18: =IF(I18="","",I18-M18) | R18: =SUM(O18:Q18) -> 0 | S18: ='MASTER SHEET'!G18 -> 0 | T18: =IF(D18="TOTAL",SUM($T$5:T17),IF(S18="GPF",R18-V18,0)) -> 0 | U18: =IF(D18="TOTAL",SUM($U$5:U17),IF(S18="GPF 2004",R18-V18,0)) -> 0 | V18: =IF(D18="TOTAL",SUM($V$5:V17),ROUND(R18*'MASTER SHEET'!E18/100,0)) -> 0 | W18: =SUM(T18:V18) -> 0 | X18: =R18-W18 -> 0
... A24: =IF('MASTER SHEET'!A24="","",'MASTER SHEET'!A24) | B24: =IFERROR(IF(A24="",(A23+1),A24),"") | C24: =VLOOKUP(A24,'MASTER SHEET'!$A$5:$G$1048576,2,0) -> 0 | D24: =IF(A24=B24,"","TOTAL") | E24: =IF(D24="TOTAL","TOTAL",'MASTER SHEET'!C24) -> 0 | F24: =IF(D24="TOTAL",SUM($F$5:F23),'MASTER SHEET'!D24) -> 0 | G24: =IFERROR(IF(D24="TOTAL",SUM($G$5:G23),F24*50/100),"") -> 0 | H24: =G24 -> 0 | I24: =IF(D24="TOTAL",SUM($I$5:I23),IF('MASTER SHEET'!F24="YES",'D.A.ARREAR CALCULATION'!F24/2*50%,"")) | J24: =SUM(G24:I24) -> 0 | K24: =IFERROR(IF(D24="TOTAL",SUM($K$5:K23),F24*46/100),"") -> 0 | L24: =K24 -> 0 | M24: =IF(D24="TOTAL",SUM($M$5:M23),IF('MASTER SHEET'!F24="YES",'D.A.ARREAR CALCULATION'!F24/2*46%,"")) | N24: =SUM(K24:M24) -> 0 | O24: =G24-K24 -> 0 | P24: =H24-L24 -> 0 | Q24: =IF(I24="","",I24-M24) | R24: =SUM(O24:Q24) -> 0 | S24: ='MASTER SHEET'!G24 -> 0 | T24: =IF(D24="TOTAL",SUM($T$5:T23),IF(S24="GPF",R24-V24,0)) -> 0 | U24: =IF(D24="TOTAL",SUM($U$5:U23),IF(S24="GPF 2004",R24-V24,0)) -> 0 | V24: =IF(D24="TOTAL",SUM($V$5:V23),ROUND(R24*'MASTER SHEET'!E24/100,0)) -> 0 | W24: =SUM(T24:V24) -> 0 | X24: =R24-W24 -> 0
B25: =IFERROR(IF(A25="",(A24+1),A25),"") | D25: =IF(A25=B25,"","TOTAL") | E25: =IF(D25="TOTAL","TOTAL",'MASTER SHEET'!C25) -> 0 | F25: =IF(D25="TOTAL",SUM($F$5:F24),'MASTER SHEET'!D25) -> 0 | G25: =IFERROR(IF(D25="TOTAL",SUM($G$5:G24),F25*50/100),"") -> 0 | H25: =G25 -> 0 | I25: =IF(D25="TOTAL",SUM($I$5:I24),IF('MASTER SHEET'!F25="YES",'D.A.ARREAR CALCULATION'!F25/2*50%,"")) | J25: =SUM(G25:I25) -> 0 | K25: =IFERROR(IF(D25="TOTAL",SUM($K$5:K24),F25*46/100),"") -> 0 | L25: =K25 -> 0 | M25: =IF(D25="TOTAL",SUM($M$5:M24),IF('MASTER SHEET'!F25="YES",'D.A.ARREAR CALCULATION'!F25/2*46%,"")) | N25: =SUM(K25:M25) -> 0 | O25: =G25-K25 -> 0 | P25: =H25-L25 -> 0 | Q25: =IF(I25="","",I25-M25) | R25: =SUM(O25:Q25) -> 0 | S25: ='MASTER SHEET'!G25 -> 0 | T25: =IF(D25="TOTAL",SUM($T$5:T24),IF(S25="GPF",R25-V25,0)) -> 0 | U25: =IF(D25="TOTAL",SUM($U$5:U24),IF(S25="GPF 2004",R25-V25,0)) -> 0 | V25: =IF(D25="TOTAL",SUM($V$5:V24),ROUND(R25*'MASTER SHEET'!E25/100,0)) -> 0 | W25: =SUM(T25:V25) -> 0 | X25: =R25-W25 -> 0
