Workbook
Name grant: MASTER!$H$8:$H$47
Name jktdh__mPp_izkFkfed_fo_ky___daojiqjk: MASTER!$C$8:$E$47
Name POEntry: '[1]Demand Register'!$A$8:$M$197
Name school: MASTER!$C$8:$E$47
Name SCHOOL: MASTER!$C$8:$E$47
Name SCHOOLNAME: [1]PROFILE!$D$9:$D$23
Name sn: MASTER!$C$8:$E$47

Sheet Guide
B2: SNA PORTAL - BUDGET CONTROL EXCEL SOFTWARE
B4: महत्वपूर्ण दिशा-निर्देश
B5: f'k{kk foHkkx jktLFkku esa foRrh; o"kZ 2022&23 esa lexz f'k{kk ,oa vU; enksa dk Hkqxrku igyh ckj ;kstuk lapkyu iksVZy ls fd;k tk jgk gSa] bl gsrq f'k{kk foHkkx ds dk;kZy;ksa@fo|ky;ksa ds dk;ksZ dks vklku cukus fy, SNA BUDGET CONTROL EXCEL SOFTWARE dk fuekZ.k fd;k x;k gSaA SOFTWARE dks lko/kkuhiwoZd cuk;k x;k gSa] fQj Hkh fdlh izdkj =qfV gksus ij jkT; ljdkj }kjk tkjh fn'kk&funsZ'k gh ekU; gksaxsA fdlh Hkh izdkj ds lq>ko ds fy, RAJTEACHERS.NET oSclkbV dh esy vkbZMh ij voxr djok ldrs gSaA
B7: MASTER | C7: bl 'khV esa LFkkuh; dk;kZy;@fo|ky;@v/khuLFk fo|ky;ksa dk fooj.k vkSj en dk fooj.k HkjsaA
B8: RECEIVED AMOUNT | C8: lhchbZvks dk;kZy; ls fofHHkUu enksa esa izkIr jkf'k;ka HkjsaA
B9: OREDER | C9: leLr LFkkuh; dk;kZy;@fo|ky;@v/khuLFk fo|ky;ksa dk jkf'k mi;ksx gsrq Auto Generate vkns'k cusxkA
B10: DEMAND | C10: LFkkuh; dk;kZy;@fo|ky;@v/khuLFk fo|ky;ksa ls izkIr ekax dk bUnzkt djsaA
B11: PAY SANCTION | C11: Drop Down List ls fo|ky; dk p;u djsa ftlls fo|ky; okj Pay Sanction ds fy, dk;kZy; vkns'k Auto Generate rS;kj gksxkA
B12: EXPENDITURE | C12: fo|ky; }kjk fn;s ekax i= ds vuqlkj fo|ky; okj Hkqxrku jkf'k HkjsA
B13: SCHOOL WISE EXP. | C13: Auto generate- MªkiMkmu ls fo|ky; dk p;u djsa] fo|ky; okj Expenditure Report tkjh gksxhA
B14: DEMAND FORMATE | C14: LFkkuh; dk;kZy;@fo|ky;@v/khuLFk fo|ky;ksa gsrq ekax i= dk izk#iA
B15: BILL REGISTER | C15: lapkyu ;kstuk iksVZy ij fo|ky;ksa ds fd;s x;s Hkqxrku fooj.k ds fcy u o vU; lwpuk ;gka HkjsaA
B16: REPORT | C16: Auto generate- lEiw.kZ dk;kZy; esa enokj izkIr jkf'k] fo|ky;ksa dks tkjh en] [kpZ enokj jkf'k ,oa 'ks"k jkf'k dk fooj.kA
B17: uksV%& | C17: SOFTWARE dks ykWd j[kk x;k gSa] ftl LFkku ij MkVk QhM fd;k tkuk gS og vuykWd j[kk x;k gSaA

Sheet MASTER
B1: SNA ACCOUNT BUDGET CONTROLL EXCEL SOFTWARE
B2: dk;kZy; | C2: jktdh; mPp ek/;fed fo|ky;] xksj/kuiqjk | G2: IMPORTANT NOTES
B3: CykWd | C3: vV# | D3: foRrh; o"kZ | E3: 2023-24 | G3: 1 | H3: शीट में मद नाम वाली लिस्ट में आपके SNA खाते में प्राप्त राशि के अनुसार, मद भर लें।
B4: ftyk | C4: ckjka | D4: MhMhvks dksM | E4: 21679 | G4: 2 | H4: शीट में PEEO स्कूल व अधीनस्थ स्कूल के नाम भर लें।
B5: PEEO SCHOOL | C5: GOVT SR. SECONDARY SCHOOL, GORDHANPURA
B6: अधीनस्थ विद्यालयों की सूची
B7: क्र.सं. | C7: विद्यालय का नाम | G7: क्र.सं. | H7: मद का नाम | I7: COMPONENT NAME
B8: =IF(C8="","",ROWS($C$5:C5)) -> 1 | C8: GOVT UPPER PRIMARY SCHOOL, KANWARPURA | G8: =IF(H8="","",ROWS($C$5:H5)) -> 1 | H8: CSG SEC. GRANT | I8: Composite School Grant(SAMAGRA SHIKSHA)
B9: =IF(C9="","",ROWS($C$5:C6)) -> 2 | C9: GOVT UPPER PRIMARY SCHOOL, AMERT KHEDI | G9: =IF(H9="","",ROWS($C$5:H6)) -> 2 | H9: CSG ELE.GRANT | I9: Composite School Grant(SAMAGRA SHIKSHA)
B10: =IF(C10="","",ROWS($C$5:C7)) -> 3 | C10: GOVT UPPER PRIMARY SCHOOL, HANUMAT KHEDA | G10: =IF(H10="","",ROWS($C$5:H7)) -> 3 | H10: CRC GRANT | I10: Provision for CRCs (SAMAGRA SHIKSHA)
B11: =IF(C11="","",ROWS($C$5:C8)) -> 4 | C11: GOVT UPPER PRIMARY SCHOOL, SODALHEDI | G11: =IF(H11="","",ROWS($C$5:H8)) -> 4 | H11: MEETING AND TA GRANT | I11: Provision for CRCs (SAMAGRA SHIKSHA)
B12: =IF(C12="","",ROWS($C$5:C9)) -> 5 | C12: GOVT UPPER PRIMARY SCHOOL, SALPUR | G12: =IF(H12="","",ROWS($C$5:H9)) -> 5 | H12: TLM GRANT | I12: Provision for CRCs (SAMAGRA SHIKSHA)
B13: =IF(C13="","",ROWS($C$5:C10)) -> 6 | C13: MAA BADI DAY CARE CENTER, SALPURA | G13: =IF(H13="","",ROWS($C$5:H10)) -> 6 | H13: MOBILITY SPOT GRANT | I13: Provision for CRCs (SAMAGRA SHIKSHA)
B14: =IF(C14="","",ROWS($C$5:C11)) | G14: =IF(H14="","",ROWS($C$5:H11)) -> 7 | H14: SEONDARY SPORTS GRANT | I14: Sports and Physical Education(Upto Highest Class XII)(SAMAGRA SHIKSHA)
B15: =IF(C15="","",ROWS($C$5:C12)) | G15: =IF(H15="","",ROWS($C$5:H12)) -> 8 | H15: ELEMENTRY SPORTS GRANT | I15: Sports and Physical Education(Elementry)(SAMAGRA SHIKSHA)
B16: =IF(C16="","",ROWS($C$5:C13)) | G16: =IF(H16="","",ROWS($C$5:H13)) -> 9 | H16: PEEO OLYMPIC GRANT | I16: Program Management
B17: =IF(C17="","",ROWS($C$5:C14)) | G17: =IF(H17="","",ROWS($C$5:H14)) -> 10 | H17: SAMUDAYIK JAGRATI | I17: Community Mobilization(Secondary)(SAMAGRA SHIKSHA)
B18: =IF(C18="","",ROWS($C$5:C15)) | G18: =IF(H18="","",ROWS($C$5:H15)) -> 11 | H18: APNI LADO GRANT | I18: Community Mobilization(Secondary)(SAMAGRA SHIKSHA)
B19: =IF(C19="","",ROWS($C$5:C16)) | G19: =IF(H19="","",ROWS($C$5:H16)) -> 12 | H19: BAAL SAMAROH | I19: Community Mobilization(Secondary)(SAMAGRA SHIKSHA)
B20: =IF(C20="","",ROWS($C$5:C17)) | G20: =IF(H20="","",ROWS($C$5:H17)) -> 13 | H20: SPORT FOR MODAL GREEN SCHOOL GRANT | I20: Community Mobilization
B21: =IF(C21="","",ROWS($C$5:C18)) | G21: =IF(H21="","",ROWS($C$5:H18)) -> 14 | H21: SAMAGRA VIKAS EVAM PARYAVARAN | I21: Community Mobilization
B22: =IF(C22="","",ROWS($C$5:C19)) | G22: =IF(H22="","",ROWS($C$5:H19)) -> 15 | H22: VOULENTERS TRAINING | I22: Community Mobilization
B23: =IF(C23="","",ROWS($C$5:C20)) | G23: =IF(H23="","",ROWS($C$5:H20)) -> 16 | H23: EK BHARAT SURAKSHIT BHARAT ACTIVITY | I23: Monitoring Information System (MIS)(SAMAGRA SHIKSHA)
B24: =IF(C24="","",ROWS($C$5:C21)) | G24: =IF(H24="","",ROWS($C$5:H21)) -> 17 | H24: GENDOR ACTIVITY KISHORI MELA | I24: Monitoring Information System (MIS)(SAMAGRA SHIKSHA)
B25: =IF(C25="","",ROWS($C$5:C22)) | G25: =IF(H25="","",ROWS($C$5:H22)) -> 18 | H25: GENDOR ACTIVITY SURKSHA AVAM DIGITAL LEARNING | I25: Monitoring Information System (MIS)(SAMAGRA SHIKSHA)
... B27: =IF(C27="","",ROWS($C$5:C24)) | G27: =IF(H27="","",ROWS($C$5:H24)) -> 20 | H27: VOCATIONAL EDUCATION | I27: Community Mobilization
B28: =IF(C28="","",ROWS($C$5:C25)) | G28: =IF(H28="","",ROWS($C$5:H25))
B29: =IF(C29="","",ROWS($C$5:C26)) | G29: =IF(H29="","",ROWS($C$5:H26))
B30: =IF(C30="","",ROWS($C$5:C27)) | G30: =IF(H30="","",ROWS($C$5:H27))
B31: =IF(C31="","",ROWS($C$5:C28)) | G31: =IF(H31="","",ROWS($C$5:H28))
B32: =IF(C32="","",ROWS($C$5:C29)) | G32: =IF(H32="","",ROWS($C$5:H29))
B33: =IF(C33="","",ROWS($C$5:C30)) | G33: =IF(H33="","",ROWS($C$5:H30))
B34: =IF(C34="","",ROWS($C$5:C31)) | G34: =IF(H34="","",ROWS($C$5:H31))
B35: =IF(C35="","",ROWS($C$5:C32)) | G35: =IF(H35="","",ROWS($C$5:H32))
B36: =IF(C36="","",ROWS($C$5:C33)) | G36: =IF(H36="","",ROWS($C$5:H33))
B37: =IF(C37="","",ROWS($C$5:C34)) | G37: =IF(H37="","",ROWS($C$5:H34))
B38: =IF(C38="","",ROWS($C$5:C35)) | G38: =IF(H38="","",ROWS($C$5:H35))
B39: =IF(C39="","",ROWS($C$5:C36)) | G39: =IF(H39="","",ROWS($C$5:H36))
... B47: =IF(C47="","",ROWS($C$5:C44)) | G47: =IF(H47="","",ROWS($C$5:H44))

Sheet RECEIVED AMOUNT 
A1: =CONCATENATE(MASTER!B2," ",MASTER!C2," ",MASTER!B3," ",MASTER!C3," ",MASTER!B4," ",MASTER!C4) -> dk;kZy; jktdh; mPp ek/;fed fo|ky;] xksj/kuiqjk CykWd vV# ftyk ckjka
A2: मदवार प्राप्त राशियां यहाँ भरें | J2: AMOUNT RECEIVED DETAILS FOR SNA ACCOUNT
A3: SN | B3: SCHOOL NAME | C3: मदों के नाम
C4: =MASTER!H8 -> CSG SEC. GRANT | D4: =MASTER!H9 -> CSG ELE.GRANT | E4: =MASTER!H10 -> CRC GRANT | F4: =MASTER!H11 -> MEETING AND TA GRANT | G4: =MASTER!H12 -> TLM GRANT | H4: =MASTER!H13 -> MOBILITY SPOT GRANT | I4: =MASTER!H14 -> SEONDARY SPORTS GRANT | J4: =MASTER!H15 -> ELEMENTRY SPORTS GRANT | K4: =MASTER!H16 -> PEEO OLYMPIC GRANT | L4: =MASTER!H17 -> SAMUDAYIK JAGRATI | M4: =MASTER!H18 -> APNI LADO GRANT | N4: =MASTER!H19 -> BAAL SAMAROH | O4: =MASTER!H20 -> SPORT FOR MODAL GREEN SCHOOL GRANT | P4: =MASTER!H21 -> SAMAGRA VIKAS EVAM PARYAVARAN | Q4: =MASTER!H22 -> VOULENTERS TRAINING | R4: =MASTER!H23 -> EK BHARAT SURAKSHIT BHARAT ACTIVITY | S4: =MASTER!H24 -> GENDOR ACTIVITY KISHORI MELA | T4: =MASTER!H25 -> GENDOR ACTIVITY SURKSHA AVAM DIGITAL LEARNING | U4: =MASTER!H26 -> GENDOR ACTIVITY VIDHYALAY EVAM VATAVARAN | V4: =MASTER!H27 -> VOCATIONAL EDUCATION | W4: =MASTER!H28 -> 0 | X4: =MASTER!H29 -> 0 | Y4: =MASTER!H30 -> 0 | Z4: =MASTER!H31 -> 0 | AA4: =MASTER!H32 -> 0 | AB4: =MASTER!H33 -> 0 | AC4: =MASTER!H34 -> 0 | AD4: =MASTER!H35 -> 0 | AE4: =MASTER!H36 -> 0 | AF4: =MASTER!H37 -> 0 | AG4: =MASTER!H38 -> 0 | AH4: =MASTER!H39 -> 0 | AI4: =MASTER!H40 -> 0 | AJ4: =MASTER!H41 -> 0 | AK4: =MASTER!H42 -> 0 | AL4: =MASTER!H43 -> 0 | AM4: =MASTER!H44 -> 0 | AN4: =MASTER!H45 -> 0 | AO4: =MASTER!H46 -> 0 | AP4: =MASTER!H47 -> 0 | AQ4: TOTAL RECEVED AMOUNT
A5: PEEO SCHOOL | C5: 1 | D5: 2 | E5: 3 | F5: 4 | G5: 5 | H5: 6 | I5: 7 | J5: 8 | K5: 9 | L5: 10 | M5: 11 | N5: 12 | O5: 13 | P5: 14 | Q5: 15 | R5: 16 | S5: 17 | T5: 18 | U5: 19 | V5: 20 | W5: 21 | X5: 22 | Y5: 23 | Z5: 24 | AA5: 25 | AB5: 26 | AC5: 27 | AD5: 28 | AE5: 29 | AF5: 30 | AG5: 31 | AH5: 32 | AI5: 33 | AJ5: 34 | AK5: 35 | AL5: 36 | AM5: 37 | AN5: 38 | AO5: 39 | AP5: 40
A6: 1 | B6: =MASTER!C5 -> GOVT SR. SECONDARY SCHOOL, GORDHANPURA | C6: 50000 | D6: 0 | E6: 15000 | F6: 5000 | G6: 1000 | H6: 1000 | I6: 25000 | J6: 0 | K6: 9150 | L6: 300 | M6: 200 | N6: 200 | O6: 0 | P6: 0 | Q6: 640 | R6: 500 | S6: 4500 | T6: 500 | U6: 1000 | V6: 0 | AQ6: =SUM(C6:AP6) -> 113990
B7: SECONDARY TOTAL AMOUNT | C7: =SUM(C6) -> 50000 | D7: =SUM(D6) -> 0 | E7: =SUM(E6) -> 15000 | F7: =SUM(F6) -> 5000 | G7: =SUM(G6) -> 1000 | H7: =SUM(H6) -> 1000 | I7: =SUM(I6) -> 25000 | J7: =SUM(J6) -> 0 | ... V7: =SUM(V6) -> 0 | AQ7: =SUM(AQ6) -> 113990
A8: अधीनस्थ स्कूल | C8: =C4 -> CSG SEC. GRANT | D8: =D4 -> CSG ELE.GRANT | E8: =E4 -> CRC GRANT | F8: =F4 -> MEETING AND TA GRANT | G8: =G4 -> TLM GRANT | H8: =H4 -> MOBILITY SPOT GRANT | I8: =I4 -> SEONDARY SPORTS GRANT | J8: =J4 -> ELEMENTRY SPORTS GRANT | ... AQ8: =AQ4 -> TOTAL RECEVED AMOUNT
A9: =MASTER!B8 -> 1 | B9: =MASTER!C8 -> GOVT UPPER PRIMARY SCHOOL, KANWARPURA | C9: 0 | D9: 10000 | E9: 0 | F9: 0 | G9: 0 | H9: 0 | I9: 0 | J9: 9000 | K9: 0 | L9: 300 | M9: 200 | N9: 200 | O9: 0 | P9: 10000 | Q9: 640 | R9: 500 | S9: 0 | T9: 500 | U9: 1000 | AQ9: =SUM(C9:AP9) -> 32340
A10: =MASTER!B9 -> 2 | B10: =MASTER!C9 -> GOVT UPPER PRIMARY SCHOOL, AMERT KHEDI | D10: 10000 | E10: 0 | F10: 0 | G10: 0 | H10: 0 | I10: 0 | J10: 9000 | K10: 0 | L10: 300 | M10: 200 | N10: 200 | O10: 0 | P10: 10000 | Q10: 640 | R10: 500 | S10: 0 | T10: 500 | U10: 1000 | AQ10: =SUM(C10:AP10) -> 32340
A11: =MASTER!B10 -> 3 | B11: =MASTER!C10 -> GOVT UPPER PRIMARY SCHOOL, HANUMAT KHEDA | D11: 10000 | E11: 0 | F11: 0 | G11: 0 | H11: 0 | I11: 0 | J11: 9000 | K11: 0 | L11: 300 | M11: 200 | N11: 200 | O11: 0 | P11: 10000 | Q11: 640 | R11: 500 | S11: 0 | T11: 500 | U11: 1000 | AQ11: =SUM(C11:AP11) -> 32340
A12: =MASTER!B11 -> 4 | B12: =MASTER!C11 -> GOVT UPPER PRIMARY SCHOOL, SODALHEDI | D12: 25000 | E12: 0 | F12: 0 | G12: 0 | H12: 0 | I12: 0 | J12: 9000 | K12: 0 | L12: 300 | M12: 200 | N12: 200 | O12: 0 | P12: 10000 | Q12: 640 | R12: 500 | S12: 0 | T12: 500 | U12: 1000 | AQ12: =SUM(C12:AP12) -> 47340
A13: =MASTER!B12 -> 5 | B13: =MASTER!C12 -> GOVT UPPER PRIMARY SCHOOL, SALPUR | D13: 25000 | E13: 0 | F13: 0 | G13: 0 | H13: 0 | I13: 0 | J13: 9000 | K13: 0 | L13: 300 | M13: 200 | N13: 200 | O13: 0 | P13: 10000 | Q13: 640 | R13: 500 | S13: 0 | T13: 500 | U13: 1000 | AQ13: =SUM(C13:AP13) -> 47340
A14: =MASTER!B13 -> 6 | B14: =MASTER!C13 -> MAA BADI DAY CARE CENTER, SALPURA | D14: 10000 | E14: 0 | F14: 0 | G14: 0 | H14: 0 | I14: 0 | J14: 5000 | K14: 0 | L14: 300 | M14: 200 | N14: 200 | O14: 0 | P14: 5000 | Q14: 640 | R14: 0 | S14: 0 | T14: 500 | U14: 1000 | AQ14: =SUM(C14:AP14) -> 22840
A15: =MASTER!B14 | B15: =MASTER!C14 -> 0 | AQ15: =SUM(C15:AP15) -> 0
A16: =MASTER!B15 | B16: =MASTER!C15 -> 0 | AQ16: =SUM(C16:AP16) -> 0
A17: =MASTER!B16 | B17: =MASTER!C16 -> 0 | AQ17: =SUM(C17:AP17) -> 0
A18: =MASTER!B17 | B18: =MASTER!C17 -> 0 | AQ18: =SUM(C18:AP18) -> 0
A19: =MASTER!B18 | B19: =MASTER!C18 -> 0 | AQ19: =SUM(C19:AP19) -> 0
A20: =MASTER!B19 | B20: =MASTER!C19 -> 0 | AQ20: =SUM(C20:AP20) -> 0
A21: =MASTER!B20 | B21: =MASTER!C20 -> 0 | AQ21: =SUM(C21:AP21) -> 0
A22: =MASTER!B21 | B22: =MASTER!C21 -> 0 | AQ22: =SUM(C22:AP22) -> 0
A23: =MASTER!B22 | B23: =MASTER!C22 -> 0 | AQ23: =SUM(C23:AP23) -> 0
A24: ELEMENTRY TOTAL AMOUNT | C24: =SUM(C9:C23) -> 0 | D24: =SUM(D9:D23) -> 90000 | E24: =SUM(E9:E23) -> 0 | F24: =SUM(F9:F23) -> 0 | G24: =SUM(G9:G23) -> 0 | H24: =SUM(H9:H23) -> 0 | I24: =SUM(I9:I23) -> 0 | J24: =SUM(J9:J23) -> 50000 | ... V24: =SUM(V9:V23) -> 0 | AQ24: =SUM(AQ9:AQ23) -> 214540
A25: GRAND TOTAL (SEC.+ELE.) | C25: =C7+C24 -> 50000 | D25: =D7+D24 -> 90000 | E25: =E7+E24 -> 15000 | F25: =F7+F24 -> 5000 | G25: =G7+G24 -> 1000 | H25: =H7+H24 -> 1000 | I25: =I7+I24 -> 25000 | J25: =J7+J24 -> 50000 | ... V25: =V7+V24 -> 0 | AQ25: =AQ7+AQ24 -> 328530

Sheet Order
A1: ='RECEIVED AMOUNT '!A1:AQ1 -> dk;kZy; jktdh; mPp ek/;fed fo|ky;] xksj/kuiqjk CykWd vV# ftyk ckjka
A2: dzekad%& | C2: 915 | E2: dk;kZy;&vkns'k | V2: fnukad%&
B3: jkT; ifj;kstuk funs'kd jktLFkku Ldwy f'k{kk ifj"kn t;iqj ds funsZ'kkuqlkj LFkkuh; dk;kZy;@ihbZbZvks@;wlhbZbZvks ds v/khu jkt-izkFkfed@mPp izkFkfed fo|ky;ksa dks eq[; CykWd f'k{kk vf/kdkjh lexz f'k{kk | V3: =MASTER!C3 -> vV#
B4: }kjk iznRr vkgj.k lhek@Hkqxrku Lohd`fr vuqlkj fofHkUu enksa esa muds uke ds lEeq[k vafdr jkf'k dks jkT; ifj;kstuk funs'kd jktLFkku Ldwy f'k{kk ifj"kn t;iqj ds fn'kkfunsZ'kkuqlkj O;; fd;s tkus dh ,rn~ }kjk Lohd`fr iznku dh
B5: vuqer jkf'k dh lhek esa O;; fd;s tkus ds mijkUr lapkyu iksVZy ls Hkqxrku fd;s tkus gsrw lHkh fcy@okmplZ dk izekf.kdj.k dj bl dk;kZy; dks fHktok;k tkuk lqfuf'pr djsa rkfd os.MlZ@csusfQljh dk le; ij Hkqxrku fd;k tk lds A
A6: SN | B6: SCHOOL NAME | C6: मदों के नाम
C7: =MASTER!H8 -> CSG SEC. GRANT | D7: =MASTER!H9 -> CSG ELE.GRANT | E7: =MASTER!H10 -> CRC GRANT | F7: =MASTER!H11 -> MEETING AND TA GRANT | G7: =MASTER!H12 -> TLM GRANT | H7: =MASTER!H13 -> MOBILITY SPOT GRANT | I7: =MASTER!H14 -> SEONDARY SPORTS GRANT | J7: =MASTER!H15 -> ELEMENTRY SPORTS GRANT | K7: =MASTER!H16 -> PEEO OLYMPIC GRANT | L7: =MASTER!H17 -> SAMUDAYIK JAGRATI | M7: =MASTER!H18 -> APNI LADO GRANT | N7: =MASTER!H19 -> BAAL SAMAROH | O7: =MASTER!H20 -> SPORT FOR MODAL GREEN SCHOOL GRANT | P7: =MASTER!H21 -> SAMAGRA VIKAS EVAM PARYAVARAN | Q7: =MASTER!H22 -> VOULENTERS TRAINING | R7: =MASTER!H23 -> EK BHARAT SURAKSHIT BHARAT ACTIVITY | S7: =MASTER!H24 -> GENDOR ACTIVITY KISHORI MELA | T7: =MASTER!H25 -> GENDOR ACTIVITY SURKSHA AVAM DIGITAL LEARNING | U7: =MASTER!H26 -> GENDOR ACTIVITY VIDHYALAY EVAM VATAVARAN | V7: =MASTER!H27 -> VOCATIONAL EDUCATION | W7: =MASTER!H28 -> 0 | X7: =MASTER!H29 -> 0 | Y7: =MASTER!H30 -> 0 | Z7: =MASTER!H31 -> 0 | AA7: =MASTER!H32 -> 0 | AB7: =MASTER!H33 -> 0 | AC7: =MASTER!H34 -> 0 | AD7: =MASTER!H35 -> 0 | AE7: =MASTER!H36 -> 0 | AF7: =MASTER!H37 -> 0 | AG7: =MASTER!H38 -> 0 | AH7: =MASTER!H39 -> 0 | AI7: =MASTER!H40 -> 0 | AJ7: =MASTER!H41 -> 0 | AK7: =MASTER!H42 -> 0 | AL7: =MASTER!H43 -> 0 | AM7: =MASTER!H44 -> 0 | AN7: =MASTER!H45 -> 0 | AO7: =MASTER!H46 -> 0 | AP7: =MASTER!H47 -> 0 | AQ7: TOTAL RECEVED AMOUNT
C8: 1 | D8: 2 | E8: 3 | F8: 4 | G8: 5 | H8: 6 | I8: 7 | J8: 8 | K8: 9 | L8: 10 | M8: 11 | N8: 12 | O8: 13 | P8: 14 | Q8: 15 | R8: 16 | S8: 17 | T8: 18 | U8: 19 | V8: 20 | W8: 21 | X8: 22 | Y8: 23 | Z8: 24 | AA8: 25 | AB8: 26 | AC8: 27 | AD8: 28 | AE8: 29 | AF8: 30 | AG8: 31 | AH8: 32 | AI8: 33 | AJ8: 34 | AK8: 35 | AL8: 36 | AM8: 37 | AN8: 38 | AO8: 39 | AP8: 40
A9: =IF(D9="","",ROWS($B$9:B9)) -> 1 | B9: =MASTER!C5 -> GOVT SR. SECONDARY SCHOOL, GORDHANPURA | C9: ='RECEIVED AMOUNT '!C6 -> 50000 | D9: ='RECEIVED AMOUNT '!D6 -> 0 | E9: ='RECEIVED AMOUNT '!E6 -> 15000 | F9: ='RECEIVED AMOUNT '!F6 -> 5000 | G9: ='RECEIVED AMOUNT '!G6 -> 1000 | H9: ='RECEIVED AMOUNT '!H6 -> 1000 | I9: ='RECEIVED AMOUNT '!I6 -> 25000 | J9: ='RECEIVED AMOUNT '!J6 -> 0 | ... AP9: ='RECEIVED AMOUNT '!AP6 -> 0 | AQ9: =SUM(C9:AP9) -> 113990
A10: =IF(D10="","",ROWS($B$9:B10)) -> 2 | B10: =MASTER!C8 -> GOVT UPPER PRIMARY SCHOOL, KANWARPURA | C10: ='RECEIVED AMOUNT '!C9 -> 0 | D10: ='RECEIVED AMOUNT '!D9 -> 10000 | E10: ='RECEIVED AMOUNT '!E9 -> 0 | F10: ='RECEIVED AMOUNT '!F9 -> 0 | G10: ='RECEIVED AMOUNT '!G9 -> 0 | H10: ='RECEIVED AMOUNT '!H9 -> 0 | I10: ='RECEIVED AMOUNT '!I9 -> 0 | J10: ='RECEIVED AMOUNT '!J9 -> 9000 | ... AP10: ='RECEIVED AMOUNT '!AP9 -> 0 | AQ10: =SUM(C10:AP10) -> 32340
A11: =IF(D11="","",ROWS($B$9:B11)) -> 3 | B11: =MASTER!C9 -> GOVT UPPER PRIMARY SCHOOL, AMERT KHEDI | C11: ='RECEIVED AMOUNT '!C10 -> 0 | D11: ='RECEIVED AMOUNT '!D10 -> 10000 | E11: ='RECEIVED AMOUNT '!E10 -> 0 | F11: ='RECEIVED AMOUNT '!F10 -> 0 | G11: ='RECEIVED AMOUNT '!G10 -> 0 | H11: ='RECEIVED AMOUNT '!H10 -> 0 | I11: ='RECEIVED AMOUNT '!I10 -> 0 | J11: ='RECEIVED AMOUNT '!J10 -> 9000 | ... AP11: ='RECEIVED AMOUNT '!AP10 -> 0 | AQ11: =SUM(C11:AP11) -> 32340
A12: =IF(D12="","",ROWS($B$9:B12)) -> 4 | B12: =MASTER!C10 -> GOVT UPPER PRIMARY SCHOOL, HANUMAT KHEDA | C12: ='RECEIVED AMOUNT '!C11 -> 0 | D12: ='RECEIVED AMOUNT '!D11 -> 10000 | E12: ='RECEIVED AMOUNT '!E11 -> 0 | F12: ='RECEIVED AMOUNT '!F11 -> 0 | G12: ='RECEIVED AMOUNT '!G11 -> 0 | H12: ='RECEIVED AMOUNT '!H11 -> 0 | I12: ='RECEIVED AMOUNT '!I11 -> 0 | J12: ='RECEIVED AMOUNT '!J11 -> 9000 | ... AP12: ='RECEIVED AMOUNT '!AP11 -> 0 | AQ12: =SUM(C12:AP12) -> 32340
A13: =IF(D13="","",ROWS($B$9:B13)) -> 5 | B13: =MASTER!C11 -> GOVT UPPER PRIMARY SCHOOL, SODALHEDI | C13: ='RECEIVED AMOUNT '!C12 -> 0 | D13: ='RECEIVED AMOUNT '!D12 -> 25000 | E13: ='RECEIVED AMOUNT '!E12 -> 0 | F13: ='RECEIVED AMOUNT '!F12 -> 0 | G13: ='RECEIVED AMOUNT '!G12 -> 0 | H13: ='RECEIVED AMOUNT '!H12 -> 0 | I13: ='RECEIVED AMOUNT '!I12 -> 0 | J13: ='RECEIVED AMOUNT '!J12 -> 9000 | ... AP13: ='RECEIVED AMOUNT '!AP12 -> 0 | AQ13: =SUM(C13:AP13) -> 47340
A14: =IF(D14="","",ROWS($B$9:B14)) -> 6 | B14: =MASTER!C12 -> GOVT UPPER PRIMARY SCHOOL, SALPUR | C14: ='RECEIVED AMOUNT '!C13 -> 0 | D14: ='RECEIVED AMOUNT '!D13 -> 25000 | E14: ='RECEIVED AMOUNT '!E13 -> 0 | F14: ='RECEIVED AMOUNT '!F13 -> 0 | G14: ='RECEIVED AMOUNT '!G13 -> 0 | H14: ='RECEIVED AMOUNT '!H13 -> 0 | I14: ='RECEIVED AMOUNT '!I13 -> 0 | J14: ='RECEIVED AMOUNT '!J13 -> 9000 | ... AP14: ='RECEIVED AMOUNT '!AP13 -> 0 | AQ14: =SUM(C14:AP14) -> 47340
A15: =IF(D15="","",ROWS($B$9:B15)) -> 7 | B15: =MASTER!C13 -> MAA BADI DAY CARE CENTER, SALPURA | C15: ='RECEIVED AMOUNT '!C14 -> 0 | D15: ='RECEIVED AMOUNT '!D14 -> 10000 | E15: ='RECEIVED AMOUNT '!E14 -> 0 | F15: ='RECEIVED AMOUNT '!F14 -> 0 | G15: ='RECEIVED AMOUNT '!G14 -> 0 | H15: ='RECEIVED AMOUNT '!H14 -> 0 | I15: ='RECEIVED AMOUNT '!I14 -> 0 | J15: ='RECEIVED AMOUNT '!J14 -> 5000 | ... AP15: ='RECEIVED AMOUNT '!AP14 -> 0 | AQ15: =SUM(C15:AP15) -> 22840
A16: =IF(D16="","",ROWS($B$9:B16)) -> 8 | B16: =MASTER!C14 -> 0 | C16: ='RECEIVED AMOUNT '!C15 -> 0 | D16: ='RECEIVED AMOUNT '!D15 -> 0 | E16: ='RECEIVED AMOUNT '!E15 -> 0 | F16: ='RECEIVED AMOUNT '!F15 -> 0 | G16: ='RECEIVED AMOUNT '!G15 -> 0 | H16: ='RECEIVED AMOUNT '!H15 -> 0 | I16: ='RECEIVED AMOUNT '!I15 -> 0 | J16: ='RECEIVED AMOUNT '!J15 -> 0 | ... AP16: ='RECEIVED AMOUNT '!AP15 -> 0 | AQ16: =SUM(C16:AP16) -> 0
A17: =IF(D17="","",ROWS($B$9:B17)) -> 9 | B17: =MASTER!C15 -> 0 | C17: ='RECEIVED AMOUNT '!C16 -> 0 | D17: ='RECEIVED AMOUNT '!D16 -> 0 | E17: ='RECEIVED AMOUNT '!E16 -> 0 | F17: ='RECEIVED AMOUNT '!F16 -> 0 | G17: ='RECEIVED AMOUNT '!G16 -> 0 | H17: ='RECEIVED AMOUNT '!H16 -> 0 | I17: ='RECEIVED AMOUNT '!I16 -> 0 | J17: ='RECEIVED AMOUNT '!J16 -> 0 | ... AP17: ='RECEIVED AMOUNT '!AP16 -> 0 | AQ17: =SUM(C17:AP17) -> 0
A18: =IF(D18="","",ROWS($B$9:B18)) -> 10 | B18: =MASTER!C16 -> 0 | C18: ='RECEIVED AMOUNT '!C17 -> 0 | D18: ='RECEIVED AMOUNT '!D17 -> 0 | E18: ='RECEIVED AMOUNT '!E17 -> 0 | F18: ='RECEIVED AMOUNT '!F17 -> 0 | G18: ='RECEIVED AMOUNT '!G17 -> 0 | H18: ='RECEIVED AMOUNT '!H17 -> 0 | I18: ='RECEIVED AMOUNT '!I17 -> 0 | J18: ='RECEIVED AMOUNT '!J17 -> 0 | ... AP18: ='RECEIVED AMOUNT '!AP17 -> 0 | AQ18: =SUM(C18:AP18) -> 0
A19: =IF(D19="","",ROWS($B$9:B19)) -> 11 | B19: =MASTER!C17 -> 0 | C19: ='RECEIVED AMOUNT '!C18 -> 0 | D19: ='RECEIVED AMOUNT '!D18 -> 0 | E19: ='RECEIVED AMOUNT '!E18 -> 0 | F19: ='RECEIVED AMOUNT '!F18 -> 0 | G19: ='RECEIVED AMOUNT '!G18 -> 0 | H19: ='RECEIVED AMOUNT '!H18 -> 0 | I19: ='RECEIVED AMOUNT '!I18 -> 0 | J19: ='RECEIVED AMOUNT '!J18 -> 0 | ... AP19: ='RECEIVED AMOUNT '!AP18 -> 0 | AQ19: =SUM(C19:AP19) -> 0
A20: =IF(D20="","",ROWS($B$9:B20)) -> 12 | B20: =MASTER!C18 -> 0 | C20: ='RECEIVED AMOUNT '!C19 -> 0 | D20: ='RECEIVED AMOUNT '!D19 -> 0 | E20: ='RECEIVED AMOUNT '!E19 -> 0 | F20: ='RECEIVED AMOUNT '!F19 -> 0 | G20: ='RECEIVED AMOUNT '!G19 -> 0 | H20: ='RECEIVED AMOUNT '!H19 -> 0 | I20: ='RECEIVED AMOUNT '!I19 -> 0 | J20: ='RECEIVED AMOUNT '!J19 -> 0 | ... AP20: ='RECEIVED AMOUNT '!AP19 -> 0 | AQ20: =SUM(C20:AP20) -> 0
A21: =IF(D21="","",ROWS($B$9:B21)) -> 13 | B21: =MASTER!C19 -> 0 | C21: ='RECEIVED AMOUNT '!C20 -> 0 | D21: ='RECEIVED AMOUNT '!D20 -> 0 | E21: ='RECEIVED AMOUNT '!E20 -> 0 | F21: ='RECEIVED AMOUNT '!F20 -> 0 | G21: ='RECEIVED AMOUNT '!G20 -> 0 | H21: ='RECEIVED AMOUNT '!H20 -> 0 | I21: ='RECEIVED AMOUNT '!I20 -> 0 | J21: ='RECEIVED AMOUNT '!J20 -> 0 | ... AP21: ='RECEIVED AMOUNT '!AP20 -> 0 | AQ21: =SUM(C21:AP21) -> 0
... A23: =IF(D23="","",ROWS($B$9:B23)) -> 15 | B23: =MASTER!C21 -> 0 | C23: ='RECEIVED AMOUNT '!C22 -> 0 | D23: ='RECEIVED AMOUNT '!D22 -> 0 | E23: ='RECEIVED AMOUNT '!E22 -> 0 | F23: ='RECEIVED AMOUNT '!F22 -> 0 | G23: ='RECEIVED AMOUNT '!G22 -> 0 | H23: ='RECEIVED AMOUNT '!H22 -> 0 | I23: ='RECEIVED AMOUNT '!I22 -> 0 | J23: ='RECEIVED AMOUNT '!J22 -> 0 | ... AP23: ='RECEIVED AMOUNT '!AP22 -> 0 | AQ23: =SUM(C23:AP23) -> 0
A24: GRAND TOTAL | C24: =SUM(C9:C23) -> 50000 | D24: =SUM(D9:D23) -> 90000 | E24: =SUM(E9:E23) -> 15000 | F24: =SUM(F9:F23) -> 5000 | G24: =SUM(G9:G23) -> 1000 | H24: =SUM(H9:H23) -> 1000 | I24: =SUM(I9:I23) -> 25000 | J24: =SUM(J9:J23) -> 50000 | ... AQ24: =SUM(AQ9:AQ23) -> 328530
AK26: iz/kkukpk;Z
AK27: =MASTER!C2 -> jktdh; mPp ek/;fed fo|ky;] xksj/kuiqjk
AK28: =CONCATENATE(MASTER!B3," ",MASTER!C3," ",MASTER!B4," ",MASTER!C4) -> CykWd vV# ftyk ckjka
A29: dzekad%& | C29: 915 | AK29: fnukad%&
B31: izfrfyfi lwpukFkZ&
A32: 1 | B32: lacaf/kr fo|ky;@dk;kZy;-----------------
A33: 2 | B33: LFkkuh; jksdM@ys[kk 'kk[kk
A34: 3 | B34: dk;kZy; izfr
AK36: iz/kkukpk;Z
AK37: =AK27 -> jktdh; mPp ek/;fed fo|ky;] xksj/kuiqjk
AK38: =AK28 -> CykWd vV# ftyk ckjka

Sheet Demand
C1: ='RECEIVED AMOUNT '!A1 -> dk;kZy; jktdh; mPp ek/;fed fo|ky;] xksj/kuiqjk CykWd vV# ftyk ckjka
C3: ekax i= vuqlkj Hkqxrku vkns'k tkjh djus gsrq lwpuk ;gka Hkjs
C4: dz-la- | D4: fo|ky; dk uke | E4: en | F4: QeZ@O;fDr laLFkk dk uke ¼ftls Hkqxrku fd;k tkuk gS½ | G4: eksckbZy ua0 | H4: cSad [kkrk | I4: IFSC CODE | J4: chtd la[;k o fnukad | K4: jkf'k | L4: mi;ksx dk fooj.k
A5: =IF(B5="","",B5&"_"&COUNTIF($B$5:$B5,B5)) -> GOVT UPPER PRIMARY SCHOOL, KANWARPURA_1 | B5: =D5 -> GOVT UPPER PRIMARY SCHOOL, KANWARPURA | C5: =IF(D5="","",ROWS($E$5:E5)) -> 1 | D5: GOVT UPPER PRIMARY SCHOOL, KANWARPURA | E5: CSG ELE.GRANT | F5: MANU ZEROX AND STATIONERS, KAWAI | G5: 9784379510 | H5: 61188986700 | I5: SBIN0032012 | J5: 122/28.12.2022 | K5: 10000 | L5: Mobility Support | O5: =MASTER!C5 -> GOVT SR. SECONDARY SCHOOL, GORDHANPURA | Q5: =MASTER!H8 -> CSG SEC. GRANT
A6: =IF(B6="","",B6&"_"&COUNTIF($B$5:$B6,B6)) -> GOVT UPPER PRIMARY SCHOOL, KANWARPURA_2 | B6: =D6 -> GOVT UPPER PRIMARY SCHOOL, KANWARPURA | C6: =IF(D6="","",ROWS($E$5:E6)) -> 2 | D6: GOVT UPPER PRIMARY SCHOOL, KANWARPURA | E6: CSG ELE.GRANT | F6: MANU ZEROX AND STATIONERS, KAWAI | G6: 9784379510 | H6: 57070100000090 | I6: SBIN0032012 | J6: 122/28.12.2022 | K6: 15000 | L6: Mobility Support | O6: =MASTER!C8 -> GOVT UPPER PRIMARY SCHOOL, KANWARPURA | Q6: =MASTER!H9 -> CSG ELE.GRANT
A7: =IF(B7="","",B7&"_"&COUNTIF($B$5:$B7,B7)) -> 0_1 | B7: =D7 -> 0 | C7: =IF(D7="","",ROWS($E$5:E7)) | O7: =MASTER!C9 -> GOVT UPPER PRIMARY SCHOOL, AMERT KHEDI | Q7: =MASTER!H10 -> CRC GRANT
A8: =IF(B8="","",B8&"_"&COUNTIF($B$5:$B8,B8)) -> 0_2 | B8: =D8 -> 0 | C8: =IF(D8="","",ROWS($E$5:E8)) | O8: =MASTER!C10 -> GOVT UPPER PRIMARY SCHOOL, HANUMAT KHEDA | Q8: =MASTER!H11 -> MEETING AND TA GRANT
A9: =IF(B9="","",B9&"_"&COUNTIF($B$5:$B9,B9)) -> 0_3 | B9: =D9 -> 0 | C9: =IF(D9="","",ROWS($E$5:E9)) | O9: =MASTER!C11 -> GOVT UPPER PRIMARY SCHOOL, SODALHEDI | Q9: =MASTER!H12 -> TLM GRANT
A10: =IF(B10="","",B10&"_"&COUNTIF($B$5:$B10,B10)) -> 0_4 | B10: =D10 -> 0 | C10: =IF(D10="","",ROWS($E$5:E10)) | O10: =MASTER!C12 -> GOVT UPPER PRIMARY SCHOOL, SALPUR | Q10: =MASTER!H13 -> MOBILITY SPOT GRANT
A11: =IF(B11="","",B11&"_"&COUNTIF($B$5:$B11,B11)) -> 0_5 | B11: =D11 -> 0 | C11: =IF(D11="","",ROWS($E$5:E11)) | O11: =MASTER!C13 -> MAA BADI DAY CARE CENTER, SALPURA | Q11: =MASTER!H14 -> SEONDARY SPORTS GRANT
A12: =IF(B12="","",B12&"_"&COUNTIF($B$5:$B12,B12)) -> 0_6 | B12: =D12 -> 0 | C12: =IF(D12="","",ROWS($E$5:E12)) | O12: =MASTER!C14 -> 0 | Q12: =MASTER!H15 -> ELEMENTRY SPORTS GRANT
A13: =IF(B13="","",B13&"_"&COUNTIF($B$5:$B13,B13)) -> 0_7 | B13: =D13 -> 0 | C13: =IF(D13="","",ROWS($E$5:E13)) | O13: =MASTER!C15 -> 0 | Q13: =MASTER!H16 -> PEEO OLYMPIC GRANT
A14: =IF(B14="","",B14&"_"&COUNTIF($B$5:$B14,B14)) -> 0_8 | B14: =D14 -> 0 | C14: =IF(D14="","",ROWS($E$5:E14)) | O14: =MASTER!C16 -> 0 | Q14: =MASTER!H17 -> SAMUDAYIK JAGRATI
A15: =IF(B15="","",B15&"_"&COUNTIF($B$5:$B15,B15)) -> 0_9 | B15: =D15 -> 0 | C15: =IF(D15="","",ROWS($E$5:E15)) | O15: =MASTER!C17 -> 0 | Q15: =MASTER!H18 -> APNI LADO GRANT
A16: =IF(B16="","",B16&"_"&COUNTIF($B$5:$B16,B16)) -> 0_10 | B16: =D16 -> 0 | C16: =IF(D16="","",ROWS($E$5:E16)) | O16: =MASTER!C18 -> 0 | Q16: =MASTER!H19 -> BAAL SAMAROH
A17: =IF(B17="","",B17&"_"&COUNTIF($B$5:$B17,B17)) -> 0_11 | B17: =D17 -> 0 | C17: =IF(D17="","",ROWS($E$5:E17)) | O17: =MASTER!C19 -> 0 | Q17: =MASTER!H20 -> SPORT FOR MODAL GREEN SCHOOL GRANT
A18: =IF(B18="","",B18&"_"&COUNTIF($B$5:$B18,B18)) -> 0_12 | B18: =D18 -> 0 | C18: =IF(D18="","",ROWS($E$5:E18)) | O18: =MASTER!C20 -> 0 | Q18: =MASTER!H21 -> SAMAGRA VIKAS EVAM PARYAVARAN
... A20: =IF(B20="","",B20&"_"&COUNTIF($B$5:$B20,B20)) -> 0_14 | B20: =D20 -> 0 | C20: =IF(D20="","",ROWS($E$5:E20)) | O20: =MASTER!C22 -> 0 | Q20: =MASTER!H23 -> EK BHARAT SURAKSHIT BHARAT ACTIVITY
A21: =IF(B21="","",B21&"_"&COUNTIF($B$5:$B21,B21)) -> 0_15 | B21: =D21 -> 0 | C21: =IF(D21="","",ROWS($E$5:E21)) | Q21: =MASTER!H24 -> GENDOR ACTIVITY KISHORI MELA
A22: =IF(B22="","",B22&"_"&COUNTIF($B$5:$B22,B22)) -> 0_16 | B22: =D22 -> 0 | C22: =IF(D22="","",ROWS($E$5:E22)) | Q22: =MASTER!H25 -> GENDOR ACTIVITY SURKSHA AVAM DIGITAL LEARNING
A23: =IF(B23="","",B23&"_"&COUNTIF($B$5:$B23,B23)) -> 0_17 | B23: =D23 -> 0 | C23: =IF(D23="","",ROWS($E$5:E23)) | Q23: =MASTER!H26 -> GENDOR ACTIVITY VIDHYALAY EVAM VATAVARAN
A24: =IF(B24="","",B24&"_"&COUNTIF($B$5:$B24,B24)) -> 0_18 | B24: =D24 -> 0 | C24: =IF(D24="","",ROWS($E$5:E24)) | Q24: =MASTER!H27 -> VOCATIONAL EDUCATION
A25: =IF(B25="","",B25&"_"&COUNTIF($B$5:$B25,B25)) -> 0_19 | B25: =D25 -> 0 | C25: =IF(D25="","",ROWS($E$5:E25)) | Q25: =MASTER!H28 -> 0
A26: =IF(B26="","",B26&"_"&COUNTIF($B$5:$B26,B26)) -> 0_20 | B26: =D26 -> 0 | C26: =IF(D26="","",ROWS($E$5:E26)) | Q26: =MASTER!H29 -> 0
A27: =IF(B27="","",B27&"_"&COUNTIF($B$5:$B27,B27)) -> 0_21 | B27: =D27 -> 0 | C27: =IF(D27="","",ROWS($E$5:E27)) | Q27: =MASTER!H30 -> 0
A28: =IF(B28="","",B28&"_"&COUNTIF($B$5:$B28,B28)) -> 0_22 | B28: =D28 -> 0 | C28: =IF(D28="","",ROWS($E$5:E28)) | Q28: =MASTER!H31 -> 0
A29: =IF(B29="","",B29&"_"&COUNTIF($B$5:$B29,B29)) -> 0_23 | B29: =D29 -> 0 | C29: =IF(D29="","",ROWS($E$5:E29)) | Q29: =MASTER!H32 -> 0
A30: =IF(B30="","",B30&"_"&COUNTIF($B$5:$B30,B30)) -> 0_24 | B30: =D30 -> 0 | C30: =IF(D30="","",ROWS($E$5:E30)) | Q30: =MASTER!H33 -> 0
A31: =IF(B31="","",B31&"_"&COUNTIF($B$5:$B31,B31)) -> 0_25 | B31: =D31 -> 0 | C31: =IF(D31="","",ROWS($E$5:E31)) | Q31: =MASTER!H34 -> 0
A32: =IF(B32="","",B32&"_"&COUNTIF($B$5:$B32,B32)) -> 0_26 | B32: =D32 -> 0 | C32: =IF(D32="","",ROWS($E$5:E32)) | Q32: =MASTER!H35 -> 0
... A44: =IF(B44="","",B44&"_"&COUNTIF($B$5:$B44,B44)) -> 0_38 | B44: =D44 -> 0 | C44: =IF(D44="","",ROWS($E$5:E44)) | Q44: =MASTER!H47 -> 0
A45: =IF(B45="","",B45&"_"&COUNTIF($B$5:$B45,B45)) -> 0_39 | B45: =D45 -> 0 | C45: =IF(D45="","",ROWS($E$5:E45))
A46: =IF(B46="","",B46&"_"&COUNTIF($B$5:$B46,B46)) -> 0_40 | B46: =D46 -> 0 | C46: =IF(D46="","",ROWS($E$5:E46))
A47: =IF(B47="","",B47&"_"&COUNTIF($B$5:$B47,B47)) -> 0_41 | B47: =D47 -> 0 | C47: =IF(D47="","",ROWS($E$5:E47))
A48: =IF(B48="","",B48&"_"&COUNTIF($B$5:$B48,B48)) -> 0_42 | B48: =D48 -> 0 | C48: =IF(D48="","",ROWS($E$5:E48))
A49: =IF(B49="","",B49&"_"&COUNTIF($B$5:$B49,B49)) -> 0_43 | B49: =D49 -> 0 | C49: =IF(D49="","",ROWS($E$5:E49))
A50: =IF(B50="","",B50&"_"&COUNTIF($B$5:$B50,B50)) -> 0_44 | B50: =D50 -> 0 | C50: =IF(D50="","",ROWS($E$5:E50))
A51: =IF(B51="","",B51&"_"&COUNTIF($B$5:$B51,B51)) -> 0_45 | B51: =D51 -> 0 | C51: =IF(D51="","",ROWS($E$5:E51))
A52: =IF(B52="","",B52&"_"&COUNTIF($B$5:$B52,B52)) -> 0_46 | B52: =D52 -> 0 | C52: =IF(D52="","",ROWS($E$5:E52))
A53: =IF(B53="","",B53&"_"&COUNTIF($B$5:$B53,B53)) -> 0_47 | B53: =D53 -> 0 | C53: =IF(D53="","",ROWS($E$5:E53))
A54: =IF(B54="","",B54&"_"&COUNTIF($B$5:$B54,B54)) -> 0_48 | B54: =D54 -> 0 | C54: =IF(D54="","",ROWS($E$5:E54))
A55: =IF(B55="","",B55&"_"&COUNTIF($B$5:$B55,B55)) -> 0_49 | B55: =D55 -> 0 | C55: =IF(D55="","",ROWS($E$5:E55))
A56: =IF(B56="","",B56&"_"&COUNTIF($B$5:$B56,B56)) -> 0_50 | B56: =D56 -> 0 | C56: =IF(D56="","",ROWS($E$5:E56))
... A204: =IF(B204="","",B204&"_"&COUNTIF($B$5:$B204,B204)) -> 0_198 | B204: =D204 -> 0 | C204: =IF(D204="","",ROWS($E$5:E204))

Sheet Pay Sanction
B1: ='RECEIVED AMOUNT '!A1 -> dk;kZy; jktdh; mPp ek/;fed fo|ky;] xksj/kuiqjk CykWd vV# ftyk ckjka
B2: dzekad%& | H2: fnukad%&
B3: dk;kZy; vkns'k
B5: jktLFkku Ldwy f’k{kk ifj"kn t;iqj }kjk iznRr funsZ’kkuqlkj lapkyu iksVZy ls Hkqxrku fd;s tkus ds izfdz;k ds vUrxZr LFkkuh; fo|ky;@
B6: v/kksgLrk{kjdrkZ ds fu;a=.kk/khu ¼ihbZbZvks v/khu laLFkk dk uke½ | F6: GOVT UPPER PRIMARY SCHOOL, KANWARPURA
B7: ds fuEu fcykas dks lEcfU/kr laLFkk gsrq tkjh en eas tkjh lapkyu iksVZy fyfeV ls lEcfU/kr oasMj@csfufQf’k;jh dks Hkqxrku fd;s tkus tkus dh Lohd`fr iznku dh tkrh gSA
B8: dz0la0 | C8: QeZ@O;fDr laLFkk dk uke ¼ftls Hkqxrku fd;k tkuk gS½ | D8: eksckbZy ua0 | E8: cSad [kkrk | F8: IFSC CODE | G8: chtd la[;k o fnukad | H8: jkf'k | I8: mi;ksx dk fooj.k
A9: 1 | B9: =IF(C9="","",ROWS($C$9:C9)) -> 1 | C9: =IFERROR(VLOOKUP($F$6&"_"&$A9,Demand!A4:M204,6,0),"") -> MANU ZEROX AND STATIONERS, KAWAI | D9: =IFERROR(VLOOKUP($F$6&"_"&$A9,Demand!A4:M204,7,0),"") -> 9784379510 | E9: =IFERROR(VLOOKUP($F$6&"_"&$A9,Demand!A4:M204,8,0),"") -> 61188986700 | F9: =IFERROR(VLOOKUP($F$6&"_"&$A9,Demand!A4:M204,9,0),"") -> SBIN0032012 | G9: =IFERROR(VLOOKUP($F$6&"_"&$A9,Demand!A4:M204,10,0),"") -> 122/28.12.2022 | H9: =IFERROR(VLOOKUP($F$6&"_"&$A9,Demand!A4:M204,11,0),"") -> 10000 | I9: =IFERROR(VLOOKUP($F$6&"_"&$A9,Demand!A4:M204,5,0),"") -> CSG ELE.GRANT | K9: =MASTER!C5 -> GOVT SR. SECONDARY SCHOOL, GORDHANPURA
A10: 2 | B10: =IF(C10="","",ROWS($C$9:C10)) -> 2 | C10: =IFERROR(VLOOKUP($F$6&"_"&$A10,Demand!A5:M205,6,0),"") -> MANU ZEROX AND STATIONERS, KAWAI | D10: =IFERROR(VLOOKUP($F$6&"_"&$A10,Demand!A5:M205,7,0),"") -> 9784379510 | E10: =IFERROR(VLOOKUP($F$6&"_"&$A10,Demand!A5:M205,8,0),"") -> 57070100000090 | F10: =IFERROR(VLOOKUP($F$6&"_"&$A10,Demand!A5:M205,9,0),"") -> SBIN0032012 | G10: =IFERROR(VLOOKUP($F$6&"_"&$A10,Demand!A5:M205,10,0),"") -> 122/28.12.2022 | H10: =IFERROR(VLOOKUP($F$6&"_"&$A10,Demand!A5:M205,11,0),"") -> 15000 | I10: =IFERROR(VLOOKUP($F$6&"_"&$A10,Demand!A5:M205,5,0),"") -> CSG ELE.GRANT | K10: =MASTER!C8 -> GOVT UPPER PRIMARY SCHOOL, KANWARPURA
A11: 3 | B11: =IF(C11="","",ROWS($C$9:C11)) | C11: =IFERROR(VLOOKUP($F$6&"_"&$A11,Demand!A6:M206,6,0),"") | D11: =IFERROR(VLOOKUP($F$6&"_"&$A11,Demand!A6:M206,7,0),"") | E11: =IFERROR(VLOOKUP($F$6&"_"&$A11,Demand!A6:M206,8,0),"") | F11: =IFERROR(VLOOKUP($F$6&"_"&$A11,Demand!A6:M206,9,0),"") | G11: =IFERROR(VLOOKUP($F$6&"_"&$A11,Demand!A6:M206,10,0),"") | H11: =IFERROR(VLOOKUP($F$6&"_"&$A11,Demand!A6:M206,11,0),"") | I11: =IFERROR(VLOOKUP($F$6&"_"&$A11,Demand!A6:M206,5,0),"") | K11: =MASTER!C9 -> GOVT UPPER PRIMARY SCHOOL, AMERT KHEDI
A12: 4 | B12: =IF(C12="","",ROWS($C$9:C12)) | C12: =IFERROR(VLOOKUP($F$6&"_"&$A12,Demand!A7:M207,6,0),"") | D12: =IFERROR(VLOOKUP($F$6&"_"&$A12,Demand!A7:M207,7,0),"") | E12: =IFERROR(VLOOKUP($F$6&"_"&$A12,Demand!A7:M207,8,0),"") | F12: =IFERROR(VLOOKUP($F$6&"_"&$A12,Demand!A7:M207,9,0),"") | G12: =IFERROR(VLOOKUP($F$6&"_"&$A12,Demand!A7:M207,10,0),"") | H12: =IFERROR(VLOOKUP($F$6&"_"&$A12,Demand!A7:M207,11,0),"") | I12: =IFERROR(VLOOKUP($F$6&"_"&$A12,Demand!A7:M207,5,0),"") | K12: =MASTER!C10 -> GOVT UPPER PRIMARY SCHOOL, HANUMAT KHEDA
A13: 5 | B13: =IF(C13="","",ROWS($C$9:C13)) | C13: =IFERROR(VLOOKUP($F$6&"_"&$A13,Demand!A8:M208,6,0),"") | D13: =IFERROR(VLOOKUP($F$6&"_"&$A13,Demand!A8:M208,7,0),"") | E13: =IFERROR(VLOOKUP($F$6&"_"&$A13,Demand!A8:M208,8,0),"") | F13: =IFERROR(VLOOKUP($F$6&"_"&$A13,Demand!A8:M208,9,0),"") | G13: =IFERROR(VLOOKUP($F$6&"_"&$A13,Demand!A8:M208,10,0),"") | H13: =IFERROR(VLOOKUP($F$6&"_"&$A13,Demand!A8:M208,11,0),"") | I13: =IFERROR(VLOOKUP($F$6&"_"&$A13,Demand!A8:M208,5,0),"") | K13: =MASTER!C11 -> GOVT UPPER PRIMARY SCHOOL, SODALHEDI
A14: 6 | B14: =IF(C14="","",ROWS($C$9:C14)) | C14: =IFERROR(VLOOKUP($F$6&"_"&$A14,Demand!A9:M209,6,0),"") | D14: =IFERROR(VLOOKUP($F$6&"_"&$A14,Demand!A9:M209,7,0),"") | E14: =IFERROR(VLOOKUP($F$6&"_"&$A14,Demand!A9:M209,8,0),"") | F14: =IFERROR(VLOOKUP($F$6&"_"&$A14,Demand!A9:M209,9,0),"") | G14: =IFERROR(VLOOKUP($F$6&"_"&$A14,Demand!A9:M209,10,0),"") | H14: =IFERROR(VLOOKUP($F$6&"_"&$A14,Demand!A9:M209,11,0),"") | I14: =IFERROR(VLOOKUP($F$6&"_"&$A14,Demand!A9:M209,5,0),"") | K14: =MASTER!C12 -> GOVT UPPER PRIMARY SCHOOL, SALPUR
A15: 7 | B15: =IF(C15="","",ROWS($C$9:C15)) | C15: =IFERROR(VLOOKUP($F$6&"_"&$A15,Demand!A10:M210,6,0),"") | D15: =IFERROR(VLOOKUP($F$6&"_"&$A15,Demand!A10:M210,7,0),"") | E15: =IFERROR(VLOOKUP($F$6&"_"&$A15,Demand!A10:M210,8,0),"") | F15: =IFERROR(VLOOKUP($F$6&"_"&$A15,Demand!A10:M210,9,0),"") | G15: =IFERROR(VLOOKUP($F$6&"_"&$A15,Demand!A10:M210,10,0),"") | H15: =IFERROR(VLOOKUP($F$6&"_"&$A15,Demand!A10:M210,11,0),"") | I15: =IFERROR(VLOOKUP($F$6&"_"&$A15,Demand!A10:M210,5,0),"") | K15: =MASTER!C13 -> MAA BADI DAY CARE CENTER, SALPURA
A16: 8 | B16: =IF(C16="","",ROWS($C$9:C16)) | C16: =IFERROR(VLOOKUP($F$6&"_"&$A16,Demand!A11:M211,6,0),"") | D16: =IFERROR(VLOOKUP($F$6&"_"&$A16,Demand!A11:M211,7,0),"") | E16: =IFERROR(VLOOKUP($F$6&"_"&$A16,Demand!A11:M211,8,0),"") | F16: =IFERROR(VLOOKUP($F$6&"_"&$A16,Demand!A11:M211,9,0),"") | G16: =IFERROR(VLOOKUP($F$6&"_"&$A16,Demand!A11:M211,10,0),"") | H16: =IFERROR(VLOOKUP($F$6&"_"&$A16,Demand!A11:M211,11,0),"") | I16: =IFERROR(VLOOKUP($F$6&"_"&$A16,Demand!A11:M211,5,0),"") | K16: =MASTER!C14 -> 0
A17: 9 | B17: =IF(C17="","",ROWS($C$9:C17)) | C17: =IFERROR(VLOOKUP($F$6&"_"&$A17,Demand!A12:M212,6,0),"") | D17: =IFERROR(VLOOKUP($F$6&"_"&$A17,Demand!A12:M212,7,0),"") | E17: =IFERROR(VLOOKUP($F$6&"_"&$A17,Demand!A12:M212,8,0),"") | F17: =IFERROR(VLOOKUP($F$6&"_"&$A17,Demand!A12:M212,9,0),"") | G17: =IFERROR(VLOOKUP($F$6&"_"&$A17,Demand!A12:M212,10,0),"") | H17: =IFERROR(VLOOKUP($F$6&"_"&$A17,Demand!A12:M212,11,0),"") | I17: =IFERROR(VLOOKUP($F$6&"_"&$A17,Demand!A12:M212,5,0),"") | K17: =MASTER!C15 -> 0
A18: 10 | B18: =IF(C18="","",ROWS($C$9:C18)) | C18: =IFERROR(VLOOKUP($F$6&"_"&$A18,Demand!A13:M213,6,0),"") | D18: =IFERROR(VLOOKUP($F$6&"_"&$A18,Demand!A13:M213,7,0),"") | E18: =IFERROR(VLOOKUP($F$6&"_"&$A18,Demand!A13:M213,8,0),"") | F18: =IFERROR(VLOOKUP($F$6&"_"&$A18,Demand!A13:M213,9,0),"") | G18: =IFERROR(VLOOKUP($F$6&"_"&$A18,Demand!A13:M213,10,0),"") | H18: =IFERROR(VLOOKUP($F$6&"_"&$A18,Demand!A13:M213,11,0),"") | I18: =IFERROR(VLOOKUP($F$6&"_"&$A18,Demand!A13:M213,5,0),"") | K18: =MASTER!C16 -> 0
A19: 11 | B19: =IF(C19="","",ROWS($C$9:C19)) | C19: =IFERROR(VLOOKUP($F$6&"_"&$A19,Demand!A14:M214,6,0),"") | D19: =IFERROR(VLOOKUP($F$6&"_"&$A19,Demand!A14:M214,7,0),"") | E19: =IFERROR(VLOOKUP($F$6&"_"&$A19,Demand!A14:M214,8,0),"") | F19: =IFERROR(VLOOKUP($F$6&"_"&$A19,Demand!A14:M214,9,0),"") | G19: =IFERROR(VLOOKUP($F$6&"_"&$A19,Demand!A14:M214,10,0),"") | H19: =IFERROR(VLOOKUP($F$6&"_"&$A19,Demand!A14:M214,11,0),"") | I19: =IFERROR(VLOOKUP($F$6&"_"&$A19,Demand!A14:M214,5,0),"") | K19: =MASTER!C17 -> 0
A20: 12 | B20: =IF(C20="","",ROWS($C$9:C20)) | C20: =IFERROR(VLOOKUP($F$6&"_"&$A20,Demand!A15:M215,6,0),"") | D20: =IFERROR(VLOOKUP($F$6&"_"&$A20,Demand!A15:M215,7,0),"") | E20: =IFERROR(VLOOKUP($F$6&"_"&$A20,Demand!A15:M215,8,0),"") | F20: =IFERROR(VLOOKUP($F$6&"_"&$A20,Demand!A15:M215,9,0),"") | G20: =IFERROR(VLOOKUP($F$6&"_"&$A20,Demand!A15:M215,10,0),"") | H20: =IFERROR(VLOOKUP($F$6&"_"&$A20,Demand!A15:M215,11,0),"") | I20: =IFERROR(VLOOKUP($F$6&"_"&$A20,Demand!A15:M215,5,0),"") | K20: =MASTER!C18 -> 0
A21: 13 | B21: =IF(C21="","",ROWS($C$9:C21)) | C21: =IFERROR(VLOOKUP($F$6&"_"&$A21,Demand!A16:M216,6,0),"") | D21: =IFERROR(VLOOKUP($F$6&"_"&$A21,Demand!A16:M216,7,0),"") | E21: =IFERROR(VLOOKUP($F$6&"_"&$A21,Demand!A16:M216,8,0),"") | F21: =IFERROR(VLOOKUP($F$6&"_"&$A21,Demand!A16:M216,9,0),"") | G21: =IFERROR(VLOOKUP($F$6&"_"&$A21,Demand!A16:M216,10,0),"") | H21: =IFERROR(VLOOKUP($F$6&"_"&$A21,Demand!A16:M216,11,0),"") | I21: =IFERROR(VLOOKUP($F$6&"_"&$A21,Demand!A16:M216,5,0),"") | K21: =MASTER!C19 -> 0
... A23: 15 | B23: =IF(C23="","",ROWS($C$9:C23)) | C23: =IFERROR(VLOOKUP($F$6&"_"&$A23,Demand!A18:M218,6,0),"") | D23: =IFERROR(VLOOKUP($F$6&"_"&$A23,Demand!A18:M218,7,0),"") | E23: =IFERROR(VLOOKUP($F$6&"_"&$A23,Demand!A18:M218,8,0),"") | F23: =IFERROR(VLOOKUP($F$6&"_"&$A23,Demand!A18:M218,9,0),"") | G23: =IFERROR(VLOOKUP($F$6&"_"&$A23,Demand!A18:M218,10,0),"") | H23: =IFERROR(VLOOKUP($F$6&"_"&$A23,Demand!A18:M218,11,0),"") | I23: =IFERROR(VLOOKUP($F$6&"_"&$A23,Demand!A18:M218,5,0),"") | K23: =MASTER!C21 -> 0
K24: =MASTER!C22 -> 0
K25: =MASTER!C23 -> 0
G26: iz/kkukpk;Z | K26: =MASTER!C24 -> 0
G27: =MASTER!C2 -> jktdh; mPp ek/;fed fo|ky;] xksj/kuiqjk | K27: =MASTER!C25 -> 0
G28: =CONCATENATE(MASTER!B3," ",MASTER!C3," ",MASTER!B4," ",MASTER!C4) -> CykWd vV# ftyk ckjka | K28: =MASTER!C26 -> 0
K29: =MASTER!C27 -> 0
K30: =MASTER!C43 -> 0
K31: =MASTER!C44 -> 0
K32: =MASTER!C45 -> 0
K33: =MASTER!C46 -> 0
K34: =MASTER!C47 -> 0

Sheet Expenditure
A1: =CONCATENATE(MASTER!B2," ",MASTER!C2," ",MASTER!B3," ",MASTER!C3," ",MASTER!B4," ",MASTER!C4) -> dk;kZy; jktdh; mPp ek/;fed fo|ky;] xksj/kuiqjk CykWd vV# ftyk ckjka
A2: SNA ACCOUNT AMOUNT EXPENDITURE DETAILS
A3: विवरण | C3: मदों के नाम
C4: =MASTER!H8 -> CSG SEC. GRANT | D4: =MASTER!H9 -> CSG ELE.GRANT | E4: =MASTER!H10 -> CRC GRANT | F4: =MASTER!H11 -> MEETING AND TA GRANT | G4: =MASTER!H12 -> TLM GRANT | H4: =MASTER!H13 -> MOBILITY SPOT GRANT | I4: =MASTER!H14 -> SEONDARY SPORTS GRANT | J4: =MASTER!H15 -> ELEMENTRY SPORTS GRANT | K4: =MASTER!H16 -> PEEO OLYMPIC GRANT | L4: =MASTER!H17 -> SAMUDAYIK JAGRATI | M4: =MASTER!H18 -> APNI LADO GRANT | N4: =MASTER!H19 -> BAAL SAMAROH | O4: =MASTER!H20 -> SPORT FOR MODAL GREEN SCHOOL GRANT | P4: =MASTER!H21 -> SAMAGRA VIKAS EVAM PARYAVARAN | Q4: =MASTER!H22 -> VOULENTERS TRAINING | R4: =MASTER!H23 -> EK BHARAT SURAKSHIT BHARAT ACTIVITY | S4: =MASTER!H24 -> GENDOR ACTIVITY KISHORI MELA | T4: =MASTER!H25 -> GENDOR ACTIVITY SURKSHA AVAM DIGITAL LEARNING | U4: =MASTER!H26 -> GENDOR ACTIVITY VIDHYALAY EVAM VATAVARAN | V4: =MASTER!H27 -> VOCATIONAL EDUCATION | W4: =MASTER!H28 -> 0 | X4: =MASTER!H29 -> 0 | Y4: =MASTER!H30 -> 0 | Z4: =MASTER!H31 -> 0 | AA4: =MASTER!H32 -> 0 | AB4: =MASTER!H33 -> 0 | AC4: =MASTER!H34 -> 0 | AD4: =MASTER!H35 -> 0 | AE4: =MASTER!H36 -> 0 | AF4: =MASTER!H37 -> 0 | AG4: =MASTER!H38 -> 0 | AH4: =MASTER!H39 -> 0 | AI4: =MASTER!H40 -> 0 | AJ4: =MASTER!H41 -> 0 | AK4: =MASTER!H42 -> 0 | AL4: =MASTER!H43 -> 0 | AM4: =MASTER!H44 -> 0 | AN4: =MASTER!H45 -> 0 | AO4: =MASTER!H46 -> 0 | AP4: =MASTER!H47 -> 0 | AQ4: TOTAL RECEVED AMOUNT
A5: प्राप्त राशि | C5: ='RECEIVED AMOUNT '!C25 -> 50000 | D5: ='RECEIVED AMOUNT '!D25 -> 90000 | E5: ='RECEIVED AMOUNT '!E25 -> 15000 | F5: ='RECEIVED AMOUNT '!F25 -> 5000 | G5: ='RECEIVED AMOUNT '!G25 -> 1000 | H5: ='RECEIVED AMOUNT '!H25 -> 1000 | I5: ='RECEIVED AMOUNT '!I25 -> 25000 | J5: ='RECEIVED AMOUNT '!J25 -> 50000 | ... V5: ='RECEIVED AMOUNT '!V25 -> 0 | AQ5: =SUM(C5:Y5) -> 328530
A6: व्यय राशि | C6: =C26 -> 50000 | D6: =D26 -> 90000 | E6: =E26 -> 15000 | F6: =F26 -> 5000 | G6: =G26 -> 1000 | H6: =H26 -> 1000 | I6: =I26 -> 25000 | J6: =J26 -> 50000 | ... V6: =V26 -> 0 | AQ6: =SUM(C6:Y6) -> 328530
A7: शेष राशि | C7: =C5-C6 -> 0 | D7: =D5-D6 -> 0 | E7: =E5-E6 -> 0 | F7: =F5-F6 -> 0 | G7: =G5-G6 -> 0 | H7: =H5-H6 -> 0 | I7: =I5-I6 -> 0 | J7: =J5-J6 -> 0 | ... V7: =V5-V6 -> 0 | AQ7: =SUM(C7:Y7) -> 0
A8: मांग पत्र अनुसार DDO द्वारा किये गए भुगतान को यहाँ नीचे भरे
A9: S.N. | B9: SCHOOL NAME | C9: =MASTER!H8 -> CSG SEC. GRANT | D9: =MASTER!H9 -> CSG ELE.GRANT | E9: =MASTER!H10 -> CRC GRANT | F9: =MASTER!H11 -> MEETING AND TA GRANT | G9: =MASTER!H12 -> TLM GRANT | H9: =MASTER!H13 -> MOBILITY SPOT GRANT | I9: =MASTER!H14 -> SEONDARY SPORTS GRANT | J9: =MASTER!H15 -> ELEMENTRY SPORTS GRANT | K9: =MASTER!H16 -> PEEO OLYMPIC GRANT | L9: =MASTER!H17 -> SAMUDAYIK JAGRATI | M9: =MASTER!H18 -> APNI LADO GRANT | N9: =MASTER!H19 -> BAAL SAMAROH | O9: =MASTER!H20 -> SPORT FOR MODAL GREEN SCHOOL GRANT | P9: =MASTER!H21 -> SAMAGRA VIKAS EVAM PARYAVARAN | Q9: =MASTER!H22 -> VOULENTERS TRAINING | R9: =MASTER!H23 -> EK BHARAT SURAKSHIT BHARAT ACTIVITY | S9: =MASTER!H24 -> GENDOR ACTIVITY KISHORI MELA | T9: =MASTER!H25 -> GENDOR ACTIVITY SURKSHA AVAM DIGITAL LEARNING | U9: =MASTER!H26 -> GENDOR ACTIVITY VIDHYALAY EVAM VATAVARAN | V9: =MASTER!H27 -> VOCATIONAL EDUCATION | W9: =W4 -> 0 | X9: =X4 -> 0 | Y9: =Y4 -> 0 | Z9: =Z4 -> 0 | AA9: =AA4 -> 0 | AB9: =AB4 -> 0 | AC9: =AC4 -> 0 | AD9: =AD4 -> 0 | ... AP9: =AP4 -> 0 | AQ9: TOTAL RECEVED AMOUNT
C10: 1 | D10: 2 | E10: 3 | F10: 4 | G10: 5 | H10: 6 | I10: 7 | J10: 8 | K10: 9 | L10: 10 | M10: 11 | N10: 12 | O10: 13 | P10: 14 | Q10: 15 | R10: 16 | S10: 17 | T10: 18 | U10: 19 | V10: 20 | W10: 21 | X10: 22 | Y10: 23 | Z10: 24 | AA10: 25 | AB10: 26 | AC10: 27 | AD10: 28 | AE10: 29 | AF10: 30 | AG10: 31 | AH10: 32 | AI10: 33 | AJ10: 34 | AK10: 35 | AL10: 36 | AM10: 37 | AN10: 38 | AO10: 39 | AP10: 40
A11: =IF(B11="","",ROWS($B$11:B11)) -> 1 | B11: =MASTER!C5 -> GOVT SR. SECONDARY SCHOOL, GORDHANPURA | C11: 50000 | D11: 0 | E11: 15000 | F11: 5000 | G11: 1000 | H11: 1000 | I11: 25000 | J11: 0 | K11: 9150 | L11: 300 | M11: 200 | N11: 200 | O11: 0 | P11: 0 | Q11: 640 | R11: 500 | S11: 4500 | T11: 500 | U11: 1000 | AQ11: =SUM(C11:Y11) -> 113990
A12: =IF(B12="","",ROWS($B$11:B12)) -> 2 | B12: =MASTER!C8 -> GOVT UPPER PRIMARY SCHOOL, KANWARPURA | D12: 10000 | E12: 0 | F12: 0 | G12: 0 | H12: 0 | I12: 0 | J12: 9000 | K12: 0 | L12: 300 | M12: 200 | N12: 200 | O12: 0 | P12: 10000 | Q12: 640 | R12: 500 | S12: 0 | T12: 500 | U12: 1000 | AQ12: =SUM(C12:Y12) -> 32340
A13: =IF(B13="","",ROWS($B$11:B13)) -> 3 | B13: =MASTER!C9 -> GOVT UPPER PRIMARY SCHOOL, AMERT KHEDI | D13: 10000 | E13: 0 | F13: 0 | G13: 0 | H13: 0 | I13: 0 | J13: 9000 | K13: 0 | L13: 300 | M13: 200 | N13: 200 | O13: 0 | P13: 10000 | Q13: 640 | R13: 500 | S13: 0 | T13: 500 | U13: 1000 | AQ13: =SUM(C13:Y13) -> 32340
A14: =IF(B14="","",ROWS($B$11:B14)) -> 4 | B14: =MASTER!C10 -> GOVT UPPER PRIMARY SCHOOL, HANUMAT KHEDA | D14: 10000 | E14: 0 | F14: 0 | G14: 0 | H14: 0 | I14: 0 | J14: 9000 | K14: 0 | L14: 300 | M14: 200 | N14: 200 | O14: 0 | P14: 10000 | Q14: 640 | R14: 500 | S14: 0 | T14: 500 | U14: 1000 | AQ14: =SUM(C14:Y14) -> 32340
A15: =IF(B15="","",ROWS($B$11:B15)) -> 5 | B15: =MASTER!C11 -> GOVT UPPER PRIMARY SCHOOL, SODALHEDI | D15: 25000 | E15: 0 | F15: 0 | G15: 0 | H15: 0 | I15: 0 | J15: 9000 | K15: 0 | L15: 300 | M15: 200 | N15: 200 | O15: 0 | P15: 10000 | Q15: 640 | R15: 500 | S15: 0 | T15: 500 | U15: 1000 | AQ15: =SUM(C15:Y15) -> 47340
A16: =IF(B16="","",ROWS($B$11:B16)) -> 6 | B16: =MASTER!C12 -> GOVT UPPER PRIMARY SCHOOL, SALPUR | D16: 25000 | E16: 0 | F16: 0 | G16: 0 | H16: 0 | I16: 0 | J16: 9000 | K16: 0 | L16: 300 | M16: 200 | N16: 200 | O16: 0 | P16: 10000 | Q16: 640 | R16: 500 | S16: 0 | T16: 500 | U16: 1000 | AQ16: =SUM(C16:Y16) -> 47340
A17: =IF(B17="","",ROWS($B$11:B17)) -> 7 | B17: =MASTER!C13 -> MAA BADI DAY CARE CENTER, SALPURA | D17: 10000 | J17: 5000 | L17: 300 | M17: 200 | N17: 200 | P17: 5000 | Q17: 640 | R17: 0 | T17: 500 | U17: 1000 | AQ17: =SUM(C17:Y17) -> 22840
A18: =IF(B18="","",ROWS($B$11:B18)) -> 8 | B18: =MASTER!C14 -> 0 | AQ18: =SUM(C18:Y18) -> 0
A19: =IF(B19="","",ROWS($B$11:B19)) -> 9 | B19: =MASTER!C15 -> 0 | AQ19: =SUM(C19:Y19) -> 0
A20: =IF(B20="","",ROWS($B$11:B20)) -> 10 | B20: =MASTER!C16 -> 0 | AQ20: =SUM(C20:Y20) -> 0
A21: =IF(B21="","",ROWS($B$11:B21)) -> 11 | B21: =MASTER!C17 -> 0 | AQ21: =SUM(C21:Y21) -> 0
A22: =IF(B22="","",ROWS($B$11:B22)) -> 12 | B22: =MASTER!C18 -> 0 | AQ22: =SUM(C22:Y22) -> 0
A23: =IF(B23="","",ROWS($B$11:B23)) -> 13 | B23: =MASTER!C19 -> 0 | AQ23: =SUM(C23:Y23) -> 0
A24: =IF(B24="","",ROWS($B$11:B24)) -> 14 | B24: =MASTER!C20 -> 0 | AQ24: =SUM(C24:Y24) -> 0
A25: =IF(B25="","",ROWS($B$11:B25)) -> 15 | B25: =MASTER!C21 -> 0 | AQ25: =SUM(C25:Y25) -> 0
A26: GRAND TOTAL (SEC.+ELE.) | C26: =SUM(C11:C25) -> 50000 | D26: =SUM(D11:D25) -> 90000 | E26: =SUM(E11:E25) -> 15000 | F26: =SUM(F11:F25) -> 5000 | G26: =SUM(G11:G25) -> 1000 | H26: =SUM(H11:H25) -> 1000 | I26: =SUM(I11:I25) -> 25000 | J26: =SUM(J11:J25) -> 50000 | ... Y26: =SUM(Y11:Y25) -> 0 | AQ26: =SUM(AQ11:AQ25) -> 328530

Sheet Exp-School Wise
A1: =CONCATENATE(MASTER!B2," ",MASTER!C2," ",MASTER!B3," ",MASTER!C3," ",MASTER!B4," ",MASTER!C4) -> dk;kZy; jktdh; mPp ek/;fed fo|ky;] xksj/kuiqjk CykWd vV# ftyk ckjka | AS1: =MASTER!C5 -> GOVT SR. SECONDARY SCHOOL, GORDHANPURA
A2: GOVT UPPER PRIMARY SCHOOL, KANWARPURA | I2: SELECT SCHOOL NAME | AS2: =MASTER!C8 -> GOVT UPPER PRIMARY SCHOOL, KANWARPURA
A3: SNA ACCOUNT AMOUNT EXPENDITURE DETAILS - SCHOOL WISE | AS3: =MASTER!C9 -> GOVT UPPER PRIMARY SCHOOL, AMERT KHEDI
A4: विवरण | C4: मदों के नाम | AS4: =MASTER!C10 -> GOVT UPPER PRIMARY SCHOOL, HANUMAT KHEDA
C5: =MASTER!H8 -> CSG SEC. GRANT | D5: =MASTER!H9 -> CSG ELE.GRANT | E5: =MASTER!H10 -> CRC GRANT | F5: =MASTER!H11 -> MEETING AND TA GRANT | G5: =MASTER!H12 -> TLM GRANT | H5: =MASTER!H13 -> MOBILITY SPOT GRANT | I5: =MASTER!H14 -> SEONDARY SPORTS GRANT | J5: =MASTER!H15 -> ELEMENTRY SPORTS GRANT | K5: =MASTER!H16 -> PEEO OLYMPIC GRANT | L5: =MASTER!H17 -> SAMUDAYIK JAGRATI | M5: =MASTER!H18 -> APNI LADO GRANT | N5: =MASTER!H19 -> BAAL SAMAROH | O5: =MASTER!H20 -> SPORT FOR MODAL GREEN SCHOOL GRANT | P5: =MASTER!H21 -> SAMAGRA VIKAS EVAM PARYAVARAN | Q5: =MASTER!H22 -> VOULENTERS TRAINING | R5: =MASTER!H23 -> EK BHARAT SURAKSHIT BHARAT ACTIVITY | S5: =MASTER!H24 -> GENDOR ACTIVITY KISHORI MELA | T5: =MASTER!H25 -> GENDOR ACTIVITY SURKSHA AVAM DIGITAL LEARNING | U5: =MASTER!H26 -> GENDOR ACTIVITY VIDHYALAY EVAM VATAVARAN | V5: =MASTER!H27 -> VOCATIONAL EDUCATION | W5: =MASTER!H28 -> 0 | X5: =MASTER!H29 -> 0 | Y5: =MASTER!H30 -> 0 | Z5: =MASTER!H31 -> 0 | AA5: =MASTER!H32 -> 0 | AB5: =MASTER!H33 -> 0 | AC5: =MASTER!H34 -> 0 | AD5: =MASTER!H35 -> 0 | AE5: =MASTER!H36 -> 0 | AF5: =MASTER!H37 -> 0 | AG5: =MASTER!H38 -> 0 | AH5: =MASTER!H39 -> 0 | AI5: =MASTER!H40 -> 0 | AJ5: =MASTER!H41 -> 0 | AK5: =MASTER!H42 -> 0 | AL5: =MASTER!H43 -> 0 | AM5: =MASTER!H44 -> 0 | AN5: =MASTER!H45 -> 0 | AO5: =MASTER!H46 -> 0 | AP5: =MASTER!H47 -> 0 | AQ5: TOTAL RECEVED AMOUNT | AS5: =MASTER!C11 -> GOVT UPPER PRIMARY SCHOOL, SODALHEDI
A6: प्राप्त राशि | C6: =VLOOKUP($A$2,RECEIVED!B1:Z18,2,0) -> 0 | D6: =VLOOKUP($A$2,RECEIVED!B1:Z18,3,0) -> 10000 | E6: =VLOOKUP($A$2,RECEIVED!B1:Z18,4,0) -> 0 | F6: =VLOOKUP($A$2,RECEIVED!B1:Z18,5,0) -> 0 | G6: =VLOOKUP($A$2,RECEIVED!B1:Z18,6,0) -> 0 | H6: =VLOOKUP($A$2,RECEIVED!B1:Z18,7,0) -> 0 | I6: =VLOOKUP($A$2,RECEIVED!B1:Z18,8,0) -> 0 | J6: =VLOOKUP($A$2,RECEIVED!B1:Z18,9,0) -> 9000 | K6: =VLOOKUP($A$2,RECEIVED!B1:Z18,10,0) -> 0 | L6: =VLOOKUP($A$2,RECEIVED!B1:Z18,11,0) -> 300 | M6: =VLOOKUP($A$2,RECEIVED!B1:Z18,12,0) -> 200 | N6: =VLOOKUP($A$2,RECEIVED!B1:Z18,13,0) -> 200 | O6: =VLOOKUP($A$2,RECEIVED!B1:Z18,14,0) -> 0 | P6: =VLOOKUP($A$2,RECEIVED!B1:Z18,15,0) -> 10000 | Q6: =VLOOKUP($A$2,RECEIVED!B1:Z18,16,0) -> 640 | R6: =VLOOKUP($A$2,RECEIVED!B1:Z18,17,0) -> 500 | S6: =VLOOKUP($A$2,RECEIVED!B1:Z18,18,0) -> 0 | T6: =VLOOKUP($A$2,RECEIVED!B1:Z18,19,0) -> 500 | U6: =VLOOKUP($A$2,RECEIVED!B1:Z18,20,0) -> 1000 | V6: =VLOOKUP($A$2,RECEIVED!B1:Z18,21,0) -> 0 | AQ6: =SUM(C6:AP6) -> 32340 | AS6: =MASTER!C12 -> GOVT UPPER PRIMARY SCHOOL, SALPUR
A7: व्यय राशि | C7: =VLOOKUP(A2,Expenditure!B11:AQ25,2,0) -> 0 | D7: =VLOOKUP(A2,Expenditure!B11:AQ25,3,0) -> 10000 | E7: =VLOOKUP(A2,Expenditure!B11:AQ25,4,0) -> 0 | F7: =VLOOKUP(A2,Expenditure!B11:AQ25,5,0) -> 0 | G7: =VLOOKUP(A2,Expenditure!B11:AQ25,6,0) -> 0 | H7: =VLOOKUP(A2,Expenditure!B11:AQ25,7,0) -> 0 | I7: =VLOOKUP(A2,Expenditure!B11:AQ25,8,0) -> 0 | J7: =VLOOKUP(A2,Expenditure!B11:AQ25,9,0) -> 9000 | K7: =VLOOKUP(A2,Expenditure!B11:AQ25,10,0) -> 0 | L7: =VLOOKUP(A2,Expenditure!B11:AQ25,11,0) -> 300 | M7: =VLOOKUP(A2,Expenditure!B11:AQ25,12,0) -> 200 | N7: =N11 -> 200 | O7: =VLOOKUP(A2,Expenditure!B11:AQ25,14,0) -> 0 | P7: =VLOOKUP(A2,Expenditure!B11:AQ25,15,0) -> 10000 | Q7: =VLOOKUP(A2,Expenditure!B11:AQ25,16,0) -> 640 | R7: =VLOOKUP(A2,Expenditure!B11:AQ25,17,0) -> 500 | S7: =VLOOKUP(A2,Expenditure!B11:AQ25,18,0) -> 0 | T7: =VLOOKUP(A2,Expenditure!B11:AQ25,19,0) -> 500 | U7: =VLOOKUP(A2,Expenditure!B11:AQ25,20,0) -> 1000 | V7: =VLOOKUP(A2,Expenditure!B11:AQ25,21,0) -> 0 | AQ7: =SUM(C7:AP7) -> 32340 | AS7: =MASTER!C13 -> MAA BADI DAY CARE CENTER, SALPURA
A8: शेष राशि | C8: =C6-C7 -> 0 | D8: =D6-D7 -> 0 | E8: =E6-E7 -> 0 | F8: =F6-F7 -> 0 | G8: =G6-G7 -> 0 | H8: =H6-H7 -> 0 | I8: =I6-I7 -> 0 | J8: =J6-J7 -> 0 | ... V8: =V6-V7 -> 0 | AQ8: =SUM(C8:AP8) -> 0 | AS8: =MASTER!C14 -> 0
A9: मांग पत्र अनुसार DDO द्वारा किये गए भुगतान | AS9: =MASTER!C15 -> 0
A10: S.N. | B10: SCHOOL NAME | C10: =MASTER!H8 -> CSG SEC. GRANT | D10: =MASTER!H9 -> CSG ELE.GRANT | E10: =MASTER!H10 -> CRC GRANT | F10: =MASTER!H11 -> MEETING AND TA GRANT | G10: =MASTER!H12 -> TLM GRANT | H10: =MASTER!H13 -> MOBILITY SPOT GRANT | I10: =MASTER!H14 -> SEONDARY SPORTS GRANT | J10: =MASTER!H15 -> ELEMENTRY SPORTS GRANT | K10: =MASTER!H16 -> PEEO OLYMPIC GRANT | L10: =MASTER!H17 -> SAMUDAYIK JAGRATI | M10: =MASTER!H18 -> APNI LADO GRANT | N10: =MASTER!H19 -> BAAL SAMAROH | O10: =MASTER!H20 -> SPORT FOR MODAL GREEN SCHOOL GRANT | P10: =MASTER!H21 -> SAMAGRA VIKAS EVAM PARYAVARAN | Q10: =MASTER!H22 -> VOULENTERS TRAINING | R10: =MASTER!H23 -> EK BHARAT SURAKSHIT BHARAT ACTIVITY | S10: =MASTER!H24 -> GENDOR ACTIVITY KISHORI MELA | T10: =MASTER!H25 -> GENDOR ACTIVITY SURKSHA AVAM DIGITAL LEARNING | U10: =MASTER!H26 -> GENDOR ACTIVITY VIDHYALAY EVAM VATAVARAN | V10: =MASTER!H27 -> VOCATIONAL EDUCATION | W10: =W5 -> 0 | X10: =X5 -> 0 | Y10: =Y5 -> 0 | Z10: =Z5 -> 0 | AA10: =AA5 -> 0 | AB10: =AB5 -> 0 | AC10: =AC5 -> 0 | AD10: =AD5 -> 0 | ... AP10: =AP5 -> 0 | AQ10: TOTAL RECEVED AMOUNT | AS10: =MASTER!C16 -> 0
A11: =IF(B11="","",1) -> 1 | B11: =VLOOKUP($A$2,RECEIVED!B1:Z18,1,0) -> GOVT UPPER PRIMARY SCHOOL, KANWARPURA | C11: =VLOOKUP(A2,Expenditure!B11:AQ25,2,0) -> 0 | D11: =VLOOKUP(A2,Expenditure!B11:AQ25,3,0) -> 10000 | E11: =VLOOKUP($A$2,RECEIVED!B1:Z18,4,0) -> 0 | F11: =VLOOKUP($A$2,RECEIVED!B1:Z18,5,0) -> 0 | G11: =VLOOKUP(A2,Expenditure!B11:AQ25,6,0) -> 0 | H11: =VLOOKUP(A2,Expenditure!B11:AQ25,7,0) -> 0 | I11: =VLOOKUP(A2,Expenditure!B11:AQ25,8,0) -> 0 | J11: =VLOOKUP(A2,Expenditure!B11:AQ25,9,0) -> 9000 | K11: =VLOOKUP(A2,Expenditure!B11:AQ25,10,0) -> 0 | L11: =VLOOKUP(A2,Expenditure!B11:AQ25,11,0) -> 300 | M11: =VLOOKUP(A2,Expenditure!B11:AQ25,12,0) -> 200 | N11: =VLOOKUP(A2,Expenditure!B11:AQ25,13,0) -> 200 | O11: =VLOOKUP(A2,Expenditure!B11:AQ25,14,0) -> 0 | P11: =VLOOKUP(A2,Expenditure!B11:AQ25,15,0) -> 10000 | Q11: =VLOOKUP(A2,Expenditure!B11:AQ25,16,0) -> 640 | R11: =VLOOKUP(A2,Expenditure!B11:AQ25,17,0) -> 500 | S11: =VLOOKUP(A2,Expenditure!B11:AQ25,18,0) -> 0 | T11: =VLOOKUP(A2,Expenditure!B11:AQ25,19,0) -> 500 | U11: =VLOOKUP(A2,Expenditure!B11:AQ25,20,0) -> 1000 | V11: =VLOOKUP(A2,Expenditure!B11:AQ25,21,0) -> 0 | AQ11: =SUM(C11:AP11) -> 32340 | AR11: =MASTER!C5 -> GOVT SR. SECONDARY SCHOOL, GORDHANPURA | AS11: =MASTER!C17 -> 0
A12: GRAND TOTAL | C12: =SUM(C11:C11) -> 0 | D12: =SUM(D11:D11) -> 10000 | E12: =SUM(E11:E11) -> 0 | F12: =SUM(F11:F11) -> 0 | G12: =SUM(G11:G11) -> 0 | H12: =SUM(H11:H11) -> 0 | I12: =SUM(I11:I11) -> 0 | J12: =SUM(J11:J11) -> 9000 | ... V12: =SUM(V11:V11) -> 0 | AQ12: =SUM(AQ11:AQ11) -> 32340 | AR12: =MASTER!C22 -> 0 | AS12: =MASTER!C18 -> 0
AS13: =MASTER!C19 -> 0
AS14: =MASTER!C20 -> 0
AS15: =MASTER!C21 -> 0
AS16: =MASTER!C22 -> 0

Sheet RECEIVED
A1: SN | B1: SCHOOL NAME | C1: मदों के नाम
C2: =MASTER!H8 -> CSG SEC. GRANT | D2: =MASTER!H9 -> CSG ELE.GRANT | E2: =MASTER!H10 -> CRC GRANT | F2: =MASTER!H11 -> MEETING AND TA GRANT | G2: =MASTER!H12 -> TLM GRANT | H2: =MASTER!H13 -> MOBILITY SPOT GRANT | I2: =MASTER!H14 -> SEONDARY SPORTS GRANT | J2: =MASTER!H15 -> ELEMENTRY SPORTS GRANT | K2: =MASTER!H16 -> PEEO OLYMPIC GRANT | L2: =MASTER!H17 -> SAMUDAYIK JAGRATI | M2: =MASTER!H18 -> APNI LADO GRANT | N2: =MASTER!H19 -> BAAL SAMAROH | O2: =MASTER!H20 -> SPORT FOR MODAL GREEN SCHOOL GRANT | P2: =MASTER!H21 -> SAMAGRA VIKAS EVAM PARYAVARAN | Q2: =MASTER!H22 -> VOULENTERS TRAINING | R2: =MASTER!H23 -> EK BHARAT SURAKSHIT BHARAT ACTIVITY | S2: =MASTER!H24 -> GENDOR ACTIVITY KISHORI MELA | T2: =MASTER!H25 -> GENDOR ACTIVITY SURKSHA AVAM DIGITAL LEARNING | U2: =MASTER!H26 -> GENDOR ACTIVITY VIDHYALAY EVAM VATAVARAN | V2: =MASTER!H27 -> VOCATIONAL EDUCATION | W2: =MASTER!H43 -> 0 | X2: =MASTER!H44 -> 0 | Y2: =MASTER!H45 -> 0 | Z2: TOTAL RECEVED AMOUNT
A3: 1 | B3: =MASTER!C5 -> GOVT SR. SECONDARY SCHOOL, GORDHANPURA | C3: ='RECEIVED AMOUNT '!C6 -> 50000 | D3: ='RECEIVED AMOUNT '!D6 -> 0 | E3: ='RECEIVED AMOUNT '!E6 -> 15000 | F3: ='RECEIVED AMOUNT '!F6 -> 5000 | G3: ='RECEIVED AMOUNT '!G6 -> 1000 | H3: ='RECEIVED AMOUNT '!H6 -> 1000 | I3: ='RECEIVED AMOUNT '!I6 -> 25000 | J3: ='RECEIVED AMOUNT '!J6 -> 0 | ... V3: ='RECEIVED AMOUNT '!V6 -> 0 | W3: ='RECEIVED AMOUNT '!#REF! -> #REF! | X3: ='RECEIVED AMOUNT '!#REF! -> #REF! | Y3: ='RECEIVED AMOUNT '!#REF! -> #REF! | Z3: =SUM(C3:Y3) -> #REF!
A4: =MASTER!B8 -> 1 | B4: =MASTER!C8 -> GOVT UPPER PRIMARY SCHOOL, KANWARPURA | C4: ='RECEIVED AMOUNT '!C9 -> 0 | D4: ='RECEIVED AMOUNT '!D9 -> 10000 | E4: ='RECEIVED AMOUNT '!E9 -> 0 | F4: ='RECEIVED AMOUNT '!F9 -> 0 | G4: ='RECEIVED AMOUNT '!G9 -> 0 | H4: ='RECEIVED AMOUNT '!H9 -> 0 | I4: ='RECEIVED AMOUNT '!I9 -> 0 | J4: ='RECEIVED AMOUNT '!J9 -> 9000 | ... V4: ='RECEIVED AMOUNT '!V9 -> 0 | W4: ='RECEIVED AMOUNT '!#REF! -> #REF! | X4: ='RECEIVED AMOUNT '!#REF! -> #REF! | Y4: ='RECEIVED AMOUNT '!#REF! -> #REF! | Z4: =SUM(C4:Y4) -> #REF!
A5: =MASTER!B9 -> 2 | B5: =MASTER!C9 -> GOVT UPPER PRIMARY SCHOOL, AMERT KHEDI | C5: ='RECEIVED AMOUNT '!C10 -> 0 | D5: ='RECEIVED AMOUNT '!D10 -> 10000 | E5: ='RECEIVED AMOUNT '!E10 -> 0 | F5: ='RECEIVED AMOUNT '!F10 -> 0 | G5: ='RECEIVED AMOUNT '!G10 -> 0 | H5: ='RECEIVED AMOUNT '!H10 -> 0 | I5: ='RECEIVED AMOUNT '!I10 -> 0 | J5: ='RECEIVED AMOUNT '!J10 -> 9000 | ... V5: ='RECEIVED AMOUNT '!V10 -> 0 | W5: ='RECEIVED AMOUNT '!#REF! -> #REF! | X5: ='RECEIVED AMOUNT '!#REF! -> #REF! | Y5: ='RECEIVED AMOUNT '!#REF! -> #REF! | Z5: =SUM(C5:Y5) -> #REF!
A6: =MASTER!B10 -> 3 | B6: =MASTER!C10 -> GOVT UPPER PRIMARY SCHOOL, HANUMAT KHEDA | C6: ='RECEIVED AMOUNT '!C11 -> 0 | D6: ='RECEIVED AMOUNT '!D11 -> 10000 | E6: ='RECEIVED AMOUNT '!E11 -> 0 | F6: ='RECEIVED AMOUNT '!F11 -> 0 | G6: ='RECEIVED AMOUNT '!G11 -> 0 | H6: ='RECEIVED AMOUNT '!H11 -> 0 | I6: ='RECEIVED AMOUNT '!I11 -> 0 | J6: ='RECEIVED AMOUNT '!J11 -> 9000 | ... V6: ='RECEIVED AMOUNT '!V11 -> 0 | W6: ='RECEIVED AMOUNT '!#REF! -> #REF! | X6: ='RECEIVED AMOUNT '!#REF! -> #REF! | Y6: ='RECEIVED AMOUNT '!#REF! -> #REF! | Z6: =SUM(C6:Y6) -> #REF!
A7: =MASTER!B11 -> 4 | B7: =MASTER!C11 -> GOVT UPPER PRIMARY SCHOOL, SODALHEDI | C7: ='RECEIVED AMOUNT '!C12 -> 0 | D7: ='RECEIVED AMOUNT '!D12 -> 25000 | E7: ='RECEIVED AMOUNT '!E12 -> 0 | F7: ='RECEIVED AMOUNT '!F12 -> 0 | G7: ='RECEIVED AMOUNT '!G12 -> 0 | H7: ='RECEIVED AMOUNT '!H12 -> 0 | I7: ='RECEIVED AMOUNT '!I12 -> 0 | J7: ='RECEIVED AMOUNT '!J12 -> 9000 | ... V7: ='RECEIVED AMOUNT '!V12 -> 0 | W7: ='RECEIVED AMOUNT '!#REF! -> #REF! | X7: ='RECEIVED AMOUNT '!#REF! -> #REF! | Y7: ='RECEIVED AMOUNT '!#REF! -> #REF! | Z7: =SUM(C7:Y7) -> #REF!
A8: =MASTER!B12 -> 5 | B8: =MASTER!C12 -> GOVT UPPER PRIMARY SCHOOL, SALPUR | C8: ='RECEIVED AMOUNT '!C13 -> 0 | D8: ='RECEIVED AMOUNT '!D13 -> 25000 | E8: ='RECEIVED AMOUNT '!E13 -> 0 | F8: ='RECEIVED AMOUNT '!F13 -> 0 | G8: ='RECEIVED AMOUNT '!G13 -> 0 | H8: ='RECEIVED AMOUNT '!H13 -> 0 | I8: ='RECEIVED AMOUNT '!I13 -> 0 | J8: ='RECEIVED AMOUNT '!J13 -> 9000 | ... V8: ='RECEIVED AMOUNT '!V13 -> 0 | W8: ='RECEIVED AMOUNT '!#REF! -> #REF! | X8: ='RECEIVED AMOUNT '!#REF! -> #REF! | Y8: ='RECEIVED AMOUNT '!#REF! -> #REF! | Z8: =SUM(C8:Y8) -> #REF!
A9: =MASTER!B13 -> 6 | B9: =MASTER!C13 -> MAA BADI DAY CARE CENTER, SALPURA | C9: ='RECEIVED AMOUNT '!C14 -> 0 | D9: ='RECEIVED AMOUNT '!D14 -> 10000 | E9: ='RECEIVED AMOUNT '!E14 -> 0 | F9: ='RECEIVED AMOUNT '!F14 -> 0 | G9: ='RECEIVED AMOUNT '!G14 -> 0 | H9: ='RECEIVED AMOUNT '!H14 -> 0 | I9: ='RECEIVED AMOUNT '!I14 -> 0 | J9: ='RECEIVED AMOUNT '!J14 -> 5000 | ... V9: ='RECEIVED AMOUNT '!V14 -> 0 | W9: ='RECEIVED AMOUNT '!#REF! -> #REF! | X9: ='RECEIVED AMOUNT '!#REF! -> #REF! | Y9: ='RECEIVED AMOUNT '!#REF! -> #REF! | Z9: =SUM(C9:Y9) -> #REF!
A10: =MASTER!B14 | B10: =MASTER!C14 -> 0 | C10: ='RECEIVED AMOUNT '!C15 -> 0 | D10: ='RECEIVED AMOUNT '!D15 -> 0 | E10: ='RECEIVED AMOUNT '!E15 -> 0 | F10: ='RECEIVED AMOUNT '!F15 -> 0 | G10: ='RECEIVED AMOUNT '!G15 -> 0 | H10: ='RECEIVED AMOUNT '!H15 -> 0 | I10: ='RECEIVED AMOUNT '!I15 -> 0 | J10: ='RECEIVED AMOUNT '!J15 -> 0 | ... V10: ='RECEIVED AMOUNT '!V15 -> 0 | W10: ='RECEIVED AMOUNT '!#REF! -> #REF! | X10: ='RECEIVED AMOUNT '!#REF! -> #REF! | Y10: ='RECEIVED AMOUNT '!#REF! -> #REF! | Z10: =SUM(C10:Y10) -> #REF!
A11: =MASTER!B15 | B11: =MASTER!C15 -> 0 | C11: ='RECEIVED AMOUNT '!C16 -> 0 | D11: ='RECEIVED AMOUNT '!D16 -> 0 | E11: ='RECEIVED AMOUNT '!E16 -> 0 | F11: ='RECEIVED AMOUNT '!F16 -> 0 | G11: ='RECEIVED AMOUNT '!G16 -> 0 | H11: ='RECEIVED AMOUNT '!H16 -> 0 | I11: ='RECEIVED AMOUNT '!I16 -> 0 | J11: ='RECEIVED AMOUNT '!J16 -> 0 | ... V11: ='RECEIVED AMOUNT '!V16 -> 0 | W11: ='RECEIVED AMOUNT '!#REF! -> #REF! | X11: ='RECEIVED AMOUNT '!#REF! -> #REF! | Y11: ='RECEIVED AMOUNT '!#REF! -> #REF! | Z11: =SUM(C11:Y11) -> #REF!
A12: =MASTER!B16 | B12: =MASTER!C16 -> 0 | C12: ='RECEIVED AMOUNT '!C17 -> 0 | D12: ='RECEIVED AMOUNT '!D17 -> 0 | E12: ='RECEIVED AMOUNT '!E17 -> 0 | F12: ='RECEIVED AMOUNT '!F17 -> 0 | G12: ='RECEIVED AMOUNT '!G17 -> 0 | H12: ='RECEIVED AMOUNT '!H17 -> 0 | I12: ='RECEIVED AMOUNT '!I17 -> 0 | J12: ='RECEIVED AMOUNT '!J17 -> 0 | ... V12: ='RECEIVED AMOUNT '!V17 -> 0 | W12: ='RECEIVED AMOUNT '!#REF! -> #REF! | X12: ='RECEIVED AMOUNT '!#REF! -> #REF! | Y12: ='RECEIVED AMOUNT '!#REF! -> #REF! | Z12: =SUM(C12:Y12) -> #REF!
A13: =MASTER!B17 | B13: =MASTER!C17 -> 0 | C13: ='RECEIVED AMOUNT '!C18 -> 0 | D13: ='RECEIVED AMOUNT '!D18 -> 0 | E13: ='RECEIVED AMOUNT '!E18 -> 0 | F13: ='RECEIVED AMOUNT '!F18 -> 0 | G13: ='RECEIVED AMOUNT '!G18 -> 0 | H13: ='RECEIVED AMOUNT '!H18 -> 0 | I13: ='RECEIVED AMOUNT '!I18 -> 0 | J13: ='RECEIVED AMOUNT '!J18 -> 0 | ... V13: ='RECEIVED AMOUNT '!V18 -> 0 | W13: ='RECEIVED AMOUNT '!#REF! -> #REF! | X13: ='RECEIVED AMOUNT '!#REF! -> #REF! | Y13: ='RECEIVED AMOUNT '!#REF! -> #REF! | Z13: =SUM(C13:Y13) -> #REF!
A14: =MASTER!B18 | B14: =MASTER!C18 -> 0 | C14: ='RECEIVED AMOUNT '!C19 -> 0 | D14: ='RECEIVED AMOUNT '!D19 -> 0 | E14: ='RECEIVED AMOUNT '!E19 -> 0 | F14: ='RECEIVED AMOUNT '!F19 -> 0 | G14: ='RECEIVED AMOUNT '!G19 -> 0 | H14: ='RECEIVED AMOUNT '!H19 -> 0 | I14: ='RECEIVED AMOUNT '!I19 -> 0 | J14: ='RECEIVED AMOUNT '!J19 -> 0 | ... V14: ='RECEIVED AMOUNT '!V19 -> 0 | W14: ='RECEIVED AMOUNT '!#REF! -> #REF! | X14: ='RECEIVED AMOUNT '!#REF! -> #REF! | Y14: ='RECEIVED AMOUNT '!#REF! -> #REF! | Z14: =SUM(C14:Y14) -> #REF!
A15: =MASTER!B19 | B15: =MASTER!C19 -> 0 | C15: ='RECEIVED AMOUNT '!C20 -> 0 | D15: ='RECEIVED AMOUNT '!D20 -> 0 | E15: ='RECEIVED AMOUNT '!E20 -> 0 | F15: ='RECEIVED AMOUNT '!F20 -> 0 | G15: ='RECEIVED AMOUNT '!G20 -> 0 | H15: ='RECEIVED AMOUNT '!H20 -> 0 | I15: ='RECEIVED AMOUNT '!I20 -> 0 | J15: ='RECEIVED AMOUNT '!J20 -> 0 | ... V15: ='RECEIVED AMOUNT '!V20 -> 0 | W15: ='RECEIVED AMOUNT '!#REF! -> #REF! | X15: ='RECEIVED AMOUNT '!#REF! -> #REF! | Y15: ='RECEIVED AMOUNT '!#REF! -> #REF! | Z15: =SUM(C15:Y15) -> #REF!
... A18: =MASTER!B22 | B18: =MASTER!C22 -> 0 | C18: ='RECEIVED AMOUNT '!C23 -> 0 | D18: ='RECEIVED AMOUNT '!D23 -> 0 | E18: ='RECEIVED AMOUNT '!E23 -> 0 | F18: ='RECEIVED AMOUNT '!F23 -> 0 | G18: ='RECEIVED AMOUNT '!G23 -> 0 | H18: ='RECEIVED AMOUNT '!H23 -> 0 | I18: ='RECEIVED AMOUNT '!I23 -> 0 | J18: ='RECEIVED AMOUNT '!J23 -> 0 | ... V18: ='RECEIVED AMOUNT '!V23 -> 0 | W18: ='RECEIVED AMOUNT '!#REF! -> #REF! | X18: ='RECEIVED AMOUNT '!#REF! -> #REF! | Y18: ='RECEIVED AMOUNT '!#REF! -> #REF! | Z18: =SUM(C18:Y18) -> #REF!
A19: ELEMENTRY TOTAL AMOUNT | C19: =SUM(C4:C18) -> 0 | D19: =SUM(D4:D18) -> 90000 | E19: =SUM(E4:E18) -> 0 | F19: =SUM(F4:F18) -> 0 | G19: =SUM(G4:G18) -> 0 | H19: =SUM(H4:H18) -> 0 | I19: =SUM(I4:I18) -> 0 | J19: =SUM(J4:J18) -> 50000 | ... Z19: =SUM(Z4:Z18) -> #REF!
A20: GRAND TOTAL (SEC.+ELE.) | C20: =C3+C19 -> 50000 | D20: =D3+D19 -> 90000 | E20: =E3+E19 -> 15000 | F20: =F3+F19 -> 5000 | G20: =G3+G19 -> 1000 | H20: =H3+H19 -> 1000 | I20: =I3+I19 -> 25000 | J20: =J3+J19 -> 50000 | ... Y20: =Y3+Y19 -> #REF! | Z20: =SUM(C20:Y20) -> #REF!

Sheet Demand Format
A1: ='RECEIVED AMOUNT '!A1:AQ1 -> dk;kZy; jktdh; mPp ek/;fed fo|ky;] xksj/kuiqjk CykWd vV# ftyk ckjka | J1: =MASTER!H8 -> CSG SEC. GRANT
A2: dzekad%& | H2: fnukad%& | J2: =MASTER!H9 -> CSG ELE.GRANT
B3: lsok esa] | J3: =MASTER!H10 -> CRC GRANT
B4: Jheku~ ihbZbZvks@;wlhbZbZvks egksn;] | J4: =MASTER!H11 -> MEETING AND TA GRANT
B5: =MASTER!C2 -> jktdh; mPp ek/;fed fo|ky;] xksj/kuiqjk | J5: =MASTER!H12 -> TLM GRANT
J6: =MASTER!H13 -> MOBILITY SPOT GRANT
B7: fo"k;%& lexz f'k{kk en ds fcyksa ds lapkyu iksVZy ls Hkqxrku djokus ckcrA | J7: =MASTER!H14 -> SEONDARY SPORTS GRANT
B8: egksn;] | J8: =MASTER!H15 -> ELEMENTRY SPORTS GRANT
B9: mijksDr fo"k;kUrxZr fuosnu gS fd lapkyu iksVZy ij LFkkuh; fo|ky; gsrq lexz f'k{kk en esa tkjh jkf'k ls fuEufyf[kr fcyksa dk Hkqxrku djokus dh d`ik djsaA | J9: =MASTER!H16 -> PEEO OLYMPIC GRANT
A10: dz0la0 | B10: QeZ@O;fDr laLFkk dk uke ¼ftls Hkqxrku fd;k tkuk gS½ | C10: en dk uke | D10: eksckbZy ua0 | E10: cSad [kkrk | F10: IFSC CODE | G10: chtd la[;k o fnukad | H10: jkf'k | I10: mi;ksx dk fooj.k | J10: =MASTER!H17 -> SAMUDAYIK JAGRATI
A11: =IF(B11="","",ROWS($B$11:B11)) -> 1 | B11: eqfnzdk LVs'klZ] dokbZ | C11: CSG SEC. GRANT | D11: 9829455425 | E11: 57070100000090 | F11: SBIN0032012 | J11: =MASTER!H18 -> APNI LADO GRANT
A12: =IF(B12="","",ROWS($B$11:B12)) | J12: =MASTER!H19 -> BAAL SAMAROH
A13: =IF(B13="","",ROWS($B$11:B13)) | J13: =MASTER!H20 -> SPORT FOR MODAL GREEN SCHOOL GRANT
A14: =IF(B14="","",ROWS($B$11:B14)) | J14: =MASTER!H21 -> SAMAGRA VIKAS EVAM PARYAVARAN
A15: =IF(B15="","",ROWS($B$11:B15)) | J15: =MASTER!H22 -> VOULENTERS TRAINING
A16: =IF(B16="","",ROWS($B$11:B16)) | J16: =MASTER!H23 -> EK BHARAT SURAKSHIT BHARAT ACTIVITY
A17: =IF(B17="","",ROWS($B$11:B17)) | J17: =MASTER!H24 -> GENDOR ACTIVITY KISHORI MELA
A18: =IF(B18="","",ROWS($B$11:B18)) | J18: =MASTER!H25 -> GENDOR ACTIVITY SURKSHA AVAM DIGITAL LEARNING
A19: =IF(B19="","",ROWS($B$11:B19)) | J19: =MASTER!H26 -> GENDOR ACTIVITY VIDHYALAY EVAM VATAVARAN
A20: =IF(B20="","",ROWS($B$11:B20)) | J20: =MASTER!H27 -> VOCATIONAL EDUCATION
A21: =IF(B21="","",ROWS($B$11:B21)) | J21: =MASTER!H28 -> 0
A22: =IF(B22="","",ROWS($B$11:B22)) | J22: =MASTER!H29 -> 0
A23: =IF(B23="","",ROWS($B$11:B23)) | J23: =MASTER!H30 -> 0
... A29: =IF(B29="","",ROWS($B$11:B29)) | J29: =MASTER!H36 -> 0
J30: =MASTER!H37 -> 0
B31: izekf.kr fd;k tkrk gS fd%& | J31: =MASTER!H38 -> 0
B32: 1- fcyksa esa vafdr lHkh lkexzh dk bUnzkt fo|ky; ds LVkWd jftLVj esa dj fy;k x;k gSaA | J32: =MASTER!H39 -> 0
B33: 2- jkf'k dks fo|ky; fgr esa mi;ksx dh ;kstuk dk ,l,elh@,lMh,elh esa vuqeksnu ys fy;k x;k gSaA | J33: =MASTER!H40 -> 0
B34: 3- jktLFkku Ldwy f'k{kk ifj"kn] t;iqj }kjk lEcU/k esa tkjh fn'kk&funsZ'kksa ds vuq#i gh O;; fd;s x;s gSaA | J34: =MASTER!H41 -> 0
B35: 4- mijksDr fcy@okmplZ dh jkf'k ns; ,oa lgh gSa] buds Hkqxrku dh vfHk'ka"kk dh tkrh gSaA | J35: =MASTER!H42 -> 0
H36: gLrk{kj laLFkk iz/kku | J36: =MASTER!H43 -> 0
J37: =MASTER!H44 -> 0
J38: =MASTER!H45 -> 0
J39: =MASTER!H46 -> 0
J40: =MASTER!H47 -> 0

Sheet Bill Register
A1: ='RECEIVED AMOUNT '!A1 -> dk;kZy; jktdh; mPp ek/;fed fo|ky;] xksj/kuiqjk CykWd vV# ftyk ckjka
A2: SNA - BILL REGISTER
A3: ;kstuk lapkyu iksVZy }kjk fd;s x;s Hkqxrku ds fcyksa dk bUnzkt ;gka djsaA
A4: dz-la- | B4: fo|ky; dk uke | C4: en | D4: QeZ@O;fDr laLFkk dk uke ¼ftls Hkqxrku fd;k tk pqdk gS½ | E4: eksckbZy ua0 | F4: cSad [kkrk | G4: IFSC CODE | H4: chtd la[;k o fnukad | I4: jkf'k | J4: mi;ksx dk fooj.k | K4: Bill Number | L4: Bill Date | M4: =MASTER!C5 -> GOVT SR. SECONDARY SCHOOL, GORDHANPURA | N4: =MASTER!H8 -> CSG SEC. GRANT
A5: =IF(B5="","",ROWS($B$5:B5)) -> 1 | B5: GOVT SR. SECONDARY SCHOOL, GORDHANPURA | C5: CSG SEC. GRANT | D5: MANU ZEROX & STATIONERS, KAWAI | E5: 9712558840 | F5: 61445985558 | G5: SBIN0032012 | H5: 112/25.12.2022 | I5: 20500 | J5: Mobility Support | K5: 11 | L5: 28.12.2022 | M5: =MASTER!C8 -> GOVT UPPER PRIMARY SCHOOL, KANWARPURA | N5: =MASTER!H9 -> CSG ELE.GRANT
A6: =IF(B6="","",ROWS($B$5:B6)) -> 2 | B6: GOVT SR. SECONDARY SCHOOL, GORDHANPURA | C6: CSG SEC. GRANT | D6: MANU ZEROX & STATIONERS, KAWAI | F6: 61445985558 | G6: SBIN0032012 | H6: 113/25.12.2022 | I6: 15000 | J6: Mobility Support | K6: 12 | L6: 28.12.2022 | M6: =MASTER!C9 -> GOVT UPPER PRIMARY SCHOOL, AMERT KHEDI | N6: =MASTER!H10 -> CRC GRANT
A7: =IF(B7="","",ROWS($B$5:B7)) | M7: =MASTER!C10 -> GOVT UPPER PRIMARY SCHOOL, HANUMAT KHEDA | N7: =MASTER!H11 -> MEETING AND TA GRANT
A8: =IF(B8="","",ROWS($B$5:B8)) | M8: =MASTER!C11 -> GOVT UPPER PRIMARY SCHOOL, SODALHEDI | N8: =MASTER!H12 -> TLM GRANT
A9: =IF(B9="","",ROWS($B$5:B9)) | M9: =MASTER!C12 -> GOVT UPPER PRIMARY SCHOOL, SALPUR | N9: =MASTER!H13 -> MOBILITY SPOT GRANT
A10: =IF(B10="","",ROWS($B$5:B10)) | M10: =MASTER!C13 -> MAA BADI DAY CARE CENTER, SALPURA | N10: =MASTER!H14 -> SEONDARY SPORTS GRANT
A11: =IF(B11="","",ROWS($B$5:B11)) | M11: =MASTER!C14 -> 0 | N11: =MASTER!H15 -> ELEMENTRY SPORTS GRANT
A12: =IF(B12="","",ROWS($B$5:B12)) | M12: =MASTER!C15 -> 0 | N12: =MASTER!H16 -> PEEO OLYMPIC GRANT
A13: =IF(B13="","",ROWS($B$5:B13)) | M13: =MASTER!C16 -> 0 | N13: =MASTER!H17 -> SAMUDAYIK JAGRATI
A14: =IF(B14="","",ROWS($B$5:B14)) | M14: =MASTER!C17 -> 0 | N14: =MASTER!H18 -> APNI LADO GRANT
A15: =IF(B15="","",ROWS($B$5:B15)) | M15: =MASTER!C18 -> 0 | N15: =MASTER!H19 -> BAAL SAMAROH
A16: =IF(B16="","",ROWS($B$5:B16)) | M16: =MASTER!C19 -> 0 | N16: =MASTER!H20 -> SPORT FOR MODAL GREEN SCHOOL GRANT
A17: =IF(B17="","",ROWS($B$5:B17)) | M17: =MASTER!C20 -> 0 | N17: =MASTER!H21 -> SAMAGRA VIKAS EVAM PARYAVARAN
A18: =IF(B18="","",ROWS($B$5:B18)) | M18: =MASTER!C21 -> 0 | N18: =MASTER!H22 -> VOULENTERS TRAINING
... A24: =IF(B24="","",ROWS($B$5:B24)) | M24: =MASTER!C27 -> 0 | N24: =MASTER!H28 -> 0
A25: =IF(B25="","",ROWS($B$5:B25)) | M25: =MASTER!C43 -> 0 | N25: =MASTER!H29 -> 0
A26: =IF(B26="","",ROWS($B$5:B26)) | M26: =MASTER!C44 -> 0 | N26: =MASTER!H30 -> 0
A27: =IF(B27="","",ROWS($B$5:B27)) | M27: =MASTER!C45 -> 0 | N27: =MASTER!H31 -> 0
A28: =IF(B28="","",ROWS($B$5:B28)) | M28: =MASTER!C46 -> 0 | N28: =MASTER!H32 -> 0
A29: =IF(B29="","",ROWS($B$5:B29)) | M29: =MASTER!C47 -> 0 | N29: =MASTER!H33 -> 0
A30: =IF(B30="","",ROWS($B$5:B30)) | N30: =MASTER!H34 -> 0
A31: =IF(B31="","",ROWS($B$5:B31)) | N31: =MASTER!H35 -> 0
A32: =IF(B32="","",ROWS($B$5:B32)) | N32: =MASTER!H36 -> 0
A33: =IF(B33="","",ROWS($B$5:B33)) | N33: =MASTER!H37 -> 0
A34: =IF(B34="","",ROWS($B$5:B34)) | N34: =MASTER!H38 -> 0
A35: =IF(B35="","",ROWS($B$5:B35)) | N35: =MASTER!H39 -> 0
A36: =IF(B36="","",ROWS($B$5:B36)) | N36: =MASTER!H40 -> 0
A37: =IF(B37="","",ROWS($B$5:B37)) | N37: =MASTER!H41 -> 0
A38: =IF(B38="","",ROWS($B$5:B38)) | N38: =MASTER!H42 -> 0
A39: =IF(B39="","",ROWS($B$5:B39)) | N39: =MASTER!H43 -> 0
A40: =IF(B40="","",ROWS($B$5:B40)) | N40: =MASTER!H44 -> 0
A41: =IF(B41="","",ROWS($B$5:B41)) | N41: =MASTER!H45 -> 0
... A43: =IF(B43="","",ROWS($B$5:B43)) | N43: =MASTER!H47 -> 0
A44: =IF(B44="","",ROWS($B$5:B44))
A45: =IF(B45="","",ROWS($B$5:B45))
A46: =IF(B46="","",ROWS($B$5:B46))
A47: =IF(B47="","",ROWS($B$5:B47))
A48: =IF(B48="","",ROWS($B$5:B48))
A49: =IF(B49="","",ROWS($B$5:B49))
A50: =IF(B50="","",ROWS($B$5:B50))
A51: =IF(B51="","",ROWS($B$5:B51))
A52: =IF(B52="","",ROWS($B$5:B52))
A53: =IF(B53="","",ROWS($B$5:B53))
A54: =IF(B54="","",ROWS($B$5:B54))
A55: =IF(B55="","",ROWS($B$5:B55))
... A206: =IF(B206="","",ROWS($B$5:B206))

Sheet Report
A1: ='RECEIVED AMOUNT '!A1:AQ1 -> dk;kZy; jktdh; mPp ek/;fed fo|ky;] xksj/kuiqjk CykWd vV# ftyk ckjka
A2: Progress Report
A3: dzekad%& | E3: fnukad%&
A4: dz-la- | B4: en dk uke | C4: CykWd ls izkIr en jkf'k | D4: fo|ky;ksa dks tkjh en jkf'k | E4: [kpZ jkf'k | F4: 'ks"k jkf'k
A5: =IF(B5="","",ROWS($B$5:B5)) -> 1 | B5: =IF(MASTER!H8="","",MASTER!H8) -> CSG SEC. GRANT | C5: =IFERROR(HLOOKUP(B5,Expenditure!$C$4:$Y$5,2,FALSE),"") -> 50000 | D5: =C5 -> 50000 | E5: =IFERROR(HLOOKUP(B5,Expenditure!$C$4:$Y$6,3,FALSE),"") -> 50000 | F5: =D5-E5 -> 0
A6: =IF(B6="","",ROWS($B$5:B6)) -> 2 | B6: =IF(MASTER!H9="","",MASTER!H9) -> CSG ELE.GRANT | C6: =IFERROR(HLOOKUP(B6,Expenditure!$C$4:$Y$5,2,FALSE),"") -> 90000 | D6: =C6 -> 90000 | E6: =IFERROR(HLOOKUP(B6,Expenditure!$C$4:$Y$6,3,FALSE),"") -> 90000 | F6: =D6-E6 -> 0
A7: =IF(B7="","",ROWS($B$5:B7)) -> 3 | B7: =IF(MASTER!H10="","",MASTER!H10) -> CRC GRANT | C7: =IFERROR(HLOOKUP(B7,Expenditure!$C$4:$Y$5,2,FALSE),"") -> 15000 | D7: =C7 -> 15000 | E7: =IFERROR(HLOOKUP(B7,Expenditure!$C$4:$Y$6,3,FALSE),"") -> 15000 | F7: =D7-E7 -> 0
A8: =IF(B8="","",ROWS($B$5:B8)) -> 4 | B8: =IF(MASTER!H11="","",MASTER!H11) -> MEETING AND TA GRANT | C8: =IFERROR(HLOOKUP(B8,Expenditure!$C$4:$Y$5,2,FALSE),"") -> 5000 | D8: =C8 -> 5000 | E8: =IFERROR(HLOOKUP(B8,Expenditure!$C$4:$Y$6,3,FALSE),"") -> 5000 | F8: =D8-E8 -> 0
A9: =IF(B9="","",ROWS($B$5:B9)) -> 5 | B9: =IF(MASTER!H12="","",MASTER!H12) -> TLM GRANT | C9: =IFERROR(HLOOKUP(B9,Expenditure!$C$4:$Y$5,2,FALSE),"") -> 1000 | D9: =C9 -> 1000 | E9: =IFERROR(HLOOKUP(B9,Expenditure!$C$4:$Y$6,3,FALSE),"") -> 1000 | F9: =D9-E9 -> 0
A10: =IF(B10="","",ROWS($B$5:B10)) -> 6 | B10: =IF(MASTER!H13="","",MASTER!H13) -> MOBILITY SPOT GRANT | C10: =IFERROR(HLOOKUP(B10,Expenditure!$C$4:$Y$5,2,FALSE),"") -> 1000 | D10: =C10 -> 1000 | E10: =IFERROR(HLOOKUP(B10,Expenditure!$C$4:$Y$6,3,FALSE),"") -> 1000 | F10: =D10-E10 -> 0
A11: =IF(B11="","",ROWS($B$5:B11)) -> 7 | B11: =IF(MASTER!H14="","",MASTER!H14) -> SEONDARY SPORTS GRANT | C11: =IFERROR(HLOOKUP(B11,Expenditure!$C$4:$Y$5,2,FALSE),"") -> 25000 | D11: =C11 -> 25000 | E11: =IFERROR(HLOOKUP(B11,Expenditure!$C$4:$Y$6,3,FALSE),"") -> 25000 | F11: =D11-E11 -> 0
A12: =IF(B12="","",ROWS($B$5:B12)) -> 8 | B12: =IF(MASTER!H15="","",MASTER!H15) -> ELEMENTRY SPORTS GRANT | C12: =IFERROR(HLOOKUP(B12,Expenditure!$C$4:$Y$5,2,FALSE),"") -> 50000 | D12: =C12 -> 50000 | E12: =IFERROR(HLOOKUP(B12,Expenditure!$C$4:$Y$6,3,FALSE),"") -> 50000 | F12: =D12-E12 -> 0
A13: =IF(B13="","",ROWS($B$5:B13)) -> 9 | B13: =IF(MASTER!H16="","",MASTER!H16) -> PEEO OLYMPIC GRANT | C13: =IFERROR(HLOOKUP(B13,Expenditure!$C$4:$Y$5,2,FALSE),"") -> 9150 | D13: =C13 -> 9150 | E13: =IFERROR(HLOOKUP(B13,Expenditure!$C$4:$Y$6,3,FALSE),"") -> 9150 | F13: =D13-E13 -> 0
A14: =IF(B14="","",ROWS($B$5:B14)) -> 10 | B14: =IF(MASTER!H17="","",MASTER!H17) -> SAMUDAYIK JAGRATI | C14: =IFERROR(HLOOKUP(B14,Expenditure!$C$4:$Y$5,2,FALSE),"") -> 2100 | D14: =C14 -> 2100 | E14: =IFERROR(HLOOKUP(B14,Expenditure!$C$4:$Y$6,3,FALSE),"") -> 2100 | F14: =D14-E14 -> 0
A15: =IF(B15="","",ROWS($B$5:B15)) -> 11 | B15: =IF(MASTER!H18="","",MASTER!H18) -> APNI LADO GRANT | C15: =IFERROR(HLOOKUP(B15,Expenditure!$C$4:$Y$5,2,FALSE),"") -> 1400 | D15: =C15 -> 1400 | E15: =IFERROR(HLOOKUP(B15,Expenditure!$C$4:$Y$6,3,FALSE),"") -> 1400 | F15: =D15-E15 -> 0
A16: =IF(B16="","",ROWS($B$5:B16)) -> 12 | B16: =IF(MASTER!H19="","",MASTER!H19) -> BAAL SAMAROH | C16: =IFERROR(HLOOKUP(B16,Expenditure!$C$4:$Y$5,2,FALSE),"") -> 1400 | D16: =C16 -> 1400 | E16: =IFERROR(HLOOKUP(B16,Expenditure!$C$4:$Y$6,3,FALSE),"") -> 1400 | F16: =D16-E16 -> 0
... A24: =IF(B24="","",ROWS($B$5:B24)) -> 20 | B24: =IF(MASTER!H27="","",MASTER!H27) -> VOCATIONAL EDUCATION | C24: =IFERROR(HLOOKUP(B24,Expenditure!$C$4:$Y$5,2,FALSE),"") -> 0 | D24: =C24 -> 0 | E24: =IFERROR(HLOOKUP(B24,Expenditure!$C$4:$Y$6,3,FALSE),"") -> 0 | F24: =D24-E24 -> 0
A25: =IF(B25="","",ROWS($B$5:B25)) | B25: =IF(MASTER!H28="","",MASTER!H28)
A26: =IF(B26="","",ROWS($B$5:B26)) | B26: =IF(MASTER!H29="","",MASTER!H29)
A27: =IF(B27="","",ROWS($B$5:B27)) | B27: =IF(MASTER!H30="","",MASTER!H30)
A28: =IF(B28="","",ROWS($B$5:B28)) | B28: =IF(MASTER!H31="","",MASTER!H31)
A29: =IF(B29="","",ROWS($B$5:B29)) | B29: =IF(MASTER!H32="","",MASTER!H32)
A30: =IF(B30="","",ROWS($B$5:B30)) | B30: =IF(MASTER!H33="","",MASTER!H33)
A31: =IF(B31="","",ROWS($B$5:B31)) | B31: =IF(MASTER!H34="","",MASTER!H34)
A32: =IF(B32="","",ROWS($B$5:B32)) | B32: =IF(MASTER!H35="","",MASTER!H35)
A33: =IF(B33="","",ROWS($B$5:B33)) | B33: =IF(MASTER!H36="","",MASTER!H36)
A34: =IF(B34="","",ROWS($B$5:B34)) | B34: =IF(MASTER!H37="","",MASTER!H37)
A35: =IF(B35="","",ROWS($B$5:B35)) | B35: =IF(MASTER!H38="","",MASTER!H38)
A36: =IF(B36="","",ROWS($B$5:B36)) | B36: =IF(MASTER!H39="","",MASTER!H39)
... A44: =IF(B44="","",ROWS($B$5:B44)) | B44: =IF(MASTER!H47="","",MASTER!H47)
A45: TOTAL | C45: =SUM(C5:C44) -> 328530 | D45: =SUM(D5:D44) -> 328530 | E45: =SUM(E5:E44) -> 328530 | F45: =SUM(F5:F44) -> 0
D48: =Order!AK26 -> iz/kkukpk;Z
D49: =Order!AK27 -> jktdh; mPp ek/;fed fo|ky;] xksj/kuiqjk
D50: =Order!AK28 -> CykWd vV# ftyk ckjka
