Workbook
Name PICTURE: INDEX('R-6'!$AR$8:$AR$133,MATCH('F-6'!$AB$4:$AD$5,'R-6'!$G$8:$G$219,0))
Name PICTURE8: INDEX('R-8'!$AM$13:$AM$124,MATCH('F-8'!$AB$4:$AD$5,'R-8'!$G$13:$G$125,0))
Name SNA: OFFSET('R-6'!$G$8:$G$919,,,COUNTIF('R-6'!$G$8:$G$919,">=1"))
Name SNB: OFFSET('R-7'!$H$9:$H$1008,,,COUNTIF('R-7'!$H$9:$H$1008,">=1"))
Name SNC: OFFSET('R-8'!$G$13:$G$1012,,,COUNTIF('R-8'!$G$13:$G$1012,">=1"))
Name SND: OFFSET('R-8क'!$G$10:$G$1009,,,COUNTIF('R-8क'!$G$10:$G$1009,">=1"))
Name आक्षेप: 'R-7'!$A$1:$A$3
Name आवेदन: 'R-6'!$A$1:$A$2
Name दिन: PLAN!$S$1:$S$31
Name प्राप्ति: 'R-8क'!$A$1:$A$3
Name माह: PLAN!$T$1:$T$12
Name रिश्ता: 'R-6'!$A$4:$A$8
Name लिंग: HOME!$A$1:$A$3
Name लौटाना: 'R-8क'!$A$5:$A$6
Name वर्ष: PLAN!$V$1:$V$13
Name वास: OFFSET(HOME!$A$4:$A$16,,,COUNTIF(HOME!$B$4:$B$16,">=1"))
Name विकलांगता: 'R-6'!$C$4:$C$7
Name संशोधन: 'R-8'!$A$1:$A$9
Name स्थिति: HOME!$AU$1:$AU$2

Sheet INDEX
A2: NIRDESH
A3: HOME
A4: m suchi
A5: new
A6: pLan
A7: R-6
A8: F-6
A9: R-7
A10: F-7
A11: R-8
A12: F-8
A13: R-8 क
... A16: REPORT

Sheet NIRDESH
A1: भागीरथ मल अध्यापक, रा.मा.वि.डसाना खुर्द (मौलासर-नागौर) )-9828789204
A2: इस निर्देश शीट में दिए गए शीट के नाम के बटन पर क्लिक करने पर सम्बंधित शीट पर पहुँच जायेंगे उस शीट में दी गई मेरी फोटूपर क्लिक से पुन निर्देश शीट पर आ जायेंगे |
A3: यह शीट बूथ लेवल अधिकारी (BLO) हेतु फॉर्म 6, 7, 8, 8क तथा समेकित रिपोर्ट बनाने में लाभकारी सिद्ध होगी और समय-समय पर अन्य विभागों द्वारा करवाए जाने वाले सर्वे में भी सहायक होगी|
A4: इस शीट में कार्य करने हेतु निम्न निर्देशों की पालना करने का कष्ट करावे तथा हिन्दी हेतु गूगल इनपुट टूल्स का उपयोग करें एवं कोई समस्या या सुझाव हेतु संपर्क करें
A6: इस शीट में अपने भाग की चाही गयी समस्त जानकारी भरें तथा अपने भाग के परिक्षेत्र/मोहल्ला के नाम लिखने पर उनकी क्रम संख्या एवं M.SUCHI शीट में अपने भाग के मतदाताओं का विवरण लिखने पर इस शीट में मतदाता संख्या स्वत: प्रदर्शित होगी
A8: इस शीट में अपने भाग के मतदाताओं का विवरण लिखें तथा स्थानान्तरण या मृत्यु के कारण नाम हटाये जाने पर सबसे अंत के कॉलम में YES चयन करें एवं समय-समय पर विभाग द्वारा मतदाता सूची अपडेट करने पर आप भी उसके अनुरूप इस शीट में संशोधन करें और अन्य विभागों द्वारा करवाए जाने वाले सर्वे में आप इस शीट व NEW शीट के डाटा को COPY-PASTE कर सकते हैं|
A10: इस शीट में अपने भाग के मतदाताओं के अलावा अर्थात् 18 वर्ष से कम आयु या मतदान के अधिकार से वंचित समस्त सदस्यों का विवरण लिखें एवं इस शीट जन्मतिथि अवश्य लिखें जिससे आयु स्वत: प्रदर्शित होगी तथा भविष्य में जिस मतदाता की आयु 18 वर्ष या उससे अधिक होगी तो स्वत: उस ROW का रंग लाल हो जायेगा एवं जब उसका नाम मतदाता सूची में जुड़ जाता है तो उस रो के अंत के स्टेटस कॉलम में YES चयन करें|
A12: इस शीट में निर्वाचन विभाग द्वारा मतदाता सूची अपडेट हेतु चलाये जाने वाले कार्यक्रमों का विवरण लिखें तथा रिपोर्ट हेतु रिपोर्ट अवधि- कब से व कब तक के आगे दिन, माह, वर्ष चयन करें
A14: इस शीट में मतदाता सूची में नाम जोड़ने हेतु आवेदक का विवरण (सभी कॉलम की पूर्ति आवश्यक) लिखें
A16: इस शीट में मतदाता सूची में नाम जोड़ने हेतु आवेदक की क्रम संख्या (R-6 SHEET के अनुसार) लिखने पर उसका फॉर्म-6 तैयार हो जायेगा, जिसे प्रिंट कर सकते हैं|
A18: इस शीट में मतदाता सूची से नाम हटाने हेतु आवेदक व जिसका नाम हटाना है,उसका विवरण (सभी कॉलम की पूर्ति आवश्यक) लिखें
A20: इस शीट में मतदाता सूची से नाम हटाने हेतु आवेदक की क्रम संख्या (R-7 SHEET के अनुसार) लिखने पर उसका फॉर्म-7 तैयार हो जायेगा, जिसे प्रिंट कर सकते हैं|
... A36: MOB NO ९८२८७८९२०४

Sheet HOME
A1: पुरुष | AU1: स्वीकृत
A2: स्त्री | M2: -: बूथ का विवरण :- | AU2: अस्वीकृत
A3: अन्य
A4: =IFERROR(IF(M17>=1,N17,""),"") -> 1.बस स्टेशन मेघवाल बस्ती कोलिया | M4: लोकसभा क्षेत्र का नाम-
A5: =IFERROR(IF(X17>=1,Y17,""),"") -> 2.कुम्हारों सुनारों का बास, कोलिया
A6: =IFERROR(IF(AI17>=1,AJ17,""),"") -> 3.डाकोता का बास कोलिया, 4.मालियों का बास, कोलिया | M6: राज्य-
A7: =IFERROR(IF(M18>=1,N18,""),"") -> 5.करेसियों का मोहला,6.माताजी मन्दिर,तलहटी का बास,कोलिया
A8: =IFERROR(IF(X18>=1,Y18,""),"") -> 7.सर्राफ मोहल्ला,कोलिया | M8: ग्राम पंचायत-
A9: =IFERROR(IF(AI18>=1,AJ18,""),"") -> 8.सोनिवाड़ा कोलिया,9.सिलावट बस्ती कोलिया,10सोनिवाड़ा कोलिया
A10: =IFERROR(IF(M19>=1,N19,""),"") -> 11.खातियों का बास,कोलिया | M10: भाग संख्या-
A11: =IFERROR(IF(X19>=1,Y19,""),"") -> 12.मेघवालों का बास,कोलिया
A12: =IFERROR(IF(AI19>=1,AJ19,""),"") -> 13सांखलों का बास,कोलिया 14.प्रजापत कालोनी,कोलिया | M12: बूथ लेवल अधिकारी का नाम-
A13: =IFERROR(IF(M20>=1,N20,""),"") -> 15.सिलावटो का बास,कोलिया
A14: =IFERROR(IF(X20>=1,Y20,""),"") -> 16.डीडवाना रोड,कोलिया | M14: पदस्थापन-
A15: =IFERROR(IF(AI20>=1,AJ20,""),"") -> 17 सांसियो का मोहल्ला, कोलिया
A16: =IFERROR(IF(M19>=1,N19,""),"") -> 11.खातियों का बास,कोलिया | M16: अपने भाग संख्या के क्षेत्र के वासस्थान/मोहल्ला के नाम नीचे लिखें-
A17: =IFERROR(IF(X19>=1,Y19,""),"") -> 12.मेघवालों का बास,कोलिया | M17: =IF(LEN(N17)>=2,1,0) -> 1
A18: =IFERROR(IF(AI19>=1,AJ19,""),"") -> 13सांखलों का बास,कोलिया 14.प्रजापत कालोनी,कोलिया | M18: =IF(LEN(N18)>=2,AI17+1,0) -> 4
A19: =IFERROR(IF(M20>=1,N20,""),"") -> 15.सिलावटो का बास,कोलिया | M19: =IF(LEN(N19)>=2,AI18+1,0) -> 7
A20: =IFERROR(IF(X20>=1,Y20,""),"") -> 16.डीडवाना रोड,कोलिया | M20: =IF(LEN(N20)>=2,AI19+1,0) -> 10
A21: =IFERROR(IF(AI20>=1,AJ20,""),"") -> 17 सांसियो का मोहल्ला, कोलिया
M22: मतदाता विवरण
M23: मतदाता सूची में अंकित मतदाता
M24: पुरुष
M25: =COUNTIFS('M. SUCHI'!$E$6:$E$1316,">=1",'M. SUCHI'!$K$6:$K$1316,M24) -> 0

Sheet M. SUCHI
G1: =IFERROR(IF(G2>=H1,DATE(YEAR(G2),1,1),0),0) -> 45292 | S1: YES
G2: =TODAY() -> 45359
E3: इस शीट में अपने क्षेत्र की मतदाता सूची में वर्णित सभी मतदाताओं का विवरण भरें एवं अपडेट मतदाता सूची जारी होने पर इस शीट को भी समय-समय पर अपडेट करते रहें
E5: क्र.सं.
D6: =IF(E6>=1,(IF(LEN(I6)>=2,(IF(LEN(K6)>=1,(IF(N6>=18,1,0)),0)),0)),0) -> 1
D7: =IF(E7>=1,(IF(LEN(I7)>=2,(IF(LEN(K7)>=1,(IF(N7>=18,1,0)),0)),0)),0) -> 0
D8: =IF(E8>=1,(IF(LEN(I8)>=2,(IF(LEN(K8)>=1,(IF(N8>=18,1,0)),0)),0)),0) -> 0
D9: =IF(E9>=1,(IF(LEN(I9)>=2,(IF(LEN(K9)>=1,(IF(N9>=18,1,0)),0)),0)),0) -> 0
D10: =IF(E10>=1,(IF(LEN(I10)>=2,(IF(LEN(K10)>=1,(IF(N10>=18,1,0)),0)),0)),0) -> 0
D11: =IF(E11>=1,(IF(LEN(I11)>=2,(IF(LEN(K11)>=1,(IF(N11>=18,1,0)),0)),0)),0) -> 0
D12: =IF(E12>=1,(IF(LEN(I12)>=2,(IF(LEN(K12)>=1,(IF(N12>=18,1,0)),0)),0)),0) -> 0
D13: =IF(E13>=1,(IF(LEN(I13)>=2,(IF(LEN(K13)>=1,(IF(N13>=18,1,0)),0)),0)),0) -> 0
D14: =IF(E14>=1,(IF(LEN(I14)>=2,(IF(LEN(K14)>=1,(IF(N14>=18,1,0)),0)),0)),0) -> 0
D15: =IF(E15>=1,(IF(LEN(I15)>=2,(IF(LEN(K15)>=1,(IF(N15>=18,1,0)),0)),0)),0) -> 0
D16: =IF(E16>=1,(IF(LEN(I16)>=2,(IF(LEN(K16)>=1,(IF(N16>=18,1,0)),0)),0)),0) -> 0
D17: =IF(E17>=1,(IF(LEN(I17)>=2,(IF(LEN(K17)>=1,(IF(N17>=18,1,0)),0)),0)),0) -> 0
... D151: =IF(E151>=1,(IF(LEN(I151)>=2,(IF(LEN(K151)>=1,(IF(N151>=18,1,0)),0)),0)),0) -> 0
D152: =IF(E152>=1,(IF(LEN(J156)>=2,(IF(LEN(K152)>=1,(IF(N152>=18,1,0)),0)),0)),0) -> 0
D153: =IF(E153>=1,(IF(LEN(I153)>=2,(IF(LEN(K153)>=1,(IF(N153>=18,1,0)),0)),0)),0) -> 0
D154: =IF(E154>=1,(IF(LEN(I154)>=2,(IF(LEN(K154)>=1,(IF(N154>=18,1,0)),0)),0)),0) -> 0
D155: =IF(E155>=1,(IF(LEN(I155)>=2,(IF(LEN(K155)>=1,(IF(N155>=18,1,0)),0)),0)),0) -> 0
D156: =IF(E156>=1,(IF(LEN(I156)>=2,(IF(LEN(K156)>=1,(IF(N156>=18,1,0)),0)),0)),0) -> 0
D157: =IF(E157>=1,(IF(LEN(I157)>=2,(IF(LEN(K157)>=1,(IF(N157>=18,1,0)),0)),0)),0) -> 0
D158: =IF(E158>=1,(IF(LEN(I158)>=2,(IF(LEN(K158)>=1,(IF(N158>=18,1,0)),0)),0)),0) -> 0
D159: =IF(E159>=1,(IF(LEN(I159)>=2,(IF(LEN(K159)>=1,(IF(N159>=18,1,0)),0)),0)),0) -> 0
D160: =IF(E160>=1,(IF(LEN(I160)>=2,(IF(LEN(K160)>=1,(IF(N160>=18,1,0)),0)),0)),0) -> 0
D161: =IF(E161>=1,(IF(LEN(I161)>=2,(IF(LEN(K161)>=1,(IF(N161>=18,1,0)),0)),0)),0) -> 0
D162: =IF(E162>=1,(IF(LEN(I162)>=2,(IF(LEN(K162)>=1,(IF(N162>=18,1,0)),0)),0)),0) -> 0
D163: =IF(E163>=1,(IF(LEN(I163)>=2,(IF(LEN(K163)>=1,(IF(N163>=18,1,0)),0)),0)),0) -> 0
D164: =IF(E164>=1,(IF(LEN(I164)>=2,(IF(LEN(K164)>=1,(IF(N164>=18,1,0)),0)),0)),0) -> 0
... D185: =IF(E185>=1,(IF(LEN(I185)>=2,(IF(LEN(K185)>=1,(IF(N185>=18,1,0)),0)),0)),0) -> 0
D186: =IF(E184>=1,(IF(LEN(I186)>=2,(IF(LEN(K186)>=1,(IF(N186>=18,1,0)),0)),0)),0) -> 0
D187: =IF(E187>=1,(IF(LEN(I187)>=2,(IF(LEN(K187)>=1,(IF(N187>=18,1,0)),0)),0)),0) -> 0
D188: =IF(E188>=1,(IF(LEN(I188)>=2,(IF(LEN(K188)>=1,(IF(N188>=18,1,0)),0)),0)),0) -> 0
D189: =IF(E189>=1,(IF(LEN(I189)>=2,(IF(LEN(K189)>=1,(IF(N189>=18,1,0)),0)),0)),0) -> 0
D190: =IF(E190>=1,(IF(LEN(I190)>=2,(IF(LEN(K190)>=1,(IF(N190>=18,1,0)),0)),0)),0) -> 0
D191: =IF(E191>=1,(IF(LEN(I191)>=2,(IF(LEN(K191)>=1,(IF(N191>=18,1,0)),0)),0)),0) -> 0
D192: =IF(E192>=1,(IF(LEN(I192)>=2,(IF(LEN(K192)>=1,(IF(N192>=18,1,0)),0)),0)),0) -> 0
D193: =IF(E193>=1,(IF(LEN(I193)>=2,(IF(LEN(K193)>=1,(IF(N193>=18,1,0)),0)),0)),0) -> 0
D194: =IF(E194>=1,(IF(LEN(I194)>=2,(IF(LEN(K194)>=1,(IF(N194>=18,1,0)),0)),0)),0) -> 0
D195: =IF(E195>=1,(IF(LEN(I195)>=2,(IF(LEN(K195)>=1,(IF(N195>=18,1,0)),0)),0)),0) -> 0
D196: =IF(E196>=1,(IF(LEN(I196)>=2,(IF(LEN(K196)>=1,(IF(N196>=18,1,0)),0)),0)),0) -> 0
D197: =IF(E197>=1,(IF(LEN(I197)>=2,(IF(LEN(K197)>=1,(IF(N197>=18,1,0)),0)),0)),0) -> 0
D198: =IF(E198>=1,(IF(LEN(I198)>=2,(IF(LEN(K198)>=1,(IF(N198>=18,1,0)),0)),0)),0) -> 0
... D818: =IF(E818>=1,(IF(LEN(I818)>=2,(IF(LEN(K818)>=1,(IF(N818>=18,1,0)),0)),0)),0) -> 0
D819: =IF(E819>=1,(IF(LEN(I820)>=2,(IF(LEN(K820)>=1,(IF(N820>=18,1,0)),0)),0)),0) -> 0
D820: =IF(E820>=1,(IF(LEN(I819)>=2,(IF(LEN(K819)>=1,(IF(N819>=18,1,0)),0)),0)),0) -> 0
D821: =IF(E821>=1,(IF(LEN(I821)>=2,(IF(LEN(K821)>=1,(IF(N821>=18,1,0)),0)),0)),0) -> 0
D822: =IF(E822>=1,(IF(LEN(I822)>=2,(IF(LEN(K822)>=1,(IF(N822>=18,1,0)),0)),0)),0) -> 0
D823: =IF(E823>=1,(IF(LEN(I823)>=2,(IF(LEN(K823)>=1,(IF(N823>=18,1,0)),0)),0)),0) -> 0
D824: =IF(E824>=1,(IF(LEN(I824)>=2,(IF(LEN(K824)>=1,(IF(N824>=18,1,0)),0)),0)),0) -> 0
D825: =IF(E825>=1,(IF(LEN(I825)>=2,(IF(LEN(K825)>=1,(IF(N825>=18,1,0)),0)),0)),0) -> 0
D826: =IF(E826>=1,(IF(LEN(I826)>=2,(IF(LEN(K826)>=1,(IF(N826>=18,1,0)),0)),0)),0) -> 0
D827: =IF(E827>=1,(IF(LEN(I827)>=2,(IF(LEN(K827)>=1,(IF(N827>=18,1,0)),0)),0)),0) -> 0
D828: =IF(E828>=1,(IF(LEN(I828)>=2,(IF(LEN(K828)>=1,(IF(N828>=18,1,0)),0)),0)),0) -> 0
D829: =IF(E829>=1,(IF(LEN(I829)>=2,(IF(LEN(K829)>=1,(IF(N829>=18,1,0)),0)),0)),0) -> 0
D830: =IF(E830>=1,(IF(LEN(I830)>=2,(IF(LEN(K830)>=1,(IF(N830>=18,1,0)),0)),0)),0) -> 0
D831: =IF(E831>=1,(IF(LEN(I831)>=2,(IF(LEN(K831)>=1,(IF(N831>=18,1,0)),0)),0)),0) -> 0
D832: =IF(E832>=1,(IF(LEN(I832)>=2,(IF(LEN(K832)>=1,(IF(N832>=18,1,0)),0)),0)),0) -> 0
... D1058: =IF(E1058>=1,(IF(LEN(I1058)>=2,(IF(LEN(K1058)>=1,(IF(N1058>=18,1,0)),0)),0)),0) -> 0
D1059: =IF(E1059>=1,(IF(LEN(I1055)>=2,(IF(LEN(K1055)>=1,(IF(N1055>=18,1,0)),0)),0)),0) -> 0
D1060: =IF(E1060>=1,(IF(LEN(I1060)>=2,(IF(LEN(K1060)>=1,(IF(N1060>=18,1,0)),0)),0)),0) -> 0
D1061: =IF(E1061>=1,(IF(LEN(I1061)>=2,(IF(LEN(K1061)>=1,(IF(N1061>=18,1,0)),0)),0)),0) -> 0
D1062: =IF(E1062>=1,(IF(LEN(I1032)>=2,(IF(LEN(K1032)>=1,(IF(N1032>=18,1,0)),0)),0)),0) -> 0
D1063: =IF(E1063>=1,(IF(LEN(I1059)>=2,(IF(LEN(K1059)>=1,(IF(N1059>=18,1,0)),0)),0)),0) -> 0
D1064: =IF(E1064>=1,(IF(LEN(I1034)>=2,(IF(LEN(K1034)>=1,(IF(N1034>=18,1,0)),0)),0)),0) -> 0
D1065: =IF(E1065>=1,(IF(LEN(I1061)>=2,(IF(LEN(K1061)>=1,(IF(N1061>=18,1,0)),0)),0)),0) -> 0
D1066: =IF(E1066>=1,(IF(LEN(I1066)>=2,(IF(LEN(K1066)>=1,(IF(N1066>=18,1,0)),0)),0)),0) -> 0
D1067: =IF(E1067>=1,(IF(LEN(I1067)>=2,(IF(LEN(K1067)>=1,(IF(N1067>=18,1,0)),0)),0)),0) -> 0
D1068: =IF(E1068>=1,(IF(LEN(I1068)>=2,(IF(LEN(K1068)>=1,(IF(N1068>=18,1,0)),0)),0)),0) -> 0
D1069: =IF(E1069>=1,(IF(LEN(I1069)>=2,(IF(LEN(K1069)>=1,(IF(N1069>=18,1,0)),0)),0)),0) -> 0
D1070: =IF(E1070>=1,(IF(LEN(I1070)>=2,(IF(LEN(K1070)>=1,(IF(N1070>=18,1,0)),0)),0)),0) -> 0
D1071: =IF(E1071>=1,(IF(LEN(I1071)>=2,(IF(LEN(K1071)>=1,(IF(N1071>=18,1,0)),0)),0)),0) -> 0
D1072: =IF(E1072>=1,(IF(LEN(I1072)>=2,(IF(LEN(K1072)>=1,(IF(N1072>=18,1,0)),0)),0)),0) -> 0
D1073: =IF(E1073>=1,(IF(LEN(I1073)>=2,(IF(LEN(K1073)>=1,(IF(N1073>=18,1,0)),0)),0)),0) -> 0
D1074: =IF(E1074>=1,(IF(LEN(I1074)>=2,(IF(LEN(K1074)>=1,(IF(N1074>=18,1,0)),0)),0)),0) -> 0
D1075: =IF(E1075>=1,(IF(LEN(I1075)>=2,(IF(LEN(K1075)>=1,(IF(N1075>=18,1,0)),0)),0)),0) -> 0
D1076: =IF(E1076>=1,(IF(LEN(I1076)>=2,(IF(LEN(K1076)>=1,(IF(N1076>=18,1,0)),0)),0)),0) -> 0
D1077: =IF(E1077>=1,(IF(LEN(I1077)>=2,(IF(LEN(K1077)>=1,(IF(N1077>=18,1,0)),0)),0)),0) -> 0
... D2501: =IF(E2501>=1,(IF(LEN(I2501)>=2,(IF(LEN(K2501)>=1,(IF(N2501>=18,1,0)),0)),0)),0) -> 0

Sheet NEW
A1: =IFERROR(IF(A2>=B1,DATE(YEAR(A2),1,1),0),0) -> 45292
A2: =TODAY() -> 45359
G4: इस शीट में अपने भाग में निवास करने वाले 18 वर्ष से कम आयु के एवं मतदाता सूची में नाम जुड़वाने से वंचित सभी सदस्यों के नाम लिखें एवं उनकी आयु 18 वर्ष होते ही उनकी ROW का रंग बदल जायेगा, जिससे आप को अपने क्षेत्र के मतदाता सूची में नाम जुड़ने से वंचित की जानकारी मिलेगी तथा उसका नाम मतदाता सूची में नाम जुड़ने पर स्टेटस में YES चयन करें तथा समय-समय पर अपडेट करते रहें-
G5: क्र.सं.
F7: =IF(G7>=1,(IF(LEN(R7)=0,(IF(N7>=18,1,0)),0)),0) -> 1
F8: =IF(G8>=1,(IF(LEN(R8)=0,(IF(N8>=18,1,0)),0)),0) -> 1
F9: =IF(G9>=1,(IF(LEN(R9)=0,(IF(N9>=18,1,0)),0)),0) -> 0
F10: =IF(G10>=1,(IF(LEN(R10)=0,(IF(N10>=18,1,0)),0)),0) -> 0
F11: =IF(G11>=1,(IF(LEN(R11)=0,(IF(N11>=18,1,0)),0)),0) -> 0
F12: =IF(G12>=1,(IF(LEN(R12)=0,(IF(N12>=18,1,0)),0)),0) -> 0
F13: =IF(G13>=1,(IF(LEN(R13)=0,(IF(N13>=18,1,0)),0)),0) -> 0
F14: =IF(G14>=1,(IF(LEN(R14)=0,(IF(N14>=18,1,0)),0)),0) -> 0
F15: =IF(G15>=1,(IF(LEN(R15)=0,(IF(N15>=18,1,0)),0)),0) -> 0
F16: =IF(G16>=1,(IF(LEN(R16)=0,(IF(N16>=18,1,0)),0)),0) -> 0
F17: =IF(G17>=1,(IF(LEN(R17)=0,(IF(N17>=18,1,0)),0)),0) -> 0
F18: =IF(G18>=1,(IF(LEN(R18)=0,(IF(N18>=18,1,0)),0)),0) -> 0
... F2506: =IF(G2506>=1,(IF(LEN(R2506)=0,(IF(N2506>=18,1,0)),0)),0) -> 0

Sheet PLAN
A1: =LARGE(B4:B245,1) -> 2 | C1: निर्वाचन विभाग द्वारा समय-समय पर मतदाता सूची पुनरीक्षण कार्यक्रम की सूची नीचे अपडेट करें-
C2: क्र.सं.
B4: =IFERROR(IF(C4>=1,(IF($R$4=1,(IF($R$1>=E4,(IF($R$1<=F4,(IF($R$2>=E4,(IF($R$2<=F4,C4,0)),0)),0)),0)),0)),0),0) -> 0
B5: =IFERROR(IF(C5>=1,(IF($R$4=1,(IF($R$1>=E5,(IF($R$1<=F5,(IF($R$2>=E5,(IF($R$2<=F5,C5,0)),0)),0)),0)),0)),0),0) -> 2
B6: =IFERROR(IF(C6>=1,(IF($R$4=1,(IF($R$1>=E6,(IF($R$1<=F6,(IF($R$2>=E6,(IF($R$2<=F6,C6,0)),0)),0)),0)),0)),0),0) -> 0
B7: =IFERROR(IF(C7>=1,(IF($R$4=1,(IF($R$1>=E7,(IF($R$1<=F7,(IF($R$2>=E7,(IF($R$2<=F7,C7,0)),0)),0)),0)),0)),0),0) -> 0
B8: =IFERROR(IF(C8>=1,(IF($R$4=1,(IF($R$1>=E8,(IF($R$1<=F8,(IF($R$2>=E8,(IF($R$2<=F8,C8,0)),0)),0)),0)),0)),0),0) -> 0
B9: =IFERROR(IF(C9>=1,(IF($R$4=1,(IF($R$1>=E9,(IF($R$1<=F9,(IF($R$2>=E9,(IF($R$2<=F9,C9,0)),0)),0)),0)),0)),0),0) -> 0
B10: =IFERROR(IF(C10>=1,(IF($R$4=1,(IF($R$1>=E10,(IF($R$1<=F10,(IF($R$2>=E10,(IF($R$2<=F10,C10,0)),0)),0)),0)),0)),0),0) -> 0
B11: =IFERROR(IF(C11>=1,(IF($R$4=1,(IF($R$1>=E11,(IF($R$1<=F11,(IF($R$2>=E11,(IF($R$2<=F11,C11,0)),0)),0)),0)),0)),0),0) -> 0
B12: =IFERROR(IF(C12>=1,(IF($R$4=1,(IF($R$1>=E12,(IF($R$1<=F12,(IF($R$2>=E12,(IF($R$2<=F12,C12,0)),0)),0)),0)),0)),0),0) -> 0 | S12: 12
B13: =IFERROR(IF(C13>=1,(IF($R$4=1,(IF($R$1>=E13,(IF($R$1<=F13,(IF($R$2>=E13,(IF($R$2<=F13,C13,0)),0)),0)),0)),0)),0),0) -> 0 | S13: 13 | V13: 2030
B14: =IFERROR(IF(C14>=1,(IF($R$4=1,(IF($R$1>=E14,(IF($R$1<=F14,(IF($R$2>=E14,(IF($R$2<=F14,C14,0)),0)),0)),0)),0)),0),0) -> 0 | S14: 14 | W14: 0
B15: =IFERROR(IF(C15>=1,(IF($R$4=1,(IF($R$1>=E15,(IF($R$1<=F15,(IF($R$2>=E15,(IF($R$2<=F15,C15,0)),0)),0)),0)),0)),0),0) -> 0 | S15: 15 | W15: 0
B16: =IFERROR(IF(C16>=1,(IF($R$4=1,(IF($R$1>=E16,(IF($R$1<=F16,(IF($R$2>=E16,(IF($R$2<=F16,C16,0)),0)),0)),0)),0)),0),0) -> 0 | S16: 16 | W16: 0
B17: =IFERROR(IF(C17>=1,(IF($R$4=1,(IF($R$1>=E17,(IF($R$1<=F17,(IF($R$2>=E17,(IF($R$2<=F17,C17,0)),0)),0)),0)),0)),0),0) -> 0 | S17: 17 | W17: 0
B18: =IFERROR(IF(C18>=1,(IF($R$4=1,(IF($R$1>=E18,(IF($R$1<=F18,(IF($R$2>=E18,(IF($R$2<=F18,C18,0)),0)),0)),0)),0)),0),0) -> 0 | S18: 18 | W18: 0
B19: =IFERROR(IF(C19>=1,(IF($R$4=1,(IF($R$1>=E19,(IF($R$1<=F19,(IF($R$2>=E19,(IF($R$2<=F19,C19,0)),0)),0)),0)),0)),0),0) -> 0 | S19: 19 | W19: 0
B20: =IFERROR(IF(C20>=1,(IF($R$4=1,(IF($R$1>=E20,(IF($R$1<=F20,(IF($R$2>=E20,(IF($R$2<=F20,C20,0)),0)),0)),0)),0)),0),0) -> 0 | S20: 20 | W20: 0
B21: =IFERROR(IF(C21>=1,(IF($R$4=1,(IF($R$1>=E21,(IF($R$1<=F21,(IF($R$2>=E21,(IF($R$2<=F21,C21,0)),0)),0)),0)),0)),0),0) -> 0 | S21: 21 | W21: 0
B22: =IFERROR(IF(C22>=1,(IF($R$4=1,(IF($R$1>=E22,(IF($R$1<=F22,(IF($R$2>=E22,(IF($R$2<=F22,C22,0)),0)),0)),0)),0)),0),0) -> 0 | S22: 22 | W22: 0
B23: =IFERROR(IF(C23>=1,(IF($R$4=1,(IF($R$1>=E23,(IF($R$1<=F23,(IF($R$2>=E23,(IF($R$2<=F23,C23,0)),0)),0)),0)),0)),0),0) -> 0 | S23: 23 | W23: 0
B24: =IFERROR(IF(C24>=1,(IF($R$4=1,(IF($R$1>=E24,(IF($R$1<=F24,(IF($R$2>=E24,(IF($R$2<=F24,C24,0)),0)),0)),0)),0)),0),0) -> 0 | S24: 24 | W24: 0
B25: =IFERROR(IF(C25>=1,(IF($R$4=1,(IF($R$1>=E25,(IF($R$1<=F25,(IF($R$2>=E25,(IF($R$2<=F25,C25,0)),0)),0)),0)),0)),0),0) -> 0 | S25: 25 | W25: 0
... B31: =IFERROR(IF(C31>=1,(IF($R$4=1,(IF($R$1>=E31,(IF($R$1<=F31,(IF($R$2>=E31,(IF($R$2<=F31,C31,0)),0)),0)),0)),0)),0),0) -> 0 | S31: 31 | W31: 0
B32: =IFERROR(IF(C32>=1,(IF($R$4=1,(IF($R$1>=E32,(IF($R$1<=F32,(IF($R$2>=E32,(IF($R$2<=F32,C32,0)),0)),0)),0)),0)),0),0) -> 0 | W32: 0
B33: =IFERROR(IF(C33>=1,(IF($R$4=1,(IF($R$1>=E33,(IF($R$1<=F33,(IF($R$2>=E33,(IF($R$2<=F33,C33,0)),0)),0)),0)),0)),0),0) -> 0 | W33: 0
B34: =IFERROR(IF(C34>=1,(IF($R$4=1,(IF($R$1>=E34,(IF($R$1<=F34,(IF($R$2>=E34,(IF($R$2<=F34,C34,0)),0)),0)),0)),0)),0),0) -> 0 | W34: 0
B35: =IFERROR(IF(C35>=1,(IF($R$4=1,(IF($R$1>=E35,(IF($R$1<=F35,(IF($R$2>=E35,(IF($R$2<=F35,C35,0)),0)),0)),0)),0)),0),0) -> 0 | W35: 0
B36: =IFERROR(IF(C36>=1,(IF($R$4=1,(IF($R$1>=E36,(IF($R$1<=F36,(IF($R$2>=E36,(IF($R$2<=F36,C36,0)),0)),0)),0)),0)),0),0) -> 0 | W36: 0
B37: =IFERROR(IF(C37>=1,(IF($R$4=1,(IF($R$1>=E37,(IF($R$1<=F37,(IF($R$2>=E37,(IF($R$2<=F37,C37,0)),0)),0)),0)),0)),0),0) -> 0 | W37: 0
B38: =IFERROR(IF(C38>=1,(IF($R$4=1,(IF($R$1>=E38,(IF($R$1<=F38,(IF($R$2>=E38,(IF($R$2<=F38,C38,0)),0)),0)),0)),0)),0),0) -> 0 | W38: 0
B39: =IFERROR(IF(C39>=1,(IF($R$4=1,(IF($R$1>=E39,(IF($R$1<=F39,(IF($R$2>=E39,(IF($R$2<=F39,C39,0)),0)),0)),0)),0)),0),0) -> 0 | W39: 0
B40: =IFERROR(IF(C40>=1,(IF($R$4=1,(IF($R$1>=E40,(IF($R$1<=F40,(IF($R$2>=E40,(IF($R$2<=F40,C40,0)),0)),0)),0)),0)),0),0) -> 0 | W40: 0
B41: =IFERROR(IF(C41>=1,(IF($R$4=1,(IF($R$1>=E41,(IF($R$1<=F41,(IF($R$2>=E41,(IF($R$2<=F41,C41,0)),0)),0)),0)),0)),0),0) -> 0 | W41: 0
B42: =IFERROR(IF(C42>=1,(IF($R$4=1,(IF($R$1>=E42,(IF($R$1<=F42,(IF($R$2>=E42,(IF($R$2<=F42,C42,0)),0)),0)),0)),0)),0),0) -> 0 | W42: 0
B43: =IFERROR(IF(C43>=1,(IF($R$4=1,(IF($R$1>=E43,(IF($R$1<=F43,(IF($R$2>=E43,(IF($R$2<=F43,C43,0)),0)),0)),0)),0)),0),0) -> 0 | W43: 0
... B68: =IFERROR(IF(C68>=1,(IF($R$4=1,(IF($R$1>=E68,(IF($R$1<=F68,(IF($R$2>=E68,(IF($R$2<=F68,C68,0)),0)),0)),0)),0)),0),0) -> 0 | W68: 0
B69: =IFERROR(IF(C69>=1,(IF($R$4=1,(IF($R$1>=E69,(IF($R$1<=F69,(IF($R$2>=E69,(IF($R$2<=F69,C69,0)),0)),0)),0)),0)),0),0) -> 0 | W69: =IFERROR(IF(C69>=1,(IF($R$1>=E69,(IF($R$2<=F69,C69,)),0)),0),0) -> 0
B70: =IFERROR(IF(C70>=1,(IF($R$4=1,(IF($R$1>=E70,(IF($R$1<=F70,(IF($R$2>=E70,(IF($R$2<=F70,C70,0)),0)),0)),0)),0)),0),0) -> 0 | W70: =IFERROR(IF(C70>=1,(IF($R$1>=E70,(IF($R$2<=F70,C70,)),0)),0),0) -> 0
B71: =IFERROR(IF(C71>=1,(IF($R$4=1,(IF($R$1>=E71,(IF($R$1<=F71,(IF($R$2>=E71,(IF($R$2<=F71,C71,0)),0)),0)),0)),0)),0),0) -> 0 | W71: =IFERROR(IF(C71>=1,(IF($R$1>=E71,(IF($R$2<=F71,C71,)),0)),0),0) -> 0
B72: =IFERROR(IF(C72>=1,(IF($R$4=1,(IF($R$1>=E72,(IF($R$1<=F72,(IF($R$2>=E72,(IF($R$2<=F72,C72,0)),0)),0)),0)),0)),0),0) -> 0 | W72: =IFERROR(IF(C72>=1,(IF($R$1>=E72,(IF($R$2<=F72,C72,)),0)),0),0) -> 0
B73: =IFERROR(IF(C73>=1,(IF($R$4=1,(IF($R$1>=E73,(IF($R$1<=F73,(IF($R$2>=E73,(IF($R$2<=F73,C73,0)),0)),0)),0)),0)),0),0) -> 0 | W73: =IFERROR(IF(C73>=1,(IF($R$1>=E73,(IF($R$2<=F73,C73,)),0)),0),0) -> 0
B74: =IFERROR(IF(C74>=1,(IF($R$4=1,(IF($R$1>=E74,(IF($R$1<=F74,(IF($R$2>=E74,(IF($R$2<=F74,C74,0)),0)),0)),0)),0)),0),0) -> 0 | W74: =IFERROR(IF(C74>=1,(IF($R$1>=E74,(IF($R$2<=F74,C74,)),0)),0),0) -> 0
B75: =IFERROR(IF(C75>=1,(IF($R$4=1,(IF($R$1>=E75,(IF($R$1<=F75,(IF($R$2>=E75,(IF($R$2<=F75,C75,0)),0)),0)),0)),0)),0),0) -> 0 | W75: =IFERROR(IF(C75>=1,(IF($R$1>=E75,(IF($R$2<=F75,C75,)),0)),0),0) -> 0
B76: =IFERROR(IF(C76>=1,(IF($R$4=1,(IF($R$1>=E76,(IF($R$1<=F76,(IF($R$2>=E76,(IF($R$2<=F76,C76,0)),0)),0)),0)),0)),0),0) -> 0 | W76: =IFERROR(IF(C76>=1,(IF($R$1>=E76,(IF($R$2<=F76,C76,)),0)),0),0) -> 0
B77: =IFERROR(IF(C77>=1,(IF($R$4=1,(IF($R$1>=E77,(IF($R$1<=F77,(IF($R$2>=E77,(IF($R$2<=F77,C77,0)),0)),0)),0)),0)),0),0) -> 0 | W77: =IFERROR(IF(C77>=1,(IF($R$1>=E77,(IF($R$2<=F77,C77,)),0)),0),0) -> 0
B78: =IFERROR(IF(C78>=1,(IF($R$4=1,(IF($R$1>=E78,(IF($R$1<=F78,(IF($R$2>=E78,(IF($R$2<=F78,C78,0)),0)),0)),0)),0)),0),0) -> 0 | W78: =IFERROR(IF(C78>=1,(IF($R$1>=E78,(IF($R$2<=F78,C78,)),0)),0),0) -> 0
B79: =IFERROR(IF(C79>=1,(IF($R$4=1,(IF($R$1>=E79,(IF($R$1<=F79,(IF($R$2>=E79,(IF($R$2<=F79,C79,0)),0)),0)),0)),0)),0),0) -> 0 | W79: =IFERROR(IF(C79>=1,(IF($R$1>=E79,(IF($R$2<=F79,C79,)),0)),0),0) -> 0
B80: =IFERROR(IF(C80>=1,(IF($R$4=1,(IF($R$1>=E80,(IF($R$1<=F80,(IF($R$2>=E80,(IF($R$2<=F80,C80,0)),0)),0)),0)),0)),0),0) -> 0 | W80: =IFERROR(IF(C80>=1,(IF($R$1>=E80,(IF($R$2<=F80,C80,)),0)),0),0) -> 0
... B245: =IFERROR(IF(C245>=1,(IF($R$4=1,(IF($R$1>=E245,(IF($R$1<=F245,(IF($R$2>=E245,(IF($R$2<=F245,C245,0)),0)),0)),0)),0)),0),0) -> 0 | W245: =IFERROR(IF(C245>=1,(IF($R$1>=E245,(IF($R$2<=F245,C245,)),0)),0),0) -> 0

Sheet R-6
A1: नवीन | G1: =IFERROR(IF(G2>=H1,DATE(YEAR(G2),1,1),0),0) -> 45292
A2: स्थानान्तरित | G2: =TODAY() -> 45359
C3: F
A4: पिता | AX4: स्वीकृत
A5: माता | G5: मतदाता सूची में नाम जोड़ने हेतु फॉर्म 6 के लिए रजिस्टर | AX5: अस्वीकृत
A6: पति | G6: क्र.सं. | AW6: स्थिति
A7: पत्नि
A8: अन्य | F8: =IFERROR(IF($D$11=1,(IF(G8>=1,(IF(H8>=$D$9,(IF(H8<=$D$10,G8,0)),0)),0)),0),0) -> 0
D9: =REPORT!AD11 -> 45292 | F9: =IFERROR(IF($D$11=1,(IF(G9>=1,(IF(H9>=$D$9,(IF(H9<=$D$10,G9,0)),0)),0)),0),0) -> 0
A10: पुरुष | D10: =REPORT!AG11 -> 45382 | F10: =IFERROR(IF($D$11=1,(IF(G10>=1,(IF(H10>=$D$9,(IF(H10<=$D$10,G10,0)),0)),0)),0),0) -> 0
A11: स्त्री | D11: =IFERROR(IF(D9>=E5,(IF(D10>=E5,(IF(D10>=D9,1,0)),0)),0),0) -> 1 | F11: =IFERROR(IF($D$11=1,(IF(G11>=1,(IF(H11>=$D$9,(IF(H11<=$D$10,G11,0)),0)),0)),0),0) -> 0
A12: अन्य | F12: =IFERROR(IF($D$11=1,(IF(G12>=1,(IF(H12>=$D$9,(IF(H12<=$D$10,G12,0)),0)),0)),0),0) -> 0
F13: =IFERROR(IF($D$11=1,(IF(G13>=1,(IF(H13>=$D$9,(IF(H13<=$D$10,G13,0)),0)),0)),0),0) -> 0
F14: =IFERROR(IF($D$11=1,(IF(G14>=1,(IF(H14>=$D$9,(IF(H14<=$D$10,G14,0)),0)),0)),0),0) -> 0
F15: =IFERROR(IF($D$11=1,(IF(G15>=1,(IF(H15>=$D$9,(IF(H15<=$D$10,G15,0)),0)),0)),0),0) -> 0
F16: =IFERROR(IF($D$11=1,(IF(G16>=1,(IF(H16>=$D$9,(IF(H16<=$D$10,G16,0)),0)),0)),0),0) -> 0
F17: =IFERROR(IF($D$11=1,(IF(G17>=1,(IF(H17>=$D$9,(IF(H17<=$D$10,G17,0)),0)),0)),0),0) -> 0
F18: =IFERROR(IF($D$11=1,(IF(G18>=1,(IF(H18>=$D$9,(IF(H18<=$D$10,G18,0)),0)),0)),0),0) -> 0
F19: =IFERROR(IF($D$11=1,(IF(G19>=1,(IF(H19>=$D$9,(IF(H19<=$D$10,G19,0)),0)),0)),0),0) -> 0
F20: =IFERROR(IF($D$11=1,(IF(G20>=1,(IF(H20>=$D$9,(IF(H20<=$D$10,G20,0)),0)),0)),0),0) -> 0
F21: =IFERROR(IF($D$11=1,(IF(G21>=1,(IF(H21>=$D$9,(IF(H21<=$D$10,G21,0)),0)),0)),0),0) -> 0
F22: =IFERROR(IF($D$11=1,(IF(G22>=1,(IF(H22>=$D$9,(IF(H22<=$D$10,G22,0)),0)),0)),0),0) -> 0
F23: =IFERROR(IF($D$11=1,(IF(G23>=1,(IF(H23>=$D$9,(IF(H23<=$D$10,G23,0)),0)),0)),0),0) -> 0
F24: =IFERROR(IF($D$11=1,(IF(G24>=1,(IF(H24>=$D$9,(IF(H24<=$D$10,G24,0)),0)),0)),0),0) -> 0
... F920: =IFERROR(IF($D$11=1,(IF(G920>=1,(IF(H920>=$D$9,(IF(H920<=$D$10,G920,0)),0)),0)),0),0) -> 0

Sheet F-6
AB4: 1
A7: पहली बार मतदाता या किसी एक निर्वाचन-क्षेत्र से किसी अन्य एक निर्वाचन-क्षेत्र में स्थानान्तरण के कारण
A8: निर्वाचक नामावली में नाम को सम्मिलित करने के लिए आवेदन
A9: सेवा में,
A11: मैं अनुरोध करता हूँ कि मेरे नाम को पूर्वोक्त सभी क्षेत्र के लिए निर्वाचक नामावली में सम्मिलित किया जाए| (समुचित बाक्स
A12: पर सही का निशान लगाएं) पहली बार के मतदाता के रूप में
A13: निर्वाचक नामावली में सम्मिलित किए जाने के लिए मेरे दवे के समर्थन में विशिष्टियां नीचे दी गई हैं:-
A14: आज्ञापक विशिष्टियां
A15: (क)
A16: (ख)
A17: (ग)
A18: (घ)
A21: (ड़)
... A66: (ii)
Z67: राज्य के
A68: (iii)
A71: मामूली रूप से निवास का पूर्व पता (यदि अन्य निर्वाचन क्षेत्र से स्थानान्तरण के कारण आवेदन कर रहे हो)
A72: गृह सं.
A73: शहर/ग्राम-
A74: डाकघर-
A75: जिला-
A76: मैं इस बात से भिज्ञ हूँ कि ऐसा कथन या घोषणा करना, जो मिथ्या है, जिसके प्रति मैं यह जानता हूँ या विश्वास करता हूँ कि यह मिथ्या है या उसके सत्य होने का मुझे विश्वास नहीं है, लोक प्रतिनिधित्व अधिनियम, 1950 (1950 का 43) की धारा 31 के अधीन दण्डनीय है|
A79: स्थान:
A80: तारीख:
A81: क्षेत्र स्तरीय सत्यापन ऑफिसर की टिप्पणी :
A82: =IFERROR(IF($AB$4>=1,VLOOKUP($AB$4,'R-6'!$G$8:$AQ$919,32,0),""),"")
A84: की गई कार्रवाई के ब्यौरे
A85: (निर्वाचन क्षेत्र के निर्वाचक रजिस्ट्रीकरण ऑफिसर द्वारा भरा जाएगा)
A87: प्रारूप 6 में आवेदन को स्वीकार/अस्वीकार किया गया है| स्वीकार करने के [नियम 18/20/26 (4 के अधीन या
A88: अनुसरण में) या नियम 17/20/26 (4) के अधीन अस्वीकार) विस्तृत कारण नीचे दिए गए है:
A89: स्थान:
A90: तारीख:
A91: लिए गए विनिश्चय की संसूचना (निर्वाचन क्षेत्र के निर्वाचक रजिस्ट्रीकरण ऑफिसर द्वारा भरा जाना है और आवेदक द्वारा दिए गए पते पर आवेदक को डाक से भेजा जाना है)
A92: श्री/श्रीमती/कुमारी
A93: वर्तमान पता, जहाँ आवेदक मामूली रूप से निवास करता है|
A94: गली/क्षेत्र/स्थान-
A95: शहर/ग्राम-
A96: डाकघर-
... A104: अभिस्वीकृति सं.

Sheet R-7
A1: अन्य द्वारा आक्षेप | J1: आवेदन पत्र की जांच की गयी जिसके आधार पर मतदाता की मृत्यु/शादी होने के/अन्य कारण नाम हटाने योग्य है|
A2: अन्य द्वारा हटाना | E2: =OFFSET($H$9:$H$1008,,,COUNTIF($H$9:$H$1008,">=1")) -> #REF!
A3: स्वयं द्वारा हटाना
E6: 36526
G9: =IFERROR(IF($E$12=1,(IF(H9>=1,(IF(I9>=$E$10,(IF(I9<=$E$11,H9,0)),0)),0)),0),0) -> 0
E10: =REPORT!AD11 -> 45292 | G10: =IFERROR(IF($E$12=1,(IF(H10>=1,(IF(I10>=$E$10,(IF(I10<=$E$11,H10,0)),0)),0)),0),0) -> 0
E11: =REPORT!AG11 -> 45382 | G11: =IFERROR(IF($E$12=1,(IF(H11>=1,(IF(I11>=$E$10,(IF(I11<=$E$11,H11,0)),0)),0)),0),0) -> 0
E12: =IFERROR(IF(E10>=F6,(IF(E11>=F6,(IF(E11>=E10,1,0)),0)),0),0) -> 1 | G12: =IFERROR(IF($E$12=1,(IF(H12>=1,(IF(I12>=$E$10,(IF(I12<=$E$11,H12,0)),0)),0)),0),0) -> 0
G13: =IFERROR(IF($E$12=1,(IF(H13>=1,(IF(I13>=$E$10,(IF(I13<=$E$11,H13,0)),0)),0)),0),0) -> 0
G14: =IFERROR(IF($E$12=1,(IF(H14>=1,(IF(I14>=$E$10,(IF(I14<=$E$11,H14,0)),0)),0)),0),0) -> 0
G15: =IFERROR(IF($E$12=1,(IF(H15>=1,(IF(I15>=$E$10,(IF(I15<=$E$11,H15,0)),0)),0)),0),0) -> 0
G16: =IFERROR(IF($E$12=1,(IF(H16>=1,(IF(I16>=$E$10,(IF(I16<=$E$11,H16,0)),0)),0)),0),0) -> 0
G17: =IFERROR(IF($E$12=1,(IF(H17>=1,(IF(I17>=$E$10,(IF(I17<=$E$11,H17,0)),0)),0)),0),0) -> 0
G18: =IFERROR(IF($E$12=1,(IF(H18>=1,(IF(I18>=$E$10,(IF(I18<=$E$11,H18,0)),0)),0)),0),0) -> 0
G19: =IFERROR(IF($E$12=1,(IF(H19>=1,(IF(I19>=$E$10,(IF(I19<=$E$11,H19,0)),0)),0)),0),0) -> 0
G20: =IFERROR(IF($E$12=1,(IF(H20>=1,(IF(I20>=$E$10,(IF(I20<=$E$11,H20,0)),0)),0)),0),0) -> 0
G21: =IFERROR(IF($E$12=1,(IF(H21>=1,(IF(I21>=$E$10,(IF(I21<=$E$11,H21,0)),0)),0)),0),0) -> 0
G22: =IFERROR(IF($E$12=1,(IF(H22>=1,(IF(I22>=$E$10,(IF(I22<=$E$11,H22,0)),0)),0)),0),0) -> 0
G23: =IFERROR(IF($E$12=1,(IF(H23>=1,(IF(I23>=$E$10,(IF(I23<=$E$11,H23,0)),0)),0)),0),0) -> 0
G24: =IFERROR(IF($E$12=1,(IF(H24>=1,(IF(I24>=$E$10,(IF(I24<=$E$11,H24,0)),0)),0)),0),0) -> 0
... G1008: =IFERROR(IF($E$12=1,(IF(H1008>=1,(IF(I1008>=$E$10,(IF(I1008<=$E$11,H1008,0)),0)),0)),0),0) -> 0

Sheet F-7
A7: मृत्यु या स्थान परिवर्तन के कारण निर्वाचक नामावली में अन्य व्यक्ति का नाम सम्मिलित करने का आक्षेप/
A8: अपना नाम हटाने/किसी अन्य व्यक्ति का नाम हटाने के लिए आवेदन
A9: सेवा में,
A12: मैं निर्वाचक नामावली में नीचे उल्लिखित व्यक्ति का नाम सम्मिलित किए जाने के प्रस्ताव पर आक्षेप करता हूँ|
A14: मैं निवेदन करता हूँ नीचे उल्लिखित व्यक्ति का नाम से संबंधित प्रविष्टि को हटाया जाना अपेक्षित है|
A16: मैं निवेदन करता हूँ नीचे उल्लिखित मुझसे संबंधित प्रविष्टि हटाई जानी है|
A17: मेरे आक्षेप या हटाएँ जाने के समर्थन में विशिष्टियां नीचे दी जा रही है:
A18: आवेदक की विशिष्टियां
A19: (क)
A20: (ख)
A21: (ग)
A24: (ड़)
... A58: क्षेत्र स्तरीय सत्यापन ऑफिसर की टिप्पणी :
A59: =IFERROR(IF($AB$4>=1,VLOOKUP($AB$4,'R-7'!$H$9:$AD$1008,23,0),""),"")
A61: की गई कार्रवाई के ब्यौरे
A62: (निर्वाचन क्षेत्र के निर्वाचक रजिस्ट्रीकरण ऑफिसर द्वारा भरा जाएगा)
A64: प्ररूप 7 में निर्वाचक नामावली में नाम सम्मिलित किये जाने का आक्षेप या हटाये जाने के आवेदन को स्वीकार कर लिया गया है/ नामंजूर कर दिया गया है|
A65: स्वीकार करने (नियम 18/20/26(4) या उसके अनुसरण में) या नामंजूर (नियम 17/20/26(4) या उसके अनुसरण में) के लिए विस्तृत कारण नीचे दिए गए है|
A67: स्थान:
A68: तारीख:
A69: लिए गए विनिश्चय की सूचना (निर्वाचन क्षेत्र के निर्वाचक रजिस्ट्रीकरण ऑफिसर द्वारा भरा जाना है और अभ्यार्थी के रिकार्ड पर उपलब्ध पते पर डाक द्वारा भेजा जाना है)
A70: श्री/श्रीमती/कुमारी
A71: वर्तमान पता, जहाँ आवेदक मामूली रूप से निवास करता है|
A72: गली/क्षेत्र/स्थान-
A73: शहर/ग्राम-
A74: डाकघर-
... A82: पावती सं.

Sheet R-8
A1: नाम | J1: संलग्न दस्तावेजो के आधार पर प्रार्थी के नाम//संम्बन्धी के नाम/लिंग/पता/फोटू/अन्य में संसोधन करने की अभिशंषा की जाती है BLO --------------
A2: फोटो
A3: ईपीआईसी
A4: लिंग
A5: जन्मतिथि
A6: आयु
A7: संबंधी का नाम
A8: संबंध का प्रकार
A9: पता | G9: मतदाता सूची में प्रविष्टि शुद्धिकरण हेतु फॉर्म-8 की सूची
D10: 36526 | G10: क्र.सं.
F13: =IFERROR(IF($D$16=1,(IF(G13>=1,(IF(H13>=$D$14,(IF(H13<=$D$15,G13,0)),0)),0)),0),0) -> 0
D14: =REPORT!AD11 -> 45292 | F14: =IFERROR(IF($D$16=1,(IF(G14>=1,(IF(H14>=$D$14,(IF(H14<=$D$15,G14,0)),0)),0)),0),0) -> 0
D15: =REPORT!AG11 -> 45382 | F15: =IFERROR(IF($D$16=1,(IF(G15>=1,(IF(H15>=$D$14,(IF(H15<=$D$15,G15,0)),0)),0)),0),0) -> 0
D16: =IFERROR(IF(D14>=E10,(IF(D15>=E10,(IF(D15>=D14,1,0)),0)),0),0) -> 1 | F16: =IFERROR(IF($D$16=1,(IF(G16>=1,(IF(H16>=$D$14,(IF(H16<=$D$15,G16,0)),0)),0)),0),0) -> 0
F17: =IFERROR(IF($D$16=1,(IF(G17>=1,(IF(H17>=$D$14,(IF(H17<=$D$15,G17,0)),0)),0)),0),0) -> 0
F18: =IFERROR(IF($D$16=1,(IF(G18>=1,(IF(H18>=$D$14,(IF(H18<=$D$15,G18,0)),0)),0)),0),0) -> 0
F19: =IFERROR(IF($D$16=1,(IF(G19>=1,(IF(H19>=$D$14,(IF(H19<=$D$15,G19,0)),0)),0)),0),0) -> 0
F20: =IFERROR(IF($D$16=1,(IF(G20>=1,(IF(H20>=$D$14,(IF(H20<=$D$15,G20,0)),0)),0)),0),0) -> 0
F21: =IFERROR(IF($D$16=1,(IF(G21>=1,(IF(H21>=$D$14,(IF(H21<=$D$15,G21,0)),0)),0)),0),0) -> 0
F22: =IFERROR(IF($D$16=1,(IF(G22>=1,(IF(H22>=$D$14,(IF(H22<=$D$15,G22,0)),0)),0)),0),0) -> 0
F23: =IFERROR(IF($D$16=1,(IF(G23>=1,(IF(H23>=$D$14,(IF(H23<=$D$15,G23,0)),0)),0)),0),0) -> 0
F24: =IFERROR(IF($D$16=1,(IF(G24>=1,(IF(H24>=$D$14,(IF(H24<=$D$15,G24,0)),0)),0)),0),0) -> 0
F25: =IFERROR(IF($D$16=1,(IF(G25>=1,(IF(H25>=$D$14,(IF(H25<=$D$15,G25,0)),0)),0)),0),0) -> 0
F26: =IFERROR(IF($D$16=1,(IF(G26>=1,(IF(H26>=$D$14,(IF(H26<=$D$15,G26,0)),0)),0)),0),0) -> 0
F27: =IFERROR(IF($D$16=1,(IF(G27>=1,(IF(H27>=$D$14,(IF(H27<=$D$15,G27,0)),0)),0)),0),0) -> 0
F28: =IFERROR(IF($D$16=1,(IF(G28>=1,(IF(H28>=$D$14,(IF(H28<=$D$15,G28,0)),0)),0)),0),0) -> 0
... F1012: =IFERROR(IF($D$16=1,(IF(G1012>=1,(IF(H1012>=$D$14,(IF(H1012<=$D$15,G1012,0)),0)),0)),0),0) -> 0

Sheet F-8
AB4: 1
A7: निर्वाचक नामावली में प्रविष्ट विशिष्टियों की शुद्धि के लिए आवेदन
A8: सेवा में,
A9: निर्वाचक रजिस्ट्रीकरण ऑफिसर
A11: मैं निवेदन करता हूँ कि उपरोक्त निर्वाचन क्षेत्र की निर्वाचक नामावली में आने वाली मुझसे संबंधित प्रविष्टि शुद्ध नहीं है और इसे शुद्ध कर दिया जाए|
A13: (क)
A14: (ख)
A15: निर्वाचक नामावली के साथ रजिस्ट्रीकरण के ब्यौरे
A16: (ग)
A20: (घ)
A21: (ड़)
A27: शुद्ध की जाने वाली प्रविष्टि में शुद्ध विशिष्टियां नीचे दी गई है-
A28: =IFERROR(IF($AB$4>=1,(IF($W$4>=1,VLOOKUP($Y$12,$W$21:$X$29,2,0),"")),""),"")
A29: =IFERROR(IF($AB$4>=1,(IF($W$4>=1,VLOOKUP($Y$14,$W$21:$X$29,2,0),"")),""),"")
A30: =IFERROR(IF($AB$4>=1,(IF($W$4>=1,VLOOKUP($Y$16,$W$21:$X$29,2,0),"")),""),"")
A31: (च)
A32: (छ)
A48: मुझे ज्ञात है कि ऐसा कथन या घोषणा करना जो असत्य है और जिसे मैं जानता हूँ या विश्वास करता हूँ कि असत्य है या जिसके सत्य होने पर विश्वास नहीं करता हूँ| वह लोक प्रतिनिधित्व अधिनियम, 1950 (1950 का 43) की धारा 31 के अधीन दण्डनीय है|
A52: स्थान:
A53: तारीख:
A54: क्षेत्र स्तरीय सत्यापन ऑफिसर की टिप्पणी :
A55: =IFERROR(IF($AB$4>=1,VLOOKUP($AB$4,'R-8'!$G$13:$AG$1012,27,0),""),"")
A57: की गई कार्रवाई के ब्यौरे
A58: (निर्वाचन क्षेत्र के निर्वाचक रजिस्ट्रीकरण ऑफिसर द्वारा भरा जाएगा)
A60: आवेदन को स्वीकृत/ नामंजूर कर दिया गया है|
A61: (नियम 18/20/26(4) या उसके अनुसरण में) स्वीकार करने या (नियम 17/20/26(4) या उसके अनुसरण में) नामंजूर करने के लिए विस्तृत कारण नीचे दिए गए है|
A63: स्थान:
A64: तारीख:
A65: लिए गए विनिश्चय की सूचना (निर्वाचन क्षेत्र के निर्वाचक रजिस्ट्रीकरण ऑफिसर द्वारा भरा जाना है और अभ्यार्थी के रिकार्ड पर उपलब्ध पते पर डाक द्वारा भेजा जाना है)
A66: श्री/श्रीमती/कुमारी
A67: वर्तमान पता, जहाँ आवेदक मामूली रूप से निवास करता है|
A68: गली/क्षेत्र/स्थान-
A69: शहर/ग्राम-
A70: डाकघर-
... A78: पावती सं.

Sheet R-8क
A1: वीआरसी/सीएससी से
A2: डाक द्वारा
A3: बीएलओ द्वारा
A5: फॉर्म के साथ | D5: =OFFSET($G$10:$G$1009,,,COUNTIF($G$10:$G$1009,">=1")) -> #REF!
A6: बाद में
D7: 36526 | G7: अन्य भाग संख्या से स्थानान्तरित मतदाता हेतु फॉर्म-8क की सूची
G8: क्र.सं.
F10: =IFERROR(IF($D$13=1,(IF(G10>=1,(IF(H10>=$D$11,(IF(H10<=$D$12,G10,0)),0)),0)),0),0) -> 0
D11: =REPORT!AD11 -> 45292 | F11: =IFERROR(IF($D$13=1,(IF(G11>=1,(IF(H11>=$D$11,(IF(H11<=$D$12,G11,0)),0)),0)),0),0) -> 0
D12: =REPORT!AG11 -> 45382 | F12: =IFERROR(IF($D$13=1,(IF(G12>=1,(IF(H12>=$D$11,(IF(H12<=$D$12,G12,0)),0)),0)),0),0) -> 0
D13: =IFERROR(IF(D11>=E7,(IF(D12>=E7,(IF(D12>=D11,1,0)),0)),0),0) -> 1 | F13: =IFERROR(IF($D$13=1,(IF(G13>=1,(IF(H13>=$D$11,(IF(H13<=$D$12,G13,0)),0)),0)),0),0) -> 0
F14: =IFERROR(IF($D$13=1,(IF(G14>=1,(IF(H14>=$D$11,(IF(H14<=$D$12,G14,0)),0)),0)),0),0) -> 0
F15: =IFERROR(IF($D$13=1,(IF(G15>=1,(IF(H15>=$D$11,(IF(H15<=$D$12,G15,0)),0)),0)),0),0) -> 0
A16: प्रार्थी द्वारा स्थाई आवास दूसरी भाग संख्या में परिवर्तन करने के कारण आवेदन को स्वीकार करने की अभिशंषा की जाती है| | F16: =IFERROR(IF($D$13=1,(IF(G16>=1,(IF(H16>=$D$11,(IF(H16<=$D$12,G16,0)),0)),0)),0),0) -> 0
F17: =IFERROR(IF($D$13=1,(IF(G17>=1,(IF(H17>=$D$11,(IF(H17<=$D$12,G17,0)),0)),0)),0),0) -> 0
F18: =IFERROR(IF($D$13=1,(IF(G18>=1,(IF(H18>=$D$11,(IF(H18<=$D$12,G18,0)),0)),0)),0),0) -> 0
F19: =IFERROR(IF($D$13=1,(IF(G19>=1,(IF(H19>=$D$11,(IF(H19<=$D$12,G19,0)),0)),0)),0),0) -> 0
F20: =IFERROR(IF($D$13=1,(IF(G20>=1,(IF(H20>=$D$11,(IF(H20<=$D$12,G20,0)),0)),0)),0),0) -> 0
F21: =IFERROR(IF($D$13=1,(IF(G21>=1,(IF(H21>=$D$11,(IF(H21<=$D$12,G21,0)),0)),0)),0),0) -> 0
F22: =IFERROR(IF($D$13=1,(IF(G22>=1,(IF(H22>=$D$11,(IF(H22<=$D$12,G22,0)),0)),0)),0),0) -> 0
F23: =IFERROR(IF($D$13=1,(IF(G23>=1,(IF(H23>=$D$11,(IF(H23<=$D$12,G23,0)),0)),0)),0),0) -> 0
F24: =IFERROR(IF($D$13=1,(IF(G24>=1,(IF(H24>=$D$11,(IF(H24<=$D$12,G24,0)),0)),0)),0),0) -> 0
F25: =IFERROR(IF($D$13=1,(IF(G25>=1,(IF(H25>=$D$11,(IF(H25<=$D$12,G25,0)),0)),0)),0),0) -> 0
F26: =IFERROR(IF($D$13=1,(IF(G26>=1,(IF(H26>=$D$11,(IF(H26<=$D$12,G26,0)),0)),0)),0),0) -> 0
F27: =IFERROR(IF($D$13=1,(IF(G27>=1,(IF(H27>=$D$11,(IF(H27<=$D$12,G27,0)),0)),0)),0),0) -> 0
F28: =IFERROR(IF($D$13=1,(IF(G28>=1,(IF(H28>=$D$11,(IF(H28<=$D$12,G28,0)),0)),0)),0),0) -> 0
... F1009: =IFERROR(IF($D$13=1,(IF(G1009>=1,(IF(H1009>=$D$11,(IF(H1009<=$D$12,G1009,0)),0)),0)),0),0) -> 0

Sheet F-8क
A1: प्ररूप - 8क | Z1: ü
A2: भारत निर्वाचन आयोग
A3: (अनुबंध I)
A4: प्रतिस्थापन निर्वाचक फोटो पहचान कार्ड (एपिक) जारी करने के लिए आवेदन | AI4: 23
A5: क
A8: ख | Z8: निर्वाचक रजिस्ट्रीकरण ऑफिसर
A9: सेवा में, | Z9: विधानसभा निर्वाचन-क्षेत्र
A15: 1
A16: 3
A17: 5
A18: 6
Z26: =IFERROR(IF($AI$4>=1,VLOOKUP($AI$4,'R-8क'!$G$10:$AF$1009,22,0),""),"")
Z29: =IFERROR(IF($AI$4>=1,VLOOKUP($AI$4,'R-8क'!$G$10:$AF$1009,23,0),""),"")
A33: अधिकारिक इस्तेमाल के लिए
A34: ग
A35: भाग सं.:
A37: पंजी सं.:
A39: सत्यापनकर्ता:
A41: दिनांक:
A42: घ
A43: डुप्लीकेट एपिक प्राप्त करने की तारीख

Sheet I.D.
E1: विधानसभा क्षेत्र का नाम व संख्या-
E2: राजस्व ग्राम-
E3: मतदान केन्द्र का नाम-
E4: निर्वाचन विभाग से प्राप्त मतदाता पहचान पत्र (एपिक) वितरण पत्रक
E5: क्र.सं.

Sheet REPORT
BY1: S
A5: =COUNTIF('R-6'!$F$8:$F$920,">=1") -> 0 | O5: प्ररूप - 9 | DQ5: =CONCATENATE(PLAN!O5," ",PLAN!P5," ",PLAN!Q5) -> 1 JAN 2024
A6: =COUNTIF('R-6'!$F$8:$F$920,"0") -> 913 | O6: (नियम 15 और 16 देखें) | DQ6: =CONCATENATE(PLAN!O7," ",PLAN!P7," ",PLAN!Q7) -> 31 MAR 2024
O7: अभिहित स्थान की पहचान (जहाँ आवेदन प्राप्त किए गए हैं) | DQ7: =PLAN!A1 -> 2
O9: =CONCATENATE(HOME!Z10," (",HOME!M10,HOME!Q10,")") -> रा.प्रा.वि. (कन्या)कोलिया दायाँ भाग (भाग संख्या-72)
O10: 1. सूची संख्या | DQ10: =COUNTIF(DQ17:DQ216,"<=2000") -> 200 | DV10: =COUNTIF(DV17:DV256,"<=2000") -> 240
O11: =IFERROR(IF($A$5>=$A17,1,0),0) -> 0 | DQ11: =COUNTIF(DQ17:DQ216,">=2000") -> 0 | DV11: =COUNTIF(DV17:DV256,">=2000") -> 0
O12: 3. सुनवाई का स्थान -
O13: क्र. सं.
O16: 1
A17: 1 | O17: =IFERROR(IF(B17>=1,A17,0),0) -> 0 | DY17: 1
A18: 2 | O18: =IFERROR(IF(B18>=1,A18,0),0) -> 0
A19: 3 | O19: =IFERROR(IF(B19>=1,A19,0),0) -> 0
A20: 4 | O20: =IFERROR(IF(B20>=1,A20,0),0) -> 0
A21: 5 | O21: =IFERROR(IF(B21>=1,A21,0),0) -> 0
A22: 6 | O22: =IFERROR(IF(B22>=1,A22,0),0) -> 0
A23: 7 | O23: =IFERROR(IF(B23>=1,A23,0),0) -> 0
A24: 8 | O24: =IFERROR(IF(B24>=1,A24,0),0) -> 0
A25: 9 | O25: =IFERROR(IF(B25>=1,A25,0),0) -> 0
A26: 10 | O26: =IFERROR(IF(B26>=1,A26,0),0) -> 0
A27: 11 | O27: =IFERROR(IF(B27>=1,A27,0),0) -> 0
A28: 12 | O28: =IFERROR(IF(B28>=1,A28,0),0) -> 0
A29: 13 | O29: =IFERROR(IF(B29>=1,A29,0),0) -> 0
... A36: 20 | O36: =IFERROR(IF(B36>=1,A36,0),0) -> 0
O40: =IF(O11>=1,DH41,"")
O41: =IF(O11>=1,DH42,"")
O42: =IF(O11>=1,DH43,"")
F44: =IF(O50>=1,1,0) -> 0 | O44: प्ररूप - 9
F45: =F44 -> 0 | O45: (नियम 15 और 16 देखें)
F46: =F45 -> 0 | O46: अभिहित स्थान की पहचान (जहाँ आवेदन प्राप्त किए गए हैं)
F47: =F46 -> 0
F48: =F47 -> 0 | O48: =O9 -> रा.प्रा.वि. (कन्या)कोलिया दायाँ भाग (भाग संख्या-72)
F49: =F48 -> 0 | O49: 1. सूची संख्या
F50: =F49 -> 0 | O50: =IFERROR(IF($A$5>=A56,O11+1,0),0) -> 0
F51: =F50 -> 0 | O51: 3. सुनवाई का स्थान -
F52: =F51 -> 0 | O52: क्र. सं.
F53: =F52 -> 0
F54: =F53 -> 0
F55: =F54 -> 0 | O55: 1
A56: =A17+20 -> 21 | O56: =IFERROR(IF(B56>=1,A56,0),0) -> 0
A57: =A18+20 -> 22 | O57: =IFERROR(IF(B57>=1,A57,0),0) -> 0
A58: =A19+20 -> 23 | O58: =IFERROR(IF(B58>=1,A58,0),0) -> 0
A59: =A20+20 -> 24 | O59: =IFERROR(IF(B59>=1,A59,0),0) -> 0
A60: =A21+20 -> 25 | O60: =IFERROR(IF(B60>=1,A60,0),0) -> 0
A61: =A22+20 -> 26 | O61: =IFERROR(IF(B61>=1,A61,0),0) -> 0
A62: =A23+20 -> 27 | O62: =IFERROR(IF(B62>=1,A62,0),0) -> 0
A63: =A24+20 -> 28 | O63: =IFERROR(IF(B63>=1,A63,0),0) -> 0
A64: =A25+20 -> 29 | O64: =IFERROR(IF(B64>=1,A64,0),0) -> 0
A65: =A26+20 -> 30 | O65: =IFERROR(IF(B65>=1,A65,0),0) -> 0
A66: =A27+20 -> 31 | O66: =IFERROR(IF(B66>=1,A66,0),0) -> 0
A67: =A28+20 -> 32 | O67: =IFERROR(IF(B67>=1,A67,0),0) -> 0
... A75: =A36+20 -> 40 | O75: =IFERROR(IF(B75>=1,A75,0),0) -> 0
F76: =F75 -> 0
F77: =F76 -> 0
F78: =F77 -> 0
F79: =F78 -> 0 | O79: =IF(O50>=1,O40,"")
F80: =F79 -> 0 | O80: =IF(O50>=1,O41,"")
F81: =F80 -> 0 | O81: =IF(O50>=1,O42,"")
F82: =F81 -> 0
F83: =IF(O89>=1,1,0) -> 0 | O83: प्ररूप - 9
F84: =F83 -> 0 | O84: (नियम 15 और 16 देखें)
F85: =F84 -> 0 | O85: अभिहित स्थान की पहचान (जहाँ आवेदन प्राप्त किए गए हैं)
F86: =F85 -> 0
F87: =F86 -> 0 | O87: =O48 -> रा.प्रा.वि. (कन्या)कोलिया दायाँ भाग (भाग संख्या-72)
F88: =F87 -> 0 | O88: 1. सूची संख्या
F89: =F88 -> 0 | O89: =IFERROR(IF($A$5>=A95,O50+1,0),0) -> 0
F90: =F89 -> 0 | O90: 3. सुनवाई का स्थान -
F91: =F90 -> 0 | O91: क्र. सं.
F92: =F91 -> 0
F93: =F92 -> 0
F94: =F93 -> 0 | O94: 1
A95: =A56+20 -> 41 | O95: =IFERROR(IF(B95>=1,A95,0),0) -> 0
A96: =A57+20 -> 42 | O96: =IFERROR(IF(B96>=1,A96,0),0) -> 0
A97: =A58+20 -> 43 | O97: =IFERROR(IF(B97>=1,A97,0),0) -> 0
A98: =A59+20 -> 44 | O98: =IFERROR(IF(B98>=1,A98,0),0) -> 0
A99: =A60+20 -> 45 | O99: =IFERROR(IF(B99>=1,A99,0),0) -> 0
A100: =A61+20 -> 46 | O100: =IFERROR(IF(B100>=1,A100,0),0) -> 0
A101: =A62+20 -> 47 | O101: =IFERROR(IF(B101>=1,A101,0),0) -> 0
A102: =A63+20 -> 48 | O102: =IFERROR(IF(B102>=1,A102,0),0) -> 0
A103: =A64+20 -> 49 | O103: =IFERROR(IF(B103>=1,A103,0),0) -> 0
A104: =A65+20 -> 50 | O104: =IFERROR(IF(B104>=1,A104,0),0) -> 0
A105: =A66+20 -> 51 | O105: =IFERROR(IF(B105>=1,A105,0),0) -> 0
A106: =A67+20 -> 52 | O106: =IFERROR(IF(B106>=1,A106,0),0) -> 0
... A114: =A75+20 -> 60 | O114: =IFERROR(IF(B114>=1,A114,0),0) -> 0
F115: =F114 -> 0
F116: =F115 -> 0
F117: =F116 -> 0
F118: =F117 -> 0 | O118: =IF(O89>=1,O79,"")
F119: =F118 -> 0 | O119: =IF(O89>=1,O80,"")
F120: =F119 -> 0 | O120: =IF(O89>=1,O81,"")
F121: =F120 -> 0
F122: =IF(O128>=1,1,0) -> 0 | O122: प्ररूप - 9
F123: =F122 -> 0 | O123: (नियम 15 और 16 देखें)
F124: =F123 -> 0 | O124: अभिहित स्थान की पहचान (जहाँ आवेदन प्राप्त किए गए हैं)
F125: =F124 -> 0
F126: =F125 -> 0 | O126: =O87 -> रा.प्रा.वि. (कन्या)कोलिया दायाँ भाग (भाग संख्या-72)
F127: =F126 -> 0 | O127: 1. सूची संख्या
F128: =F127 -> 0 | O128: =IFERROR(IF($A$5>=A134,O89+1,0),0) -> 0
F129: =F128 -> 0 | O129: 3. सुनवाई का स्थान -
F130: =F129 -> 0 | O130: क्र. सं.
...
