Workbook
Name अंक: 'DATA ENTRY'!$G$8:$BC$507
Name नाम: SHEET1!$AX$2:$BN$2501
Name नाम1: SHEET1!$AF$2:$AV$2501
Name विषय: 'DATA ENTRY'!$CV$2:$CV$7
Name सत्रांक: 'DATA ENTRY'!$BJ$8:$CT$507

Sheet HOW TO USE
B12: निदेशक महोदय जी द्वारा जारी दिनांक 21-02-2024 आदेश का सार उपस्थिति हेतु 29/2/2024 के संशोधित आदेश अनुसार

Sheet STUDENT DATA SHEET
A1: Class
A2: 12

Sheet DATA ENTRY
A1: =IF($L$3="HINDI","निर्माणकर्ता:--भागीरथ मल अध्यापक राज.उच्च. मा.विद्यालय डसाणा खुर्द,(मौलासर),डीडवाना-कुचामन मोब.न 9828789204","MADE BY:-BHAGIRATH MAL TEACHER GOVT.SEN.SEC.SCHOOL DASANA KHURD (MOULASAR) DEEDWANA-KUCHAMAN,MOB.NO.9828789204") -> निर्माणकर्ता:--भागीरथ मल अध्यापक राज.उच्च. मा.विद्यालय डसाणा खुर्द,(मौलासर),डीडवाना-कुचामन मोब.न 9828789204
A2: राजकीय उच्च माध्यमिक विद्यालय डसाणा खुर्द (मौलासर) डीडवाना-कुचामन
A3: GOVT.SEN.SEC.SCHOOL DASANA KHURD (MOULASAR) DEEDWANA-KUCHAMAN
A4: =IF($L$3="HINDI","सत्रांक वर्कशीट 2023-24","SESSIONAL MARKS WORKSHEET 2023-24") -> सत्रांक वर्कशीट 2023-24
A5: क्र. स .
A8: 1
A9: =IF($A8="","",IF(B8="","",$A8+1)) -> 2
A10: =IF($A9="","",IF(B9="","",$A9+1))
A11: =IF($A10="","",IF(B10="","",$A10+1))
A12: =IF($A11="","",IF(B11="","",$A11+1))
A13: =IF($A12="","",IF(B12="","",$A12+1))
A14: =IF($A13="","",IF(B13="","",$A13+1))
A15: =IF($A14="","",IF(B14="","",$A14+1))
A16: =IF($A15="","",IF(B15="","",$A15+1))
A17: =IF($A16="","",IF(B16="","",$A16+1))
A18: =IF($A17="","",IF(B17="","",$A17+1))
A19: =IF($A18="","",IF(B18="","",$A18+1))
A20: =IF($A19="","",IF(B19="","",$A19+1))
... A71: =IF($A70="","",IF(B70="","",$A70+1))
A72: =IF($A71="","",IF(B71="","",$A71+1)) | BJ72: =G72
A73: =IF($A72="","",IF(B72="","",$A72+1)) | BJ73: =G73
A74: =IF($A73="","",IF(B73="","",$A73+1)) | BJ74: =G74
A75: =IF($A74="","",IF(B74="","",$A74+1)) | BJ75: =G75
A76: =IF($A75="","",IF(B75="","",$A75+1)) | BJ76: =G76
A77: =IF($A76="","",IF(B76="","",$A76+1)) | BJ77: =G77
A78: =IF($A77="","",IF(B77="","",$A77+1)) | BJ78: =G78
A79: =IF($A78="","",IF(B78="","",$A78+1)) | BJ79: =G79
A80: =IF($A79="","",IF(B79="","",$A79+1)) | BJ80: =G80
A81: =IF($A80="","",IF(B80="","",$A80+1)) | BJ81: =G81
A82: =IF($A81="","",IF(B81="","",$A81+1)) | BJ82: =G82
A83: =IF($A82="","",IF(B82="","",$A82+1)) | BJ83: =G83
... A507: =IF($A506="","",IF(B506="","",$A506+1)) | BJ507: =G507

Sheet SHEET1
A1: Class
A2: =IF('STUDENT DATA SHEET'!A2="","",'STUDENT DATA SHEET'!A2) -> 12
A3: =IF('STUDENT DATA SHEET'!A3="","",'STUDENT DATA SHEET'!A3)
A4: =IF('STUDENT DATA SHEET'!A4="","",'STUDENT DATA SHEET'!A4)
A5: =IF('STUDENT DATA SHEET'!A5="","",'STUDENT DATA SHEET'!A5)
A6: =IF('STUDENT DATA SHEET'!A6="","",'STUDENT DATA SHEET'!A6)
A7: =IF('STUDENT DATA SHEET'!A7="","",'STUDENT DATA SHEET'!A7)
A8: =IF('STUDENT DATA SHEET'!A8="","",'STUDENT DATA SHEET'!A8)
A9: =IF('STUDENT DATA SHEET'!A9="","",'STUDENT DATA SHEET'!A9)
A10: =IF('STUDENT DATA SHEET'!A10="","",'STUDENT DATA SHEET'!A10)
A11: =IF('STUDENT DATA SHEET'!A11="","",'STUDENT DATA SHEET'!A11)
A12: =IF('STUDENT DATA SHEET'!A12="","",'STUDENT DATA SHEET'!A12)
A13: =IF('STUDENT DATA SHEET'!A13="","",'STUDENT DATA SHEET'!A13)
... A2501: =IF('STUDENT DATA SHEET'!A2501="","",'STUDENT DATA SHEET'!A2501)

Sheet विषयवार सत्रांक रिपोर्ट
A1: ='DATA ENTRY'!A1 -> निर्माणकर्ता:--भागीरथ मल अध्यापक राज.उच्च. मा.विद्यालय डसाणा खुर्द,(मौलासर),डीडवाना-कुचामन मोब.न 9828789204
A2: =IF('DATA ENTRY'!$L$3="Hindi",IF('DATA ENTRY'!A2="","",'DATA ENTRY'!A2),IF('DATA ENTRY'!A3="","",'DATA ENTRY'!A3)) -> राजकीय उच्च माध्यमिक विद्यालय डसाणा खुर्द (मौलासर) डीडवाना-कुचामन | S2: =IF('DATA ENTRY'!S2="","",'DATA ENTRY'!S2) -> विज्ञान वर्ग
A3: =IF('DATA ENTRY'!A4="","",'DATA ENTRY'!A4) -> सत्रांक वर्कशीट 2023-24 | S3: कला वर्ग
A4: =IF('DATA ENTRY'!$L$3="Hindi",CONCATENATE("कक्षा :- ",'DATA ENTRY'!H4," "),CONCATENATE("Class :- ",'DATA ENTRY'!H4," ")) -> कक्षा :- 12 | S4: विज्ञान वर्ग
A5: =IF('DATA ENTRY'!$L$3="Hindi","क्र. स.","Sr. No. ") -> क्र. स. | S5: वाणिज्य वर्ग
S6: कृषि वर्ग
A8: ='DATA ENTRY'!A8 -> 1
A9: ='DATA ENTRY'!A9 -> 2
A10: ='DATA ENTRY'!A10
A11: ='DATA ENTRY'!A11
A12: ='DATA ENTRY'!A12
A13: ='DATA ENTRY'!A13
A14: ='DATA ENTRY'!A14
A15: ='DATA ENTRY'!A15
A16: ='DATA ENTRY'!A16
A17: ='DATA ENTRY'!A17
A18: ='DATA ENTRY'!A18
A19: ='DATA ENTRY'!A19
... A207: ='DATA ENTRY'!A207

Sheet विषय कोड 78,79
A1: ='DATA ENTRY'!A1 -> निर्माणकर्ता:--भागीरथ मल अध्यापक राज.उच्च. मा.विद्यालय डसाणा खुर्द,(मौलासर),डीडवाना-कुचामन मोब.न 9828789204
A2: =IF('DATA ENTRY'!$L$3="Hindi",IF('DATA ENTRY'!A2="","",'DATA ENTRY'!A2),IF('DATA ENTRY'!A3="","",'DATA ENTRY'!A3)) -> राजकीय उच्च माध्यमिक विद्यालय डसाणा खुर्द (मौलासर) डीडवाना-कुचामन | Q2: ='DATA ENTRY'!AZ4 -> समाज सेवा योजना
A3: =IF('DATA ENTRY'!A4="","",'DATA ENTRY'!A4) -> सत्रांक वर्कशीट 2023-24 | Q3: ='DATA ENTRY'!BB4 -> आजादी के बाद का स्वर्णिम भारत
A4: =IF('DATA ENTRY'!$L$3="Hindi",CONCATENATE("कक्षा :- ",'DATA ENTRY'!H4," "),CONCATENATE("Class :- ",'DATA ENTRY'!H4," ")) -> कक्षा :- 12
A5: =IF('DATA ENTRY'!$L$3="Hindi","क्र. स.","Sr. No. ") -> क्र. स.
A7: ='DATA ENTRY'!A8 -> 1
A8: ='DATA ENTRY'!A9 -> 2
A9: ='DATA ENTRY'!A10
A10: ='DATA ENTRY'!A11
A11: ='DATA ENTRY'!A12
A12: ='DATA ENTRY'!A13
A13: ='DATA ENTRY'!A14
A14: ='DATA ENTRY'!A15
A15: ='DATA ENTRY'!A16
A16: ='DATA ENTRY'!A17
A17: ='DATA ENTRY'!A18
A18: ='DATA ENTRY'!A19
... A207: ='DATA ENTRY'!A208

Sheet ALL.SUB.SATRANK
A1: ='DATA ENTRY'!A1 -> निर्माणकर्ता:--भागीरथ मल अध्यापक राज.उच्च. मा.विद्यालय डसाणा खुर्द,(मौलासर),डीडवाना-कुचामन मोब.न 9828789204
A2: ='DATA ENTRY'!A2 -> राजकीय उच्च माध्यमिक विद्यालय डसाणा खुर्द (मौलासर) डीडवाना-कुचामन
A3: ='DATA ENTRY'!A4 -> सत्रांक वर्कशीट 2023-24
A4: =IF('DATA ENTRY'!$L$3="Hindi",CONCATENATE("कक्षा :- ",'DATA ENTRY'!H4," "),CONCATENATE("Class :- ",'DATA ENTRY'!H4," ")) -> कक्षा :- 12
A5: =IF('DATA ENTRY'!$L$3="Hindi","क्र. स.","Sr. No. ") -> क्र. स.
A7: ='DATA ENTRY'!A8 -> 1
A8: ='DATA ENTRY'!A9 -> 2
A9: ='DATA ENTRY'!A10
A10: ='DATA ENTRY'!A11
A11: ='DATA ENTRY'!A12
A12: ='DATA ENTRY'!A13
A13: ='DATA ENTRY'!A14
A14: ='DATA ENTRY'!A15
A15: ='DATA ENTRY'!A16
A16: ='DATA ENTRY'!A17
A17: ='DATA ENTRY'!A18
A18: ='DATA ENTRY'!A19
... A207: ='DATA ENTRY'!A208
