Workbook
Name _tds1: #REF!
Name _tds1: #REF!
Name _tds2: #REF!
Name _tds2: #REF!
Name AIR.Code001: #REF!
Name AIR.Code001: #REF!
Name AIR.Code002: #REF!
Name AIR.Code002: #REF!
Name AIR.Code003: #REF!
Name AIR.Code003: #REF!
Name AIR.Code004: #REF!
Name AIR.Code004: #REF!
Name AIR.Code005: #REF!
Name AIR.Code005: #REF!
Name AIR.Code006: #REF!
Name AIR.Code006: #REF!
Name AIR.Code007: #REF!
Name AIR.Code007: #REF!
Name AIR.Code008: #REF!
Name AIR.Code008: #REF!
Name AIR.TaxExmpIntInc: #REF!
Name AIR.TaxExmpIntInc: #REF!
Name Bank1: #REF!
Name Bank1: #REF!
Name Bank10: #REF!
Name Bank10: #REF!
Name Bank11: #REF!
Name Bank11: #REF!
Name Bank12: #REF!
Name Bank12: #REF!
Name Bank2: #REF!
Name Bank2: #REF!
Name Bank3: #REF!
Name Bank3: #REF!
Name Bank4: #REF!
Name Bank4: #REF!
Name Bank5: #REF!
Name Bank5: #REF!
Name Bank6: #REF!
Name Bank6: #REF!
Name Bank6PCAR: #REF!
Name Bank6PCAR: #REF!
Name Bank7: #REF!
Name Bank7: #REF!
Name Bank8: #REF!
Name Bank8: #REF!
Name Bank9: #REF!
Name Bank9: #REF!
Name BankAccNo: #REF!
Name BankAccNo: #REF!
Name BankArrear: #REF!
Name BankArrear: #REF!
Name BankArrear0: #REF!
Name BankArrear0: #REF!
Name BankArrear1: #REF!
Name BankArrear1: #REF!
Name BankArrear2: #REF!
Name BankArrear2: #REF!
Name BankArrear3: #REF!
Name BankArrear3: #REF!

Sheet Salary
C1: Senior Citizen | E1: No | I1: Employee of The "NPS" Yes Or No | O1: Yes | R1: Basic Pay March 2023 | V1: 41500 | X1: RAJTEACHERS.NET
C2: OFFICE OF THE PRINCIPAL GOVT. HIGHER SECONDARY SCHOOL, GANGIWARA, CHHINDWARA M.P. | AB2: Yes | AC2: Yes
C3: ANNUAL PAY DETAILS FOR FY 2023-24 | AB3: No | AC3: No
C4: Name Of Employee | E4: PARMANAND MEGHWAL | K4: Designation | N4: SENIOR TEACHER | U4: Portal ID | X4: 123456789 | Z4: PAN | AA4: AAAAAAA
C5: DDO Code | E5: 21719 | K5: DDO Name | N5: Block Education Officer, Chhindwara | U5: Treasury Code | X5: 1245678 | Z5: TAN | AA5: AAAAAAA
C6: RECEIPTS | O6: DEDUCTIONS | Z6: Net Cash Payment | AA6: Bill No. & T.V. No.
C7: Month | D7: Basic Pay | E7: Dearness Pay | F7: Leave Pay | G7: Spl. Pay | H7: D.A. | I7: HRA | J7: Washing Allow. | K7: C.C.A. | L7: Handicap Allow | M7: Other Allowance 2 | N7: Gross Salary | O7: =IF(O1="No","GPF","NPS") -> NPS | Q7: GIS | R7: Professional Tax | S7: LIC | T7: Group Insurance Accidental | U7: Recovery | V7: Other Deduction | W7: Income Tax / TDS | X7: Other Deduction | Y7: Total Deduction
B8: 3 | C8: 44986 | D8: =V1 -> 41500 | E8: 0 | F8: 0 | G8: 0 | H8: =ROUND(34%*D8,0) -> 14110 | I8: 456 | J8: 0 | K8: 0 | L8: 0 | M8: 0 | N8: =SUM(D8:M8) -> 56066 | O8: =IF($O$1="Yes",ROUND((D8+H8)*0.1,0),IF($O$1="No",D8*6%)) -> 5561 | P8: =IF($O$1="Yes",ROUND((D8+H8)*0.14,0),0) -> 7785 | Q8: 87 | R8: 208 | S8: 0 | T8: 200 | W8: 1000 | Y8: =SUM(O8:X8) -> 14841 | Z8: =N8-Y8 -> 41225
B9: 4 | C9: 45017 | D9: =D8 -> 41500 | E9: =IF(E$8=0,0,ROUND(D9/2,0)) -> 0 | F9: =IF(F$8=0,0,F8) -> 0 | G9: =IF(G$8=0,0,G8) -> 0 | H9: =ROUND(38%*D9,0) -> 15770 | I9: =I8 -> 456 | J9: =IF(J$8=0,0,J8) -> 0 | K9: =IF(K$8=0,0,K8) -> 0 | L9: =IF(L$8=0,0,L8) -> 0 | M9: =IF(M$8=0,0,M8) -> 0 | N9: =SUM(D9:M9) -> 57726 | O9: =IF($O$1="Yes",ROUND((D9+H9)*0.1,0),IF($O$1="No",D9*6%)) -> 5727 | P9: =IF($O$1="Yes",ROUND((D9+H9)*0.14,0),0) -> 8018 | Q9: =Q8 -> 87 | R9: =R8 -> 208 | S9: =S8 -> 0 | T9: =T8 -> 200 | U9: =U8 -> 0 | V9: =V8 -> 0 | W9: =W8 -> 1000 | X9: =X8 -> 0 | Y9: =SUM(O9:X9) -> 15240 | Z9: =N9-Y9 -> 42486
B10: 5 | C10: 45047 | D10: =D9 -> 41500 | E10: =IF($E$8=0,0,ROUND(D10/2,0)) -> 0 | F10: =IF(F$8=0,0,F9) -> 0 | G10: =IF(G$8=0,0,G9) -> 0 | H10: =ROUND(38%*D10,0) -> 15770 | I10: =I9 -> 456 | J10: =IF(J$8=0,0,J9) -> 0 | K10: =IF(K$8=0,0,K9) -> 0 | L10: =IF(L$8=0,0,L9) -> 0 | M10: =IF(M$8=0,0,M9) -> 0 | N10: =SUM(D10:M10) -> 57726 | O10: =IF($O$1="Yes",ROUND((D10+H10)*0.1,0),IF($O$1="No",D10*6%)) -> 5727 | P10: =IF($O$1="Yes",ROUND((D10+H10)*0.14,0),0) -> 8018 | Q10: =Q9 -> 87 | R10: =R9 -> 208 | S10: =S9 -> 0 | T10: =T9 -> 200 | U10: =U9 -> 0 | V10: =V9 -> 0 | W10: =W9 -> 1000 | X10: =X9 -> 0 | Y10: =SUM(O10:X10) -> 15240 | Z10: =N10-Y10 -> 42486
B11: 6 | C11: 45078 | D11: =D10 -> 41500 | E11: =IF($E$8=0,0,ROUND(D11/2,0)) -> 0 | F11: =IF(F$8=0,0,F10) -> 0 | G11: =IF(G$8=0,0,G10) -> 0 | H11: =ROUND(38%*D11,0) -> 15770 | I11: =I10 -> 456 | J11: =IF(J$8=0,0,J10) -> 0 | K11: =IF(K$8=0,0,K10) -> 0 | L11: =IF(L$8=0,0,L10) -> 0 | M11: =IF(M$8=0,0,M10) -> 0 | N11: =SUM(D11:M11) -> 57726 | O11: =IF($O$1="Yes",ROUND((D11+H11)*0.1,0),IF($O$1="No",D11*6%)) -> 5727 | P11: =IF($O$1="Yes",ROUND((D11+H11)*0.14,0),0) -> 8018 | Q11: =Q10 -> 87 | R11: =R10 -> 208 | S11: =S10 -> 0 | T11: =T10 -> 200 | U11: =U10 -> 0 | V11: =V10 -> 0 | W11: =W10 -> 1000 | X11: =X10 -> 0 | Y11: =SUM(O11:X11) -> 15240 | Z11: =N11-Y11 -> 42486
B12: 7 | C12: 45108 | D12: =MROUND(ROUND(1.03*D8,0),100) -> 42700 | E12: =IF($E$8=0,0,ROUND(D12/2,0)) -> 0 | F12: =IF(F$8=0,0,F11) -> 0 | G12: =IF(G$8=0,0,G11) -> 0 | H12: =ROUND(42%*D12,0) -> 17934 | I12: =I11 -> 456 | J12: =IF(J$8=0,0,J11) -> 0 | K12: =IF(K$8=0,0,K11) -> 0 | L12: =IF(L$8=0,0,L11) -> 0 | M12: =IF(M$8=0,0,M11) -> 0 | N12: =SUM(D12:M12) -> 61090 | O12: =IF($O$1="Yes",ROUND((D12+H12)*0.1,0),IF($O$1="No",D12*6%)) -> 6063 | P12: =IF($O$1="Yes",ROUND((D12+H12)*0.14,0),0) -> 8489 | Q12: =Q11 -> 87 | R12: =R11 -> 208 | S12: =S11 -> 0 | T12: =T11 -> 200 | U12: =U11 -> 0 | V12: =V11 -> 0 | W12: =W11 -> 1000 | X12: =X11 -> 0 | Y12: =SUM(O12:X12) -> 16047 | Z12: =N12-Y12 -> 45043
B13: 8 | C13: 45139 | D13: =D12 -> 42700 | E13: =IF($E$8=0,0,ROUND(D13/2,0)) -> 0 | F13: =IF(F$8=0,0,F12) -> 0 | G13: =IF(G$8=0,0,G12) -> 0 | H13: =ROUND(42%*D13,0) -> 17934 | I13: =I12 -> 456 | J13: =IF(J$8=0,0,J12) -> 0 | K13: =IF(K$8=0,0,K12) -> 0 | L13: =IF(L$8=0,0,L12) -> 0 | M13: =IF(M$8=0,0,M12) -> 0 | N13: =SUM(D13:M13) -> 61090 | O13: =IF($O$1="Yes",ROUND((D13+H13)*0.1,0),IF($O$1="No",D13*6%)) -> 6063 | P13: =IF($O$1="Yes",ROUND((D13+H13)*0.14,0),0) -> 8489 | Q13: =Q12 -> 87 | R13: =R12 -> 208 | S13: =S12 -> 0 | T13: =T12 -> 200 | U13: =U12 -> 0 | V13: =V12 -> 0 | W13: =W12 -> 1000 | X13: =X12 -> 0 | Y13: =SUM(O13:X13) -> 16047 | Z13: =N13-Y13 -> 45043
B14: 9 | C14: 45170 | D14: =D13 -> 42700 | E14: =IF($E$8=0,0,ROUND(D14/2,0)) -> 0 | F14: =IF(F$8=0,0,F13) -> 0 | G14: =IF(G$8=0,0,G13) -> 0 | H14: =ROUND(42%*D14,0) -> 17934 | I14: =I13 -> 456 | J14: =IF(J$8=0,0,J13) -> 0 | K14: =IF(K$8=0,0,K13) -> 0 | L14: =IF(L$8=0,0,L13) -> 0 | M14: =IF(M$8=0,0,M13) -> 0 | N14: =SUM(D14:M14) -> 61090 | O14: =IF($O$1="Yes",ROUND((D14+H14)*0.1,0),IF($O$1="No",D14*6%)) -> 6063 | P14: =IF($O$1="Yes",ROUND((D14+H14)*0.14,0),0) -> 8489 | Q14: =Q13 -> 87 | R14: =R13 -> 208 | S14: =S13 -> 0 | T14: =T13 -> 200 | U14: =U13 -> 0 | V14: =V13 -> 0 | W14: =W13 -> 1000 | X14: =X13 -> 0 | Y14: =SUM(O14:X14) -> 16047 | Z14: =N14-Y14 -> 45043
B15: 10 | C15: 45200 | D15: =D14 -> 42700 | E15: =IF($E$8=0,0,ROUND(D15/2,0)) -> 0 | F15: =IF(F$8=0,0,F14) -> 0 | G15: =IF(G$8=0,0,G14) -> 0 | H15: =ROUND(42%*D15,0) -> 17934 | I15: =I14 -> 456 | J15: =IF(J$8=0,0,J14) -> 0 | K15: =IF(K$8=0,0,K14) -> 0 | L15: =IF(L$8=0,0,L14) -> 0 | M15: =IF(M$8=0,0,M14) -> 0 | N15: =SUM(D15:M15) -> 61090 | O15: =IF($O$1="Yes",ROUND((D15+H15)*0.1,0),IF($O$1="No",D15*6%)) -> 6063 | P15: =IF($O$1="Yes",ROUND((D15+H15)*0.14,0),0) -> 8489 | Q15: =Q14 -> 87 | R15: =R14 -> 208 | S15: =S14 -> 0 | T15: =T14 -> 200 | U15: =U14 -> 0 | V15: =V14 -> 0 | W15: =W14 -> 1000 | X15: =X14 -> 0 | Y15: =SUM(O15:X15) -> 16047 | Z15: =N15-Y15 -> 45043
B16: 11 | C16: 45231 | D16: =D15 -> 42700 | E16: =IF($E$8=0,0,ROUND(D16/2,0)) -> 0 | F16: =IF(F$8=0,0,F15) -> 0 | G16: =IF(G$8=0,0,G15) -> 0 | H16: =ROUND(42%*D16,0) -> 17934 | I16: =I15 -> 456 | J16: =IF(J$8=0,0,J15) -> 0 | K16: =IF(K$8=0,0,K15) -> 0 | L16: =IF(L$8=0,0,L15) -> 0 | M16: =IF(M$8=0,0,M15) -> 0 | N16: =SUM(D16:M16) -> 61090 | O16: =IF($O$1="Yes",ROUND((D16+H16)*0.1,0),IF($O$1="No",D16*6%)) -> 6063 | P16: =IF($O$1="Yes",ROUND((D16+H16)*0.14,0),0) -> 8489 | Q16: =Q15 -> 87 | R16: =R15 -> 208 | S16: =S15 -> 0 | T16: =T15 -> 200 | U16: =U15 -> 0 | V16: =V15 -> 0 | W16: =W15 -> 1000 | X16: =X15 -> 0 | Y16: =SUM(O16:X16) -> 16047 | Z16: =N16-Y16 -> 45043
B17: 12 | C17: 45261 | D17: =D16 -> 42700 | E17: =IF($E$8=0,0,ROUND(D17/2,0)) -> 0 | F17: =IF(F$8=0,0,F16) -> 0 | G17: =IF(G$8=0,0,G16) -> 0 | H17: =ROUND(42%*D17,0) -> 17934 | I17: =I16 -> 456 | J17: =IF(J$8=0,0,J16) -> 0 | K17: =IF(K$8=0,0,K16) -> 0 | L17: =IF(L$8=0,0,L16) -> 0 | M17: =IF(M$8=0,0,M16) -> 0 | N17: =SUM(D17:M17) -> 61090 | O17: =IF($O$1="Yes",ROUND((D17+H17)*0.1,0),IF($O$1="No",D17*6%)) -> 6063 | P17: =IF($O$1="Yes",ROUND((D17+H17)*0.14,0),0) -> 8489 | Q17: =Q16 -> 87 | R17: =R16 -> 208 | S17: =S16 -> 0 | T17: =T16 -> 200 | U17: =U16 -> 0 | V17: =V16 -> 0 | W17: =W16 -> 1000 | Y17: =SUM(O17:X17) -> 16047 | Z17: =N17-Y17 -> 45043
B18: 1 | C18: 45292 | D18: =D17 -> 42700 | E18: =IF($E$8=0,0,ROUND(D18/2,0)) -> 0 | F18: =IF(F$8=0,0,F17) -> 0 | G18: =IF(G$8=0,0,G17) -> 0 | H18: =ROUND(42%*D18,0) -> 17934 | I18: =I17 -> 456 | J18: =IF(J$8=0,0,J17) -> 0 | K18: =IF(K$8=0,0,K17) -> 0 | L18: =IF(L$8=0,0,L17) -> 0 | M18: =IF(M$8=0,0,M17) -> 0 | N18: =SUM(D18:M18) -> 61090 | O18: =IF($O$1="Yes",ROUND((D18+H18)*0.1,0),IF($O$1="No",D18*6%)) -> 6063 | P18: =IF($O$1="Yes",ROUND((D18+H18)*0.14,0),0) -> 8489 | Q18: =Q17 -> 87 | R18: =R17 -> 208 | S18: =S17 -> 0 | T18: =T17 -> 200 | U18: =U17 -> 0 | V18: =V17 -> 0 | W18: =W17 -> 1000 | Y18: =SUM(O18:X18) -> 16047 | Z18: =N18-Y18 -> 45043
B19: 2 | C19: 45323 | D19: =D18 -> 42700 | E19: =IF($E$8=0,0,ROUND(D19/2,0)) -> 0 | F19: =IF(F$8=0,0,F18) -> 0 | G19: =IF(G$8=0,0,G18) -> 0 | H19: =ROUND(42%*D19,0) -> 17934 | I19: =I18 -> 456 | J19: =IF(J$8=0,0,J18) -> 0 | K19: =IF(K$8=0,0,K18) -> 0 | L19: =IF(L$8=0,0,L18) -> 0 | M19: =IF(M$8=0,0,M18) -> 0 | N19: =SUM(D19:M19) -> 61090 | O19: =IF($O$1="Yes",ROUND((D19+H19)*0.1,0),IF($O$1="No",D19*6%)) -> 6063 | P19: =IF($O$1="Yes",ROUND((D19+H19)*0.14,0),0) -> 8489 | Q19: =Q18 -> 87 | R19: 212 | S19: =S18 -> 0 | T19: =T18 -> 200 | U19: =U18 -> 0 | V19: =V18 -> 0 | W19: =W18 -> 1000 | Y19: =SUM(O19:X19) -> 16051 | Z19: =N19-Y19 -> 45039
C20: DA Arrear 38% | H20: =(ROUND(38%*D8,0)-ROUND(34%*D8,0))*3 -> 4980 | N20: =H20 -> 4980 | O20: =IF($O$1="Yes",ROUND((D20+H20)*0.1,0),IF($O$1="No",D20*6%)) -> 498 | P20: =IF($O$1="Yes",ROUND((D20+H20)*0.14,0),0) -> 697 | S20: 0 | Y20: =SUM(O20:X20) -> 1195 | Z20: =N20-Y20 -> 3785
C21: DA Arrear | Y21: =SUM(O21:X21) -> 0 | Z21: =N21-Y21 -> 0
C22: Bonus | Y22: =SUM(O22:X22) -> 0 | Z22: =N22-Y22 -> 0
C23: Fixation Arrear | N23: =SUM(D23:M23) -> 0 | Y23: =SUM(O23:X23) -> 0 | Z23: =N23-Y23 -> 0
C24: Salary Arrear 1 | N24: =SUM(D24:M24) -> 0 | Y24: =SUM(O24:X24) -> 0 | Z24: =N24-Y24 -> 0
C25: Salary Arrear 2 | N25: =SUM(D25:M25) -> 0 | Y25: =SUM(O25:X25) -> 0 | Z25: =N25-Y25 -> 0
C26: Salary Arrear 3 | N26: =SUM(D26:M26) -> 0 | Y26: =SUM(O26:X26) -> 0 | Z26: =N26-Y26 -> 0
C27: Other | E27: 0 | F27: 0 | N27: =SUM(D27:M27) -> 0 | Y27: =SUM(O27:X27) -> 0 | Z27: =N27-Y27 -> 0
C28: TOTAL | D28: =SUM(D8:D27) -> 507600 | E28: =SUM(E8:E27) -> 0 | F28: =SUM(F8:F27) -> 0 | G28: =SUM(G8:G27) -> 0 | H28: =SUM(H8:H27) -> 209872 | I28: =SUM(I8:I27) -> 5472 | J28: =SUM(J8:J27) -> 0 | K28: =SUM(K8:K27) -> 0 | ... Z28: =SUM(Z8:Z27) -> 532808
E33: Signature of Employee | Z33: Signature of DDO

Sheet Other Deduction
A1: Details of Deductions, Income/Deposits and Exemptions Other Than Salary
A2: =Salary!E4 -> PARMANAND MEGHWAL
A3: 1. House Rent | B3: 0 | D3: 17. 80TTA/80TTB Maximum Interest on Savings Account | E3: 0 | F3: BASIC+D.A. | DR3: UPS Kuhada Khurd
A4: 2. Entertainment Allowance | B4: 0 | D4: 18. Income Of Other Source (Bank FD, Interest etc) | E4: 0 | F4: =Salary!D28+Salary!H28 -> 717472
A5: 3. Expenditure tax under section 16(III) | B5: 0 | D5: 19. 80C - Other Deductions In Under Section | E5: 0 | F5: Taxable Amt
A6: 4. Income from House Property | B6: 0 | D6: 20. (80CCC) Contribution to Pension Plan - Other Than NPS | E6: 0 | F6: ='Tax Old Regime'!P47 -> 547660
A7: 5. House Tax | B7: 0 | D7: 21. 80CCD(1B) Additional Contribution in NPS - (Max. 50000) | E7: 50000 | F7: Tax Deposited
A8: 6. Home Loan Principal Amount | B8: 0 | D8: 22. 80D Medical Insurance Premium | E8: 0 | F8: =Salary!W28 -> 12000
A9: 7. Interest of House Loan | B9: 0 | D9: 23. 80DD Medical treatment of dependents with disabilities | E9: 0 | F9: Rebate Under Section 80C, 80CCC, 80CCD(1)
A10: 8. LIC - Life Insurance (Other Than Salary) | B10: 0 | D10: 24. 80DDB Deduction for treatment of specific diseases | E10: 0 | DR10: UPS Banediya Charnan
A11: 9. PLI | B11: 0 | D11: 25. 80E Interest on loan taken for higher education | E11: 0 | DR11: UPS Laxmipura Dhakaran
A12: 10. Tution Fees | B12: 0 | D12: 26. 80G Donations given to charitable institutions etc. | E12: 0 | F12: ='Tax Old Regime'!P31 -> 72788 | DR12: UPS Pathraj Kala
A13: 11. ULIP / Annual Plan | B13: 0 | D13: 27. 80U In case of permanent physical disability | E13: 0
A14: 12. NSC - National Savings Certificate | B14: 0 | D14: 28. 80GGA Donations given for approved scientific, social, rural development etc. | E14: 0 | F14: Receipt Required for House Rent Exemption | DR14: PS Aarampura
A15: 13. Interest of NSC | B15: 0 | D15: 29. Equity Linked Savings Scheme | E15: 0 | DR15: UPS Laxmipura Dhakaran
A16: 14. PPF -Public Provident Fund | B16: 0 | D16: 30. Defferred Annuty | E16: 0 | DR16: UPS Raghunathpura
A17: 15. NSS -National Savings Scheme | B17: 0 | D17: 31. Relief under section 89 | E17: 0 | F17: =IF(B3>=1,(F4*10%+B3),0) -> 0 | DR17: UPS Manda
A18: 16. Sukanya Samriddhi Yojana | B18: 0 | D18: 32. TDS - Income tax deposited in addition to salary bill | E18: 0 | DR18: UPS Sandla
A19: ='Tax Old Regime'!A63 -> Income Tax Payable | D19: ='Tax Old Regime'!P63 -> 10913 | E19: HRA | F19: =Salary!I28 -> 5472 | DR19: UPS Ramsinghpura
A20: ="Total Rebate of (US 80C, 80CCC,80CCD(1)) = "&'Tax Old Regime'!P31 -> Total Rebate of (US 80C, 80CCC,80CCD(1)) = 72788 | D20: ="Investable Amount = "&(150000-'Tax Old Regime'!P31) -> Investable Amount = 77212 | DR20: GSS Ganeshganj
A21: DOWNLOD TAX SOFTWARE - RAJTEACHERS.NET
A22: CREATED BY : PARMANAND MEGHWAL SENIOR TEACHER (9784379510) , BARAN RAJASTHAN.

Sheet Tax Old Regime
A1: =Salary!C2 -> OFFICE OF THE PRINCIPAL GOVT. HIGHER SECONDARY SCHOOL, GANGIWARA, CHHINDWARA M.P.
A2: Income Tax Computation Year 2023-2024 (Assessment Year 2024-2025)
A3: 1 | B3: Name | D3: =Salary!$E$4 -> PARMANAND MEGHWAL | J3: Designation | K3: =Salary!N4 -> SENIOR TEACHER | N3: PAN : | O3: =Salary!AA4 -> AAAAAAA
A4: 2 | B4: Total Income from Salary With NPS | O4: Rs | P4: =IF(Salary!O1="No",Salary!N28,(Salary!N28+Salary!P28)) -> 823392
A5: 3 | B5: House Rent, Under Section 10(13-A) and other Allowances Under Section 10(14) which are Exempt from tax. | O5: Rs | P5: ='Other Deduction'!B3 -> 0
A6: 4 | B6: 'ks"k ¼2&3½ | O6: Rs | P6: =P4-P5 -> 823392
A7: 5 | B7: (i) Entertainment Allowance 16(II) (Maximum limit Rs.5000) | L7: ='Other Deduction'!B4 -> 0
B8: (ii) Expenditure tax under section 16(III) | L8: ='Other Deduction'!B5 -> 0
B9: (iii) Professional Tax under section 10 | L9: =Salary!R28 -> 2500
B10: (iv) Standard Deduction (Maximum limit Rs.50000) | L10: =IF(P6<50000,P6,50000) -> 50000 | O10: Rs | P10: =SUM(L7:N10) -> 52500
A11: 6 | B11: Remanent (4-5) | O11: Rs | P11: =P6-P10 -> 770892
A12: 7 | B12: (A) Income from House Property: (1) In Own Use - Nil | J12: (2) Rent Received is Rs. | L12: ='Other Deduction'!B6 -> 0
B13: (B) Subtract | D13: Rent of 30% | G13: Interest of House Loan | J13: House Tax | L13: Total
D14: =ROUND(L12*0.3,0) -> 0 | G14: =IF((Salary!V28+'Other Deduction'!B9)>200000,200000,(Salary!V28+'Other Deduction'!B9)) -> 0 | J14: ='Other Deduction'!B7 -> 0 | L14: =D14+G14+J14 -> 0
B15: Remainder -/+ (sum of 7(A) and 7(B) | O15: Rs | P15: =L12-L14 -> 0
A16: 8 | B16: Total Balance -/+ (6 & 7) | O16: Rs | P16: =P11+P15 -> 770892
A17: 9 | B17: Other Income | O17: Rs | P17: ='Other Deduction'!E3+'Other Deduction'!E4 -> 0
A18: 10 | B18: Gross Income (8+9) | O18: Rs | P18: =P16+P17 -> 770892
A19: 11 | B19: Deduct Deduction Under Section US - 80C, 80CCC,80CCD (1)
B20: (A) - Maximum limit 1,50,000 & Under Section (80CCE) Except
B21: 1 | C21: NPS (New Pension Scheme) | G21: Rs | H21: =IF(Salary!O1<>"No",Salary!O28,0) -> 71744 | I21: 10 | J21: Contribution to Pension Plan (80CCC) | M21: Rs | N21: ='Other Deduction'!E6 -> 0
B22: 2 | C22: LIC - Life Insurance | G22: Rs | H22: =Salary!S28+'Other Deduction'!B10 -> 0 | I22: 11 | J22: Interest paid on National Savings Certificate | M22: Rs | N22: ='Other Deduction'!B15 -> 0
B23: 3 | C23: NSC - National Savings Certificate | G23: Rs | H23: ='Other Deduction'!B14 -> 0 | I23: 12 | J23: Tution Fees | M23: Rs | N23: ='Other Deduction'!B12 -> 0
B24: 4 | C24: PPF -Public Provident Fund | G24: Rs | H24: ='Other Deduction'!B16 -> 0 | I24: 13 | J24: Equity Linked Savings Scheme | M24: Rs | N24: ='Other Deduction'!E15 -> 0
B25: 5 | C25: NSS -National Savings Scheme | G25: Rs | H25: ='Other Deduction'!B17 -> 0 | I25: 14 | J25: Defferred Annuty | M25: Rs | N25: ='Other Deduction'!E16 -> 0
B26: 6 | C26: GPF -Public provident fund | G26: Rs | H26: =IF(Salary!O1<>"Yes",Salary!O28,0) -> 0 | I26: 15 | J26: PLI | M26: Rs | N26: ='Other Deduction'!B11 -> 0
B27: 7 | C27: Group Insurance | G27: Rs | H27: =Salary!Q28 -> 1044 | I27: 16 | J27: Other Deductions - (80C) | M27: Rs | N27: ='Other Deduction'!E5 -> 0
B28: 8 | C28: ULIP / Annual Plan | G28: Rs | H28: ='Other Deduction'!B13 -> 0 | I28: 17 | J28: Sukanya Samriddhi Yojana | M28: Rs | N28: ='Other Deduction'!B18 -> 0
B29: 9 | C29: HBA Premium -Home Loan Principal Amount | G29: Rs | H29: ='Other Deduction'!B8 -> 0 | I29: 18 | M29: Rs
B30: Total (1 To 18) | M30: Rs | N30: =SUM(H21:H29)+SUM(N21:N29) -> 72788
B31: Maximum Deduction Amount Up to Rs 1.50 lakh | O31: Rs | P31: =IF(N30<150001,ROUND(N30,0),150000) -> 72788
B32: (B) Less - Section 80CCD(2) The Amount of Pension Contribution by the Employer (14% of the Maximum Salary) Separately exempted | O32: Rs | P32: =IF(Salary!O1="Yes",Salary!P28,0) -> 100448
B33: (C) Less - Section 80CCD (1B) Additional Contribution to New Pension Scheme (Maximum Rs.50,000) | O33: Rs | P33: ='Other Deduction'!E7 -> 50000
B34: Total (A+B+C) | P34: =P31+P32+P33 -> 223236
A35: 12 | B35: Other Deductions
B36: 1. Section 80D Medical Insurance Premium (Rs. 25000 for Self, Spouse and Children, Rs. 25000 for Parents, Rs. 50000 for Senior Citizen) | O36: Rs | P36: ='Other Deduction'!E8 -> 0
B37: 2. Section 80DD Medical Treatment of dependents with Disabilities (maximum 75,000 and 80% or more disability 125,000) | O37: Rs | P37: ='Other Deduction'!E9 -> 0
B38: 3. Section 80DDB Deduction for Treatment of Specific Diseases (Maximum Rs.40,000, Rs.100,000 for Senior Citizen) | O38: Rs | P38: ='Other Deduction'!E10 -> 0
B39: 4. Section 80E Interest on Loan taken for Higher Education | O39: Rs | P39: ='Other Deduction'!E11 -> 0
B40: 5. Section 80G Donations given to Charitable Institutions etc. (100 percent in A category and 50 percent in B category) | O40: Rs | P40: ='Other Deduction'!E12 -> 0
...

Sheet Tax New Regime
A1: =Salary!C2 -> OFFICE OF THE PRINCIPAL GOVT. HIGHER SECONDARY SCHOOL, GANGIWARA, CHHINDWARA M.P.
A2: Income Tax Computation Year 2023-2024 (Assessment Year 2024-2025)
A3: 1 | B3: Name | D3: =Salary!$E$4 -> PARMANAND MEGHWAL | J3: Designation | K3: =Salary!N4 -> SENIOR TEACHER | N3: PAN : | O3: =Salary!AA4 -> AAAAAAA
A4: 2 | B4: Total Income from Salary With NPS | O4: Rs | P4: =IF(Salary!O1="No",Salary!N28,(Salary!N28+Salary!P28)) -> 823392
A5: 3 | B5: House Rent, Under Section 10(13-A) and other Allowances Under Section 10(14) which are Exempt from tax. | O5: Rs | P5: 0
A6: 4 | B6: Remanent (2-3) | O6: Rs | P6: =P4-P5 -> 823392
A7: 5 | B7: (i) Entertainment Allowance 16(II) (Maximum limit Rs.5000) | L7: ='Other Deduction'!B4 -> 0
B8: (ii) Expenditure tax under section 16(III) | L8: ='Other Deduction'!B5 -> 0
B9: (iii) Professional Tax under section 10 | L9: 0
B10: (iv) Standard Deduction (Maximum limit Rs.50000) | L10: =IF(P6<50000,P6,50000) -> 50000 | O10: Rs | P10: =L10 -> 50000
A11: 6 | B11: Remanent (4-5) | O11: Rs | P11: =P6-P10-L9 -> 773392
A12: 7 | B12: (A) Income from House Property: (1) In Own Use - Nil | J12: (2) Rent Received is Rs. | L12: ='Other Deduction'!B6 -> 0
B13: (B) Subtract | D13: Rent of 30% | G13: Interest of House Loan | J13: House Tax | L13: Total
D14: =ROUND(L12*0.3,0) -> 0 | G14: =IF((Salary!V28+'Other Deduction'!B9)>200000,200000,(Salary!V28+'Other Deduction'!B9)) -> 0 | J14: ='Other Deduction'!B7 -> 0 | L14: =D14+G14+J14 -> 0
B15: Remainder -/+ (sum of 7(A) and 7(B) | O15: Rs | P15: =L12-L14 -> 0
A16: 8 | B16: Total Balance -/+ (6 & 7) | O16: Rs | P16: =P11+P15 -> 773392
A17: 9 | B17: Other Income | O17: Rs | P17: ='Other Deduction'!E3+'Other Deduction'!E4 -> 0
A18: 10 | B18: Gross Income (8+9) | O18: Rs | P18: =P16+P17 -> 773392
A19: 11 | B19: Deduct Deduction Under Section US - 80C, 80CCC,80CCD (1)
B20: (A) - Maximum limit 1,50,000 & Under Section (80CCE) Except
B21: 1 | C21: NPS (New Pension Scheme) | G21: Rs | H21: =IF(Salary!O1<>"No",Salary!O28,0) -> 71744 | I21: 10 | J21: Contribution to Pension Plan (80CCC) | M21: Rs | N21: ='Other Deduction'!E6 -> 0
B22: 2 | C22: LIC - Life Insurance | G22: Rs | H22: =Salary!S28+'Other Deduction'!B10 -> 0 | I22: 11 | J22: Interest paid on National Savings Certificate | M22: Rs | N22: ='Other Deduction'!B15 -> 0
B23: 3 | C23: NSC - National Savings Certificate | G23: Rs | H23: ='Other Deduction'!B14 -> 0 | I23: 12 | J23: Tution Fees | M23: Rs | N23: ='Other Deduction'!B12 -> 0
B24: 4 | C24: PPF -Public Provident Fund | G24: Rs | H24: ='Other Deduction'!B16 -> 0 | I24: 13 | J24: Equity Linked Savings Scheme | M24: Rs | N24: ='Other Deduction'!E15 -> 0
B25: 5 | C25: NSS -National Savings Scheme | G25: Rs | H25: ='Other Deduction'!B17 -> 0 | I25: 14 | J25: Defferred Annuty | M25: Rs | N25: ='Other Deduction'!E16 -> 0
B26: 6 | C26: GPF -Public provident fund | G26: Rs | H26: =IF(Salary!O1<>"Yes",Salary!O28,0) -> 0 | I26: 15 | J26: PLI | M26: Rs | N26: ='Other Deduction'!B11 -> 0
B27: 7 | C27: Group Insurance | G27: Rs | H27: =Salary!Q28 -> 1044 | I27: 16 | J27: Other Deductions - (80C) | M27: Rs | N27: ='Other Deduction'!E5 -> 0
B28: 8 | C28: ULIP / Annual Plan | G28: Rs | H28: ='Other Deduction'!B13 -> 0 | I28: 17 | J28: Sukanya Samriddhi Yojana | M28: Rs | N28: ='Other Deduction'!B18 -> 0
B29: 9 | C29: HBA Premium -Home Loan Principal Amount | G29: Rs | H29: ='Other Deduction'!B8 -> 0 | I29: 18 | M29: Rs
B30: Total (1 To 18) | M30: Rs | N30: =SUM(H21:H29)+SUM(N21:N29) -> 72788
B31: Maximum Deduction Amount Up to Rs 1.50 lakh | O31: Rs | P31: 0
B32: (B) Less - Section 80CCD(2) The Amount of Pension Contribution by the Employer (14% of the Maximum Salary) Separately exempted | O32: Rs | P32: =IF(Salary!O1="Yes",Salary!P28,0) -> 100448
B33: (C) Less - Section 80CCD (1B) Additional Contribution to New Pension Scheme (Maximum Rs.50,000) | O33: Rs | P33: 0
B34: Total (A+B+C) | P34: =P31+P32+P33 -> 100448
A35: 12 | B35: Other Deductions
B36: 1. Section 80D Medical Insurance Premium (Rs. 25000 for Self, Spouse and Children, Rs. 25000 for Parents, Rs. 50000 for Senior Citizen) | O36: Rs | P36: ='Other Deduction'!E8 -> 0
B37: 2. Section 80DD Medical Treatment of dependents with Disabilities (maximum 75,000 and 80% or more disability 125,000) | O37: Rs | P37: ='Other Deduction'!E9 -> 0
B38: 3. Section 80DDB Deduction for Treatment of Specific Diseases (Maximum Rs.40,000, Rs.100,000 for Senior Citizen) | O38: Rs | P38: ='Other Deduction'!E10 -> 0
B39: 4. Section 80E Interest on Loan taken for Higher Education | O39: Rs | P39: ='Other Deduction'!E11 -> 0
B40: 5. Section 80G Donations given to Charitable Institutions etc. (100 percent in A category and 50 percent in B category) | O40: Rs | P40: ='Other Deduction'!E12 -> 0
...
