Workbook
Name _tds1: #REF!
Name _tds1: #REF!
Name _tds2: #REF!
Name _tds2: #REF!
Name AIR.Code001: #REF!
Name AIR.Code001: #REF!
Name AIR.Code002: #REF!
Name AIR.Code002: #REF!
Name AIR.Code003: #REF!
Name AIR.Code003: #REF!
Name AIR.Code004: #REF!
Name AIR.Code004: #REF!
Name AIR.Code005: #REF!
Name AIR.Code005: #REF!
Name AIR.Code006: #REF!
Name AIR.Code006: #REF!
Name AIR.Code007: #REF!
Name AIR.Code007: #REF!
Name AIR.Code008: #REF!
Name AIR.Code008: #REF!
Name AIR.TaxExmpIntInc: #REF!
Name AIR.TaxExmpIntInc: #REF!
Name Bank1: #REF!
Name Bank1: #REF!
Name Bank10: #REF!
Name Bank10: #REF!
Name Bank11: #REF!
Name Bank11: #REF!
Name Bank12: #REF!
Name Bank12: #REF!
Name Bank2: #REF!
Name Bank2: #REF!
Name Bank3: #REF!
Name Bank3: #REF!
Name Bank4: #REF!
Name Bank4: #REF!
Name Bank5: #REF!
Name Bank5: #REF!
Name Bank6: #REF!
Name Bank6: #REF!
Name Bank6PCAR: #REF!
Name Bank6PCAR: #REF!
Name Bank7: #REF!
Name Bank7: #REF!
Name Bank8: #REF!
Name Bank8: #REF!
Name Bank9: #REF!
Name Bank9: #REF!
Name BankAccNo: #REF!
Name BankAccNo: #REF!
Name BankArrear: #REF!
Name BankArrear: #REF!
Name BankArrear0: #REF!
Name BankArrear0: #REF!
Name BankArrear1: #REF!
Name BankArrear1: #REF!
Name BankArrear2: #REF!
Name BankArrear2: #REF!
Name BankArrear3: #REF!
Name BankArrear3: #REF!

Sheet GA-55
C1: NPS EMPLOYEE | H1: YES | I1: MARCH 2023 PAYMENT | O1: 40800 | Q1: CAT. | S1: SSA | U1: HRA RATES | X1: 4 | Z1: SENIOR CITIZEN | AC1: NO
C2: INSTALL - KRUTIDEV 10 & DEVLYS 10 FONT
C3: SCHOOL NAME
C4: INCOME TAX CALCULATION 2023-24
C5: NAME : | D5: PARMANAND MEGHWAL | I5: POST: | K5: HEAD MASTER | O5: PAN : | P5: XXXXXXXXXX | T5: TAN: | U5: AAAAAAAA | Z5: A/C NO. | AB5: XXXXXXXXX
M6: RAJTEACHERS.NET | Z6: MOB NO. | AB6: XXXXXXXXX
C7: Month | D7: Basic Pay | E7: Dearness Pay | F7: Leave Pay | G7: Spl. Pay | H7: D.A. | I7: H.R.A. | J7: Medical Allow. | K7: Washing Allow. | L7: ROP (If any, put the value in minus) | M7: Other Allowance | N7: Gross Salary | O7: =IF(H1="No","GPF","Emp. C.Pen.F.") -> Emp. C.Pen.F. | P7: =IF(H1="No","GPF LOAN","") | Q7: SI | R7: SI LOAN + INT | S7: Service Tax | T7: LIC | U7: Group Insurance Accidental | V7: HBA Premium | W7: HBA Interest | X7: Income Tax / TDS | Y7: Others | Z7: Others | AA7: Total Deduction | AB7: Net Payment | AC7: Bill No. & T.V. No.
B8: 3 | C8: 44986 | D8: =O1 -> 40800 | E8: 0 | F8: 0 | G8: 0 | H8: =IF($S$1="GOB",ROUND((D8)*0.42,0),IF($S$1="SSA",ROUND((D8)*0.38,0))) -> 15504 | I8: =ROUND(D8*$X$1/100,0) -> 1632 | J8: 1000 | K8: 0 | L8: 0 | M8: 0 | N8: =SUM(D8:M8) -> 58936 | O8: =IF($H$1="Yes",ROUND((D8+H8)*0.1,0),IF($H$1="No",IF(D8<23101,1450,IF(D8<28501,1625,IF(D8<38501,2100,IF(D8<51501,2850,IF(D8<62001,3575,IF(D8<72001,4200,IF(D8<80001,4800,IF(D8<116001,6150,IF(D8<167001,8900,10500))))))))),0)) -> 5630 | P8: 0 | R8: 0 | U8: 60 | X8: 1500 | AA8: =SUM(O8:Z8) -> 7190 | AB8: =N8-AA8 -> 51746
B9: 4 | C9: 45017 | D9: =D8 -> 40800 | E9: =IF(E$8=0,0,ROUND(D9/2,0)) -> 0 | F9: =IF(F$8=0,0,F8) -> 0 | G9: =IF(G$8=0,0,G8) -> 0 | H9: =IF($S$1="GOB",ROUND((D9)*0.42,0),IF($S$1="SSA",ROUND((D9)*0.42,0))) -> 17136 | I9: =ROUND(D9*$X$1/100,0) -> 1632 | J9: =IF(J$8=0,0,J8) -> 1000 | K9: =IF(K$8=0,0,K8) -> 0 | L9: =IF(L$8=0,0,L8) -> 0 | M9: =IF(M$8=0,0,M8) -> 0 | N9: =SUM(D9:M9) -> 60568 | O9: =IF($H$1="Yes",ROUND((D9+H9)*0.1,0),IF($H$1="No",IF(D9<23101,1450,IF(D9<28501,1625,IF(D9<38501,2100,IF(D9<51501,2850,IF(D9<62001,3575,IF(D9<72001,4200,IF(D9<80001,4800,IF(D9<116001,6150,IF(D9<167001,8900,10500))))))))),0)) -> 5794 | P9: =P8 -> 0 | R9: =R8 -> 0 | T9: =T8 -> 0 | U9: 60 | V9: =V8 -> 0 | W9: =W8 -> 0 | X9: =X8 -> 1500 | Y9: =Y8 -> 0 | Z9: =Z8 -> 0 | AA9: =SUM(O9:Z9) -> 7354 | AB9: =N9-AA9 -> 53214
B10: 5 | C10: 45047 | D10: =D9 -> 40800 | E10: =IF($E$8=0,0,ROUND(D10/2,0)) -> 0 | F10: =IF(F$8=0,0,F9) -> 0 | G10: =IF(G$8=0,0,G9) -> 0 | H10: =IF($S$1="GOB",ROUND((D10)*0.42,0),IF($S$1="SSA",ROUND((D10)*0.42,0))) -> 17136 | I10: =ROUND(D10*$X$1/100,0) -> 1632 | J10: =IF(J$8=0,0,J9) -> 1000 | K10: =IF(K$8=0,0,K9) -> 0 | L10: =IF(L$8=0,0,L9) -> 0 | M10: =IF(M$8=0,0,M9) -> 0 | N10: =SUM(D10:M10) -> 60568 | O10: =IF($H$1="Yes",ROUND((D10+H10)*0.1,0),IF($H$1="No",IF(D10<23101,1450,IF(D10<28501,1625,IF(D10<38501,2100,IF(D10<51501,2850,IF(D10<62001,3575,IF(D10<72001,4200,IF(D10<80001,4800,IF(D10<116001,6150,IF(D10<167001,8900,10500))))))))),0)) -> 5794 | P10: =P9 -> 0 | R10: =R9 -> 0 | T10: =T9 -> 0 | U10: 60 | V10: =V9 -> 0 | W10: =W9 -> 0 | X10: =X9 -> 1500 | Y10: =Y9 -> 0 | Z10: =Z9 -> 0 | AA10: =SUM(O10:Z10) -> 7354 | AB10: =N10-AA10 -> 53214
B11: 6 | C11: 45078 | D11: =D10 -> 40800 | E11: =IF($E$8=0,0,ROUND(D11/2,0)) -> 0 | F11: =IF(F$8=0,0,F10) -> 0 | G11: =IF(G$8=0,0,G10) -> 0 | H11: =IF($S$1="GOB",ROUND((D11)*0.42,0),IF($S$1="SSA",ROUND((D11)*0.42,0))) -> 17136 | I11: =ROUND(D11*$X$1/100,0) -> 1632 | J11: =IF(J$8=0,0,J10) -> 1000 | K11: =IF(K$8=0,0,K10) -> 0 | L11: =IF(L$8=0,0,L10) -> 0 | M11: =IF(M$8=0,0,M10) -> 0 | N11: =SUM(D11:M11) -> 60568 | O11: =IF($H$1="Yes",ROUND((D11+H11)*0.1,0),IF($H$1="No",IF(D11<23101,1450,IF(D11<28501,1625,IF(D11<38501,2100,IF(D11<51501,2850,IF(D11<62001,3575,IF(D11<72001,4200,IF(D11<80001,4800,IF(D11<116001,6150,IF(D11<167001,8900,10500))))))))),0)) -> 5794 | P11: =P10 -> 0 | R11: =R10 -> 0 | T11: =T10 -> 0 | U11: 60 | V11: =V10 -> 0 | W11: =W10 -> 0 | X11: =X10 -> 1500 | Y11: =Y10 -> 0 | Z11: =Z10 -> 0 | AA11: =SUM(O11:Z11) -> 7354 | AB11: =N11-AA11 -> 53214
B12: 7 | C12: 45108 | D12: =MROUND(ROUND(1.03*D11,0),100) -> 42000 | E12: =IF($E$8=0,0,ROUND(D12/2,0)) -> 0 | F12: =IF(F$8=0,0,F11) -> 0 | G12: =IF(G$8=0,0,G11) -> 0 | H12: =IF($S$1="GOB",ROUND((D12)*0.42,0),IF($S$1="SSA",ROUND((D12)*0.42,0))) -> 17640 | I12: =ROUND(D12*$X$1/100,0) -> 1680 | J12: =IF(J$8=0,0,J11) -> 1000 | K12: =IF(K$8=0,0,K11) -> 0 | L12: =IF(L$8=0,0,L11) -> 0 | M12: =IF(M$8=0,0,M11) -> 0 | N12: =SUM(D12:M12) -> 62320 | O12: =IF($H$1="Yes",ROUND((D12+H12)*0.1,0),IF($H$1="No",IF(D12<23101,1450,IF(D12<28501,1625,IF(D12<38501,2100,IF(D12<51501,2850,IF(D12<62001,3575,IF(D12<72001,4200,IF(D12<80001,4800,IF(D12<116001,6150,IF(D12<167001,8900,10500))))))))),0)) -> 5964 | P12: =P11 -> 0 | R12: =R11 -> 0 | T12: =T11 -> 0 | U12: 60 | V12: =V11 -> 0 | W12: =W11 -> 0 | X12: =X11 -> 1500 | Y12: =Y11 -> 0 | Z12: =Z11 -> 0 | AA12: =SUM(O12:Z12) -> 7524 | AB12: =N12-AA12 -> 54796
B13: 8 | C13: 45139 | D13: =D12 -> 42000 | E13: =IF($E$8=0,0,ROUND(D13/2,0)) -> 0 | F13: =IF(F$8=0,0,F12) -> 0 | G13: =IF(G$8=0,0,G12) -> 0 | H13: =IF($S$1="GOB",ROUND((D13)*0.42,0),IF($S$1="SSA",ROUND((D13)*0.42,0))) -> 17640 | I13: =ROUND(D13*$X$1/100,0) -> 1680 | J13: =IF(J$8=0,0,J12) -> 1000 | K13: =IF(K$8=0,0,K12) -> 0 | L13: =IF(L$8=0,0,L12) -> 0 | M13: =IF(M$8=0,0,M12) -> 0 | N13: =SUM(D13:M13) -> 62320 | O13: =IF($H$1="Yes",ROUND((D13+H13)*0.1,0),IF($H$1="No",IF(D13<23101,1450,IF(D13<28501,1625,IF(D13<38501,2100,IF(D13<51501,2850,IF(D13<62001,3575,IF(D13<72001,4200,IF(D13<80001,4800,IF(D13<116001,6150,IF(D13<167001,8900,10500))))))))),0)) -> 5964 | P13: =P12 -> 0 | R13: =R12 -> 0 | T13: =T12 -> 0 | U13: 60 | V13: =V12 -> 0 | W13: =W12 -> 0 | X13: =X12 -> 1500 | Y13: =Y12 -> 0 | Z13: =Z12 -> 0 | AA13: =SUM(O13:Z13) -> 7524 | AB13: =N13-AA13 -> 54796
B14: 9 | C14: 45170 | D14: =D13 -> 42000 | E14: =IF($E$8=0,0,ROUND(D14/2,0)) -> 0 | F14: =IF(F$8=0,0,F13) -> 0 | G14: =IF(G$8=0,0,G13) -> 0 | H14: =IF($S$1="GOB",ROUND((D14)*0.42,0),IF($S$1="SSA",ROUND((D14)*0.42,0))) -> 17640 | I14: =ROUND(D14*$X$1/100,0) -> 1680 | J14: =IF(J$8=0,0,J13) -> 1000 | K14: =IF(K$8=0,0,K13) -> 0 | L14: =IF(L$8=0,0,L13) -> 0 | M14: =IF(M$8=0,0,M13) -> 0 | N14: =SUM(D14:M14) -> 62320 | O14: =IF($H$1="Yes",ROUND((D14+H14)*0.1,0),IF($H$1="No",IF(D14<23101,1450,IF(D14<28501,1625,IF(D14<38501,2100,IF(D14<51501,2850,IF(D14<62001,3575,IF(D14<72001,4200,IF(D14<80001,4800,IF(D14<116001,6150,IF(D14<167001,8900,10500))))))))),0)) -> 5964 | P14: =P13 -> 0 | R14: =R13 -> 0 | T14: =T13 -> 0 | U14: 60 | V14: =V13 -> 0 | W14: =W13 -> 0 | X14: =X13 -> 1500 | Y14: =Y13 -> 0 | Z14: =Z13 -> 0 | AA14: =SUM(O14:Z14) -> 7524 | AB14: =N14-AA14 -> 54796
B15: 10 | C15: 45200 | D15: =D14 -> 42000 | E15: =IF($E$8=0,0,ROUND(D15/2,0)) -> 0 | F15: =IF(F$8=0,0,F14) -> 0 | G15: =IF(G$8=0,0,G14) -> 0 | H15: =IF($S$1="GOB",ROUND((D15)*0.42,0),IF($S$1="SSA",ROUND((D15)*0.42,0))) -> 17640 | I15: =ROUND(D15*$X$1/100,0) -> 1680 | J15: =IF(J$8=0,0,J14) -> 1000 | K15: =IF(K$8=0,0,K14) -> 0 | L15: =IF(L$8=0,0,L14) -> 0 | M15: =IF(M$8=0,0,M14) -> 0 | N15: =SUM(D15:M15) -> 62320 | O15: =IF($H$1="Yes",ROUND((D15+H15)*0.1,0),IF($H$1="No",IF(D15<23101,1450,IF(D15<28501,1625,IF(D15<38501,2100,IF(D15<51501,2850,IF(D15<62001,3575,IF(D15<72001,4200,IF(D15<80001,4800,IF(D15<116001,6150,IF(D15<167001,8900,10500))))))))),0)) -> 5964 | P15: =P14 -> 0 | R15: =R14 -> 0 | T15: =T14 -> 0 | U15: 60 | V15: =V14 -> 0 | W15: =W14 -> 0 | X15: =X14 -> 1500 | Y15: =Y14 -> 0 | Z15: =Z14 -> 0 | AA15: =SUM(O15:Z15) -> 7524 | AB15: =N15-AA15 -> 54796
B16: 11 | C16: 45231 | D16: =D15 -> 42000 | E16: =IF($E$8=0,0,ROUND(D16/2,0)) -> 0 | F16: =IF(F$8=0,0,F15) -> 0 | G16: =IF(G$8=0,0,G15) -> 0 | H16: =IF($S$1="GOB",ROUND((D16)*0.46,0),IF($S$1="SSA",ROUND((D16)*0.42,0))) -> 17640 | I16: =ROUND(D16*$X$1/100,0) -> 1680 | J16: =IF(J$8=0,0,J15) -> 1000 | K16: =IF(K$8=0,0,K15) -> 0 | L16: =IF(L$8=0,0,L15) -> 0 | M16: =IF(M$8=0,0,M15) -> 0 | N16: =SUM(D16:M16) -> 62320 | O16: =IF($H$1="Yes",ROUND((D16+H16)*0.1,0),IF($H$1="No",IF(D16<23101,1450,IF(D16<28501,1625,IF(D16<38501,2100,IF(D16<51501,2850,IF(D16<62001,3575,IF(D16<72001,4200,IF(D16<80001,4800,IF(D16<116001,6150,IF(D16<167001,8900,10500))))))))),0)) -> 5964 | P16: =P15 -> 0 | R16: =R15 -> 0 | T16: =T15 -> 0 | U16: 60 | V16: =V15 -> 0 | W16: =W15 -> 0 | X16: =X15 -> 1500 | Y16: =Y15 -> 0 | Z16: =Z15 -> 0 | AA16: =SUM(O16:Z16) -> 7524 | AB16: =N16-AA16 -> 54796
B17: 12 | C17: 45261 | D17: =D16 -> 42000 | E17: =IF($E$8=0,0,ROUND(D17/2,0)) -> 0 | F17: =IF(F$8=0,0,F16) -> 0 | G17: =IF(G$8=0,0,G16) -> 0 | H17: =ROUND(46%*D17,0) -> 19320 | I17: =ROUND(D17*$X$1/100,0) -> 1680 | J17: =IF(J$8=0,0,J16) -> 1000 | K17: =IF(K$8=0,0,K16) -> 0 | L17: =IF(L$8=0,0,L16) -> 0 | M17: =IF(M$8=0,0,M16) -> 0 | N17: =SUM(D17:M17) -> 64000 | O17: =IF($H$1="Yes",ROUND((D17+H17)*0.1,0),IF($H$1="No",IF(D17<23101,1450,IF(D17<28501,1625,IF(D17<38501,2100,IF(D17<51501,2850,IF(D17<62001,3575,IF(D17<72001,4200,IF(D17<80001,4800,IF(D17<116001,6150,IF(D17<167001,8900,10500))))))))),0)) -> 6132 | P17: =P16 -> 0 | R17: =R16 -> 0 | T17: =T16 -> 0 | U17: 60 | V17: =V16 -> 0 | W17: =W16 -> 0 | X17: =X16 -> 1500 | Y17: =Y16 -> 0 | Z17: =Z16 -> 0 | AA17: =SUM(O17:Z17) -> 7692 | AB17: =N17-AA17 -> 56308
B18: 1 | C18: 45292 | D18: =D17 -> 42000 | E18: =IF($E$8=0,0,ROUND(D18/2,0)) -> 0 | F18: =IF(F$8=0,0,F17) -> 0 | G18: =IF(G$8=0,0,G17) -> 0 | H18: =ROUND(46%*D18,0) -> 19320 | I18: =ROUND(D18*$X$1/100,0) -> 1680 | J18: =IF(J$8=0,0,J17) -> 1000 | K18: =IF(K$8=0,0,K17) -> 0 | L18: =IF(L$8=0,0,L17) -> 0 | M18: =IF(M$8=0,0,M17) -> 0 | N18: =SUM(D18:M18) -> 64000 | O18: =IF($H$1="Yes",ROUND((D18+H18)*0.1,0),IF($H$1="No",IF(D18<23101,1450,IF(D18<28501,1625,IF(D18<38501,2100,IF(D18<51501,2850,IF(D18<62001,3575,IF(D18<72001,4200,IF(D18<80001,4800,IF(D18<116001,6150,IF(D18<167001,8900,10500))))))))),0)) -> 6132 | P18: =P17 -> 0 | R18: =R17 -> 0 | T18: =T17 -> 0 | U18: 60 | V18: =V17 -> 0 | W18: =W17 -> 0 | X18: =X17 -> 1500 | Y18: =Y17 -> 0 | Z18: =Z17 -> 0 | AA18: =SUM(O18:Z18) -> 7692 | AB18: =N18-AA18 -> 56308
B19: 2 | C19: 45323 | D19: =D18 -> 42000 | E19: =IF($E$8=0,0,ROUND(D19/2,0)) -> 0 | F19: =IF(F$8=0,0,F18) -> 0 | G19: =IF(G$8=0,0,G18) -> 0 | H19: =ROUND(46%*D19,0) -> 19320 | I19: =ROUND(D19*$X$1/100,0) -> 1680 | J19: =IF(J$8=0,0,J18) -> 1000 | K19: =IF(K$8=0,0,K18) -> 0 | L19: =IF(L$8=0,0,L18) -> 0 | M19: =IF(M$8=0,0,M18) -> 0 | N19: =SUM(D19:M19) -> 64000 | O19: =IF($H$1="Yes",ROUND((D19+H19)*0.1,0),IF($H$1="No",IF(D19<23101,1450,IF(D19<28501,1625,IF(D19<38501,2100,IF(D19<51501,2850,IF(D19<62001,3575,IF(D19<72001,4200,IF(D19<80001,4800,IF(D19<116001,6150,IF(D19<167001,8900,10500))))))))),0)) -> 6132 | P19: =P18 -> 0 | R19: =R18 -> 0 | T19: =T18 -> 0 | U19: 60 | V19: =V18 -> 0 | W19: =W18 -> 0 | X19: =X18 -> 1500 | Y19: =Y18 -> 0 | Z19: =Z18 -> 0 | AA19: =SUM(O19:Z19) -> 7692 | AB19: =N19-AA19 -> 56308
C20: DA Arrear 42% | H20: =(ROUND(42%*D8,0)-ROUND(38%*D8,0))*2 -> 3264 | N20: =SUM(D20:M20) -> 3264 | O20: =IF(H1<>"yes",0,ROUND(H20*10/100,0)) -> 326 | AA20: =SUM(O20:Z20) -> 326 | AB20: =N20-AA20 -> 2938
C21: DA Arrear 46% | H21: =(ROUND(42%*D12,0)-ROUND(38%*D12,0))*4 -> 6720 | N21: =SUM(D21:M21) -> 6720 | O21: =IF(H1<>"yes",0,ROUND(H21*10/100,0)) -> 672 | AA21: =SUM(O21:Z21) -> 672 | AB21: =N21-AA21 -> 6048
C22: Surrender | N22: =SUM(D22:M22) -> 0 | AA22: =SUM(O22:Z22) -> 0 | AB22: =N22-AA22 -> 0
C23: Bonus | N23: =SUM(D23:M23) -> 0 | AA23: =SUM(O23:Z23) -> 0 | AB23: =N23-AA23 -> 0
C24: Fixation Arrear | N24: =SUM(D24:M24) -> 0 | AA24: =SUM(O24:Z24) -> 0 | AB24: =N24-AA24 -> 0
C25: Salary Arrear 1 | N25: =SUM(D25:M25) -> 0 | AA25: =SUM(O25:Z25) -> 0 | AB25: =N25-AA25 -> 0
C26: Salary Arrear 2 | N26: =SUM(D26:M26) -> 0 | AA26: =SUM(O26:Z26) -> 0 | AB26: =N26-AA26 -> 0
C27: Salary Arrear 3 | N27: =SUM(D27:M27) -> 0 | AA27: =SUM(O27:Z27) -> 0 | AB27: =N27-AA27 -> 0
C28: Other | N28: =SUM(D28:M28) -> 0 | AA28: =SUM(O28:Z28) -> 0 | AB28: =N28-AA28 -> 0
C29: TOTAL | D29: =SUM(D8:D28) -> 499200 | E29: =SUM(E8:E28) -> 0 | F29: =SUM(F8:F28) -> 0 | G29: =SUM(G8:G28) -> 0 | H29: =SUM(H8:H28) -> 223056 | I29: =SUM(I8:I28) -> 19968 | J29: =SUM(J8:J28) -> 12000 | K29: =SUM(K8:K28) -> 0 | ... AB29: =SUM(AB8:AB28) -> 663278
E34: Signature of Employee | AB34: Signature of DDO

Sheet Other Deduction
A1: osru ds vfrfjDr dVkSfr;k¡] vk;@tek jkf'k ,oa NwV dk fooj.k
A2: ='GA-55'!D5& " , " &'GA-55'!K5&" PAN- "&'GA-55'!P5 -> PARMANAND MEGHWAL , HEAD MASTER PAN- XXXXXXXXXX
A3: 1- edku fdjk;k HkRrk ¼ NwV tks ysuh gS½ | B3: 0 | D3: 17- cpr [kkrs dh tek jkf'k ij izkIr C;kt (80 TTA/80 TTB) gsrq | E3: 0 | F3: BASIC+D.A. | DR3: UPS Kuhada Khurd
A4: 2- euksjatu Hkrk /kkjk 16 ¼ii½ ds vUrxZr | B4: 0 | D4: 18- vU; vk; ¼,Q Mh ij C;kt] vU; C;kt ;k vU; L=ks+= ls vk; vkfn dk ;ksx½ | E4: 0 | F4: ='GA-55'!N29-'GA-55'!I29 -> 734256
A5: 3- O;olk; dj /kkjk 16 ¼iii½ ds vUrxrZ | B5: 0 | D5: 19- vU; tek jkf'k ¼/kkjk 80 lh ds vUrxZr½ | E5: 0 | F5: Taxable Amt
A6: 4- x`g lEifr ls izkIr fdjk;k & vk; | B6: 0 | D6: 20- /kkjk 80CCC - isa'ku Iyku gsrq va'knku ¼,u-ih-,l- ds avykok½ | E6: 0 | F6: ='Tax Old Regime'!Q47 -> 631280
A7: 5- x`gdj | B7: 0 | D7: 21- /kkjk 80CCD(1B) -uohu isa'ku ;kstuk esa vfrfjDr va'knku ¼vf/kdre :- 50]000½ | E7: 0 | F7: Tax Deposited
A8: 6- x`g _.k fdLr ewy ¼tks osru ls ugha dkVk x;k½ | B8: 0 | D8: 22- /kkjk 80D - fpfdRlk chek izhfe;e ¼lkekU; 25000] ofj"B ukxfjd 50000½ | E8: 0 | F8: ='GA-55'!X29 -> 18000
A9: 7- x`g _.k fdLr C;kt ¼tks osru ls ugha dkVk x;k½ | B9: 0 | D9: 23- /kkjk 80DD - fodykax vkfJrksa ds fpfdRlk mipkj¼vf/kdre 75000] 80% fodykaxrk 125000½ | E9: 0 | F9: Rebate Under Section 80C, 80CCC, 80CCD(1)
A10: 8- thou chek izhfe;e ¼tks osru ls ugh dkVk x;k½ LIC | B10: 0 | D10: 24- /kkjk 80DDB - fof'k"V jksxksa ds mipkj gsrq dVkSrh ¼lkekU; 40000] ofj"B ukxfjd 1 yk[k½ | E10: 0 | DR10: UPS Banediya Charnan
A11: 9- ih-,y-vkbZ- (PLI) | B11: 0 | D11: 25- /kkjk 80E - mPp f'k{kk gsrq fy, _.k dk C;kt ¼/kkjk 80E½ | E11: 0 | DR11: UPS Laxmipura Dhakaran
A12: 10- V;w'ku Qhl (Tution Fees) | B12: 0 | D12: 26- /kkjk 80G - /kekZFkZ laLFkkvksa vkfn dks fn;s nku ¼d Js.kh 100% ,oa [k Js.kh 50%½ | E12: 0 | F12: ='Tax Old Regime'!Q31 -> 72946 | DR12: UPS Pathraj Kala
A13: 11- ;w- ,y- vkbZ- ih-@okf"kZd Iyku | B13: 0 | D13: 27- /kkjk 80U - LFkkbZ 'kkjhfjd fodykaxrk ¼vf/kdre 75000] 80% fodykaxrk 125000½ | E13: 0
A14: 12- jk"Vªh; cpr i= (NSC) | B14: 0 | D14: 28- /kkjk 80 GGA - vuqeksfnr oSKkfud]lkekftd]xzkeh.k fodkl vkfn gsrq fn;k x;k nku | E14: 0 | F14: edku fdjk;k NwV ds fy, jlhn dh vko';drk | DR14: PS Aarampura
A15: 13- jk"Vªh; cpr i= ij vnr C;kt | B15: 0 | D15: 29- bfDoVh fyad lsfoax Ldhe | E15: 0 | DR15: UPS Laxmipura Dhakaran
A16: 14- yksd Hkfo"; fuf/k (PPF) | B16: 0 | D16: 30- LFkfxr okf"kZdh | E16: 0 | DR16: UPS Raghunathpura
A17: 15- jk"Vªh; cpr Ldhe | B17: 0 | D17: 31- jkgr /kkjk 89 ds rgr | E17: 0 | F17: =IF(B3>=1,(F4*10%+B3),0) -> 0 | DR17: UPS Manda
A18: 16- lqdU;k le`f) ;kstuk (SSY) | B18: 0 | D18: 32- osru fcy ds vykok tek djk;k x;k aavk;dj (TDS) | E18: 0 | DR18: UPS Sandla
A19: ='Tax Old Regime'!B63 -> Income Tax Payable | D19: ='Tax Old Regime'!Q63 -> 22306 | E19: HRA | F19: ='GA-55'!I29 -> 19968 | DR19: UPS Ramsinghpura
A20: ="Total Rebate of (US 80C, 80CCC,80CCD(1)) = "&'Tax Old Regime'!Q31 -> Total Rebate of (US 80C, 80CCC,80CCD(1)) = 72946 | D20: ="Investable Amount = "&(150000-'Tax Old Regime'!Q31) -> Investable Amount = 77054 | DR20: GSS Ganeshganj
A21: WWW.RAJTEACHERS.NET

Sheet Tax Old Regime
B1: ='GA-55'!C3 -> SCHOOL NAME
B2: vk;dj x.kuk izi= o"kZ 2023&2024 ¼dj fu/kkZj.k o"kZ 2024&2025½
B3: 1 | C3: uke deZpkjh % | E3: ='GA-55'!D5 -> PARMANAND MEGHWAL | K3: in % | L3: ='GA-55'!K5 -> HEAD MASTER | O3: PAN : | P3: =IF('GA-55'!P5="","",'GA-55'!P5) -> XXXXXXXXXX
B4: 2 | C4: vk; % o"kZ&2023&24 esa izkIr dqy osru ¼ dj ;ksX; lqfo/kkvksa ds eqY; lfgr ½ | P4: #- | Q4: =IF('GA-55'!H1<>"yes",'GA-55'!N29,('GA-55'!N29+'GA-55'!O29)) -> 826450
B5: 3 | C5: x`g fdjk;k] /kkjk 10¼13&A½ ds vUrxrZ ,oa /kkjk 10¼14½ds vUrxrZ vU; Hkrs tks dj eqDÙk gSA | P5: #- | Q5: ='Other Deduction'!B3 -> 0
B6: 4 | C6: 'ks"k ¼2&3½ | P6: #- | Q6: =Q4-Q5 -> 826450
B7: 5 | C7: ¼i½ euksjatu Hkrk /kkjk 16 ¼ii½ ds vUrxrZ ¼ vf/kdre lhek : 5000 ½ | M7: ='Other Deduction'!B4 -> 0
C8: ¼ii½ O;o;k; dj /kkjk 16 ¼iii½ ds vUrxrZ | M8: ='Other Deduction'!B5 -> 0
C9: ¼iiI½ LVs.MMZ fMMsD'ku (Standard Deduction) 50]000 ¼vf/kdre½ | M9: =IF(Q6<50000,Q6,50000) -> 50000 | P9: #- | Q9: =SUM(M7:O9) -> 50000
B10: 6 | C10: 'ks"k ¼4&5½ | P10: #- | Q10: =Q6-Q9 -> 776450
B11: 7 | C11: ¼v½x`g lEifr ls vk;%¼1½ Loa; ds mi;ksx esa &'kwU; | K11: ¼2½ izkIr fdjk;k #- | M11: ='Other Deduction'!B6 -> 0
C12: ¼c½ ?kVk;sa | E12: fdjk;s dk 30% | H12: x`g _.k ij C;kt | K12: x`gdj | M12: ;ksx 7¼c½
E13: =ROUND(M11*0.3,0) -> 0 | H13: =IF(('GA-55'!W29+'Other Deduction'!B9)>200000,200000,('GA-55'!W29+'Other Deduction'!B9)) -> 0 | K13: ='Other Deduction'!B7 -> 0 | M13: =E13+H13+K13 -> 0
C14: 'ks"k &@$¼7¼v½ ,oa ;ksx 7¼c½ dk½ | P14: #- | Q14: =M11-M13 -> 0
B15: 8 | C15: dqy 'ks"k &@$¼6,oa 7½ | P15: #- | Q15: =Q10+Q14 -> 776450
B16: 9 | C16: vU; vk; | P16: #- | Q16: ='Other Deduction'!E3+'Other Deduction'!E4 -> 0
B17: 10 | C17: ldy vk; ;ksx ¼8$9½ | P17: #- | Q17: =Q15+Q16 -> 776450
B18: 11 | C18: ?kVkb;s dVkSSfr;k¡ %& /kkjk US 80C, 80CCC,80CCD (1)
C19: (A) vf/kdre lhek 1]50]000@& ¼/kkjk 80CCE ½ ] ¼/kkjk 80CCD (2), ds vykok
C20: (i) | D20: jkT; chek ¼SI) | H20: #- | I20: ='GA-55'!Q29 -> 0 | J20: (xi) | K20: ljdkjh isa'ku ;kstuk esa va'knku ECPF vf/kdre osru dk 10%¼/kkjk 80ccd½ | N20: #- | O20: =IF('GA-55'!H1<>"no",'GA-55'!O29-Q33,0) -> 72226
C21: (ii) | D21: thou chek izhfe;e ¼LIC) | H21: #- | I21: ='GA-55'!T29+'Other Deduction'!B10 -> 0 | J21: (xii) | K21: isa'ku Iyku gsrq va'knku¼/kkjk 80ccc½ | N21: #- | O21: ='Other Deduction'!E6 -> 0
C22: (iii) | D22: jk"Vªh; cpr i= ¼NSC) | H22: #- | I22: ='Other Deduction'!B14 -> 0 | J22: (xiii) | K22: jk"Vªh; cpr i= ij vnr C;kt | N22: #- | O22: ='Other Deduction'!B15 -> 0
C23: (iv) | D23: yksd Hkfo"; fuf/k ¼PPF) | H23: #- | I23: ='Other Deduction'!B16 -> 0 | J23: (xiv) | K23: V;w'ku Qhl | N23: #- | O23: ='Other Deduction'!B12 -> 0
C24: (v) | D24: jk"Vªh; cpr Ldhe ¼NSS) | H24: #- | I24: ='Other Deduction'!B17 -> 0 | J24: (xv) | K24: bfDoVh fyad lsfoax Ldhe | N24: #- | O24: ='Other Deduction'!E15 -> 0
C25: (vi) | D25: lkekU; izko/kk;h fuf/k ¼GPF) | H25: #- | I25: =IF('GA-55'!H1<>"yes",'GA-55'!O29,0) -> 0 | J25: (xvi) | K25: LFkfxr okf"kZdh ¼Defferred Annuty) | N25: #- | O25: ='Other Deduction'!E16 -> 0
C26: (vii) | D26: lkewfgd chek izhfe;e ¼G.Ins.) | H26: #- | I26: ='GA-55'!U29 -> 720 | J26: (xvii) | K26: ih-,y-vkbZ- ¼PLI) | N26: #- | O26: ='Other Deduction'!B11 -> 0
C27: (viii) | D27: ;w- ,y- vkbZ- ih-@okf"kZd Iyku | H27: #- | I27: ='Other Deduction'!B13 -> 0 | J27: (xviii) | K27: vU; tekjkf'k ¼/kkjk 80 lh ds vUrxZr½ | N27: #- | O27: ='Other Deduction'!E5 -> 0
C28: (ix) | D28: x`g _.k fdLr ¼HBA Premium) | H28: #- | I28: ='GA-55'!V29+'Other Deduction'!B8 -> 0 | J28: (xix) | K28: lqdU;k le`f) ;kstuk esa tek jkf'k | N28: #- | O28: ='Other Deduction'!B18 -> 0
C29: (x) | K29: vU;
C30: ;ksx ( i ls xviii ) | N30: #- | O30: =SUM(I20:I29)+SUM(O20:O29) -> 72946
C31: vf/kdre dVkSrh dh jkf'k 1-50 yk[k #i, rd | P31: #- | Q31: =IF(O30<150001,ROUND(O30,0),150000) -> 72946
C32: (B) ?kVkb;s& /kkjk 80CCD(2) fu;ksDrk }kjk isa'ku va'knku dh jkf'k ¼vf/kdre osru dk 10%) i`Fkd ls NwV | Q32: =IF('GA-55'!H1<>"no",'GA-55'!O29,0) -> 72226
C33: (C) ?kVkb;s & /kkjk 80CCD (1B) uohu isa'ku ;kstuk esa vfrfjDr va'knku ¼vf/kdre :- 50]000) | P33: #- | Q33: ='Other Deduction'!E7 -> 0
C34: ;ksx 11(A+B+C) | P34: #- | Q34: =SUM(Q31:Q33) -> 145172
B35: 12 | C35: vU; dVkSfr;k¡
C36: 1-/kkjk 80 D ,fpfdRlk chek izhfe;e ¼Lo;a]ifr@iRuh o cPpksa ds fy, : 25000] ekrk&firk ds fy, : 25000]lhfu;j flVhtu : 50000½ | P36: #- | Q36: ='Other Deduction'!E8 -> 0
C37: 2- /kkjk 80DD fodykax vkfJrksa ds fpfdRlk mipkj ¼vf/kdre 75]000 rFkk 80% ;k vf/kd fodykaxrk 125]000½ | P37: #- | Q37: ='Other Deduction'!E9 -> 0
C38: 3- /kkjk 80DDB fof'k"V jksaxksa ds mipkj gsrq dVkSrh ¼vf/kdre : 40]000] lhfu;j flVhtu gsrq : 100]000½ | P38: #- | Q38: ='Other Deduction'!E10 -> 0
C39: 4- /kkjk 80E mPp f'k{kk gsrq fy, _.k dk C;kt | P39: #- | Q39: ='Other Deduction'!E11 -> 0
C40: 5- /kkjk 80G /kekZFkZ laLFkkvksa vkfn dks fn;s nku ¼ d Js.kh esa 100 izfr'kr ,oa [k Js.kh esa 50 izfr'kr½ | P40: #- | Q40: ='Other Deduction'!E12 -> 0
...

Sheet Tax New Regime
B1: ='GA-55'!C3 -> SCHOOL NAME
B2: vk;dj x.kuk izi= o"kZ 2023&2024 ¼dj fu/kkZj.k o"kZ 2024&2025½
B3: 1 | C3: uke deZpkjh % | E3: ='GA-55'!D5 -> PARMANAND MEGHWAL | K3: in % | L3: ='GA-55'!K5 -> HEAD MASTER | O3: PAN : | P3: =IF('GA-55'!P5="","",'GA-55'!P5) -> XXXXXXXXXX
B4: 2 | C4: vk; % o"kZ&2023&24 esa izkIr dqy osru ¼ dj ;ksX; lqfo/kkvksa ds eqY; lfgr ½ | P4: #- | Q4: =IF('GA-55'!H1<>"yes",'GA-55'!N29,('GA-55'!N29+'GA-55'!O29)) -> 826450
B5: 3 | C5: x`g fdjk;k] /kkjk 10¼13&A½ ds vUrxrZ ,oa /kkjk 10¼14½ds vUrxrZ vU; Hkrs tks dj eqDÙk gSA | P5: #- | Q5: 0
B6: 4 | C6: 'ks"k ¼2&3½ | P6: #- | Q6: =Q4-Q5 -> 826450
B7: 5 | C7: ¼i½euksjatu Hkrk /kkjk 16 ¼ii½ ds vUrxrZ ¼ vf/kdre lhek : 5000 ½ | M7: ='Other Deduction'!B4 -> 0
C8: ¼ii½ O;o;k; dj /kkjk 16 ¼iii½ ds vUrxrZ | M8: 0
C9: ¼iiI½ LVs.MMZ fMMsD'ku (Standard Deduction) 50]000 ¼vf/kdre½ | M9: 50000 | P9: #- | Q9: =SUM(M7:O9) -> 50000
B10: 6 | C10: 'ks"k ¼4&5½ | P10: #- | Q10: =Q6-Q9 -> 776450
B11: 7 | C11: ¼v½x`g lEifr ls vk;%¼1½ Loa; ds mi;ksx esa &'kwU; | K11: ¼2½ izkIr fdjk;k #- | M11: 0
C12: ¼c½ ?kVk;sa | E12: fdjk;s dk 30% | H12: x`g _.k ij C;kt | K12: x`gdj | M12: ;ksx 7¼c½
E13: =ROUND(M11*0.3,0) -> 0 | H13: 0 | K13: ='Other Deduction'!B7 -> 0 | M13: =E13+H13+K13 -> 0
C14: 'ks"k &@$¼7¼v½ ,oa ;ksx 7¼c½ dk½ | P14: #- | Q14: =M11-M13 -> 0
B15: 8 | C15: dqy 'ks"k &@$¼6,oa 7½ | P15: #- | Q15: =Q10+Q14 -> 776450
B16: 9 | C16: vU; vk; | P16: #- | Q16: ='Other Deduction'!E3+'Other Deduction'!E4 -> 0
B17: 10 | C17: ldy vk; ;ksx ¼8$9½ | P17: #- | Q17: =Q15+Q16 -> 776450
B18: 11 | C18: ?kVkb;s dVkSSfr;k¡ %& /kkjk US 80C, 80CCC,80CCD (1)
C19: (A) vf/kdre lhek 1]50]000@& ¼/kkjk 80CCE ½ ] ¼/kkjk 80CCD (2), ds vykok
C20: (i) | D20: jkT; chek ¼SI) | H20: #- | I20: ='GA-55'!Q29 -> 0 | J20: (xi) | K20: ljdkjh isa'ku ;kstuk esa va'knku ECPF vf/kdre osru dk 10%¼/kkjk 80ccd½ | N20: #- | O20: 0
C21: (ii) | D21: thou chek izhfe;e ¼LIC) | H21: #- | I21: ='GA-55'!Q30 -> 0 | J21: (xii) | K21: isa'ku Iyku gsrq va'knku¼/kkjk 80ccc½ | N21: #- | O21: 0
C22: (iii) | D22: jk"Vªh; cpr i= ¼NSC) | H22: #- | I22: ='GA-55'!Q31 -> 0 | J22: (xiii) | K22: jk"Vªh; cpr i= ij vnr C;kt | N22: #- | O22: 0
C23: (iv) | D23: yksd Hkfo"; fuf/k ¼PPF) | H23: #- | I23: ='GA-55'!Q32 -> 0 | J23: (xiv) | K23: V;w'ku Qhl | N23: #- | O23: 0
C24: (v) | D24: jk"Vªh; cpr Ldhe ¼NSS) | H24: #- | I24: ='GA-55'!Q33 -> 0 | J24: (xv) | K24: bfDoVh fyad lsfoax Ldhe | N24: #- | O24: 0
C25: (vi) | D25: lkekU; izko/kk;h fuf/k ¼GPF) | H25: #- | I25: ='GA-55'!Q34 -> 0 | J25: (xvi) | K25: LFkfxr okf"kZdh ¼Defferred Annuty) | N25: #- | O25: 0
C26: (vii) | D26: lkewfgd chek izhfe;e ¼G.Ins.) | H26: #- | I26: ='GA-55'!Q35 -> 0 | J26: (xvii) | K26: ih-,y-vkbZ- ¼PLI) | N26: #- | O26: 0
C27: (viii) | D27: ;w- ,y- vkbZ- ih-@okf"kZd Iyku | H27: #- | I27: ='GA-55'!Q36 -> 0 | J27: (xviii) | K27: vU; tekjkf'k ¼/kkjk 80 lh ds vUrxZr½ | N27: #- | O27: 0
C28: (ix) | D28: x`g _.k fdLr ¼HBA Premium) | H28: #- | I28: ='GA-55'!Q37 -> 0 | J28: (xix) | K28: lqdU;k le`f) ;kstuk esa tek jkf'k | N28: #- | O28: 0
C29: (x) | D29: lkekU; izko/kk;h fuf/k ¼GPF 2004) | H29: #- | I29: ='GA-55'!Q38 -> 0 | J29: (xx) | K29: vU; | O29: 0
C30: ;ksx ( i ls xviii ) | N30: #- | O30: =SUM(I20:I29)+SUM(O20:O29) -> 0
C31: vf/kdre dVkSrh dh jkf'k 1-50 yk[k #i, rd | P31: #- | Q31: 0
C32: (B) ?kVkb;s& /kkjk 80CCD(2) fu;ksDrk }kjk isa'ku va'knku dh jkf'k ¼vf/kdre osru dk 10%) i`Fkd ls NwV | Q32: =IF('GA-55'!H1<>"no",'GA-55'!O29,0) -> 72226
C33: (C) ?kVkb;s & /kkjk 80CCD (1B) uohu isa'ku ;kstuk esa vfrfjDr va'knku ¼vf/kdre :- 50]000) | P33: #- | Q33: 0
C34: ;ksx 11(A+B+C) | P34: #- | Q34: =SUM(Q31:Q33) -> 72226
B35: 12 | C35: vU; dVkSfr;k¡
C36: 1-/kkjk 80 D ,fpfdRlk chek izhfe;e ¼Lo;a]ifr@iRuh o cPpksa ds fy, : 25000] ekrk&firk ds fy, : 25000]lhfu;j flVhtu : 50000½ | P36: #- | Q36: ='Other Deduction'!E8 -> 0
C37: 2- /kkjk 80DD fodykax vkfJrksa ds fpfdRlk mipkj ¼vf/kdre 75]000 rFkk 80% ;k vf/kd fodykaxrk 125]000½ | P37: #- | Q37: ='Other Deduction'!E9 -> 0
C38: 3- /kkjk 80DDB fof'k"V jksaxksa ds mipkj gsrq dVkSrh ¼vf/kdre : 40]000] lhfu;j flVhtu gsrq : 100]000½ | P38: #- | Q38: ='Other Deduction'!E10 -> 0
C39: 4- /kkjk 80E mPp f'k{kk gsrq fy, _.k dk C;kt | P39: #- | Q39: ='Other Deduction'!E11 -> 0
C40: 5- /kkjk 80G /kekZFkZ laLFkkvksa vkfn dks fn;s nku ¼ d Js.kh esa 100 izfr'kr ,oa [k Js.kh esa 50 izfr'kr½ | P40: #- | Q40: ='Other Deduction'!E12 -> 0
...

Sheet Form 16
E1: FORM NO.16 | J1: NEW TAX REGIME
A2: [See rule 31 (1) (a)]
A3: Part A
A4: Certificate under section 203 of the Income Tax Act, 1961 for tax deducted
A5: at source from income chargeable under the head “ Salaries “
A6: Name and address of the employer | G6: Name and Designation of the employee
A7: RAJENDRA KUMAR | G7: ='GA-55'!D5 -> PARMANAND MEGHWAL
A8: PRINCIPAL | G8: ='GA-55'!K5 -> HEAD MASTER
A9: ='GA-55'!C3 -> SCHOOL NAME | G9: ='GA-55'!C3 -> SCHOOL NAME
A11: PAN of the Deducter | D11: TAN of the Deducter | G11: PAN of the Employee
D12: ='GA-55'!U5 -> AAAAAAAA | G12: ='GA-55'!P5 -> XXXXXXXXXX
A13: TDS Circle where annual | G13: PERIOD | J13: Assessment Year
A14: return / statement under | G14: FROM | I14: TO | J14: 2024-25
A15: section 206 is to be filed | G15: 01.04.2023 | I15: 31.03.2024
A16: Smmary of amount Paid/credited and tax Deducted at source thereon in respect of the Employee
A17: Quarter(s) | C17: Receipt Numbersof Original Quaterly Statements of TDS Under Sub-Section (3) of Section 200 | F17: Amount Paid cridited | H17: Amount of Tax Deducted (Rs) | K17: Amount of Tax Deposited / Remitted (Rs)
A18: Quarter 1 | F18: =SUM('GA-55'!N8:N10) -> 180072 | H18: =SUM('GA-55'!X8:X10) -> 4500 | K18: =H18 -> 4500
A19: Quarter 2 | F19: =SUM('GA-55'!N11:N13) -> 185208 | H19: =SUM('GA-55'!X11:X13) -> 4500 | K19: =H19 -> 4500
A20: Quarter 3 | F20: =SUM('GA-55'!N14:N16) -> 186960 | H20: =SUM('GA-55'!X14:X16) -> 4500 | K20: =H20 -> 4500
A21: Quarter 4 | F21: =SUM('GA-55'!N17:N28) -> 201984 | H21: =SUM('GA-55'!X17:X28) -> 4500 | K21: =H21 -> 4500
A22: Total | F22: =SUM(F18:F21) -> 754224 | H22: =SUM(H18:H21) -> 18000 | K22: =SUM(K18:K21) -> 18000
A23: I.DETAILS TAX DEDUCTED AND DEPOSITED INTO CENTRAL GOVERNMENT ACCOUNT THROUGH BOOK ADJUSTMENT
A24: S.No | B24: Tax Deposited In Respect | E24: Book Identification Number (BIN)
B25: of the deducter | E25: Receipt Numbers of | G25: DDO Serial No in | I25: Date Of Transfer | K25: Status of Maching
C26: (Rs) | E26: Form No.24G | G26: Form No.24G | I26: Form No.24G | K26: with Form.No 24G
I27: (dd/mm/yyyy)
A28: 1
A29: 2
A30: 3
A31: 4
A32: 5
A33: 6
A34: 7
A35: 8
A36: 9
A37: 10
A38: 11
A39: 12
A40: 13
A41: Total (Rs) | B41: =SUM(B28:B40) -> 0
...
