Workbook

Sheet Master
B1: ,e-,-lh-ih- deZpkjh dk fooj.k | O1: laHkkx | P1: ftyk
B2: lhchbZbZvks dk;kZy; | C2: eq[; CykWd f'k{kk vf/kdkjh | F2: lexz f'k{kk vV# | O2: dksVk | P2: ckjka
B3: dk;kZy; dk uke | D3: jktdh; mPp ek/;fed fo|ky;] xksj/kuiqjk rglhy vV# ftyk ckjka | O3: la;qDr funs'kd ek/;fed f'k{kk ds vkns'k dzekad
B4: LFkkuh; dk;kZy; ds vkns'k dzekad | D4: jkmekfo@2023&24@122 | F4: vkns'k fnukad | G4: 12.01.2024 | O4: lafuLdwf'k@dks@ys[kk&4@,elhih&dksVk laHkkx@23&24@306
B5: v/;kid r`rh; JS.kh | N5: 45475
B6: deZPkkjh dk uke | C6: tUe frfFk | D6: orZeku in | E6: r`rh; ,lhih Lohd`fr fnukad | F6: fnuakd 01-04-23 dks izkIr is&ysoy | G6: fnuakd 01-04-23 dks izkIr osru | N6: 45474 | O6: vkns'k fnukad | P6: 12@12@2023
A7: =IF(B7="","",ROWS($D$7:D7)) -> 1 | B7: ijekuUn es?koky | C7: 30407 | D7: v/;kid | E7: 44189 | F7: L-13 | G7: 69200 | I7: =YEAR(C7) -> 1983 | J7: =DAY(C7) -> 1 | K7: =TEXT(C7,"mmm") -> Apr | L7: =I7+60 -> 2043 | M7: =DATEVALUE(J7&K7&L7) -> 52322 | N7: =IF(A7="","",IF($N$5<M7,$N$6,"lsokfuo`r")) -> 45474
A8: =IF(B8="","",ROWS($D$7:D8)) | F8: L-13 | I8: =YEAR(C8) -> 1900 | J8: =DAY(C8) -> 0 | K8: =TEXT(C8,"mmm") -> Jan | L8: =I8+60 -> 1960 | M8: =DATEVALUE(J8&K8&L8) -> #VALUE! | N8: =IF(A8="","",IF($N$5<M8,$N$6,"lsokfuo`r")) | O8: ftyk f'k{kk vf/kdkjh ek/;fed f'k{kk ds vkns'k dzekad
A9: =IF(B9="","",ROWS($D$7:D9)) | I9: =YEAR(C9) -> 1900 | J9: =DAY(C9) -> 0 | K9: =TEXT(C9,"mmm") -> Jan | L9: =I9+60 -> 1960 | M9: =DATEVALUE(J9&K9&L9) -> #VALUE! | N9: =IF(A9="","",IF($N$5<M9,$N$6,"lsokfuo`r"))
A10: =IF(B10="","",ROWS($D$7:D10)) | I10: =YEAR(C10) -> 1900 | J10: =DAY(C10) -> 0 | K10: =TEXT(C10,"mmm") -> Jan | L10: =I10+60 -> 1960 | M10: =DATEVALUE(J10&K10&L10) -> #VALUE! | N10: =IF(A10="","",IF($N$5<M10,$N$6,"lsokfuo`r")) | O10: ftf'kv@eqek@ckjka@ys[kk&1@,e,lhih@2023&24@385
A11: =IF(B11="","",ROWS($D$7:D11)) | I11: =YEAR(C11) -> 1900 | J11: =DAY(C11) -> 0 | K11: =TEXT(C11,"mmm") -> Jan | L11: =I11+60 -> 1960 | M11: =DATEVALUE(J11&K11&L11) -> #VALUE! | N11: =IF(A11="","",IF($N$5<M11,$N$6,"lsokfuo`r"))
B12: v/;kid f}rh; JS.kh | F12: ¼lh/kh HkrhZ ls½
B13: deZPkkjh dk uke | C13: tUe frfFk | D13: orZeku in izkIr | E13: izHkkfor ¼f}rh;@r`rh;½ ,lhih Lohd`fr fnukad | F13: fnuakd 01-04-23 dks izkIr is&ysoy | G13: fnuakd 01-04-23 dks izkIr osru | O13: vkns'k fnukad | P13: 18@12@2023
A14: =IF(B14="","",ROWS($D$14:D14)) -> 1 | B14: eqjyh/kj egkoj | C14: 23559 | E14: 44189 | F14: L-13 | G14: 69200 | I14: =YEAR(C14) -> 1964 | J14: =DAY(C14) -> 1 | K14: =TEXT(C14,"mmm") -> Jul | L14: =I14+60 -> 2024 | M14: =DATEVALUE(J14&K14&L14) -> 45474 | N14: =IF(A14="","",IF($N$5<M14,$N$6,"lsokfuo`r")) -> lsokfuo`r
A15: =IF(B15="","",ROWS($D$7:D8)) | I15: =YEAR(C15) -> 1900 | J15: =DAY(C15) -> 0 | K15: =TEXT(C15,"mmm") -> Jan | L15: =I15+60 -> 1960 | M15: =DATEVALUE(J15&K15&L15) -> #VALUE! | N15: =IF(A15="","",IF($N$5<M15,$N$6,"lsokfuo`r")) | O15: ftyk f'k{kk vf/kdkjh izkjfEHkd f'k{kk ds vkns'k dzekad
A16: =IF(B16="","",ROWS($D$7:D9)) | I16: =YEAR(C16) -> 1900 | J16: =DAY(C16) -> 0 | K16: =TEXT(C16,"mmm") -> Jan | L16: =I16+60 -> 1960 | M16: =DATEVALUE(J16&K16&L16) -> #VALUE! | N16: =IF(A16="","",IF($N$5<M16,$N$6,"lsokfuo`r")) | O16: ftf'kv@izkf'k@ckjka@ys[kk&1@,e,lhih@2023&24@902
A17: =IF(B17="","",ROWS($D$7:D10)) | I17: =YEAR(C17) -> 1900 | J17: =DAY(C17) -> 0 | K17: =TEXT(C17,"mmm") -> Jan | L17: =I17+60 -> 1960 | M17: =DATEVALUE(J17&K17&L17) -> #VALUE! | N17: =IF(A17="","",IF($N$5<M17,$N$6,"lsokfuo`r"))
B18: v/;kid f}rh; JS.kh | F18: ¼inkSUufr ls½ | O18: vkns'k fnukad | P18: 22@12@2023
A19: =IF(B19="","",ROWS($D$19:D19)) -> 1 | B19: ijekuUn es?koky | C19: 23560 | E19: 44554 | F19: L-13 | G19: 69200 | I19: =YEAR(C19) -> 1964 | J19: =DAY(C19) -> 2 | K19: =TEXT(C19,"mmm") -> Jul | L19: =I19+60 -> 2024 | M19: =DATEVALUE(J19&K19&L19) -> 45475 | N19: =IF(A19="","",IF($N$5<M19,$N$6,"lsokfuo`r")) -> lsokfuo`r
A20: =IF(B20="","",ROWS($D$19:D20)) | I20: =YEAR(C20) -> 1900 | J20: =DAY(C20) -> 0 | K20: =TEXT(C20,"mmm") -> Jan | L20: =I20+60 -> 1960 | M20: =DATEVALUE(J20&K20&L20) -> #VALUE! | N20: =IF(A20="","",IF($N$5<M20,$N$6,"lsokfuo`r")) | O20: funs'kd egksn; chdkusj ds vkns'k dzekad
A21: =IF(B21="","",ROWS($D$19:D21)) | I21: =YEAR(C21) -> 1900 | J21: =DAY(C21) -> 0 | K21: =TEXT(C21,"mmm") -> Jan | L21: =I21+60 -> 1960 | M21: =DATEVALUE(J21&K21&L21) -> #VALUE! | N21: =IF(A21="","",IF($N$5<M21,$N$6,"lsokfuo`r")) | O21: f'kfojk@ek/;@Mh&2@,lhih@2023&24@
A22: =IF(B22="","",ROWS($D$19:D22)) | I22: =YEAR(C22) -> 1900 | J22: =DAY(C22) -> 0 | K22: =TEXT(C22,"mmm") -> Jan | L22: =I22+60 -> 1960 | M22: =DATEVALUE(J22&K22&L22) -> #VALUE! | N22: =IF(A22="","",IF($N$5<M22,$N$6,"lsokfuo`r"))
B23: izk/;kid | E23: ¼izFke JS.kh & lh/kh HkrhZ ls½ | O23: vkns'k fnukad | P23: 23@12@2023
B24: deZPkkjh dk uke | C24: tUe frfFk | D24: orZeku in izkIr | E24: izHkkfor ¼izFke@f}rh;@r`rh;½ ,lhih Lohd`fr fnukad | F24: fnuakd 01-04-23 dks izkIr is&ysoy | G24: fnuakd 01-04-23 dks izkIr osru | O24: DOWNLOAD LINK
A25: =IF(B25="","",ROWS($D$25:D25)) -> 1 | B25: ckyfd'ku lsu | C25: 23590 | E25: 44189 | F25: L-15 | G25: 74600 | I25: =YEAR(C25) -> 1964 | J25: =DAY(C25) -> 1 | K25: =TEXT(C25,"mmm") -> Aug | L25: =I25+60 -> 2024 | M25: =DATEVALUE(J25&K25&L25) -> 45505 | N25: =IF(A25="","",IF($N$5<M25,$N$6,"lsokfuo`r")) -> 45474 | O25: RAJTEACHERS.NET
A26: =IF(B26="","",ROWS($D$25:D26)) | I26: =YEAR(C26) -> 1900 | J26: =DAY(C26) -> 0 | K26: =TEXT(C26,"mmm") -> Jan | L26: =I26+60 -> 1960 | M26: =DATEVALUE(J26&K26&L26) -> #VALUE! | N26: =IF(A26="","",IF($N$5<M26,$N$6,"lsokfuo`r"))
A27: =IF(B27="","",ROWS($D$25:D27)) | I27: =YEAR(C27) -> 1900 | J27: =DAY(C27) -> 0 | K27: =TEXT(C27,"mmm") -> Jan | L27: =I27+60 -> 1960 | M27: =DATEVALUE(J27&K27&L27) -> #VALUE! | N27: =IF(A27="","",IF($N$5<M27,$N$6,"lsokfuo`r")) | O27: fuekZ.kdrkZ
A28: =IF(B28="","",ROWS($D$25:D28)) | I28: =YEAR(C28) -> 1900 | J28: =DAY(C28) -> 0 | K28: =TEXT(C28,"mmm") -> Jan | L28: =I28+60 -> 1960 | M28: =DATEVALUE(J28&K28&L28) -> #VALUE! | N28: =IF(A28="","",IF($N$5<M28,$N$6,"lsokfuo`r"))
B29: izk/;kid ¼izFke JS.kh½ inkSUufr ¼2nd Grade To 1st Grade½ orZeku esa ysoy&13 izkIr
B30: deZPkkjh dk uke | C30: tUe frfFk | D30: orZeku in izkIr | E30: izHkkfor ¼izFke@f}rh;@r`rh;½ ,lhih Lohd`fr fnukad | F30: fnuakd 01-04-23 dks izkIr is&ysoy | G30: fnuakd 01-04-23 dks izkIr osru
A31: =IF(B31="","",ROWS($D36:D$36)) -> 1 | B31: lqehr dqekj | C31: 23590 | E31: 44189 | F31: L-13 | G31: 69200 | I31: =YEAR(C31) -> 1964 | J31: =DAY(C31) -> 1 | K31: =TEXT(C31,"mmm") -> Aug | L31: =I31+60 -> 2024 | M31: =DATEVALUE(J31&K31&L31) -> 45505 | N31: =IF(A31="","",IF($N$5<M31,$N$6,"lsokfuo`r")) -> 45474
A32: =IF(B32="","",ROWS($D$36:D37)) -> 2 | B32: lqehr dqekj | I32: =YEAR(C32) -> 1900 | J32: =DAY(C32) -> 0 | K32: =TEXT(C32,"mmm") -> Jan | L32: =I32+60 -> 1960 | M32: =DATEVALUE(J32&K32&L32) -> #VALUE! | N32: =IF(A32="","",IF($N$5<M32,$N$6,"lsokfuo`r")) -> #VALUE!
A33: =IF(B33="","",ROWS($D$36:D38)) -> 3 | B33: lqehr dqekj | I33: =YEAR(C33) -> 1900 | J33: =DAY(C33) -> 0 | K33: =TEXT(C33,"mmm") -> Jan | L33: =I33+60 -> 1960 | M33: =DATEVALUE(J33&K33&L33) -> #VALUE! | N33: =IF(A33="","",IF($N$5<M33,$N$6,"lsokfuo`r")) -> #VALUE!
B34: izk/;kid ¼izFke JS.kh½ inkSUufr ¼3rd Grade To 1st Grade - orZeku esa ysoy&13 izkIr½ & 2nd Grade To 1st Grade - orZeku esa ysoy&15 izkIr½
B35: deZPkkjh dk uke | C35: tUe frfFk | D35: orZeku in izkIr | E35: izHkkfor ¼izFke@f}rh;@r`rh;½ ,lhih Lohd`fr fnukad | F35: fnuakd 01-04-23 dks izkIr is&ysoy | G35: fnuakd 01-04-23 dks izkIr osru
A36: =IF(B36="","",ROWS($D36:D$36)) -> 1 | B36: lqehr dqekj | C36: 23559 | E36: 44189 | F36: L-13 | G36: 69200 | I36: =YEAR(C36) -> 1964 | J36: =DAY(C36) -> 1 | K36: =TEXT(C36,"mmm") -> Jul | L36: =I36+60 -> 2024 | M36: =DATEVALUE(J36&K36&L36) -> 45474 | N36: =IF(A36="","",IF($N$5<M36,$N$6,"lsokfuo`r")) -> lsokfuo`r | O36: Parmanand Meghwal, Senior Teacher GUPS Kanwarpura, District Baran
A37: =IF(B37="","",ROWS($D$36:D37)) | I37: =YEAR(C37) -> 1900 | J37: =DAY(C37) -> 0 | K37: =TEXT(C37,"mmm") -> Jan | L37: =I37+60 -> 1960 | M37: =DATEVALUE(J37&K37&L37) -> #VALUE! | N37: =IF(A37="","",IF($N$5<M37,$N$6,"lsokfuo`r"))
A38: =IF(B38="","",ROWS($D$36:D38)) | I38: =YEAR(C38) -> 1900 | J38: =DAY(C38) -> 0 | K38: =TEXT(C38,"mmm") -> Jan | L38: =I38+60 -> 1960 | M38: =DATEVALUE(J38&K38&L38) -> #VALUE! | N38: =IF(A38="","",IF($N$5<M38,$N$6,"lsokfuo`r"))
A39: =IF(B39="","",ROWS($D$36:D39)) | I39: =YEAR(C39) -> 1900 | J39: =DAY(C39) -> 0 | K39: =TEXT(C39,"mmm") -> Jan | L39: =I39+60 -> 1960 | M39: =DATEVALUE(J39&K39&L39) -> #VALUE! | N39: =IF(A39="","",IF($N$5<M39,$N$6,"lsokfuo`r"))
A40: =IF(B40="","",ROWS($D$36:D40)) | I40: =YEAR(C40) -> 1900 | J40: =DAY(C40) -> 0 | K40: =TEXT(C40,"mmm") -> Jan | L40: =I40+60 -> 1960 | M40: =DATEVALUE(J40&K40&L40) -> #VALUE! | N40: =IF(A40="","",IF($N$5<M40,$N$6,"lsokfuo`r"))
...

Sheet Teacher-III
A1: =Master!D3 -> jktdh; mPp ek/;fed fo|ky;] xksj/kuiqjk rglhy vV# ftyk ckjka
A2: dzekad& | B2: =IF(Master!D4="","",Master!D4) -> jkmekfo@2023&24@122 | K2: fnukad& | L2: =IF(Master!G4="","",Master!G4) -> 12.01.2024
A3: dk;kZy; vkns'k
A4: =CONCATENATE(" ",Q4," ",'Teacher-III'!R4," ",Master!P2," ",'Teacher-III'!Q5," ",Master!O10," ",'Teacher-III'!Q6," ",Master!P13," ",Q7) -> foRr ¼fu;e½ foHkkx jktLFkku ljdkj dh vf/klwpuk dzekad&,Q-15 ¼1½ ,Q-Mh@:Yl@2017 ikVZ fnukad 06-10-2023 ds }kjk jktLFkku flfoy lsok iqujhf{kr osru fu;e 2017 ds fu;e 14 }kjk ,e-,-lh-ih- ;kstuk ds izko/kku ykxw fd;s tkus ds vuqlj.k esa ,oa ftyk f'k{kk vf/kdkjh ek/;fed f'k{kk ckjka ds vkns'k dzekad& ftf'kv@eqek@ckjka@ys[kk&1@,e,lhih@2023&24@385 fnukad& 18@12@2023 ds vuqlj.k esa jktLFkku vf/kuLFk f'k{kk lsok laoxZ ds dkfeZd ftudh 27 o"kZ dh fu;fer lsok fnukad 31-03-23 rd ;k 31-03-23 ds ckn 27 o"khZ; fu;fer lsok iw.kZ djus ij vk'okflr dSfj;j izxfr ;kstuk ds vUrxZr r`rh; ,0lh0ih0 is&ysoy&13 esa Lohd`r dh tk pqdh gS ,sls dkfeZdksa }kjk ,e-,-lh-ih- ;kstuk dk fodYi i= izLrqr djus ij jktLFkku flfoy lsok iqujhf{kr osru fu;e 2017 ds fu;e 14 ds fcUnq la[;k 02 AAA ds vuqlkj fnukad 01-04-2023 dks dk;Zjr dkfeZdksa dk iqu% osru fu;ru dj osru vkgfjr djus dh ,rn }kjk Lohd`fr iznku dh tkrh gS A | Q4: foRr ¼fu;e½ foHkkx jktLFkku ljdkj dh vf/klwpuk dzekad&,Q-15 ¼1½ ,Q-Mh@:Yl@2017 ikVZ fnukad 06-10-2023 ds }kjk jktLFkku flfoy lsok iqujhf{kr osru fu;e 2017 ds fu;e 14 }kjk ,e-,-lh-ih- ;kstuk ds izko/kku ykxw fd;s tkus ds vuqlj.k esa ,oa | R4: ftyk f'k{kk vf/kdkjh ek/;fed f'k{kk
A5: dz0la0 | B5: uke dkfeZd | C5: orZeku /kkfjr in | D5: r`rh; ,lhih Lohd`fr fnukad | E5: 01-04-23 dks izkIr is&ysoy | F5: 01-04-23 dks izkIr osru | H5: 01-07-23 dks izkIr osru | I5: ,e-,-lh-ih- ds rgr Lohd`r is ysoy | J5: ,e-,-lh-ih ds rgr fnukad 01-04-23 dks fu/kkZfjr osru | K5: 01-07-23 dks la'kksf/kr osru o`f} ij osru | L5: vkxkeh osru o`f} fnukad | Q5: ds vkns'k dzekad&
A6: =Master!A7 -> 1 | B6: =IF(A6="","",Master!B7) -> ijekuUn es?koky | C6: =IF(B6="","",Master!$B$5) -> v/;kid r`rh; JS.kh | D6: =IF(Master!E7="","",Master!E7) -> 44189 | E6: =IF(D6="","",Master!F7) -> L-13 | F6: =IF(E6="","",Master!G7) -> 69200 | G6: =F6 -> 69200 | H6: =IF(G6="","",MROUND(ROUND(1.03*G6,0),100)) -> 71300 | I6: =IF(H6="","","L-14") -> L-14 | J6: =IF(I6="","",VLOOKUP(F6,$O$6:$Y$32,2,0)) -> 71100 | K6: =IF(J6="","",MROUND(ROUND(1.03*J6,0),100)) -> 73200 | L6: =IF(K6="","",Master!N7) -> 45474 | N6: L-14 | O6: 53100 | P6: 56100 | Q6: fnukad&
A7: =Master!A8 | B7: =IF(A7="","",Master!B8) | C7: =IF(B7="","",Master!$B$5) | D7: =IF(Master!E8="","",Master!E8) | E7: =IF(D7="","",Master!F8) | F7: =IF(E7="","",Master!G8) | G7: =F7 | H7: =IF(G7="","",MROUND(ROUND(1.03*G7,0),100)) | I7: =IF(H7="","","L-14") | J7: =IF(I7="","",VLOOKUP(F7,$O$6:$Y$32,2,0)) | K7: =IF(J7="","",MROUND(ROUND(1.03*J7,0),100)) | L7: =IF(K7="","",Master!N8) | N7: L-14 | O7: =MROUND(ROUND(1.03*O6,0),100) -> 54700 | P7: 56100 | Q7: ds vuqlj.k esa jktLFkku vf/kuLFk f'k{kk lsok laoxZ ds dkfeZd ftudh 27 o"kZ dh fu;fer lsok fnukad 31-03-23 rd ;k 31-03-23 ds ckn 27 o"khZ; fu;fer lsok iw.kZ djus ij vk'okflr dSfj;j izxfr ;kstuk ds vUrxZr r`rh; ,0lh0ih0 is&ysoy&13 esa Lohd`r dh tk pqdh gS ,sls dkfeZdksa }kjk ,e-,-lh-ih- ;kstuk dk fodYi i= izLrqr djus ij jktLFkku flfoy lsok iqujhf{kr osru fu;e 2017 ds fu;e 14 ds fcUnq la[;k 02 AAA ds vuqlkj fnukad 01-04-2023 dks dk;Zjr dkfeZdksa dk iqu% osru fu;ru dj osru vkgfjr djus dh ,rn }kjk Lohd`fr iznku dh tkrh gS A
A8: =Master!A9 | B8: =IF(A8="","",Master!B9) | C8: =IF(B8="","",Master!$B$5) | D8: =IF(Master!E9="","",Master!E9) | E8: =IF(D8="","",Master!F9) | F8: =IF(E8="","",Master!G9) | G8: =F8 | H8: =IF(G8="","",MROUND(ROUND(1.03*G8,0),100)) | I8: =IF(H8="","","L-14") | J8: =IF(I8="","",VLOOKUP(F8,$O$6:$Y$32,2,0)) | K8: =IF(J8="","",MROUND(ROUND(1.03*J8,0),100)) | L8: =IF(K8="","",Master!N9) | N8: L-14 | O8: =MROUND(ROUND(1.03*O7,0),100) -> 56300 | P8: 57800
A9: =Master!A10 | B9: =IF(A9="","",Master!B10) | C9: =IF(B9="","",Master!$B$5) | D9: =IF(Master!E10="","",Master!E10) | E9: =IF(D9="","",Master!F10) | F9: =IF(E9="","",Master!G10) | G9: =F9 | H9: =IF(G9="","",MROUND(ROUND(1.03*G9,0),100)) | I9: =IF(H9="","","L-14") | J9: =IF(I9="","",VLOOKUP(F9,$O$6:$Y$32,2,0)) | K9: =IF(J9="","",MROUND(ROUND(1.03*J9,0),100)) | L9: =IF(K9="","",Master!N10) | N9: L-14 | O9: =MROUND(ROUND(1.03*O8,0),100) -> 58000 | P9: 59500
A10: =Master!A11 | B10: =IF(A10="","",Master!B11) | C10: =IF(B10="","",Master!$B$5) | D10: =IF(Master!E11="","",Master!E11) | E10: =IF(D10="","",Master!F11) | F10: =IF(E10="","",Master!G11) | G10: =F10 | H10: =IF(G10="","",MROUND(ROUND(1.03*G10,0),100)) | I10: =IF(H10="","","L-14") | J10: =IF(I10="","",VLOOKUP(F10,$O$6:$Y$32,2,0)) | K10: =IF(J10="","",MROUND(ROUND(1.03*J10,0),100)) | L10: =IF(K10="","",Master!N11) | N10: L-14 | O10: =MROUND(ROUND(1.03*O9,0),100) -> 59700 | P10: 61300
N11: L-14 | O11: =MROUND(ROUND(1.03*O10,0),100) -> 61500 | P11: 63100
N12: L-14 | O12: =MROUND(ROUND(1.03*O11,0),100) -> 63300 | P12: 65000
J13: iz/kkukpk;Z | N13: L-14 | O13: =MROUND(ROUND(1.03*O12,0),100) -> 65200 | P13: 67000
J14: =A1 -> jktdh; mPp ek/;fed fo|ky;] xksj/kuiqjk rglhy vV# ftyk ckjka | N14: L-14 | O14: =MROUND(ROUND(1.03*O13,0),100) -> 67200 | P14: 69000
A15: =A2 -> dzekad& | B15: =B2 -> jkmekfo@2023&24@122 | K15: fnukad& | L15: =L2 -> 12.01.2024 | N15: L-14 | O15: =MROUND(ROUND(1.03*O14,0),100) -> 69200 | P15: 71100
A16: izfrfyih lwpukFkZ& | N16: L-14 | O16: =MROUND(ROUND(1.03*O15,0),100) -> 71300 | P16: 73200
A17: 1 | B17: dks"kkf/kdkjh@midks"kkf/kdkjh ------------------ | N17: L-14 | O17: =MROUND(ROUND(1.03*O16,0),100) -> 73400 | P17: 75400
A18: 2 | B18: lacaf/kr dkfeZd Jh--------------- | N18: L-14 | O18: =MROUND(ROUND(1.03*O17,0),100) -> 75600 | P18: 77700
A19: 3 | B19: ys[kk 'kk[kk | N19: L-14 | O19: =MROUND(ROUND(1.03*O18,0),100) -> 77900 | P19: 80000
A20: 4 | B20: jf{kr i=koyh | N20: L-14 | O20: =MROUND(ROUND(1.03*O19,0),100) -> 80200 | P20: 82400
J21: iz/kkukpk;Z | O21: =MROUND(ROUND(1.03*O20,0),100) -> 82600 | P21: 84900
J22: =J14 -> jktdh; mPp ek/;fed fo|ky;] xksj/kuiqjk rglhy vV# ftyk ckjka
O23: =MROUND(ROUND(1.03*O21,0),100) -> 85100 | P23: 87400
O24: =MROUND(ROUND(1.03*O23,0),100) -> 87700 | P24: 90000
O25: =MROUND(ROUND(1.03*O24,0),100) -> 90300 | P25: 92700
O26: =MROUND(ROUND(1.03*O25,0),100) -> 93000 | P26: 95500
O27: =MROUND(ROUND(1.03*O26,0),100) -> 95800 | P27: 98400
O28: =MROUND(ROUND(1.03*O27,0),100) -> 98700 | P28: 101400
O29: =MROUND(ROUND(1.03*O28,0),100) -> 101700 | P29: 104400
O30: =MROUND(ROUND(1.03*O29,0),100) -> 104800 | P30: =MROUND(ROUND(1.03*P29,0),100) -> 107500
O31: =MROUND(ROUND(1.03*O30,0),100) -> 107900 | P31: =MROUND(ROUND(1.03*P30,0),100) -> 110700
O32: =MROUND(ROUND(1.03*O31,0),100) -> 111100 | P32: =MROUND(ROUND(1.03*P31,0),100) -> 114000
O33: =MROUND(ROUND(1.03*O32,0),100) -> 114400 | P33: =MROUND(ROUND(1.03*P32,0),100) -> 117400
O34: =MROUND(ROUND(1.03*O33,0),100) -> 117800 | P34: =MROUND(ROUND(1.03*P33,0),100) -> 120900
O35: =MROUND(ROUND(1.03*O34,0),100) -> 121300 | P35: =MROUND(ROUND(1.03*P34,0),100) -> 124500
O36: =MROUND(ROUND(1.03*O35,0),100) -> 124900 | P36: =MROUND(ROUND(1.03*P35,0),100) -> 128200
O37: =MROUND(ROUND(1.03*O36,0),100) -> 128600 | P37: =MROUND(ROUND(1.03*P36,0),100) -> 132000
O38: =MROUND(ROUND(1.03*O37,0),100) -> 132500 | P38: =MROUND(ROUND(1.03*P37,0),100) -> 136000
O39: =MROUND(ROUND(1.03*O38,0),100) -> 136500 | P39: =MROUND(ROUND(1.03*P38,0),100) -> 140100
O40: =MROUND(ROUND(1.03*O39,0),100) -> 140600 | P40: =MROUND(ROUND(1.03*P39,0),100) -> 144300
...

Sheet Teacher-II (Direct Rec.)
A1: =Master!D3 -> jktdh; mPp ek/;fed fo|ky;] xksj/kuiqjk rglhy vV# ftyk ckjka
A2: dzekad& | B2: =IF(Master!D4="","",Master!D4) -> jkmekfo@2023&24@122 | K2: fnukad& | L2: =IF(Master!G4="","",Master!G4) -> 12.01.2024
A3: dk;kZy; vkns'k
A4: =CONCATENATE(" ",Q4," ",'Teacher-II (Direct Rec.)'!R4,Master!O2," ",Master!O1,"] ",Master!O2," ",'Teacher-II (Direct Rec.)'!Q5,Master!O4," ",Q6,Master!P6," ",Q7) -> foRr ¼fu;e½ foHkkx jktLFkku ljdkj dh vf/klwpuk dzekad&,Q-15 ¼1½ ,Q-Mh@:Yl@2017 ikVZ fnukad 06-10-2023 ds }kjk jktLFkku flfoy lsok iqujhf{kr osru fu;e 2017 ds fu;e 14 }kjk ,e-,-lh-ih- ;kstuk ds izko/kku ykxw fd;s tkus ds vuqlj.k esa ,oa dk;kZy; la;qDr funs'kd ¼Ldwy f'k{kk½ dksVk laHkkx] dksVk ds vkns'k dzekad&lafuLdwf'k@dks@ys[kk&4@,elhih&dksVk laHkkx@23&24@306 fnukad&12@12@2023 ds vuqlj.k esa jktLFkku v/khuLFk f'k{kk lsok laoxZ ds dkfeZd ftudh 18 o"kZ dh fu;fer lsok fnukad 31-03-23 rd ;k 31-03-23 ds ckn 18 o"khZ; fu;fer lsok iw.kZ djus ij vk'okflr dSfj;j izxfr ;kstuk ds vUrxZr r`rh; ,-lh-ih- is&ysoy&13 esa Lohd`r dh tk pqdh gS ,sls dkfeZdksa }kjk ,e-,-lh-ih- ;kstuk dk fodYi i= izLrqr djus ij jktLFkku flfoy lsok iqujhf{kr osru fu;e 2017 ds fu;e 14 ds fcUnq la[;k 02 AAA ds vuqlkj fnukad 01-04-2023 dks dk;Zjr dkfeZdksa dk iqu% osru fu;ru dj osru vkgfjr djus dh ,rn }kjk Lohd`fr iznku dh tkrh gS A | Q4: foRr ¼fu;e½ foHkkx jktLFkku ljdkj dh vf/klwpuk dzekad&,Q-15 ¼1½ ,Q-Mh@:Yl@2017 ikVZ fnukad 06-10-2023 ds }kjk jktLFkku flfoy lsok iqujhf{kr osru fu;e 2017 ds fu;e 14 }kjk ,e-,-lh-ih- ;kstuk ds izko/kku ykxw fd;s tkus ds vuqlj.k esa ,oa | R4: dk;kZy; la;qDr funs'kd ¼Ldwy f'k{kk½
A5: dz0la0 | B5: uke dkfeZd | C5: orZeku /kkfjr in | D5: r`rh; ,lhih Lohd`fr fnukad | E5: 01-04-23 dks izkIr is&ysoy | F5: 01-04-23 dks izkIr osru | H5: 01-07-23 dks izkIr osru | I5: ,e-,-lh-ih- ds rgr Lohd`r is ysoy | J5: ,e-,-lh-ih ds rgr fnukad 01-04-23 dks fu/kkZfjr osru | K5: 01-07-23 dks la'kksf/kr osru o`f} ij osru | L5: vkxkeh osru o`f} fnukad | Q5: ds vkns'k dzekad&
A6: =Master!A14 -> 1 | B6: =IF(A6="","",Master!B14) -> eqjyh/kj egkoj | C6: =IF(B6="","",Master!$B$12) -> v/;kid f}rh; JS.kh | D6: =IF(Master!E14="","",Master!E14) -> 44189 | E6: =IF(D6="","",Master!F14) -> L-13 | F6: =IF(E6="","",Master!G14) -> 69200 | G6: =F6 -> 69200 | H6: =IF(G6="","",MROUND(ROUND(1.03*G6,0),100)) -> 71300 | I6: =IF(H6="","","L-14") -> L-14 | J6: =IF(I6="","",VLOOKUP(F6,$O$6:$Y$32,2,0)) -> 71100 | K6: =IF(J6="","",MROUND(ROUND(1.03*J6,0),100)) -> 73200 | L6: =IF(K6="","",Master!N14) -> lsokfuo`r | N6: L-14 | O6: 53100 | P6: 56100 | Q6: fnukad&
A7: =Master!A15 | B7: =IF(A7="","",Master!B15) | C7: =IF(B7="","",Master!$B$12) | D7: =IF(Master!E15="","",Master!E15) | E7: =IF(D7="","",Master!F15) | F7: =IF(E7="","",Master!G15) | G7: =F7 | H7: =IF(G7="","",MROUND(ROUND(1.03*G7,0),100)) | I7: =IF(H7="","","L-14") | J7: =IF(I7="","",VLOOKUP(F7,$O$6:$Y$32,2,0)) | K7: =IF(J7="","",MROUND(ROUND(1.03*J7,0),100)) | L7: =IF(K7="","",Master!N15) | N7: L-14 | O7: =MROUND(ROUND(1.03*O6,0),100) -> 54700 | P7: 56100 | Q7: ds vuqlj.k esa jktLFkku v/khuLFk f'k{kk lsok laoxZ ds dkfeZd ftudh 18 o"kZ dh fu;fer lsok fnukad 31-03-23 rd ;k 31-03-23 ds ckn 18 o"khZ; fu;fer lsok iw.kZ djus ij vk'okflr dSfj;j izxfr ;kstuk ds vUrxZr r`rh; ,-lh-ih- is&ysoy&13 esa Lohd`r dh tk pqdh gS ,sls dkfeZdksa }kjk ,e-,-lh-ih- ;kstuk dk fodYi i= izLrqr djus ij jktLFkku flfoy lsok iqujhf{kr osru fu;e 2017 ds fu;e 14 ds fcUnq la[;k 02 AAA ds vuqlkj fnukad 01-04-2023 dks dk;Zjr dkfeZdksa dk iqu% osru fu;ru dj osru vkgfjr djus dh ,rn }kjk Lohd`fr iznku dh tkrh gS A
A8: =Master!A16 | B8: =IF(A8="","",Master!B16) | C8: =IF(B8="","",Master!$B$12) | D8: =IF(Master!E16="","",Master!E16) | E8: =IF(D8="","",Master!F16) | F8: =IF(E8="","",Master!G16) | G8: =F8 | H8: =IF(G8="","",MROUND(ROUND(1.03*G8,0),100)) | I8: =IF(H8="","","L-14") | J8: =IF(I8="","",VLOOKUP(F8,$O$6:$Y$32,2,0)) | K8: =IF(J8="","",MROUND(ROUND(1.03*J8,0),100)) | L8: =IF(K8="","",Master!N16) | N8: L-14 | O8: =MROUND(ROUND(1.03*O7,0),100) -> 56300 | P8: 57800
A9: =Master!A17 | B9: =IF(A9="","",Master!B17) | C9: =IF(B9="","",Master!$B$12) | D9: =IF(Master!E17="","",Master!E17) | E9: =IF(D9="","",Master!F17) | F9: =IF(E9="","",Master!G17) | G9: =F9 | H9: =IF(G9="","",MROUND(ROUND(1.03*G9,0),100)) | I9: =IF(H9="","","L-14") | J9: =IF(I9="","",VLOOKUP(F9,$O$6:$Y$32,2,0)) | K9: =IF(J9="","",MROUND(ROUND(1.03*J9,0),100)) | L9: =IF(K9="","",Master!N17) | N9: L-14 | O9: =MROUND(ROUND(1.03*O8,0),100) -> 58000 | P9: 59500
A10: =Master!A11 | B10: =IF(Master!B11="","",Master!B11) | C10: =IF(Master!B11="","",Master!$B$5) | D10: =IF(Master!E11="","",Master!E11) | E10: =IF(Master!F11="","",Master!F11) | F10: =IF(Master!G18="","",Master!G18) | G10: =F10 | H10: =IF(G10="","",MROUND(ROUND(1.03*G10,0),100)) | I10: =IF(Master!F11="","","L-14") | J10: =IF(A10="","",VLOOKUP(F10,$O$6:$Y$32,2,0)) | K10: =IF(G10="","",MROUND(ROUND(1.03*J10,0),100)) | L10: =IF(K10="","",Master!N18) | N10: L-14 | O10: =MROUND(ROUND(1.03*O9,0),100) -> 59700 | P10: 61300
N11: L-14 | O11: =MROUND(ROUND(1.03*O10,0),100) -> 61500 | P11: 63100
N12: L-14 | O12: =MROUND(ROUND(1.03*O11,0),100) -> 63300 | P12: 65000
J13: iz/kkukpk;Z | N13: L-14 | O13: =MROUND(ROUND(1.03*O12,0),100) -> 65200 | P13: 67000
J14: =A1 -> jktdh; mPp ek/;fed fo|ky;] xksj/kuiqjk rglhy vV# ftyk ckjka | N14: L-14 | O14: =MROUND(ROUND(1.03*O13,0),100) -> 67200 | P14: 69000
A15: =A2 -> dzekad& | B15: =B2 -> jkmekfo@2023&24@122 | K15: fnukad& | L15: =L2 -> 12.01.2024 | N15: L-14 | O15: =MROUND(ROUND(1.03*O14,0),100) -> 69200 | P15: 71100
A16: izfrfyih lwpukFkZ& | N16: L-14 | O16: =MROUND(ROUND(1.03*O15,0),100) -> 71300 | P16: 73200
A17: 1 | B17: dks"kkf/kdkjh@midks"kkf/kdkjh ------------------ | N17: L-14 | O17: =MROUND(ROUND(1.03*O16,0),100) -> 73400 | P17: 75400
A18: 2 | B18: lacaf/kr dkfeZd Jh--------------- | N18: L-14 | O18: =MROUND(ROUND(1.03*O17,0),100) -> 75600 | P18: 77700
A19: 3 | B19: ys[kk 'kk[kk | N19: L-14 | O19: =MROUND(ROUND(1.03*O18,0),100) -> 77900 | P19: 80000
A20: 4 | B20: jf{kr i=koyh | N20: L-14 | O20: =MROUND(ROUND(1.03*O19,0),100) -> 80200 | P20: 82400
J21: iz/kkukpk;Z | O21: =MROUND(ROUND(1.03*O20,0),100) -> 82600 | P21: 84900
J22: =J14 -> jktdh; mPp ek/;fed fo|ky;] xksj/kuiqjk rglhy vV# ftyk ckjka
O23: =MROUND(ROUND(1.03*O21,0),100) -> 85100 | P23: 87400
O24: =MROUND(ROUND(1.03*O23,0),100) -> 87700 | P24: 90000
O25: =MROUND(ROUND(1.03*O24,0),100) -> 90300 | P25: 92700
O26: =MROUND(ROUND(1.03*O25,0),100) -> 93000 | P26: 95500
O27: =MROUND(ROUND(1.03*O26,0),100) -> 95800 | P27: 98400
O28: =MROUND(ROUND(1.03*O27,0),100) -> 98700 | P28: 101400
O29: =MROUND(ROUND(1.03*O28,0),100) -> 101700 | P29: 104400
O30: =MROUND(ROUND(1.03*O29,0),100) -> 104800 | P30: =MROUND(ROUND(1.03*P29,0),100) -> 107500
O31: =MROUND(ROUND(1.03*O30,0),100) -> 107900 | P31: =MROUND(ROUND(1.03*P30,0),100) -> 110700
O32: =MROUND(ROUND(1.03*O31,0),100) -> 111100 | P32: =MROUND(ROUND(1.03*P31,0),100) -> 114000
O33: =MROUND(ROUND(1.03*O32,0),100) -> 114400 | P33: =MROUND(ROUND(1.03*P32,0),100) -> 117400
O34: =MROUND(ROUND(1.03*O33,0),100) -> 117800 | P34: =MROUND(ROUND(1.03*P33,0),100) -> 120900
O35: =MROUND(ROUND(1.03*O34,0),100) -> 121300 | P35: =MROUND(ROUND(1.03*P34,0),100) -> 124500
O36: =MROUND(ROUND(1.03*O35,0),100) -> 124900 | P36: =MROUND(ROUND(1.03*P35,0),100) -> 128200
O37: =MROUND(ROUND(1.03*O36,0),100) -> 128600 | P37: =MROUND(ROUND(1.03*P36,0),100) -> 132000
O38: =MROUND(ROUND(1.03*O37,0),100) -> 132500 | P38: =MROUND(ROUND(1.03*P37,0),100) -> 136000
O39: =MROUND(ROUND(1.03*O38,0),100) -> 136500 | P39: =MROUND(ROUND(1.03*P38,0),100) -> 140100
O40: =MROUND(ROUND(1.03*O39,0),100) -> 140600 | P40: =MROUND(ROUND(1.03*P39,0),100) -> 144300
...

Sheet Teacher-II (Promoted)
A1: =Master!D3 -> jktdh; mPp ek/;fed fo|ky;] xksj/kuiqjk rglhy vV# ftyk ckjka
A2: dzekad& | B2: =IF(Master!D4="","",Master!D4) -> jkmekfo@2023&24@122 | K2: fnukad& | L2: =IF(Master!G4="","",Master!G4) -> 12.01.2024
A3: dk;kZy; vkns'k
A4: =CONCATENATE(" ",Q4," ",'Teacher-II (Direct Rec.)'!R4,Master!O2," ",Master!O1,"] ",Master!O2," ",'Teacher-II (Direct Rec.)'!Q5,Master!O4," ",Q6,Master!P6," ",Q7) -> foRr ¼fu;e½ foHkkx jktLFkku ljdkj dh vf/klwpuk dzekad&,Q-15 ¼1½ ,Q-Mh@:Yl@2017 ikVZ fnukad 06-10-2023 ds }kjk jktLFkku flfoy lsok iqujhf{kr osru fu;e 2017 ds fu;e 14 }kjk ,e0,0lh0ih ;kstuk ds izko/kku ykxw fd;s tkus ds vuqlj.k esa ,oa dk;kZy; la;qDr funs'kd ¼Ldwy f'k{kk½ dksVk laHkkx] dksVk ds vkns'k dzekad&lafuLdwf'k@dks@ys[kk&4@,elhih&dksVk laHkkx@23&24@306 fnukad&12@12@2023 ds vuqlj.k esa jktLFkku v/khuLFk f'k{kk lsok laoxZ ds dkfeZd ftudh 27 o"kZ dh fu;fer lsok fnukad 31-03-23 rd ;k 31-03-23 ds ckn 27 o"khZ; fu;fer lsok iw.kZ djus ij vk'okfUor dSfj;j izxfr ;kstuk ds vUrxZr r`rh; ,-lh-ih- is&ysoy&13 esa Lohd`r dh tk pqdh gS ,sls dkfeZdksa }kjk ,e-,-lh-ih- ;kstuk dk fodYi i= izLrqr djus ij jktLFkku flfoy lsok iqujhf{kr osru fu;e 2017 ds fu;e 14 ds fcUnq la[;k 02 AAA ds vuqlkj fnukad 01-04-2023 dks dk;Zjr dkfeZdksa dk iqu% osru fu;ru dj osru vkgfjr djus dh ,rn }kjk Lohd`fr iznku dh tkrh gS A | Q4: foRr ¼fu;e½ foHkkx jktLFkku ljdkj dh vf/klwpuk dzekad&,Q-15 ¼1½ ,Q-Mh@:Yl@2017 ikVZ fnukad 06-10-2023 ds }kjk jktLFkku flfoy lsok iqujhf{kr osru fu;e 2017 ds fu;e 14 }kjk ,e0,0lh0ih ;kstuk ds izko/kku ykxw fd;s tkus ds vuqlj.k esa ,oa | R4: dk;kZy; la;qDr funs'kd ¼Ldwy f'k{kk½
A5: dz0la0 | B5: uke dkfeZd | C5: orZeku /kkfjr in | D5: r`rh; ,lhih Lohd`fr fnukad | E5: 01-04-23 dks izkIr is&ysoy | F5: 01-04-23 dks izkIr osru | H5: 01-07-23 dks izkIr osru | I5: ,e-,-lh-ih- ds rgr Lohd`r is ysoy | J5: ,e-,-lh-ih ds rgr fnukad 01-04-23 dks fu/kkZfjr osru | K5: 01-07-23 dks la'kksf/kr osru o`f} ij osru | L5: vkxkeh osru o`f} fnukad | Q5: ds vkns'k dzekad&
A6: =Master!A19 -> 1 | B6: =IF(A6="","",Master!B19) -> ijekuUn es?koky | C6: =IF(B6="","",Master!$B$18) -> v/;kid f}rh; JS.kh | D6: =IF(Master!E19="","",Master!E19) -> 44554 | E6: =IF(D6="","",Master!F19) -> L-13 | F6: =IF(E6="","",Master!G19) -> 69200 | G6: =F6 -> 69200 | H6: =IF(G6="","",MROUND(ROUND(1.03*G6,0),100)) -> 71300 | I6: =IF(H6="","","L-14") -> L-14 | J6: =IF(I6="","",VLOOKUP(F6,$O$6:$Y$32,2,0)) -> 71100 | K6: =IF(J6="","",MROUND(ROUND(1.03*J6,0),100)) -> 73200 | L6: =IF(K6="","",Master!N19) -> lsokfuo`r | N6: L-14 | O6: 53100 | P6: 56100 | Q6: fnukad&
A7: =Master!A20 | B7: =IF(A7="","",Master!B20) | C7: =IF(B7="","",Master!$B$18) | D7: =IF(Master!E20="","",Master!E20) | E7: =IF(D7="","",Master!F20) | F7: =IF(E7="","",Master!G20) | G7: =F7 | H7: =IF(G7="","",MROUND(ROUND(1.03*G7,0),100)) | I7: =IF(H7="","","L-14") | J7: =IF(I7="","",VLOOKUP(F7,$O$6:$Y$32,2,0)) | K7: =IF(J7="","",MROUND(ROUND(1.03*J7,0),100)) | L7: =IF(K7="","",Master!N20) | N7: L-14 | O7: =MROUND(ROUND(1.03*O6,0),100) -> 54700 | P7: 56100 | Q7: ds vuqlj.k esa jktLFkku v/khuLFk f'k{kk lsok laoxZ ds dkfeZd ftudh 27 o"kZ dh fu;fer lsok fnukad 31-03-23 rd ;k 31-03-23 ds ckn 27 o"khZ; fu;fer lsok iw.kZ djus ij vk'okfUor dSfj;j izxfr ;kstuk ds vUrxZr r`rh; ,-lh-ih- is&ysoy&13 esa Lohd`r dh tk pqdh gS ,sls dkfeZdksa }kjk ,e-,-lh-ih- ;kstuk dk fodYi i= izLrqr djus ij jktLFkku flfoy lsok iqujhf{kr osru fu;e 2017 ds fu;e 14 ds fcUnq la[;k 02 AAA ds vuqlkj fnukad 01-04-2023 dks dk;Zjr dkfeZdksa dk iqu% osru fu;ru dj osru vkgfjr djus dh ,rn }kjk Lohd`fr iznku dh tkrh gS A
A8: =Master!A21 | B8: =IF(A8="","",Master!B21) | C8: =IF(B8="","",Master!$B$18) | D8: =IF(Master!E21="","",Master!E21) | E8: =IF(D8="","",Master!F21) | F8: =IF(E8="","",Master!G21) | G8: =F8 | H8: =IF(G8="","",MROUND(ROUND(1.03*G8,0),100)) | I8: =IF(H8="","","L-14") | J8: =IF(I8="","",VLOOKUP(F8,$O$6:$Y$32,2,0)) | K8: =IF(J8="","",MROUND(ROUND(1.03*J8,0),100)) | L8: =IF(K8="","",Master!N21) | N8: L-14 | O8: =MROUND(ROUND(1.03*O7,0),100) -> 56300 | P8: 57800
A9: =Master!A22 | B9: =IF(A9="","",Master!B22) | C9: =IF(B9="","",Master!$B$18) | D9: =IF(Master!E22="","",Master!E22) | E9: =IF(D9="","",Master!F22) | F9: =IF(E9="","",Master!G22) | G9: =F9 | H9: =IF(G9="","",MROUND(ROUND(1.03*G9,0),100)) | I9: =IF(H9="","","L-14") | J9: =IF(I9="","",VLOOKUP(F9,$O$6:$Y$32,2,0)) | K9: =IF(J9="","",MROUND(ROUND(1.03*J9,0),100)) | L9: =IF(K9="","",Master!N22) | N9: L-14 | O9: =MROUND(ROUND(1.03*O8,0),100) -> 58000 | P9: 59500
A10: =Master!A11 | B10: =IF(Master!B11="","",Master!B11) | C10: =IF(Master!B11="","",Master!$B$5) | E10: =IF(Master!F11="","",Master!F11) | F10: =IF(Master!G18="","",Master!G18) | G10: =F10 | H10: =IF(G10="","",MROUND(ROUND(1.03*G10,0),100)) | I10: =IF(Master!F11="","","L-14") | J10: =IF(A10="","",VLOOKUP(F10,$O$6:$Y$32,2,0)) | K10: =IF(G10="","",MROUND(ROUND(1.03*J10,0),100)) | L10: =IF(A10="","",Master!N11) | N10: L-14 | O10: =MROUND(ROUND(1.03*O9,0),100) -> 59700 | P10: 61300
N11: L-14 | O11: =MROUND(ROUND(1.03*O10,0),100) -> 61500 | P11: 63100
N12: L-14 | O12: =MROUND(ROUND(1.03*O11,0),100) -> 63300 | P12: 65000
J13: iz/kkukpk;Z | N13: L-14 | O13: =MROUND(ROUND(1.03*O12,0),100) -> 65200 | P13: 67000
J14: =A1 -> jktdh; mPp ek/;fed fo|ky;] xksj/kuiqjk rglhy vV# ftyk ckjka | N14: L-14 | O14: =MROUND(ROUND(1.03*O13,0),100) -> 67200 | P14: 69000
A15: =A2 -> dzekad& | B15: =B2 -> jkmekfo@2023&24@122 | K15: fnukad& | L15: =L2 -> 12.01.2024 | N15: L-14 | O15: =MROUND(ROUND(1.03*O14,0),100) -> 69200 | P15: 71100
A16: izfrfyih lwpukFkZ& | N16: L-14 | O16: =MROUND(ROUND(1.03*O15,0),100) -> 71300 | P16: 73200
A17: 1 | B17: dks"kkf/kdkjh@midks"kkf/kdkjh ------------------ | N17: L-14 | O17: =MROUND(ROUND(1.03*O16,0),100) -> 73400 | P17: 75400
A18: 2 | B18: lacaf/kr dkfeZd Jh--------------- | N18: L-14 | O18: =MROUND(ROUND(1.03*O17,0),100) -> 75600 | P18: 77700
A19: 3 | B19: ys[kk 'kk[kk | N19: L-14 | O19: =MROUND(ROUND(1.03*O18,0),100) -> 77900 | P19: 80000
A20: 4 | B20: jf{kr i=koyh | N20: L-14 | O20: =MROUND(ROUND(1.03*O19,0),100) -> 80200 | P20: 82400
J21: iz/kkukpk;Z | O21: =MROUND(ROUND(1.03*O20,0),100) -> 82600 | P21: 84900
J22: =J14 -> jktdh; mPp ek/;fed fo|ky;] xksj/kuiqjk rglhy vV# ftyk ckjka
O23: =MROUND(ROUND(1.03*O21,0),100) -> 85100 | P23: 87400
O24: =MROUND(ROUND(1.03*O23,0),100) -> 87700 | P24: 90000
O25: =MROUND(ROUND(1.03*O24,0),100) -> 90300 | P25: 92700
O26: =MROUND(ROUND(1.03*O25,0),100) -> 93000 | P26: 95500
O27: =MROUND(ROUND(1.03*O26,0),100) -> 95800 | P27: 98400
O28: =MROUND(ROUND(1.03*O27,0),100) -> 98700 | P28: 101400
O29: =MROUND(ROUND(1.03*O28,0),100) -> 101700 | P29: 104400
O30: =MROUND(ROUND(1.03*O29,0),100) -> 104800 | P30: =MROUND(ROUND(1.03*P29,0),100) -> 107500
O31: =MROUND(ROUND(1.03*O30,0),100) -> 107900 | P31: =MROUND(ROUND(1.03*P30,0),100) -> 110700
O32: =MROUND(ROUND(1.03*O31,0),100) -> 111100 | P32: =MROUND(ROUND(1.03*P31,0),100) -> 114000
O33: =MROUND(ROUND(1.03*O32,0),100) -> 114400 | P33: =MROUND(ROUND(1.03*P32,0),100) -> 117400
O34: =MROUND(ROUND(1.03*O33,0),100) -> 117800 | P34: =MROUND(ROUND(1.03*P33,0),100) -> 120900
O35: =MROUND(ROUND(1.03*O34,0),100) -> 121300 | P35: =MROUND(ROUND(1.03*P34,0),100) -> 124500
O36: =MROUND(ROUND(1.03*O35,0),100) -> 124900 | P36: =MROUND(ROUND(1.03*P35,0),100) -> 128200
O37: =MROUND(ROUND(1.03*O36,0),100) -> 128600 | P37: =MROUND(ROUND(1.03*P36,0),100) -> 132000
O38: =MROUND(ROUND(1.03*O37,0),100) -> 132500 | P38: =MROUND(ROUND(1.03*P37,0),100) -> 136000
O39: =MROUND(ROUND(1.03*O38,0),100) -> 136500 | P39: =MROUND(ROUND(1.03*P38,0),100) -> 140100
O40: =MROUND(ROUND(1.03*O39,0),100) -> 140600 | P40: =MROUND(ROUND(1.03*P39,0),100) -> 144300
...

Sheet Lecturer (Direct)
A1: =Master!D3 -> jktdh; mPp ek/;fed fo|ky;] xksj/kuiqjk rglhy vV# ftyk ckjka
A2: dzekad& | B2: =IF(Master!D4="","",Master!D4) -> jkmekfo@2023&24@122 | N2: fnukad& | O2: =IF(Master!G4="","",Master!G4) -> 12.01.2024
A3: dk;kZy; vkns'k
A4: =CONCATENATE(" ",X4," ",'Lecturer (Direct)'!Y4," ",'Lecturer (Direct)'!X5," ",Master!O21," ",X6," ",Master!P23," ",X7) -> foRr ¼fu;e½ foHkkx jktLFkku ljdkj dh vf/klwpuk dzekad&,Q-15 ¼1½ ,Q-Mh@:Yl@2017 ikVZ fnukad 06-10-2023 ds }kjk jktLFkku flfoy lsok iqujhf{kr osru fu;e 2017 ds fu;e 14 }kjk ,e-,-lh-ih- ;kstuk ds izko/kku ykxw fd;s tkus ds vuqlj.k esa ,oa funs'kd egksn; chdkusj ds vkns'k dzekad& f'kfojk@ek/;@Mh&2@,lhih@2023&24@ fnukad& 23@12@2023 ds vuqlj.k esa jktLFkku v/khuLFk f'k{kk lsok laoxZ ds dkfeZd ftudh 10@20 o"kZ dh fu;fer lsok fnukad 31-03-23 rd ;k 31-03-23 ds ckn 10@20@30 o"khZ; fu;fer lsok iw.kZ djus ij vk'okflr dSfj;j izxfr ;kstuk ds vUrxZr r`rh; ,-lh-ih- is&ysoy&13@is&ysoy&14@is&ysoy&15 esa Lohd`r dh tk pqdh gS ,sls dkfeZdksa }kjk ,e-,-lh-ih- ;kstuk dk fodYi i= izLrqr djus ij jktLFkku flfoy lsok iqujhf{kr osru fu;e 2017 ds fu;e 14 ds fcUnq la[;k 02 AAA ds vuqlkj fnukad 01-04-2023 dks dk;Zjr dkfeZdksa dk iqu% osru fu;ru dj osru vkgfjr djus dh ,rn }kjk Lohd`fr iznku dh tkrh gS A | X4: foRr ¼fu;e½ foHkkx jktLFkku ljdkj dh vf/klwpuk dzekad&,Q-15 ¼1½ ,Q-Mh@:Yl@2017 ikVZ fnukad 06-10-2023 ds }kjk jktLFkku flfoy lsok iqujhf{kr osru fu;e 2017 ds fu;e 14 }kjk ,e-,-lh-ih- ;kstuk ds izko/kku ykxw fd;s tkus ds vuqlj.k esa ,oa | Y4: funs'kd egksn; chdkusj
A5: dz0la0 | B5: uke dkfeZd | C5: orZeku /kkfjr in | D5: r`rh; ,lhih Lohd`fr fnukad | E5: 01-04-23 dks izkIr is&ysoy | F5: 01-04-23 dks izkIr osru | H5: 01-07-23 dks izkIr osru | I5: ,e-,-lh-ih- ds rgr Lohd`r is ysoy | J5: 14 | K5: 16 | L5: 17 | M5: ,e-,-lh-ih ds rgr fnukad 01-04-23 dks fu/kkZfjr osru | N5: 01-07-23 dks la'kksf/kr osru o`f} ij osru | O5: vkxkeh osru o`f} fnukad | R5: L-15 | S5: MACP L-17 | T5: L-14 | U5: MACP L-16 | V5: L-13 | W5: MACP L-14 | X5: ds vkns'k dzekad&
A6: =Master!A25 -> 1 | B6: =IF(A6="","",Master!B25) -> ckyfd'ku lsu | C6: =IF(B6="","",Master!$B$23) -> izk/;kid | D6: =IF(Master!E14="","",Master!E25) -> 44189 | E6: =IF(D6="","",Master!F25) -> L-15 | F6: =IF(E6="","",Master!G25) -> 74600 | G6: =F6 -> 74600 | H6: =IF(G6="","",MROUND(ROUND(1.03*G6,0),100)) -> 76800 | I6: =IF(H6="","",IF(E6="L-13","L-14","L-16")) -> L-16 | J6: =IFERROR(VLOOKUP(G6,$V$6:$W$46,2,),"") | K6: =IFERROR(VLOOKUP(G6,$T$6:$U$46,2,),"") | L6: =IFERROR(VLOOKUP(H6,$R$6:$S$46,2,),"") -> 77600 | M6: =IF(E6="L-13",J6,IF(E6="L-14",K6,L6)) -> 77600 | N6: =IF(M6="","",MROUND(ROUND(1.03*M6,0),100)) -> 79900 | O6: =IF(N6="","",Master!N25) -> 45474 | R6: 60700 | S6: 71000 | T6: 56100 | U6: 67300 | V6: 53100 | W6: 56100 | X6: fnukad&
A7: =Master!A26 | B7: =IF(A7="","",Master!B26) | C7: =IF(B7="","",Master!$B$23) | D7: =IF(Master!E15="","",Master!E26) | E7: =IF(D7="","",Master!F26) | F7: =IF(E7="","",Master!G26) | G7: =F7 | H7: =IF(G7="","",MROUND(ROUND(1.03*G7,0),100)) | I7: =IF(H7="","",IF(E7="L-13","L-14","L-16")) | J7: =IFERROR(VLOOKUP(F7,$V$6:$W$46,2,),"") | K7: =IFERROR(VLOOKUP(G7,$R$6:$S$46,2,),"") | M7: =IF(E7="L-13",J7,K7) | N7: =IF(M7="","",MROUND(ROUND(1.03*M7,0),100)) | O7: =IF(N7="","",Master!N26) | R7: 62500 | S7: 71000 | T7: 57800 | U7: 67300 | V7: 54700 | W7: 56100 | X7: ds vuqlj.k esa jktLFkku v/khuLFk f'k{kk lsok laoxZ ds dkfeZd ftudh 10@20 o"kZ dh fu;fer lsok fnukad 31-03-23 rd ;k 31-03-23 ds ckn 10@20@30 o"khZ; fu;fer lsok iw.kZ djus ij vk'okflr dSfj;j izxfr ;kstuk ds vUrxZr r`rh; ,-lh-ih- is&ysoy&13@is&ysoy&14@is&ysoy&15 esa Lohd`r dh tk pqdh gS ,sls dkfeZdksa }kjk ,e-,-lh-ih- ;kstuk dk fodYi i= izLrqr djus ij jktLFkku flfoy lsok iqujhf{kr osru fu;e 2017 ds fu;e 14 ds fcUnq la[;k 02 AAA ds vuqlkj fnukad 01-04-2023 dks dk;Zjr dkfeZdksa dk iqu% osru fu;ru dj osru vkgfjr djus dh ,rn }kjk Lohd`fr iznku dh tkrh gS A
A8: =Master!A27 | B8: =IF(A8="","",Master!B27) | C8: =IF(B8="","",Master!$B$23) | D8: =IF(Master!E16="","",Master!E27) | E8: =IF(D8="","",Master!F27) | F8: =IF(E8="","",Master!G27) | G8: =F8 | H8: =IF(G8="","",MROUND(ROUND(1.03*G8,0),100)) | I8: =IF(H8="","",IF(E8="L-13","L-14","L-16")) | J8: =IFERROR(VLOOKUP(F8,$V$6:$W$46,2,),"") | K8: =IFERROR(VLOOKUP(G8,$R$6:$S$46,2,),"") | M8: =IF(E8="L-13",J8,K8) | N8: =IF(M8="","",MROUND(ROUND(1.03*M8,0),100)) | O8: =IF(N8="","",Master!N27) | R8: 64400 | S8: 71000 | T8: 59500 | U8: 67300 | V8: 56300 | W8: 57800
A9: =Master!A28 | B9: =IF(A9="","",Master!B28) | C9: =IF(B9="","",Master!$B$23) | D9: =IF(Master!E17="","",Master!E28) | E9: =IF(D9="","",Master!F28) | F9: =IF(E9="","",Master!G28) | G9: =F9 | H9: =IF(G9="","",MROUND(ROUND(1.03*G9,0),100)) | I9: =IF(H9="","",IF(E9="L-13","L-14","L-16")) | J9: =IFERROR(VLOOKUP(F9,$V$6:$W$46,2,),"") | K9: =IFERROR(VLOOKUP(G9,$R$6:$S$46,2,),"") | M9: =IF(E9="L-13",J9,K9) | N9: =IF(M9="","",MROUND(ROUND(1.03*M9,0),100)) | O9: =IF(N9="","",Master!N28) | R9: 66300 | S9: 71000 | T9: 61300 | U9: 67300 | V9: 58000 | W9: 59500
B10: =IF(A10="","",Master!B29) | C10: =IF(Master!B11="","",Master!$B$5) | D10: =IF(Master!E11="","",Master!E11) | E10: =IF(D10="","",Master!F29) | F10: =IF(E10="","",Master!G29) | G10: =F10 | H10: =IF(G10="","",MROUND(ROUND(1.03*G10,0),100)) | I10: =IF(H10="","",IF(E10="L-13","L-14","L-16")) | M10: =IF(I10="","",VLOOKUP(F10,$V$6:$AF$32,2,0)) | N10: =IF(M10="","",MROUND(ROUND(1.03*M10,0),100)) | O10: =IF(N10="","",Master!N29) | R10: 68300 | S10: 71000 | T10: 63100 | U10: 67300 | V10: 59700 | W10: 61300
R11: 70300 | S11: 71000 | T11: 65000 | U11: 67300 | V11: 61500 | W11: 63100
R12: 72400 | S12: 73100 | T12: 67000 | U12: 67300 | V12: 63300 | W12: 65000
M13: iz/kkukpk;Z | R13: 74600 | S13: 75300 | T13: 69000 | U13: 69300 | V13: 65200 | W13: 67000
M14: =A1 -> jktdh; mPp ek/;fed fo|ky;] xksj/kuiqjk rglhy vV# ftyk ckjka | R14: 76800 | S14: 77600 | T14: 71100 | U14: 71400 | V14: 67200 | W14: 69000
A15: =A2 -> dzekad& | B15: =B2 -> jkmekfo@2023&24@122 | N15: fnukad& | O15: =O2 -> 12.01.2024 | R15: 79100 | S15: 79900 | T15: 73200 | U15: 73500 | V15: 69200 | W15: 71100
A16: izfrfyih lwpukFkZ& | R16: 81500 | S16: 82300 | T16: 75400 | U16: 75700 | V16: 71300 | W16: 73200
A17: 1 | B17: dks"kkf/kdkjh@midks"kkf/kdkjh ------------------ | R17: 83900 | S17: 84800 | T17: 77700 | U17: 78000 | V17: 73400 | W17: 75400
A18: 2 | B18: lacaf/kr dkfeZd Jh--------------- | R18: 86400 | S18: 87300 | T18: 80000 | U18: 80300 | V18: 75600 | W18: 77700
A19: 3 | B19: ys[kk 'kk[kk | R19: 89000 | S19: 89900 | T19: 82400 | U19: 82700 | V19: 77900 | W19: 80000
A20: 4 | B20: jf{kr i=koyh | R20: 91700 | S20: 92600 | T20: 84900 | U20: 85200 | V20: 80200 | W20: 82400
M21: iz/kkukpk;Z | R21: 94500 | S21: 95400 | T21: 87400 | U21: 87800 | V21: 82600 | W21: 84900
M22: =M14 -> jktdh; mPp ek/;fed fo|ky;] xksj/kuiqjk rglhy vV# ftyk ckjka | R22: 97300 | S22: 98300 | T22: 90000 | U22: 90400 | V22: 85100 | W22: 87400
R23: 100200 | S23: 101200 | T23: 92700 | U23: 93100 | V23: 87700 | W23: 90000
R24: 103200 | S24: 104200 | T24: 95500 | U24: 95900 | V24: 90300 | W24: 92700
R25: 106300 | S25: 107300 | T25: 98400 | U25: 98800 | V25: 93000 | W25: 95500
R26: 109500 | S26: 110500 | T26: 101400 | U26: 101800 | V26: 95800 | W26: 98400
R27: 112800 | S27: 113800 | T27: 104400 | U27: 104900 | V27: 98700 | W27: 101400
R28: 116200 | S28: 117200 | T28: 107500 | U28: 108000 | V28: 101700 | W28: 104400
R29: 119700 | S29: 120700 | T29: 110700 | U29: 111200 | V29: 104800 | W29: 107500
R30: 123300 | S30: 124300 | T30: 114000 | U30: 114500 | V30: 107900 | W30: 110700
R31: 127000 | S31: 128000 | T31: 117400 | U31: 117900 | V31: 111100 | W31: 114000
R32: 130800 | S32: 131800 | T32: 120900 | U32: 121400 | V32: 114400 | W32: 117400
R33: 134700 | S33: 135800 | T33: 124500 | U33: 125000 | V33: 117800 | W33: 120900
R34: 138700 | S34: 139900 | T34: 128200 | U34: 128800 | V34: 121300 | W34: 124500
... R45: 192000 | S45: 193700 | T45: 177500 | U45: 178400 | V45: 167800 | W45: 172300

Sheet Lec. (2nd to 1st)
A1: =Master!D3 -> jktdh; mPp ek/;fed fo|ky;] xksj/kuiqjk rglhy vV# ftyk ckjka
A2: dzekad& | B2: =IF(Master!D4="","",Master!D4) -> jkmekfo@2023&24@122 | K2: fnukad& | L2: =IF(Master!G4="","",Master!G4) -> 12.01.2024
A3: dk;kZy; vkns'k
A4: =CONCATENATE(" ",Q4," ",'Lec. (2nd to 1st)'!R4," ",'Lec. (2nd to 1st)'!Q5," ",Master!O21," ",'Lec. (2nd to 1st)'!Q6," ",Master!P23," ",Q7) -> foRr ¼fu;e½ foHkkx jktLFkku ljdkj dh vf/klwpuk dzekad&,Q-15 ¼1½ ,Q-Mh@:Yl@2017 ikVZ fnukad 06-10-2023 ds }kjk jktLFkku flfoy lsok iqujhf{kr osru fu;e 2017 ds fu;e 14 }kjk ,e-,-lh-ih- ;kstuk ds izko/kku ykxw fd;s tkus ds vuqlj.k esa ,oa funs'kd egksn; chdkusj ds vkns'k dzekad& f'kfojk@ek/;@Mh&2@,lhih@2023&24@ fnukad& 23@12@2023 ds vuqlj.k esa jktLFkku v/khuLFk f'k{kk lsok laoxZ ds dkfeZd ftudh 20 o"kZ dh fu;fer lsok fnukad 31-03-23 rd ;k 31-03-23 ds ckn 20 o"khZ; fu;fer lsok iw.kZ djus ij vk'okflr dSfj;j izxfr ;kstuk ds vUrxZr r`rh; ,-lh-ih- is&ysoy&13 esa Lohd`r dh tk pqdh gS ,sls dkfeZdksa }kjk ,e-,-lh-ih- ;kstuk dk fodYi i= izLrqr djus ij jktLFkku flfoy lsok iqujhf{kr osru fu;e 2017 ds fu;e 14 ds fcUnq la[;k 02 AAA ds vuqlkj fnukad 01-04-2023 dks dk;Zjr dkfeZdksa dk iqu% osru fu;ru dj osru vkgfjr djus dh ,rn }kjk Lohd`fr iznku dh tkrh gS A | Q4: foRr ¼fu;e½ foHkkx jktLFkku ljdkj dh vf/klwpuk dzekad&,Q-15 ¼1½ ,Q-Mh@:Yl@2017 ikVZ fnukad 06-10-2023 ds }kjk jktLFkku flfoy lsok iqujhf{kr osru fu;e 2017 ds fu;e 14 }kjk ,e-,-lh-ih- ;kstuk ds izko/kku ykxw fd;s tkus ds vuqlj.k esa ,oa | R4: funs'kd egksn; chdkusj
A5: dz0la0 | B5: uke dkfeZd | C5: orZeku /kkfjr in | D5: r`rh; ,lhih Lohd`fr fnukad | E5: 01-04-23 dks izkIr is&ysoy | F5: 01-04-23 dks izkIr osru | H5: 01-07-23 dks izkIr osru | I5: ,e-,-lh-ih- ds rgr Lohd`r is ysoy | J5: ,e-,-lh-ih ds rgr fnukad 01-04-23 dks fu/kkZfjr osru | K5: 01-07-23 dks la'kksf/kr osru o`f} ij osru | L5: vkxkeh osru o`f} fnukad | Q5: ds vkns'k dzekad&
A6: =Master!A19 -> 1 | B6: =IF(A6="","",Master!B31) -> lqehr dqekj | C6: =IF(B6="","",Master!$B$23) -> izk/;kid | D6: =IF(Master!E14="","",Master!E31) -> 44189 | E6: =IF(D6="","",Master!F31) -> L-13 | F6: =IF(E6="","",Master!G31) -> 69200 | G6: =F6 -> 69200 | H6: =IF(G6="","",MROUND(ROUND(1.03*G6,0),100)) -> 71300 | I6: =IF(H6="","","L-14") -> L-14 | J6: =IF(I6="","",VLOOKUP(F6,$O$6:$Y$32,2,0)) -> 71100 | K6: =IF(J6="","",MROUND(ROUND(1.03*J6,0),100)) -> 73200 | L6: =IF(K6="","",Master!N31) -> 45474 | N6: L-14 | O6: 53100 | P6: 56100 | Q6: fnukad&
A7: =Master!A20 | B7: =IF(A7="","",Master!B32) | C7: =IF(B7="","",Master!$B$23) | D7: =IF(Master!E15="","",Master!E32) | E7: =IF(D7="","",Master!F32) | F7: =IF(E7="","",Master!G32) | G7: =F7 | H7: =IF(G7="","",MROUND(ROUND(1.03*G7,0),100)) | I7: =IF(H7="","","L-14") | J7: =IF(I7="","",VLOOKUP(F7,$O$6:$Y$32,2,0)) | K7: =IF(J7="","",MROUND(ROUND(1.03*J7,0),100)) | L7: =IF(K7="","",Master!N32) | N7: L-14 | O7: =MROUND(ROUND(1.03*O6,0),100) -> 54700 | P7: 56100 | Q7: ds vuqlj.k esa jktLFkku v/khuLFk f'k{kk lsok laoxZ ds dkfeZd ftudh 20 o"kZ dh fu;fer lsok fnukad 31-03-23 rd ;k 31-03-23 ds ckn 20 o"khZ; fu;fer lsok iw.kZ djus ij vk'okflr dSfj;j izxfr ;kstuk ds vUrxZr r`rh; ,-lh-ih- is&ysoy&13 esa Lohd`r dh tk pqdh gS ,sls dkfeZdksa }kjk ,e-,-lh-ih- ;kstuk dk fodYi i= izLrqr djus ij jktLFkku flfoy lsok iqujhf{kr osru fu;e 2017 ds fu;e 14 ds fcUnq la[;k 02 AAA ds vuqlkj fnukad 01-04-2023 dks dk;Zjr dkfeZdksa dk iqu% osru fu;ru dj osru vkgfjr djus dh ,rn }kjk Lohd`fr iznku dh tkrh gS A
A8: =Master!A21 | B8: =IF(A8="","",Master!B33) | C8: =IF(B8="","",Master!$B$23) | D8: =IF(Master!E16="","",Master!E33) | E8: =IF(D8="","",Master!F33) | F8: =IF(E8="","",Master!G33) | G8: =F8 | H8: =IF(G8="","",MROUND(ROUND(1.03*G8,0),100)) | I8: =IF(H8="","","L-14") | J8: =IF(I8="","",VLOOKUP(F8,$O$6:$Y$32,2,0)) | K8: =IF(J8="","",MROUND(ROUND(1.03*J8,0),100)) | L8: =IF(K8="","",Master!N33) | N8: L-14 | O8: =MROUND(ROUND(1.03*O7,0),100) -> 56300 | P8: 57800
N9: L-14 | O9: =MROUND(ROUND(1.03*O8,0),100) -> 58000 | P9: 59500
A10: =Master!A11 | B10: =IF(A10="","",Master!B35) | C10: =IF(B10="","",Master!$B$23) | D10: =IF(Master!E11="","",Master!E11) | E10: =IF(Master!F11="","",Master!F11) | F10: =IF(Master!G18="","",Master!G18) | G10: =F10 | H10: =IF(G10="","",MROUND(ROUND(1.03*G10,0),100)) | I10: =IF(Master!F11="","","L-14") | J10: =IF(A10="","",VLOOKUP(F10,$O$6:$Y$32,2,0)) | K10: =IF(G10="","",MROUND(ROUND(1.03*J10,0),100)) | L10: =IF(A10="","",Master!N11) | N10: L-14 | O10: =MROUND(ROUND(1.03*O9,0),100) -> 59700 | P10: 61300
N11: L-14 | O11: =MROUND(ROUND(1.03*O10,0),100) -> 61500 | P11: 63100
N12: L-14 | O12: =MROUND(ROUND(1.03*O11,0),100) -> 63300 | P12: 65000
J13: iz/kkukpk;Z | N13: L-14 | O13: =MROUND(ROUND(1.03*O12,0),100) -> 65200 | P13: 67000
J14: =A1 -> jktdh; mPp ek/;fed fo|ky;] xksj/kuiqjk rglhy vV# ftyk ckjka | N14: L-14 | O14: =MROUND(ROUND(1.03*O13,0),100) -> 67200 | P14: 69000
A15: =A2 -> dzekad& | B15: =B2 -> jkmekfo@2023&24@122 | K15: fnukad& | L15: =L2 -> 12.01.2024 | N15: L-14 | O15: =MROUND(ROUND(1.03*O14,0),100) -> 69200 | P15: 71100
A16: izfrfyih lwpukFkZ& | N16: L-14 | O16: =MROUND(ROUND(1.03*O15,0),100) -> 71300 | P16: 73200
A17: 1 | B17: dks"kkf/kdkjh@midks"kkf/kdkjh ------------------ | N17: L-14 | O17: =MROUND(ROUND(1.03*O16,0),100) -> 73400 | P17: 75400
A18: 2 | B18: lacaf/kr dkfeZd Jh--------------- | N18: L-14 | O18: =MROUND(ROUND(1.03*O17,0),100) -> 75600 | P18: 77700
A19: 3 | B19: ys[kk 'kk[kk | N19: L-14 | O19: =MROUND(ROUND(1.03*O18,0),100) -> 77900 | P19: 80000
A20: 4 | B20: jf{kr i=koyh | N20: L-14 | O20: =MROUND(ROUND(1.03*O19,0),100) -> 80200 | P20: 82400
J21: iz/kkukpk;Z | O21: =MROUND(ROUND(1.03*O20,0),100) -> 82600 | P21: 84900
J22: =J14 -> jktdh; mPp ek/;fed fo|ky;] xksj/kuiqjk rglhy vV# ftyk ckjka
O23: =MROUND(ROUND(1.03*O21,0),100) -> 85100 | P23: 87400
O24: =MROUND(ROUND(1.03*O23,0),100) -> 87700 | P24: 90000
O25: =MROUND(ROUND(1.03*O24,0),100) -> 90300 | P25: 92700
O26: =MROUND(ROUND(1.03*O25,0),100) -> 93000 | P26: 95500
O27: =MROUND(ROUND(1.03*O26,0),100) -> 95800 | P27: 98400
O28: =MROUND(ROUND(1.03*O27,0),100) -> 98700 | P28: 101400
O29: =MROUND(ROUND(1.03*O28,0),100) -> 101700 | P29: 104400
O30: =MROUND(ROUND(1.03*O29,0),100) -> 104800 | P30: =MROUND(ROUND(1.03*P29,0),100) -> 107500
O31: =MROUND(ROUND(1.03*O30,0),100) -> 107900 | P31: =MROUND(ROUND(1.03*P30,0),100) -> 110700
O32: =MROUND(ROUND(1.03*O31,0),100) -> 111100 | P32: =MROUND(ROUND(1.03*P31,0),100) -> 114000
O33: =MROUND(ROUND(1.03*O32,0),100) -> 114400 | P33: =MROUND(ROUND(1.03*P32,0),100) -> 117400
O34: =MROUND(ROUND(1.03*O33,0),100) -> 117800 | P34: =MROUND(ROUND(1.03*P33,0),100) -> 120900
O35: =MROUND(ROUND(1.03*O34,0),100) -> 121300 | P35: =MROUND(ROUND(1.03*P34,0),100) -> 124500
O36: =MROUND(ROUND(1.03*O35,0),100) -> 124900 | P36: =MROUND(ROUND(1.03*P35,0),100) -> 128200
O37: =MROUND(ROUND(1.03*O36,0),100) -> 128600 | P37: =MROUND(ROUND(1.03*P36,0),100) -> 132000
O38: =MROUND(ROUND(1.03*O37,0),100) -> 132500 | P38: =MROUND(ROUND(1.03*P37,0),100) -> 136000
O39: =MROUND(ROUND(1.03*O38,0),100) -> 136500 | P39: =MROUND(ROUND(1.03*P38,0),100) -> 140100
O40: =MROUND(ROUND(1.03*O39,0),100) -> 140600 | P40: =MROUND(ROUND(1.03*P39,0),100) -> 144300
...

Sheet Lec. (2nd to 1st) & (3rd-1st)
A1: =Master!D3 -> jktdh; mPp ek/;fed fo|ky;] xksj/kuiqjk rglhy vV# ftyk ckjka
A2: dzekad& | B2: =IF(Master!D4="","",Master!D4) -> jkmekfo@2023&24@122 | M2: fnukad& | N2: =IF(Master!G4="","",Master!G4) -> 12.01.2024
A3: dk;kZy; vkns'k
A4: =CONCATENATE(" ",V4," ",'Lec. (2nd to 1st) & (3rd-1st)'!W4," ",'Lec. (2nd to 1st) & (3rd-1st)'!V5," ",Master!O21," ",'Lec. (2nd to 1st) & (3rd-1st)'!V6," ",Master!P23," ",V7) -> foRr ¼fu;e½ foHkkx jktLFkku ljdkj dh vf/klwpuk dzekad&,Q-15 ¼1½ ,Q-Mh@:Yl@2017 ikVZ fnukad 06-10-2023 ds }kjk jktLFkku flfoy lsok iqujhf{kr osru fu;e 2017 ds fu;e 14 }kjk ,e-,-lh-ih- ;kstuk ds izko/kku ykxw fd;s tkus ds vuqlj.k esa ,oa funs'kd egksn; chdkusj ds vkns'k dzekad& f'kfojk@ek/;@Mh&2@,lhih@2023&24@ fnukad& 23@12@2023 ds vuqlj.k esa jktLFkku v/khuLFk f'k{kk lsok laoxZ ds dkfeZd ftudh 20@30 o"kZ dh fu;fer lsok fnukad 31-03-23 rd ;k 31-03-23 ds ckn 20@30 o"khZ; fu;fer lsok iw.kZ djus ij vk'okflr dSfj;j izxfr ;kstuk ds vUrxZr r`rh; ,-lh-ih- is&ysoy&13@is&ysoy&15 esa Lohd`r dh tk pqdh gS ,sls dkfeZdksa }kjk ,e-,-lh-ih- ;kstuk dk fodYi i= izLrqr djus ij jktLFkku flfoy lsok iqujhf{kr osru fu;e 2017 ds fu;e 14 ds fcUnq la[;k 02 AAA ds vuqlkj fnukad 01-04-2023 dks dk;Zjr dkfeZdksa dk iqu% osru fu;ru dj osru vkgfjr djus dh ,rn }kjk Lohd`fr iznku dh tkrh gS A | V4: foRr ¼fu;e½ foHkkx jktLFkku ljdkj dh vf/klwpuk dzekad&,Q-15 ¼1½ ,Q-Mh@:Yl@2017 ikVZ fnukad 06-10-2023 ds }kjk jktLFkku flfoy lsok iqujhf{kr osru fu;e 2017 ds fu;e 14 }kjk ,e-,-lh-ih- ;kstuk ds izko/kku ykxw fd;s tkus ds vuqlj.k esa ,oa | W4: funs'kd egksn; chdkusj
A5: dz0la0 | B5: uke dkfeZd | C5: orZeku /kkfjr in | D5: r`rh; ,lhih Lohd`fr fnukad | E5: 01-04-23 dks izkIr is&ysoy | F5: 01-04-23 dks izkIr osru | H5: 01-07-23 dks izkIr osru | I5: ,e-,-lh-ih- ds rgr Lohd`r is ysoy | L5: ,e-,-lh-ih ds rgr fnukad 01-04-23 dks fu/kkZfjr osru | M5: 01-07-23 dks la'kksf/kr osru o`f} ij osru | N5: vkxkeh osru o`f} fnukad | V5: ds vkns'k dzekad&
A6: =Master!A36 -> 1 | B6: =IF(A6="","",Master!B36) -> lqehr dqekj | C6: =IF(B6="","",Master!$B$23) -> izk/;kid | D6: =IF(C6="","",Master!E36) -> 44189 | E6: =IF(D6="","",Master!F36) -> L-13 | F6: =IF(E6="","",Master!G36) -> 69200 | G6: =F6 -> 69200 | H6: =IF(G6="","",MROUND(ROUND(1.03*G6,0),100)) -> 71300 | I6: =IF(H6="","",IF(E6="L-13","L-14","L-16")) -> L-14 | J6: =IFERROR(VLOOKUP(F6,$T$6:$U$46,2,),"") -> 71100 | K6: =IFERROR(VLOOKUP(G6,$Q$6:$R$46,2,),"") | L6: =IF(E6="L-13",J6,K6) -> 71100 | M6: =IF(L6="","",MROUND(ROUND(1.03*L6,0),100)) -> 73200 | N6: =IF(M6="","",Master!N36) -> lsokfuo`r | Q6: 60700 | R6: 67300 | T6: 53100 | U6: 56100 | V6: fnukad&
A7: =Master!A37 | B7: =IF(A7="","",Master!B37) | C7: =IF(B7="","",Master!$B$23) | D7: =IF(C7="","",Master!E37) | E7: =IF(D7="","",Master!F37) | F7: =IF(E7="","",Master!G37) | G7: =F7 | H7: =IF(G7="","",MROUND(ROUND(1.03*G7,0),100)) | I7: =IF(H7="","",IF(E7="L-13","L-14","L-16")) | J7: =IFERROR(VLOOKUP(F7,$T$6:$U$46,2,),"") | K7: =IFERROR(VLOOKUP(G7,$Q$6:$R$46,2,),"") | L7: =IF(E7="L-13",J7,K7) | M7: =IF(L7="","",MROUND(ROUND(1.03*L7,0),100)) | N7: =IF(M7="","",Master!N37) | Q7: 62500 | R7: 67300 | T7: 54700 | U7: 56100 | V7: ds vuqlj.k esa jktLFkku v/khuLFk f'k{kk lsok laoxZ ds dkfeZd ftudh 20@30 o"kZ dh fu;fer lsok fnukad 31-03-23 rd ;k 31-03-23 ds ckn 20@30 o"khZ; fu;fer lsok iw.kZ djus ij vk'okflr dSfj;j izxfr ;kstuk ds vUrxZr r`rh; ,-lh-ih- is&ysoy&13@is&ysoy&15 esa Lohd`r dh tk pqdh gS ,sls dkfeZdksa }kjk ,e-,-lh-ih- ;kstuk dk fodYi i= izLrqr djus ij jktLFkku flfoy lsok iqujhf{kr osru fu;e 2017 ds fu;e 14 ds fcUnq la[;k 02 AAA ds vuqlkj fnukad 01-04-2023 dks dk;Zjr dkfeZdksa dk iqu% osru fu;ru dj osru vkgfjr djus dh ,rn }kjk Lohd`fr iznku dh tkrh gS A
A8: =Master!A38 | B8: =IF(A8="","",Master!B38) | C8: =IF(B8="","",Master!$B$23) | D8: =IF(C8="","",Master!E38) | E8: =IF(D8="","",Master!F38) | F8: =IF(E8="","",Master!G38) | G8: =F8 | H8: =IF(G8="","",MROUND(ROUND(1.03*G8,0),100)) | I8: =IF(H8="","",IF(E8="L-13","L-14","L-16")) | J8: =IFERROR(VLOOKUP(F8,$T$6:$U$46,2,),"") | K8: =IFERROR(VLOOKUP(G8,$Q$6:$R$46,2,),"") | L8: =IF(E8="L-13",J8,K8) | M8: =IF(L8="","",MROUND(ROUND(1.03*L8,0),100)) | N8: =IF(M8="","",Master!N38) | Q8: 64400 | R8: 67300 | T8: 56300 | U8: 57800
A9: =Master!A39 | B9: =IF(A9="","",Master!B39) | C9: =IF(B9="","",Master!$B$23) | D9: =IF(C9="","",Master!E39) | E9: =IF(D9="","",Master!F39) | F9: =IF(E9="","",Master!G39) | G9: =F9 | H9: =IF(G9="","",MROUND(ROUND(1.03*G9,0),100)) | I9: =IF(H9="","",IF(E9="L-13","L-14","L-16")) | J9: =IFERROR(VLOOKUP(F9,$T$6:$U$46,2,),"") | K9: =IFERROR(VLOOKUP(G9,$Q$6:$R$46,2,),"") | L9: =IF(E9="L-13",J9,K9) | M9: =IF(L9="","",MROUND(ROUND(1.03*L9,0),100)) | N9: =IF(M9="","",Master!N39) | Q9: 66300 | R9: 67300 | T9: 58000 | U9: 59500
A10: =Master!A40 | B10: =IF(A10="","",Master!B40) | C10: =IF(B10="","",Master!$B$23) | D10: =IF(C10="","",Master!E40) | E10: =IF(D10="","",Master!F40) | F10: =IF(E10="","",Master!G40) | G10: =F10 | H10: =IF(G10="","",MROUND(ROUND(1.03*G10,0),100)) | I10: =IF(H10="","",IF(E10="L-13","L-14","L-16")) | L10: =IF(I10="","",VLOOKUP(F10,$T$6:$AD$32,2,0)) | M10: =IF(L10="","",MROUND(ROUND(1.03*L10,0),100)) | N10: =IF(M10="","",Master!N40) | Q10: 68300 | R10: 69300 | T10: 59700 | U10: 61300
Q11: 70300 | R11: 71400 | T11: 61500 | U11: 63100
Q12: 72400 | R12: 73500 | T12: 63300 | U12: 65000
L13: iz/kkukpk;Z | Q13: 74600 | R13: 75700 | T13: 65200 | U13: 67000
L14: =A1 -> jktdh; mPp ek/;fed fo|ky;] xksj/kuiqjk rglhy vV# ftyk ckjka | Q14: 76800 | R14: 78000 | T14: 67200 | U14: 69000
A15: =A2 -> dzekad& | B15: =B2 -> jkmekfo@2023&24@122 | M15: fnukad& | N15: =N2 -> 12.01.2024 | Q15: 79100 | R15: 80300 | T15: 69200 | U15: 71100
A16: izfrfyih lwpukFkZ& | Q16: 81500 | R16: 82700 | T16: 71300 | U16: 73200
A17: 1 | B17: dks"kkf/kdkjh@midks"kkf/kdkjh ------------------ | Q17: 83900 | R17: 85200 | T17: 73400 | U17: 75400
A18: 2 | B18: lacaf/kr dkfeZd Jh--------------- | Q18: 86400 | R18: 87800 | T18: 75600 | U18: 77700
A19: 3 | B19: ys[kk 'kk[kk | Q19: 89000 | R19: 90400 | T19: 77900 | U19: 80000
A20: 4 | B20: jf{kr i=koyh | Q20: 91700 | R20: 93100 | T20: 80200 | U20: 82400
L21: iz/kkukpk;Z | Q21: 94500 | R21: 95900 | T21: 82600 | U21: 84900
L22: =L14 -> jktdh; mPp ek/;fed fo|ky;] xksj/kuiqjk rglhy vV# ftyk ckjka | Q22: 97300 | R22: 98800 | T22: 85100 | U22: 87400
Q23: 100200 | R23: 101800 | T23: 87700 | U23: 90000
Q24: 103200 | R24: 104900 | T24: 90300 | U24: 92700
Q25: 106300 | R25: 108000 | T25: 93000 | U25: 95500
Q26: 109500 | R26: 111200 | T26: 95800 | U26: 98400
Q27: 112800 | R27: 114500 | T27: 98700 | U27: 101400
Q28: 116200 | R28: 117900 | T28: 101700 | U28: 104400
Q29: 119700 | R29: 121400 | T29: 104800 | U29: 107500
Q30: 123300 | R30: 125000 | T30: 107900 | U30: 110700
Q31: 127000 | R31: 128800 | T31: 111100 | U31: 114000
Q32: 130800 | R32: 132700 | T32: 114400 | U32: 117400
Q33: 134700 | R33: 136700 | T33: 117800 | U33: 120900
Q34: 138700 | R34: 140800 | T34: 121300 | U34: 124500
... Q45: 192000 | R45: 195000 | T45: 167800 | U45: 172300

Sheet Vice-Principal
A1: =CONCATENATE(Master!C2,"] ",Master!F2,"] ",Master!P1," ",Master!P2) -> eq[; CykWd f'k{kk vf/kdkjh] lexz f'k{kk vV#] ftyk ckjka
A2: dzekad& | B2: =IF(Master!D4="","",Master!D4) -> jkmekfo@2023&24@122 | K2: fnukad& | L2: =IF(Master!G4="","",Master!G4) -> 12.01.2024
A3: dk;kZy; vkns'k
A4: =CONCATENATE(" ",T4," ",'Vice-Principal'!U4," ",'Vice-Principal'!T5," ",Master!O21," ",'Vice-Principal'!T6," ",Master!P23," ",T7) -> foRr ¼fu;e½ foHkkx jktLFkku ljdkj dh vf/klwpuk dzekad&,Q-15 ¼1½ ,Q-Mh@:Yl@2017 ikVZ fnukad 06-10-2023 ds }kjk jktLFkku flfoy lsok iqujhf{kr osru fu;e 2017 ds fu;e 14 }kjk ,e-,-lh-ih- ;kstuk ds izko/kku ykxw fd;s tkus ds vuqlj.k esa ,oa funs'kd egksn; chdkusj ds vkns'k dzekad& f'kfojk@ek/;@Mh&2@,lhih@2023&24@ fnukad& 23@12@2023 ds vuqlj.k esa jktLFkku vf/kuLFk f'k{kk lsok laoxZ ds dkfeZd ftudh 10@20 o"kZ dh fu;fer lsok fnukad 31-03-23 rd ;k 31-03-23 ds ckn 10@20 o"khZ; fu;fer lsok iw.kZ djus ij vk'okfUor dSfj;j izxfr ;kstuk ds vUrxZr r`rh; -lh-ih- is&ysoy&15 esa Lohd`r dh tk pqdh gS ,sls dkfeZdksa }kjk ,e-,-lh-ih- ;kstuk dk fodYi i= izLrqr djus ij jktLFkku flfoy lsok iqujhf{kr osru fu;e 2017 ds fu;e 14 ds fcUnq la[;k 02 AAA ds vuqlkj fnukad 01-04-2023 dks dk;Zjr dkfeZdksa dk iqu% osru fu;ru dj osru vkgfjr djus dh ,rn }kjk Lohd`fr iznku dh tkrh gS A | T4: foRr ¼fu;e½ foHkkx jktLFkku ljdkj dh vf/klwpuk dzekad&,Q-15 ¼1½ ,Q-Mh@:Yl@2017 ikVZ fnukad 06-10-2023 ds }kjk jktLFkku flfoy lsok iqujhf{kr osru fu;e 2017 ds fu;e 14 }kjk ,e-,-lh-ih- ;kstuk ds izko/kku ykxw fd;s tkus ds vuqlj.k esa ,oa | U4: funs'kd egksn; chdkusj
A5: dz0la0 | B5: uke dkfeZd | C5: orZeku /kkfjr in | D5: r`rh; ,lhih Lohd`fr fnukad | E5: 01-04-23 dks izkIr is&ysoy | F5: 01-04-23 dks izkIr osru | H5: 01-07-23 dks izkIr osru | I5: ,e-,-lh-ih- ds rgr Lohd`r is ysoy | J5: ,e-,-lh-ih ds rgr fnukad 01-04-23 dks fu/kkZfjr osru | K5: 01-07-23 dks la'kksf/kr osru o`f} ij osru | L5: vkxkeh osru o`f} fnukad | T5: ds vkns'k dzekad&
A6: =Master!A43 -> 1 | B6: =IF(A6="","",Master!B43) -> eqjyh/kj egkoj | C6: =IF(B6="","",Master!$B$41) -> mi&iz/kkukpk;Z | D6: =IF(A6="","",Master!E43) -> 44189 | E6: =IF(D6="","",Master!F43) -> L-15 | F6: =IF(E6="","",Master!G43) -> 66300 | G6: =F6 -> 66300 | H6: =IF(G6="","",MROUND(ROUND(1.03*G6,0),100)) -> 68300 | I6: =IF(H6="","","L-16") -> L-16 | J6: =IFERROR(VLOOKUP(G6,$O$6:$P$46,2,),"") -> 67300 | K6: =IF(J6="","",MROUND(ROUND(1.03*J6,0),100)) -> 69300 | L6: =IF(K6="","",Master!N43) -> 45474 | O6: 60700 | P6: 67300 | R6: 53100 | S6: 56100 | T6: fnukad&
A7: =Master!A44 | B7: =IF(A7="","",Master!B44) | C7: =IF(B7="","",Master!$B$41) | D7: =IF(A7="","",Master!E44) | E7: =IF(D7="","",Master!F44) | F7: =IF(E7="","",Master!G44) | G7: =F7 | H7: =IF(G7="","",MROUND(ROUND(1.03*G7,0),100)) | I7: =IF(H7="","","L-16") | J7: =IFERROR(VLOOKUP(G7,$O$6:$P$46,2,),"") | K7: =IF(J7="","",MROUND(ROUND(1.03*J7,0),100)) | L7: =IF(K7="","",Master!N44) | O7: 62500 | P7: 67300 | R7: 54700 | S7: 56100 | T7: ds vuqlj.k esa jktLFkku vf/kuLFk f'k{kk lsok laoxZ ds dkfeZd ftudh 10@20 o"kZ dh fu;fer lsok fnukad 31-03-23 rd ;k 31-03-23 ds ckn 10@20 o"khZ; fu;fer lsok iw.kZ djus ij vk'okfUor dSfj;j izxfr ;kstuk ds vUrxZr r`rh; -lh-ih- is&ysoy&15 esa Lohd`r dh tk pqdh gS ,sls dkfeZdksa }kjk ,e-,-lh-ih- ;kstuk dk fodYi i= izLrqr djus ij jktLFkku flfoy lsok iqujhf{kr osru fu;e 2017 ds fu;e 14 ds fcUnq la[;k 02 AAA ds vuqlkj fnukad 01-04-2023 dks dk;Zjr dkfeZdksa dk iqu% osru fu;ru dj osru vkgfjr djus dh ,rn }kjk Lohd`fr iznku dh tkrh gS A
A8: =Master!A45 | B8: =IF(A8="","",Master!B45) | C8: =IF(B8="","",Master!$B$41) | D8: =IF(A8="","",Master!E45) | E8: =IF(D8="","",Master!F45) | F8: =IF(E8="","",Master!G45) | G8: =F8 | H8: =IF(G8="","",MROUND(ROUND(1.03*G8,0),100)) | I8: =IF(H8="","","L-16") | J8: =IFERROR(VLOOKUP(G8,$O$6:$P$46,2,),"") | K8: =IF(J8="","",MROUND(ROUND(1.03*J8,0),100)) | L8: =IF(K8="","",Master!N45) | O8: 64400 | P8: 67300 | R8: 56300 | S8: 57800
A9: =Master!A46 | B9: =IF(A9="","",Master!B46) | C9: =IF(B9="","",Master!$B$41) | D9: =IF(A9="","",Master!E46) | E9: =IF(D9="","",Master!F46) | F9: =IF(E9="","",Master!G46) | G9: =F9 | H9: =IF(G9="","",MROUND(ROUND(1.03*G9,0),100)) | I9: =IF(H9="","","L-16") | J9: =IFERROR(VLOOKUP(G9,$O$6:$P$46,2,),"") | K9: =IF(J9="","",MROUND(ROUND(1.03*J9,0),100)) | L9: =IF(K9="","",Master!N46) | O9: 66300 | P9: 67300 | R9: 58000 | S9: 59500
B10: =IF(A10="","",Master!B47) | C10: =IF(B10="","",Master!$B$41) | D10: =IF(A10="","",Master!E47) | E10: =IF(D10="","",Master!F47) | F10: =IF(E10="","",Master!G47) | G10: =F10 | H10: =IF(G10="","",MROUND(ROUND(1.03*G10,0),100)) | I10: =IF(H10="","","L-16") | J10: =IFERROR(VLOOKUP(G10,$O$6:$P$46,2,),"") | K10: =IF(J10="","",MROUND(ROUND(1.03*J10,0),100)) | L10: =IF(K10="","",Master!N47) | O10: 68300 | P10: 69300 | R10: 59700 | S10: 61300
O11: 70300 | P11: 71400 | R11: 61500 | S11: 63100
O12: 72400 | P12: 73500 | R12: 63300 | S12: 65000
J13: =Master!C2 -> eq[; CykWd f'k{kk vf/kdkjh | O13: 74600 | P13: 75700 | R13: 65200 | S13: 67000
J14: =CONCATENATE(Master!F2,"] ",Master!P1," ",Master!P2) -> lexz f'k{kk vV#] ftyk ckjka | O14: 76800 | P14: 78000 | R14: 67200 | S14: 69000
A15: =A2 -> dzekad& | B15: =B2 -> jkmekfo@2023&24@122 | K15: fnukad& | L15: =L2 -> 12.01.2024 | O15: 79100 | P15: 80300 | R15: 69200 | S15: 71100
A16: izfrfyih lwpukFkZ& | O16: 81500 | P16: 82700 | R16: 71300 | S16: 73200
A17: 1 | B17: dks"kkf/kdkjh@midks"kkf/kdkjh ------------------ | O17: 83900 | P17: 85200 | R17: 73400 | S17: 75400
A18: 2 | B18: lacaf/kr dkfeZd Jh--------------- | O18: 86400 | P18: 87800 | R18: 75600 | S18: 77700
A19: 3 | B19: ys[kk 'kk[kk | O19: 89000 | P19: 90400 | R19: 77900 | S19: 80000
A20: 4 | B20: jf{kr i=koyh | O20: 91700 | P20: 93100 | R20: 80200 | S20: 82400
J21: =J13 -> eq[; CykWd f'k{kk vf/kdkjh | O21: 94500 | P21: 95900 | R21: 82600 | S21: 84900
J22: =J14 -> lexz f'k{kk vV#] ftyk ckjka | O22: 97300 | P22: 98800 | R22: 85100 | S22: 87400
O23: 100200 | P23: 101800 | R23: 87700 | S23: 90000
O24: 103200 | P24: 104900 | R24: 90300 | S24: 92700
O25: 106300 | P25: 108000 | R25: 93000 | S25: 95500
