Workbook

Sheet Master
B1: ,e-,-lh-ih- deZpkjh dk fooj.k | O1: laHkkx | P1: ftyk
B2: lhchbZbZvks dk;kZy; | C2: eq[; CykWd f'k{kk vf/kdkjh | F2: lexz f'k{kk vV# | O2: dksVk | P2: ckjka
B3: dk;kZy; dk uke | D3: jktdh; mPp ek/;fed fo|ky;] xksj/kuiqjk rglhy vV# ftyk ckjka | O3: la;qDr funs'kd ek/;fed f'k{kk ds vkns'k dzekad
B4: LFkkuh; dk;kZy; ds vkns'k dzekad | D4: jkmekfo@2023&24@122 | F4: vkns'k fnukad | G4: 12.01.2024 | O4: lafuLdwf'k@dks@ys[kk&4@,elhih&dksVk laHkkx@23&24@306
B5: v/;kid r`rh; JS.kh | N5: 45475
B6: deZPkkjh dk uke | C6: tUe frfFk | D6: orZeku in | E6: r`rh; ,lhih Lohd`fr fnukad | F6: fnuakd 01-04-23 dks izkIr is&ysoy | G6: fnuakd 01-04-23 dks izkIr osru | N6: 45474 | O6: vkns'k fnukad | P6: 12@12@2023
A7: =IF(B7="","",ROWS($D$7:D7)) -> 1 | B7: ijekuUn es?koky | C7: 30407 | D7: v/;kid | E7: 44189 | F7: L-13 | G7: 69200 | I7: =YEAR(C7) -> 1983 | J7: =DAY(C7) -> 1 | K7: =TEXT(C7,"mmm") -> Apr | L7: =I7+60 -> 2043 | M7: =DATEVALUE(J7&K7&L7) -> 52322 | N7: =IF(A7="","",IF($N$5<M7,$N$6,"lsokfuo`r")) -> 45474
A8: =IF(B8="","",ROWS($D$7:D8)) | F8: L-13 | I8: =YEAR(C8) -> 1900 | J8: =DAY(C8) -> 0 | K8: =TEXT(C8,"mmm") -> Jan | L8: =I8+60 -> 1960 | M8: =DATEVALUE(J8&K8&L8) -> #VALUE! | N8: =IF(A8="","",IF($N$5<M8,$N$6,"lsokfuo`r")) | O8: ftyk f'k{kk vf/kdkjh ek/;fed f'k{kk ds vkns'k dzekad
A9: =IF(B9="","",ROWS($D$7:D9)) | I9: =YEAR(C9) -> 1900 | J9: =DAY(C9) -> 0 | K9: =TEXT(C9,"mmm") -> Jan | L9: =I9+60 -> 1960 | M9: =DATEVALUE(J9&K9&L9) -> #VALUE! | N9: =IF(A9="","",IF($N$5<M9,$N$6,"lsokfuo`r"))
A10: =IF(B10="","",ROWS($D$7:D10)) | I10: =YEAR(C10) -> 1900 | J10: =DAY(C10) -> 0 | K10: =TEXT(C10,"mmm") -> Jan | L10: =I10+60 -> 1960 | M10: =DATEVALUE(J10&K10&L10) -> #VALUE! | N10: =IF(A10="","",IF($N$5<M10,$N$6,"lsokfuo`r")) | O10: ftf'kv@eqek@ckjka@ys[kk&1@,e,lhih@2023&24@385
A11: =IF(B11="","",ROWS($D$7:D11)) | I11: =YEAR(C11) -> 1900 | J11: =DAY(C11) -> 0 | K11: =TEXT(C11,"mmm") -> Jan | L11: =I11+60 -> 1960 | M11: =DATEVALUE(J11&K11&L11) -> #VALUE! | N11: =IF(A11="","",IF($N$5<M11,$N$6,"lsokfuo`r"))
B12: v/;kid f}rh; JS.kh | F12: ¼lh/kh HkrhZ ls½
B13: deZPkkjh dk uke | C13: tUe frfFk | D13: orZeku in izkIr | E13: izHkkfor ¼f}rh;@r`rh;½ ,lhih Lohd`fr fnukad | F13: fnuakd 01-04-23 dks izkIr is&ysoy | G13: fnuakd 01-04-23 dks izkIr osru | O13: vkns'k fnukad | P13: 18@12@2023
A14: =IF(B14="","",ROWS($D$14:D14)) -> 1 | B14: eqjyh/kj egkoj | C14: 23559 | E14: 44189 | F14: L-13 | G14: 69200 | I14: =YEAR(C14) -> 1964 | J14: =DAY(C14) -> 1 | K14: =TEXT(C14,"mmm") -> Jul | L14: =I14+60 -> 2024 | M14: =DATEVALUE(J14&K14&L14) -> 45474 | N14: =IF(A14="","",IF($N$5<M14,$N$6,"lsokfuo`r")) -> lsokfuo`r
A15: =IF(B15="","",ROWS($D$7:D8)) | I15: =YEAR(C15) -> 1900 | J15: =DAY(C15) -> 0 | K15: =TEXT(C15,"mmm") -> Jan | L15: =I15+60 -> 1960 | M15: =DATEVALUE(J15&K15&L15) -> #VALUE! | N15: =IF(A15="","",IF($N$5<M15,$N$6,"lsokfuo`r")) | O15: ftyk f'k{kk vf/kdkjh izkjfEHkd f'k{kk ds vkns'k dzekad
A16: =IF(B16="","",ROWS($D$7:D9)) | I16: =YEAR(C16) -> 1900 | J16: =DAY(C16) -> 0 | K16: =TEXT(C16,"mmm") -> Jan | L16: =I16+60 -> 1960 | M16: =DATEVALUE(J16&K16&L16) -> #VALUE! | N16: =IF(A16="","",IF($N$5<M16,$N$6,"lsokfuo`r")) | O16: ftf'kv@izkf'k@ckjka@ys[kk&1@,e,lhih@2023&24@902
A17: =IF(B17="","",ROWS($D$7:D10)) | I17: =YEAR(C17) -> 1900 | J17: =DAY(C17) -> 0 | K17: =TEXT(C17,"mmm") -> Jan | L17: =I17+60 -> 1960 | M17: =DATEVALUE(J17&K17&L17) -> #VALUE! | N17: =IF(A17="","",IF($N$5<M17,$N$6,"lsokfuo`r"))
B18: v/;kid f}rh; JS.kh | F18: ¼inkSUufr ls½ | O18: vkns'k fnukad | P18: 22@12@2023
A19: =IF(B19="","",ROWS($D$19:D19)) -> 1 | B19: ijekuUn es?koky | C19: 23560 | E19: 44554 | F19: L-13 | G19: 69200 | I19: =YEAR(C19) -> 1964 | J19: =DAY(C19) -> 2 | K19: =TEXT(C19,"mmm") -> Jul | L19: =I19+60 -> 2024 | M19: =DATEVALUE(J19&K19&L19) -> 45475 | N19: =IF(A19="","",IF($N$5<M19,$N$6,"lsokfuo`r")) -> lsokfuo`r
A20: =IF(B20="","",ROWS($D$19:D20)) | I20: =YEAR(C20) -> 1900 | J20: =DAY(C20) -> 0 | K20: =TEXT(C20,"mmm") -> Jan | L20: =I20+60 -> 1960 | M20: =DATEVALUE(J20&K20&L20) -> #VALUE! | N20: =IF(A20="","",IF($N$5<M20,$N$6,"lsokfuo`r")) | O20: funs'kd egksn; chdkusj ds vkns'k dzekad
A21: =IF(B21="","",ROWS($D$19:D21)) | I21: =YEAR(C21) -> 1900 | J21: =DAY(C21) -> 0 | K21: =TEXT(C21,"mmm") -> Jan | L21: =I21+60 -> 1960 | M21: =DATEVALUE(J21&K21&L21) -> #VALUE! | N21: =IF(A21="","",IF($N$5<M21,$N$6,"lsokfuo`r")) | O21: f'kfojk@ek/;@Mh&2@,lhih@2023&24@
A22: =IF(B22="","",ROWS($D$19:D22)) | I22: =YEAR(C22) -> 1900 | J22: =DAY(C22) -> 0 | K22: =TEXT(C22,"mmm") -> Jan | L22: =I22+60 -> 1960 | M22: =DATEVALUE(J22&K22&L22) -> #VALUE! | N22: =IF(A22="","",IF($N$5<M22,$N$6,"lsokfuo`r"))
B23: izk/;kid | E23: ¼izFke JS.kh & lh/kh HkrhZ ls½ | O23: vkns'k fnukad | P23: 23@12@2023
B24: deZPkkjh dk uke | C24: tUe frfFk | D24: orZeku in izkIr | E24: izHkkfor ¼izFke@f}rh;@r`rh;½ ,lhih Lohd`fr fnukad | F24: fnuakd 01-04-23 dks izkIr is&ysoy | G24: fnuakd 01-04-23 dks izkIr osru | O24: DOWNLOAD LINK
A25: =IF(B25="","",ROWS($D$25:D25)) -> 1 | B25: ckyfd'ku lsu | C25: 23590 | E25: 44189 | F25: L-15 | G25: 74600 | I25: =YEAR(C25) -> 1964 | J25: =DAY(C25) -> 1 | K25: =TEXT(C25,"mmm") -> Aug | L25: =I25+60 -> 2024 | M25: =DATEVALUE(J25&K25&L25) -> 45505 | N25: =IF(A25="","",IF($N$5<M25,$N$6,"lsokfuo`r")) -> 45474 | O25: RAJTEACHERS.NET
A26: =IF(B26="","",ROWS($D$25:D26)) | I26: =YEAR(C26) -> 1900 | J26: =DAY(C26) -> 0 | K26: =TEXT(C26,"mmm") -> Jan | L26: =I26+60 -> 1960 | M26: =DATEVALUE(J26&K26&L26) -> #VALUE! | N26: =IF(A26="","",IF($N$5<M26,$N$6,"lsokfuo`r"))
A27: =IF(B27="","",ROWS($D$25:D27)) | I27: =YEAR(C27) -> 1900 | J27: =DAY(C27) -> 0 | K27: =TEXT(C27,"mmm") -> Jan | L27: =I27+60 -> 1960 | M27: =DATEVALUE(J27&K27&L27) -> #VALUE! | N27: =IF(A27="","",IF($N$5<M27,$N$6,"lsokfuo`r")) | O27: fuekZ.kdrkZ
A28: =IF(B28="","",ROWS($D$25:D28)) | I28: =YEAR(C28) -> 1900 | J28: =DAY(C28) -> 0 | K28: =TEXT(C28,"mmm") -> Jan | L28: =I28+60 -> 1960 | M28: =DATEVALUE(J28&K28&L28) -> #VALUE! | N28: =IF(A28="","",IF($N$5<M28,$N$6,"lsokfuo`r"))
B29: izk/;kid ¼izFke JS.kh½ inkSUufr ¼2nd Grade To 1st Grade½ orZeku esa ysoy&13 izkIr
B30: deZPkkjh dk uke | C30: tUe frfFk | D30: orZeku in izkIr | E30: izHkkfor ¼izFke@f}rh;@r`rh;½ ,lhih Lohd`fr fnukad | F30: fnuakd 01-04-23 dks izkIr is&ysoy | G30: fnuakd 01-04-23 dks izkIr osru
A31: =IF(B31="","",ROWS($D36:D$36)) -> 1 | B31: lqehr dqekj | C31: 23590 | E31: 44189 | F31: L-13 | G31: 69200 | I31: =YEAR(C31) -> 1964 | J31: =DAY(C31) -> 1 | K31: =TEXT(C31,"mmm") -> Aug | L31: =I31+60 -> 2024 | M31: =DATEVALUE(J31&K31&L31) -> 45505 | N31: =IF(A31="","",IF($N$5<M31,$N$6,"lsokfuo`r")) -> 45474
A32: =IF(B32="","",ROWS($D$36:D37)) -> 2 | B32: lqehr dqekj | I32: =YEAR(C32) -> 1900 | J32: =DAY(C32) -> 0 | K32: =TEXT(C32,"mmm") -> Jan | L32: =I32+60 -> 1960 | M32: =DATEVALUE(J32&K32&L32) -> #VALUE! | N32: =IF(A32="","",IF($N$5<M32,$N$6,"lsokfuo`r")) -> #VALUE!
A33: =IF(B33="","",ROWS($D$36:D38)) -> 3 | B33: lqehr dqekj | I33: =YEAR(C33) -> 1900 | J33: =DAY(C33) -> 0 | K33: =TEXT(C33,"mmm") -> Jan | L33: =I33+60 -> 1960 | M33: =DATEVALUE(J33&K33&L33) -> #VALUE! | N33: =IF(A33="","",IF($N$5<M33,$N$6,"lsokfuo`r")) -> #VALUE!
B34: izk/;kid ¼izFke JS.kh½ inkSUufr ¼3rd Grade To 1st Grade - orZeku esa ysoy&13 izkIr½ & 2nd Grade To 1st Grade - orZeku esa ysoy&15 izkIr½
B35: deZPkkjh dk uke | C35: tUe frfFk | D35: orZeku in izkIr | E35: izHkkfor ¼izFke@f}rh;@r`rh;½ ,lhih Lohd`fr fnukad | F35: fnuakd 01-04-23 dks izkIr is&ysoy | G35: fnuakd 01-04-23 dks izkIr osru
A36: =IF(B36="","",ROWS($D36:D$36)) -> 1 | B36: lqehr dqekj | C36: 23559 | E36: 44189 | F36: L-13 | G36: 69200 | I36: =YEAR(C36) -> 1964 | J36: =DAY(C36) -> 1 | K36: =TEXT(C36,"mmm") -> Jul | L36: =I36+60 -> 2024 | M36: =DATEVALUE(J36&K36&L36) -> 45474 | N36: =IF(A36="","",IF($N$5<M36,$N$6,"lsokfuo`r")) -> lsokfuo`r | O36: Parmanand Meghwal, Senior Teacher GUPS Kanwarpura, District Baran
A37: =IF(B37="","",ROWS($D$36:D37)) | I37: =YEAR(C37) -> 1900 | J37: =DAY(C37) -> 0 | K37: =TEXT(C37,"mmm") -> Jan | L37: =I37+60 -> 1960 | M37: =DATEVALUE(J37&K37&L37) -> #VALUE! | N37: =IF(A37="","",IF($N$5<M37,$N$6,"lsokfuo`r"))
A38: =IF(B38="","",ROWS($D$36:D38)) | I38: =YEAR(C38) -> 1900 | J38: =DAY(C38) -> 0 | K38: =TEXT(C38,"mmm") -> Jan | L38: =I38+60 -> 1960 | M38: =DATEVALUE(J38&K38&L38) -> #VALUE! | N38: =IF(A38="","",IF($N$5<M38,$N$6,"lsokfuo`r"))
A39: =IF(B39="","",ROWS($D$36:D39)) | I39: =YEAR(C39) -> 1900 | J39: =DAY(C39) -> 0 | K39: =TEXT(C39,"mmm") -> Jan | L39: =I39+60 -> 1960 | M39: =DATEVALUE(J39&K39&L39) -> #VALUE! | N39: =IF(A39="","",IF($N$5<M39,$N$6,"lsokfuo`r"))
A40: =IF(B40="","",ROWS($D$36:D40)) | I40: =YEAR(C40) -> 1900 | J40: =DAY(C40) -> 0 | K40: =TEXT(C40,"mmm") -> Jan | L40: =I40+60 -> 1960 | M40: =DATEVALUE(J40&K40&L40) -> #VALUE! | N40: =IF(A40="","",IF($N$5<M40,$N$6,"lsokfuo`r"))
B41: mi&iz/kkukpk;Z | E41: inkSUufr (Lecturer to Vice Principal)
B42: deZPkkjh dk uke | C42: tUe frfFk | D42: orZeku in izkIr | E42: izHkkfor ¼izFke@f}rh;@r`rh;½ ,lhih Lohd`fr fnukad | F42: fnuakd 01-04-23 dks izkIr is&ysoy | G42: fnuakd 01-04-23 dks izkIr osru
A43: =IF(B43="","",ROWS($D43:D$43)) -> 1 | B43: eqjyh/kj egkoj | C43: 23590 | D43: Promotion | E43: 44189 | F43: L-15 | G43: 66300 | I43: =YEAR(C43) -> 1964 | J43: =DAY(C43) -> 1 | K43: =TEXT(C43,"mmm") -> Aug | L43: =I43+60 -> 2024 | M43: =DATEVALUE(J43&K43&L43) -> 45505 | N43: =IF(A43="","",IF($N$5<M43,$N$6,"lsokfuo`r")) -> 45474
A44: =IF(B44="","",ROWS($D$43:D44)) | I44: =YEAR(C44) -> 1900 | J44: =DAY(C44) -> 0 | K44: =TEXT(C44,"mmm") -> Jan | L44: =I44+60 -> 1960 | M44: =DATEVALUE(J44&K44&L44) -> #VALUE! | N44: =IF(A44="","",IF($N$5<M44,$N$6,"lsokfuo`r"))
A45: =IF(B45="","",ROWS($D$43:D45)) | I45: =YEAR(C45) -> 1900 | J45: =DAY(C45) -> 0 | K45: =TEXT(C45,"mmm") -> Jan | L45: =I45+60 -> 1960 | M45: =DATEVALUE(J45&K45&L45) -> #VALUE! | N45: =IF(A45="","",IF($N$5<M45,$N$6,"lsokfuo`r"))
A46: =IF(B46="","",ROWS($D$43:D46)) | I46: =YEAR(C46) -> 1900 | J46: =DAY(C46) -> 0 | K46: =TEXT(C46,"mmm") -> Jan | L46: =I46+60 -> 1960 | M46: =DATEVALUE(J46&K46&L46) -> #VALUE! | N46: =IF(A46="","",IF($N$5<M46,$N$6,"lsokfuo`r"))
B47: iz/kkukpk;Z
B48: deZPkkjh dk uke | C48: tUe frfFk | D48: orZeku in izkIr | E48: izHkkfor ¼izFke@f}rh;@r`rh;½ ,lhih Lohd`fr fnukad | F48: fnuakd 01-04-23 dks izkIr is&ysoy | G48: fnuakd 01-04-23 dks izkIr osru
A49: =IF(B49="","",ROWS($D$49:D49)) -> 1 | B49: jktsUnz dqekj fpRrkSMk | C49: 23533 | D49: Promotion | E49: 44189 | F49: L-17 | G49: 104200 | I49: =YEAR(C49) -> 1964 | J49: =DAY(C49) -> 5 | K49: =TEXT(C49,"mmm") -> Jun | L49: =I49+60 -> 2024 | M49: =DATEVALUE(J49&K49&L49) -> 45448 | N49: =IF(A49="","",IF($N$5<M49,$N$6,"lsokfuo`r")) -> lsokfuo`r
A50: =IF(B50="","",ROWS($D$49:D50)) | F50: L-17 | I50: =YEAR(C50) -> 1900 | J50: =DAY(C50) -> 0 | K50: =TEXT(C50,"mmm") -> Jan | L50: =I50+60 -> 1960 | M50: =DATEVALUE(J50&K50&L50) -> #VALUE! | N50: =IF(A50="","",IF($N$5<M50,$N$6,"lsokfuo`r"))
B51: ihbZbZvks v/khuLFk fo|ky;ksa ds r`rh; JS.kh dkfeZdksa dk bUnzkt ;gka djs
B52: izFke fu;qfDr in v/;kid r`rh; JS.kh ds dkfeZd uhps nh xbZ lkj.kh esa bUnzkt djsaA
B53: deZPkkjh dk uke | C53: tUe frfFk | D53: orZeku in | E53: r`rh; ,lhih Lohd`fr fnukad | F53: fnuakd 01-04-23 dks izkIr is&ysoy | G53: fnuakd 01-04-23 dks izkIr osru
A54: =IF(B54="","",ROWS($D$54:D54)) -> 1 | B54: ijekuUn es?koky | C54: 23559 | E54: 44189 | F54: L-13 | G54: 69200 | I54: =YEAR(C54) -> 1964 | J54: =DAY(C54) -> 1 | K54: =TEXT(C54,"mmm") -> Jul | L54: =I54+60 -> 2024 | M54: =DATEVALUE(J54&K54&L54) -> 45474 | N54: =IF(A54="","",IF($N$5<M54,$N$6,"lsokfuo`r")) -> lsokfuo`r
A55: =IF(B55="","",ROWS($D$54:D55)) | I55: =YEAR(C55) -> 1900 | J55: =DAY(C55) -> 0 | K55: =TEXT(C55,"mmm") -> Jan | L55: =I55+60 -> 1960 | M55: =DATEVALUE(J55&K55&L55) -> #VALUE! | N55: =IF(A55="","",IF($N$5<M55,$N$6,"lsokfuo`r"))
A56: =IF(B56="","",ROWS($D$54:D56)) | I56: =YEAR(C56) -> 1900 | J56: =DAY(C56) -> 0 | K56: =TEXT(C56,"mmm") -> Jan | L56: =I56+60 -> 1960 | M56: =DATEVALUE(J56&K56&L56) -> #VALUE! | N56: =IF(A56="","",IF($N$5<M56,$N$6,"lsokfuo`r"))
A57: =IF(B57="","",ROWS($D$54:D57)) | I57: =YEAR(C57) -> 1900 | J57: =DAY(C57) -> 0 | K57: =TEXT(C57,"mmm") -> Jan | L57: =I57+60 -> 1960 | M57: =DATEVALUE(J57&K57&L57) -> #VALUE! | N57: =IF(A57="","",IF($N$5<M57,$N$6,"lsokfuo`r"))
A58: =IF(B58="","",ROWS($D$54:D58)) | I58: =YEAR(C58) -> 1900 | J58: =DAY(C58) -> 0 | K58: =TEXT(C58,"mmm") -> Jan | L58: =I58+60 -> 1960 | M58: =DATEVALUE(J58&K58&L58) -> #VALUE! | N58: =IF(A58="","",IF($N$5<M58,$N$6,"lsokfuo`r"))
A59: =IF(B59="","",ROWS($D$54:D59)) | I59: =YEAR(C59) -> 1900 | J59: =DAY(C59) -> 0 | K59: =TEXT(C59,"mmm") -> Jan | L59: =I59+60 -> 1960 | M59: =DATEVALUE(J59&K59&L59) -> #VALUE! | N59: =IF(A59="","",IF($N$5<M59,$N$6,"lsokfuo`r"))

Sheet Teacher-III
A1: =Master!D3 -> jktdh; mPp ek/;fed fo|ky;] xksj/kuiqjk rglhy vV# ftyk ckjka
A2: dzekad& | B2: =IF(Master!D4="","",Master!D4) -> jkmekfo@2023&24@122 | K2: fnukad& | L2: =IF(Master!G4="","",Master!G4) -> 12.01.2024
A3: dk;kZy; vkns'k
A4: =CONCATENATE(" ",Q4," ",'Teacher-III'!R4," ",Master!P2," ",'Teacher-III'!Q5," ",Master!O10," ",'Teacher-III'!Q6," ",Master!P13," ",Q7) -> foRr ¼fu;e½ foHkkx jktLFkku ljdkj dh vf/klwpuk dzekad&,Q-15 ¼1½ ,Q-Mh@:Yl@2017 ikVZ fnukad 06-10-2023 ds }kjk jktLFkku flfoy lsok iqujhf{kr osru fu;e 2017 ds fu;e 14 }kjk ,e-,-lh-ih- ;kstuk ds izko/kku ykxw fd;s tkus ds vuqlj.k esa ,oa ftyk f'k{kk vf/kdkjh ek/;fed f'k{kk ckjka ds vkns'k dzekad& ftf'kv@eqek@ckjka@ys[kk&1@,e,lhih@2023&24@385 fnukad& 18@12@2023 ds vuqlj.k esa jktLFkku vf/kuLFk f'k{kk lsok laoxZ ds dkfeZd ftudh 27 o"kZ dh fu;fer lsok fnukad 31-03-23 rd ;k 31-03-23 ds ckn 27 o"khZ; fu;fer lsok iw.kZ djus ij vk'okflr dSfj;j izxfr ;kstuk ds vUrxZr r`rh; ,0lh0ih0 is&ysoy&13 esa Lohd`r dh tk pqdh gS ,sls dkfeZdksa }kjk ,e-,-lh-ih- ;kstuk dk fodYi i= izLrqr djus ij jktLFkku flfoy lsok iqujhf{kr osru fu;e 2017 ds fu;e 14 ds fcUnq la[;k 02 AAA ds vuqlkj fnukad 01-04-2023 dks dk;Zjr dkfeZdksa dk iqu% osru fu;ru dj osru vkgfjr djus dh ,rn }kjk Lohd`fr iznku dh tkrh gS A | Q4: foRr ¼fu;e½ foHkkx jktLFkku ljdkj dh vf/klwpuk dzekad&,Q-15 ¼1½ ,Q-Mh@:Yl@2017 ikVZ fnukad 06-10-2023 ds }kjk jktLFkku flfoy lsok iqujhf{kr osru fu;e 2017 ds fu;e 14 }kjk ,e-,-lh-ih- ;kstuk ds izko/kku ykxw fd;s tkus ds vuqlj.k esa ,oa | R4: ftyk f'k{kk vf/kdkjh ek/;fed f'k{kk
A5: dz0la0 | B5: uke dkfeZd | C5: orZeku /kkfjr in | D5: r`rh; ,lhih Lohd`fr fnukad | E5: 01-04-23 dks izkIr is&ysoy | F5: 01-04-23 dks izkIr osru | H5: 01-07-23 dks izkIr osru | I5: ,e-,-lh-ih- ds rgr Lohd`r is ysoy | J5: ,e-,-lh-ih ds rgr fnukad 01-04-23 dks fu/kkZfjr osru | K5: 01-07-23 dks la'kksf/kr osru o`f} ij osru | L5: vkxkeh osru o`f} fnukad | Q5: ds vkns'k dzekad&
A6: =Master!A7 -> 1 | B6: =IF(A6="","",Master!B7) -> ijekuUn es?koky | C6: =IF(B6="","",Master!$B$5) -> v/;kid r`rh; JS.kh | D6: =IF(Master!E7="","",Master!E7) -> 44189 | E6: =IF(D6="","",Master!F7) -> L-13 | F6: =IF(E6="","",Master!G7) -> 69200 | G6: =F6 -> 69200 | H6: =IF(G6="","",MROUND(ROUND(1.03*G6,0),100)) -> 71300 | I6: =IF(H6="","","L-14") -> L-14 | J6: =IF(I6="","",VLOOKUP(F6,$O$6:$Y$32,2,0)) -> 71100 | K6: =IF(J6="","",MROUND(ROUND(1.03*J6,0),100)) -> 73200 | L6: =IF(K6="","",Master!N7) -> 45474 | N6: L-14 | O6: 53100 | P6: 56100 | Q6: fnukad&
A7: =Master!A8 | B7: =IF(A7="","",Master!B8) | C7: =IF(B7="","",Master!$B$5) | D7: =IF(Master!E8="","",Master!E8) | E7: =IF(D7="","",Master!F8) | F7: =IF(E7="","",Master!G8) | G7: =F7 | H7: =IF(G7="","",MROUND(ROUND(1.03*G7,0),100)) | I7: =IF(H7="","","L-14") | J7: =IF(I7="","",VLOOKUP(F7,$O$6:$Y$32,2,0)) | K7: =IF(J7="","",MROUND(ROUND(1.03*J7,0),100)) | L7: =IF(K7="","",Master!N8) | N7: L-14 | O7: =MROUND(ROUND(1.03*O6,0),100) -> 54700 | P7: 56100 | Q7: ds vuqlj.k esa jktLFkku vf/kuLFk f'k{kk lsok laoxZ ds dkfeZd ftudh 27 o"kZ dh fu;fer lsok fnukad 31-03-23 rd ;k 31-03-23 ds ckn 27 o"khZ; fu;fer lsok iw.kZ djus ij vk'okflr dSfj;j izxfr ;kstuk ds vUrxZr r`rh; ,0lh0ih0 is&ysoy&13 esa Lohd`r dh tk pqdh gS ,sls dkfeZdksa }kjk ,e-,-lh-ih- ;kstuk dk fodYi i= izLrqr djus ij jktLFkku flfoy lsok iqujhf{kr osru fu;e 2017 ds fu;e 14 ds fcUnq la[;k 02 AAA ds vuqlkj fnukad 01-04-2023 dks dk;Zjr dkfeZdksa dk iqu% osru fu;ru dj osru vkgfjr djus dh ,rn }kjk Lohd`fr iznku dh tkrh gS A
A8: =Master!A9 | B8: =IF(A8="","",Master!B9) | C8: =IF(B8="","",Master!$B$5) | D8: =IF(Master!E9="","",Master!E9) | E8: =IF(D8="","",Master!F9) | F8: =IF(E8="","",Master!G9) | G8: =F8 | H8: =IF(G8="","",MROUND(ROUND(1.03*G8,0),100)) | I8: =IF(H8="","","L-14") | J8: =IF(I8="","",VLOOKUP(F8,$O$6:$Y$32,2,0)) | K8: =IF(J8="","",MROUND(ROUND(1.03*J8,0),100)) | L8: =IF(K8="","",Master!N9) | N8: L-14 | O8: =MROUND(ROUND(1.03*O7,0),100) -> 56300 | P8: 57800
A9: =Master!A10 | B9: =IF(A9="","",Master!B10) | C9: =IF(B9="","",Master!$B$5) | D9: =IF(Master!E10="","",Master!E10) | E9: =IF(D9="","",Master!F10) | F9: =IF(E9="","",Master!G10) | G9: =F9 | H9: =IF(G9="","",MROUND(ROUND(1.03*G9,0),100)) | I9: =IF(H9="","","L-14") | J9: =IF(I9="","",VLOOKUP(F9,$O$6:$Y$32,2,0)) | K9: =IF(J9="","",MROUND(ROUND(1.03*J9,0),100)) | L9: =IF(K9="","",Master!N10) | N9: L-14 | O9: =MROUND(ROUND(1.03*O8,0),100) -> 58000 | P9: 59500
A10: =Master!A11 | B10: =IF(A10="","",Master!B11) | C10: =IF(B10="","",Master!$B$5) | D10: =IF(Master!E11="","",Master!E11) | E10: =IF(D10="","",Master!F11) | F10: =IF(E10="","",Master!G11) | G10: =F10 | H10: =IF(G10="","",MROUND(ROUND(1.03*G10,0),100)) | I10: =IF(H10="","","L-14") | J10: =IF(I10="","",VLOOKUP(F10,$O$6:$Y$32,2,0)) | K10: =IF(J10="","",MROUND(ROUND(1.03*J10,0),100)) | L10: =IF(K10="","",Master!N11) | N10: L-14 | O10: =MROUND(ROUND(1.03*O9,0),100) -> 59700 | P10: 61300
N11: L-14 | O11: =MROUND(ROUND(1.03*O10,0),100) -> 61500 | P11: 63100
N12: L-14 | O12: =MROUND(ROUND(1.03*O11,0),100) -> 63300 | P12: 65000
J13: iz/kkukpk;Z | N13: L-14 | O13: =MROUND(ROUND(1.03*O12,0),100) -> 65200 | P13: 67000
J14: =A1 -> jktdh; mPp ek/;fed fo|ky;] xksj/kuiqjk rglhy vV# ftyk ckjka | N14: L-14 | O14: =MROUND(ROUND(1.03*O13,0),100) -> 67200 | P14: 69000
A15: =A2 -> dzekad& | B15: =B2 -> jkmekfo@2023&24@122 | K15: fnukad& | L15: =L2 -> 12.01.2024 | N15: L-14 | O15: =MROUND(ROUND(1.03*O14,0),100) -> 69200 | P15: 71100
A16: izfrfyih lwpukFkZ& | N16: L-14 | O16: =MROUND(ROUND(1.03*O15,0),100) -> 71300 | P16: 73200
A17: 1 | B17: dks"kkf/kdkjh@midks"kkf/kdkjh ------------------ | N17: L-14 | O17: =MROUND(ROUND(1.03*O16,0),100) -> 73400 | P17: 75400
A18: 2 | B18: lacaf/kr dkfeZd Jh--------------- | N18: L-14 | O18: =MROUND(ROUND(1.03*O17,0),100) -> 75600 | P18: 77700
A19: 3 | B19: ys[kk 'kk[kk | N19: L-14 | O19: =MROUND(ROUND(1.03*O18,0),100) -> 77900 | P19: 80000
A20: 4 | B20: jf{kr i=koyh | N20: L-14 | O20: =MROUND(ROUND(1.03*O19,0),100) -> 80200 | P20: 82400
J21: iz/kkukpk;Z | O21: =MROUND(ROUND(1.03*O20,0),100) -> 82600 | P21: 84900
J22: =J14 -> jktdh; mPp ek/;fed fo|ky;] xksj/kuiqjk rglhy vV# ftyk ckjka
O23: =MROUND(ROUND(1.03*O21,0),100) -> 85100 | P23: 87400
O24: =MROUND(ROUND(1.03*O23,0),100) -> 87700 | P24: 90000
O25: =MROUND(ROUND(1.03*O24,0),100) -> 90300 | P25: 92700
O26: =MROUND(ROUND(1.03*O25,0),100) -> 93000 | P26: 95500
O27: =MROUND(ROUND(1.03*O26,0),100) -> 95800 | P27: 98400
O28: =MROUND(ROUND(1.03*O27,0),100) -> 98700 | P28: 101400
O29: =MROUND(ROUND(1.03*O28,0),100) -> 101700 | P29: 104400
O30: =MROUND(ROUND(1.03*O29,0),100) -> 104800 | P30: =MROUND(ROUND(1.03*P29,0),100) -> 107500
O31: =MROUND(ROUND(1.03*O30,0),100) -> 107900 | P31: =MROUND(ROUND(1.03*P30,0),100) -> 110700
O32: =MROUND(ROUND(1.03*O31,0),100) -> 111100 | P32: =MROUND(ROUND(1.03*P31,0),100) -> 114000
O33: =MROUND(ROUND(1.03*O32,0),100) -> 114400 | P33: =MROUND(ROUND(1.03*P32,0),100) -> 117400
O34: =MROUND(ROUND(1.03*O33,0),100) -> 117800 | P34: =MROUND(ROUND(1.03*P33,0),100) -> 120900
O35: =MROUND(ROUND(1.03*O34,0),100) -> 121300 | P35: =MROUND(ROUND(1.03*P34,0),100) -> 124500
O36: =MROUND(ROUND(1.03*O35,0),100) -> 124900 | P36: =MROUND(ROUND(1.03*P35,0),100) -> 128200
O37: =MROUND(ROUND(1.03*O36,0),100) -> 128600 | P37: =MROUND(ROUND(1.03*P36,0),100) -> 132000
O38: =MROUND(ROUND(1.03*O37,0),100) -> 132500 | P38: =MROUND(ROUND(1.03*P37,0),100) -> 136000
O39: =MROUND(ROUND(1.03*O38,0),100) -> 136500 | P39: =MROUND(ROUND(1.03*P38,0),100) -> 140100
O40: =MROUND(ROUND(1.03*O39,0),100) -> 140600 | P40: =MROUND(ROUND(1.03*P39,0),100) -> 144300
O41: =MROUND(ROUND(1.03*O40,0),100) -> 144800 | P41: =MROUND(ROUND(1.03*P40,0),100) -> 148600
... O46: =MROUND(ROUND(1.03*O45,0),100) -> 167800 | P46: =MROUND(ROUND(1.03*P45,0),100) -> 172300

Sheet Teacher-II (Direct Rec.)
A1: =Master!D3 -> jktdh; mPp ek/;fed fo|ky;] xksj/kuiqjk rglhy vV# ftyk ckjka
A2: dzekad& | B2: =IF(Master!D4="","",Master!D4) -> jkmekfo@2023&24@122 | K2: fnukad& | L2: =IF(Master!G4="","",Master!G4) -> 12.01.2024
A3: dk;kZy; vkns'k
A4: =CONCATENATE(" ",Q4," ",'Teacher-II (Direct Rec.)'!R4,Master!O2," ",Master!O1,"] ",Master!O2," ",'Teacher-II (Direct Rec.)'!Q5,Master!O4," ",Q6,Master!P6," ",Q7) -> foRr ¼fu;e½ foHkkx jktLFkku ljdkj dh vf/klwpuk dzekad&,Q-15 ¼1½ ,Q-Mh@:Yl@2017 ikVZ fnukad 06-10-2023 ds }kjk jktLFkku flfoy lsok iqujhf{kr osru fu;e 2017 ds fu;e 14 }kjk ,e-,-lh-ih- ;kstuk ds izko/kku ykxw fd;s tkus ds vuqlj.k esa ,oa dk;kZy; la;qDr funs'kd ¼Ldwy f'k{kk½ dksVk laHkkx] dksVk ds vkns'k dzekad&lafuLdwf'k@dks@ys[kk&4@,elhih&dksVk laHkkx@23&24@306 fnukad&12@12@2023 ds vuqlj.k esa jktLFkku v/khuLFk f'k{kk lsok laoxZ ds dkfeZd ftudh 18 o"kZ dh fu;fer lsok fnukad 31-03-23 rd ;k 31-03-23 ds ckn 18 o"khZ; fu;fer lsok iw.kZ djus ij vk'okflr dSfj;j izxfr ;kstuk ds vUrxZr r`rh; ,-lh-ih- is&ysoy&13 esa Lohd`r dh tk pqdh gS ,sls dkfeZdksa }kjk ,e-,-lh-ih- ;kstuk dk fodYi i= izLrqr djus ij jktLFkku flfoy lsok iqujhf{kr osru fu;e 2017 ds fu;e 14 ds fcUnq la[;k 02 AAA ds vuqlkj fnukad 01-04-2023 dks dk;Zjr dkfeZdksa dk iqu% osru fu;ru dj osru vkgfjr djus dh ,rn }kjk Lohd`fr iznku dh tkrh gS A | Q4: foRr ¼fu;e½ foHkkx jktLFkku ljdkj dh vf/klwpuk dzekad&,Q-15 ¼1½ ,Q-Mh@:Yl@2017 ikVZ fnukad 06-10-2023 ds }kjk jktLFkku flfoy lsok iqujhf{kr osru fu;e 2017 ds fu;e 14 }kjk ,e-,-lh-ih- ;kstuk ds izko/kku ykxw fd;s tkus ds vuqlj.k esa ,oa | R4: dk;kZy; la;qDr funs'kd ¼Ldwy f'k{kk½
A5: dz0la0 | B5: uke dkfeZd | C5: orZeku /kkfjr in | D5: r`rh; ,lhih Lohd`fr fnukad | E5: 01-04-23 dks izkIr is&ysoy | F5: 01-04-23 dks izkIr osru | H5: 01-07-23 dks izkIr osru | I5: ,e-,-lh-ih- ds rgr Lohd`r is ysoy | J5: ,e-,-lh-ih ds rgr fnukad 01-04-23 dks fu/kkZfjr osru | K5: 01-07-23 dks la'kksf/kr osru o`f} ij osru | L5: vkxkeh osru o`f} fnukad | Q5: ds vkns'k dzekad&
A6: =Master!A14 -> 1 | B6: =IF(A6="","",Master!B14) -> eqjyh/kj egkoj | C6: =IF(B6="","",Master!$B$12) -> v/;kid f}rh; JS.kh | D6: =IF(Master!E14="","",Master!E14) -> 44189 | E6: =IF(D6="","",Master!F14) -> L-13 | F6: =IF(E6="","",Master!G14) -> 69200 | G6: =F6 -> 69200 | H6: =IF(G6="","",MROUND(ROUND(1.03*G6,0),100)) -> 71300 | I6: =IF(H6="","","L-14") -> L-14 | J6: =IF(I6="","",VLOOKUP(F6,$O$6:$Y$32,2,0)) -> 71100 | K6: =IF(J6="","",MROUND(ROUND(1.03*J6,0),100)) -> 73200 | L6: =IF(K6="","",Master!N14) -> lsokfuo`r | N6: L-14 | O6: 53100 | P6: 56100 | Q6: fnukad&
A7: =Master!A15 | B7: =IF(A7="","",Master!B15) | C7: =IF(B7="","",Master!$B$12) | D7: =IF(Master!E15="","",Master!E15) | E7: =IF(D7="","",Master!F15) | F7: =IF(E7="","",Master!G15) | G7: =F7 | H7: =IF(G7="","",MROUND(ROUND(1.03*G7,0),100)) | I7: =IF(H7="","","L-14") | J7: =IF(I7="","",VLOOKUP(F7,$O$6:$Y$32,2,0)) | K7: =IF(J7="","",MROUND(ROUND(1.03*J7,0),100)) | L7: =IF(K7="","",Master!N15) | N7: L-14 | O7: =MROUND(ROUND(1.03*O6,0),100) -> 54700 | P7: 56100 | Q7: ds vuqlj.k esa jktLFkku v/khuLFk f'k{kk lsok laoxZ ds dkfeZd ftudh 18 o"kZ dh fu;fer lsok fnukad 31-03-23 rd ;k 31-03-23 ds ckn 18 o"khZ; fu;fer lsok iw.kZ djus ij vk'okflr dSfj;j izxfr ;kstuk ds vUrxZr r`rh; ,-lh-ih- is&ysoy&13 esa Lohd`r dh tk pqdh gS ,sls dkfeZdksa }kjk ,e-,-lh-ih- ;kstuk dk fodYi i= izLrqr djus ij jktLFkku flfoy lsok iqujhf{kr osru fu;e 2017 ds fu;e 14 ds fcUnq la[;k 02 AAA ds vuqlkj fnukad 01-04-2023 dks dk;Zjr dkfeZdksa dk iqu% osru fu;ru dj osru vkgfjr djus dh ,rn }kjk Lohd`fr iznku dh tkrh gS A
A8: =Master!A16 | B8: =IF(A8="","",Master!B16) | C8: =IF(B8="","",Master!$B$12) | D8: =IF(Master!E16="","",Master!E16) | E8: =IF(D8="","",Master!F16) | F8: =IF(E8="","",Master!G16) | G8: =F8 | H8: =IF(G8="","",MROUND(ROUND(1.03*G8,0),100)) | I8: =IF(H8="","","L-14") | J8: =IF(I8="","",VLOOKUP(F8,$O$6:$Y$32,2,0)) | K8: =IF(J8="","",MROUND(ROUND(1.03*J8,0),100)) | L8: =IF(K8="","",Master!N16) | N8: L-14 | O8: =MROUND(ROUND(1.03*O7,0),100) -> 56300 | P8: 57800
A9: =Master!A17 | B9: =IF(A9="","",Master!B17) | C9: =IF(B9="","",Master!$B$12) | D9: =IF(Master!E17="","",Master!E17) | E9: =IF(D9="","",Master!F17) | F9: =IF(E9="","",Master!G17) | G9: =F9 | H9: =IF(G9="","",MROUND(ROUND(1.03*G9,0),100)) | I9: =IF(H9="","","L-14") | J9: =IF(I9="","",VLOOKUP(F9,$O$6:$Y$32,2,0)) | K9: =IF(J9="","",MROUND(ROUND(1.03*J9,0),100)) | L9: =IF(K9="","",Master!N17) | N9: L-14 | O9: =MROUND(ROUND(1.03*O8,0),100) -> 58000 | P9: 59500
A10: =Master!A11 | B10: =IF(Master!B11="","",Master!B11) | C10: =IF(Master!B11="","",Master!$B$5) | D10: =IF(Master!E11="","",Master!E11) | E10: =IF(Master!F11="","",Master!F11) | F10: =IF(Master!G18="","",Master!G18) | G10: =F10 | H10: =IF(G10="","",MROUND(ROUND(1.03*G10,0),100)) | I10: =IF(Master!F11="","","L-14") | J10: =IF(A10="","",VLOOKUP(F10,$O$6:$Y$32,2,0)) | K10: =IF(G10="","",MROUND(ROUND(1.03*J10,0),100)) | L10: =IF(K10="","",Master!N18) | N10: L-14 | O10: =MROUND(ROUND(1.03*O9,0),100) -> 59700 | P10: 61300
N11: L-14 | O11: =MROUND(ROUND(1.03*O10,0),100) -> 61500 | P11: 63100
N12: L-14 | O12: =MROUND(ROUND(1.03*O11,0),100) -> 63300 | P12: 65000
J13: iz/kkukpk;Z | N13: L-14 | O13: =MROUND(ROUND(1.03*O12,0),100) -> 65200 | P13: 67000
J14: =A1 -> jktdh; mPp ek/;fed fo|ky;] xksj/kuiqjk rglhy vV# ftyk ckjka | N14: L-14 | O14: =MROUND(ROUND(1.03*O13,0),100) -> 67200 | P14: 69000
A15: =A2 -> dzekad& | B15: =B2 -> jkmekfo@2023&24@122 | K15: fnukad& | L15: =L2 -> 12.01.2024 | N15: L-14 | O15: =MROUND(ROUND(1.03*O14,0),100) -> 69200 | P15: 71100
A16: izfrfyih lwpukFkZ& | N16: L-14 | O16: =MROUND(ROUND(1.03*O15,0),100) -> 71300 | P16: 73200
A17: 1 | B17: dks"kkf/kdkjh@midks"kkf/kdkjh ------------------ | N17: L-14 | O17: =MROUND(ROUND(1.03*O16,0),100) -> 73400 | P17: 75400
A18: 2 | B18: lacaf/kr dkfeZd Jh--------------- | N18: L-14 | O18: =MROUND(ROUND(1.03*O17,0),100) -> 75600 | P18: 77700
A19: 3 | B19: ys[kk 'kk[kk | N19: L-14 | O19: =MROUND(ROUND(1.03*O18,0),100) -> 77900 | P19: 80000
A20: 4 | B20: jf{kr i=koyh | N20: L-14 | O20: =MROUND(ROUND(1.03*O19,0),100) -> 80200 | P20: 82400
J21: iz/kkukpk;Z | O21: =MROUND(ROUND(1.03*O20,0),100) -> 82600 | P21: 84900
J22: =J14 -> jktdh; mPp ek/;fed fo|ky;] xksj/kuiqjk rglhy vV# ftyk ckjka
O23: =MROUND(ROUND(1.03*O21,0),100) -> 85100 | P23: 87400
O24: =MROUND(ROUND(1.03*O23,0),100) -> 87700 | P24: 90000
O25: =MROUND(ROUND(1.03*O24,0),100) -> 90300 | P25: 92700
O26: =MROUND(ROUND(1.03*O25,0),100) -> 93000 | P26: 95500
O27: =MROUND(ROUND(1.03*O26,0),100) -> 95800 | P27: 98400
O28: =MROUND(ROUND(1.03*O27,0),100) -> 98700 | P28: 101400
O29: =MROUND(ROUND(1.03*O28,0),100) -> 101700 | P29: 104400
O30: =MROUND(ROUND(1.03*O29,0),100) -> 104800 | P30: =MROUND(ROUND(1.03*P29,0),100) -> 107500
O31: =MROUND(ROUND(1.03*O30,0),100) -> 107900 | P31: =MROUND(ROUND(1.03*P30,0),100) -> 110700
O32: =MROUND(ROUND(1.03*O31,0),100) -> 111100 | P32: =MROUND(ROUND(1.03*P31,0),100) -> 114000
O33: =MROUND(ROUND(1.03*O32,0),100) -> 114400 | P33: =MROUND(ROUND(1.03*P32,0),100) -> 117400
O34: =MROUND(ROUND(1.03*O33,0),100) -> 117800 | P34: =MROUND(ROUND(1.03*P33,0),100) -> 120900
O35: =MROUND(ROUND(1.03*O34,0),100) -> 121300 | P35: =MROUND(ROUND(1.03*P34,0),100) -> 124500
O36: =MROUND(ROUND(1.03*O35,0),100) -> 124900 | P36: =MROUND(ROUND(1.03*P35,0),100) -> 128200
O37: =MROUND(ROUND(1.03*O36,0),100) -> 128600 | P37: =MROUND(ROUND(1.03*P36,0),100) -> 132000
O38: =MROUND(ROUND(1.03*O37,0),100) -> 132500 | P38: =MROUND(ROUND(1.03*P37,0),100) -> 136000
O39: =MROUND(ROUND(1.03*O38,0),100) -> 136500 | P39: =MROUND(ROUND(1.03*P38,0),100) -> 140100
O40: =MROUND(ROUND(1.03*O39,0),100) -> 140600 | P40: =MROUND(ROUND(1.03*P39,0),100) -> 144300
O41: =MROUND(ROUND(1.03*O40,0),100) -> 144800 | P41: =MROUND(ROUND(1.03*P40,0),100) -> 148600
... O46: =MROUND(ROUND(1.03*O45,0),100) -> 167800 | P46: =MROUND(ROUND(1.03*P45,0),100) -> 172300

Sheet Teacher-II (Promoted)
A1: =Master!D3 -> jktdh; mPp ek/;fed fo|ky;] xksj/kuiqjk rglhy vV# ftyk ckjka
A2: dzekad& | B2: =IF(Master!D4="","",Master!D4) -> jkmekfo@2023&24@122 | K2: fnukad& | L2: =IF(Master!G4="","",Master!G4) -> 12.01.2024
A3: dk;kZy; vkns'k
A4: =CONCATENATE(" ",Q4," ",'Teacher-II (Direct Rec.)'!R4,Master!O2," ",Master!O1,"] ",Master!O2," ",'Teacher-II (Direct Rec.)'!Q5,Master!O4," ",Q6,Master!P6," ",Q7) -> foRr ¼fu;e½ foHkkx jktLFkku ljdkj dh vf/klwpuk dzekad&,Q-15 ¼1½ ,Q-Mh@:Yl@2017 ikVZ fnukad 06-10-2023 ds }kjk jktLFkku flfoy lsok iqujhf{kr osru fu;e 2017 ds fu;e 14 }kjk ,e0,0lh0ih ;kstuk ds izko/kku ykxw fd;s tkus ds vuqlj.k esa ,oa dk;kZy; la;qDr funs'kd ¼Ldwy f'k{kk½ dksVk laHkkx] dksVk ds vkns'k dzekad&lafuLdwf'k@dks@ys[kk&4@,elhih&dksVk laHkkx@23&24@306 fnukad&12@12@2023 ds vuqlj.k esa jktLFkku v/khuLFk f'k{kk lsok laoxZ ds dkfeZd ftudh 27 o"kZ dh fu;fer lsok fnukad 31-03-23 rd ;k 31-03-23 ds ckn 27 o"khZ; fu;fer lsok iw.kZ djus ij vk'okfUor dSfj;j izxfr ;kstuk ds vUrxZr r`rh; ,-lh-ih- is&ysoy&13 esa Lohd`r dh tk pqdh gS ,sls dkfeZdksa }kjk ,e-,-lh-ih- ;kstuk dk fodYi i= izLrqr djus ij jktLFkku flfoy lsok iqujhf{kr osru fu;e 2017 ds fu;e 14 ds fcUnq la[;k 02 AAA ds vuqlkj fnukad 01-04-2023 dks dk;Zjr dkfeZdksa dk iqu% osru fu;ru dj osru vkgfjr djus dh ,rn }kjk Lohd`fr iznku dh tkrh gS A | Q4: foRr ¼fu;e½ foHkkx jktLFkku ljdkj dh vf/klwpuk dzekad&,Q-15 ¼1½ ,Q-Mh@:Yl@2017 ikVZ fnukad 06-10-2023 ds }kjk jktLFkku flfoy lsok iqujhf{kr osru fu;e 2017 ds fu;e 14 }kjk ,e0,0lh0ih ;kstuk ds izko/kku ykxw fd;s tkus ds vuqlj.k esa ,oa | R4: dk;kZy; la;qDr funs'kd ¼Ldwy f'k{kk½
A5: dz0la0 | B5: uke dkfeZd | C5: orZeku /kkfjr in | D5: r`rh; ,lhih Lohd`fr fnukad | E5: 01-04-23 dks izkIr is&ysoy | F5: 01-04-23 dks izkIr osru | H5: 01-07-23 dks izkIr osru | I5: ,e-,-lh-ih- ds rgr Lohd`r is ysoy | J5: ,e-,-lh-ih ds rgr fnukad 01-04-23 dks fu/kkZfjr osru | K5: 01-07-23 dks la'kksf/kr osru o`f} ij osru | L5: vkxkeh osru o`f} fnukad | Q5: ds vkns'k dzekad&
A6: =Master!A19 -> 1 | B6: =IF(A6="","",Master!B19) -> ijekuUn es?koky | C6: =IF(B6="","",Master!$B$18) -> v/;kid f}rh; JS.kh | D6: =IF(Master!E19="","",Master!E19) -> 44554 | E6: =IF(D6="","",Master!F19) -> L-13 | F6: =IF(E6="","",Master!G19) -> 69200 | G6: =F6 -> 69200 | H6: =IF(G6="","",MROUND(ROUND(1.03*G6,0),100)) -> 71300 | I6: =IF(H6="","","L-14") -> L-14 | J6: =IF(I6="","",VLOOKUP(F6,$O$6:$Y$32,2,0)) -> 71100 | K6: =IF(J6="","",MROUND(ROUND(1.03*J6,0),100)) -> 73200 | L6: =IF(K6="","",Master!N19) -> lsokfuo`r | N6: L-14 | O6: 53100 | P6: 56100 | Q6: fnukad&
A7: =Master!A20 | B7: =IF(A7="","",Master!B20) | C7: =IF(B7="","",Master!$B$18) | D7: =IF(Master!E20="","",Master!E20) | E7: =IF(D7="","",Master!F20) | F7: =IF(E7="","",Master!G20) | G7: =F7 | H7: =IF(G7="","",MROUND(ROUND(1.03*G7,0),100)) | I7: =IF(H7="","","L-14") | J7: =IF(I7="","",VLOOKUP(F7,$O$6:$Y$32,2,0)) | K7: =IF(J7="","",MROUND(ROUND(1.03*J7,0),100)) | L7: =IF(K7="","",Master!N20) | N7: L-14 | O7: =MROUND(ROUND(1.03*O6,0),100) -> 54700 | P7: 56100 | Q7: ds vuqlj.k esa jktLFkku v/khuLFk f'k{kk lsok laoxZ ds dkfeZd ftudh 27 o"kZ dh fu;fer lsok fnukad 31-03-23 rd ;k 31-03-23 ds ckn 27 o"khZ; fu;fer lsok iw.kZ djus ij vk'okfUor dSfj;j izxfr ;kstuk ds vUrxZr r`rh; ,-lh-ih- is&ysoy&13 esa Lohd`r dh tk pqdh gS ,sls dkfeZdksa }kjk ,e-,-lh-ih- ;kstuk dk fodYi i= izLrqr djus ij jktLFkku flfoy lsok iqujhf{kr osru fu;e 2017 ds fu;e 14 ds fcUnq la[;k 02 AAA ds vuqlkj fnukad 01-04-2023 dks dk;Zjr dkfeZdksa dk iqu% osru fu;ru dj osru vkgfjr djus dh ,rn }kjk Lohd`fr iznku dh tkrh gS A
A8: =Master!A21 | B8: =IF(A8="","",Master!B21) | C8: =IF(B8="","",Master!$B$18) | D8: =IF(Master!E21="","",Master!E21) | E8: =IF(D8="","",Master!F21) | F8: =IF(E8="","",Master!G21) | G8: =F8 | H8: =IF(G8="","",MROUND(ROUND(1.03*G8,0),100)) | I8: =IF(H8="","","L-14") | J8: =IF(I8="","",VLOOKUP(F8,$O$6:$Y$32,2,0)) | K8: =IF(J8="","",MROUND(ROUND(1.03*J8,0),100)) | L8: =IF(K8="","",Master!N21) | N8: L-14 | O8: =MROUND(ROUND(1.03*O7,0),100) -> 56300 | P8: 57800
A9: =Master!A22 | B9: =IF(A9="","",Master!B22) | C9: =IF(B9="","",Master!$B$18) | D9: =IF(Master!E22="","",Master!E22) | E9: =IF(D9="","",Master!F22) | F9: =IF(E9="","",Master!G22) | G9: =F9 | H9: =IF(G9="","",MROUND(ROUND(1.03*G9,0),100)) | I9: =IF(H9="","","L-14") | J9: =IF(I9="","",VLOOKUP(F9,$O$6:$Y$32,2,0)) | K9: =IF(J9="","",MROUND(ROUND(1.03*J9,0),100)) | L9: =IF(K9="","",Master!N22) | N9: L-14 | O9: =MROUND(ROUND(1.03*O8,0),100) -> 58000 | P9: 59500
A10: =Master!A11 | B10: =IF(Master!B11="","",Master!B11) | C10: =IF(Master!B11="","",Master!$B$5) | E10: =IF(Master!F11="","",Master!F11) | F10: =IF(Master!G18="","",Master!G18) | G10: =F10 | H10: =IF(G10="","",MROUND(ROUND(1.03*G10,0),100)) | I10: =IF(Master!F11="","","L-14") | J10: =IF(A10="","",VLOOKUP(F10,$O$6:$Y$32,2,0)) | K10: =IF(G10="","",MROUND(ROUND(1.03*J10,0),100)) | L10: =IF(A10="","",Master!N11) | N10: L-14 | O10: =MROUND(ROUND(1.03*O9,0),100) -> 59700 | P10: 61300
N11: L-14 | O11: =MROUND(ROUND(1.03*O10,0),100) -> 61500 | P11: 63100
N12: L-14 | O12: =MROUND(ROUND(1.03*O11,0),100) -> 63300 | P12: 65000
J13: iz/kkukpk;Z | N13: L-14 | O13: =MROUND(ROUND(1.03*O12,0),100) -> 65200 | P13: 67000
J14: =A1 -> jktdh; mPp ek/;fed fo|ky;] xksj/kuiqjk rglhy vV# ftyk ckjka | N14: L-14 | O14: =MROUND(ROUND(1.03*O13,0),100) -> 67200 | P14: 69000
A15: =A2 -> dzekad& | B15: =B2 -> jkmekfo@2023&24@122 | K15: fnukad& | L15: =L2 -> 12.01.2024 | N15: L-14 | O15: =MROUND(ROUND(1.03*O14,0),100) -> 69200 | P15: 71100
A16: izfrfyih lwpukFkZ& | N16: L-14 | O16: =MROUND(ROUND(1.03*O15,0),100) -> 71300 | P16: 73200
A17: 1 | B17: dks"kkf/kdkjh@midks"kkf/kdkjh ------------------ | N17: L-14 | O17: =MROUND(ROUND(1.03*O16,0),100) -> 73400 | P17: 75400
A18: 2 | B18: lacaf/kr dkfeZd Jh--------------- | N18: L-14 | O18: =MROUND(ROUND(1.03*O17,0),100) -> 75600 | P18: 77700
A19: 3 | B19: ys[kk 'kk[kk | N19: L-14 | O19: =MROUND(ROUND(1.03*O18,0),100) -> 77900 | P19: 80000
A20: 4 | B20: jf{kr i=koyh | N20: L-14 | O20: =MROUND(ROUND(1.03*O19,0),100) -> 80200 | P20: 82400
J21: iz/kkukpk;Z | O21: =MROUND(ROUND(1.03*O20,0),100) -> 82600 | P21: 84900
J22: =J14 -> jktdh; mPp ek/;fed fo|ky;] xksj/kuiqjk rglhy vV# ftyk ckjka
O23: =MROUND(ROUND(1.03*O21,0),100) -> 85100 | P23: 87400
O24: =MROUND(ROUND(1.03*O23,0),100) -> 87700 | P24: 90000
O25: =MROUND(ROUND(1.03*O24,0),100) -> 90300 | P25: 92700
O26: =MROUND(ROUND(1.03*O25,0),100) -> 93000 | P26: 95500
O27: =MROUND(ROUND(1.03*O26,0),100) -> 95800 | P27: 98400
O28: =MROUND(ROUND(1.03*O27,0),100) -> 98700 | P28: 101400
O29: =MROUND(ROUND(1.03*O28,0),100) -> 101700 | P29: 104400
O30: =MROUND(ROUND(1.03*O29,0),100) -> 104800 | P30: =MROUND(ROUND(1.03*P29,0),100) -> 107500
O31: =MROUND(ROUND(1.03*O30,0),100) -> 107900 | P31: =MROUND(ROUND(1.03*P30,0),100) -> 110700
O32: =MROUND(ROUND(1.03*O31,0),100) -> 111100 | P32: =MROUND(ROUND(1.03*P31,0),100) -> 114000
O33: =MROUND(ROUND(1.03*O32,0),100) -> 114400 | P33: =MROUND(ROUND(1.03*P32,0),100) -> 117400
O34: =MROUND(ROUND(1.03*O33,0),100) -> 117800 | P34: =MROUND(ROUND(1.03*P33,0),100) -> 120900
O35: =MROUND(ROUND(1.03*O34,0),100) -> 121300 | P35: =MROUND(ROUND(1.03*P34,0),100) -> 124500
O36: =MROUND(ROUND(1.03*O35,0),100) -> 124900 | P36: =MROUND(ROUND(1.03*P35,0),100) -> 128200
O37: =MROUND(ROUND(1.03*O36,0),100) -> 128600 | P37: =MROUND(ROUND(1.03*P36,0),100) -> 132000
O38: =MROUND(ROUND(1.03*O37,0),100) -> 132500 | P38: =MROUND(ROUND(1.03*P37,0),100) -> 136000
O39: =MROUND(ROUND(1.03*O38,0),100) -> 136500 | P39: =MROUND(ROUND(1.03*P38,0),100) -> 140100
O40: =MROUND(ROUND(1.03*O39,0),100) -> 140600 | P40: =MROUND(ROUND(1.03*P39,0),100) -> 144300
O41: =MROUND(ROUND(1.03*O40,0),100) -> 144800 | P41: =MROUND(ROUND(1.03*P40,0),100) -> 148600
... O46: =MROUND(ROUND(1.03*O45,0),100) -> 167800 | P46: =MROUND(ROUND(1.03*P45,0),100) -> 172300

Sheet Lecturer (Direct)
A1: =Master!D3 -> jktdh; mPp ek/;fed fo|ky;] xksj/kuiqjk rglhy vV# ftyk ckjka
A2: dzekad& | B2: =IF(Master!D4="","",Master!D4) -> jkmekfo@2023&24@122 | N2: fnukad& | O2: =IF(Master!G4="","",Master!G4) -> 12.01.2024
A3: dk;kZy; vkns'k
A4: =CONCATENATE(" ",X4," ",'Lecturer (Direct)'!Y4," ",'Lecturer (Direct)'!X5," ",Master!O21," ",X6," ",Master!P23," ",X7) -> foRr ¼fu;e½ foHkkx jktLFkku ljdkj dh vf/klwpuk dzekad&,Q-15 ¼1½ ,Q-Mh@:Yl@2017 ikVZ fnukad 06-10-2023 ds }kjk jktLFkku flfoy lsok iqujhf{kr osru fu;e 2017 ds fu;e 14 }kjk ,e-,-lh-ih- ;kstuk ds izko/kku ykxw fd;s tkus ds vuqlj.k esa ,oa funs'kd egksn; chdkusj ds vkns'k dzekad& f'kfojk@ek/;@Mh&2@,lhih@2023&24@ fnukad& 23@12@2023 ds vuqlj.k esa jktLFkku v/khuLFk f'k{kk lsok laoxZ ds dkfeZd ftudh 10@20 o"kZ dh fu;fer lsok fnukad 31-03-23 rd ;k 31-03-23 ds ckn 10@20@30 o"khZ; fu;fer lsok iw.kZ djus ij vk'okflr dSfj;j izxfr ;kstuk ds vUrxZr r`rh; ,-lh-ih- is&ysoy&13@is&ysoy&14@is&ysoy&15 esa Lohd`r dh tk pqdh gS ,sls dkfeZdksa }kjk ,e-,-lh-ih- ;kstuk dk fodYi i= izLrqr djus ij jktLFkku flfoy lsok iqujhf{kr osru fu;e 2017 ds fu;e 14 ds fcUnq la[;k 02 AAA ds vuqlkj fnukad 01-04-2023 dks dk;Zjr dkfeZdksa dk iqu% osru fu;ru dj osru vkgfjr djus dh ,rn }kjk Lohd`fr iznku dh tkrh gS A | X4: foRr ¼fu;e½ foHkkx jktLFkku ljdkj dh vf/klwpuk dzekad&,Q-15 ¼1½ ,Q-Mh@:Yl@2017 ikVZ fnukad 06-10-2023 ds }kjk jktLFkku flfoy lsok iqujhf{kr osru fu;e 2017 ds fu;e 14 }kjk ,e-,-lh-ih- ;kstuk ds izko/kku ykxw fd;s tkus ds vuqlj.k esa ,oa | Y4: funs'kd egksn; chdkusj
A5: dz0la0 | B5: uke dkfeZd | C5: orZeku /kkfjr in | D5: r`rh; ,lhih Lohd`fr fnukad | E5: 01-04-23 dks izkIr is&ysoy | F5: 01-04-23 dks izkIr osru | H5: 01-07-23 dks izkIr osru | I5: ,e-,-lh-ih- ds rgr Lohd`r is ysoy | J5: 14 | K5: 16 | L5: 17 | M5: ,e-,-lh-ih ds rgr fnukad 01-04-23 dks fu/kkZfjr osru | N5: 01-07-23 dks la'kksf/kr osru o`f} ij osru | O5: vkxkeh osru o`f} fnukad | R5: L-15 | S5: MACP L-17 | T5: L-14 | U5: MACP L-16 | V5: L-13 | W5: MACP L-14 | X5: ds vkns'k dzekad&
A6: =Master!A25 -> 1 | B6: =IF(A6="","",Master!B25) -> ckyfd'ku lsu | C6: =IF(B6="","",Master!$B$23) -> izk/;kid | D6: =IF(Master!E14="","",Master!E25) -> 44189 | E6: =IF(D6="","",Master!F25) -> L-15 | F6: =IF(E6="","",Master!G25) -> 74600 | G6: =F6 -> 74600 | H6: =IF(G6="","",MROUND(ROUND(1.03*G6,0),100)) -> 76800 | I6: =IF(H6="","",IF(E6="L-13","L-14","L-16")) -> L-16 | J6: =IFERROR(VLOOKUP(G6,$V$6:$W$46,2,),"") | K6: =IFERROR(VLOOKUP(G6,$T$6:$U$46,2,),"") | L6: =IFERROR(VLOOKUP(H6,$R$6:$S$46,2,),"") -> 77600 | M6: =IF(E6="L-13",J6,IF(E6="L-14",K6,L6)) -> 77600 | N6: =IF(M6="","",MROUND(ROUND(1.03*M6,0),100)) -> 79900 | O6: =IF(N6="","",Master!N25) -> 45474 | R6: 60700 | S6: 71000 | T6: 56100 | U6: 67300 | V6: 53100 | W6: 56100 | X6: fnukad&
A7: =Master!A26 | B7: =IF(A7="","",Master!B26) | C7: =IF(B7="","",Master!$B$23) | D7: =IF(Master!E15="","",Master!E26) | E7: =IF(D7="","",Master!F26) | F7: =IF(E7="","",Master!G26) | G7: =F7 | H7: =IF(G7="","",MROUND(ROUND(1.03*G7,0),100)) | I7: =IF(H7="","",IF(E7="L-13","L-14","L-16")) | J7: =IFERROR(VLOOKUP(F7,$V$6:$W$46,2,),"") | K7: =IFERROR(VLOOKUP(G7,$R$6:$S$46,2,),"") | M7: =IF(E7="L-13",J7,K7) | N7: =IF(M7="","",MROUND(ROUND(1.03*M7,0),100)) | O7: =IF(N7="","",Master!N26) | R7: 62500 | S7: 71000 | T7: 57800 | U7: 67300 | V7: 54700 | W7: 56100 | X7: ds vuqlj.k esa jktLFkku v/khuLFk f'k{kk lsok laoxZ ds dkfeZd ftudh 10@20 o"kZ dh fu;fer lsok fnukad 31-03-23 rd ;k 31-03-23 ds ckn 10@20@30 o"khZ; fu;fer lsok iw.kZ djus ij vk'okflr dSfj;j izxfr ;kstuk ds vUrxZr r`rh; ,-lh-ih- is&ysoy&13@is&ysoy&14@is&ysoy&15 esa Lohd`r dh tk pqdh gS ,sls dkfeZdksa }kjk ,e-,-lh-ih- ;kstuk dk fodYi i= izLrqr djus ij jktLFkku flfoy lsok iqujhf{kr osru fu;e 2017 ds fu;e 14 ds fcUnq la[;k 02 AAA ds vuqlkj fnukad 01-04-2023 dks dk;Zjr dkfeZdksa dk iqu% osru fu;ru dj osru vkgfjr djus dh ,rn }kjk Lohd`fr iznku dh tkrh gS A
A8: =Master!A27 | B8: =IF(A8="","",Master!B27) | C8: =IF(B8="","",Master!$B$23) | D8: =IF(Master!E16="","",Master!E27) | E8: =IF(D8="","",Master!F27) | F8: =IF(E8="","",Master!G27) | G8: =F8 | H8: =IF(G8="","",MROUND(ROUND(1.03*G8,0),100)) | I8: =IF(H8="","",IF(E8="L-13","L-14","L-16")) | J8: =IFERROR(VLOOKUP(F8,$V$6:$W$46,2,),"") | K8: =IFERROR(VLOOKUP(G8,$R$6:$S$46,2,),"") | M8: =IF(E8="L-13",J8,K8) | N8: =IF(M8="","",MROUND(ROUND(1.03*M8,0),100)) | O8: =IF(N8="","",Master!N27) | R8: 64400 | S8: 71000 | T8: 59500 | U8: 67300 | V8: 56300 | W8: 57800
A9: =Master!A28 | B9: =IF(A9="","",Master!B28) | C9: =IF(B9="","",Master!$B$23) | D9: =IF(Master!E17="","",Master!E28) | E9: =IF(D9="","",Master!F28) | F9: =IF(E9="","",Master!G28) | G9: =F9 | H9: =IF(G9="","",MROUND(ROUND(1.03*G9,0),100)) | I9: =IF(H9="","",IF(E9="L-13","L-14","L-16")) | J9: =IFERROR(VLOOKUP(F9,$V$6:$W$46,2,),"") | K9: =IFERROR(VLOOKUP(G9,$R$6:$S$46,2,),"") | M9: =IF(E9="L-13",J9,K9) | N9: =IF(M9="","",MROUND(ROUND(1.03*M9,0),100)) | O9: =IF(N9="","",Master!N28) | R9: 66300 | S9: 71000 | T9: 61300 | U9: 67300 | V9: 58000 | W9: 59500
B10: =IF(A10="","",Master!B29) | C10: =IF(Master!B11="","",Master!$B$5) | D10: =IF(Master!E11="","",Master!E11) | E10: =IF(D10="","",Master!F29) | F10: =IF(E10="","",Master!G29) | G10: =F10 | H10: =IF(G10="","",MROUND(ROUND(1.03*G10,0),100)) | I10: =IF(H10="","",IF(E10="L-13","L-14","L-16")) | M10: =IF(I10="","",VLOOKUP(F10,$V$6:$AF$32,2,0)) | N10: =IF(M10="","",MROUND(ROUND(1.03*M10,0),100)) | O10: =IF(N10="","",Master!N29) | R10: 68300 | S10: 71000 | T10: 63100 | U10: 67300 | V10: 59700 | W10: 61300
R11: 70300 | S11: 71000 | T11: 65000 | U11: 67300 | V11: 61500 | W11: 63100
R12: 72400 | S12: 73100 | T12: 67000 | U12: 67300 | V12: 63300 | W12: 65000
M13: iz/kkukpk;Z | R13: 74600 | S13: 75300 | T13: 69000 | U13: 69300 | V13: 65200 | W13: 67000
M14: =A1 -> jktdh; mPp ek/;fed fo|ky;] xksj/kuiqjk rglhy vV# ftyk ckjka | R14: 76800 | S14: 77600 | T14: 71100 | U14: 71400 | V14: 67200 | W14: 69000
A15: =A2 -> dzekad& | B15: =B2 -> jkmekfo@2023&24@122 | N15: fnukad& | O15: =O2 -> 12.01.2024 | R15: 79100 | S15: 79900 | T15: 73200 | U15: 73500 | V15: 69200 | W15: 71100
A16: izfrfyih lwpukFkZ& | R16: 81500 | S16: 82300 | T16: 75400 | U16: 75700 | V16: 71300 | W16: 73200
A17: 1 | B17: dks"kkf/kdkjh@midks"kkf/kdkjh ------------------ | R17: 83900 | S17: 84800 | T17: 77700 | U17: 78000 | V17: 73400 | W17: 75400
A18: 2 | B18: lacaf/kr dkfeZd Jh--------------- | R18: 86400 | S18: 87300 | T18: 80000 | U18: 80300 | V18: 75600 | W18: 77700
A19: 3 | B19: ys[kk 'kk[kk | R19: 89000 | S19: 89900 | T19: 82400 | U19: 82700 | V19: 77900 | W19: 80000
A20: 4 | B20: jf{kr i=koyh | R20: 91700 | S20: 92600 | T20: 84900 | U20: 85200 | V20: 80200 | W20: 82400
M21: iz/kkukpk;Z | R21: 94500 | S21: 95400 | T21: 87400 | U21: 87800 | V21: 82600 | W21: 84900
M22: =M14 -> jktdh; mPp ek/;fed fo|ky;] xksj/kuiqjk rglhy vV# ftyk ckjka | R22: 97300 | S22: 98300 | T22: 90000 | U22: 90400 | V22: 85100 | W22: 87400
R23: 100200 | S23: 101200 | T23: 92700 | U23: 93100 | V23: 87700 | W23: 90000
R24: 103200 | S24: 104200 | T24: 95500 | U24: 95900 | V24: 90300 | W24: 92700
R25: 106300 | S25: 107300 | T25: 98400 | U25: 98800 | V25: 93000 | W25: 95500
R26: 109500 | S26: 110500 | T26: 101400 | U26: 101800 | V26: 95800 | W26: 98400
R27: 112800 | S27: 113800 | T27: 104400 | U27: 104900 | V27: 98700 | W27: 101400
R28: 116200 | S28: 117200 | T28: 107500 | U28: 108000 | V28: 101700 | W28: 104400
R29: 119700 | S29: 120700 | T29: 110700 | U29: 111200 | V29: 104800 | W29: 107500
R30: 123300 | S30: 124300 | T30: 114000 | U30: 114500 | V30: 107900 | W30: 110700
R31: 127000 | S31: 128000 | T31: 117400 | U31: 117900 | V31: 111100 | W31: 114000
R32: 130800 | S32: 131800 | T32: 120900 | U32: 121400 | V32: 114400 | W32: 117400
R33: 134700 | S33: 135800 | T33: 124500 | U33: 125000 | V33: 117800 | W33: 120900
R34: 138700 | S34: 139900 | T34: 128200 | U34: 128800 | V34: 121300 | W34: 124500
... R45: 192000 | S45: 193700 | T45: 177500 | U45: 178400 | V45: 167800 | W45: 172300

Sheet Lec. (2nd to 1st)
A1: =Master!D3 -> jktdh; mPp ek/;fed fo|ky;] xksj/kuiqjk rglhy vV# ftyk ckjka
A2: dzekad& | B2: =IF(Master!D4="","",Master!D4) -> jkmekfo@2023&24@122 | K2: fnukad& | L2: =IF(Master!G4="","",Master!G4) -> 12.01.2024
A3: dk;kZy; vkns'k
A4: =CONCATENATE(" ",Q4," ",'Lec. (2nd to 1st)'!R4," ",'Lec. (2nd to 1st)'!Q5," ",Master!O21," ",'Lec. (2nd to 1st)'!Q6," ",Master!P23," ",Q7) -> foRr ¼fu;e½ foHkkx jktLFkku ljdkj dh vf/klwpuk dzekad&,Q-15 ¼1½ ,Q-Mh@:Yl@2017 ikVZ fnukad 06-10-2023 ds }kjk jktLFkku flfoy lsok iqujhf{kr osru fu;e 2017 ds fu;e 14 }kjk ,e-,-lh-ih- ;kstuk ds izko/kku ykxw fd;s tkus ds vuqlj.k esa ,oa funs'kd egksn; chdkusj ds vkns'k dzekad& f'kfojk@ek/;@Mh&2@,lhih@2023&24@ fnukad& 23@12@2023 ds vuqlj.k esa jktLFkku v/khuLFk f'k{kk lsok laoxZ ds dkfeZd ftudh 20 o"kZ dh fu;fer lsok fnukad 31-03-23 rd ;k 31-03-23 ds ckn 20 o"khZ; fu;fer lsok iw.kZ djus ij vk'okflr dSfj;j izxfr ;kstuk ds vUrxZr r`rh; ,-lh-ih- is&ysoy&13 esa Lohd`r dh tk pqdh gS ,sls dkfeZdksa }kjk ,e-,-lh-ih- ;kstuk dk fodYi i= izLrqr djus ij jktLFkku flfoy lsok iqujhf{kr osru fu;e 2017 ds fu;e 14 ds fcUnq la[;k 02 AAA ds vuqlkj fnukad 01-04-2023 dks dk;Zjr dkfeZdksa dk iqu% osru fu;ru dj osru vkgfjr djus dh ,rn }kjk Lohd`fr iznku dh tkrh gS A | Q4: foRr ¼fu;e½ foHkkx jktLFkku ljdkj dh vf/klwpuk dzekad&,Q-15 ¼1½ ,Q-Mh@:Yl@2017 ikVZ fnukad 06-10-2023 ds }kjk jktLFkku flfoy lsok iqujhf{kr osru fu;e 2017 ds fu;e 14 }kjk ,e-,-lh-ih- ;kstuk ds izko/kku ykxw fd;s tkus ds vuqlj.k esa ,oa | R4: funs'kd egksn; chdkusj
A5: dz0la0 | B5: uke dkfeZd | C5: orZeku /kkfjr in | D5: r`rh; ,lhih Lohd`fr fnukad | E5: 01-04-23 dks izkIr is&ysoy | F5: 01-04-23 dks izkIr osru | H5: 01-07-23 dks izkIr osru | I5: ,e-,-lh-ih- ds rgr Lohd`r is ysoy | J5: ,e-,-lh-ih ds rgr fnukad 01-04-23 dks fu/kkZfjr osru | K5: 01-07-23 dks la'kksf/kr osru o`f} ij osru | L5: vkxkeh osru o`f} fnukad | Q5: ds vkns'k dzekad&
A6: =Master!A19 -> 1 | B6: =IF(A6="","",Master!B31) -> lqehr dqekj | C6: =IF(B6="","",Master!$B$23) -> izk/;kid | D6: =IF(Master!E14="","",Master!E31) -> 44189 | E6: =IF(D6="","",Master!F31) -> L-13 | F6: =IF(E6="","",Master!G31) -> 69200 | G6: =F6 -> 69200 | H6: =IF(G6="","",MROUND(ROUND(1.03*G6,0),100)) -> 71300 | I6: =IF(H6="","","L-14") -> L-14 | J6: =IF(I6="","",VLOOKUP(F6,$O$6:$Y$32,2,0)) -> 71100 | K6: =IF(J6="","",MROUND(ROUND(1.03*J6,0),100)) -> 73200 | L6: =IF(K6="","",Master!N31) -> 45474 | N6: L-14 | O6: 53100 | P6: 56100 | Q6: fnukad&
A7: =Master!A20 | B7: =IF(A7="","",Master!B32) | C7: =IF(B7="","",Master!$B$23) | D7: =IF(Master!E15="","",Master!E32) | E7: =IF(D7="","",Master!F32) | F7: =IF(E7="","",Master!G32) | G7: =F7 | H7: =IF(G7="","",MROUND(ROUND(1.03*G7,0),100)) | I7: =IF(H7="","","L-14") | J7: =IF(I7="","",VLOOKUP(F7,$O$6:$Y$32,2,0)) | K7: =IF(J7="","",MROUND(ROUND(1.03*J7,0),100)) | L7: =IF(K7="","",Master!N32) | N7: L-14 | O7: =MROUND(ROUND(1.03*O6,0),100) -> 54700 | P7: 56100 | Q7: ds vuqlj.k esa jktLFkku v/khuLFk f'k{kk lsok laoxZ ds dkfeZd ftudh 20 o"kZ dh fu;fer lsok fnukad 31-03-23 rd ;k 31-03-23 ds ckn 20 o"khZ; fu;fer lsok iw.kZ djus ij vk'okflr dSfj;j izxfr ;kstuk ds vUrxZr r`rh; ,-lh-ih- is&ysoy&13 esa Lohd`r dh tk pqdh gS ,sls dkfeZdksa }kjk ,e-,-lh-ih- ;kstuk dk fodYi i= izLrqr djus ij jktLFkku flfoy lsok iqujhf{kr osru fu;e 2017 ds fu;e 14 ds fcUnq la[;k 02 AAA ds vuqlkj fnukad 01-04-2023 dks dk;Zjr dkfeZdksa dk iqu% osru fu;ru dj osru vkgfjr djus dh ,rn }kjk Lohd`fr iznku dh tkrh gS A
A8: =Master!A21 | B8: =IF(A8="","",Master!B33) | C8: =IF(B8="","",Master!$B$23) | D8: =IF(Master!E16="","",Master!E33) | E8: =IF(D8="","",Master!F33) | F8: =IF(E8="","",Master!G33) | G8: =F8 | H8: =IF(G8="","",MROUND(ROUND(1.03*G8,0),100)) | I8: =IF(H8="","","L-14") | J8: =IF(I8="","",VLOOKUP(F8,$O$6:$Y$32,2,0)) | K8: =IF(J8="","",MROUND(ROUND(1.03*J8,0),100)) | L8: =IF(K8="","",Master!N33) | N8: L-14 | O8: =MROUND(ROUND(1.03*O7,0),100) -> 56300 | P8: 57800
N9: L-14 | O9: =MROUND(ROUND(1.03*O8,0),100) -> 58000 | P9: 59500
A10: =Master!A11 | B10: =IF(A10="","",Master!B35) | C10: =IF(B10="","",Master!$B$23) | D10: =IF(Master!E11="","",Master!E11) | E10: =IF(Master!F11="","",Master!F11) | F10: =IF(Master!G18="","",Master!G18) | G10: =F10 | H10: =IF(G10="","",MROUND(ROUND(1.03*G10,0),100)) | I10: =IF(Master!F11="","","L-14") | J10: =IF(A10="","",VLOOKUP(F10,$O$6:$Y$32,2,0)) | K10: =IF(G10="","",MROUND(ROUND(1.03*J10,0),100)) | L10: =IF(A10="","",Master!N11) | N10: L-14 | O10: =MROUND(ROUND(1.03*O9,0),100) -> 59700 | P10: 61300
N11: L-14 | O11: =MROUND(ROUND(1.03*O10,0),100) -> 61500 | P11: 63100
N12: L-14 | O12: =MROUND(ROUND(1.03*O11,0),100) -> 63300 | P12: 65000
J13: iz/kkukpk;Z | N13: L-14 | O13: =MROUND(ROUND(1.03*O12,0),100) -> 65200 | P13: 67000
J14: =A1 -> jktdh; mPp ek/;fed fo|ky;] xksj/kuiqjk rglhy vV# ftyk ckjka | N14: L-14 | O14: =MROUND(ROUND(1.03*O13,0),100) -> 67200 | P14: 69000
A15: =A2 -> dzekad& | B15: =B2 -> jkmekfo@2023&24@122 | K15: fnukad& | L15: =L2 -> 12.01.2024 | N15: L-14 | O15: =MROUND(ROUND(1.03*O14,0),100) -> 69200 | P15: 71100
A16: izfrfyih lwpukFkZ& | N16: L-14 | O16: =MROUND(ROUND(1.03*O15,0),100) -> 71300 | P16: 73200
A17: 1 | B17: dks"kkf/kdkjh@midks"kkf/kdkjh ------------------ | N17: L-14 | O17: =MROUND(ROUND(1.03*O16,0),100) -> 73400 | P17: 75400
A18: 2 | B18: lacaf/kr dkfeZd Jh--------------- | N18: L-14 | O18: =MROUND(ROUND(1.03*O17,0),100) -> 75600 | P18: 77700
A19: 3 | B19: ys[kk 'kk[kk | N19: L-14 | O19: =MROUND(ROUND(1.03*O18,0),100) -> 77900 | P19: 80000
A20: 4 | B20: jf{kr i=koyh | N20: L-14 | O20: =MROUND(ROUND(1.03*O19,0),100) -> 80200 | P20: 82400
J21: iz/kkukpk;Z | O21: =MROUND(ROUND(1.03*O20,0),100) -> 82600 | P21: 84900
J22: =J14 -> jktdh; mPp ek/;fed fo|ky;] xksj/kuiqjk rglhy vV# ftyk ckjka
O23: =MROUND(ROUND(1.03*O21,0),100) -> 85100 | P23: 87400
O24: =MROUND(ROUND(1.03*O23,0),100) -> 87700 | P24: 90000
O25: =MROUND(ROUND(1.03*O24,0),100) -> 90300 | P25: 92700
O26: =MROUND(ROUND(1.03*O25,0),100) -> 93000 | P26: 95500
O27: =MROUND(ROUND(1.03*O26,0),100) -> 95800 | P27: 98400
O28: =MROUND(ROUND(1.03*O27,0),100) -> 98700 | P28: 101400
O29: =MROUND(ROUND(1.03*O28,0),100) -> 101700 | P29: 104400
O30: =MROUND(ROUND(1.03*O29,0),100) -> 104800 | P30: =MROUND(ROUND(1.03*P29,0),100) -> 107500
O31: =MROUND(ROUND(1.03*O30,0),100) -> 107900 | P31: =MROUND(ROUND(1.03*P30,0),100) -> 110700
O32: =MROUND(ROUND(1.03*O31,0),100) -> 111100 | P32: =MROUND(ROUND(1.03*P31,0),100) -> 114000
O33: =MROUND(ROUND(1.03*O32,0),100) -> 114400 | P33: =MROUND(ROUND(1.03*P32,0),100) -> 117400
O34: =MROUND(ROUND(1.03*O33,0),100) -> 117800 | P34: =MROUND(ROUND(1.03*P33,0),100) -> 120900
O35: =MROUND(ROUND(1.03*O34,0),100) -> 121300 | P35: =MROUND(ROUND(1.03*P34,0),100) -> 124500
O36: =MROUND(ROUND(1.03*O35,0),100) -> 124900 | P36: =MROUND(ROUND(1.03*P35,0),100) -> 128200
O37: =MROUND(ROUND(1.03*O36,0),100) -> 128600 | P37: =MROUND(ROUND(1.03*P36,0),100) -> 132000
O38: =MROUND(ROUND(1.03*O37,0),100) -> 132500 | P38: =MROUND(ROUND(1.03*P37,0),100) -> 136000
O39: =MROUND(ROUND(1.03*O38,0),100) -> 136500 | P39: =MROUND(ROUND(1.03*P38,0),100) -> 140100
O40: =MROUND(ROUND(1.03*O39,0),100) -> 140600 | P40: =MROUND(ROUND(1.03*P39,0),100) -> 144300
O41: =MROUND(ROUND(1.03*O40,0),100) -> 144800 | P41: =MROUND(ROUND(1.03*P40,0),100) -> 148600
... O46: =MROUND(ROUND(1.03*O45,0),100) -> 167800 | P46: =MROUND(ROUND(1.03*P45,0),100) -> 172300

Sheet Lec. (2nd to 1st) & (3rd-1st)
A1: =Master!D3 -> jktdh; mPp ek/;fed fo|ky;] xksj/kuiqjk rglhy vV# ftyk ckjka
A2: dzekad& | B2: =IF(Master!D4="","",Master!D4) -> jkmekfo@2023&24@122 | M2: fnukad& | N2: =IF(Master!G4="","",Master!G4) -> 12.01.2024
A3: dk;kZy; vkns'k
A4: =CONCATENATE(" ",V4," ",'Lec. (2nd to 1st) & (3rd-1st)'!W4," ",'Lec. (2nd to 1st) & (3rd-1st)'!V5," ",Master!O21," ",'Lec. (2nd to 1st) & (3rd-1st)'!V6," ",Master!P23," ",V7) -> foRr ¼fu;e½ foHkkx jktLFkku ljdkj dh vf/klwpuk dzekad&,Q-15 ¼1½ ,Q-Mh@:Yl@2017 ikVZ fnukad 06-10-2023 ds }kjk jktLFkku flfoy lsok iqujhf{kr osru fu;e 2017 ds fu;e 14 }kjk ,e-,-lh-ih- ;kstuk ds izko/kku ykxw fd;s tkus ds vuqlj.k esa ,oa funs'kd egksn; chdkusj ds vkns'k dzekad& f'kfojk@ek/;@Mh&2@,lhih@2023&24@ fnukad& 23@12@2023 ds vuqlj.k esa jktLFkku v/khuLFk f'k{kk lsok laoxZ ds dkfeZd ftudh 20@30 o"kZ dh fu;fer lsok fnukad 31-03-23 rd ;k 31-03-23 ds ckn 20@30 o"khZ; fu;fer lsok iw.kZ djus ij vk'okflr dSfj;j izxfr ;kstuk ds vUrxZr r`rh; ,-lh-ih- is&ysoy&13@is&ysoy&15 esa Lohd`r dh tk pqdh gS ,sls dkfeZdksa }kjk ,e-,-lh-ih- ;kstuk dk fodYi i= izLrqr djus ij jktLFkku flfoy lsok iqujhf{kr osru fu;e 2017 ds fu;e 14 ds fcUnq la[;k 02 AAA ds vuqlkj fnukad 01-04-2023 dks dk;Zjr dkfeZdksa dk iqu% osru fu;ru dj osru vkgfjr djus dh ,rn }kjk Lohd`fr iznku dh tkrh gS A | V4: foRr ¼fu;e½ foHkkx jktLFkku ljdkj dh vf/klwpuk dzekad&,Q-15 ¼1½ ,Q-Mh@:Yl@2017 ikVZ fnukad 06-10-2023 ds }kjk jktLFkku flfoy lsok iqujhf{kr osru fu;e 2017 ds fu;e 14 }kjk ,e-,-lh-ih- ;kstuk ds izko/kku ykxw fd;s tkus ds vuqlj.k esa ,oa | W4: funs'kd egksn; chdkusj
A5: dz0la0 | B5: uke dkfeZd | C5: orZeku /kkfjr in | D5: r`rh; ,lhih Lohd`fr fnukad | E5: 01-04-23 dks izkIr is&ysoy | F5: 01-04-23 dks izkIr osru | H5: 01-07-23 dks izkIr osru | I5: ,e-,-lh-ih- ds rgr Lohd`r is ysoy | L5: ,e-,-lh-ih ds rgr fnukad 01-04-23 dks fu/kkZfjr osru | M5: 01-07-23 dks la'kksf/kr osru o`f} ij osru | N5: vkxkeh osru o`f} fnukad | V5: ds vkns'k dzekad&
A6: =Master!A36 -> 1 | B6: =IF(A6="","",Master!B36) -> lqehr dqekj | C6: =IF(B6="","",Master!$B$23) -> izk/;kid | D6: =IF(C6="","",Master!E36) -> 44189 | E6: =IF(D6="","",Master!F36) -> L-13 | F6: =IF(E6="","",Master!G36) -> 69200 | G6: =F6 -> 69200 | H6: =IF(G6="","",MROUND(ROUND(1.03*G6,0),100)) -> 71300 | I6: =IF(H6="","",IF(E6="L-13","L-14","L-16")) -> L-14 | J6: =IFERROR(VLOOKUP(F6,$T$6:$U$46,2,),"") -> 71100 | K6: =IFERROR(VLOOKUP(G6,$Q$6:$R$46,2,),"") | L6: =IF(E6="L-13",J6,K6) -> 71100 | M6: =IF(L6="","",MROUND(ROUND(1.03*L6,0),100)) -> 73200 | N6: =IF(M6="","",Master!N36) -> lsokfuo`r | Q6: 60700 | R6: 67300 | T6: 53100 | U6: 56100 | V6: fnukad&
A7: =Master!A37 | B7: =IF(A7="","",Master!B37) | C7: =IF(B7="","",Master!$B$23) | D7: =IF(C7="","",Master!E37) | E7: =IF(D7="","",Master!F37) | F7: =IF(E7="","",Master!G37) | G7: =F7 | H7: =IF(G7="","",MROUND(ROUND(1.03*G7,0),100)) | I7: =IF(H7="","",IF(E7="L-13","L-14","L-16")) | J7: =IFERROR(VLOOKUP(F7,$T$6:$U$46,2,),"") | K7: =IFERROR(VLOOKUP(G7,$Q$6:$R$46,2,),"") | L7: =IF(E7="L-13",J7,K7) | M7: =IF(L7="","",MROUND(ROUND(1.03*L7,0),100)) | N7: =IF(M7="","",Master!N37) | Q7: 62500 | R7: 67300 | T7: 54700 | U7: 56100 | V7: ds vuqlj.k esa jktLFkku v/khuLFk f'k{kk lsok laoxZ ds dkfeZd ftudh 20@30 o"kZ dh fu;fer lsok fnukad 31-03-23 rd ;k 31-03-23 ds ckn 20@30 o"khZ; fu;fer lsok iw.kZ djus ij vk'okflr dSfj;j izxfr ;kstuk ds vUrxZr r`rh; ,-lh-ih- is&ysoy&13@is&ysoy&15 esa Lohd`r dh tk pqdh gS ,sls dkfeZdksa }kjk ,e-,-lh-ih- ;kstuk dk fodYi i= izLrqr djus ij jktLFkku flfoy lsok iqujhf{kr osru fu;e 2017 ds fu;e 14 ds fcUnq la[;k 02 AAA ds vuqlkj fnukad 01-04-2023 dks dk;Zjr dkfeZdksa dk iqu% osru fu;ru dj osru vkgfjr djus dh ,rn }kjk Lohd`fr iznku dh tkrh gS A
A8: =Master!A38 | B8: =IF(A8="","",Master!B38) | C8: =IF(B8="","",Master!$B$23) | D8: =IF(C8="","",Master!E38) | E8: =IF(D8="","",Master!F38) | F8: =IF(E8="","",Master!G38) | G8: =F8 | H8: =IF(G8="","",MROUND(ROUND(1.03*G8,0),100)) | I8: =IF(H8="","",IF(E8="L-13","L-14","L-16")) | J8: =IFERROR(VLOOKUP(F8,$T$6:$U$46,2,),"") | K8: =IFERROR(VLOOKUP(G8,$Q$6:$R$46,2,),"") | L8: =IF(E8="L-13",J8,K8) | M8: =IF(L8="","",MROUND(ROUND(1.03*L8,0),100)) | N8: =IF(M8="","",Master!N38) | Q8: 64400 | R8: 67300 | T8: 56300 | U8: 57800
A9: =Master!A39 | B9: =IF(A9="","",Master!B39) | C9: =IF(B9="","",Master!$B$23) | D9: =IF(C9="","",Master!E39) | E9: =IF(D9="","",Master!F39) | F9: =IF(E9="","",Master!G39) | G9: =F9 | H9: =IF(G9="","",MROUND(ROUND(1.03*G9,0),100)) | I9: =IF(H9="","",IF(E9="L-13","L-14","L-16")) | J9: =IFERROR(VLOOKUP(F9,$T$6:$U$46,2,),"") | K9: =IFERROR(VLOOKUP(G9,$Q$6:$R$46,2,),"") | L9: =IF(E9="L-13",J9,K9) | M9: =IF(L9="","",MROUND(ROUND(1.03*L9,0),100)) | N9: =IF(M9="","",Master!N39) | Q9: 66300 | R9: 67300 | T9: 58000 | U9: 59500
A10: =Master!A40 | B10: =IF(A10="","",Master!B40) | C10: =IF(B10="","",Master!$B$23) | D10: =IF(C10="","",Master!E40) | E10: =IF(D10="","",Master!F40) | F10: =IF(E10="","",Master!G40) | G10: =F10 | H10: =IF(G10="","",MROUND(ROUND(1.03*G10,0),100)) | I10: =IF(H10="","",IF(E10="L-13","L-14","L-16")) | L10: =IF(I10="","",VLOOKUP(F10,$T$6:$AD$32,2,0)) | M10: =IF(L10="","",MROUND(ROUND(1.03*L10,0),100)) | N10: =IF(M10="","",Master!N40) | Q10: 68300 | R10: 69300 | T10: 59700 | U10: 61300
Q11: 70300 | R11: 71400 | T11: 61500 | U11: 63100
Q12: 72400 | R12: 73500 | T12: 63300 | U12: 65000
L13: iz/kkukpk;Z | Q13: 74600 | R13: 75700 | T13: 65200 | U13: 67000
L14: =A1 -> jktdh; mPp ek/;fed fo|ky;] xksj/kuiqjk rglhy vV# ftyk ckjka | Q14: 76800 | R14: 78000 | T14: 67200 | U14: 69000
A15: =A2 -> dzekad& | B15: =B2 -> jkmekfo@2023&24@122 | M15: fnukad& | N15: =N2 -> 12.01.2024 | Q15: 79100 | R15: 80300 | T15: 69200 | U15: 71100
A16: izfrfyih lwpukFkZ& | Q16: 81500 | R16: 82700 | T16: 71300 | U16: 73200
A17: 1 | B17: dks"kkf/kdkjh@midks"kkf/kdkjh ------------------ | Q17: 83900 | R17: 85200 | T17: 73400 | U17: 75400
A18: 2 | B18: lacaf/kr dkfeZd Jh--------------- | Q18: 86400 | R18: 87800 | T18: 75600 | U18: 77700
A19: 3 | B19: ys[kk 'kk[kk | Q19: 89000 | R19: 90400 | T19: 77900 | U19: 80000
A20: 4 | B20: jf{kr i=koyh | Q20: 91700 | R20: 93100 | T20: 80200 | U20: 82400
L21: iz/kkukpk;Z | Q21: 94500 | R21: 95900 | T21: 82600 | U21: 84900
L22: =L14 -> jktdh; mPp ek/;fed fo|ky;] xksj/kuiqjk rglhy vV# ftyk ckjka | Q22: 97300 | R22: 98800 | T22: 85100 | U22: 87400
Q23: 100200 | R23: 101800 | T23: 87700 | U23: 90000
Q24: 103200 | R24: 104900 | T24: 90300 | U24: 92700
Q25: 106300 | R25: 108000 | T25: 93000 | U25: 95500
Q26: 109500 | R26: 111200 | T26: 95800 | U26: 98400
Q27: 112800 | R27: 114500 | T27: 98700 | U27: 101400
Q28: 116200 | R28: 117900 | T28: 101700 | U28: 104400
Q29: 119700 | R29: 121400 | T29: 104800 | U29: 107500
Q30: 123300 | R30: 125000 | T30: 107900 | U30: 110700
Q31: 127000 | R31: 128800 | T31: 111100 | U31: 114000
Q32: 130800 | R32: 132700 | T32: 114400 | U32: 117400
Q33: 134700 | R33: 136700 | T33: 117800 | U33: 120900
Q34: 138700 | R34: 140800 | T34: 121300 | U34: 124500
... Q45: 192000 | R45: 195000 | T45: 167800 | U45: 172300

Sheet Vice-Principal
A1: =CONCATENATE(Master!C2,"] ",Master!F2,"] ",Master!P1," ",Master!P2) -> eq[; CykWd f'k{kk vf/kdkjh] lexz f'k{kk vV#] ftyk ckjka
A2: dzekad& | B2: =IF(Master!D4="","",Master!D4) -> jkmekfo@2023&24@122 | K2: fnukad& | L2: =IF(Master!G4="","",Master!G4) -> 12.01.2024
A3: dk;kZy; vkns'k
A4: =CONCATENATE(" ",T4," ",'Vice-Principal'!U4," ",'Vice-Principal'!T5," ",Master!O21," ",'Vice-Principal'!T6," ",Master!P23," ",T7) -> foRr ¼fu;e½ foHkkx jktLFkku ljdkj dh vf/klwpuk dzekad&,Q-15 ¼1½ ,Q-Mh@:Yl@2017 ikVZ fnukad 06-10-2023 ds }kjk jktLFkku flfoy lsok iqujhf{kr osru fu;e 2017 ds fu;e 14 }kjk ,e-,-lh-ih- ;kstuk ds izko/kku ykxw fd;s tkus ds vuqlj.k esa ,oa funs'kd egksn; chdkusj ds vkns'k dzekad& f'kfojk@ek/;@Mh&2@,lhih@2023&24@ fnukad& 23@12@2023 ds vuqlj.k esa jktLFkku vf/kuLFk f'k{kk lsok laoxZ ds dkfeZd ftudh 10@20 o"kZ dh fu;fer lsok fnukad 31-03-23 rd ;k 31-03-23 ds ckn 10@20 o"khZ; fu;fer lsok iw.kZ djus ij vk'okfUor dSfj;j izxfr ;kstuk ds vUrxZr r`rh; -lh-ih- is&ysoy&15 esa Lohd`r dh tk pqdh gS ,sls dkfeZdksa }kjk ,e-,-lh-ih- ;kstuk dk fodYi i= izLrqr djus ij jktLFkku flfoy lsok iqujhf{kr osru fu;e 2017 ds fu;e 14 ds fcUnq la[;k 02 AAA ds vuqlkj fnukad 01-04-2023 dks dk;Zjr dkfeZdksa dk iqu% osru fu;ru dj osru vkgfjr djus dh ,rn }kjk Lohd`fr iznku dh tkrh gS A | T4: foRr ¼fu;e½ foHkkx jktLFkku ljdkj dh vf/klwpuk dzekad&,Q-15 ¼1½ ,Q-Mh@:Yl@2017 ikVZ fnukad 06-10-2023 ds }kjk jktLFkku flfoy lsok iqujhf{kr osru fu;e 2017 ds fu;e 14 }kjk ,e-,-lh-ih- ;kstuk ds izko/kku ykxw fd;s tkus ds vuqlj.k esa ,oa | U4: funs'kd egksn; chdkusj
A5: dz0la0 | B5: uke dkfeZd | C5: orZeku /kkfjr in | D5: r`rh; ,lhih Lohd`fr fnukad | E5: 01-04-23 dks izkIr is&ysoy | F5: 01-04-23 dks izkIr osru | H5: 01-07-23 dks izkIr osru | I5: ,e-,-lh-ih- ds rgr Lohd`r is ysoy | J5: ,e-,-lh-ih ds rgr fnukad 01-04-23 dks fu/kkZfjr osru | K5: 01-07-23 dks la'kksf/kr osru o`f} ij osru | L5: vkxkeh osru o`f} fnukad | T5: ds vkns'k dzekad&
A6: =Master!A43 -> 1 | B6: =IF(A6="","",Master!B43) -> eqjyh/kj egkoj | C6: =IF(B6="","",Master!$B$41) -> mi&iz/kkukpk;Z | D6: =IF(A6="","",Master!E43) -> 44189 | E6: =IF(D6="","",Master!F43) -> L-15 | F6: =IF(E6="","",Master!G43) -> 66300 | G6: =F6 -> 66300 | H6: =IF(G6="","",MROUND(ROUND(1.03*G6,0),100)) -> 68300 | I6: =IF(H6="","","L-16") -> L-16 | J6: =IFERROR(VLOOKUP(G6,$O$6:$P$46,2,),"") -> 67300 | K6: =IF(J6="","",MROUND(ROUND(1.03*J6,0),100)) -> 69300 | L6: =IF(K6="","",Master!N43) -> 45474 | O6: 60700 | P6: 67300 | R6: 53100 | S6: 56100 | T6: fnukad&
A7: =Master!A44 | B7: =IF(A7="","",Master!B44) | C7: =IF(B7="","",Master!$B$41) | D7: =IF(A7="","",Master!E44) | E7: =IF(D7="","",Master!F44) | F7: =IF(E7="","",Master!G44) | G7: =F7 | H7: =IF(G7="","",MROUND(ROUND(1.03*G7,0),100)) | I7: =IF(H7="","","L-16") | J7: =IFERROR(VLOOKUP(G7,$O$6:$P$46,2,),"") | K7: =IF(J7="","",MROUND(ROUND(1.03*J7,0),100)) | L7: =IF(K7="","",Master!N44) | O7: 62500 | P7: 67300 | R7: 54700 | S7: 56100 | T7: ds vuqlj.k esa jktLFkku vf/kuLFk f'k{kk lsok laoxZ ds dkfeZd ftudh 10@20 o"kZ dh fu;fer lsok fnukad 31-03-23 rd ;k 31-03-23 ds ckn 10@20 o"khZ; fu;fer lsok iw.kZ djus ij vk'okfUor dSfj;j izxfr ;kstuk ds vUrxZr r`rh; -lh-ih- is&ysoy&15 esa Lohd`r dh tk pqdh gS ,sls dkfeZdksa }kjk ,e-,-lh-ih- ;kstuk dk fodYi i= izLrqr djus ij jktLFkku flfoy lsok iqujhf{kr osru fu;e 2017 ds fu;e 14 ds fcUnq la[;k 02 AAA ds vuqlkj fnukad 01-04-2023 dks dk;Zjr dkfeZdksa dk iqu% osru fu;ru dj osru vkgfjr djus dh ,rn }kjk Lohd`fr iznku dh tkrh gS A
A8: =Master!A45 | B8: =IF(A8="","",Master!B45) | C8: =IF(B8="","",Master!$B$41) | D8: =IF(A8="","",Master!E45) | E8: =IF(D8="","",Master!F45) | F8: =IF(E8="","",Master!G45) | G8: =F8 | H8: =IF(G8="","",MROUND(ROUND(1.03*G8,0),100)) | I8: =IF(H8="","","L-16") | J8: =IFERROR(VLOOKUP(G8,$O$6:$P$46,2,),"") | K8: =IF(J8="","",MROUND(ROUND(1.03*J8,0),100)) | L8: =IF(K8="","",Master!N45) | O8: 64400 | P8: 67300 | R8: 56300 | S8: 57800
A9: =Master!A46 | B9: =IF(A9="","",Master!B46) | C9: =IF(B9="","",Master!$B$41) | D9: =IF(A9="","",Master!E46) | E9: =IF(D9="","",Master!F46) | F9: =IF(E9="","",Master!G46) | G9: =F9 | H9: =IF(G9="","",MROUND(ROUND(1.03*G9,0),100)) | I9: =IF(H9="","","L-16") | J9: =IFERROR(VLOOKUP(G9,$O$6:$P$46,2,),"") | K9: =IF(J9="","",MROUND(ROUND(1.03*J9,0),100)) | L9: =IF(K9="","",Master!N46) | O9: 66300 | P9: 67300 | R9: 58000 | S9: 59500
B10: =IF(A10="","",Master!B47) | C10: =IF(B10="","",Master!$B$41) | D10: =IF(A10="","",Master!E47) | E10: =IF(D10="","",Master!F47) | F10: =IF(E10="","",Master!G47) | G10: =F10 | H10: =IF(G10="","",MROUND(ROUND(1.03*G10,0),100)) | I10: =IF(H10="","","L-16") | J10: =IFERROR(VLOOKUP(G10,$O$6:$P$46,2,),"") | K10: =IF(J10="","",MROUND(ROUND(1.03*J10,0),100)) | L10: =IF(K10="","",Master!N47) | O10: 68300 | P10: 69300 | R10: 59700 | S10: 61300
O11: 70300 | P11: 71400 | R11: 61500 | S11: 63100
O12: 72400 | P12: 73500 | R12: 63300 | S12: 65000
J13: =Master!C2 -> eq[; CykWd f'k{kk vf/kdkjh | O13: 74600 | P13: 75700 | R13: 65200 | S13: 67000
J14: =CONCATENATE(Master!F2,"] ",Master!P1," ",Master!P2) -> lexz f'k{kk vV#] ftyk ckjka | O14: 76800 | P14: 78000 | R14: 67200 | S14: 69000
A15: =A2 -> dzekad& | B15: =B2 -> jkmekfo@2023&24@122 | K15: fnukad& | L15: =L2 -> 12.01.2024 | O15: 79100 | P15: 80300 | R15: 69200 | S15: 71100
A16: izfrfyih lwpukFkZ& | O16: 81500 | P16: 82700 | R16: 71300 | S16: 73200
A17: 1 | B17: dks"kkf/kdkjh@midks"kkf/kdkjh ------------------ | O17: 83900 | P17: 85200 | R17: 73400 | S17: 75400
A18: 2 | B18: lacaf/kr dkfeZd Jh--------------- | O18: 86400 | P18: 87800 | R18: 75600 | S18: 77700
A19: 3 | B19: ys[kk 'kk[kk | O19: 89000 | P19: 90400 | R19: 77900 | S19: 80000
A20: 4 | B20: jf{kr i=koyh | O20: 91700 | P20: 93100 | R20: 80200 | S20: 82400
J21: =J13 -> eq[; CykWd f'k{kk vf/kdkjh | O21: 94500 | P21: 95900 | R21: 82600 | S21: 84900
J22: =J14 -> lexz f'k{kk vV#] ftyk ckjka | O22: 97300 | P22: 98800 | R22: 85100 | S22: 87400
O23: 100200 | P23: 101800 | R23: 87700 | S23: 90000
O24: 103200 | P24: 104900 | R24: 90300 | S24: 92700
O25: 106300 | P25: 108000 | R25: 93000 | S25: 95500
O26: 109500 | P26: 111200 | R26: 95800 | S26: 98400
O27: 112800 | P27: 114500 | R27: 98700 | S27: 101400
O28: 116200 | P28: 117900 | R28: 101700 | S28: 104400
O29: 119700 | P29: 121400 | R29: 104800 | S29: 107500
O30: 123300 | P30: 125000 | R30: 107900 | S30: 110700
O31: 127000 | P31: 128800 | R31: 111100 | S31: 114000
O32: 130800 | P32: 132700 | R32: 114400 | S32: 117400
O33: 134700 | P33: 136700 | R33: 117800 | S33: 120900
O34: 138700 | P34: 140800 | R34: 121300 | S34: 124500
... O45: 192000 | P45: 195000 | R45: 167800 | S45: 172300

Sheet Principal
A1: =CONCATENATE(Master!C2,"] ",Master!F2,"] ",Master!P1," ",Master!P2) -> eq[; CykWd f'k{kk vf/kdkjh] lexz f'k{kk vV#] ftyk ckjka
A2: dzekad& | B2: =IF(Master!D4="","",Master!D4) -> jkmekfo@2023&24@122 | M2: fnukad& | N2: =IF(Master!G4="","",Master!G4) -> 12.01.2024
A3: dk;kZy; vkns'k
A4: =CONCATENATE(" ",U4," ",Principal!V4," ",Principal!U5, Master!O21," ",Principal!U6," ",Master!P23," ",U7) -> foRr ¼fu;e½ foHkkx jktLFkku ljdkj dh vf/klwpuk dzekad&,Q-15 ¼1½ ,Q-Mh@:Yl@2017 ikVZ fnukad 06-10-2023 ds }kjk jktLFkku flfoy lsok iqujhf{kr osru fu;e 2017 ds fu;e 14 }kjk ,e-,-lh-ih- ;kstuk ds izko/kku ykxw fd;s tkus ds vuqlj.k esa ,oa funs'kd egksn; chdkusj ds vkns'k dzekad&f'kfojk@ek/;@Mh&2@,lhih@2023&24@ fnukad& 23@12@2023 ds vuqlj.k esa jktLFkku vf/kuLFk f'k{kk lsok laoxZ ds dkfeZd ftudh 20@30 o"kZ dh fu;fer lsok fnukad 31-03-23 rd ;k 31-03-23 ds ckn 20@30 o"khZ; fu;fer lsok iw.kZ djus ij vk'okflr dSfj;j izxfr ;kstuk ds vUrxZr r`rh; ,-lh-ih- is&ysoy&17@is&ysoy&18 esa Lohd`r dh tk pqdh gS ,sls dkfeZdksa }kjk ,e-,-lh-ih- ;kstuk dk fodYi i= izLrqr djus ij ,e-,-lh-ih- ;kstuk ds rgr 9@18@27 o"khZ; fu;fer lsok iw.kZ djus ij ns; fnukad 01-04-2023 ls is&ysoy&17@is&ysoy&18 esa jktLFkku flfoy lsok iqujhf{kr osru fu;e 2017 ds fu;e 14 ds fcUnq la[;k 02 AAA ds vuqlkj fnukad 01-04-2023 dks dk;Zjr dkfeZdksa dk iqu% osru fu;ru dj osru vkgfjr djus dh ,rn }kjk Lohd`fr iznku dh tkrh gS A | U4: foRr ¼fu;e½ foHkkx jktLFkku ljdkj dh vf/klwpuk dzekad&,Q-15 ¼1½ ,Q-Mh@:Yl@2017 ikVZ fnukad 06-10-2023 ds }kjk jktLFkku flfoy lsok iqujhf{kr osru fu;e 2017 ds fu;e 14 }kjk ,e-,-lh-ih- ;kstuk ds izko/kku ykxw fd;s tkus ds vuqlj.k esa ,oa | V4: funs'kd egksn; chdkusj
A5: dz0la0 | B5: uke dkfeZd | C5: orZeku /kkfjr in | D5: r`rh; ,lhih Lohd`fr fnukad | E5: 01-04-23 dks izkIr is&ysoy | F5: 01-04-23 dks izkIr osru | H5: 01-07-23 dks izkIr osru | I5: l-17 | J5: l-18 | K5: ,e-,-lh-ih- ds rgr Lohd`r is ysoy | L5: ,e-,-lh-ih ds rgr fnukad 01-04-23 dks fu/kkZfjr osru | M5: 01-07-23 dks la'kksf/kr osru o`f} ij osru | N5: vkxkeh osru o`f} fnukad | Q5: l-17 | S5: l-18 | U5: ds vkns'k dzekad&
A6: =Master!A49 -> 1 | B6: =IF(A6="","",Master!B49) -> jktsUnz dqekj fpRrkSMk | C6: =IF(B6="","",Master!$B$47) -> iz/kkukpk;Z | D6: =IF(A6="","",Master!E49) -> 44189 | E6: =IF(D6="","",Master!F49) -> L-17 | F6: =IF(E6="","",Master!G49) -> 104200 | G6: =F6 -> 104200 | H6: =IF(G6="","",MROUND(ROUND(1.03*G6,0),100)) -> 107300 | I6: =IFERROR(VLOOKUP(G6,Q6:R42,2,0),"") -> 104200 | J6: =IFERROR(VLOOKUP(H6,R6:S42,2,0),"") -> 113800 | K6: =IF(H6="","","L-17") -> L-17 | L6: =IF(K6="","",VLOOKUP(F6,$S$6:$AC$42,2,0)) -> 104200 | M6: =IF(L6="","",MROUND(ROUND(1.03*L6,0),100)) -> 107300 | N6: =IF(M6="","",Master!N49) -> lsokfuo`r | Q6: 71000 | R6: 71000 | S6: 75300 | T6: 75300 | U6: fnukad&
A7: =Master!A50 | B7: =IF(A7="","",Master!B50) | C7: =IF(B7="","",Master!$B$47) | D7: =IF(A7="","",Master!E50) | E7: =IF(D7="","",Master!F50) | F7: =IF(E7="","",Master!G50) | G7: =F7 | H7: =IF(G7="","",MROUND(ROUND(1.03*G7,0),100)) | K7: =IF(H7="","","L-17") | L7: =IF(K7="","",VLOOKUP(F7,$S$6:$AC$32,2,0)) | M7: =IF(L7="","",MROUND(ROUND(1.03*L7,0),100)) | N7: =IF(M7="","",Master!N50) | Q7: 73100 | R7: 73100 | S7: 77600 | T7: 77600 | U7: ds vuqlj.k esa jktLFkku vf/kuLFk f'k{kk lsok laoxZ ds dkfeZd ftudh 20@30 o"kZ dh fu;fer lsok fnukad 31-03-23 rd ;k 31-03-23 ds ckn 20@30 o"khZ; fu;fer lsok iw.kZ djus ij vk'okflr dSfj;j izxfr ;kstuk ds vUrxZr r`rh; ,-lh-ih- is&ysoy&17@is&ysoy&18 esa Lohd`r dh tk pqdh gS ,sls dkfeZdksa }kjk ,e-,-lh-ih- ;kstuk dk fodYi i= izLrqr djus ij ,e-,-lh-ih- ;kstuk ds rgr 9@18@27 o"khZ; fu;fer lsok iw.kZ djus ij ns; fnukad 01-04-2023 ls is&ysoy&17@is&ysoy&18 esa jktLFkku flfoy lsok iqujhf{kr osru fu;e 2017 ds fu;e 14 ds fcUnq la[;k 02 AAA ds vuqlkj fnukad 01-04-2023 dks dk;Zjr dkfeZdksa dk iqu% osru fu;ru dj osru vkgfjr djus dh ,rn }kjk Lohd`fr iznku dh tkrh gS A
Q8: 75300 | R8: 75300 | S8: 79900 | T8: 79900
Q9: 77600 | R9: 77600 | S9: 82300 | T9: 82300
A10: =Master!A11 | B10: =IF(A10="","",Master!B35) | C10: =IF(B10="","",Master!$B$23) | D10: =IF(Master!E11="","",Master!E11) | E10: =IF(Master!F11="","",Master!F11) | F10: =IF(Master!G18="","",Master!G18) | G10: =F10 | H10: =IF(G10="","",MROUND(ROUND(1.03*G10,0),100)) | K10: =IF(Master!F11="","","L-14") | L10: =IF(A10="","",VLOOKUP(F10,$S$6:$AC$32,2,0)) | M10: =IF(G10="","",MROUND(ROUND(1.03*L10,0),100)) | N10: =IF(A10="","",Master!N11) | Q10: 79900 | R10: 79900 | S10: 84800 | T10: 84800
Q11: 82300 | R11: 82300 | S11: 87300 | T11: 87300
Q12: 84800 | R12: 84800 | S12: 89900 | T12: 89900
L13: =Master!C2 -> eq[; CykWd f'k{kk vf/kdkjh | Q13: 87300 | R13: 87300 | S13: 92600 | T13: 92600
L14: =CONCATENATE(Master!F2,"] ",Master!P1," ",Master!P2) -> lexz f'k{kk vV#] ftyk ckjka | Q14: 89900 | R14: 89900 | S14: 95400 | T14: 95400
A15: =A2 -> dzekad& | B15: =B2 -> jkmekfo@2023&24@122 | M15: fnukad& | N15: =N2 -> 12.01.2024 | Q15: 92600 | R15: 92600 | S15: 98300 | T15: 98300
A16: izfrfyih lwpukFkZ& | Q16: 95400 | R16: 95400 | S16: 101200 | T16: 101200
A17: 1 | B17: dks"kkf/kdkjh@midks"kkf/kdkjh ------------------ | Q17: 98300 | R17: 98300 | S17: 104200 | T17: 104200
A18: 2 | B18: lacaf/kr dkfeZd Jh--------------- | Q18: 101200 | R18: 101200 | S18: 107300 | T18: 107300
A19: 3 | B19: ys[kk 'kk[kk | Q19: 104200 | R19: 104200 | S19: 110500 | T19: 110500
A20: 4 | B20: jf{kr i=koyh | Q20: 107300 | R20: 107300 | S20: 113800 | T20: 113800
L21: =L13 -> eq[; CykWd f'k{kk vf/kdkjh | Q21: 110500 | R21: 110500 | S21: 117200 | T21: 117200
L22: =L14 -> lexz f'k{kk vV#] ftyk ckjka | Q22: 113800 | R22: 113800 | S22: 120700 | T22: 120700
Q23: 117200 | R23: 117200 | S23: 124300 | T23: 124300
Q24: 120700 | R24: 120700 | S24: 128000 | T24: 128000
Q25: 124300 | R25: 124300 | S25: 131800 | T25: 131800
Q26: 128000 | R26: 128000 | S26: 135800 | T26: 135800
Q27: 131800 | R27: 131800 | S27: 139900 | T27: 139900
Q28: 135800 | R28: 135800 | S28: 144100 | T28: 144100
Q29: 139900 | R29: 139900 | S29: 148400 | T29: 148400
Q30: 144100 | R30: 144100 | S30: 152900 | T30: 152900
Q31: 148400 | R31: 148400 | S31: 157500 | T31: 157500
Q32: 152900 | R32: 152900 | S32: 162200 | T32: 162200
Q33: 157500 | R33: 157500 | S33: 167100 | T33: 167100
Q34: 162200 | R34: 162200 | S34: 172100 | T34: 172100
... Q39: 188100 | R39: 188100 | S39: 199500 | T39: 199500
Q40: 193700 | R40: 193700
Q41: 199500 | R41: 199500
Q42: 195000 | R42: 195000

Sheet Teacher-III(Elementary)
A1: =Master!D3 -> jktdh; mPp ek/;fed fo|ky;] xksj/kuiqjk rglhy vV# ftyk ckjka
A2: dzekad& | B2: =IF(Master!D4="","",Master!D4) -> jkmekfo@2023&24@122 | K2: fnukad& | L2: =IF(Master!G4="","",Master!G4) -> 12.01.2024
A3: dk;kZy; vkns'k
A4: =CONCATENATE(" ",Q4," ",'Teacher-III(Elementary)'!R4," ",'Teacher-III(Elementary)'!Q5," ",Master!O10," ",'Teacher-III(Elementary)'!Q6," ",Master!P13," ",Q7) -> foRr ¼fu;e½ foHkkx jktLFkku ljdkj dh vf/klwpuk dzekad&,Q-15 ¼1½ ,Q-Mh@:Yl@2017 ikVZ fnukad 06-10-2023 ds }kjk jktLFkku flfoy lsok iqujhf{kr osru fu;e 2017 ds fu;e 14 }kjk ,e0,0lh0ih ;kstuk ds izko/kku ykxw fd;s tkus ds vuqlj.k esa ,oa ftyk f'k{kk vf/kdkjh ek/;fed f'k{kk ds vkns'k dzekad& ftf'kv@eqek@ckjka@ys[kk&1@,e,lhih@2023&24@385 fnukad& 18@12@2023 ds vuqlj.k esa jktLFkku vf/kuLFk f'k{kk lsok laoxZ ds dkfeZd ftudh 27 o"kZ dh fu;fer lsok fnukad 31-03-23 rd ;k 31-03-23 ds ckn 27 o"khZ; fu;fer lsok iw.kZ djus ij vk'okfUor dSfj;j izxfr ;kstuk ds vUrxZr r`rh; ,0lh0ih0 is&ysoy&13 esa Lohd`r dh tk pqdh gS ,sls dkfeZdksa }kjk ,e0,0lh0ih ;kstuk dk fodYi i= izLrqr djus ij jktLFkku flfoy lsok iqujhf{kr osru fu;e 2017 ds fu;e 14 ds fcUnq la[;k 02 AAA ds vuqlkjfnukad 01-04-2023 dks dk;Zjr dkfeZdksa dk iqu% osru fu;ru dj osru vkgfjr djus dh ,rn }kjk Lohd`fr iznku dh tkrh gS A | Q4: foRr ¼fu;e½ foHkkx jktLFkku ljdkj dh vf/klwpuk dzekad&,Q-15 ¼1½ ,Q-Mh@:Yl@2017 ikVZ fnukad 06-10-2023 ds }kjk jktLFkku flfoy lsok iqujhf{kr osru fu;e 2017 ds fu;e 14 }kjk ,e0,0lh0ih ;kstuk ds izko/kku ykxw fd;s tkus ds vuqlj.k esa ,oa | R4: ftyk f'k{kk vf/kdkjh ek/;fed f'k{kk
A5: dz0la0 | B5: uke dkfeZd | C5: orZeku /kkfjr in | D5: r`rh; ,lhih Lohd`fr fnukad | E5: 01-04-23 dks izkIr is&ysoy | F5: 01-04-23 dks izkIr osru | H5: 01-07-23 dks izkIr osru | I5: ,e-,-lh-ih- ds rgr Lohd`r is ysoy | J5: ,e-,-lh-ih ds rgr fnukad 01-04-23 dks fu/kkZfjr osru | K5: 01-07-23 dks la'kksf/kr osru o`f} ij osru | L5: vkxkeh osru o`f} fnukad | Q5: ds vkns'k dzekad&
A6: =Master!A54 -> 1 | B6: =IF(A6="","",Master!B54) -> ijekuUn es?koky | C6: =IF(B6="","",Master!$B$5) -> v/;kid r`rh; JS.kh | D6: =IF(Master!E54="","",Master!E54) -> 44189 | E6: =IF(D6="","",Master!F54) -> L-13 | F6: =IF(E6="","",Master!G54) -> 69200 | G6: =F6 -> 69200 | H6: =IF(G6="","",MROUND(ROUND(1.03*G6,0),100)) -> 71300 | I6: =IF(H6="","","L-14") -> L-14 | J6: =IF(I6="","",VLOOKUP(F6,$O$6:$Y$32,2,0)) -> 71100 | K6: =IF(J6="","",MROUND(ROUND(1.03*J6,0),100)) -> 73200 | L6: =IF(K6="","",Master!N54) -> lsokfuo`r | N6: L-14 | O6: 53100 | P6: 56100 | Q6: fnukad&
A7: =Master!A55 | B7: =IF(A7="","",Master!B55) | C7: =IF(B7="","",Master!$B$5) | D7: =IF(Master!E55="","",Master!E55) | E7: =IF(D7="","",Master!F55) | F7: =IF(E7="","",Master!G55) | G7: =F7 | H7: =IF(G7="","",MROUND(ROUND(1.03*G7,0),100)) | I7: =IF(H7="","","L-14") | J7: =IF(I7="","",VLOOKUP(F7,$O$6:$Y$32,2,0)) | K7: =IF(J7="","",MROUND(ROUND(1.03*J7,0),100)) | L7: =IF(K7="","",Master!N55) | N7: L-14 | O7: =MROUND(ROUND(1.03*O6,0),100) -> 54700 | P7: 56100 | Q7: ds vuqlj.k esa jktLFkku vf/kuLFk f'k{kk lsok laoxZ ds dkfeZd ftudh 27 o"kZ dh fu;fer lsok fnukad 31-03-23 rd ;k 31-03-23 ds ckn 27 o"khZ; fu;fer lsok iw.kZ djus ij vk'okfUor dSfj;j izxfr ;kstuk ds vUrxZr r`rh; ,0lh0ih0 is&ysoy&13 esa Lohd`r dh tk pqdh gS ,sls dkfeZdksa }kjk ,e0,0lh0ih ;kstuk dk fodYi i= izLrqr djus ij jktLFkku flfoy lsok iqujhf{kr osru fu;e 2017 ds fu;e 14 ds fcUnq la[;k 02 AAA ds vuqlkjfnukad 01-04-2023 dks dk;Zjr dkfeZdksa dk iqu% osru fu;ru dj osru vkgfjr djus dh ,rn }kjk Lohd`fr iznku dh tkrh gS A
A8: =Master!A56 | B8: =IF(A8="","",Master!B56) | C8: =IF(B8="","",Master!$B$5) | D8: =IF(Master!E56="","",Master!E56) | E8: =IF(D8="","",Master!F56) | F8: =IF(E8="","",Master!G56) | G8: =F8 | H8: =IF(G8="","",MROUND(ROUND(1.03*G8,0),100)) | I8: =IF(H8="","","L-14") | J8: =IF(I8="","",VLOOKUP(F8,$O$6:$Y$32,2,0)) | K8: =IF(J8="","",MROUND(ROUND(1.03*J8,0),100)) | L8: =IF(K8="","",Master!N56) | N8: L-14 | O8: =MROUND(ROUND(1.03*O7,0),100) -> 56300 | P8: 57800
A9: =Master!A57 | B9: =IF(A9="","",Master!B57) | C9: =IF(B9="","",Master!$B$5) | D9: =IF(Master!E57="","",Master!E57) | E9: =IF(D9="","",Master!F57) | F9: =IF(E9="","",Master!G57) | G9: =F9 | H9: =IF(G9="","",MROUND(ROUND(1.03*G9,0),100)) | I9: =IF(H9="","","L-14") | J9: =IF(I9="","",VLOOKUP(F9,$O$6:$Y$32,2,0)) | K9: =IF(J9="","",MROUND(ROUND(1.03*J9,0),100)) | L9: =IF(K9="","",Master!N57) | N9: L-14 | O9: =MROUND(ROUND(1.03*O8,0),100) -> 58000 | P9: 59500
A10: =Master!A58 | B10: =IF(A10="","",Master!B58) | C10: =IF(B10="","",Master!$B$5) | D10: =IF(Master!E58="","",Master!E58) | E10: =IF(D10="","",Master!F58) | F10: =IF(E10="","",Master!G58) | G10: =F10 | H10: =IF(G10="","",MROUND(ROUND(1.03*G10,0),100)) | I10: =IF(H10="","","L-14") | J10: =IF(I10="","",VLOOKUP(F10,$O$6:$Y$32,2,0)) | K10: =IF(J10="","",MROUND(ROUND(1.03*J10,0),100)) | L10: =IF(K10="","",Master!N58) | N10: L-14 | O10: =MROUND(ROUND(1.03*O9,0),100) -> 59700 | P10: 61300
A11: =Master!A59 | B11: =IF(A11="","",Master!B59) | C11: =IF(B11="","",Master!$B$5) | D11: =IF(Master!E59="","",Master!E59) | E11: =IF(D11="","",Master!F59) | F11: =IF(E11="","",Master!G59) | G11: =F11 | H11: =IF(G11="","",MROUND(ROUND(1.03*G11,0),100)) | I11: =IF(H11="","","L-14") | J11: =IF(I11="","",VLOOKUP(F11,$O$6:$Y$32,2,0)) | K11: =IF(J11="","",MROUND(ROUND(1.03*J11,0),100)) | L11: =IF(K11="","",Master!N59) | N11: L-14 | O11: =MROUND(ROUND(1.03*O10,0),100) -> 61500 | P11: 63100
N12: L-14 | O12: =MROUND(ROUND(1.03*O11,0),100) -> 63300 | P12: 65000
J13: iz/kkukpk;Z | N13: L-14 | O13: =MROUND(ROUND(1.03*O12,0),100) -> 65200 | P13: 67000
J14: =A1 -> jktdh; mPp ek/;fed fo|ky;] xksj/kuiqjk rglhy vV# ftyk ckjka | N14: L-14 | O14: =MROUND(ROUND(1.03*O13,0),100) -> 67200 | P14: 69000
A15: =A2 -> dzekad& | B15: =B2 -> jkmekfo@2023&24@122 | K15: fnukad& | L15: =L2 -> 12.01.2024 | N15: L-14 | O15: =MROUND(ROUND(1.03*O14,0),100) -> 69200 | P15: 71100
A16: izfrfyih lwpukFkZ& | N16: L-14 | O16: =MROUND(ROUND(1.03*O15,0),100) -> 71300 | P16: 73200
A17: 1 | B17: dks"kkf/kdkjh@midks"kkf/kdkjh ------------------ | N17: L-14 | O17: =MROUND(ROUND(1.03*O16,0),100) -> 73400 | P17: 75400
A18: 2 | B18: lacaf/kr dkfeZd Jh--------------- | N18: L-14 | O18: =MROUND(ROUND(1.03*O17,0),100) -> 75600 | P18: 77700
A19: 3 | B19: ys[kk 'kk[kk | N19: L-14 | O19: =MROUND(ROUND(1.03*O18,0),100) -> 77900 | P19: 80000
A20: 4 | B20: jf{kr i=koyh | N20: L-14 | O20: =MROUND(ROUND(1.03*O19,0),100) -> 80200 | P20: 82400
J21: iz/kkukpk;Z | O21: =MROUND(ROUND(1.03*O20,0),100) -> 82600 | P21: 84900
J22: =J14 -> jktdh; mPp ek/;fed fo|ky;] xksj/kuiqjk rglhy vV# ftyk ckjka
O23: =MROUND(ROUND(1.03*O21,0),100) -> 85100 | P23: 87400
O24: =MROUND(ROUND(1.03*O23,0),100) -> 87700 | P24: 90000
O25: =MROUND(ROUND(1.03*O24,0),100) -> 90300 | P25: 92700
O26: =MROUND(ROUND(1.03*O25,0),100) -> 93000 | P26: 95500
O27: =MROUND(ROUND(1.03*O26,0),100) -> 95800 | P27: 98400
O28: =MROUND(ROUND(1.03*O27,0),100) -> 98700 | P28: 101400
O29: =MROUND(ROUND(1.03*O28,0),100) -> 101700 | P29: 104400
O30: =MROUND(ROUND(1.03*O29,0),100) -> 104800 | P30: =MROUND(ROUND(1.03*P29,0),100) -> 107500
O31: =MROUND(ROUND(1.03*O30,0),100) -> 107900 | P31: =MROUND(ROUND(1.03*P30,0),100) -> 110700
O32: =MROUND(ROUND(1.03*O31,0),100) -> 111100 | P32: =MROUND(ROUND(1.03*P31,0),100) -> 114000
O33: =MROUND(ROUND(1.03*O32,0),100) -> 114400 | P33: =MROUND(ROUND(1.03*P32,0),100) -> 117400
O34: =MROUND(ROUND(1.03*O33,0),100) -> 117800 | P34: =MROUND(ROUND(1.03*P33,0),100) -> 120900
O35: =MROUND(ROUND(1.03*O34,0),100) -> 121300 | P35: =MROUND(ROUND(1.03*P34,0),100) -> 124500
O36: =MROUND(ROUND(1.03*O35,0),100) -> 124900 | P36: =MROUND(ROUND(1.03*P35,0),100) -> 128200
O37: =MROUND(ROUND(1.03*O36,0),100) -> 128600 | P37: =MROUND(ROUND(1.03*P36,0),100) -> 132000
O38: =MROUND(ROUND(1.03*O37,0),100) -> 132500 | P38: =MROUND(ROUND(1.03*P37,0),100) -> 136000
O39: =MROUND(ROUND(1.03*O38,0),100) -> 136500 | P39: =MROUND(ROUND(1.03*P38,0),100) -> 140100
O40: =MROUND(ROUND(1.03*O39,0),100) -> 140600 | P40: =MROUND(ROUND(1.03*P39,0),100) -> 144300
O41: =MROUND(ROUND(1.03*O40,0),100) -> 144800 | P41: =MROUND(ROUND(1.03*P40,0),100) -> 148600
... O46: =MROUND(ROUND(1.03*O45,0),100) -> 167800 | P46: =MROUND(ROUND(1.03*P45,0),100) -> 172300

Sheet Option Form
A1: FORM OF OPTION FOR MACP ( MACP 2023 See Rules 14(6)) | M1: SELECT OPTION | N1: SELECT POST SHEET | O1: =IF(N2=P2,O2,IF(N2=P3,O3,IF(N2=P4,O3,IF(N2=P5,O4,IF(N2=P6,O4,IF(N2=P7,O4,IF(N2=P8,O5,IF(N2=P9,O6,IF(N2=P10,O2))))))))) -> Principal | Q1: 1 | R1: 2 | S1: 3 | T1: 4 | U1: 5
L2: =IF(Master!B7="","",Master!B7) -> ijekuUn es?koky | M2: 1 | N2: Principal | O2: Teacher-III | P2: Teacher-III | Q2: ='Teacher-III'!B6 -> ijekuUn es?koky | R2: ='Teacher-III'!B7 | S2: ='Teacher-III'!B8 | T2: ='Teacher-III'!B9 | U2: ='Teacher-III'!B10
A3: 1 | B3: I , | C3: =IF($M$2=1,VLOOKUP(N2,P2:U10,$N$5+1,0),"") -> jktsUnz dqekj fpRrkSMk | G3: hereby elect the scheme of Medified Assured | L3: =IF(Master!B8="","",Master!B8) | N3: SELECT S.N. | O3: Teacher-II | P3: Teacher-II (Direct Rec.) | Q3: ='Teacher-II (Direct Rec.)'!B6 -> eqjyh/kj egkoj | R3: ='Teacher-II (Direct Rec.)'!B7 | S3: ='Teacher-II (Direct Rec.)'!B8 | T3: ='Teacher-II (Direct Rec.)'!B9 | U3: ='Teacher-II (Direct Rec.)'!B10
B4: Career Progression (MACP) as per FD notification No. F.15(1)FD/Rules/2017 Pt. date: 06.10.2023 | L4: =IF(Master!B9="","",Master!B9) | O4: Lecturer | P4: Teacher-II (Promoted) | Q4: ='Teacher-II (Promoted)'!B6 -> ijekuUn es?koky | R4: ='Teacher-II (Promoted)'!B7 | S4: ='Teacher-II (Promoted)'!B8 | T4: ='Teacher-II (Promoted)'!B9 | U4: ='Teacher-II (Promoted)'!B10
B5: W.e.f. 1.4.2023. | L5: =IF(Master!B10="","",Master!B10) | N5: 1 | O5: Vice-Principal | P5: Lecturer (Direct) | Q5: ='Lecturer (Direct)'!B6 -> ckyfd'ku lsu | R5: ='Lecturer (Direct)'!B7 | S5: ='Lecturer (Direct)'!B8 | T5: ='Lecturer (Direct)'!B9 | U5: ='Lecturer (Direct)'!B10
L6: =IF(Master!B11="","",Master!B11) | O6: Principal | P6: Lec. (2nd to 1st) | Q6: ='Lec. (2nd to 1st)'!B6 -> lqehr dqekj | R6: ='Lec. (2nd to 1st)'!B7 | S6: ='Lec. (2nd to 1st)'!B8
A7: 2 | B7: I , | C7: =IF($M$2=2,VLOOKUP(N2,P2:U10,$N$5+1,0),"") | G7: hereby elect to continues Assurd Caree Progression | L7: =IF(Master!B14="","",Master!B14) -> eqjyh/kj egkoj | P7: Lec. (2nd to 1st) & (3rd-1st) | Q7: ='Lec. (2nd to 1st) & (3rd-1st)'!B6 -> lqehr dqekj | R7: ='Lec. (2nd to 1st) & (3rd-1st)'!B7 | S7: ='Lec. (2nd to 1st) & (3rd-1st)'!B8 | T7: ='Lec. (2nd to 1st) & (3rd-1st)'!B9 | U7: ='Lec. (2nd to 1st) & (3rd-1st)'!B10
B8: as per FD notification No.15(1)FD/Rules/2017Date 30.12.2017 and 09.12.2017, till the promotion | L8: =IF(Master!B15="","",Master!B15) | P8: Vice-Principal | Q8: ='Vice-Principal'!B6 -> eqjyh/kj egkoj | R8: ='Vice-Principal'!B7 | S8: ='Vice-Principal'!B8 | T8: ='Vice-Principal'!B9 | U8: ='Vice-Principal'!B10
B9: or next financial upgradation. | L9: =IF(Master!B16="","",Master!B16) | P9: Principal | Q9: =Principal!B6 -> jktsUnz dqekj fpRrkSMk | R9: =Principal!B7
L10: =IF(Master!B17="","",Master!B17) | P10: Teacher-III(Elementary) | Q10: ='Teacher-III(Elementary)'!B6 -> ijekuUn es?koky | R10: ='Teacher-III(Elementary)'!B7 | S10: ='Teacher-III(Elementary)'!B8 | T10: ='Teacher-III(Elementary)'!B9 | U10: ='Teacher-III(Elementary)'!B10
F11: Signature : | L11: =IF(Master!B19="","",Master!B19) -> ijekuUn es?koky
F12: Name : | H12: =IF($M$2=1,C3,C7) -> jktsUnz dqekj fpRrkSMk | L12: =IF(Master!B20="","",Master!B20)
F13: Designation : | H13: =O1 -> Principal | L13: =IF(Master!B21="","",Master!B21)
E14: Office in which employed : | H14: =Master!D3 -> jktdh; mPp ek/;fed fo|ky;] xksj/kuiqjk rglhy vV# ftyk ckjka | L14: =IF(Master!B22="","",Master!B22)
L15: =IF(Master!B25="","",Master!B25) -> ckyfd'ku lsu
D16: “UNDERTAKING” | L16: =IF(Master!B26="","",Master!B26)
B17: I hereby undertakes that in the event of my pay having been fixed in a manner contrary to the | L17: =IF(Master!B27="","",Master!B27)
A18: provisions contained in the Rules, as detected subsequently, any excess payment so made shall be refunded | L18: =IF(Master!B28="","",Master!B28)
A19: by me to the Governmet either by adjustment against future payments dues to me or otherwise. | L19: =IF(Master!B31="","",Master!B31) -> lqehr dqekj
L20: =IF(Master!B32="","",Master!B32) -> lqehr dqekj
F21: Signature : | L21: =IF(Master!B33="","",Master!B33) -> lqehr dqekj
F22: Name : | H22: =H12 -> jktsUnz dqekj fpRrkSMk | L22: =IF(Master!B36="","",Master!B36) -> lqehr dqekj
F23: Designation : | H23: =H13 -> Principal | L23: =IF(Master!B37="","",Master!B37)
E24: Office in which employed : | H24: =H14 -> jktdh; mPp ek/;fed fo|ky;] xksj/kuiqjk rglhy vV# ftyk ckjka | L24: =IF(Master!B38="","",Master!B38)
L25: =IF(Master!B39="","",Master!B39)
F26: Date/Place : | L26: =IF(Master!B40="","",Master!B40)
L27: =IF(Master!B43="","",Master!B43) -> eqjyh/kj egkoj
A28: ---------------------------------------------------------------------------------------------------------------------------- ------ | L28: =IF(Master!B44="","",Master!B44)
L29: =IF(Master!B45="","",Master!B45)
A30: Date : | L30: =IF(Master!B46="","",Master!B46)
L31: =IF(Master!B49="","",Master!B49) -> jktsUnz dqekj fpRrkSMk
F32: Received the above declaration | L32: =IF(Master!B50="","",Master!B50)
G33: Place Signature : | I33: ------------------------- | L33: =IF(Master!B54="","",Master!B54) -> ijekuUn es?koky
G34: (Head of the Office) | I34: ------------------------- | L34: =IF(Master!B55="","",Master!B55)
L35: =IF(Master!B56="","",Master!B56)
L36: =IF(Master!B57="","",Master!B57)
L37: =IF(Master!B58="","",Master!B58)
L38: =IF(Master!B59="","",Master!B59)

Sheet Arrear
A1: SELECT POST SHEET | G1: Teacher-II (Promoted) | M1: SELECT S.N. | P1: 1 | T1: DEC | U1: 2023
W2: =IF(G1=X4,W4,IF(G1=X5,W5,IF(G1=X6,W5,IF(G1=X7,W6,IF(G1=X8,W6,IF(G1=X9,W6,IF(G1=X10,W7,IF(G1=X11,W8,IF(G1=X12,W4))))))))) -> Teacher-II | AF2: old | AL2: new
A4: =Master!D3 -> jktdh; mPp ek/;fed fo|ky;] xksj/kuiqjk rglhy vV# ftyk ckjka | W4: Teacher-III | X4: Teacher-III | Y4: ='Teacher-III'!B6 -> ijekuUn es?koky | Z4: ='Teacher-III'!B7 | AA4: ='Teacher-III'!B8 | AB4: ='Teacher-III'!B9 | AC4: ='Teacher-III'!B10 | AE4: Teacher-III | AF4: ='Teacher-III'!F6 -> 69200 | AG4: ='Teacher-III'!F7 | AH4: ='Teacher-III'!F8 | AI4: ='Teacher-III'!F9 | AJ4: ='Teacher-III'!F10 | AL4: ='Teacher-III'!J6 -> 71100 | AM4: ='Teacher-III'!J7 | AN4: ='Teacher-III'!J8 | AO4: ='Teacher-III'!J9 | AP4: ='Teacher-III'!J10
I5: MACP ARREAR | L5: 45017 | N5: To | O5: =L7 -> 45291 | W5: Teacher-II | X5: Teacher-II (Direct Rec.) | Y5: ='Teacher-II (Direct Rec.)'!B6 -> eqjyh/kj egkoj | Z5: ='Teacher-II (Direct Rec.)'!B7 | AA5: ='Teacher-II (Direct Rec.)'!B8 | AB5: ='Teacher-II (Direct Rec.)'!B9 | AC5: ='Teacher-II (Direct Rec.)'!B10 | AE5: Teacher-II (Direct Rec.) | AF5: ='Teacher-II (Direct Rec.)'!F6 -> 69200 | AG5: ='Teacher-II (Direct Rec.)'!F7 | AH5: ='Teacher-II (Direct Rec.)'!F8 | AI5: ='Teacher-II (Direct Rec.)'!F9 | AJ5: ='Teacher-II (Direct Rec.)'!F10 | AL5: ='Teacher-II (Direct Rec.)'!J6 -> 71100 | AM5: ='Teacher-II (Direct Rec.)'!J7 | AN5: ='Teacher-II (Direct Rec.)'!J8 | AO5: ='Teacher-II (Direct Rec.)'!J9 | AP5: ='Teacher-II (Direct Rec.)'!J10
A6: Name Of Employee - | G6: =VLOOKUP(G1,X4:AC12,$P$1+1,0) -> ijekuUn es?koky | M6: Designation - | P6: =IF(G1=X4,W4,IF(G1=X5,W5,IF(G1=X6,W5,IF(G1=X7,W6,IF(G1=X8,W6,IF(G1=X9,W6,IF(G1=X10,W7,IF(G1=X11,W8,IF(G1=X12,W4))))))))) -> Teacher-II | W6: Lecturer | X6: Teacher-II (Promoted) | Y6: ='Teacher-II (Promoted)'!B6 -> ijekuUn es?koky | Z6: ='Teacher-II (Promoted)'!B7 | AA6: ='Teacher-II (Promoted)'!B8 | AB6: ='Teacher-II (Promoted)'!B9 | AC6: ='Teacher-II (Promoted)'!B10 | AE6: Teacher-II (Promoted) | AF6: ='Teacher-II (Promoted)'!F6 -> 69200 | AG6: ='Teacher-II (Promoted)'!F7 | AH6: ='Teacher-II (Promoted)'!F8 | AI6: ='Teacher-II (Promoted)'!F9 | AJ6: ='Teacher-II (Promoted)'!F10 | AL6: ='Teacher-II (Promoted)'!J6 -> 71100 | AM6: ='Teacher-II (Promoted)'!J7 | AN6: ='Teacher-II (Promoted)'!J8 | AO6: ='Teacher-II (Promoted)'!J9 | AP6: ='Teacher-II (Promoted)'!J10
B7: =DATEDIF(I7,L7,"m") -> 8 | C7: =B7+1 -> 9 | I7: 45017 | K7: =DATEVALUE(T1&U1) -> 45261 | L7: =EOMONTH(K7,0) -> 45291 | W7: Vice-Principal | X7: Lecturer (Direct) | Y7: ='Lecturer (Direct)'!B6 -> ckyfd'ku lsu | Z7: ='Lecturer (Direct)'!B7 | AA7: ='Lecturer (Direct)'!B8 | AB7: ='Lecturer (Direct)'!B9 | AC7: ='Lecturer (Direct)'!B10 | AE7: Lecturer (Direct) | AF7: ='Lecturer (Direct)'!F6 -> 74600 | AG7: ='Lecturer (Direct)'!F7 | AH7: ='Lecturer (Direct)'!F8 | AI7: ='Lecturer (Direct)'!F9 | AJ7: ='Lecturer (Direct)'!F10 | AL7: ='Lecturer (Direct)'!M6 -> 77600 | AM7: ='Lecturer (Direct)'!M7 | AN7: ='Lecturer (Direct)'!M8 | AO7: ='Lecturer (Direct)'!M9 | AP7: ='Lecturer (Direct)'!M10
W8: Principal | X8: Lec. (2nd to 1st) | Y8: ='Lec. (2nd to 1st)'!B6 -> lqehr dqekj | Z8: ='Lec. (2nd to 1st)'!B7 | AA8: ='Lec. (2nd to 1st)'!B8 | AC8: ='Lec. (2nd to 1st)'!B10 | AE8: Lec. (2nd to 1st) | AF8: ='Lec. (2nd to 1st)'!F6 -> 69200 | AG8: ='Lec. (2nd to 1st)'!F7 | AH8: ='Lec. (2nd to 1st)'!F8 | AJ8: ='Lec. (2nd to 1st)'!F10 | AL8: ='Lec. (2nd to 1st)'!J6 -> 71100 | AM8: ='Lec. (2nd to 1st)'!J7 | AN8: ='Lec. (2nd to 1st)'!J8
A9: SN | B9: MONTH | C9: MONTH | E9: DUE | J9: DRAWN | N9: DIFFERENT | R9: DEDUCTION | T9: TOTAL DED. | U9: NET AMOUNT | X9: Lec. (2nd to 1st) & (3rd-1st) | Y9: ='Lec. (2nd to 1st) & (3rd-1st)'!B6 -> lqehr dqekj | Z9: ='Lec. (2nd to 1st) & (3rd-1st)'!B7 | AA9: ='Lec. (2nd to 1st) & (3rd-1st)'!B8 | AB9: ='Lec. (2nd to 1st) & (3rd-1st)'!B9 | AC9: ='Lec. (2nd to 1st) & (3rd-1st)'!B10 | AE9: Lec. (2nd to 1st) & (3rd-1st) | AF9: ='Lec. (2nd to 1st) & (3rd-1st)'!F6 -> 69200 | AG9: ='Lec. (2nd to 1st) & (3rd-1st)'!F7 | AH9: ='Lec. (2nd to 1st) & (3rd-1st)'!F8 | AJ9: ='Lec. (2nd to 1st) & (3rd-1st)'!F10 | AL9: ='Lec. (2nd to 1st) & (3rd-1st)'!L6 -> 71100 | AM9: ='Lec. (2nd to 1st) & (3rd-1st)'!L7 | AN9: ='Lec. (2nd to 1st) & (3rd-1st)'!L8 | AO9: ='Lec. (2nd to 1st) & (3rd-1st)'!L9 | AP9: ='Lec. (2nd to 1st) & (3rd-1st)'!L10
E10: BASIC | F10: DA | G10: HRA | H10: TOTAL | J10: BASIC | K10: DA | L10: HRA | M10: TOTAL | N10: BASIC | O10: DA | P10: HRA | Q10: TOTAL | R10: GPF | S10: ITAX | X10: Vice-Principal | Y10: ='Vice-Principal'!B6 -> eqjyh/kj egkoj | Z10: ='Vice-Principal'!B7 | AA10: ='Vice-Principal'!B8 | AB10: ='Vice-Principal'!B9 | AC10: ='Vice-Principal'!B10 | AE10: Vice-Principal | AF10: ='Vice-Principal'!F6 -> 66300 | AG10: ='Vice-Principal'!F7 | AH10: ='Vice-Principal'!F8 | AI10: ='Vice-Principal'!F9 | AJ10: ='Vice-Principal'!F10 | AL10: ='Vice-Principal'!J6 -> 67300 | AM10: ='Vice-Principal'!J7 | AN10: ='Vice-Principal'!J8 | AO10: ='Vice-Principal'!J9 | AP10: ='Vice-Principal'!J10
A11: 1 | B11: =I7 -> 45017 | C11: =TEXT(B11,"mmm-yyyy") -> Apr-2023 | D11: =TEXT(C11,"mmm") -> Apr | E11: =IF(A11="","",VLOOKUP($G$1,$AE$4:$AP$12,$P$1+7,0)) -> 71100 | F11: =IF(E11="","",E11*42%) -> 29862 | G11: =IF(E11="","",E11*9%) -> 6399 | H11: =IF(E11="","",(SUM(E11:G11))) -> 107361 | J11: =IF(A11="","",VLOOKUP($G$1,$AE$4:$AP$12,$P$1+1,0)) -> 69200 | K11: =IF(E11="","",J11*42%) -> 29064 | L11: =IF(E11="","",J11*9%) -> 6228 | M11: =IF(E11="","",(SUM(J11:L11))) -> 104492 | N11: =IFERROR(MIN(E11-J11),"") -> 1900 | O11: =IFERROR(MIN(F11-K11),"") -> 798 | P11: =IFERROR(MIN(G11-L11),"") -> 171 | Q11: =IF(A11="","",(SUM(N11:P11))) -> 2869 | R11: =IF(N11="","",0) -> 0 | S11: 0 | T11: =IF(A11="","",SUM(R11:S11)) -> 0 | U11: =IF(A11="","",Q11-T11) -> 2869 | X11: Principal | Y11: =Principal!B6 -> jktsUnz dqekj fpRrkSMk | Z11: =Principal!B7 | AC11: =Principal!B10 | AE11: Principal | AF11: =Principal!F6 -> 104200 | AG11: =Principal!F7 | AL11: =Principal!L6 -> 104200 | AM11: =Principal!L7
A12: =IF(A11>=$C$7,"",(A11+1)) -> 2 | B12: =IF(A12="","",DATE(YEAR(B11),MONTH(B11)+1,DAY(B11))) -> 45047 | C12: =TEXT(B12,"mmm-yyyy") -> May-2023 | D12: =TEXT(C12,"mmm") -> May | E12: =IF(A12="","",E11) -> 71100 | F12: =IF(E12="","",E12*42%) -> 29862 | G12: =IF(E12="","",E12*9%) -> 6399 | H12: =IF(E12="","",(SUM(E12:G12))) -> 107361 | J12: =IF(A12="","",J11) -> 69200 | K12: =IF(E12="","",J12*42%) -> 29064 | L12: =IF(E12="","",J12*9%) -> 6228 | M12: =IF(E12="","",(SUM(J12:L12))) -> 104492 | N12: =IFERROR(MIN(E12-J12),"") -> 1900 | O12: =IFERROR(MIN(F12-K12),"") -> 798 | P12: =IFERROR(MIN(G12-L12),"") -> 171 | Q12: =IF(A12="","",(SUM(N12:P12))) -> 2869 | R12: =IF(N12="","",0) -> 0 | S12: 0 | T12: =IF(A12="","",SUM(R12:S12)) -> 0 | U12: =IF(A12="","",Q12-T12) -> 2869 | X12: Teacher-III(Elementary) | Y12: ='Teacher-III(Elementary)'!B6 -> ijekuUn es?koky | Z12: ='Teacher-III(Elementary)'!B7 | AA12: ='Teacher-III(Elementary)'!B8 | AB12: ='Teacher-III(Elementary)'!B9 | AC12: ='Teacher-III(Elementary)'!B10 | AD12: ='Teacher-III(Elementary)'!B11 | AE12: Teacher-III(Elementary) | AF12: ='Teacher-III(Elementary)'!F6 -> 69200 | AG12: ='Teacher-III(Elementary)'!F7 | AH12: ='Teacher-III(Elementary)'!F8 | AI12: ='Teacher-III(Elementary)'!F9 | AJ12: ='Teacher-III(Elementary)'!F10 | AL12: ='Teacher-III(Elementary)'!J6 -> 71100 | AM12: ='Teacher-III(Elementary)'!J7 | AN12: ='Teacher-III(Elementary)'!J8 | AO12: ='Teacher-III(Elementary)'!J9 | AP12: ='Teacher-III(Elementary)'!J10
A13: =IF(A12>=$C$7,"",(A12+1)) -> 3 | B13: =IF(A13="","",DATE(YEAR(B12),MONTH(B12)+1,DAY(B12))) -> 45078 | C13: =TEXT(B13,"mmm-yyyy") -> Jun-2023 | D13: =TEXT(C13,"mmm") -> Jun | E13: =IF(A13="","",E12) -> 71100 | F13: =IF(E13="","",E13*42%) -> 29862 | G13: =IF(E13="","",E13*9%) -> 6399 | H13: =IF(E13="","",(SUM(E13:G13))) -> 107361 | J13: =IF(A13="","",J12) -> 69200 | K13: =IF(E13="","",J13*42%) -> 29064 | L13: =IF(E13="","",J13*9%) -> 6228 | M13: =IF(E13="","",(SUM(J13:L13))) -> 104492 | N13: =IFERROR(MIN(E13-J13),"") -> 1900 | O13: =IFERROR(MIN(F13-K13),"") -> 798 | P13: =IFERROR(MIN(G13-L13),"") -> 171 | Q13: =IF(A13="","",(SUM(N13:P13))) -> 2869 | R13: =IF(N13="","",0) -> 0 | S13: 0 | T13: =IF(A13="","",SUM(R13:S13)) -> 0 | U13: =IF(A13="","",Q13-T13) -> 2869
A14: =IF(A13>=$C$7,"",(A13+1)) -> 4 | B14: =IF(A14="","",DATE(YEAR(B13),MONTH(B13)+1,DAY(B13))) -> 45108 | C14: =TEXT(B14,"mmm-yyyy") -> Jul-2023 | D14: =TEXT(C14,"mmm") -> Jul | E14: =IF(E13="","",MROUND(E13*1.03,100)) -> 73200 | F14: =IF(E14="","",E14*46%) -> 33672 | G14: =IF(E14="","",E14*9%) -> 6588 | H14: =IF(E14="","",(SUM(E14:G14))) -> 113460 | J14: =IF(J13="","",MROUND(J13*1.03,100)) -> 71300 | K14: =IF(E14="","",J14*46%) -> 32798 | L14: =IF(E14="","",J14*9%) -> 6417 | M14: =IF(E14="","",(SUM(J14:L14))) -> 110515 | N14: =IFERROR(MIN(E14-J14),"") -> 1900 | O14: =IFERROR(MIN(F14-K14),"") -> 874 | P14: =IFERROR(MIN(G14-L14),"") -> 171 | Q14: =IF(A14="","",(SUM(N14:P14))) -> 2945 | R14: =IF(N14="","",N14*4%) -> 76 | S14: 0 | T14: =IF(A14="","",SUM(R14:S14)) -> 76 | U14: =IF(A14="","",Q14-T14) -> 2869
A15: =IF(A14>=$C$7,"",(A14+1)) -> 5 | B15: =IF(A15="","",DATE(YEAR(B14),MONTH(B14)+1,DAY(B14))) -> 45139 | C15: =TEXT(B15,"mmm-yyyy") -> Aug-2023 | D15: =TEXT(C15,"mmm") -> Aug | E15: =IF(A15="","",E14) -> 73200 | F15: =IF(E15="","",E15*46%) -> 33672 | G15: =IF(E15="","",E15*9%) -> 6588 | H15: =IF(E15="","",(SUM(E15:G15))) -> 113460 | J15: =IF(A15="","",J14) -> 71300 | K15: =IF(E15="","",J15*46%) -> 32798 | L15: =IF(E15="","",J15*9%) -> 6417 | M15: =IF(E15="","",(SUM(J15:L15))) -> 110515 | N15: =IFERROR(MIN(E15-J15),"") -> 1900 | O15: =IFERROR(MIN(F15-K15),"") -> 874 | P15: =IFERROR(MIN(G15-L15),"") -> 171 | Q15: =IF(A15="","",(SUM(N15:P15))) -> 2945 | R15: =IF(N15="","",N15*4%) -> 76 | S15: 0 | T15: =IF(A15="","",SUM(R15:S15)) -> 76 | U15: =IF(A15="","",Q15-T15) -> 2869
A16: =IF(A15>=$C$7,"",(A15+1)) -> 6 | B16: =IF(A16="","",DATE(YEAR(B15),MONTH(B15)+1,DAY(B15))) -> 45170 | C16: =TEXT(B16,"mmm-yyyy") -> Sep-2023 | D16: =TEXT(C16,"mmm") -> Sep | E16: =IF(A16="","",E15) -> 73200 | F16: =IF(E16="","",E16*46%) -> 33672 | G16: =IF(E16="","",E16*9%) -> 6588 | H16: =IF(E16="","",(SUM(E16:G16))) -> 113460 | J16: =IF(A16="","",J15) -> 71300 | K16: =IF(E16="","",J16*46%) -> 32798 | L16: =IF(E16="","",J16*9%) -> 6417 | M16: =IF(E16="","",(SUM(J16:L16))) -> 110515 | N16: =IFERROR(MIN(E16-J16),"") -> 1900 | O16: =IFERROR(MIN(F16-K16),"") -> 874 | P16: =IFERROR(MIN(G16-L16),"") -> 171 | Q16: =IF(A16="","",(SUM(N16:P16))) -> 2945 | R16: =IF(N16="","",N16*4%) -> 76 | S16: 0 | T16: =IF(A16="","",SUM(R16:S16)) -> 76 | U16: =IF(A16="","",Q16-T16) -> 2869
A17: =IF(A16>=$C$7,"",(A16+1)) -> 7 | B17: =IF(A17="","",DATE(YEAR(B16),MONTH(B16)+1,DAY(B16))) -> 45200 | C17: =TEXT(B17,"mmm-yyyy") -> Oct-2023 | D17: =TEXT(C17,"mmm") -> Oct | E17: =IF(A17="","",E16) -> 73200 | F17: =IF(E17="","",E17*46%) -> 33672 | G17: =IF(E17="","",E17*9%) -> 6588 | H17: =IF(E17="","",(SUM(E17:G17))) -> 113460 | J17: =IF(A17="","",J16) -> 71300 | K17: =IF(E17="","",J17*46%) -> 32798 | L17: =IF(E17="","",J17*9%) -> 6417 | M17: =IF(E17="","",(SUM(J17:L17))) -> 110515 | N17: =IFERROR(MIN(E17-J17),"") -> 1900 | O17: =IFERROR(MIN(F17-K17),"") -> 874 | P17: =IFERROR(MIN(G17-L17),"") -> 171 | Q17: =IF(A17="","",(SUM(N17:P17))) -> 2945 | R17: =IF(N17="","",N17*4%) -> 76 | S17: 0 | T17: =IF(A17="","",SUM(R17:S17)) -> 76 | U17: =IF(A17="","",Q17-T17) -> 2869
A18: =IF(A17>=$C$7,"",(A17+1)) -> 8 | B18: =IF(A18="","",DATE(YEAR(B17),MONTH(B17)+1,DAY(B17))) -> 45231 | C18: =TEXT(B18,"mmm-yyyy") -> Nov-2023 | D18: =TEXT(C18,"mmm") -> Nov | E18: =IF(A18="","",E17) -> 73200 | F18: =IF(E18="","",E18*46%) -> 33672 | G18: =IF(E18="","",E18*9%) -> 6588 | H18: =IF(E18="","",(SUM(E18:G18))) -> 113460 | J18: =IF(A18="","",J17) -> 71300 | K18: =IF(E18="","",J18*46%) -> 32798 | L18: =IF(E18="","",J18*9%) -> 6417 | M18: =IF(E18="","",(SUM(J18:L18))) -> 110515 | N18: =IFERROR(MIN(E18-J18),"") -> 1900 | O18: =IFERROR(MIN(F18-K18),"") -> 874 | P18: =IFERROR(MIN(G18-L18),"") -> 171 | Q18: =IF(A18="","",(SUM(N18:P18))) -> 2945 | R18: =IF(N18="","",0) -> 0 | S18: 0 | T18: =IF(A18="","",SUM(R18:S18)) -> 0 | U18: =IF(A18="","",Q18-T18) -> 2945
A19: =IF(A18>=$C$7,"",(A18+1)) -> 9 | B19: =IF(A19="","",DATE(YEAR(B18),MONTH(B18)+1,DAY(B18))) -> 45261 | C19: =TEXT(B19,"mmm-yyyy") -> Dec-2023 | D19: =TEXT(C19,"mmm") -> Dec | E19: =IF(A19="","",E18) -> 73200 | F19: =IF(E19="","",E19*46%) -> 33672 | G19: =IF(E19="","",E19*9%) -> 6588 | H19: =IF(E19="","",(SUM(E19:G19))) -> 113460 | J19: =IF(A19="","",J18) -> 71300 | K19: =IF(E19="","",J19*46%) -> 32798 | L19: =IF(E19="","",J19*9%) -> 6417 | M19: =IF(E19="","",(SUM(J19:L19))) -> 110515 | N19: =IFERROR(MIN(E19-J19),"") -> 1900 | O19: =IFERROR(MIN(F19-K19),"") -> 874 | P19: =IFERROR(MIN(G19-L19),"") -> 171 | Q19: =IF(A19="","",(SUM(N19:P19))) -> 2945 | R19: =IF(N19="","",0) -> 0 | S19: 0 | T19: =IF(A19="","",SUM(R19:S19)) -> 0 | U19: =IF(A19="","",Q19-T19) -> 2945
A20: =IF(A19>=$C$7,"",(A19+1)) | B20: =IF(A20="","",DATE(YEAR(B19),MONTH(B19)+1,DAY(B19))) | C20: =TEXT(B20,"mmm-yyyy") | D20: =TEXT(C20,"mmm") | E20: =IF(A20="","",E19) | F20: =IF(E20="","",E20*46%) | G20: =IF(E20="","",E20*9%) | H20: =IF(E20="","",(SUM(E20:G20))) | J20: =IF(A20="","",J19) | K20: =IF(E20="","",J20*46%) | L20: =IF(E20="","",J20*9%) | M20: =IF(E20="","",(SUM(J20:L20))) | N20: =IFERROR(MIN(E20-J20),"") | O20: =IFERROR(MIN(F20-K20),"") | P20: =IFERROR(MIN(G20-L20),"") | Q20: =IF(A20="","",(SUM(N20:P20))) | R20: =IF(A20="","",0) | S20: =IF(C20="","",IF(C20="TOTAL",SUM(S$19:$S19),(ROUND(Q20*AI20,0)))) | T20: =IF(A20="","",SUM(R20:S20)) | U20: =IF(A20="","",Q20-T20)
A21: =IF(A20>=$C$7,"",(A20+1)) | B21: =IF(A21="","",DATE(YEAR(B20),MONTH(B20)+1,DAY(B20))) | C21: =TEXT(B21,"mmm-yyyy") | D21: =TEXT(C21,"mmm") | E21: =IF(A21="","",E20) | F21: =IF(E21="","",E21*46%) | G21: =IF(E21="","",E21*9%) | H21: =IF(E21="","",(SUM(E21:G21))) | J21: =IF(A21="","",J20) | K21: =IF(E21="","",J21*46%) | L21: =IF(E21="","",J21*9%) | M21: =IF(E21="","",(SUM(J21:L21))) | N21: =IFERROR(MIN(E21-J21),"") | O21: =IFERROR(MIN(F21-K21),"") | P21: =IFERROR(MIN(G21-L21),"") | Q21: =IF(A21="","",(SUM(N21:P21))) | R21: =IF(A21="","",0) | S21: =IF(C21="","",IF(C21="TOTAL",SUM(S$19:$S20),(ROUND(Q21*AI21,0)))) | T21: =IF(A21="","",SUM(R21:S21)) | U21: =IF(A21="","",Q21-T21)
A22: TOTAL | E22: =SUM(E11:E21) -> 652500 | F22: =SUM(F11:F21) -> 291618 | G22: =SUM(G11:G21) -> 58725 | H22: =IF(E22="","",(SUM(E22:G22))) -> 1002843 | J22: =SUM(J11:J21) -> 635400 | K22: =SUM(K11:K21) -> 283980 | L22: =SUM(L11:L21) -> 57186 | M22: =SUM(M11:M21) -> 976566 | N22: =SUM(N11:N21) -> 17100 | O22: =SUM(O11:O21) -> 7638 | P22: =SUM(P11:P21) -> 1539 | Q22: =SUM(Q11:Q21) -> 26277 | ... U22: =SUM(U11:U21) -> 25973
