Workbook

Sheet Master
B1: ,e-,-lh-ih- deZpkjh dk fooj.k ¼dsoy ysoy&13 ds dkfZeZdksa ds fy,½
B2: dk;kZy; dk uke | C2: jktdh; mPp ek/;fed fo|ky;] xksj/kuiqjk vV# ftyk ckjka | E2: vkns'kdrkZ vf/kdkjh o laHkkx@ ftyk | F2: la;qDr funs'kd Ldwy f'k{kk] dksVk laHkkx dksVk
B3: vkns'k dzekad | C3: lafuLdwf'k@dks@ys[kk&4@,elhih&dksVk laHkkx@2023&24@306 | E3: vkns'k fnukad | F3: 12@12@2023
B4: deZPkkjh dk uke | C4: orZeku in | D4: r`rh; ,lhih Lohd`fr fnukad | E4: fnuakd 01-04-23 dks izkIr is&ysoy | F4: fnuakd 01-04-23 dks izkIr osru
A5: =IF(B5="","",ROWS(C$13:$C13)) -> 1 | B5: ijekuUn es?koky | C5: o0 v/;kid | D5: 44735 | E5: L-13 | F5: 75600
A6: =IF(B6="","",ROWS(C$13:$C14))
A7: =IF(B7="","",ROWS(C$13:$C15))
A8: =IF(B8="","",ROWS(C$13:$C16))
A9: =IF(B9="","",ROWS(C$13:$C17))
A10: =IF(B10="","",ROWS(C$13:$C18))
A11: =IF(B11="","",ROWS(C$13:$C19))
A12: =IF(B12="","",ROWS(C$13:$C20))
A13: =IF(B13="","",ROWS(C$13:$C21))
A14: =IF(B14="","",ROWS(C$13:$C22))
A15: =IF(B15="","",ROWS(C$13:$C23))
A16: =IF(B16="","",ROWS(C$13:$C24))
A17: =IF(B17="","",ROWS(C$13:$C25))
... A19: =IF(B19="","",ROWS(C$13:$C27))

Sheet Office Order
A1: =Master!C2 -> jktdh; mPp ek/;fed fo|ky;] xksj/kuiqjk vV# ftyk ckjka
A2: dzekad& | K2: fnukad&
A3: dk;kZy; vkns'k | M3: foRr (fu;e)
A4: =CONCATENATE(M4," ",Master!F2,"] ",M5," ",Master!C3," ",M6," ",Master!F3," ",M7,) -> foRr ¼fu;e½ foHkkx jktLFkku ljdkj dh vf/klwpuk dzekad&,Q-15 ¼1½ ,Q-Mh@:Yl@2017 ikVZ fnukad 06-10-2023 ds }kjk jktLFkku flfoy lsok iqujhf{kr osru fu;e 2017 ds fu;e 14 }kjk ,e0,0lh0ih ;kstuk ds izko/kku ykxw fd;s tkus ds vuqlj.k esa ,o la;qDr funs'kd Ldwy f'k{kk] dksVk laHkkx dksVk] ds vkns'k dzekad& lafuLdwf'k@dks@ys[kk&4@,elhih&dksVk laHkkx@2023&24@306 fnukad& 12@12@2023 ds vuqlj.k esa jktLFkku vf/kuLFk f'k{kk lsok laoxZ ds dkfeZd ftudh 27 o"kZ dh fu;fer lsok fnukad 31-03-23 rd ;k 31-03-23 ds ckn 27 o"khZ; fu;fer lsok iw.kZ djus ij vk'okfUor dSfj;j izxfr ;kstuk ds vUrxZr r`rh; ,0lh0ih0 is&ysoy&13 esa Lohd`r dh tk pqdh gS ,sls dkfeZdksa }kjk ,e0,0lh0ih ;kstuk dk fodYi i= izLrqr djus ij jktLFkku flfoy lsok iqujhf{kr osru fu;e 2017 ds fu;e 14 ds fcUnq la[;k 02 AAA fnukad 01-04-2023 dks dk;Zjr dkfeZdksa dk iqu% osru fu;ru dj osru vkgfjr djus dh ,rn }kjk Lohd`fr iznku dh tkrh gS A | M4: foRr ¼fu;e½ foHkkx jktLFkku ljdkj dh vf/klwpuk dzekad&,Q-15 ¼1½ ,Q-Mh@:Yl@2017 ikVZ fnukad 06-10-2023 ds }kjk jktLFkku flfoy lsok iqujhf{kr osru fu;e 2017 ds fu;e 14 }kjk ,e0,0lh0ih ;kstuk ds izko/kku ykxw fd;s tkus ds vuqlj.k esa ,o
A5: dz0la0 | B5: uke dkfeZd | C5: orZeku /kkfjr in | D5: r`rh; ,lhih Lohd`fr fnukad | E5: fnuakd 01-04-23 dks izkIr is&ysoy | F5: 01-04-23 dks izkIr osru | H5: 01-07-23 dks izkIr osru | I5: ,e-,-lh-ih- ds rgr Lohd`r is ysoy | J5: ,e-,-lh-ih ds rgr fnukad 01-04-23 dks fu/kkZfjr osru | K5: 01-07-23 dks la'kksf/kr osru o`f} ij osru | L5: vkxkeh osru o`f} fnukad | M5: ds vkns'k dzekad&
A6: =Master!A5 -> 1 | B6: =IF(A6=1,Master!B5," ") -> ijekuUn es?koky | C6: =IF(A6=1,Master!C5," ") -> o0 v/;kid | D6: =IF(A6=1,Master!D5," ") -> 44735 | E6: =IF(A6=1,Master!E5," ") -> L-13 | F6: =IF(A6=1,Master!F5," ") -> 75600 | G6: =Master!F5 -> 75600 | H6: =MROUND(ROUND(1.03*G6,0),100) -> 77900 | I6: =IF(A6=1,X6," ") -> L-14 | J6: =IF(A6=1,Y6,0) -> 77700 | K6: =MROUND(ROUND(1.03*J6,0),100) -> 80000 | L6: 45474 | M6: fnukad& | X6: L-14 | Y6: =VLOOKUP(F6,$Z$5:$AA$32,2,0) -> 77700 | Z6: 53100 | AA6: 56100 | AB6: 56100
A7: =Master!A6 | B7: =IF(A7=2,Master!B6," ") | C7: =IF(A7=2,Master!C6," ") | D7: =IF(A7=2,Master!D6," ") | E7: =IF(A7=2,Master!E6," ") | F7: =IF(A7=2,Master!F6," ") | G7: =Master!F6 -> 0 | H7: =MROUND(ROUND(1.03*G7,0),100) -> 0 | I7: =IF(A7=2,X7," ") | J7: =IF(A7=2,Y7,0) -> 0 | K7: =MROUND(ROUND(1.03*J7,0),100) -> 0 | M7: ds vuqlj.k esa jktLFkku vf/kuLFk f'k{kk lsok laoxZ ds dkfeZd ftudh 27 o"kZ dh fu;fer lsok fnukad 31-03-23 rd ;k 31-03-23 ds ckn 27 o"khZ; fu;fer lsok iw.kZ djus ij vk'okfUor dSfj;j izxfr ;kstuk ds vUrxZr r`rh; ,0lh0ih0 is&ysoy&13 esa Lohd`r dh tk pqdh gS ,sls dkfeZdksa }kjk ,e0,0lh0ih ;kstuk dk fodYi i= izLrqr djus ij jktLFkku flfoy lsok iqujhf{kr osru fu;e 2017 ds fu;e 14 ds fcUnq la[;k 02 AAA fnukad 01-04-2023 dks dk;Zjr dkfeZdksa dk iqu% osru fu;ru dj osru vkgfjr djus dh ,rn }kjk Lohd`fr iznku dh tkrh gS A | X7: L-14 | Y7: =VLOOKUP(F7,$Z$5:$AA$32,2,0) -> #N/A | Z7: =MROUND(ROUND(1.03*Z6,0),100) -> 54700 | AA7: 56100 | AB7: =MROUND(ROUND(1.03*AB6,0),100) -> 57800
A8: =Master!A7 | B8: =IF(A8=3,Master!B7," ") | C8: =IF(A8=3,Master!C7," ") | D8: =IF(A8=3,Master!D7," ") | E8: =IF(A8=3,Master!E7," ") | F8: =IF(A8=3,Master!F7," ") | G8: =Master!F7 -> 0 | H8: =MROUND(ROUND(1.03*G8,0),100) -> 0 | I8: =IF(A8=3,X8," ") | J8: =IF(A8=3,Y8,0) -> 0 | K8: =MROUND(ROUND(1.03*J8,0),100) -> 0 | X8: L-14 | Y8: =VLOOKUP(F8,$Z$5:$AA$32,2,0) -> #N/A | Z8: =MROUND(ROUND(1.03*Z7,0),100) -> 56300 | AA8: 57800 | AB8: =MROUND(ROUND(1.03*AB7,0),100) -> 59500
A9: =Master!A8 | B9: =IF(A9=4,Master!B8," ") | C9: =IF(A9=4,Master!C8," ") | D9: =IF(A9=4,Master!D8," ") | E9: =IF(A9=4,Master!E8," ") | F9: =IF(A9=4,Master!F8," ") | G9: =Master!F8 -> 0 | H9: =MROUND(ROUND(1.03*G9,0),100) -> 0 | I9: =IF(A9=4,X9," ") | J9: =IF(A9=4,Y9,0) -> 0 | K9: =MROUND(ROUND(1.03*J9,0),100) -> 0 | X9: L-14 | Y9: =VLOOKUP(F9,$Z$5:$AA$32,2,0) -> #N/A | Z9: =MROUND(ROUND(1.03*Z8,0),100) -> 58000 | AA9: 59500 | AB9: =MROUND(ROUND(1.03*AB8,0),100) -> 61300
A10: =Master!A9 | B10: =IF(A10=5,Master!B9," ") | C10: =IF(A10=5,Master!C9," ") | D10: =IF(A10=5,Master!D9," ") | E10: =IF(A10=5,Master!E9," ") | F10: =IF(A10=5,Master!F9," ") | G10: =Master!F9 -> 0 | H10: =MROUND(ROUND(1.03*G10,0),100) -> 0 | I10: =IF(A10=5,X10," ") | J10: =IF(A10=5,Y10,0) -> 0 | K10: =MROUND(ROUND(1.03*J10,0),100) -> 0 | X10: L-14 | Y10: =VLOOKUP(F10,$Z$5:$AA$32,2,0) -> #N/A | Z10: =MROUND(ROUND(1.03*Z9,0),100) -> 59700 | AA10: 61300 | AB10: =MROUND(ROUND(1.03*AB9,0),100) -> 63100
A11: =Master!A10 | B11: =IF(A11=6,Master!B10," ") | C11: =IF(A11=6,Master!C10," ") | D11: =IF(A11=6,Master!D10," ") | E11: =IF(A11=6,Master!E10," ") | F11: =IF(A11=6,Master!F10," ") | G11: =Master!F10 -> 0 | H11: =MROUND(ROUND(1.03*G11,0),100) -> 0 | I11: =IF(A11=6,X11," ") | J11: =IF(A11=6,Y11,0) -> 0 | K11: =MROUND(ROUND(1.03*J11,0),100) -> 0 | X11: L-14 | Y11: =VLOOKUP(F11,$Z$5:$AA$32,2,0) -> #N/A | Z11: =MROUND(ROUND(1.03*Z10,0),100) -> 61500 | AA11: 63100 | AB11: =MROUND(ROUND(1.03*AB10,0),100) -> 65000
A12: =Master!A11 | B12: =IF(A12=7,Master!B11," ") | C12: =IF(A12=7,Master!C11," ") | D12: =IF(A12=7,Master!D11," ") | E12: =IF(A12=7,Master!E11," ") | F12: =IF(A12=7,Master!F11," ") | G12: =Master!F11 -> 0 | H12: =MROUND(ROUND(1.03*G12,0),100) -> 0 | I12: =IF(A12=7,X12," ") | J12: =IF(A12=7,Y12,0) -> 0 | K12: =MROUND(ROUND(1.03*J12,0),100) -> 0 | X12: L-14 | Y12: =VLOOKUP(F12,$Z$5:$AA$32,2,0) -> #N/A | Z12: =MROUND(ROUND(1.03*Z11,0),100) -> 63300 | AA12: 65000 | AB12: =MROUND(ROUND(1.03*AB11,0),100) -> 67000
A13: =Master!A12 | B13: =IF(A13=8,Master!B12," ") | C13: =IF(A13=8,Master!C12," ") | D13: =IF(A13=8,Master!D12," ") | E13: =IF(A13=8,Master!E12," ") | F13: =IF(A13=8,Master!F12," ") | G13: =Master!F12 -> 0 | H13: =MROUND(ROUND(1.03*G13,0),100) -> 0 | I13: =IF(A13=8,X13," ") | J13: =IF(A13=8,Y13,0) -> 0 | K13: =MROUND(ROUND(1.03*J13,0),100) -> 0 | X13: L-14 | Y13: =VLOOKUP(F13,$Z$5:$AA$32,2,0) -> #N/A | Z13: =MROUND(ROUND(1.03*Z12,0),100) -> 65200 | AA13: 67000 | AB13: =MROUND(ROUND(1.03*AB12,0),100) -> 69000
A14: =Master!A13 | B14: =IF(A14=9,Master!B13," ") | C14: =IF(A14=9,Master!C13," ") | D14: =IF(A14=9,Master!D13," ") | E14: =IF(A14=9,Master!E13," ") | F14: =IF(A14=9,Master!F13," ") | G14: =Master!F13 -> 0 | H14: =MROUND(ROUND(1.03*G14,0),100) -> 0 | I14: =IF(A14=9,X14," ") | J14: =IF(A14=9,Y14,0) -> 0 | K14: =MROUND(ROUND(1.03*J14,0),100) -> 0 | X14: L-14 | Y14: =VLOOKUP(F14,$Z$5:$AA$32,2,0) -> #N/A | Z14: =MROUND(ROUND(1.03*Z13,0),100) -> 67200 | AA14: 69000 | AB14: =MROUND(ROUND(1.03*AB13,0),100) -> 71100
A15: =Master!A14 | B15: =IF(A15=10,Master!B14," ") | C15: =IF(A15=10,Master!C14," ") | D15: =IF(A15=10,Master!D14," ") | E15: =IF(A15=10,Master!E14," ") | F15: =IF(A15=10,Master!F14," ") | G15: =Master!F14 -> 0 | H15: =MROUND(ROUND(1.03*G15,0),100) -> 0 | I15: =IF(A15=10,X15," ") | J15: =IF(A15=10,Y15,0) -> 0 | K15: =MROUND(ROUND(1.03*J15,0),100) -> 0 | X15: L-14 | Y15: =VLOOKUP(F15,$Z$5:$AA$32,2,0) -> #N/A | Z15: =MROUND(ROUND(1.03*Z14,0),100) -> 69200 | AA15: 71100 | AB15: =MROUND(ROUND(1.03*AB14,0),100) -> 73200
A16: =Master!A15 | B16: =IF(A16=11,Master!B15," ") | C16: =IF(A16=11,Master!C15," ") | D16: =IF(A16=11,Master!D15," ") | E16: =IF(A16=11,Master!E15," ") | F16: =IF(A16=11,Master!F15," ") | G16: =Master!F15 -> 0 | H16: =MROUND(ROUND(1.03*G16,0),100) -> 0 | I16: =IF(A16=11,X16," ") | J16: =IF(A16=11,Y16,0) -> 0 | K16: =MROUND(ROUND(1.03*J16,0),100) -> 0 | X16: L-14 | Y16: =VLOOKUP(F16,$Z$5:$AA$32,2,0) -> #N/A | Z16: =MROUND(ROUND(1.03*Z15,0),100) -> 71300 | AA16: 73200 | AB16: =MROUND(ROUND(1.03*AB15,0),100) -> 75400
A17: =Master!A16 | B17: =IF(A17=12,Master!B16," ") | C17: =IF(A17=12,Master!C16," ") | D17: =IF(A17=12,Master!D16," ") | E17: =IF(A17=12,Master!E16," ") | F17: =IF(A17=12,Master!F16," ") | G17: =Master!F16 -> 0 | H17: =MROUND(ROUND(1.03*G17,0),100) -> 0 | I17: =IF(A17=12,X17," ") | J17: =IF(A17=12,Y17,0) -> 0 | K17: =MROUND(ROUND(1.03*J17,0),100) -> 0 | X17: L-14 | Y17: =VLOOKUP(F17,$Z$5:$AA$32,2,0) -> #N/A | Z17: =MROUND(ROUND(1.03*Z16,0),100) -> 73400 | AA17: 75400 | AB17: =MROUND(ROUND(1.03*AB16,0),100) -> 77700
A18: =Master!A17 | B18: =IF(A18=13,Master!B17," ") | C18: =IF(A18=13,Master!C17," ") | D18: =IF(A18=13,Master!D17," ") | E18: =IF(A18=13,Master!E17," ") | F18: =IF(A18=13,Master!F17," ") | G18: =Master!F17 -> 0 | H18: =MROUND(ROUND(1.03*G18,0),100) -> 0 | I18: =IF(A18=14,X18," ") | J18: =IF(A18=13,Y18,0) -> 0 | K18: =MROUND(ROUND(1.03*J18,0),100) -> 0 | X18: L-14 | Y18: =VLOOKUP(F18,$Z$5:$AA$32,2,0) -> #N/A | Z18: =MROUND(ROUND(1.03*Z17,0),100) -> 75600 | AA18: 77700 | AB18: =MROUND(ROUND(1.03*AB17,0),100) -> 80000
A19: =Master!A18 | B19: =IF(A19=14,Master!B18," ") | C19: =IF(A19=14,Master!C18," ") | D19: =IF(A19=14,Master!D18," ") | E19: =IF(A19=14,Master!E18," ") | F19: =IF(A19=14,Master!F18," ") | G19: =Master!F18 -> 0 | H19: =MROUND(ROUND(1.03*G19,0),100) -> 0 | I19: =IF(A19=14,X19," ") | J19: =IF(A19=14,Y19,0) -> 0 | K19: =MROUND(ROUND(1.03*J19,0),100) -> 0 | X19: L-14 | Y19: =VLOOKUP(F19,$Z$5:$AA$32,2,0) -> #N/A | Z19: =MROUND(ROUND(1.03*Z18,0),100) -> 77900 | AA19: 80000 | AB19: =MROUND(ROUND(1.03*AB18,0),100) -> 82400
A20: =Master!A19 | B20: =IF(A20=15,Master!B19," ") | C20: =IF(A20=15,Master!C19," ") | D20: =IF(A20=15,Master!D19," ") | E20: =IF(A20=15,Master!E19," ") | F20: =IF(A20=15,Master!F19," ") | G20: =Master!F19 -> 0 | H20: =MROUND(ROUND(1.03*G20,0),100) -> 0 | I20: =IF(A20=15,X20," ") | J20: =IF(A20=15,Y20,0) -> 0 | K20: =MROUND(ROUND(1.03*J20,0),100) -> 0 | X20: L-14 | Y20: =VLOOKUP(F20,$Z$5:$AA$32,2,0) -> #N/A | Z20: =MROUND(ROUND(1.03*Z19,0),100) -> 80200 | AA20: 82400 | AB20: =MROUND(ROUND(1.03*AB19,0),100) -> 84900
Z21: =MROUND(ROUND(1.03*Z20,0),100) -> 82600 | AA21: 84900 | AB21: =MROUND(ROUND(1.03*AB20,0),100) -> 87400
J23: iz/kkukpk;Z | Z23: =MROUND(ROUND(1.03*Z21,0),100) -> 85100 | AA23: 87400 | AB23: =MROUND(ROUND(1.03*AB21,0),100) -> 90000
J24: =Master!C2 -> jktdh; mPp ek/;fed fo|ky;] xksj/kuiqjk vV# ftyk ckjka | Z24: =MROUND(ROUND(1.03*Z23,0),100) -> 87700 | AA24: 90000 | AB24: =MROUND(ROUND(1.03*AB23,0),100) -> 92700
A25: =A2 -> dzekad& | K25: fnukad& | Z25: =MROUND(ROUND(1.03*Z24,0),100) -> 90300 | AA25: 92700 | AB25: =MROUND(ROUND(1.03*AB24,0),100) -> 95500
A26: izfrfyih lwpukFkZ& | Z26: =MROUND(ROUND(1.03*Z25,0),100) -> 93000 | AA26: 95500 | AB26: =MROUND(ROUND(1.03*AB25,0),100) -> 98400
A27: 1 | B27: dks"kkf/kdkjh@midks"kkf/kdkjh ------------------ | Z27: =MROUND(ROUND(1.03*Z26,0),100) -> 95800 | AA27: 98400 | AB27: =MROUND(ROUND(1.03*AB26,0),100) -> 101400
A28: 2 | B28: lacaf/kr dkfeZd Jh--------------- | Z28: =MROUND(ROUND(1.03*Z27,0),100) -> 98700 | AA28: 101400 | AB28: =MROUND(ROUND(1.03*AB27,0),100) -> 104400
A29: 3 | B29: ys[kk 'kk[kk | Z29: =MROUND(ROUND(1.03*Z28,0),100) -> 101700 | AA29: 104400 | AB29: =MROUND(ROUND(1.03*AB28,0),100) -> 107500
A30: 4 | B30: jf{kr i=koyh | Z30: =MROUND(ROUND(1.03*Z29,0),100) -> 104800 | AA30: =MROUND(ROUND(1.03*AA29,0),100) -> 107500 | AB30: =MROUND(ROUND(1.03*AB29,0),100) -> 110700
J31: iz/kkukpk;Z | Z31: =MROUND(ROUND(1.03*Z30,0),100) -> 107900 | AA31: =MROUND(ROUND(1.03*AA30,0),100) -> 110700 | AB31: =MROUND(ROUND(1.03*AB30,0),100) -> 114000
J32: =J24 -> jktdh; mPp ek/;fed fo|ky;] xksj/kuiqjk vV# ftyk ckjka | Z32: =MROUND(ROUND(1.03*Z31,0),100) -> 111100 | AA32: =MROUND(ROUND(1.03*AA31,0),100) -> 114000 | AB32: =MROUND(ROUND(1.03*AB31,0),100) -> 117400
Z33: =MROUND(ROUND(1.03*Z32,0),100) -> 114400 | AA33: =MROUND(ROUND(1.03*AA32,0),100) -> 117400 | AB33: =MROUND(ROUND(1.03*AB32,0),100) -> 120900
Z34: =MROUND(ROUND(1.03*Z33,0),100) -> 117800 | AA34: =MROUND(ROUND(1.03*AA33,0),100) -> 120900 | AB34: =MROUND(ROUND(1.03*AB33,0),100) -> 124500
Z35: =MROUND(ROUND(1.03*Z34,0),100) -> 121300 | AA35: =MROUND(ROUND(1.03*AA34,0),100) -> 124500 | AB35: =MROUND(ROUND(1.03*AB34,0),100) -> 128200
Z36: =MROUND(ROUND(1.03*Z35,0),100) -> 124900 | AA36: =MROUND(ROUND(1.03*AA35,0),100) -> 128200 | AB36: =MROUND(ROUND(1.03*AB35,0),100) -> 132000
Z37: =MROUND(ROUND(1.03*Z36,0),100) -> 128600 | AA37: =MROUND(ROUND(1.03*AA36,0),100) -> 132000 | AB37: =MROUND(ROUND(1.03*AB36,0),100) -> 136000
Z38: =MROUND(ROUND(1.03*Z37,0),100) -> 132500 | AA38: =MROUND(ROUND(1.03*AA37,0),100) -> 136000 | AB38: =MROUND(ROUND(1.03*AB37,0),100) -> 140100
Z39: =MROUND(ROUND(1.03*Z38,0),100) -> 136500 | AA39: =MROUND(ROUND(1.03*AA38,0),100) -> 140100 | AB39: =MROUND(ROUND(1.03*AB38,0),100) -> 144300
Z40: =MROUND(ROUND(1.03*Z39,0),100) -> 140600 | AA40: =MROUND(ROUND(1.03*AA39,0),100) -> 144300 | AB40: =MROUND(ROUND(1.03*AB39,0),100) -> 148600
Z41: =MROUND(ROUND(1.03*Z40,0),100) -> 144800 | AA41: =MROUND(ROUND(1.03*AA40,0),100) -> 148600 | AB41: =MROUND(ROUND(1.03*AB40,0),100) -> 153100
Z42: =MROUND(ROUND(1.03*Z41,0),100) -> 149100 | AA42: =MROUND(ROUND(1.03*AA41,0),100) -> 153100 | AB42: =MROUND(ROUND(1.03*AB41,0),100) -> 157700
Z43: =MROUND(ROUND(1.03*Z42,0),100) -> 153600 | AA43: =MROUND(ROUND(1.03*AA42,0),100) -> 157700 | AB43: =MROUND(ROUND(1.03*AB42,0),100) -> 162400
Z44: =MROUND(ROUND(1.03*Z43,0),100) -> 158200 | AA44: =MROUND(ROUND(1.03*AA43,0),100) -> 162400 | AB44: =MROUND(ROUND(1.03*AB43,0),100) -> 167300
... Z46: =MROUND(ROUND(1.03*Z45,0),100) -> 167800 | AA46: =MROUND(ROUND(1.03*AA45,0),100) -> 172300 | AB46: =MROUND(ROUND(1.03*AB45,0),100) -> 177500
