Workbook
Name ANAND: 'MASTER SHEET'!#REF!
Name ANANDD: 'MASTER SHEET'!#REF!

Sheet MASTER SHEET
A1: इस टेबल को पूर्ण भरने के बाद D.A.ARREAR CALCULATION वाली शीट से प्रिंट निकालें।
A2: GOVT SR. SECONDARY SCHOOL, GORDHANPURA, ATRU (BARAN) | L2: SNA PORTAL - BUDGET CONTROL EXCEL SOFTWARE
A3: S.N. | B3: NAME OF EMPLOYEE | C3: DESIGNATION | D3: BASIC (01.07.2023) | E3: TAX % | F3: SURRENDER (July To Oct.) 2023 | G3: GPF/GPF 2004
A4: 1 | B4: PARMANAND MEGHWAL | C4: SR TEACHER | D4: 49300 | E4: 0 | F4: YES | G4: GPF 2004 | H4: YES | I4: GPF | L4: महत्वपूर्ण दिशा-निर्देश
A5: 2 | H5: NO | I5: GPF 2004 | L5: मास्टर शीट को सावधानी पूर्वक भर लें , इसके बाद D.A.ARREAR CALCULATION वाली शीट को प्रिंट कर लें । खाली Rows को Hide कर दें ताकि प्रिंट खाली नहीं आये।
A6: 3
A7: 4 | K7: RAJTEACHERS.NET
A8: 5 | K8: Rajasthan Teachers Web Portal Teachers Information And All Types OrdersRajasthan Govt Provide Here. If you have any query regrading Site, Advertisement and any other issue, please feel free to contact at rajteachers.net@gmail.com rajteachers.net Is A Teachers Web Portal In This About us Page I Showing Some Info. Provide information about teachers and all types of orders of the Rajasthan government here. We Provide All Types Info For All Rajasthan Teachers Orders, Latest Update News For Teachers, Office Order Formates, Income Tax Formates For Teachers, 7th Pay Commision Order & Formate, All types Leave Rules & Leave Applications, Paymanager & Pripaymanager Guide, All Types Excel Software & Excel Files For Teachers, Important Links For Teachers, Forms, Documents And Many More Info For All teachers and government jobs are about us later. Introduction My Self My Name Is Parmanand Meghwal I am A owner Of This Site I Will Provide All Info About. Rajasthan Teachers And Also Many Help For All Government Employee.
A9: 6
A10: 7
A11: 8
A12: 9
A13: 10
A14: 11
A15: 12
A16: 13
A17: 14
A18: 15
A19: 16
A20: 17
... A23: 20

Sheet D.A.ARREAR CALCULATION
A1: ='MASTER SHEET'!A2:F2 -> GOVT SR. SECONDARY SCHOOL, GORDHANPURA, ATRU (BARAN) | X1: खाली Rows को Hide कर दें।
A2: D.A. AREAR 01-07-2023 TO 31-10-2023 | T2: 6
A3: S.No. | B3: Employee Name | C3: Designation | E3: Month | F3: Due | I3: DRAWN | L3: DIFFERENCE | O3: DEDUCTION | R3: TOTAL DEDUCTION | S3: NET PAY AMMOUNT | T3: TV NUMBER & DATE
F4: BASIC | G4: DA | H4: TOTAL | I4: BASIC | J4: DA | K4: TOTAL | L4: BASIC | M4: DA | N4: TOTAL | O4: GPF | P4: GPF 2004 | Q4: I TAX
A5: 1 | B5: =VLOOKUP('D.A.ARREAR CALCULATION'!V5,'MASTER SHEET'!A3:F19,2,0) -> PARMANAND MEGHWAL | C5: =VLOOKUP('D.A.ARREAR CALCULATION'!V5,'MASTER SHEET'!A3:F19,3,0) -> SR TEACHER | D5: ='MASTER SHEET'!G4 -> GPF 2004 | E5: 45108 | F5: =VLOOKUP('D.A.ARREAR CALCULATION'!V5,'MASTER SHEET'!A3:G50,4,0) -> 49300 | G5: =ROUND(F5*46/100,0) -> 22678 | H5: =SUM(F5:G5) -> 71978 | I5: =VLOOKUP('D.A.ARREAR CALCULATION'!V5,'MASTER SHEET'!A3:G50,4,0) -> 49300 | J5: =ROUND(I5*42/100,0) -> 20706 | K5: =SUM(I5:J5) -> 70006 | L5: =F5-I5 -> 0 | M5: =G5-J5 -> 1972 | N5: =SUM(L5:M5) -> 1972 | O5: =IF($D$5="GPF",M5,0) -> 0 | P5: =IF($D$5="GPF 2004",N5,0) -> 1972 | Q5: 0 | R5: =SUM(O5:Q5) -> 1972 | S5: =N5-R5 -> 0 | V5: 1
E6: 45139 | F6: =F5 -> 49300 | G6: =ROUND(F6*46/100,0) -> 22678 | H6: =SUM(F6:G6) -> 71978 | I6: =I5 -> 49300 | J6: =ROUND(I6*42/100,0) -> 20706 | K6: =SUM(I6:J6) -> 70006 | L6: =F6-I6 -> 0 | M6: =G6-J6 -> 1972 | N6: =SUM(L6:M6) -> 1972 | O6: =IF($D$5="GPF",M6,0) -> 0 | P6: =IF($D$5="GPF 2004",N6,0) -> 1972 | Q6: 0 | R6: =SUM(O6:Q6) -> 1972 | S6: =N6-R6 -> 0 | V6: 2
E7: 45170 | F7: =F6 -> 49300 | G7: =ROUND(F7*46/100,0) -> 22678 | H7: =SUM(F7:G7) -> 71978 | I7: =I6 -> 49300 | J7: =ROUND(I7*42/100,0) -> 20706 | K7: =SUM(I7:J7) -> 70006 | L7: =F7-I7 -> 0 | M7: =G7-J7 -> 1972 | N7: =SUM(L7:M7) -> 1972 | O7: =IF($D$5="GPF",M7,0) -> 0 | P7: =IF($D$5="GPF 2004",N7,0) -> 1972 | Q7: 0 | R7: =SUM(O7:Q7) -> 1972 | S7: =N7-R7 -> 0
E8: 45200 | F8: =F6 -> 49300 | G8: =ROUND(F8*46/100,0) -> 22678 | H8: =SUM(F8:G8) -> 71978 | I8: =I6 -> 49300 | J8: =ROUND(I8*42/100,0) -> 20706 | K8: =SUM(I8:J8) -> 70006 | L8: =F8-I8 -> 0 | M8: =G8-J8 -> 1972 | N8: =SUM(L8:M8) -> 1972 | O8: =IF($D$5="GPF",M8,0) -> 0 | P8: =IF($D$5="GPF 2004",N8,0) -> 1972 | Q8: 0 | R8: =SUM(O8:Q8) -> 1972 | S8: =N8-R8 -> 0 | V8: 3
E9: Surrender | F9: =IF(U9="NO",0,IF(U9="YES",F5/2,0)) -> 24650 | G9: =ROUND(F9*46/100,0) -> 11339 | H9: =SUM(F9:G9) -> 35989 | I9: =IF(U9="NO",0,IF(U9="YES",F5/2,0)) -> 24650 | J9: =ROUND(I9*42/100,0) -> 10353 | K9: =SUM(I9:J9) -> 35003 | L9: =F9-I9 -> 0 | M9: =G9-J9 -> 986 | N9: =SUM(L9:M9) -> 986 | O9: =IF($D$5="GPF",M9,0) -> 0 | P9: =IF($D$5="GPF 2004",N9,0) -> 986 | Q9: 0 | R9: =SUM(O9:Q9) -> 986 | S9: =N9-R9 -> 0 | U9: ='MASTER SHEET'!F4 -> YES | V9: 4
A10: 2 | B10: =VLOOKUP('D.A.ARREAR CALCULATION'!V6,'MASTER SHEET'!A3:F19,2,0) -> 0 | C10: =VLOOKUP('D.A.ARREAR CALCULATION'!V6,'MASTER SHEET'!A3:F19,3,0) -> 0 | D10: ='MASTER SHEET'!G5 -> 0 | E10: 45108 | F10: =VLOOKUP('D.A.ARREAR CALCULATION'!V6,'MASTER SHEET'!A3:G50,4,0) -> 0 | G10: =ROUND(F10*46/100,0) -> 0 | H10: =SUM(F10:G10) -> 0 | I10: =VLOOKUP('D.A.ARREAR CALCULATION'!V6,'MASTER SHEET'!A3:F19,4,0) -> 0 | J10: =ROUND(I10*42/100,0) -> 0 | K10: =SUM(I10:J10) -> 0 | L10: =F10-I10 -> 0 | M10: =G10-J10 -> 0 | N10: =SUM(L10:M10) -> 0 | O10: =IF($D$10="GPF",M10,0) -> 0 | P10: =IF($D$10="GPF 2004",N10,0) -> 0 | Q10: 0 | R10: =SUM(O10:Q10) -> 0 | S10: =N10-R10 -> 0 | V10: 5
E11: 45139 | F11: =F10 -> 0 | G11: =ROUND(F11*46/100,0) -> 0 | H11: =SUM(F11:G11) -> 0 | I11: =I10 -> 0 | J11: =ROUND(I11*42/100,0) -> 0 | K11: =SUM(I11:J11) -> 0 | L11: =F11-I11 -> 0 | M11: =G11-J11 -> 0 | N11: =SUM(L11:M11) -> 0 | O11: =IF($D$10="GPF",M11,0) -> 0 | P11: =IF($D$10="GPF 2004",N11,0) -> 0 | Q11: 0 | R11: =SUM(O11:Q11) -> 0 | S11: =N11-R11 -> 0 | V11: 6
E12: 45170 | F12: =F11 -> 0 | G12: =ROUND(F12*46/100,0) -> 0 | H12: =SUM(F12:G12) -> 0 | I12: =I11 -> 0 | J12: =ROUND(I12*42/100,0) -> 0 | K12: =SUM(I12:J12) -> 0 | L12: =F12-I12 -> 0 | M12: =G12-J12 -> 0 | N12: =SUM(L12:M12) -> 0 | O12: =IF($D$10="GPF",M12,0) -> 0 | P12: =IF($D$10="GPF 2004",N12,0) -> 0 | Q12: 0 | R12: =SUM(O12:Q12) -> 0 | S12: =N12-R12 -> 0
E13: 45200 | F13: =F12 -> 0 | G13: =ROUND(F13*46/100,0) -> 0 | H13: =SUM(F13:G13) -> 0 | I13: =I12 -> 0 | J13: =ROUND(I13*42/100,0) -> 0 | K13: =SUM(I13:J13) -> 0 | L13: =F13-I13 -> 0 | M13: =G13-J13 -> 0 | N13: =SUM(L13:M13) -> 0 | O13: =IF($D$10="GPF",M13,0) -> 0 | P13: =IF($D$10="GPF 2004",N13,0) -> 0 | Q13: 0 | R13: =SUM(O13:Q13) -> 0 | S13: =N13-R13 -> 0 | V13: 7
E14: Surrender | F14: =IF(U14="NO",0,IF(U14="YES",F10/2,0)) -> 0 | G14: =ROUND(F14*46/100,0) -> 0 | H14: =SUM(F14:G14) -> 0 | I14: =IF(U14="NO",0,IF(U14="YES",F10/2,0)) -> 0 | J14: =ROUND(I14*42/100,0) -> 0 | K14: =SUM(I14:J14) -> 0 | L14: =F14-I14 -> 0 | M14: =G14-J14 -> 0 | N14: =SUM(L14:M14) -> 0 | O14: =IF($D$10="GPF",M14,0) -> 0 | P14: =IF($D$10="GPF 2004",N14,0) -> 0 | Q14: 0 | R14: =SUM(O14:Q14) -> 0 | S14: =N14-R14 -> 0 | U14: ='MASTER SHEET'!F5 -> 0 | V14: 8
A15: 3 | B15: =VLOOKUP('D.A.ARREAR CALCULATION'!V8,'MASTER SHEET'!A3:F19,2,0) -> 0 | C15: =VLOOKUP('D.A.ARREAR CALCULATION'!V8,'MASTER SHEET'!A3:F19,3,0) -> 0 | D15: ='MASTER SHEET'!G6 -> 0 | E15: 45108 | F15: =VLOOKUP('D.A.ARREAR CALCULATION'!V8,'MASTER SHEET'!A3:G50,4,0) -> 0 | G15: =ROUND(F15*46/100,0) -> 0 | H15: =SUM(F15:G15) -> 0 | I15: =VLOOKUP('D.A.ARREAR CALCULATION'!V8,'MASTER SHEET'!A3:F19,4,0) -> 0 | J15: =ROUND(I15*42/100,0) -> 0 | K15: =SUM(I15:J15) -> 0 | L15: =F15-I15 -> 0 | M15: =G15-J15 -> 0 | N15: =SUM(L15:M15) -> 0 | O15: =IF($D$15="GPF",M15,0) -> 0 | P15: =IF($D$15="GPF 2004",N15,0) -> 0 | Q15: 0 | R15: =SUM(O15:Q15) -> 0 | S15: =N15-R15 -> 0 | V15: 9
E16: 45139 | F16: =F15 -> 0 | G16: =ROUND(F16*46/100,0) -> 0 | H16: =SUM(F16:G16) -> 0 | I16: =I15 -> 0 | J16: =ROUND(I16*42/100,0) -> 0 | K16: =SUM(I16:J16) -> 0 | L16: =F16-I16 -> 0 | M16: =G16-J16 -> 0 | N16: =SUM(L16:M16) -> 0 | O16: =IF($D$15="GPF",M16,0) -> 0 | P16: =IF($D$15="GPF 2004",N16,0) -> 0 | Q16: 0 | R16: =SUM(O16:Q16) -> 0 | S16: =N16-R16 -> 0 | V16: 10
E17: 45170 | F17: =F16 -> 0 | G17: =ROUND(F17*46/100,0) -> 0 | H17: =SUM(F17:G17) -> 0 | I17: =I16 -> 0 | J17: =ROUND(I17*42/100,0) -> 0 | K17: =SUM(I17:J17) -> 0 | L17: =F17-I17 -> 0 | M17: =G17-J17 -> 0 | N17: =SUM(L17:M17) -> 0 | O17: =IF($D$15="GPF",M17,0) -> 0 | P17: =IF($D$15="GPF 2004",N17,0) -> 0 | Q17: 0 | R17: =SUM(O17:Q17) -> 0 | S17: =N17-R17 -> 0
E18: 45200 | F18: =F17 -> 0 | G18: =ROUND(F18*46/100,0) -> 0 | H18: =SUM(F18:G18) -> 0 | I18: =I17 -> 0 | J18: =ROUND(I18*42/100,0) -> 0 | K18: =SUM(I18:J18) -> 0 | L18: =F18-I18 -> 0 | M18: =G18-J18 -> 0 | N18: =SUM(L18:M18) -> 0 | O18: =IF($D$15="GPF",M18,0) -> 0 | P18: =IF($D$15="GPF 2004",N18,0) -> 0 | Q18: 0 | R18: =SUM(O18:Q18) -> 0 | S18: =N18-R18 -> 0 | V18: 11
E19: Surrender | F19: =IF(U19="NO",0,IF(U19="YES",F15/2,0)) -> 0 | G19: =ROUND(F19*46/100,0) -> 0 | H19: =SUM(F19:G19) -> 0 | I19: =IF(U19="NO",0,IF(U19="YES",F15/2,0)) -> 0 | J19: =ROUND(I19*42/100,0) -> 0 | K19: =SUM(I19:J19) -> 0 | L19: =F19-I19 -> 0 | M19: =G19-J19 -> 0 | N19: =SUM(L19:M19) -> 0 | O19: =IF($D$15="GPF",M19,0) -> 0 | P19: =IF($D$15="GPF 2004",N19,0) -> 0 | Q19: 0 | R19: =SUM(O19:Q19) -> 0 | S19: =N19-R19 -> 0 | U19: ='MASTER SHEET'!F6 -> 0 | V19: 12
A20: 4 | B20: =VLOOKUP('D.A.ARREAR CALCULATION'!V9,'MASTER SHEET'!A3:F19,2,0) -> 0 | C20: =VLOOKUP('D.A.ARREAR CALCULATION'!V9,'MASTER SHEET'!A3:F19,3,0) -> 0 | D20: ='MASTER SHEET'!G7 -> 0 | E20: 45108 | F20: =VLOOKUP('D.A.ARREAR CALCULATION'!V9,'MASTER SHEET'!A3:G50,4,0) -> 0 | G20: =ROUND(F20*46/100,0) -> 0 | H20: =SUM(F20:G20) -> 0 | I20: =VLOOKUP('D.A.ARREAR CALCULATION'!V9,'MASTER SHEET'!A3:F19,4,0) -> 0 | J20: =ROUND(I20*42/100,0) -> 0 | K20: =SUM(I20:J20) -> 0 | L20: =F20-I20 -> 0 | M20: =G20-J20 -> 0 | N20: =SUM(L20:M20) -> 0 | O20: =IF($D$20="GPF",M20,0) -> 0 | P20: =IF($D$20="GPF 2004",N20,0) -> 0 | Q20: 0 | R20: =SUM(O20:Q20) -> 0 | S20: =N20-R20 -> 0 | V20: 13
E21: 45139 | F21: =F20 -> 0 | G21: =ROUND(F21*46/100,0) -> 0 | H21: =SUM(F21:G21) -> 0 | I21: =I20 -> 0 | J21: =ROUND(I21*42/100,0) -> 0 | K21: =SUM(I21:J21) -> 0 | L21: =F21-I21 -> 0 | M21: =G21-J21 -> 0 | N21: =SUM(L21:M21) -> 0 | O21: =IF($D$20="GPF",M21,0) -> 0 | P21: =IF($D$20="GPF 2004",N21,0) -> 0 | Q21: 0 | R21: =SUM(O21:Q21) -> 0 | S21: =N21-R21 -> 0 | V21: 14
E22: 45170 | F22: =F21 -> 0 | G22: =ROUND(F22*46/100,0) -> 0 | H22: =SUM(F22:G22) -> 0 | I22: =I21 -> 0 | J22: =ROUND(I22*42/100,0) -> 0 | K22: =SUM(I22:J22) -> 0 | L22: =F22-I22 -> 0 | M22: =G22-J22 -> 0 | N22: =SUM(L22:M22) -> 0 | O22: =IF($D$20="GPF",M22,0) -> 0 | P22: =IF($D$20="GPF 2004",N22,0) -> 0 | Q22: 0 | R22: =SUM(O22:Q22) -> 0 | S22: =N22-R22 -> 0
E23: 45200 | F23: =F22 -> 0 | G23: =ROUND(F23*46/100,0) -> 0 | H23: =SUM(F23:G23) -> 0 | I23: =I22 -> 0 | J23: =ROUND(I23*42/100,0) -> 0 | K23: =SUM(I23:J23) -> 0 | L23: =F23-I23 -> 0 | M23: =G23-J23 -> 0 | N23: =SUM(L23:M23) -> 0 | O23: =IF($D$20="GPF",M23,0) -> 0 | P23: =IF($D$20="GPF 2004",N23,0) -> 0 | Q23: 0 | R23: =SUM(O23:Q23) -> 0 | S23: =N23-R23 -> 0 | V23: 15
E24: Surrender | F24: =IF(U24="NO",0,IF(U24="YES",F20/2,0)) -> 0 | G24: =ROUND(F24*46/100,0) -> 0 | H24: =SUM(F24:G24) -> 0 | I24: =IF(U24="NO",0,IF(U24="YES",F20/2,0)) -> 0 | J24: =ROUND(I24*42/100,0) -> 0 | K24: =SUM(I24:J24) -> 0 | L24: =F24-I24 -> 0 | M24: =G24-J24 -> 0 | N24: =SUM(L24:M24) -> 0 | O24: =IF($D$20="GPF",M24,0) -> 0 | P24: =IF($D$20="GPF 2004",N24,0) -> 0 | Q24: 0 | R24: =SUM(O24:Q24) -> 0 | S24: =N24-R24 -> 0 | U24: ='MASTER SHEET'!F7 -> 0 | V24: 16
A25: 5 | B25: =VLOOKUP('D.A.ARREAR CALCULATION'!V10,'MASTER SHEET'!A3:F19,2,0) -> 0 | C25: =VLOOKUP('D.A.ARREAR CALCULATION'!V10,'MASTER SHEET'!A3:F19,3,0) -> 0 | D25: ='MASTER SHEET'!G8 -> 0 | E25: 45108 | F25: =VLOOKUP('D.A.ARREAR CALCULATION'!V10,'MASTER SHEET'!A3:G50,4,0) -> 0 | G25: =ROUND(F25*46/100,0) -> 0 | H25: =SUM(F25:G25) -> 0 | I25: =VLOOKUP('D.A.ARREAR CALCULATION'!V10,'MASTER SHEET'!A7:F23,4,0) -> 0 | J25: =ROUND(I25*42/100,0) -> 0 | K25: =SUM(I25:J25) -> 0 | L25: =F25-I25 -> 0 | M25: =G25-J25 -> 0 | N25: =SUM(L25:M25) -> 0 | O25: =IF($D$25="GPF",M25,0) -> 0 | P25: =IF($D$25="GPF 2004",N25,0) -> 0 | Q25: 0 | R25: =SUM(O25:Q25) -> 0 | S25: =N25-R25 -> 0 | V25: 17
E26: 45139 | F26: =F25 -> 0 | G26: =ROUND(F26*46/100,0) -> 0 | H26: =SUM(F26:G26) -> 0 | I26: =I25 -> 0 | J26: =ROUND(I26*42/100,0) -> 0 | K26: =SUM(I26:J26) -> 0 | L26: =F26-I26 -> 0 | M26: =G26-J26 -> 0 | N26: =SUM(L26:M26) -> 0 | O26: =IF($D$25="GPF",M26,0) -> 0 | P26: =IF($D$25="GPF 2004",N26,0) -> 0 | Q26: 0 | R26: =SUM(O26:Q26) -> 0 | S26: =N26-R26 -> 0 | V26: 18
E27: 45170 | F27: =F26 -> 0 | G27: =ROUND(F27*46/100,0) -> 0 | H27: =SUM(F27:G27) -> 0 | I27: =I26 -> 0 | J27: =ROUND(I27*42/100,0) -> 0 | K27: =SUM(I27:J27) -> 0 | L27: =F27-I27 -> 0 | M27: =G27-J27 -> 0 | N27: =SUM(L27:M27) -> 0 | O27: =IF($D$25="GPF",M27,0) -> 0 | P27: =IF($D$25="GPF 2004",N27,0) -> 0 | Q27: 0 | R27: =SUM(O27:Q27) -> 0 | S27: =N27-R27 -> 0
E28: 45200 | F28: =F27 -> 0 | G28: =ROUND(F28*46/100,0) -> 0 | H28: =SUM(F28:G28) -> 0 | I28: =I27 -> 0 | J28: =ROUND(I28*42/100,0) -> 0 | K28: =SUM(I28:J28) -> 0 | L28: =F28-I28 -> 0 | M28: =G28-J28 -> 0 | N28: =SUM(L28:M28) -> 0 | O28: =IF($D$25="GPF",M28,0) -> 0 | P28: =IF($D$25="GPF 2004",N28,0) -> 0 | Q28: 0 | R28: =SUM(O28:Q28) -> 0 | S28: =N28-R28 -> 0 | V28: 19
E29: Surrender | F29: =IF(U29="NO",0,IF(U29="YES",F25/2,0)) -> 0 | G29: =ROUND(F29*46/100,0) -> 0 | H29: =SUM(F29:G29) -> 0 | I29: =IF(U29="NO",0,IF(U29="YES",F25/2,0)) -> 0 | J29: =ROUND(I29*42/100,0) -> 0 | K29: =SUM(I29:J29) -> 0 | L29: =F29-I29 -> 0 | M29: =G29-J29 -> 0 | N29: =SUM(L29:M29) -> 0 | O29: =IF($D$25="GPF",M29,0) -> 0 | P29: =IF($D$25="GPF 2004",N29,0) -> 0 | Q29: 0 | R29: =SUM(O29:Q29) -> 0 | S29: =N29-R29 -> 0 | U29: ='MASTER SHEET'!F8 -> 0 | V29: 20
A30: 6 | B30: =VLOOKUP('D.A.ARREAR CALCULATION'!V11,'MASTER SHEET'!A3:F19,2,0) -> 0 | C30: =VLOOKUP('D.A.ARREAR CALCULATION'!V11,'MASTER SHEET'!A3:F19,3,0) -> 0 | D30: ='MASTER SHEET'!G9 -> 0 | E30: 45108 | F30: =VLOOKUP('D.A.ARREAR CALCULATION'!V11,'MASTER SHEET'!A3:G50,4,0) -> 0 | G30: =ROUND(F30*46/100,0) -> 0 | H30: =SUM(F30:G30) -> 0 | I30: =VLOOKUP('D.A.ARREAR CALCULATION'!V11,'MASTER SHEET'!A7:F23,4,0) -> 0 | J30: =ROUND(I30*42/100,0) -> 0 | K30: =SUM(I30:J30) -> 0 | L30: =F30-I30 -> 0 | M30: =G30-J30 -> 0 | N30: =SUM(L30:M30) -> 0 | O30: =IF($D$30="GPF",M30,0) -> 0 | P30: =IF($D$30="GPF 2004",N30,0) -> 0 | Q30: 0 | R30: =SUM(O30:Q30) -> 0 | S30: =N30-R30 -> 0 | V30: 21
E31: 45139 | F31: =F30 -> 0 | G31: =ROUND(F31*46/100,0) -> 0 | H31: =SUM(F31:G31) -> 0 | I31: =I30 -> 0 | J31: =ROUND(I31*42/100,0) -> 0 | K31: =SUM(I31:J31) -> 0 | L31: =F31-I31 -> 0 | M31: =G31-J31 -> 0 | N31: =SUM(L31:M31) -> 0 | O31: =IF($D$30="GPF",M31,0) -> 0 | P31: =IF($D$30="GPF 2004",N31,0) -> 0 | Q31: 0 | R31: =SUM(O31:Q31) -> 0 | S31: =N31-R31 -> 0 | V31: 22
E32: 45170 | F32: =F31 -> 0 | G32: =ROUND(F32*46/100,0) -> 0 | H32: =SUM(F32:G32) -> 0 | I32: =I31 -> 0 | J32: =ROUND(I32*42/100,0) -> 0 | K32: =SUM(I32:J32) -> 0 | L32: =F32-I32 -> 0 | M32: =G32-J32 -> 0 | N32: =SUM(L32:M32) -> 0 | O32: =IF($D$30="GPF",M32,0) -> 0 | P32: =IF($D$30="GPF 2004",N32,0) -> 0 | Q32: 0 | R32: =SUM(O32:Q32) -> 0 | S32: =N32-R32 -> 0
E33: 45200 | F33: =F32 -> 0 | G33: =ROUND(F33*46/100,0) -> 0 | H33: =SUM(F33:G33) -> 0 | I33: =I32 -> 0 | J33: =ROUND(I33*42/100,0) -> 0 | K33: =SUM(I33:J33) -> 0 | L33: =F33-I33 -> 0 | M33: =G33-J33 -> 0 | N33: =SUM(L33:M33) -> 0 | O33: =IF($D$30="GPF",M33,0) -> 0 | P33: =IF($D$30="GPF 2004",N33,0) -> 0 | Q33: 0 | R33: =SUM(O33:Q33) -> 0 | S33: =N33-R33 -> 0 | V33: 23
E34: Surrender | F34: =IF(U34="NO",0,IF(U34="YES",F30/2,0)) -> 0 | G34: =ROUND(F34*46/100,0) -> 0 | H34: =SUM(F34:G34) -> 0 | I34: =IF(U34="NO",0,IF(U34="YES",F30/2,0)) -> 0 | J34: =ROUND(I34*42/100,0) -> 0 | K34: =SUM(I34:J34) -> 0 | L34: =F34-I34 -> 0 | M34: =G34-J34 -> 0 | N34: =SUM(L34:M34) -> 0 | O34: =IF($D$30="GPF",M34,0) -> 0 | P34: =IF($D$30="GPF 2004",N34,0) -> 0 | Q34: 0 | R34: =SUM(O34:Q34) -> 0 | S34: =N34-R34 -> 0 | U34: ='MASTER SHEET'!F9 -> 0 | V34: 24
A35: 7 | B35: =VLOOKUP('D.A.ARREAR CALCULATION'!V13,'MASTER SHEET'!A3:F19,2,0) -> 0 | C35: =VLOOKUP('D.A.ARREAR CALCULATION'!V13,'MASTER SHEET'!A3:F19,3,0) -> 0 | D35: ='MASTER SHEET'!G10 -> 0 | E35: 45108 | F35: =VLOOKUP('D.A.ARREAR CALCULATION'!V13,'MASTER SHEET'!A3:G50,4,0) -> 0 | G35: =ROUND(F35*46/100,0) -> 0 | H35: =SUM(F35:G35) -> 0 | I35: =VLOOKUP('D.A.ARREAR CALCULATION'!V13,'MASTER SHEET'!A7:F23,4,0) -> 0 | J35: =ROUND(I35*42/100,0) -> 0 | K35: =SUM(I35:J35) -> 0 | L35: =F35-I35 -> 0 | M35: =G35-J35 -> 0 | N35: =SUM(L35:M35) -> 0 | O35: =IF($D$35="GPF",M35,0) -> 0 | P35: =IF($D$35="GPF 2004",N35,0) -> 0 | Q35: 0 | R35: =SUM(O35:Q35) -> 0 | S35: =N35-R35 -> 0 | V35: 25
E36: 45139 | F36: =F35 -> 0 | G36: =ROUND(F36*46/100,0) -> 0 | H36: =SUM(F36:G36) -> 0 | I36: =I35 -> 0 | J36: =ROUND(I36*42/100,0) -> 0 | K36: =SUM(I36:J36) -> 0 | L36: =F36-I36 -> 0 | M36: =G36-J36 -> 0 | N36: =SUM(L36:M36) -> 0 | O36: =IF($D$35="GPF",M36,0) -> 0 | P36: =IF($D$35="GPF 2004",N36,0) -> 0 | Q36: 0 | R36: =SUM(O36:Q36) -> 0 | S36: =N36-R36 -> 0 | V36: 26
E37: 45170 | F37: =F36 -> 0 | G37: =ROUND(F37*46/100,0) -> 0 | H37: =SUM(F37:G37) -> 0 | I37: =I36 -> 0 | J37: =ROUND(I37*42/100,0) -> 0 | K37: =SUM(I37:J37) -> 0 | L37: =F37-I37 -> 0 | M37: =G37-J37 -> 0 | N37: =SUM(L37:M37) -> 0 | O37: =IF($D$35="GPF",M37,0) -> 0 | P37: =IF($D$35="GPF 2004",N37,0) -> 0 | Q37: 0 | R37: =SUM(O37:Q37) -> 0 | S37: =N37-R37 -> 0
E38: 45200 | F38: =F37 -> 0 | G38: =ROUND(F38*46/100,0) -> 0 | H38: =SUM(F38:G38) -> 0 | I38: =I37 -> 0 | J38: =ROUND(I38*42/100,0) -> 0 | K38: =SUM(I38:J38) -> 0 | L38: =F38-I38 -> 0 | M38: =G38-J38 -> 0 | N38: =SUM(L38:M38) -> 0 | O38: =IF($D$35="GPF",M38,0) -> 0 | P38: =IF($D$35="GPF 2004",N38,0) -> 0 | Q38: 0 | R38: =SUM(O38:Q38) -> 0 | S38: =N38-R38 -> 0 | V38: 27
E39: Surrender | F39: =IF(U39="NO",0,IF(U39="YES",F35/2,0)) -> 0 | G39: =ROUND(F39*46/100,0) -> 0 | H39: =SUM(F39:G39) -> 0 | I39: =IF(U39="NO",0,IF(U39="YES",F35/2,0)) -> 0 | J39: =ROUND(I39*42/100,0) -> 0 | K39: =SUM(I39:J39) -> 0 | L39: =F39-I39 -> 0 | M39: =G39-J39 -> 0 | N39: =SUM(L39:M39) -> 0 | O39: =IF($D$35="GPF",M39,0) -> 0 | P39: =IF($D$35="GPF 2004",N39,0) -> 0 | Q39: 0 | R39: =SUM(O39:Q39) -> 0 | S39: =N39-R39 -> 0 | U39: ='MASTER SHEET'!F10 -> 0 | V39: 28
A40: 8 | B40: =VLOOKUP('D.A.ARREAR CALCULATION'!V14,'MASTER SHEET'!A3:G23,2,0) -> 0 | C40: =VLOOKUP('D.A.ARREAR CALCULATION'!V14,'MASTER SHEET'!A3:G23,3,0) -> 0 | D40: ='MASTER SHEET'!G11 -> 0 | E40: 45108 | F40: =VLOOKUP('D.A.ARREAR CALCULATION'!V14,'MASTER SHEET'!A3:G50,4,0) -> 0 | G40: =ROUND(F40*46/100,0) -> 0 | H40: =SUM(F40:G40) -> 0 | I40: =VLOOKUP('D.A.ARREAR CALCULATION'!V14,'MASTER SHEET'!A11:F27,4,0) -> 0 | J40: =ROUND(I40*42/100,0) -> 0 | K40: =SUM(I40:J40) -> 0 | L40: =F40-I40 -> 0 | M40: =G40-J40 -> 0 | N40: =SUM(L40:M40) -> 0 | O40: =IF($D$40="GPF",M40,0) -> 0 | P40: =IF($D$40="GPF 2004",N40,0) -> 0 | Q40: 0 | R40: =SUM(O40:Q40) -> 0 | S40: =N40-R40 -> 0 | V40: 29
E41: 45139 | F41: =F40 -> 0 | G41: =ROUND(F41*46/100,0) -> 0 | H41: =SUM(F41:G41) -> 0 | I41: =I40 -> 0 | J41: =ROUND(I41*42/100,0) -> 0 | K41: =SUM(I41:J41) -> 0 | L41: =F41-I41 -> 0 | M41: =G41-J41 -> 0 | N41: =SUM(L41:M41) -> 0 | O41: =IF($D$40="GPF",M41,0) -> 0 | P41: =IF($D$40="GPF 2004",N41,0) -> 0 | Q41: 0 | R41: =SUM(O41:Q41) -> 0 | S41: =N41-R41 -> 0 | V41: 30
E42: 45170 | F42: =F41 -> 0 | G42: =ROUND(F42*46/100,0) -> 0 | H42: =SUM(F42:G42) -> 0 | I42: =I41 -> 0 | J42: =ROUND(I42*42/100,0) -> 0 | K42: =SUM(I42:J42) -> 0 | L42: =F42-I42 -> 0 | M42: =G42-J42 -> 0 | N42: =SUM(L42:M42) -> 0 | O42: =IF($D$40="GPF",M42,0) -> 0 | P42: =IF($D$40="GPF 2004",N42,0) -> 0 | Q42: 0 | R42: =SUM(O42:Q42) -> 0 | S42: =N42-R42 -> 0
E43: 45200 | F43: =F42 -> 0 | G43: =ROUND(F43*46/100,0) -> 0 | H43: =SUM(F43:G43) -> 0 | I43: =I42 -> 0 | J43: =ROUND(I43*42/100,0) -> 0 | K43: =SUM(I43:J43) -> 0 | L43: =F43-I43 -> 0 | M43: =G43-J43 -> 0 | N43: =SUM(L43:M43) -> 0 | O43: =IF($D$40="GPF",M43,0) -> 0 | P43: =IF($D$40="GPF 2004",N43,0) -> 0 | Q43: 0 | R43: =SUM(O43:Q43) -> 0 | S43: =N43-R43 -> 0 | V43: 31
E44: Surrender | F44: =IF(U44="NO",0,IF(U44="YES",F40/2,0)) -> 0 | G44: =ROUND(F44*46/100,0) -> 0 | H44: =SUM(F44:G44) -> 0 | I44: =IF(U44="NO",0,IF(U44="YES",F40/2,0)) -> 0 | J44: =ROUND(I44*42/100,0) -> 0 | K44: =SUM(I44:J44) -> 0 | L44: =F44-I44 -> 0 | M44: =G44-J44 -> 0 | N44: =SUM(L44:M44) -> 0 | O44: =IF($D$40="GPF",M44,0) -> 0 | P44: =IF($D$40="GPF 2004",N44,0) -> 0 | Q44: 0 | R44: =SUM(O44:Q44) -> 0 | S44: =N44-R44 -> 0 | U44: ='MASTER SHEET'!F11 -> 0 | V44: 32
A45: 9 | B45: =VLOOKUP('D.A.ARREAR CALCULATION'!V15,'MASTER SHEET'!A3:G23,2,0) -> 0 | C45: =VLOOKUP('D.A.ARREAR CALCULATION'!V15,'MASTER SHEET'!A3:G23,3,0) -> 0 | D45: ='MASTER SHEET'!G12 -> 0 | E45: 45108 | F45: =VLOOKUP('D.A.ARREAR CALCULATION'!V15,'MASTER SHEET'!A3:G50,4,0) -> 0 | G45: =ROUND(F45*46/100,0) -> 0 | H45: =SUM(F45:G45) -> 0 | I45: =VLOOKUP('D.A.ARREAR CALCULATION'!V15,'MASTER SHEET'!A3:F31,4,0) -> 0 | J45: =ROUND(I45*42/100,0) -> 0 | K45: =SUM(I45:J45) -> 0 | L45: =F45-I45 -> 0 | M45: =G45-J45 -> 0 | N45: =SUM(L45:M45) -> 0 | O45: =IF($D$45="GPF",M45,0) -> 0 | P45: =IF($D$45="GPF 2004",N45,0) -> 0 | Q45: 0 | R45: =SUM(O45:Q45) -> 0 | S45: =N45-R45 -> 0 | V45: 33
E46: 45139 | F46: =F45 -> 0 | G46: =ROUND(F46*46/100,0) -> 0 | H46: =H45 -> 0 | I46: =I45 -> 0 | J46: =ROUND(I46*42/100,0) -> 0 | K46: =K45 -> 0 | L46: =L45 -> 0 | M46: =M45 -> 0 | N46: =N45 -> 0 | O46: =IF($D$45="GPF",M46,0) -> 0 | P46: =IF($D$45="GPF 2004",N46,0) -> 0 | Q46: 0 | R46: =R45 -> 0 | S46: =S45 -> 0 | V46: 34
E47: 45170 | F47: =F46 -> 0 | G47: =ROUND(F47*46/100,0) -> 0 | H47: =H46 -> 0 | I47: =I46 -> 0 | J47: =ROUND(I47*42/100,0) -> 0 | K47: =K46 -> 0 | L47: =L46 -> 0 | M47: =M46 -> 0 | N47: =N46 -> 0 | O47: =IF($D$45="GPF",M47,0) -> 0 | P47: =IF($D$45="GPF 2004",N47,0) -> 0 | Q47: 0 | R47: =R46 -> 0 | S47: =S46 -> 0
E48: 45200 | F48: =F47 -> 0 | G48: =ROUND(F48*46/100,0) -> 0 | H48: =H47 -> 0 | I48: =I47 -> 0 | J48: =ROUND(I48*42/100,0) -> 0 | K48: =K47 -> 0 | L48: =L47 -> 0 | M48: =M47 -> 0 | N48: =N47 -> 0 | O48: =IF($D$45="GPF",M48,0) -> 0 | P48: =IF($D$45="GPF 2004",N48,0) -> 0 | Q48: 0 | R48: =R47 -> 0 | S48: =S47 -> 0 | V48: 35
E49: Surrender | F49: =IF(U49="NO",0,IF(U49="YES",F45/2,0)) -> 0 | G49: =ROUND(F49*46/100,0) -> 0 | H49: =SUM(F49:G49) -> 0 | I49: =IF(U49="NO",0,IF(U49="YES",F45/2,0)) -> 0 | J49: =ROUND(I49*42/100,0) -> 0 | K49: =SUM(I49:J49) -> 0 | L49: =F49-I49 -> 0 | M49: =G49-J49 -> 0 | N49: =SUM(L49:M49) -> 0 | O49: =IF($D$45="GPF",M49,0) -> 0 | P49: =IF($D$45="GPF 2004",N49,0) -> 0 | Q49: 0 | R49: =SUM(O49:Q49) -> 0 | S49: =N49-R49 -> 0 | U49: ='MASTER SHEET'!F12 -> 0 | V49: 36
A50: 10 | B50: =VLOOKUP('D.A.ARREAR CALCULATION'!V16,'MASTER SHEET'!A3:G23,2,0) -> 0 | C50: =VLOOKUP('D.A.ARREAR CALCULATION'!V16,'MASTER SHEET'!A3:G23,3,0) -> 0 | D50: ='MASTER SHEET'!G13 -> 0 | E50: 45108 | F50: =VLOOKUP('D.A.ARREAR CALCULATION'!V16,'MASTER SHEET'!A3:G54,4,0) -> 0 | G50: =ROUND(F50*46/100,0) -> 0 | H50: =SUM(F50:G50) -> 0 | I50: =VLOOKUP('D.A.ARREAR CALCULATION'!V16,'MASTER SHEET'!A3:G54,4,0) -> 0 | J50: =ROUND(I50*42/100,0) -> 0 | K50: =SUM(I50:J50) -> 0 | L50: =F50-I50 -> 0 | M50: =G50-J50 -> 0 | N50: =SUM(L50:M50) -> 0 | O50: =IF($D$50="GPF",M50,0) -> 0 | P50: =IF($D$50="GPF 2004",N50,0) -> 0 | Q50: 0 | R50: =SUM(O50:Q50) -> 0 | S50: =N50-R50 -> 0 | V50: 37
E51: 45139 | F51: =F50 -> 0 | G51: =ROUND(F51*46/100,0) -> 0 | H51: =H50 -> 0 | I51: =I50 -> 0 | J51: =ROUND(I51*42/100,0) -> 0 | K51: =K50 -> 0 | L51: =L50 -> 0 | M51: =M50 -> 0 | N51: =N50 -> 0 | O51: =IF($D$50="GPF",M51,0) -> 0 | P51: =IF($D$50="GPF 2004",N51,0) -> 0 | Q51: 0 | R51: =R50 -> 0 | S51: =S50 -> 0 | V51: 38
E52: 45170 | F52: =F51 -> 0 | G52: =ROUND(F52*46/100,0) -> 0 | H52: =H51 -> 0 | I52: =I51 -> 0 | J52: =ROUND(I52*42/100,0) -> 0 | K52: =K51 -> 0 | L52: =L51 -> 0 | M52: =M51 -> 0 | N52: =N51 -> 0 | O52: =IF($D$50="GPF",M52,0) -> 0 | P52: =IF($D$50="GPF 2004",N52,0) -> 0 | Q52: 0 | R52: =R51 -> 0 | S52: =S51 -> 0
E53: 45200 | F53: =F52 -> 0 | G53: =ROUND(F53*46/100,0) -> 0 | H53: =H52 -> 0 | I53: =I52 -> 0 | J53: =ROUND(I53*42/100,0) -> 0 | K53: =K52 -> 0 | L53: =L52 -> 0 | M53: =M52 -> 0 | N53: =N52 -> 0 | O53: =IF($D$50="GPF",M53,0) -> 0 | P53: =IF($D$50="GPF 2004",N53,0) -> 0 | Q53: 0 | R53: =R52 -> 0 | S53: =S52 -> 0 | V53: 39
E54: Surrender | F54: =IF(U54="NO",0,IF(U54="YES",F50/2,0)) -> 0 | G54: =ROUND(F54*46/100,0) -> 0 | H54: =SUM(F54:G54) -> 0 | I54: =IF(U54="NO",0,IF(U54="YES",F50/2,0)) -> 0 | J54: =ROUND(I54*42/100,0) -> 0 | K54: =SUM(I54:J54) -> 0 | L54: =F54-I54 -> 0 | M54: =G54-J54 -> 0 | N54: =SUM(L54:M54) -> 0 | O54: =IF($D$50="GPF",M54,0) -> 0 | P54: =IF($D$50="GPF 2004",N54,0) -> 0 | Q54: 0 | R54: =SUM(O54:Q54) -> 0 | S54: =N54-R54 -> 0 | U54: ='MASTER SHEET'!F13 -> 0 | V54: 40
A55: 11 | B55: =VLOOKUP('D.A.ARREAR CALCULATION'!V18,'MASTER SHEET'!A3:G23,2,0) -> 0 | C55: =VLOOKUP('D.A.ARREAR CALCULATION'!V18,'MASTER SHEET'!A3:G23,3,0) -> 0 | D55: ='MASTER SHEET'!G14 -> 0 | E55: 45108 | F55: =VLOOKUP('D.A.ARREAR CALCULATION'!V18,'MASTER SHEET'!A3:G58,4,0) -> 0 | G55: =ROUND(F55*46/100,0) -> 0 | H55: =SUM(F55:G55) -> 0 | I55: =VLOOKUP('D.A.ARREAR CALCULATION'!V18,'MASTER SHEET'!A3:G58,4,0) -> 0 | J55: =ROUND(I55*42/100,0) -> 0 | K55: =SUM(I55:J55) -> 0 | L55: =F55-I55 -> 0 | M55: =G55-J55 -> 0 | N55: =SUM(L55:M55) -> 0 | O55: =IF($D$55="GPF",M55,0) -> 0 | P55: =IF($D$55="GPF 2004",N55,0) -> 0 | Q55: 0 | R55: =SUM(O55:Q55) -> 0 | S55: =N55-R55 -> 0 | V55: 41
E56: 45139 | F56: =F55 -> 0 | G56: =ROUND(F56*46/100,0) -> 0 | H56: =H55 -> 0 | I56: =I55 -> 0 | J56: =ROUND(I56*42/100,0) -> 0 | K56: =K55 -> 0 | L56: =L55 -> 0 | M56: =M55 -> 0 | N56: =N55 -> 0 | O56: =IF($D$55="GPF",M56,0) -> 0 | P56: =IF($D$55="GPF 2004",N56,0) -> 0 | Q56: 0 | R56: =SUM(O56:Q56) -> 0 | S56: =N56-R56 -> 0 | V56: 42
E57: 45170 | F57: =F56 -> 0 | G57: =ROUND(F57*46/100,0) -> 0 | H57: =H56 -> 0 | I57: =I56 -> 0 | J57: =ROUND(I57*42/100,0) -> 0 | K57: =K56 -> 0 | L57: =L56 -> 0 | M57: =M56 -> 0 | N57: =N56 -> 0 | O57: =IF($D$55="GPF",M57,0) -> 0 | P57: =IF($D$55="GPF 2004",N57,0) -> 0 | Q57: 0 | R57: =SUM(O57:Q57) -> 0 | S57: =N57-R57 -> 0
E58: 45200 | F58: =F57 -> 0 | G58: =ROUND(F58*46/100,0) -> 0 | H58: =H57 -> 0 | I58: =I57 -> 0 | J58: =ROUND(I58*42/100,0) -> 0 | K58: =K57 -> 0 | L58: =L57 -> 0 | M58: =M57 -> 0 | N58: =N57 -> 0 | O58: =IF($D$55="GPF",M58,0) -> 0 | P58: =IF($D$55="GPF 2004",N58,0) -> 0 | Q58: 0 | R58: =SUM(O58:Q58) -> 0 | S58: =N58-R58 -> 0 | V58: 43
E59: Surrender | F59: =IF(U59="NO",0,IF(U59="YES",F55/2,0)) -> 0 | G59: =ROUND(F59*46/100,0) -> 0 | H59: =SUM(F59:G59) -> 0 | I59: =IF(U59="NO",0,IF(U59="YES",F55/2,0)) -> 0 | J59: =ROUND(I59*42/100,0) -> 0 | K59: =SUM(I59:J59) -> 0 | L59: =F59-I59 -> 0 | M59: =G59-J59 -> 0 | N59: =SUM(L59:M59) -> 0 | O59: =IF($D$55="GPF",M59,0) -> 0 | P59: =IF($D$55="GPF 2004",N59,0) -> 0 | Q59: 0 | R59: =SUM(O59:Q59) -> 0 | S59: =N59-R59 -> 0 | U59: ='MASTER SHEET'!F14 -> 0 | V59: 44
A60: 12 | B60: =VLOOKUP('D.A.ARREAR CALCULATION'!V19,'MASTER SHEET'!A3:G23,2,0) -> 0 | C60: =VLOOKUP('D.A.ARREAR CALCULATION'!V19,'MASTER SHEET'!A3:G23,3,0) -> 0 | D60: ='MASTER SHEET'!G15 -> 0 | E60: 45108 | F60: =VLOOKUP('D.A.ARREAR CALCULATION'!V19,'MASTER SHEET'!A3:G62,4,0) -> 0 | G60: =ROUND(F60*46/100,0) -> 0 | H60: =SUM(F60:G60) -> 0 | I60: =VLOOKUP('D.A.ARREAR CALCULATION'!V19,'MASTER SHEET'!A3:G62,4,0) -> 0 | J60: =ROUND(I60*42/100,0) -> 0 | K60: =SUM(I60:J60) -> 0 | L60: =F60-I60 -> 0 | M60: =G60-J60 -> 0 | N60: =SUM(L60:M60) -> 0 | O60: =IF($D$60="GPF",M60,0) -> 0 | P60: =IF($D$60="GPF 2004",N60,0) -> 0 | Q60: 0 | R60: =SUM(O60:Q60) -> 0 | S60: =N60-R60 -> 0 | V60: 45
E61: 45139 | F61: =F60 -> 0 | G61: =ROUND(F61*46/100,0) -> 0 | H61: =H60 -> 0 | I61: =I60 -> 0 | J61: =ROUND(I61*42/100,0) -> 0 | K61: =K60 -> 0 | L61: =L60 -> 0 | M61: =M60 -> 0 | N61: =N60 -> 0 | O61: =IF($D$60="GPF",M61,0) -> 0 | P61: =IF($D$60="GPF 2004",N61,0) -> 0 | Q61: 0 | R61: =SUM(O61:Q61) -> 0 | S61: =N61-R61 -> 0 | V61: 46
E62: 45170 | F62: =F61 -> 0 | G62: =ROUND(F62*46/100,0) -> 0 | H62: =H61 -> 0 | I62: =I61 -> 0 | J62: =ROUND(I62*42/100,0) -> 0 | K62: =K61 -> 0 | L62: =L61 -> 0 | M62: =M61 -> 0 | N62: =N61 -> 0 | O62: =IF($D$60="GPF",M62,0) -> 0 | P62: =IF($D$60="GPF 2004",N62,0) -> 0 | Q62: 0 | R62: =SUM(O62:Q62) -> 0 | S62: =N62-R62 -> 0
E63: 45200 | F63: =F62 -> 0 | G63: =ROUND(F63*46/100,0) -> 0 | H63: =H62 -> 0 | I63: =I62 -> 0 | J63: =ROUND(I63*42/100,0) -> 0 | K63: =K62 -> 0 | L63: =L62 -> 0 | M63: =M62 -> 0 | N63: =N62 -> 0 | O63: =IF($D$60="GPF",M63,0) -> 0 | P63: =IF($D$60="GPF 2004",N63,0) -> 0 | Q63: 0 | R63: =SUM(O63:Q63) -> 0 | S63: =N63-R63 -> 0 | V63: 47
E64: Surrender | F64: =IF(U64="NO",0,IF(U64="YES",F60/2,0)) -> 0 | G64: =ROUND(F64*46/100,0) -> 0 | H64: =SUM(F64:G64) -> 0 | I64: =IF(U64="NO",0,IF(U64="YES",F60/2,0)) -> 0 | J64: =ROUND(I64*42/100,0) -> 0 | K64: =SUM(I64:J64) -> 0 | L64: =F64-I64 -> 0 | M64: =G64-J64 -> 0 | N64: =SUM(L64:M64) -> 0 | O64: =IF($D$60="GPF",M64,0) -> 0 | P64: =IF($D$60="GPF 2004",N64,0) -> 0 | Q64: 0 | R64: =SUM(O64:Q64) -> 0 | S64: =N64-R64 -> 0 | U64: ='MASTER SHEET'!F15 -> 0 | V64: 48
A65: 13 | B65: =VLOOKUP('D.A.ARREAR CALCULATION'!V20,'MASTER SHEET'!A3:G23,2,0) -> 0 | C65: =VLOOKUP('D.A.ARREAR CALCULATION'!V20,'MASTER SHEET'!A3:G23,3,0) -> 0 | D65: ='MASTER SHEET'!G16 -> 0 | E65: 45108 | F65: =VLOOKUP('D.A.ARREAR CALCULATION'!V20,'MASTER SHEET'!A3:G66,4,0) -> 0 | G65: =ROUND(F65*46/100,0) -> 0 | H65: =SUM(F65:G65) -> 0 | I65: =VLOOKUP('D.A.ARREAR CALCULATION'!V20,'MASTER SHEET'!A3:G66,4,0) -> 0 | J65: =ROUND(I65*42/100,0) -> 0 | K65: =SUM(I65:J65) -> 0 | L65: =F65-I65 -> 0 | M65: =G65-J65 -> 0 | N65: =SUM(L65:M65) -> 0 | O65: =IF($D$65="GPF",M65,0) -> 0 | P65: =IF($D$65="GPF 2004",N65,0) -> 0 | Q65: 0 | R65: =SUM(O65:Q65) -> 0 | S65: =N65-R65 -> 0 | V65: 49
E66: 45139 | F66: =F65 -> 0 | G66: =ROUND(F66*46/100,0) -> 0 | H66: =H65 -> 0 | I66: =I65 -> 0 | J66: =ROUND(I66*42/100,0) -> 0 | K66: =K65 -> 0 | L66: =L65 -> 0 | M66: =M65 -> 0 | N66: =N65 -> 0 | O66: =IF($D$65="GPF",M66,0) -> 0 | P66: =IF($D$65="GPF 2004",N66,0) -> 0 | Q66: 0 | R66: =SUM(O66:Q66) -> 0 | S66: =N66-R66 -> 0 | V66: 50
E67: 45170 | F67: =F66 -> 0 | G67: =ROUND(F67*46/100,0) -> 0 | H67: =H66 -> 0 | I67: =I66 -> 0 | J67: =ROUND(I67*42/100,0) -> 0 | K67: =K66 -> 0 | L67: =L66 -> 0 | M67: =M66 -> 0 | N67: =N66 -> 0 | O67: =IF($D$65="GPF",M67,0) -> 0 | P67: =IF($D$65="GPF 2004",N67,0) -> 0 | Q67: 0 | R67: =SUM(O67:Q67) -> 0 | S67: =N67-R67 -> 0
E68: 45200 | F68: =F67 -> 0 | G68: =ROUND(F68*46/100,0) -> 0 | H68: =H67 -> 0 | I68: =I67 -> 0 | J68: =ROUND(I68*42/100,0) -> 0 | K68: =K67 -> 0 | L68: =L67 -> 0 | M68: =M67 -> 0 | N68: =N67 -> 0 | O68: =IF($D$65="GPF",M68,0) -> 0 | P68: =IF($D$65="GPF 2004",N68,0) -> 0 | Q68: 0 | R68: =SUM(O68:Q68) -> 0 | S68: =N68-R68 -> 0 | V68: 51
E69: Surrender | F69: =IF(U69="NO",0,IF(U69="YES",F65/2,0)) -> 0 | G69: =ROUND(F69*46/100,0) -> 0 | H69: =SUM(F69:G69) -> 0 | I69: =IF(U69="NO",0,IF(U69="YES",F65/2,0)) -> 0 | J69: =ROUND(I69*42/100,0) -> 0 | K69: =SUM(I69:J69) -> 0 | L69: =F69-I69 -> 0 | M69: =G69-J69 -> 0 | N69: =SUM(L69:M69) -> 0 | O69: =IF($D$65="GPF",M69,0) -> 0 | P69: =IF($D$65="GPF 2004",N69,0) -> 0 | Q69: 0 | R69: =SUM(O69:Q69) -> 0 | S69: =N69-R69 -> 0 | U69: ='MASTER SHEET'!F16 -> 0 | V69: 52
A70: 14 | B70: =VLOOKUP('D.A.ARREAR CALCULATION'!V21,'MASTER SHEET'!A3:G23,2,0) -> 0 | C70: =VLOOKUP('D.A.ARREAR CALCULATION'!V21,'MASTER SHEET'!A3:G23,3,0) -> 0 | D70: ='MASTER SHEET'!G17 -> 0 | E70: 45108 | F70: =VLOOKUP('D.A.ARREAR CALCULATION'!V21,'MASTER SHEET'!A3:G70,4,0) -> 0 | G70: =ROUND(F70*46/100,0) -> 0 | H70: =SUM(F70:G70) -> 0 | I70: =VLOOKUP('D.A.ARREAR CALCULATION'!V21,'MASTER SHEET'!A3:G70,4,0) -> 0 | J70: =ROUND(I70*42/100,0) -> 0 | K70: =SUM(I70:J70) -> 0 | L70: =F70-I70 -> 0 | M70: =G70-J70 -> 0 | N70: =SUM(L70:M70) -> 0 | O70: =IF($D$70="GPF",M70,0) -> 0 | P70: =IF($D$70="GPF 2004",N70,0) -> 0 | Q70: 0 | R70: =SUM(O70:Q70) -> 0 | S70: =N70-R70 -> 0 | V70: 53
E71: 45139 | F71: =F70 -> 0 | G71: =ROUND(F71*46/100,0) -> 0 | H71: =H70 -> 0 | I71: =I70 -> 0 | J71: =ROUND(I71*42/100,0) -> 0 | K71: =K70 -> 0 | L71: =L70 -> 0 | M71: =M70 -> 0 | N71: =N70 -> 0 | O71: =IF($D$70="GPF",M71,0) -> 0 | P71: =IF($D$70="GPF 2004",N71,0) -> 0 | Q71: 0 | R71: =SUM(O71:Q71) -> 0 | S71: =N71-R71 -> 0 | V71: 54
E72: 45170 | F72: =F71 -> 0 | G72: =ROUND(F72*46/100,0) -> 0 | H72: =H71 -> 0 | I72: =I71 -> 0 | J72: =ROUND(I72*42/100,0) -> 0 | K72: =K71 -> 0 | L72: =L71 -> 0 | M72: =M71 -> 0 | N72: =N71 -> 0 | O72: =IF($D$70="GPF",M72,0) -> 0 | P72: =IF($D$70="GPF 2004",N72,0) -> 0 | Q72: 0 | R72: =SUM(O72:Q72) -> 0 | S72: =N72-R72 -> 0
E73: 45200 | F73: =F72 -> 0 | G73: =ROUND(F73*46/100,0) -> 0 | H73: =H72 -> 0 | I73: =I72 -> 0 | J73: =ROUND(I73*42/100,0) -> 0 | K73: =K72 -> 0 | L73: =L72 -> 0 | M73: =M72 -> 0 | N73: =N72 -> 0 | O73: =IF($D$70="GPF",M73,0) -> 0 | P73: =IF($D$70="GPF 2004",N73,0) -> 0 | Q73: 0 | R73: =SUM(O73:Q73) -> 0 | S73: =N73-R73 -> 0 | V73: 55
E74: Surrender | F74: =IF(U74="NO",0,IF(U74="YES",F70/2,0)) -> 0 | G74: =ROUND(F74*46/100,0) -> 0 | H74: =SUM(F74:G74) -> 0 | I74: =IF(U74="NO",0,IF(U74="YES",F70/2,0)) -> 0 | J74: =ROUND(I74*42/100,0) -> 0 | K74: =SUM(I74:J74) -> 0 | L74: =F74-I74 -> 0 | M74: =G74-J74 -> 0 | N74: =SUM(L74:M74) -> 0 | O74: =IF($D$70="GPF",M74,0) -> 0 | P74: =IF($D$70="GPF 2004",N74,0) -> 0 | Q74: 0 | R74: =SUM(O74:Q74) -> 0 | S74: =N74-R74 -> 0 | U74: ='MASTER SHEET'!F17 -> 0
A75: 15 | B75: =VLOOKUP('D.A.ARREAR CALCULATION'!V23,'MASTER SHEET'!A3:G23,2,0) -> 0 | C75: =VLOOKUP('D.A.ARREAR CALCULATION'!V23,'MASTER SHEET'!A3:G23,3,0) -> 0 | D75: ='MASTER SHEET'!G18 -> 0 | E75: 45108 | F75: =VLOOKUP('D.A.ARREAR CALCULATION'!V23,'MASTER SHEET'!A3:G74,4,0) -> 0 | G75: =ROUND(F75*46/100,0) -> 0 | H75: =SUM(F75:G75) -> 0 | I75: =VLOOKUP('D.A.ARREAR CALCULATION'!V23,'MASTER SHEET'!A3:G74,4,0) -> 0 | J75: =ROUND(I75*42/100,0) -> 0 | K75: =SUM(I75:J75) -> 0 | L75: =F75-I75 -> 0 | M75: =G75-J75 -> 0 | N75: =SUM(L75:M75) -> 0 | O75: =IF($D$75="GPF",M75,0) -> 0 | P75: =IF($D$75="GPF 2004",N75,0) -> 0 | Q75: 0 | R75: =SUM(O75:Q75) -> 0 | S75: =N75-R75 -> 0
E76: 45139 | F76: =F75 -> 0 | G76: =ROUND(F76*46/100,0) -> 0 | H76: =H75 -> 0 | I76: =I75 -> 0 | J76: =ROUND(I76*42/100,0) -> 0 | K76: =K75 -> 0 | L76: =L75 -> 0 | M76: =M75 -> 0 | N76: =N75 -> 0 | O76: =IF($D$75="GPF",M76,0) -> 0 | P76: =IF($D$75="GPF 2004",N76,0) -> 0 | Q76: 0 | R76: =SUM(O76:Q76) -> 0 | S76: =N76-R76 -> 0
E77: 45170 | F77: =F76 -> 0 | G77: =ROUND(F77*46/100,0) -> 0 | H77: =H76 -> 0 | I77: =I76 -> 0 | J77: =ROUND(I77*42/100,0) -> 0 | K77: =K76 -> 0 | L77: =L76 -> 0 | M77: =M76 -> 0 | N77: =N76 -> 0 | O77: =IF($D$75="GPF",M77,0) -> 0 | P77: =IF($D$75="GPF 2004",N77,0) -> 0 | Q77: 0 | R77: =SUM(O77:Q77) -> 0 | S77: =N77-R77 -> 0
E78: 45200 | F78: =F77 -> 0 | G78: =ROUND(F78*46/100,0) -> 0 | H78: =H77 -> 0 | I78: =I77 -> 0 | J78: =ROUND(I78*42/100,0) -> 0 | K78: =K77 -> 0 | L78: =L77 -> 0 | M78: =M77 -> 0 | N78: =N77 -> 0 | O78: =IF($D$75="GPF",M78,0) -> 0 | P78: =IF($D$75="GPF 2004",N78,0) -> 0 | Q78: 0 | R78: =SUM(O78:Q78) -> 0 | S78: =N78-R78 -> 0
E79: Surrender | F79: =IF(U79="NO",0,IF(U79="YES",F75/2,0)) -> 0 | G79: =ROUND(F79*46/100,0) -> 0 | H79: =SUM(F79:G79) -> 0 | I79: =IF(U79="NO",0,IF(U79="YES",F75/2,0)) -> 0 | J79: =ROUND(I79*42/100,0) -> 0 | K79: =SUM(I79:J79) -> 0 | L79: =F79-I79 -> 0 | M79: =G79-J79 -> 0 | N79: =SUM(L79:M79) -> 0 | O79: =IF($D$75="GPF",M79,0) -> 0 | P79: =IF($D$75="GPF 2004",N79,0) -> 0 | Q79: 0 | R79: =SUM(O79:Q79) -> 0 | S79: =N79-R79 -> 0 | U79: ='MASTER SHEET'!F18 -> 0
A80: 16 | B80: =VLOOKUP('D.A.ARREAR CALCULATION'!V24,'MASTER SHEET'!A3:G23,2,0) -> 0 | C80: =VLOOKUP('D.A.ARREAR CALCULATION'!V24,'MASTER SHEET'!A3:G23,3,0) -> 0 | D80: ='MASTER SHEET'!G19 -> 0 | E80: 45108 | F80: =VLOOKUP('D.A.ARREAR CALCULATION'!V24,'MASTER SHEET'!A3:G78,4,0) -> 0 | G80: =ROUND(F80*46/100,0) -> 0 | H80: =SUM(F80:G80) -> 0 | I80: =VLOOKUP('D.A.ARREAR CALCULATION'!V24,'MASTER SHEET'!A3:G78,4,0) -> 0 | J80: =ROUND(I80*42/100,0) -> 0 | K80: =SUM(I80:J80) -> 0 | L80: =F80-I80 -> 0 | M80: =G80-J80 -> 0 | N80: =SUM(L80:M80) -> 0 | O80: =IF($D$80="GPF",M80,0) -> 0 | P80: =IF($D$80="GPF 2004",N80,0) -> 0 | Q80: 0 | R80: =SUM(O80:Q80) -> 0 | S80: =N80-R80 -> 0
E81: 45139 | F81: =F80 -> 0 | G81: =ROUND(F81*46/100,0) -> 0 | H81: =H80 -> 0 | I81: =I80 -> 0 | J81: =ROUND(I81*42/100,0) -> 0 | K81: =K80 -> 0 | L81: =L80 -> 0 | M81: =M80 -> 0 | N81: =N80 -> 0 | O81: =IF($D$80="GPF",M81,0) -> 0 | P81: =IF($D$80="GPF 2004",N81,0) -> 0 | Q81: 0 | R81: =SUM(O81:Q81) -> 0 | S81: =N81-R81 -> 0
E82: 45170 | F82: =F81 -> 0 | G82: =ROUND(F82*46/100,0) -> 0 | H82: =H81 -> 0 | I82: =I81 -> 0 | J82: =ROUND(I82*42/100,0) -> 0 | K82: =K81 -> 0 | L82: =L81 -> 0 | M82: =M81 -> 0 | N82: =N81 -> 0 | O82: =IF($D$80="GPF",M82,0) -> 0 | P82: =IF($D$80="GPF 2004",N82,0) -> 0 | Q82: 0 | R82: =SUM(O82:Q82) -> 0 | S82: =N82-R82 -> 0
E83: 45200 | F83: =F82 -> 0 | G83: =ROUND(F83*46/100,0) -> 0 | H83: =H82 -> 0 | I83: =I82 -> 0 | J83: =ROUND(I83*42/100,0) -> 0 | K83: =K82 -> 0 | L83: =L82 -> 0 | M83: =M82 -> 0 | N83: =N82 -> 0 | O83: =IF($D$80="GPF",M83,0) -> 0 | P83: =IF($D$80="GPF 2004",N83,0) -> 0 | Q83: 0 | R83: =SUM(O83:Q83) -> 0 | S83: =N83-R83 -> 0
E84: Surrender | F84: =IF(U84="NO",0,IF(U84="YES",F80/2,0)) -> 0 | G84: =ROUND(F84*46/100,0) -> 0 | H84: =SUM(F84:G84) -> 0 | I84: =IF(U84="NO",0,IF(U84="YES",F80/2,0)) -> 0 | J84: =ROUND(I84*42/100,0) -> 0 | K84: =SUM(I84:J84) -> 0 | L84: =F84-I84 -> 0 | M84: =G84-J84 -> 0 | N84: =SUM(L84:M84) -> 0 | O84: =IF($D$80="GPF",M84,0) -> 0 | P84: =IF($D$80="GPF 2004",N84,0) -> 0 | Q84: 0 | R84: =SUM(O84:Q84) -> 0 | S84: =N84-R84 -> 0 | U84: ='MASTER SHEET'!F19 -> 0
A85: 17 | B85: =VLOOKUP('D.A.ARREAR CALCULATION'!V25,'MASTER SHEET'!A3:G23,2,0) -> 0 | C85: =VLOOKUP('D.A.ARREAR CALCULATION'!V25,'MASTER SHEET'!A3:G23,3,0) -> 0 | D85: ='MASTER SHEET'!G20 -> 0 | E85: 45108 | F85: =VLOOKUP('D.A.ARREAR CALCULATION'!V25,'MASTER SHEET'!A3:G82,4,0) -> 0 | G85: =ROUND(F85*46/100,0) -> 0 | H85: =SUM(F85:G85) -> 0 | I85: =VLOOKUP('D.A.ARREAR CALCULATION'!V25,'MASTER SHEET'!A3:G82,4,0) -> 0 | J85: =ROUND(I85*42/100,0) -> 0 | K85: =SUM(I85:J85) -> 0 | L85: =F85-I85 -> 0 | M85: =G85-J85 -> 0 | N85: =SUM(L85:M85) -> 0 | O85: =IF($D$85="GPF",M85,0) -> 0 | P85: =IF($D$85="GPF 2004",N85,0) -> 0 | Q85: 0 | R85: =SUM(O85:Q85) -> 0 | S85: =N85-R85 -> 0
E86: 45139 | F86: =F85 -> 0 | G86: =ROUND(F86*46/100,0) -> 0 | H86: =H85 -> 0 | I86: =I85 -> 0 | J86: =ROUND(I86*42/100,0) -> 0 | K86: =K85 -> 0 | L86: =L85 -> 0 | M86: =M85 -> 0 | N86: =N85 -> 0 | O86: =IF($D$85="GPF",M86,0) -> 0 | P86: =IF($D$85="GPF 2004",N86,0) -> 0 | Q86: 0 | R86: =SUM(O86:Q86) -> 0 | S86: =N86-R86 -> 0
E87: 45170 | F87: =F86 -> 0 | G87: =ROUND(F87*46/100,0) -> 0 | H87: =H86 -> 0 | I87: =I86 -> 0 | J87: =ROUND(I87*42/100,0) -> 0 | K87: =K86 -> 0 | L87: =L86 -> 0 | M87: =M86 -> 0 | N87: =N86 -> 0 | O87: =IF($D$85="GPF",M87,0) -> 0 | P87: =IF($D$85="GPF 2004",N87,0) -> 0 | Q87: 0 | R87: =SUM(O87:Q87) -> 0 | S87: =N87-R87 -> 0
E88: 45200 | F88: =F87 -> 0 | G88: =ROUND(F88*46/100,0) -> 0 | H88: =H87 -> 0 | I88: =I87 -> 0 | J88: =ROUND(I88*42/100,0) -> 0 | K88: =K87 -> 0 | L88: =L87 -> 0 | M88: =M87 -> 0 | N88: =N87 -> 0 | O88: =IF($D$85="GPF",M88,0) -> 0 | P88: =IF($D$85="GPF 2004",N88,0) -> 0 | Q88: 0 | R88: =SUM(O88:Q88) -> 0 | S88: =N88-R88 -> 0
E89: Surrender | F89: =IF(U89="NO",0,IF(U89="YES",F85/2,0)) -> 0 | G89: =ROUND(F89*46/100,0) -> 0 | H89: =SUM(F89:G89) -> 0 | I89: =IF(U89="NO",0,IF(U89="YES",F85/2,0)) -> 0 | J89: =ROUND(I89*42/100,0) -> 0 | K89: =SUM(I89:J89) -> 0 | L89: =F89-I89 -> 0 | M89: =G89-J89 -> 0 | N89: =SUM(L89:M89) -> 0 | O89: =IF($D$85="GPF",M89,0) -> 0 | P89: =IF($D$85="GPF 2004",N89,0) -> 0 | Q89: 0 | R89: =SUM(O89:Q89) -> 0 | S89: =N89-R89 -> 0 | U89: ='MASTER SHEET'!F20 -> 0
A90: 18 | B90: =VLOOKUP('D.A.ARREAR CALCULATION'!V26,'MASTER SHEET'!A3:G23,2,0) -> 0 | C90: =VLOOKUP('D.A.ARREAR CALCULATION'!V26,'MASTER SHEET'!A3:G23,3,0) -> 0 | D90: ='MASTER SHEET'!G21 -> 0 | E90: 45108 | F90: =VLOOKUP('D.A.ARREAR CALCULATION'!V26,'MASTER SHEET'!A3:G86,4,0) -> 0 | G90: =ROUND(F90*46/100,0) -> 0 | H90: =SUM(F90:G90) -> 0 | I90: =VLOOKUP('D.A.ARREAR CALCULATION'!V26,'MASTER SHEET'!A3:G86,4,0) -> 0 | J90: =ROUND(I90*42/100,0) -> 0 | K90: =SUM(I90:J90) -> 0 | L90: =F90-I90 -> 0 | M90: =G90-J90 -> 0 | N90: =SUM(L90:M90) -> 0 | O90: =IF($D$90="GPF",M90,0) -> 0 | P90: =IF($D$90="GPF 2004",N90,0) -> 0 | Q90: 0 | R90: =SUM(O90:Q90) -> 0 | S90: =N90-R90 -> 0
E91: 45139 | F91: =F90 -> 0 | G91: =ROUND(F91*46/100,0) -> 0 | H91: =H90 -> 0 | I91: =I90 -> 0 | J91: =ROUND(I91*42/100,0) -> 0 | K91: =K90 -> 0 | L91: =L90 -> 0 | M91: =M90 -> 0 | N91: =N90 -> 0 | O91: =IF($D$90="GPF",M91,0) -> 0 | P91: =IF($D$90="GPF 2004",N91,0) -> 0 | Q91: 0 | R91: =SUM(O91:Q91) -> 0 | S91: =N91-R91 -> 0
E92: 45170 | F92: =F91 -> 0 | G92: =ROUND(F92*46/100,0) -> 0 | H92: =H91 -> 0 | I92: =I91 -> 0 | J92: =ROUND(I92*42/100,0) -> 0 | K92: =K91 -> 0 | L92: =L91 -> 0 | M92: =M91 -> 0 | N92: =N91 -> 0 | O92: =IF($D$90="GPF",M92,0) -> 0 | P92: =IF($D$90="GPF 2004",N92,0) -> 0 | Q92: 0 | R92: =SUM(O92:Q92) -> 0 | S92: =N92-R92 -> 0
E93: 45200 | F93: =F92 -> 0 | G93: =ROUND(F93*46/100,0) -> 0 | H93: =H92 -> 0 | I93: =I92 -> 0 | J93: =ROUND(I93*42/100,0) -> 0 | K93: =K92 -> 0 | L93: =L92 -> 0 | M93: =M92 -> 0 | N93: =N92 -> 0 | O93: =IF($D$90="GPF",M93,0) -> 0 | P93: =IF($D$90="GPF 2004",N93,0) -> 0 | Q93: 0 | R93: =SUM(O93:Q93) -> 0 | S93: =N93-R93 -> 0
E94: Surrender | F94: =IF(U94="NO",0,IF(U94="YES",F90/2,0)) -> 0 | G94: =ROUND(F94*46/100,0) -> 0 | H94: =SUM(F94:G94) -> 0 | I94: =IF(U94="NO",0,IF(U94="YES",F90/2,0)) -> 0 | J94: =ROUND(I94*42/100,0) -> 0 | K94: =SUM(I94:J94) -> 0 | L94: =F94-I94 -> 0 | M94: =G94-J94 -> 0 | N94: =SUM(L94:M94) -> 0 | O94: =IF($D$90="GPF",M94,0) -> 0 | P94: =IF($D$90="GPF 2004",N94,0) -> 0 | Q94: 0 | R94: =SUM(O94:Q94) -> 0 | S94: =N94-R94 -> 0 | U94: ='MASTER SHEET'!F21 -> 0
A95: 19 | B95: =VLOOKUP('D.A.ARREAR CALCULATION'!V28,'MASTER SHEET'!A3:G23,2,0) -> 0 | C95: =VLOOKUP('D.A.ARREAR CALCULATION'!V28,'MASTER SHEET'!A3:G23,3,0) -> 0 | D95: ='MASTER SHEET'!G22 -> 0 | E95: 45108 | F95: =VLOOKUP('D.A.ARREAR CALCULATION'!V28,'MASTER SHEET'!A3:G90,4,0) -> 0 | G95: =ROUND(F95*46/100,0) -> 0 | H95: =SUM(F95:G95) -> 0 | I95: =VLOOKUP('D.A.ARREAR CALCULATION'!V28,'MASTER SHEET'!A3:G90,4,0) -> 0 | J95: =ROUND(I95*42/100,0) -> 0 | K95: =SUM(I95:J95) -> 0 | L95: =F95-I95 -> 0 | M95: =G95-J95 -> 0 | N95: =SUM(L95:M95) -> 0 | O95: =IF($D$95="GPF",M95,0) -> 0 | P95: =IF($D$95="GPF 2004",N95,0) -> 0 | Q95: 0 | R95: =SUM(O95:Q95) -> 0 | S95: =N95-R95 -> 0
E96: 45139 | F96: =F95 -> 0 | G96: =ROUND(F96*46/100,0) -> 0 | H96: =H95 -> 0 | I96: =I95 -> 0 | J96: =ROUND(I96*42/100,0) -> 0 | K96: =K95 -> 0 | L96: =L95 -> 0 | M96: =M95 -> 0 | N96: =N95 -> 0 | O96: =IF($D$95="GPF",M96,0) -> 0 | P96: =IF($D$95="GPF 2004",N96,0) -> 0 | Q96: 0 | R96: =SUM(O96:Q96) -> 0 | S96: =N96-R96 -> 0
E97: 45170 | F97: =F96 -> 0 | G97: =ROUND(F97*46/100,0) -> 0 | H97: =H96 -> 0 | I97: =I96 -> 0 | J97: =ROUND(I97*42/100,0) -> 0 | K97: =K96 -> 0 | L97: =L96 -> 0 | M97: =M96 -> 0 | N97: =N96 -> 0 | O97: =IF($D$95="GPF",M97,0) -> 0 | P97: =IF($D$95="GPF 2004",N97,0) -> 0 | Q97: 0 | R97: =SUM(O97:Q97) -> 0 | S97: =N97-R97 -> 0
E98: 45200 | F98: =F97 -> 0 | G98: =ROUND(F98*46/100,0) -> 0 | H98: =H97 -> 0 | I98: =I97 -> 0 | J98: =ROUND(I98*42/100,0) -> 0 | K98: =K97 -> 0 | L98: =L97 -> 0 | M98: =M97 -> 0 | N98: =N97 -> 0 | O98: =IF($D$95="GPF",M98,0) -> 0 | P98: =IF($D$95="GPF 2004",N98,0) -> 0 | Q98: 0 | R98: =SUM(O98:Q98) -> 0 | S98: =N98-R98 -> 0
E99: Surrender | F99: =IF(U99="NO",0,IF(U99="YES",F95/2,0)) -> 0 | G99: =ROUND(F99*46/100,0) -> 0 | H99: =SUM(F99:G99) -> 0 | I99: =IF(U99="NO",0,IF(U99="YES",F95/2,0)) -> 0 | J99: =ROUND(I99*42/100,0) -> 0 | K99: =SUM(I99:J99) -> 0 | L99: =F99-I99 -> 0 | M99: =G99-J99 -> 0 | N99: =SUM(L99:M99) -> 0 | O99: =IF($D$95="GPF",M99,0) -> 0 | P99: =IF($D$95="GPF 2004",N99,0) -> 0 | Q99: 0 | R99: =SUM(O99:Q99) -> 0 | S99: =N99-R99 -> 0 | U99: ='MASTER SHEET'!F22 -> 0
A100: 20 | B100: =VLOOKUP('D.A.ARREAR CALCULATION'!V29,'MASTER SHEET'!A3:G23,2,0) -> 0 | C100: =VLOOKUP('D.A.ARREAR CALCULATION'!V29,'MASTER SHEET'!A3:G23,3,0) -> 0 | D100: ='MASTER SHEET'!G23 -> 0 | E100: 45108 | F100: =VLOOKUP('D.A.ARREAR CALCULATION'!V29,'MASTER SHEET'!A3:G94,4,0) -> 0 | G100: =ROUND(F100*46/100,0) -> 0 | H100: =SUM(F100:G100) -> 0 | I100: =VLOOKUP('D.A.ARREAR CALCULATION'!V29,'MASTER SHEET'!A3:G94,4,0) -> 0 | J100: =ROUND(I100*42/100,0) -> 0 | K100: =SUM(I100:J100) -> 0 | L100: =F100-I100 -> 0 | M100: =G100-J100 -> 0 | N100: =SUM(L100:M100) -> 0 | O100: =IF($D$100="GPF",M100,0) -> 0 | P100: =IF($D$100="GPF 2004",N100,0) -> 0 | Q100: 0 | R100: =SUM(O100:Q100) -> 0 | S100: =N100-R100 -> 0
...
