Workbook
Name ANAND: 'MASTER SHEET'!#REF!
Name ANANDD: 'MASTER SHEET'!#REF!

Sheet MASTER SHEET
A1: इस टेबल को पूर्ण भरने के बाद D.A.ARREAR CALCULATION वाली शीट से प्रिंट निकालें।
A2: GOVT SR. SECONDARY SCHOOL, GORDHANPURA, ATRU (BARAN) | L2: SNA PORTAL - BUDGET CONTROL EXCEL SOFTWARE
A3: S.N. | B3: NAME OF EMPLOYEE | C3: DESIGNATION | D3: BASIC (01.07.2023) | E3: TAX % | F3: SURRENDER (July To Oct.) 2023 | G3: GPF/GPF 2004
A4: 1 | B4: PARMANAND MEGHWAL | C4: SR TEACHER | D4: 49300 | E4: 0 | F4: YES | G4: GPF 2004 | H4: YES | I4: GPF | L4: महत्वपूर्ण दिशा-निर्देश
A5: 2 | H5: NO | I5: GPF 2004 | L5: मास्टर शीट को सावधानी पूर्वक भर लें , इसके बाद D.A.ARREAR CALCULATION वाली शीट को प्रिंट कर लें । खाली Rows को Hide कर दें ताकि प्रिंट खाली नहीं आये।
A6: 3
A7: 4 | K7: RAJTEACHERS.NET
A8: 5 | K8: Rajasthan Teachers Web Portal Teachers Information And All Types OrdersRajasthan Govt Provide Here. If you have any query regrading Site, Advertisement and any other issue, please feel free to contact at rajteachers.net@gmail.com rajteachers.net Is A Teachers Web Portal In This About us Page I Showing Some Info. Provide information about teachers and all types of orders of the Rajasthan government here. We Provide All Types Info For All Rajasthan Teachers Orders, Latest Update News For Teachers, Office Order Formates, Income Tax Formates For Teachers, 7th Pay Commision Order & Formate, All types Leave Rules & Leave Applications, Paymanager & Pripaymanager Guide, All Types Excel Software & Excel Files For Teachers, Important Links For Teachers, Forms, Documents And Many More Info For All teachers and government jobs are about us later. Introduction My Self My Name Is Parmanand Meghwal I am A owner Of This Site I Will Provide All Info About. Rajasthan Teachers And Also Many Help For All Government Employee.
A9: 6
A10: 7
A11: 8
A12: 9
A13: 10
A14: 11
A15: 12
A16: 13
A17: 14
A18: 15
A19: 16
A20: 17
... A23: 20

Sheet D.A.ARREAR CALCULATION
A1: ='MASTER SHEET'!A2:F2 -> GOVT SR. SECONDARY SCHOOL, GORDHANPURA, ATRU (BARAN) | X1: खाली Rows को Hide कर दें।
A2: D.A. AREAR 01-07-2023 TO 31-10-2023 | T2: 6
A3: S.No. | B3: Employee Name | C3: Designation | E3: Month | F3: Due | I3: DRAWN | L3: DIFFERENCE | O3: DEDUCTION | R3: TOTAL DEDUCTION | S3: NET PAY AMMOUNT | T3: TV NUMBER & DATE
F4: BASIC | G4: DA | H4: TOTAL | I4: BASIC | J4: DA | K4: TOTAL | L4: BASIC | M4: DA | N4: TOTAL | O4: GPF | P4: GPF 2004 | Q4: I TAX
A5: 1 | B5: =VLOOKUP('D.A.ARREAR CALCULATION'!V5,'MASTER SHEET'!A3:F19,2,0) -> PARMANAND MEGHWAL | C5: =VLOOKUP('D.A.ARREAR CALCULATION'!V5,'MASTER SHEET'!A3:F19,3,0) -> SR TEACHER | D5: ='MASTER SHEET'!G4 -> GPF 2004 | E5: 45108 | F5: =VLOOKUP('D.A.ARREAR CALCULATION'!V5,'MASTER SHEET'!A3:G50,4,0) -> 49300 | G5: =ROUND(F5*46/100,0) -> 22678 | H5: =SUM(F5:G5) -> 71978 | I5: =VLOOKUP('D.A.ARREAR CALCULATION'!V5,'MASTER SHEET'!A3:G50,4,0) -> 49300 | J5: =ROUND(I5*42/100,0) -> 20706 | K5: =SUM(I5:J5) -> 70006 | L5: =F5-I5 -> 0 | M5: =G5-J5 -> 1972 | N5: =SUM(L5:M5) -> 1972 | O5: =IF($D$5="GPF",M5,0) -> 0 | P5: =IF($D$5="GPF 2004",N5,0) -> 1972 | Q5: 0 | R5: =SUM(O5:Q5) -> 1972 | S5: =N5-R5 -> 0 | V5: 1
E6: 45139 | F6: =F5 -> 49300 | G6: =ROUND(F6*46/100,0) -> 22678 | H6: =SUM(F6:G6) -> 71978 | I6: =I5 -> 49300 | J6: =ROUND(I6*42/100,0) -> 20706 | K6: =SUM(I6:J6) -> 70006 | L6: =F6-I6 -> 0 | M6: =G6-J6 -> 1972 | N6: =SUM(L6:M6) -> 1972 | O6: =IF($D$5="GPF",M6,0) -> 0 | P6: =IF($D$5="GPF 2004",N6,0) -> 1972 | Q6: 0 | R6: =SUM(O6:Q6) -> 1972 | S6: =N6-R6 -> 0 | V6: 2
E7: 45170 | F7: =F6 -> 49300 | G7: =ROUND(F7*46/100,0) -> 22678 | H7: =SUM(F7:G7) -> 71978 | I7: =I6 -> 49300 | J7: =ROUND(I7*42/100,0) -> 20706 | K7: =SUM(I7:J7) -> 70006 | L7: =F7-I7 -> 0 | M7: =G7-J7 -> 1972 | N7: =SUM(L7:M7) -> 1972 | O7: =IF($D$5="GPF",M7,0) -> 0 | P7: =IF($D$5="GPF 2004",N7,0) -> 1972 | Q7: 0 | R7: =SUM(O7:Q7) -> 1972 | S7: =N7-R7 -> 0
E8: 45200 | F8: =F6 -> 49300 | G8: =ROUND(F8*46/100,0) -> 22678 | H8: =SUM(F8:G8) -> 71978 | I8: =I6 -> 49300 | J8: =ROUND(I8*42/100,0) -> 20706 | K8: =SUM(I8:J8) -> 70006 | L8: =F8-I8 -> 0 | M8: =G8-J8 -> 1972 | N8: =SUM(L8:M8) -> 1972 | O8: =IF($D$5="GPF",M8,0) -> 0 | P8: =IF($D$5="GPF 2004",N8,0) -> 1972 | Q8: 0 | R8: =SUM(O8:Q8) -> 1972 | S8: =N8-R8 -> 0 | V8: 3
E9: Surrender | F9: =IF(U9="NO",0,IF(U9="YES",F5/2,0)) -> 24650 | G9: =ROUND(F9*46/100,0) -> 11339 | H9: =SUM(F9:G9) -> 35989 | I9: =IF(U9="NO",0,IF(U9="YES",F5/2,0)) -> 24650 | J9: =ROUND(I9*42/100,0) -> 10353 | K9: =SUM(I9:J9) -> 35003 | L9: =F9-I9 -> 0 | M9: =G9-J9 -> 986 | N9: =SUM(L9:M9) -> 986 | O9: =IF($D$5="GPF",M9,0) -> 0 | P9: =IF($D$5="GPF 2004",N9,0) -> 986 | Q9: 0 | R9: =SUM(O9:Q9) -> 986 | S9: =N9-R9 -> 0 | U9: ='MASTER SHEET'!F4 -> YES | V9: 4
A10: 2 | B10: =VLOOKUP('D.A.ARREAR CALCULATION'!V6,'MASTER SHEET'!A3:F19,2,0) -> 0 | C10: =VLOOKUP('D.A.ARREAR CALCULATION'!V6,'MASTER SHEET'!A3:F19,3,0) -> 0 | D10: ='MASTER SHEET'!G5 -> 0 | E10: 45108 | F10: =VLOOKUP('D.A.ARREAR CALCULATION'!V6,'MASTER SHEET'!A3:G50,4,0) -> 0 | G10: =ROUND(F10*46/100,0) -> 0 | H10: =SUM(F10:G10) -> 0 | I10: =VLOOKUP('D.A.ARREAR CALCULATION'!V6,'MASTER SHEET'!A3:F19,4,0) -> 0 | J10: =ROUND(I10*42/100,0) -> 0 | K10: =SUM(I10:J10) -> 0 | L10: =F10-I10 -> 0 | M10: =G10-J10 -> 0 | N10: =SUM(L10:M10) -> 0 | O10: =IF($D$10="GPF",M10,0) -> 0 | P10: =IF($D$10="GPF 2004",N10,0) -> 0 | Q10: 0 | R10: =SUM(O10:Q10) -> 0 | S10: =N10-R10 -> 0 | V10: 5
E11: 45139 | F11: =F10 -> 0 | G11: =ROUND(F11*46/100,0) -> 0 | H11: =SUM(F11:G11) -> 0 | I11: =I10 -> 0 | J11: =ROUND(I11*42/100,0) -> 0 | K11: =SUM(I11:J11) -> 0 | L11: =F11-I11 -> 0 | M11: =G11-J11 -> 0 | N11: =SUM(L11:M11) -> 0 | O11: =IF($D$10="GPF",M11,0) -> 0 | P11: =IF($D$10="GPF 2004",N11,0) -> 0 | Q11: 0 | R11: =SUM(O11:Q11) -> 0 | S11: =N11-R11 -> 0 | V11: 6
E12: 45170 | F12: =F11 -> 0 | G12: =ROUND(F12*46/100,0) -> 0 | H12: =SUM(F12:G12) -> 0 | I12: =I11 -> 0 | J12: =ROUND(I12*42/100,0) -> 0 | K12: =SUM(I12:J12) -> 0 | L12: =F12-I12 -> 0 | M12: =G12-J12 -> 0 | N12: =SUM(L12:M12) -> 0 | O12: =IF($D$10="GPF",M12,0) -> 0 | P12: =IF($D$10="GPF 2004",N12,0) -> 0 | Q12: 0 | R12: =SUM(O12:Q12) -> 0 | S12: =N12-R12 -> 0
E13: 45200 | F13: =F12 -> 0 | G13: =ROUND(F13*46/100,0) -> 0 | H13: =SUM(F13:G13) -> 0 | I13: =I12 -> 0 | J13: =ROUND(I13*42/100,0) -> 0 | K13: =SUM(I13:J13) -> 0 | L13: =F13-I13 -> 0 | M13: =G13-J13 -> 0 | N13: =SUM(L13:M13) -> 0 | O13: =IF($D$10="GPF",M13,0) -> 0 | P13: =IF($D$10="GPF 2004",N13,0) -> 0 | Q13: 0 | R13: =SUM(O13:Q13) -> 0 | S13: =N13-R13 -> 0 | V13: 7
E14: Surrender | F14: =IF(U14="NO",0,IF(U14="YES",F10/2,0)) -> 0 | G14: =ROUND(F14*46/100,0) -> 0 | H14: =SUM(F14:G14) -> 0 | I14: =IF(U14="NO",0,IF(U14="YES",F10/2,0)) -> 0 | J14: =ROUND(I14*42/100,0) -> 0 | K14: =SUM(I14:J14) -> 0 | L14: =F14-I14 -> 0 | M14: =G14-J14 -> 0 | N14: =SUM(L14:M14) -> 0 | O14: =IF($D$10="GPF",M14,0) -> 0 | P14: =IF($D$10="GPF 2004",N14,0) -> 0 | Q14: 0 | R14: =SUM(O14:Q14) -> 0 | S14: =N14-R14 -> 0 | U14: ='MASTER SHEET'!F5 -> 0 | V14: 8
A15: 3 | B15: =VLOOKUP('D.A.ARREAR CALCULATION'!V8,'MASTER SHEET'!A3:F19,2,0) -> 0 | C15: =VLOOKUP('D.A.ARREAR CALCULATION'!V8,'MASTER SHEET'!A3:F19,3,0) -> 0 | D15: ='MASTER SHEET'!G6 -> 0 | E15: 45108 | F15: =VLOOKUP('D.A.ARREAR CALCULATION'!V8,'MASTER SHEET'!A3:G50,4,0) -> 0 | G15: =ROUND(F15*46/100,0) -> 0 | H15: =SUM(F15:G15) -> 0 | I15: =VLOOKUP('D.A.ARREAR CALCULATION'!V8,'MASTER SHEET'!A3:F19,4,0) -> 0 | J15: =ROUND(I15*42/100,0) -> 0 | K15: =SUM(I15:J15) -> 0 | L15: =F15-I15 -> 0 | M15: =G15-J15 -> 0 | N15: =SUM(L15:M15) -> 0 | O15: =IF($D$15="GPF",M15,0) -> 0 | P15: =IF($D$15="GPF 2004",N15,0) -> 0 | Q15: 0 | R15: =SUM(O15:Q15) -> 0 | S15: =N15-R15 -> 0 | V15: 9
E16: 45139 | F16: =F15 -> 0 | G16: =ROUND(F16*46/100,0) -> 0 | H16: =SUM(F16:G16) -> 0 | I16: =I15 -> 0 | J16: =ROUND(I16*42/100,0) -> 0 | K16: =SUM(I16:J16) -> 0 | L16: =F16-I16 -> 0 | M16: =G16-J16 -> 0 | N16: =SUM(L16:M16) -> 0 | O16: =IF($D$15="GPF",M16,0) -> 0 | P16: =IF($D$15="GPF 2004",N16,0) -> 0 | Q16: 0 | R16: =SUM(O16:Q16) -> 0 | S16: =N16-R16 -> 0 | V16: 10
E17: 45170 | F17: =F16 -> 0 | G17: =ROUND(F17*46/100,0) -> 0 | H17: =SUM(F17:G17) -> 0 | I17: =I16 -> 0 | J17: =ROUND(I17*42/100,0) -> 0 | K17: =SUM(I17:J17) -> 0 | L17: =F17-I17 -> 0 | M17: =G17-J17 -> 0 | N17: =SUM(L17:M17) -> 0 | O17: =IF($D$15="GPF",M17,0) -> 0 | P17: =IF($D$15="GPF 2004",N17,0) -> 0 | Q17: 0 | R17: =SUM(O17:Q17) -> 0 | S17: =N17-R17 -> 0
E18: 45200 | F18: =F17 -> 0 | G18: =ROUND(F18*46/100,0) -> 0 | H18: =SUM(F18:G18) -> 0 | I18: =I17 -> 0 | J18: =ROUND(I18*42/100,0) -> 0 | K18: =SUM(I18:J18) -> 0 | L18: =F18-I18 -> 0 | M18: =G18-J18 -> 0 | N18: =SUM(L18:M18) -> 0 | O18: =IF($D$15="GPF",M18,0) -> 0 | P18: =IF($D$15="GPF 2004",N18,0) -> 0 | Q18: 0 | R18: =SUM(O18:Q18) -> 0 | S18: =N18-R18 -> 0 | V18: 11
E19: Surrender | F19: =IF(U19="NO",0,IF(U19="YES",F15/2,0)) -> 0 | G19: =ROUND(F19*46/100,0) -> 0 | H19: =SUM(F19:G19) -> 0 | I19: =IF(U19="NO",0,IF(U19="YES",F15/2,0)) -> 0 | J19: =ROUND(I19*42/100,0) -> 0 | K19: =SUM(I19:J19) -> 0 | L19: =F19-I19 -> 0 | M19: =G19-J19 -> 0 | N19: =SUM(L19:M19) -> 0 | O19: =IF($D$15="GPF",M19,0) -> 0 | P19: =IF($D$15="GPF 2004",N19,0) -> 0 | Q19: 0 | R19: =SUM(O19:Q19) -> 0 | S19: =N19-R19 -> 0 | U19: ='MASTER SHEET'!F6 -> 0 | V19: 12
A20: 4 | B20: =VLOOKUP('D.A.ARREAR CALCULATION'!V9,'MASTER SHEET'!A3:F19,2,0) -> 0 | C20: =VLOOKUP('D.A.ARREAR CALCULATION'!V9,'MASTER SHEET'!A3:F19,3,0) -> 0 | D20: ='MASTER SHEET'!G7 -> 0 | E20: 45108 | F20: =VLOOKUP('D.A.ARREAR CALCULATION'!V9,'MASTER SHEET'!A3:G50,4,0) -> 0 | G20: =ROUND(F20*46/100,0) -> 0 | H20: =SUM(F20:G20) -> 0 | I20: =VLOOKUP('D.A.ARREAR CALCULATION'!V9,'MASTER SHEET'!A3:F19,4,0) -> 0 | J20: =ROUND(I20*42/100,0) -> 0 | K20: =SUM(I20:J20) -> 0 | L20: =F20-I20 -> 0 | M20: =G20-J20 -> 0 | N20: =SUM(L20:M20) -> 0 | O20: =IF($D$20="GPF",M20,0) -> 0 | P20: =IF($D$20="GPF 2004",N20,0) -> 0 | Q20: 0 | R20: =SUM(O20:Q20) -> 0 | S20: =N20-R20 -> 0 | V20: 13
E21: 45139 | F21: =F20 -> 0 | G21: =ROUND(F21*46/100,0) -> 0 | H21: =SUM(F21:G21) -> 0 | I21: =I20 -> 0 | J21: =ROUND(I21*42/100,0) -> 0 | K21: =SUM(I21:J21) -> 0 | L21: =F21-I21 -> 0 | M21: =G21-J21 -> 0 | N21: =SUM(L21:M21) -> 0 | O21: =IF($D$20="GPF",M21,0) -> 0 | P21: =IF($D$20="GPF 2004",N21,0) -> 0 | Q21: 0 | R21: =SUM(O21:Q21) -> 0 | S21: =N21-R21 -> 0 | V21: 14
E22: 45170 | F22: =F21 -> 0 | G22: =ROUND(F22*46/100,0) -> 0 | H22: =SUM(F22:G22) -> 0 | I22: =I21 -> 0 | J22: =ROUND(I22*42/100,0) -> 0 | K22: =SUM(I22:J22) -> 0 | L22: =F22-I22 -> 0 | M22: =G22-J22 -> 0 | N22: =SUM(L22:M22) -> 0 | O22: =IF($D$20="GPF",M22,0) -> 0 | P22: =IF($D$20="GPF 2004",N22,0) -> 0 | Q22: 0 | R22: =SUM(O22:Q22) -> 0 | S22: =N22-R22 -> 0
E23: 45200 | F23: =F22 -> 0 | G23: =ROUND(F23*46/100,0) -> 0 | H23: =SUM(F23:G23) -> 0 | I23: =I22 -> 0 | J23: =ROUND(I23*42/100,0) -> 0 | K23: =SUM(I23:J23) -> 0 | L23: =F23-I23 -> 0 | M23: =G23-J23 -> 0 | N23: =SUM(L23:M23) -> 0 | O23: =IF($D$20="GPF",M23,0) -> 0 | P23: =IF($D$20="GPF 2004",N23,0) -> 0 | Q23: 0 | R23: =SUM(O23:Q23) -> 0 | S23: =N23-R23 -> 0 | V23: 15
E24: Surrender | F24: =IF(U24="NO",0,IF(U24="YES",F20/2,0)) -> 0 | G24: =ROUND(F24*46/100,0) -> 0 | H24: =SUM(F24:G24) -> 0 | I24: =IF(U24="NO",0,IF(U24="YES",F20/2,0)) -> 0 | J24: =ROUND(I24*42/100,0) -> 0 | K24: =SUM(I24:J24) -> 0 | L24: =F24-I24 -> 0 | M24: =G24-J24 -> 0 | N24: =SUM(L24:M24) -> 0 | O24: =IF($D$20="GPF",M24,0) -> 0 | P24: =IF($D$20="GPF 2004",N24,0) -> 0 | Q24: 0 | R24: =SUM(O24:Q24) -> 0 | S24: =N24-R24 -> 0 | U24: ='MASTER SHEET'!F7 -> 0 | V24: 16
A25: 5 | B25: =VLOOKUP('D.A.ARREAR CALCULATION'!V10,'MASTER SHEET'!A3:F19,2,0) -> 0 | C25: =VLOOKUP('D.A.ARREAR CALCULATION'!V10,'MASTER SHEET'!A3:F19,3,0) -> 0 | D25: ='MASTER SHEET'!G8 -> 0 | E25: 45108 | F25: =VLOOKUP('D.A.ARREAR CALCULATION'!V10,'MASTER SHEET'!A3:G50,4,0) -> 0 | G25: =ROUND(F25*46/100,0) -> 0 | H25: =SUM(F25:G25) -> 0 | I25: =VLOOKUP('D.A.ARREAR CALCULATION'!V10,'MASTER SHEET'!A7:F23,4,0) -> 0 | J25: =ROUND(I25*42/100,0) -> 0 | K25: =SUM(I25:J25) -> 0 | L25: =F25-I25 -> 0 | M25: =G25-J25 -> 0 | N25: =SUM(L25:M25) -> 0 | O25: =IF($D$25="GPF",M25,0) -> 0 | P25: =IF($D$25="GPF 2004",N25,0) -> 0 | Q25: 0 | R25: =SUM(O25:Q25) -> 0 | S25: =N25-R25 -> 0 | V25: 17
E26: 45139 | F26: =F25 -> 0 | G26: =ROUND(F26*46/100,0) -> 0 | H26: =SUM(F26:G26) -> 0 | I26: =I25 -> 0 | J26: =ROUND(I26*42/100,0) -> 0 | K26: =SUM(I26:J26) -> 0 | L26: =F26-I26 -> 0 | M26: =G26-J26 -> 0 | N26: =SUM(L26:M26) -> 0 | O26: =IF($D$25="GPF",M26,0) -> 0 | P26: =IF($D$25="GPF 2004",N26,0) -> 0 | Q26: 0 | R26: =SUM(O26:Q26) -> 0 | S26: =N26-R26 -> 0 | V26: 18
E27: 45170 | F27: =F26 -> 0 | G27: =ROUND(F27*46/100,0) -> 0 | H27: =SUM(F27:G27) -> 0 | I27: =I26 -> 0 | J27: =ROUND(I27*42/100,0) -> 0 | K27: =SUM(I27:J27) -> 0 | L27: =F27-I27 -> 0 | M27: =G27-J27 -> 0 | N27: =SUM(L27:M27) -> 0 | O27: =IF($D$25="GPF",M27,0) -> 0 | P27: =IF($D$25="GPF 2004",N27,0) -> 0 | Q27: 0 | R27: =SUM(O27:Q27) -> 0 | S27: =N27-R27 -> 0
E28: 45200 | F28: =F27 -> 0 | G28: =ROUND(F28*46/100,0) -> 0 | H28: =SUM(F28:G28) -> 0 | I28: =I27 -> 0 | J28: =ROUND(I28*42/100,0) -> 0 | K28: =SUM(I28:J28) -> 0 | L28: =F28-I28 -> 0 | M28: =G28-J28 -> 0 | N28: =SUM(L28:M28) -> 0 | O28: =IF($D$25="GPF",M28,0) -> 0 | P28: =IF($D$25="GPF 2004",N28,0) -> 0 | Q28: 0 | R28: =SUM(O28:Q28) -> 0 | S28: =N28-R28 -> 0 | V28: 19
E29: Surrender | F29: =IF(U29="NO",0,IF(U29="YES",F25/2,0)) -> 0 | G29: =ROUND(F29*46/100,0) -> 0 | H29: =SUM(F29:G29) -> 0 | I29: =IF(U29="NO",0,IF(U29="YES",F25/2,0)) -> 0 | J29: =ROUND(I29*42/100,0) -> 0 | K29: =SUM(I29:J29) -> 0 | L29: =F29-I29 -> 0 | M29: =G29-J29 -> 0 | N29: =SUM(L29:M29) -> 0 | O29: =IF($D$25="GPF",M29,0) -> 0 | P29: =IF($D$25="GPF 2004",N29,0) -> 0 | Q29: 0 | R29: =SUM(O29:Q29) -> 0 | S29: =N29-R29 -> 0 | U29: ='MASTER SHEET'!F8 -> 0 | V29: 20
A30: 6 | B30: =VLOOKUP('D.A.ARREAR CALCULATION'!V11,'MASTER SHEET'!A3:F19,2,0) -> 0 | C30: =VLOOKUP('D.A.ARREAR CALCULATION'!V11,'MASTER SHEET'!A3:F19,3,0) -> 0 | D30: ='MASTER SHEET'!G9 -> 0 | E30: 45108 | F30: =VLOOKUP('D.A.ARREAR CALCULATION'!V11,'MASTER SHEET'!A3:G50,4,0) -> 0 | G30: =ROUND(F30*46/100,0) -> 0 | H30: =SUM(F30:G30) -> 0 | I30: =VLOOKUP('D.A.ARREAR CALCULATION'!V11,'MASTER SHEET'!A7:F23,4,0) -> 0 | J30: =ROUND(I30*42/100,0) -> 0 | K30: =SUM(I30:J30) -> 0 | L30: =F30-I30 -> 0 | M30: =G30-J30 -> 0 | N30: =SUM(L30:M30) -> 0 | O30: =IF($D$30="GPF",M30,0) -> 0 | P30: =IF($D$30="GPF 2004",N30,0) -> 0 | Q30: 0 | R30: =SUM(O30:Q30) -> 0 | S30: =N30-R30 -> 0 | V30: 21
E31: 45139 | F31: =F30 -> 0 | G31: =ROUND(F31*46/100,0) -> 0 | H31: =SUM(F31:G31) -> 0 | I31: =I30 -> 0 | J31: =ROUND(I31*42/100,0) -> 0 | K31: =SUM(I31:J31) -> 0 | L31: =F31-I31 -> 0 | M31: =G31-J31 -> 0 | N31: =SUM(L31:M31) -> 0 | O31: =IF($D$30="GPF",M31,0) -> 0 | P31: =IF($D$30="GPF 2004",N31,0) -> 0 | Q31: 0 | R31: =SUM(O31:Q31) -> 0 | S31: =N31-R31 -> 0 | V31: 22
E32: 45170 | F32: =F31 -> 0 | G32: =ROUND(F32*46/100,0) -> 0 | H32: =SUM(F32:G32) -> 0 | I32: =I31 -> 0 | J32: =ROUND(I32*42/100,0) -> 0 | K32: =SUM(I32:J32) -> 0 | L32: =F32-I32 -> 0 | M32: =G32-J32 -> 0 | N32: =SUM(L32:M32) -> 0 | O32: =IF($D$30="GPF",M32,0) -> 0 | P32: =IF($D$30="GPF 2004",N32,0) -> 0 | Q32: 0 | R32: =SUM(O32:Q32) -> 0 | S32: =N32-R32 -> 0
E33: 45200 | F33: =F32 -> 0 | G33: =ROUND(F33*46/100,0) -> 0 | H33: =SUM(F33:G33) -> 0 | I33: =I32 -> 0 | J33: =ROUND(I33*42/100,0) -> 0 | K33: =SUM(I33:J33) -> 0 | L33: =F33-I33 -> 0 | M33: =G33-J33 -> 0 | N33: =SUM(L33:M33) -> 0 | O33: =IF($D$30="GPF",M33,0) -> 0 | P33: =IF($D$30="GPF 2004",N33,0) -> 0 | Q33: 0 | R33: =SUM(O33:Q33) -> 0 | S33: =N33-R33 -> 0 | V33: 23
E34: Surrender | F34: =IF(U34="NO",0,IF(U34="YES",F30/2,0)) -> 0 | G34: =ROUND(F34*46/100,0) -> 0 | H34: =SUM(F34:G34) -> 0 | I34: =IF(U34="NO",0,IF(U34="YES",F30/2,0)) -> 0 | J34: =ROUND(I34*42/100,0) -> 0 | K34: =SUM(I34:J34) -> 0 | L34: =F34-I34 -> 0 | M34: =G34-J34 -> 0 | N34: =SUM(L34:M34) -> 0 | O34: =IF($D$30="GPF",M34,0) -> 0 | P34: =IF($D$30="GPF 2004",N34,0) -> 0 | Q34: 0 | R34: =SUM(O34:Q34) -> 0 | S34: =N34-R34 -> 0 | U34: ='MASTER SHEET'!F9 -> 0 | V34: 24
A35: 7 | B35: =VLOOKUP('D.A.ARREAR CALCULATION'!V13,'MASTER SHEET'!A3:F19,2,0) -> 0 | C35: =VLOOKUP('D.A.ARREAR CALCULATION'!V13,'MASTER SHEET'!A3:F19,3,0) -> 0 | D35: ='MASTER SHEET'!G10 -> 0 | E35: 45108 | F35: =VLOOKUP('D.A.ARREAR CALCULATION'!V13,'MASTER SHEET'!A3:G50,4,0) -> 0 | G35: =ROUND(F35*46/100,0) -> 0 | H35: =SUM(F35:G35) -> 0 | I35: =VLOOKUP('D.A.ARREAR CALCULATION'!V13,'MASTER SHEET'!A7:F23,4,0) -> 0 | J35: =ROUND(I35*42/100,0) -> 0 | K35: =SUM(I35:J35) -> 0 | L35: =F35-I35 -> 0 | M35: =G35-J35 -> 0 | N35: =SUM(L35:M35) -> 0 | O35: =IF($D$35="GPF",M35,0) -> 0 | P35: =IF($D$35="GPF 2004",N35,0) -> 0 | Q35: 0 | R35: =SUM(O35:Q35) -> 0 | S35: =N35-R35 -> 0 | V35: 25
E36: 45139 | F36: =F35 -> 0 | G36: =ROUND(F36*46/100,0) -> 0 | H36: =SUM(F36:G36) -> 0 | I36: =I35 -> 0 | J36: =ROUND(I36*42/100,0) -> 0 | K36: =SUM(I36:J36) -> 0 | L36: =F36-I36 -> 0 | M36: =G36-J36 -> 0 | N36: =SUM(L36:M36) -> 0 | O36: =IF($D$35="GPF",M36,0) -> 0 | P36: =IF($D$35="GPF 2004",N36,0) -> 0 | Q36: 0 | R36: =SUM(O36:Q36) -> 0 | S36: =N36-R36 -> 0 | V36: 26
E37: 45170 | F37: =F36 -> 0 | G37: =ROUND(F37*46/100,0) -> 0 | H37: =SUM(F37:G37) -> 0 | I37: =I36 -> 0 | J37: =ROUND(I37*42/100,0) -> 0 | K37: =SUM(I37:J37) -> 0 | L37: =F37-I37 -> 0 | M37: =G37-J37 -> 0 | N37: =SUM(L37:M37) -> 0 | O37: =IF($D$35="GPF",M37,0) -> 0 | P37: =IF($D$35="GPF 2004",N37,0) -> 0 | Q37: 0 | R37: =SUM(O37:Q37) -> 0 | S37: =N37-R37 -> 0
E38: 45200 | F38: =F37 -> 0 | G38: =ROUND(F38*46/100,0) -> 0 | H38: =SUM(F38:G38) -> 0 | I38: =I37 -> 0 | J38: =ROUND(I38*42/100,0) -> 0 | K38: =SUM(I38:J38) -> 0 | L38: =F38-I38 -> 0 | M38: =G38-J38 -> 0 | N38: =SUM(L38:M38) -> 0 | O38: =IF($D$35="GPF",M38,0) -> 0 | P38: =IF($D$35="GPF 2004",N38,0) -> 0 | Q38: 0 | R38: =SUM(O38:Q38) -> 0 | S38: =N38-R38 -> 0 | V38: 27
E39: Surrender | F39: =IF(U39="NO",0,IF(U39="YES",F35/2,0)) -> 0 | G39: =ROUND(F39*46/100,0) -> 0 | H39: =SUM(F39:G39) -> 0 | I39: =IF(U39="NO",0,IF(U39="YES",F35/2,0)) -> 0 | J39: =ROUND(I39*42/100,0) -> 0 | K39: =SUM(I39:J39) -> 0 | L39: =F39-I39 -> 0 | M39: =G39-J39 -> 0 | N39: =SUM(L39:M39) -> 0 | O39: =IF($D$35="GPF",M39,0) -> 0 | P39: =IF($D$35="GPF 2004",N39,0) -> 0 | Q39: 0 | R39: =SUM(O39:Q39) -> 0 | S39: =N39-R39 -> 0 | U39: ='MASTER SHEET'!F10 -> 0 | V39: 28
A40: 8 | B40: =VLOOKUP('D.A.ARREAR CALCULATION'!V14,'MASTER SHEET'!A3:G23,2,0) -> 0 | C40: =VLOOKUP('D.A.ARREAR CALCULATION'!V14,'MASTER SHEET'!A3:G23,3,0) -> 0 | D40: ='MASTER SHEET'!G11 -> 0 | E40: 45108 | F40: =VLOOKUP('D.A.ARREAR CALCULATION'!V14,'MASTER SHEET'!A3:G50,4,0) -> 0 | G40: =ROUND(F40*46/100,0) -> 0 | H40: =SUM(F40:G40) -> 0 | I40: =VLOOKUP('D.A.ARREAR CALCULATION'!V14,'MASTER SHEET'!A11:F27,4,0) -> 0 | J40: =ROUND(I40*42/100,0) -> 0 | K40: =SUM(I40:J40) -> 0 | L40: =F40-I40 -> 0 | M40: =G40-J40 -> 0 | N40: =SUM(L40:M40) -> 0 | O40: =IF($D$40="GPF",M40,0) -> 0 | P40: =IF($D$40="GPF 2004",N40,0) -> 0 | Q40: 0 | R40: =SUM(O40:Q40) -> 0 | S40: =N40-R40 -> 0 | V40: 29
...
