Workbook

Sheet Master
A1: uofu;qDr deZpkjh dk fooj.k
A2: dsoy lQsn LFkku gh Hkjsa
A3: vkoafVr ihbZbZvks fo|ky; dk uke | E3: jkmekfo xksj/kuiqjk
A4: vkoafVr fo|ky; | B4: jkmizkfo daojiqjk | C4: iapk;r lfefr | D4: vV# | E4: ftyk | F4: ckjka | H4: Jheku~
A5: fodkl vf/kdkjh | B5: vkns'k dzekad%& | C5: LFkk-@ijkizkf'k@2022&23@32&45 | E5: fnukad | F5: 26@09@2023 | H5: insu iapk;r izkjfEHkd f'k{kk vf/kdkjh ,oa iz/kkukpk;Z egksn;]
A6: ysoy | B6: f}rh; | C6: fo"k; | D6: foKku&xf.kr | E6: dk;Zxzg.k fnukad | F6: 28@09@2023
A7: uke deZpkjh | B7: Jh ijekuUn es?koky | E7: dk;Zxzg.k le; | F7: e/;kUg iwoZ
A8: firk dk uke | B8: Hk¡oj yky es?koky | E8: RAJTEACHERS.NET
A9: Sex | B9: Female | C9: Joining School | D9: Senior School | H9: Male | I9: Senior School
H10: Female | I10: PS/UPS School
A11: CREATED BY: PARMANAND MEGHWAL HEADMASTER, GUPS KANWARPURA | H11: =IF(B9="male","x;k gw¡A","xbZ gw¡A") -> xbZ gw¡A | I11: =IF(D9="Senior School","iz/kkukpk;Z egksn;]","iz/kkuk/;kid egksn;]") -> iz/kkukpk;Z egksn;] | K11: =IF(B9="male","izkFkhZ","izkFkhZ;k") -> izkFkhZ;k | L11: =IF(D9="Senior School","iz/kkukpk;Z","iz/kkuk/;kid") -> iz/kkukpk;Z
H12: =IF(B9="male","iq= Jh","iq=h Jh") -> iq=h Jh | I12: =IF(D9="SENIOR SCHOOL",E3,B4) -> jkmekfo xksj/kuiqjk

Sheet PEEO
M2: vr% Jheku~ th ls fuosnu gS fd vkids v/khuLFk fo|ky;
M3: esa dk;Zxzg.k djokus dh vuqefr iznku djsaA
A5: lsok esa]
B6: =CONCATENATE(Master!H4," ",Master!H5) -> Jheku~ insu iapk;r izkjfEHkd f'k{kk vf/kdkjh ,oa iz/kkukpk;Z egksn;] | M6: dh ikyuk esaA
B7: =Master!E3 -> jkmekfo xksj/kuiqjk
B8: =CONCATENATE(Master!C4," ",Master!D4,"] ",Master!E4," ",Master!F4,) -> iapk;r lfefr vV#] ftyk ckjka
A10: fo"k; & | B10: dk;Zxzg.k djokus ckcr~A
A11: lanHkZ & | B11: =CONCATENATE(Master!H4," ",Master!A5," ",Master!C4," ",Master!D4," ds ",Master!B5," ",Master!C5," ",Master!E5,"& ",Master!F5," ",M6) -> Jheku~ fodkl vf/kdkjh iapk;r lfefr vV# ds vkns'k dzekad%& LFkk-@ijkizkf'k@2022&23@32&45 fnukad& 26@09@2023 dh ikyuk esaA | L11: S
A13: egksn;]
B14: =CONCATENATE(PEEO!M14," ",Master!B6,"] ",Master!C6," ¼",Master!D6,"½ ",PEEO!M15," ",Master!B4," ",Master!C4," ",Master!D4," ",Master!E4," ",Master!F4," ",Master!B4," ",PEEO!Q15," ",PEEO!M16," ",Master!F6," ",PEEO!S16," ",Master!F7," ",PEEO!T16, " ",Master!H11) -> mijksDr fo"k;kUrxZr fuosnu gS fd jktLFkku izkFkfed ,oa mPp izkFkfed fo|ky; v/;kid lh/kh HkrhZ 2021&22 ds vUrxZr ysoy f}rh;] fo"k; ¼foKku&xf.kr½ esa eq>s vkids v/khuLFk fo|ky; jkmizkfo daojiqjk iapk;r lfefr vV# ftyk ckjka jkmizkfo daojiqjk vkoafVr gqvk gSaA rFkk izklafxd vkns”kksa dh vuqikyuk esa vkt fnukad%& 28@09@2023 dks e/;kUg iwoZ esa dk;Zxzg.k gsrq mifLFkr gks xbZ gw¡A | M14: mijksDr fo"k;kUrxZr fuosnu gS fd jktLFkku izkFkfed ,oa mPp izkFkfed fo|ky; v/;kid lh/kh HkrhZ 2021&22 ds vUrxZr ysoy
B15: =CONCATENATE(PEEO!M2," ",Master!B4,"] ",,Master!C4," ",Master!D4," ",Master!E4," ",Master!F4," ",PEEO!M3) -> vr% Jheku~ th ls fuosnu gS fd vkids v/khuLFk fo|ky; jkmizkfo daojiqjk] iapk;r lfefr vV# ftyk ckjka esa dk;Zxzg.k djokus dh vuqefr iznku djsaA | M15: esa eq>s vkids v/khuLFk fo|ky; | Q15: vkoafVr gqvk gSaA
B16: mifLFkfr i= Jheku~ dh lsok esa lsokfiZr gSaA | M16: rFkk izklafxd vkns”kksa dh vuqikyuk esa vkt fnukad%& | S16: dks | T16: esa dk;Zxzg.k gsrq mifLFkr gks
A18: layXu&
A19: 1- ftyk vkoaVu@inLFkkiu vkns”kA
A20: 2- ftyk inLFkkiu vkns”kA
A21: 3- iapk;r lfefr fu;qfDr vkns”kA
A22: 4- ewy nLrkost o Nk;kizfrA
A23: 5- iqfyl pfj= izek.k i=A
A24: 6- LokLF; izek.k i=A
A25: 7- larku lacU/kh “kiFk i=A
A26: 8- Hkkjr ds lafo/kku ds izfr fu’Bk lR;fu’Bk “kiFk i=A
A27: 9- /kqeziku ,oa xqV[kk lsou ugha djus dk opuc}rk “kiFk i=A
A28: 10- | B28: ngst ugha ysus dk Lo?kks’k.kk i=A
A29: 11- | B29: ,d ls vf/kd ifRu@ifr ugha gksus dk izek.k i=A
A30: 12- | B30: nks mRrjnk;h O;fDr;ksa }kjk tkjh pfj= izek.k i=A
A31: 13- | B31: “kSf{kd@iz”kSf{kd ;ksX;rk lacU/kh “kiFk i=A
A32: 14- | B32: nLrkostksa@lwpukvksa ds lacU/k esa “kiFk i=A
C35: fnukad%& | D35: =Master!F6 -> 28@09@2023 | F35: =CONCATENATE(Master!K11) -> izkFkhZ;k
F36: =CONCATENATE(Master!B7," ",Master!H12," ",Master!B8) -> Jh ijekuUn es?koky iq=h Jh Hk¡oj yky es?koky | M36: v/;kid
F37: =CONCATENATE(PEEO!M36," ",Master!A6," ",Master!B6,"] ",Master!C6," ¼",Master!D6,"½ ") -> v/;kid ysoy f}rh;] fo"k; ¼foKku&xf.kr½

Sheet PEEO LATTER
A2: =CONCATENATE(I2,) -> dk;kZy; insu iapk;r izkjfEHkd f'k{kk vf/kdkjh ,oa iz/kkukpk;Z | I2: dk;kZy; insu iapk;r izkjfEHkd f'k{kk vf/kdkjh ,oa iz/kkukpk;Z
A3: =CONCATENATE(Master!E3,"] ",Master!C4," ",Master!D4,"] ",Master!E4," & ",Master!F4) -> jkmekfo xksj/kuiqjk] iapk;r lfefr vV#] ftyk & ckjka | I3: Jheku~ fodkl vf/kdkjh egksn; dk;kZy; iapk;r lfefr
A4: dzekad%& | F4: fnukad%&
A5: dk;kZy;&vkns'k | I5: ds | J5: ds in ij | L5: esa gqvk gSaA | N5: us vkt fnukad%&
A6: iz/kkuk/;kid] | I6: ds vkns'kkuqlkj | K6: dk inLFkkiu uofu;qfDr r`rh; Js.kh v/;kid ysoy
A7: =CONCATENATE(Master!B4) -> jkmizkfo daojiqjk | I7: dks | J7: dks LFkkuh; dk;kZy; esa mifFkfr ns nh gSaA
B9: =CONCATENATE(I3," ",Master!D4," ",I5," ",Master!B5," ",Master!C5," ,oa ",Master!E5," ",Master!F5," ",I6," ",Master!B7," ",K6," ¼",Master!B6,"] ",Master!C6," ",Master!D6,"½ ",J5," ",Master!B4," ",Master!C4," ",Master!D4," ",Master!E4," ",Master!F4," ",L5) -> Jheku~ fodkl vf/kdkjh egksn; dk;kZy; iapk;r lfefr vV# ds vkns'k dzekad%& LFkk-@ijkizkf'k@2022&23@32&45 ,oa fnukad 26@09@2023 ds vkns'kkuqlkj Jh ijekuUn es?koky dk inLFkkiu uofu;qfDr r`rh; Js.kh v/;kid ysoy ¼f}rh;] fo"k; foKku&xf.kr½ ds in ij jkmizkfo daojiqjk iapk;r lfefr vV# ftyk ckjka esa gqvk gSaA | I9: ds nLrkost tkap dj izkIr dj fy;s gSaA budh mifLFkfr izekf.kr dh tkrh gSaA
B10: =CONCATENATE(Master!K11," ",N5," ",Master!F6," ",I7," ",Master!F7," ",J7) -> izkFkhZ;k us vkt fnukad%& 28@09@2023 dks e/;kUg iwoZ dks LFkkuh; dk;kZy; esa mifFkfr ns nh gSaA | I10: laLFkk iz/kku | K10: dks dk;Zxzg.k djokdj mifLFkfr izekf.kr dj dk;kZy; dks fHktok;saA
B11: =CONCATENATE(Master!B7," ",I9) -> Jh ijekuUn es?koky ds nLrkost tkap dj izkIr dj fy;s gSaA budh mifLFkfr izekf.kr dh tkrh gSaA
B12: =CONCATENATE(I10," ",Master!B7," ",K10,) -> laLFkk iz/kku Jh ijekuUn es?koky dks dk;Zxzg.k djokdj mifLFkfr izekf.kr dj dk;kZy; dks fHktok;saA
E14: insu iapk;r izkjfEHkd f”k{kk vf/kdkjh
E15: =CONCATENATE(Master!E3) -> jkmekfo xksj/kuiqjk
E16: =E30 -> iapk;r lfefr vV#] ftyk & ckjka
A18: dzekad%& | F18: fnukad%&
A19: izfyfyfi lwpukFkZ ,oa vko’;d dk;Zokgh gsrq&
A20: =CONCATENATE(I20," ",Master!F4) -> 1- Jheku] eq[; ftyk f'k{kk vf/kdkjh egksn;] ¼eq[;ky;½ ckjka | I20: 1- Jheku] eq[; ftyk f'k{kk vf/kdkjh egksn;] ¼eq[;ky;½
A21: =CONCATENATE(I21," ",Master!F4) -> 2- Jheku] ftyk f'k{kk vf/kdkjh egksn;] izkj-@ek/;- f”k{kk ckjka | I21: 2- Jheku] ftyk f'k{kk vf/kdkjh egksn;] izkj-@ek/;- f”k{kk
A22: =CONCATENATE(I22," ",Master!D4) -> 3- Jheku] fodkl vf/kdkjh egksn; ia-l- vV# | I22: 3- Jheku] fodkl vf/kdkjh egksn; ia-l-
A23: =CONCATENATE(I23," ",Master!D4) -> 4- Jheku~ eq[; CykWd f'k{kk vf/kdkjh egksn;] lexz f'k{kk vV# | I23: 4- Jheku~ eq[; CykWd f'k{kk vf/kdkjh egksn;] lexz f'k{kk
A24: =CONCATENATE(I24," ",Master!B7) -> 5- lEcfU/kr deZpkjh Jh ijekuUn es?koky | I24: 5- lEcfU/kr deZpkjh
A25: 6- jf{kr izfrA
E28: insu iapk;r izkjfEHkd f”k{kk vf/kdkjh
E29: =CONCATENATE(Master!E3) -> jkmekfo xksj/kuiqjk
E30: =CONCATENATE(Master!C4," ",Master!D4,"] ",Master!E4," & ",Master!F4) -> iapk;r lfefr vV#] ftyk & ckjka

Sheet SCHOOL
M2: vr% Jheku~ th ls fuosnu gS fd vkids v/khuLFk fo|ky;
M3: esa dk;Zxzg.k djokus dh vuqefr iznku djsaA
A5: lsok esa]
B6: =CONCATENATE(Master!H4," ",Master!I11) -> Jheku~ iz/kkukpk;Z egksn;] | M6: dh vuqikyuk esa
B7: =Master!I12 -> jkmekfo xksj/kuiqjk | M7: vkt fnukad%& | O7: us | P7: dks
B8: =CONCATENATE(Master!C4," ",Master!D4,"] ",Master!E4," ",Master!F4,) -> iapk;r lfefr vV#] ftyk ckjka | M8: dk;Zxzg.k gsrq mifLFkr gks
A10: fo"k; & | B10: dk;Zxzg.k djus ckcr~A | M10: vr% Jheku~ th ls fuosnu gS fd vkids fo|ky;
M11: esa dk;Zxzg.k djokus dh vuqefr iznku djsaA
A12: egksn;]
B13: =CONCATENATE(SCHOOL!M13," ",Master!B6,"] ",Master!C6," ¼",Master!D6,"½ ",SCHOOL!M14," ",Master!I12," ",Master!C4," ",Master!D4," ",Master!E4," ",Master!F4," ",SCHOOL!Q14," ",SCHOOL!M15," ",Master!D4," ",SCHOOL!S15," ",Master!B5," ",Master!C5," ",Master!E5," ",Master!F5," ",SCHOOL!M6," ",SCHOOL!M7," ",Master!F6," ",Master!F7," ",SCHOOL!M8," ",Master!H11) -> mijksDr fo"k;kUrxZr fuosnu gS fd jktLFkku izkFkfed ,oa mPp izkFkfed fo|ky; v/;kid lh/kh HkrhZ 2021&22 ds vUrxZr ysoy f}rh;] fo"k; ¼foKku&xf.kr½ esa eq>s vkidk fo|ky; jkmekfo xksj/kuiqjk iapk;r lfefr vV# ftyk ckjka vkoafVr gqvk gSaA rFkk Jheku~ fodkl vf/kdkjh iapk;r lfefr vV# ds vkns'k dzekad%& LFkk-@ijkizkf'k@2022&23@32&45 fnukad 26@09@2023 dh vuqikyuk esa vkt fnukad%& 28@09@2023 e/;kUg iwoZ dk;Zxzg.k gsrq mifLFkr gks xbZ gw¡A | M13: mijksDr fo"k;kUrxZr fuosnu gS fd jktLFkku izkFkfed ,oa mPp izkFkfed fo|ky; v/;kid lh/kh HkrhZ 2021&22 ds vUrxZr ysoy
B14: =CONCATENATE(SCHOOL!M10," ",Master!I12," ",SCHOOL!M11) -> vr% Jheku~ th ls fuosnu gS fd vkids fo|ky; jkmekfo xksj/kuiqjk esa dk;Zxzg.k djokus dh vuqefr iznku djsaA | M14: esa eq>s vkidk fo|ky; | Q14: vkoafVr gqvk gSaA
B15: mifLFkfr i= Jheku~ dh lsok esa lsokfiZr gSaA | M15: rFkk Jheku~ fodkl vf/kdkjh iapk;r lfefr | S15: ds | T15: esa dk;Zxzg.k gsrq mifLFkr gks
A17: layXu& | M17: izekf.kr fd;k tkrk gS fd Jheku~ fodkl vf/kdkjh egksn; iapk;r lfefr
A18: 1- ftyk vkoaVu@inLFkkiu vkns”kA | M18: dk;kZy; insu iapk;r izkjfEHkd f”k{kk vf/kdkjh egksn;
A19: 2- ftyk inLFkkiu vkns”kA | M19: ----------------------------
A20: 3- iapk;r lfefr fu;qfDr vkns”kA | M20: mifLFkfr nsdj jktdk;Z vkjEHk dj fn;k gSaA
A21: 4- | B21: ihbZbZvks vkns'kA
M22: =Master!D9 -> Senior School
C24: fnukad%& | D24: =Master!F6 -> 28@09@2023 | F24: =CONCATENATE(Master!K11) -> izkFkhZ;k
F25: =CONCATENATE(Master!B7," ",Master!H12," ",Master!B8) -> Jh ijekuUn es?koky iq=h Jh Hk¡oj yky es?koky | M25: v/;kid
F26: =CONCATENATE(PEEO!M36," ",Master!A6," ",Master!B6,"] ",Master!C6," ¼",Master!D6,"½ ") -> v/;kid ysoy f}rh;] fo"k; ¼foKku&xf.kr½
A28: =CONCATENATE(Master!I12," ",Master!C4,"] ",Master!D4," ",Master!E4,"&",Master!F4) -> jkmekfo xksj/kuiqjk iapk;r lfefr] vV# ftyk&ckjka | M28: =CONCATENATE(M17," ",Master!D4,"] ",Master!E4,"&",Master!F4," ",S15," ",Master!B5," ",Master!C5," ",Master!E5,"%& ",Master!F5," ,oa ",M18," ",S15," ",Master!B5," ",M19," ",Master!E5," ",M19," ",M6," ",F25," ",F26," ",O7," ",M7," ",D24," ",P7," ",Master!F7," ",M20) -> izekf.kr fd;k tkrk gS fd Jheku~ fodkl vf/kdkjh egksn; iapk;r lfefr vV#] ftyk&ckjka ds vkns'k dzekad%& LFkk-@ijkizkf'k@2022&23@32&45 fnukad%& 26@09@2023 ,oa dk;kZy; insu iapk;r izkjfEHkd f”k{kk vf/kdkjh egksn; ds vkns'k dzekad%& ---------------------------- fnukad ---------------------------- dh vuqikyuk esa Jh ijekuUn es?koky iq=h Jh Hk¡oj yky es?koky v/;kid ysoy f}rh;] fo"k; ¼foKku&xf.kr½ us vkt fnukad%& 28@09@2023 dks e/;kUg iwoZ mifLFkfr nsdj jktdk;Z vkjEHk dj fn;k gSaA
A29: dzekad%& | J29: fnukad%&
M30: =CONCATENATE(M17," ",Master!D4,"] ",Master!E4,"&",Master!F4," ",S15," ",Master!B5," ",Master!C5," ",S15," ",Master!B5," ",M19," ",Master!E5," ",M19," ",M6," ",F25," ",F26," ",O7," ",M7," ",D24," ",P7," ",Master!F7," ",M20) -> izekf.kr fd;k tkrk gS fd Jheku~ fodkl vf/kdkjh egksn; iapk;r lfefr vV#] ftyk&ckjka ds vkns'k dzekad%& LFkk-@ijkizkf'k@2022&23@32&45 ds vkns'k dzekad%& ---------------------------- fnukad ---------------------------- dh vuqikyuk esa Jh ijekuUn es?koky iq=h Jh Hk¡oj yky es?koky v/;kid ysoy f}rh;] fo"k; ¼foKku&xf.kr½ us vkt fnukad%& 28@09@2023 dks e/;kUg iwoZ mifLFkfr nsdj jktdk;Z vkjEHk dj fn;k gSaA
B31: =IF(M22="ps/ups school",M28,M30) -> izekf.kr fd;k tkrk gS fd Jheku~ fodkl vf/kdkjh egksn; iapk;r lfefr vV#] ftyk&ckjka ds vkns'k dzekad%& LFkk-@ijkizkf'k@2022&23@32&45 ds vkns'k dzekad%& ---------------------------- fnukad ---------------------------- dh vuqikyuk esa Jh ijekuUn es?koky iq=h Jh Hk¡oj yky es?koky v/;kid ysoy f}rh;] fo"k; ¼foKku&xf.kr½ us vkt fnukad%& 28@09@2023 dks e/;kUg iwoZ mifLFkfr nsdj jktdk;Z vkjEHk dj fn;k gSaA
B32: vr% budh mifLFkfr izekf.kr dh tkrh gSaA
H33: =CONCATENATE(Master!L11) -> iz/kkukpk;Z
H34: =B7 -> jkmekfo xksj/kuiqjk
H35: =B8 -> iapk;r lfefr vV#] ftyk ckjka
