Workbook
Name _tds1: #REF!
Name _tds1: #REF!
Name _tds2: #REF!
Name _tds2: #REF!
Name AIR.Code001: #REF!
Name AIR.Code001: #REF!
Name AIR.Code002: #REF!
Name AIR.Code002: #REF!
Name AIR.Code003: #REF!
Name AIR.Code003: #REF!
Name AIR.Code004: #REF!
Name AIR.Code004: #REF!
Name AIR.Code005: #REF!
Name AIR.Code005: #REF!
Name AIR.Code006: #REF!
Name AIR.Code006: #REF!
Name AIR.Code007: #REF!
Name AIR.Code007: #REF!
Name AIR.Code008: #REF!
Name AIR.Code008: #REF!
Name AIR.TaxExmpIntInc: #REF!
Name AIR.TaxExmpIntInc: #REF!
Name Bank1: #REF!
Name Bank1: #REF!
Name Bank10: #REF!
Name Bank10: #REF!
Name Bank11: #REF!
Name Bank11: #REF!
Name Bank12: #REF!
Name Bank12: #REF!
Name Bank2: #REF!
Name Bank2: #REF!
Name Bank3: #REF!
Name Bank3: #REF!
Name Bank4: #REF!
Name Bank4: #REF!
Name Bank5: #REF!
Name Bank5: #REF!
Name Bank6: #REF!
Name Bank6: #REF!
Name Bank6PCAR: #REF!
Name Bank6PCAR: #REF!
Name Bank7: #REF!
Name Bank7: #REF!
Name Bank8: #REF!
Name Bank8: #REF!
Name Bank9: #REF!
Name Bank9: #REF!
Name BankAccNo: #REF!
Name BankAccNo: #REF!
Name BankArrear: #REF!
Name BankArrear: #REF!
Name BankArrear0: #REF!
Name BankArrear0: #REF!
Name BankArrear1: #REF!
Name BankArrear1: #REF!
Name BankArrear2: #REF!
Name BankArrear2: #REF!
Name BankArrear3: #REF!
Name BankArrear3: #REF!

Sheet Salary
C2: NPS | D2: Yes | E2: INCREAMENT MONTH | I2: JULY | L2: BONUS | O2: Yes | S2: HILL ALLOWANCE | X2: 420 | AA2: HRA | AB2: LEVEL | AD2: B-2 | AE2: JANUARY
C3: SENIOR CITIZEN | I3: No | AD3: C | AE3: JULY
C4: MARCH 2022 BASIC | I4: 41100 | AA4: B-2 | AB4: L-6 | AD4: Non Cat.
AD5: No HRA
Y6: =Z6&" / "&AA6 -> B-2 / L-1 | Z6: B-2 | AA6: L-1 | AB6: 2500
Y7: =Z7&" / "&AA7 -> B-2 / L-2 | Z7: B-2 | AA7: L-2 | AB7: 2500
Y8: =Z8&" / "&AA8 -> B-2 / L-3 | Z8: B-2 | AA8: L-3 | AB8: 2650
Y9: =Z9&" / "&AA9 -> B-2 / L-4 | Z9: B-2 | AA9: L-4 | AB9: 3100
Y10: =Z10&" / "&AA10 -> B-2 / L-5 | Z10: B-2 | AA10: L-5 | AB10: 3550
Y11: =Z11&" / "&AA11 -> B-2 / L-6 | Z11: B-2 | AA11: L-6 | AB11: 4250
Y12: =Z12&" / "&AA12 -> B-2 / L-7 | Z12: B-2 | AA12: L-7 | AB12: 5400
Y13: =Z13&" / "&AA13 -> B-2 / L-8 | Z13: B-2 | AA13: L-8 | AB13: 5750
Y14: =Z14&" / "&AA14 -> B-2 / L-9 | Z14: B-2 | AA14: L-9 | AB14: 6400
Y15: =Z15&" / "&AA15 -> B-2 / L-10 | Z15: B-2 | AA15: L-10 | AB15: 6750
Y16: =Z16&" / "&AA16 -> B-2 / L-11 | Z16: B-2 | AA16: L-11 | AB16: 8150
Y17: =Z17&" / "&AA17 -> B-2 / L-12 | Z17: B-2 | AA17: L-12 | AB17: 9500
... Y60: =Z60&" / "&AA60 -> No HRA / L-1 | Z60: No HRA | AA60: L-1 | AB60: 0
Y61: =Z61&" / "&AA61 -> No HRA / L-2 | Z61: No HRA | AA61: L-2
Y62: =Z62&" / "&AA62 -> No HRA / L-3 | Z62: No HRA | AA62: L-3
Y63: =Z63&" / "&AA63 -> No HRA / L-4 | Z63: No HRA | AA63: L-4
Y64: =Z64&" / "&AA64 -> No HRA / L-5 | Z64: No HRA | AA64: L-5
Y65: =Z65&" / "&AA65 -> No HRA / L-6 | Z65: No HRA | AA65: L-6
Y66: =Z66&" / "&AA66 -> No HRA / L-7 | Z66: No HRA | AA66: L-7
Y67: =Z67&" / "&AA67 -> No HRA / L-8 | Z67: No HRA | AA67: L-8
Y68: =Z68&" / "&AA68 -> No HRA / L-9 | Z68: No HRA | AA68: L-9
Y69: =Z69&" / "&AA69 -> No HRA / L-10 | Z69: No HRA | AA69: L-10
Y70: =Z70&" / "&AA70 -> No HRA / L-11 | Z70: No HRA | AA70: L-11
Y71: =Z71&" / "&AA71 -> No HRA / L-12 | Z71: No HRA | AA71: L-12
Y72: =Z72&" / "&AA72 -> No HRA / L-13 | Z72: No HRA | AA72: L-13
... Y77: =Z77&" / "&AA77 -> No HRA / L-17 | Z77: No HRA | AA77: L-17
C79: Agriculture Department, Uttarakhand
C80: Incometax Computation Financial (2022-23) Assessment Year (2023-24)
C81: EHRMS ID | F81: EMPLOYEE NAME | L81: Parmanand Meghwal | R81: SEX | T81: MALE | X81: BANK NAME | AA81: DCB AURANGABAD | AD81: Yes | AE81: BORDER ALLOWANCE
C82: EMPLOYEE ID | F82: FAHER'S NAME | L82: Bhanwar Lal | R82: ADHAR NO. | T82: 699056365783 | X82: A/C NO. | AA82: 00820000002794 | AD82: No | AE82: HILL ALLOWANCE
C83: PAN NO. | D83: ABCDW1223U | F83: DESIGNATION | L83: TEACHER | R83: BLOCK | T83: LAKHAWTI | X83: BRANCH NAME | AA83: AURANGABAD | AD83: Yes | AE83: Yes
C84: MOBILE NO. | F84: DATE OF BIRTH | L84: 02-03-1983 | R84: GRADE PAY | T84: 1800 | X84: IFSC CODE | AA84: UPCB000BULND | AD84: No | AE84: No
C85: RECEIPTS | P85: DEDUCTIONS | AA85: Net Cash Payment | AB85: Bill No. & T.V. No.
C86: Month | D86: Basic Pay | E86: D.A. | F86: HRA | G86: NPS (Govt Cont.) | H86: =IF(S2="BORDER ALLOWANCE","Border Allowance","Hill Allowance") -> Hill Allowance | I86: Washing Allow. | J86: C.P.A. | K86: Handicap Allow | L86: Medical Allowance | M86: Whicle Allowance | N86: Other Allowance | O86: Gross Salary | P86: =IF(D2="No","GPF","NPS (Emp. Cont.)") -> NPS (Emp. Cont.) | Q86: NPS (Govt Cont.) | R86: GIS | S86: PPF | T86: LIC | U86: Govt Vehicle Recovery Allow. deduction | V86: CM Relief | W86: SGHS Recover | X86: Income Tax / TDS | Y86: Other Deduction | Z86: Total Deduction
B87: 3 | C87: 44621 | D87: =I4 -> 41100 | E87: =ROUND(31%*D87,0) -> 12741 | F87: =VLOOKUP(AA4&" / "&AB4,Y5:AB78,4,0) -> 4250 | G87: =IF($D$2="Yes",ROUND((D87+E87)*0.14,0),IF($D$2="No",0)) -> 7538 | H87: =X2 -> 420 | I87: 0 | J87: 0 | K87: 0 | L87: 0 | M87: 1200 | O87: =SUM(D87:N87) -> 67249 | P87: =IF($D$2="Yes",ROUND((D87+E87)*0.1,0),IF($D$2="No",ROUND((D87)*0.1,0))) -> 5384 | Q87: =G87 -> 7538 | R87: 0 | S87: 0 | T87: 0 | U87: 2000 | X87: 5000 | Z87: =SUM(P87:Y87) -> 19922 | AA87: =O87-Z87 -> 47327 | AD87: L-1
B88: 4 | C88: 44652 | D88: =D87 -> 41100 | E88: =ROUND(31%*D88,0) -> 12741 | F88: =F87 -> 4250 | G88: =IF($D$2="Yes",ROUND((D88+E88)*0.14,0),IF($D$2="No",0)) -> 7538 | H88: =H87 -> 420 | I88: =IF(I$87=0,0,I87) -> 0 | J88: =IF(J$87=0,0,J87) -> 0 | K88: =IF(K$87=0,0,K87) -> 0 | L88: =IF(L$87=0,0,L87) -> 0 | M88: =M87 -> 1200 | O88: =SUM(D88:N88) -> 67249 | P88: =IF($D$2="Yes",ROUND((D88+E88)*0.1,0),IF($D$2="No",ROUND((D88)*0.1,0))) -> 5384 | Q88: =G88 -> 7538 | R88: =R87 -> 0 | S88: =S87 -> 0 | T88: =T87 -> 0 | U88: =U87 -> 2000 | V88: =V87 -> 0 | W88: =W87 -> 0 | X88: =X87 -> 5000 | Y88: =Y87 -> 0 | Z88: =SUM(P88:Y88) -> 19922 | AA88: =O88-Z88 -> 47327 | AD88: L-2
...

Sheet Other Deduction
A1: Details of Deductions, Income/Deposits and Exemptions Other Than Salary
A2: =Salary!L81& " , " &Salary!L83&" PAN - "&Salary!E83 -> Parmanand Meghwal , TEACHER PAN -
A3: 1. House Rent | B3: 42600 | C3: 19 | D3: 80TTA/80TTB Maximum Interest on Savings Account | E3: 0 | F3: BASIC+D.A. | DR3: UPS Kuhada Khurd
A4: 2. Entertainment Allowance | B4: 0 | C4: 20 | D4: Income Of Other Source (Bank FD, Interest etc) | E4: 20000 | F4: =Salary!D106+Salary!E106 -> 689894
A5: 3. Expenditure tax under section 16(III) | B5: 0 | C5: 21 | D5: 80C - Other Deductions In Under Section | E5: 0 | F5: Taxable Amt
A6: 4. Income from House Property | B6: 0 | C6: 22 | D6: (80CCC) Contribution to Pension Plan - Other Than NPS | E6: 0 | F6: ='Tax Old Regime'!P49 -> 364840
A7: 5. House Tax | B7: 0 | C7: 23 | D7: 80CCD(1B) Additional Contribution in NPS - (Max. 50000) | E7: 50000 | F7: Tax Deposited
A8: 6. Home Loan Principal Amount | B8: 0 | C8: 24 | D8: 23. 80D Medical Insurance Premium | E8: 0 | F8: =Salary!X106 -> 60000
A9: 7. Interest of House Loan | B9: 200000 | C9: 25 | D9: 80DD Medical treatment of dependents with disabilities | E9: 0 | F9: Rebate Under Section 80C, 80CCC, 80CCD(1)
A10: 8. LIC - Life Insurance (Other Than Salary) | B10: 0 | C10: 26 | D10: 80DDB Deduction for treatment of specific diseases | E10: 0 | DR10: UPS Banediya Charnan
A11: 9. PLI | B11: 0 | C11: 27 | D11: 80E Interest on loan taken for higher education | E11: 0 | DR11: UPS Laxmipura Dhakaran
A12: 10. Tution Fees | B12: 0 | C12: 28 | D12: 80G Donations given to charitable institutions etc. | E12: 0 | F12: ='Tax Old Regime'!P33 -> 68297 | DR12: UPS Pathraj Kala
A13: 11. ULIP / Annual Plan | B13: 0 | C13: 29 | D13: 80U In case of permanent physical disability | E13: 0
A14: 12. NSC - National Savings Certificate | B14: 0 | C14: 30 | D14: 80GGA Donations given for approved scientific, social, rural development etc. | E14: 0 | F14: Receipt Required for House Rent Exemption | DR14: PS Aarampura
A15: 13. Interest of NSC | B15: 0 | C15: 31 | D15: Equity Linked Savings Scheme | E15: 0 | DR15: UPS Laxmipura Dhakaran
A16: 14. PPF -Public Provident Fund | B16: 0 | C16: 32 | D16: Defferred Annuty | E16: 0 | DR16: UPS Raghunathpura
A17: 15. NSS -National Savings Scheme | B17: 0 | C17: 33 | D17: Relief under section 89 | E17: 0 | F17: =IF(B3>=1,(F4*10%+B3),0) -> 111589.4 | DR17: UPS Manda
A18: 16. Sukanya Samriddhi Yojana | B18: 0 | C18: 34 | D18: TDS - Income tax deposited in addition to salary bill | E18: 0 | DR18: UPS Sandla
A19: 17. Family Pension (Income) | B19: 14000 | C19: 35 | D19: =IF(Salary!S2="BORDER ALLOWANCE","Border Allowance","Hill Allowance") -> Hill Allowance | E19: 3600
A20: 18. Family Pension (Reabate) | B20: 15000 | C20: 36
A21: ='Tax Old Regime'!A65 -> Income Tax Refundable | D21: ='Tax Old Regime'!P65 -> 60000 | E21: HRA | F21: =Salary!F106 -> 51000 | DR21: UPS Ramsinghpura
A22: ="Total Rebate of (US 80C, 80CCC,80CCD(1)) = "&'Tax Old Regime'!P33 -> Total Rebate of (US 80C, 80CCC,80CCD(1)) = 68297 | D22: ="Investable Amount = "&(150000-'Tax Old Regime'!P33) -> Investable Amount = 81703 | DR22: GSS Ganeshganj
A23: DOWNLOD TAX SOFTWARE - RAJTEACHERS.NET
A24: CREATED BY : PARMANAND MEGHWAL SENIOR TEACHER (9784379510) , BARAN RAJASTHAN.

Sheet Tax Old Regime
A1: =Salary!C79 -> Agriculture Department, Uttarakhand
A2: Income Tax Computation Year 2022-2023 (Assessment Year 2023-2024)
A3: 1 | B3: Name | D3: =Salary!L81 -> Parmanand Meghwal | J3: Designation | K3: =Salary!L83 -> TEACHER | N3: PAN : | O3: =Salary!D83 -> ABCDW1223U
A4: 2 | B4: Total Income from Salary | O4: Rs | P4: =Salary!O106 -> 855949
A5: 3 | B5: Family Pension (Income) | O5: Rs | P5: ='Other Deduction'!B19 -> 14000
A6: 4 | B6: House Rent, Under Section 10(13-A) | O6: Rs | P6: ='Other Deduction'!B3 -> 42600
A7: 5 | B7: =IF(Salary!S2="BORDER ALLOWANCE","Border Allowance","Hill Allowance") -> Hill Allowance | E7: Other Allowances Under Section 10(14) which are Exempt from tax. | O7: Rs | P7: ='Other Deduction'!E19 -> 3600
A8: 6 | B8: Remanent (2+3)-(4+5) | O8: Rs | P8: =P4+P5-P6-P7 -> 823749
A9: 7 | B9: (i) Entertainment Allowance 16(II) (Maximum limit Rs.5000) | L9: ='Other Deduction'!B4 -> 0 | O9: Rs
B10: (ii) Expenditure tax under section 16(III) | L10: ='Other Deduction'!B5 -> 0 | O10: Rs
B11: (iii) Rebate On Family Pension 57(iia) | L11: ='Other Deduction'!B20 -> 15000 | O11: Rs
B12: (iv) Standard Deduction (Maximum limit Rs.50000) | L12: =IF(P8<50000,P8,50000) -> 50000 | O12: Rs | P12: =SUM(L9:N12) -> 65000
A13: 8 | B13: Remanent (6-7) | O13: Rs | P13: =P8-P12 -> 758749
A14: 9 | B14: (A) Income from House Property: (1) In Own Use - Nil | J14: (2) Rent Received is Rs. | L14: ='Other Deduction'!B6 -> 0
B15: (B) Subtract | D15: Rent of 30% | G15: Interest of House Loan | J15: House Tax | L15: Total
D16: =ROUND(L14*0.3,0) -> 0 | G16: =IF('Other Deduction'!B9>200000,200000,'Other Deduction'!B9) -> 200000 | J16: ='Other Deduction'!B7 -> 0 | L16: =D16+G16+J16 -> 200000
B17: Remainder -/+ (sum of 9(A) and 7(B) | O17: Rs | P17: =L14-L16 -> -200000
A18: 10 | B18: Total Balance -/+ (8 & 9) | O18: Rs | P18: =P13+P17 -> 558749
A19: 11 | B19: Other Income (Interest On Bank Account/Post Office Saving Bank Account) | O19: Rs | P19: ='Other Deduction'!E3+'Other Deduction'!E4 -> 20000
A20: 12 | B20: Gross Income (10+11) | O20: Rs | P20: =P18+P19 -> 578749
A21: 13 | B21: Deduct Deduction Under Section US - 80C, 80CCC,80CCD (1)
B22: (A) - Maximum limit 1,50,000 & Under Section (80CCE) Except
B23: 1 | C23: NPS (New Pension Scheme) | G23: Rs | H23: =IF(Salary!D2="Yes",Salary!P106,0) -> 68297 | I23: 10 | J23: Contribution to Pension Plan (80CCC) | M23: Rs | N23: ='Other Deduction'!E6 -> 0
B24: 2 | C24: LIC - Life Insurance | G24: Rs | H24: =Salary!T106+'Other Deduction'!B10 -> 0 | I24: 11 | J24: Interest paid on National Savings Certificate | M24: Rs | N24: ='Other Deduction'!B15 -> 0
B25: 3 | C25: NSC - National Savings Certificate | G25: Rs | H25: ='Other Deduction'!B14 -> 0 | I25: 12 | J25: Tution Fees | M25: Rs | N25: ='Other Deduction'!B12 -> 0
B26: 4 | C26: PPF -Public Provident Fund | G26: Rs | H26: ='Other Deduction'!B16 -> 0 | I26: 13 | J26: Equity Linked Savings Scheme | M26: Rs | N26: ='Other Deduction'!E15 -> 0
B27: 5 | C27: NSS -National Savings Scheme | G27: Rs | H27: ='Other Deduction'!B17 -> 0 | I27: 14 | J27: Defferred Annuty | M27: Rs | N27: ='Other Deduction'!E16 -> 0
B28: 6 | C28: GPF -Public provident fund | G28: Rs | H28: =IF(Salary!D2="No",Salary!P106,0) -> 0 | I28: 15 | J28: PLI | M28: Rs | N28: ='Other Deduction'!B11 -> 0
B29: 7 | C29: Group Insurance | G29: Rs | H29: =Salary!R106 -> 0 | I29: 16 | J29: Other Deductions - (80C) | M29: Rs | N29: ='Other Deduction'!E5 -> 0
B30: 8 | C30: ULIP / Annual Plan | G30: Rs | H30: ='Other Deduction'!B13 -> 0 | I30: 17 | J30: Sukanya Samriddhi Yojana | M30: Rs | N30: ='Other Deduction'!B18 -> 0
B31: 9 | C31: HBA Premium -Home Loan Principal Amount | G31: Rs | H31: ='Other Deduction'!B8 -> 0 | I31: 18 | M31: Rs
B32: Total (1 To 18) | M32: Rs | N32: =SUM(H23:H31)+SUM(N23:N31) -> 68297
B33: Maximum Deduction Amount Up to Rs 1.50 lakh | O33: Rs | P33: =IF(N32<150001,ROUND(N32,0),150000) -> 68297
B34: (B) Less - Section 80CCD(2) The Amount of Pension Contribution by the Employer (14% of the Maximum Salary) Separately exempted | O34: Rs | P34: =IF(Salary!D2="yes",Salary!Q106,0) -> 95615
B35: (C) Less - Section 80CCD (1B) Additional Contribution to New Pension Scheme (Maximum Rs.50,000) | O35: Rs | P35: ='Other Deduction'!E7 -> 50000
B36: Total (A+B+C) | P36: =P33+P34+P35 -> 213912
A37: 14 | B37: Other Deductions
B38: 1. Section 80D Medical Insurance Premium (Rs. 25000 for Self, Spouse and Children, Rs. 25000 for Parents, Rs. 50000 for Senior Citizen) | O38: Rs | P38: ='Other Deduction'!E8 -> 0
B39: 2. Section 80DD Medical Treatment of dependents with Disabilities (maximum 75,000 and 80% or more disability 125,000) | O39: Rs | P39: ='Other Deduction'!E9 -> 0
B40: 3. Section 80DDB Deduction for Treatment of Specific Diseases (Maximum Rs.40,000, Rs.100,000 for Senior Citizen) | O40: Rs | P40: ='Other Deduction'!E10 -> 0
...

Sheet Tax New Regime 
A1: =Salary!C79 -> Agriculture Department, Uttarakhand
A2: Income Tax Computation Year 2022-2023 (Assessment Year 2023-2024)
A3: 1 | B3: Name | D3: =Salary!L81 -> Parmanand Meghwal | J3: Designation | K3: =Salary!L83 -> TEACHER | N3: PAN : | O3: =Salary!D83 -> ABCDW1223U
A4: 2 | B4: Total Income from Salary | O4: Rs | P4: =Salary!O106 -> 855949
A5: 3 | B5: Family Pension (Income) | O5: Rs | P5: 0
A6: 4 | B6: House Rent, Under Section 10(13-A) | O6: Rs | P6: 0
A7: 5 | B7: =IF(Salary!S2="BORDER ALLOWANCE","Border Allowance","Hill Allowance") -> Hill Allowance | E7: Other Allowances Under Section 10(14) which are Exempt from tax. | O7: Rs | P7: 0
A8: 6 | B8: Remanent (2+3)-(4+5) | O8: Rs | P8: =P4+P5-P6-P7 -> 855949
A9: 7 | B9: (i) Entertainment Allowance 16(II) (Maximum limit Rs.5000) | L9: ='Other Deduction'!B4 -> 0 | O9: Rs
B10: (ii) Expenditure tax under section 16(III) | L10: ='Other Deduction'!B5 -> 0 | O10: Rs
B11: (iii) Rebate On Family Pension 57(iia) | L11: 0 | O11: Rs
B12: (iv) Standard Deduction (Maximum limit Rs.50000) | L12: 0 | O12: Rs | P12: =SUM(L9:N12) -> 0
A13: 8 | B13: Remanent (6-7) | O13: Rs | P13: =P8-P12 -> 855949
A14: 9 | B14: (A) Income from House Property: (1) In Own Use - Nil | J14: (2) Rent Received is Rs. | L14: ='Other Deduction'!B6 -> 0
B15: (B) Subtract | D15: Rent of 30% | G15: Interest of House Loan | J15: House Tax | L15: Total
D16: =ROUND(L14*0.3,0) -> 0 | G16: 0 | J16: ='Other Deduction'!B7 -> 0 | L16: =D16+G16+J16 -> 0
B17: Remainder -/+ (sum of 9(A) and 7(B) | O17: Rs | P17: 0
A18: 10 | B18: Total Balance -/+ (8 & 9) | O18: Rs | P18: =P13+P17 -> 855949
A19: 11 | B19: Other Income (Interest On Bank Account/Post Office Saving Bank Account) | O19: Rs | P19: ='Other Deduction'!E3+'Other Deduction'!E4 -> 20000
A20: 12 | B20: Gross Income (10+11) | O20: Rs | P20: =P18+P19 -> 875949
A21: 13 | B21: Deduct Deduction Under Section US - 80C, 80CCC,80CCD (1)
B22: (A) - Maximum limit 1,50,000 & Under Section (80CCE) Except
B23: 1 | C23: NPS (New Pension Scheme) | G23: Rs | H23: =IF(Salary!D2="Yes",Salary!P106,0) -> 68297 | I23: 10 | J23: Contribution to Pension Plan (80CCC) | M23: Rs | N23: ='Other Deduction'!E6 -> 0
B24: 2 | C24: LIC - Life Insurance | G24: Rs | H24: =Salary!T106+'Other Deduction'!B10 -> 0 | I24: 11 | J24: Interest paid on National Savings Certificate | M24: Rs | N24: ='Other Deduction'!B15 -> 0
B25: 3 | C25: NSC - National Savings Certificate | G25: Rs | H25: ='Other Deduction'!B14 -> 0 | I25: 12 | J25: Tution Fees | M25: Rs | N25: ='Other Deduction'!B12 -> 0
B26: 4 | C26: PPF -Public Provident Fund | G26: Rs | H26: ='Other Deduction'!B16 -> 0 | I26: 13 | J26: Equity Linked Savings Scheme | M26: Rs | N26: ='Other Deduction'!E15 -> 0
B27: 5 | C27: NSS -National Savings Scheme | G27: Rs | H27: ='Other Deduction'!B17 -> 0 | I27: 14 | J27: Defferred Annuty | M27: Rs | N27: ='Other Deduction'!E16 -> 0
B28: 6 | C28: GPF -Public provident fund | G28: Rs | H28: =IF(Salary!D2="No",Salary!P106,0) -> 0 | I28: 15 | J28: PLI | M28: Rs | N28: ='Other Deduction'!B11 -> 0
B29: 7 | C29: Group Insurance | G29: Rs | H29: =Salary!R106 -> 0 | I29: 16 | J29: Other Deductions - (80C) | M29: Rs | N29: ='Other Deduction'!E5 -> 0
B30: 8 | C30: ULIP / Annual Plan | G30: Rs | H30: ='Other Deduction'!B13 -> 0 | I30: 17 | J30: Sukanya Samriddhi Yojana | M30: Rs | N30: ='Other Deduction'!B18 -> 0
B31: 9 | C31: HBA Premium -Home Loan Principal Amount | G31: Rs | H31: ='Other Deduction'!B8 -> 0 | I31: 18 | M31: Rs
B32: Total (1 To 18) | M32: Rs | N32: =SUM(H23:H31)+SUM(N23:N31) -> 68297
B33: Maximum Deduction Amount Up to Rs 1.50 lakh | O33: Rs | P33: 0
B34: (B) Less - Section 80CCD(2) The Amount of Pension Contribution by the Employer (14% of the Maximum Salary) Separately exempted | O34: Rs | P34: =IF(Salary!D2="yes",Salary!Q106,0) -> 95615
B35: (C) Less - Section 80CCD (1B) Additional Contribution to New Pension Scheme (Maximum Rs.50,000) | O35: Rs | P35: ='Other Deduction'!E7 -> 50000
B36: Total (A+B+C) | P36: =P33+P34+P35 -> 145615
A37: 14 | B37: Other Deductions
B38: 1. Section 80D Medical Insurance Premium (Rs. 25000 for Self, Spouse and Children, Rs. 25000 for Parents, Rs. 50000 for Senior Citizen) | O38: Rs | P38: ='Other Deduction'!E8 -> 0
B39: 2. Section 80DD Medical Treatment of dependents with Disabilities (maximum 75,000 and 80% or more disability 125,000) | O39: Rs | P39: ='Other Deduction'!E9 -> 0
B40: 3. Section 80DDB Deduction for Treatment of Specific Diseases (Maximum Rs.40,000, Rs.100,000 for Senior Citizen) | O40: Rs | P40: ='Other Deduction'!E10 -> 0
...
