Workbook

Sheet Master
B2: निर्देश :- 1. यह सॉफ्टवेयर आपकी सुविधार्थ राजस्थान बोर्ड कक्षा 8 के सत्रांक तैयार करने के उद्देश्य को ध्यान में रखते हुए तैयार किया गया हैl | U2: सेवा | V2: सहयोग | W2: समर्पण
B3: 2. सर्वप्रथम Master शीट में आवश्यक पूर्तियां करके Marks Entry शीट में विद्यार्थियों की जानकारी, कक्षा तथा सम्बंधित विषय एवं विषयाध्यापक का चुनाव करते हुए निर्धारित अंक भरेंl
B4: 3. All Subject शीट में सभी विषय की समेकित सत्रांक सूची तथा Subject Wise शीट में वांछित विषयवार सूची का प्रिंट प्राप्त किया जा सकता हैl
B5: नोट:- हालाँकि यह सत्रांक सॉफ्टवेयर कक्षा 8 हेतु विभागीय नियमानुसार तैयार किया गया है, फिर भी इसमें किसी मानवीय त्रुटी की स्थिति में विभागीय नियम ही सर्वमान्य होंगे, ऑनलाइन दर्ज करने से पूर्व अवश्य जाँच कर लेवेंl
B7: BOARD CLASS SASSIONAL PREPARATION PROGRAM | AB7: 2019-20 | AC7: PRIMARY
K8: Subjects | P8: Staff Detail | AB8: 2019-21 | AC8: UPPER PRIMARY
B9: SESSION | D9: :- | E9: 2021-22 | K9: Sr. No. | L9: Name | M9: Sr. No. | N9: Name | P9: Sr. No. | Q9: Name | R9: Sr. No. | S9: Name | AB9: 2019-22 | AC9: SECONDARY
K10: 1 | L10: HINDI | P10: 1 | AB10: 2019-21 | AC10: UPPER PRIMARY
B11: SCHOOL'S FULL NAME (U-Dise Code) | D11: :- | K11: 2 | L11: ENGLISH | P11: 2
K12: 3 | L12: SCIENCE | P12: 3 | AB12: 2019-22 | AC12: SECONDARY
K13: 4 | L13: MATHEMATICS | P13: 4 | AB13: 2019-23 | AC13: SR. SECONDARY
B14: ADDRESS | D14: :- | K14: 5 | L14: SOCIAL SCIENCE | P14: 5
K15: 6 | L15: SANSKRIT | P15: 6 | U15: PREPARED BY:-UMMED TARAD | AB15: 2019-24
K16: 7 | L16: WORK EXP. | P16: 7 | AB16: 2019-23 | AC16: SR. SECONDARY
B17: U-DISE CODE | D17: :- | E17: 081000000 | K17: 8 | L17: ART EDU. | P17: 8 | AB17: 2019-24
K18: 9 | L18: H & PHY. EDU. | U18: (GSSS RAIMALWADA) | AB18: 2019-25
B19: NAME OF PRINCIPAL | D19: :- | U19: MOBILE NO.-9166973141 | AB19: 2019-26
U20: EMAIL ID-ummedtrdedu@gmail.com | AB20: 2019-25
B21: SCHOOL TYPE | D21: :- | E21: Sr. Secondary | AB21: 2019-26
AB22: 2019-27

Sheet Marks Entry
B1: =Master!E11 -> 0 | K1: =B1 -> 0
B2: Print Complete Subject | H2: Print Subjectwise | K2: सम्बंधित विषय तथा विषयाध्यापक का चुनाव करें ↆ
B3: School U-Dise Code :- | F3: =Master!E17 -> 081000000 | H3: Session :- | I3: =Master!E9 -> 2021-22 | K3: HINDI | W3: ENGLISH | AI3: SCIENCE | AU3: MATHEMATICS | BG3: SOCIAL SCIENCE | BS3: SANSKRIT | CE3: WORK EXP. | CL3: ART EDU. | CS3: H & PHY. EDU.
B4: Class - | F4: 8 | H4: =Master!E9 -> 2021-22 | I4: (A)
B5: Student Related Basic Details | K5: 1st Test | L5: 2nd Test | M5: Total Tests | N5: Half Yearly | R5: Total Half Yeary | S5: Total Th.+Int. Evo. | T5: 20 % Of Exam Mark's | U5: Attendance | V5: Sassional Marks | W5: 1st Test | X5: 2nd Test | Y5: Total Tests | Z5: Half Yearly | AD5: Total Half Yeary | AE5: Total Th.+Int. Evo. | AF5: 20 % Of Exam Mark's | AG5: Attendance | AH5: Sassional Marks | AI5: 1st Test | AJ5: 2nd Test | AK5: Total Tests | AL5: Half Yearly | AP5: Total Half Yeary | AQ5: Total Th.+Int. Evo. | AR5: 20 % Of Exam Mark's | AS5: Attendance | AT5: Sassional Marks | AU5: 1st Test | AV5: 2nd Test | AW5: Total Tests | AX5: Half Yearly | BB5: Total Half Yeary | BC5: Total Th.+Int. Evo. | BD5: 20 % Of Exam Mark's | BE5: Attendance | BF5: Sassional Marks | BG5: 1st Test | BH5: 2nd Test | BI5: Total Tests | BJ5: Half Yearly | BN5: Total Half Yeary | BO5: Total Th.+Int. Evo. | BP5: 20 % Of Exam Mark's | BQ5: Attendance | BR5: Sassional Marks | BS5: 1st Test | BT5: 2nd Test | BU5: Total Tests | BV5: Half Yearly | BZ5: Total Half Yeary | CA5: Total Th.+Int. Evo. | CB5: 20 % Of Exam Mark's | CC5: Attendance | CD5: Sassional Marks | CE5: 1st Test | CF5: 2nd Test | CG5: 3rd Test | CH5: 4th Test | CI5: 5th Test | CJ5: Total (Sass. Mark) | CK5: Grd | CL5: 1st Test | CM5: 2nd Test | CN5: 3rd Test | CO5: 4th Test | CP5: 5th Test | CQ5: Total (Sass. Mark) | CR5: Grd | CS5: 1st Test | CT5: 2nd Test | CU5: 3rd Test | CV5: 4th Test | CW5: 5th Test | CX5: Total (Sass. Mark) | CY5: Grd
B6: Sr. No. | C6: Class | D6: Scholar Number | E6: School Roll Number | F6: Board Roll Number | G6: Student's Name | H6: Father's Name | I6: Mother's Name | J6: Date Of Birth | K6: Theory | L6: Theory | N6: Theory | O6: Internal Evolution | P6: Oral Exam | W6: Theory | X6: Theory | Z6: Theory | AA6: Internal Evolution | AB6: Oral Exam | AI6: Theory | AJ6: Theory | AL6: Theory | AM6: Internal Evolution | AN6: Oral Exam | AU6: Theory | AV6: Theory | AX6: Theory | AY6: Internal Evolution | AZ6: Oral Exam | BG6: Theory | BH6: Theory | BJ6: Theory | BK6: Internal Evolution | BL6: Oral Exam | BS6: Theory | BT6: Theory | BV6: Theory | BW6: Internal Evolution | BX6: Oral Exam | CE6: Activity Based | CF6: Activity Based | CG6: Activity Based | CH6: Activity Based | CI6: Activity Based | CK6: A/B/C/D/E | CL6: Activity Based | CM6: Activity Based | CN6: Activity Based | CO6: Activity Based | CP6: Activity Based | CR6: A/B/C/D/E | CS6: Activity Based | CT6: Activity Based | CU6: Activity Based | CV6: Activity Based | CW6: Activity Based | CY6: A/B/C/D/E
K7: 20 | L7: 20 | M7: =SUM(K7:L7) -> 40 | N7: 42 | O7: 12 | P7: 6 | R7: =SUM(N7:P7) -> 60 | S7: =M7+R7 -> 100 | T7: 20 | U7: 0 | V7: =T7+U7 -> 20 | W7: 20 | X7: 20 | Y7: =SUM(W7:X7) -> 40 | Z7: 42 | AA7: 12 | AB7: 6 | AD7: =SUM(Z7:AB7) -> 60 | AE7: =Y7+AD7 -> 100 | AF7: 20 | AG7: 0 | AH7: =AF7+AG7 -> 20 | AI7: 20 | AJ7: 20 | AK7: =SUM(AI7:AJ7) -> 40 | AL7: 42 | AM7: 12 | AN7: 6 | AP7: =SUM(AL7:AN7) -> 60 | AQ7: =AK7+AP7 -> 100 | AR7: 20 | AS7: 0 | AT7: =AR7+AS7 -> 20 | AU7: 20 | AV7: 20 | AW7: =SUM(AU7:AV7) -> 40 | AX7: 42 | AY7: 12 | AZ7: 6 | BB7: =SUM(AX7:AZ7) -> 60 | BC7: =AW7+BB7 -> 100 | BD7: 20 | BE7: 0 | BF7: =BD7+BE7 -> 20 | BG7: 20 | BH7: 20 | BI7: =SUM(BG7:BH7) -> 40 | BJ7: 42 | BK7: 12 | BL7: 6 | BN7: =SUM(BJ7:BL7) -> 60 | BO7: =BI7+BN7 -> 100 | BP7: 20 | BQ7: 0 | BR7: =BP7+BQ7 -> 20 | BS7: 20 | BT7: 20 | BU7: =SUM(BS7:BT7) -> 40 | BV7: 42 | BW7: 12 | BX7: 6 | BZ7: =SUM(BV7:BX7) -> 60 | CA7: =BU7+BZ7 -> 100 | CB7: 20 | CC7: 0 | CD7: =CB7+CC7 -> 20 | CE7: 20 | CF7: 20 | CG7: 20 | CH7: 20 | CI7: 20 | CJ7: =SUM(CE7:CI7) -> 100 | CL7: 20 | CM7: 20 | CN7: 20 | CO7: 20 | CP7: 20 | CQ7: =SUM(CL7:CP7) -> 100 | CS7: 20 | CT7: 20 | CU7: 20 | CV7: 20 | CW7: 20 | CX7: =SUM(CS7:CW7) -> 100
A8: =F8 -> 0 | B8: 1 | C8: =F4 -> 8 | M8: =SUM(K8,L8) -> 0 | R8: {=N8+O8+P8} -> 0 | S8: {=M8+R8} -> 0 | T8: =ROUNDUP(S8*$T$7/100,0) -> 0 | V8: {=T8+U8} -> 0 | Y8: =SUM(W8,X8) -> 0 | AD8: {=Z8+AA8+AB8} -> 0 | AE8: {=Y8+AD8} -> 0 | AF8: =ROUNDUP(AE8*AF$7/100,0) -> 0 | AH8: {=AF8+AG8} -> 0 | AK8: =SUM(AI8,AJ8) -> 0 | AP8: {=AL8+AM8+AN8} -> 0 | AQ8: {=AK8+AP8} -> 0 | AR8: =ROUNDUP(AQ8*AR$7/100,0) -> 0 | AT8: {=AR8+AS8} -> 0 | AW8: =SUM(AU8,AV8) -> 0 | BB8: {=AX8+AY8+AZ8} -> 0 | BC8: {=AW8+BB8} -> 0 | BD8: =ROUNDUP(BC8*BD$7/100,0) -> 0 | BF8: {=BD8+BE8} -> 0 | BI8: =SUM(BG8,BH8) -> 0 | BN8: {=BJ8+BK8+BL8} -> 0 | BO8: {=BI8+BN8} -> 0 | BP8: =ROUNDUP(BO8*BP$7/100,0) -> 0 | BR8: {=BP8+BQ8} -> 0 | BU8: =SUM(BS8,BT8) -> 0 | BZ8: {=BV8+BW8+BX8} -> 0 | CA8: {=BU8+BZ8} -> 0 | CB8: =ROUNDUP(CA8*CB$7/100,0) -> 0 | CD8: {=CB8+CC8} -> 0 | CJ8: =SUM(CE8:CI8) -> 0 | CK8: =IF(CJ8>=86,"A",IF(CJ8>=71,"B",IF(CJ8>=51,"C",IF(CJ8>=33,"D","E")))) -> E | CQ8: =SUM(CL8:CP8) -> 0 | CR8: =IF(CQ8>=86,"A",IF(CQ8>=71,"B",IF(CQ8>=51,"C",IF(CQ8>=33,"D","E")))) -> E | CX8: =SUM(CS8:CW8) -> 0 | CY8: =IF(CX8>=86,"A",IF(CX8>=71,"B",IF(CX8>=51,"C",IF(CX8>=33,"D","E")))) -> E
A9: =F9 -> 0 | C9: =IF(B9>0,$F$4,0) -> 0 | M9: =SUM(K9,L9) -> 0 | R9: {=N9+O9+P9} -> 0 | S9: {=M9+R9} -> 0 | T9: =ROUNDUP(S9*$T$7/100,0) -> 0 | V9: {=T9+U9} -> 0 | Y9: =SUM(W9,X9) -> 0 | AD9: {=Z9+AA9+AB9} -> 0 | AE9: {=Y9+AD9} -> 0 | AF9: =ROUNDUP(AE9*AF$7/100,0) -> 0 | AH9: {=AF9+AG9} -> 0 | AK9: =SUM(AI9,AJ9) -> 0 | AP9: {=AL9+AM9+AN9} -> 0 | AQ9: {=AK9+AP9} -> 0 | AR9: =ROUNDUP(AQ9*AR$7/100,0) -> 0 | AT9: {=AR9+AS9} -> 0 | AW9: =SUM(AU9,AV9) -> 0 | BB9: {=AX9+AY9+AZ9} -> 0 | BC9: {=AW9+BB9} -> 0 | BD9: =ROUNDUP(BC9*BD$7/100,0) -> 0 | BF9: {=BD9+BE9} -> 0 | BI9: =SUM(BG9,BH9) -> 0 | BN9: {=BJ9+BK9+BL9} -> 0 | BO9: {=BI9+BN9} -> 0 | BP9: =ROUNDUP(BO9*BP$7/100,0) -> 0 | BR9: {=BP9+BQ9} -> 0 | BU9: =SUM(BS9,BT9) -> 0 | BZ9: {=BV9+BW9+BX9} -> 0 | CA9: {=BU9+BZ9} -> 0 | CB9: =ROUNDUP(CA9*CB$7/100,0) -> 0 | CD9: {=CB9+CC9} -> 0 | CJ9: =SUM(CE9:CI9) -> 0 | CK9: =IF(CJ9>=86,"A",IF(CJ9>=71,"B",IF(CJ9>=51,"C",IF(CJ9>=33,"D","E")))) -> E | CQ9: =SUM(CL9:CP9) -> 0 | CR9: =IF(CQ9>=86,"A",IF(CQ9>=71,"B",IF(CQ9>=51,"C",IF(CQ9>=33,"D","E")))) -> E | CX9: =SUM(CS9:CW9) -> 0 | CY9: =IF(CX9>=86,"A",IF(CX9>=71,"B",IF(CX9>=51,"C",IF(CX9>=33,"D","E")))) -> E
A10: =F10 -> 0 | C10: =IF(B10>0,$F$4,0) -> 0 | M10: =SUM(K10,L10) -> 0 | R10: {=N10+O10+P10} -> 0 | S10: {=M10+R10} -> 0 | T10: =ROUNDUP(S10*$T$7/100,0) -> 0 | V10: {=T10+U10} -> 0 | Y10: =SUM(W10,X10) -> 0 | AD10: {=Z10+AA10+AB10} -> 0 | AE10: {=Y10+AD10} -> 0 | AF10: =ROUNDUP(AE10*AF$7/100,0) -> 0 | AH10: {=AF10+AG10} -> 0 | AK10: =SUM(AI10,AJ10) -> 0 | AP10: {=AL10+AM10+AN10} -> 0 | AQ10: {=AK10+AP10} -> 0 | AR10: =ROUNDUP(AQ10*AR$7/100,0) -> 0 | AT10: {=AR10+AS10} -> 0 | AW10: =SUM(AU10,AV10) -> 0 | BB10: {=AX10+AY10+AZ10} -> 0 | BC10: {=AW10+BB10} -> 0 | BD10: =ROUNDUP(BC10*BD$7/100,0) -> 0 | BF10: {=BD10+BE10} -> 0 | BI10: =SUM(BG10,BH10) -> 0 | BN10: {=BJ10+BK10+BL10} -> 0 | BO10: {=BI10+BN10} -> 0 | BP10: =ROUNDUP(BO10*BP$7/100,0) -> 0 | BR10: {=BP10+BQ10} -> 0 | BU10: =SUM(BS10,BT10) -> 0 | BZ10: {=BV10+BW10+BX10} -> 0 | CA10: {=BU10+BZ10} -> 0 | CB10: =ROUNDUP(CA10*CB$7/100,0) -> 0 | CD10: {=CB10+CC10} -> 0 | CJ10: =SUM(CE10:CI10) -> 0 | CK10: =IF(CJ10>=86,"A",IF(CJ10>=71,"B",IF(CJ10>=51,"C",IF(CJ10>=33,"D","E")))) -> E | CQ10: =SUM(CL10:CP10) -> 0 | CR10: =IF(CQ10>=86,"A",IF(CQ10>=71,"B",IF(CQ10>=51,"C",IF(CQ10>=33,"D","E")))) -> E | CX10: =SUM(CS10:CW10) -> 0 | CY10: =IF(CX10>=86,"A",IF(CX10>=71,"B",IF(CX10>=51,"C",IF(CX10>=33,"D","E")))) -> E
A11: =F11 -> 0 | C11: =IF(B11>0,$F$4,0) -> 0 | M11: =SUM(K11,L11) -> 0 | R11: {=N11+O11+P11} -> 0 | S11: {=M11+R11} -> 0 | T11: =ROUNDUP(S11*$T$7/100,0) -> 0 | V11: {=T11+U11} -> 0 | Y11: =SUM(W11,X11) -> 0 | AD11: {=Z11+AA11+AB11} -> 0 | AE11: {=Y11+AD11} -> 0 | AF11: =ROUNDUP(AE11*AF$7/100,0) -> 0 | AH11: {=AF11+AG11} -> 0 | AK11: =SUM(AI11,AJ11) -> 0 | AP11: {=AL11+AM11+AN11} -> 0 | AQ11: {=AK11+AP11} -> 0 | AR11: =ROUNDUP(AQ11*AR$7/100,0) -> 0 | AT11: {=AR11+AS11} -> 0 | AW11: =SUM(AU11,AV11) -> 0 | BB11: {=AX11+AY11+AZ11} -> 0 | BC11: {=AW11+BB11} -> 0 | BD11: =ROUNDUP(BC11*BD$7/100,0) -> 0 | BF11: {=BD11+BE11} -> 0 | BI11: =SUM(BG11,BH11) -> 0 | BN11: {=BJ11+BK11+BL11} -> 0 | BO11: {=BI11+BN11} -> 0 | BP11: =ROUNDUP(BO11*BP$7/100,0) -> 0 | BR11: {=BP11+BQ11} -> 0 | BU11: =SUM(BS11,BT11) -> 0 | BZ11: {=BV11+BW11+BX11} -> 0 | CA11: {=BU11+BZ11} -> 0 | CB11: =ROUNDUP(CA11*CB$7/100,0) -> 0 | CD11: {=CB11+CC11} -> 0 | CJ11: =SUM(CE11:CI11) -> 0 | CK11: =IF(CJ11>=86,"A",IF(CJ11>=71,"B",IF(CJ11>=51,"C",IF(CJ11>=33,"D","E")))) -> E | CQ11: =SUM(CL11:CP11) -> 0 | CR11: =IF(CQ11>=86,"A",IF(CQ11>=71,"B",IF(CQ11>=51,"C",IF(CQ11>=33,"D","E")))) -> E | CX11: =SUM(CS11:CW11) -> 0 | CY11: =IF(CX11>=86,"A",IF(CX11>=71,"B",IF(CX11>=51,"C",IF(CX11>=33,"D","E")))) -> E
A12: =F12 -> 0 | C12: =IF(B12>0,$F$4,0) -> 0 | M12: =SUM(K12,L12) -> 0 | R12: {=N12+O12+P12} -> 0 | S12: {=M12+R12} -> 0 | T12: =ROUNDUP(S12*$T$7/100,0) -> 0 | V12: {=T12+U12} -> 0 | Y12: =SUM(W12,X12) -> 0 | AD12: {=Z12+AA12+AB12} -> 0 | AE12: {=Y12+AD12} -> 0 | AF12: =ROUNDUP(AE12*AF$7/100,0) -> 0 | AH12: {=AF12+AG12} -> 0 | AK12: =SUM(AI12,AJ12) -> 0 | AP12: {=AL12+AM12+AN12} -> 0 | AQ12: {=AK12+AP12} -> 0 | AR12: =ROUNDUP(AQ12*AR$7/100,0) -> 0 | AT12: {=AR12+AS12} -> 0 | AW12: =SUM(AU12,AV12) -> 0 | BB12: {=AX12+AY12+AZ12} -> 0 | BC12: {=AW12+BB12} -> 0 | BD12: =ROUNDUP(BC12*BD$7/100,0) -> 0 | BF12: {=BD12+BE12} -> 0 | BI12: =SUM(BG12,BH12) -> 0 | BN12: {=BJ12+BK12+BL12} -> 0 | BO12: {=BI12+BN12} -> 0 | BP12: =ROUNDUP(BO12*BP$7/100,0) -> 0 | BR12: {=BP12+BQ12} -> 0 | BU12: =SUM(BS12,BT12) -> 0 | BZ12: {=BV12+BW12+BX12} -> 0 | CA12: {=BU12+BZ12} -> 0 | CB12: =ROUNDUP(CA12*CB$7/100,0) -> 0 | CD12: {=CB12+CC12} -> 0 | CJ12: =SUM(CE12:CI12) -> 0 | CK12: =IF(CJ12>=86,"A",IF(CJ12>=71,"B",IF(CJ12>=51,"C",IF(CJ12>=33,"D","E")))) -> E | CQ12: =SUM(CL12:CP12) -> 0 | CR12: =IF(CQ12>=86,"A",IF(CQ12>=71,"B",IF(CQ12>=51,"C",IF(CQ12>=33,"D","E")))) -> E | CX12: =SUM(CS12:CW12) -> 0 | CY12: =IF(CX12>=86,"A",IF(CX12>=71,"B",IF(CX12>=51,"C",IF(CX12>=33,"D","E")))) -> E
A13: =F13 -> 0 | C13: =IF(B13>0,$F$4,0) -> 0 | M13: =SUM(K13,L13) -> 0 | R13: {=N13+O13+P13} -> 0 | S13: {=M13+R13} -> 0 | T13: =ROUNDUP(S13*$T$7/100,0) -> 0 | V13: {=T13+U13} -> 0 | Y13: =SUM(W13,X13) -> 0 | AD13: {=Z13+AA13+AB13} -> 0 | AE13: {=Y13+AD13} -> 0 | AF13: =ROUNDUP(AE13*AF$7/100,0) -> 0 | AH13: {=AF13+AG13} -> 0 | AK13: =SUM(AI13,AJ13) -> 0 | AP13: {=AL13+AM13+AN13} -> 0 | AQ13: {=AK13+AP13} -> 0 | AR13: =ROUNDUP(AQ13*AR$7/100,0) -> 0 | AT13: {=AR13+AS13} -> 0 | AW13: =SUM(AU13,AV13) -> 0 | BB13: {=AX13+AY13+AZ13} -> 0 | BC13: {=AW13+BB13} -> 0 | BD13: =ROUNDUP(BC13*BD$7/100,0) -> 0 | BF13: {=BD13+BE13} -> 0 | BI13: =SUM(BG13,BH13) -> 0 | BN13: {=BJ13+BK13+BL13} -> 0 | BO13: {=BI13+BN13} -> 0 | BP13: =ROUNDUP(BO13*BP$7/100,0) -> 0 | BR13: {=BP13+BQ13} -> 0 | BU13: =SUM(BS13,BT13) -> 0 | BZ13: {=BV13+BW13+BX13} -> 0 | CA13: {=BU13+BZ13} -> 0 | CB13: =ROUNDUP(CA13*CB$7/100,0) -> 0 | CD13: {=CB13+CC13} -> 0 | CJ13: =SUM(CE13:CI13) -> 0 | CK13: =IF(CJ13>=86,"A",IF(CJ13>=71,"B",IF(CJ13>=51,"C",IF(CJ13>=33,"D","E")))) -> E | CQ13: =SUM(CL13:CP13) -> 0 | CR13: =IF(CQ13>=86,"A",IF(CQ13>=71,"B",IF(CQ13>=51,"C",IF(CQ13>=33,"D","E")))) -> E | CX13: =SUM(CS13:CW13) -> 0 | CY13: =IF(CX13>=86,"A",IF(CX13>=71,"B",IF(CX13>=51,"C",IF(CX13>=33,"D","E")))) -> E
A14: =F14 -> 0 | C14: =IF(B14>0,$F$4,0) -> 0 | M14: =SUM(K14,L14) -> 0 | R14: {=N14+O14+P14} -> 0 | S14: {=M14+R14} -> 0 | T14: =ROUNDUP(S14*$T$7/100,0) -> 0 | V14: {=T14+U14} -> 0 | Y14: =SUM(W14,X14) -> 0 | AD14: {=Z14+AA14+AB14} -> 0 | AE14: {=Y14+AD14} -> 0 | AF14: =ROUNDUP(AE14*AF$7/100,0) -> 0 | AH14: {=AF14+AG14} -> 0 | AK14: =SUM(AI14,AJ14) -> 0 | AP14: {=AL14+AM14+AN14} -> 0 | AQ14: {=AK14+AP14} -> 0 | AR14: =ROUNDUP(AQ14*AR$7/100,0) -> 0 | AT14: {=AR14+AS14} -> 0 | AW14: =SUM(AU14,AV14) -> 0 | BB14: {=AX14+AY14+AZ14} -> 0 | BC14: {=AW14+BB14} -> 0 | BD14: =ROUNDUP(BC14*BD$7/100,0) -> 0 | BF14: {=BD14+BE14} -> 0 | BI14: =SUM(BG14,BH14) -> 0 | BN14: {=BJ14+BK14+BL14} -> 0 | BO14: {=BI14+BN14} -> 0 | BP14: =ROUNDUP(BO14*BP$7/100,0) -> 0 | BR14: {=BP14+BQ14} -> 0 | BU14: =SUM(BS14,BT14) -> 0 | BZ14: {=BV14+BW14+BX14} -> 0 | CA14: {=BU14+BZ14} -> 0 | CB14: =ROUNDUP(CA14*CB$7/100,0) -> 0 | CD14: {=CB14+CC14} -> 0 | CJ14: =SUM(CE14:CI14) -> 0 | CK14: =IF(CJ14>=86,"A",IF(CJ14>=71,"B",IF(CJ14>=51,"C",IF(CJ14>=33,"D","E")))) -> E | CQ14: =SUM(CL14:CP14) -> 0 | CR14: =IF(CQ14>=86,"A",IF(CQ14>=71,"B",IF(CQ14>=51,"C",IF(CQ14>=33,"D","E")))) -> E | CX14: =SUM(CS14:CW14) -> 0 | CY14: =IF(CX14>=86,"A",IF(CX14>=71,"B",IF(CX14>=51,"C",IF(CX14>=33,"D","E")))) -> E
A15: =F15 -> 0 | C15: =IF(B15>0,$F$4,0) -> 0 | M15: =SUM(K15,L15) -> 0 | R15: {=N15+O15+P15} -> 0 | S15: {=M15+R15} -> 0 | T15: =ROUNDUP(S15*$T$7/100,0) -> 0 | V15: {=T15+U15} -> 0 | Y15: =SUM(W15,X15) -> 0 | AD15: {=Z15+AA15+AB15} -> 0 | AE15: {=Y15+AD15} -> 0 | AF15: =ROUNDUP(AE15*AF$7/100,0) -> 0 | AH15: {=AF15+AG15} -> 0 | AK15: =SUM(AI15,AJ15) -> 0 | AP15: {=AL15+AM15+AN15} -> 0 | AQ15: {=AK15+AP15} -> 0 | AR15: =ROUNDUP(AQ15*AR$7/100,0) -> 0 | AT15: {=AR15+AS15} -> 0 | AW15: =SUM(AU15,AV15) -> 0 | BB15: {=AX15+AY15+AZ15} -> 0 | BC15: {=AW15+BB15} -> 0 | BD15: =ROUNDUP(BC15*BD$7/100,0) -> 0 | BF15: {=BD15+BE15} -> 0 | BI15: =SUM(BG15,BH15) -> 0 | BN15: {=BJ15+BK15+BL15} -> 0 | BO15: {=BI15+BN15} -> 0 | BP15: =ROUNDUP(BO15*BP$7/100,0) -> 0 | BR15: {=BP15+BQ15} -> 0 | BU15: =SUM(BS15,BT15) -> 0 | BZ15: {=BV15+BW15+BX15} -> 0 | CA15: {=BU15+BZ15} -> 0 | CB15: =ROUNDUP(CA15*CB$7/100,0) -> 0 | CD15: {=CB15+CC15} -> 0 | CJ15: =SUM(CE15:CI15) -> 0 | CK15: =IF(CJ15>=86,"A",IF(CJ15>=71,"B",IF(CJ15>=51,"C",IF(CJ15>=33,"D","E")))) -> E | CQ15: =SUM(CL15:CP15) -> 0 | CR15: =IF(CQ15>=86,"A",IF(CQ15>=71,"B",IF(CQ15>=51,"C",IF(CQ15>=33,"D","E")))) -> E | CX15: =SUM(CS15:CW15) -> 0 | CY15: =IF(CX15>=86,"A",IF(CX15>=71,"B",IF(CX15>=51,"C",IF(CX15>=33,"D","E")))) -> E
A16: =F16 -> 0 | C16: =IF(B16>0,$F$4,0) -> 0 | M16: =SUM(K16,L16) -> 0 | R16: {=N16+O16+P16} -> 0 | S16: {=M16+R16} -> 0 | T16: =ROUNDUP(S16*$T$7/100,0) -> 0 | V16: {=T16+U16} -> 0 | Y16: =SUM(W16,X16) -> 0 | AD16: {=Z16+AA16+AB16} -> 0 | AE16: {=Y16+AD16} -> 0 | AF16: =ROUNDUP(AE16*AF$7/100,0) -> 0 | AH16: {=AF16+AG16} -> 0 | AK16: =SUM(AI16,AJ16) -> 0 | AP16: {=AL16+AM16+AN16} -> 0 | AQ16: {=AK16+AP16} -> 0 | AR16: =ROUNDUP(AQ16*AR$7/100,0) -> 0 | AT16: {=AR16+AS16} -> 0 | AW16: =SUM(AU16,AV16) -> 0 | BB16: {=AX16+AY16+AZ16} -> 0 | BC16: {=AW16+BB16} -> 0 | BD16: =ROUNDUP(BC16*BD$7/100,0) -> 0 | BF16: {=BD16+BE16} -> 0 | BI16: =SUM(BG16,BH16) -> 0 | BN16: {=BJ16+BK16+BL16} -> 0 | BO16: {=BI16+BN16} -> 0 | BP16: =ROUNDUP(BO16*BP$7/100,0) -> 0 | BR16: {=BP16+BQ16} -> 0 | BU16: =SUM(BS16,BT16) -> 0 | BZ16: {=BV16+BW16+BX16} -> 0 | CA16: {=BU16+BZ16} -> 0 | CB16: =ROUNDUP(CA16*CB$7/100,0) -> 0 | CD16: {=CB16+CC16} -> 0 | CJ16: =SUM(CE16:CI16) -> 0 | CK16: =IF(CJ16>=86,"A",IF(CJ16>=71,"B",IF(CJ16>=51,"C",IF(CJ16>=33,"D","E")))) -> E | CQ16: =SUM(CL16:CP16) -> 0 | CR16: =IF(CQ16>=86,"A",IF(CQ16>=71,"B",IF(CQ16>=51,"C",IF(CQ16>=33,"D","E")))) -> E | CX16: =SUM(CS16:CW16) -> 0 | CY16: =IF(CX16>=86,"A",IF(CX16>=71,"B",IF(CX16>=51,"C",IF(CX16>=33,"D","E")))) -> E
A17: =F17 -> 0 | C17: =IF(B17>0,$F$4,0) -> 0 | M17: =SUM(K17,L17) -> 0 | R17: {=N17+O17+P17} -> 0 | S17: {=M17+R17} -> 0 | T17: =ROUNDUP(S17*$T$7/100,0) -> 0 | V17: {=T17+U17} -> 0 | Y17: =SUM(W17,X17) -> 0 | AD17: {=Z17+AA17+AB17} -> 0 | AE17: {=Y17+AD17} -> 0 | AF17: =ROUNDUP(AE17*AF$7/100,0) -> 0 | AH17: {=AF17+AG17} -> 0 | AK17: =SUM(AI17,AJ17) -> 0 | AP17: {=AL17+AM17+AN17} -> 0 | AQ17: {=AK17+AP17} -> 0 | AR17: =ROUNDUP(AQ17*AR$7/100,0) -> 0 | AT17: {=AR17+AS17} -> 0 | AW17: =SUM(AU17,AV17) -> 0 | BB17: {=AX17+AY17+AZ17} -> 0 | BC17: {=AW17+BB17} -> 0 | BD17: =ROUNDUP(BC17*BD$7/100,0) -> 0 | BF17: {=BD17+BE17} -> 0 | BI17: =SUM(BG17,BH17) -> 0 | BN17: {=BJ17+BK17+BL17} -> 0 | BO17: {=BI17+BN17} -> 0 | BP17: =ROUNDUP(BO17*BP$7/100,0) -> 0 | BR17: {=BP17+BQ17} -> 0 | BU17: =SUM(BS17,BT17) -> 0 | BZ17: {=BV17+BW17+BX17} -> 0 | CA17: {=BU17+BZ17} -> 0 | CB17: =ROUNDUP(CA17*CB$7/100,0) -> 0 | CD17: {=CB17+CC17} -> 0 | CJ17: =SUM(CE17:CI17) -> 0 | CK17: =IF(CJ17>=86,"A",IF(CJ17>=71,"B",IF(CJ17>=51,"C",IF(CJ17>=33,"D","E")))) -> E | CQ17: =SUM(CL17:CP17) -> 0 | CR17: =IF(CQ17>=86,"A",IF(CQ17>=71,"B",IF(CQ17>=51,"C",IF(CQ17>=33,"D","E")))) -> E | CX17: =SUM(CS17:CW17) -> 0 | CY17: =IF(CX17>=86,"A",IF(CX17>=71,"B",IF(CX17>=51,"C",IF(CX17>=33,"D","E")))) -> E
A18: =F18 -> 0 | C18: =IF(B18>0,$F$4,0) -> 0 | M18: =SUM(K18,L18) -> 0 | R18: {=N18+O18+P18} -> 0 | S18: {=M18+R18} -> 0 | T18: =ROUNDUP(S18*$T$7/100,0) -> 0 | V18: {=T18+U18} -> 0 | Y18: =SUM(W18,X18) -> 0 | AD18: {=Z18+AA18+AB18} -> 0 | AE18: {=Y18+AD18} -> 0 | AF18: =ROUNDUP(AE18*AF$7/100,0) -> 0 | AH18: {=AF18+AG18} -> 0 | AK18: =SUM(AI18,AJ18) -> 0 | AP18: {=AL18+AM18+AN18} -> 0 | AQ18: {=AK18+AP18} -> 0 | AR18: =ROUNDUP(AQ18*AR$7/100,0) -> 0 | AT18: {=AR18+AS18} -> 0 | AW18: =SUM(AU18,AV18) -> 0 | BB18: {=AX18+AY18+AZ18} -> 0 | BC18: {=AW18+BB18} -> 0 | BD18: =ROUNDUP(BC18*BD$7/100,0) -> 0 | BF18: {=BD18+BE18} -> 0 | BI18: =SUM(BG18,BH18) -> 0 | BN18: {=BJ18+BK18+BL18} -> 0 | BO18: {=BI18+BN18} -> 0 | BP18: =ROUNDUP(BO18*BP$7/100,0) -> 0 | BR18: {=BP18+BQ18} -> 0 | BU18: =SUM(BS18,BT18) -> 0 | BZ18: {=BV18+BW18+BX18} -> 0 | CA18: {=BU18+BZ18} -> 0 | CB18: =ROUNDUP(CA18*CB$7/100,0) -> 0 | CD18: {=CB18+CC18} -> 0 | CJ18: =SUM(CE18:CI18) -> 0 | CK18: =IF(CJ18>=86,"A",IF(CJ18>=71,"B",IF(CJ18>=51,"C",IF(CJ18>=33,"D","E")))) -> E | CQ18: =SUM(CL18:CP18) -> 0 | CR18: =IF(CQ18>=86,"A",IF(CQ18>=71,"B",IF(CQ18>=51,"C",IF(CQ18>=33,"D","E")))) -> E | CX18: =SUM(CS18:CW18) -> 0 | CY18: =IF(CX18>=86,"A",IF(CX18>=71,"B",IF(CX18>=51,"C",IF(CX18>=33,"D","E")))) -> E
A19: =F19 -> 0 | C19: =IF(B19>0,$F$4,0) -> 0 | M19: =SUM(K19,L19) -> 0 | R19: {=N19+O19+P19} -> 0 | S19: {=M19+R19} -> 0 | T19: =ROUNDUP(S19*$T$7/100,0) -> 0 | V19: {=T19+U19} -> 0 | Y19: =SUM(W19,X19) -> 0 | AD19: {=Z19+AA19+AB19} -> 0 | AE19: {=Y19+AD19} -> 0 | AF19: =ROUNDUP(AE19*AF$7/100,0) -> 0 | AH19: {=AF19+AG19} -> 0 | AK19: =SUM(AI19,AJ19) -> 0 | AP19: {=AL19+AM19+AN19} -> 0 | AQ19: {=AK19+AP19} -> 0 | AR19: =ROUNDUP(AQ19*AR$7/100,0) -> 0 | AT19: {=AR19+AS19} -> 0 | AW19: =SUM(AU19,AV19) -> 0 | BB19: {=AX19+AY19+AZ19} -> 0 | BC19: {=AW19+BB19} -> 0 | BD19: =ROUNDUP(BC19*BD$7/100,0) -> 0 | BF19: {=BD19+BE19} -> 0 | BI19: =SUM(BG19,BH19) -> 0 | BN19: {=BJ19+BK19+BL19} -> 0 | BO19: {=BI19+BN19} -> 0 | BP19: =ROUNDUP(BO19*BP$7/100,0) -> 0 | BR19: {=BP19+BQ19} -> 0 | BU19: =SUM(BS19,BT19) -> 0 | BZ19: {=BV19+BW19+BX19} -> 0 | CA19: {=BU19+BZ19} -> 0 | CB19: =ROUNDUP(CA19*CB$7/100,0) -> 0 | CD19: {=CB19+CC19} -> 0 | CJ19: =SUM(CE19:CI19) -> 0 | CK19: =IF(CJ19>=86,"A",IF(CJ19>=71,"B",IF(CJ19>=51,"C",IF(CJ19>=33,"D","E")))) -> E | CQ19: =SUM(CL19:CP19) -> 0 | CR19: =IF(CQ19>=86,"A",IF(CQ19>=71,"B",IF(CQ19>=51,"C",IF(CQ19>=33,"D","E")))) -> E | CX19: =SUM(CS19:CW19) -> 0 | CY19: =IF(CX19>=86,"A",IF(CX19>=71,"B",IF(CX19>=51,"C",IF(CX19>=33,"D","E")))) -> E
A20: =F20 -> 0 | C20: =IF(B20>0,$F$4,0) -> 0 | M20: =SUM(K20,L20) -> 0 | R20: {=N20+O20+P20} -> 0 | S20: {=M20+R20} -> 0 | T20: =ROUNDUP(S20*$T$7/100,0) -> 0 | V20: {=T20+U20} -> 0 | Y20: =SUM(W20,X20) -> 0 | AD20: {=Z20+AA20+AB20} -> 0 | AE20: {=Y20+AD20} -> 0 | AF20: =ROUNDUP(AE20*AF$7/100,0) -> 0 | AH20: {=AF20+AG20} -> 0 | AK20: =SUM(AI20,AJ20) -> 0 | AP20: {=AL20+AM20+AN20} -> 0 | AQ20: {=AK20+AP20} -> 0 | AR20: =ROUNDUP(AQ20*AR$7/100,0) -> 0 | AT20: {=AR20+AS20} -> 0 | AW20: =SUM(AU20,AV20) -> 0 | BB20: {=AX20+AY20+AZ20} -> 0 | BC20: {=AW20+BB20} -> 0 | BD20: =ROUNDUP(BC20*BD$7/100,0) -> 0 | BF20: {=BD20+BE20} -> 0 | BI20: =SUM(BG20,BH20) -> 0 | BN20: {=BJ20+BK20+BL20} -> 0 | BO20: {=BI20+BN20} -> 0 | BP20: =ROUNDUP(BO20*BP$7/100,0) -> 0 | BR20: {=BP20+BQ20} -> 0 | BU20: =SUM(BS20,BT20) -> 0 | BZ20: {=BV20+BW20+BX20} -> 0 | CA20: {=BU20+BZ20} -> 0 | CB20: =ROUNDUP(CA20*CB$7/100,0) -> 0 | CD20: {=CB20+CC20} -> 0 | CJ20: =SUM(CE20:CI20) -> 0 | CK20: =IF(CJ20>=86,"A",IF(CJ20>=71,"B",IF(CJ20>=51,"C",IF(CJ20>=33,"D","E")))) -> E | CQ20: =SUM(CL20:CP20) -> 0 | CR20: =IF(CQ20>=86,"A",IF(CQ20>=71,"B",IF(CQ20>=51,"C",IF(CQ20>=33,"D","E")))) -> E | CX20: =SUM(CS20:CW20) -> 0 | CY20: =IF(CX20>=86,"A",IF(CX20>=71,"B",IF(CX20>=51,"C",IF(CX20>=33,"D","E")))) -> E
... A207: =F207 -> 0 | C207: =IF(B207>0,$F$4,0) -> 0 | M207: =SUM(K207,L207) -> 0 | R207: {=N207+O207+P207} -> 0 | S207: {=M207+R207} -> 0 | T207: =ROUNDUP(S207*$T$7/100,0) -> 0 | V207: {=T207+U207} -> 0 | Y207: =SUM(W207,X207) -> 0 | AD207: {=Z207+AA207+AB207} -> 0 | AE207: {=Y207+AD207} -> 0 | AF207: =ROUNDUP(AE207*AF$7/100,0) -> 0 | AH207: {=AF207+AG207} -> 0 | AK207: =SUM(AI207,AJ207) -> 0 | AP207: {=AL207+AM207+AN207} -> 0 | AQ207: {=AK207+AP207} -> 0 | AR207: =ROUNDUP(AQ207*AR$7/100,0) -> 0 | AT207: {=AR207+AS207} -> 0 | AW207: =SUM(AU207,AV207) -> 0 | BB207: {=AX207+AY207+AZ207} -> 0 | BC207: {=AW207+BB207} -> 0 | BD207: =ROUNDUP(BC207*BD$7/100,0) -> 0 | BF207: {=BD207+BE207} -> 0 | BI207: =SUM(BG207,BH207) -> 0 | BN207: {=BJ207+BK207+BL207} -> 0 | BO207: {=BI207+BN207} -> 0 | BP207: =ROUNDUP(BO207*BP$7/100,0) -> 0 | BR207: {=BP207+BQ207} -> 0 | BU207: =SUM(BS207,BT207) -> 0 | BZ207: {=BV207+BW207+BX207} -> 0 | CA207: {=BU207+BZ207} -> 0 | CB207: =ROUNDUP(CA207*CB$7/100,0) -> 0 | CD207: {=CB207+CC207} -> 0 | CJ207: =SUM(CE207:CI207) -> 0 | CK207: =IF(CJ207>=86,"A",IF(CJ207>=71,"B",IF(CJ207>=51,"C",IF(CJ207>=33,"D","E")))) -> E | CQ207: =SUM(CL207:CP207) -> 0 | CR207: =IF(CQ207>=86,"A",IF(CQ207>=71,"B",IF(CQ207>=51,"C",IF(CQ207>=33,"D","E")))) -> E | CX207: =SUM(CS207:CW207) -> 0 | CY207: =IF(CX207>=86,"A",IF(CX207>=71,"B",IF(CX207>=51,"C",IF(CX207>=33,"D","E")))) -> E
B208: 1 | C208: 2 | D208: 3 | E208: 4 | F208: 5 | G208: 6 | H208: 7 | I208: 8 | J208: 9 | K208: 10 | L208: 11 | M208: 12 | N208: 13 | P208: 14 | R208: 15 | S208: 16 | V208: 17 | W208: 10 | X208: 11 | Y208: 12 | Z208: 13 | AB208: 14 | AD208: 15 | AE208: 16 | AH208: 17 | AI208: 10 | AJ208: 11 | AK208: 12 | AL208: 13 | AN208: 14 | AP208: 15 | AQ208: 16 | AT208: 17 | AU208: 10 | AV208: 11 | AW208: 12 | AX208: 13 | AZ208: 14 | BB208: 15 | BC208: 16 | BF208: 17 | BG208: 10 | BH208: 11 | BI208: 12 | BJ208: 13 | BL208: 14 | BN208: 15 | BO208: 16 | BR208: 17 | BS208: 10 | BT208: 11 | BU208: 12 | BV208: 13 | BX208: 14 | BZ208: 15 | CA208: 16 | CD208: 17 | CE208: 10 | CF208: 11 | CG208: 12 | CH208: 13 | CK208: 14 | CL208: 10 | CM208: 11 | CN208: 12 | CO208: 13 | CR208: 14 | CS208: 10 | CT208: 11 | CU208: 12 | CV208: 13 | CY208: 14
H209: =Master!L10 -> HINDI | I209: =Master!Q10 -> 0
H210: =Master!L11 -> ENGLISH | I210: =Master!Q11 -> 0
H211: =Master!L12 -> SCIENCE | I211: =Master!Q12 -> 0
H212: =Master!L13 -> MATHEMATICS | I212: =Master!Q13 -> 0
H213: =Master!L14 -> SOCIAL SCIENCE | I213: =Master!Q14 -> 0
H214: =Master!L15 -> SANSKRIT | I214: =Master!Q15 -> 0
H215: =Master!L16 -> WORK EXP. | I215: =Master!Q16 -> 0
H216: =Master!L17 -> ART EDU. | I216: =Master!Q17 -> 0
H217: =Master!L18 -> H & PHY. EDU. | I217: =Master!Q18 -> 0
H218: =Master!L19 -> 0 | I218: =Master!Q19 -> 0
H219: =Master!L20 -> 0 | I219: =Master!Q20 -> 0
H220: =Master!L21 -> 0 | I220: =Master!Q21 -> 0
H221: =Master!N10 -> 0 | I221: =Master!S10 -> 0
H222: =Master!N11 -> 0 | I222: =Master!S11 -> 0
H223: =Master!N12 -> 0 | I223: =Master!S12 -> 0
H224: =Master!N13 -> 0 | I224: =Master!S13 -> 0
H225: =Master!N14 -> 0 | I225: =Master!S14 -> 0
H226: =Master!N15 -> 0 | I226: =Master!S15 -> 0
...

Sheet All Subject
J1: Go To Subject Wise List
B2: ='Marks Entry'!B1:J1 -> 0 | J2: Sassional Marks All Subjects
B3: Sassional Marks : | F3: =IF(Master!E9="2021-22","2022",IF(Master!E9="2022-23","2023","2024")) -> 2022 | G3: Class:- | H3: =CONCATENATE('Marks Entry'!F4,'Marks Entry'!I4) -> 8(A) | I3: Subject→ | J3: ='Marks Entry'!K3 -> HINDI | K3: ='Marks Entry'!W3 -> ENGLISH | L3: ='Marks Entry'!AI3 -> SCIENCE | M3: ='Marks Entry'!AU3 -> MATHEMATICS | N3: ='Marks Entry'!BG3 -> SOCIAL SCIENCE | O3: ='Marks Entry'!BS3 -> SANSKRIT | P3: ='Marks Entry'!CE3 -> WORK EXP. | Q3: ='Marks Entry'!CL3 -> ART EDU. | R3: ='Marks Entry'!CS3 -> H & PHY. EDU.
B4: Student Related Basic Details | I4: Subject Teacher→ | J4: ='Marks Entry'!K4 -> 0 | K4: ='Marks Entry'!W4 -> 0 | L4: ='Marks Entry'!AI4 -> 0 | M4: ='Marks Entry'!AU4 -> 0 | N4: ='Marks Entry'!BG4 -> 0 | O4: ='Marks Entry'!BS4 -> 0 | P4: ='Marks Entry'!CE4 -> 0 | Q4: ='Marks Entry'!CL4 -> 0 | R4: ='Marks Entry'!CS4 -> 0
B5: Sr. No. | C5: Class | D5: SR Number | E5: School Roll Number | F5: Board Roll Number | G5: Student's Name | H5: Father's Name | I5: Mother's Name | J5: ='Marks Entry'!V7 -> 20 | K5: ='Marks Entry'!AH7 -> 20 | L5: ='Marks Entry'!AT7 -> 20 | M5: ='Marks Entry'!BF7 -> 20 | N5: ='Marks Entry'!BR7 -> 20 | O5: ='Marks Entry'!CD7 -> 20 | P5: ='Marks Entry'!CJ7 -> 100 | Q5: ='Marks Entry'!CQ7 -> 100 | R5: ='Marks Entry'!CX7 -> 100
B7: ='Marks Entry'!B8 -> 1 | C7: ='Marks Entry'!C8 -> 8 | D7: ='Marks Entry'!D8 -> 0 | E7: ='Marks Entry'!E8 -> 0 | F7: ='Marks Entry'!F8 -> 0 | G7: ='Marks Entry'!G8 -> 0 | H7: ='Marks Entry'!H8 -> 0 | I7: ='Marks Entry'!I8 -> 0 | J7: ='Marks Entry'!V8 -> 0 | K7: ='Marks Entry'!AH8 -> 0 | L7: ='Marks Entry'!AT8 -> 0 | M7: ='Marks Entry'!BF8 -> 0 | N7: ='Marks Entry'!BR8 -> 0 | O7: ='Marks Entry'!CD8 -> 0 | P7: ='Marks Entry'!CJ8 -> 0 | Q7: ='Marks Entry'!CQ8 -> 0 | R7: ='Marks Entry'!CX8 -> 0
B8: ='Marks Entry'!B9 -> 0 | C8: ='Marks Entry'!C9 -> 0 | D8: ='Marks Entry'!D9 -> 0 | E8: ='Marks Entry'!E9 -> 0 | F8: ='Marks Entry'!F9 -> 0 | G8: ='Marks Entry'!G9 -> 0 | H8: ='Marks Entry'!H9 -> 0 | I8: ='Marks Entry'!I9 -> 0 | J8: ='Marks Entry'!V9 -> 0 | K8: ='Marks Entry'!AH9 -> 0 | L8: ='Marks Entry'!AT9 -> 0 | M8: ='Marks Entry'!BF9 -> 0 | N8: ='Marks Entry'!BR9 -> 0 | O8: ='Marks Entry'!CD9 -> 0 | P8: ='Marks Entry'!CJ9 -> 0 | Q8: ='Marks Entry'!CQ9 -> 0 | R8: ='Marks Entry'!CX9 -> 0
B9: ='Marks Entry'!B10 -> 0 | C9: ='Marks Entry'!C10 -> 0 | D9: ='Marks Entry'!D10 -> 0 | E9: ='Marks Entry'!E10 -> 0 | F9: ='Marks Entry'!F10 -> 0 | G9: ='Marks Entry'!G10 -> 0 | H9: ='Marks Entry'!H10 -> 0 | I9: ='Marks Entry'!I10 -> 0 | J9: ='Marks Entry'!V10 -> 0 | K9: ='Marks Entry'!AH10 -> 0 | L9: ='Marks Entry'!AT10 -> 0 | M9: ='Marks Entry'!BF10 -> 0 | N9: ='Marks Entry'!BR10 -> 0 | O9: ='Marks Entry'!CD10 -> 0 | P9: ='Marks Entry'!CJ10 -> 0 | Q9: ='Marks Entry'!CQ10 -> 0 | R9: ='Marks Entry'!CX10 -> 0
B10: ='Marks Entry'!B11 -> 0 | C10: ='Marks Entry'!C11 -> 0 | D10: ='Marks Entry'!D11 -> 0 | E10: ='Marks Entry'!E11 -> 0 | F10: ='Marks Entry'!F11 -> 0 | G10: ='Marks Entry'!G11 -> 0 | H10: ='Marks Entry'!H11 -> 0 | I10: ='Marks Entry'!I11 -> 0 | J10: ='Marks Entry'!V11 -> 0 | K10: ='Marks Entry'!AH11 -> 0 | L10: ='Marks Entry'!AT11 -> 0 | M10: ='Marks Entry'!BF11 -> 0 | N10: ='Marks Entry'!BR11 -> 0 | O10: ='Marks Entry'!CD11 -> 0 | P10: ='Marks Entry'!CJ11 -> 0 | Q10: ='Marks Entry'!CQ11 -> 0 | R10: ='Marks Entry'!CX11 -> 0
B11: ='Marks Entry'!B12 -> 0 | C11: ='Marks Entry'!C12 -> 0 | D11: ='Marks Entry'!D12 -> 0 | E11: ='Marks Entry'!E12 -> 0 | F11: ='Marks Entry'!F12 -> 0 | G11: ='Marks Entry'!G12 -> 0 | H11: ='Marks Entry'!H12 -> 0 | I11: ='Marks Entry'!I12 -> 0 | J11: ='Marks Entry'!V12 -> 0 | K11: ='Marks Entry'!AH12 -> 0 | L11: ='Marks Entry'!AT12 -> 0 | M11: ='Marks Entry'!BF12 -> 0 | N11: ='Marks Entry'!BR12 -> 0 | O11: ='Marks Entry'!CD12 -> 0 | P11: ='Marks Entry'!CJ12 -> 0 | Q11: ='Marks Entry'!CQ12 -> 0 | R11: ='Marks Entry'!CX12 -> 0
B12: ='Marks Entry'!B13 -> 0 | C12: ='Marks Entry'!C13 -> 0 | D12: ='Marks Entry'!D13 -> 0 | E12: ='Marks Entry'!E13 -> 0 | F12: ='Marks Entry'!F13 -> 0 | G12: ='Marks Entry'!G13 -> 0 | H12: ='Marks Entry'!H13 -> 0 | I12: ='Marks Entry'!I13 -> 0 | J12: ='Marks Entry'!V13 -> 0 | K12: ='Marks Entry'!AH13 -> 0 | L12: ='Marks Entry'!AT13 -> 0 | M12: ='Marks Entry'!BF13 -> 0 | N12: ='Marks Entry'!BR13 -> 0 | O12: ='Marks Entry'!CD13 -> 0 | P12: ='Marks Entry'!CJ13 -> 0 | Q12: ='Marks Entry'!CQ13 -> 0 | R12: ='Marks Entry'!CX13 -> 0
B13: ='Marks Entry'!B14 -> 0 | C13: ='Marks Entry'!C14 -> 0 | D13: ='Marks Entry'!D14 -> 0 | E13: ='Marks Entry'!E14 -> 0 | F13: ='Marks Entry'!F14 -> 0 | G13: ='Marks Entry'!G14 -> 0 | H13: ='Marks Entry'!H14 -> 0 | I13: ='Marks Entry'!I14 -> 0 | J13: ='Marks Entry'!V14 -> 0 | K13: ='Marks Entry'!AH14 -> 0 | L13: ='Marks Entry'!AT14 -> 0 | M13: ='Marks Entry'!BF14 -> 0 | N13: ='Marks Entry'!BR14 -> 0 | O13: ='Marks Entry'!CD14 -> 0 | P13: ='Marks Entry'!CJ14 -> 0 | Q13: ='Marks Entry'!CQ14 -> 0 | R13: ='Marks Entry'!CX14 -> 0
B14: ='Marks Entry'!B15 -> 0 | C14: ='Marks Entry'!C15 -> 0 | D14: ='Marks Entry'!D15 -> 0 | E14: ='Marks Entry'!E15 -> 0 | F14: ='Marks Entry'!F15 -> 0 | G14: ='Marks Entry'!G15 -> 0 | H14: ='Marks Entry'!H15 -> 0 | I14: ='Marks Entry'!I15 -> 0 | J14: ='Marks Entry'!V15 -> 0 | K14: ='Marks Entry'!AH15 -> 0 | L14: ='Marks Entry'!AT15 -> 0 | M14: ='Marks Entry'!BF15 -> 0 | N14: ='Marks Entry'!BR15 -> 0 | O14: ='Marks Entry'!CD15 -> 0 | P14: ='Marks Entry'!CJ15 -> 0 | Q14: ='Marks Entry'!CQ15 -> 0 | R14: ='Marks Entry'!CX15 -> 0
B15: ='Marks Entry'!B16 -> 0 | C15: ='Marks Entry'!C16 -> 0 | D15: ='Marks Entry'!D16 -> 0 | E15: ='Marks Entry'!E16 -> 0 | F15: ='Marks Entry'!F16 -> 0 | G15: ='Marks Entry'!G16 -> 0 | H15: ='Marks Entry'!H16 -> 0 | I15: ='Marks Entry'!I16 -> 0 | J15: ='Marks Entry'!V16 -> 0 | K15: ='Marks Entry'!AH16 -> 0 | L15: ='Marks Entry'!AT16 -> 0 | M15: ='Marks Entry'!BF16 -> 0 | N15: ='Marks Entry'!BR16 -> 0 | O15: ='Marks Entry'!CD16 -> 0 | P15: ='Marks Entry'!CJ16 -> 0 | Q15: ='Marks Entry'!CQ16 -> 0 | R15: ='Marks Entry'!CX16 -> 0
B16: ='Marks Entry'!B17 -> 0 | C16: ='Marks Entry'!C17 -> 0 | D16: ='Marks Entry'!D17 -> 0 | E16: ='Marks Entry'!E17 -> 0 | F16: ='Marks Entry'!F17 -> 0 | G16: ='Marks Entry'!G17 -> 0 | H16: ='Marks Entry'!H17 -> 0 | I16: ='Marks Entry'!I17 -> 0 | J16: ='Marks Entry'!V17 -> 0 | K16: ='Marks Entry'!AH17 -> 0 | L16: ='Marks Entry'!AT17 -> 0 | M16: ='Marks Entry'!BF17 -> 0 | N16: ='Marks Entry'!BR17 -> 0 | O16: ='Marks Entry'!CD17 -> 0 | P16: ='Marks Entry'!CJ17 -> 0 | Q16: ='Marks Entry'!CQ17 -> 0 | R16: ='Marks Entry'!CX17 -> 0
B17: ='Marks Entry'!B18 -> 0 | C17: ='Marks Entry'!C18 -> 0 | D17: ='Marks Entry'!D18 -> 0 | E17: ='Marks Entry'!E18 -> 0 | F17: ='Marks Entry'!F18 -> 0 | G17: ='Marks Entry'!G18 -> 0 | H17: ='Marks Entry'!H18 -> 0 | I17: ='Marks Entry'!I18 -> 0 | J17: ='Marks Entry'!V18 -> 0 | K17: ='Marks Entry'!AH18 -> 0 | L17: ='Marks Entry'!AT18 -> 0 | M17: ='Marks Entry'!BF18 -> 0 | N17: ='Marks Entry'!BR18 -> 0 | O17: ='Marks Entry'!CD18 -> 0 | P17: ='Marks Entry'!CJ18 -> 0 | Q17: ='Marks Entry'!CQ18 -> 0 | R17: ='Marks Entry'!CX18 -> 0
B18: ='Marks Entry'!B19 -> 0 | C18: ='Marks Entry'!C19 -> 0 | D18: ='Marks Entry'!D19 -> 0 | E18: ='Marks Entry'!E19 -> 0 | F18: ='Marks Entry'!F19 -> 0 | G18: ='Marks Entry'!G19 -> 0 | H18: ='Marks Entry'!H19 -> 0 | I18: ='Marks Entry'!I19 -> 0 | J18: ='Marks Entry'!V19 -> 0 | K18: ='Marks Entry'!AH19 -> 0 | L18: ='Marks Entry'!AT19 -> 0 | M18: ='Marks Entry'!BF19 -> 0 | N18: ='Marks Entry'!BR19 -> 0 | O18: ='Marks Entry'!CD19 -> 0 | P18: ='Marks Entry'!CJ19 -> 0 | Q18: ='Marks Entry'!CQ19 -> 0 | R18: ='Marks Entry'!CX19 -> 0
... B206: ='Marks Entry'!B207 -> 0 | C206: ='Marks Entry'!C207 -> 0 | D206: ='Marks Entry'!D207 -> 0 | E206: ='Marks Entry'!E207 -> 0 | F206: ='Marks Entry'!F207 -> 0 | G206: ='Marks Entry'!G207 -> 0 | H206: ='Marks Entry'!H207 -> 0 | I206: ='Marks Entry'!I207 -> 0 | J206: ='Marks Entry'!V207 -> 0 | K206: ='Marks Entry'!AH207 -> 0 | L206: ='Marks Entry'!AT207 -> 0 | M206: ='Marks Entry'!BF207 -> 0 | N206: ='Marks Entry'!BR207 -> 0 | O206: ='Marks Entry'!CD207 -> 0 | P206: ='Marks Entry'!CJ207 -> 0 | Q206: ='Marks Entry'!CQ207 -> 0 | R206: ='Marks Entry'!CX207 -> 0

Sheet Subject Wise
B1: Go To Marks Entry | J1: Go To All Subject List
B3: ='Marks Entry'!B1:J1 -> 0 | I3: Subject→ | J3: Subject Wise Sessioal Mark
J4: ENGLISH | W4: ='All Subject'!J3 -> HINDI | X4: ='All Subject'!J4 -> 0
B5: Sassional Marks : | F5: =IF(Master!E9="2021-22","2022",IF(Master!E9="2022-23","2023","2024")) -> 2022 | G5: Class:- | H5: =CONCATENATE('Marks Entry'!F4,'Marks Entry'!I4) -> 8(A) | I5: Subject Teacher→ | J5: =VLOOKUP(J4,W4:X9,2,0) -> 0 | W5: ='All Subject'!K3 -> ENGLISH | X5: ='All Subject'!K4 -> 0
B6: Student Related Basic Details | J6: 1st Test | K6: 2nd Test | L6: Total Tests | M6: Half Yearly | P6: Total Half Yearly | Q6: Total Th.+Int. Evo. | R6: ='Marks Entry'!T5 -> 20 % Of Exam Mark's | S6: ='Marks Entry'!U5 -> Attendance | T6: Sassional Marks | W6: ='All Subject'!L3 -> SCIENCE | X6: ='All Subject'!L4 -> 0
B7: Sr. No. | C7: Class | D7: SR Number | E7: School Roll Number | F7: Board Roll Number | G7: Student's Name | H7: Father's Name | I7: Mother's Name | J7: Theory | K7: Theory | M7: ='Marks Entry'!N6 -> Theory | N7: ='Marks Entry'!O6 -> Internal Evolution | O7: ='Marks Entry'!P6 -> Oral Exam | W7: ='All Subject'!M3 -> MATHEMATICS | X7: ='All Subject'!M4 -> 0
J8: =IF($J$4='Marks Entry'!$K$3,'Marks Entry'!K7,IF($J$4='Marks Entry'!$W$3,'Marks Entry'!W7,IF($J$4='Marks Entry'!$AI$3,'Marks Entry'!AI7,IF($J$4='Marks Entry'!$AU$3,'Marks Entry'!AU7,IF($J$4='Marks Entry'!$BG$3,'Marks Entry'!BG7,'Marks Entry'!BS7))))) -> 20 | K8: =IF($J$4='Marks Entry'!$K$3,'Marks Entry'!L7,IF($J$4='Marks Entry'!$W$3,'Marks Entry'!X7,IF($J$4='Marks Entry'!$AI$3,'Marks Entry'!AJ7,IF($J$4='Marks Entry'!$AU$3,'Marks Entry'!AV7,IF($J$4='Marks Entry'!$BG$3,'Marks Entry'!BH7,'Marks Entry'!BT7))))) -> 20 | L8: =IF($J$4='Marks Entry'!$K$3,'Marks Entry'!M7,IF($J$4='Marks Entry'!$W$3,'Marks Entry'!Y7,IF($J$4='Marks Entry'!$AI$3,'Marks Entry'!AK7,IF($J$4='Marks Entry'!$AU$3,'Marks Entry'!AW7,IF($J$4='Marks Entry'!$BG$3,'Marks Entry'!BI7,'Marks Entry'!BU7))))) -> 40 | M8: =IF($J$4='Marks Entry'!$K$3,'Marks Entry'!N7,IF($J$4='Marks Entry'!$W$3,'Marks Entry'!Z7,IF($J$4='Marks Entry'!$AI$3,'Marks Entry'!AL7,IF($J$4='Marks Entry'!$AU$3,'Marks Entry'!AX7,IF($J$4='Marks Entry'!$BG$3,'Marks Entry'!BJ7,'Marks Entry'!BV7))))) -> 42 | N8: =IF($J$4='Marks Entry'!$K$3,'Marks Entry'!O7,IF($J$4='Marks Entry'!$W$3,'Marks Entry'!AA7,IF($J$4='Marks Entry'!$AI$3,'Marks Entry'!AM7,IF($J$4='Marks Entry'!$AU$3,'Marks Entry'!AY7,IF($J$4='Marks Entry'!$BG$3,'Marks Entry'!BK7,'Marks Entry'!BW7))))) -> 12 | O8: =IF($J$4='Marks Entry'!$K$3,'Marks Entry'!P7,IF($J$4='Marks Entry'!$W$3,'Marks Entry'!AB7,IF($J$4='Marks Entry'!$AI$3,'Marks Entry'!AN7,IF($J$4='Marks Entry'!$AU$3,'Marks Entry'!AZ7,IF($J$4='Marks Entry'!$BG$3,'Marks Entry'!BL7,'Marks Entry'!BX7))))) -> 6 | P8: =IF($J$4='Marks Entry'!$K$3,'Marks Entry'!R7,IF($J$4='Marks Entry'!$W$3,'Marks Entry'!AD7,IF($J$4='Marks Entry'!$AI$3,'Marks Entry'!AP7,IF($J$4='Marks Entry'!$AU$3,'Marks Entry'!BB7,IF($J$4='Marks Entry'!$BG$3,'Marks Entry'!BN7,'Marks Entry'!BZ7))))) -> 60 | Q8: =IF($J$4='Marks Entry'!$K$3,'Marks Entry'!S7,IF($J$4='Marks Entry'!$W$3,'Marks Entry'!AE7,IF($J$4='Marks Entry'!$AI$3,'Marks Entry'!AQ7,IF($J$4='Marks Entry'!$AU$3,'Marks Entry'!BC7,IF($J$4='Marks Entry'!$BG$3,'Marks Entry'!BO7,'Marks Entry'!CA7))))) -> 100 | R8: =IF($J$4='Marks Entry'!$K$3,'Marks Entry'!T7,IF($J$4='Marks Entry'!$W$3,'Marks Entry'!AF7,IF($J$4='Marks Entry'!$AI$3,'Marks Entry'!AR7,IF($J$4='Marks Entry'!$AU$3,'Marks Entry'!BD7,IF($J$4='Marks Entry'!$BG$3,'Marks Entry'!BP7,'Marks Entry'!CB7))))) -> 20 | S8: =IF($J$4='Marks Entry'!$K$3,'Marks Entry'!U7,IF($J$4='Marks Entry'!$W$3,'Marks Entry'!AG7,IF($J$4='Marks Entry'!$AI$3,'Marks Entry'!AS7,IF($J$4='Marks Entry'!$AU$3,'Marks Entry'!BE7,IF($J$4='Marks Entry'!$BG$3,'Marks Entry'!BQ7,'Marks Entry'!CC7))))) -> 0 | T8: =IF($J$4='Marks Entry'!$K$3,'Marks Entry'!V7,IF($J$4='Marks Entry'!$W$3,'Marks Entry'!AH7,IF($J$4='Marks Entry'!$AI$3,'Marks Entry'!AT7,IF($J$4='Marks Entry'!$AU$3,'Marks Entry'!BF7,IF($J$4='Marks Entry'!$BG$3,'Marks Entry'!BR7,'Marks Entry'!CD7))))) -> 20 | W8: ='All Subject'!N3 -> SOCIAL SCIENCE | X8: ='All Subject'!N4 -> 0
B9: ='Marks Entry'!B8 -> 1 | C9: ='Marks Entry'!C8 -> 8 | D9: ='Marks Entry'!D8 -> 0 | E9: ='Marks Entry'!E8 -> 0 | F9: ='Marks Entry'!F8 -> 0 | G9: ='Marks Entry'!G8 -> 0 | H9: ='Marks Entry'!H8 -> 0 | I9: ='Marks Entry'!I8 -> 0 | J9: =IF($J$4='Marks Entry'!$K$3,'Marks Entry'!K8,IF($J$4='Marks Entry'!$W$3,'Marks Entry'!W8,IF($J$4='Marks Entry'!$AI$3,'Marks Entry'!AI8,IF($J$4='Marks Entry'!$AU$3,'Marks Entry'!AU8,IF($J$4='Marks Entry'!$BG$3,'Marks Entry'!BG8,'Marks Entry'!BS8))))) -> 0 | K9: =IF($J$4='Marks Entry'!$K$3,'Marks Entry'!L8,IF($J$4='Marks Entry'!$W$3,'Marks Entry'!X8,IF($J$4='Marks Entry'!$AI$3,'Marks Entry'!AJ8,IF($J$4='Marks Entry'!$AU$3,'Marks Entry'!AV8,IF($J$4='Marks Entry'!$BG$3,'Marks Entry'!BH8,'Marks Entry'!BT8))))) -> 0 | L9: =IF($J$4='Marks Entry'!$K$3,'Marks Entry'!M8,IF($J$4='Marks Entry'!$W$3,'Marks Entry'!Y8,IF($J$4='Marks Entry'!$AI$3,'Marks Entry'!AK8,IF($J$4='Marks Entry'!$AU$3,'Marks Entry'!AW8,IF($J$4='Marks Entry'!$BG$3,'Marks Entry'!BI8,'Marks Entry'!BU8))))) -> 0 | M9: =IF($J$4='Marks Entry'!$K$3,'Marks Entry'!N8,IF($J$4='Marks Entry'!$W$3,'Marks Entry'!Z8,IF($J$4='Marks Entry'!$AI$3,'Marks Entry'!AL8,IF($J$4='Marks Entry'!$AU$3,'Marks Entry'!AX8,IF($J$4='Marks Entry'!$BG$3,'Marks Entry'!BJ8,'Marks Entry'!BV8))))) -> 0 | N9: =IF($J$4='Marks Entry'!$K$3,'Marks Entry'!O8,IF($J$4='Marks Entry'!$W$3,'Marks Entry'!AA8,IF($J$4='Marks Entry'!$AI$3,'Marks Entry'!AM8,IF($J$4='Marks Entry'!$AU$3,'Marks Entry'!AY8,IF($J$4='Marks Entry'!$BG$3,'Marks Entry'!BK8,'Marks Entry'!BW8))))) -> 0 | O9: =IF($J$4='Marks Entry'!$K$3,'Marks Entry'!P8,IF($J$4='Marks Entry'!$W$3,'Marks Entry'!AB8,IF($J$4='Marks Entry'!$AI$3,'Marks Entry'!AN8,IF($J$4='Marks Entry'!$AU$3,'Marks Entry'!AZ8,IF($J$4='Marks Entry'!$BG$3,'Marks Entry'!BL8,'Marks Entry'!BX8))))) -> 0 | P9: =IF($J$4='Marks Entry'!$K$3,'Marks Entry'!R8,IF($J$4='Marks Entry'!$W$3,'Marks Entry'!AD8,IF($J$4='Marks Entry'!$AI$3,'Marks Entry'!AP8,IF($J$4='Marks Entry'!$AU$3,'Marks Entry'!BB8,IF($J$4='Marks Entry'!$BG$3,'Marks Entry'!BN8,'Marks Entry'!BZ8))))) -> 0 | Q9: =IF($J$4='Marks Entry'!$K$3,'Marks Entry'!S8,IF($J$4='Marks Entry'!$W$3,'Marks Entry'!AE8,IF($J$4='Marks Entry'!$AI$3,'Marks Entry'!AQ8,IF($J$4='Marks Entry'!$AU$3,'Marks Entry'!BC8,IF($J$4='Marks Entry'!$BG$3,'Marks Entry'!BO8,'Marks Entry'!CA8))))) -> 0 | R9: =IF($J$4='Marks Entry'!$K$3,'Marks Entry'!T8,IF($J$4='Marks Entry'!$W$3,'Marks Entry'!AF8,IF($J$4='Marks Entry'!$AI$3,'Marks Entry'!AR8,IF($J$4='Marks Entry'!$AU$3,'Marks Entry'!BD8,IF($J$4='Marks Entry'!$BG$3,'Marks Entry'!BP8,'Marks Entry'!CB8))))) -> 0 | S9: =IF($J$4='Marks Entry'!$K$3,'Marks Entry'!U8,IF($J$4='Marks Entry'!$W$3,'Marks Entry'!AG8,IF($J$4='Marks Entry'!$AI$3,'Marks Entry'!AS8,IF($J$4='Marks Entry'!$AU$3,'Marks Entry'!BE8,IF($J$4='Marks Entry'!$BG$3,'Marks Entry'!BQ8,'Marks Entry'!CC8))))) -> 0 | T9: =IF($J$4='Marks Entry'!$K$3,'Marks Entry'!V8,IF($J$4='Marks Entry'!$W$3,'Marks Entry'!AH8,IF($J$4='Marks Entry'!$AI$3,'Marks Entry'!AT8,IF($J$4='Marks Entry'!$AU$3,'Marks Entry'!BF8,IF($J$4='Marks Entry'!$BG$3,'Marks Entry'!BR8,'Marks Entry'!CD8))))) -> 0 | W9: ='All Subject'!O3 -> SANSKRIT | X9: ='All Subject'!O4 -> 0
B10: ='Marks Entry'!B9 -> 0 | C10: ='Marks Entry'!C9 -> 0 | D10: ='Marks Entry'!D9 -> 0 | E10: ='Marks Entry'!E9 -> 0 | F10: ='Marks Entry'!F9 -> 0 | G10: ='Marks Entry'!G9 -> 0 | H10: ='Marks Entry'!H9 -> 0 | I10: ='Marks Entry'!I9 -> 0 | J10: =IF($J$4='Marks Entry'!$K$3,'Marks Entry'!K9,IF($J$4='Marks Entry'!$W$3,'Marks Entry'!W9,IF($J$4='Marks Entry'!$AI$3,'Marks Entry'!AI9,IF($J$4='Marks Entry'!$AU$3,'Marks Entry'!AU9,IF($J$4='Marks Entry'!$BG$3,'Marks Entry'!BG9,'Marks Entry'!BS9))))) -> 0 | K10: =IF($J$4='Marks Entry'!$K$3,'Marks Entry'!L9,IF($J$4='Marks Entry'!$W$3,'Marks Entry'!X9,IF($J$4='Marks Entry'!$AI$3,'Marks Entry'!AJ9,IF($J$4='Marks Entry'!$AU$3,'Marks Entry'!AV9,IF($J$4='Marks Entry'!$BG$3,'Marks Entry'!BH9,'Marks Entry'!BT9))))) -> 0 | L10: =IF($J$4='Marks Entry'!$K$3,'Marks Entry'!M9,IF($J$4='Marks Entry'!$W$3,'Marks Entry'!Y9,IF($J$4='Marks Entry'!$AI$3,'Marks Entry'!AK9,IF($J$4='Marks Entry'!$AU$3,'Marks Entry'!AW9,IF($J$4='Marks Entry'!$BG$3,'Marks Entry'!BI9,'Marks Entry'!BU9))))) -> 0 | M10: =IF($J$4='Marks Entry'!$K$3,'Marks Entry'!N9,IF($J$4='Marks Entry'!$W$3,'Marks Entry'!Z9,IF($J$4='Marks Entry'!$AI$3,'Marks Entry'!AL9,IF($J$4='Marks Entry'!$AU$3,'Marks Entry'!AX9,IF($J$4='Marks Entry'!$BG$3,'Marks Entry'!BJ9,'Marks Entry'!BV9))))) -> 0 | N10: =IF($J$4='Marks Entry'!$K$3,'Marks Entry'!O9,IF($J$4='Marks Entry'!$W$3,'Marks Entry'!AA9,IF($J$4='Marks Entry'!$AI$3,'Marks Entry'!AM9,IF($J$4='Marks Entry'!$AU$3,'Marks Entry'!AY9,IF($J$4='Marks Entry'!$BG$3,'Marks Entry'!BK9,'Marks Entry'!BW9))))) -> 0 | O10: =IF($J$4='Marks Entry'!$K$3,'Marks Entry'!P9,IF($J$4='Marks Entry'!$W$3,'Marks Entry'!AB9,IF($J$4='Marks Entry'!$AI$3,'Marks Entry'!AN9,IF($J$4='Marks Entry'!$AU$3,'Marks Entry'!AZ9,IF($J$4='Marks Entry'!$BG$3,'Marks Entry'!BL9,'Marks Entry'!BX9))))) -> 0 | P10: =IF($J$4='Marks Entry'!$K$3,'Marks Entry'!R9,IF($J$4='Marks Entry'!$W$3,'Marks Entry'!AD9,IF($J$4='Marks Entry'!$AI$3,'Marks Entry'!AP9,IF($J$4='Marks Entry'!$AU$3,'Marks Entry'!BB9,IF($J$4='Marks Entry'!$BG$3,'Marks Entry'!BN9,'Marks Entry'!BZ9))))) -> 0 | Q10: =IF($J$4='Marks Entry'!$K$3,'Marks Entry'!S9,IF($J$4='Marks Entry'!$W$3,'Marks Entry'!AE9,IF($J$4='Marks Entry'!$AI$3,'Marks Entry'!AQ9,IF($J$4='Marks Entry'!$AU$3,'Marks Entry'!BC9,IF($J$4='Marks Entry'!$BG$3,'Marks Entry'!BO9,'Marks Entry'!CA9))))) -> 0 | R10: =IF($J$4='Marks Entry'!$K$3,'Marks Entry'!T9,IF($J$4='Marks Entry'!$W$3,'Marks Entry'!AF9,IF($J$4='Marks Entry'!$AI$3,'Marks Entry'!AR9,IF($J$4='Marks Entry'!$AU$3,'Marks Entry'!BD9,IF($J$4='Marks Entry'!$BG$3,'Marks Entry'!BP9,'Marks Entry'!CB9))))) -> 0 | S10: =IF($J$4='Marks Entry'!$K$3,'Marks Entry'!U9,IF($J$4='Marks Entry'!$W$3,'Marks Entry'!AG9,IF($J$4='Marks Entry'!$AI$3,'Marks Entry'!AS9,IF($J$4='Marks Entry'!$AU$3,'Marks Entry'!BE9,IF($J$4='Marks Entry'!$BG$3,'Marks Entry'!BQ9,'Marks Entry'!CC9))))) -> 0 | T10: =IF($J$4='Marks Entry'!$K$3,'Marks Entry'!V9,IF($J$4='Marks Entry'!$W$3,'Marks Entry'!AH9,IF($J$4='Marks Entry'!$AI$3,'Marks Entry'!AT9,IF($J$4='Marks Entry'!$AU$3,'Marks Entry'!BF9,IF($J$4='Marks Entry'!$BG$3,'Marks Entry'!BR9,'Marks Entry'!CD9))))) -> 0
B11: ='Marks Entry'!B10 -> 0 | C11: ='Marks Entry'!C10 -> 0 | D11: ='Marks Entry'!D10 -> 0 | E11: ='Marks Entry'!E10 -> 0 | F11: ='Marks Entry'!F10 -> 0 | G11: ='Marks Entry'!G10 -> 0 | H11: ='Marks Entry'!H10 -> 0 | I11: ='Marks Entry'!I10 -> 0 | J11: =IF($J$4='Marks Entry'!$K$3,'Marks Entry'!K10,IF($J$4='Marks Entry'!$W$3,'Marks Entry'!W10,IF($J$4='Marks Entry'!$AI$3,'Marks Entry'!AI10,IF($J$4='Marks Entry'!$AU$3,'Marks Entry'!AU10,IF($J$4='Marks Entry'!$BG$3,'Marks Entry'!BG10,'Marks Entry'!BS10))))) -> 0 | K11: =IF($J$4='Marks Entry'!$K$3,'Marks Entry'!L10,IF($J$4='Marks Entry'!$W$3,'Marks Entry'!X10,IF($J$4='Marks Entry'!$AI$3,'Marks Entry'!AJ10,IF($J$4='Marks Entry'!$AU$3,'Marks Entry'!AV10,IF($J$4='Marks Entry'!$BG$3,'Marks Entry'!BH10,'Marks Entry'!BT10))))) -> 0 | L11: =IF($J$4='Marks Entry'!$K$3,'Marks Entry'!M10,IF($J$4='Marks Entry'!$W$3,'Marks Entry'!Y10,IF($J$4='Marks Entry'!$AI$3,'Marks Entry'!AK10,IF($J$4='Marks Entry'!$AU$3,'Marks Entry'!AW10,IF($J$4='Marks Entry'!$BG$3,'Marks Entry'!BI10,'Marks Entry'!BU10))))) -> 0 | M11: =IF($J$4='Marks Entry'!$K$3,'Marks Entry'!N10,IF($J$4='Marks Entry'!$W$3,'Marks Entry'!Z10,IF($J$4='Marks Entry'!$AI$3,'Marks Entry'!AL10,IF($J$4='Marks Entry'!$AU$3,'Marks Entry'!AX10,IF($J$4='Marks Entry'!$BG$3,'Marks Entry'!BJ10,'Marks Entry'!BV10))))) -> 0 | N11: =IF($J$4='Marks Entry'!$K$3,'Marks Entry'!O10,IF($J$4='Marks Entry'!$W$3,'Marks Entry'!AA10,IF($J$4='Marks Entry'!$AI$3,'Marks Entry'!AM10,IF($J$4='Marks Entry'!$AU$3,'Marks Entry'!AY10,IF($J$4='Marks Entry'!$BG$3,'Marks Entry'!BK10,'Marks Entry'!BW10))))) -> 0 | O11: =IF($J$4='Marks Entry'!$K$3,'Marks Entry'!P10,IF($J$4='Marks Entry'!$W$3,'Marks Entry'!AB10,IF($J$4='Marks Entry'!$AI$3,'Marks Entry'!AN10,IF($J$4='Marks Entry'!$AU$3,'Marks Entry'!AZ10,IF($J$4='Marks Entry'!$BG$3,'Marks Entry'!BL10,'Marks Entry'!BX10))))) -> 0 | P11: =IF($J$4='Marks Entry'!$K$3,'Marks Entry'!R10,IF($J$4='Marks Entry'!$W$3,'Marks Entry'!AD10,IF($J$4='Marks Entry'!$AI$3,'Marks Entry'!AP10,IF($J$4='Marks Entry'!$AU$3,'Marks Entry'!BB10,IF($J$4='Marks Entry'!$BG$3,'Marks Entry'!BN10,'Marks Entry'!BZ10))))) -> 0 | Q11: =IF($J$4='Marks Entry'!$K$3,'Marks Entry'!S10,IF($J$4='Marks Entry'!$W$3,'Marks Entry'!AE10,IF($J$4='Marks Entry'!$AI$3,'Marks Entry'!AQ10,IF($J$4='Marks Entry'!$AU$3,'Marks Entry'!BC10,IF($J$4='Marks Entry'!$BG$3,'Marks Entry'!BO10,'Marks Entry'!CA10))))) -> 0 | R11: =IF($J$4='Marks Entry'!$K$3,'Marks Entry'!T10,IF($J$4='Marks Entry'!$W$3,'Marks Entry'!AF10,IF($J$4='Marks Entry'!$AI$3,'Marks Entry'!AR10,IF($J$4='Marks Entry'!$AU$3,'Marks Entry'!BD10,IF($J$4='Marks Entry'!$BG$3,'Marks Entry'!BP10,'Marks Entry'!CB10))))) -> 0 | S11: =IF($J$4='Marks Entry'!$K$3,'Marks Entry'!U10,IF($J$4='Marks Entry'!$W$3,'Marks Entry'!AG10,IF($J$4='Marks Entry'!$AI$3,'Marks Entry'!AS10,IF($J$4='Marks Entry'!$AU$3,'Marks Entry'!BE10,IF($J$4='Marks Entry'!$BG$3,'Marks Entry'!BQ10,'Marks Entry'!CC10))))) -> 0 | T11: =IF($J$4='Marks Entry'!$K$3,'Marks Entry'!V10,IF($J$4='Marks Entry'!$W$3,'Marks Entry'!AH10,IF($J$4='Marks Entry'!$AI$3,'Marks Entry'!AT10,IF($J$4='Marks Entry'!$AU$3,'Marks Entry'!BF10,IF($J$4='Marks Entry'!$BG$3,'Marks Entry'!BR10,'Marks Entry'!CD10))))) -> 0
B12: ='Marks Entry'!B11 -> 0 | C12: ='Marks Entry'!C11 -> 0 | D12: ='Marks Entry'!D11 -> 0 | E12: ='Marks Entry'!E11 -> 0 | F12: ='Marks Entry'!F11 -> 0 | G12: ='Marks Entry'!G11 -> 0 | H12: ='Marks Entry'!H11 -> 0 | I12: ='Marks Entry'!I11 -> 0 | J12: =IF($J$4='Marks Entry'!$K$3,'Marks Entry'!K11,IF($J$4='Marks Entry'!$W$3,'Marks Entry'!W11,IF($J$4='Marks Entry'!$AI$3,'Marks Entry'!AI11,IF($J$4='Marks Entry'!$AU$3,'Marks Entry'!AU11,IF($J$4='Marks Entry'!$BG$3,'Marks Entry'!BG11,'Marks Entry'!BS11))))) -> 0 | K12: =IF($J$4='Marks Entry'!$K$3,'Marks Entry'!L11,IF($J$4='Marks Entry'!$W$3,'Marks Entry'!X11,IF($J$4='Marks Entry'!$AI$3,'Marks Entry'!AJ11,IF($J$4='Marks Entry'!$AU$3,'Marks Entry'!AV11,IF($J$4='Marks Entry'!$BG$3,'Marks Entry'!BH11,'Marks Entry'!BT11))))) -> 0 | L12: =IF($J$4='Marks Entry'!$K$3,'Marks Entry'!M11,IF($J$4='Marks Entry'!$W$3,'Marks Entry'!Y11,IF($J$4='Marks Entry'!$AI$3,'Marks Entry'!AK11,IF($J$4='Marks Entry'!$AU$3,'Marks Entry'!AW11,IF($J$4='Marks Entry'!$BG$3,'Marks Entry'!BI11,'Marks Entry'!BU11))))) -> 0 | M12: =IF($J$4='Marks Entry'!$K$3,'Marks Entry'!N11,IF($J$4='Marks Entry'!$W$3,'Marks Entry'!Z11,IF($J$4='Marks Entry'!$AI$3,'Marks Entry'!AL11,IF($J$4='Marks Entry'!$AU$3,'Marks Entry'!AX11,IF($J$4='Marks Entry'!$BG$3,'Marks Entry'!BJ11,'Marks Entry'!BV11))))) -> 0 | N12: =IF($J$4='Marks Entry'!$K$3,'Marks Entry'!O11,IF($J$4='Marks Entry'!$W$3,'Marks Entry'!AA11,IF($J$4='Marks Entry'!$AI$3,'Marks Entry'!AM11,IF($J$4='Marks Entry'!$AU$3,'Marks Entry'!AY11,IF($J$4='Marks Entry'!$BG$3,'Marks Entry'!BK11,'Marks Entry'!BW11))))) -> 0 | O12: =IF($J$4='Marks Entry'!$K$3,'Marks Entry'!P11,IF($J$4='Marks Entry'!$W$3,'Marks Entry'!AB11,IF($J$4='Marks Entry'!$AI$3,'Marks Entry'!AN11,IF($J$4='Marks Entry'!$AU$3,'Marks Entry'!AZ11,IF($J$4='Marks Entry'!$BG$3,'Marks Entry'!BL11,'Marks Entry'!BX11))))) -> 0 | P12: =IF($J$4='Marks Entry'!$K$3,'Marks Entry'!R11,IF($J$4='Marks Entry'!$W$3,'Marks Entry'!AD11,IF($J$4='Marks Entry'!$AI$3,'Marks Entry'!AP11,IF($J$4='Marks Entry'!$AU$3,'Marks Entry'!BB11,IF($J$4='Marks Entry'!$BG$3,'Marks Entry'!BN11,'Marks Entry'!BZ11))))) -> 0 | Q12: =IF($J$4='Marks Entry'!$K$3,'Marks Entry'!S11,IF($J$4='Marks Entry'!$W$3,'Marks Entry'!AE11,IF($J$4='Marks Entry'!$AI$3,'Marks Entry'!AQ11,IF($J$4='Marks Entry'!$AU$3,'Marks Entry'!BC11,IF($J$4='Marks Entry'!$BG$3,'Marks Entry'!BO11,'Marks Entry'!CA11))))) -> 0 | R12: =IF($J$4='Marks Entry'!$K$3,'Marks Entry'!T11,IF($J$4='Marks Entry'!$W$3,'Marks Entry'!AF11,IF($J$4='Marks Entry'!$AI$3,'Marks Entry'!AR11,IF($J$4='Marks Entry'!$AU$3,'Marks Entry'!BD11,IF($J$4='Marks Entry'!$BG$3,'Marks Entry'!BP11,'Marks Entry'!CB11))))) -> 0 | S12: =IF($J$4='Marks Entry'!$K$3,'Marks Entry'!U11,IF($J$4='Marks Entry'!$W$3,'Marks Entry'!AG11,IF($J$4='Marks Entry'!$AI$3,'Marks Entry'!AS11,IF($J$4='Marks Entry'!$AU$3,'Marks Entry'!BE11,IF($J$4='Marks Entry'!$BG$3,'Marks Entry'!BQ11,'Marks Entry'!CC11))))) -> 0 | T12: =IF($J$4='Marks Entry'!$K$3,'Marks Entry'!V11,IF($J$4='Marks Entry'!$W$3,'Marks Entry'!AH11,IF($J$4='Marks Entry'!$AI$3,'Marks Entry'!AT11,IF($J$4='Marks Entry'!$AU$3,'Marks Entry'!BF11,IF($J$4='Marks Entry'!$BG$3,'Marks Entry'!BR11,'Marks Entry'!CD11))))) -> 0
B13: ='Marks Entry'!B12 -> 0 | C13: ='Marks Entry'!C12 -> 0 | D13: ='Marks Entry'!D12 -> 0 | E13: ='Marks Entry'!E12 -> 0 | F13: ='Marks Entry'!F12 -> 0 | G13: ='Marks Entry'!G12 -> 0 | H13: ='Marks Entry'!H12 -> 0 | I13: ='Marks Entry'!I12 -> 0 | J13: =IF($J$4='Marks Entry'!$K$3,'Marks Entry'!K12,IF($J$4='Marks Entry'!$W$3,'Marks Entry'!W12,IF($J$4='Marks Entry'!$AI$3,'Marks Entry'!AI12,IF($J$4='Marks Entry'!$AU$3,'Marks Entry'!AU12,IF($J$4='Marks Entry'!$BG$3,'Marks Entry'!BG12,'Marks Entry'!BS12))))) -> 0 | K13: =IF($J$4='Marks Entry'!$K$3,'Marks Entry'!L12,IF($J$4='Marks Entry'!$W$3,'Marks Entry'!X12,IF($J$4='Marks Entry'!$AI$3,'Marks Entry'!AJ12,IF($J$4='Marks Entry'!$AU$3,'Marks Entry'!AV12,IF($J$4='Marks Entry'!$BG$3,'Marks Entry'!BH12,'Marks Entry'!BT12))))) -> 0 | L13: =IF($J$4='Marks Entry'!$K$3,'Marks Entry'!M12,IF($J$4='Marks Entry'!$W$3,'Marks Entry'!Y12,IF($J$4='Marks Entry'!$AI$3,'Marks Entry'!AK12,IF($J$4='Marks Entry'!$AU$3,'Marks Entry'!AW12,IF($J$4='Marks Entry'!$BG$3,'Marks Entry'!BI12,'Marks Entry'!BU12))))) -> 0 | M13: =IF($J$4='Marks Entry'!$K$3,'Marks Entry'!N12,IF($J$4='Marks Entry'!$W$3,'Marks Entry'!Z12,IF($J$4='Marks Entry'!$AI$3,'Marks Entry'!AL12,IF($J$4='Marks Entry'!$AU$3,'Marks Entry'!AX12,IF($J$4='Marks Entry'!$BG$3,'Marks Entry'!BJ12,'Marks Entry'!BV12))))) -> 0 | N13: =IF($J$4='Marks Entry'!$K$3,'Marks Entry'!O12,IF($J$4='Marks Entry'!$W$3,'Marks Entry'!AA12,IF($J$4='Marks Entry'!$AI$3,'Marks Entry'!AM12,IF($J$4='Marks Entry'!$AU$3,'Marks Entry'!AY12,IF($J$4='Marks Entry'!$BG$3,'Marks Entry'!BK12,'Marks Entry'!BW12))))) -> 0 | O13: =IF($J$4='Marks Entry'!$K$3,'Marks Entry'!P12,IF($J$4='Marks Entry'!$W$3,'Marks Entry'!AB12,IF($J$4='Marks Entry'!$AI$3,'Marks Entry'!AN12,IF($J$4='Marks Entry'!$AU$3,'Marks Entry'!AZ12,IF($J$4='Marks Entry'!$BG$3,'Marks Entry'!BL12,'Marks Entry'!BX12))))) -> 0 | P13: =IF($J$4='Marks Entry'!$K$3,'Marks Entry'!R12,IF($J$4='Marks Entry'!$W$3,'Marks Entry'!AD12,IF($J$4='Marks Entry'!$AI$3,'Marks Entry'!AP12,IF($J$4='Marks Entry'!$AU$3,'Marks Entry'!BB12,IF($J$4='Marks Entry'!$BG$3,'Marks Entry'!BN12,'Marks Entry'!BZ12))))) -> 0 | Q13: =IF($J$4='Marks Entry'!$K$3,'Marks Entry'!S12,IF($J$4='Marks Entry'!$W$3,'Marks Entry'!AE12,IF($J$4='Marks Entry'!$AI$3,'Marks Entry'!AQ12,IF($J$4='Marks Entry'!$AU$3,'Marks Entry'!BC12,IF($J$4='Marks Entry'!$BG$3,'Marks Entry'!BO12,'Marks Entry'!CA12))))) -> 0 | R13: =IF($J$4='Marks Entry'!$K$3,'Marks Entry'!T12,IF($J$4='Marks Entry'!$W$3,'Marks Entry'!AF12,IF($J$4='Marks Entry'!$AI$3,'Marks Entry'!AR12,IF($J$4='Marks Entry'!$AU$3,'Marks Entry'!BD12,IF($J$4='Marks Entry'!$BG$3,'Marks Entry'!BP12,'Marks Entry'!CB12))))) -> 0 | S13: =IF($J$4='Marks Entry'!$K$3,'Marks Entry'!U12,IF($J$4='Marks Entry'!$W$3,'Marks Entry'!AG12,IF($J$4='Marks Entry'!$AI$3,'Marks Entry'!AS12,IF($J$4='Marks Entry'!$AU$3,'Marks Entry'!BE12,IF($J$4='Marks Entry'!$BG$3,'Marks Entry'!BQ12,'Marks Entry'!CC12))))) -> 0 | T13: =IF($J$4='Marks Entry'!$K$3,'Marks Entry'!V12,IF($J$4='Marks Entry'!$W$3,'Marks Entry'!AH12,IF($J$4='Marks Entry'!$AI$3,'Marks Entry'!AT12,IF($J$4='Marks Entry'!$AU$3,'Marks Entry'!BF12,IF($J$4='Marks Entry'!$BG$3,'Marks Entry'!BR12,'Marks Entry'!CD12))))) -> 0
B14: ='Marks Entry'!B13 -> 0 | C14: ='Marks Entry'!C13 -> 0 | D14: ='Marks Entry'!D13 -> 0 | E14: ='Marks Entry'!E13 -> 0 | F14: ='Marks Entry'!F13 -> 0 | G14: ='Marks Entry'!G13 -> 0 | H14: ='Marks Entry'!H13 -> 0 | I14: ='Marks Entry'!I13 -> 0 | J14: =IF($J$4='Marks Entry'!$K$3,'Marks Entry'!K13,IF($J$4='Marks Entry'!$W$3,'Marks Entry'!W13,IF($J$4='Marks Entry'!$AI$3,'Marks Entry'!AI13,IF($J$4='Marks Entry'!$AU$3,'Marks Entry'!AU13,IF($J$4='Marks Entry'!$BG$3,'Marks Entry'!BG13,'Marks Entry'!BS13))))) -> 0 | K14: =IF($J$4='Marks Entry'!$K$3,'Marks Entry'!L13,IF($J$4='Marks Entry'!$W$3,'Marks Entry'!X13,IF($J$4='Marks Entry'!$AI$3,'Marks Entry'!AJ13,IF($J$4='Marks Entry'!$AU$3,'Marks Entry'!AV13,IF($J$4='Marks Entry'!$BG$3,'Marks Entry'!BH13,'Marks Entry'!BT13))))) -> 0 | L14: =IF($J$4='Marks Entry'!$K$3,'Marks Entry'!M13,IF($J$4='Marks Entry'!$W$3,'Marks Entry'!Y13,IF($J$4='Marks Entry'!$AI$3,'Marks Entry'!AK13,IF($J$4='Marks Entry'!$AU$3,'Marks Entry'!AW13,IF($J$4='Marks Entry'!$BG$3,'Marks Entry'!BI13,'Marks Entry'!BU13))))) -> 0 | M14: =IF($J$4='Marks Entry'!$K$3,'Marks Entry'!N13,IF($J$4='Marks Entry'!$W$3,'Marks Entry'!Z13,IF($J$4='Marks Entry'!$AI$3,'Marks Entry'!AL13,IF($J$4='Marks Entry'!$AU$3,'Marks Entry'!AX13,IF($J$4='Marks Entry'!$BG$3,'Marks Entry'!BJ13,'Marks Entry'!BV13))))) -> 0 | N14: =IF($J$4='Marks Entry'!$K$3,'Marks Entry'!O13,IF($J$4='Marks Entry'!$W$3,'Marks Entry'!AA13,IF($J$4='Marks Entry'!$AI$3,'Marks Entry'!AM13,IF($J$4='Marks Entry'!$AU$3,'Marks Entry'!AY13,IF($J$4='Marks Entry'!$BG$3,'Marks Entry'!BK13,'Marks Entry'!BW13))))) -> 0 | O14: =IF($J$4='Marks Entry'!$K$3,'Marks Entry'!P13,IF($J$4='Marks Entry'!$W$3,'Marks Entry'!AB13,IF($J$4='Marks Entry'!$AI$3,'Marks Entry'!AN13,IF($J$4='Marks Entry'!$AU$3,'Marks Entry'!AZ13,IF($J$4='Marks Entry'!$BG$3,'Marks Entry'!BL13,'Marks Entry'!BX13))))) -> 0 | P14: =IF($J$4='Marks Entry'!$K$3,'Marks Entry'!R13,IF($J$4='Marks Entry'!$W$3,'Marks Entry'!AD13,IF($J$4='Marks Entry'!$AI$3,'Marks Entry'!AP13,IF($J$4='Marks Entry'!$AU$3,'Marks Entry'!BB13,IF($J$4='Marks Entry'!$BG$3,'Marks Entry'!BN13,'Marks Entry'!BZ13))))) -> 0 | Q14: =IF($J$4='Marks Entry'!$K$3,'Marks Entry'!S13,IF($J$4='Marks Entry'!$W$3,'Marks Entry'!AE13,IF($J$4='Marks Entry'!$AI$3,'Marks Entry'!AQ13,IF($J$4='Marks Entry'!$AU$3,'Marks Entry'!BC13,IF($J$4='Marks Entry'!$BG$3,'Marks Entry'!BO13,'Marks Entry'!CA13))))) -> 0 | R14: =IF($J$4='Marks Entry'!$K$3,'Marks Entry'!T13,IF($J$4='Marks Entry'!$W$3,'Marks Entry'!AF13,IF($J$4='Marks Entry'!$AI$3,'Marks Entry'!AR13,IF($J$4='Marks Entry'!$AU$3,'Marks Entry'!BD13,IF($J$4='Marks Entry'!$BG$3,'Marks Entry'!BP13,'Marks Entry'!CB13))))) -> 0 | S14: =IF($J$4='Marks Entry'!$K$3,'Marks Entry'!U13,IF($J$4='Marks Entry'!$W$3,'Marks Entry'!AG13,IF($J$4='Marks Entry'!$AI$3,'Marks Entry'!AS13,IF($J$4='Marks Entry'!$AU$3,'Marks Entry'!BE13,IF($J$4='Marks Entry'!$BG$3,'Marks Entry'!BQ13,'Marks Entry'!CC13))))) -> 0 | T14: =IF($J$4='Marks Entry'!$K$3,'Marks Entry'!V13,IF($J$4='Marks Entry'!$W$3,'Marks Entry'!AH13,IF($J$4='Marks Entry'!$AI$3,'Marks Entry'!AT13,IF($J$4='Marks Entry'!$AU$3,'Marks Entry'!BF13,IF($J$4='Marks Entry'!$BG$3,'Marks Entry'!BR13,'Marks Entry'!CD13))))) -> 0
