Workbook

Sheet Master
B2: निर्देश :- 1. यह सॉफ्टवेयर आपकी सुविधार्थ राजस्थान बोर्ड कक्षा 8 के सत्रांक तैयार करने के उद्देश्य को ध्यान में रखते हुए तैयार किया गया हैl | U2: सेवा | V2: सहयोग | W2: समर्पण
B3: 2. सर्वप्रथम Master शीट में आवश्यक पूर्तियां करके Marks Entry शीट में विद्यार्थियों की जानकारी, कक्षा तथा सम्बंधित विषय एवं विषयाध्यापक का चुनाव करते हुए निर्धारित अंक भरेंl
B4: 3. All Subject शीट में सभी विषय की समेकित सत्रांक सूची तथा Subject Wise शीट में वांछित विषयवार सूची का प्रिंट प्राप्त किया जा सकता हैl
B5: नोट:- हालाँकि यह सत्रांक सॉफ्टवेयर कक्षा 8 हेतु विभागीय नियमानुसार तैयार किया गया है, फिर भी इसमें किसी मानवीय त्रुटी की स्थिति में विभागीय नियम ही सर्वमान्य होंगे, ऑनलाइन दर्ज करने से पूर्व अवश्य जाँच कर लेवेंl
B7: BOARD CLASS SASSIONAL PREPARATION PROGRAM | AB7: 2019-20 | AC7: PRIMARY
K8: Subjects | P8: Staff Detail | AB8: 2019-21 | AC8: UPPER PRIMARY
B9: SESSION | D9: :- | E9: 2021-22 | K9: Sr. No. | L9: Name | M9: Sr. No. | N9: Name | P9: Sr. No. | Q9: Name | R9: Sr. No. | S9: Name | AB9: 2019-22 | AC9: SECONDARY
K10: 1 | L10: HINDI | P10: 1 | AB10: 2019-21 | AC10: UPPER PRIMARY
B11: SCHOOL'S FULL NAME (U-Dise Code) | D11: :- | K11: 2 | L11: ENGLISH | P11: 2
K12: 3 | L12: SCIENCE | P12: 3 | AB12: 2019-22 | AC12: SECONDARY
K13: 4 | L13: MATHEMATICS | P13: 4 | AB13: 2019-23 | AC13: SR. SECONDARY
B14: ADDRESS | D14: :- | K14: 5 | L14: SOCIAL SCIENCE | P14: 5
K15: 6 | L15: SANSKRIT | P15: 6 | U15: PREPARED BY:-UMMED TARAD | AB15: 2019-24
K16: 7 | L16: WORK EXP. | P16: 7 | AB16: 2019-23 | AC16: SR. SECONDARY
B17: U-DISE CODE | D17: :- | E17: 081000000 | K17: 8 | L17: ART EDU. | P17: 8 | AB17: 2019-24
K18: 9 | L18: H & PHY. EDU. | U18: (GSSS RAIMALWADA) | AB18: 2019-25
B19: NAME OF PRINCIPAL | D19: :- | U19: MOBILE NO.-9166973141 | AB19: 2019-26
U20: EMAIL ID-ummedtrdedu@gmail.com | AB20: 2019-25
B21: SCHOOL TYPE | D21: :- | E21: Sr. Secondary | AB21: 2019-26
AB22: 2019-27

Sheet Marks Entry
B1: =Master!E11 -> 0 | K1: =B1 -> 0
B2: Print Complete Subject | H2: Print Subjectwise | K2: सम्बंधित विषय तथा विषयाध्यापक का चुनाव करें ↆ
B3: School U-Dise Code :- | F3: =Master!E17 -> 081000000 | H3: Session :- | I3: =Master!E9 -> 2021-22 | K3: HINDI | W3: ENGLISH | AI3: SCIENCE | AU3: MATHEMATICS | BG3: SOCIAL SCIENCE | BS3: SANSKRIT | CE3: WORK EXP. | CL3: ART EDU. | CS3: H & PHY. EDU.
B4: Class - | F4: 8 | H4: =Master!E9 -> 2021-22 | I4: (A)
B5: Student Related Basic Details | K5: 1st Test | L5: 2nd Test | M5: Total Tests | N5: Half Yearly | R5: Total Half Yeary | S5: Total Th.+Int. Evo. | T5: 20 % Of Exam Mark's | U5: Attendance | V5: Sassional Marks | W5: 1st Test | X5: 2nd Test | Y5: Total Tests | Z5: Half Yearly | AD5: Total Half Yeary | AE5: Total Th.+Int. Evo. | AF5: 20 % Of Exam Mark's | AG5: Attendance | AH5: Sassional Marks | AI5: 1st Test | AJ5: 2nd Test | AK5: Total Tests | AL5: Half Yearly | AP5: Total Half Yeary | AQ5: Total Th.+Int. Evo. | AR5: 20 % Of Exam Mark's | AS5: Attendance | AT5: Sassional Marks | AU5: 1st Test | AV5: 2nd Test | AW5: Total Tests | AX5: Half Yearly | BB5: Total Half Yeary | BC5: Total Th.+Int. Evo. | BD5: 20 % Of Exam Mark's | BE5: Attendance | BF5: Sassional Marks | BG5: 1st Test | BH5: 2nd Test | BI5: Total Tests | BJ5: Half Yearly | BN5: Total Half Yeary | BO5: Total Th.+Int. Evo. | BP5: 20 % Of Exam Mark's | BQ5: Attendance | BR5: Sassional Marks | BS5: 1st Test | BT5: 2nd Test | BU5: Total Tests | BV5: Half Yearly | BZ5: Total Half Yeary | CA5: Total Th.+Int. Evo. | CB5: 20 % Of Exam Mark's | CC5: Attendance | CD5: Sassional Marks | CE5: 1st Test | CF5: 2nd Test | CG5: 3rd Test | CH5: 4th Test | CI5: 5th Test | CJ5: Total (Sass. Mark) | CK5: Grd | CL5: 1st Test | CM5: 2nd Test | CN5: 3rd Test | CO5: 4th Test | CP5: 5th Test | CQ5: Total (Sass. Mark) | CR5: Grd | CS5: 1st Test | CT5: 2nd Test | CU5: 3rd Test | CV5: 4th Test | CW5: 5th Test | CX5: Total (Sass. Mark) | CY5: Grd
B6: Sr. No. | C6: Class | D6: Scholar Number | E6: School Roll Number | F6: Board Roll Number | G6: Student's Name | H6: Father's Name | I6: Mother's Name | J6: Date Of Birth | K6: Theory | L6: Theory | N6: Theory | O6: Internal Evolution | P6: Oral Exam | W6: Theory | X6: Theory | Z6: Theory | AA6: Internal Evolution | AB6: Oral Exam | AI6: Theory | AJ6: Theory | AL6: Theory | AM6: Internal Evolution | AN6: Oral Exam | AU6: Theory | AV6: Theory | AX6: Theory | AY6: Internal Evolution | AZ6: Oral Exam | BG6: Theory | BH6: Theory | BJ6: Theory | BK6: Internal Evolution | BL6: Oral Exam | BS6: Theory | BT6: Theory | BV6: Theory | BW6: Internal Evolution | BX6: Oral Exam | CE6: Activity Based | CF6: Activity Based | CG6: Activity Based | CH6: Activity Based | CI6: Activity Based | CK6: A/B/C/D/E | CL6: Activity Based | CM6: Activity Based | CN6: Activity Based | CO6: Activity Based | CP6: Activity Based | CR6: A/B/C/D/E | CS6: Activity Based | CT6: Activity Based | CU6: Activity Based | CV6: Activity Based | CW6: Activity Based | CY6: A/B/C/D/E
K7: 20 | L7: 20 | M7: =SUM(K7:L7) -> 40 | N7: 42 | O7: 12 | P7: 6 | R7: =SUM(N7:P7) -> 60 | S7: =M7+R7 -> 100 | T7: 20 | U7: 0 | V7: =T7+U7 -> 20 | W7: 20 | X7: 20 | Y7: =SUM(W7:X7) -> 40 | Z7: 42 | AA7: 12 | AB7: 6 | AD7: =SUM(Z7:AB7) -> 60 | AE7: =Y7+AD7 -> 100 | AF7: 20 | AG7: 0 | AH7: =AF7+AG7 -> 20 | AI7: 20 | AJ7: 20 | AK7: =SUM(AI7:AJ7) -> 40 | AL7: 42 | AM7: 12 | AN7: 6 | AP7: =SUM(AL7:AN7) -> 60 | AQ7: =AK7+AP7 -> 100 | AR7: 20 | AS7: 0 | AT7: =AR7+AS7 -> 20 | AU7: 20 | AV7: 20 | AW7: =SUM(AU7:AV7) -> 40 | AX7: 42 | AY7: 12 | AZ7: 6 | BB7: =SUM(AX7:AZ7) -> 60 | BC7: =AW7+BB7 -> 100 | BD7: 20 | BE7: 0 | BF7: =BD7+BE7 -> 20 | BG7: 20 | BH7: 20 | BI7: =SUM(BG7:BH7) -> 40 | BJ7: 42 | BK7: 12 | BL7: 6 | BN7: =SUM(BJ7:BL7) -> 60 | BO7: =BI7+BN7 -> 100 | BP7: 20 | BQ7: 0 | BR7: =BP7+BQ7 -> 20 | BS7: 20 | BT7: 20 | BU7: =SUM(BS7:BT7) -> 40 | BV7: 42 | BW7: 12 | BX7: 6 | BZ7: =SUM(BV7:BX7) -> 60 | CA7: =BU7+BZ7 -> 100 | CB7: 20 | CC7: 0 | CD7: =CB7+CC7 -> 20 | CE7: 20 | CF7: 20 | CG7: 20 | CH7: 20 | CI7: 20 | CJ7: =SUM(CE7:CI7) -> 100 | CL7: 20 | CM7: 20 | CN7: 20 | CO7: 20 | CP7: 20 | CQ7: =SUM(CL7:CP7) -> 100 | CS7: 20 | CT7: 20 | CU7: 20 | CV7: 20 | CW7: 20 | CX7: =SUM(CS7:CW7) -> 100
A8: =F8 -> 0 | B8: 1 | C8: =F4 -> 8 | M8: =SUM(K8,L8) -> 0 | R8: {=N8+O8+P8} -> 0 | S8: {=M8+R8} -> 0 | T8: =ROUNDUP(S8*$T$7/100,0) -> 0 | V8: {=T8+U8} -> 0 | Y8: =SUM(W8,X8) -> 0 | AD8: {=Z8+AA8+AB8} -> 0 | AE8: {=Y8+AD8} -> 0 | AF8: =ROUNDUP(AE8*AF$7/100,0) -> 0 | AH8: {=AF8+AG8} -> 0 | AK8: =SUM(AI8,AJ8) -> 0 | AP8: {=AL8+AM8+AN8} -> 0 | AQ8: {=AK8+AP8} -> 0 | AR8: =ROUNDUP(AQ8*AR$7/100,0) -> 0 | AT8: {=AR8+AS8} -> 0 | AW8: =SUM(AU8,AV8) -> 0 | BB8: {=AX8+AY8+AZ8} -> 0 | BC8: {=AW8+BB8} -> 0 | BD8: =ROUNDUP(BC8*BD$7/100,0) -> 0 | BF8: {=BD8+BE8} -> 0 | BI8: =SUM(BG8,BH8) -> 0 | BN8: {=BJ8+BK8+BL8} -> 0 | BO8: {=BI8+BN8} -> 0 | BP8: =ROUNDUP(BO8*BP$7/100,0) -> 0 | BR8: {=BP8+BQ8} -> 0 | BU8: =SUM(BS8,BT8) -> 0 | BZ8: {=BV8+BW8+BX8} -> 0 | CA8: {=BU8+BZ8} -> 0 | CB8: =ROUNDUP(CA8*CB$7/100,0) -> 0 | CD8: {=CB8+CC8} -> 0 | CJ8: =SUM(CE8:CI8) -> 0 | CK8: =IF(CJ8>=86,"A",IF(CJ8>=71,"B",IF(CJ8>=51,"C",IF(CJ8>=33,"D","E")))) -> E | CQ8: =SUM(CL8:CP8) -> 0 | CR8: =IF(CQ8>=86,"A",IF(CQ8>=71,"B",IF(CQ8>=51,"C",IF(CQ8>=33,"D","E")))) -> E | CX8: =SUM(CS8:CW8) -> 0 | CY8: =IF(CX8>=86,"A",IF(CX8>=71,"B",IF(CX8>=51,"C",IF(CX8>=33,"D","E")))) -> E
A9: =F9 -> 0 | C9: =IF(B9>0,$F$4,0) -> 0 | M9: =SUM(K9,L9) -> 0 | R9: {=N9+O9+P9} -> 0 | S9: {=M9+R9} -> 0 | T9: =ROUNDUP(S9*$T$7/100,0) -> 0 | V9: {=T9+U9} -> 0 | Y9: =SUM(W9,X9) -> 0 | AD9: {=Z9+AA9+AB9} -> 0 | AE9: {=Y9+AD9} -> 0 | AF9: =ROUNDUP(AE9*AF$7/100,0) -> 0 | AH9: {=AF9+AG9} -> 0 | AK9: =SUM(AI9,AJ9) -> 0 | AP9: {=AL9+AM9+AN9} -> 0 | AQ9: {=AK9+AP9} -> 0 | AR9: =ROUNDUP(AQ9*AR$7/100,0) -> 0 | AT9: {=AR9+AS9} -> 0 | AW9: =SUM(AU9,AV9) -> 0 | BB9: {=AX9+AY9+AZ9} -> 0 | BC9: {=AW9+BB9} -> 0 | BD9: =ROUNDUP(BC9*BD$7/100,0) -> 0 | BF9: {=BD9+BE9} -> 0 | BI9: =SUM(BG9,BH9) -> 0 | BN9: {=BJ9+BK9+BL9} -> 0 | BO9: {=BI9+BN9} -> 0 | BP9: =ROUNDUP(BO9*BP$7/100,0) -> 0 | BR9: {=BP9+BQ9} -> 0 | BU9: =SUM(BS9,BT9) -> 0 | BZ9: {=BV9+BW9+BX9} -> 0 | CA9: {=BU9+BZ9} -> 0 | CB9: =ROUNDUP(CA9*CB$7/100,0) -> 0 | CD9: {=CB9+CC9} -> 0 | CJ9: =SUM(CE9:CI9) -> 0 | CK9: =IF(CJ9>=86,"A",IF(CJ9>=71,"B",IF(CJ9>=51,"C",IF(CJ9>=33,"D","E")))) -> E | CQ9: =SUM(CL9:CP9) -> 0 | CR9: =IF(CQ9>=86,"A",IF(CQ9>=71,"B",IF(CQ9>=51,"C",IF(CQ9>=33,"D","E")))) -> E | CX9: =SUM(CS9:CW9) -> 0 | CY9: =IF(CX9>=86,"A",IF(CX9>=71,"B",IF(CX9>=51,"C",IF(CX9>=33,"D","E")))) -> E
A10: =F10 -> 0 | C10: =IF(B10>0,$F$4,0) -> 0 | M10: =SUM(K10,L10) -> 0 | R10: {=N10+O10+P10} -> 0 | S10: {=M10+R10} -> 0 | T10: =ROUNDUP(S10*$T$7/100,0) -> 0 | V10: {=T10+U10} -> 0 | Y10: =SUM(W10,X10) -> 0 | AD10: {=Z10+AA10+AB10} -> 0 | AE10: {=Y10+AD10} -> 0 | AF10: =ROUNDUP(AE10*AF$7/100,0) -> 0 | AH10: {=AF10+AG10} -> 0 | AK10: =SUM(AI10,AJ10) -> 0 | AP10: {=AL10+AM10+AN10} -> 0 | AQ10: {=AK10+AP10} -> 0 | AR10: =ROUNDUP(AQ10*AR$7/100,0) -> 0 | AT10: {=AR10+AS10} -> 0 | AW10: =SUM(AU10,AV10) -> 0 | BB10: {=AX10+AY10+AZ10} -> 0 | BC10: {=AW10+BB10} -> 0 | BD10: =ROUNDUP(BC10*BD$7/100,0) -> 0 | BF10: {=BD10+BE10} -> 0 | BI10: =SUM(BG10,BH10) -> 0 | BN10: {=BJ10+BK10+BL10} -> 0 | BO10: {=BI10+BN10} -> 0 | BP10: =ROUNDUP(BO10*BP$7/100,0) -> 0 | BR10: {=BP10+BQ10} -> 0 | BU10: =SUM(BS10,BT10) -> 0 | BZ10: {=BV10+BW10+BX10} -> 0 | CA10: {=BU10+BZ10} -> 0 | CB10: =ROUNDUP(CA10*CB$7/100,0) -> 0 | CD10: {=CB10+CC10} -> 0 | CJ10: =SUM(CE10:CI10) -> 0 | CK10: =IF(CJ10>=86,"A",IF(CJ10>=71,"B",IF(CJ10>=51,"C",IF(CJ10>=33,"D","E")))) -> E | CQ10: =SUM(CL10:CP10) -> 0 | CR10: =IF(CQ10>=86,"A",IF(CQ10>=71,"B",IF(CQ10>=51,"C",IF(CQ10>=33,"D","E")))) -> E | CX10: =SUM(CS10:CW10) -> 0 | CY10: =IF(CX10>=86,"A",IF(CX10>=71,"B",IF(CX10>=51,"C",IF(CX10>=33,"D","E")))) -> E
A11: =F11 -> 0 | C11: =IF(B11>0,$F$4,0) -> 0 | M11: =SUM(K11,L11) -> 0 | R11: {=N11+O11+P11} -> 0 | S11: {=M11+R11} -> 0 | T11: =ROUNDUP(S11*$T$7/100,0) -> 0 | V11: {=T11+U11} -> 0 | Y11: =SUM(W11,X11) -> 0 | AD11: {=Z11+AA11+AB11} -> 0 | AE11: {=Y11+AD11} -> 0 | AF11: =ROUNDUP(AE11*AF$7/100,0) -> 0 | AH11: {=AF11+AG11} -> 0 | AK11: =SUM(AI11,AJ11) -> 0 | AP11: {=AL11+AM11+AN11} -> 0 | AQ11: {=AK11+AP11} -> 0 | AR11: =ROUNDUP(AQ11*AR$7/100,0) -> 0 | AT11: {=AR11+AS11} -> 0 | AW11: =SUM(AU11,AV11) -> 0 | BB11: {=AX11+AY11+AZ11} -> 0 | BC11: {=AW11+BB11} -> 0 | BD11: =ROUNDUP(BC11*BD$7/100,0) -> 0 | BF11: {=BD11+BE11} -> 0 | BI11: =SUM(BG11,BH11) -> 0 | BN11: {=BJ11+BK11+BL11} -> 0 | BO11: {=BI11+BN11} -> 0 | BP11: =ROUNDUP(BO11*BP$7/100,0) -> 0 | BR11: {=BP11+BQ11} -> 0 | BU11: =SUM(BS11,BT11) -> 0 | BZ11: {=BV11+BW11+BX11} -> 0 | CA11: {=BU11+BZ11} -> 0 | CB11: =ROUNDUP(CA11*CB$7/100,0) -> 0 | CD11: {=CB11+CC11} -> 0 | CJ11: =SUM(CE11:CI11) -> 0 | CK11: =IF(CJ11>=86,"A",IF(CJ11>=71,"B",IF(CJ11>=51,"C",IF(CJ11>=33,"D","E")))) -> E | CQ11: =SUM(CL11:CP11) -> 0 | CR11: =IF(CQ11>=86,"A",IF(CQ11>=71,"B",IF(CQ11>=51,"C",IF(CQ11>=33,"D","E")))) -> E | CX11: =SUM(CS11:CW11) -> 0 | CY11: =IF(CX11>=86,"A",IF(CX11>=71,"B",IF(CX11>=51,"C",IF(CX11>=33,"D","E")))) -> E
A12: =F12 -> 0 | C12: =IF(B12>0,$F$4,0) -> 0 | M12: =SUM(K12,L12) -> 0 | R12: {=N12+O12+P12} -> 0 | S12: {=M12+R12} -> 0 | T12: =ROUNDUP(S12*$T$7/100,0) -> 0 | V12: {=T12+U12} -> 0 | Y12: =SUM(W12,X12) -> 0 | AD12: {=Z12+AA12+AB12} -> 0 | AE12: {=Y12+AD12} -> 0 | AF12: =ROUNDUP(AE12*AF$7/100,0) -> 0 | AH12: {=AF12+AG12} -> 0 | AK12: =SUM(AI12,AJ12) -> 0 | AP12: {=AL12+AM12+AN12} -> 0 | AQ12: {=AK12+AP12} -> 0 | AR12: =ROUNDUP(AQ12*AR$7/100,0) -> 0 | AT12: {=AR12+AS12} -> 0 | AW12: =SUM(AU12,AV12) -> 0 | BB12: {=AX12+AY12+AZ12} -> 0 | BC12: {=AW12+BB12} -> 0 | BD12: =ROUNDUP(BC12*BD$7/100,0) -> 0 | BF12: {=BD12+BE12} -> 0 | BI12: =SUM(BG12,BH12) -> 0 | BN12: {=BJ12+BK12+BL12} -> 0 | BO12: {=BI12+BN12} -> 0 | BP12: =ROUNDUP(BO12*BP$7/100,0) -> 0 | BR12: {=BP12+BQ12} -> 0 | BU12: =SUM(BS12,BT12) -> 0 | BZ12: {=BV12+BW12+BX12} -> 0 | CA12: {=BU12+BZ12} -> 0 | CB12: =ROUNDUP(CA12*CB$7/100,0) -> 0 | CD12: {=CB12+CC12} -> 0 | CJ12: =SUM(CE12:CI12) -> 0 | CK12: =IF(CJ12>=86,"A",IF(CJ12>=71,"B",IF(CJ12>=51,"C",IF(CJ12>=33,"D","E")))) -> E | CQ12: =SUM(CL12:CP12) -> 0 | CR12: =IF(CQ12>=86,"A",IF(CQ12>=71,"B",IF(CQ12>=51,"C",IF(CQ12>=33,"D","E")))) -> E | CX12: =SUM(CS12:CW12) -> 0 | CY12: =IF(CX12>=86,"A",IF(CX12>=71,"B",IF(CX12>=51,"C",IF(CX12>=33,"D","E")))) -> E
A13: =F13 -> 0 | C13: =IF(B13>0,$F$4,0) -> 0 | M13: =SUM(K13,L13) -> 0 | R13: {=N13+O13+P13} -> 0 | S13: {=M13+R13} -> 0 | T13: =ROUNDUP(S13*$T$7/100,0) -> 0 | V13: {=T13+U13} -> 0 | Y13: =SUM(W13,X13) -> 0 | AD13: {=Z13+AA13+AB13} -> 0 | AE13: {=Y13+AD13} -> 0 | AF13: =ROUNDUP(AE13*AF$7/100,0) -> 0 | AH13: {=AF13+AG13} -> 0 | AK13: =SUM(AI13,AJ13) -> 0 | AP13: {=AL13+AM13+AN13} -> 0 | AQ13: {=AK13+AP13} -> 0 | AR13: =ROUNDUP(AQ13*AR$7/100,0) -> 0 | AT13: {=AR13+AS13} -> 0 | AW13: =SUM(AU13,AV13) -> 0 | BB13: {=AX13+AY13+AZ13} -> 0 | BC13: {=AW13+BB13} -> 0 | BD13: =ROUNDUP(BC13*BD$7/100,0) -> 0 | BF13: {=BD13+BE13} -> 0 | BI13: =SUM(BG13,BH13) -> 0 | BN13: {=BJ13+BK13+BL13} -> 0 | BO13: {=BI13+BN13} -> 0 | BP13: =ROUNDUP(BO13*BP$7/100,0) -> 0 | BR13: {=BP13+BQ13} -> 0 | BU13: =SUM(BS13,BT13) -> 0 | BZ13: {=BV13+BW13+BX13} -> 0 | CA13: {=BU13+BZ13} -> 0 | CB13: =ROUNDUP(CA13*CB$7/100,0) -> 0 | CD13: {=CB13+CC13} -> 0 | CJ13: =SUM(CE13:CI13) -> 0 | CK13: =IF(CJ13>=86,"A",IF(CJ13>=71,"B",IF(CJ13>=51,"C",IF(CJ13>=33,"D","E")))) -> E | CQ13: =SUM(CL13:CP13) -> 0 | CR13: =IF(CQ13>=86,"A",IF(CQ13>=71,"B",IF(CQ13>=51,"C",IF(CQ13>=33,"D","E")))) -> E | CX13: =SUM(CS13:CW13) -> 0 | CY13: =IF(CX13>=86,"A",IF(CX13>=71,"B",IF(CX13>=51,"C",IF(CX13>=33,"D","E")))) -> E
A14: =F14 -> 0 | C14: =IF(B14>0,$F$4,0) -> 0 | M14: =SUM(K14,L14) -> 0 | R14: {=N14+O14+P14} -> 0 | S14: {=M14+R14} -> 0 | T14: =ROUNDUP(S14*$T$7/100,0) -> 0 | V14: {=T14+U14} -> 0 | Y14: =SUM(W14,X14) -> 0 | AD14: {=Z14+AA14+AB14} -> 0 | AE14: {=Y14+AD14} -> 0 | AF14: =ROUNDUP(AE14*AF$7/100,0) -> 0 | AH14: {=AF14+AG14} -> 0 | AK14: =SUM(AI14,AJ14) -> 0 | AP14: {=AL14+AM14+AN14} -> 0 | AQ14: {=AK14+AP14} -> 0 | AR14: =ROUNDUP(AQ14*AR$7/100,0) -> 0 | AT14: {=AR14+AS14} -> 0 | AW14: =SUM(AU14,AV14) -> 0 | BB14: {=AX14+AY14+AZ14} -> 0 | BC14: {=AW14+BB14} -> 0 | BD14: =ROUNDUP(BC14*BD$7/100,0) -> 0 | BF14: {=BD14+BE14} -> 0 | BI14: =SUM(BG14,BH14) -> 0 | BN14: {=BJ14+BK14+BL14} -> 0 | BO14: {=BI14+BN14} -> 0 | BP14: =ROUNDUP(BO14*BP$7/100,0) -> 0 | BR14: {=BP14+BQ14} -> 0 | BU14: =SUM(BS14,BT14) -> 0 | BZ14: {=BV14+BW14+BX14} -> 0 | CA14: {=BU14+BZ14} -> 0 | CB14: =ROUNDUP(CA14*CB$7/100,0) -> 0 | CD14: {=CB14+CC14} -> 0 | CJ14: =SUM(CE14:CI14) -> 0 | CK14: =IF(CJ14>=86,"A",IF(CJ14>=71,"B",IF(CJ14>=51,"C",IF(CJ14>=33,"D","E")))) -> E | CQ14: =SUM(CL14:CP14) -> 0 | CR14: =IF(CQ14>=86,"A",IF(CQ14>=71,"B",IF(CQ14>=51,"C",IF(CQ14>=33,"D","E")))) -> E | CX14: =SUM(CS14:CW14) -> 0 | CY14: =IF(CX14>=86,"A",IF(CX14>=71,"B",IF(CX14>=51,"C",IF(CX14>=33,"D","E")))) -> E
A15: =F15 -> 0 | C15: =IF(B15>0,$F$4,0) -> 0 | M15: =SUM(K15,L15) -> 0 | R15: {=N15+O15+P15} -> 0 | S15: {=M15+R15} -> 0 | T15: =ROUNDUP(S15*$T$7/100,0) -> 0 | V15: {=T15+U15} -> 0 | Y15: =SUM(W15,X15) -> 0 | AD15: {=Z15+AA15+AB15} -> 0 | AE15: {=Y15+AD15} -> 0 | AF15: =ROUNDUP(AE15*AF$7/100,0) -> 0 | AH15: {=AF15+AG15} -> 0 | AK15: =SUM(AI15,AJ15) -> 0 | AP15: {=AL15+AM15+AN15} -> 0 | AQ15: {=AK15+AP15} -> 0 | AR15: =ROUNDUP(AQ15*AR$7/100,0) -> 0 | AT15: {=AR15+AS15} -> 0 | AW15: =SUM(AU15,AV15) -> 0 | BB15: {=AX15+AY15+AZ15} -> 0 | BC15: {=AW15+BB15} -> 0 | BD15: =ROUNDUP(BC15*BD$7/100,0) -> 0 | BF15: {=BD15+BE15} -> 0 | BI15: =SUM(BG15,BH15) -> 0 | BN15: {=BJ15+BK15+BL15} -> 0 | BO15: {=BI15+BN15} -> 0 | BP15: =ROUNDUP(BO15*BP$7/100,0) -> 0 | BR15: {=BP15+BQ15} -> 0 | BU15: =SUM(BS15,BT15) -> 0 | BZ15: {=BV15+BW15+BX15} -> 0 | CA15: {=BU15+BZ15} -> 0 | CB15: =ROUNDUP(CA15*CB$7/100,0) -> 0 | CD15: {=CB15+CC15} -> 0 | CJ15: =SUM(CE15:CI15) -> 0 | CK15: =IF(CJ15>=86,"A",IF(CJ15>=71,"B",IF(CJ15>=51,"C",IF(CJ15>=33,"D","E")))) -> E | CQ15: =SUM(CL15:CP15) -> 0 | CR15: =IF(CQ15>=86,"A",IF(CQ15>=71,"B",IF(CQ15>=51,"C",IF(CQ15>=33,"D","E")))) -> E | CX15: =SUM(CS15:CW15) -> 0 | CY15: =IF(CX15>=86,"A",IF(CX15>=71,"B",IF(CX15>=51,"C",IF(CX15>=33,"D","E")))) -> E
A16: =F16 -> 0 | C16: =IF(B16>0,$F$4,0) -> 0 | M16: =SUM(K16,L16) -> 0 | R16: {=N16+O16+P16} -> 0 | S16: {=M16+R16} -> 0 | T16: =ROUNDUP(S16*$T$7/100,0) -> 0 | V16: {=T16+U16} -> 0 | Y16: =SUM(W16,X16) -> 0 | AD16: {=Z16+AA16+AB16} -> 0 | AE16: {=Y16+AD16} -> 0 | AF16: =ROUNDUP(AE16*AF$7/100,0) -> 0 | AH16: {=AF16+AG16} -> 0 | AK16: =SUM(AI16,AJ16) -> 0 | AP16: {=AL16+AM16+AN16} -> 0 | AQ16: {=AK16+AP16} -> 0 | AR16: =ROUNDUP(AQ16*AR$7/100,0) -> 0 | AT16: {=AR16+AS16} -> 0 | AW16: =SUM(AU16,AV16) -> 0 | BB16: {=AX16+AY16+AZ16} -> 0 | BC16: {=AW16+BB16} -> 0 | BD16: =ROUNDUP(BC16*BD$7/100,0) -> 0 | BF16: {=BD16+BE16} -> 0 | BI16: =SUM(BG16,BH16) -> 0 | BN16: {=BJ16+BK16+BL16} -> 0 | BO16: {=BI16+BN16} -> 0 | BP16: =ROUNDUP(BO16*BP$7/100,0) -> 0 | BR16: {=BP16+BQ16} -> 0 | BU16: =SUM(BS16,BT16) -> 0 | BZ16: {=BV16+BW16+BX16} -> 0 | CA16: {=BU16+BZ16} -> 0 | CB16: =ROUNDUP(CA16*CB$7/100,0) -> 0 | CD16: {=CB16+CC16} -> 0 | CJ16: =SUM(CE16:CI16) -> 0 | CK16: =IF(CJ16>=86,"A",IF(CJ16>=71,"B",IF(CJ16>=51,"C",IF(CJ16>=33,"D","E")))) -> E | CQ16: =SUM(CL16:CP16) -> 0 | CR16: =IF(CQ16>=86,"A",IF(CQ16>=71,"B",IF(CQ16>=51,"C",IF(CQ16>=33,"D","E")))) -> E | CX16: =SUM(CS16:CW16) -> 0 | CY16: =IF(CX16>=86,"A",IF(CX16>=71,"B",IF(CX16>=51,"C",IF(CX16>=33,"D","E")))) -> E
A17: =F17 -> 0 | C17: =IF(B17>0,$F$4,0) -> 0 | M17: =SUM(K17,L17) -> 0 | R17: {=N17+O17+P17} -> 0 | S17: {=M17+R17} -> 0 | T17: =ROUNDUP(S17*$T$7/100,0) -> 0 | V17: {=T17+U17} -> 0 | Y17: =SUM(W17,X17) -> 0 | AD17: {=Z17+AA17+AB17} -> 0 | AE17: {=Y17+AD17} -> 0 | AF17: =ROUNDUP(AE17*AF$7/100,0) -> 0 | AH17: {=AF17+AG17} -> 0 | AK17: =SUM(AI17,AJ17) -> 0 | AP17: {=AL17+AM17+AN17} -> 0 | AQ17: {=AK17+AP17} -> 0 | AR17: =ROUNDUP(AQ17*AR$7/100,0) -> 0 | AT17: {=AR17+AS17} -> 0 | AW17: =SUM(AU17,AV17) -> 0 | BB17: {=AX17+AY17+AZ17} -> 0 | BC17: {=AW17+BB17} -> 0 | BD17: =ROUNDUP(BC17*BD$7/100,0) -> 0 | BF17: {=BD17+BE17} -> 0 | BI17: =SUM(BG17,BH17) -> 0 | BN17: {=BJ17+BK17+BL17} -> 0 | BO17: {=BI17+BN17} -> 0 | BP17: =ROUNDUP(BO17*BP$7/100,0) -> 0 | BR17: {=BP17+BQ17} -> 0 | BU17: =SUM(BS17,BT17) -> 0 | BZ17: {=BV17+BW17+BX17} -> 0 | CA17: {=BU17+BZ17} -> 0 | CB17: =ROUNDUP(CA17*CB$7/100,0) -> 0 | CD17: {=CB17+CC17} -> 0 | CJ17: =SUM(CE17:CI17) -> 0 | CK17: =IF(CJ17>=86,"A",IF(CJ17>=71,"B",IF(CJ17>=51,"C",IF(CJ17>=33,"D","E")))) -> E | CQ17: =SUM(CL17:CP17) -> 0 | CR17: =IF(CQ17>=86,"A",IF(CQ17>=71,"B",IF(CQ17>=51,"C",IF(CQ17>=33,"D","E")))) -> E | CX17: =SUM(CS17:CW17) -> 0 | CY17: =IF(CX17>=86,"A",IF(CX17>=71,"B",IF(CX17>=51,"C",IF(CX17>=33,"D","E")))) -> E
A18: =F18 -> 0 | C18: =IF(B18>0,$F$4,0) -> 0 | M18: =SUM(K18,L18) -> 0 | R18: {=N18+O18+P18} -> 0 | S18: {=M18+R18} -> 0 | T18: =ROUNDUP(S18*$T$7/100,0) -> 0 | V18: {=T18+U18} -> 0 | Y18: =SUM(W18,X18) -> 0 | AD18: {=Z18+AA18+AB18} -> 0 | AE18: {=Y18+AD18} -> 0 | AF18: =ROUNDUP(AE18*AF$7/100,0) -> 0 | AH18: {=AF18+AG18} -> 0 | AK18: =SUM(AI18,AJ18) -> 0 | AP18: {=AL18+AM18+AN18} -> 0 | AQ18: {=AK18+AP18} -> 0 | AR18: =ROUNDUP(AQ18*AR$7/100,0) -> 0 | AT18: {=AR18+AS18} -> 0 | AW18: =SUM(AU18,AV18) -> 0 | BB18: {=AX18+AY18+AZ18} -> 0 | BC18: {=AW18+BB18} -> 0 | BD18: =ROUNDUP(BC18*BD$7/100,0) -> 0 | BF18: {=BD18+BE18} -> 0 | BI18: =SUM(BG18,BH18) -> 0 | BN18: {=BJ18+BK18+BL18} -> 0 | BO18: {=BI18+BN18} -> 0 | BP18: =ROUNDUP(BO18*BP$7/100,0) -> 0 | BR18: {=BP18+BQ18} -> 0 | BU18: =SUM(BS18,BT18) -> 0 | BZ18: {=BV18+BW18+BX18} -> 0 | CA18: {=BU18+BZ18} -> 0 | CB18: =ROUNDUP(CA18*CB$7/100,0) -> 0 | CD18: {=CB18+CC18} -> 0 | CJ18: =SUM(CE18:CI18) -> 0 | CK18: =IF(CJ18>=86,"A",IF(CJ18>=71,"B",IF(CJ18>=51,"C",IF(CJ18>=33,"D","E")))) -> E | CQ18: =SUM(CL18:CP18) -> 0 | CR18: =IF(CQ18>=86,"A",IF(CQ18>=71,"B",IF(CQ18>=51,"C",IF(CQ18>=33,"D","E")))) -> E | CX18: =SUM(CS18:CW18) -> 0 | CY18: =IF(CX18>=86,"A",IF(CX18>=71,"B",IF(CX18>=51,"C",IF(CX18>=33,"D","E")))) -> E
A19: =F19 -> 0 | C19: =IF(B19>0,$F$4,0) -> 0 | M19: =SUM(K19,L19) -> 0 | R19: {=N19+O19+P19} -> 0 | S19: {=M19+R19} -> 0 | T19: =ROUNDUP(S19*$T$7/100,0) -> 0 | V19: {=T19+U19} -> 0 | Y19: =SUM(W19,X19) -> 0 | AD19: {=Z19+AA19+AB19} -> 0 | AE19: {=Y19+AD19} -> 0 | AF19: =ROUNDUP(AE19*AF$7/100,0) -> 0 | AH19: {=AF19+AG19} -> 0 | AK19: =SUM(AI19,AJ19) -> 0 | AP19: {=AL19+AM19+AN19} -> 0 | AQ19: {=AK19+AP19} -> 0 | AR19: =ROUNDUP(AQ19*AR$7/100,0) -> 0 | AT19: {=AR19+AS19} -> 0 | AW19: =SUM(AU19,AV19) -> 0 | BB19: {=AX19+AY19+AZ19} -> 0 | BC19: {=AW19+BB19} -> 0 | BD19: =ROUNDUP(BC19*BD$7/100,0) -> 0 | BF19: {=BD19+BE19} -> 0 | BI19: =SUM(BG19,BH19) -> 0 | BN19: {=BJ19+BK19+BL19} -> 0 | BO19: {=BI19+BN19} -> 0 | BP19: =ROUNDUP(BO19*BP$7/100,0) -> 0 | BR19: {=BP19+BQ19} -> 0 | BU19: =SUM(BS19,BT19) -> 0 | BZ19: {=BV19+BW19+BX19} -> 0 | CA19: {=BU19+BZ19} -> 0 | CB19: =ROUNDUP(CA19*CB$7/100,0) -> 0 | CD19: {=CB19+CC19} -> 0 | CJ19: =SUM(CE19:CI19) -> 0 | CK19: =IF(CJ19>=86,"A",IF(CJ19>=71,"B",IF(CJ19>=51,"C",IF(CJ19>=33,"D","E")))) -> E | CQ19: =SUM(CL19:CP19) -> 0 | CR19: =IF(CQ19>=86,"A",IF(CQ19>=71,"B",IF(CQ19>=51,"C",IF(CQ19>=33,"D","E")))) -> E | CX19: =SUM(CS19:CW19) -> 0 | CY19: =IF(CX19>=86,"A",IF(CX19>=71,"B",IF(CX19>=51,"C",IF(CX19>=33,"D","E")))) -> E
A20: =F20 -> 0 | C20: =IF(B20>0,$F$4,0) -> 0 | M20: =SUM(K20,L20) -> 0 | R20: {=N20+O20+P20} -> 0 | S20: {=M20+R20} -> 0 | T20: =ROUNDUP(S20*$T$7/100,0) -> 0 | V20: {=T20+U20} -> 0 | Y20: =SUM(W20,X20) -> 0 | AD20: {=Z20+AA20+AB20} -> 0 | AE20: {=Y20+AD20} -> 0 | AF20: =ROUNDUP(AE20*AF$7/100,0) -> 0 | AH20: {=AF20+AG20} -> 0 | AK20: =SUM(AI20,AJ20) -> 0 | AP20: {=AL20+AM20+AN20} -> 0 | AQ20: {=AK20+AP20} -> 0 | AR20: =ROUNDUP(AQ20*AR$7/100,0) -> 0 | AT20: {=AR20+AS20} -> 0 | AW20: =SUM(AU20,AV20) -> 0 | BB20: {=AX20+AY20+AZ20} -> 0 | BC20: {=AW20+BB20} -> 0 | BD20: =ROUNDUP(BC20*BD$7/100,0) -> 0 | BF20: {=BD20+BE20} -> 0 | BI20: =SUM(BG20,BH20) -> 0 | BN20: {=BJ20+BK20+BL20} -> 0 | BO20: {=BI20+BN20} -> 0 | BP20: =ROUNDUP(BO20*BP$7/100,0) -> 0 | BR20: {=BP20+BQ20} -> 0 | BU20: =SUM(BS20,BT20) -> 0 | BZ20: {=BV20+BW20+BX20} -> 0 | CA20: {=BU20+BZ20} -> 0 | CB20: =ROUNDUP(CA20*CB$7/100,0) -> 0 | CD20: {=CB20+CC20} -> 0 | CJ20: =SUM(CE20:CI20) -> 0 | CK20: =IF(CJ20>=86,"A",IF(CJ20>=71,"B",IF(CJ20>=51,"C",IF(CJ20>=33,"D","E")))) -> E | CQ20: =SUM(CL20:CP20) -> 0 | CR20: =IF(CQ20>=86,"A",IF(CQ20>=71,"B",IF(CQ20>=51,"C",IF(CQ20>=33,"D","E")))) -> E | CX20: =SUM(CS20:CW20) -> 0 | CY20: =IF(CX20>=86,"A",IF(CX20>=71,"B",IF(CX20>=51,"C",IF(CX20>=33,"D","E")))) -> E
... A207: =F207 -> 0 | C207: =IF(B207>0,$F$4,0) -> 0 | M207: =SUM(K207,L207) -> 0 | R207: {=N207+O207+P207} -> 0 | S207: {=M207+R207} -> 0 | T207: =ROUNDUP(S207*$T$7/100,0) -> 0 | V207: {=T207+U207} -> 0 | Y207: =SUM(W207,X207) -> 0 | AD207: {=Z207+AA207+AB207} -> 0 | AE207: {=Y207+AD207} -> 0 | AF207: =ROUNDUP(AE207*AF$7/100,0) -> 0 | AH207: {=AF207+AG207} -> 0 | AK207: =SUM(AI207,AJ207) -> 0 | AP207: {=AL207+AM207+AN207} -> 0 | AQ207: {=AK207+AP207} -> 0 | AR207: =ROUNDUP(AQ207*AR$7/100,0) -> 0 | AT207: {=AR207+AS207} -> 0 | AW207: =SUM(AU207,AV207) -> 0 | BB207: {=AX207+AY207+AZ207} -> 0 | BC207: {=AW207+BB207} -> 0 | BD207: =ROUNDUP(BC207*BD$7/100,0) -> 0 | BF207: {=BD207+BE207} -> 0 | BI207: =SUM(BG207,BH207) -> 0 | BN207: {=BJ207+BK207+BL207} -> 0 | BO207: {=BI207+BN207} -> 0 | BP207: =ROUNDUP(BO207*BP$7/100,0) -> 0 | BR207: {=BP207+BQ207} -> 0 | BU207: =SUM(BS207,BT207) -> 0 | BZ207: {=BV207+BW207+BX207} -> 0 | CA207: {=BU207+BZ207} -> 0 | CB207: =ROUNDUP(CA207*CB$7/100,0) -> 0 | CD207: {=CB207+CC207} -> 0 | CJ207: =SUM(CE207:CI207) -> 0 | CK207: =IF(CJ207>=86,"A",IF(CJ207>=71,"B",IF(CJ207>=51,"C",IF(CJ207>=33,"D","E")))) -> E | CQ207: =SUM(CL207:CP207) -> 0 | CR207: =IF(CQ207>=86,"A",IF(CQ207>=71,"B",IF(CQ207>=51,"C",IF(CQ207>=33,"D","E")))) -> E | CX207: =SUM(CS207:CW207) -> 0 | CY207: =IF(CX207>=86,"A",IF(CX207>=71,"B",IF(CX207>=51,"C",IF(CX207>=33,"D","E")))) -> E
B208: 1 | C208: 2 | D208: 3 | E208: 4 | F208: 5 | G208: 6 | H208: 7 | I208: 8 | J208: 9 | K208: 10 | L208: 11 | M208: 12 | N208: 13 | P208: 14 | R208: 15 | S208: 16 | V208: 17 | W208: 10 | X208: 11 | Y208: 12 | Z208: 13 | AB208: 14 | AD208: 15 | AE208: 16 | AH208: 17 | AI208: 10 | AJ208: 11 | AK208: 12 | AL208: 13 | AN208: 14 | AP208: 15 | AQ208: 16 | AT208: 17 | AU208: 10 | AV208: 11 | AW208: 12 | AX208: 13 | AZ208: 14 | BB208: 15 | BC208: 16 | BF208: 17 | BG208: 10 | BH208: 11 | BI208: 12 | BJ208: 13 | BL208: 14 | BN208: 15 | BO208: 16 | BR208: 17 | BS208: 10 | BT208: 11 | BU208: 12 | BV208: 13 | BX208: 14 | BZ208: 15 | CA208: 16 | CD208: 17 | CE208: 10 | CF208: 11 | CG208: 12 | CH208: 13 | CK208: 14 | CL208: 10 | CM208: 11 | CN208: 12 | CO208: 13 | CR208: 14 | CS208: 10 | CT208: 11 | CU208: 12 | CV208: 13 | CY208: 14
H209: =Master!L10 -> HINDI | I209: =Master!Q10 -> 0
H210: =Master!L11 -> ENGLISH | I210: =Master!Q11 -> 0
H211: =Master!L12 -> SCIENCE | I211: =Master!Q12 -> 0
H212: =Master!L13 -> MATHEMATICS | I212: =Master!Q13 -> 0
H213: =Master!L14 -> SOCIAL SCIENCE | I213: =Master!Q14 -> 0
H214: =Master!L15 -> SANSKRIT | I214: =Master!Q15 -> 0
H215: =Master!L16 -> WORK EXP. | I215: =Master!Q16 -> 0
H216: =Master!L17 -> ART EDU. | I216: =Master!Q17 -> 0
H217: =Master!L18 -> H & PHY. EDU. | I217: =Master!Q18 -> 0
H218: =Master!L19 -> 0 | I218: =Master!Q19 -> 0
H219: =Master!L20 -> 0 | I219: =Master!Q20 -> 0
H220: =Master!L21 -> 0 | I220: =Master!Q21 -> 0
H221: =Master!N10 -> 0 | I221: =Master!S10 -> 0
H222: =Master!N11 -> 0 | I222: =Master!S11 -> 0
H223: =Master!N12 -> 0 | I223: =Master!S12 -> 0
H224: =Master!N13 -> 0 | I224: =Master!S13 -> 0
H225: =Master!N14 -> 0 | I225: =Master!S14 -> 0
H226: =Master!N15 -> 0 | I226: =Master!S15 -> 0
H227: =Master!N16 -> 0 | I227: =Master!S16 -> 0
H228: =Master!N17 -> 0 | I228: =Master!S17 -> 0
H229: =Master!N18 -> 0 | I229: =Master!S18 -> 0
H230: =Master!N19 -> 0 | I230: =Master!S19 -> 0
H231: =Master!N20 -> 0 | I231: =Master!S20 -> 0
H232: =Master!N21 -> 0 | I232: =Master!S21 -> 0

Sheet All Subject
J1: Go To Subject Wise List
B2: ='Marks Entry'!B1:J1 -> 0 | J2: Sassional Marks All Subjects
B3: Sassional Marks : | F3: =IF(Master!E9="2021-22","2022",IF(Master!E9="2022-23","2023","2024")) -> 2022 | G3: Class:- | H3: =CONCATENATE('Marks Entry'!F4,'Marks Entry'!I4) -> 8(A) | I3: Subject→ | J3: ='Marks Entry'!K3 -> HINDI | K3: ='Marks Entry'!W3 -> ENGLISH | L3: ='Marks Entry'!AI3 -> SCIENCE | M3: ='Marks Entry'!AU3 -> MATHEMATICS | N3: ='Marks Entry'!BG3 -> SOCIAL SCIENCE | O3: ='Marks Entry'!BS3 -> SANSKRIT | P3: ='Marks Entry'!CE3 -> WORK EXP. | Q3: ='Marks Entry'!CL3 -> ART EDU. | R3: ='Marks Entry'!CS3 -> H & PHY. EDU.
B4: Student Related Basic Details | I4: Subject Teacher→ | J4: ='Marks Entry'!K4 -> 0 | K4: ='Marks Entry'!W4 -> 0 | L4: ='Marks Entry'!AI4 -> 0 | M4: ='Marks Entry'!AU4 -> 0 | N4: ='Marks Entry'!BG4 -> 0 | O4: ='Marks Entry'!BS4 -> 0 | P4: ='Marks Entry'!CE4 -> 0 | Q4: ='Marks Entry'!CL4 -> 0 | R4: ='Marks Entry'!CS4 -> 0
B5: Sr. No. | C5: Class | D5: SR Number | E5: School Roll Number | F5: Board Roll Number | G5: Student's Name | H5: Father's Name | I5: Mother's Name | J5: ='Marks Entry'!V7 -> 20 | K5: ='Marks Entry'!AH7 -> 20 | L5: ='Marks Entry'!AT7 -> 20 | M5: ='Marks Entry'!BF7 -> 20 | N5: ='Marks Entry'!BR7 -> 20 | O5: ='Marks Entry'!CD7 -> 20 | P5: ='Marks Entry'!CJ7 -> 100 | Q5: ='Marks Entry'!CQ7 -> 100 | R5: ='Marks Entry'!CX7 -> 100
B7: ='Marks Entry'!B8 -> 1 | C7: ='Marks Entry'!C8 -> 8 | D7: ='Marks Entry'!D8 -> 0 | E7: ='Marks Entry'!E8 -> 0 | F7: ='Marks Entry'!F8 -> 0 | G7: ='Marks Entry'!G8 -> 0 | H7: ='Marks Entry'!H8 -> 0 | I7: ='Marks Entry'!I8 -> 0 | J7: ='Marks Entry'!V8 -> 0 | K7: ='Marks Entry'!AH8 -> 0 | L7: ='Marks Entry'!AT8 -> 0 | M7: ='Marks Entry'!BF8 -> 0 | N7: ='Marks Entry'!BR8 -> 0 | O7: ='Marks Entry'!CD8 -> 0 | P7: ='Marks Entry'!CJ8 -> 0 | Q7: ='Marks Entry'!CQ8 -> 0 | R7: ='Marks Entry'!CX8 -> 0
B8: ='Marks Entry'!B9 -> 0 | C8: ='Marks Entry'!C9 -> 0 | D8: ='Marks Entry'!D9 -> 0 | E8: ='Marks Entry'!E9 -> 0 | F8: ='Marks Entry'!F9 -> 0 | G8: ='Marks Entry'!G9 -> 0 | H8: ='Marks Entry'!H9 -> 0 | I8: ='Marks Entry'!I9 -> 0 | J8: ='Marks Entry'!V9 -> 0 | K8: ='Marks Entry'!AH9 -> 0 | L8: ='Marks Entry'!AT9 -> 0 | M8: ='Marks Entry'!BF9 -> 0 | N8: ='Marks Entry'!BR9 -> 0 | O8: ='Marks Entry'!CD9 -> 0 | P8: ='Marks Entry'!CJ9 -> 0 | Q8: ='Marks Entry'!CQ9 -> 0 | R8: ='Marks Entry'!CX9 -> 0
B9: ='Marks Entry'!B10 -> 0 | C9: ='Marks Entry'!C10 -> 0 | D9: ='Marks Entry'!D10 -> 0 | E9: ='Marks Entry'!E10 -> 0 | F9: ='Marks Entry'!F10 -> 0 | G9: ='Marks Entry'!G10 -> 0 | H9: ='Marks Entry'!H10 -> 0 | I9: ='Marks Entry'!I10 -> 0 | J9: ='Marks Entry'!V10 -> 0 | K9: ='Marks Entry'!AH10 -> 0 | L9: ='Marks Entry'!AT10 -> 0 | M9: ='Marks Entry'!BF10 -> 0 | N9: ='Marks Entry'!BR10 -> 0 | O9: ='Marks Entry'!CD10 -> 0 | P9: ='Marks Entry'!CJ10 -> 0 | Q9: ='Marks Entry'!CQ10 -> 0 | R9: ='Marks Entry'!CX10 -> 0
B10: ='Marks Entry'!B11 -> 0 | C10: ='Marks Entry'!C11 -> 0 | D10: ='Marks Entry'!D11 -> 0 | E10: ='Marks Entry'!E11 -> 0 | F10: ='Marks Entry'!F11 -> 0 | G10: ='Marks Entry'!G11 -> 0 | H10: ='Marks Entry'!H11 -> 0 | I10: ='Marks Entry'!I11 -> 0 | J10: ='Marks Entry'!V11 -> 0 | K10: ='Marks Entry'!AH11 -> 0 | L10: ='Marks Entry'!AT11 -> 0 | M10: ='Marks Entry'!BF11 -> 0 | N10: ='Marks Entry'!BR11 -> 0 | O10: ='Marks Entry'!CD11 -> 0 | P10: ='Marks Entry'!CJ11 -> 0 | Q10: ='Marks Entry'!CQ11 -> 0 | R10: ='Marks Entry'!CX11 -> 0
B11: ='Marks Entry'!B12 -> 0 | C11: ='Marks Entry'!C12 -> 0 | D11: ='Marks Entry'!D12 -> 0 | E11: ='Marks Entry'!E12 -> 0 | F11: ='Marks Entry'!F12 -> 0 | G11: ='Marks Entry'!G12 -> 0 | H11: ='Marks Entry'!H12 -> 0 | I11: ='Marks Entry'!I12 -> 0 | J11: ='Marks Entry'!V12 -> 0 | K11: ='Marks Entry'!AH12 -> 0 | L11: ='Marks Entry'!AT12 -> 0 | M11: ='Marks Entry'!BF12 -> 0 | N11: ='Marks Entry'!BR12 -> 0 | O11: ='Marks Entry'!CD12 -> 0 | P11: ='Marks Entry'!CJ12 -> 0 | Q11: ='Marks Entry'!CQ12 -> 0 | R11: ='Marks Entry'!CX12 -> 0
B12: ='Marks Entry'!B13 -> 0 | C12: ='Marks Entry'!C13 -> 0 | D12: ='Marks Entry'!D13 -> 0 | E12: ='Marks Entry'!E13 -> 0 | F12: ='Marks Entry'!F13 -> 0 | G12: ='Marks Entry'!G13 -> 0 | H12: ='Marks Entry'!H13 -> 0 | I12: ='Marks Entry'!I13 -> 0 | J12: ='Marks Entry'!V13 -> 0 | K12: ='Marks Entry'!AH13 -> 0 | L12: ='Marks Entry'!AT13 -> 0 | M12: ='Marks Entry'!BF13 -> 0 | N12: ='Marks Entry'!BR13 -> 0 | O12: ='Marks Entry'!CD13 -> 0 | P12: ='Marks Entry'!CJ13 -> 0 | Q12: ='Marks Entry'!CQ13 -> 0 | R12: ='Marks Entry'!CX13 -> 0
B13: ='Marks Entry'!B14 -> 0 | C13: ='Marks Entry'!C14 -> 0 | D13: ='Marks Entry'!D14 -> 0 | E13: ='Marks Entry'!E14 -> 0 | F13: ='Marks Entry'!F14 -> 0 | G13: ='Marks Entry'!G14 -> 0 | H13: ='Marks Entry'!H14 -> 0 | I13: ='Marks Entry'!I14 -> 0 | J13: ='Marks Entry'!V14 -> 0 | K13: ='Marks Entry'!AH14 -> 0 | L13: ='Marks Entry'!AT14 -> 0 | M13: ='Marks Entry'!BF14 -> 0 | N13: ='Marks Entry'!BR14 -> 0 | O13: ='Marks Entry'!CD14 -> 0 | P13: ='Marks Entry'!CJ14 -> 0 | Q13: ='Marks Entry'!CQ14 -> 0 | R13: ='Marks Entry'!CX14 -> 0
B14: ='Marks Entry'!B15 -> 0 | C14: ='Marks Entry'!C15 -> 0 | D14: ='Marks Entry'!D15 -> 0 | E14: ='Marks Entry'!E15 -> 0 | F14: ='Marks Entry'!F15 -> 0 | G14: ='Marks Entry'!G15 -> 0 | H14: ='Marks Entry'!H15 -> 0 | I14: ='Marks Entry'!I15 -> 0 | J14: ='Marks Entry'!V15 -> 0 | K14: ='Marks Entry'!AH15 -> 0 | L14: ='Marks Entry'!AT15 -> 0 | M14: ='Marks Entry'!BF15 -> 0 | N14: ='Marks Entry'!BR15 -> 0 | O14: ='Marks Entry'!CD15 -> 0 | P14: ='Marks Entry'!CJ15 -> 0 | Q14: ='Marks Entry'!CQ15 -> 0 | R14: ='Marks Entry'!CX15 -> 0
B15: ='Marks Entry'!B16 -> 0 | C15: ='Marks Entry'!C16 -> 0 | D15: ='Marks Entry'!D16 -> 0 | E15: ='Marks Entry'!E16 -> 0 | F15: ='Marks Entry'!F16 -> 0 | G15: ='Marks Entry'!G16 -> 0 | H15: ='Marks Entry'!H16 -> 0 | I15: ='Marks Entry'!I16 -> 0 | J15: ='Marks Entry'!V16 -> 0 | K15: ='Marks Entry'!AH16 -> 0 | L15: ='Marks Entry'!AT16 -> 0 | M15: ='Marks Entry'!BF16 -> 0 | N15: ='Marks Entry'!BR16 -> 0 | O15: ='Marks Entry'!CD16 -> 0 | P15: ='Marks Entry'!CJ16 -> 0 | Q15: ='Marks Entry'!CQ16 -> 0 | R15: ='Marks Entry'!CX16 -> 0
B16: ='Marks Entry'!B17 -> 0 | C16: ='Marks Entry'!C17 -> 0 | D16: ='Marks Entry'!D17 -> 0 | E16: ='Marks Entry'!E17 -> 0 | F16: ='Marks Entry'!F17 -> 0 | G16: ='Marks Entry'!G17 -> 0 | H16: ='Marks Entry'!H17 -> 0 | I16: ='Marks Entry'!I17 -> 0 | J16: ='Marks Entry'!V17 -> 0 | K16: ='Marks Entry'!AH17 -> 0 | L16: ='Marks Entry'!AT17 -> 0 | M16: ='Marks Entry'!BF17 -> 0 | N16: ='Marks Entry'!BR17 -> 0 | O16: ='Marks Entry'!CD17 -> 0 | P16: ='Marks Entry'!CJ17 -> 0 | Q16: ='Marks Entry'!CQ17 -> 0 | R16: ='Marks Entry'!CX17 -> 0
B17: ='Marks Entry'!B18 -> 0 | C17: ='Marks Entry'!C18 -> 0 | D17: ='Marks Entry'!D18 -> 0 | E17: ='Marks Entry'!E18 -> 0 | F17: ='Marks Entry'!F18 -> 0 | G17: ='Marks Entry'!G18 -> 0 | H17: ='Marks Entry'!H18 -> 0 | I17: ='Marks Entry'!I18 -> 0 | J17: ='Marks Entry'!V18 -> 0 | K17: ='Marks Entry'!AH18 -> 0 | L17: ='Marks Entry'!AT18 -> 0 | M17: ='Marks Entry'!BF18 -> 0 | N17: ='Marks Entry'!BR18 -> 0 | O17: ='Marks Entry'!CD18 -> 0 | P17: ='Marks Entry'!CJ18 -> 0 | Q17: ='Marks Entry'!CQ18 -> 0 | R17: ='Marks Entry'!CX18 -> 0
B18: ='Marks Entry'!B19 -> 0 | C18: ='Marks Entry'!C19 -> 0 | D18: ='Marks Entry'!D19 -> 0 | E18: ='Marks Entry'!E19 -> 0 | F18: ='Marks Entry'!F19 -> 0 | G18: ='Marks Entry'!G19 -> 0 | H18: ='Marks Entry'!H19 -> 0 | I18: ='Marks Entry'!I19 -> 0 | J18: ='Marks Entry'!V19 -> 0 | K18: ='Marks Entry'!AH19 -> 0 | L18: ='Marks Entry'!AT19 -> 0 | M18: ='Marks Entry'!BF19 -> 0 | N18: ='Marks Entry'!BR19 -> 0 | O18: ='Marks Entry'!CD19 -> 0 | P18: ='Marks Entry'!CJ19 -> 0 | Q18: ='Marks Entry'!CQ19 -> 0 | R18: ='Marks Entry'!CX19 -> 0
... B206: ='Marks Entry'!B207 -> 0 | C206: ='Marks Entry'!C207 -> 0 | D206: ='Marks Entry'!D207 -> 0 | E206: ='Marks Entry'!E207 -> 0 | F206: ='Marks Entry'!F207 -> 0 | G206: ='Marks Entry'!G207 -> 0 | H206: ='Marks Entry'!H207 -> 0 | I206: ='Marks Entry'!I207 -> 0 | J206: ='Marks Entry'!V207 -> 0 | K206: ='Marks Entry'!AH207 -> 0 | L206: ='Marks Entry'!AT207 -> 0 | M206: ='Marks Entry'!BF207 -> 0 | N206: ='Marks Entry'!BR207 -> 0 | O206: ='Marks Entry'!CD207 -> 0 | P206: ='Marks Entry'!CJ207 -> 0 | Q206: ='Marks Entry'!CQ207 -> 0 | R206: ='Marks Entry'!CX207 -> 0

Sheet Subject Wise
B1: Go To Marks Entry | J1: Go To All Subject List
B3: ='Marks Entry'!B1:J1 -> 0 | I3: Subject→ | J3: Subject Wise Sessioal Mark
J4: ENGLISH | W4: ='All Subject'!J3 -> HINDI | X4: ='All Subject'!J4 -> 0
B5: Sassional Marks : | F5: =IF(Master!E9="2021-22","2022",IF(Master!E9="2022-23","2023","2024")) -> 2022 | G5: Class:- | H5: =CONCATENATE('Marks Entry'!F4,'Marks Entry'!I4) -> 8(A) | I5: Subject Teacher→ | J5: =VLOOKUP(J4,W4:X9,2,0) -> 0 | W5: ='All Subject'!K3 -> ENGLISH | X5: ='All Subject'!K4 -> 0
B6: Student Related Basic Details | J6: 1st Test | K6: 2nd Test | L6: Total Tests | M6: Half Yearly | P6: Total Half Yearly | Q6: Total Th.+Int. Evo. | R6: ='Marks Entry'!T5 -> 20 % Of Exam Mark's | S6: ='Marks Entry'!U5 -> Attendance | T6: Sassional Marks | W6: ='All Subject'!L3 -> SCIENCE | X6: ='All Subject'!L4 -> 0
B7: Sr. No. | C7: Class | D7: SR Number | E7: School Roll Number | F7: Board Roll Number | G7: Student's Name | H7: Father's Name | I7: Mother's Name | J7: Theory | K7: Theory | M7: ='Marks Entry'!N6 -> Theory | N7: ='Marks Entry'!O6 -> Internal Evolution | O7: ='Marks Entry'!P6 -> Oral Exam | W7: ='All Subject'!M3 -> MATHEMATICS | X7: ='All Subject'!M4 -> 0
J8: =IF($J$4='Marks Entry'!$K$3,'Marks Entry'!K7,IF($J$4='Marks Entry'!$W$3,'Marks Entry'!W7,IF($J$4='Marks Entry'!$AI$3,'Marks Entry'!AI7,IF($J$4='Marks Entry'!$AU$3,'Marks Entry'!AU7,IF($J$4='Marks Entry'!$BG$3,'Marks Entry'!BG7,'Marks Entry'!BS7))))) -> 20 | K8: =IF($J$4='Marks Entry'!$K$3,'Marks Entry'!L7,IF($J$4='Marks Entry'!$W$3,'Marks Entry'!X7,IF($J$4='Marks Entry'!$AI$3,'Marks Entry'!AJ7,IF($J$4='Marks Entry'!$AU$3,'Marks Entry'!AV7,IF($J$4='Marks Entry'!$BG$3,'Marks Entry'!BH7,'Marks Entry'!BT7))))) -> 20 | L8: =IF($J$4='Marks Entry'!$K$3,'Marks Entry'!M7,IF($J$4='Marks Entry'!$W$3,'Marks Entry'!Y7,IF($J$4='Marks Entry'!$AI$3,'Marks Entry'!AK7,IF($J$4='Marks Entry'!$AU$3,'Marks Entry'!AW7,IF($J$4='Marks Entry'!$BG$3,'Marks Entry'!BI7,'Marks Entry'!BU7))))) -> 40 | M8: =IF($J$4='Marks Entry'!$K$3,'Marks Entry'!N7,IF($J$4='Marks Entry'!$W$3,'Marks Entry'!Z7,IF($J$4='Marks Entry'!$AI$3,'Marks Entry'!AL7,IF($J$4='Marks Entry'!$AU$3,'Marks Entry'!AX7,IF($J$4='Marks Entry'!$BG$3,'Marks Entry'!BJ7,'Marks Entry'!BV7))))) -> 42 | N8: =IF($J$4='Marks Entry'!$K$3,'Marks Entry'!O7,IF($J$4='Marks Entry'!$W$3,'Marks Entry'!AA7,IF($J$4='Marks Entry'!$AI$3,'Marks Entry'!AM7,IF($J$4='Marks Entry'!$AU$3,'Marks Entry'!AY7,IF($J$4='Marks Entry'!$BG$3,'Marks Entry'!BK7,'Marks Entry'!BW7))))) -> 12 | O8: =IF($J$4='Marks Entry'!$K$3,'Marks Entry'!P7,IF($J$4='Marks Entry'!$W$3,'Marks Entry'!AB7,IF($J$4='Marks Entry'!$AI$3,'Marks Entry'!AN7,IF($J$4='Marks Entry'!$AU$3,'Marks Entry'!AZ7,IF($J$4='Marks Entry'!$BG$3,'Marks Entry'!BL7,'Marks Entry'!BX7))))) -> 6 | P8: =IF($J$4='Marks Entry'!$K$3,'Marks Entry'!R7,IF($J$4='Marks Entry'!$W$3,'Marks Entry'!AD7,IF($J$4='Marks Entry'!$AI$3,'Marks Entry'!AP7,IF($J$4='Marks Entry'!$AU$3,'Marks Entry'!BB7,IF($J$4='Marks Entry'!$BG$3,'Marks Entry'!BN7,'Marks Entry'!BZ7))))) -> 60 | Q8: =IF($J$4='Marks Entry'!$K$3,'Marks Entry'!S7,IF($J$4='Marks Entry'!$W$3,'Marks Entry'!AE7,IF($J$4='Marks Entry'!$AI$3,'Marks Entry'!AQ7,IF($J$4='Marks Entry'!$AU$3,'Marks Entry'!BC7,IF($J$4='Marks Entry'!$BG$3,'Marks Entry'!BO7,'Marks Entry'!CA7))))) -> 100 | R8: =IF($J$4='Marks Entry'!$K$3,'Marks Entry'!T7,IF($J$4='Marks Entry'!$W$3,'Marks Entry'!AF7,IF($J$4='Marks Entry'!$AI$3,'Marks Entry'!AR7,IF($J$4='Marks Entry'!$AU$3,'Marks Entry'!BD7,IF($J$4='Marks Entry'!$BG$3,'Marks Entry'!BP7,'Marks Entry'!CB7))))) -> 20 | S8: =IF($J$4='Marks Entry'!$K$3,'Marks Entry'!U7,IF($J$4='Marks Entry'!$W$3,'Marks Entry'!AG7,IF($J$4='Marks Entry'!$AI$3,'Marks Entry'!AS7,IF($J$4='Marks Entry'!$AU$3,'Marks Entry'!BE7,IF($J$4='Marks Entry'!$BG$3,'Marks Entry'!BQ7,'Marks Entry'!CC7))))) -> 0 | T8: =IF($J$4='Marks Entry'!$K$3,'Marks Entry'!V7,IF($J$4='Marks Entry'!$W$3,'Marks Entry'!AH7,IF($J$4='Marks Entry'!$AI$3,'Marks Entry'!AT7,IF($J$4='Marks Entry'!$AU$3,'Marks Entry'!BF7,IF($J$4='Marks Entry'!$BG$3,'Marks Entry'!BR7,'Marks Entry'!CD7))))) -> 20 | W8: ='All Subject'!N3 -> SOCIAL SCIENCE | X8: ='All Subject'!N4 -> 0
B9: ='Marks Entry'!B8 -> 1 | C9: ='Marks Entry'!C8 -> 8 | D9: ='Marks Entry'!D8 -> 0 | E9: ='Marks Entry'!E8 -> 0 | F9: ='Marks Entry'!F8 -> 0 | G9: ='Marks Entry'!G8 -> 0 | H9: ='Marks Entry'!H8 -> 0 | I9: ='Marks Entry'!I8 -> 0 | J9: =IF($J$4='Marks Entry'!$K$3,'Marks Entry'!K8,IF($J$4='Marks Entry'!$W$3,'Marks Entry'!W8,IF($J$4='Marks Entry'!$AI$3,'Marks Entry'!AI8,IF($J$4='Marks Entry'!$AU$3,'Marks Entry'!AU8,IF($J$4='Marks Entry'!$BG$3,'Marks Entry'!BG8,'Marks Entry'!BS8))))) -> 0 | K9: =IF($J$4='Marks Entry'!$K$3,'Marks Entry'!L8,IF($J$4='Marks Entry'!$W$3,'Marks Entry'!X8,IF($J$4='Marks Entry'!$AI$3,'Marks Entry'!AJ8,IF($J$4='Marks Entry'!$AU$3,'Marks Entry'!AV8,IF($J$4='Marks Entry'!$BG$3,'Marks Entry'!BH8,'Marks Entry'!BT8))))) -> 0 | L9: =IF($J$4='Marks Entry'!$K$3,'Marks Entry'!M8,IF($J$4='Marks Entry'!$W$3,'Marks Entry'!Y8,IF($J$4='Marks Entry'!$AI$3,'Marks Entry'!AK8,IF($J$4='Marks Entry'!$AU$3,'Marks Entry'!AW8,IF($J$4='Marks Entry'!$BG$3,'Marks Entry'!BI8,'Marks Entry'!BU8))))) -> 0 | M9: =IF($J$4='Marks Entry'!$K$3,'Marks Entry'!N8,IF($J$4='Marks Entry'!$W$3,'Marks Entry'!Z8,IF($J$4='Marks Entry'!$AI$3,'Marks Entry'!AL8,IF($J$4='Marks Entry'!$AU$3,'Marks Entry'!AX8,IF($J$4='Marks Entry'!$BG$3,'Marks Entry'!BJ8,'Marks Entry'!BV8))))) -> 0 | N9: =IF($J$4='Marks Entry'!$K$3,'Marks Entry'!O8,IF($J$4='Marks Entry'!$W$3,'Marks Entry'!AA8,IF($J$4='Marks Entry'!$AI$3,'Marks Entry'!AM8,IF($J$4='Marks Entry'!$AU$3,'Marks Entry'!AY8,IF($J$4='Marks Entry'!$BG$3,'Marks Entry'!BK8,'Marks Entry'!BW8))))) -> 0 | O9: =IF($J$4='Marks Entry'!$K$3,'Marks Entry'!P8,IF($J$4='Marks Entry'!$W$3,'Marks Entry'!AB8,IF($J$4='Marks Entry'!$AI$3,'Marks Entry'!AN8,IF($J$4='Marks Entry'!$AU$3,'Marks Entry'!AZ8,IF($J$4='Marks Entry'!$BG$3,'Marks Entry'!BL8,'Marks Entry'!BX8))))) -> 0 | P9: =IF($J$4='Marks Entry'!$K$3,'Marks Entry'!R8,IF($J$4='Marks Entry'!$W$3,'Marks Entry'!AD8,IF($J$4='Marks Entry'!$AI$3,'Marks Entry'!AP8,IF($J$4='Marks Entry'!$AU$3,'Marks Entry'!BB8,IF($J$4='Marks Entry'!$BG$3,'Marks Entry'!BN8,'Marks Entry'!BZ8))))) -> 0 | Q9: =IF($J$4='Marks Entry'!$K$3,'Marks Entry'!S8,IF($J$4='Marks Entry'!$W$3,'Marks Entry'!AE8,IF($J$4='Marks Entry'!$AI$3,'Marks Entry'!AQ8,IF($J$4='Marks Entry'!$AU$3,'Marks Entry'!BC8,IF($J$4='Marks Entry'!$BG$3,'Marks Entry'!BO8,'Marks Entry'!CA8))))) -> 0 | R9: =IF($J$4='Marks Entry'!$K$3,'Marks Entry'!T8,IF($J$4='Marks Entry'!$W$3,'Marks Entry'!AF8,IF($J$4='Marks Entry'!$AI$3,'Marks Entry'!AR8,IF($J$4='Marks Entry'!$AU$3,'Marks Entry'!BD8,IF($J$4='Marks Entry'!$BG$3,'Marks Entry'!BP8,'Marks Entry'!CB8))))) -> 0 | S9: =IF($J$4='Marks Entry'!$K$3,'Marks Entry'!U8,IF($J$4='Marks Entry'!$W$3,'Marks Entry'!AG8,IF($J$4='Marks Entry'!$AI$3,'Marks Entry'!AS8,IF($J$4='Marks Entry'!$AU$3,'Marks Entry'!BE8,IF($J$4='Marks Entry'!$BG$3,'Marks Entry'!BQ8,'Marks Entry'!CC8))))) -> 0 | T9: =IF($J$4='Marks Entry'!$K$3,'Marks Entry'!V8,IF($J$4='Marks Entry'!$W$3,'Marks Entry'!AH8,IF($J$4='Marks Entry'!$AI$3,'Marks Entry'!AT8,IF($J$4='Marks Entry'!$AU$3,'Marks Entry'!BF8,IF($J$4='Marks Entry'!$BG$3,'Marks Entry'!BR8,'Marks Entry'!CD8))))) -> 0 | W9: ='All Subject'!O3 -> SANSKRIT | X9: ='All Subject'!O4 -> 0
B10: ='Marks Entry'!B9 -> 0 | C10: ='Marks Entry'!C9 -> 0 | D10: ='Marks Entry'!D9 -> 0 | E10: ='Marks Entry'!E9 -> 0 | F10: ='Marks Entry'!F9 -> 0 | G10: ='Marks Entry'!G9 -> 0 | H10: ='Marks Entry'!H9 -> 0 | I10: ='Marks Entry'!I9 -> 0 | J10: =IF($J$4='Marks Entry'!$K$3,'Marks Entry'!K9,IF($J$4='Marks Entry'!$W$3,'Marks Entry'!W9,IF($J$4='Marks Entry'!$AI$3,'Marks Entry'!AI9,IF($J$4='Marks Entry'!$AU$3,'Marks Entry'!AU9,IF($J$4='Marks Entry'!$BG$3,'Marks Entry'!BG9,'Marks Entry'!BS9))))) -> 0 | K10: =IF($J$4='Marks Entry'!$K$3,'Marks Entry'!L9,IF($J$4='Marks Entry'!$W$3,'Marks Entry'!X9,IF($J$4='Marks Entry'!$AI$3,'Marks Entry'!AJ9,IF($J$4='Marks Entry'!$AU$3,'Marks Entry'!AV9,IF($J$4='Marks Entry'!$BG$3,'Marks Entry'!BH9,'Marks Entry'!BT9))))) -> 0 | L10: =IF($J$4='Marks Entry'!$K$3,'Marks Entry'!M9,IF($J$4='Marks Entry'!$W$3,'Marks Entry'!Y9,IF($J$4='Marks Entry'!$AI$3,'Marks Entry'!AK9,IF($J$4='Marks Entry'!$AU$3,'Marks Entry'!AW9,IF($J$4='Marks Entry'!$BG$3,'Marks Entry'!BI9,'Marks Entry'!BU9))))) -> 0 | M10: =IF($J$4='Marks Entry'!$K$3,'Marks Entry'!N9,IF($J$4='Marks Entry'!$W$3,'Marks Entry'!Z9,IF($J$4='Marks Entry'!$AI$3,'Marks Entry'!AL9,IF($J$4='Marks Entry'!$AU$3,'Marks Entry'!AX9,IF($J$4='Marks Entry'!$BG$3,'Marks Entry'!BJ9,'Marks Entry'!BV9))))) -> 0 | N10: =IF($J$4='Marks Entry'!$K$3,'Marks Entry'!O9,IF($J$4='Marks Entry'!$W$3,'Marks Entry'!AA9,IF($J$4='Marks Entry'!$AI$3,'Marks Entry'!AM9,IF($J$4='Marks Entry'!$AU$3,'Marks Entry'!AY9,IF($J$4='Marks Entry'!$BG$3,'Marks Entry'!BK9,'Marks Entry'!BW9))))) -> 0 | O10: =IF($J$4='Marks Entry'!$K$3,'Marks Entry'!P9,IF($J$4='Marks Entry'!$W$3,'Marks Entry'!AB9,IF($J$4='Marks Entry'!$AI$3,'Marks Entry'!AN9,IF($J$4='Marks Entry'!$AU$3,'Marks Entry'!AZ9,IF($J$4='Marks Entry'!$BG$3,'Marks Entry'!BL9,'Marks Entry'!BX9))))) -> 0 | P10: =IF($J$4='Marks Entry'!$K$3,'Marks Entry'!R9,IF($J$4='Marks Entry'!$W$3,'Marks Entry'!AD9,IF($J$4='Marks Entry'!$AI$3,'Marks Entry'!AP9,IF($J$4='Marks Entry'!$AU$3,'Marks Entry'!BB9,IF($J$4='Marks Entry'!$BG$3,'Marks Entry'!BN9,'Marks Entry'!BZ9))))) -> 0 | Q10: =IF($J$4='Marks Entry'!$K$3,'Marks Entry'!S9,IF($J$4='Marks Entry'!$W$3,'Marks Entry'!AE9,IF($J$4='Marks Entry'!$AI$3,'Marks Entry'!AQ9,IF($J$4='Marks Entry'!$AU$3,'Marks Entry'!BC9,IF($J$4='Marks Entry'!$BG$3,'Marks Entry'!BO9,'Marks Entry'!CA9))))) -> 0 | R10: =IF($J$4='Marks Entry'!$K$3,'Marks Entry'!T9,IF($J$4='Marks Entry'!$W$3,'Marks Entry'!AF9,IF($J$4='Marks Entry'!$AI$3,'Marks Entry'!AR9,IF($J$4='Marks Entry'!$AU$3,'Marks Entry'!BD9,IF($J$4='Marks Entry'!$BG$3,'Marks Entry'!BP9,'Marks Entry'!CB9))))) -> 0 | S10: =IF($J$4='Marks Entry'!$K$3,'Marks Entry'!U9,IF($J$4='Marks Entry'!$W$3,'Marks Entry'!AG9,IF($J$4='Marks Entry'!$AI$3,'Marks Entry'!AS9,IF($J$4='Marks Entry'!$AU$3,'Marks Entry'!BE9,IF($J$4='Marks Entry'!$BG$3,'Marks Entry'!BQ9,'Marks Entry'!CC9))))) -> 0 | T10: =IF($J$4='Marks Entry'!$K$3,'Marks Entry'!V9,IF($J$4='Marks Entry'!$W$3,'Marks Entry'!AH9,IF($J$4='Marks Entry'!$AI$3,'Marks Entry'!AT9,IF($J$4='Marks Entry'!$AU$3,'Marks Entry'!BF9,IF($J$4='Marks Entry'!$BG$3,'Marks Entry'!BR9,'Marks Entry'!CD9))))) -> 0
B11: ='Marks Entry'!B10 -> 0 | C11: ='Marks Entry'!C10 -> 0 | D11: ='Marks Entry'!D10 -> 0 | E11: ='Marks Entry'!E10 -> 0 | F11: ='Marks Entry'!F10 -> 0 | G11: ='Marks Entry'!G10 -> 0 | H11: ='Marks Entry'!H10 -> 0 | I11: ='Marks Entry'!I10 -> 0 | J11: =IF($J$4='Marks Entry'!$K$3,'Marks Entry'!K10,IF($J$4='Marks Entry'!$W$3,'Marks Entry'!W10,IF($J$4='Marks Entry'!$AI$3,'Marks Entry'!AI10,IF($J$4='Marks Entry'!$AU$3,'Marks Entry'!AU10,IF($J$4='Marks Entry'!$BG$3,'Marks Entry'!BG10,'Marks Entry'!BS10))))) -> 0 | K11: =IF($J$4='Marks Entry'!$K$3,'Marks Entry'!L10,IF($J$4='Marks Entry'!$W$3,'Marks Entry'!X10,IF($J$4='Marks Entry'!$AI$3,'Marks Entry'!AJ10,IF($J$4='Marks Entry'!$AU$3,'Marks Entry'!AV10,IF($J$4='Marks Entry'!$BG$3,'Marks Entry'!BH10,'Marks Entry'!BT10))))) -> 0 | L11: =IF($J$4='Marks Entry'!$K$3,'Marks Entry'!M10,IF($J$4='Marks Entry'!$W$3,'Marks Entry'!Y10,IF($J$4='Marks Entry'!$AI$3,'Marks Entry'!AK10,IF($J$4='Marks Entry'!$AU$3,'Marks Entry'!AW10,IF($J$4='Marks Entry'!$BG$3,'Marks Entry'!BI10,'Marks Entry'!BU10))))) -> 0 | M11: =IF($J$4='Marks Entry'!$K$3,'Marks Entry'!N10,IF($J$4='Marks Entry'!$W$3,'Marks Entry'!Z10,IF($J$4='Marks Entry'!$AI$3,'Marks Entry'!AL10,IF($J$4='Marks Entry'!$AU$3,'Marks Entry'!AX10,IF($J$4='Marks Entry'!$BG$3,'Marks Entry'!BJ10,'Marks Entry'!BV10))))) -> 0 | N11: =IF($J$4='Marks Entry'!$K$3,'Marks Entry'!O10,IF($J$4='Marks Entry'!$W$3,'Marks Entry'!AA10,IF($J$4='Marks Entry'!$AI$3,'Marks Entry'!AM10,IF($J$4='Marks Entry'!$AU$3,'Marks Entry'!AY10,IF($J$4='Marks Entry'!$BG$3,'Marks Entry'!BK10,'Marks Entry'!BW10))))) -> 0 | O11: =IF($J$4='Marks Entry'!$K$3,'Marks Entry'!P10,IF($J$4='Marks Entry'!$W$3,'Marks Entry'!AB10,IF($J$4='Marks Entry'!$AI$3,'Marks Entry'!AN10,IF($J$4='Marks Entry'!$AU$3,'Marks Entry'!AZ10,IF($J$4='Marks Entry'!$BG$3,'Marks Entry'!BL10,'Marks Entry'!BX10))))) -> 0 | P11: =IF($J$4='Marks Entry'!$K$3,'Marks Entry'!R10,IF($J$4='Marks Entry'!$W$3,'Marks Entry'!AD10,IF($J$4='Marks Entry'!$AI$3,'Marks Entry'!AP10,IF($J$4='Marks Entry'!$AU$3,'Marks Entry'!BB10,IF($J$4='Marks Entry'!$BG$3,'Marks Entry'!BN10,'Marks Entry'!BZ10))))) -> 0 | Q11: =IF($J$4='Marks Entry'!$K$3,'Marks Entry'!S10,IF($J$4='Marks Entry'!$W$3,'Marks Entry'!AE10,IF($J$4='Marks Entry'!$AI$3,'Marks Entry'!AQ10,IF($J$4='Marks Entry'!$AU$3,'Marks Entry'!BC10,IF($J$4='Marks Entry'!$BG$3,'Marks Entry'!BO10,'Marks Entry'!CA10))))) -> 0 | R11: =IF($J$4='Marks Entry'!$K$3,'Marks Entry'!T10,IF($J$4='Marks Entry'!$W$3,'Marks Entry'!AF10,IF($J$4='Marks Entry'!$AI$3,'Marks Entry'!AR10,IF($J$4='Marks Entry'!$AU$3,'Marks Entry'!BD10,IF($J$4='Marks Entry'!$BG$3,'Marks Entry'!BP10,'Marks Entry'!CB10))))) -> 0 | S11: =IF($J$4='Marks Entry'!$K$3,'Marks Entry'!U10,IF($J$4='Marks Entry'!$W$3,'Marks Entry'!AG10,IF($J$4='Marks Entry'!$AI$3,'Marks Entry'!AS10,IF($J$4='Marks Entry'!$AU$3,'Marks Entry'!BE10,IF($J$4='Marks Entry'!$BG$3,'Marks Entry'!BQ10,'Marks Entry'!CC10))))) -> 0 | T11: =IF($J$4='Marks Entry'!$K$3,'Marks Entry'!V10,IF($J$4='Marks Entry'!$W$3,'Marks Entry'!AH10,IF($J$4='Marks Entry'!$AI$3,'Marks Entry'!AT10,IF($J$4='Marks Entry'!$AU$3,'Marks Entry'!BF10,IF($J$4='Marks Entry'!$BG$3,'Marks Entry'!BR10,'Marks Entry'!CD10))))) -> 0
B12: ='Marks Entry'!B11 -> 0 | C12: ='Marks Entry'!C11 -> 0 | D12: ='Marks Entry'!D11 -> 0 | E12: ='Marks Entry'!E11 -> 0 | F12: ='Marks Entry'!F11 -> 0 | G12: ='Marks Entry'!G11 -> 0 | H12: ='Marks Entry'!H11 -> 0 | I12: ='Marks Entry'!I11 -> 0 | J12: =IF($J$4='Marks Entry'!$K$3,'Marks Entry'!K11,IF($J$4='Marks Entry'!$W$3,'Marks Entry'!W11,IF($J$4='Marks Entry'!$AI$3,'Marks Entry'!AI11,IF($J$4='Marks Entry'!$AU$3,'Marks Entry'!AU11,IF($J$4='Marks Entry'!$BG$3,'Marks Entry'!BG11,'Marks Entry'!BS11))))) -> 0 | K12: =IF($J$4='Marks Entry'!$K$3,'Marks Entry'!L11,IF($J$4='Marks Entry'!$W$3,'Marks Entry'!X11,IF($J$4='Marks Entry'!$AI$3,'Marks Entry'!AJ11,IF($J$4='Marks Entry'!$AU$3,'Marks Entry'!AV11,IF($J$4='Marks Entry'!$BG$3,'Marks Entry'!BH11,'Marks Entry'!BT11))))) -> 0 | L12: =IF($J$4='Marks Entry'!$K$3,'Marks Entry'!M11,IF($J$4='Marks Entry'!$W$3,'Marks Entry'!Y11,IF($J$4='Marks Entry'!$AI$3,'Marks Entry'!AK11,IF($J$4='Marks Entry'!$AU$3,'Marks Entry'!AW11,IF($J$4='Marks Entry'!$BG$3,'Marks Entry'!BI11,'Marks Entry'!BU11))))) -> 0 | M12: =IF($J$4='Marks Entry'!$K$3,'Marks Entry'!N11,IF($J$4='Marks Entry'!$W$3,'Marks Entry'!Z11,IF($J$4='Marks Entry'!$AI$3,'Marks Entry'!AL11,IF($J$4='Marks Entry'!$AU$3,'Marks Entry'!AX11,IF($J$4='Marks Entry'!$BG$3,'Marks Entry'!BJ11,'Marks Entry'!BV11))))) -> 0 | N12: =IF($J$4='Marks Entry'!$K$3,'Marks Entry'!O11,IF($J$4='Marks Entry'!$W$3,'Marks Entry'!AA11,IF($J$4='Marks Entry'!$AI$3,'Marks Entry'!AM11,IF($J$4='Marks Entry'!$AU$3,'Marks Entry'!AY11,IF($J$4='Marks Entry'!$BG$3,'Marks Entry'!BK11,'Marks Entry'!BW11))))) -> 0 | O12: =IF($J$4='Marks Entry'!$K$3,'Marks Entry'!P11,IF($J$4='Marks Entry'!$W$3,'Marks Entry'!AB11,IF($J$4='Marks Entry'!$AI$3,'Marks Entry'!AN11,IF($J$4='Marks Entry'!$AU$3,'Marks Entry'!AZ11,IF($J$4='Marks Entry'!$BG$3,'Marks Entry'!BL11,'Marks Entry'!BX11))))) -> 0 | P12: =IF($J$4='Marks Entry'!$K$3,'Marks Entry'!R11,IF($J$4='Marks Entry'!$W$3,'Marks Entry'!AD11,IF($J$4='Marks Entry'!$AI$3,'Marks Entry'!AP11,IF($J$4='Marks Entry'!$AU$3,'Marks Entry'!BB11,IF($J$4='Marks Entry'!$BG$3,'Marks Entry'!BN11,'Marks Entry'!BZ11))))) -> 0 | Q12: =IF($J$4='Marks Entry'!$K$3,'Marks Entry'!S11,IF($J$4='Marks Entry'!$W$3,'Marks Entry'!AE11,IF($J$4='Marks Entry'!$AI$3,'Marks Entry'!AQ11,IF($J$4='Marks Entry'!$AU$3,'Marks Entry'!BC11,IF($J$4='Marks Entry'!$BG$3,'Marks Entry'!BO11,'Marks Entry'!CA11))))) -> 0 | R12: =IF($J$4='Marks Entry'!$K$3,'Marks Entry'!T11,IF($J$4='Marks Entry'!$W$3,'Marks Entry'!AF11,IF($J$4='Marks Entry'!$AI$3,'Marks Entry'!AR11,IF($J$4='Marks Entry'!$AU$3,'Marks Entry'!BD11,IF($J$4='Marks Entry'!$BG$3,'Marks Entry'!BP11,'Marks Entry'!CB11))))) -> 0 | S12: =IF($J$4='Marks Entry'!$K$3,'Marks Entry'!U11,IF($J$4='Marks Entry'!$W$3,'Marks Entry'!AG11,IF($J$4='Marks Entry'!$AI$3,'Marks Entry'!AS11,IF($J$4='Marks Entry'!$AU$3,'Marks Entry'!BE11,IF($J$4='Marks Entry'!$BG$3,'Marks Entry'!BQ11,'Marks Entry'!CC11))))) -> 0 | T12: =IF($J$4='Marks Entry'!$K$3,'Marks Entry'!V11,IF($J$4='Marks Entry'!$W$3,'Marks Entry'!AH11,IF($J$4='Marks Entry'!$AI$3,'Marks Entry'!AT11,IF($J$4='Marks Entry'!$AU$3,'Marks Entry'!BF11,IF($J$4='Marks Entry'!$BG$3,'Marks Entry'!BR11,'Marks Entry'!CD11))))) -> 0
B13: ='Marks Entry'!B12 -> 0 | C13: ='Marks Entry'!C12 -> 0 | D13: ='Marks Entry'!D12 -> 0 | E13: ='Marks Entry'!E12 -> 0 | F13: ='Marks Entry'!F12 -> 0 | G13: ='Marks Entry'!G12 -> 0 | H13: ='Marks Entry'!H12 -> 0 | I13: ='Marks Entry'!I12 -> 0 | J13: =IF($J$4='Marks Entry'!$K$3,'Marks Entry'!K12,IF($J$4='Marks Entry'!$W$3,'Marks Entry'!W12,IF($J$4='Marks Entry'!$AI$3,'Marks Entry'!AI12,IF($J$4='Marks Entry'!$AU$3,'Marks Entry'!AU12,IF($J$4='Marks Entry'!$BG$3,'Marks Entry'!BG12,'Marks Entry'!BS12))))) -> 0 | K13: =IF($J$4='Marks Entry'!$K$3,'Marks Entry'!L12,IF($J$4='Marks Entry'!$W$3,'Marks Entry'!X12,IF($J$4='Marks Entry'!$AI$3,'Marks Entry'!AJ12,IF($J$4='Marks Entry'!$AU$3,'Marks Entry'!AV12,IF($J$4='Marks Entry'!$BG$3,'Marks Entry'!BH12,'Marks Entry'!BT12))))) -> 0 | L13: =IF($J$4='Marks Entry'!$K$3,'Marks Entry'!M12,IF($J$4='Marks Entry'!$W$3,'Marks Entry'!Y12,IF($J$4='Marks Entry'!$AI$3,'Marks Entry'!AK12,IF($J$4='Marks Entry'!$AU$3,'Marks Entry'!AW12,IF($J$4='Marks Entry'!$BG$3,'Marks Entry'!BI12,'Marks Entry'!BU12))))) -> 0 | M13: =IF($J$4='Marks Entry'!$K$3,'Marks Entry'!N12,IF($J$4='Marks Entry'!$W$3,'Marks Entry'!Z12,IF($J$4='Marks Entry'!$AI$3,'Marks Entry'!AL12,IF($J$4='Marks Entry'!$AU$3,'Marks Entry'!AX12,IF($J$4='Marks Entry'!$BG$3,'Marks Entry'!BJ12,'Marks Entry'!BV12))))) -> 0 | N13: =IF($J$4='Marks Entry'!$K$3,'Marks Entry'!O12,IF($J$4='Marks Entry'!$W$3,'Marks Entry'!AA12,IF($J$4='Marks Entry'!$AI$3,'Marks Entry'!AM12,IF($J$4='Marks Entry'!$AU$3,'Marks Entry'!AY12,IF($J$4='Marks Entry'!$BG$3,'Marks Entry'!BK12,'Marks Entry'!BW12))))) -> 0 | O13: =IF($J$4='Marks Entry'!$K$3,'Marks Entry'!P12,IF($J$4='Marks Entry'!$W$3,'Marks Entry'!AB12,IF($J$4='Marks Entry'!$AI$3,'Marks Entry'!AN12,IF($J$4='Marks Entry'!$AU$3,'Marks Entry'!AZ12,IF($J$4='Marks Entry'!$BG$3,'Marks Entry'!BL12,'Marks Entry'!BX12))))) -> 0 | P13: =IF($J$4='Marks Entry'!$K$3,'Marks Entry'!R12,IF($J$4='Marks Entry'!$W$3,'Marks Entry'!AD12,IF($J$4='Marks Entry'!$AI$3,'Marks Entry'!AP12,IF($J$4='Marks Entry'!$AU$3,'Marks Entry'!BB12,IF($J$4='Marks Entry'!$BG$3,'Marks Entry'!BN12,'Marks Entry'!BZ12))))) -> 0 | Q13: =IF($J$4='Marks Entry'!$K$3,'Marks Entry'!S12,IF($J$4='Marks Entry'!$W$3,'Marks Entry'!AE12,IF($J$4='Marks Entry'!$AI$3,'Marks Entry'!AQ12,IF($J$4='Marks Entry'!$AU$3,'Marks Entry'!BC12,IF($J$4='Marks Entry'!$BG$3,'Marks Entry'!BO12,'Marks Entry'!CA12))))) -> 0 | R13: =IF($J$4='Marks Entry'!$K$3,'Marks Entry'!T12,IF($J$4='Marks Entry'!$W$3,'Marks Entry'!AF12,IF($J$4='Marks Entry'!$AI$3,'Marks Entry'!AR12,IF($J$4='Marks Entry'!$AU$3,'Marks Entry'!BD12,IF($J$4='Marks Entry'!$BG$3,'Marks Entry'!BP12,'Marks Entry'!CB12))))) -> 0 | S13: =IF($J$4='Marks Entry'!$K$3,'Marks Entry'!U12,IF($J$4='Marks Entry'!$W$3,'Marks Entry'!AG12,IF($J$4='Marks Entry'!$AI$3,'Marks Entry'!AS12,IF($J$4='Marks Entry'!$AU$3,'Marks Entry'!BE12,IF($J$4='Marks Entry'!$BG$3,'Marks Entry'!BQ12,'Marks Entry'!CC12))))) -> 0 | T13: =IF($J$4='Marks Entry'!$K$3,'Marks Entry'!V12,IF($J$4='Marks Entry'!$W$3,'Marks Entry'!AH12,IF($J$4='Marks Entry'!$AI$3,'Marks Entry'!AT12,IF($J$4='Marks Entry'!$AU$3,'Marks Entry'!BF12,IF($J$4='Marks Entry'!$BG$3,'Marks Entry'!BR12,'Marks Entry'!CD12))))) -> 0
B14: ='Marks Entry'!B13 -> 0 | C14: ='Marks Entry'!C13 -> 0 | D14: ='Marks Entry'!D13 -> 0 | E14: ='Marks Entry'!E13 -> 0 | F14: ='Marks Entry'!F13 -> 0 | G14: ='Marks Entry'!G13 -> 0 | H14: ='Marks Entry'!H13 -> 0 | I14: ='Marks Entry'!I13 -> 0 | J14: =IF($J$4='Marks Entry'!$K$3,'Marks Entry'!K13,IF($J$4='Marks Entry'!$W$3,'Marks Entry'!W13,IF($J$4='Marks Entry'!$AI$3,'Marks Entry'!AI13,IF($J$4='Marks Entry'!$AU$3,'Marks Entry'!AU13,IF($J$4='Marks Entry'!$BG$3,'Marks Entry'!BG13,'Marks Entry'!BS13))))) -> 0 | K14: =IF($J$4='Marks Entry'!$K$3,'Marks Entry'!L13,IF($J$4='Marks Entry'!$W$3,'Marks Entry'!X13,IF($J$4='Marks Entry'!$AI$3,'Marks Entry'!AJ13,IF($J$4='Marks Entry'!$AU$3,'Marks Entry'!AV13,IF($J$4='Marks Entry'!$BG$3,'Marks Entry'!BH13,'Marks Entry'!BT13))))) -> 0 | L14: =IF($J$4='Marks Entry'!$K$3,'Marks Entry'!M13,IF($J$4='Marks Entry'!$W$3,'Marks Entry'!Y13,IF($J$4='Marks Entry'!$AI$3,'Marks Entry'!AK13,IF($J$4='Marks Entry'!$AU$3,'Marks Entry'!AW13,IF($J$4='Marks Entry'!$BG$3,'Marks Entry'!BI13,'Marks Entry'!BU13))))) -> 0 | M14: =IF($J$4='Marks Entry'!$K$3,'Marks Entry'!N13,IF($J$4='Marks Entry'!$W$3,'Marks Entry'!Z13,IF($J$4='Marks Entry'!$AI$3,'Marks Entry'!AL13,IF($J$4='Marks Entry'!$AU$3,'Marks Entry'!AX13,IF($J$4='Marks Entry'!$BG$3,'Marks Entry'!BJ13,'Marks Entry'!BV13))))) -> 0 | N14: =IF($J$4='Marks Entry'!$K$3,'Marks Entry'!O13,IF($J$4='Marks Entry'!$W$3,'Marks Entry'!AA13,IF($J$4='Marks Entry'!$AI$3,'Marks Entry'!AM13,IF($J$4='Marks Entry'!$AU$3,'Marks Entry'!AY13,IF($J$4='Marks Entry'!$BG$3,'Marks Entry'!BK13,'Marks Entry'!BW13))))) -> 0 | O14: =IF($J$4='Marks Entry'!$K$3,'Marks Entry'!P13,IF($J$4='Marks Entry'!$W$3,'Marks Entry'!AB13,IF($J$4='Marks Entry'!$AI$3,'Marks Entry'!AN13,IF($J$4='Marks Entry'!$AU$3,'Marks Entry'!AZ13,IF($J$4='Marks Entry'!$BG$3,'Marks Entry'!BL13,'Marks Entry'!BX13))))) -> 0 | P14: =IF($J$4='Marks Entry'!$K$3,'Marks Entry'!R13,IF($J$4='Marks Entry'!$W$3,'Marks Entry'!AD13,IF($J$4='Marks Entry'!$AI$3,'Marks Entry'!AP13,IF($J$4='Marks Entry'!$AU$3,'Marks Entry'!BB13,IF($J$4='Marks Entry'!$BG$3,'Marks Entry'!BN13,'Marks Entry'!BZ13))))) -> 0 | Q14: =IF($J$4='Marks Entry'!$K$3,'Marks Entry'!S13,IF($J$4='Marks Entry'!$W$3,'Marks Entry'!AE13,IF($J$4='Marks Entry'!$AI$3,'Marks Entry'!AQ13,IF($J$4='Marks Entry'!$AU$3,'Marks Entry'!BC13,IF($J$4='Marks Entry'!$BG$3,'Marks Entry'!BO13,'Marks Entry'!CA13))))) -> 0 | R14: =IF($J$4='Marks Entry'!$K$3,'Marks Entry'!T13,IF($J$4='Marks Entry'!$W$3,'Marks Entry'!AF13,IF($J$4='Marks Entry'!$AI$3,'Marks Entry'!AR13,IF($J$4='Marks Entry'!$AU$3,'Marks Entry'!BD13,IF($J$4='Marks Entry'!$BG$3,'Marks Entry'!BP13,'Marks Entry'!CB13))))) -> 0 | S14: =IF($J$4='Marks Entry'!$K$3,'Marks Entry'!U13,IF($J$4='Marks Entry'!$W$3,'Marks Entry'!AG13,IF($J$4='Marks Entry'!$AI$3,'Marks Entry'!AS13,IF($J$4='Marks Entry'!$AU$3,'Marks Entry'!BE13,IF($J$4='Marks Entry'!$BG$3,'Marks Entry'!BQ13,'Marks Entry'!CC13))))) -> 0 | T14: =IF($J$4='Marks Entry'!$K$3,'Marks Entry'!V13,IF($J$4='Marks Entry'!$W$3,'Marks Entry'!AH13,IF($J$4='Marks Entry'!$AI$3,'Marks Entry'!AT13,IF($J$4='Marks Entry'!$AU$3,'Marks Entry'!BF13,IF($J$4='Marks Entry'!$BG$3,'Marks Entry'!BR13,'Marks Entry'!CD13))))) -> 0
B15: ='Marks Entry'!B14 -> 0 | C15: ='Marks Entry'!C14 -> 0 | D15: ='Marks Entry'!D14 -> 0 | E15: ='Marks Entry'!E14 -> 0 | F15: ='Marks Entry'!F14 -> 0 | G15: ='Marks Entry'!G14 -> 0 | H15: ='Marks Entry'!H14 -> 0 | I15: ='Marks Entry'!I14 -> 0 | J15: =IF($J$4='Marks Entry'!$K$3,'Marks Entry'!K14,IF($J$4='Marks Entry'!$W$3,'Marks Entry'!W14,IF($J$4='Marks Entry'!$AI$3,'Marks Entry'!AI14,IF($J$4='Marks Entry'!$AU$3,'Marks Entry'!AU14,IF($J$4='Marks Entry'!$BG$3,'Marks Entry'!BG14,'Marks Entry'!BS14))))) -> 0 | K15: =IF($J$4='Marks Entry'!$K$3,'Marks Entry'!L14,IF($J$4='Marks Entry'!$W$3,'Marks Entry'!X14,IF($J$4='Marks Entry'!$AI$3,'Marks Entry'!AJ14,IF($J$4='Marks Entry'!$AU$3,'Marks Entry'!AV14,IF($J$4='Marks Entry'!$BG$3,'Marks Entry'!BH14,'Marks Entry'!BT14))))) -> 0 | L15: =IF($J$4='Marks Entry'!$K$3,'Marks Entry'!M14,IF($J$4='Marks Entry'!$W$3,'Marks Entry'!Y14,IF($J$4='Marks Entry'!$AI$3,'Marks Entry'!AK14,IF($J$4='Marks Entry'!$AU$3,'Marks Entry'!AW14,IF($J$4='Marks Entry'!$BG$3,'Marks Entry'!BI14,'Marks Entry'!BU14))))) -> 0 | M15: =IF($J$4='Marks Entry'!$K$3,'Marks Entry'!N14,IF($J$4='Marks Entry'!$W$3,'Marks Entry'!Z14,IF($J$4='Marks Entry'!$AI$3,'Marks Entry'!AL14,IF($J$4='Marks Entry'!$AU$3,'Marks Entry'!AX14,IF($J$4='Marks Entry'!$BG$3,'Marks Entry'!BJ14,'Marks Entry'!BV14))))) -> 0 | N15: =IF($J$4='Marks Entry'!$K$3,'Marks Entry'!O14,IF($J$4='Marks Entry'!$W$3,'Marks Entry'!AA14,IF($J$4='Marks Entry'!$AI$3,'Marks Entry'!AM14,IF($J$4='Marks Entry'!$AU$3,'Marks Entry'!AY14,IF($J$4='Marks Entry'!$BG$3,'Marks Entry'!BK14,'Marks Entry'!BW14))))) -> 0 | O15: =IF($J$4='Marks Entry'!$K$3,'Marks Entry'!P14,IF($J$4='Marks Entry'!$W$3,'Marks Entry'!AB14,IF($J$4='Marks Entry'!$AI$3,'Marks Entry'!AN14,IF($J$4='Marks Entry'!$AU$3,'Marks Entry'!AZ14,IF($J$4='Marks Entry'!$BG$3,'Marks Entry'!BL14,'Marks Entry'!BX14))))) -> 0 | P15: =IF($J$4='Marks Entry'!$K$3,'Marks Entry'!R14,IF($J$4='Marks Entry'!$W$3,'Marks Entry'!AD14,IF($J$4='Marks Entry'!$AI$3,'Marks Entry'!AP14,IF($J$4='Marks Entry'!$AU$3,'Marks Entry'!BB14,IF($J$4='Marks Entry'!$BG$3,'Marks Entry'!BN14,'Marks Entry'!BZ14))))) -> 0 | Q15: =IF($J$4='Marks Entry'!$K$3,'Marks Entry'!S14,IF($J$4='Marks Entry'!$W$3,'Marks Entry'!AE14,IF($J$4='Marks Entry'!$AI$3,'Marks Entry'!AQ14,IF($J$4='Marks Entry'!$AU$3,'Marks Entry'!BC14,IF($J$4='Marks Entry'!$BG$3,'Marks Entry'!BO14,'Marks Entry'!CA14))))) -> 0 | R15: =IF($J$4='Marks Entry'!$K$3,'Marks Entry'!T14,IF($J$4='Marks Entry'!$W$3,'Marks Entry'!AF14,IF($J$4='Marks Entry'!$AI$3,'Marks Entry'!AR14,IF($J$4='Marks Entry'!$AU$3,'Marks Entry'!BD14,IF($J$4='Marks Entry'!$BG$3,'Marks Entry'!BP14,'Marks Entry'!CB14))))) -> 0 | S15: =IF($J$4='Marks Entry'!$K$3,'Marks Entry'!U14,IF($J$4='Marks Entry'!$W$3,'Marks Entry'!AG14,IF($J$4='Marks Entry'!$AI$3,'Marks Entry'!AS14,IF($J$4='Marks Entry'!$AU$3,'Marks Entry'!BE14,IF($J$4='Marks Entry'!$BG$3,'Marks Entry'!BQ14,'Marks Entry'!CC14))))) -> 0 | T15: =IF($J$4='Marks Entry'!$K$3,'Marks Entry'!V14,IF($J$4='Marks Entry'!$W$3,'Marks Entry'!AH14,IF($J$4='Marks Entry'!$AI$3,'Marks Entry'!AT14,IF($J$4='Marks Entry'!$AU$3,'Marks Entry'!BF14,IF($J$4='Marks Entry'!$BG$3,'Marks Entry'!BR14,'Marks Entry'!CD14))))) -> 0
B16: ='Marks Entry'!B15 -> 0 | C16: ='Marks Entry'!C15 -> 0 | D16: ='Marks Entry'!D15 -> 0 | E16: ='Marks Entry'!E15 -> 0 | F16: ='Marks Entry'!F15 -> 0 | G16: ='Marks Entry'!G15 -> 0 | H16: ='Marks Entry'!H15 -> 0 | I16: ='Marks Entry'!I15 -> 0 | J16: =IF($J$4='Marks Entry'!$K$3,'Marks Entry'!K15,IF($J$4='Marks Entry'!$W$3,'Marks Entry'!W15,IF($J$4='Marks Entry'!$AI$3,'Marks Entry'!AI15,IF($J$4='Marks Entry'!$AU$3,'Marks Entry'!AU15,IF($J$4='Marks Entry'!$BG$3,'Marks Entry'!BG15,'Marks Entry'!BS15))))) -> 0 | K16: =IF($J$4='Marks Entry'!$K$3,'Marks Entry'!L15,IF($J$4='Marks Entry'!$W$3,'Marks Entry'!X15,IF($J$4='Marks Entry'!$AI$3,'Marks Entry'!AJ15,IF($J$4='Marks Entry'!$AU$3,'Marks Entry'!AV15,IF($J$4='Marks Entry'!$BG$3,'Marks Entry'!BH15,'Marks Entry'!BT15))))) -> 0 | L16: =IF($J$4='Marks Entry'!$K$3,'Marks Entry'!M15,IF($J$4='Marks Entry'!$W$3,'Marks Entry'!Y15,IF($J$4='Marks Entry'!$AI$3,'Marks Entry'!AK15,IF($J$4='Marks Entry'!$AU$3,'Marks Entry'!AW15,IF($J$4='Marks Entry'!$BG$3,'Marks Entry'!BI15,'Marks Entry'!BU15))))) -> 0 | M16: =IF($J$4='Marks Entry'!$K$3,'Marks Entry'!N15,IF($J$4='Marks Entry'!$W$3,'Marks Entry'!Z15,IF($J$4='Marks Entry'!$AI$3,'Marks Entry'!AL15,IF($J$4='Marks Entry'!$AU$3,'Marks Entry'!AX15,IF($J$4='Marks Entry'!$BG$3,'Marks Entry'!BJ15,'Marks Entry'!BV15))))) -> 0 | N16: =IF($J$4='Marks Entry'!$K$3,'Marks Entry'!O15,IF($J$4='Marks Entry'!$W$3,'Marks Entry'!AA15,IF($J$4='Marks Entry'!$AI$3,'Marks Entry'!AM15,IF($J$4='Marks Entry'!$AU$3,'Marks Entry'!AY15,IF($J$4='Marks Entry'!$BG$3,'Marks Entry'!BK15,'Marks Entry'!BW15))))) -> 0 | O16: =IF($J$4='Marks Entry'!$K$3,'Marks Entry'!P15,IF($J$4='Marks Entry'!$W$3,'Marks Entry'!AB15,IF($J$4='Marks Entry'!$AI$3,'Marks Entry'!AN15,IF($J$4='Marks Entry'!$AU$3,'Marks Entry'!AZ15,IF($J$4='Marks Entry'!$BG$3,'Marks Entry'!BL15,'Marks Entry'!BX15))))) -> 0 | P16: =IF($J$4='Marks Entry'!$K$3,'Marks Entry'!R15,IF($J$4='Marks Entry'!$W$3,'Marks Entry'!AD15,IF($J$4='Marks Entry'!$AI$3,'Marks Entry'!AP15,IF($J$4='Marks Entry'!$AU$3,'Marks Entry'!BB15,IF($J$4='Marks Entry'!$BG$3,'Marks Entry'!BN15,'Marks Entry'!BZ15))))) -> 0 | Q16: =IF($J$4='Marks Entry'!$K$3,'Marks Entry'!S15,IF($J$4='Marks Entry'!$W$3,'Marks Entry'!AE15,IF($J$4='Marks Entry'!$AI$3,'Marks Entry'!AQ15,IF($J$4='Marks Entry'!$AU$3,'Marks Entry'!BC15,IF($J$4='Marks Entry'!$BG$3,'Marks Entry'!BO15,'Marks Entry'!CA15))))) -> 0 | R16: =IF($J$4='Marks Entry'!$K$3,'Marks Entry'!T15,IF($J$4='Marks Entry'!$W$3,'Marks Entry'!AF15,IF($J$4='Marks Entry'!$AI$3,'Marks Entry'!AR15,IF($J$4='Marks Entry'!$AU$3,'Marks Entry'!BD15,IF($J$4='Marks Entry'!$BG$3,'Marks Entry'!BP15,'Marks Entry'!CB15))))) -> 0 | S16: =IF($J$4='Marks Entry'!$K$3,'Marks Entry'!U15,IF($J$4='Marks Entry'!$W$3,'Marks Entry'!AG15,IF($J$4='Marks Entry'!$AI$3,'Marks Entry'!AS15,IF($J$4='Marks Entry'!$AU$3,'Marks Entry'!BE15,IF($J$4='Marks Entry'!$BG$3,'Marks Entry'!BQ15,'Marks Entry'!CC15))))) -> 0 | T16: =IF($J$4='Marks Entry'!$K$3,'Marks Entry'!V15,IF($J$4='Marks Entry'!$W$3,'Marks Entry'!AH15,IF($J$4='Marks Entry'!$AI$3,'Marks Entry'!AT15,IF($J$4='Marks Entry'!$AU$3,'Marks Entry'!BF15,IF($J$4='Marks Entry'!$BG$3,'Marks Entry'!BR15,'Marks Entry'!CD15))))) -> 0
B17: ='Marks Entry'!B16 -> 0 | C17: ='Marks Entry'!C16 -> 0 | D17: ='Marks Entry'!D16 -> 0 | E17: ='Marks Entry'!E16 -> 0 | F17: ='Marks Entry'!F16 -> 0 | G17: ='Marks Entry'!G16 -> 0 | H17: ='Marks Entry'!H16 -> 0 | I17: ='Marks Entry'!I16 -> 0 | J17: =IF($J$4='Marks Entry'!$K$3,'Marks Entry'!K16,IF($J$4='Marks Entry'!$W$3,'Marks Entry'!W16,IF($J$4='Marks Entry'!$AI$3,'Marks Entry'!AI16,IF($J$4='Marks Entry'!$AU$3,'Marks Entry'!AU16,IF($J$4='Marks Entry'!$BG$3,'Marks Entry'!BG16,'Marks Entry'!BS16))))) -> 0 | K17: =IF($J$4='Marks Entry'!$K$3,'Marks Entry'!L16,IF($J$4='Marks Entry'!$W$3,'Marks Entry'!X16,IF($J$4='Marks Entry'!$AI$3,'Marks Entry'!AJ16,IF($J$4='Marks Entry'!$AU$3,'Marks Entry'!AV16,IF($J$4='Marks Entry'!$BG$3,'Marks Entry'!BH16,'Marks Entry'!BT16))))) -> 0 | L17: =IF($J$4='Marks Entry'!$K$3,'Marks Entry'!M16,IF($J$4='Marks Entry'!$W$3,'Marks Entry'!Y16,IF($J$4='Marks Entry'!$AI$3,'Marks Entry'!AK16,IF($J$4='Marks Entry'!$AU$3,'Marks Entry'!AW16,IF($J$4='Marks Entry'!$BG$3,'Marks Entry'!BI16,'Marks Entry'!BU16))))) -> 0 | M17: =IF($J$4='Marks Entry'!$K$3,'Marks Entry'!N16,IF($J$4='Marks Entry'!$W$3,'Marks Entry'!Z16,IF($J$4='Marks Entry'!$AI$3,'Marks Entry'!AL16,IF($J$4='Marks Entry'!$AU$3,'Marks Entry'!AX16,IF($J$4='Marks Entry'!$BG$3,'Marks Entry'!BJ16,'Marks Entry'!BV16))))) -> 0 | N17: =IF($J$4='Marks Entry'!$K$3,'Marks Entry'!O16,IF($J$4='Marks Entry'!$W$3,'Marks Entry'!AA16,IF($J$4='Marks Entry'!$AI$3,'Marks Entry'!AM16,IF($J$4='Marks Entry'!$AU$3,'Marks Entry'!AY16,IF($J$4='Marks Entry'!$BG$3,'Marks Entry'!BK16,'Marks Entry'!BW16))))) -> 0 | O17: =IF($J$4='Marks Entry'!$K$3,'Marks Entry'!P16,IF($J$4='Marks Entry'!$W$3,'Marks Entry'!AB16,IF($J$4='Marks Entry'!$AI$3,'Marks Entry'!AN16,IF($J$4='Marks Entry'!$AU$3,'Marks Entry'!AZ16,IF($J$4='Marks Entry'!$BG$3,'Marks Entry'!BL16,'Marks Entry'!BX16))))) -> 0 | P17: =IF($J$4='Marks Entry'!$K$3,'Marks Entry'!R16,IF($J$4='Marks Entry'!$W$3,'Marks Entry'!AD16,IF($J$4='Marks Entry'!$AI$3,'Marks Entry'!AP16,IF($J$4='Marks Entry'!$AU$3,'Marks Entry'!BB16,IF($J$4='Marks Entry'!$BG$3,'Marks Entry'!BN16,'Marks Entry'!BZ16))))) -> 0 | Q17: =IF($J$4='Marks Entry'!$K$3,'Marks Entry'!S16,IF($J$4='Marks Entry'!$W$3,'Marks Entry'!AE16,IF($J$4='Marks Entry'!$AI$3,'Marks Entry'!AQ16,IF($J$4='Marks Entry'!$AU$3,'Marks Entry'!BC16,IF($J$4='Marks Entry'!$BG$3,'Marks Entry'!BO16,'Marks Entry'!CA16))))) -> 0 | R17: =IF($J$4='Marks Entry'!$K$3,'Marks Entry'!T16,IF($J$4='Marks Entry'!$W$3,'Marks Entry'!AF16,IF($J$4='Marks Entry'!$AI$3,'Marks Entry'!AR16,IF($J$4='Marks Entry'!$AU$3,'Marks Entry'!BD16,IF($J$4='Marks Entry'!$BG$3,'Marks Entry'!BP16,'Marks Entry'!CB16))))) -> 0 | S17: =IF($J$4='Marks Entry'!$K$3,'Marks Entry'!U16,IF($J$4='Marks Entry'!$W$3,'Marks Entry'!AG16,IF($J$4='Marks Entry'!$AI$3,'Marks Entry'!AS16,IF($J$4='Marks Entry'!$AU$3,'Marks Entry'!BE16,IF($J$4='Marks Entry'!$BG$3,'Marks Entry'!BQ16,'Marks Entry'!CC16))))) -> 0 | T17: =IF($J$4='Marks Entry'!$K$3,'Marks Entry'!V16,IF($J$4='Marks Entry'!$W$3,'Marks Entry'!AH16,IF($J$4='Marks Entry'!$AI$3,'Marks Entry'!AT16,IF($J$4='Marks Entry'!$AU$3,'Marks Entry'!BF16,IF($J$4='Marks Entry'!$BG$3,'Marks Entry'!BR16,'Marks Entry'!CD16))))) -> 0
B18: ='Marks Entry'!B17 -> 0 | C18: ='Marks Entry'!C17 -> 0 | D18: ='Marks Entry'!D17 -> 0 | E18: ='Marks Entry'!E17 -> 0 | F18: ='Marks Entry'!F17 -> 0 | G18: ='Marks Entry'!G17 -> 0 | H18: ='Marks Entry'!H17 -> 0 | I18: ='Marks Entry'!I17 -> 0 | J18: =IF($J$4='Marks Entry'!$K$3,'Marks Entry'!K17,IF($J$4='Marks Entry'!$W$3,'Marks Entry'!W17,IF($J$4='Marks Entry'!$AI$3,'Marks Entry'!AI17,IF($J$4='Marks Entry'!$AU$3,'Marks Entry'!AU17,IF($J$4='Marks Entry'!$BG$3,'Marks Entry'!BG17,'Marks Entry'!BS17))))) -> 0 | K18: =IF($J$4='Marks Entry'!$K$3,'Marks Entry'!L17,IF($J$4='Marks Entry'!$W$3,'Marks Entry'!X17,IF($J$4='Marks Entry'!$AI$3,'Marks Entry'!AJ17,IF($J$4='Marks Entry'!$AU$3,'Marks Entry'!AV17,IF($J$4='Marks Entry'!$BG$3,'Marks Entry'!BH17,'Marks Entry'!BT17))))) -> 0 | L18: =IF($J$4='Marks Entry'!$K$3,'Marks Entry'!M17,IF($J$4='Marks Entry'!$W$3,'Marks Entry'!Y17,IF($J$4='Marks Entry'!$AI$3,'Marks Entry'!AK17,IF($J$4='Marks Entry'!$AU$3,'Marks Entry'!AW17,IF($J$4='Marks Entry'!$BG$3,'Marks Entry'!BI17,'Marks Entry'!BU17))))) -> 0 | M18: =IF($J$4='Marks Entry'!$K$3,'Marks Entry'!N17,IF($J$4='Marks Entry'!$W$3,'Marks Entry'!Z17,IF($J$4='Marks Entry'!$AI$3,'Marks Entry'!AL17,IF($J$4='Marks Entry'!$AU$3,'Marks Entry'!AX17,IF($J$4='Marks Entry'!$BG$3,'Marks Entry'!BJ17,'Marks Entry'!BV17))))) -> 0 | N18: =IF($J$4='Marks Entry'!$K$3,'Marks Entry'!O17,IF($J$4='Marks Entry'!$W$3,'Marks Entry'!AA17,IF($J$4='Marks Entry'!$AI$3,'Marks Entry'!AM17,IF($J$4='Marks Entry'!$AU$3,'Marks Entry'!AY17,IF($J$4='Marks Entry'!$BG$3,'Marks Entry'!BK17,'Marks Entry'!BW17))))) -> 0 | O18: =IF($J$4='Marks Entry'!$K$3,'Marks Entry'!P17,IF($J$4='Marks Entry'!$W$3,'Marks Entry'!AB17,IF($J$4='Marks Entry'!$AI$3,'Marks Entry'!AN17,IF($J$4='Marks Entry'!$AU$3,'Marks Entry'!AZ17,IF($J$4='Marks Entry'!$BG$3,'Marks Entry'!BL17,'Marks Entry'!BX17))))) -> 0 | P18: =IF($J$4='Marks Entry'!$K$3,'Marks Entry'!R17,IF($J$4='Marks Entry'!$W$3,'Marks Entry'!AD17,IF($J$4='Marks Entry'!$AI$3,'Marks Entry'!AP17,IF($J$4='Marks Entry'!$AU$3,'Marks Entry'!BB17,IF($J$4='Marks Entry'!$BG$3,'Marks Entry'!BN17,'Marks Entry'!BZ17))))) -> 0 | Q18: =IF($J$4='Marks Entry'!$K$3,'Marks Entry'!S17,IF($J$4='Marks Entry'!$W$3,'Marks Entry'!AE17,IF($J$4='Marks Entry'!$AI$3,'Marks Entry'!AQ17,IF($J$4='Marks Entry'!$AU$3,'Marks Entry'!BC17,IF($J$4='Marks Entry'!$BG$3,'Marks Entry'!BO17,'Marks Entry'!CA17))))) -> 0 | R18: =IF($J$4='Marks Entry'!$K$3,'Marks Entry'!T17,IF($J$4='Marks Entry'!$W$3,'Marks Entry'!AF17,IF($J$4='Marks Entry'!$AI$3,'Marks Entry'!AR17,IF($J$4='Marks Entry'!$AU$3,'Marks Entry'!BD17,IF($J$4='Marks Entry'!$BG$3,'Marks Entry'!BP17,'Marks Entry'!CB17))))) -> 0 | S18: =IF($J$4='Marks Entry'!$K$3,'Marks Entry'!U17,IF($J$4='Marks Entry'!$W$3,'Marks Entry'!AG17,IF($J$4='Marks Entry'!$AI$3,'Marks Entry'!AS17,IF($J$4='Marks Entry'!$AU$3,'Marks Entry'!BE17,IF($J$4='Marks Entry'!$BG$3,'Marks Entry'!BQ17,'Marks Entry'!CC17))))) -> 0 | T18: =IF($J$4='Marks Entry'!$K$3,'Marks Entry'!V17,IF($J$4='Marks Entry'!$W$3,'Marks Entry'!AH17,IF($J$4='Marks Entry'!$AI$3,'Marks Entry'!AT17,IF($J$4='Marks Entry'!$AU$3,'Marks Entry'!BF17,IF($J$4='Marks Entry'!$BG$3,'Marks Entry'!BR17,'Marks Entry'!CD17))))) -> 0
B19: ='Marks Entry'!B18 -> 0 | C19: ='Marks Entry'!C18 -> 0 | D19: ='Marks Entry'!D18 -> 0 | E19: ='Marks Entry'!E18 -> 0 | F19: ='Marks Entry'!F18 -> 0 | G19: ='Marks Entry'!G18 -> 0 | H19: ='Marks Entry'!H18 -> 0 | I19: ='Marks Entry'!I18 -> 0 | J19: =IF($J$4='Marks Entry'!$K$3,'Marks Entry'!K18,IF($J$4='Marks Entry'!$W$3,'Marks Entry'!W18,IF($J$4='Marks Entry'!$AI$3,'Marks Entry'!AI18,IF($J$4='Marks Entry'!$AU$3,'Marks Entry'!AU18,IF($J$4='Marks Entry'!$BG$3,'Marks Entry'!BG18,'Marks Entry'!BS18))))) -> 0 | K19: =IF($J$4='Marks Entry'!$K$3,'Marks Entry'!L18,IF($J$4='Marks Entry'!$W$3,'Marks Entry'!X18,IF($J$4='Marks Entry'!$AI$3,'Marks Entry'!AJ18,IF($J$4='Marks Entry'!$AU$3,'Marks Entry'!AV18,IF($J$4='Marks Entry'!$BG$3,'Marks Entry'!BH18,'Marks Entry'!BT18))))) -> 0 | L19: =IF($J$4='Marks Entry'!$K$3,'Marks Entry'!M18,IF($J$4='Marks Entry'!$W$3,'Marks Entry'!Y18,IF($J$4='Marks Entry'!$AI$3,'Marks Entry'!AK18,IF($J$4='Marks Entry'!$AU$3,'Marks Entry'!AW18,IF($J$4='Marks Entry'!$BG$3,'Marks Entry'!BI18,'Marks Entry'!BU18))))) -> 0 | M19: =IF($J$4='Marks Entry'!$K$3,'Marks Entry'!N18,IF($J$4='Marks Entry'!$W$3,'Marks Entry'!Z18,IF($J$4='Marks Entry'!$AI$3,'Marks Entry'!AL18,IF($J$4='Marks Entry'!$AU$3,'Marks Entry'!AX18,IF($J$4='Marks Entry'!$BG$3,'Marks Entry'!BJ18,'Marks Entry'!BV18))))) -> 0 | N19: =IF($J$4='Marks Entry'!$K$3,'Marks Entry'!O18,IF($J$4='Marks Entry'!$W$3,'Marks Entry'!AA18,IF($J$4='Marks Entry'!$AI$3,'Marks Entry'!AM18,IF($J$4='Marks Entry'!$AU$3,'Marks Entry'!AY18,IF($J$4='Marks Entry'!$BG$3,'Marks Entry'!BK18,'Marks Entry'!BW18))))) -> 0 | O19: =IF($J$4='Marks Entry'!$K$3,'Marks Entry'!P18,IF($J$4='Marks Entry'!$W$3,'Marks Entry'!AB18,IF($J$4='Marks Entry'!$AI$3,'Marks Entry'!AN18,IF($J$4='Marks Entry'!$AU$3,'Marks Entry'!AZ18,IF($J$4='Marks Entry'!$BG$3,'Marks Entry'!BL18,'Marks Entry'!BX18))))) -> 0 | P19: =IF($J$4='Marks Entry'!$K$3,'Marks Entry'!R18,IF($J$4='Marks Entry'!$W$3,'Marks Entry'!AD18,IF($J$4='Marks Entry'!$AI$3,'Marks Entry'!AP18,IF($J$4='Marks Entry'!$AU$3,'Marks Entry'!BB18,IF($J$4='Marks Entry'!$BG$3,'Marks Entry'!BN18,'Marks Entry'!BZ18))))) -> 0 | Q19: =IF($J$4='Marks Entry'!$K$3,'Marks Entry'!S18,IF($J$4='Marks Entry'!$W$3,'Marks Entry'!AE18,IF($J$4='Marks Entry'!$AI$3,'Marks Entry'!AQ18,IF($J$4='Marks Entry'!$AU$3,'Marks Entry'!BC18,IF($J$4='Marks Entry'!$BG$3,'Marks Entry'!BO18,'Marks Entry'!CA18))))) -> 0 | R19: =IF($J$4='Marks Entry'!$K$3,'Marks Entry'!T18,IF($J$4='Marks Entry'!$W$3,'Marks Entry'!AF18,IF($J$4='Marks Entry'!$AI$3,'Marks Entry'!AR18,IF($J$4='Marks Entry'!$AU$3,'Marks Entry'!BD18,IF($J$4='Marks Entry'!$BG$3,'Marks Entry'!BP18,'Marks Entry'!CB18))))) -> 0 | S19: =IF($J$4='Marks Entry'!$K$3,'Marks Entry'!U18,IF($J$4='Marks Entry'!$W$3,'Marks Entry'!AG18,IF($J$4='Marks Entry'!$AI$3,'Marks Entry'!AS18,IF($J$4='Marks Entry'!$AU$3,'Marks Entry'!BE18,IF($J$4='Marks Entry'!$BG$3,'Marks Entry'!BQ18,'Marks Entry'!CC18))))) -> 0 | T19: =IF($J$4='Marks Entry'!$K$3,'Marks Entry'!V18,IF($J$4='Marks Entry'!$W$3,'Marks Entry'!AH18,IF($J$4='Marks Entry'!$AI$3,'Marks Entry'!AT18,IF($J$4='Marks Entry'!$AU$3,'Marks Entry'!BF18,IF($J$4='Marks Entry'!$BG$3,'Marks Entry'!BR18,'Marks Entry'!CD18))))) -> 0
B20: ='Marks Entry'!B19 -> 0 | C20: ='Marks Entry'!C19 -> 0 | D20: ='Marks Entry'!D19 -> 0 | E20: ='Marks Entry'!E19 -> 0 | F20: ='Marks Entry'!F19 -> 0 | G20: ='Marks Entry'!G19 -> 0 | H20: ='Marks Entry'!H19 -> 0 | I20: ='Marks Entry'!I19 -> 0 | J20: =IF($J$4='Marks Entry'!$K$3,'Marks Entry'!K19,IF($J$4='Marks Entry'!$W$3,'Marks Entry'!W19,IF($J$4='Marks Entry'!$AI$3,'Marks Entry'!AI19,IF($J$4='Marks Entry'!$AU$3,'Marks Entry'!AU19,IF($J$4='Marks Entry'!$BG$3,'Marks Entry'!BG19,'Marks Entry'!BS19))))) -> 0 | K20: =IF($J$4='Marks Entry'!$K$3,'Marks Entry'!L19,IF($J$4='Marks Entry'!$W$3,'Marks Entry'!X19,IF($J$4='Marks Entry'!$AI$3,'Marks Entry'!AJ19,IF($J$4='Marks Entry'!$AU$3,'Marks Entry'!AV19,IF($J$4='Marks Entry'!$BG$3,'Marks Entry'!BH19,'Marks Entry'!BT19))))) -> 0 | L20: =IF($J$4='Marks Entry'!$K$3,'Marks Entry'!M19,IF($J$4='Marks Entry'!$W$3,'Marks Entry'!Y19,IF($J$4='Marks Entry'!$AI$3,'Marks Entry'!AK19,IF($J$4='Marks Entry'!$AU$3,'Marks Entry'!AW19,IF($J$4='Marks Entry'!$BG$3,'Marks Entry'!BI19,'Marks Entry'!BU19))))) -> 0 | M20: =IF($J$4='Marks Entry'!$K$3,'Marks Entry'!N19,IF($J$4='Marks Entry'!$W$3,'Marks Entry'!Z19,IF($J$4='Marks Entry'!$AI$3,'Marks Entry'!AL19,IF($J$4='Marks Entry'!$AU$3,'Marks Entry'!AX19,IF($J$4='Marks Entry'!$BG$3,'Marks Entry'!BJ19,'Marks Entry'!BV19))))) -> 0 | N20: =IF($J$4='Marks Entry'!$K$3,'Marks Entry'!O19,IF($J$4='Marks Entry'!$W$3,'Marks Entry'!AA19,IF($J$4='Marks Entry'!$AI$3,'Marks Entry'!AM19,IF($J$4='Marks Entry'!$AU$3,'Marks Entry'!AY19,IF($J$4='Marks Entry'!$BG$3,'Marks Entry'!BK19,'Marks Entry'!BW19))))) -> 0 | O20: =IF($J$4='Marks Entry'!$K$3,'Marks Entry'!P19,IF($J$4='Marks Entry'!$W$3,'Marks Entry'!AB19,IF($J$4='Marks Entry'!$AI$3,'Marks Entry'!AN19,IF($J$4='Marks Entry'!$AU$3,'Marks Entry'!AZ19,IF($J$4='Marks Entry'!$BG$3,'Marks Entry'!BL19,'Marks Entry'!BX19))))) -> 0 | P20: =IF($J$4='Marks Entry'!$K$3,'Marks Entry'!R19,IF($J$4='Marks Entry'!$W$3,'Marks Entry'!AD19,IF($J$4='Marks Entry'!$AI$3,'Marks Entry'!AP19,IF($J$4='Marks Entry'!$AU$3,'Marks Entry'!BB19,IF($J$4='Marks Entry'!$BG$3,'Marks Entry'!BN19,'Marks Entry'!BZ19))))) -> 0 | Q20: =IF($J$4='Marks Entry'!$K$3,'Marks Entry'!S19,IF($J$4='Marks Entry'!$W$3,'Marks Entry'!AE19,IF($J$4='Marks Entry'!$AI$3,'Marks Entry'!AQ19,IF($J$4='Marks Entry'!$AU$3,'Marks Entry'!BC19,IF($J$4='Marks Entry'!$BG$3,'Marks Entry'!BO19,'Marks Entry'!CA19))))) -> 0 | R20: =IF($J$4='Marks Entry'!$K$3,'Marks Entry'!T19,IF($J$4='Marks Entry'!$W$3,'Marks Entry'!AF19,IF($J$4='Marks Entry'!$AI$3,'Marks Entry'!AR19,IF($J$4='Marks Entry'!$AU$3,'Marks Entry'!BD19,IF($J$4='Marks Entry'!$BG$3,'Marks Entry'!BP19,'Marks Entry'!CB19))))) -> 0 | S20: =IF($J$4='Marks Entry'!$K$3,'Marks Entry'!U19,IF($J$4='Marks Entry'!$W$3,'Marks Entry'!AG19,IF($J$4='Marks Entry'!$AI$3,'Marks Entry'!AS19,IF($J$4='Marks Entry'!$AU$3,'Marks Entry'!BE19,IF($J$4='Marks Entry'!$BG$3,'Marks Entry'!BQ19,'Marks Entry'!CC19))))) -> 0 | T20: =IF($J$4='Marks Entry'!$K$3,'Marks Entry'!V19,IF($J$4='Marks Entry'!$W$3,'Marks Entry'!AH19,IF($J$4='Marks Entry'!$AI$3,'Marks Entry'!AT19,IF($J$4='Marks Entry'!$AU$3,'Marks Entry'!BF19,IF($J$4='Marks Entry'!$BG$3,'Marks Entry'!BR19,'Marks Entry'!CD19))))) -> 0
B21: ='Marks Entry'!B20 -> 0 | C21: ='Marks Entry'!C20 -> 0 | D21: ='Marks Entry'!D20 -> 0 | E21: ='Marks Entry'!E20 -> 0 | F21: ='Marks Entry'!F20 -> 0 | G21: ='Marks Entry'!G20 -> 0 | H21: ='Marks Entry'!H20 -> 0 | I21: ='Marks Entry'!I20 -> 0 | J21: =IF($J$4='Marks Entry'!$K$3,'Marks Entry'!K20,IF($J$4='Marks Entry'!$W$3,'Marks Entry'!W20,IF($J$4='Marks Entry'!$AI$3,'Marks Entry'!AI20,IF($J$4='Marks Entry'!$AU$3,'Marks Entry'!AU20,IF($J$4='Marks Entry'!$BG$3,'Marks Entry'!BG20,'Marks Entry'!BS20))))) -> 0 | K21: =IF($J$4='Marks Entry'!$K$3,'Marks Entry'!L20,IF($J$4='Marks Entry'!$W$3,'Marks Entry'!X20,IF($J$4='Marks Entry'!$AI$3,'Marks Entry'!AJ20,IF($J$4='Marks Entry'!$AU$3,'Marks Entry'!AV20,IF($J$4='Marks Entry'!$BG$3,'Marks Entry'!BH20,'Marks Entry'!BT20))))) -> 0 | L21: =IF($J$4='Marks Entry'!$K$3,'Marks Entry'!M20,IF($J$4='Marks Entry'!$W$3,'Marks Entry'!Y20,IF($J$4='Marks Entry'!$AI$3,'Marks Entry'!AK20,IF($J$4='Marks Entry'!$AU$3,'Marks Entry'!AW20,IF($J$4='Marks Entry'!$BG$3,'Marks Entry'!BI20,'Marks Entry'!BU20))))) -> 0 | M21: =IF($J$4='Marks Entry'!$K$3,'Marks Entry'!N20,IF($J$4='Marks Entry'!$W$3,'Marks Entry'!Z20,IF($J$4='Marks Entry'!$AI$3,'Marks Entry'!AL20,IF($J$4='Marks Entry'!$AU$3,'Marks Entry'!AX20,IF($J$4='Marks Entry'!$BG$3,'Marks Entry'!BJ20,'Marks Entry'!BV20))))) -> 0 | N21: =IF($J$4='Marks Entry'!$K$3,'Marks Entry'!O20,IF($J$4='Marks Entry'!$W$3,'Marks Entry'!AA20,IF($J$4='Marks Entry'!$AI$3,'Marks Entry'!AM20,IF($J$4='Marks Entry'!$AU$3,'Marks Entry'!AY20,IF($J$4='Marks Entry'!$BG$3,'Marks Entry'!BK20,'Marks Entry'!BW20))))) -> 0 | O21: =IF($J$4='Marks Entry'!$K$3,'Marks Entry'!P20,IF($J$4='Marks Entry'!$W$3,'Marks Entry'!AB20,IF($J$4='Marks Entry'!$AI$3,'Marks Entry'!AN20,IF($J$4='Marks Entry'!$AU$3,'Marks Entry'!AZ20,IF($J$4='Marks Entry'!$BG$3,'Marks Entry'!BL20,'Marks Entry'!BX20))))) -> 0 | P21: =IF($J$4='Marks Entry'!$K$3,'Marks Entry'!R20,IF($J$4='Marks Entry'!$W$3,'Marks Entry'!AD20,IF($J$4='Marks Entry'!$AI$3,'Marks Entry'!AP20,IF($J$4='Marks Entry'!$AU$3,'Marks Entry'!BB20,IF($J$4='Marks Entry'!$BG$3,'Marks Entry'!BN20,'Marks Entry'!BZ20))))) -> 0 | Q21: =IF($J$4='Marks Entry'!$K$3,'Marks Entry'!S20,IF($J$4='Marks Entry'!$W$3,'Marks Entry'!AE20,IF($J$4='Marks Entry'!$AI$3,'Marks Entry'!AQ20,IF($J$4='Marks Entry'!$AU$3,'Marks Entry'!BC20,IF($J$4='Marks Entry'!$BG$3,'Marks Entry'!BO20,'Marks Entry'!CA20))))) -> 0 | R21: =IF($J$4='Marks Entry'!$K$3,'Marks Entry'!T20,IF($J$4='Marks Entry'!$W$3,'Marks Entry'!AF20,IF($J$4='Marks Entry'!$AI$3,'Marks Entry'!AR20,IF($J$4='Marks Entry'!$AU$3,'Marks Entry'!BD20,IF($J$4='Marks Entry'!$BG$3,'Marks Entry'!BP20,'Marks Entry'!CB20))))) -> 0 | S21: =IF($J$4='Marks Entry'!$K$3,'Marks Entry'!U20,IF($J$4='Marks Entry'!$W$3,'Marks Entry'!AG20,IF($J$4='Marks Entry'!$AI$3,'Marks Entry'!AS20,IF($J$4='Marks Entry'!$AU$3,'Marks Entry'!BE20,IF($J$4='Marks Entry'!$BG$3,'Marks Entry'!BQ20,'Marks Entry'!CC20))))) -> 0 | T21: =IF($J$4='Marks Entry'!$K$3,'Marks Entry'!V20,IF($J$4='Marks Entry'!$W$3,'Marks Entry'!AH20,IF($J$4='Marks Entry'!$AI$3,'Marks Entry'!AT20,IF($J$4='Marks Entry'!$AU$3,'Marks Entry'!BF20,IF($J$4='Marks Entry'!$BG$3,'Marks Entry'!BR20,'Marks Entry'!CD20))))) -> 0
... B208: ='Marks Entry'!B207 -> 0 | C208: ='Marks Entry'!C207 -> 0 | D208: ='Marks Entry'!D207 -> 0 | E208: ='Marks Entry'!E207 -> 0 | F208: ='Marks Entry'!F207 -> 0 | G208: ='Marks Entry'!G207 -> 0 | H208: ='Marks Entry'!H207 -> 0 | I208: ='Marks Entry'!I207 -> 0 | J208: =IF($J$4='Marks Entry'!$K$3,'Marks Entry'!K207,IF($J$4='Marks Entry'!$W$3,'Marks Entry'!W207,IF($J$4='Marks Entry'!$AI$3,'Marks Entry'!AI207,IF($J$4='Marks Entry'!$AU$3,'Marks Entry'!AU207,IF($J$4='Marks Entry'!$BG$3,'Marks Entry'!BG207,'Marks Entry'!BS207))))) -> 0 | K208: =IF($J$4='Marks Entry'!$K$3,'Marks Entry'!L207,IF($J$4='Marks Entry'!$W$3,'Marks Entry'!X207,IF($J$4='Marks Entry'!$AI$3,'Marks Entry'!AJ207,IF($J$4='Marks Entry'!$AU$3,'Marks Entry'!AV207,IF($J$4='Marks Entry'!$BG$3,'Marks Entry'!BH207,'Marks Entry'!BT207))))) -> 0 | L208: =IF($J$4='Marks Entry'!$K$3,'Marks Entry'!M207,IF($J$4='Marks Entry'!$W$3,'Marks Entry'!Y207,IF($J$4='Marks Entry'!$AI$3,'Marks Entry'!AK207,IF($J$4='Marks Entry'!$AU$3,'Marks Entry'!AW207,IF($J$4='Marks Entry'!$BG$3,'Marks Entry'!BI207,'Marks Entry'!BU207))))) -> 0 | M208: =IF($J$4='Marks Entry'!$K$3,'Marks Entry'!N207,IF($J$4='Marks Entry'!$W$3,'Marks Entry'!Z207,IF($J$4='Marks Entry'!$AI$3,'Marks Entry'!AL207,IF($J$4='Marks Entry'!$AU$3,'Marks Entry'!AX207,IF($J$4='Marks Entry'!$BG$3,'Marks Entry'!BJ207,'Marks Entry'!BV207))))) -> 0 | N208: =IF($J$4='Marks Entry'!$K$3,'Marks Entry'!O207,IF($J$4='Marks Entry'!$W$3,'Marks Entry'!AA207,IF($J$4='Marks Entry'!$AI$3,'Marks Entry'!AM207,IF($J$4='Marks Entry'!$AU$3,'Marks Entry'!AY207,IF($J$4='Marks Entry'!$BG$3,'Marks Entry'!BK207,'Marks Entry'!BW207))))) -> 0 | O208: =IF($J$4='Marks Entry'!$K$3,'Marks Entry'!P207,IF($J$4='Marks Entry'!$W$3,'Marks Entry'!AB207,IF($J$4='Marks Entry'!$AI$3,'Marks Entry'!AN207,IF($J$4='Marks Entry'!$AU$3,'Marks Entry'!AZ207,IF($J$4='Marks Entry'!$BG$3,'Marks Entry'!BL207,'Marks Entry'!BX207))))) -> 0 | P208: =IF($J$4='Marks Entry'!$K$3,'Marks Entry'!R207,IF($J$4='Marks Entry'!$W$3,'Marks Entry'!AD207,IF($J$4='Marks Entry'!$AI$3,'Marks Entry'!AP207,IF($J$4='Marks Entry'!$AU$3,'Marks Entry'!BB207,IF($J$4='Marks Entry'!$BG$3,'Marks Entry'!BN207,'Marks Entry'!BZ207))))) -> 0 | Q208: =IF($J$4='Marks Entry'!$K$3,'Marks Entry'!S207,IF($J$4='Marks Entry'!$W$3,'Marks Entry'!AE207,IF($J$4='Marks Entry'!$AI$3,'Marks Entry'!AQ207,IF($J$4='Marks Entry'!$AU$3,'Marks Entry'!BC207,IF($J$4='Marks Entry'!$BG$3,'Marks Entry'!BO207,'Marks Entry'!CA207))))) -> 0 | R208: =IF($J$4='Marks Entry'!$K$3,'Marks Entry'!T207,IF($J$4='Marks Entry'!$W$3,'Marks Entry'!AF207,IF($J$4='Marks Entry'!$AI$3,'Marks Entry'!AR207,IF($J$4='Marks Entry'!$AU$3,'Marks Entry'!BD207,IF($J$4='Marks Entry'!$BG$3,'Marks Entry'!BP207,'Marks Entry'!CB207))))) -> 0 | S208: =IF($J$4='Marks Entry'!$K$3,'Marks Entry'!U207,IF($J$4='Marks Entry'!$W$3,'Marks Entry'!AG207,IF($J$4='Marks Entry'!$AI$3,'Marks Entry'!AS207,IF($J$4='Marks Entry'!$AU$3,'Marks Entry'!BE207,IF($J$4='Marks Entry'!$BG$3,'Marks Entry'!BQ207,'Marks Entry'!CC207))))) -> 0 | T208: =IF($J$4='Marks Entry'!$K$3,'Marks Entry'!V207,IF($J$4='Marks Entry'!$W$3,'Marks Entry'!AH207,IF($J$4='Marks Entry'!$AI$3,'Marks Entry'!AT207,IF($J$4='Marks Entry'!$AU$3,'Marks Entry'!BF207,IF($J$4='Marks Entry'!$BG$3,'Marks Entry'!BR207,'Marks Entry'!CD207))))) -> 0

Sheet Result Sheet
B1: =Master!E11 -> 0 | AO1: =B1 -> 0 | BS1: =B1 -> 0 | CW1: =B1 -> 0
B2: School U-Dise Code :- | F2: =Master!E17 -> 081000000 | H2: Session | K2: ='Marks Entry'!K3 -> HINDI | Z2: ='Marks Entry'!W3 -> ENGLISH | AA2: ='Marks Entry'!X3 -> 0 | AB2: ='Marks Entry'!Y3 -> 0 | AC2: ='Marks Entry'!Z3 -> 0 | AD2: ='Marks Entry'!AA3 -> 0 | AE2: ='Marks Entry'!AB3 -> 0 | AF2: ='Marks Entry'!AC3 -> 0 | AG2: ='Marks Entry'!AD3 -> 0 | ... AN2: ='Marks Entry'!AK3 -> 0 | AO2: ='Marks Entry'!AI3 -> SCIENCE | AP2: ='Marks Entry'!AJ3 -> 0 | AQ2: ='Marks Entry'!AK3 -> 0 | AR2: ='Marks Entry'!AL3 -> 0 | AS2: ='Marks Entry'!AM3 -> 0 | AT2: ='Marks Entry'!AN3 -> 0 | AU2: ='Marks Entry'!AO3 -> 0 | AV2: ='Marks Entry'!AP3 -> 0 | ... BC2: ='Marks Entry'!AW3 -> 0 | BD2: ='Marks Entry'!AU3 -> MATHEMATICS | BE2: ='Marks Entry'!AV3 -> 0 | BF2: ='Marks Entry'!AW3 -> 0 | BG2: ='Marks Entry'!AX3 -> 0 | BH2: ='Marks Entry'!AY3 -> 0 | BI2: ='Marks Entry'!AZ3 -> 0 | BJ2: ='Marks Entry'!BA3 -> 0 | BK2: ='Marks Entry'!BB3 -> 0 | ... BR2: ='Marks Entry'!BI3 -> 0 | BS2: ='Marks Entry'!BG3 -> SOCIAL SCIENCE | BT2: ='Marks Entry'!BH3 -> 0 | BU2: ='Marks Entry'!BI3 -> 0 | BV2: ='Marks Entry'!BJ3 -> 0 | BW2: ='Marks Entry'!BK3 -> 0 | BX2: ='Marks Entry'!BL3 -> 0 | BY2: ='Marks Entry'!BM3 -> 0 | BZ2: ='Marks Entry'!BN3 -> 0 | ... CG2: ='Marks Entry'!BU3 -> 0 | CH2: ='Marks Entry'!BS3 -> SANSKRIT | CI2: ='Marks Entry'!BT3 -> 0 | CJ2: ='Marks Entry'!BU3 -> 0 | CK2: ='Marks Entry'!BV3 -> 0 | CL2: ='Marks Entry'!BW3 -> 0 | CM2: ='Marks Entry'!BX3 -> 0 | CN2: ='Marks Entry'!BY3 -> 0 | CO2: ='Marks Entry'!BZ3 -> 0 | ... CV2: ='Marks Entry'!CG3 -> 0 | CW2: ='Marks Entry'!CE3 -> WORK EXP. | DD2: ='Marks Entry'!CL3 -> ART EDU. | DK2: ='Marks Entry'!CS3 -> H & PHY. EDU.
B3: Class - | F3: ='Marks Entry'!F4 -> 8 | H3: ='Marks Entry'!I3 -> 2021-22 | K3: ='Marks Entry'!K4 -> 0 | Z3: ='Marks Entry'!W4 -> 0 | AA3: ='Marks Entry'!X4 -> 0 | AB3: ='Marks Entry'!Y4 -> 0 | AC3: ='Marks Entry'!Z4 -> 0 | AD3: ='Marks Entry'!AA4 -> 0 | AE3: ='Marks Entry'!AB4 -> 0 | AF3: ='Marks Entry'!AC4 -> 0 | AG3: ='Marks Entry'!AD4 -> 0 | ... AN3: ='Marks Entry'!AK4 -> 0 | AO3: ='Marks Entry'!AI4 -> 0 | AP3: ='Marks Entry'!AJ4 -> 0 | AQ3: ='Marks Entry'!AK4 -> 0 | AR3: ='Marks Entry'!AL4 -> 0 | AS3: ='Marks Entry'!AM4 -> 0 | AT3: ='Marks Entry'!AN4 -> 0 | AU3: ='Marks Entry'!AO4 -> 0 | AV3: ='Marks Entry'!AP4 -> 0 | ... BC3: ='Marks Entry'!AW4 -> 0 | BD3: ='Marks Entry'!AU4 -> 0 | BE3: ='Marks Entry'!AV4 -> 0 | BF3: ='Marks Entry'!AW4 -> 0 | BG3: ='Marks Entry'!AX4 -> 0 | BH3: ='Marks Entry'!AY4 -> 0 | BI3: ='Marks Entry'!AZ4 -> 0 | BJ3: ='Marks Entry'!BA4 -> 0 | BK3: ='Marks Entry'!BB4 -> 0 | ... BR3: ='Marks Entry'!BI4 -> 0 | BS3: ='Marks Entry'!BG4 -> 0 | BT3: ='Marks Entry'!BH4 -> 0 | BU3: ='Marks Entry'!BI4 -> 0 | BV3: ='Marks Entry'!BJ4 -> 0 | BW3: ='Marks Entry'!BK4 -> 0 | BX3: ='Marks Entry'!BL4 -> 0 | BY3: ='Marks Entry'!BM4 -> 0 | BZ3: ='Marks Entry'!BN4 -> 0 | ... CG3: ='Marks Entry'!BU4 -> 0 | CH3: ='Marks Entry'!BS4 -> 0 | CI3: ='Marks Entry'!BT4 -> 0 | CJ3: ='Marks Entry'!BU4 -> 0 | CK3: ='Marks Entry'!BV4 -> 0 | CL3: ='Marks Entry'!BW4 -> 0 | CM3: ='Marks Entry'!BX4 -> 0 | CN3: ='Marks Entry'!BY4 -> 0 | CO3: ='Marks Entry'!BZ4 -> 0 | ... CV3: ='Marks Entry'!CG4 -> 0 | CW3: ='Marks Entry'!CE4 -> 0 | DD3: ='Marks Entry'!CL4 -> 0 | DK3: ='Marks Entry'!CS4 -> 0
B4: Student Related Basic Details | K4: ='Marks Entry'!K5 -> 1st Test | L4: ='Marks Entry'!L5 -> 2nd Test | M4: ='Marks Entry'!M5 -> Total Tests | N4: ='Marks Entry'!N5 -> Half Yearly | R4: ='Marks Entry'!R5 -> Total Half Yeary | S4: ='Marks Entry'!S5 -> Total Th.+Int. Evo. | T4: ='Marks Entry'!T5 -> 20 % Of Exam Mark's | U4: ='Marks Entry'!U5 -> Attendance | V4: ='Marks Entry'!V5 -> Sassional Marks | W4: Yaerly Exam | X4: Grand Total | Y4: Grades (A+/A/B/C/D/E) | Z4: ='Marks Entry'!W5 -> 1st Test | AA4: ='Marks Entry'!X5 -> 2nd Test | AB4: ='Marks Entry'!Y5 -> Total Tests | AC4: ='Marks Entry'!Z5 -> Half Yearly | AD4: ='Marks Entry'!AA5 -> 0 | AE4: ='Marks Entry'!AB5 -> 0 | AF4: ='Marks Entry'!AC5 -> 0 | AG4: ='Marks Entry'!AD5 -> Total Half Yeary | ... AK4: ='Marks Entry'!AH5 -> Sassional Marks | AL4: Yaerly Exam | AM4: Grand Total | AN4: Grades (A+/A/B/C/D/E) | AO4: ='Marks Entry'!AI5 -> 1st Test | AP4: ='Marks Entry'!AJ5 -> 2nd Test | AQ4: ='Marks Entry'!AK5 -> Total Tests | AR4: ='Marks Entry'!AL5 -> Half Yearly | AS4: ='Marks Entry'!AM5 -> 0 | AT4: ='Marks Entry'!AN5 -> 0 | AU4: ='Marks Entry'!AO5 -> 0 | AV4: ='Marks Entry'!AP5 -> Total Half Yeary | ... AZ4: ='Marks Entry'!AT5 -> Sassional Marks | BA4: Yaerly Exam | BB4: Grand Total | BC4: Grades (A+/A/B/C/D/E) | BD4: ='Marks Entry'!AU5 -> 1st Test | BE4: ='Marks Entry'!AV5 -> 2nd Test | BF4: ='Marks Entry'!AW5 -> Total Tests | BG4: ='Marks Entry'!AX5 -> Half Yearly | BH4: ='Marks Entry'!AY5 -> 0 | BI4: ='Marks Entry'!AZ5 -> 0 | BJ4: ='Marks Entry'!BA5 -> 0 | BK4: ='Marks Entry'!BB5 -> Total Half Yeary | ... BO4: ='Marks Entry'!BF5 -> Sassional Marks | BP4: Yaerly Exam | BQ4: Grand Total | BR4: Grades (A+/A/B/C/D/E) | BS4: ='Marks Entry'!BG5 -> 1st Test | BT4: ='Marks Entry'!BH5 -> 2nd Test | BU4: ='Marks Entry'!BI5 -> Total Tests | BV4: ='Marks Entry'!BJ5 -> Half Yearly | BW4: ='Marks Entry'!BK5 -> 0 | BX4: ='Marks Entry'!BL5 -> 0 | BY4: ='Marks Entry'!BM5 -> 0 | BZ4: ='Marks Entry'!BN5 -> Total Half Yeary | ... CD4: ='Marks Entry'!BR5 -> Sassional Marks | CE4: Yaerly Exam | CF4: Grand Total | CG4: Grades (A+/A/B/C/D/E) | CH4: ='Marks Entry'!BS5 -> 1st Test | CI4: ='Marks Entry'!BT5 -> 2nd Test | CJ4: ='Marks Entry'!BU5 -> Total Tests | CK4: ='Marks Entry'!BV5 -> Half Yearly | CL4: ='Marks Entry'!BW5 -> 0 | CM4: ='Marks Entry'!BX5 -> 0 | CN4: ='Marks Entry'!BY5 -> 0 | CO4: ='Marks Entry'!BZ5 -> Total Half Yeary | ... CS4: ='Marks Entry'!CD5 -> Sassional Marks | CT4: Yaerly Exam | CU4: Grand Total | CV4: Grades (A+/A/B/C/D/E) | CW4: ='Marks Entry'!CE5 -> 1st Test | CX4: ='Marks Entry'!CF5 -> 2nd Test | CY4: ='Marks Entry'!CG5 -> 3rd Test | CZ4: ='Marks Entry'!CH5 -> 4th Test | DA4: ='Marks Entry'!CI5 -> 5th Test | DB4: ='Marks Entry'!CJ5 -> Total (Sass. Mark) | DC4: ='Marks Entry'!CK5 -> Grd | DD4: ='Marks Entry'!CL5 -> 1st Test | ... DQ4: ='Marks Entry'!CY5 -> Grd
B5: Sr. No. | C5: Class | D5: Scholar Number | E5: School Roll Number | F5: Board Roll Number | G5: Student's Name | H5: Father's Name | I5: Mother's Name | J5: Date Of Birth | K5: ='Marks Entry'!K6 -> Theory | L5: ='Marks Entry'!L6 -> Theory | N5: ='Marks Entry'!N6 -> Theory | O5: ='Marks Entry'!O6 -> Internal Evolution | P5: ='Marks Entry'!P6 -> Oral Exam | Z5: ='Marks Entry'!W6 -> Theory | AA5: ='Marks Entry'!X6 -> Theory | AB5: ='Marks Entry'!Y6 -> 0 | AC5: ='Marks Entry'!Z6 -> Theory | AD5: ='Marks Entry'!AA6 -> Internal Evolution | AE5: ='Marks Entry'!AB6 -> Oral Exam | AF5: ='Marks Entry'!AC6 -> 0 | AG5: ='Marks Entry'!AD6 -> 0 | ... AK5: ='Marks Entry'!AH6 -> 0 | AO5: ='Marks Entry'!AI6 -> Theory | AP5: ='Marks Entry'!AJ6 -> Theory | AQ5: ='Marks Entry'!AK6 -> 0 | AR5: ='Marks Entry'!AL6 -> Theory | AS5: ='Marks Entry'!AM6 -> Internal Evolution | AT5: ='Marks Entry'!AN6 -> Oral Exam | AU5: ='Marks Entry'!AO6 -> 0 | AV5: ='Marks Entry'!AP6 -> 0 | ... AZ5: ='Marks Entry'!AT6 -> 0 | BD5: ='Marks Entry'!AU6 -> Theory | BE5: ='Marks Entry'!AV6 -> Theory | BF5: ='Marks Entry'!AW6 -> 0 | BG5: ='Marks Entry'!AX6 -> Theory | BH5: ='Marks Entry'!AY6 -> Internal Evolution | BI5: ='Marks Entry'!AZ6 -> Oral Exam | BJ5: ='Marks Entry'!BA6 -> 0 | BK5: ='Marks Entry'!BB6 -> 0 | ... BO5: ='Marks Entry'!BF6 -> 0 | BS5: ='Marks Entry'!BG6 -> Theory | BT5: ='Marks Entry'!BH6 -> Theory | BU5: ='Marks Entry'!BI6 -> 0 | BV5: ='Marks Entry'!BJ6 -> Theory | BW5: ='Marks Entry'!BK6 -> Internal Evolution | BX5: ='Marks Entry'!BL6 -> Oral Exam | BY5: ='Marks Entry'!BM6 -> 0 | BZ5: ='Marks Entry'!BN6 -> 0 | ... CD5: ='Marks Entry'!BR6 -> 0 | CH5: ='Marks Entry'!BS6 -> Theory | CI5: ='Marks Entry'!BT6 -> Theory | CJ5: ='Marks Entry'!BU6 -> 0 | CK5: ='Marks Entry'!BV6 -> Theory | CL5: ='Marks Entry'!BW6 -> Internal Evolution | CM5: ='Marks Entry'!BX6 -> Oral Exam | CN5: ='Marks Entry'!BY6 -> 0 | CO5: ='Marks Entry'!BZ6 -> 0 | ... CS5: ='Marks Entry'!CD6 -> 0 | CW5: ='Marks Entry'!CE6 -> Activity Based | CX5: ='Marks Entry'!CF6 -> Activity Based | CY5: ='Marks Entry'!CG6 -> Activity Based | CZ5: ='Marks Entry'!CH6 -> Activity Based | DA5: ='Marks Entry'!CI6 -> Activity Based | DC5: ='Marks Entry'!CK6 -> A/B/C/D/E | DD5: ='Marks Entry'!CL6 -> Activity Based | DE5: ='Marks Entry'!CM6 -> Activity Based | DF5: ='Marks Entry'!CN6 -> Activity Based | DG5: ='Marks Entry'!CO6 -> Activity Based | DH5: ='Marks Entry'!CP6 -> Activity Based | DJ5: ='Marks Entry'!CR6 -> A/B/C/D/E | DK5: ='Marks Entry'!CS6 -> Activity Based | DL5: ='Marks Entry'!CT6 -> Activity Based | DM5: ='Marks Entry'!CU6 -> Activity Based | DN5: ='Marks Entry'!CV6 -> Activity Based | DO5: ='Marks Entry'!CW6 -> Activity Based | DQ5: ='Marks Entry'!CY6 -> A/B/C/D/E
K6: ='Marks Entry'!K7 -> 20 | L6: ='Marks Entry'!L7 -> 20 | M6: ='Marks Entry'!M7 -> 40 | N6: ='Marks Entry'!N7 -> 42 | O6: ='Marks Entry'!O7 -> 12 | P6: ='Marks Entry'!P7 -> 6 | Q6: ='Marks Entry'!Q7 -> 0 | R6: ='Marks Entry'!R7 -> 60 | ... V6: ='Marks Entry'!V7 -> 20 | Z6: ='Marks Entry'!W7 -> 20 | AA6: ='Marks Entry'!X7 -> 20 | AB6: ='Marks Entry'!Y7 -> 40 | AC6: ='Marks Entry'!Z7 -> 42 | AD6: ='Marks Entry'!AA7 -> 12 | AE6: ='Marks Entry'!AB7 -> 6 | AF6: ='Marks Entry'!AC7 -> 0 | AG6: ='Marks Entry'!AD7 -> 60 | ... AK6: ='Marks Entry'!AH7 -> 20 | AO6: ='Marks Entry'!AI7 -> 20 | AP6: ='Marks Entry'!AJ7 -> 20 | AQ6: ='Marks Entry'!AK7 -> 40 | AR6: ='Marks Entry'!AL7 -> 42 | AS6: ='Marks Entry'!AM7 -> 12 | AT6: ='Marks Entry'!AN7 -> 6 | AU6: ='Marks Entry'!AO7 -> 0 | AV6: ='Marks Entry'!AP7 -> 60 | ... AZ6: ='Marks Entry'!AT7 -> 20 | BD6: ='Marks Entry'!AU7 -> 20 | BE6: ='Marks Entry'!AV7 -> 20 | BF6: ='Marks Entry'!AW7 -> 40 | BG6: ='Marks Entry'!AX7 -> 42 | BH6: ='Marks Entry'!AY7 -> 12 | BI6: ='Marks Entry'!AZ7 -> 6 | BJ6: ='Marks Entry'!BA7 -> 0 | BK6: ='Marks Entry'!BB7 -> 60 | ... BO6: ='Marks Entry'!BF7 -> 20 | BS6: ='Marks Entry'!BG7 -> 20 | BT6: ='Marks Entry'!BH7 -> 20 | BU6: ='Marks Entry'!BI7 -> 40 | BV6: ='Marks Entry'!BJ7 -> 42 | BW6: ='Marks Entry'!BK7 -> 12 | BX6: ='Marks Entry'!BL7 -> 6 | BY6: ='Marks Entry'!BM7 -> 0 | BZ6: ='Marks Entry'!BN7 -> 60 | ... CD6: ='Marks Entry'!BR7 -> 20 | CH6: ='Marks Entry'!BS7 -> 20 | CI6: ='Marks Entry'!BT7 -> 20 | CJ6: ='Marks Entry'!BU7 -> 40 | CK6: ='Marks Entry'!BV7 -> 42 | CL6: ='Marks Entry'!BW7 -> 12 | CM6: ='Marks Entry'!BX7 -> 6 | CN6: ='Marks Entry'!BY7 -> 0 | CO6: ='Marks Entry'!BZ7 -> 60 | ... CS6: ='Marks Entry'!CD7 -> 20 | CW6: ='Marks Entry'!CE7 -> 20 | CX6: ='Marks Entry'!CF7 -> 20 | CY6: ='Marks Entry'!CG7 -> 20 | CZ6: ='Marks Entry'!CH7 -> 20 | DA6: ='Marks Entry'!CI7 -> 20 | DB6: ='Marks Entry'!CJ7 -> 100 | DD6: ='Marks Entry'!CL7 -> 20 | DE6: ='Marks Entry'!CM7 -> 20 | DF6: ='Marks Entry'!CN7 -> 20 | DG6: ='Marks Entry'!CO7 -> 20 | DH6: ='Marks Entry'!CP7 -> 20 | DI6: ='Marks Entry'!CQ7 -> 100 | DK6: ='Marks Entry'!CS7 -> 20 | DL6: ='Marks Entry'!CT7 -> 20 | DM6: ='Marks Entry'!CU7 -> 20 | DN6: ='Marks Entry'!CV7 -> 20 | DO6: ='Marks Entry'!CW7 -> 20 | DP6: ='Marks Entry'!CX7 -> 100
A7: =F7 -> 0 | B7: ='Marks Entry'!B8 -> 1 | C7: ='Marks Entry'!C8 -> 8 | D7: ='Marks Entry'!D8 -> 0 | E7: ='Marks Entry'!E8 -> 0 | F7: ='Marks Entry'!F8 -> 0 | G7: ='Marks Entry'!G8 -> 0 | H7: ='Marks Entry'!H8 -> 0 | I7: ='Marks Entry'!I8 -> 0 | ... V7: ='Marks Entry'!V8 -> 0 | Z7: ='Marks Entry'!W8 -> 0 | AA7: ='Marks Entry'!X8 -> 0 | AB7: ='Marks Entry'!Y8 -> 0 | AC7: ='Marks Entry'!Z8 -> 0 | AD7: ='Marks Entry'!AA8 -> 0 | AE7: ='Marks Entry'!AB8 -> 0 | AF7: ='Marks Entry'!AC8 -> 0 | AG7: ='Marks Entry'!AD8 -> 0 | ... AK7: ='Marks Entry'!AH8 -> 0 | AO7: ='Marks Entry'!AI8 -> 0 | AP7: ='Marks Entry'!AJ8 -> 0 | AQ7: ='Marks Entry'!AK8 -> 0 | AR7: ='Marks Entry'!AL8 -> 0 | AS7: ='Marks Entry'!AM8 -> 0 | AT7: ='Marks Entry'!AN8 -> 0 | AU7: ='Marks Entry'!AO8 -> 0 | AV7: ='Marks Entry'!AP8 -> 0 | ... AZ7: ='Marks Entry'!AT8 -> 0 | BD7: ='Marks Entry'!AU8 -> 0 | BE7: ='Marks Entry'!AV8 -> 0 | BF7: ='Marks Entry'!AW8 -> 0 | BG7: ='Marks Entry'!AX8 -> 0 | BH7: ='Marks Entry'!AY8 -> 0 | BI7: ='Marks Entry'!AZ8 -> 0 | BJ7: ='Marks Entry'!BA8 -> 0 | BK7: ='Marks Entry'!BB8 -> 0 | ... BO7: ='Marks Entry'!BF8 -> 0 | BS7: ='Marks Entry'!BG8 -> 0 | BT7: ='Marks Entry'!BH8 -> 0 | BU7: ='Marks Entry'!BI8 -> 0 | BV7: ='Marks Entry'!BJ8 -> 0 | BW7: ='Marks Entry'!BK8 -> 0 | BX7: ='Marks Entry'!BL8 -> 0 | BY7: ='Marks Entry'!BM8 -> 0 | BZ7: ='Marks Entry'!BN8 -> 0 | ... CD7: ='Marks Entry'!BR8 -> 0 | CH7: ='Marks Entry'!BS8 -> 0 | CI7: ='Marks Entry'!BT8 -> 0 | CJ7: ='Marks Entry'!BU8 -> 0 | CK7: ='Marks Entry'!BV8 -> 0 | CL7: ='Marks Entry'!BW8 -> 0 | CM7: ='Marks Entry'!BX8 -> 0 | CN7: ='Marks Entry'!BY8 -> 0 | CO7: ='Marks Entry'!BZ8 -> 0 | ... CS7: ='Marks Entry'!CD8 -> 0 | CW7: ='Marks Entry'!CE8 -> 0 | CX7: ='Marks Entry'!CF8 -> 0 | CY7: ='Marks Entry'!CG8 -> 0 | CZ7: ='Marks Entry'!CH8 -> 0 | DA7: ='Marks Entry'!CI8 -> 0 | DB7: ='Marks Entry'!CJ8 -> 0 | DC7: ='Marks Entry'!CK8 -> E | DD7: ='Marks Entry'!CL8 -> 0 | ... DQ7: ='Marks Entry'!CY8 -> E
A8: =F8 -> 0 | B8: ='Marks Entry'!B9 -> 0 | C8: ='Marks Entry'!C9 -> 0 | D8: ='Marks Entry'!D9 -> 0 | E8: ='Marks Entry'!E9 -> 0 | F8: ='Marks Entry'!F9 -> 0 | G8: ='Marks Entry'!G9 -> 0 | H8: ='Marks Entry'!H9 -> 0 | I8: ='Marks Entry'!I9 -> 0 | ... V8: ='Marks Entry'!V9 -> 0 | Z8: ='Marks Entry'!W9 -> 0 | AA8: ='Marks Entry'!X9 -> 0 | AB8: ='Marks Entry'!Y9 -> 0 | AC8: ='Marks Entry'!Z9 -> 0 | AD8: ='Marks Entry'!AA9 -> 0 | AE8: ='Marks Entry'!AB9 -> 0 | AF8: ='Marks Entry'!AC9 -> 0 | AG8: ='Marks Entry'!AD9 -> 0 | ... AK8: ='Marks Entry'!AH9 -> 0 | AO8: ='Marks Entry'!AI9 -> 0 | AP8: ='Marks Entry'!AJ9 -> 0 | AQ8: ='Marks Entry'!AK9 -> 0 | AR8: ='Marks Entry'!AL9 -> 0 | AS8: ='Marks Entry'!AM9 -> 0 | AT8: ='Marks Entry'!AN9 -> 0 | AU8: ='Marks Entry'!AO9 -> 0 | AV8: ='Marks Entry'!AP9 -> 0 | ... AZ8: ='Marks Entry'!AT9 -> 0 | BD8: ='Marks Entry'!AU9 -> 0 | BE8: ='Marks Entry'!AV9 -> 0 | BF8: ='Marks Entry'!AW9 -> 0 | BG8: ='Marks Entry'!AX9 -> 0 | BH8: ='Marks Entry'!AY9 -> 0 | BI8: ='Marks Entry'!AZ9 -> 0 | BJ8: ='Marks Entry'!BA9 -> 0 | BK8: ='Marks Entry'!BB9 -> 0 | ... BO8: ='Marks Entry'!BF9 -> 0 | BS8: ='Marks Entry'!BG9 -> 0 | BT8: ='Marks Entry'!BH9 -> 0 | BU8: ='Marks Entry'!BI9 -> 0 | BV8: ='Marks Entry'!BJ9 -> 0 | BW8: ='Marks Entry'!BK9 -> 0 | BX8: ='Marks Entry'!BL9 -> 0 | BY8: ='Marks Entry'!BM9 -> 0 | BZ8: ='Marks Entry'!BN9 -> 0 | ... CD8: ='Marks Entry'!BR9 -> 0 | CH8: ='Marks Entry'!BS9 -> 0 | CI8: ='Marks Entry'!BT9 -> 0 | CJ8: ='Marks Entry'!BU9 -> 0 | CK8: ='Marks Entry'!BV9 -> 0 | CL8: ='Marks Entry'!BW9 -> 0 | CM8: ='Marks Entry'!BX9 -> 0 | CN8: ='Marks Entry'!BY9 -> 0 | CO8: ='Marks Entry'!BZ9 -> 0 | ... CS8: ='Marks Entry'!CD9 -> 0 | CW8: ='Marks Entry'!CE9 -> 0 | CX8: ='Marks Entry'!CF9 -> 0 | CY8: ='Marks Entry'!CG9 -> 0 | CZ8: ='Marks Entry'!CH9 -> 0 | DA8: ='Marks Entry'!CI9 -> 0 | DB8: ='Marks Entry'!CJ9 -> 0 | DC8: ='Marks Entry'!CK9 -> E | DD8: ='Marks Entry'!CL9 -> 0 | ... DQ8: ='Marks Entry'!CY9 -> E
A9: =F9 -> 0 | B9: ='Marks Entry'!B10 -> 0 | C9: ='Marks Entry'!C10 -> 0 | D9: ='Marks Entry'!D10 -> 0 | E9: ='Marks Entry'!E10 -> 0 | F9: ='Marks Entry'!F10 -> 0 | G9: ='Marks Entry'!G10 -> 0 | H9: ='Marks Entry'!H10 -> 0 | I9: ='Marks Entry'!I10 -> 0 | ... V9: ='Marks Entry'!V10 -> 0 | Z9: ='Marks Entry'!W10 -> 0 | AA9: ='Marks Entry'!X10 -> 0 | AB9: ='Marks Entry'!Y10 -> 0 | AC9: ='Marks Entry'!Z10 -> 0 | AD9: ='Marks Entry'!AA10 -> 0 | AE9: ='Marks Entry'!AB10 -> 0 | AF9: ='Marks Entry'!AC10 -> 0 | AG9: ='Marks Entry'!AD10 -> 0 | ... AK9: ='Marks Entry'!AH10 -> 0 | AO9: ='Marks Entry'!AI10 -> 0 | AP9: ='Marks Entry'!AJ10 -> 0 | AQ9: ='Marks Entry'!AK10 -> 0 | AR9: ='Marks Entry'!AL10 -> 0 | AS9: ='Marks Entry'!AM10 -> 0 | AT9: ='Marks Entry'!AN10 -> 0 | AU9: ='Marks Entry'!AO10 -> 0 | AV9: ='Marks Entry'!AP10 -> 0 | ... AZ9: ='Marks Entry'!AT10 -> 0 | BD9: ='Marks Entry'!AU10 -> 0 | BE9: ='Marks Entry'!AV10 -> 0 | BF9: ='Marks Entry'!AW10 -> 0 | BG9: ='Marks Entry'!AX10 -> 0 | BH9: ='Marks Entry'!AY10 -> 0 | BI9: ='Marks Entry'!AZ10 -> 0 | BJ9: ='Marks Entry'!BA10 -> 0 | BK9: ='Marks Entry'!BB10 -> 0 | ... BO9: ='Marks Entry'!BF10 -> 0 | BS9: ='Marks Entry'!BG10 -> 0 | BT9: ='Marks Entry'!BH10 -> 0 | BU9: ='Marks Entry'!BI10 -> 0 | BV9: ='Marks Entry'!BJ10 -> 0 | BW9: ='Marks Entry'!BK10 -> 0 | BX9: ='Marks Entry'!BL10 -> 0 | BY9: ='Marks Entry'!BM10 -> 0 | BZ9: ='Marks Entry'!BN10 -> 0 | ... CD9: ='Marks Entry'!BR10 -> 0 | CH9: ='Marks Entry'!BS10 -> 0 | CI9: ='Marks Entry'!BT10 -> 0 | CJ9: ='Marks Entry'!BU10 -> 0 | CK9: ='Marks Entry'!BV10 -> 0 | CL9: ='Marks Entry'!BW10 -> 0 | CM9: ='Marks Entry'!BX10 -> 0 | CN9: ='Marks Entry'!BY10 -> 0 | CO9: ='Marks Entry'!BZ10 -> 0 | ... CS9: ='Marks Entry'!CD10 -> 0 | CW9: ='Marks Entry'!CE10 -> 0 | CX9: ='Marks Entry'!CF10 -> 0 | CY9: ='Marks Entry'!CG10 -> 0 | CZ9: ='Marks Entry'!CH10 -> 0 | DA9: ='Marks Entry'!CI10 -> 0 | DB9: ='Marks Entry'!CJ10 -> 0 | DC9: ='Marks Entry'!CK10 -> E | DD9: ='Marks Entry'!CL10 -> 0 | ... DQ9: ='Marks Entry'!CY10 -> E
A10: =F10 -> 0 | B10: ='Marks Entry'!B11 -> 0 | C10: ='Marks Entry'!C11 -> 0 | D10: ='Marks Entry'!D11 -> 0 | E10: ='Marks Entry'!E11 -> 0 | F10: ='Marks Entry'!F11 -> 0 | G10: ='Marks Entry'!G11 -> 0 | H10: ='Marks Entry'!H11 -> 0 | I10: ='Marks Entry'!I11 -> 0 | ... V10: ='Marks Entry'!V11 -> 0 | Z10: ='Marks Entry'!W11 -> 0 | AA10: ='Marks Entry'!X11 -> 0 | AB10: ='Marks Entry'!Y11 -> 0 | AC10: ='Marks Entry'!Z11 -> 0 | AD10: ='Marks Entry'!AA11 -> 0 | AE10: ='Marks Entry'!AB11 -> 0 | AF10: ='Marks Entry'!AC11 -> 0 | AG10: ='Marks Entry'!AD11 -> 0 | ... AK10: ='Marks Entry'!AH11 -> 0 | AO10: ='Marks Entry'!AI11 -> 0 | AP10: ='Marks Entry'!AJ11 -> 0 | AQ10: ='Marks Entry'!AK11 -> 0 | AR10: ='Marks Entry'!AL11 -> 0 | AS10: ='Marks Entry'!AM11 -> 0 | AT10: ='Marks Entry'!AN11 -> 0 | AU10: ='Marks Entry'!AO11 -> 0 | AV10: ='Marks Entry'!AP11 -> 0 | ... AZ10: ='Marks Entry'!AT11 -> 0 | BD10: ='Marks Entry'!AU11 -> 0 | BE10: ='Marks Entry'!AV11 -> 0 | BF10: ='Marks Entry'!AW11 -> 0 | BG10: ='Marks Entry'!AX11 -> 0 | BH10: ='Marks Entry'!AY11 -> 0 | BI10: ='Marks Entry'!AZ11 -> 0 | BJ10: ='Marks Entry'!BA11 -> 0 | BK10: ='Marks Entry'!BB11 -> 0 | ... BO10: ='Marks Entry'!BF11 -> 0 | BS10: ='Marks Entry'!BG11 -> 0 | BT10: ='Marks Entry'!BH11 -> 0 | BU10: ='Marks Entry'!BI11 -> 0 | BV10: ='Marks Entry'!BJ11 -> 0 | BW10: ='Marks Entry'!BK11 -> 0 | BX10: ='Marks Entry'!BL11 -> 0 | BY10: ='Marks Entry'!BM11 -> 0 | BZ10: ='Marks Entry'!BN11 -> 0 | ... CD10: ='Marks Entry'!BR11 -> 0 | CH10: ='Marks Entry'!BS11 -> 0 | CI10: ='Marks Entry'!BT11 -> 0 | CJ10: ='Marks Entry'!BU11 -> 0 | CK10: ='Marks Entry'!BV11 -> 0 | CL10: ='Marks Entry'!BW11 -> 0 | CM10: ='Marks Entry'!BX11 -> 0 | CN10: ='Marks Entry'!BY11 -> 0 | CO10: ='Marks Entry'!BZ11 -> 0 | ... CS10: ='Marks Entry'!CD11 -> 0 | CW10: ='Marks Entry'!CE11 -> 0 | CX10: ='Marks Entry'!CF11 -> 0 | CY10: ='Marks Entry'!CG11 -> 0 | CZ10: ='Marks Entry'!CH11 -> 0 | DA10: ='Marks Entry'!CI11 -> 0 | DB10: ='Marks Entry'!CJ11 -> 0 | DC10: ='Marks Entry'!CK11 -> E | DD10: ='Marks Entry'!CL11 -> 0 | ... DQ10: ='Marks Entry'!CY11 -> E
A11: =F11 -> 0 | B11: ='Marks Entry'!B12 -> 0 | C11: ='Marks Entry'!C12 -> 0 | D11: ='Marks Entry'!D12 -> 0 | E11: ='Marks Entry'!E12 -> 0 | F11: ='Marks Entry'!F12 -> 0 | G11: ='Marks Entry'!G12 -> 0 | H11: ='Marks Entry'!H12 -> 0 | I11: ='Marks Entry'!I12 -> 0 | ... V11: ='Marks Entry'!V12 -> 0 | Z11: ='Marks Entry'!W12 -> 0 | AA11: ='Marks Entry'!X12 -> 0 | AB11: ='Marks Entry'!Y12 -> 0 | AC11: ='Marks Entry'!Z12 -> 0 | AD11: ='Marks Entry'!AA12 -> 0 | AE11: ='Marks Entry'!AB12 -> 0 | AF11: ='Marks Entry'!AC12 -> 0 | AG11: ='Marks Entry'!AD12 -> 0 | ... AK11: ='Marks Entry'!AH12 -> 0 | AO11: ='Marks Entry'!AI12 -> 0 | AP11: ='Marks Entry'!AJ12 -> 0 | AQ11: ='Marks Entry'!AK12 -> 0 | AR11: ='Marks Entry'!AL12 -> 0 | AS11: ='Marks Entry'!AM12 -> 0 | AT11: ='Marks Entry'!AN12 -> 0 | AU11: ='Marks Entry'!AO12 -> 0 | AV11: ='Marks Entry'!AP12 -> 0 | ... AZ11: ='Marks Entry'!AT12 -> 0 | BD11: ='Marks Entry'!AU12 -> 0 | BE11: ='Marks Entry'!AV12 -> 0 | BF11: ='Marks Entry'!AW12 -> 0 | BG11: ='Marks Entry'!AX12 -> 0 | BH11: ='Marks Entry'!AY12 -> 0 | BI11: ='Marks Entry'!AZ12 -> 0 | BJ11: ='Marks Entry'!BA12 -> 0 | BK11: ='Marks Entry'!BB12 -> 0 | ... BO11: ='Marks Entry'!BF12 -> 0 | BS11: ='Marks Entry'!BG12 -> 0 | BT11: ='Marks Entry'!BH12 -> 0 | BU11: ='Marks Entry'!BI12 -> 0 | BV11: ='Marks Entry'!BJ12 -> 0 | BW11: ='Marks Entry'!BK12 -> 0 | BX11: ='Marks Entry'!BL12 -> 0 | BY11: ='Marks Entry'!BM12 -> 0 | BZ11: ='Marks Entry'!BN12 -> 0 | ... CD11: ='Marks Entry'!BR12 -> 0 | CH11: ='Marks Entry'!BS12 -> 0 | CI11: ='Marks Entry'!BT12 -> 0 | CJ11: ='Marks Entry'!BU12 -> 0 | CK11: ='Marks Entry'!BV12 -> 0 | CL11: ='Marks Entry'!BW12 -> 0 | CM11: ='Marks Entry'!BX12 -> 0 | CN11: ='Marks Entry'!BY12 -> 0 | CO11: ='Marks Entry'!BZ12 -> 0 | ... CS11: ='Marks Entry'!CD12 -> 0 | CW11: ='Marks Entry'!CE12 -> 0 | CX11: ='Marks Entry'!CF12 -> 0 | CY11: ='Marks Entry'!CG12 -> 0 | CZ11: ='Marks Entry'!CH12 -> 0 | DA11: ='Marks Entry'!CI12 -> 0 | DB11: ='Marks Entry'!CJ12 -> 0 | DC11: ='Marks Entry'!CK12 -> E | DD11: ='Marks Entry'!CL12 -> 0 | ... DQ11: ='Marks Entry'!CY12 -> E
A12: =F12 -> 0 | B12: ='Marks Entry'!B13 -> 0 | C12: ='Marks Entry'!C13 -> 0 | D12: ='Marks Entry'!D13 -> 0 | E12: ='Marks Entry'!E13 -> 0 | F12: ='Marks Entry'!F13 -> 0 | G12: ='Marks Entry'!G13 -> 0 | H12: ='Marks Entry'!H13 -> 0 | I12: ='Marks Entry'!I13 -> 0 | ... V12: ='Marks Entry'!V13 -> 0 | Z12: ='Marks Entry'!W13 -> 0 | AA12: ='Marks Entry'!X13 -> 0 | AB12: ='Marks Entry'!Y13 -> 0 | AC12: ='Marks Entry'!Z13 -> 0 | AD12: ='Marks Entry'!AA13 -> 0 | AE12: ='Marks Entry'!AB13 -> 0 | AF12: ='Marks Entry'!AC13 -> 0 | AG12: ='Marks Entry'!AD13 -> 0 | ... AK12: ='Marks Entry'!AH13 -> 0 | AO12: ='Marks Entry'!AI13 -> 0 | AP12: ='Marks Entry'!AJ13 -> 0 | AQ12: ='Marks Entry'!AK13 -> 0 | AR12: ='Marks Entry'!AL13 -> 0 | AS12: ='Marks Entry'!AM13 -> 0 | AT12: ='Marks Entry'!AN13 -> 0 | AU12: ='Marks Entry'!AO13 -> 0 | AV12: ='Marks Entry'!AP13 -> 0 | ... AZ12: ='Marks Entry'!AT13 -> 0 | BD12: ='Marks Entry'!AU13 -> 0 | BE12: ='Marks Entry'!AV13 -> 0 | BF12: ='Marks Entry'!AW13 -> 0 | BG12: ='Marks Entry'!AX13 -> 0 | BH12: ='Marks Entry'!AY13 -> 0 | BI12: ='Marks Entry'!AZ13 -> 0 | BJ12: ='Marks Entry'!BA13 -> 0 | BK12: ='Marks Entry'!BB13 -> 0 | ... BO12: ='Marks Entry'!BF13 -> 0 | BS12: ='Marks Entry'!BG13 -> 0 | BT12: ='Marks Entry'!BH13 -> 0 | BU12: ='Marks Entry'!BI13 -> 0 | BV12: ='Marks Entry'!BJ13 -> 0 | BW12: ='Marks Entry'!BK13 -> 0 | BX12: ='Marks Entry'!BL13 -> 0 | BY12: ='Marks Entry'!BM13 -> 0 | BZ12: ='Marks Entry'!BN13 -> 0 | ... CD12: ='Marks Entry'!BR13 -> 0 | CH12: ='Marks Entry'!BS13 -> 0 | CI12: ='Marks Entry'!BT13 -> 0 | CJ12: ='Marks Entry'!BU13 -> 0 | CK12: ='Marks Entry'!BV13 -> 0 | CL12: ='Marks Entry'!BW13 -> 0 | CM12: ='Marks Entry'!BX13 -> 0 | CN12: ='Marks Entry'!BY13 -> 0 | CO12: ='Marks Entry'!BZ13 -> 0 | ... CS12: ='Marks Entry'!CD13 -> 0 | CW12: ='Marks Entry'!CE13 -> 0 | CX12: ='Marks Entry'!CF13 -> 0 | CY12: ='Marks Entry'!CG13 -> 0 | CZ12: ='Marks Entry'!CH13 -> 0 | DA12: ='Marks Entry'!CI13 -> 0 | DB12: ='Marks Entry'!CJ13 -> 0 | DC12: ='Marks Entry'!CK13 -> E | DD12: ='Marks Entry'!CL13 -> 0 | ... DQ12: ='Marks Entry'!CY13 -> E
A13: =F13 -> 0 | B13: ='Marks Entry'!B14 -> 0 | C13: ='Marks Entry'!C14 -> 0 | D13: ='Marks Entry'!D14 -> 0 | E13: ='Marks Entry'!E14 -> 0 | F13: ='Marks Entry'!F14 -> 0 | G13: ='Marks Entry'!G14 -> 0 | H13: ='Marks Entry'!H14 -> 0 | I13: ='Marks Entry'!I14 -> 0 | ... V13: ='Marks Entry'!V14 -> 0 | Z13: ='Marks Entry'!W14 -> 0 | AA13: ='Marks Entry'!X14 -> 0 | AB13: ='Marks Entry'!Y14 -> 0 | AC13: ='Marks Entry'!Z14 -> 0 | AD13: ='Marks Entry'!AA14 -> 0 | AE13: ='Marks Entry'!AB14 -> 0 | AF13: ='Marks Entry'!AC14 -> 0 | AG13: ='Marks Entry'!AD14 -> 0 | ... AK13: ='Marks Entry'!AH14 -> 0 | AO13: ='Marks Entry'!AI14 -> 0 | AP13: ='Marks Entry'!AJ14 -> 0 | AQ13: ='Marks Entry'!AK14 -> 0 | AR13: ='Marks Entry'!AL14 -> 0 | AS13: ='Marks Entry'!AM14 -> 0 | AT13: ='Marks Entry'!AN14 -> 0 | AU13: ='Marks Entry'!AO14 -> 0 | AV13: ='Marks Entry'!AP14 -> 0 | ... AZ13: ='Marks Entry'!AT14 -> 0 | BD13: ='Marks Entry'!AU14 -> 0 | BE13: ='Marks Entry'!AV14 -> 0 | BF13: ='Marks Entry'!AW14 -> 0 | BG13: ='Marks Entry'!AX14 -> 0 | BH13: ='Marks Entry'!AY14 -> 0 | BI13: ='Marks Entry'!AZ14 -> 0 | BJ13: ='Marks Entry'!BA14 -> 0 | BK13: ='Marks Entry'!BB14 -> 0 | ... BO13: ='Marks Entry'!BF14 -> 0 | BS13: ='Marks Entry'!BG14 -> 0 | BT13: ='Marks Entry'!BH14 -> 0 | BU13: ='Marks Entry'!BI14 -> 0 | BV13: ='Marks Entry'!BJ14 -> 0 | BW13: ='Marks Entry'!BK14 -> 0 | BX13: ='Marks Entry'!BL14 -> 0 | BY13: ='Marks Entry'!BM14 -> 0 | BZ13: ='Marks Entry'!BN14 -> 0 | ... CD13: ='Marks Entry'!BR14 -> 0 | CH13: ='Marks Entry'!BS14 -> 0 | CI13: ='Marks Entry'!BT14 -> 0 | CJ13: ='Marks Entry'!BU14 -> 0 | CK13: ='Marks Entry'!BV14 -> 0 | CL13: ='Marks Entry'!BW14 -> 0 | CM13: ='Marks Entry'!BX14 -> 0 | CN13: ='Marks Entry'!BY14 -> 0 | CO13: ='Marks Entry'!BZ14 -> 0 | ... CS13: ='Marks Entry'!CD14 -> 0 | CW13: ='Marks Entry'!CE14 -> 0 | CX13: ='Marks Entry'!CF14 -> 0 | CY13: ='Marks Entry'!CG14 -> 0 | CZ13: ='Marks Entry'!CH14 -> 0 | DA13: ='Marks Entry'!CI14 -> 0 | DB13: ='Marks Entry'!CJ14 -> 0 | DC13: ='Marks Entry'!CK14 -> E | DD13: ='Marks Entry'!CL14 -> 0 | ... DQ13: ='Marks Entry'!CY14 -> E
A14: =F14 -> 0 | B14: ='Marks Entry'!B15 -> 0 | C14: ='Marks Entry'!C15 -> 0 | D14: ='Marks Entry'!D15 -> 0 | E14: ='Marks Entry'!E15 -> 0 | F14: ='Marks Entry'!F15 -> 0 | G14: ='Marks Entry'!G15 -> 0 | H14: ='Marks Entry'!H15 -> 0 | I14: ='Marks Entry'!I15 -> 0 | ... V14: ='Marks Entry'!V15 -> 0 | Z14: ='Marks Entry'!W15 -> 0 | AA14: ='Marks Entry'!X15 -> 0 | AB14: ='Marks Entry'!Y15 -> 0 | AC14: ='Marks Entry'!Z15 -> 0 | AD14: ='Marks Entry'!AA15 -> 0 | AE14: ='Marks Entry'!AB15 -> 0 | AF14: ='Marks Entry'!AC15 -> 0 | AG14: ='Marks Entry'!AD15 -> 0 | ... AK14: ='Marks Entry'!AH15 -> 0 | AO14: ='Marks Entry'!AI15 -> 0 | AP14: ='Marks Entry'!AJ15 -> 0 | AQ14: ='Marks Entry'!AK15 -> 0 | AR14: ='Marks Entry'!AL15 -> 0 | AS14: ='Marks Entry'!AM15 -> 0 | AT14: ='Marks Entry'!AN15 -> 0 | AU14: ='Marks Entry'!AO15 -> 0 | AV14: ='Marks Entry'!AP15 -> 0 | ... AZ14: ='Marks Entry'!AT15 -> 0 | BD14: ='Marks Entry'!AU15 -> 0 | BE14: ='Marks Entry'!AV15 -> 0 | BF14: ='Marks Entry'!AW15 -> 0 | BG14: ='Marks Entry'!AX15 -> 0 | BH14: ='Marks Entry'!AY15 -> 0 | BI14: ='Marks Entry'!AZ15 -> 0 | BJ14: ='Marks Entry'!BA15 -> 0 | BK14: ='Marks Entry'!BB15 -> 0 | ... BO14: ='Marks Entry'!BF15 -> 0 | BS14: ='Marks Entry'!BG15 -> 0 | BT14: ='Marks Entry'!BH15 -> 0 | BU14: ='Marks Entry'!BI15 -> 0 | BV14: ='Marks Entry'!BJ15 -> 0 | BW14: ='Marks Entry'!BK15 -> 0 | BX14: ='Marks Entry'!BL15 -> 0 | BY14: ='Marks Entry'!BM15 -> 0 | BZ14: ='Marks Entry'!BN15 -> 0 | ... CD14: ='Marks Entry'!BR15 -> 0 | CH14: ='Marks Entry'!BS15 -> 0 | CI14: ='Marks Entry'!BT15 -> 0 | CJ14: ='Marks Entry'!BU15 -> 0 | CK14: ='Marks Entry'!BV15 -> 0 | CL14: ='Marks Entry'!BW15 -> 0 | CM14: ='Marks Entry'!BX15 -> 0 | CN14: ='Marks Entry'!BY15 -> 0 | CO14: ='Marks Entry'!BZ15 -> 0 | ... CS14: ='Marks Entry'!CD15 -> 0 | CW14: ='Marks Entry'!CE15 -> 0 | CX14: ='Marks Entry'!CF15 -> 0 | CY14: ='Marks Entry'!CG15 -> 0 | CZ14: ='Marks Entry'!CH15 -> 0 | DA14: ='Marks Entry'!CI15 -> 0 | DB14: ='Marks Entry'!CJ15 -> 0 | DC14: ='Marks Entry'!CK15 -> E | DD14: ='Marks Entry'!CL15 -> 0 | ... DQ14: ='Marks Entry'!CY15 -> E
A15: =F15 -> 0 | B15: ='Marks Entry'!B16 -> 0 | C15: ='Marks Entry'!C16 -> 0 | D15: ='Marks Entry'!D16 -> 0 | E15: ='Marks Entry'!E16 -> 0 | F15: ='Marks Entry'!F16 -> 0 | G15: ='Marks Entry'!G16 -> 0 | H15: ='Marks Entry'!H16 -> 0 | I15: ='Marks Entry'!I16 -> 0 | ... V15: ='Marks Entry'!V16 -> 0 | Z15: ='Marks Entry'!W16 -> 0 | AA15: ='Marks Entry'!X16 -> 0 | AB15: ='Marks Entry'!Y16 -> 0 | AC15: ='Marks Entry'!Z16 -> 0 | AD15: ='Marks Entry'!AA16 -> 0 | AE15: ='Marks Entry'!AB16 -> 0 | AF15: ='Marks Entry'!AC16 -> 0 | AG15: ='Marks Entry'!AD16 -> 0 | ... AK15: ='Marks Entry'!AH16 -> 0 | AO15: ='Marks Entry'!AI16 -> 0 | AP15: ='Marks Entry'!AJ16 -> 0 | AQ15: ='Marks Entry'!AK16 -> 0 | AR15: ='Marks Entry'!AL16 -> 0 | AS15: ='Marks Entry'!AM16 -> 0 | AT15: ='Marks Entry'!AN16 -> 0 | AU15: ='Marks Entry'!AO16 -> 0 | AV15: ='Marks Entry'!AP16 -> 0 | ... AZ15: ='Marks Entry'!AT16 -> 0 | BD15: ='Marks Entry'!AU16 -> 0 | BE15: ='Marks Entry'!AV16 -> 0 | BF15: ='Marks Entry'!AW16 -> 0 | BG15: ='Marks Entry'!AX16 -> 0 | BH15: ='Marks Entry'!AY16 -> 0 | BI15: ='Marks Entry'!AZ16 -> 0 | BJ15: ='Marks Entry'!BA16 -> 0 | BK15: ='Marks Entry'!BB16 -> 0 | ... BO15: ='Marks Entry'!BF16 -> 0 | BS15: ='Marks Entry'!BG16 -> 0 | BT15: ='Marks Entry'!BH16 -> 0 | BU15: ='Marks Entry'!BI16 -> 0 | BV15: ='Marks Entry'!BJ16 -> 0 | BW15: ='Marks Entry'!BK16 -> 0 | BX15: ='Marks Entry'!BL16 -> 0 | BY15: ='Marks Entry'!BM16 -> 0 | BZ15: ='Marks Entry'!BN16 -> 0 | ... CD15: ='Marks Entry'!BR16 -> 0 | CH15: ='Marks Entry'!BS16 -> 0 | CI15: ='Marks Entry'!BT16 -> 0 | CJ15: ='Marks Entry'!BU16 -> 0 | CK15: ='Marks Entry'!BV16 -> 0 | CL15: ='Marks Entry'!BW16 -> 0 | CM15: ='Marks Entry'!BX16 -> 0 | CN15: ='Marks Entry'!BY16 -> 0 | CO15: ='Marks Entry'!BZ16 -> 0 | ... CS15: ='Marks Entry'!CD16 -> 0 | CW15: ='Marks Entry'!CE16 -> 0 | CX15: ='Marks Entry'!CF16 -> 0 | CY15: ='Marks Entry'!CG16 -> 0 | CZ15: ='Marks Entry'!CH16 -> 0 | DA15: ='Marks Entry'!CI16 -> 0 | DB15: ='Marks Entry'!CJ16 -> 0 | DC15: ='Marks Entry'!CK16 -> E | DD15: ='Marks Entry'!CL16 -> 0 | ... DQ15: ='Marks Entry'!CY16 -> E
A16: =F16 -> 0 | B16: ='Marks Entry'!B17 -> 0 | C16: ='Marks Entry'!C17 -> 0 | D16: ='Marks Entry'!D17 -> 0 | E16: ='Marks Entry'!E17 -> 0 | F16: ='Marks Entry'!F17 -> 0 | G16: ='Marks Entry'!G17 -> 0 | H16: ='Marks Entry'!H17 -> 0 | I16: ='Marks Entry'!I17 -> 0 | ... V16: ='Marks Entry'!V17 -> 0 | Z16: ='Marks Entry'!W17 -> 0 | AA16: ='Marks Entry'!X17 -> 0 | AB16: ='Marks Entry'!Y17 -> 0 | AC16: ='Marks Entry'!Z17 -> 0 | AD16: ='Marks Entry'!AA17 -> 0 | AE16: ='Marks Entry'!AB17 -> 0 | AF16: ='Marks Entry'!AC17 -> 0 | AG16: ='Marks Entry'!AD17 -> 0 | ... AK16: ='Marks Entry'!AH17 -> 0 | AO16: ='Marks Entry'!AI17 -> 0 | AP16: ='Marks Entry'!AJ17 -> 0 | AQ16: ='Marks Entry'!AK17 -> 0 | AR16: ='Marks Entry'!AL17 -> 0 | AS16: ='Marks Entry'!AM17 -> 0 | AT16: ='Marks Entry'!AN17 -> 0 | AU16: ='Marks Entry'!AO17 -> 0 | AV16: ='Marks Entry'!AP17 -> 0 | ... AZ16: ='Marks Entry'!AT17 -> 0 | BD16: ='Marks Entry'!AU17 -> 0 | BE16: ='Marks Entry'!AV17 -> 0 | BF16: ='Marks Entry'!AW17 -> 0 | BG16: ='Marks Entry'!AX17 -> 0 | BH16: ='Marks Entry'!AY17 -> 0 | BI16: ='Marks Entry'!AZ17 -> 0 | BJ16: ='Marks Entry'!BA17 -> 0 | BK16: ='Marks Entry'!BB17 -> 0 | ... BO16: ='Marks Entry'!BF17 -> 0 | BS16: ='Marks Entry'!BG17 -> 0 | BT16: ='Marks Entry'!BH17 -> 0 | BU16: ='Marks Entry'!BI17 -> 0 | BV16: ='Marks Entry'!BJ17 -> 0 | BW16: ='Marks Entry'!BK17 -> 0 | BX16: ='Marks Entry'!BL17 -> 0 | BY16: ='Marks Entry'!BM17 -> 0 | BZ16: ='Marks Entry'!BN17 -> 0 | ... CD16: ='Marks Entry'!BR17 -> 0 | CH16: ='Marks Entry'!BS17 -> 0 | CI16: ='Marks Entry'!BT17 -> 0 | CJ16: ='Marks Entry'!BU17 -> 0 | CK16: ='Marks Entry'!BV17 -> 0 | CL16: ='Marks Entry'!BW17 -> 0 | CM16: ='Marks Entry'!BX17 -> 0 | CN16: ='Marks Entry'!BY17 -> 0 | CO16: ='Marks Entry'!BZ17 -> 0 | ... CS16: ='Marks Entry'!CD17 -> 0 | CW16: ='Marks Entry'!CE17 -> 0 | CX16: ='Marks Entry'!CF17 -> 0 | CY16: ='Marks Entry'!CG17 -> 0 | CZ16: ='Marks Entry'!CH17 -> 0 | DA16: ='Marks Entry'!CI17 -> 0 | DB16: ='Marks Entry'!CJ17 -> 0 | DC16: ='Marks Entry'!CK17 -> E | DD16: ='Marks Entry'!CL17 -> 0 | ... DQ16: ='Marks Entry'!CY17 -> E
A17: =F17 -> 0 | B17: ='Marks Entry'!B18 -> 0 | C17: ='Marks Entry'!C18 -> 0 | D17: ='Marks Entry'!D18 -> 0 | E17: ='Marks Entry'!E18 -> 0 | F17: ='Marks Entry'!F18 -> 0 | G17: ='Marks Entry'!G18 -> 0 | H17: ='Marks Entry'!H18 -> 0 | I17: ='Marks Entry'!I18 -> 0 | ... V17: ='Marks Entry'!V18 -> 0 | Z17: ='Marks Entry'!W18 -> 0 | AA17: ='Marks Entry'!X18 -> 0 | AB17: ='Marks Entry'!Y18 -> 0 | AC17: ='Marks Entry'!Z18 -> 0 | AD17: ='Marks Entry'!AA18 -> 0 | AE17: ='Marks Entry'!AB18 -> 0 | AF17: ='Marks Entry'!AC18 -> 0 | AG17: ='Marks Entry'!AD18 -> 0 | ... AK17: ='Marks Entry'!AH18 -> 0 | AO17: ='Marks Entry'!AI18 -> 0 | AP17: ='Marks Entry'!AJ18 -> 0 | AQ17: ='Marks Entry'!AK18 -> 0 | AR17: ='Marks Entry'!AL18 -> 0 | AS17: ='Marks Entry'!AM18 -> 0 | AT17: ='Marks Entry'!AN18 -> 0 | AU17: ='Marks Entry'!AO18 -> 0 | AV17: ='Marks Entry'!AP18 -> 0 | ... AZ17: ='Marks Entry'!AT18 -> 0 | BD17: ='Marks Entry'!AU18 -> 0 | BE17: ='Marks Entry'!AV18 -> 0 | BF17: ='Marks Entry'!AW18 -> 0 | BG17: ='Marks Entry'!AX18 -> 0 | BH17: ='Marks Entry'!AY18 -> 0 | BI17: ='Marks Entry'!AZ18 -> 0 | BJ17: ='Marks Entry'!BA18 -> 0 | BK17: ='Marks Entry'!BB18 -> 0 | ... BO17: ='Marks Entry'!BF18 -> 0 | BS17: ='Marks Entry'!BG18 -> 0 | BT17: ='Marks Entry'!BH18 -> 0 | BU17: ='Marks Entry'!BI18 -> 0 | BV17: ='Marks Entry'!BJ18 -> 0 | BW17: ='Marks Entry'!BK18 -> 0 | BX17: ='Marks Entry'!BL18 -> 0 | BY17: ='Marks Entry'!BM18 -> 0 | BZ17: ='Marks Entry'!BN18 -> 0 | ... CD17: ='Marks Entry'!BR18 -> 0 | CH17: ='Marks Entry'!BS18 -> 0 | CI17: ='Marks Entry'!BT18 -> 0 | CJ17: ='Marks Entry'!BU18 -> 0 | CK17: ='Marks Entry'!BV18 -> 0 | CL17: ='Marks Entry'!BW18 -> 0 | CM17: ='Marks Entry'!BX18 -> 0 | CN17: ='Marks Entry'!BY18 -> 0 | CO17: ='Marks Entry'!BZ18 -> 0 | ... CS17: ='Marks Entry'!CD18 -> 0 | CW17: ='Marks Entry'!CE18 -> 0 | CX17: ='Marks Entry'!CF18 -> 0 | CY17: ='Marks Entry'!CG18 -> 0 | CZ17: ='Marks Entry'!CH18 -> 0 | DA17: ='Marks Entry'!CI18 -> 0 | DB17: ='Marks Entry'!CJ18 -> 0 | DC17: ='Marks Entry'!CK18 -> E | DD17: ='Marks Entry'!CL18 -> 0 | ... DQ17: ='Marks Entry'!CY18 -> E
A18: =F18 -> 0 | B18: ='Marks Entry'!B19 -> 0 | C18: ='Marks Entry'!C19 -> 0 | D18: ='Marks Entry'!D19 -> 0 | E18: ='Marks Entry'!E19 -> 0 | F18: ='Marks Entry'!F19 -> 0 | G18: ='Marks Entry'!G19 -> 0 | H18: ='Marks Entry'!H19 -> 0 | I18: ='Marks Entry'!I19 -> 0 | ... V18: ='Marks Entry'!V19 -> 0 | Z18: ='Marks Entry'!W19 -> 0 | AA18: ='Marks Entry'!X19 -> 0 | AB18: ='Marks Entry'!Y19 -> 0 | AC18: ='Marks Entry'!Z19 -> 0 | AD18: ='Marks Entry'!AA19 -> 0 | AE18: ='Marks Entry'!AB19 -> 0 | AF18: ='Marks Entry'!AC19 -> 0 | AG18: ='Marks Entry'!AD19 -> 0 | ... AK18: ='Marks Entry'!AH19 -> 0 | AO18: ='Marks Entry'!AI19 -> 0 | AP18: ='Marks Entry'!AJ19 -> 0 | AQ18: ='Marks Entry'!AK19 -> 0 | AR18: ='Marks Entry'!AL19 -> 0 | AS18: ='Marks Entry'!AM19 -> 0 | AT18: ='Marks Entry'!AN19 -> 0 | AU18: ='Marks Entry'!AO19 -> 0 | AV18: ='Marks Entry'!AP19 -> 0 | ... AZ18: ='Marks Entry'!AT19 -> 0 | BD18: ='Marks Entry'!AU19 -> 0 | BE18: ='Marks Entry'!AV19 -> 0 | BF18: ='Marks Entry'!AW19 -> 0 | BG18: ='Marks Entry'!AX19 -> 0 | BH18: ='Marks Entry'!AY19 -> 0 | BI18: ='Marks Entry'!AZ19 -> 0 | BJ18: ='Marks Entry'!BA19 -> 0 | BK18: ='Marks Entry'!BB19 -> 0 | ... BO18: ='Marks Entry'!BF19 -> 0 | BS18: ='Marks Entry'!BG19 -> 0 | BT18: ='Marks Entry'!BH19 -> 0 | BU18: ='Marks Entry'!BI19 -> 0 | BV18: ='Marks Entry'!BJ19 -> 0 | BW18: ='Marks Entry'!BK19 -> 0 | BX18: ='Marks Entry'!BL19 -> 0 | BY18: ='Marks Entry'!BM19 -> 0 | BZ18: ='Marks Entry'!BN19 -> 0 | ... CD18: ='Marks Entry'!BR19 -> 0 | CH18: ='Marks Entry'!BS19 -> 0 | CI18: ='Marks Entry'!BT19 -> 0 | CJ18: ='Marks Entry'!BU19 -> 0 | CK18: ='Marks Entry'!BV19 -> 0 | CL18: ='Marks Entry'!BW19 -> 0 | CM18: ='Marks Entry'!BX19 -> 0 | CN18: ='Marks Entry'!BY19 -> 0 | CO18: ='Marks Entry'!BZ19 -> 0 | ... CS18: ='Marks Entry'!CD19 -> 0 | CW18: ='Marks Entry'!CE19 -> 0 | CX18: ='Marks Entry'!CF19 -> 0 | CY18: ='Marks Entry'!CG19 -> 0 | CZ18: ='Marks Entry'!CH19 -> 0 | DA18: ='Marks Entry'!CI19 -> 0 | DB18: ='Marks Entry'!CJ19 -> 0 | DC18: ='Marks Entry'!CK19 -> E | DD18: ='Marks Entry'!CL19 -> 0 | ... DQ18: ='Marks Entry'!CY19 -> E
... A206: =F206 -> 0 | B206: ='Marks Entry'!B207 -> 0 | C206: ='Marks Entry'!C207 -> 0 | D206: ='Marks Entry'!D207 -> 0 | E206: ='Marks Entry'!E207 -> 0 | F206: ='Marks Entry'!F207 -> 0 | G206: ='Marks Entry'!G207 -> 0 | H206: ='Marks Entry'!H207 -> 0 | I206: ='Marks Entry'!I207 -> 0 | ... V206: ='Marks Entry'!V207 -> 0 | Z206: ='Marks Entry'!W207 -> 0 | AA206: ='Marks Entry'!X207 -> 0 | AB206: ='Marks Entry'!Y207 -> 0 | AC206: ='Marks Entry'!Z207 -> 0 | AD206: ='Marks Entry'!AA207 -> 0 | AE206: ='Marks Entry'!AB207 -> 0 | AF206: ='Marks Entry'!AC207 -> 0 | AG206: ='Marks Entry'!AD207 -> 0 | ... AK206: ='Marks Entry'!AH207 -> 0 | AO206: ='Marks Entry'!AI207 -> 0 | AP206: ='Marks Entry'!AJ207 -> 0 | AQ206: ='Marks Entry'!AK207 -> 0 | AR206: ='Marks Entry'!AL207 -> 0 | AS206: ='Marks Entry'!AM207 -> 0 | AT206: ='Marks Entry'!AN207 -> 0 | AU206: ='Marks Entry'!AO207 -> 0 | AV206: ='Marks Entry'!AP207 -> 0 | ... AZ206: ='Marks Entry'!AT207 -> 0 | BD206: ='Marks Entry'!AU207 -> 0 | BE206: ='Marks Entry'!AV207 -> 0 | BF206: ='Marks Entry'!AW207 -> 0 | BG206: ='Marks Entry'!AX207 -> 0 | BH206: ='Marks Entry'!AY207 -> 0 | BI206: ='Marks Entry'!AZ207 -> 0 | BJ206: ='Marks Entry'!BA207 -> 0 | BK206: ='Marks Entry'!BB207 -> 0 | ... BO206: ='Marks Entry'!BF207 -> 0 | BS206: ='Marks Entry'!BG207 -> 0 | BT206: ='Marks Entry'!BH207 -> 0 | BU206: ='Marks Entry'!BI207 -> 0 | BV206: ='Marks Entry'!BJ207 -> 0 | BW206: ='Marks Entry'!BK207 -> 0 | BX206: ='Marks Entry'!BL207 -> 0 | BY206: ='Marks Entry'!BM207 -> 0 | BZ206: ='Marks Entry'!BN207 -> 0 | ... CD206: ='Marks Entry'!BR207 -> 0 | CH206: ='Marks Entry'!BS207 -> 0 | CI206: ='Marks Entry'!BT207 -> 0 | CJ206: ='Marks Entry'!BU207 -> 0 | CK206: ='Marks Entry'!BV207 -> 0 | CL206: ='Marks Entry'!BW207 -> 0 | CM206: ='Marks Entry'!BX207 -> 0 | CN206: ='Marks Entry'!BY207 -> 0 | CO206: ='Marks Entry'!BZ207 -> 0 | ... CS206: ='Marks Entry'!CD207 -> 0 | CW206: ='Marks Entry'!CE207 -> 0 | CX206: ='Marks Entry'!CF207 -> 0 | CY206: ='Marks Entry'!CG207 -> 0 | CZ206: ='Marks Entry'!CH207 -> 0 | DA206: ='Marks Entry'!CI207 -> 0 | DB206: ='Marks Entry'!CJ207 -> 0 | DC206: ='Marks Entry'!CK207 -> E | DD206: ='Marks Entry'!CL207 -> 0 | ... DQ206: ='Marks Entry'!CY207 -> E
B207: Subject | K207: =K2 -> HINDI | Z207: =Z2 -> ENGLISH | AO207: =AO2 -> SCIENCE | BD207: =BD2 -> MATHEMATICS | BS207: =BS2 -> SOCIAL SCIENCE | CH207: =CH2 -> SANSKRIT | CW207: =CW2 -> WORK EXP. | DD207: =DD2 -> ART EDU. | DK207: =DK2 -> H & PHY. EDU.
B208: Subject Teacher | K208: =K3 -> 0 | Z208: =Z3 -> 0 | AO208: =AO3 -> 0 | BD208: =BD3 -> 0 | BS208: =BS3 -> 0 | CH208: =CH3 -> 0 | CW208: =CW3 -> 0 | DD208: =DD3 -> 0 | DK208: =DK3 -> 0
B209: Result Summary | K209: Total Student | M209: Ab/ NSO | N209: Enter Exam | P209: A+ | Q209: A | R209: A | S209: B | T209: C | U209: D | V209: D | W209: E | X209: Total | Z209: Total Student | AB209: Ab/ NSO | AC209: Enter Exam | AE209: A+ | AF209: A | AG209: A | AH209: B | AI209: C | AJ209: D | AK209: D | AL209: E | AM209: Total | AO209: Total Student | AQ209: Ab/ NSO | AR209: Enter Exam | AT209: A+ | AU209: A | AV209: A | AW209: B | AX209: C | AY209: D | AZ209: D | BA209: E | BB209: Total | BD209: Total Student | BF209: Ab/ NSO | BG209: Enter Exam | BI209: A+ | BJ209: A | BK209: A | BL209: B | BM209: C | BN209: D | BO209: D | BP209: E | BQ209: Total | BS209: Total Student | BU209: Ab/ NSO | BV209: Enter Exam | BX209: A+ | BY209: A | BZ209: A | CA209: B | CB209: C | CC209: D | CD209: D | CE209: E | CF209: Total | CH209: Total Student | CJ209: Ab/ NSO | CK209: Enter Exam | CM209: A+ | CN209: A | CO209: A | CP209: B | CQ209: C | CR209: D | CS209: D | CT209: E | CU209: Total | CW209: Total Student | CX209: Ab/ NSO | CY209: Enter Exam | CZ209: A | DA209: B | DB209: C | DC209: Total | DD209: Total Student | DE209: Ab/ NSO | DF209: Enter Exam | DG209: A | DH209: B | DI209: C | DJ209: Total | DK209: Total Student | DL209: Ab/ NSO | DM209: Enter Exam | DN209: A | DO209: B | DP209: C | DQ209: Total
CZ211: D | DA211: E | DG211: D | DH211: E | DN211: D | DO211: E
B213: Signature Of Subject Teacher
