Workbook

Sheet Master
B2: निर्देश :- 1. यह सॉफ्टवेयर आपकी सुविधार्थ राजस्थान माध्यमिक शिक्षा बोर्ड कक्षा 10 एवं 12 दोनों के सत्रांक तैयार करने के उद्देश्य को ध्यान में रखते हुए तैयार किया गया हैl | U2: सेवा | V2: सहयोग | W2: समर्पण
B3: 2. सर्वप्रथम Master शीट में आवश्यक पूर्तियां करके Marks Entry शीट में विद्यार्थियों की जानकारी, कक्षा तथा सम्बंधित विषय एवं विषयाध्यापक का चुनाव करते हुए निर्धारित अंक भरेंl
B4: 3. All Subject शीट में सभी विषय की समेकित सत्रांक सूची तथा Subject Wise शीट में वांछित विषयवार सूची का प्रिंट प्राप्त किया जा सकता हैl
B5: नोट:- हालाँकि यह सत्रांक सॉफ्टवेयर माध्यमिक शिक्षा बोर्ड राजस्थान की कक्षा 10 एवं 12 हेतु विभागीय नियमानुसार तैयार किया गया है, फिर भी इसमें किसी मानवीय त्रुटी की स्थिति में विभागीय नियम ही सर्वमान्य होंगे, ऑनलाइन दर्ज करने से पूर्व अवश्य जाँच कर लेवेंl
B7: BOARD CLASS SASSIONAL PREPARATION PROGRAM | AB7: 2019-20 | AC7: PRIMARY
K8: Subjects | P8: Staff Detail | AB8: 2019-21 | AC8: UPPER PRIMARY
B9: SESSION | D9: :- | E9: 2021-22 | K9: Sr. No. | L9: Name | M9: Sr. No. | N9: Name | P9: Sr. No. | Q9: Name | R9: Sr. No. | S9: Name | AB9: 2019-22 | AC9: SECONDARY
K10: 1 | L10: HINDI | M10: 13 | N10: ENGLISH LIT. | P10: 1 | Q10: ABC | AB10: 2019-21 | AC10: UPPER PRIMARY
B11: SCHOOL'S FULL NAME (Board Code) | D11: :- | E11: Govt.Sr.Sec.Sch. Raimalwada (1170723) | K11: 2 | L11: ENGLISH | M11: 14 | N11: RAJASTHANI LIT. | P11: 2 | Q11: DEF
K12: 3 | L12: SCIENCE | M12: 15 | N12: POL. SCIENCE | P12: 3 | Q12: GHI | AB12: 2019-22 | AC12: SECONDARY
K13: 4 | L13: MATHEMATICS | M13: 16 | N13: HISTORY | P13: 4 | Q13: JKL | AB13: 2019-23 | AC13: SR. SECONDARY
B14: ADDRESS | D14: :- | E14: P.S.-Bapini (Jodhpur) | K14: 5 | L14: SOCIAL SCIENCE | M14: 17 | N14: GEOGRAPHY | P14: 5 | Q14: MNO
K15: 6 | L15: SANSKRIT | M15: 18 | N15: BIOLOGY | P15: 6 | Q15: PQR | U15: PREPARED BY:-UMMED TARAD | AB15: 2019-24
K16: 7 | L16: URDU | M16: 19 | N16: CHEMISTRY | P16: 7 | Q16: STU | AB16: 2019-23 | AC16: SR. SECONDARY
B17: U-DISE CODE | D17: :- | E17: 08151106901 | K17: 8 | L17: PANJABI | M17: 20 | N17: PHYSICS | P17: 8 | Q17: VWX | AB17: 2019-24
K18: 9 | L18: GUJRATI | M18: 21 | N18: MUSIC | U18: (GSSS RAIMALWADA) | AB18: 2019-25
B19: NAME OF PRINCIPAL | D19: :- | K19: 10 | L19: HINDI COMP. | M19: 22 | N19: ART | U19: MOBILE NO.-9166973141 | AB19: 2019-26
K20: 11 | L20: ENGLISH COMP. | U20: EMAIL ID-ummedtrdedu@gmail.com | AB20: 2019-25
B21: SCHOOL TYPE | D21: :- | E21: Sr. Secondary | K21: 12 | L21: HINDI LIT. | AB21: 2019-26
AB22: 2019-27

Sheet Marks Entry
B1: =Master!E11 -> Govt.Sr.Sec.Sch. Raimalwada (1170723) | K1: =B1 -> Govt.Sr.Sec.Sch. Raimalwada (1170723)
B2: Print Complete Subject | H2: Print Subjectwise | K2: सम्बंधित विषय तथा विषयाध्यापक का चुनाव करें ↆ
B3: School U-Dise Code :- | F3: =Master!E17 -> 08151106901 | H3: Session :- | I3: =Master!E9 -> 2021-22 | K3: HINDI COMP. | T3: ENGLISH COMP. | AC3: POL. SCIENCE | AL3: GEOGRAPHY | AU3: MUSIC | BD3: HINDI LIT.
B4: Class - | F4: 12 | H4: Saction :- | I4: - | K4: ABC | T4: DEF | AC4: GHI | AL4: GHI | AU4: MNO | BD4: STU
B5: Student Related Basic Details | K5: 1st Test | L5: 2nd Test | M5: Total Tests | N5: Half Yearly | Q5: Total Half Yeary | R5: Total Th.+Int. Evo. | S5: Sassional Marks | T5: 1st Test | U5: 2nd Test | V5: Total Tests | W5: Half Yearly | Z5: Total Half Yeary | AA5: Total Th.+Int. Evo. | AB5: Sassional Marks | AC5: 1st Test | AD5: 2nd Test | AE5: Total Tests | AF5: Half Yearly | AI5: Total Half Yearly | AJ5: Total Th.+Int. Evo. | AK5: Sassional Marks | AL5: 1st Test | AM5: 2nd Test | AN5: Total Tests | AO5: Half Yearly | AR5: Total Half Yearly | AS5: Total Th.+Int. Evo. | AT5: Sassional Marks | AU5: 1st Test | AV5: 2nd Test | AW5: Total Tests | AX5: Half Yearly | BA5: Total Half Yearly | BB5: Total Th.+Int. Evo. | BC5: Sassional Marks | BD5: 1st Test | BE5: 2nd Test | BF5: Total Tests | BG5: Half Yearly | BJ5: Total Half Yearly | BK5: Total Th.+Int. Evo. | BL5: Sassional Marks
B6: Sr. No. | C6: Class | D6: Scholar Number | E6: School Roll Number | F6: Board Roll Number | G6: Student's Name | H6: Father's Name | I6: Mother's Name | J6: Date Of Birth | K6: Theory | L6: Theory | N6: Theory | O6: Internal Evolution | T6: Theory | U6: Theory | W6: Theory | X6: Internal Evolution | AC6: Theory | AD6: Theory | AF6: Theory | AG6: Internal Evolution | AH6: Practical | AL6: Theory | AM6: Theory | AO6: Theory | AP6: Internal Evolution | AQ6: Practical | AU6: Theory | AV6: Theory | AX6: Theory | AY6: Internal Evolution | AZ6: Practical | BD6: Theory | BE6: Theory | BG6: Theory | BH6: Internal Evolution | BI6: Practical
K7: 20 | L7: 20 | M7: =SUM(K7:L7) -> 40 | N7: 48 | O7: 12 | Q7: =SUM(N7:O7) -> 60 | R7: =K7+L7+N7+O7 -> 100 | S7: =IF(R7=100,20,IF(R7=86,14,6)) -> 20 | T7: 20 | U7: 20 | V7: =SUM(T7:U7) -> 40 | W7: 48 | X7: 12 | Z7: =SUM(W7:X7) -> 60 | AA7: =T7+U7+W7+X7 -> 100 | AB7: =IF(AA7=100,20,IF(AA7=86,14,6)) -> 20 | AC7: 20 | AD7: 20 | AE7: =SUM(AC7:AD7) -> 40 | AF7: 48 | AG7: 12 | AH7: =IF(AF7=34,14,IF(AF7=14,34,0)) -> 0 | AI7: =SUM(AF7,AG7,AH7) -> 60 | AJ7: =AC7+AD7+AF7+AG7 -> 100 | AK7: =IF(AJ7=100,20,IF(AJ7=86,14,6)) -> 20 | AL7: 20 | AM7: 20 | AN7: =SUM(AL7:AM7) -> 40 | AO7: 34 | AP7: 12 | AQ7: =IF(AO7=34,14,IF(AO7=14,34,0)) -> 14 | AR7: =SUM(AO7,AP7,AQ7) -> 60 | AS7: =AL7+AM7+AO7+AP7 -> 86 | AT7: =IF(AS7=100,20,IF(AS7=86,14,6)) -> 14 | AU7: 20 | AV7: 20 | AW7: =SUM(AU7:AV7) -> 40 | AX7: 14 | AY7: 12 | AZ7: =IF(AX7=34,14,IF(AX7=14,34,0)) -> 34 | BA7: =SUM(AX7,AY7,AZ7) -> 60 | BB7: =AU7+AV7+AX7+AY7 -> 66 | BC7: =IF(BB7=100,20,IF(BB7=86,14,6)) -> 6 | BD7: 20 | BE7: 20 | BF7: =SUM(BD7:BE7) -> 40 | BG7: 48 | BH7: 12 | BI7: =IF(BG7=34,14,IF(BG7=14,34,0)) -> 0 | BJ7: =SUM(BG7,BH7,BI7) -> 60 | BK7: =BD7+BE7+BG7+BH7 -> 100 | BL7: =IF(BK7=100,20,IF(BK7=86,14,6)) -> 20
A8: =F8 -> 0 | B8: 1 | C8: =F4 -> 12 | K8: 11 | L8: 12 | M8: =SUM(K8,L8) -> 23 | N8: 36 | O8: 12 | Q8: =SUM(N8,O8) -> 48 | R8: =K8+L8+N8+O8 -> 71 | S8: =ROUNDUP(R8*$S$7/$R$7,0) -> 15 | T8: 9 | U8: 7 | V8: =SUM(T8,U8) -> 16 | W8: 21 | X8: 4 | Z8: =SUM(W8,X8) -> 25 | AA8: =T8+U8+W8+X8 -> 41 | AB8: =ROUNDUP(AA8*$AB$7/$AA$7,0) -> 9 | AC8: 9 | AD8: 7 | AE8: =SUM(AC8,AD8) -> 16 | AF8: 21 | AG8: 4 | AH8: 0 | AI8: =SUM(AF8,AG8,AH8) -> 25 | AJ8: =AC8+AD8+AF8+AG8 -> 41 | AK8: =ROUNDUP(AJ8*$AK$7/$AJ$7,0) -> 9 | AL8: 9 | AM8: 7 | AN8: =SUM(AL8,AM8) -> 16 | AO8: 21 | AP8: 4 | AQ8: 0 | AR8: =SUM(AO8,AP8,AQ8) -> 25 | AS8: =AL8+AM8+AO8+AP8 -> 41 | AT8: =ROUNDUP(AS8*$AT$7/$AS$7,0) -> 7 | AU8: 9 | AV8: 7 | AW8: =SUM(AU8,AV8) -> 16 | AX8: 21 | AY8: 4 | AZ8: 0 | BA8: =SUM(AX8,AY8,AZ8) -> 25 | BB8: =AU8+AV8+AX8+AY8 -> 41 | BC8: =ROUNDUP(BB8*$BC$7/$BB$7,0) -> 4 | BD8: 20 | BE8: 18 | BF8: =SUM(BD8,BE8) -> 38 | BG8: 14 | BH8: 5 | BI8: 0 | BJ8: =SUM(BG8,BH8,BI8) -> 19 | BK8: =BD8+BE8+BG8+BH8 -> 57 | BL8: =ROUNDUP(BK8*$BL$7/$BK$7,0) -> 12
A9: =F9 -> 0 | C9: =IF(B9>0,$F$4,0) -> 0 | K9: 0 | L9: 0 | M9: =SUM(K9,L9) -> 0 | N9: 0 | O9: 0 | Q9: =SUM(N9,O9) -> 0 | R9: =K9+L9+N9+O9 -> 0 | S9: =ROUNDUP(R9*$S$7/$R$7,0) -> 0 | T9: 0 | U9: 0 | V9: =SUM(T9,U9) -> 0 | W9: 0 | X9: 0 | Z9: =SUM(W9,X9) -> 0 | AA9: =T9+U9+W9+X9 -> 0 | AB9: =ROUNDUP(AA9*$AB$7/$AA$7,0) -> 0 | AC9: 0 | AD9: 0 | AE9: =SUM(AC9,AD9) -> 0 | AF9: 0 | AG9: 0 | AH9: 0 | AI9: =SUM(AF9,AG9,AH9) -> 0 | AJ9: =AC9+AD9+AF9+AG9 -> 0 | AK9: =ROUNDUP(AJ9*$AK$7/$AJ$7,0) -> 0 | AL9: 0 | AM9: 0 | AN9: =SUM(AL9,AM9) -> 0 | AO9: 0 | AP9: 0 | AQ9: 0 | AR9: =SUM(AO9,AP9,AQ9) -> 0 | AS9: =AL9+AM9+AO9+AP9 -> 0 | AT9: =ROUNDUP(AS9*$AT$7/$AS$7,0) -> 0 | AU9: 0 | AV9: 0 | AW9: =SUM(AU9,AV9) -> 0 | AX9: 0 | AY9: 0 | AZ9: 0 | BA9: =SUM(AX9,AY9,AZ9) -> 0 | BB9: =AU9+AV9+AX9+AY9 -> 0 | BC9: =ROUNDUP(BB9*$BC$7/$BB$7,0) -> 0 | BD9: 0 | BE9: 0 | BF9: =SUM(BD9,BE9) -> 0 | BG9: 0 | BH9: 0 | BI9: 0 | BJ9: =SUM(BG9,BH9,BI9) -> 0 | BK9: =BD9+BE9+BG9+BH9 -> 0 | BL9: =ROUNDUP(BK9*$BL$7/$BK$7,0) -> 0
A10: =F10 -> 0 | C10: =IF(B10>0,$F$4,0) -> 0 | K10: 0 | L10: 0 | M10: =SUM(K10,L10) -> 0 | N10: 0 | O10: 0 | Q10: =SUM(N10,O10) -> 0 | R10: =K10+L10+N10+O10 -> 0 | S10: =ROUNDUP(R10*$S$7/$R$7,0) -> 0 | T10: 0 | U10: 0 | V10: =SUM(T10,U10) -> 0 | W10: 0 | X10: 0 | Z10: =SUM(W10,X10) -> 0 | AA10: =T10+U10+W10+X10 -> 0 | AB10: =ROUNDUP(AA10*$AB$7/$AA$7,0) -> 0 | AC10: 0 | AD10: 0 | AE10: =SUM(AC10,AD10) -> 0 | AF10: 0 | AG10: 0 | AH10: 0 | AI10: =SUM(AF10,AG10,AH10) -> 0 | AJ10: =AC10+AD10+AF10+AG10 -> 0 | AK10: =ROUNDUP(AJ10*$AK$7/$AJ$7,0) -> 0 | AL10: 0 | AM10: 0 | AN10: =SUM(AL10,AM10) -> 0 | AO10: 0 | AP10: 0 | AQ10: 0 | AR10: =SUM(AO10,AP10,AQ10) -> 0 | AS10: =AL10+AM10+AO10+AP10 -> 0 | AT10: =ROUNDUP(AS10*$AT$7/$AS$7,0) -> 0 | AU10: 0 | AV10: 0 | AW10: =SUM(AU10,AV10) -> 0 | AX10: 0 | AY10: 0 | AZ10: 0 | BA10: =SUM(AX10,AY10,AZ10) -> 0 | BB10: =AU10+AV10+AX10+AY10 -> 0 | BC10: =ROUNDUP(BB10*$BC$7/$BB$7,0) -> 0 | BD10: 0 | BE10: 0 | BF10: =SUM(BD10,BE10) -> 0 | BG10: 0 | BH10: 0 | BI10: 0 | BJ10: =SUM(BG10,BH10,BI10) -> 0 | BK10: =BD10+BE10+BG10+BH10 -> 0 | BL10: =ROUNDUP(BK10*$BL$7/$BK$7,0) -> 0
A11: =F11 -> 0 | C11: =IF(B11>0,$F$4,0) -> 0 | K11: 0 | L11: 0 | M11: =SUM(K11,L11) -> 0 | N11: 0 | O11: 0 | Q11: =SUM(N11,O11) -> 0 | R11: =K11+L11+N11+O11 -> 0 | S11: =ROUNDUP(R11*$S$7/$R$7,0) -> 0 | T11: 0 | U11: 0 | V11: =SUM(T11,U11) -> 0 | W11: 0 | X11: 0 | Z11: =SUM(W11,X11) -> 0 | AA11: =T11+U11+W11+X11 -> 0 | AB11: =ROUNDUP(AA11*$AB$7/$AA$7,0) -> 0 | AC11: 0 | AD11: 0 | AE11: =SUM(AC11,AD11) -> 0 | AF11: 0 | AG11: 0 | AH11: 0 | AI11: =SUM(AF11,AG11,AH11) -> 0 | AJ11: =AC11+AD11+AF11+AG11 -> 0 | AK11: =ROUNDUP(AJ11*$AK$7/$AJ$7,0) -> 0 | AL11: 0 | AM11: 0 | AN11: =SUM(AL11,AM11) -> 0 | AO11: 0 | AP11: 0 | AQ11: 0 | AR11: =SUM(AO11,AP11,AQ11) -> 0 | AS11: =AL11+AM11+AO11+AP11 -> 0 | AT11: =ROUNDUP(AS11*$AT$7/$AS$7,0) -> 0 | AU11: 0 | AV11: 0 | AW11: =SUM(AU11,AV11) -> 0 | AX11: 0 | AY11: 0 | AZ11: 0 | BA11: =SUM(AX11,AY11,AZ11) -> 0 | BB11: =AU11+AV11+AX11+AY11 -> 0 | BC11: =ROUNDUP(BB11*$BC$7/$BB$7,0) -> 0 | BD11: 0 | BE11: 0 | BF11: =SUM(BD11,BE11) -> 0 | BG11: 0 | BH11: 0 | BI11: 0 | BJ11: =SUM(BG11,BH11,BI11) -> 0 | BK11: =BD11+BE11+BG11+BH11 -> 0 | BL11: =ROUNDUP(BK11*$BL$7/$BK$7,0) -> 0
A12: =F12 -> 0 | C12: =IF(B12>0,$F$4,0) -> 0 | K12: 0 | L12: 0 | M12: =SUM(K12,L12) -> 0 | N12: 0 | O12: 0 | Q12: =SUM(N12,O12) -> 0 | R12: =K12+L12+N12+O12 -> 0 | S12: =ROUNDUP(R12*$S$7/$R$7,0) -> 0 | T12: 0 | U12: 0 | V12: =SUM(T12,U12) -> 0 | W12: 0 | X12: 0 | Z12: =SUM(W12,X12) -> 0 | AA12: =T12+U12+W12+X12 -> 0 | AB12: =ROUNDUP(AA12*$AB$7/$AA$7,0) -> 0 | AC12: 0 | AD12: 0 | AE12: =SUM(AC12,AD12) -> 0 | AF12: 0 | AG12: 0 | AH12: 0 | AI12: =SUM(AF12,AG12,AH12) -> 0 | AJ12: =AC12+AD12+AF12+AG12 -> 0 | AK12: =ROUNDUP(AJ12*$AK$7/$AJ$7,0) -> 0 | AL12: 0 | AM12: 0 | AN12: =SUM(AL12,AM12) -> 0 | AO12: 0 | AP12: 0 | AQ12: 0 | AR12: =SUM(AO12,AP12,AQ12) -> 0 | AS12: =AL12+AM12+AO12+AP12 -> 0 | AT12: =ROUNDUP(AS12*$AT$7/$AS$7,0) -> 0 | AU12: 0 | AV12: 0 | AW12: =SUM(AU12,AV12) -> 0 | AX12: 0 | AY12: 0 | AZ12: 0 | BA12: =SUM(AX12,AY12,AZ12) -> 0 | BB12: =AU12+AV12+AX12+AY12 -> 0 | BC12: =ROUNDUP(BB12*$BC$7/$BB$7,0) -> 0 | BD12: 0 | BE12: 0 | BF12: =SUM(BD12,BE12) -> 0 | BG12: 0 | BH12: 0 | BI12: 0 | BJ12: =SUM(BG12,BH12,BI12) -> 0 | BK12: =BD12+BE12+BG12+BH12 -> 0 | BL12: =ROUNDUP(BK12*$BL$7/$BK$7,0) -> 0
A13: =F13 -> 0 | C13: =IF(B13>0,$F$4,0) -> 0 | K13: 0 | L13: 0 | M13: =SUM(K13,L13) -> 0 | N13: 0 | O13: 0 | Q13: =SUM(N13,O13) -> 0 | R13: =K13+L13+N13+O13 -> 0 | S13: =ROUNDUP(R13*$S$7/$R$7,0) -> 0 | T13: 0 | U13: 0 | V13: =SUM(T13,U13) -> 0 | W13: 0 | X13: 0 | Z13: =SUM(W13,X13) -> 0 | AA13: =T13+U13+W13+X13 -> 0 | AB13: =ROUNDUP(AA13*$AB$7/$AA$7,0) -> 0 | AC13: 0 | AD13: 0 | AE13: =SUM(AC13,AD13) -> 0 | AF13: 0 | AG13: 0 | AH13: 0 | AI13: =SUM(AF13,AG13,AH13) -> 0 | AJ13: =AC13+AD13+AF13+AG13 -> 0 | AK13: =ROUNDUP(AJ13*$AK$7/$AJ$7,0) -> 0 | AL13: 0 | AM13: 0 | AN13: =SUM(AL13,AM13) -> 0 | AO13: 0 | AP13: 0 | AQ13: 0 | AR13: =SUM(AO13,AP13,AQ13) -> 0 | AS13: =AL13+AM13+AO13+AP13 -> 0 | AT13: =ROUNDUP(AS13*$AT$7/$AS$7,0) -> 0 | AU13: 0 | AV13: 0 | AW13: =SUM(AU13,AV13) -> 0 | AX13: 0 | AY13: 0 | AZ13: 0 | BA13: =SUM(AX13,AY13,AZ13) -> 0 | BB13: =AU13+AV13+AX13+AY13 -> 0 | BC13: =ROUNDUP(BB13*$BC$7/$BB$7,0) -> 0 | BD13: 0 | BE13: 0 | BF13: =SUM(BD13,BE13) -> 0 | BG13: 0 | BH13: 0 | BI13: 0 | BJ13: =SUM(BG13,BH13,BI13) -> 0 | BK13: =BD13+BE13+BG13+BH13 -> 0 | BL13: =ROUNDUP(BK13*$BL$7/$BK$7,0) -> 0
A14: =F14 -> 0 | C14: =IF(B14>0,$F$4,0) -> 0 | K14: 0 | L14: 0 | M14: =SUM(K14,L14) -> 0 | N14: 0 | O14: 0 | Q14: =SUM(N14,O14) -> 0 | R14: =K14+L14+N14+O14 -> 0 | S14: =ROUNDUP(R14*$S$7/$R$7,0) -> 0 | T14: 0 | U14: 0 | V14: =SUM(T14,U14) -> 0 | W14: 0 | X14: 0 | Z14: =SUM(W14,X14) -> 0 | AA14: =T14+U14+W14+X14 -> 0 | AB14: =ROUNDUP(AA14*$AB$7/$AA$7,0) -> 0 | AC14: 0 | AD14: 0 | AE14: =SUM(AC14,AD14) -> 0 | AF14: 0 | AG14: 0 | AH14: 0 | AI14: =SUM(AF14,AG14,AH14) -> 0 | AJ14: =AC14+AD14+AF14+AG14 -> 0 | AK14: =ROUNDUP(AJ14*$AK$7/$AJ$7,0) -> 0 | AL14: 0 | AM14: 0 | AN14: =SUM(AL14,AM14) -> 0 | AO14: 0 | AP14: 0 | AQ14: 0 | AR14: =SUM(AO14,AP14,AQ14) -> 0 | AS14: =AL14+AM14+AO14+AP14 -> 0 | AT14: =ROUNDUP(AS14*$AT$7/$AS$7,0) -> 0 | AU14: 0 | AV14: 0 | AW14: =SUM(AU14,AV14) -> 0 | AX14: 0 | AY14: 0 | AZ14: 0 | BA14: =SUM(AX14,AY14,AZ14) -> 0 | BB14: =AU14+AV14+AX14+AY14 -> 0 | BC14: =ROUNDUP(BB14*$BC$7/$BB$7,0) -> 0 | BD14: 0 | BE14: 0 | BF14: =SUM(BD14,BE14) -> 0 | BG14: 0 | BH14: 0 | BI14: 0 | BJ14: =SUM(BG14,BH14,BI14) -> 0 | BK14: =BD14+BE14+BG14+BH14 -> 0 | BL14: =ROUNDUP(BK14*$BL$7/$BK$7,0) -> 0
A15: =F15 -> 0 | C15: =IF(B15>0,$F$4,0) -> 0 | K15: 0 | L15: 0 | M15: =SUM(K15,L15) -> 0 | N15: 0 | O15: 0 | Q15: =SUM(N15,O15) -> 0 | R15: =K15+L15+N15+O15 -> 0 | S15: =ROUNDUP(R15*$S$7/$R$7,0) -> 0 | T15: 0 | U15: 0 | V15: =SUM(T15,U15) -> 0 | W15: 0 | X15: 0 | Z15: =SUM(W15,X15) -> 0 | AA15: =T15+U15+W15+X15 -> 0 | AB15: =ROUNDUP(AA15*$AB$7/$AA$7,0) -> 0 | AC15: 0 | AD15: 0 | AE15: =SUM(AC15,AD15) -> 0 | AF15: 0 | AG15: 0 | AH15: 0 | AI15: =SUM(AF15,AG15,AH15) -> 0 | AJ15: =AC15+AD15+AF15+AG15 -> 0 | AK15: =ROUNDUP(AJ15*$AK$7/$AJ$7,0) -> 0 | AL15: 0 | AM15: 0 | AN15: =SUM(AL15,AM15) -> 0 | AO15: 0 | AP15: 0 | AQ15: 0 | AR15: =SUM(AO15,AP15,AQ15) -> 0 | AS15: =AL15+AM15+AO15+AP15 -> 0 | AT15: =ROUNDUP(AS15*$AT$7/$AS$7,0) -> 0 | AU15: 0 | AV15: 0 | AW15: =SUM(AU15,AV15) -> 0 | AX15: 0 | AY15: 0 | AZ15: 0 | BA15: =SUM(AX15,AY15,AZ15) -> 0 | BB15: =AU15+AV15+AX15+AY15 -> 0 | BC15: =ROUNDUP(BB15*$BC$7/$BB$7,0) -> 0 | BD15: 0 | BE15: 0 | BF15: =SUM(BD15,BE15) -> 0 | BG15: 0 | BH15: 0 | BI15: 0 | BJ15: =SUM(BG15,BH15,BI15) -> 0 | BK15: =BD15+BE15+BG15+BH15 -> 0 | BL15: =ROUNDUP(BK15*$BL$7/$BK$7,0) -> 0
A16: =F16 -> 0 | C16: =IF(B16>0,$F$4,0) -> 0 | K16: 0 | L16: 0 | M16: =SUM(K16,L16) -> 0 | N16: 0 | O16: 0 | Q16: =SUM(N16,O16) -> 0 | R16: =K16+L16+N16+O16 -> 0 | S16: =ROUNDUP(R16*$S$7/$R$7,0) -> 0 | T16: 0 | U16: 0 | V16: =SUM(T16,U16) -> 0 | W16: 0 | X16: 0 | Z16: =SUM(W16,X16) -> 0 | AA16: =T16+U16+W16+X16 -> 0 | AB16: =ROUNDUP(AA16*$AB$7/$AA$7,0) -> 0 | AC16: 0 | AD16: 0 | AE16: =SUM(AC16,AD16) -> 0 | AF16: 0 | AG16: 0 | AH16: 0 | AI16: =SUM(AF16,AG16,AH16) -> 0 | AJ16: =AC16+AD16+AF16+AG16 -> 0 | AK16: =ROUNDUP(AJ16*$AK$7/$AJ$7,0) -> 0 | AL16: 0 | AM16: 0 | AN16: =SUM(AL16,AM16) -> 0 | AO16: 0 | AP16: 0 | AQ16: 0 | AR16: =SUM(AO16,AP16,AQ16) -> 0 | AS16: =AL16+AM16+AO16+AP16 -> 0 | AT16: =ROUNDUP(AS16*$AT$7/$AS$7,0) -> 0 | AU16: 0 | AV16: 0 | AW16: =SUM(AU16,AV16) -> 0 | AX16: 0 | AY16: 0 | AZ16: 0 | BA16: =SUM(AX16,AY16,AZ16) -> 0 | BB16: =AU16+AV16+AX16+AY16 -> 0 | BC16: =ROUNDUP(BB16*$BC$7/$BB$7,0) -> 0 | BD16: 0 | BE16: 0 | BF16: =SUM(BD16,BE16) -> 0 | BG16: 0 | BH16: 0 | BI16: 0 | BJ16: =SUM(BG16,BH16,BI16) -> 0 | BK16: =BD16+BE16+BG16+BH16 -> 0 | BL16: =ROUNDUP(BK16*$BL$7/$BK$7,0) -> 0
A17: =F17 -> 0 | C17: =IF(B17>0,$F$4,0) -> 0 | K17: 0 | L17: 0 | M17: =SUM(K17,L17) -> 0 | N17: 0 | O17: 0 | Q17: =SUM(N17,O17) -> 0 | R17: =K17+L17+N17+O17 -> 0 | S17: =ROUNDUP(R17*$S$7/$R$7,0) -> 0 | T17: 0 | U17: 0 | V17: =SUM(T17,U17) -> 0 | W17: 0 | X17: 0 | Z17: =SUM(W17,X17) -> 0 | AA17: =T17+U17+W17+X17 -> 0 | AB17: =ROUNDUP(AA17*$AB$7/$AA$7,0) -> 0 | AC17: 0 | AD17: 0 | AE17: =SUM(AC17,AD17) -> 0 | AF17: 0 | AG17: 0 | AH17: 0 | AI17: =SUM(AF17,AG17,AH17) -> 0 | AJ17: =AC17+AD17+AF17+AG17 -> 0 | AK17: =ROUNDUP(AJ17*$AK$7/$AJ$7,0) -> 0 | AL17: 0 | AM17: 0 | AN17: =SUM(AL17,AM17) -> 0 | AO17: 0 | AP17: 0 | AQ17: 0 | AR17: =SUM(AO17,AP17,AQ17) -> 0 | AS17: =AL17+AM17+AO17+AP17 -> 0 | AT17: =ROUNDUP(AS17*$AT$7/$AS$7,0) -> 0 | AU17: 0 | AV17: 0 | AW17: =SUM(AU17,AV17) -> 0 | AX17: 0 | AY17: 0 | AZ17: 0 | BA17: =SUM(AX17,AY17,AZ17) -> 0 | BB17: =AU17+AV17+AX17+AY17 -> 0 | BC17: =ROUNDUP(BB17*$BC$7/$BB$7,0) -> 0 | BD17: 0 | BE17: 0 | BF17: =SUM(BD17,BE17) -> 0 | BG17: 0 | BH17: 0 | BI17: 0 | BJ17: =SUM(BG17,BH17,BI17) -> 0 | BK17: =BD17+BE17+BG17+BH17 -> 0 | BL17: =ROUNDUP(BK17*$BL$7/$BK$7,0) -> 0
A18: =F18 -> 0 | C18: =IF(B18>0,$F$4,0) -> 0 | K18: 0 | L18: 0 | M18: =SUM(K18,L18) -> 0 | N18: 0 | O18: 0 | Q18: =SUM(N18,O18) -> 0 | R18: =K18+L18+N18+O18 -> 0 | S18: =ROUNDUP(R18*$S$7/$R$7,0) -> 0 | T18: 0 | U18: 0 | V18: =SUM(T18,U18) -> 0 | W18: 0 | X18: 0 | Z18: =SUM(W18,X18) -> 0 | AA18: =T18+U18+W18+X18 -> 0 | AB18: =ROUNDUP(AA18*$AB$7/$AA$7,0) -> 0 | AC18: 0 | AD18: 0 | AE18: =SUM(AC18,AD18) -> 0 | AF18: 0 | AG18: 0 | AH18: 0 | AI18: =SUM(AF18,AG18,AH18) -> 0 | AJ18: =AC18+AD18+AF18+AG18 -> 0 | AK18: =ROUNDUP(AJ18*$AK$7/$AJ$7,0) -> 0 | AL18: 0 | AM18: 0 | AN18: =SUM(AL18,AM18) -> 0 | AO18: 0 | AP18: 0 | AQ18: 0 | AR18: =SUM(AO18,AP18,AQ18) -> 0 | AS18: =AL18+AM18+AO18+AP18 -> 0 | AT18: =ROUNDUP(AS18*$AT$7/$AS$7,0) -> 0 | AU18: 0 | AV18: 0 | AW18: =SUM(AU18,AV18) -> 0 | AX18: 0 | AY18: 0 | AZ18: 0 | BA18: =SUM(AX18,AY18,AZ18) -> 0 | BB18: =AU18+AV18+AX18+AY18 -> 0 | BC18: =ROUNDUP(BB18*$BC$7/$BB$7,0) -> 0 | BD18: 0 | BE18: 0 | BF18: =SUM(BD18,BE18) -> 0 | BG18: 0 | BH18: 0 | BI18: 0 | BJ18: =SUM(BG18,BH18,BI18) -> 0 | BK18: =BD18+BE18+BG18+BH18 -> 0 | BL18: =ROUNDUP(BK18*$BL$7/$BK$7,0) -> 0
A19: =F19 -> 0 | C19: =IF(B19>0,$F$4,0) -> 0 | K19: 0 | L19: 0 | M19: =SUM(K19,L19) -> 0 | N19: 0 | O19: 0 | Q19: =SUM(N19,O19) -> 0 | R19: =K19+L19+N19+O19 -> 0 | S19: =ROUNDUP(R19*$S$7/$R$7,0) -> 0 | T19: 0 | U19: 0 | V19: =SUM(T19,U19) -> 0 | W19: 0 | X19: 0 | Z19: =SUM(W19,X19) -> 0 | AA19: =T19+U19+W19+X19 -> 0 | AB19: =ROUNDUP(AA19*$AB$7/$AA$7,0) -> 0 | AC19: 0 | AD19: 0 | AE19: =SUM(AC19,AD19) -> 0 | AF19: 0 | AG19: 0 | AH19: 0 | AI19: =SUM(AF19,AG19,AH19) -> 0 | AJ19: =AC19+AD19+AF19+AG19 -> 0 | AK19: =ROUNDUP(AJ19*$AK$7/$AJ$7,0) -> 0 | AL19: 0 | AM19: 0 | AN19: =SUM(AL19,AM19) -> 0 | AO19: 0 | AP19: 0 | AQ19: 0 | AR19: =SUM(AO19,AP19,AQ19) -> 0 | AS19: =AL19+AM19+AO19+AP19 -> 0 | AT19: =ROUNDUP(AS19*$AT$7/$AS$7,0) -> 0 | AU19: 0 | AV19: 0 | AW19: =SUM(AU19,AV19) -> 0 | AX19: 0 | AY19: 0 | AZ19: 0 | BA19: =SUM(AX19,AY19,AZ19) -> 0 | BB19: =AU19+AV19+AX19+AY19 -> 0 | BC19: =ROUNDUP(BB19*$BC$7/$BB$7,0) -> 0 | BD19: 0 | BE19: 0 | BF19: =SUM(BD19,BE19) -> 0 | BG19: 0 | BH19: 0 | BI19: 0 | BJ19: =SUM(BG19,BH19,BI19) -> 0 | BK19: =BD19+BE19+BG19+BH19 -> 0 | BL19: =ROUNDUP(BK19*$BL$7/$BK$7,0) -> 0
A20: =F20 -> 0 | C20: =IF(B20>0,$F$4,0) -> 0 | K20: 0 | L20: 0 | M20: =SUM(K20,L20) -> 0 | N20: 0 | O20: 0 | Q20: =SUM(N20,O20) -> 0 | R20: =K20+L20+N20+O20 -> 0 | S20: =ROUNDUP(R20*$S$7/$R$7,0) -> 0 | T20: 0 | U20: 0 | V20: =SUM(T20,U20) -> 0 | W20: 0 | X20: 0 | Z20: =SUM(W20,X20) -> 0 | AA20: =T20+U20+W20+X20 -> 0 | AB20: =ROUNDUP(AA20*$AB$7/$AA$7,0) -> 0 | AC20: 0 | AD20: 0 | AE20: =SUM(AC20,AD20) -> 0 | AF20: 0 | AG20: 0 | AH20: 0 | AI20: =SUM(AF20,AG20,AH20) -> 0 | AJ20: =AC20+AD20+AF20+AG20 -> 0 | AK20: =ROUNDUP(AJ20*$AK$7/$AJ$7,0) -> 0 | AL20: 0 | AM20: 0 | AN20: =SUM(AL20,AM20) -> 0 | AO20: 0 | AP20: 0 | AQ20: 0 | AR20: =SUM(AO20,AP20,AQ20) -> 0 | AS20: =AL20+AM20+AO20+AP20 -> 0 | AT20: =ROUNDUP(AS20*$AT$7/$AS$7,0) -> 0 | AU20: 0 | AV20: 0 | AW20: =SUM(AU20,AV20) -> 0 | AX20: 0 | AY20: 0 | AZ20: 0 | BA20: =SUM(AX20,AY20,AZ20) -> 0 | BB20: =AU20+AV20+AX20+AY20 -> 0 | BC20: =ROUNDUP(BB20*$BC$7/$BB$7,0) -> 0 | BD20: 0 | BE20: 0 | BF20: =SUM(BD20,BE20) -> 0 | BG20: 0 | BH20: 0 | BI20: 0 | BJ20: =SUM(BG20,BH20,BI20) -> 0 | BK20: =BD20+BE20+BG20+BH20 -> 0 | BL20: =ROUNDUP(BK20*$BL$7/$BK$7,0) -> 0
... A207: =F207 -> 0 | C207: =IF(B207>0,$F$4,0) -> 0 | K207: 0 | L207: 0 | M207: =SUM(K207,L207) -> 0 | N207: 0 | O207: 0 | Q207: =SUM(N207,O207) -> 0 | R207: =K207+L207+N207+O207 -> 0 | S207: =ROUNDUP(R207*$S$7/$R$7,0) -> 0 | T207: 0 | U207: 0 | V207: =SUM(T207,U207) -> 0 | W207: 0 | X207: 0 | Z207: =SUM(W207,X207) -> 0 | AA207: =T207+U207+W207+X207 -> 0 | AB207: =ROUNDUP(AA207*$AB$7/$AA$7,0) -> 0 | AC207: 0 | AD207: 0 | AE207: =SUM(AC207,AD207) -> 0 | AF207: 0 | AG207: 0 | AH207: 0 | AI207: =SUM(AF207,AG207,AH207) -> 0 | AJ207: =AC207+AD207+AF207+AG207 -> 0 | AK207: =ROUNDUP(AJ207*$AK$7/$AJ$7,0) -> 0 | AL207: 0 | AM207: 0 | AN207: =SUM(AL207,AM207) -> 0 | AO207: 0 | AP207: 0 | AQ207: 0 | AR207: =SUM(AO207,AP207,AQ207) -> 0 | AS207: =AL207+AM207+AO207+AP207 -> 0 | AT207: =ROUNDUP(AS207*$AT$7/$AS$7,0) -> 0 | AU207: 0 | AV207: 0 | AW207: =SUM(AU207,AV207) -> 0 | AX207: 0 | AY207: 0 | AZ207: 0 | BA207: =SUM(AX207,AY207,AZ207) -> 0 | BB207: =AU207+AV207+AX207+AY207 -> 0 | BC207: =ROUNDUP(BB207*$BC$7/$BB$7,0) -> 0 | BD207: 0 | BE207: 0 | BF207: =SUM(BD207,BE207) -> 0 | BG207: 0 | BH207: 0 | BI207: 0 | BJ207: =SUM(BG207,BH207,BI207) -> 0 | BK207: =BD207+BE207+BG207+BH207 -> 0 | BL207: =ROUNDUP(BK207*$BL$7/$BK$7,0) -> 0
B208: 1 | C208: 2 | D208: 3 | E208: 4 | F208: 5 | G208: 6 | H208: 7 | I208: 8 | J208: 9 | K208: 10 | L208: 11 | M208: 12 | N208: 13 | O208: 14 | Q208: 15 | R208: 16 | S208: 17 | T208: 18 | U208: 19 | V208: 20 | W208: 21 | X208: 22 | Z208: 23 | AA208: 24 | AB208: 25 | AC208: 26 | AD208: 27 | AE208: 28 | AF208: 29 | AG208: 30 | AH208: 31 | AI208: 32 | AJ208: 33 | AK208: 34 | AL208: 35 | AM208: 36 | AN208: 37 | AO208: 38 | AP208: 39 | AQ208: 40 | AR208: 41 | AS208: 42 | AT208: 43 | AU208: 44 | AV208: 45 | AW208: 46 | AX208: 47 | AY208: 48 | AZ208: 49 | BA208: 50 | BB208: 51 | BC208: 52 | BD208: 53 | BE208: 54 | BF208: 55 | BG208: 56 | BH208: 57 | BI208: 58 | BJ208: 59 | BK208: 60 | BL208: 61
H209: =Master!L10 -> HINDI | I209: =Master!Q10 -> ABC
H210: =Master!L11 -> ENGLISH | I210: =Master!Q11 -> DEF
H211: =Master!L12 -> SCIENCE | I211: =Master!Q12 -> GHI
H212: =Master!L13 -> MATHEMATICS | I212: =Master!Q13 -> JKL
H213: =Master!L14 -> SOCIAL SCIENCE | I213: =Master!Q14 -> MNO
H214: =Master!L15 -> SANSKRIT | I214: =Master!Q15 -> PQR
H215: =Master!L16 -> URDU | I215: =Master!Q16 -> STU
H216: =Master!L17 -> PANJABI | I216: =Master!Q17 -> VWX
H217: =Master!L18 -> GUJRATI | I217: =Master!Q18 -> 0
H218: =Master!L19 -> HINDI COMP. | I218: =Master!Q19 -> 0
H219: =Master!L20 -> ENGLISH COMP. | I219: =Master!Q20 -> 0
H220: =Master!L21 -> HINDI LIT. | I220: =Master!Q21 -> 0
H221: =Master!N10 -> ENGLISH LIT. | I221: =Master!S10 -> 0
H222: =Master!N11 -> RAJASTHANI LIT. | I222: =Master!S11 -> 0
H223: =Master!N12 -> POL. SCIENCE | I223: =Master!S12 -> 0
H224: =Master!N13 -> HISTORY | I224: =Master!S13 -> 0
H225: =Master!N14 -> GEOGRAPHY | I225: =Master!S14 -> 0
H226: =Master!N15 -> BIOLOGY | I226: =Master!S15 -> 0
...

Sheet All Subject
B1: Go To Marks Entry | J1: Go To Subject Wise List
B2: ='Marks Entry'!B1:J1 -> Govt.Sr.Sec.Sch. Raimalwada (1170723) | J2: Sassional Marks All Subjects
B3: Sassional Marks : | F3: =IF(Master!E9="2021-22","2022",IF(Master!E9="2022-23","2023","2024")) -> 2022 | G3: Class:- | H3: =CONCATENATE('Marks Entry'!F4,'Marks Entry'!I4) -> 12- | I3: Subject→ | J3: ='Marks Entry'!K3 -> HINDI COMP. | K3: ='Marks Entry'!T3 -> ENGLISH COMP. | L3: ='Marks Entry'!AC3 -> POL. SCIENCE | M3: ='Marks Entry'!AL3 -> GEOGRAPHY | N3: ='Marks Entry'!AU3 -> MUSIC | O3: ='Marks Entry'!BD3 -> HINDI LIT.
B4: Student Related Basic Details | I4: Subject Teacher→ | J4: ='Marks Entry'!K4 -> ABC | K4: ='Marks Entry'!T4 -> DEF | L4: ='Marks Entry'!AC4 -> GHI | M4: ='Marks Entry'!AL4 -> GHI | N4: ='Marks Entry'!AU4 -> MNO | O4: ='Marks Entry'!BD4 -> STU
B5: Sr. No. | C5: Class | D5: SR Number | E5: School Roll Number | F5: Board Roll Number | G5: Student's Name | H5: Father's Name | I5: Mother's Name | J5: ='Marks Entry'!S7 -> 20 | K5: ='Marks Entry'!AB7 -> 20 | L5: ='Marks Entry'!AK7 -> 20 | M5: ='Marks Entry'!AT7 -> 14 | N5: ='Marks Entry'!BC7 -> 6 | O5: ='Marks Entry'!BL7 -> 20
B7: ='Marks Entry'!B8 -> 1 | C7: ='Marks Entry'!C8 -> 12 | D7: ='Marks Entry'!D8 -> 0 | E7: ='Marks Entry'!E8 -> 0 | F7: ='Marks Entry'!F8 -> 0 | G7: ='Marks Entry'!G8 -> 0 | H7: ='Marks Entry'!H8 -> 0 | I7: ='Marks Entry'!I8 -> 0 | J7: ='Marks Entry'!S8 -> 15 | K7: ='Marks Entry'!AB8 -> 9 | L7: ='Marks Entry'!AK8 -> 9 | M7: ='Marks Entry'!AT8 -> 7 | N7: ='Marks Entry'!BC8 -> 4 | O7: ='Marks Entry'!BL8 -> 12
B8: ='Marks Entry'!B9 -> 0 | C8: ='Marks Entry'!$F$4 -> 12 | D8: ='Marks Entry'!D9 -> 0 | E8: ='Marks Entry'!E9 -> 0 | F8: ='Marks Entry'!F9 -> 0 | G8: ='Marks Entry'!G9 -> 0 | H8: ='Marks Entry'!H9 -> 0 | I8: ='Marks Entry'!I9 -> 0 | J8: ='Marks Entry'!S9 -> 0 | K8: ='Marks Entry'!AB9 -> 0 | L8: ='Marks Entry'!AK9 -> 0 | M8: ='Marks Entry'!AT9 -> 0 | N8: ='Marks Entry'!BC9 -> 0 | O8: ='Marks Entry'!BL9 -> 0
B9: ='Marks Entry'!B10 -> 0 | C9: ='Marks Entry'!$F$4 -> 12 | D9: ='Marks Entry'!D10 -> 0 | E9: ='Marks Entry'!E10 -> 0 | F9: ='Marks Entry'!F10 -> 0 | G9: ='Marks Entry'!G10 -> 0 | H9: ='Marks Entry'!H10 -> 0 | I9: ='Marks Entry'!I10 -> 0 | J9: ='Marks Entry'!S10 -> 0 | K9: ='Marks Entry'!AB10 -> 0 | L9: ='Marks Entry'!AK10 -> 0 | M9: ='Marks Entry'!AT10 -> 0 | N9: ='Marks Entry'!BC10 -> 0 | O9: ='Marks Entry'!BL10 -> 0
B10: ='Marks Entry'!B11 -> 0 | C10: ='Marks Entry'!$F$4 -> 12 | D10: ='Marks Entry'!D11 -> 0 | E10: ='Marks Entry'!E11 -> 0 | F10: ='Marks Entry'!F11 -> 0 | G10: ='Marks Entry'!G11 -> 0 | H10: ='Marks Entry'!H11 -> 0 | I10: ='Marks Entry'!I11 -> 0 | J10: ='Marks Entry'!S11 -> 0 | K10: ='Marks Entry'!AB11 -> 0 | L10: ='Marks Entry'!AK11 -> 0 | M10: ='Marks Entry'!AT11 -> 0 | N10: ='Marks Entry'!BC11 -> 0 | O10: ='Marks Entry'!BL11 -> 0
B11: ='Marks Entry'!B12 -> 0 | C11: ='Marks Entry'!$F$4 -> 12 | D11: ='Marks Entry'!D12 -> 0 | E11: ='Marks Entry'!E12 -> 0 | F11: ='Marks Entry'!F12 -> 0 | G11: ='Marks Entry'!G12 -> 0 | H11: ='Marks Entry'!H12 -> 0 | I11: ='Marks Entry'!I12 -> 0 | J11: ='Marks Entry'!S12 -> 0 | K11: ='Marks Entry'!AB12 -> 0 | L11: ='Marks Entry'!AK12 -> 0 | M11: ='Marks Entry'!AT12 -> 0 | N11: ='Marks Entry'!BC12 -> 0 | O11: ='Marks Entry'!BL12 -> 0
B12: ='Marks Entry'!B13 -> 0 | C12: ='Marks Entry'!$F$4 -> 12 | D12: ='Marks Entry'!D13 -> 0 | E12: ='Marks Entry'!E13 -> 0 | F12: ='Marks Entry'!F13 -> 0 | G12: ='Marks Entry'!G13 -> 0 | H12: ='Marks Entry'!H13 -> 0 | I12: ='Marks Entry'!I13 -> 0 | J12: ='Marks Entry'!S13 -> 0 | K12: ='Marks Entry'!AB13 -> 0 | L12: ='Marks Entry'!AK13 -> 0 | M12: ='Marks Entry'!AT13 -> 0 | N12: ='Marks Entry'!BC13 -> 0 | O12: ='Marks Entry'!BL13 -> 0
B13: ='Marks Entry'!B14 -> 0 | C13: ='Marks Entry'!$F$4 -> 12 | D13: ='Marks Entry'!D14 -> 0 | E13: ='Marks Entry'!E14 -> 0 | F13: ='Marks Entry'!F14 -> 0 | G13: ='Marks Entry'!G14 -> 0 | H13: ='Marks Entry'!H14 -> 0 | I13: ='Marks Entry'!I14 -> 0 | J13: ='Marks Entry'!S14 -> 0 | K13: ='Marks Entry'!AB14 -> 0 | L13: ='Marks Entry'!AK14 -> 0 | M13: ='Marks Entry'!AT14 -> 0 | N13: ='Marks Entry'!BC14 -> 0 | O13: ='Marks Entry'!BL14 -> 0
B14: ='Marks Entry'!B15 -> 0 | C14: ='Marks Entry'!$F$4 -> 12 | D14: ='Marks Entry'!D15 -> 0 | E14: ='Marks Entry'!E15 -> 0 | F14: ='Marks Entry'!F15 -> 0 | G14: ='Marks Entry'!G15 -> 0 | H14: ='Marks Entry'!H15 -> 0 | I14: ='Marks Entry'!I15 -> 0 | J14: ='Marks Entry'!S15 -> 0 | K14: ='Marks Entry'!AB15 -> 0 | L14: ='Marks Entry'!AK15 -> 0 | M14: ='Marks Entry'!AT15 -> 0 | N14: ='Marks Entry'!BC15 -> 0 | O14: ='Marks Entry'!BL15 -> 0
B15: ='Marks Entry'!B16 -> 0 | C15: ='Marks Entry'!$F$4 -> 12 | D15: ='Marks Entry'!D16 -> 0 | E15: ='Marks Entry'!E16 -> 0 | F15: ='Marks Entry'!F16 -> 0 | G15: ='Marks Entry'!G16 -> 0 | H15: ='Marks Entry'!H16 -> 0 | I15: ='Marks Entry'!I16 -> 0 | J15: ='Marks Entry'!S16 -> 0 | K15: ='Marks Entry'!AB16 -> 0 | L15: ='Marks Entry'!AK16 -> 0 | M15: ='Marks Entry'!AT16 -> 0 | N15: ='Marks Entry'!BC16 -> 0 | O15: ='Marks Entry'!BL16 -> 0
B16: ='Marks Entry'!B17 -> 0 | C16: ='Marks Entry'!$F$4 -> 12 | D16: ='Marks Entry'!D17 -> 0 | E16: ='Marks Entry'!E17 -> 0 | F16: ='Marks Entry'!F17 -> 0 | G16: ='Marks Entry'!G17 -> 0 | H16: ='Marks Entry'!H17 -> 0 | I16: ='Marks Entry'!I17 -> 0 | J16: ='Marks Entry'!S17 -> 0 | K16: ='Marks Entry'!AB17 -> 0 | L16: ='Marks Entry'!AK17 -> 0 | M16: ='Marks Entry'!AT17 -> 0 | N16: ='Marks Entry'!BC17 -> 0 | O16: ='Marks Entry'!BL17 -> 0
B17: ='Marks Entry'!B18 -> 0 | C17: ='Marks Entry'!$F$4 -> 12 | D17: ='Marks Entry'!D18 -> 0 | E17: ='Marks Entry'!E18 -> 0 | F17: ='Marks Entry'!F18 -> 0 | G17: ='Marks Entry'!G18 -> 0 | H17: ='Marks Entry'!H18 -> 0 | I17: ='Marks Entry'!I18 -> 0 | J17: ='Marks Entry'!S18 -> 0 | K17: ='Marks Entry'!AB18 -> 0 | L17: ='Marks Entry'!AK18 -> 0 | M17: ='Marks Entry'!AT18 -> 0 | N17: ='Marks Entry'!BC18 -> 0 | O17: ='Marks Entry'!BL18 -> 0
B18: ='Marks Entry'!B19 -> 0 | C18: ='Marks Entry'!$F$4 -> 12 | D18: ='Marks Entry'!D19 -> 0 | E18: ='Marks Entry'!E19 -> 0 | F18: ='Marks Entry'!F19 -> 0 | G18: ='Marks Entry'!G19 -> 0 | H18: ='Marks Entry'!H19 -> 0 | I18: ='Marks Entry'!I19 -> 0 | J18: ='Marks Entry'!S19 -> 0 | K18: ='Marks Entry'!AB19 -> 0 | L18: ='Marks Entry'!AK19 -> 0 | M18: ='Marks Entry'!AT19 -> 0 | N18: ='Marks Entry'!BC19 -> 0 | O18: ='Marks Entry'!BL19 -> 0
B19: ='Marks Entry'!B20 -> 0 | C19: ='Marks Entry'!$F$4 -> 12 | D19: ='Marks Entry'!D20 -> 0 | E19: ='Marks Entry'!E20 -> 0 | F19: ='Marks Entry'!F20 -> 0 | G19: ='Marks Entry'!G20 -> 0 | H19: ='Marks Entry'!H20 -> 0 | I19: ='Marks Entry'!I20 -> 0 | J19: ='Marks Entry'!S20 -> 0 | K19: ='Marks Entry'!AB20 -> 0 | L19: ='Marks Entry'!AK20 -> 0 | M19: ='Marks Entry'!AT20 -> 0 | N19: ='Marks Entry'!BC20 -> 0 | O19: ='Marks Entry'!BL20 -> 0
... B206: ='Marks Entry'!B207 -> 0 | C206: ='Marks Entry'!$F$4 -> 12 | D206: ='Marks Entry'!D207 -> 0 | E206: ='Marks Entry'!E207 -> 0 | F206: ='Marks Entry'!F207 -> 0 | G206: ='Marks Entry'!G207 -> 0 | H206: ='Marks Entry'!H207 -> 0 | I206: ='Marks Entry'!I207 -> 0 | J206: ='Marks Entry'!S207 -> 0 | K206: ='Marks Entry'!AB207 -> 0 | L206: ='Marks Entry'!AK207 -> 0 | M206: ='Marks Entry'!AT207 -> 0 | N206: ='Marks Entry'!BC207 -> 0 | O206: ='Marks Entry'!BL207 -> 0

Sheet Subject Wise
B1: Go To Marks Entry | J1: Go To All Subject List
B3: ='Marks Entry'!B1:J1 -> Govt.Sr.Sec.Sch. Raimalwada (1170723) | I3: Subject→ | J3: Subject Wise Sessioal Mark
J4: HINDI LIT. | U4: ='All Subject'!J3 -> HINDI COMP. | V4: ='All Subject'!J4 -> ABC
B5: Sassional Marks : | F5: =IF(Master!E9="2021-22","2022",IF(Master!E9="2022-23","2023","2024")) -> 2022 | G5: Class:- | H5: =CONCATENATE('Marks Entry'!F4,'Marks Entry'!I4) -> 12- | I5: Subject Teacher→ | J5: =VLOOKUP(J4,U4:V9,2,0) -> STU | U5: ='All Subject'!K3 -> ENGLISH COMP. | V5: ='All Subject'!K4 -> DEF
B6: Student Related Basic Details | J6: 1st Test | K6: 2nd Test | L6: Total Tests | M6: Half Yearly | P6: Total Half Yearly | Q6: Total Th.+Int. Evo. | R6: Sassional Marks | U6: ='All Subject'!L3 -> POL. SCIENCE | V6: ='All Subject'!L4 -> GHI
B7: Sr. No. | C7: Class | D7: SR Number | E7: School Roll Number | F7: Board Roll Number | G7: Student's Name | H7: Father's Name | I7: Mother's Name | J7: Theory | K7: Theory | M7: Theory | N7: Internal Evolution | O7: Practical | U7: ='All Subject'!M3 -> GEOGRAPHY | V7: ='All Subject'!M4 -> GHI
J8: =IF($J$4='Marks Entry'!$K$3,'Marks Entry'!K7,IF($J$4='Marks Entry'!$T$3,'Marks Entry'!T7,IF($J$4='Marks Entry'!$AC$3,'Marks Entry'!AC7,IF($J$4='Marks Entry'!$AL$3,'Marks Entry'!AU7,IF($J$4='Marks Entry'!$AU$3,'Marks Entry'!AU7,IF($J$4='Marks Entry'!$BD$3,'Marks Entry'!BD7,0)))))) -> 20 | K8: =IF($J$4='Marks Entry'!$K$3,'Marks Entry'!L7,IF($J$4='Marks Entry'!$T$3,'Marks Entry'!U7,IF($J$4='Marks Entry'!$AC$3,'Marks Entry'!AD7,IF($J$4='Marks Entry'!$AL$3,'Marks Entry'!AV7,IF($J$4='Marks Entry'!$AU$3,'Marks Entry'!AV7,IF($J$4='Marks Entry'!$BD$3,'Marks Entry'!BE7,0)))))) -> 20 | L8: =IF($J$4='Marks Entry'!$K$3,'Marks Entry'!M7,IF($J$4='Marks Entry'!$T$3,'Marks Entry'!V7,IF($J$4='Marks Entry'!$AC$3,'Marks Entry'!AE7,IF($J$4='Marks Entry'!$AL$3,'Marks Entry'!AW7,IF($J$4='Marks Entry'!$AU$3,'Marks Entry'!AW7,IF($J$4='Marks Entry'!$BD$3,'Marks Entry'!BF7,0)))))) -> 40 | M8: =IF($J$4='Marks Entry'!$K$3,'Marks Entry'!N7,IF($J$4='Marks Entry'!$T$3,'Marks Entry'!W7,IF($J$4='Marks Entry'!$AC$3,'Marks Entry'!AF7,IF($J$4='Marks Entry'!$AL$3,'Marks Entry'!AX7,IF($J$4='Marks Entry'!$AU$3,'Marks Entry'!AX7,IF($J$4='Marks Entry'!$BD$3,'Marks Entry'!BG7,0)))))) -> 48 | N8: =IF($J$4='Marks Entry'!$K$3,'Marks Entry'!O7,IF($J$4='Marks Entry'!$T$3,'Marks Entry'!X7,IF($J$4='Marks Entry'!$AC$3,'Marks Entry'!AG7,IF($J$4='Marks Entry'!$AL$3,'Marks Entry'!AY7,IF($J$4='Marks Entry'!$AU$3,'Marks Entry'!AY7,IF($J$4='Marks Entry'!$BD$3,'Marks Entry'!BH7,0)))))) -> 12 | O8: =IF($J$4='Marks Entry'!$K$3,'Marks Entry'!P7,IF($J$4='Marks Entry'!$T$3,'Marks Entry'!Y7,IF($J$4='Marks Entry'!$AC$3,'Marks Entry'!AH7,IF($J$4='Marks Entry'!$AL$3,'Marks Entry'!AZ7,IF($J$4='Marks Entry'!$AU$3,'Marks Entry'!AZ7,IF($J$4='Marks Entry'!$BD$3,'Marks Entry'!BI7,0)))))) -> 0 | P8: =IF($J$4='Marks Entry'!$K$3,'Marks Entry'!Q7,IF($J$4='Marks Entry'!$T$3,'Marks Entry'!Z7,IF($J$4='Marks Entry'!$AC$3,'Marks Entry'!AI7,IF($J$4='Marks Entry'!$AL$3,'Marks Entry'!BA7,IF($J$4='Marks Entry'!$AU$3,'Marks Entry'!BA7,IF($J$4='Marks Entry'!$BD$3,'Marks Entry'!BJ7,0)))))) -> 60 | Q8: =IF($J$4='Marks Entry'!$K$3,'Marks Entry'!R7,IF($J$4='Marks Entry'!$T$3,'Marks Entry'!AA7,IF($J$4='Marks Entry'!$AC$3,'Marks Entry'!AJ7,IF($J$4='Marks Entry'!$AL$3,'Marks Entry'!BB7,IF($J$4='Marks Entry'!$AU$3,'Marks Entry'!BB7,IF($J$4='Marks Entry'!$BD$3,'Marks Entry'!BK7,0)))))) -> 100 | R8: =IF($J$4='Marks Entry'!$K$3,'Marks Entry'!S7,IF($J$4='Marks Entry'!$T$3,'Marks Entry'!AB7,IF($J$4='Marks Entry'!$AC$3,'Marks Entry'!AK7,IF($J$4='Marks Entry'!$AL$3,'Marks Entry'!BC7,IF($J$4='Marks Entry'!$AU$3,'Marks Entry'!BC7,IF($J$4='Marks Entry'!$BD$3,'Marks Entry'!BL7,0)))))) -> 20 | U8: ='All Subject'!N3 -> MUSIC | V8: ='All Subject'!N4 -> MNO
B9: ='Marks Entry'!B8 -> 1 | C9: ='Marks Entry'!C8 -> 12 | D9: ='Marks Entry'!D8 -> 0 | E9: ='Marks Entry'!E8 -> 0 | F9: ='Marks Entry'!F8 -> 0 | G9: ='Marks Entry'!G8 -> 0 | H9: ='Marks Entry'!H8 -> 0 | I9: ='Marks Entry'!I8 -> 0 | J9: =IF($J$4='Marks Entry'!$K$3,'Marks Entry'!K8,IF($J$4='Marks Entry'!$T$3,'Marks Entry'!T8,IF($J$4='Marks Entry'!$AC$3,'Marks Entry'!AC8,IF($J$4='Marks Entry'!$AL$3,'Marks Entry'!AU8,IF($J$4='Marks Entry'!$AU$3,'Marks Entry'!AU8,IF($J$4='Marks Entry'!$BD$3,'Marks Entry'!BD8,0)))))) -> 20 | K9: =IF($J$4='Marks Entry'!$K$3,'Marks Entry'!L8,IF($J$4='Marks Entry'!$T$3,'Marks Entry'!U8,IF($J$4='Marks Entry'!$AC$3,'Marks Entry'!AD8,IF($J$4='Marks Entry'!$AL$3,'Marks Entry'!AV8,IF($J$4='Marks Entry'!$AU$3,'Marks Entry'!AV8,IF($J$4='Marks Entry'!$BD$3,'Marks Entry'!BE8,0)))))) -> 18 | L9: =IF($J$4='Marks Entry'!$K$3,'Marks Entry'!M8,IF($J$4='Marks Entry'!$T$3,'Marks Entry'!V8,IF($J$4='Marks Entry'!$AC$3,'Marks Entry'!AE8,IF($J$4='Marks Entry'!$AL$3,'Marks Entry'!AW8,IF($J$4='Marks Entry'!$AU$3,'Marks Entry'!AW8,IF($J$4='Marks Entry'!$BD$3,'Marks Entry'!BF8,0)))))) -> 38 | M9: =IF($J$4='Marks Entry'!$K$3,'Marks Entry'!N8,IF($J$4='Marks Entry'!$T$3,'Marks Entry'!W8,IF($J$4='Marks Entry'!$AC$3,'Marks Entry'!AF8,IF($J$4='Marks Entry'!$AL$3,'Marks Entry'!AX8,IF($J$4='Marks Entry'!$AU$3,'Marks Entry'!AX8,IF($J$4='Marks Entry'!$BD$3,'Marks Entry'!BG8,0)))))) -> 14 | N9: =IF($J$4='Marks Entry'!$K$3,'Marks Entry'!O8,IF($J$4='Marks Entry'!$T$3,'Marks Entry'!X8,IF($J$4='Marks Entry'!$AC$3,'Marks Entry'!AG8,IF($J$4='Marks Entry'!$AL$3,'Marks Entry'!AY8,IF($J$4='Marks Entry'!$AU$3,'Marks Entry'!AY8,IF($J$4='Marks Entry'!$BD$3,'Marks Entry'!BH8,0)))))) -> 5 | O9: =IF($J$4='Marks Entry'!$K$3,'Marks Entry'!P8,IF($J$4='Marks Entry'!$T$3,'Marks Entry'!Y8,IF($J$4='Marks Entry'!$AC$3,'Marks Entry'!AH8,IF($J$4='Marks Entry'!$AL$3,'Marks Entry'!AZ8,IF($J$4='Marks Entry'!$AU$3,'Marks Entry'!AZ8,IF($J$4='Marks Entry'!$BD$3,'Marks Entry'!BI8,0)))))) -> 0 | P9: =IF($J$4='Marks Entry'!$K$3,'Marks Entry'!Q8,IF($J$4='Marks Entry'!$T$3,'Marks Entry'!Z8,IF($J$4='Marks Entry'!$AC$3,'Marks Entry'!AI8,IF($J$4='Marks Entry'!$AL$3,'Marks Entry'!BA8,IF($J$4='Marks Entry'!$AU$3,'Marks Entry'!BA8,IF($J$4='Marks Entry'!$BD$3,'Marks Entry'!BJ8,0)))))) -> 19 | Q9: =IF($J$4='Marks Entry'!$K$3,'Marks Entry'!R8,IF($J$4='Marks Entry'!$T$3,'Marks Entry'!AA8,IF($J$4='Marks Entry'!$AC$3,'Marks Entry'!AJ8,IF($J$4='Marks Entry'!$AL$3,'Marks Entry'!BB8,IF($J$4='Marks Entry'!$AU$3,'Marks Entry'!BB8,IF($J$4='Marks Entry'!$BD$3,'Marks Entry'!BK8,0)))))) -> 57 | R9: =IF($J$4='Marks Entry'!$K$3,'Marks Entry'!S8,IF($J$4='Marks Entry'!$T$3,'Marks Entry'!AB8,IF($J$4='Marks Entry'!$AC$3,'Marks Entry'!AK8,IF($J$4='Marks Entry'!$AL$3,'Marks Entry'!BC8,IF($J$4='Marks Entry'!$AU$3,'Marks Entry'!BC8,IF($J$4='Marks Entry'!$BD$3,'Marks Entry'!BL8,0)))))) -> 12 | U9: ='All Subject'!O3 -> HINDI LIT. | V9: ='All Subject'!O4 -> STU
B10: ='Marks Entry'!B9 -> 0 | C10: ='Marks Entry'!C9 -> 0 | D10: ='Marks Entry'!D9 -> 0 | E10: ='Marks Entry'!E9 -> 0 | F10: ='Marks Entry'!F9 -> 0 | G10: ='Marks Entry'!G9 -> 0 | H10: ='Marks Entry'!H9 -> 0 | I10: ='Marks Entry'!I9 -> 0 | J10: =IF($J$4='Marks Entry'!$K$3,'Marks Entry'!K9,IF($J$4='Marks Entry'!$T$3,'Marks Entry'!T9,IF($J$4='Marks Entry'!$AC$3,'Marks Entry'!AC9,IF($J$4='Marks Entry'!$AL$3,'Marks Entry'!AU9,IF($J$4='Marks Entry'!$AU$3,'Marks Entry'!AU9,IF($J$4='Marks Entry'!$BD$3,'Marks Entry'!BD9,0)))))) -> 0 | K10: =IF($J$4='Marks Entry'!$K$3,'Marks Entry'!L9,IF($J$4='Marks Entry'!$T$3,'Marks Entry'!U9,IF($J$4='Marks Entry'!$AC$3,'Marks Entry'!AD9,IF($J$4='Marks Entry'!$AL$3,'Marks Entry'!AV9,IF($J$4='Marks Entry'!$AU$3,'Marks Entry'!AV9,IF($J$4='Marks Entry'!$BD$3,'Marks Entry'!BE9,0)))))) -> 0 | L10: =IF($J$4='Marks Entry'!$K$3,'Marks Entry'!M9,IF($J$4='Marks Entry'!$T$3,'Marks Entry'!V9,IF($J$4='Marks Entry'!$AC$3,'Marks Entry'!AE9,IF($J$4='Marks Entry'!$AL$3,'Marks Entry'!AW9,IF($J$4='Marks Entry'!$AU$3,'Marks Entry'!AW9,IF($J$4='Marks Entry'!$BD$3,'Marks Entry'!BF9,0)))))) -> 0 | M10: =IF($J$4='Marks Entry'!$K$3,'Marks Entry'!N9,IF($J$4='Marks Entry'!$T$3,'Marks Entry'!W9,IF($J$4='Marks Entry'!$AC$3,'Marks Entry'!AF9,IF($J$4='Marks Entry'!$AL$3,'Marks Entry'!AX9,IF($J$4='Marks Entry'!$AU$3,'Marks Entry'!AX9,IF($J$4='Marks Entry'!$BD$3,'Marks Entry'!BG9,0)))))) -> 0 | N10: =IF($J$4='Marks Entry'!$K$3,'Marks Entry'!O9,IF($J$4='Marks Entry'!$T$3,'Marks Entry'!X9,IF($J$4='Marks Entry'!$AC$3,'Marks Entry'!AG9,IF($J$4='Marks Entry'!$AL$3,'Marks Entry'!AY9,IF($J$4='Marks Entry'!$AU$3,'Marks Entry'!AY9,IF($J$4='Marks Entry'!$BD$3,'Marks Entry'!BH9,0)))))) -> 0 | O10: =IF($J$4='Marks Entry'!$K$3,'Marks Entry'!P9,IF($J$4='Marks Entry'!$T$3,'Marks Entry'!Y9,IF($J$4='Marks Entry'!$AC$3,'Marks Entry'!AH9,IF($J$4='Marks Entry'!$AL$3,'Marks Entry'!AZ9,IF($J$4='Marks Entry'!$AU$3,'Marks Entry'!AZ9,IF($J$4='Marks Entry'!$BD$3,'Marks Entry'!BI9,0)))))) -> 0 | P10: =IF($J$4='Marks Entry'!$K$3,'Marks Entry'!Q9,IF($J$4='Marks Entry'!$T$3,'Marks Entry'!Z9,IF($J$4='Marks Entry'!$AC$3,'Marks Entry'!AI9,IF($J$4='Marks Entry'!$AL$3,'Marks Entry'!BA9,IF($J$4='Marks Entry'!$AU$3,'Marks Entry'!BA9,IF($J$4='Marks Entry'!$BD$3,'Marks Entry'!BJ9,0)))))) -> 0 | Q10: =IF($J$4='Marks Entry'!$K$3,'Marks Entry'!R9,IF($J$4='Marks Entry'!$T$3,'Marks Entry'!AA9,IF($J$4='Marks Entry'!$AC$3,'Marks Entry'!AJ9,IF($J$4='Marks Entry'!$AL$3,'Marks Entry'!BB9,IF($J$4='Marks Entry'!$AU$3,'Marks Entry'!BB9,IF($J$4='Marks Entry'!$BD$3,'Marks Entry'!BK9,0)))))) -> 0 | R10: =IF($J$4='Marks Entry'!$K$3,'Marks Entry'!S9,IF($J$4='Marks Entry'!$T$3,'Marks Entry'!AB9,IF($J$4='Marks Entry'!$AC$3,'Marks Entry'!AK9,IF($J$4='Marks Entry'!$AL$3,'Marks Entry'!BC9,IF($J$4='Marks Entry'!$AU$3,'Marks Entry'!BC9,IF($J$4='Marks Entry'!$BD$3,'Marks Entry'!BL9,0)))))) -> 0
B11: ='Marks Entry'!B10 -> 0 | C11: ='Marks Entry'!C10 -> 0 | D11: ='Marks Entry'!D10 -> 0 | E11: ='Marks Entry'!E10 -> 0 | F11: ='Marks Entry'!F10 -> 0 | G11: ='Marks Entry'!G10 -> 0 | H11: ='Marks Entry'!H10 -> 0 | I11: ='Marks Entry'!I10 -> 0 | J11: =IF($J$4='Marks Entry'!$K$3,'Marks Entry'!K10,IF($J$4='Marks Entry'!$T$3,'Marks Entry'!T10,IF($J$4='Marks Entry'!$AC$3,'Marks Entry'!AC10,IF($J$4='Marks Entry'!$AL$3,'Marks Entry'!AU10,IF($J$4='Marks Entry'!$AU$3,'Marks Entry'!AU10,IF($J$4='Marks Entry'!$BD$3,'Marks Entry'!BD10,0)))))) -> 0 | K11: =IF($J$4='Marks Entry'!$K$3,'Marks Entry'!L10,IF($J$4='Marks Entry'!$T$3,'Marks Entry'!U10,IF($J$4='Marks Entry'!$AC$3,'Marks Entry'!AD10,IF($J$4='Marks Entry'!$AL$3,'Marks Entry'!AV10,IF($J$4='Marks Entry'!$AU$3,'Marks Entry'!AV10,IF($J$4='Marks Entry'!$BD$3,'Marks Entry'!BE10,0)))))) -> 0 | L11: =IF($J$4='Marks Entry'!$K$3,'Marks Entry'!M10,IF($J$4='Marks Entry'!$T$3,'Marks Entry'!V10,IF($J$4='Marks Entry'!$AC$3,'Marks Entry'!AE10,IF($J$4='Marks Entry'!$AL$3,'Marks Entry'!AW10,IF($J$4='Marks Entry'!$AU$3,'Marks Entry'!AW10,IF($J$4='Marks Entry'!$BD$3,'Marks Entry'!BF10,0)))))) -> 0 | M11: =IF($J$4='Marks Entry'!$K$3,'Marks Entry'!N10,IF($J$4='Marks Entry'!$T$3,'Marks Entry'!W10,IF($J$4='Marks Entry'!$AC$3,'Marks Entry'!AF10,IF($J$4='Marks Entry'!$AL$3,'Marks Entry'!AX10,IF($J$4='Marks Entry'!$AU$3,'Marks Entry'!AX10,IF($J$4='Marks Entry'!$BD$3,'Marks Entry'!BG10,0)))))) -> 0 | N11: =IF($J$4='Marks Entry'!$K$3,'Marks Entry'!O10,IF($J$4='Marks Entry'!$T$3,'Marks Entry'!X10,IF($J$4='Marks Entry'!$AC$3,'Marks Entry'!AG10,IF($J$4='Marks Entry'!$AL$3,'Marks Entry'!AY10,IF($J$4='Marks Entry'!$AU$3,'Marks Entry'!AY10,IF($J$4='Marks Entry'!$BD$3,'Marks Entry'!BH10,0)))))) -> 0 | O11: =IF($J$4='Marks Entry'!$K$3,'Marks Entry'!P10,IF($J$4='Marks Entry'!$T$3,'Marks Entry'!Y10,IF($J$4='Marks Entry'!$AC$3,'Marks Entry'!AH10,IF($J$4='Marks Entry'!$AL$3,'Marks Entry'!AZ10,IF($J$4='Marks Entry'!$AU$3,'Marks Entry'!AZ10,IF($J$4='Marks Entry'!$BD$3,'Marks Entry'!BI10,0)))))) -> 0 | P11: =IF($J$4='Marks Entry'!$K$3,'Marks Entry'!Q10,IF($J$4='Marks Entry'!$T$3,'Marks Entry'!Z10,IF($J$4='Marks Entry'!$AC$3,'Marks Entry'!AI10,IF($J$4='Marks Entry'!$AL$3,'Marks Entry'!BA10,IF($J$4='Marks Entry'!$AU$3,'Marks Entry'!BA10,IF($J$4='Marks Entry'!$BD$3,'Marks Entry'!BJ10,0)))))) -> 0 | Q11: =IF($J$4='Marks Entry'!$K$3,'Marks Entry'!R10,IF($J$4='Marks Entry'!$T$3,'Marks Entry'!AA10,IF($J$4='Marks Entry'!$AC$3,'Marks Entry'!AJ10,IF($J$4='Marks Entry'!$AL$3,'Marks Entry'!BB10,IF($J$4='Marks Entry'!$AU$3,'Marks Entry'!BB10,IF($J$4='Marks Entry'!$BD$3,'Marks Entry'!BK10,0)))))) -> 0 | R11: =IF($J$4='Marks Entry'!$K$3,'Marks Entry'!S10,IF($J$4='Marks Entry'!$T$3,'Marks Entry'!AB10,IF($J$4='Marks Entry'!$AC$3,'Marks Entry'!AK10,IF($J$4='Marks Entry'!$AL$3,'Marks Entry'!BC10,IF($J$4='Marks Entry'!$AU$3,'Marks Entry'!BC10,IF($J$4='Marks Entry'!$BD$3,'Marks Entry'!BL10,0)))))) -> 0
B12: ='Marks Entry'!B11 -> 0 | C12: ='Marks Entry'!C11 -> 0 | D12: ='Marks Entry'!D11 -> 0 | E12: ='Marks Entry'!E11 -> 0 | F12: ='Marks Entry'!F11 -> 0 | G12: ='Marks Entry'!G11 -> 0 | H12: ='Marks Entry'!H11 -> 0 | I12: ='Marks Entry'!I11 -> 0 | J12: =IF($J$4='Marks Entry'!$K$3,'Marks Entry'!K11,IF($J$4='Marks Entry'!$T$3,'Marks Entry'!T11,IF($J$4='Marks Entry'!$AC$3,'Marks Entry'!AC11,IF($J$4='Marks Entry'!$AL$3,'Marks Entry'!AU11,IF($J$4='Marks Entry'!$AU$3,'Marks Entry'!AU11,IF($J$4='Marks Entry'!$BD$3,'Marks Entry'!BD11,0)))))) -> 0 | K12: =IF($J$4='Marks Entry'!$K$3,'Marks Entry'!L11,IF($J$4='Marks Entry'!$T$3,'Marks Entry'!U11,IF($J$4='Marks Entry'!$AC$3,'Marks Entry'!AD11,IF($J$4='Marks Entry'!$AL$3,'Marks Entry'!AV11,IF($J$4='Marks Entry'!$AU$3,'Marks Entry'!AV11,IF($J$4='Marks Entry'!$BD$3,'Marks Entry'!BE11,0)))))) -> 0 | L12: =IF($J$4='Marks Entry'!$K$3,'Marks Entry'!M11,IF($J$4='Marks Entry'!$T$3,'Marks Entry'!V11,IF($J$4='Marks Entry'!$AC$3,'Marks Entry'!AE11,IF($J$4='Marks Entry'!$AL$3,'Marks Entry'!AW11,IF($J$4='Marks Entry'!$AU$3,'Marks Entry'!AW11,IF($J$4='Marks Entry'!$BD$3,'Marks Entry'!BF11,0)))))) -> 0 | M12: =IF($J$4='Marks Entry'!$K$3,'Marks Entry'!N11,IF($J$4='Marks Entry'!$T$3,'Marks Entry'!W11,IF($J$4='Marks Entry'!$AC$3,'Marks Entry'!AF11,IF($J$4='Marks Entry'!$AL$3,'Marks Entry'!AX11,IF($J$4='Marks Entry'!$AU$3,'Marks Entry'!AX11,IF($J$4='Marks Entry'!$BD$3,'Marks Entry'!BG11,0)))))) -> 0 | N12: =IF($J$4='Marks Entry'!$K$3,'Marks Entry'!O11,IF($J$4='Marks Entry'!$T$3,'Marks Entry'!X11,IF($J$4='Marks Entry'!$AC$3,'Marks Entry'!AG11,IF($J$4='Marks Entry'!$AL$3,'Marks Entry'!AY11,IF($J$4='Marks Entry'!$AU$3,'Marks Entry'!AY11,IF($J$4='Marks Entry'!$BD$3,'Marks Entry'!BH11,0)))))) -> 0 | O12: =IF($J$4='Marks Entry'!$K$3,'Marks Entry'!P11,IF($J$4='Marks Entry'!$T$3,'Marks Entry'!Y11,IF($J$4='Marks Entry'!$AC$3,'Marks Entry'!AH11,IF($J$4='Marks Entry'!$AL$3,'Marks Entry'!AZ11,IF($J$4='Marks Entry'!$AU$3,'Marks Entry'!AZ11,IF($J$4='Marks Entry'!$BD$3,'Marks Entry'!BI11,0)))))) -> 0 | P12: =IF($J$4='Marks Entry'!$K$3,'Marks Entry'!Q11,IF($J$4='Marks Entry'!$T$3,'Marks Entry'!Z11,IF($J$4='Marks Entry'!$AC$3,'Marks Entry'!AI11,IF($J$4='Marks Entry'!$AL$3,'Marks Entry'!BA11,IF($J$4='Marks Entry'!$AU$3,'Marks Entry'!BA11,IF($J$4='Marks Entry'!$BD$3,'Marks Entry'!BJ11,0)))))) -> 0 | Q12: =IF($J$4='Marks Entry'!$K$3,'Marks Entry'!R11,IF($J$4='Marks Entry'!$T$3,'Marks Entry'!AA11,IF($J$4='Marks Entry'!$AC$3,'Marks Entry'!AJ11,IF($J$4='Marks Entry'!$AL$3,'Marks Entry'!BB11,IF($J$4='Marks Entry'!$AU$3,'Marks Entry'!BB11,IF($J$4='Marks Entry'!$BD$3,'Marks Entry'!BK11,0)))))) -> 0 | R12: =IF($J$4='Marks Entry'!$K$3,'Marks Entry'!S11,IF($J$4='Marks Entry'!$T$3,'Marks Entry'!AB11,IF($J$4='Marks Entry'!$AC$3,'Marks Entry'!AK11,IF($J$4='Marks Entry'!$AL$3,'Marks Entry'!BC11,IF($J$4='Marks Entry'!$AU$3,'Marks Entry'!BC11,IF($J$4='Marks Entry'!$BD$3,'Marks Entry'!BL11,0)))))) -> 0
B13: ='Marks Entry'!B12 -> 0 | C13: ='Marks Entry'!C12 -> 0 | D13: ='Marks Entry'!D12 -> 0 | E13: ='Marks Entry'!E12 -> 0 | F13: ='Marks Entry'!F12 -> 0 | G13: ='Marks Entry'!G12 -> 0 | H13: ='Marks Entry'!H12 -> 0 | I13: ='Marks Entry'!I12 -> 0 | J13: =IF($J$4='Marks Entry'!$K$3,'Marks Entry'!K12,IF($J$4='Marks Entry'!$T$3,'Marks Entry'!T12,IF($J$4='Marks Entry'!$AC$3,'Marks Entry'!AC12,IF($J$4='Marks Entry'!$AL$3,'Marks Entry'!AU12,IF($J$4='Marks Entry'!$AU$3,'Marks Entry'!AU12,IF($J$4='Marks Entry'!$BD$3,'Marks Entry'!BD12,0)))))) -> 0 | K13: =IF($J$4='Marks Entry'!$K$3,'Marks Entry'!L12,IF($J$4='Marks Entry'!$T$3,'Marks Entry'!U12,IF($J$4='Marks Entry'!$AC$3,'Marks Entry'!AD12,IF($J$4='Marks Entry'!$AL$3,'Marks Entry'!AV12,IF($J$4='Marks Entry'!$AU$3,'Marks Entry'!AV12,IF($J$4='Marks Entry'!$BD$3,'Marks Entry'!BE12,0)))))) -> 0 | L13: =IF($J$4='Marks Entry'!$K$3,'Marks Entry'!M12,IF($J$4='Marks Entry'!$T$3,'Marks Entry'!V12,IF($J$4='Marks Entry'!$AC$3,'Marks Entry'!AE12,IF($J$4='Marks Entry'!$AL$3,'Marks Entry'!AW12,IF($J$4='Marks Entry'!$AU$3,'Marks Entry'!AW12,IF($J$4='Marks Entry'!$BD$3,'Marks Entry'!BF12,0)))))) -> 0 | M13: =IF($J$4='Marks Entry'!$K$3,'Marks Entry'!N12,IF($J$4='Marks Entry'!$T$3,'Marks Entry'!W12,IF($J$4='Marks Entry'!$AC$3,'Marks Entry'!AF12,IF($J$4='Marks Entry'!$AL$3,'Marks Entry'!AX12,IF($J$4='Marks Entry'!$AU$3,'Marks Entry'!AX12,IF($J$4='Marks Entry'!$BD$3,'Marks Entry'!BG12,0)))))) -> 0 | N13: =IF($J$4='Marks Entry'!$K$3,'Marks Entry'!O12,IF($J$4='Marks Entry'!$T$3,'Marks Entry'!X12,IF($J$4='Marks Entry'!$AC$3,'Marks Entry'!AG12,IF($J$4='Marks Entry'!$AL$3,'Marks Entry'!AY12,IF($J$4='Marks Entry'!$AU$3,'Marks Entry'!AY12,IF($J$4='Marks Entry'!$BD$3,'Marks Entry'!BH12,0)))))) -> 0 | O13: =IF($J$4='Marks Entry'!$K$3,'Marks Entry'!P12,IF($J$4='Marks Entry'!$T$3,'Marks Entry'!Y12,IF($J$4='Marks Entry'!$AC$3,'Marks Entry'!AH12,IF($J$4='Marks Entry'!$AL$3,'Marks Entry'!AZ12,IF($J$4='Marks Entry'!$AU$3,'Marks Entry'!AZ12,IF($J$4='Marks Entry'!$BD$3,'Marks Entry'!BI12,0)))))) -> 0 | P13: =IF($J$4='Marks Entry'!$K$3,'Marks Entry'!Q12,IF($J$4='Marks Entry'!$T$3,'Marks Entry'!Z12,IF($J$4='Marks Entry'!$AC$3,'Marks Entry'!AI12,IF($J$4='Marks Entry'!$AL$3,'Marks Entry'!BA12,IF($J$4='Marks Entry'!$AU$3,'Marks Entry'!BA12,IF($J$4='Marks Entry'!$BD$3,'Marks Entry'!BJ12,0)))))) -> 0 | Q13: =IF($J$4='Marks Entry'!$K$3,'Marks Entry'!R12,IF($J$4='Marks Entry'!$T$3,'Marks Entry'!AA12,IF($J$4='Marks Entry'!$AC$3,'Marks Entry'!AJ12,IF($J$4='Marks Entry'!$AL$3,'Marks Entry'!BB12,IF($J$4='Marks Entry'!$AU$3,'Marks Entry'!BB12,IF($J$4='Marks Entry'!$BD$3,'Marks Entry'!BK12,0)))))) -> 0 | R13: =IF($J$4='Marks Entry'!$K$3,'Marks Entry'!S12,IF($J$4='Marks Entry'!$T$3,'Marks Entry'!AB12,IF($J$4='Marks Entry'!$AC$3,'Marks Entry'!AK12,IF($J$4='Marks Entry'!$AL$3,'Marks Entry'!BC12,IF($J$4='Marks Entry'!$AU$3,'Marks Entry'!BC12,IF($J$4='Marks Entry'!$BD$3,'Marks Entry'!BL12,0)))))) -> 0
B14: ='Marks Entry'!B13 -> 0 | C14: ='Marks Entry'!C13 -> 0 | D14: ='Marks Entry'!D13 -> 0 | E14: ='Marks Entry'!E13 -> 0 | F14: ='Marks Entry'!F13 -> 0 | G14: ='Marks Entry'!G13 -> 0 | H14: ='Marks Entry'!H13 -> 0 | I14: ='Marks Entry'!I13 -> 0 | J14: =IF($J$4='Marks Entry'!$K$3,'Marks Entry'!K13,IF($J$4='Marks Entry'!$T$3,'Marks Entry'!T13,IF($J$4='Marks Entry'!$AC$3,'Marks Entry'!AC13,IF($J$4='Marks Entry'!$AL$3,'Marks Entry'!AU13,IF($J$4='Marks Entry'!$AU$3,'Marks Entry'!AU13,IF($J$4='Marks Entry'!$BD$3,'Marks Entry'!BD13,0)))))) -> 0 | K14: =IF($J$4='Marks Entry'!$K$3,'Marks Entry'!L13,IF($J$4='Marks Entry'!$T$3,'Marks Entry'!U13,IF($J$4='Marks Entry'!$AC$3,'Marks Entry'!AD13,IF($J$4='Marks Entry'!$AL$3,'Marks Entry'!AV13,IF($J$4='Marks Entry'!$AU$3,'Marks Entry'!AV13,IF($J$4='Marks Entry'!$BD$3,'Marks Entry'!BE13,0)))))) -> 0 | L14: =IF($J$4='Marks Entry'!$K$3,'Marks Entry'!M13,IF($J$4='Marks Entry'!$T$3,'Marks Entry'!V13,IF($J$4='Marks Entry'!$AC$3,'Marks Entry'!AE13,IF($J$4='Marks Entry'!$AL$3,'Marks Entry'!AW13,IF($J$4='Marks Entry'!$AU$3,'Marks Entry'!AW13,IF($J$4='Marks Entry'!$BD$3,'Marks Entry'!BF13,0)))))) -> 0 | M14: =IF($J$4='Marks Entry'!$K$3,'Marks Entry'!N13,IF($J$4='Marks Entry'!$T$3,'Marks Entry'!W13,IF($J$4='Marks Entry'!$AC$3,'Marks Entry'!AF13,IF($J$4='Marks Entry'!$AL$3,'Marks Entry'!AX13,IF($J$4='Marks Entry'!$AU$3,'Marks Entry'!AX13,IF($J$4='Marks Entry'!$BD$3,'Marks Entry'!BG13,0)))))) -> 0 | N14: =IF($J$4='Marks Entry'!$K$3,'Marks Entry'!O13,IF($J$4='Marks Entry'!$T$3,'Marks Entry'!X13,IF($J$4='Marks Entry'!$AC$3,'Marks Entry'!AG13,IF($J$4='Marks Entry'!$AL$3,'Marks Entry'!AY13,IF($J$4='Marks Entry'!$AU$3,'Marks Entry'!AY13,IF($J$4='Marks Entry'!$BD$3,'Marks Entry'!BH13,0)))))) -> 0 | O14: =IF($J$4='Marks Entry'!$K$3,'Marks Entry'!P13,IF($J$4='Marks Entry'!$T$3,'Marks Entry'!Y13,IF($J$4='Marks Entry'!$AC$3,'Marks Entry'!AH13,IF($J$4='Marks Entry'!$AL$3,'Marks Entry'!AZ13,IF($J$4='Marks Entry'!$AU$3,'Marks Entry'!AZ13,IF($J$4='Marks Entry'!$BD$3,'Marks Entry'!BI13,0)))))) -> 0 | P14: =IF($J$4='Marks Entry'!$K$3,'Marks Entry'!Q13,IF($J$4='Marks Entry'!$T$3,'Marks Entry'!Z13,IF($J$4='Marks Entry'!$AC$3,'Marks Entry'!AI13,IF($J$4='Marks Entry'!$AL$3,'Marks Entry'!BA13,IF($J$4='Marks Entry'!$AU$3,'Marks Entry'!BA13,IF($J$4='Marks Entry'!$BD$3,'Marks Entry'!BJ13,0)))))) -> 0 | Q14: =IF($J$4='Marks Entry'!$K$3,'Marks Entry'!R13,IF($J$4='Marks Entry'!$T$3,'Marks Entry'!AA13,IF($J$4='Marks Entry'!$AC$3,'Marks Entry'!AJ13,IF($J$4='Marks Entry'!$AL$3,'Marks Entry'!BB13,IF($J$4='Marks Entry'!$AU$3,'Marks Entry'!BB13,IF($J$4='Marks Entry'!$BD$3,'Marks Entry'!BK13,0)))))) -> 0 | R14: =IF($J$4='Marks Entry'!$K$3,'Marks Entry'!S13,IF($J$4='Marks Entry'!$T$3,'Marks Entry'!AB13,IF($J$4='Marks Entry'!$AC$3,'Marks Entry'!AK13,IF($J$4='Marks Entry'!$AL$3,'Marks Entry'!BC13,IF($J$4='Marks Entry'!$AU$3,'Marks Entry'!BC13,IF($J$4='Marks Entry'!$BD$3,'Marks Entry'!BL13,0)))))) -> 0
B15: ='Marks Entry'!B14 -> 0 | C15: ='Marks Entry'!C14 -> 0 | D15: ='Marks Entry'!D14 -> 0 | E15: ='Marks Entry'!E14 -> 0 | F15: ='Marks Entry'!F14 -> 0 | G15: ='Marks Entry'!G14 -> 0 | H15: ='Marks Entry'!H14 -> 0 | I15: ='Marks Entry'!I14 -> 0 | J15: =IF($J$4='Marks Entry'!$K$3,'Marks Entry'!K14,IF($J$4='Marks Entry'!$T$3,'Marks Entry'!T14,IF($J$4='Marks Entry'!$AC$3,'Marks Entry'!AC14,IF($J$4='Marks Entry'!$AL$3,'Marks Entry'!AU14,IF($J$4='Marks Entry'!$AU$3,'Marks Entry'!AU14,IF($J$4='Marks Entry'!$BD$3,'Marks Entry'!BD14,0)))))) -> 0 | K15: =IF($J$4='Marks Entry'!$K$3,'Marks Entry'!L14,IF($J$4='Marks Entry'!$T$3,'Marks Entry'!U14,IF($J$4='Marks Entry'!$AC$3,'Marks Entry'!AD14,IF($J$4='Marks Entry'!$AL$3,'Marks Entry'!AV14,IF($J$4='Marks Entry'!$AU$3,'Marks Entry'!AV14,IF($J$4='Marks Entry'!$BD$3,'Marks Entry'!BE14,0)))))) -> 0 | L15: =IF($J$4='Marks Entry'!$K$3,'Marks Entry'!M14,IF($J$4='Marks Entry'!$T$3,'Marks Entry'!V14,IF($J$4='Marks Entry'!$AC$3,'Marks Entry'!AE14,IF($J$4='Marks Entry'!$AL$3,'Marks Entry'!AW14,IF($J$4='Marks Entry'!$AU$3,'Marks Entry'!AW14,IF($J$4='Marks Entry'!$BD$3,'Marks Entry'!BF14,0)))))) -> 0 | M15: =IF($J$4='Marks Entry'!$K$3,'Marks Entry'!N14,IF($J$4='Marks Entry'!$T$3,'Marks Entry'!W14,IF($J$4='Marks Entry'!$AC$3,'Marks Entry'!AF14,IF($J$4='Marks Entry'!$AL$3,'Marks Entry'!AX14,IF($J$4='Marks Entry'!$AU$3,'Marks Entry'!AX14,IF($J$4='Marks Entry'!$BD$3,'Marks Entry'!BG14,0)))))) -> 0 | N15: =IF($J$4='Marks Entry'!$K$3,'Marks Entry'!O14,IF($J$4='Marks Entry'!$T$3,'Marks Entry'!X14,IF($J$4='Marks Entry'!$AC$3,'Marks Entry'!AG14,IF($J$4='Marks Entry'!$AL$3,'Marks Entry'!AY14,IF($J$4='Marks Entry'!$AU$3,'Marks Entry'!AY14,IF($J$4='Marks Entry'!$BD$3,'Marks Entry'!BH14,0)))))) -> 0 | O15: =IF($J$4='Marks Entry'!$K$3,'Marks Entry'!P14,IF($J$4='Marks Entry'!$T$3,'Marks Entry'!Y14,IF($J$4='Marks Entry'!$AC$3,'Marks Entry'!AH14,IF($J$4='Marks Entry'!$AL$3,'Marks Entry'!AZ14,IF($J$4='Marks Entry'!$AU$3,'Marks Entry'!AZ14,IF($J$4='Marks Entry'!$BD$3,'Marks Entry'!BI14,0)))))) -> 0 | P15: =IF($J$4='Marks Entry'!$K$3,'Marks Entry'!Q14,IF($J$4='Marks Entry'!$T$3,'Marks Entry'!Z14,IF($J$4='Marks Entry'!$AC$3,'Marks Entry'!AI14,IF($J$4='Marks Entry'!$AL$3,'Marks Entry'!BA14,IF($J$4='Marks Entry'!$AU$3,'Marks Entry'!BA14,IF($J$4='Marks Entry'!$BD$3,'Marks Entry'!BJ14,0)))))) -> 0 | Q15: =IF($J$4='Marks Entry'!$K$3,'Marks Entry'!R14,IF($J$4='Marks Entry'!$T$3,'Marks Entry'!AA14,IF($J$4='Marks Entry'!$AC$3,'Marks Entry'!AJ14,IF($J$4='Marks Entry'!$AL$3,'Marks Entry'!BB14,IF($J$4='Marks Entry'!$AU$3,'Marks Entry'!BB14,IF($J$4='Marks Entry'!$BD$3,'Marks Entry'!BK14,0)))))) -> 0 | R15: =IF($J$4='Marks Entry'!$K$3,'Marks Entry'!S14,IF($J$4='Marks Entry'!$T$3,'Marks Entry'!AB14,IF($J$4='Marks Entry'!$AC$3,'Marks Entry'!AK14,IF($J$4='Marks Entry'!$AL$3,'Marks Entry'!BC14,IF($J$4='Marks Entry'!$AU$3,'Marks Entry'!BC14,IF($J$4='Marks Entry'!$BD$3,'Marks Entry'!BL14,0)))))) -> 0
B16: ='Marks Entry'!B15 -> 0 | C16: ='Marks Entry'!C15 -> 0 | D16: ='Marks Entry'!D15 -> 0 | E16: ='Marks Entry'!E15 -> 0 | F16: ='Marks Entry'!F15 -> 0 | G16: ='Marks Entry'!G15 -> 0 | H16: ='Marks Entry'!H15 -> 0 | I16: ='Marks Entry'!I15 -> 0 | J16: =IF($J$4='Marks Entry'!$K$3,'Marks Entry'!K15,IF($J$4='Marks Entry'!$T$3,'Marks Entry'!T15,IF($J$4='Marks Entry'!$AC$3,'Marks Entry'!AC15,IF($J$4='Marks Entry'!$AL$3,'Marks Entry'!AU15,IF($J$4='Marks Entry'!$AU$3,'Marks Entry'!AU15,IF($J$4='Marks Entry'!$BD$3,'Marks Entry'!BD15,0)))))) -> 0 | K16: =IF($J$4='Marks Entry'!$K$3,'Marks Entry'!L15,IF($J$4='Marks Entry'!$T$3,'Marks Entry'!U15,IF($J$4='Marks Entry'!$AC$3,'Marks Entry'!AD15,IF($J$4='Marks Entry'!$AL$3,'Marks Entry'!AV15,IF($J$4='Marks Entry'!$AU$3,'Marks Entry'!AV15,IF($J$4='Marks Entry'!$BD$3,'Marks Entry'!BE15,0)))))) -> 0 | L16: =IF($J$4='Marks Entry'!$K$3,'Marks Entry'!M15,IF($J$4='Marks Entry'!$T$3,'Marks Entry'!V15,IF($J$4='Marks Entry'!$AC$3,'Marks Entry'!AE15,IF($J$4='Marks Entry'!$AL$3,'Marks Entry'!AW15,IF($J$4='Marks Entry'!$AU$3,'Marks Entry'!AW15,IF($J$4='Marks Entry'!$BD$3,'Marks Entry'!BF15,0)))))) -> 0 | M16: =IF($J$4='Marks Entry'!$K$3,'Marks Entry'!N15,IF($J$4='Marks Entry'!$T$3,'Marks Entry'!W15,IF($J$4='Marks Entry'!$AC$3,'Marks Entry'!AF15,IF($J$4='Marks Entry'!$AL$3,'Marks Entry'!AX15,IF($J$4='Marks Entry'!$AU$3,'Marks Entry'!AX15,IF($J$4='Marks Entry'!$BD$3,'Marks Entry'!BG15,0)))))) -> 0 | N16: =IF($J$4='Marks Entry'!$K$3,'Marks Entry'!O15,IF($J$4='Marks Entry'!$T$3,'Marks Entry'!X15,IF($J$4='Marks Entry'!$AC$3,'Marks Entry'!AG15,IF($J$4='Marks Entry'!$AL$3,'Marks Entry'!AY15,IF($J$4='Marks Entry'!$AU$3,'Marks Entry'!AY15,IF($J$4='Marks Entry'!$BD$3,'Marks Entry'!BH15,0)))))) -> 0 | O16: =IF($J$4='Marks Entry'!$K$3,'Marks Entry'!P15,IF($J$4='Marks Entry'!$T$3,'Marks Entry'!Y15,IF($J$4='Marks Entry'!$AC$3,'Marks Entry'!AH15,IF($J$4='Marks Entry'!$AL$3,'Marks Entry'!AZ15,IF($J$4='Marks Entry'!$AU$3,'Marks Entry'!AZ15,IF($J$4='Marks Entry'!$BD$3,'Marks Entry'!BI15,0)))))) -> 0 | P16: =IF($J$4='Marks Entry'!$K$3,'Marks Entry'!Q15,IF($J$4='Marks Entry'!$T$3,'Marks Entry'!Z15,IF($J$4='Marks Entry'!$AC$3,'Marks Entry'!AI15,IF($J$4='Marks Entry'!$AL$3,'Marks Entry'!BA15,IF($J$4='Marks Entry'!$AU$3,'Marks Entry'!BA15,IF($J$4='Marks Entry'!$BD$3,'Marks Entry'!BJ15,0)))))) -> 0 | Q16: =IF($J$4='Marks Entry'!$K$3,'Marks Entry'!R15,IF($J$4='Marks Entry'!$T$3,'Marks Entry'!AA15,IF($J$4='Marks Entry'!$AC$3,'Marks Entry'!AJ15,IF($J$4='Marks Entry'!$AL$3,'Marks Entry'!BB15,IF($J$4='Marks Entry'!$AU$3,'Marks Entry'!BB15,IF($J$4='Marks Entry'!$BD$3,'Marks Entry'!BK15,0)))))) -> 0 | R16: =IF($J$4='Marks Entry'!$K$3,'Marks Entry'!S15,IF($J$4='Marks Entry'!$T$3,'Marks Entry'!AB15,IF($J$4='Marks Entry'!$AC$3,'Marks Entry'!AK15,IF($J$4='Marks Entry'!$AL$3,'Marks Entry'!BC15,IF($J$4='Marks Entry'!$AU$3,'Marks Entry'!BC15,IF($J$4='Marks Entry'!$BD$3,'Marks Entry'!BL15,0)))))) -> 0
