Workbook

Sheet Master
B2: निर्देश :- 1. यह सॉफ्टवेयर आपकी सुविधार्थ राजस्थान माध्यमिक शिक्षा बोर्ड कक्षा 10 एवं 12 दोनों के सत्रांक तैयार करने के उद्देश्य को ध्यान में रखते हुए तैयार किया गया हैl | U2: सेवा | V2: सहयोग | W2: समर्पण
B3: 2. सर्वप्रथम Master शीट में आवश्यक पूर्तियां करके Marks Entry शीट में विद्यार्थियों की जानकारी, कक्षा तथा सम्बंधित विषय एवं विषयाध्यापक का चुनाव करते हुए निर्धारित अंक भरेंl
B4: 3. All Subject शीट में सभी विषय की समेकित सत्रांक सूची तथा Subject Wise शीट में वांछित विषयवार सूची का प्रिंट प्राप्त किया जा सकता हैl
B5: नोट:- हालाँकि यह सत्रांक सॉफ्टवेयर माध्यमिक शिक्षा बोर्ड राजस्थान की कक्षा 10 एवं 12 हेतु विभागीय नियमानुसार तैयार किया गया है, फिर भी इसमें किसी मानवीय त्रुटी की स्थिति में विभागीय नियम ही सर्वमान्य होंगे, ऑनलाइन दर्ज करने से पूर्व अवश्य जाँच कर लेवेंl
B7: BOARD CLASS SASSIONAL PREPARATION PROGRAM | AB7: 2019-20 | AC7: PRIMARY
K8: Subjects | P8: Staff Detail | AB8: 2019-21 | AC8: UPPER PRIMARY
B9: SESSION | D9: :- | E9: 2021-22 | K9: Sr. No. | L9: Name | M9: Sr. No. | N9: Name | P9: Sr. No. | Q9: Name | R9: Sr. No. | S9: Name | AB9: 2019-22 | AC9: SECONDARY
K10: 1 | L10: HINDI | P10: 1 | AB10: 2019-21 | AC10: UPPER PRIMARY
B11: SCHOOL'S FULL NAME (Board Code) | D11: :- | K11: 2 | L11: ENGLISH | P11: 2
K12: 3 | L12: SCIENCE | P12: 3 | AB12: 2019-22 | AC12: SECONDARY
K13: 4 | L13: MATHEMATICS | P13: 4 | AB13: 2019-23 | AC13: SR. SECONDARY
B14: ADDRESS | D14: :- | K14: 5 | L14: SOCIAL SCIENCE | P14: 5
K15: 6 | L15: SANSKRIT | P15: 6 | U15: PREPARED BY:-UMMED TARAD | AB15: 2019-24
K16: 7 | L16: H & C RAJ.-3 | P16: 7 | AB16: 2019-23 | AC16: SR. SECONDARY
B17: U-DISE CODE | D17: :- | E17: 081100000000 | K17: 8 | L17: F.O.I.TECH.-3 | P17: 8 | AB17: 2019-24
K18: 9 | L18: SUPW & CS-3 | P18: 9 | U18: (GSSS RAIMALWADA) | AB18: 2019-25
B19: NAME OF PRINCIPAL | D19: :- | K19: 10 | L19: H & P EDU.-3 | P19: 10 | U19: MOBILE NO.-9166973141 | AB19: 2019-26
K20: 11 | L20: ART EDU.-3 | P20: 11 | U20: EMAIL ID-ummedtrdedu@gmail.com | AB20: 2019-25
B21: SCHOOL TYPE | D21: :- | E21: Sr. Secondary | K21: 12 | AB21: 2019-26
AB22: 2019-27

Sheet Marks Entry
B1: =Master!E11 -> 0 | K1: =B1 -> 0 | BM1: =B1 -> 0
B2: Print Complete Subject | H2: Print Subjectwise | K2: सम्बंधित विषय तथा विषयाध्यापक का चुनाव करें ↆ | BM2: Additional Subjects
B3: School U-Dise Code :- | F3: =Master!E17 -> 081100000000 | H3: Session :- | I3: =Master!E9 -> 2021-22
B4: Class - | F4: 10 | H4: Saction :- | I4: (A)
B5: Student Related Basic Details | K5: 1st Test | L5: 2nd Test | M5: Total Tests | N5: Half Yearly | Q5: Total Half Yeary | R5: Total Th.+Int. Evo. | S5: Sassional Marks | T5: 1st Test | U5: 2nd Test | V5: Total Tests | W5: Half Yearly | Z5: Total Half Yeary | AA5: Total Th.+Int. Evo. | AB5: Sassional Marks | AC5: 1st Test | AD5: 2nd Test | AE5: Total Tests | AF5: Half Yearly | AI5: Total Half Yearly | AJ5: Total Th.+Int. Evo. | AK5: Sassional Marks | AL5: 1st Test | AM5: 2nd Test | AN5: Total Tests | AO5: Half Yearly | AR5: Total Half Yearly | AS5: Total Th.+Int. Evo. | AT5: Sassional Marks | AU5: 1st Test | AV5: 2nd Test | AW5: Total Tests | AX5: Half Yearly | BA5: Total Half Yearly | BB5: Total Th.+Int. Evo. | BC5: Sassional Marks | BD5: 1st Test | BE5: 2nd Test | BF5: Total Tests | BG5: Half Yearly | BJ5: Total Half Yearly | BK5: Total Th.+Int. Evo. | BL5: Sassional Marks | BM5: 1st Test | BN5: 2nd Test | BO5: Total Tests | BP5: Half Yearly | BS5: Total Half Yearly | BT5: Total Th.+Int. Evo. | BU5: Sassional Marks | BV5: 1st Test | BW5: 2nd Test | BX5: Total Tests | BY5: Half Yearly | CB5: Total Half Yearly | CC5: Total Th.+Int. Evo. | CD5: Sassional Marks | CE5: 1st Test | CF5: 2nd Test | CG5: Total Tests | CH5: Half Yearly | CK5: Total Half Yearly | CL5: Total Th.+Int. Evo. | CM5: Sassional Marks | CN5: PROJRCT/INTER. EVO. | CO5: Sassional Grades | CP5: PROJRCT/INTER. EVO. | CQ5: Sassional Grades
B6: Sr. No. | C6: Class | D6: Scholar Number | E6: School Roll Number | F6: Board Roll Number | G6: Student's Name | H6: Father's Name | I6: Mother's Name | J6: Date Of Birth | K6: Theory | L6: Theory | N6: Theory | O6: Internal Evolution | T6: Theory | U6: Theory | W6: Theory | X6: Internal Evolution | AC6: Theory | AD6: Theory | AF6: Theory | AG6: Internal Evolution | AH6: Practical | AL6: Theory | AM6: Theory | AO6: Theory | AP6: Internal Evolution | AQ6: Practical | AU6: Theory | AV6: Theory | AX6: Theory | AY6: Internal Evolution | AZ6: Practical | BD6: Theory | BE6: Theory | BG6: Theory | BH6: Internal Evolution | BI6: Practical | BM6: Theory | BN6: Theory | BP6: Theory | BQ6: Internal Evolution | BR6: Practical | BV6: Theory | BW6: Theory | BY6: Theory | BZ6: Internal Evolution | CA6: Practical | CE6: Theory | CF6: Theory | CH6: Theory | CI6: Internal Evolution | CJ6: Practical
K7: 20 | L7: 20 | M7: =SUM(K7:L7) -> 40 | N7: 48 | O7: 12 | Q7: =SUM(N7:O7) -> 60 | R7: =K7+L7+N7+O7 -> 100 | S7: =IF(R7=100,20,IF(R7=86,14,6)) -> 20 | T7: 20 | U7: 20 | V7: =SUM(T7:U7) -> 40 | W7: 48 | X7: 12 | Z7: =SUM(W7:X7) -> 60 | AA7: =T7+U7+W7+X7 -> 100 | AB7: =IF(AA7=100,20,IF(AA7=86,14,6)) -> 20 | AC7: 20 | AD7: 20 | AE7: =SUM(AC7:AD7) -> 40 | AF7: 48 | AG7: 12 | AH7: =IF(AF7=34,14,IF(AF7=14,34,0)) -> 0 | AI7: =SUM(AF7,AG7,AH7) -> 60 | AJ7: =AC7+AD7+AF7+AG7 -> 100 | AK7: =IF(AJ7=100,20,IF(AJ7=86,14,6)) -> 20 | AL7: 20 | AM7: 20 | AN7: =SUM(AL7:AM7) -> 40 | AO7: 48 | AP7: 12 | AQ7: =IF(AO7=34,14,IF(AO7=14,34,0)) -> 0 | AR7: =SUM(AO7,AP7,AQ7) -> 60 | AS7: =AL7+AM7+AO7+AP7 -> 100 | AT7: =IF(AS7=100,20,IF(AS7=86,14,6)) -> 20 | AU7: 20 | AV7: 20 | AW7: =SUM(AU7:AV7) -> 40 | AX7: 48 | AY7: 12 | AZ7: =IF(AX7=34,14,IF(AX7=14,34,0)) -> 0 | BA7: =SUM(AX7,AY7,AZ7) -> 60 | BB7: =AU7+AV7+AX7+AY7 -> 100 | BC7: =IF(BB7=100,20,IF(BB7=86,14,6)) -> 20 | BD7: 20 | BE7: 20 | BF7: =SUM(BD7:BE7) -> 40 | BG7: 48 | BH7: 12 | BI7: =IF(BG7=34,14,IF(BG7=14,34,0)) -> 0 | BJ7: =SUM(BG7,BH7,BI7) -> 60 | BK7: =BD7+BE7+BG7+BH7 -> 100 | BL7: =IF(BK7=100,20,IF(BK7=86,14,6)) -> 20 | BM7: 20 | BN7: 20 | BO7: =SUM(BM7:BN7) -> 40 | BP7: 48 | BQ7: 12 | BR7: =IF(BP7=34,14,IF(BP7=14,34,0)) -> 0 | BS7: =SUM(BP7,BQ7,BR7) -> 60 | BT7: =BM7+BN7+BP7+BQ7 -> 100 | BU7: =BT7 -> 100 | BV7: 20 | BW7: 20 | BX7: =SUM(BV7:BW7) -> 40 | BY7: 48 | BZ7: 12 | CA7: =IF(BY7=34,14,IF(BY7=14,34,0)) -> 0 | CB7: =SUM(BY7,BZ7,CA7) -> 60 | CC7: =BV7+BW7+BY7+BZ7 -> 100 | CD7: =CC7 -> 100 | CE7: 20 | CF7: 20 | CG7: =SUM(CE7:CF7) -> 40 | CH7: 48 | CI7: 12 | CJ7: =IF(CH7=34,14,IF(CH7=14,34,0)) -> 0 | CK7: =SUM(CH7,CI7,CJ7) -> 60 | CL7: =CE7+CF7+CH7+CI7 -> 100 | CM7: =CL7 -> 100 | CN7: 100 | CO7: A/B/C/D/E | CP7: 100 | CQ7: A/B/C/D/E
A8: =F8 -> 0 | B8: 1 | C8: =F4 -> 10 | M8: =SUM(K8,L8) -> 0 | Q8: =SUM(N8,O8) -> 0 | R8: =K8+L8+N8+O8 -> 0 | S8: =ROUNDUP(R8*$S$7/$R$7,0) -> 0 | V8: =SUM(T8,U8) -> 0 | Z8: =SUM(W8,X8) -> 0 | AA8: =T8+U8+W8+X8 -> 0 | AB8: =ROUNDUP(AA8*$AB$7/$AA$7,0) -> 0 | AE8: =SUM(AC8,AD8) -> 0 | AH8: 0 | AI8: =SUM(AF8,AG8,AH8) -> 0 | AJ8: =AC8+AD8+AF8+AG8 -> 0 | AK8: =ROUNDUP(AJ8*$AK$7/$AJ$7,0) -> 0 | AN8: =SUM(AL8,AM8) -> 0 | AQ8: 0 | AR8: =SUM(AO8,AP8,AQ8) -> 0 | AS8: =AL8+AM8+AO8+AP8 -> 0 | AT8: =ROUNDUP(AS8*$AT$7/$AS$7,0) -> 0 | AW8: =SUM(AU8,AV8) -> 0 | AZ8: 0 | BA8: =SUM(AX8,AY8,AZ8) -> 0 | BB8: =AU8+AV8+AX8+AY8 -> 0 | BC8: =ROUNDUP(BB8*$BC$7/$BB$7,0) -> 0 | BF8: =SUM(BD8,BE8) -> 0 | BI8: 0 | BJ8: =SUM(BG8,BH8,BI8) -> 0 | BK8: =BD8+BE8+BG8+BH8 -> 0 | BL8: =ROUNDUP(BK8*$BL$7/$BK$7,0) -> 0 | BO8: =SUM(BM8,BN8) -> 0 | BR8: 0 | BS8: =SUM(BP8,BQ8,BR8) -> 0 | BT8: =BM8+BN8+BP8+BQ8 -> 0 | BU8: =BT8 -> 0 | BX8: =SUM(BV8,BW8) -> 0 | CA8: 0 | CB8: =SUM(BY8,BZ8,CA8) -> 0 | CC8: =BV8+BW8+BY8+BZ8 -> 0 | CD8: =CC8 -> 0 | CG8: =SUM(CE8,CF8) -> 0 | CJ8: 0 | CK8: =SUM(CH8,CI8,CJ8) -> 0 | CL8: =CE8+CF8+CH8+CI8 -> 0 | CM8: =CL8 -> 0 | CO8: =IF(CN8>=81,"A",IF(CN8>=61,"B",IF(CN8>=41,"C",IF(CN8>=21,"D","E")))) -> E | CQ8: =IF(CP8>=81,"A",IF(CP8>=61,"B",IF(CP8>=41,"C",IF(CP8>=21,"D","E")))) -> E
A9: =F9 -> 0 | B9: 2 | C9: =IF(B9>0,$F$4,0) -> 10 | M9: =SUM(K9,L9) -> 0 | Q9: =SUM(N9,O9) -> 0 | R9: =K9+L9+N9+O9 -> 0 | S9: =ROUNDUP(R9*$S$7/$R$7,0) -> 0 | V9: =SUM(T9,U9) -> 0 | Z9: =SUM(W9,X9) -> 0 | AA9: =T9+U9+W9+X9 -> 0 | AB9: =ROUNDUP(AA9*$AB$7/$AA$7,0) -> 0 | AE9: =SUM(AC9,AD9) -> 0 | AH9: 0 | AI9: =SUM(AF9,AG9,AH9) -> 0 | AJ9: =AC9+AD9+AF9+AG9 -> 0 | AK9: =ROUNDUP(AJ9*$AK$7/$AJ$7,0) -> 0 | AN9: =SUM(AL9,AM9) -> 0 | AQ9: 0 | AR9: =SUM(AO9,AP9,AQ9) -> 0 | AS9: =AL9+AM9+AO9+AP9 -> 0 | AT9: =ROUNDUP(AS9*$AT$7/$AS$7,0) -> 0 | AW9: =SUM(AU9,AV9) -> 0 | AZ9: 0 | BA9: =SUM(AX9,AY9,AZ9) -> 0 | BB9: =AU9+AV9+AX9+AY9 -> 0 | BC9: =ROUNDUP(BB9*$BC$7/$BB$7,0) -> 0 | BF9: =SUM(BD9,BE9) -> 0 | BI9: 0 | BJ9: =SUM(BG9,BH9,BI9) -> 0 | BK9: =BD9+BE9+BG9+BH9 -> 0 | BL9: =ROUNDUP(BK9*$BL$7/$BK$7,0) -> 0 | BO9: =SUM(BM9,BN9) -> 0 | BR9: 0 | BS9: =SUM(BP9,BQ9,BR9) -> 0 | BT9: =BM9+BN9+BP9+BQ9 -> 0 | BU9: =BT9 -> 0 | BX9: =SUM(BV9,BW9) -> 0 | CA9: 0 | CB9: =SUM(BY9,BZ9,CA9) -> 0 | CC9: =BV9+BW9+BY9+BZ9 -> 0 | CD9: =CC9 -> 0 | CG9: =SUM(CE9,CF9) -> 0 | CJ9: 0 | CK9: =SUM(CH9,CI9,CJ9) -> 0 | CL9: =CE9+CF9+CH9+CI9 -> 0 | CM9: =CL9 -> 0 | CO9: =IF(CN9>=81,"A",IF(CN9>=61,"B",IF(CN9>=41,"C",IF(CN9>=21,"D","E")))) -> E | CQ9: =IF(CP9>=81,"A",IF(CP9>=61,"B",IF(CP9>=41,"C",IF(CP9>=21,"D","E")))) -> E
A10: =F10 -> 0 | C10: =IF(B10>0,$F$4,0) -> 0 | M10: =SUM(K10,L10) -> 0 | Q10: =SUM(N10,O10) -> 0 | R10: =K10+L10+N10+O10 -> 0 | S10: =ROUNDUP(R10*$S$7/$R$7,0) -> 0 | V10: =SUM(T10,U10) -> 0 | Z10: =SUM(W10,X10) -> 0 | AA10: =T10+U10+W10+X10 -> 0 | AB10: =ROUNDUP(AA10*$AB$7/$AA$7,0) -> 0 | AE10: =SUM(AC10,AD10) -> 0 | AH10: 0 | AI10: =SUM(AF10,AG10,AH10) -> 0 | AJ10: =AC10+AD10+AF10+AG10 -> 0 | AK10: =ROUNDUP(AJ10*$AK$7/$AJ$7,0) -> 0 | AN10: =SUM(AL10,AM10) -> 0 | AQ10: 0 | AR10: =SUM(AO10,AP10,AQ10) -> 0 | AS10: =AL10+AM10+AO10+AP10 -> 0 | AT10: =ROUNDUP(AS10*$AT$7/$AS$7,0) -> 0 | AW10: =SUM(AU10,AV10) -> 0 | AZ10: 0 | BA10: =SUM(AX10,AY10,AZ10) -> 0 | BB10: =AU10+AV10+AX10+AY10 -> 0 | BC10: =ROUNDUP(BB10*$BC$7/$BB$7,0) -> 0 | BF10: =SUM(BD10,BE10) -> 0 | BI10: 0 | BJ10: =SUM(BG10,BH10,BI10) -> 0 | BK10: =BD10+BE10+BG10+BH10 -> 0 | BL10: =ROUNDUP(BK10*$BL$7/$BK$7,0) -> 0 | BO10: =SUM(BM10,BN10) -> 0 | BR10: 0 | BS10: =SUM(BP10,BQ10,BR10) -> 0 | BT10: =BM10+BN10+BP10+BQ10 -> 0 | BU10: =BT10 -> 0 | BX10: =SUM(BV10,BW10) -> 0 | CA10: 0 | CB10: =SUM(BY10,BZ10,CA10) -> 0 | CC10: =BV10+BW10+BY10+BZ10 -> 0 | CD10: =CC10 -> 0 | CG10: =SUM(CE10,CF10) -> 0 | CJ10: 0 | CK10: =SUM(CH10,CI10,CJ10) -> 0 | CL10: =CE10+CF10+CH10+CI10 -> 0 | CM10: =CL10 -> 0 | CO10: =IF(CN10>=81,"A",IF(CN10>=61,"B",IF(CN10>=41,"C",IF(CN10>=21,"D","E")))) -> E | CQ10: =IF(CP10>=81,"A",IF(CP10>=61,"B",IF(CP10>=41,"C",IF(CP10>=21,"D","E")))) -> E
A11: =F11 -> 0 | C11: =IF(B11>0,$F$4,0) -> 0 | M11: =SUM(K11,L11) -> 0 | Q11: =SUM(N11,O11) -> 0 | R11: =K11+L11+N11+O11 -> 0 | S11: =ROUNDUP(R11*$S$7/$R$7,0) -> 0 | V11: =SUM(T11,U11) -> 0 | Z11: =SUM(W11,X11) -> 0 | AA11: =T11+U11+W11+X11 -> 0 | AB11: =ROUNDUP(AA11*$AB$7/$AA$7,0) -> 0 | AE11: =SUM(AC11,AD11) -> 0 | AH11: 0 | AI11: =SUM(AF11,AG11,AH11) -> 0 | AJ11: =AC11+AD11+AF11+AG11 -> 0 | AK11: =ROUNDUP(AJ11*$AK$7/$AJ$7,0) -> 0 | AN11: =SUM(AL11,AM11) -> 0 | AQ11: 0 | AR11: =SUM(AO11,AP11,AQ11) -> 0 | AS11: =AL11+AM11+AO11+AP11 -> 0 | AT11: =ROUNDUP(AS11*$AT$7/$AS$7,0) -> 0 | AW11: =SUM(AU11,AV11) -> 0 | AZ11: 0 | BA11: =SUM(AX11,AY11,AZ11) -> 0 | BB11: =AU11+AV11+AX11+AY11 -> 0 | BC11: =ROUNDUP(BB11*$BC$7/$BB$7,0) -> 0 | BF11: =SUM(BD11,BE11) -> 0 | BI11: 0 | BJ11: =SUM(BG11,BH11,BI11) -> 0 | BK11: =BD11+BE11+BG11+BH11 -> 0 | BL11: =ROUNDUP(BK11*$BL$7/$BK$7,0) -> 0 | BO11: =SUM(BM11,BN11) -> 0 | BR11: 0 | BS11: =SUM(BP11,BQ11,BR11) -> 0 | BT11: =BM11+BN11+BP11+BQ11 -> 0 | BU11: =BT11 -> 0 | BX11: =SUM(BV11,BW11) -> 0 | CA11: 0 | CB11: =SUM(BY11,BZ11,CA11) -> 0 | CC11: =BV11+BW11+BY11+BZ11 -> 0 | CD11: =CC11 -> 0 | CG11: =SUM(CE11,CF11) -> 0 | CJ11: 0 | CK11: =SUM(CH11,CI11,CJ11) -> 0 | CL11: =CE11+CF11+CH11+CI11 -> 0 | CM11: =CL11 -> 0 | CO11: =IF(CN11>=81,"A",IF(CN11>=61,"B",IF(CN11>=41,"C",IF(CN11>=21,"D","E")))) -> E | CQ11: =IF(CP11>=81,"A",IF(CP11>=61,"B",IF(CP11>=41,"C",IF(CP11>=21,"D","E")))) -> E
A12: =F12 -> 0 | C12: =IF(B12>0,$F$4,0) -> 0 | M12: =SUM(K12,L12) -> 0 | Q12: =SUM(N12,O12) -> 0 | R12: =K12+L12+N12+O12 -> 0 | S12: =ROUNDUP(R12*$S$7/$R$7,0) -> 0 | V12: =SUM(T12,U12) -> 0 | Z12: =SUM(W12,X12) -> 0 | AA12: =T12+U12+W12+X12 -> 0 | AB12: =ROUNDUP(AA12*$AB$7/$AA$7,0) -> 0 | AE12: =SUM(AC12,AD12) -> 0 | AH12: 0 | AI12: =SUM(AF12,AG12,AH12) -> 0 | AJ12: =AC12+AD12+AF12+AG12 -> 0 | AK12: =ROUNDUP(AJ12*$AK$7/$AJ$7,0) -> 0 | AN12: =SUM(AL12,AM12) -> 0 | AQ12: 0 | AR12: =SUM(AO12,AP12,AQ12) -> 0 | AS12: =AL12+AM12+AO12+AP12 -> 0 | AT12: =ROUNDUP(AS12*$AT$7/$AS$7,0) -> 0 | AW12: =SUM(AU12,AV12) -> 0 | AZ12: 0 | BA12: =SUM(AX12,AY12,AZ12) -> 0 | BB12: =AU12+AV12+AX12+AY12 -> 0 | BC12: =ROUNDUP(BB12*$BC$7/$BB$7,0) -> 0 | BF12: =SUM(BD12,BE12) -> 0 | BI12: 0 | BJ12: =SUM(BG12,BH12,BI12) -> 0 | BK12: =BD12+BE12+BG12+BH12 -> 0 | BL12: =ROUNDUP(BK12*$BL$7/$BK$7,0) -> 0 | BO12: =SUM(BM12,BN12) -> 0 | BR12: 0 | BS12: =SUM(BP12,BQ12,BR12) -> 0 | BT12: =BM12+BN12+BP12+BQ12 -> 0 | BU12: =BT12 -> 0 | BX12: =SUM(BV12,BW12) -> 0 | CA12: 0 | CB12: =SUM(BY12,BZ12,CA12) -> 0 | CC12: =BV12+BW12+BY12+BZ12 -> 0 | CD12: =CC12 -> 0 | CG12: =SUM(CE12,CF12) -> 0 | CJ12: 0 | CK12: =SUM(CH12,CI12,CJ12) -> 0 | CL12: =CE12+CF12+CH12+CI12 -> 0 | CM12: =CL12 -> 0 | CO12: =IF(CN12>=81,"A",IF(CN12>=61,"B",IF(CN12>=41,"C",IF(CN12>=21,"D","E")))) -> E | CQ12: =IF(CP12>=81,"A",IF(CP12>=61,"B",IF(CP12>=41,"C",IF(CP12>=21,"D","E")))) -> E
A13: =F13 -> 0 | C13: =IF(B13>0,$F$4,0) -> 0 | M13: =SUM(K13,L13) -> 0 | Q13: =SUM(N13,O13) -> 0 | R13: =K13+L13+N13+O13 -> 0 | S13: =ROUNDUP(R13*$S$7/$R$7,0) -> 0 | V13: =SUM(T13,U13) -> 0 | Z13: =SUM(W13,X13) -> 0 | AA13: =T13+U13+W13+X13 -> 0 | AB13: =ROUNDUP(AA13*$AB$7/$AA$7,0) -> 0 | AE13: =SUM(AC13,AD13) -> 0 | AH13: 0 | AI13: =SUM(AF13,AG13,AH13) -> 0 | AJ13: =AC13+AD13+AF13+AG13 -> 0 | AK13: =ROUNDUP(AJ13*$AK$7/$AJ$7,0) -> 0 | AN13: =SUM(AL13,AM13) -> 0 | AQ13: 0 | AR13: =SUM(AO13,AP13,AQ13) -> 0 | AS13: =AL13+AM13+AO13+AP13 -> 0 | AT13: =ROUNDUP(AS13*$AT$7/$AS$7,0) -> 0 | AW13: =SUM(AU13,AV13) -> 0 | AZ13: 0 | BA13: =SUM(AX13,AY13,AZ13) -> 0 | BB13: =AU13+AV13+AX13+AY13 -> 0 | BC13: =ROUNDUP(BB13*$BC$7/$BB$7,0) -> 0 | BF13: =SUM(BD13,BE13) -> 0 | BI13: 0 | BJ13: =SUM(BG13,BH13,BI13) -> 0 | BK13: =BD13+BE13+BG13+BH13 -> 0 | BL13: =ROUNDUP(BK13*$BL$7/$BK$7,0) -> 0 | BO13: =SUM(BM13,BN13) -> 0 | BR13: 0 | BS13: =SUM(BP13,BQ13,BR13) -> 0 | BT13: =BM13+BN13+BP13+BQ13 -> 0 | BU13: =BT13 -> 0 | BX13: =SUM(BV13,BW13) -> 0 | CA13: 0 | CB13: =SUM(BY13,BZ13,CA13) -> 0 | CC13: =BV13+BW13+BY13+BZ13 -> 0 | CD13: =CC13 -> 0 | CG13: =SUM(CE13,CF13) -> 0 | CJ13: 0 | CK13: =SUM(CH13,CI13,CJ13) -> 0 | CL13: =CE13+CF13+CH13+CI13 -> 0 | CM13: =CL13 -> 0 | CO13: =IF(CN13>=81,"A",IF(CN13>=61,"B",IF(CN13>=41,"C",IF(CN13>=21,"D","E")))) -> E | CQ13: =IF(CP13>=81,"A",IF(CP13>=61,"B",IF(CP13>=41,"C",IF(CP13>=21,"D","E")))) -> E
A14: =F14 -> 0 | C14: =IF(B14>0,$F$4,0) -> 0 | M14: =SUM(K14,L14) -> 0 | Q14: =SUM(N14,O14) -> 0 | R14: =K14+L14+N14+O14 -> 0 | S14: =ROUNDUP(R14*$S$7/$R$7,0) -> 0 | V14: =SUM(T14,U14) -> 0 | Z14: =SUM(W14,X14) -> 0 | AA14: =T14+U14+W14+X14 -> 0 | AB14: =ROUNDUP(AA14*$AB$7/$AA$7,0) -> 0 | AE14: =SUM(AC14,AD14) -> 0 | AH14: 0 | AI14: =SUM(AF14,AG14,AH14) -> 0 | AJ14: =AC14+AD14+AF14+AG14 -> 0 | AK14: =ROUNDUP(AJ14*$AK$7/$AJ$7,0) -> 0 | AN14: =SUM(AL14,AM14) -> 0 | AQ14: 0 | AR14: =SUM(AO14,AP14,AQ14) -> 0 | AS14: =AL14+AM14+AO14+AP14 -> 0 | AT14: =ROUNDUP(AS14*$AT$7/$AS$7,0) -> 0 | AW14: =SUM(AU14,AV14) -> 0 | AZ14: 0 | BA14: =SUM(AX14,AY14,AZ14) -> 0 | BB14: =AU14+AV14+AX14+AY14 -> 0 | BC14: =ROUNDUP(BB14*$BC$7/$BB$7,0) -> 0 | BF14: =SUM(BD14,BE14) -> 0 | BI14: 0 | BJ14: =SUM(BG14,BH14,BI14) -> 0 | BK14: =BD14+BE14+BG14+BH14 -> 0 | BL14: =ROUNDUP(BK14*$BL$7/$BK$7,0) -> 0 | BO14: =SUM(BM14,BN14) -> 0 | BR14: 0 | BS14: =SUM(BP14,BQ14,BR14) -> 0 | BT14: =BM14+BN14+BP14+BQ14 -> 0 | BU14: =BT14 -> 0 | BX14: =SUM(BV14,BW14) -> 0 | CA14: 0 | CB14: =SUM(BY14,BZ14,CA14) -> 0 | CC14: =BV14+BW14+BY14+BZ14 -> 0 | CD14: =CC14 -> 0 | CG14: =SUM(CE14,CF14) -> 0 | CJ14: 0 | CK14: =SUM(CH14,CI14,CJ14) -> 0 | CL14: =CE14+CF14+CH14+CI14 -> 0 | CM14: =CL14 -> 0 | CO14: =IF(CN14>=81,"A",IF(CN14>=61,"B",IF(CN14>=41,"C",IF(CN14>=21,"D","E")))) -> E | CQ14: =IF(CP14>=81,"A",IF(CP14>=61,"B",IF(CP14>=41,"C",IF(CP14>=21,"D","E")))) -> E
A15: =F15 -> 0 | C15: =IF(B15>0,$F$4,0) -> 0 | M15: =SUM(K15,L15) -> 0 | Q15: =SUM(N15,O15) -> 0 | R15: =K15+L15+N15+O15 -> 0 | S15: =ROUNDUP(R15*$S$7/$R$7,0) -> 0 | V15: =SUM(T15,U15) -> 0 | Z15: =SUM(W15,X15) -> 0 | AA15: =T15+U15+W15+X15 -> 0 | AB15: =ROUNDUP(AA15*$AB$7/$AA$7,0) -> 0 | AE15: =SUM(AC15,AD15) -> 0 | AH15: 0 | AI15: =SUM(AF15,AG15,AH15) -> 0 | AJ15: =AC15+AD15+AF15+AG15 -> 0 | AK15: =ROUNDUP(AJ15*$AK$7/$AJ$7,0) -> 0 | AN15: =SUM(AL15,AM15) -> 0 | AQ15: 0 | AR15: =SUM(AO15,AP15,AQ15) -> 0 | AS15: =AL15+AM15+AO15+AP15 -> 0 | AT15: =ROUNDUP(AS15*$AT$7/$AS$7,0) -> 0 | AW15: =SUM(AU15,AV15) -> 0 | AZ15: 0 | BA15: =SUM(AX15,AY15,AZ15) -> 0 | BB15: =AU15+AV15+AX15+AY15 -> 0 | BC15: =ROUNDUP(BB15*$BC$7/$BB$7,0) -> 0 | BF15: =SUM(BD15,BE15) -> 0 | BI15: 0 | BJ15: =SUM(BG15,BH15,BI15) -> 0 | BK15: =BD15+BE15+BG15+BH15 -> 0 | BL15: =ROUNDUP(BK15*$BL$7/$BK$7,0) -> 0 | BO15: =SUM(BM15,BN15) -> 0 | BR15: 0 | BS15: =SUM(BP15,BQ15,BR15) -> 0 | BT15: =BM15+BN15+BP15+BQ15 -> 0 | BU15: =BT15 -> 0 | BX15: =SUM(BV15,BW15) -> 0 | CA15: 0 | CB15: =SUM(BY15,BZ15,CA15) -> 0 | CC15: =BV15+BW15+BY15+BZ15 -> 0 | CD15: =CC15 -> 0 | CG15: =SUM(CE15,CF15) -> 0 | CJ15: 0 | CK15: =SUM(CH15,CI15,CJ15) -> 0 | CL15: =CE15+CF15+CH15+CI15 -> 0 | CM15: =CL15 -> 0 | CO15: =IF(CN15>=81,"A",IF(CN15>=61,"B",IF(CN15>=41,"C",IF(CN15>=21,"D","E")))) -> E | CQ15: =IF(CP15>=81,"A",IF(CP15>=61,"B",IF(CP15>=41,"C",IF(CP15>=21,"D","E")))) -> E
A16: =F16 -> 0 | C16: =IF(B16>0,$F$4,0) -> 0 | M16: =SUM(K16,L16) -> 0 | Q16: =SUM(N16,O16) -> 0 | R16: =K16+L16+N16+O16 -> 0 | S16: =ROUNDUP(R16*$S$7/$R$7,0) -> 0 | V16: =SUM(T16,U16) -> 0 | Z16: =SUM(W16,X16) -> 0 | AA16: =T16+U16+W16+X16 -> 0 | AB16: =ROUNDUP(AA16*$AB$7/$AA$7,0) -> 0 | AE16: =SUM(AC16,AD16) -> 0 | AH16: 0 | AI16: =SUM(AF16,AG16,AH16) -> 0 | AJ16: =AC16+AD16+AF16+AG16 -> 0 | AK16: =ROUNDUP(AJ16*$AK$7/$AJ$7,0) -> 0 | AN16: =SUM(AL16,AM16) -> 0 | AQ16: 0 | AR16: =SUM(AO16,AP16,AQ16) -> 0 | AS16: =AL16+AM16+AO16+AP16 -> 0 | AT16: =ROUNDUP(AS16*$AT$7/$AS$7,0) -> 0 | AW16: =SUM(AU16,AV16) -> 0 | AZ16: 0 | BA16: =SUM(AX16,AY16,AZ16) -> 0 | BB16: =AU16+AV16+AX16+AY16 -> 0 | BC16: =ROUNDUP(BB16*$BC$7/$BB$7,0) -> 0 | BF16: =SUM(BD16,BE16) -> 0 | BI16: 0 | BJ16: =SUM(BG16,BH16,BI16) -> 0 | BK16: =BD16+BE16+BG16+BH16 -> 0 | BL16: =ROUNDUP(BK16*$BL$7/$BK$7,0) -> 0 | BO16: =SUM(BM16,BN16) -> 0 | BR16: 0 | BS16: =SUM(BP16,BQ16,BR16) -> 0 | BT16: =BM16+BN16+BP16+BQ16 -> 0 | BU16: =BT16 -> 0 | BX16: =SUM(BV16,BW16) -> 0 | CA16: 0 | CB16: =SUM(BY16,BZ16,CA16) -> 0 | CC16: =BV16+BW16+BY16+BZ16 -> 0 | CD16: =CC16 -> 0 | CG16: =SUM(CE16,CF16) -> 0 | CJ16: 0 | CK16: =SUM(CH16,CI16,CJ16) -> 0 | CL16: =CE16+CF16+CH16+CI16 -> 0 | CM16: =CL16 -> 0 | CO16: =IF(CN16>=81,"A",IF(CN16>=61,"B",IF(CN16>=41,"C",IF(CN16>=21,"D","E")))) -> E | CQ16: =IF(CP16>=81,"A",IF(CP16>=61,"B",IF(CP16>=41,"C",IF(CP16>=21,"D","E")))) -> E
A17: =F17 -> 0 | C17: =IF(B17>0,$F$4,0) -> 0 | M17: =SUM(K17,L17) -> 0 | Q17: =SUM(N17,O17) -> 0 | R17: =K17+L17+N17+O17 -> 0 | S17: =ROUNDUP(R17*$S$7/$R$7,0) -> 0 | V17: =SUM(T17,U17) -> 0 | Z17: =SUM(W17,X17) -> 0 | AA17: =T17+U17+W17+X17 -> 0 | AB17: =ROUNDUP(AA17*$AB$7/$AA$7,0) -> 0 | AE17: =SUM(AC17,AD17) -> 0 | AH17: 0 | AI17: =SUM(AF17,AG17,AH17) -> 0 | AJ17: =AC17+AD17+AF17+AG17 -> 0 | AK17: =ROUNDUP(AJ17*$AK$7/$AJ$7,0) -> 0 | AN17: =SUM(AL17,AM17) -> 0 | AQ17: 0 | AR17: =SUM(AO17,AP17,AQ17) -> 0 | AS17: =AL17+AM17+AO17+AP17 -> 0 | AT17: =ROUNDUP(AS17*$AT$7/$AS$7,0) -> 0 | AW17: =SUM(AU17,AV17) -> 0 | AZ17: 0 | BA17: =SUM(AX17,AY17,AZ17) -> 0 | BB17: =AU17+AV17+AX17+AY17 -> 0 | BC17: =ROUNDUP(BB17*$BC$7/$BB$7,0) -> 0 | BF17: =SUM(BD17,BE17) -> 0 | BI17: 0 | BJ17: =SUM(BG17,BH17,BI17) -> 0 | BK17: =BD17+BE17+BG17+BH17 -> 0 | BL17: =ROUNDUP(BK17*$BL$7/$BK$7,0) -> 0 | BO17: =SUM(BM17,BN17) -> 0 | BR17: 0 | BS17: =SUM(BP17,BQ17,BR17) -> 0 | BT17: =BM17+BN17+BP17+BQ17 -> 0 | BU17: =BT17 -> 0 | BX17: =SUM(BV17,BW17) -> 0 | CA17: 0 | CB17: =SUM(BY17,BZ17,CA17) -> 0 | CC17: =BV17+BW17+BY17+BZ17 -> 0 | CD17: =CC17 -> 0 | CG17: =SUM(CE17,CF17) -> 0 | CJ17: 0 | CK17: =SUM(CH17,CI17,CJ17) -> 0 | CL17: =CE17+CF17+CH17+CI17 -> 0 | CM17: =CL17 -> 0 | CO17: =IF(CN17>=81,"A",IF(CN17>=61,"B",IF(CN17>=41,"C",IF(CN17>=21,"D","E")))) -> E | CQ17: =IF(CP17>=81,"A",IF(CP17>=61,"B",IF(CP17>=41,"C",IF(CP17>=21,"D","E")))) -> E
A18: =F18 -> 0 | C18: =IF(B18>0,$F$4,0) -> 0 | M18: =SUM(K18,L18) -> 0 | Q18: =SUM(N18,O18) -> 0 | R18: =K18+L18+N18+O18 -> 0 | S18: =ROUNDUP(R18*$S$7/$R$7,0) -> 0 | V18: =SUM(T18,U18) -> 0 | Z18: =SUM(W18,X18) -> 0 | AA18: =T18+U18+W18+X18 -> 0 | AB18: =ROUNDUP(AA18*$AB$7/$AA$7,0) -> 0 | AE18: =SUM(AC18,AD18) -> 0 | AH18: 0 | AI18: =SUM(AF18,AG18,AH18) -> 0 | AJ18: =AC18+AD18+AF18+AG18 -> 0 | AK18: =ROUNDUP(AJ18*$AK$7/$AJ$7,0) -> 0 | AN18: =SUM(AL18,AM18) -> 0 | AQ18: 0 | AR18: =SUM(AO18,AP18,AQ18) -> 0 | AS18: =AL18+AM18+AO18+AP18 -> 0 | AT18: =ROUNDUP(AS18*$AT$7/$AS$7,0) -> 0 | AW18: =SUM(AU18,AV18) -> 0 | AZ18: 0 | BA18: =SUM(AX18,AY18,AZ18) -> 0 | BB18: =AU18+AV18+AX18+AY18 -> 0 | BC18: =ROUNDUP(BB18*$BC$7/$BB$7,0) -> 0 | BF18: =SUM(BD18,BE18) -> 0 | BI18: 0 | BJ18: =SUM(BG18,BH18,BI18) -> 0 | BK18: =BD18+BE18+BG18+BH18 -> 0 | BL18: =ROUNDUP(BK18*$BL$7/$BK$7,0) -> 0 | BO18: =SUM(BM18,BN18) -> 0 | BR18: 0 | BS18: =SUM(BP18,BQ18,BR18) -> 0 | BT18: =BM18+BN18+BP18+BQ18 -> 0 | BU18: =BT18 -> 0 | BX18: =SUM(BV18,BW18) -> 0 | CA18: 0 | CB18: =SUM(BY18,BZ18,CA18) -> 0 | CC18: =BV18+BW18+BY18+BZ18 -> 0 | CD18: =CC18 -> 0 | CG18: =SUM(CE18,CF18) -> 0 | CJ18: 0 | CK18: =SUM(CH18,CI18,CJ18) -> 0 | CL18: =CE18+CF18+CH18+CI18 -> 0 | CM18: =CL18 -> 0 | CO18: =IF(CN18>=81,"A",IF(CN18>=61,"B",IF(CN18>=41,"C",IF(CN18>=21,"D","E")))) -> E | CQ18: =IF(CP18>=81,"A",IF(CP18>=61,"B",IF(CP18>=41,"C",IF(CP18>=21,"D","E")))) -> E
A19: =F19 -> 0 | C19: =IF(B19>0,$F$4,0) -> 0 | M19: =SUM(K19,L19) -> 0 | Q19: =SUM(N19,O19) -> 0 | R19: =K19+L19+N19+O19 -> 0 | S19: =ROUNDUP(R19*$S$7/$R$7,0) -> 0 | V19: =SUM(T19,U19) -> 0 | Z19: =SUM(W19,X19) -> 0 | AA19: =T19+U19+W19+X19 -> 0 | AB19: =ROUNDUP(AA19*$AB$7/$AA$7,0) -> 0 | AE19: =SUM(AC19,AD19) -> 0 | AH19: 0 | AI19: =SUM(AF19,AG19,AH19) -> 0 | AJ19: =AC19+AD19+AF19+AG19 -> 0 | AK19: =ROUNDUP(AJ19*$AK$7/$AJ$7,0) -> 0 | AN19: =SUM(AL19,AM19) -> 0 | AQ19: 0 | AR19: =SUM(AO19,AP19,AQ19) -> 0 | AS19: =AL19+AM19+AO19+AP19 -> 0 | AT19: =ROUNDUP(AS19*$AT$7/$AS$7,0) -> 0 | AW19: =SUM(AU19,AV19) -> 0 | AZ19: 0 | BA19: =SUM(AX19,AY19,AZ19) -> 0 | BB19: =AU19+AV19+AX19+AY19 -> 0 | BC19: =ROUNDUP(BB19*$BC$7/$BB$7,0) -> 0 | BF19: =SUM(BD19,BE19) -> 0 | BI19: 0 | BJ19: =SUM(BG19,BH19,BI19) -> 0 | BK19: =BD19+BE19+BG19+BH19 -> 0 | BL19: =ROUNDUP(BK19*$BL$7/$BK$7,0) -> 0 | BO19: =SUM(BM19,BN19) -> 0 | BR19: 0 | BS19: =SUM(BP19,BQ19,BR19) -> 0 | BT19: =BM19+BN19+BP19+BQ19 -> 0 | BU19: =BT19 -> 0 | BX19: =SUM(BV19,BW19) -> 0 | CA19: 0 | CB19: =SUM(BY19,BZ19,CA19) -> 0 | CC19: =BV19+BW19+BY19+BZ19 -> 0 | CD19: =CC19 -> 0 | CG19: =SUM(CE19,CF19) -> 0 | CJ19: 0 | CK19: =SUM(CH19,CI19,CJ19) -> 0 | CL19: =CE19+CF19+CH19+CI19 -> 0 | CM19: =CL19 -> 0 | CO19: =IF(CN19>=81,"A",IF(CN19>=61,"B",IF(CN19>=41,"C",IF(CN19>=21,"D","E")))) -> E | CQ19: =IF(CP19>=81,"A",IF(CP19>=61,"B",IF(CP19>=41,"C",IF(CP19>=21,"D","E")))) -> E
A20: =F20 -> 0 | C20: =IF(B20>0,$F$4,0) -> 0 | M20: =SUM(K20,L20) -> 0 | Q20: =SUM(N20,O20) -> 0 | R20: =K20+L20+N20+O20 -> 0 | S20: =ROUNDUP(R20*$S$7/$R$7,0) -> 0 | V20: =SUM(T20,U20) -> 0 | Z20: =SUM(W20,X20) -> 0 | AA20: =T20+U20+W20+X20 -> 0 | AB20: =ROUNDUP(AA20*$AB$7/$AA$7,0) -> 0 | AE20: =SUM(AC20,AD20) -> 0 | AH20: 0 | AI20: =SUM(AF20,AG20,AH20) -> 0 | AJ20: =AC20+AD20+AF20+AG20 -> 0 | AK20: =ROUNDUP(AJ20*$AK$7/$AJ$7,0) -> 0 | AN20: =SUM(AL20,AM20) -> 0 | AQ20: 0 | AR20: =SUM(AO20,AP20,AQ20) -> 0 | AS20: =AL20+AM20+AO20+AP20 -> 0 | AT20: =ROUNDUP(AS20*$AT$7/$AS$7,0) -> 0 | AW20: =SUM(AU20,AV20) -> 0 | AZ20: 0 | BA20: =SUM(AX20,AY20,AZ20) -> 0 | BB20: =AU20+AV20+AX20+AY20 -> 0 | BC20: =ROUNDUP(BB20*$BC$7/$BB$7,0) -> 0 | BF20: =SUM(BD20,BE20) -> 0 | BI20: 0 | BJ20: =SUM(BG20,BH20,BI20) -> 0 | BK20: =BD20+BE20+BG20+BH20 -> 0 | BL20: =ROUNDUP(BK20*$BL$7/$BK$7,0) -> 0 | BO20: =SUM(BM20,BN20) -> 0 | BR20: 0 | BS20: =SUM(BP20,BQ20,BR20) -> 0 | BT20: =BM20+BN20+BP20+BQ20 -> 0 | BU20: =BT20 -> 0 | BX20: =SUM(BV20,BW20) -> 0 | CA20: 0 | CB20: =SUM(BY20,BZ20,CA20) -> 0 | CC20: =BV20+BW20+BY20+BZ20 -> 0 | CD20: =CC20 -> 0 | CG20: =SUM(CE20,CF20) -> 0 | CJ20: 0 | CK20: =SUM(CH20,CI20,CJ20) -> 0 | CL20: =CE20+CF20+CH20+CI20 -> 0 | CM20: =CL20 -> 0 | CO20: =IF(CN20>=81,"A",IF(CN20>=61,"B",IF(CN20>=41,"C",IF(CN20>=21,"D","E")))) -> E | CQ20: =IF(CP20>=81,"A",IF(CP20>=61,"B",IF(CP20>=41,"C",IF(CP20>=21,"D","E")))) -> E
A21: =F21 -> 0 | C21: =IF(B21>0,$F$4,0) -> 0 | M21: =SUM(K21,L21) -> 0 | Q21: =SUM(N21,O21) -> 0 | R21: =K21+L21+N21+O21 -> 0 | S21: =ROUNDUP(R21*$S$7/$R$7,0) -> 0 | V21: =SUM(T21,U21) -> 0 | Z21: =SUM(W21,X21) -> 0 | AA21: =T21+U21+W21+X21 -> 0 | AB21: =ROUNDUP(AA21*$AB$7/$AA$7,0) -> 0 | AE21: =SUM(AC21,AD21) -> 0 | AH21: 0 | AI21: =SUM(AF21,AG21,AH21) -> 0 | AJ21: =AC21+AD21+AF21+AG21 -> 0 | AK21: =ROUNDUP(AJ21*$AK$7/$AJ$7,0) -> 0 | AN21: =SUM(AL21,AM21) -> 0 | AQ21: 0 | AR21: =SUM(AO21,AP21,AQ21) -> 0 | AS21: =AL21+AM21+AO21+AP21 -> 0 | AT21: =ROUNDUP(AS21*$AT$7/$AS$7,0) -> 0 | AW21: =SUM(AU21,AV21) -> 0 | AZ21: 0 | BA21: =SUM(AX21,AY21,AZ21) -> 0 | BB21: =AU21+AV21+AX21+AY21 -> 0 | BC21: =ROUNDUP(BB21*$BC$7/$BB$7,0) -> 0 | BF21: =SUM(BD21,BE21) -> 0 | BI21: 0 | BJ21: =SUM(BG21,BH21,BI21) -> 0 | BK21: =BD21+BE21+BG21+BH21 -> 0 | BL21: =ROUNDUP(BK21*$BL$7/$BK$7,0) -> 0 | BO21: =SUM(BM21,BN21) -> 0 | BR21: 0 | BS21: =SUM(BP21,BQ21,BR21) -> 0 | BT21: =BM21+BN21+BP21+BQ21 -> 0 | BU21: =BT21 -> 0 | BX21: =SUM(BV21,BW21) -> 0 | CA21: 0 | CB21: =SUM(BY21,BZ21,CA21) -> 0 | CC21: =BV21+BW21+BY21+BZ21 -> 0 | CD21: =CC21 -> 0 | CG21: =SUM(CE21,CF21) -> 0 | CJ21: 0 | CK21: =SUM(CH21,CI21,CJ21) -> 0 | CL21: =CE21+CF21+CH21+CI21 -> 0 | CM21: =CL21 -> 0 | CO21: =IF(CN21>=81,"A",IF(CN21>=61,"B",IF(CN21>=41,"C",IF(CN21>=21,"D","E")))) -> E | CQ21: =IF(CP21>=81,"A",IF(CP21>=61,"B",IF(CP21>=41,"C",IF(CP21>=21,"D","E")))) -> E
... A99: =F99 -> 0 | C99: =IF(B99>0,$F$4,0) -> 0 | M99: =SUM(K99,L99) -> 0 | Q99: =SUM(N99,O99) -> 0 | R99: =K99+L99+N99+O99 -> 0 | S99: =ROUNDUP(R99*$S$7/$R$7,0) -> 0 | V99: =SUM(T99,U99) -> 0 | Z99: =SUM(W99,X99) -> 0 | AA99: =T99+U99+W99+X99 -> 0 | AB99: =ROUNDUP(AA99*$AB$7/$AA$7,0) -> 0 | AE99: =SUM(AC99,AD99) -> 0 | AH99: 0 | AI99: =SUM(AF99,AG99,AH99) -> 0 | AJ99: =AC99+AD99+AF99+AG99 -> 0 | AK99: =ROUNDUP(AJ99*$AK$7/$AJ$7,0) -> 0 | AN99: =SUM(AL99,AM99) -> 0 | AQ99: 0 | AR99: =SUM(AO99,AP99,AQ99) -> 0 | AS99: =AL99+AM99+AO99+AP99 -> 0 | AT99: =ROUNDUP(AS99*$AT$7/$AS$7,0) -> 0 | AW99: =SUM(AU99,AV99) -> 0 | AZ99: 0 | BA99: =SUM(AX99,AY99,AZ99) -> 0 | BB99: =AU99+AV99+AX99+AY99 -> 0 | BC99: =ROUNDUP(BB99*$BC$7/$BB$7,0) -> 0 | BF99: =SUM(BD99,BE99) -> 0 | BI99: 0 | BJ99: =SUM(BG99,BH99,BI99) -> 0 | BK99: =BD99+BE99+BG99+BH99 -> 0 | BL99: =ROUNDUP(BK99*$BL$7/$BK$7,0) -> 0 | BO99: =SUM(BM99,BN99) -> 0 | BR99: 0 | BS99: =SUM(BP99,BQ99,BR99) -> 0 | BT99: =BM99+BN99+BP99+BQ99 -> 0 | BU99: =BT99 -> 0 | BX99: =SUM(BV99,BW99) -> 0 | CA99: 0 | CB99: =SUM(BY99,BZ99,CA99) -> 0 | CC99: =BV99+BW99+BY99+BZ99 -> 0 | CD99: =CC99 -> 0 | CG99: =SUM(CE99,CF99) -> 0 | CJ99: 0 | CK99: =SUM(CH99,CI99,CJ99) -> 0 | CL99: =CE99+CF99+CH99+CI99 -> 0 | CM99: =CL99 -> 0 | CO99: =IF(CN99>=81,"A",IF(CN99>=61,"B",IF(CN99>=41,"C",IF(CN99>=21,"D","E")))) -> E | CQ99: =IF(CP99>=81,"A",IF(CP99>=61,"B",IF(CP99>=41,"C",IF(CP99>=21,"D","E")))) -> E
A100: =F100 -> 0 | C100: =IF(B100>0,$F$4,0) -> 0 | M100: =SUM(K100,L100) -> 0 | N100: 0 | O100: 0 | Q100: =SUM(N100,O100) -> 0 | R100: =K100+L100+N100+O100 -> 0 | S100: =ROUNDUP(R100*$S$7/$R$7,0) -> 0 | V100: =SUM(T100,U100) -> 0 | W100: 0 | X100: 0 | Z100: =SUM(W100,X100) -> 0 | AA100: =T100+U100+W100+X100 -> 0 | AB100: =ROUNDUP(AA100*$AB$7/$AA$7,0) -> 0 | AE100: =SUM(AC100,AD100) -> 0 | AF100: 0 | AG100: 0 | AH100: 0 | AI100: =SUM(AF100,AG100,AH100) -> 0 | AJ100: =AC100+AD100+AF100+AG100 -> 0 | AK100: =ROUNDUP(AJ100*$AK$7/$AJ$7,0) -> 0 | AN100: =SUM(AL100,AM100) -> 0 | AO100: 0 | AP100: 0 | AQ100: 0 | AR100: =SUM(AO100,AP100,AQ100) -> 0 | AS100: =AL100+AM100+AO100+AP100 -> 0 | AT100: =ROUNDUP(AS100*$AT$7/$AS$7,0) -> 0 | AW100: =SUM(AU100,AV100) -> 0 | AX100: 0 | AY100: 0 | AZ100: 0 | BA100: =SUM(AX100,AY100,AZ100) -> 0 | BB100: =AU100+AV100+AX100+AY100 -> 0 | BC100: =ROUNDUP(BB100*$BC$7/$BB$7,0) -> 0 | BF100: =SUM(BD100,BE100) -> 0 | BG100: 0 | BH100: 0 | BI100: 0 | BJ100: =SUM(BG100,BH100,BI100) -> 0 | BK100: =BD100+BE100+BG100+BH100 -> 0 | BL100: =ROUNDUP(BK100*$BL$7/$BK$7,0) -> 0 | BM100: 0 | BN100: 0 | BO100: =SUM(BM100,BN100) -> 0 | BP100: 0 | BQ100: 0 | BR100: 0 | BS100: =SUM(BP100,BQ100,BR100) -> 0 | BT100: =BM100+BN100+BP100+BQ100 -> 0 | BU100: =BT100 -> 0 | BV100: 0 | BW100: 0 | BX100: =SUM(BV100,BW100) -> 0 | BY100: 0 | BZ100: 0 | CA100: 0 | CB100: =SUM(BY100,BZ100,CA100) -> 0 | CC100: =BV100+BW100+BY100+BZ100 -> 0 | CD100: =CC100 -> 0 | CE100: 0 | CF100: 0 | CG100: =SUM(CE100,CF100) -> 0 | CH100: 0 | CI100: 0 | CJ100: 0 | CK100: =SUM(CH100,CI100,CJ100) -> 0 | CL100: =CE100+CF100+CH100+CI100 -> 0 | CM100: =CL100 -> 0 | CO100: =IF(CN100>=81,"A",IF(CN100>=61,"B",IF(CN100>=41,"C",IF(CN100>=21,"D","E")))) -> E | CQ100: =IF(CP100>=81,"A",IF(CP100>=61,"B",IF(CP100>=41,"C",IF(CP100>=21,"D","E")))) -> E
A101: =F101 -> 0 | C101: =IF(B101>0,$F$4,0) -> 0 | M101: =SUM(K101,L101) -> 0 | N101: 0 | O101: 0 | Q101: =SUM(N101,O101) -> 0 | R101: =K101+L101+N101+O101 -> 0 | S101: =ROUNDUP(R101*$S$7/$R$7,0) -> 0 | V101: =SUM(T101,U101) -> 0 | W101: 0 | X101: 0 | Z101: =SUM(W101,X101) -> 0 | AA101: =T101+U101+W101+X101 -> 0 | AB101: =ROUNDUP(AA101*$AB$7/$AA$7,0) -> 0 | AE101: =SUM(AC101,AD101) -> 0 | AF101: 0 | AG101: 0 | AH101: 0 | AI101: =SUM(AF101,AG101,AH101) -> 0 | AJ101: =AC101+AD101+AF101+AG101 -> 0 | AK101: =ROUNDUP(AJ101*$AK$7/$AJ$7,0) -> 0 | AN101: =SUM(AL101,AM101) -> 0 | AO101: 0 | AP101: 0 | AQ101: 0 | AR101: =SUM(AO101,AP101,AQ101) -> 0 | AS101: =AL101+AM101+AO101+AP101 -> 0 | AT101: =ROUNDUP(AS101*$AT$7/$AS$7,0) -> 0 | AW101: =SUM(AU101,AV101) -> 0 | AX101: 0 | AY101: 0 | AZ101: 0 | BA101: =SUM(AX101,AY101,AZ101) -> 0 | BB101: =AU101+AV101+AX101+AY101 -> 0 | BC101: =ROUNDUP(BB101*$BC$7/$BB$7,0) -> 0 | BF101: =SUM(BD101,BE101) -> 0 | BG101: 0 | BH101: 0 | BI101: 0 | BJ101: =SUM(BG101,BH101,BI101) -> 0 | BK101: =BD101+BE101+BG101+BH101 -> 0 | BL101: =ROUNDUP(BK101*$BL$7/$BK$7,0) -> 0 | BM101: 0 | BN101: 0 | BO101: =SUM(BM101,BN101) -> 0 | BP101: 0 | BQ101: 0 | BR101: 0 | BS101: =SUM(BP101,BQ101,BR101) -> 0 | BT101: =BM101+BN101+BP101+BQ101 -> 0 | BU101: =BT101 -> 0 | BV101: 0 | BW101: 0 | BX101: =SUM(BV101,BW101) -> 0 | BY101: 0 | BZ101: 0 | CA101: 0 | CB101: =SUM(BY101,BZ101,CA101) -> 0 | CC101: =BV101+BW101+BY101+BZ101 -> 0 | CD101: =CC101 -> 0 | CE101: 0 | CF101: 0 | CG101: =SUM(CE101,CF101) -> 0 | CH101: 0 | CI101: 0 | CJ101: 0 | CK101: =SUM(CH101,CI101,CJ101) -> 0 | CL101: =CE101+CF101+CH101+CI101 -> 0 | CM101: =CL101 -> 0 | CO101: =IF(CN101>=81,"A",IF(CN101>=61,"B",IF(CN101>=41,"C",IF(CN101>=21,"D","E")))) -> E | CQ101: =IF(CP101>=81,"A",IF(CP101>=61,"B",IF(CP101>=41,"C",IF(CP101>=21,"D","E")))) -> E
A102: =F102 -> 0 | C102: =IF(B102>0,$F$4,0) -> 0 | M102: =SUM(K102,L102) -> 0 | N102: 0 | O102: 0 | Q102: =SUM(N102,O102) -> 0 | R102: =K102+L102+N102+O102 -> 0 | S102: =ROUNDUP(R102*$S$7/$R$7,0) -> 0 | V102: =SUM(T102,U102) -> 0 | W102: 0 | X102: 0 | Z102: =SUM(W102,X102) -> 0 | AA102: =T102+U102+W102+X102 -> 0 | AB102: =ROUNDUP(AA102*$AB$7/$AA$7,0) -> 0 | AE102: =SUM(AC102,AD102) -> 0 | AF102: 0 | AG102: 0 | AH102: 0 | AI102: =SUM(AF102,AG102,AH102) -> 0 | AJ102: =AC102+AD102+AF102+AG102 -> 0 | AK102: =ROUNDUP(AJ102*$AK$7/$AJ$7,0) -> 0 | AN102: =SUM(AL102,AM102) -> 0 | AO102: 0 | AP102: 0 | AQ102: 0 | AR102: =SUM(AO102,AP102,AQ102) -> 0 | AS102: =AL102+AM102+AO102+AP102 -> 0 | AT102: =ROUNDUP(AS102*$AT$7/$AS$7,0) -> 0 | AW102: =SUM(AU102,AV102) -> 0 | AX102: 0 | AY102: 0 | AZ102: 0 | BA102: =SUM(AX102,AY102,AZ102) -> 0 | BB102: =AU102+AV102+AX102+AY102 -> 0 | BC102: =ROUNDUP(BB102*$BC$7/$BB$7,0) -> 0 | BF102: =SUM(BD102,BE102) -> 0 | BG102: 0 | BH102: 0 | BI102: 0 | BJ102: =SUM(BG102,BH102,BI102) -> 0 | BK102: =BD102+BE102+BG102+BH102 -> 0 | BL102: =ROUNDUP(BK102*$BL$7/$BK$7,0) -> 0 | BM102: 0 | BN102: 0 | BO102: =SUM(BM102,BN102) -> 0 | BP102: 0 | BQ102: 0 | BR102: 0 | BS102: =SUM(BP102,BQ102,BR102) -> 0 | BT102: =BM102+BN102+BP102+BQ102 -> 0 | BU102: =BT102 -> 0 | BV102: 0 | BW102: 0 | BX102: =SUM(BV102,BW102) -> 0 | BY102: 0 | BZ102: 0 | CA102: 0 | CB102: =SUM(BY102,BZ102,CA102) -> 0 | CC102: =BV102+BW102+BY102+BZ102 -> 0 | CD102: =CC102 -> 0 | CE102: 0 | CF102: 0 | CG102: =SUM(CE102,CF102) -> 0 | CH102: 0 | CI102: 0 | CJ102: 0 | CK102: =SUM(CH102,CI102,CJ102) -> 0 | CL102: =CE102+CF102+CH102+CI102 -> 0 | CM102: =CL102 -> 0 | CO102: =IF(CN102>=81,"A",IF(CN102>=61,"B",IF(CN102>=41,"C",IF(CN102>=21,"D","E")))) -> E | CQ102: =IF(CP102>=81,"A",IF(CP102>=61,"B",IF(CP102>=41,"C",IF(CP102>=21,"D","E")))) -> E
A103: =F103 -> 0 | C103: =IF(B103>0,$F$4,0) -> 0 | M103: =SUM(K103,L103) -> 0 | N103: 0 | O103: 0 | Q103: =SUM(N103,O103) -> 0 | R103: =K103+L103+N103+O103 -> 0 | S103: =ROUNDUP(R103*$S$7/$R$7,0) -> 0 | V103: =SUM(T103,U103) -> 0 | W103: 0 | X103: 0 | Z103: =SUM(W103,X103) -> 0 | AA103: =T103+U103+W103+X103 -> 0 | AB103: =ROUNDUP(AA103*$AB$7/$AA$7,0) -> 0 | AE103: =SUM(AC103,AD103) -> 0 | AF103: 0 | AG103: 0 | AH103: 0 | AI103: =SUM(AF103,AG103,AH103) -> 0 | AJ103: =AC103+AD103+AF103+AG103 -> 0 | AK103: =ROUNDUP(AJ103*$AK$7/$AJ$7,0) -> 0 | AN103: =SUM(AL103,AM103) -> 0 | AO103: 0 | AP103: 0 | AQ103: 0 | AR103: =SUM(AO103,AP103,AQ103) -> 0 | AS103: =AL103+AM103+AO103+AP103 -> 0 | AT103: =ROUNDUP(AS103*$AT$7/$AS$7,0) -> 0 | AW103: =SUM(AU103,AV103) -> 0 | AX103: 0 | AY103: 0 | AZ103: 0 | BA103: =SUM(AX103,AY103,AZ103) -> 0 | BB103: =AU103+AV103+AX103+AY103 -> 0 | BC103: =ROUNDUP(BB103*$BC$7/$BB$7,0) -> 0 | BF103: =SUM(BD103,BE103) -> 0 | BG103: 0 | BH103: 0 | BI103: 0 | BJ103: =SUM(BG103,BH103,BI103) -> 0 | BK103: =BD103+BE103+BG103+BH103 -> 0 | BL103: =ROUNDUP(BK103*$BL$7/$BK$7,0) -> 0 | BM103: 0 | BN103: 0 | BO103: =SUM(BM103,BN103) -> 0 | BP103: 0 | BQ103: 0 | BR103: 0 | BS103: =SUM(BP103,BQ103,BR103) -> 0 | BT103: =BM103+BN103+BP103+BQ103 -> 0 | BU103: =BT103 -> 0 | BV103: 0 | BW103: 0 | BX103: =SUM(BV103,BW103) -> 0 | BY103: 0 | BZ103: 0 | CA103: 0 | CB103: =SUM(BY103,BZ103,CA103) -> 0 | CC103: =BV103+BW103+BY103+BZ103 -> 0 | CD103: =CC103 -> 0 | CE103: 0 | CF103: 0 | CG103: =SUM(CE103,CF103) -> 0 | CH103: 0 | CI103: 0 | CJ103: 0 | CK103: =SUM(CH103,CI103,CJ103) -> 0 | CL103: =CE103+CF103+CH103+CI103 -> 0 | CM103: =CL103 -> 0 | CO103: =IF(CN103>=81,"A",IF(CN103>=61,"B",IF(CN103>=41,"C",IF(CN103>=21,"D","E")))) -> E | CQ103: =IF(CP103>=81,"A",IF(CP103>=61,"B",IF(CP103>=41,"C",IF(CP103>=21,"D","E")))) -> E
A104: =F104 -> 0 | C104: =IF(B104>0,$F$4,0) -> 0 | M104: =SUM(K104,L104) -> 0 | N104: 0 | O104: 0 | Q104: =SUM(N104,O104) -> 0 | R104: =K104+L104+N104+O104 -> 0 | S104: =ROUNDUP(R104*$S$7/$R$7,0) -> 0 | V104: =SUM(T104,U104) -> 0 | W104: 0 | X104: 0 | Z104: =SUM(W104,X104) -> 0 | AA104: =T104+U104+W104+X104 -> 0 | AB104: =ROUNDUP(AA104*$AB$7/$AA$7,0) -> 0 | AE104: =SUM(AC104,AD104) -> 0 | AF104: 0 | AG104: 0 | AH104: 0 | AI104: =SUM(AF104,AG104,AH104) -> 0 | AJ104: =AC104+AD104+AF104+AG104 -> 0 | AK104: =ROUNDUP(AJ104*$AK$7/$AJ$7,0) -> 0 | AN104: =SUM(AL104,AM104) -> 0 | AO104: 0 | AP104: 0 | AQ104: 0 | AR104: =SUM(AO104,AP104,AQ104) -> 0 | AS104: =AL104+AM104+AO104+AP104 -> 0 | AT104: =ROUNDUP(AS104*$AT$7/$AS$7,0) -> 0 | AW104: =SUM(AU104,AV104) -> 0 | AX104: 0 | AY104: 0 | AZ104: 0 | BA104: =SUM(AX104,AY104,AZ104) -> 0 | BB104: =AU104+AV104+AX104+AY104 -> 0 | BC104: =ROUNDUP(BB104*$BC$7/$BB$7,0) -> 0 | BF104: =SUM(BD104,BE104) -> 0 | BG104: 0 | BH104: 0 | BI104: 0 | BJ104: =SUM(BG104,BH104,BI104) -> 0 | BK104: =BD104+BE104+BG104+BH104 -> 0 | BL104: =ROUNDUP(BK104*$BL$7/$BK$7,0) -> 0 | BM104: 0 | BN104: 0 | BO104: =SUM(BM104,BN104) -> 0 | BP104: 0 | BQ104: 0 | BR104: 0 | BS104: =SUM(BP104,BQ104,BR104) -> 0 | BT104: =BM104+BN104+BP104+BQ104 -> 0 | BU104: =BT104 -> 0 | BV104: 0 | BW104: 0 | BX104: =SUM(BV104,BW104) -> 0 | BY104: 0 | BZ104: 0 | CA104: 0 | CB104: =SUM(BY104,BZ104,CA104) -> 0 | CC104: =BV104+BW104+BY104+BZ104 -> 0 | CD104: =CC104 -> 0 | CE104: 0 | CF104: 0 | CG104: =SUM(CE104,CF104) -> 0 | CH104: 0 | CI104: 0 | CJ104: 0 | CK104: =SUM(CH104,CI104,CJ104) -> 0 | CL104: =CE104+CF104+CH104+CI104 -> 0 | CM104: =CL104 -> 0 | CO104: =IF(CN104>=81,"A",IF(CN104>=61,"B",IF(CN104>=41,"C",IF(CN104>=21,"D","E")))) -> E | CQ104: =IF(CP104>=81,"A",IF(CP104>=61,"B",IF(CP104>=41,"C",IF(CP104>=21,"D","E")))) -> E
A105: =F105 -> 0 | C105: =IF(B105>0,$F$4,0) -> 0 | M105: =SUM(K105,L105) -> 0 | N105: 0 | O105: 0 | Q105: =SUM(N105,O105) -> 0 | R105: =K105+L105+N105+O105 -> 0 | S105: =ROUNDUP(R105*$S$7/$R$7,0) -> 0 | V105: =SUM(T105,U105) -> 0 | W105: 0 | X105: 0 | Z105: =SUM(W105,X105) -> 0 | AA105: =T105+U105+W105+X105 -> 0 | AB105: =ROUNDUP(AA105*$AB$7/$AA$7,0) -> 0 | AE105: =SUM(AC105,AD105) -> 0 | AF105: 0 | AG105: 0 | AH105: 0 | AI105: =SUM(AF105,AG105,AH105) -> 0 | AJ105: =AC105+AD105+AF105+AG105 -> 0 | AK105: =ROUNDUP(AJ105*$AK$7/$AJ$7,0) -> 0 | AN105: =SUM(AL105,AM105) -> 0 | AO105: 0 | AP105: 0 | AQ105: 0 | AR105: =SUM(AO105,AP105,AQ105) -> 0 | AS105: =AL105+AM105+AO105+AP105 -> 0 | AT105: =ROUNDUP(AS105*$AT$7/$AS$7,0) -> 0 | AW105: =SUM(AU105,AV105) -> 0 | AX105: 0 | AY105: 0 | AZ105: 0 | BA105: =SUM(AX105,AY105,AZ105) -> 0 | BB105: =AU105+AV105+AX105+AY105 -> 0 | BC105: =ROUNDUP(BB105*$BC$7/$BB$7,0) -> 0 | BF105: =SUM(BD105,BE105) -> 0 | BG105: 0 | BH105: 0 | BI105: 0 | BJ105: =SUM(BG105,BH105,BI105) -> 0 | BK105: =BD105+BE105+BG105+BH105 -> 0 | BL105: =ROUNDUP(BK105*$BL$7/$BK$7,0) -> 0 | BM105: 0 | BN105: 0 | BO105: =SUM(BM105,BN105) -> 0 | BP105: 0 | BQ105: 0 | BR105: 0 | BS105: =SUM(BP105,BQ105,BR105) -> 0 | BT105: =BM105+BN105+BP105+BQ105 -> 0 | BU105: =BT105 -> 0 | BV105: 0 | BW105: 0 | BX105: =SUM(BV105,BW105) -> 0 | BY105: 0 | BZ105: 0 | CA105: 0 | CB105: =SUM(BY105,BZ105,CA105) -> 0 | CC105: =BV105+BW105+BY105+BZ105 -> 0 | CD105: =CC105 -> 0 | CE105: 0 | CF105: 0 | CG105: =SUM(CE105,CF105) -> 0 | CH105: 0 | CI105: 0 | CJ105: 0 | CK105: =SUM(CH105,CI105,CJ105) -> 0 | CL105: =CE105+CF105+CH105+CI105 -> 0 | CM105: =CL105 -> 0 | CO105: =IF(CN105>=81,"A",IF(CN105>=61,"B",IF(CN105>=41,"C",IF(CN105>=21,"D","E")))) -> E | CQ105: =IF(CP105>=81,"A",IF(CP105>=61,"B",IF(CP105>=41,"C",IF(CP105>=21,"D","E")))) -> E
A106: =F106 -> 0 | C106: =IF(B106>0,$F$4,0) -> 0 | M106: =SUM(K106,L106) -> 0 | N106: 0 | O106: 0 | Q106: =SUM(N106,O106) -> 0 | R106: =K106+L106+N106+O106 -> 0 | S106: =ROUNDUP(R106*$S$7/$R$7,0) -> 0 | V106: =SUM(T106,U106) -> 0 | W106: 0 | X106: 0 | Z106: =SUM(W106,X106) -> 0 | AA106: =T106+U106+W106+X106 -> 0 | AB106: =ROUNDUP(AA106*$AB$7/$AA$7,0) -> 0 | AE106: =SUM(AC106,AD106) -> 0 | AF106: 0 | AG106: 0 | AH106: 0 | AI106: =SUM(AF106,AG106,AH106) -> 0 | AJ106: =AC106+AD106+AF106+AG106 -> 0 | AK106: =ROUNDUP(AJ106*$AK$7/$AJ$7,0) -> 0 | AN106: =SUM(AL106,AM106) -> 0 | AO106: 0 | AP106: 0 | AQ106: 0 | AR106: =SUM(AO106,AP106,AQ106) -> 0 | AS106: =AL106+AM106+AO106+AP106 -> 0 | AT106: =ROUNDUP(AS106*$AT$7/$AS$7,0) -> 0 | AW106: =SUM(AU106,AV106) -> 0 | AX106: 0 | AY106: 0 | AZ106: 0 | BA106: =SUM(AX106,AY106,AZ106) -> 0 | BB106: =AU106+AV106+AX106+AY106 -> 0 | BC106: =ROUNDUP(BB106*$BC$7/$BB$7,0) -> 0 | BF106: =SUM(BD106,BE106) -> 0 | BG106: 0 | BH106: 0 | BI106: 0 | BJ106: =SUM(BG106,BH106,BI106) -> 0 | BK106: =BD106+BE106+BG106+BH106 -> 0 | BL106: =ROUNDUP(BK106*$BL$7/$BK$7,0) -> 0 | BM106: 0 | BN106: 0 | BO106: =SUM(BM106,BN106) -> 0 | BP106: 0 | BQ106: 0 | BR106: 0 | BS106: =SUM(BP106,BQ106,BR106) -> 0 | BT106: =BM106+BN106+BP106+BQ106 -> 0 | BU106: =BT106 -> 0 | BV106: 0 | BW106: 0 | BX106: =SUM(BV106,BW106) -> 0 | BY106: 0 | BZ106: 0 | CA106: 0 | CB106: =SUM(BY106,BZ106,CA106) -> 0 | CC106: =BV106+BW106+BY106+BZ106 -> 0 | CD106: =CC106 -> 0 | CE106: 0 | CF106: 0 | CG106: =SUM(CE106,CF106) -> 0 | CH106: 0 | CI106: 0 | CJ106: 0 | CK106: =SUM(CH106,CI106,CJ106) -> 0 | CL106: =CE106+CF106+CH106+CI106 -> 0 | CM106: =CL106 -> 0 | CO106: =IF(CN106>=81,"A",IF(CN106>=61,"B",IF(CN106>=41,"C",IF(CN106>=21,"D","E")))) -> E | CQ106: =IF(CP106>=81,"A",IF(CP106>=61,"B",IF(CP106>=41,"C",IF(CP106>=21,"D","E")))) -> E
A107: =F107 -> 0 | C107: =IF(B107>0,$F$4,0) -> 0 | M107: =SUM(K107,L107) -> 0 | N107: 0 | O107: 0 | Q107: =SUM(N107,O107) -> 0 | R107: =K107+L107+N107+O107 -> 0 | S107: =ROUNDUP(R107*$S$7/$R$7,0) -> 0 | V107: =SUM(T107,U107) -> 0 | W107: 0 | X107: 0 | Z107: =SUM(W107,X107) -> 0 | AA107: =T107+U107+W107+X107 -> 0 | AB107: =ROUNDUP(AA107*$AB$7/$AA$7,0) -> 0 | AE107: =SUM(AC107,AD107) -> 0 | AF107: 0 | AG107: 0 | AH107: 0 | AI107: =SUM(AF107,AG107,AH107) -> 0 | AJ107: =AC107+AD107+AF107+AG107 -> 0 | AK107: =ROUNDUP(AJ107*$AK$7/$AJ$7,0) -> 0 | AN107: =SUM(AL107,AM107) -> 0 | AO107: 0 | AP107: 0 | AQ107: 0 | AR107: =SUM(AO107,AP107,AQ107) -> 0 | AS107: =AL107+AM107+AO107+AP107 -> 0 | AT107: =ROUNDUP(AS107*$AT$7/$AS$7,0) -> 0 | AW107: =SUM(AU107,AV107) -> 0 | AX107: 0 | AY107: 0 | AZ107: 0 | BA107: =SUM(AX107,AY107,AZ107) -> 0 | BB107: =AU107+AV107+AX107+AY107 -> 0 | BC107: =ROUNDUP(BB107*$BC$7/$BB$7,0) -> 0 | BF107: =SUM(BD107,BE107) -> 0 | BG107: 0 | BH107: 0 | BI107: 0 | BJ107: =SUM(BG107,BH107,BI107) -> 0 | BK107: =BD107+BE107+BG107+BH107 -> 0 | BL107: =ROUNDUP(BK107*$BL$7/$BK$7,0) -> 0 | BM107: 0 | BN107: 0 | BO107: =SUM(BM107,BN107) -> 0 | BP107: 0 | BQ107: 0 | BR107: 0 | BS107: =SUM(BP107,BQ107,BR107) -> 0 | BT107: =BM107+BN107+BP107+BQ107 -> 0 | BU107: =BT107 -> 0 | BV107: 0 | BW107: 0 | BX107: =SUM(BV107,BW107) -> 0 | BY107: 0 | BZ107: 0 | CA107: 0 | CB107: =SUM(BY107,BZ107,CA107) -> 0 | CC107: =BV107+BW107+BY107+BZ107 -> 0 | CD107: =CC107 -> 0 | CE107: 0 | CF107: 0 | CG107: =SUM(CE107,CF107) -> 0 | CH107: 0 | CI107: 0 | CJ107: 0 | CK107: =SUM(CH107,CI107,CJ107) -> 0 | CL107: =CE107+CF107+CH107+CI107 -> 0 | CM107: =CL107 -> 0 | CO107: =IF(CN107>=81,"A",IF(CN107>=61,"B",IF(CN107>=41,"C",IF(CN107>=21,"D","E")))) -> E | CQ107: =IF(CP107>=81,"A",IF(CP107>=61,"B",IF(CP107>=41,"C",IF(CP107>=21,"D","E")))) -> E
A108: =F108 -> 0 | C108: =IF(B108>0,$F$4,0) -> 0 | M108: =SUM(K108,L108) -> 0 | N108: 0 | O108: 0 | Q108: =SUM(N108,O108) -> 0 | R108: =K108+L108+N108+O108 -> 0 | S108: =ROUNDUP(R108*$S$7/$R$7,0) -> 0 | V108: =SUM(T108,U108) -> 0 | W108: 0 | X108: 0 | Z108: =SUM(W108,X108) -> 0 | AA108: =T108+U108+W108+X108 -> 0 | AB108: =ROUNDUP(AA108*$AB$7/$AA$7,0) -> 0 | AE108: =SUM(AC108,AD108) -> 0 | AF108: 0 | AG108: 0 | AH108: 0 | AI108: =SUM(AF108,AG108,AH108) -> 0 | AJ108: =AC108+AD108+AF108+AG108 -> 0 | AK108: =ROUNDUP(AJ108*$AK$7/$AJ$7,0) -> 0 | AN108: =SUM(AL108,AM108) -> 0 | AO108: 0 | AP108: 0 | AQ108: 0 | AR108: =SUM(AO108,AP108,AQ108) -> 0 | AS108: =AL108+AM108+AO108+AP108 -> 0 | AT108: =ROUNDUP(AS108*$AT$7/$AS$7,0) -> 0 | AW108: =SUM(AU108,AV108) -> 0 | AX108: 0 | AY108: 0 | AZ108: 0 | BA108: =SUM(AX108,AY108,AZ108) -> 0 | BB108: =AU108+AV108+AX108+AY108 -> 0 | BC108: =ROUNDUP(BB108*$BC$7/$BB$7,0) -> 0 | BF108: =SUM(BD108,BE108) -> 0 | BG108: 0 | BH108: 0 | BI108: 0 | BJ108: =SUM(BG108,BH108,BI108) -> 0 | BK108: =BD108+BE108+BG108+BH108 -> 0 | BL108: =ROUNDUP(BK108*$BL$7/$BK$7,0) -> 0 | BM108: 0 | BN108: 0 | BO108: =SUM(BM108,BN108) -> 0 | BP108: 0 | BQ108: 0 | BR108: 0 | BS108: =SUM(BP108,BQ108,BR108) -> 0 | BT108: =BM108+BN108+BP108+BQ108 -> 0 | BU108: =BT108 -> 0 | BV108: 0 | BW108: 0 | BX108: =SUM(BV108,BW108) -> 0 | BY108: 0 | BZ108: 0 | CA108: 0 | CB108: =SUM(BY108,BZ108,CA108) -> 0 | CC108: =BV108+BW108+BY108+BZ108 -> 0 | CD108: =CC108 -> 0 | CE108: 0 | CF108: 0 | CG108: =SUM(CE108,CF108) -> 0 | CH108: 0 | CI108: 0 | CJ108: 0 | CK108: =SUM(CH108,CI108,CJ108) -> 0 | CL108: =CE108+CF108+CH108+CI108 -> 0 | CM108: =CL108 -> 0 | CO108: =IF(CN108>=81,"A",IF(CN108>=61,"B",IF(CN108>=41,"C",IF(CN108>=21,"D","E")))) -> E | CQ108: =IF(CP108>=81,"A",IF(CP108>=61,"B",IF(CP108>=41,"C",IF(CP108>=21,"D","E")))) -> E
A109: =F109 -> 0 | C109: =IF(B109>0,$F$4,0) -> 0 | M109: =SUM(K109,L109) -> 0 | N109: 0 | O109: 0 | Q109: =SUM(N109,O109) -> 0 | R109: =K109+L109+N109+O109 -> 0 | S109: =ROUNDUP(R109*$S$7/$R$7,0) -> 0 | V109: =SUM(T109,U109) -> 0 | W109: 0 | X109: 0 | Z109: =SUM(W109,X109) -> 0 | AA109: =T109+U109+W109+X109 -> 0 | AB109: =ROUNDUP(AA109*$AB$7/$AA$7,0) -> 0 | AE109: =SUM(AC109,AD109) -> 0 | AF109: 0 | AG109: 0 | AH109: 0 | AI109: =SUM(AF109,AG109,AH109) -> 0 | AJ109: =AC109+AD109+AF109+AG109 -> 0 | AK109: =ROUNDUP(AJ109*$AK$7/$AJ$7,0) -> 0 | AN109: =SUM(AL109,AM109) -> 0 | AO109: 0 | AP109: 0 | AQ109: 0 | AR109: =SUM(AO109,AP109,AQ109) -> 0 | AS109: =AL109+AM109+AO109+AP109 -> 0 | AT109: =ROUNDUP(AS109*$AT$7/$AS$7,0) -> 0 | AW109: =SUM(AU109,AV109) -> 0 | AX109: 0 | AY109: 0 | AZ109: 0 | BA109: =SUM(AX109,AY109,AZ109) -> 0 | BB109: =AU109+AV109+AX109+AY109 -> 0 | BC109: =ROUNDUP(BB109*$BC$7/$BB$7,0) -> 0 | BF109: =SUM(BD109,BE109) -> 0 | BG109: 0 | BH109: 0 | BI109: 0 | BJ109: =SUM(BG109,BH109,BI109) -> 0 | BK109: =BD109+BE109+BG109+BH109 -> 0 | BL109: =ROUNDUP(BK109*$BL$7/$BK$7,0) -> 0 | BM109: 0 | BN109: 0 | BO109: =SUM(BM109,BN109) -> 0 | BP109: 0 | BQ109: 0 | BR109: 0 | BS109: =SUM(BP109,BQ109,BR109) -> 0 | BT109: =BM109+BN109+BP109+BQ109 -> 0 | BU109: =BT109 -> 0 | BV109: 0 | BW109: 0 | BX109: =SUM(BV109,BW109) -> 0 | BY109: 0 | BZ109: 0 | CA109: 0 | CB109: =SUM(BY109,BZ109,CA109) -> 0 | CC109: =BV109+BW109+BY109+BZ109 -> 0 | CD109: =CC109 -> 0 | CE109: 0 | CF109: 0 | CG109: =SUM(CE109,CF109) -> 0 | CH109: 0 | CI109: 0 | CJ109: 0 | CK109: =SUM(CH109,CI109,CJ109) -> 0 | CL109: =CE109+CF109+CH109+CI109 -> 0 | CM109: =CL109 -> 0 | CN109: 0 | CO109: =IF(CN109>=81,"A",IF(CN109>=61,"B",IF(CN109>=41,"C",IF(CN109>=21,"D","E")))) -> E | CP109: 0 | CQ109: =IF(CP109>=81,"A",IF(CP109>=61,"B",IF(CP109>=41,"C",IF(CP109>=21,"D","E")))) -> E
A110: =F110 -> 0 | C110: =IF(B110>0,$F$4,0) -> 0 | M110: =SUM(K110,L110) -> 0 | N110: 0 | O110: 0 | Q110: =SUM(N110,O110) -> 0 | R110: =K110+L110+N110+O110 -> 0 | S110: =ROUNDUP(R110*$S$7/$R$7,0) -> 0 | V110: =SUM(T110,U110) -> 0 | W110: 0 | X110: 0 | Z110: =SUM(W110,X110) -> 0 | AA110: =T110+U110+W110+X110 -> 0 | AB110: =ROUNDUP(AA110*$AB$7/$AA$7,0) -> 0 | AE110: =SUM(AC110,AD110) -> 0 | AF110: 0 | AG110: 0 | AH110: 0 | AI110: =SUM(AF110,AG110,AH110) -> 0 | AJ110: =AC110+AD110+AF110+AG110 -> 0 | AK110: =ROUNDUP(AJ110*$AK$7/$AJ$7,0) -> 0 | AN110: =SUM(AL110,AM110) -> 0 | AO110: 0 | AP110: 0 | AQ110: 0 | AR110: =SUM(AO110,AP110,AQ110) -> 0 | AS110: =AL110+AM110+AO110+AP110 -> 0 | AT110: =ROUNDUP(AS110*$AT$7/$AS$7,0) -> 0 | AW110: =SUM(AU110,AV110) -> 0 | AX110: 0 | AY110: 0 | AZ110: 0 | BA110: =SUM(AX110,AY110,AZ110) -> 0 | BB110: =AU110+AV110+AX110+AY110 -> 0 | BC110: =ROUNDUP(BB110*$BC$7/$BB$7,0) -> 0 | BF110: =SUM(BD110,BE110) -> 0 | BG110: 0 | BH110: 0 | BI110: 0 | BJ110: =SUM(BG110,BH110,BI110) -> 0 | BK110: =BD110+BE110+BG110+BH110 -> 0 | BL110: =ROUNDUP(BK110*$BL$7/$BK$7,0) -> 0 | BM110: 0 | BN110: 0 | BO110: =SUM(BM110,BN110) -> 0 | BP110: 0 | BQ110: 0 | BR110: 0 | BS110: =SUM(BP110,BQ110,BR110) -> 0 | BT110: =BM110+BN110+BP110+BQ110 -> 0 | BU110: =BT110 -> 0 | BV110: 0 | BW110: 0 | BX110: =SUM(BV110,BW110) -> 0 | BY110: 0 | BZ110: 0 | CA110: 0 | CB110: =SUM(BY110,BZ110,CA110) -> 0 | CC110: =BV110+BW110+BY110+BZ110 -> 0 | CD110: =CC110 -> 0 | CE110: 0 | CF110: 0 | CG110: =SUM(CE110,CF110) -> 0 | CH110: 0 | CI110: 0 | CJ110: 0 | CK110: =SUM(CH110,CI110,CJ110) -> 0 | CL110: =CE110+CF110+CH110+CI110 -> 0 | CM110: =CL110 -> 0 | CN110: 0 | CO110: =IF(CN110>=81,"A",IF(CN110>=61,"B",IF(CN110>=41,"C",IF(CN110>=21,"D","E")))) -> E | CP110: 0 | CQ110: =IF(CP110>=81,"A",IF(CP110>=61,"B",IF(CP110>=41,"C",IF(CP110>=21,"D","E")))) -> E
A111: =F111 -> 0 | C111: =IF(B111>0,$F$4,0) -> 0 | M111: =SUM(K111,L111) -> 0 | N111: 0 | O111: 0 | Q111: =SUM(N111,O111) -> 0 | R111: =K111+L111+N111+O111 -> 0 | S111: =ROUNDUP(R111*$S$7/$R$7,0) -> 0 | V111: =SUM(T111,U111) -> 0 | W111: 0 | X111: 0 | Z111: =SUM(W111,X111) -> 0 | AA111: =T111+U111+W111+X111 -> 0 | AB111: =ROUNDUP(AA111*$AB$7/$AA$7,0) -> 0 | AE111: =SUM(AC111,AD111) -> 0 | AF111: 0 | AG111: 0 | AH111: 0 | AI111: =SUM(AF111,AG111,AH111) -> 0 | AJ111: =AC111+AD111+AF111+AG111 -> 0 | AK111: =ROUNDUP(AJ111*$AK$7/$AJ$7,0) -> 0 | AN111: =SUM(AL111,AM111) -> 0 | AO111: 0 | AP111: 0 | AQ111: 0 | AR111: =SUM(AO111,AP111,AQ111) -> 0 | AS111: =AL111+AM111+AO111+AP111 -> 0 | AT111: =ROUNDUP(AS111*$AT$7/$AS$7,0) -> 0 | AW111: =SUM(AU111,AV111) -> 0 | AX111: 0 | AY111: 0 | AZ111: 0 | BA111: =SUM(AX111,AY111,AZ111) -> 0 | BB111: =AU111+AV111+AX111+AY111 -> 0 | BC111: =ROUNDUP(BB111*$BC$7/$BB$7,0) -> 0 | BF111: =SUM(BD111,BE111) -> 0 | BG111: 0 | BH111: 0 | BI111: 0 | BJ111: =SUM(BG111,BH111,BI111) -> 0 | BK111: =BD111+BE111+BG111+BH111 -> 0 | BL111: =ROUNDUP(BK111*$BL$7/$BK$7,0) -> 0 | BM111: 0 | BN111: 0 | BO111: =SUM(BM111,BN111) -> 0 | BP111: 0 | BQ111: 0 | BR111: 0 | BS111: =SUM(BP111,BQ111,BR111) -> 0 | BT111: =BM111+BN111+BP111+BQ111 -> 0 | BU111: =BT111 -> 0 | BV111: 0 | BW111: 0 | BX111: =SUM(BV111,BW111) -> 0 | BY111: 0 | BZ111: 0 | CA111: 0 | CB111: =SUM(BY111,BZ111,CA111) -> 0 | CC111: =BV111+BW111+BY111+BZ111 -> 0 | CD111: =CC111 -> 0 | CE111: 0 | CF111: 0 | CG111: =SUM(CE111,CF111) -> 0 | CH111: 0 | CI111: 0 | CJ111: 0 | CK111: =SUM(CH111,CI111,CJ111) -> 0 | CL111: =CE111+CF111+CH111+CI111 -> 0 | CM111: =CL111 -> 0 | CN111: 0 | CO111: =IF(CN111>=81,"A",IF(CN111>=61,"B",IF(CN111>=41,"C",IF(CN111>=21,"D","E")))) -> E | CP111: 0 | CQ111: =IF(CP111>=81,"A",IF(CP111>=61,"B",IF(CP111>=41,"C",IF(CP111>=21,"D","E")))) -> E
A112: =F112 -> 0 | C112: =IF(B112>0,$F$4,0) -> 0 | M112: =SUM(K112,L112) -> 0 | N112: 0 | O112: 0 | Q112: =SUM(N112,O112) -> 0 | R112: =K112+L112+N112+O112 -> 0 | S112: =ROUNDUP(R112*$S$7/$R$7,0) -> 0 | V112: =SUM(T112,U112) -> 0 | W112: 0 | X112: 0 | Z112: =SUM(W112,X112) -> 0 | AA112: =T112+U112+W112+X112 -> 0 | AB112: =ROUNDUP(AA112*$AB$7/$AA$7,0) -> 0 | AE112: =SUM(AC112,AD112) -> 0 | AF112: 0 | AG112: 0 | AH112: 0 | AI112: =SUM(AF112,AG112,AH112) -> 0 | AJ112: =AC112+AD112+AF112+AG112 -> 0 | AK112: =ROUNDUP(AJ112*$AK$7/$AJ$7,0) -> 0 | AN112: =SUM(AL112,AM112) -> 0 | AO112: 0 | AP112: 0 | AQ112: 0 | AR112: =SUM(AO112,AP112,AQ112) -> 0 | AS112: =AL112+AM112+AO112+AP112 -> 0 | AT112: =ROUNDUP(AS112*$AT$7/$AS$7,0) -> 0 | AW112: =SUM(AU112,AV112) -> 0 | AX112: 0 | AY112: 0 | AZ112: 0 | BA112: =SUM(AX112,AY112,AZ112) -> 0 | BB112: =AU112+AV112+AX112+AY112 -> 0 | BC112: =ROUNDUP(BB112*$BC$7/$BB$7,0) -> 0 | BF112: =SUM(BD112,BE112) -> 0 | BG112: 0 | BH112: 0 | BI112: 0 | BJ112: =SUM(BG112,BH112,BI112) -> 0 | BK112: =BD112+BE112+BG112+BH112 -> 0 | BL112: =ROUNDUP(BK112*$BL$7/$BK$7,0) -> 0 | BM112: 0 | BN112: 0 | BO112: =SUM(BM112,BN112) -> 0 | BP112: 0 | BQ112: 0 | BR112: 0 | BS112: =SUM(BP112,BQ112,BR112) -> 0 | BT112: =BM112+BN112+BP112+BQ112 -> 0 | BU112: =BT112 -> 0 | BV112: 0 | BW112: 0 | BX112: =SUM(BV112,BW112) -> 0 | BY112: 0 | BZ112: 0 | CA112: 0 | CB112: =SUM(BY112,BZ112,CA112) -> 0 | CC112: =BV112+BW112+BY112+BZ112 -> 0 | CD112: =CC112 -> 0 | CE112: 0 | CF112: 0 | CG112: =SUM(CE112,CF112) -> 0 | CH112: 0 | CI112: 0 | CJ112: 0 | CK112: =SUM(CH112,CI112,CJ112) -> 0 | CL112: =CE112+CF112+CH112+CI112 -> 0 | CM112: =CL112 -> 0 | CN112: 0 | CO112: =IF(CN112>=81,"A",IF(CN112>=61,"B",IF(CN112>=41,"C",IF(CN112>=21,"D","E")))) -> E | CP112: 0 | CQ112: =IF(CP112>=81,"A",IF(CP112>=61,"B",IF(CP112>=41,"C",IF(CP112>=21,"D","E")))) -> E
A113: =F113 -> 0 | C113: =IF(B113>0,$F$4,0) -> 0 | M113: =SUM(K113,L113) -> 0 | N113: 0 | O113: 0 | Q113: =SUM(N113,O113) -> 0 | R113: =K113+L113+N113+O113 -> 0 | S113: =ROUNDUP(R113*$S$7/$R$7,0) -> 0 | V113: =SUM(T113,U113) -> 0 | W113: 0 | X113: 0 | Z113: =SUM(W113,X113) -> 0 | AA113: =T113+U113+W113+X113 -> 0 | AB113: =ROUNDUP(AA113*$AB$7/$AA$7,0) -> 0 | AE113: =SUM(AC113,AD113) -> 0 | AF113: 0 | AG113: 0 | AH113: 0 | AI113: =SUM(AF113,AG113,AH113) -> 0 | AJ113: =AC113+AD113+AF113+AG113 -> 0 | AK113: =ROUNDUP(AJ113*$AK$7/$AJ$7,0) -> 0 | AN113: =SUM(AL113,AM113) -> 0 | AO113: 0 | AP113: 0 | AQ113: 0 | AR113: =SUM(AO113,AP113,AQ113) -> 0 | AS113: =AL113+AM113+AO113+AP113 -> 0 | AT113: =ROUNDUP(AS113*$AT$7/$AS$7,0) -> 0 | AW113: =SUM(AU113,AV113) -> 0 | AX113: 0 | AY113: 0 | AZ113: 0 | BA113: =SUM(AX113,AY113,AZ113) -> 0 | BB113: =AU113+AV113+AX113+AY113 -> 0 | BC113: =ROUNDUP(BB113*$BC$7/$BB$7,0) -> 0 | BF113: =SUM(BD113,BE113) -> 0 | BG113: 0 | BH113: 0 | BI113: 0 | BJ113: =SUM(BG113,BH113,BI113) -> 0 | BK113: =BD113+BE113+BG113+BH113 -> 0 | BL113: =ROUNDUP(BK113*$BL$7/$BK$7,0) -> 0 | BM113: 0 | BN113: 0 | BO113: =SUM(BM113,BN113) -> 0 | BP113: 0 | BQ113: 0 | BR113: 0 | BS113: =SUM(BP113,BQ113,BR113) -> 0 | BT113: =BM113+BN113+BP113+BQ113 -> 0 | BU113: =BT113 -> 0 | BV113: 0 | BW113: 0 | BX113: =SUM(BV113,BW113) -> 0 | BY113: 0 | BZ113: 0 | CA113: 0 | CB113: =SUM(BY113,BZ113,CA113) -> 0 | CC113: =BV113+BW113+BY113+BZ113 -> 0 | CD113: =CC113 -> 0 | CE113: 0 | CF113: 0 | CG113: =SUM(CE113,CF113) -> 0 | CH113: 0 | CI113: 0 | CJ113: 0 | CK113: =SUM(CH113,CI113,CJ113) -> 0 | CL113: =CE113+CF113+CH113+CI113 -> 0 | CM113: =CL113 -> 0 | CN113: 0 | CO113: =IF(CN113>=81,"A",IF(CN113>=61,"B",IF(CN113>=41,"C",IF(CN113>=21,"D","E")))) -> E | CP113: 0 | CQ113: =IF(CP113>=81,"A",IF(CP113>=61,"B",IF(CP113>=41,"C",IF(CP113>=21,"D","E")))) -> E
A114: =F114 -> 0 | C114: =IF(B114>0,$F$4,0) -> 0 | M114: =SUM(K114,L114) -> 0 | N114: 0 | O114: 0 | Q114: =SUM(N114,O114) -> 0 | R114: =K114+L114+N114+O114 -> 0 | S114: =ROUNDUP(R114*$S$7/$R$7,0) -> 0 | V114: =SUM(T114,U114) -> 0 | W114: 0 | X114: 0 | Z114: =SUM(W114,X114) -> 0 | AA114: =T114+U114+W114+X114 -> 0 | AB114: =ROUNDUP(AA114*$AB$7/$AA$7,0) -> 0 | AE114: =SUM(AC114,AD114) -> 0 | AF114: 0 | AG114: 0 | AH114: 0 | AI114: =SUM(AF114,AG114,AH114) -> 0 | AJ114: =AC114+AD114+AF114+AG114 -> 0 | AK114: =ROUNDUP(AJ114*$AK$7/$AJ$7,0) -> 0 | AN114: =SUM(AL114,AM114) -> 0 | AO114: 0 | AP114: 0 | AQ114: 0 | AR114: =SUM(AO114,AP114,AQ114) -> 0 | AS114: =AL114+AM114+AO114+AP114 -> 0 | AT114: =ROUNDUP(AS114*$AT$7/$AS$7,0) -> 0 | AW114: =SUM(AU114,AV114) -> 0 | AX114: 0 | AY114: 0 | AZ114: 0 | BA114: =SUM(AX114,AY114,AZ114) -> 0 | BB114: =AU114+AV114+AX114+AY114 -> 0 | BC114: =ROUNDUP(BB114*$BC$7/$BB$7,0) -> 0 | BF114: =SUM(BD114,BE114) -> 0 | BG114: 0 | BH114: 0 | BI114: 0 | BJ114: =SUM(BG114,BH114,BI114) -> 0 | BK114: =BD114+BE114+BG114+BH114 -> 0 | BL114: =ROUNDUP(BK114*$BL$7/$BK$7,0) -> 0 | BM114: 0 | BN114: 0 | BO114: =SUM(BM114,BN114) -> 0 | BP114: 0 | BQ114: 0 | BR114: 0 | BS114: =SUM(BP114,BQ114,BR114) -> 0 | BT114: =BM114+BN114+BP114+BQ114 -> 0 | BU114: =BT114 -> 0 | BV114: 0 | BW114: 0 | BX114: =SUM(BV114,BW114) -> 0 | BY114: 0 | BZ114: 0 | CA114: 0 | CB114: =SUM(BY114,BZ114,CA114) -> 0 | CC114: =BV114+BW114+BY114+BZ114 -> 0 | CD114: =CC114 -> 0 | CE114: 0 | CF114: 0 | CG114: =SUM(CE114,CF114) -> 0 | CH114: 0 | CI114: 0 | CJ114: 0 | CK114: =SUM(CH114,CI114,CJ114) -> 0 | CL114: =CE114+CF114+CH114+CI114 -> 0 | CM114: =CL114 -> 0 | CN114: 0 | CO114: =IF(CN114>=81,"A",IF(CN114>=61,"B",IF(CN114>=41,"C",IF(CN114>=21,"D","E")))) -> E | CP114: 0 | CQ114: =IF(CP114>=81,"A",IF(CP114>=61,"B",IF(CP114>=41,"C",IF(CP114>=21,"D","E")))) -> E
A115: =F115 -> 0 | C115: =IF(B115>0,$F$4,0) -> 0 | M115: =SUM(K115,L115) -> 0 | N115: 0 | O115: 0 | Q115: =SUM(N115,O115) -> 0 | R115: =K115+L115+N115+O115 -> 0 | S115: =ROUNDUP(R115*$S$7/$R$7,0) -> 0 | V115: =SUM(T115,U115) -> 0 | W115: 0 | X115: 0 | Z115: =SUM(W115,X115) -> 0 | AA115: =T115+U115+W115+X115 -> 0 | AB115: =ROUNDUP(AA115*$AB$7/$AA$7,0) -> 0 | AE115: =SUM(AC115,AD115) -> 0 | AF115: 0 | AG115: 0 | AH115: 0 | AI115: =SUM(AF115,AG115,AH115) -> 0 | AJ115: =AC115+AD115+AF115+AG115 -> 0 | AK115: =ROUNDUP(AJ115*$AK$7/$AJ$7,0) -> 0 | AN115: =SUM(AL115,AM115) -> 0 | AO115: 0 | AP115: 0 | AQ115: 0 | AR115: =SUM(AO115,AP115,AQ115) -> 0 | AS115: =AL115+AM115+AO115+AP115 -> 0 | AT115: =ROUNDUP(AS115*$AT$7/$AS$7,0) -> 0 | AW115: =SUM(AU115,AV115) -> 0 | AX115: 0 | AY115: 0 | AZ115: 0 | BA115: =SUM(AX115,AY115,AZ115) -> 0 | BB115: =AU115+AV115+AX115+AY115 -> 0 | BC115: =ROUNDUP(BB115*$BC$7/$BB$7,0) -> 0 | BF115: =SUM(BD115,BE115) -> 0 | BG115: 0 | BH115: 0 | BI115: 0 | BJ115: =SUM(BG115,BH115,BI115) -> 0 | BK115: =BD115+BE115+BG115+BH115 -> 0 | BL115: =ROUNDUP(BK115*$BL$7/$BK$7,0) -> 0 | BM115: 0 | BN115: 0 | BO115: =SUM(BM115,BN115) -> 0 | BP115: 0 | BQ115: 0 | BR115: 0 | BS115: =SUM(BP115,BQ115,BR115) -> 0 | BT115: =BM115+BN115+BP115+BQ115 -> 0 | BU115: =BT115 -> 0 | BV115: 0 | BW115: 0 | BX115: =SUM(BV115,BW115) -> 0 | BY115: 0 | BZ115: 0 | CA115: 0 | CB115: =SUM(BY115,BZ115,CA115) -> 0 | CC115: =BV115+BW115+BY115+BZ115 -> 0 | CD115: =CC115 -> 0 | CE115: 0 | CF115: 0 | CG115: =SUM(CE115,CF115) -> 0 | CH115: 0 | CI115: 0 | CJ115: 0 | CK115: =SUM(CH115,CI115,CJ115) -> 0 | CL115: =CE115+CF115+CH115+CI115 -> 0 | CM115: =CL115 -> 0 | CN115: 0 | CO115: =IF(CN115>=81,"A",IF(CN115>=61,"B",IF(CN115>=41,"C",IF(CN115>=21,"D","E")))) -> E | CP115: 0 | CQ115: =IF(CP115>=81,"A",IF(CP115>=61,"B",IF(CP115>=41,"C",IF(CP115>=21,"D","E")))) -> E
A116: =F116 -> 0 | C116: =IF(B116>0,$F$4,0) -> 0 | M116: =SUM(K116,L116) -> 0 | N116: 0 | O116: 0 | Q116: =SUM(N116,O116) -> 0 | R116: =K116+L116+N116+O116 -> 0 | S116: =ROUNDUP(R116*$S$7/$R$7,0) -> 0 | V116: =SUM(T116,U116) -> 0 | W116: 0 | X116: 0 | Z116: =SUM(W116,X116) -> 0 | AA116: =T116+U116+W116+X116 -> 0 | AB116: =ROUNDUP(AA116*$AB$7/$AA$7,0) -> 0 | AE116: =SUM(AC116,AD116) -> 0 | AF116: 0 | AG116: 0 | AH116: 0 | AI116: =SUM(AF116,AG116,AH116) -> 0 | AJ116: =AC116+AD116+AF116+AG116 -> 0 | AK116: =ROUNDUP(AJ116*$AK$7/$AJ$7,0) -> 0 | AN116: =SUM(AL116,AM116) -> 0 | AO116: 0 | AP116: 0 | AQ116: 0 | AR116: =SUM(AO116,AP116,AQ116) -> 0 | AS116: =AL116+AM116+AO116+AP116 -> 0 | AT116: =ROUNDUP(AS116*$AT$7/$AS$7,0) -> 0 | AW116: =SUM(AU116,AV116) -> 0 | AX116: 0 | AY116: 0 | AZ116: 0 | BA116: =SUM(AX116,AY116,AZ116) -> 0 | BB116: =AU116+AV116+AX116+AY116 -> 0 | BC116: =ROUNDUP(BB116*$BC$7/$BB$7,0) -> 0 | BF116: =SUM(BD116,BE116) -> 0 | BG116: 0 | BH116: 0 | BI116: 0 | BJ116: =SUM(BG116,BH116,BI116) -> 0 | BK116: =BD116+BE116+BG116+BH116 -> 0 | BL116: =ROUNDUP(BK116*$BL$7/$BK$7,0) -> 0 | BM116: 0 | BN116: 0 | BO116: =SUM(BM116,BN116) -> 0 | BP116: 0 | BQ116: 0 | BR116: 0 | BS116: =SUM(BP116,BQ116,BR116) -> 0 | BT116: =BM116+BN116+BP116+BQ116 -> 0 | BU116: =BT116 -> 0 | BV116: 0 | BW116: 0 | BX116: =SUM(BV116,BW116) -> 0 | BY116: 0 | BZ116: 0 | CA116: 0 | CB116: =SUM(BY116,BZ116,CA116) -> 0 | CC116: =BV116+BW116+BY116+BZ116 -> 0 | CD116: =CC116 -> 0 | CE116: 0 | CF116: 0 | CG116: =SUM(CE116,CF116) -> 0 | CH116: 0 | CI116: 0 | CJ116: 0 | CK116: =SUM(CH116,CI116,CJ116) -> 0 | CL116: =CE116+CF116+CH116+CI116 -> 0 | CM116: =CL116 -> 0 | CN116: 0 | CO116: =IF(CN116>=81,"A",IF(CN116>=61,"B",IF(CN116>=41,"C",IF(CN116>=21,"D","E")))) -> E | CP116: 0 | CQ116: =IF(CP116>=81,"A",IF(CP116>=61,"B",IF(CP116>=41,"C",IF(CP116>=21,"D","E")))) -> E
A117: =F117 -> 0 | C117: =IF(B117>0,$F$4,0) -> 0 | K117: 0 | L117: 0 | M117: =SUM(K117,L117) -> 0 | N117: 0 | O117: 0 | Q117: =SUM(N117,O117) -> 0 | R117: =K117+L117+N117+O117 -> 0 | S117: =ROUNDUP(R117*$S$7/$R$7,0) -> 0 | T117: 0 | U117: 0 | V117: =SUM(T117,U117) -> 0 | W117: 0 | X117: 0 | Z117: =SUM(W117,X117) -> 0 | AA117: =T117+U117+W117+X117 -> 0 | AB117: =ROUNDUP(AA117*$AB$7/$AA$7,0) -> 0 | AC117: 0 | AD117: 0 | AE117: =SUM(AC117,AD117) -> 0 | AF117: 0 | AG117: 0 | AH117: 0 | AI117: =SUM(AF117,AG117,AH117) -> 0 | AJ117: =AC117+AD117+AF117+AG117 -> 0 | AK117: =ROUNDUP(AJ117*$AK$7/$AJ$7,0) -> 0 | AL117: 0 | AM117: 0 | AN117: =SUM(AL117,AM117) -> 0 | AO117: 0 | AP117: 0 | AQ117: 0 | AR117: =SUM(AO117,AP117,AQ117) -> 0 | AS117: =AL117+AM117+AO117+AP117 -> 0 | AT117: =ROUNDUP(AS117*$AT$7/$AS$7,0) -> 0 | AU117: 0 | AV117: 0 | AW117: =SUM(AU117,AV117) -> 0 | AX117: 0 | AY117: 0 | AZ117: 0 | BA117: =SUM(AX117,AY117,AZ117) -> 0 | BB117: =AU117+AV117+AX117+AY117 -> 0 | BC117: =ROUNDUP(BB117*$BC$7/$BB$7,0) -> 0 | BD117: 0 | BE117: 0 | BF117: =SUM(BD117,BE117) -> 0 | BG117: 0 | BH117: 0 | BI117: 0 | BJ117: =SUM(BG117,BH117,BI117) -> 0 | BK117: =BD117+BE117+BG117+BH117 -> 0 | BL117: =ROUNDUP(BK117*$BL$7/$BK$7,0) -> 0 | BM117: 0 | BN117: 0 | BO117: =SUM(BM117,BN117) -> 0 | BP117: 0 | BQ117: 0 | BR117: 0 | BS117: =SUM(BP117,BQ117,BR117) -> 0 | BT117: =BM117+BN117+BP117+BQ117 -> 0 | BU117: =BT117 -> 0 | BV117: 0 | BW117: 0 | BX117: =SUM(BV117,BW117) -> 0 | BY117: 0 | BZ117: 0 | CA117: 0 | CB117: =SUM(BY117,BZ117,CA117) -> 0 | CC117: =BV117+BW117+BY117+BZ117 -> 0 | CD117: =CC117 -> 0 | CE117: 0 | CF117: 0 | CG117: =SUM(CE117,CF117) -> 0 | CH117: 0 | CI117: 0 | CJ117: 0 | CK117: =SUM(CH117,CI117,CJ117) -> 0 | CL117: =CE117+CF117+CH117+CI117 -> 0 | CM117: =CL117 -> 0 | CN117: 0 | CO117: =IF(CN117>=81,"A",IF(CN117>=61,"B",IF(CN117>=41,"C",IF(CN117>=21,"D","E")))) -> E | CP117: 0 | CQ117: =IF(CP117>=81,"A",IF(CP117>=61,"B",IF(CP117>=41,"C",IF(CP117>=21,"D","E")))) -> E
A118: =F118 -> 0 | C118: =IF(B118>0,$F$4,0) -> 0 | K118: 0 | L118: 0 | M118: =SUM(K118,L118) -> 0 | N118: 0 | O118: 0 | Q118: =SUM(N118,O118) -> 0 | R118: =K118+L118+N118+O118 -> 0 | S118: =ROUNDUP(R118*$S$7/$R$7,0) -> 0 | T118: 0 | U118: 0 | V118: =SUM(T118,U118) -> 0 | W118: 0 | X118: 0 | Z118: =SUM(W118,X118) -> 0 | AA118: =T118+U118+W118+X118 -> 0 | AB118: =ROUNDUP(AA118*$AB$7/$AA$7,0) -> 0 | AC118: 0 | AD118: 0 | AE118: =SUM(AC118,AD118) -> 0 | AF118: 0 | AG118: 0 | AH118: 0 | AI118: =SUM(AF118,AG118,AH118) -> 0 | AJ118: =AC118+AD118+AF118+AG118 -> 0 | AK118: =ROUNDUP(AJ118*$AK$7/$AJ$7,0) -> 0 | AL118: 0 | AM118: 0 | AN118: =SUM(AL118,AM118) -> 0 | AO118: 0 | AP118: 0 | AQ118: 0 | AR118: =SUM(AO118,AP118,AQ118) -> 0 | AS118: =AL118+AM118+AO118+AP118 -> 0 | AT118: =ROUNDUP(AS118*$AT$7/$AS$7,0) -> 0 | AU118: 0 | AV118: 0 | AW118: =SUM(AU118,AV118) -> 0 | AX118: 0 | AY118: 0 | AZ118: 0 | BA118: =SUM(AX118,AY118,AZ118) -> 0 | BB118: =AU118+AV118+AX118+AY118 -> 0 | BC118: =ROUNDUP(BB118*$BC$7/$BB$7,0) -> 0 | BD118: 0 | BE118: 0 | BF118: =SUM(BD118,BE118) -> 0 | BG118: 0 | BH118: 0 | BI118: 0 | BJ118: =SUM(BG118,BH118,BI118) -> 0 | BK118: =BD118+BE118+BG118+BH118 -> 0 | BL118: =ROUNDUP(BK118*$BL$7/$BK$7,0) -> 0 | BM118: 0 | BN118: 0 | BO118: =SUM(BM118,BN118) -> 0 | BP118: 0 | BQ118: 0 | BR118: 0 | BS118: =SUM(BP118,BQ118,BR118) -> 0 | BT118: =BM118+BN118+BP118+BQ118 -> 0 | BU118: =BT118 -> 0 | BV118: 0 | BW118: 0 | BX118: =SUM(BV118,BW118) -> 0 | BY118: 0 | BZ118: 0 | CA118: 0 | CB118: =SUM(BY118,BZ118,CA118) -> 0 | CC118: =BV118+BW118+BY118+BZ118 -> 0 | CD118: =CC118 -> 0 | CE118: 0 | CF118: 0 | CG118: =SUM(CE118,CF118) -> 0 | CH118: 0 | CI118: 0 | CJ118: 0 | CK118: =SUM(CH118,CI118,CJ118) -> 0 | CL118: =CE118+CF118+CH118+CI118 -> 0 | CM118: =CL118 -> 0 | CN118: 0 | CO118: =IF(CN118>=81,"A",IF(CN118>=61,"B",IF(CN118>=41,"C",IF(CN118>=21,"D","E")))) -> E | CP118: 0 | CQ118: =IF(CP118>=81,"A",IF(CP118>=61,"B",IF(CP118>=41,"C",IF(CP118>=21,"D","E")))) -> E
A119: =F119 -> 0 | C119: =IF(B119>0,$F$4,0) -> 0 | K119: 0 | L119: 0 | M119: =SUM(K119,L119) -> 0 | N119: 0 | O119: 0 | Q119: =SUM(N119,O119) -> 0 | R119: =K119+L119+N119+O119 -> 0 | S119: =ROUNDUP(R119*$S$7/$R$7,0) -> 0 | T119: 0 | U119: 0 | V119: =SUM(T119,U119) -> 0 | W119: 0 | X119: 0 | Z119: =SUM(W119,X119) -> 0 | AA119: =T119+U119+W119+X119 -> 0 | AB119: =ROUNDUP(AA119*$AB$7/$AA$7,0) -> 0 | AC119: 0 | AD119: 0 | AE119: =SUM(AC119,AD119) -> 0 | AF119: 0 | AG119: 0 | AH119: 0 | AI119: =SUM(AF119,AG119,AH119) -> 0 | AJ119: =AC119+AD119+AF119+AG119 -> 0 | AK119: =ROUNDUP(AJ119*$AK$7/$AJ$7,0) -> 0 | AL119: 0 | AM119: 0 | AN119: =SUM(AL119,AM119) -> 0 | AO119: 0 | AP119: 0 | AQ119: 0 | AR119: =SUM(AO119,AP119,AQ119) -> 0 | AS119: =AL119+AM119+AO119+AP119 -> 0 | AT119: =ROUNDUP(AS119*$AT$7/$AS$7,0) -> 0 | AU119: 0 | AV119: 0 | AW119: =SUM(AU119,AV119) -> 0 | AX119: 0 | AY119: 0 | AZ119: 0 | BA119: =SUM(AX119,AY119,AZ119) -> 0 | BB119: =AU119+AV119+AX119+AY119 -> 0 | BC119: =ROUNDUP(BB119*$BC$7/$BB$7,0) -> 0 | BD119: 0 | BE119: 0 | BF119: =SUM(BD119,BE119) -> 0 | BG119: 0 | BH119: 0 | BI119: 0 | BJ119: =SUM(BG119,BH119,BI119) -> 0 | BK119: =BD119+BE119+BG119+BH119 -> 0 | BL119: =ROUNDUP(BK119*$BL$7/$BK$7,0) -> 0 | BM119: 0 | BN119: 0 | BO119: =SUM(BM119,BN119) -> 0 | BP119: 0 | BQ119: 0 | BR119: 0 | BS119: =SUM(BP119,BQ119,BR119) -> 0 | BT119: =BM119+BN119+BP119+BQ119 -> 0 | BU119: =BT119 -> 0 | BV119: 0 | BW119: 0 | BX119: =SUM(BV119,BW119) -> 0 | BY119: 0 | BZ119: 0 | CA119: 0 | CB119: =SUM(BY119,BZ119,CA119) -> 0 | CC119: =BV119+BW119+BY119+BZ119 -> 0 | CD119: =CC119 -> 0 | CE119: 0 | CF119: 0 | CG119: =SUM(CE119,CF119) -> 0 | CH119: 0 | CI119: 0 | CJ119: 0 | CK119: =SUM(CH119,CI119,CJ119) -> 0 | CL119: =CE119+CF119+CH119+CI119 -> 0 | CM119: =CL119 -> 0 | CN119: 0 | CO119: =IF(CN119>=81,"A",IF(CN119>=61,"B",IF(CN119>=41,"C",IF(CN119>=21,"D","E")))) -> E | CP119: 0 | CQ119: =IF(CP119>=81,"A",IF(CP119>=61,"B",IF(CP119>=41,"C",IF(CP119>=21,"D","E")))) -> E
A120: =F120 -> 0 | C120: =IF(B120>0,$F$4,0) -> 0 | K120: 0 | L120: 0 | M120: =SUM(K120,L120) -> 0 | N120: 0 | O120: 0 | Q120: =SUM(N120,O120) -> 0 | R120: =K120+L120+N120+O120 -> 0 | S120: =ROUNDUP(R120*$S$7/$R$7,0) -> 0 | T120: 0 | U120: 0 | V120: =SUM(T120,U120) -> 0 | W120: 0 | X120: 0 | Z120: =SUM(W120,X120) -> 0 | AA120: =T120+U120+W120+X120 -> 0 | AB120: =ROUNDUP(AA120*$AB$7/$AA$7,0) -> 0 | AC120: 0 | AD120: 0 | AE120: =SUM(AC120,AD120) -> 0 | AF120: 0 | AG120: 0 | AH120: 0 | AI120: =SUM(AF120,AG120,AH120) -> 0 | AJ120: =AC120+AD120+AF120+AG120 -> 0 | AK120: =ROUNDUP(AJ120*$AK$7/$AJ$7,0) -> 0 | AL120: 0 | AM120: 0 | AN120: =SUM(AL120,AM120) -> 0 | AO120: 0 | AP120: 0 | AQ120: 0 | AR120: =SUM(AO120,AP120,AQ120) -> 0 | AS120: =AL120+AM120+AO120+AP120 -> 0 | AT120: =ROUNDUP(AS120*$AT$7/$AS$7,0) -> 0 | AU120: 0 | AV120: 0 | AW120: =SUM(AU120,AV120) -> 0 | AX120: 0 | AY120: 0 | AZ120: 0 | BA120: =SUM(AX120,AY120,AZ120) -> 0 | BB120: =AU120+AV120+AX120+AY120 -> 0 | BC120: =ROUNDUP(BB120*$BC$7/$BB$7,0) -> 0 | BD120: 0 | BE120: 0 | BF120: =SUM(BD120,BE120) -> 0 | BG120: 0 | BH120: 0 | BI120: 0 | BJ120: =SUM(BG120,BH120,BI120) -> 0 | BK120: =BD120+BE120+BG120+BH120 -> 0 | BL120: =ROUNDUP(BK120*$BL$7/$BK$7,0) -> 0 | BM120: 0 | BN120: 0 | BO120: =SUM(BM120,BN120) -> 0 | BP120: 0 | BQ120: 0 | BR120: 0 | BS120: =SUM(BP120,BQ120,BR120) -> 0 | BT120: =BM120+BN120+BP120+BQ120 -> 0 | BU120: =BT120 -> 0 | BV120: 0 | BW120: 0 | BX120: =SUM(BV120,BW120) -> 0 | BY120: 0 | BZ120: 0 | CA120: 0 | CB120: =SUM(BY120,BZ120,CA120) -> 0 | CC120: =BV120+BW120+BY120+BZ120 -> 0 | CD120: =CC120 -> 0 | CE120: 0 | CF120: 0 | CG120: =SUM(CE120,CF120) -> 0 | CH120: 0 | CI120: 0 | CJ120: 0 | CK120: =SUM(CH120,CI120,CJ120) -> 0 | CL120: =CE120+CF120+CH120+CI120 -> 0 | CM120: =CL120 -> 0 | CN120: 0 | CO120: =IF(CN120>=81,"A",IF(CN120>=61,"B",IF(CN120>=41,"C",IF(CN120>=21,"D","E")))) -> E | CP120: 0 | CQ120: =IF(CP120>=81,"A",IF(CP120>=61,"B",IF(CP120>=41,"C",IF(CP120>=21,"D","E")))) -> E
A121: =F121 -> 0 | C121: =IF(B121>0,$F$4,0) -> 0 | K121: 0 | L121: 0 | M121: =SUM(K121,L121) -> 0 | N121: 0 | O121: 0 | Q121: =SUM(N121,O121) -> 0 | R121: =K121+L121+N121+O121 -> 0 | S121: =ROUNDUP(R121*$S$7/$R$7,0) -> 0 | T121: 0 | U121: 0 | V121: =SUM(T121,U121) -> 0 | W121: 0 | X121: 0 | Z121: =SUM(W121,X121) -> 0 | AA121: =T121+U121+W121+X121 -> 0 | AB121: =ROUNDUP(AA121*$AB$7/$AA$7,0) -> 0 | AC121: 0 | AD121: 0 | AE121: =SUM(AC121,AD121) -> 0 | AF121: 0 | AG121: 0 | AH121: 0 | AI121: =SUM(AF121,AG121,AH121) -> 0 | AJ121: =AC121+AD121+AF121+AG121 -> 0 | AK121: =ROUNDUP(AJ121*$AK$7/$AJ$7,0) -> 0 | AL121: 0 | AM121: 0 | AN121: =SUM(AL121,AM121) -> 0 | AO121: 0 | AP121: 0 | AQ121: 0 | AR121: =SUM(AO121,AP121,AQ121) -> 0 | AS121: =AL121+AM121+AO121+AP121 -> 0 | AT121: =ROUNDUP(AS121*$AT$7/$AS$7,0) -> 0 | AU121: 0 | AV121: 0 | AW121: =SUM(AU121,AV121) -> 0 | AX121: 0 | AY121: 0 | AZ121: 0 | BA121: =SUM(AX121,AY121,AZ121) -> 0 | BB121: =AU121+AV121+AX121+AY121 -> 0 | BC121: =ROUNDUP(BB121*$BC$7/$BB$7,0) -> 0 | BD121: 0 | BE121: 0 | BF121: =SUM(BD121,BE121) -> 0 | BG121: 0 | BH121: 0 | BI121: 0 | BJ121: =SUM(BG121,BH121,BI121) -> 0 | BK121: =BD121+BE121+BG121+BH121 -> 0 | BL121: =ROUNDUP(BK121*$BL$7/$BK$7,0) -> 0 | BM121: 0 | BN121: 0 | BO121: =SUM(BM121,BN121) -> 0 | BP121: 0 | BQ121: 0 | BR121: 0 | BS121: =SUM(BP121,BQ121,BR121) -> 0 | BT121: =BM121+BN121+BP121+BQ121 -> 0 | BU121: =BT121 -> 0 | BV121: 0 | BW121: 0 | BX121: =SUM(BV121,BW121) -> 0 | BY121: 0 | BZ121: 0 | CA121: 0 | CB121: =SUM(BY121,BZ121,CA121) -> 0 | CC121: =BV121+BW121+BY121+BZ121 -> 0 | CD121: =CC121 -> 0 | CE121: 0 | CF121: 0 | CG121: =SUM(CE121,CF121) -> 0 | CH121: 0 | CI121: 0 | CJ121: 0 | CK121: =SUM(CH121,CI121,CJ121) -> 0 | CL121: =CE121+CF121+CH121+CI121 -> 0 | CM121: =CL121 -> 0 | CN121: 0 | CO121: =IF(CN121>=81,"A",IF(CN121>=61,"B",IF(CN121>=41,"C",IF(CN121>=21,"D","E")))) -> E | CP121: 0 | CQ121: =IF(CP121>=81,"A",IF(CP121>=61,"B",IF(CP121>=41,"C",IF(CP121>=21,"D","E")))) -> E
A122: =F122 -> 0 | C122: =IF(B122>0,$F$4,0) -> 0 | K122: 0 | L122: 0 | M122: =SUM(K122,L122) -> 0 | N122: 0 | O122: 0 | Q122: =SUM(N122,O122) -> 0 | R122: =K122+L122+N122+O122 -> 0 | S122: =ROUNDUP(R122*$S$7/$R$7,0) -> 0 | T122: 0 | U122: 0 | V122: =SUM(T122,U122) -> 0 | W122: 0 | X122: 0 | Z122: =SUM(W122,X122) -> 0 | AA122: =T122+U122+W122+X122 -> 0 | AB122: =ROUNDUP(AA122*$AB$7/$AA$7,0) -> 0 | AC122: 0 | AD122: 0 | AE122: =SUM(AC122,AD122) -> 0 | AF122: 0 | AG122: 0 | AH122: 0 | AI122: =SUM(AF122,AG122,AH122) -> 0 | AJ122: =AC122+AD122+AF122+AG122 -> 0 | AK122: =ROUNDUP(AJ122*$AK$7/$AJ$7,0) -> 0 | AL122: 0 | AM122: 0 | AN122: =SUM(AL122,AM122) -> 0 | AO122: 0 | AP122: 0 | AQ122: 0 | AR122: =SUM(AO122,AP122,AQ122) -> 0 | AS122: =AL122+AM122+AO122+AP122 -> 0 | AT122: =ROUNDUP(AS122*$AT$7/$AS$7,0) -> 0 | AU122: 0 | AV122: 0 | AW122: =SUM(AU122,AV122) -> 0 | AX122: 0 | AY122: 0 | AZ122: 0 | BA122: =SUM(AX122,AY122,AZ122) -> 0 | BB122: =AU122+AV122+AX122+AY122 -> 0 | BC122: =ROUNDUP(BB122*$BC$7/$BB$7,0) -> 0 | BD122: 0 | BE122: 0 | BF122: =SUM(BD122,BE122) -> 0 | BG122: 0 | BH122: 0 | BI122: 0 | BJ122: =SUM(BG122,BH122,BI122) -> 0 | BK122: =BD122+BE122+BG122+BH122 -> 0 | BL122: =ROUNDUP(BK122*$BL$7/$BK$7,0) -> 0 | BM122: 0 | BN122: 0 | BO122: =SUM(BM122,BN122) -> 0 | BP122: 0 | BQ122: 0 | BR122: 0 | BS122: =SUM(BP122,BQ122,BR122) -> 0 | BT122: =BM122+BN122+BP122+BQ122 -> 0 | BU122: =BT122 -> 0 | BV122: 0 | BW122: 0 | BX122: =SUM(BV122,BW122) -> 0 | BY122: 0 | BZ122: 0 | CA122: 0 | CB122: =SUM(BY122,BZ122,CA122) -> 0 | CC122: =BV122+BW122+BY122+BZ122 -> 0 | CD122: =CC122 -> 0 | CE122: 0 | CF122: 0 | CG122: =SUM(CE122,CF122) -> 0 | CH122: 0 | CI122: 0 | CJ122: 0 | CK122: =SUM(CH122,CI122,CJ122) -> 0 | CL122: =CE122+CF122+CH122+CI122 -> 0 | CM122: =CL122 -> 0 | CN122: 0 | CO122: =IF(CN122>=81,"A",IF(CN122>=61,"B",IF(CN122>=41,"C",IF(CN122>=21,"D","E")))) -> E | CP122: 0 | CQ122: =IF(CP122>=81,"A",IF(CP122>=61,"B",IF(CP122>=41,"C",IF(CP122>=21,"D","E")))) -> E
A123: =F123 -> 0 | C123: =IF(B123>0,$F$4,0) -> 0 | K123: 0 | L123: 0 | M123: =SUM(K123,L123) -> 0 | N123: 0 | O123: 0 | Q123: =SUM(N123,O123) -> 0 | R123: =K123+L123+N123+O123 -> 0 | S123: =ROUNDUP(R123*$S$7/$R$7,0) -> 0 | T123: 0 | U123: 0 | V123: =SUM(T123,U123) -> 0 | W123: 0 | X123: 0 | Z123: =SUM(W123,X123) -> 0 | AA123: =T123+U123+W123+X123 -> 0 | AB123: =ROUNDUP(AA123*$AB$7/$AA$7,0) -> 0 | AC123: 0 | AD123: 0 | AE123: =SUM(AC123,AD123) -> 0 | AF123: 0 | AG123: 0 | AH123: 0 | AI123: =SUM(AF123,AG123,AH123) -> 0 | AJ123: =AC123+AD123+AF123+AG123 -> 0 | AK123: =ROUNDUP(AJ123*$AK$7/$AJ$7,0) -> 0 | AL123: 0 | AM123: 0 | AN123: =SUM(AL123,AM123) -> 0 | AO123: 0 | AP123: 0 | AQ123: 0 | AR123: =SUM(AO123,AP123,AQ123) -> 0 | AS123: =AL123+AM123+AO123+AP123 -> 0 | AT123: =ROUNDUP(AS123*$AT$7/$AS$7,0) -> 0 | AU123: 0 | AV123: 0 | AW123: =SUM(AU123,AV123) -> 0 | AX123: 0 | AY123: 0 | AZ123: 0 | BA123: =SUM(AX123,AY123,AZ123) -> 0 | BB123: =AU123+AV123+AX123+AY123 -> 0 | BC123: =ROUNDUP(BB123*$BC$7/$BB$7,0) -> 0 | BD123: 0 | BE123: 0 | BF123: =SUM(BD123,BE123) -> 0 | BG123: 0 | BH123: 0 | BI123: 0 | BJ123: =SUM(BG123,BH123,BI123) -> 0 | BK123: =BD123+BE123+BG123+BH123 -> 0 | BL123: =ROUNDUP(BK123*$BL$7/$BK$7,0) -> 0 | BM123: 0 | BN123: 0 | BO123: =SUM(BM123,BN123) -> 0 | BP123: 0 | BQ123: 0 | BR123: 0 | BS123: =SUM(BP123,BQ123,BR123) -> 0 | BT123: =BM123+BN123+BP123+BQ123 -> 0 | BU123: =BT123 -> 0 | BV123: 0 | BW123: 0 | BX123: =SUM(BV123,BW123) -> 0 | BY123: 0 | BZ123: 0 | CA123: 0 | CB123: =SUM(BY123,BZ123,CA123) -> 0 | CC123: =BV123+BW123+BY123+BZ123 -> 0 | CD123: =CC123 -> 0 | CE123: 0 | CF123: 0 | CG123: =SUM(CE123,CF123) -> 0 | CH123: 0 | CI123: 0 | CJ123: 0 | CK123: =SUM(CH123,CI123,CJ123) -> 0 | CL123: =CE123+CF123+CH123+CI123 -> 0 | CM123: =CL123 -> 0 | CN123: 0 | CO123: =IF(CN123>=81,"A",IF(CN123>=61,"B",IF(CN123>=41,"C",IF(CN123>=21,"D","E")))) -> E | CP123: 0 | CQ123: =IF(CP123>=81,"A",IF(CP123>=61,"B",IF(CP123>=41,"C",IF(CP123>=21,"D","E")))) -> E
A124: =F124 -> 0 | C124: =IF(B124>0,$F$4,0) -> 0 | K124: 0 | L124: 0 | M124: =SUM(K124,L124) -> 0 | N124: 0 | O124: 0 | Q124: =SUM(N124,O124) -> 0 | R124: =K124+L124+N124+O124 -> 0 | S124: =ROUNDUP(R124*$S$7/$R$7,0) -> 0 | T124: 0 | U124: 0 | V124: =SUM(T124,U124) -> 0 | W124: 0 | X124: 0 | Z124: =SUM(W124,X124) -> 0 | AA124: =T124+U124+W124+X124 -> 0 | AB124: =ROUNDUP(AA124*$AB$7/$AA$7,0) -> 0 | AC124: 0 | AD124: 0 | AE124: =SUM(AC124,AD124) -> 0 | AF124: 0 | AG124: 0 | AH124: 0 | AI124: =SUM(AF124,AG124,AH124) -> 0 | AJ124: =AC124+AD124+AF124+AG124 -> 0 | AK124: =ROUNDUP(AJ124*$AK$7/$AJ$7,0) -> 0 | AL124: 0 | AM124: 0 | AN124: =SUM(AL124,AM124) -> 0 | AO124: 0 | AP124: 0 | AQ124: 0 | AR124: =SUM(AO124,AP124,AQ124) -> 0 | AS124: =AL124+AM124+AO124+AP124 -> 0 | AT124: =ROUNDUP(AS124*$AT$7/$AS$7,0) -> 0 | AU124: 0 | AV124: 0 | AW124: =SUM(AU124,AV124) -> 0 | AX124: 0 | AY124: 0 | AZ124: 0 | BA124: =SUM(AX124,AY124,AZ124) -> 0 | BB124: =AU124+AV124+AX124+AY124 -> 0 | BC124: =ROUNDUP(BB124*$BC$7/$BB$7,0) -> 0 | BD124: 0 | BE124: 0 | BF124: =SUM(BD124,BE124) -> 0 | BG124: 0 | BH124: 0 | BI124: 0 | BJ124: =SUM(BG124,BH124,BI124) -> 0 | BK124: =BD124+BE124+BG124+BH124 -> 0 | BL124: =ROUNDUP(BK124*$BL$7/$BK$7,0) -> 0 | BM124: 0 | BN124: 0 | BO124: =SUM(BM124,BN124) -> 0 | BP124: 0 | BQ124: 0 | BR124: 0 | BS124: =SUM(BP124,BQ124,BR124) -> 0 | BT124: =BM124+BN124+BP124+BQ124 -> 0 | BU124: =BT124 -> 0 | BV124: 0 | BW124: 0 | BX124: =SUM(BV124,BW124) -> 0 | BY124: 0 | BZ124: 0 | CA124: 0 | CB124: =SUM(BY124,BZ124,CA124) -> 0 | CC124: =BV124+BW124+BY124+BZ124 -> 0 | CD124: =CC124 -> 0 | CE124: 0 | CF124: 0 | CG124: =SUM(CE124,CF124) -> 0 | CH124: 0 | CI124: 0 | CJ124: 0 | CK124: =SUM(CH124,CI124,CJ124) -> 0 | CL124: =CE124+CF124+CH124+CI124 -> 0 | CM124: =CL124 -> 0 | CN124: 0 | CO124: =IF(CN124>=81,"A",IF(CN124>=61,"B",IF(CN124>=41,"C",IF(CN124>=21,"D","E")))) -> E | CP124: 0 | CQ124: =IF(CP124>=81,"A",IF(CP124>=61,"B",IF(CP124>=41,"C",IF(CP124>=21,"D","E")))) -> E
A125: =F125 -> 0 | C125: =IF(B125>0,$F$4,0) -> 0 | K125: 0 | L125: 0 | M125: =SUM(K125,L125) -> 0 | N125: 0 | O125: 0 | Q125: =SUM(N125,O125) -> 0 | R125: =K125+L125+N125+O125 -> 0 | S125: =ROUNDUP(R125*$S$7/$R$7,0) -> 0 | T125: 0 | U125: 0 | V125: =SUM(T125,U125) -> 0 | W125: 0 | X125: 0 | Z125: =SUM(W125,X125) -> 0 | AA125: =T125+U125+W125+X125 -> 0 | AB125: =ROUNDUP(AA125*$AB$7/$AA$7,0) -> 0 | AC125: 0 | AD125: 0 | AE125: =SUM(AC125,AD125) -> 0 | AF125: 0 | AG125: 0 | AH125: 0 | AI125: =SUM(AF125,AG125,AH125) -> 0 | AJ125: =AC125+AD125+AF125+AG125 -> 0 | AK125: =ROUNDUP(AJ125*$AK$7/$AJ$7,0) -> 0 | AL125: 0 | AM125: 0 | AN125: =SUM(AL125,AM125) -> 0 | AO125: 0 | AP125: 0 | AQ125: 0 | AR125: =SUM(AO125,AP125,AQ125) -> 0 | AS125: =AL125+AM125+AO125+AP125 -> 0 | AT125: =ROUNDUP(AS125*$AT$7/$AS$7,0) -> 0 | AU125: 0 | AV125: 0 | AW125: =SUM(AU125,AV125) -> 0 | AX125: 0 | AY125: 0 | AZ125: 0 | BA125: =SUM(AX125,AY125,AZ125) -> 0 | BB125: =AU125+AV125+AX125+AY125 -> 0 | BC125: =ROUNDUP(BB125*$BC$7/$BB$7,0) -> 0 | BD125: 0 | BE125: 0 | BF125: =SUM(BD125,BE125) -> 0 | BG125: 0 | BH125: 0 | BI125: 0 | BJ125: =SUM(BG125,BH125,BI125) -> 0 | BK125: =BD125+BE125+BG125+BH125 -> 0 | BL125: =ROUNDUP(BK125*$BL$7/$BK$7,0) -> 0 | BM125: 0 | BN125: 0 | BO125: =SUM(BM125,BN125) -> 0 | BP125: 0 | BQ125: 0 | BR125: 0 | BS125: =SUM(BP125,BQ125,BR125) -> 0 | BT125: =BM125+BN125+BP125+BQ125 -> 0 | BU125: =BT125 -> 0 | BV125: 0 | BW125: 0 | BX125: =SUM(BV125,BW125) -> 0 | BY125: 0 | BZ125: 0 | CA125: 0 | CB125: =SUM(BY125,BZ125,CA125) -> 0 | CC125: =BV125+BW125+BY125+BZ125 -> 0 | CD125: =CC125 -> 0 | CE125: 0 | CF125: 0 | CG125: =SUM(CE125,CF125) -> 0 | CH125: 0 | CI125: 0 | CJ125: 0 | CK125: =SUM(CH125,CI125,CJ125) -> 0 | CL125: =CE125+CF125+CH125+CI125 -> 0 | CM125: =CL125 -> 0 | CN125: 0 | CO125: =IF(CN125>=81,"A",IF(CN125>=61,"B",IF(CN125>=41,"C",IF(CN125>=21,"D","E")))) -> E | CP125: 0 | CQ125: =IF(CP125>=81,"A",IF(CP125>=61,"B",IF(CP125>=41,"C",IF(CP125>=21,"D","E")))) -> E
A126: =F126 -> 0 | C126: =IF(B126>0,$F$4,0) -> 0 | K126: 0 | L126: 0 | M126: =SUM(K126,L126) -> 0 | N126: 0 | O126: 0 | Q126: =SUM(N126,O126) -> 0 | R126: =K126+L126+N126+O126 -> 0 | S126: =ROUNDUP(R126*$S$7/$R$7,0) -> 0 | T126: 0 | U126: 0 | V126: =SUM(T126,U126) -> 0 | W126: 0 | X126: 0 | Z126: =SUM(W126,X126) -> 0 | AA126: =T126+U126+W126+X126 -> 0 | AB126: =ROUNDUP(AA126*$AB$7/$AA$7,0) -> 0 | AC126: 0 | AD126: 0 | AE126: =SUM(AC126,AD126) -> 0 | AF126: 0 | AG126: 0 | AH126: 0 | AI126: =SUM(AF126,AG126,AH126) -> 0 | AJ126: =AC126+AD126+AF126+AG126 -> 0 | AK126: =ROUNDUP(AJ126*$AK$7/$AJ$7,0) -> 0 | AL126: 0 | AM126: 0 | AN126: =SUM(AL126,AM126) -> 0 | AO126: 0 | AP126: 0 | AQ126: 0 | AR126: =SUM(AO126,AP126,AQ126) -> 0 | AS126: =AL126+AM126+AO126+AP126 -> 0 | AT126: =ROUNDUP(AS126*$AT$7/$AS$7,0) -> 0 | AU126: 0 | AV126: 0 | AW126: =SUM(AU126,AV126) -> 0 | AX126: 0 | AY126: 0 | AZ126: 0 | BA126: =SUM(AX126,AY126,AZ126) -> 0 | BB126: =AU126+AV126+AX126+AY126 -> 0 | BC126: =ROUNDUP(BB126*$BC$7/$BB$7,0) -> 0 | BD126: 0 | BE126: 0 | BF126: =SUM(BD126,BE126) -> 0 | BG126: 0 | BH126: 0 | BI126: 0 | BJ126: =SUM(BG126,BH126,BI126) -> 0 | BK126: =BD126+BE126+BG126+BH126 -> 0 | BL126: =ROUNDUP(BK126*$BL$7/$BK$7,0) -> 0 | BM126: 0 | BN126: 0 | BO126: =SUM(BM126,BN126) -> 0 | BP126: 0 | BQ126: 0 | BR126: 0 | BS126: =SUM(BP126,BQ126,BR126) -> 0 | BT126: =BM126+BN126+BP126+BQ126 -> 0 | BU126: =BT126 -> 0 | BV126: 0 | BW126: 0 | BX126: =SUM(BV126,BW126) -> 0 | BY126: 0 | BZ126: 0 | CA126: 0 | CB126: =SUM(BY126,BZ126,CA126) -> 0 | CC126: =BV126+BW126+BY126+BZ126 -> 0 | CD126: =CC126 -> 0 | CE126: 0 | CF126: 0 | CG126: =SUM(CE126,CF126) -> 0 | CH126: 0 | CI126: 0 | CJ126: 0 | CK126: =SUM(CH126,CI126,CJ126) -> 0 | CL126: =CE126+CF126+CH126+CI126 -> 0 | CM126: =CL126 -> 0 | CN126: 0 | CO126: =IF(CN126>=81,"A",IF(CN126>=61,"B",IF(CN126>=41,"C",IF(CN126>=21,"D","E")))) -> E | CP126: 0 | CQ126: =IF(CP126>=81,"A",IF(CP126>=61,"B",IF(CP126>=41,"C",IF(CP126>=21,"D","E")))) -> E
A127: =F127 -> 0 | C127: =IF(B127>0,$F$4,0) -> 0 | K127: 0 | L127: 0 | M127: =SUM(K127,L127) -> 0 | N127: 0 | O127: 0 | Q127: =SUM(N127,O127) -> 0 | R127: =K127+L127+N127+O127 -> 0 | S127: =ROUNDUP(R127*$S$7/$R$7,0) -> 0 | T127: 0 | U127: 0 | V127: =SUM(T127,U127) -> 0 | W127: 0 | X127: 0 | Z127: =SUM(W127,X127) -> 0 | AA127: =T127+U127+W127+X127 -> 0 | AB127: =ROUNDUP(AA127*$AB$7/$AA$7,0) -> 0 | AC127: 0 | AD127: 0 | AE127: =SUM(AC127,AD127) -> 0 | AF127: 0 | AG127: 0 | AH127: 0 | AI127: =SUM(AF127,AG127,AH127) -> 0 | AJ127: =AC127+AD127+AF127+AG127 -> 0 | AK127: =ROUNDUP(AJ127*$AK$7/$AJ$7,0) -> 0 | AL127: 0 | AM127: 0 | AN127: =SUM(AL127,AM127) -> 0 | AO127: 0 | AP127: 0 | AQ127: 0 | AR127: =SUM(AO127,AP127,AQ127) -> 0 | AS127: =AL127+AM127+AO127+AP127 -> 0 | AT127: =ROUNDUP(AS127*$AT$7/$AS$7,0) -> 0 | AU127: 0 | AV127: 0 | AW127: =SUM(AU127,AV127) -> 0 | AX127: 0 | AY127: 0 | AZ127: 0 | BA127: =SUM(AX127,AY127,AZ127) -> 0 | BB127: =AU127+AV127+AX127+AY127 -> 0 | BC127: =ROUNDUP(BB127*$BC$7/$BB$7,0) -> 0 | BD127: 0 | BE127: 0 | BF127: =SUM(BD127,BE127) -> 0 | BG127: 0 | BH127: 0 | BI127: 0 | BJ127: =SUM(BG127,BH127,BI127) -> 0 | BK127: =BD127+BE127+BG127+BH127 -> 0 | BL127: =ROUNDUP(BK127*$BL$7/$BK$7,0) -> 0 | BM127: 0 | BN127: 0 | BO127: =SUM(BM127,BN127) -> 0 | BP127: 0 | BQ127: 0 | BR127: 0 | BS127: =SUM(BP127,BQ127,BR127) -> 0 | BT127: =BM127+BN127+BP127+BQ127 -> 0 | BU127: =BT127 -> 0 | BV127: 0 | BW127: 0 | BX127: =SUM(BV127,BW127) -> 0 | BY127: 0 | BZ127: 0 | CA127: 0 | CB127: =SUM(BY127,BZ127,CA127) -> 0 | CC127: =BV127+BW127+BY127+BZ127 -> 0 | CD127: =CC127 -> 0 | CE127: 0 | CF127: 0 | CG127: =SUM(CE127,CF127) -> 0 | CH127: 0 | CI127: 0 | CJ127: 0 | CK127: =SUM(CH127,CI127,CJ127) -> 0 | CL127: =CE127+CF127+CH127+CI127 -> 0 | CM127: =CL127 -> 0 | CN127: 0 | CO127: =IF(CN127>=81,"A",IF(CN127>=61,"B",IF(CN127>=41,"C",IF(CN127>=21,"D","E")))) -> E | CP127: 0 | CQ127: =IF(CP127>=81,"A",IF(CP127>=61,"B",IF(CP127>=41,"C",IF(CP127>=21,"D","E")))) -> E
A128: =F128 -> 0 | C128: =IF(B128>0,$F$4,0) -> 0 | K128: 0 | L128: 0 | M128: =SUM(K128,L128) -> 0 | N128: 0 | O128: 0 | Q128: =SUM(N128,O128) -> 0 | R128: =K128+L128+N128+O128 -> 0 | S128: =ROUNDUP(R128*$S$7/$R$7,0) -> 0 | T128: 0 | U128: 0 | V128: =SUM(T128,U128) -> 0 | W128: 0 | X128: 0 | Z128: =SUM(W128,X128) -> 0 | AA128: =T128+U128+W128+X128 -> 0 | AB128: =ROUNDUP(AA128*$AB$7/$AA$7,0) -> 0 | AC128: 0 | AD128: 0 | AE128: =SUM(AC128,AD128) -> 0 | AF128: 0 | AG128: 0 | AH128: 0 | AI128: =SUM(AF128,AG128,AH128) -> 0 | AJ128: =AC128+AD128+AF128+AG128 -> 0 | AK128: =ROUNDUP(AJ128*$AK$7/$AJ$7,0) -> 0 | AL128: 0 | AM128: 0 | AN128: =SUM(AL128,AM128) -> 0 | AO128: 0 | AP128: 0 | AQ128: 0 | AR128: =SUM(AO128,AP128,AQ128) -> 0 | AS128: =AL128+AM128+AO128+AP128 -> 0 | AT128: =ROUNDUP(AS128*$AT$7/$AS$7,0) -> 0 | AU128: 0 | AV128: 0 | AW128: =SUM(AU128,AV128) -> 0 | AX128: 0 | AY128: 0 | AZ128: 0 | BA128: =SUM(AX128,AY128,AZ128) -> 0 | BB128: =AU128+AV128+AX128+AY128 -> 0 | BC128: =ROUNDUP(BB128*$BC$7/$BB$7,0) -> 0 | BD128: 0 | BE128: 0 | BF128: =SUM(BD128,BE128) -> 0 | BG128: 0 | BH128: 0 | BI128: 0 | BJ128: =SUM(BG128,BH128,BI128) -> 0 | BK128: =BD128+BE128+BG128+BH128 -> 0 | BL128: =ROUNDUP(BK128*$BL$7/$BK$7,0) -> 0 | BM128: 0 | BN128: 0 | BO128: =SUM(BM128,BN128) -> 0 | BP128: 0 | BQ128: 0 | BR128: 0 | BS128: =SUM(BP128,BQ128,BR128) -> 0 | BT128: =BM128+BN128+BP128+BQ128 -> 0 | BU128: =BT128 -> 0 | BV128: 0 | BW128: 0 | BX128: =SUM(BV128,BW128) -> 0 | BY128: 0 | BZ128: 0 | CA128: 0 | CB128: =SUM(BY128,BZ128,CA128) -> 0 | CC128: =BV128+BW128+BY128+BZ128 -> 0 | CD128: =CC128 -> 0 | CE128: 0 | CF128: 0 | CG128: =SUM(CE128,CF128) -> 0 | CH128: 0 | CI128: 0 | CJ128: 0 | CK128: =SUM(CH128,CI128,CJ128) -> 0 | CL128: =CE128+CF128+CH128+CI128 -> 0 | CM128: =CL128 -> 0 | CN128: 0 | CO128: =IF(CN128>=81,"A",IF(CN128>=61,"B",IF(CN128>=41,"C",IF(CN128>=21,"D","E")))) -> E | CP128: 0 | CQ128: =IF(CP128>=81,"A",IF(CP128>=61,"B",IF(CP128>=41,"C",IF(CP128>=21,"D","E")))) -> E
... A207: =F207 -> 0 | C207: =IF(B207>0,$F$4,0) -> 0 | K207: 0 | L207: 0 | M207: =SUM(K207,L207) -> 0 | N207: 0 | O207: 0 | Q207: =SUM(N207,O207) -> 0 | R207: =K207+L207+N207+O207 -> 0 | S207: =ROUNDUP(R207*$S$7/$R$7,0) -> 0 | T207: 0 | U207: 0 | V207: =SUM(T207,U207) -> 0 | W207: 0 | X207: 0 | Z207: =SUM(W207,X207) -> 0 | AA207: =T207+U207+W207+X207 -> 0 | AB207: =ROUNDUP(AA207*$AB$7/$AA$7,0) -> 0 | AC207: 0 | AD207: 0 | AE207: =SUM(AC207,AD207) -> 0 | AF207: 0 | AG207: 0 | AH207: 0 | AI207: =SUM(AF207,AG207,AH207) -> 0 | AJ207: =AC207+AD207+AF207+AG207 -> 0 | AK207: =ROUNDUP(AJ207*$AK$7/$AJ$7,0) -> 0 | AL207: 0 | AM207: 0 | AN207: =SUM(AL207,AM207) -> 0 | AO207: 0 | AP207: 0 | AQ207: 0 | AR207: =SUM(AO207,AP207,AQ207) -> 0 | AS207: =AL207+AM207+AO207+AP207 -> 0 | AT207: =ROUNDUP(AS207*$AT$7/$AS$7,0) -> 0 | AU207: 0 | AV207: 0 | AW207: =SUM(AU207,AV207) -> 0 | AX207: 0 | AY207: 0 | AZ207: 0 | BA207: =SUM(AX207,AY207,AZ207) -> 0 | BB207: =AU207+AV207+AX207+AY207 -> 0 | BC207: =ROUNDUP(BB207*$BC$7/$BB$7,0) -> 0 | BD207: 0 | BE207: 0 | BF207: =SUM(BD207,BE207) -> 0 | BG207: 0 | BH207: 0 | BI207: 0 | BJ207: =SUM(BG207,BH207,BI207) -> 0 | BK207: =BD207+BE207+BG207+BH207 -> 0 | BL207: =ROUNDUP(BK207*$BL$7/$BK$7,0) -> 0 | BM207: 0 | BN207: 0 | BO207: =SUM(BM207,BN207) -> 0 | BP207: 0 | BQ207: 0 | BR207: 0 | BS207: =SUM(BP207,BQ207,BR207) -> 0 | BT207: =BM207+BN207+BP207+BQ207 -> 0 | BU207: =BT207 -> 0 | BV207: 0 | BW207: 0 | BX207: =SUM(BV207,BW207) -> 0 | BY207: 0 | BZ207: 0 | CA207: 0 | CB207: =SUM(BY207,BZ207,CA207) -> 0 | CC207: =BV207+BW207+BY207+BZ207 -> 0 | CD207: =CC207 -> 0 | CE207: 0 | CF207: 0 | CG207: =SUM(CE207,CF207) -> 0 | CH207: 0 | CI207: 0 | CJ207: 0 | CK207: =SUM(CH207,CI207,CJ207) -> 0 | CL207: =CE207+CF207+CH207+CI207 -> 0 | CM207: =CL207 -> 0 | CN207: 0 | CO207: =IF(CN207>=81,"A",IF(CN207>=61,"B",IF(CN207>=41,"C",IF(CN207>=21,"D","E")))) -> E | CP207: 0 | CQ207: =IF(CP207>=81,"A",IF(CP207>=61,"B",IF(CP207>=41,"C",IF(CP207>=21,"D","E")))) -> E
B208: 1 | C208: 2 | D208: 3 | E208: 4 | F208: 5 | G208: 6 | H208: 7 | I208: 8 | J208: 9 | K208: 10 | L208: 11 | M208: 12 | N208: 13 | O208: 14 | Q208: 15 | R208: 16 | S208: 17 | T208: 18 | U208: 19 | V208: 20 | W208: 21 | X208: 22 | Z208: 23 | AA208: 24 | AB208: 25 | AC208: 26 | AD208: 27 | AE208: 28 | AF208: 29 | AG208: 30 | AH208: 31 | AI208: 32 | AJ208: 33 | AK208: 34 | AL208: 35 | AM208: 36 | AN208: 37 | AO208: 38 | AP208: 39 | AQ208: 40 | AR208: 41 | AS208: 42 | AT208: 43 | AU208: 44 | AV208: 45 | AW208: 46 | AX208: 47 | AY208: 48 | AZ208: 49 | BA208: 50 | BB208: 51 | BC208: 52 | BD208: 53 | BE208: 54 | BF208: 55 | BG208: 56 | BH208: 57 | BI208: 58 | BJ208: 59 | BK208: 60 | BL208: 61 | BM208: 53 | BN208: 54 | BO208: 55 | BP208: 56 | BQ208: 57 | BR208: 58 | BS208: 59 | BT208: 60 | BU208: 61 | BV208: 62 | BW208: 63 | BX208: 64 | BY208: 65 | BZ208: 66 | CA208: 67 | CB208: 68 | CC208: 69 | CD208: 70 | CE208: 71 | CF208: 72 | CG208: 73 | CH208: 74 | CI208: 75 | CJ208: 76 | CK208: 77 | CL208: 78 | CM208: 79 | CN208: 80 | CO208: 81 | CP208: 82 | CQ208: 83
H209: =Master!L10 -> HINDI | I209: =Master!Q10 -> 0
H210: =Master!L11 -> ENGLISH | I210: =Master!Q11 -> 0
H211: =Master!L12 -> SCIENCE | I211: =Master!Q12 -> 0
H212: =Master!L13 -> MATHEMATICS | I212: =Master!Q13 -> 0
H213: =Master!L14 -> SOCIAL SCIENCE | I213: =Master!Q14 -> 0
H214: =Master!L15 -> SANSKRIT | I214: =Master!Q15 -> 0
H215: =Master!L16 -> H & C RAJ.-3 | I215: =Master!Q16 -> 0
H216: =Master!L17 -> F.O.I.TECH.-3 | I216: =Master!Q17 -> 0
H217: =Master!L18 -> SUPW & CS-3 | I217: =Master!Q18 -> 0
H218: =Master!L19 -> H & P EDU.-3 | I218: =Master!Q19 -> 0
H219: =Master!L20 -> ART EDU.-3 | I219: =Master!Q20 -> 0
H220: =Master!L21 -> 0 | I220: =Master!Q21 -> 0
H221: =Master!N10 -> 0 | I221: =Master!S10 -> 0
H222: =Master!N11 -> 0 | I222: =Master!S11 -> 0
H223: =Master!N12 -> 0 | I223: =Master!S12 -> 0
H224: =Master!N13 -> 0 | I224: =Master!S13 -> 0
H225: =Master!N14 -> 0 | I225: =Master!S14 -> 0
H226: =Master!N15 -> 0 | I226: =Master!S15 -> 0
H227: =Master!N16 -> 0 | I227: =Master!S16 -> 0
H228: =Master!N17 -> 0 | I228: =Master!S17 -> 0
H229: =Master!N18 -> 0 | I229: =Master!S18 -> 0
H230: =Master!N19 -> 0 | I230: =Master!S19 -> 0
H231: =Master!N20 -> 0 | I231: =Master!S20 -> 0
H232: =Master!N21 -> 0 | I232: =Master!S21 -> 0

Sheet All Subject
J1: Go To Subject Wise List
B2: ='Marks Entry'!B1:J1 -> 0 | J2: Sassional Marks All Subjects
B3: Sassional Marks : | F3: =IF(Master!E9="2021-22","2022",IF(Master!E9="2022-23","2023","2024")) -> 2022 | G3: Class:- | H3: =CONCATENATE('Marks Entry'!F4,'Marks Entry'!I4) -> 10(A) | I3: Subject→ | J3: ='Marks Entry'!K3 -> 0 | K3: ='Marks Entry'!T3 -> 0 | L3: ='Marks Entry'!AC3 -> 0 | M3: ='Marks Entry'!AL3 -> 0 | N3: ='Marks Entry'!AU3 -> 0 | O3: ='Marks Entry'!BD3 -> 0 | P3: ='Marks Entry'!BM3 -> 0 | Q3: ='Marks Entry'!BV3 -> 0 | R3: ='Marks Entry'!CE3 -> 0 | S3: ='Marks Entry'!CN3 -> 0 | T3: ='Marks Entry'!CP3 -> 0
B4: Student Related Basic Details | I4: Subject Teacher→ | J4: ='Marks Entry'!K4 -> 0 | K4: ='Marks Entry'!T4 -> 0 | L4: ='Marks Entry'!AC4 -> 0 | M4: ='Marks Entry'!AL4 -> 0 | N4: ='Marks Entry'!AU4 -> 0 | O4: ='Marks Entry'!BD4 -> 0 | P4: ='Marks Entry'!BM4 -> 0 | Q4: ='Marks Entry'!BV4 -> 0 | R4: ='Marks Entry'!CE4 -> 0 | S4: ='Marks Entry'!CN4 -> 0 | T4: ='Marks Entry'!CP4 -> 0
B5: Sr. No. | C5: Class | D5: SR Number | E5: School Roll Number | F5: Board Roll Number | G5: Student's Name | H5: Father's Name | I5: Mother's Name | J5: ='Marks Entry'!S7 -> 20 | K5: ='Marks Entry'!AB7 -> 20 | L5: ='Marks Entry'!AK7 -> 20 | M5: ='Marks Entry'!AT7 -> 20 | N5: ='Marks Entry'!BC7 -> 20 | O5: ='Marks Entry'!BL7 -> 20 | P5: ='Marks Entry'!BU7 -> 100 | Q5: ='Marks Entry'!CD7 -> 100 | R5: ='Marks Entry'!CM7 -> 100 | S5: ='Marks Entry'!CO7 -> A/B/C/D/E | T5: ='Marks Entry'!CQ7 -> A/B/C/D/E
B7: ='Marks Entry'!B8 -> 1 | C7: ='Marks Entry'!C8 -> 10 | D7: ='Marks Entry'!D8 -> 0 | E7: ='Marks Entry'!E8 -> 0 | F7: ='Marks Entry'!F8 -> 0 | G7: ='Marks Entry'!G8 -> 0 | H7: ='Marks Entry'!H8 -> 0 | I7: ='Marks Entry'!I8 -> 0 | J7: ='Marks Entry'!S8 -> 0 | K7: ='Marks Entry'!AB8 -> 0 | L7: ='Marks Entry'!AK8 -> 0 | M7: ='Marks Entry'!AT8 -> 0 | N7: ='Marks Entry'!BC8 -> 0 | O7: ='Marks Entry'!BL8 -> 0 | P7: ='Marks Entry'!BU8 -> 0 | Q7: ='Marks Entry'!CD8 -> 0 | R7: ='Marks Entry'!CM8 -> 0 | S7: ='Marks Entry'!CO8 -> E | T7: ='Marks Entry'!CQ8 -> E
B8: ='Marks Entry'!B9 -> 2 | C8: ='Marks Entry'!C9 -> 10 | D8: ='Marks Entry'!D9 -> 0 | E8: ='Marks Entry'!E9 -> 0 | F8: ='Marks Entry'!F9 -> 0 | G8: ='Marks Entry'!G9 -> 0 | H8: ='Marks Entry'!H9 -> 0 | I8: ='Marks Entry'!I9 -> 0 | J8: ='Marks Entry'!S9 -> 0 | K8: ='Marks Entry'!AB9 -> 0 | L8: ='Marks Entry'!AK9 -> 0 | M8: ='Marks Entry'!AT9 -> 0 | N8: ='Marks Entry'!BC9 -> 0 | O8: ='Marks Entry'!BL9 -> 0 | P8: ='Marks Entry'!BU9 -> 0 | Q8: ='Marks Entry'!CD9 -> 0 | R8: ='Marks Entry'!CM9 -> 0 | S8: ='Marks Entry'!CO9 -> E | T8: ='Marks Entry'!CQ9 -> E
B9: ='Marks Entry'!B10 -> 0 | C9: ='Marks Entry'!C10 -> 0 | D9: ='Marks Entry'!D10 -> 0 | E9: ='Marks Entry'!E10 -> 0 | F9: ='Marks Entry'!F10 -> 0 | G9: ='Marks Entry'!G10 -> 0 | H9: ='Marks Entry'!H10 -> 0 | I9: ='Marks Entry'!I10 -> 0 | J9: ='Marks Entry'!S10 -> 0 | K9: ='Marks Entry'!AB10 -> 0 | L9: ='Marks Entry'!AK10 -> 0 | M9: ='Marks Entry'!AT10 -> 0 | N9: ='Marks Entry'!BC10 -> 0 | O9: ='Marks Entry'!BL10 -> 0 | P9: ='Marks Entry'!BU10 -> 0 | Q9: ='Marks Entry'!CD10 -> 0 | R9: ='Marks Entry'!CM10 -> 0 | S9: ='Marks Entry'!CO10 -> E | T9: ='Marks Entry'!CQ10 -> E
B10: ='Marks Entry'!B11 -> 0 | C10: ='Marks Entry'!C11 -> 0 | D10: ='Marks Entry'!D11 -> 0 | E10: ='Marks Entry'!E11 -> 0 | F10: ='Marks Entry'!F11 -> 0 | G10: ='Marks Entry'!G11 -> 0 | H10: ='Marks Entry'!H11 -> 0 | I10: ='Marks Entry'!I11 -> 0 | J10: ='Marks Entry'!S11 -> 0 | K10: ='Marks Entry'!AB11 -> 0 | L10: ='Marks Entry'!AK11 -> 0 | M10: ='Marks Entry'!AT11 -> 0 | N10: ='Marks Entry'!BC11 -> 0 | O10: ='Marks Entry'!BL11 -> 0 | P10: ='Marks Entry'!BU11 -> 0 | Q10: ='Marks Entry'!CD11 -> 0 | R10: ='Marks Entry'!CM11 -> 0 | S10: ='Marks Entry'!CO11 -> E | T10: ='Marks Entry'!CQ11 -> E
B11: ='Marks Entry'!B12 -> 0 | C11: ='Marks Entry'!C12 -> 0 | D11: ='Marks Entry'!D12 -> 0 | E11: ='Marks Entry'!E12 -> 0 | F11: ='Marks Entry'!F12 -> 0 | G11: ='Marks Entry'!G12 -> 0 | H11: ='Marks Entry'!H12 -> 0 | I11: ='Marks Entry'!I12 -> 0 | J11: ='Marks Entry'!S12 -> 0 | K11: ='Marks Entry'!AB12 -> 0 | L11: ='Marks Entry'!AK12 -> 0 | M11: ='Marks Entry'!AT12 -> 0 | N11: ='Marks Entry'!BC12 -> 0 | O11: ='Marks Entry'!BL12 -> 0 | P11: ='Marks Entry'!BU12 -> 0 | Q11: ='Marks Entry'!CD12 -> 0 | R11: ='Marks Entry'!CM12 -> 0 | S11: ='Marks Entry'!CO12 -> E | T11: ='Marks Entry'!CQ12 -> E
B12: ='Marks Entry'!B13 -> 0 | C12: ='Marks Entry'!C13 -> 0 | D12: ='Marks Entry'!D13 -> 0 | E12: ='Marks Entry'!E13 -> 0 | F12: ='Marks Entry'!F13 -> 0 | G12: ='Marks Entry'!G13 -> 0 | H12: ='Marks Entry'!H13 -> 0 | I12: ='Marks Entry'!I13 -> 0 | J12: ='Marks Entry'!S13 -> 0 | K12: ='Marks Entry'!AB13 -> 0 | L12: ='Marks Entry'!AK13 -> 0 | M12: ='Marks Entry'!AT13 -> 0 | N12: ='Marks Entry'!BC13 -> 0 | O12: ='Marks Entry'!BL13 -> 0 | P12: ='Marks Entry'!BU13 -> 0 | Q12: ='Marks Entry'!CD13 -> 0 | R12: ='Marks Entry'!CM13 -> 0 | S12: ='Marks Entry'!CO13 -> E | T12: ='Marks Entry'!CQ13 -> E
B13: ='Marks Entry'!B14 -> 0 | C13: ='Marks Entry'!C14 -> 0 | D13: ='Marks Entry'!D14 -> 0 | E13: ='Marks Entry'!E14 -> 0 | F13: ='Marks Entry'!F14 -> 0 | G13: ='Marks Entry'!G14 -> 0 | H13: ='Marks Entry'!H14 -> 0 | I13: ='Marks Entry'!I14 -> 0 | J13: ='Marks Entry'!S14 -> 0 | K13: ='Marks Entry'!AB14 -> 0 | L13: ='Marks Entry'!AK14 -> 0 | M13: ='Marks Entry'!AT14 -> 0 | N13: ='Marks Entry'!BC14 -> 0 | O13: ='Marks Entry'!BL14 -> 0 | P13: ='Marks Entry'!BU14 -> 0 | Q13: ='Marks Entry'!CD14 -> 0 | R13: ='Marks Entry'!CM14 -> 0 | S13: ='Marks Entry'!CO14 -> E | T13: ='Marks Entry'!CQ14 -> E
B14: ='Marks Entry'!B15 -> 0 | C14: ='Marks Entry'!C15 -> 0 | D14: ='Marks Entry'!D15 -> 0 | E14: ='Marks Entry'!E15 -> 0 | F14: ='Marks Entry'!F15 -> 0 | G14: ='Marks Entry'!G15 -> 0 | H14: ='Marks Entry'!H15 -> 0 | I14: ='Marks Entry'!I15 -> 0 | J14: ='Marks Entry'!S15 -> 0 | K14: ='Marks Entry'!AB15 -> 0 | L14: ='Marks Entry'!AK15 -> 0 | M14: ='Marks Entry'!AT15 -> 0 | N14: ='Marks Entry'!BC15 -> 0 | O14: ='Marks Entry'!BL15 -> 0 | P14: ='Marks Entry'!BU15 -> 0 | Q14: ='Marks Entry'!CD15 -> 0 | R14: ='Marks Entry'!CM15 -> 0 | S14: ='Marks Entry'!CO15 -> E | T14: ='Marks Entry'!CQ15 -> E
B15: ='Marks Entry'!B16 -> 0 | C15: ='Marks Entry'!C16 -> 0 | D15: ='Marks Entry'!D16 -> 0 | E15: ='Marks Entry'!E16 -> 0 | F15: ='Marks Entry'!F16 -> 0 | G15: ='Marks Entry'!G16 -> 0 | H15: ='Marks Entry'!H16 -> 0 | I15: ='Marks Entry'!I16 -> 0 | J15: ='Marks Entry'!S16 -> 0 | K15: ='Marks Entry'!AB16 -> 0 | L15: ='Marks Entry'!AK16 -> 0 | M15: ='Marks Entry'!AT16 -> 0 | N15: ='Marks Entry'!BC16 -> 0 | O15: ='Marks Entry'!BL16 -> 0 | P15: ='Marks Entry'!BU16 -> 0 | Q15: ='Marks Entry'!CD16 -> 0 | R15: ='Marks Entry'!CM16 -> 0 | S15: ='Marks Entry'!CO16 -> E | T15: ='Marks Entry'!CQ16 -> E
B16: ='Marks Entry'!B17 -> 0 | C16: ='Marks Entry'!C17 -> 0 | D16: ='Marks Entry'!D17 -> 0 | E16: ='Marks Entry'!E17 -> 0 | F16: ='Marks Entry'!F17 -> 0 | G16: ='Marks Entry'!G17 -> 0 | H16: ='Marks Entry'!H17 -> 0 | I16: ='Marks Entry'!I17 -> 0 | J16: ='Marks Entry'!S17 -> 0 | K16: ='Marks Entry'!AB17 -> 0 | L16: ='Marks Entry'!AK17 -> 0 | M16: ='Marks Entry'!AT17 -> 0 | N16: ='Marks Entry'!BC17 -> 0 | O16: ='Marks Entry'!BL17 -> 0 | P16: ='Marks Entry'!BU17 -> 0 | Q16: ='Marks Entry'!CD17 -> 0 | R16: ='Marks Entry'!CM17 -> 0 | S16: ='Marks Entry'!CO17 -> E | T16: ='Marks Entry'!CQ17 -> E
B17: ='Marks Entry'!B18 -> 0 | C17: ='Marks Entry'!C18 -> 0 | D17: ='Marks Entry'!D18 -> 0 | E17: ='Marks Entry'!E18 -> 0 | F17: ='Marks Entry'!F18 -> 0 | G17: ='Marks Entry'!G18 -> 0 | H17: ='Marks Entry'!H18 -> 0 | I17: ='Marks Entry'!I18 -> 0 | J17: ='Marks Entry'!S18 -> 0 | K17: ='Marks Entry'!AB18 -> 0 | L17: ='Marks Entry'!AK18 -> 0 | M17: ='Marks Entry'!AT18 -> 0 | N17: ='Marks Entry'!BC18 -> 0 | O17: ='Marks Entry'!BL18 -> 0 | P17: ='Marks Entry'!BU18 -> 0 | Q17: ='Marks Entry'!CD18 -> 0 | R17: ='Marks Entry'!CM18 -> 0 | S17: ='Marks Entry'!CO18 -> E | T17: ='Marks Entry'!CQ18 -> E
B18: ='Marks Entry'!B19 -> 0 | C18: ='Marks Entry'!C19 -> 0 | D18: ='Marks Entry'!D19 -> 0 | E18: ='Marks Entry'!E19 -> 0 | F18: ='Marks Entry'!F19 -> 0 | G18: ='Marks Entry'!G19 -> 0 | H18: ='Marks Entry'!H19 -> 0 | I18: ='Marks Entry'!I19 -> 0 | J18: ='Marks Entry'!S19 -> 0 | K18: ='Marks Entry'!AB19 -> 0 | L18: ='Marks Entry'!AK19 -> 0 | M18: ='Marks Entry'!AT19 -> 0 | N18: ='Marks Entry'!BC19 -> 0 | O18: ='Marks Entry'!BL19 -> 0 | P18: ='Marks Entry'!BU19 -> 0 | Q18: ='Marks Entry'!CD19 -> 0 | R18: ='Marks Entry'!CM19 -> 0 | S18: ='Marks Entry'!CO19 -> E | T18: ='Marks Entry'!CQ19 -> E
... B206: ='Marks Entry'!B207 -> 0 | C206: ='Marks Entry'!C207 -> 0 | D206: ='Marks Entry'!D207 -> 0 | E206: ='Marks Entry'!E207 -> 0 | F206: ='Marks Entry'!F207 -> 0 | G206: ='Marks Entry'!G207 -> 0 | H206: ='Marks Entry'!H207 -> 0 | I206: ='Marks Entry'!I207 -> 0 | J206: ='Marks Entry'!S207 -> 0 | K206: ='Marks Entry'!AB207 -> 0 | L206: ='Marks Entry'!AK207 -> 0 | M206: ='Marks Entry'!AT207 -> 0 | N206: ='Marks Entry'!BC207 -> 0 | O206: ='Marks Entry'!BL207 -> 0 | P206: ='Marks Entry'!BU207 -> 0 | Q206: ='Marks Entry'!CD207 -> 0 | R206: ='Marks Entry'!CM207 -> 0 | S206: ='Marks Entry'!CO207 -> E | T206: ='Marks Entry'!CQ207 -> E

Sheet Subject Wise
B1: Go To Marks Entry | J1: Go To All Subject List
B3: ='Marks Entry'!B1:J1 -> 0 | I3: Subject→ | J3: Subject Wise Sessioal Mark
J4: SANSKRIT | U4: ='All Subject'!J3 -> 0 | V4: ='All Subject'!J4 -> 0
B5: Sassional Marks : | F5: =IF(Master!E9="2021-22","2022",IF(Master!E9="2022-23","2023","2024")) -> 2022 | G5: Class:- | H5: =CONCATENATE('Marks Entry'!F4,'Marks Entry'!I4) -> 10(A) | I5: Subject Teacher→ | J5: =VLOOKUP(J4,U4:V9,2,0) -> #N/A | U5: ='All Subject'!K3 -> 0 | V5: ='All Subject'!K4 -> 0
B6: Student Related Basic Details | J6: 1st Test | K6: 2nd Test | L6: Total Tests | M6: Half Yearly | P6: Total Half Yearly | Q6: Total Th.+Int. Evo. | R6: Sassional Marks | U6: ='All Subject'!L3 -> 0 | V6: ='All Subject'!L4 -> 0
B7: Sr. No. | C7: Class | D7: SR Number | E7: School Roll Number | F7: Board Roll Number | G7: Student's Name | H7: Father's Name | I7: Mother's Name | J7: Theory | K7: Theory | M7: Theory | N7: Internal Evolution | O7: Practical | U7: ='All Subject'!M3 -> 0 | V7: ='All Subject'!M4 -> 0
J8: =IF($J$4='Marks Entry'!$K$3,'Marks Entry'!K7,IF($J$4='Marks Entry'!$T$3,'Marks Entry'!T7,IF($J$4='Marks Entry'!$AC$3,'Marks Entry'!AC7,IF($J$4='Marks Entry'!$AL$3,'Marks Entry'!AU7,IF($J$4='Marks Entry'!$AU$3,'Marks Entry'!AU7,IF($J$4='Marks Entry'!$BD$3,'Marks Entry'!BD7,0)))))) -> 0 | K8: =IF($J$4='Marks Entry'!$K$3,'Marks Entry'!L7,IF($J$4='Marks Entry'!$T$3,'Marks Entry'!U7,IF($J$4='Marks Entry'!$AC$3,'Marks Entry'!AD7,IF($J$4='Marks Entry'!$AL$3,'Marks Entry'!AV7,IF($J$4='Marks Entry'!$AU$3,'Marks Entry'!AV7,IF($J$4='Marks Entry'!$BD$3,'Marks Entry'!BE7,0)))))) -> 0 | L8: =IF($J$4='Marks Entry'!$K$3,'Marks Entry'!M7,IF($J$4='Marks Entry'!$T$3,'Marks Entry'!V7,IF($J$4='Marks Entry'!$AC$3,'Marks Entry'!AE7,IF($J$4='Marks Entry'!$AL$3,'Marks Entry'!AW7,IF($J$4='Marks Entry'!$AU$3,'Marks Entry'!AW7,IF($J$4='Marks Entry'!$BD$3,'Marks Entry'!BF7,0)))))) -> 0 | M8: =IF($J$4='Marks Entry'!$K$3,'Marks Entry'!N7,IF($J$4='Marks Entry'!$T$3,'Marks Entry'!W7,IF($J$4='Marks Entry'!$AC$3,'Marks Entry'!AF7,IF($J$4='Marks Entry'!$AL$3,'Marks Entry'!AX7,IF($J$4='Marks Entry'!$AU$3,'Marks Entry'!AX7,IF($J$4='Marks Entry'!$BD$3,'Marks Entry'!BG7,0)))))) -> 0 | N8: =IF($J$4='Marks Entry'!$K$3,'Marks Entry'!O7,IF($J$4='Marks Entry'!$T$3,'Marks Entry'!X7,IF($J$4='Marks Entry'!$AC$3,'Marks Entry'!AG7,IF($J$4='Marks Entry'!$AL$3,'Marks Entry'!AY7,IF($J$4='Marks Entry'!$AU$3,'Marks Entry'!AY7,IF($J$4='Marks Entry'!$BD$3,'Marks Entry'!BH7,0)))))) -> 0 | O8: =IF($J$4='Marks Entry'!$K$3,'Marks Entry'!P7,IF($J$4='Marks Entry'!$T$3,'Marks Entry'!Y7,IF($J$4='Marks Entry'!$AC$3,'Marks Entry'!AH7,IF($J$4='Marks Entry'!$AL$3,'Marks Entry'!AZ7,IF($J$4='Marks Entry'!$AU$3,'Marks Entry'!AZ7,IF($J$4='Marks Entry'!$BD$3,'Marks Entry'!BI7,0)))))) -> 0 | P8: =IF($J$4='Marks Entry'!$K$3,'Marks Entry'!Q7,IF($J$4='Marks Entry'!$T$3,'Marks Entry'!Z7,IF($J$4='Marks Entry'!$AC$3,'Marks Entry'!AI7,IF($J$4='Marks Entry'!$AL$3,'Marks Entry'!BA7,IF($J$4='Marks Entry'!$AU$3,'Marks Entry'!BA7,IF($J$4='Marks Entry'!$BD$3,'Marks Entry'!BJ7,0)))))) -> 0 | Q8: =IF($J$4='Marks Entry'!$K$3,'Marks Entry'!R7,IF($J$4='Marks Entry'!$T$3,'Marks Entry'!AA7,IF($J$4='Marks Entry'!$AC$3,'Marks Entry'!AJ7,IF($J$4='Marks Entry'!$AL$3,'Marks Entry'!BB7,IF($J$4='Marks Entry'!$AU$3,'Marks Entry'!BB7,IF($J$4='Marks Entry'!$BD$3,'Marks Entry'!BK7,0)))))) -> 0 | R8: =IF($J$4='Marks Entry'!$K$3,'Marks Entry'!S7,IF($J$4='Marks Entry'!$T$3,'Marks Entry'!AB7,IF($J$4='Marks Entry'!$AC$3,'Marks Entry'!AK7,IF($J$4='Marks Entry'!$AL$3,'Marks Entry'!BC7,IF($J$4='Marks Entry'!$AU$3,'Marks Entry'!BC7,IF($J$4='Marks Entry'!$BD$3,'Marks Entry'!BL7,0)))))) -> 0 | U8: ='All Subject'!N3 -> 0 | V8: ='All Subject'!N4 -> 0
B9: ='Marks Entry'!B8 -> 1 | C9: ='Marks Entry'!C8 -> 10 | D9: ='Marks Entry'!D8 -> 0 | E9: ='Marks Entry'!E8 -> 0 | F9: ='Marks Entry'!F8 -> 0 | G9: ='Marks Entry'!G8 -> 0 | H9: ='Marks Entry'!H8 -> 0 | I9: ='Marks Entry'!I8 -> 0 | J9: =IF($J$4='Marks Entry'!$K$3,'Marks Entry'!K8,IF($J$4='Marks Entry'!$T$3,'Marks Entry'!T8,IF($J$4='Marks Entry'!$AC$3,'Marks Entry'!AC8,IF($J$4='Marks Entry'!$AL$3,'Marks Entry'!AL8,IF($J$4='Marks Entry'!$AU$3,'Marks Entry'!AU8,IF($J$4='Marks Entry'!$BD$3,'Marks Entry'!BD8,0)))))) -> 0 | K9: =IF($J$4='Marks Entry'!$K$3,'Marks Entry'!L8,IF($J$4='Marks Entry'!$T$3,'Marks Entry'!U8,IF($J$4='Marks Entry'!$AC$3,'Marks Entry'!AD8,IF($J$4='Marks Entry'!$AL$3,'Marks Entry'!AM8,IF($J$4='Marks Entry'!$AU$3,'Marks Entry'!AV8,IF($J$4='Marks Entry'!$BD$3,'Marks Entry'!BE8,0)))))) -> 0 | L9: =IF($J$4='Marks Entry'!$K$3,'Marks Entry'!M8,IF($J$4='Marks Entry'!$T$3,'Marks Entry'!V8,IF($J$4='Marks Entry'!$AC$3,'Marks Entry'!AE8,IF($J$4='Marks Entry'!$AL$3,'Marks Entry'!AN8,IF($J$4='Marks Entry'!$AU$3,'Marks Entry'!AW8,IF($J$4='Marks Entry'!$BD$3,'Marks Entry'!BF8,0)))))) -> 0 | M9: =IF($J$4='Marks Entry'!$K$3,'Marks Entry'!N8,IF($J$4='Marks Entry'!$T$3,'Marks Entry'!W8,IF($J$4='Marks Entry'!$AC$3,'Marks Entry'!AF8,IF($J$4='Marks Entry'!$AL$3,'Marks Entry'!AO8,IF($J$4='Marks Entry'!$AU$3,'Marks Entry'!AX8,IF($J$4='Marks Entry'!$BD$3,'Marks Entry'!BG8,0)))))) -> 0 | N9: =IF($J$4='Marks Entry'!$K$3,'Marks Entry'!O8,IF($J$4='Marks Entry'!$T$3,'Marks Entry'!X8,IF($J$4='Marks Entry'!$AC$3,'Marks Entry'!AG8,IF($J$4='Marks Entry'!$AL$3,'Marks Entry'!AP8,IF($J$4='Marks Entry'!$AU$3,'Marks Entry'!AY8,IF($J$4='Marks Entry'!$BD$3,'Marks Entry'!BH8,0)))))) -> 0 | O9: =IF($J$4='Marks Entry'!$K$3,'Marks Entry'!P8,IF($J$4='Marks Entry'!$T$3,'Marks Entry'!Y8,IF($J$4='Marks Entry'!$AC$3,'Marks Entry'!AH8,IF($J$4='Marks Entry'!$AL$3,'Marks Entry'!AQ8,IF($J$4='Marks Entry'!$AU$3,'Marks Entry'!AZ8,IF($J$4='Marks Entry'!$BD$3,'Marks Entry'!BI8,0)))))) -> 0 | P9: =IF($J$4='Marks Entry'!$K$3,'Marks Entry'!Q8,IF($J$4='Marks Entry'!$T$3,'Marks Entry'!Z8,IF($J$4='Marks Entry'!$AC$3,'Marks Entry'!AI8,IF($J$4='Marks Entry'!$AL$3,'Marks Entry'!AR8,IF($J$4='Marks Entry'!$AU$3,'Marks Entry'!BA8,IF($J$4='Marks Entry'!$BD$3,'Marks Entry'!BJ8,0)))))) -> 0 | Q9: =IF($J$4='Marks Entry'!$K$3,'Marks Entry'!R8,IF($J$4='Marks Entry'!$T$3,'Marks Entry'!AA8,IF($J$4='Marks Entry'!$AC$3,'Marks Entry'!AJ8,IF($J$4='Marks Entry'!$AL$3,'Marks Entry'!AS8,IF($J$4='Marks Entry'!$AU$3,'Marks Entry'!BB8,IF($J$4='Marks Entry'!$BD$3,'Marks Entry'!BK8,0)))))) -> 0 | R9: =IF($J$4='Marks Entry'!$K$3,'Marks Entry'!S8,IF($J$4='Marks Entry'!$T$3,'Marks Entry'!AB8,IF($J$4='Marks Entry'!$AC$3,'Marks Entry'!AK8,IF($J$4='Marks Entry'!$AL$3,'Marks Entry'!AT8,IF($J$4='Marks Entry'!$AU$3,'Marks Entry'!BC8,IF($J$4='Marks Entry'!$BD$3,'Marks Entry'!BL8,0)))))) -> 0 | U9: ='All Subject'!O3 -> 0 | V9: ='All Subject'!O4 -> 0
B10: ='Marks Entry'!B9 -> 2 | C10: ='Marks Entry'!C9 -> 10 | D10: ='Marks Entry'!D9 -> 0 | E10: ='Marks Entry'!E9 -> 0 | F10: ='Marks Entry'!F9 -> 0 | G10: ='Marks Entry'!G9 -> 0 | H10: ='Marks Entry'!H9 -> 0 | I10: ='Marks Entry'!I9 -> 0 | J10: =IF($J$4='Marks Entry'!$K$3,'Marks Entry'!K9,IF($J$4='Marks Entry'!$T$3,'Marks Entry'!T9,IF($J$4='Marks Entry'!$AC$3,'Marks Entry'!AC9,IF($J$4='Marks Entry'!$AL$3,'Marks Entry'!AL9,IF($J$4='Marks Entry'!$AU$3,'Marks Entry'!AU9,IF($J$4='Marks Entry'!$BD$3,'Marks Entry'!BD9,0)))))) -> 0 | K10: =IF($J$4='Marks Entry'!$K$3,'Marks Entry'!L9,IF($J$4='Marks Entry'!$T$3,'Marks Entry'!U9,IF($J$4='Marks Entry'!$AC$3,'Marks Entry'!AD9,IF($J$4='Marks Entry'!$AL$3,'Marks Entry'!AM9,IF($J$4='Marks Entry'!$AU$3,'Marks Entry'!AV9,IF($J$4='Marks Entry'!$BD$3,'Marks Entry'!BE9,0)))))) -> 0 | L10: =IF($J$4='Marks Entry'!$K$3,'Marks Entry'!M9,IF($J$4='Marks Entry'!$T$3,'Marks Entry'!V9,IF($J$4='Marks Entry'!$AC$3,'Marks Entry'!AE9,IF($J$4='Marks Entry'!$AL$3,'Marks Entry'!AN9,IF($J$4='Marks Entry'!$AU$3,'Marks Entry'!AW9,IF($J$4='Marks Entry'!$BD$3,'Marks Entry'!BF9,0)))))) -> 0 | M10: =IF($J$4='Marks Entry'!$K$3,'Marks Entry'!N9,IF($J$4='Marks Entry'!$T$3,'Marks Entry'!W9,IF($J$4='Marks Entry'!$AC$3,'Marks Entry'!AF9,IF($J$4='Marks Entry'!$AL$3,'Marks Entry'!AO9,IF($J$4='Marks Entry'!$AU$3,'Marks Entry'!AX9,IF($J$4='Marks Entry'!$BD$3,'Marks Entry'!BG9,0)))))) -> 0 | N10: =IF($J$4='Marks Entry'!$K$3,'Marks Entry'!O9,IF($J$4='Marks Entry'!$T$3,'Marks Entry'!X9,IF($J$4='Marks Entry'!$AC$3,'Marks Entry'!AG9,IF($J$4='Marks Entry'!$AL$3,'Marks Entry'!AP9,IF($J$4='Marks Entry'!$AU$3,'Marks Entry'!AY9,IF($J$4='Marks Entry'!$BD$3,'Marks Entry'!BH9,0)))))) -> 0 | O10: =IF($J$4='Marks Entry'!$K$3,'Marks Entry'!P9,IF($J$4='Marks Entry'!$T$3,'Marks Entry'!Y9,IF($J$4='Marks Entry'!$AC$3,'Marks Entry'!AH9,IF($J$4='Marks Entry'!$AL$3,'Marks Entry'!AQ9,IF($J$4='Marks Entry'!$AU$3,'Marks Entry'!AZ9,IF($J$4='Marks Entry'!$BD$3,'Marks Entry'!BI9,0)))))) -> 0 | P10: =IF($J$4='Marks Entry'!$K$3,'Marks Entry'!Q9,IF($J$4='Marks Entry'!$T$3,'Marks Entry'!Z9,IF($J$4='Marks Entry'!$AC$3,'Marks Entry'!AI9,IF($J$4='Marks Entry'!$AL$3,'Marks Entry'!AR9,IF($J$4='Marks Entry'!$AU$3,'Marks Entry'!BA9,IF($J$4='Marks Entry'!$BD$3,'Marks Entry'!BJ9,0)))))) -> 0 | Q10: =IF($J$4='Marks Entry'!$K$3,'Marks Entry'!R9,IF($J$4='Marks Entry'!$T$3,'Marks Entry'!AA9,IF($J$4='Marks Entry'!$AC$3,'Marks Entry'!AJ9,IF($J$4='Marks Entry'!$AL$3,'Marks Entry'!AS9,IF($J$4='Marks Entry'!$AU$3,'Marks Entry'!BB9,IF($J$4='Marks Entry'!$BD$3,'Marks Entry'!BK9,0)))))) -> 0 | R10: =IF($J$4='Marks Entry'!$K$3,'Marks Entry'!S9,IF($J$4='Marks Entry'!$T$3,'Marks Entry'!AB9,IF($J$4='Marks Entry'!$AC$3,'Marks Entry'!AK9,IF($J$4='Marks Entry'!$AL$3,'Marks Entry'!AT9,IF($J$4='Marks Entry'!$AU$3,'Marks Entry'!BC9,IF($J$4='Marks Entry'!$BD$3,'Marks Entry'!BL9,0)))))) -> 0
B11: ='Marks Entry'!B10 -> 0 | C11: ='Marks Entry'!C10 -> 0 | D11: ='Marks Entry'!D10 -> 0 | E11: ='Marks Entry'!E10 -> 0 | F11: ='Marks Entry'!F10 -> 0 | G11: ='Marks Entry'!G10 -> 0 | H11: ='Marks Entry'!H10 -> 0 | I11: ='Marks Entry'!I10 -> 0 | J11: =IF($J$4='Marks Entry'!$K$3,'Marks Entry'!K10,IF($J$4='Marks Entry'!$T$3,'Marks Entry'!T10,IF($J$4='Marks Entry'!$AC$3,'Marks Entry'!AC10,IF($J$4='Marks Entry'!$AL$3,'Marks Entry'!AL10,IF($J$4='Marks Entry'!$AU$3,'Marks Entry'!AU10,IF($J$4='Marks Entry'!$BD$3,'Marks Entry'!BD10,0)))))) -> 0 | K11: =IF($J$4='Marks Entry'!$K$3,'Marks Entry'!L10,IF($J$4='Marks Entry'!$T$3,'Marks Entry'!U10,IF($J$4='Marks Entry'!$AC$3,'Marks Entry'!AD10,IF($J$4='Marks Entry'!$AL$3,'Marks Entry'!AM10,IF($J$4='Marks Entry'!$AU$3,'Marks Entry'!AV10,IF($J$4='Marks Entry'!$BD$3,'Marks Entry'!BE10,0)))))) -> 0 | L11: =IF($J$4='Marks Entry'!$K$3,'Marks Entry'!M10,IF($J$4='Marks Entry'!$T$3,'Marks Entry'!V10,IF($J$4='Marks Entry'!$AC$3,'Marks Entry'!AE10,IF($J$4='Marks Entry'!$AL$3,'Marks Entry'!AN10,IF($J$4='Marks Entry'!$AU$3,'Marks Entry'!AW10,IF($J$4='Marks Entry'!$BD$3,'Marks Entry'!BF10,0)))))) -> 0 | M11: =IF($J$4='Marks Entry'!$K$3,'Marks Entry'!N10,IF($J$4='Marks Entry'!$T$3,'Marks Entry'!W10,IF($J$4='Marks Entry'!$AC$3,'Marks Entry'!AF10,IF($J$4='Marks Entry'!$AL$3,'Marks Entry'!AO10,IF($J$4='Marks Entry'!$AU$3,'Marks Entry'!AX10,IF($J$4='Marks Entry'!$BD$3,'Marks Entry'!BG10,0)))))) -> 0 | N11: =IF($J$4='Marks Entry'!$K$3,'Marks Entry'!O10,IF($J$4='Marks Entry'!$T$3,'Marks Entry'!X10,IF($J$4='Marks Entry'!$AC$3,'Marks Entry'!AG10,IF($J$4='Marks Entry'!$AL$3,'Marks Entry'!AP10,IF($J$4='Marks Entry'!$AU$3,'Marks Entry'!AY10,IF($J$4='Marks Entry'!$BD$3,'Marks Entry'!BH10,0)))))) -> 0 | O11: =IF($J$4='Marks Entry'!$K$3,'Marks Entry'!P10,IF($J$4='Marks Entry'!$T$3,'Marks Entry'!Y10,IF($J$4='Marks Entry'!$AC$3,'Marks Entry'!AH10,IF($J$4='Marks Entry'!$AL$3,'Marks Entry'!AQ10,IF($J$4='Marks Entry'!$AU$3,'Marks Entry'!AZ10,IF($J$4='Marks Entry'!$BD$3,'Marks Entry'!BI10,0)))))) -> 0 | P11: =IF($J$4='Marks Entry'!$K$3,'Marks Entry'!Q10,IF($J$4='Marks Entry'!$T$3,'Marks Entry'!Z10,IF($J$4='Marks Entry'!$AC$3,'Marks Entry'!AI10,IF($J$4='Marks Entry'!$AL$3,'Marks Entry'!AR10,IF($J$4='Marks Entry'!$AU$3,'Marks Entry'!BA10,IF($J$4='Marks Entry'!$BD$3,'Marks Entry'!BJ10,0)))))) -> 0 | Q11: =IF($J$4='Marks Entry'!$K$3,'Marks Entry'!R10,IF($J$4='Marks Entry'!$T$3,'Marks Entry'!AA10,IF($J$4='Marks Entry'!$AC$3,'Marks Entry'!AJ10,IF($J$4='Marks Entry'!$AL$3,'Marks Entry'!AS10,IF($J$4='Marks Entry'!$AU$3,'Marks Entry'!BB10,IF($J$4='Marks Entry'!$BD$3,'Marks Entry'!BK10,0)))))) -> 0 | R11: =IF($J$4='Marks Entry'!$K$3,'Marks Entry'!S10,IF($J$4='Marks Entry'!$T$3,'Marks Entry'!AB10,IF($J$4='Marks Entry'!$AC$3,'Marks Entry'!AK10,IF($J$4='Marks Entry'!$AL$3,'Marks Entry'!AT10,IF($J$4='Marks Entry'!$AU$3,'Marks Entry'!BC10,IF($J$4='Marks Entry'!$BD$3,'Marks Entry'!BL10,0)))))) -> 0
B12: ='Marks Entry'!B11 -> 0 | C12: ='Marks Entry'!C11 -> 0 | D12: ='Marks Entry'!D11 -> 0 | E12: ='Marks Entry'!E11 -> 0 | F12: ='Marks Entry'!F11 -> 0 | G12: ='Marks Entry'!G11 -> 0 | H12: ='Marks Entry'!H11 -> 0 | I12: ='Marks Entry'!I11 -> 0 | J12: =IF($J$4='Marks Entry'!$K$3,'Marks Entry'!K11,IF($J$4='Marks Entry'!$T$3,'Marks Entry'!T11,IF($J$4='Marks Entry'!$AC$3,'Marks Entry'!AC11,IF($J$4='Marks Entry'!$AL$3,'Marks Entry'!AL11,IF($J$4='Marks Entry'!$AU$3,'Marks Entry'!AU11,IF($J$4='Marks Entry'!$BD$3,'Marks Entry'!BD11,0)))))) -> 0 | K12: =IF($J$4='Marks Entry'!$K$3,'Marks Entry'!L11,IF($J$4='Marks Entry'!$T$3,'Marks Entry'!U11,IF($J$4='Marks Entry'!$AC$3,'Marks Entry'!AD11,IF($J$4='Marks Entry'!$AL$3,'Marks Entry'!AM11,IF($J$4='Marks Entry'!$AU$3,'Marks Entry'!AV11,IF($J$4='Marks Entry'!$BD$3,'Marks Entry'!BE11,0)))))) -> 0 | L12: =IF($J$4='Marks Entry'!$K$3,'Marks Entry'!M11,IF($J$4='Marks Entry'!$T$3,'Marks Entry'!V11,IF($J$4='Marks Entry'!$AC$3,'Marks Entry'!AE11,IF($J$4='Marks Entry'!$AL$3,'Marks Entry'!AN11,IF($J$4='Marks Entry'!$AU$3,'Marks Entry'!AW11,IF($J$4='Marks Entry'!$BD$3,'Marks Entry'!BF11,0)))))) -> 0 | M12: =IF($J$4='Marks Entry'!$K$3,'Marks Entry'!N11,IF($J$4='Marks Entry'!$T$3,'Marks Entry'!W11,IF($J$4='Marks Entry'!$AC$3,'Marks Entry'!AF11,IF($J$4='Marks Entry'!$AL$3,'Marks Entry'!AO11,IF($J$4='Marks Entry'!$AU$3,'Marks Entry'!AX11,IF($J$4='Marks Entry'!$BD$3,'Marks Entry'!BG11,0)))))) -> 0 | N12: =IF($J$4='Marks Entry'!$K$3,'Marks Entry'!O11,IF($J$4='Marks Entry'!$T$3,'Marks Entry'!X11,IF($J$4='Marks Entry'!$AC$3,'Marks Entry'!AG11,IF($J$4='Marks Entry'!$AL$3,'Marks Entry'!AP11,IF($J$4='Marks Entry'!$AU$3,'Marks Entry'!AY11,IF($J$4='Marks Entry'!$BD$3,'Marks Entry'!BH11,0)))))) -> 0 | O12: =IF($J$4='Marks Entry'!$K$3,'Marks Entry'!P11,IF($J$4='Marks Entry'!$T$3,'Marks Entry'!Y11,IF($J$4='Marks Entry'!$AC$3,'Marks Entry'!AH11,IF($J$4='Marks Entry'!$AL$3,'Marks Entry'!AQ11,IF($J$4='Marks Entry'!$AU$3,'Marks Entry'!AZ11,IF($J$4='Marks Entry'!$BD$3,'Marks Entry'!BI11,0)))))) -> 0 | P12: =IF($J$4='Marks Entry'!$K$3,'Marks Entry'!Q11,IF($J$4='Marks Entry'!$T$3,'Marks Entry'!Z11,IF($J$4='Marks Entry'!$AC$3,'Marks Entry'!AI11,IF($J$4='Marks Entry'!$AL$3,'Marks Entry'!AR11,IF($J$4='Marks Entry'!$AU$3,'Marks Entry'!BA11,IF($J$4='Marks Entry'!$BD$3,'Marks Entry'!BJ11,0)))))) -> 0 | Q12: =IF($J$4='Marks Entry'!$K$3,'Marks Entry'!R11,IF($J$4='Marks Entry'!$T$3,'Marks Entry'!AA11,IF($J$4='Marks Entry'!$AC$3,'Marks Entry'!AJ11,IF($J$4='Marks Entry'!$AL$3,'Marks Entry'!AS11,IF($J$4='Marks Entry'!$AU$3,'Marks Entry'!BB11,IF($J$4='Marks Entry'!$BD$3,'Marks Entry'!BK11,0)))))) -> 0 | R12: =IF($J$4='Marks Entry'!$K$3,'Marks Entry'!S11,IF($J$4='Marks Entry'!$T$3,'Marks Entry'!AB11,IF($J$4='Marks Entry'!$AC$3,'Marks Entry'!AK11,IF($J$4='Marks Entry'!$AL$3,'Marks Entry'!AT11,IF($J$4='Marks Entry'!$AU$3,'Marks Entry'!BC11,IF($J$4='Marks Entry'!$BD$3,'Marks Entry'!BL11,0)))))) -> 0
B13: ='Marks Entry'!B12 -> 0 | C13: ='Marks Entry'!C12 -> 0 | D13: ='Marks Entry'!D12 -> 0 | E13: ='Marks Entry'!E12 -> 0 | F13: ='Marks Entry'!F12 -> 0 | G13: ='Marks Entry'!G12 -> 0 | H13: ='Marks Entry'!H12 -> 0 | I13: ='Marks Entry'!I12 -> 0 | J13: =IF($J$4='Marks Entry'!$K$3,'Marks Entry'!K12,IF($J$4='Marks Entry'!$T$3,'Marks Entry'!T12,IF($J$4='Marks Entry'!$AC$3,'Marks Entry'!AC12,IF($J$4='Marks Entry'!$AL$3,'Marks Entry'!AL12,IF($J$4='Marks Entry'!$AU$3,'Marks Entry'!AU12,IF($J$4='Marks Entry'!$BD$3,'Marks Entry'!BD12,0)))))) -> 0 | K13: =IF($J$4='Marks Entry'!$K$3,'Marks Entry'!L12,IF($J$4='Marks Entry'!$T$3,'Marks Entry'!U12,IF($J$4='Marks Entry'!$AC$3,'Marks Entry'!AD12,IF($J$4='Marks Entry'!$AL$3,'Marks Entry'!AM12,IF($J$4='Marks Entry'!$AU$3,'Marks Entry'!AV12,IF($J$4='Marks Entry'!$BD$3,'Marks Entry'!BE12,0)))))) -> 0 | L13: =IF($J$4='Marks Entry'!$K$3,'Marks Entry'!M12,IF($J$4='Marks Entry'!$T$3,'Marks Entry'!V12,IF($J$4='Marks Entry'!$AC$3,'Marks Entry'!AE12,IF($J$4='Marks Entry'!$AL$3,'Marks Entry'!AN12,IF($J$4='Marks Entry'!$AU$3,'Marks Entry'!AW12,IF($J$4='Marks Entry'!$BD$3,'Marks Entry'!BF12,0)))))) -> 0 | M13: =IF($J$4='Marks Entry'!$K$3,'Marks Entry'!N12,IF($J$4='Marks Entry'!$T$3,'Marks Entry'!W12,IF($J$4='Marks Entry'!$AC$3,'Marks Entry'!AF12,IF($J$4='Marks Entry'!$AL$3,'Marks Entry'!AO12,IF($J$4='Marks Entry'!$AU$3,'Marks Entry'!AX12,IF($J$4='Marks Entry'!$BD$3,'Marks Entry'!BG12,0)))))) -> 0 | N13: =IF($J$4='Marks Entry'!$K$3,'Marks Entry'!O12,IF($J$4='Marks Entry'!$T$3,'Marks Entry'!X12,IF($J$4='Marks Entry'!$AC$3,'Marks Entry'!AG12,IF($J$4='Marks Entry'!$AL$3,'Marks Entry'!AP12,IF($J$4='Marks Entry'!$AU$3,'Marks Entry'!AY12,IF($J$4='Marks Entry'!$BD$3,'Marks Entry'!BH12,0)))))) -> 0 | O13: =IF($J$4='Marks Entry'!$K$3,'Marks Entry'!P12,IF($J$4='Marks Entry'!$T$3,'Marks Entry'!Y12,IF($J$4='Marks Entry'!$AC$3,'Marks Entry'!AH12,IF($J$4='Marks Entry'!$AL$3,'Marks Entry'!AQ12,IF($J$4='Marks Entry'!$AU$3,'Marks Entry'!AZ12,IF($J$4='Marks Entry'!$BD$3,'Marks Entry'!BI12,0)))))) -> 0 | P13: =IF($J$4='Marks Entry'!$K$3,'Marks Entry'!Q12,IF($J$4='Marks Entry'!$T$3,'Marks Entry'!Z12,IF($J$4='Marks Entry'!$AC$3,'Marks Entry'!AI12,IF($J$4='Marks Entry'!$AL$3,'Marks Entry'!AR12,IF($J$4='Marks Entry'!$AU$3,'Marks Entry'!BA12,IF($J$4='Marks Entry'!$BD$3,'Marks Entry'!BJ12,0)))))) -> 0 | Q13: =IF($J$4='Marks Entry'!$K$3,'Marks Entry'!R12,IF($J$4='Marks Entry'!$T$3,'Marks Entry'!AA12,IF($J$4='Marks Entry'!$AC$3,'Marks Entry'!AJ12,IF($J$4='Marks Entry'!$AL$3,'Marks Entry'!AS12,IF($J$4='Marks Entry'!$AU$3,'Marks Entry'!BB12,IF($J$4='Marks Entry'!$BD$3,'Marks Entry'!BK12,0)))))) -> 0 | R13: =IF($J$4='Marks Entry'!$K$3,'Marks Entry'!S12,IF($J$4='Marks Entry'!$T$3,'Marks Entry'!AB12,IF($J$4='Marks Entry'!$AC$3,'Marks Entry'!AK12,IF($J$4='Marks Entry'!$AL$3,'Marks Entry'!AT12,IF($J$4='Marks Entry'!$AU$3,'Marks Entry'!BC12,IF($J$4='Marks Entry'!$BD$3,'Marks Entry'!BL12,0)))))) -> 0
B14: ='Marks Entry'!B13 -> 0 | C14: ='Marks Entry'!C13 -> 0 | D14: ='Marks Entry'!D13 -> 0 | E14: ='Marks Entry'!E13 -> 0 | F14: ='Marks Entry'!F13 -> 0 | G14: ='Marks Entry'!G13 -> 0 | H14: ='Marks Entry'!H13 -> 0 | I14: ='Marks Entry'!I13 -> 0 | J14: =IF($J$4='Marks Entry'!$K$3,'Marks Entry'!K13,IF($J$4='Marks Entry'!$T$3,'Marks Entry'!T13,IF($J$4='Marks Entry'!$AC$3,'Marks Entry'!AC13,IF($J$4='Marks Entry'!$AL$3,'Marks Entry'!AL13,IF($J$4='Marks Entry'!$AU$3,'Marks Entry'!AU13,IF($J$4='Marks Entry'!$BD$3,'Marks Entry'!BD13,0)))))) -> 0 | K14: =IF($J$4='Marks Entry'!$K$3,'Marks Entry'!L13,IF($J$4='Marks Entry'!$T$3,'Marks Entry'!U13,IF($J$4='Marks Entry'!$AC$3,'Marks Entry'!AD13,IF($J$4='Marks Entry'!$AL$3,'Marks Entry'!AM13,IF($J$4='Marks Entry'!$AU$3,'Marks Entry'!AV13,IF($J$4='Marks Entry'!$BD$3,'Marks Entry'!BE13,0)))))) -> 0 | L14: =IF($J$4='Marks Entry'!$K$3,'Marks Entry'!M13,IF($J$4='Marks Entry'!$T$3,'Marks Entry'!V13,IF($J$4='Marks Entry'!$AC$3,'Marks Entry'!AE13,IF($J$4='Marks Entry'!$AL$3,'Marks Entry'!AN13,IF($J$4='Marks Entry'!$AU$3,'Marks Entry'!AW13,IF($J$4='Marks Entry'!$BD$3,'Marks Entry'!BF13,0)))))) -> 0 | M14: =IF($J$4='Marks Entry'!$K$3,'Marks Entry'!N13,IF($J$4='Marks Entry'!$T$3,'Marks Entry'!W13,IF($J$4='Marks Entry'!$AC$3,'Marks Entry'!AF13,IF($J$4='Marks Entry'!$AL$3,'Marks Entry'!AO13,IF($J$4='Marks Entry'!$AU$3,'Marks Entry'!AX13,IF($J$4='Marks Entry'!$BD$3,'Marks Entry'!BG13,0)))))) -> 0 | N14: =IF($J$4='Marks Entry'!$K$3,'Marks Entry'!O13,IF($J$4='Marks Entry'!$T$3,'Marks Entry'!X13,IF($J$4='Marks Entry'!$AC$3,'Marks Entry'!AG13,IF($J$4='Marks Entry'!$AL$3,'Marks Entry'!AP13,IF($J$4='Marks Entry'!$AU$3,'Marks Entry'!AY13,IF($J$4='Marks Entry'!$BD$3,'Marks Entry'!BH13,0)))))) -> 0 | O14: =IF($J$4='Marks Entry'!$K$3,'Marks Entry'!P13,IF($J$4='Marks Entry'!$T$3,'Marks Entry'!Y13,IF($J$4='Marks Entry'!$AC$3,'Marks Entry'!AH13,IF($J$4='Marks Entry'!$AL$3,'Marks Entry'!AQ13,IF($J$4='Marks Entry'!$AU$3,'Marks Entry'!AZ13,IF($J$4='Marks Entry'!$BD$3,'Marks Entry'!BI13,0)))))) -> 0 | P14: =IF($J$4='Marks Entry'!$K$3,'Marks Entry'!Q13,IF($J$4='Marks Entry'!$T$3,'Marks Entry'!Z13,IF($J$4='Marks Entry'!$AC$3,'Marks Entry'!AI13,IF($J$4='Marks Entry'!$AL$3,'Marks Entry'!AR13,IF($J$4='Marks Entry'!$AU$3,'Marks Entry'!BA13,IF($J$4='Marks Entry'!$BD$3,'Marks Entry'!BJ13,0)))))) -> 0 | Q14: =IF($J$4='Marks Entry'!$K$3,'Marks Entry'!R13,IF($J$4='Marks Entry'!$T$3,'Marks Entry'!AA13,IF($J$4='Marks Entry'!$AC$3,'Marks Entry'!AJ13,IF($J$4='Marks Entry'!$AL$3,'Marks Entry'!AS13,IF($J$4='Marks Entry'!$AU$3,'Marks Entry'!BB13,IF($J$4='Marks Entry'!$BD$3,'Marks Entry'!BK13,0)))))) -> 0 | R14: =IF($J$4='Marks Entry'!$K$3,'Marks Entry'!S13,IF($J$4='Marks Entry'!$T$3,'Marks Entry'!AB13,IF($J$4='Marks Entry'!$AC$3,'Marks Entry'!AK13,IF($J$4='Marks Entry'!$AL$3,'Marks Entry'!AT13,IF($J$4='Marks Entry'!$AU$3,'Marks Entry'!BC13,IF($J$4='Marks Entry'!$BD$3,'Marks Entry'!BL13,0)))))) -> 0
B15: ='Marks Entry'!B14 -> 0 | C15: ='Marks Entry'!C14 -> 0 | D15: ='Marks Entry'!D14 -> 0 | E15: ='Marks Entry'!E14 -> 0 | F15: ='Marks Entry'!F14 -> 0 | G15: ='Marks Entry'!G14 -> 0 | H15: ='Marks Entry'!H14 -> 0 | I15: ='Marks Entry'!I14 -> 0 | J15: =IF($J$4='Marks Entry'!$K$3,'Marks Entry'!K14,IF($J$4='Marks Entry'!$T$3,'Marks Entry'!T14,IF($J$4='Marks Entry'!$AC$3,'Marks Entry'!AC14,IF($J$4='Marks Entry'!$AL$3,'Marks Entry'!AL14,IF($J$4='Marks Entry'!$AU$3,'Marks Entry'!AU14,IF($J$4='Marks Entry'!$BD$3,'Marks Entry'!BD14,0)))))) -> 0 | K15: =IF($J$4='Marks Entry'!$K$3,'Marks Entry'!L14,IF($J$4='Marks Entry'!$T$3,'Marks Entry'!U14,IF($J$4='Marks Entry'!$AC$3,'Marks Entry'!AD14,IF($J$4='Marks Entry'!$AL$3,'Marks Entry'!AM14,IF($J$4='Marks Entry'!$AU$3,'Marks Entry'!AV14,IF($J$4='Marks Entry'!$BD$3,'Marks Entry'!BE14,0)))))) -> 0 | L15: =IF($J$4='Marks Entry'!$K$3,'Marks Entry'!M14,IF($J$4='Marks Entry'!$T$3,'Marks Entry'!V14,IF($J$4='Marks Entry'!$AC$3,'Marks Entry'!AE14,IF($J$4='Marks Entry'!$AL$3,'Marks Entry'!AN14,IF($J$4='Marks Entry'!$AU$3,'Marks Entry'!AW14,IF($J$4='Marks Entry'!$BD$3,'Marks Entry'!BF14,0)))))) -> 0 | M15: =IF($J$4='Marks Entry'!$K$3,'Marks Entry'!N14,IF($J$4='Marks Entry'!$T$3,'Marks Entry'!W14,IF($J$4='Marks Entry'!$AC$3,'Marks Entry'!AF14,IF($J$4='Marks Entry'!$AL$3,'Marks Entry'!AO14,IF($J$4='Marks Entry'!$AU$3,'Marks Entry'!AX14,IF($J$4='Marks Entry'!$BD$3,'Marks Entry'!BG14,0)))))) -> 0 | N15: =IF($J$4='Marks Entry'!$K$3,'Marks Entry'!O14,IF($J$4='Marks Entry'!$T$3,'Marks Entry'!X14,IF($J$4='Marks Entry'!$AC$3,'Marks Entry'!AG14,IF($J$4='Marks Entry'!$AL$3,'Marks Entry'!AP14,IF($J$4='Marks Entry'!$AU$3,'Marks Entry'!AY14,IF($J$4='Marks Entry'!$BD$3,'Marks Entry'!BH14,0)))))) -> 0 | O15: =IF($J$4='Marks Entry'!$K$3,'Marks Entry'!P14,IF($J$4='Marks Entry'!$T$3,'Marks Entry'!Y14,IF($J$4='Marks Entry'!$AC$3,'Marks Entry'!AH14,IF($J$4='Marks Entry'!$AL$3,'Marks Entry'!AQ14,IF($J$4='Marks Entry'!$AU$3,'Marks Entry'!AZ14,IF($J$4='Marks Entry'!$BD$3,'Marks Entry'!BI14,0)))))) -> 0 | P15: =IF($J$4='Marks Entry'!$K$3,'Marks Entry'!Q14,IF($J$4='Marks Entry'!$T$3,'Marks Entry'!Z14,IF($J$4='Marks Entry'!$AC$3,'Marks Entry'!AI14,IF($J$4='Marks Entry'!$AL$3,'Marks Entry'!AR14,IF($J$4='Marks Entry'!$AU$3,'Marks Entry'!BA14,IF($J$4='Marks Entry'!$BD$3,'Marks Entry'!BJ14,0)))))) -> 0 | Q15: =IF($J$4='Marks Entry'!$K$3,'Marks Entry'!R14,IF($J$4='Marks Entry'!$T$3,'Marks Entry'!AA14,IF($J$4='Marks Entry'!$AC$3,'Marks Entry'!AJ14,IF($J$4='Marks Entry'!$AL$3,'Marks Entry'!AS14,IF($J$4='Marks Entry'!$AU$3,'Marks Entry'!BB14,IF($J$4='Marks Entry'!$BD$3,'Marks Entry'!BK14,0)))))) -> 0 | R15: =IF($J$4='Marks Entry'!$K$3,'Marks Entry'!S14,IF($J$4='Marks Entry'!$T$3,'Marks Entry'!AB14,IF($J$4='Marks Entry'!$AC$3,'Marks Entry'!AK14,IF($J$4='Marks Entry'!$AL$3,'Marks Entry'!AT14,IF($J$4='Marks Entry'!$AU$3,'Marks Entry'!BC14,IF($J$4='Marks Entry'!$BD$3,'Marks Entry'!BL14,0)))))) -> 0
B16: ='Marks Entry'!B15 -> 0 | C16: ='Marks Entry'!C15 -> 0 | D16: ='Marks Entry'!D15 -> 0 | E16: ='Marks Entry'!E15 -> 0 | F16: ='Marks Entry'!F15 -> 0 | G16: ='Marks Entry'!G15 -> 0 | H16: ='Marks Entry'!H15 -> 0 | I16: ='Marks Entry'!I15 -> 0 | J16: =IF($J$4='Marks Entry'!$K$3,'Marks Entry'!K15,IF($J$4='Marks Entry'!$T$3,'Marks Entry'!T15,IF($J$4='Marks Entry'!$AC$3,'Marks Entry'!AC15,IF($J$4='Marks Entry'!$AL$3,'Marks Entry'!AL15,IF($J$4='Marks Entry'!$AU$3,'Marks Entry'!AU15,IF($J$4='Marks Entry'!$BD$3,'Marks Entry'!BD15,0)))))) -> 0 | K16: =IF($J$4='Marks Entry'!$K$3,'Marks Entry'!L15,IF($J$4='Marks Entry'!$T$3,'Marks Entry'!U15,IF($J$4='Marks Entry'!$AC$3,'Marks Entry'!AD15,IF($J$4='Marks Entry'!$AL$3,'Marks Entry'!AM15,IF($J$4='Marks Entry'!$AU$3,'Marks Entry'!AV15,IF($J$4='Marks Entry'!$BD$3,'Marks Entry'!BE15,0)))))) -> 0 | L16: =IF($J$4='Marks Entry'!$K$3,'Marks Entry'!M15,IF($J$4='Marks Entry'!$T$3,'Marks Entry'!V15,IF($J$4='Marks Entry'!$AC$3,'Marks Entry'!AE15,IF($J$4='Marks Entry'!$AL$3,'Marks Entry'!AN15,IF($J$4='Marks Entry'!$AU$3,'Marks Entry'!AW15,IF($J$4='Marks Entry'!$BD$3,'Marks Entry'!BF15,0)))))) -> 0 | M16: =IF($J$4='Marks Entry'!$K$3,'Marks Entry'!N15,IF($J$4='Marks Entry'!$T$3,'Marks Entry'!W15,IF($J$4='Marks Entry'!$AC$3,'Marks Entry'!AF15,IF($J$4='Marks Entry'!$AL$3,'Marks Entry'!AO15,IF($J$4='Marks Entry'!$AU$3,'Marks Entry'!AX15,IF($J$4='Marks Entry'!$BD$3,'Marks Entry'!BG15,0)))))) -> 0 | N16: =IF($J$4='Marks Entry'!$K$3,'Marks Entry'!O15,IF($J$4='Marks Entry'!$T$3,'Marks Entry'!X15,IF($J$4='Marks Entry'!$AC$3,'Marks Entry'!AG15,IF($J$4='Marks Entry'!$AL$3,'Marks Entry'!AP15,IF($J$4='Marks Entry'!$AU$3,'Marks Entry'!AY15,IF($J$4='Marks Entry'!$BD$3,'Marks Entry'!BH15,0)))))) -> 0 | O16: =IF($J$4='Marks Entry'!$K$3,'Marks Entry'!P15,IF($J$4='Marks Entry'!$T$3,'Marks Entry'!Y15,IF($J$4='Marks Entry'!$AC$3,'Marks Entry'!AH15,IF($J$4='Marks Entry'!$AL$3,'Marks Entry'!AQ15,IF($J$4='Marks Entry'!$AU$3,'Marks Entry'!AZ15,IF($J$4='Marks Entry'!$BD$3,'Marks Entry'!BI15,0)))))) -> 0 | P16: =IF($J$4='Marks Entry'!$K$3,'Marks Entry'!Q15,IF($J$4='Marks Entry'!$T$3,'Marks Entry'!Z15,IF($J$4='Marks Entry'!$AC$3,'Marks Entry'!AI15,IF($J$4='Marks Entry'!$AL$3,'Marks Entry'!AR15,IF($J$4='Marks Entry'!$AU$3,'Marks Entry'!BA15,IF($J$4='Marks Entry'!$BD$3,'Marks Entry'!BJ15,0)))))) -> 0 | Q16: =IF($J$4='Marks Entry'!$K$3,'Marks Entry'!R15,IF($J$4='Marks Entry'!$T$3,'Marks Entry'!AA15,IF($J$4='Marks Entry'!$AC$3,'Marks Entry'!AJ15,IF($J$4='Marks Entry'!$AL$3,'Marks Entry'!AS15,IF($J$4='Marks Entry'!$AU$3,'Marks Entry'!BB15,IF($J$4='Marks Entry'!$BD$3,'Marks Entry'!BK15,0)))))) -> 0 | R16: =IF($J$4='Marks Entry'!$K$3,'Marks Entry'!S15,IF($J$4='Marks Entry'!$T$3,'Marks Entry'!AB15,IF($J$4='Marks Entry'!$AC$3,'Marks Entry'!AK15,IF($J$4='Marks Entry'!$AL$3,'Marks Entry'!AT15,IF($J$4='Marks Entry'!$AU$3,'Marks Entry'!BC15,IF($J$4='Marks Entry'!$BD$3,'Marks Entry'!BL15,0)))))) -> 0
B17: ='Marks Entry'!B16 -> 0 | C17: ='Marks Entry'!C16 -> 0 | D17: ='Marks Entry'!D16 -> 0 | E17: ='Marks Entry'!E16 -> 0 | F17: ='Marks Entry'!F16 -> 0 | G17: ='Marks Entry'!G16 -> 0 | H17: ='Marks Entry'!H16 -> 0 | I17: ='Marks Entry'!I16 -> 0 | J17: =IF($J$4='Marks Entry'!$K$3,'Marks Entry'!K16,IF($J$4='Marks Entry'!$T$3,'Marks Entry'!T16,IF($J$4='Marks Entry'!$AC$3,'Marks Entry'!AC16,IF($J$4='Marks Entry'!$AL$3,'Marks Entry'!AL16,IF($J$4='Marks Entry'!$AU$3,'Marks Entry'!AU16,IF($J$4='Marks Entry'!$BD$3,'Marks Entry'!BD16,0)))))) -> 0 | K17: =IF($J$4='Marks Entry'!$K$3,'Marks Entry'!L16,IF($J$4='Marks Entry'!$T$3,'Marks Entry'!U16,IF($J$4='Marks Entry'!$AC$3,'Marks Entry'!AD16,IF($J$4='Marks Entry'!$AL$3,'Marks Entry'!AM16,IF($J$4='Marks Entry'!$AU$3,'Marks Entry'!AV16,IF($J$4='Marks Entry'!$BD$3,'Marks Entry'!BE16,0)))))) -> 0 | L17: =IF($J$4='Marks Entry'!$K$3,'Marks Entry'!M16,IF($J$4='Marks Entry'!$T$3,'Marks Entry'!V16,IF($J$4='Marks Entry'!$AC$3,'Marks Entry'!AE16,IF($J$4='Marks Entry'!$AL$3,'Marks Entry'!AN16,IF($J$4='Marks Entry'!$AU$3,'Marks Entry'!AW16,IF($J$4='Marks Entry'!$BD$3,'Marks Entry'!BF16,0)))))) -> 0 | M17: =IF($J$4='Marks Entry'!$K$3,'Marks Entry'!N16,IF($J$4='Marks Entry'!$T$3,'Marks Entry'!W16,IF($J$4='Marks Entry'!$AC$3,'Marks Entry'!AF16,IF($J$4='Marks Entry'!$AL$3,'Marks Entry'!AO16,IF($J$4='Marks Entry'!$AU$3,'Marks Entry'!AX16,IF($J$4='Marks Entry'!$BD$3,'Marks Entry'!BG16,0)))))) -> 0 | N17: =IF($J$4='Marks Entry'!$K$3,'Marks Entry'!O16,IF($J$4='Marks Entry'!$T$3,'Marks Entry'!X16,IF($J$4='Marks Entry'!$AC$3,'Marks Entry'!AG16,IF($J$4='Marks Entry'!$AL$3,'Marks Entry'!AP16,IF($J$4='Marks Entry'!$AU$3,'Marks Entry'!AY16,IF($J$4='Marks Entry'!$BD$3,'Marks Entry'!BH16,0)))))) -> 0 | O17: =IF($J$4='Marks Entry'!$K$3,'Marks Entry'!P16,IF($J$4='Marks Entry'!$T$3,'Marks Entry'!Y16,IF($J$4='Marks Entry'!$AC$3,'Marks Entry'!AH16,IF($J$4='Marks Entry'!$AL$3,'Marks Entry'!AQ16,IF($J$4='Marks Entry'!$AU$3,'Marks Entry'!AZ16,IF($J$4='Marks Entry'!$BD$3,'Marks Entry'!BI16,0)))))) -> 0 | P17: =IF($J$4='Marks Entry'!$K$3,'Marks Entry'!Q16,IF($J$4='Marks Entry'!$T$3,'Marks Entry'!Z16,IF($J$4='Marks Entry'!$AC$3,'Marks Entry'!AI16,IF($J$4='Marks Entry'!$AL$3,'Marks Entry'!AR16,IF($J$4='Marks Entry'!$AU$3,'Marks Entry'!BA16,IF($J$4='Marks Entry'!$BD$3,'Marks Entry'!BJ16,0)))))) -> 0 | Q17: =IF($J$4='Marks Entry'!$K$3,'Marks Entry'!R16,IF($J$4='Marks Entry'!$T$3,'Marks Entry'!AA16,IF($J$4='Marks Entry'!$AC$3,'Marks Entry'!AJ16,IF($J$4='Marks Entry'!$AL$3,'Marks Entry'!AS16,IF($J$4='Marks Entry'!$AU$3,'Marks Entry'!BB16,IF($J$4='Marks Entry'!$BD$3,'Marks Entry'!BK16,0)))))) -> 0 | R17: =IF($J$4='Marks Entry'!$K$3,'Marks Entry'!S16,IF($J$4='Marks Entry'!$T$3,'Marks Entry'!AB16,IF($J$4='Marks Entry'!$AC$3,'Marks Entry'!AK16,IF($J$4='Marks Entry'!$AL$3,'Marks Entry'!AT16,IF($J$4='Marks Entry'!$AU$3,'Marks Entry'!BC16,IF($J$4='Marks Entry'!$BD$3,'Marks Entry'!BL16,0)))))) -> 0
B18: ='Marks Entry'!B17 -> 0 | C18: ='Marks Entry'!C17 -> 0 | D18: ='Marks Entry'!D17 -> 0 | E18: ='Marks Entry'!E17 -> 0 | F18: ='Marks Entry'!F17 -> 0 | G18: ='Marks Entry'!G17 -> 0 | H18: ='Marks Entry'!H17 -> 0 | I18: ='Marks Entry'!I17 -> 0 | J18: =IF($J$4='Marks Entry'!$K$3,'Marks Entry'!K17,IF($J$4='Marks Entry'!$T$3,'Marks Entry'!T17,IF($J$4='Marks Entry'!$AC$3,'Marks Entry'!AC17,IF($J$4='Marks Entry'!$AL$3,'Marks Entry'!AL17,IF($J$4='Marks Entry'!$AU$3,'Marks Entry'!AU17,IF($J$4='Marks Entry'!$BD$3,'Marks Entry'!BD17,0)))))) -> 0 | K18: =IF($J$4='Marks Entry'!$K$3,'Marks Entry'!L17,IF($J$4='Marks Entry'!$T$3,'Marks Entry'!U17,IF($J$4='Marks Entry'!$AC$3,'Marks Entry'!AD17,IF($J$4='Marks Entry'!$AL$3,'Marks Entry'!AM17,IF($J$4='Marks Entry'!$AU$3,'Marks Entry'!AV17,IF($J$4='Marks Entry'!$BD$3,'Marks Entry'!BE17,0)))))) -> 0 | L18: =IF($J$4='Marks Entry'!$K$3,'Marks Entry'!M17,IF($J$4='Marks Entry'!$T$3,'Marks Entry'!V17,IF($J$4='Marks Entry'!$AC$3,'Marks Entry'!AE17,IF($J$4='Marks Entry'!$AL$3,'Marks Entry'!AN17,IF($J$4='Marks Entry'!$AU$3,'Marks Entry'!AW17,IF($J$4='Marks Entry'!$BD$3,'Marks Entry'!BF17,0)))))) -> 0 | M18: =IF($J$4='Marks Entry'!$K$3,'Marks Entry'!N17,IF($J$4='Marks Entry'!$T$3,'Marks Entry'!W17,IF($J$4='Marks Entry'!$AC$3,'Marks Entry'!AF17,IF($J$4='Marks Entry'!$AL$3,'Marks Entry'!AO17,IF($J$4='Marks Entry'!$AU$3,'Marks Entry'!AX17,IF($J$4='Marks Entry'!$BD$3,'Marks Entry'!BG17,0)))))) -> 0 | N18: =IF($J$4='Marks Entry'!$K$3,'Marks Entry'!O17,IF($J$4='Marks Entry'!$T$3,'Marks Entry'!X17,IF($J$4='Marks Entry'!$AC$3,'Marks Entry'!AG17,IF($J$4='Marks Entry'!$AL$3,'Marks Entry'!AP17,IF($J$4='Marks Entry'!$AU$3,'Marks Entry'!AY17,IF($J$4='Marks Entry'!$BD$3,'Marks Entry'!BH17,0)))))) -> 0 | O18: =IF($J$4='Marks Entry'!$K$3,'Marks Entry'!P17,IF($J$4='Marks Entry'!$T$3,'Marks Entry'!Y17,IF($J$4='Marks Entry'!$AC$3,'Marks Entry'!AH17,IF($J$4='Marks Entry'!$AL$3,'Marks Entry'!AQ17,IF($J$4='Marks Entry'!$AU$3,'Marks Entry'!AZ17,IF($J$4='Marks Entry'!$BD$3,'Marks Entry'!BI17,0)))))) -> 0 | P18: =IF($J$4='Marks Entry'!$K$3,'Marks Entry'!Q17,IF($J$4='Marks Entry'!$T$3,'Marks Entry'!Z17,IF($J$4='Marks Entry'!$AC$3,'Marks Entry'!AI17,IF($J$4='Marks Entry'!$AL$3,'Marks Entry'!AR17,IF($J$4='Marks Entry'!$AU$3,'Marks Entry'!BA17,IF($J$4='Marks Entry'!$BD$3,'Marks Entry'!BJ17,0)))))) -> 0 | Q18: =IF($J$4='Marks Entry'!$K$3,'Marks Entry'!R17,IF($J$4='Marks Entry'!$T$3,'Marks Entry'!AA17,IF($J$4='Marks Entry'!$AC$3,'Marks Entry'!AJ17,IF($J$4='Marks Entry'!$AL$3,'Marks Entry'!AS17,IF($J$4='Marks Entry'!$AU$3,'Marks Entry'!BB17,IF($J$4='Marks Entry'!$BD$3,'Marks Entry'!BK17,0)))))) -> 0 | R18: =IF($J$4='Marks Entry'!$K$3,'Marks Entry'!S17,IF($J$4='Marks Entry'!$T$3,'Marks Entry'!AB17,IF($J$4='Marks Entry'!$AC$3,'Marks Entry'!AK17,IF($J$4='Marks Entry'!$AL$3,'Marks Entry'!AT17,IF($J$4='Marks Entry'!$AU$3,'Marks Entry'!BC17,IF($J$4='Marks Entry'!$BD$3,'Marks Entry'!BL17,0)))))) -> 0
B19: ='Marks Entry'!B18 -> 0 | C19: ='Marks Entry'!C18 -> 0 | D19: ='Marks Entry'!D18 -> 0 | E19: ='Marks Entry'!E18 -> 0 | F19: ='Marks Entry'!F18 -> 0 | G19: ='Marks Entry'!G18 -> 0 | H19: ='Marks Entry'!H18 -> 0 | I19: ='Marks Entry'!I18 -> 0 | J19: =IF($J$4='Marks Entry'!$K$3,'Marks Entry'!K18,IF($J$4='Marks Entry'!$T$3,'Marks Entry'!T18,IF($J$4='Marks Entry'!$AC$3,'Marks Entry'!AC18,IF($J$4='Marks Entry'!$AL$3,'Marks Entry'!AL18,IF($J$4='Marks Entry'!$AU$3,'Marks Entry'!AU18,IF($J$4='Marks Entry'!$BD$3,'Marks Entry'!BD18,0)))))) -> 0 | K19: =IF($J$4='Marks Entry'!$K$3,'Marks Entry'!L18,IF($J$4='Marks Entry'!$T$3,'Marks Entry'!U18,IF($J$4='Marks Entry'!$AC$3,'Marks Entry'!AD18,IF($J$4='Marks Entry'!$AL$3,'Marks Entry'!AM18,IF($J$4='Marks Entry'!$AU$3,'Marks Entry'!AV18,IF($J$4='Marks Entry'!$BD$3,'Marks Entry'!BE18,0)))))) -> 0 | L19: =IF($J$4='Marks Entry'!$K$3,'Marks Entry'!M18,IF($J$4='Marks Entry'!$T$3,'Marks Entry'!V18,IF($J$4='Marks Entry'!$AC$3,'Marks Entry'!AE18,IF($J$4='Marks Entry'!$AL$3,'Marks Entry'!AN18,IF($J$4='Marks Entry'!$AU$3,'Marks Entry'!AW18,IF($J$4='Marks Entry'!$BD$3,'Marks Entry'!BF18,0)))))) -> 0 | M19: =IF($J$4='Marks Entry'!$K$3,'Marks Entry'!N18,IF($J$4='Marks Entry'!$T$3,'Marks Entry'!W18,IF($J$4='Marks Entry'!$AC$3,'Marks Entry'!AF18,IF($J$4='Marks Entry'!$AL$3,'Marks Entry'!AO18,IF($J$4='Marks Entry'!$AU$3,'Marks Entry'!AX18,IF($J$4='Marks Entry'!$BD$3,'Marks Entry'!BG18,0)))))) -> 0 | N19: =IF($J$4='Marks Entry'!$K$3,'Marks Entry'!O18,IF($J$4='Marks Entry'!$T$3,'Marks Entry'!X18,IF($J$4='Marks Entry'!$AC$3,'Marks Entry'!AG18,IF($J$4='Marks Entry'!$AL$3,'Marks Entry'!AP18,IF($J$4='Marks Entry'!$AU$3,'Marks Entry'!AY18,IF($J$4='Marks Entry'!$BD$3,'Marks Entry'!BH18,0)))))) -> 0 | O19: =IF($J$4='Marks Entry'!$K$3,'Marks Entry'!P18,IF($J$4='Marks Entry'!$T$3,'Marks Entry'!Y18,IF($J$4='Marks Entry'!$AC$3,'Marks Entry'!AH18,IF($J$4='Marks Entry'!$AL$3,'Marks Entry'!AQ18,IF($J$4='Marks Entry'!$AU$3,'Marks Entry'!AZ18,IF($J$4='Marks Entry'!$BD$3,'Marks Entry'!BI18,0)))))) -> 0 | P19: =IF($J$4='Marks Entry'!$K$3,'Marks Entry'!Q18,IF($J$4='Marks Entry'!$T$3,'Marks Entry'!Z18,IF($J$4='Marks Entry'!$AC$3,'Marks Entry'!AI18,IF($J$4='Marks Entry'!$AL$3,'Marks Entry'!AR18,IF($J$4='Marks Entry'!$AU$3,'Marks Entry'!BA18,IF($J$4='Marks Entry'!$BD$3,'Marks Entry'!BJ18,0)))))) -> 0 | Q19: =IF($J$4='Marks Entry'!$K$3,'Marks Entry'!R18,IF($J$4='Marks Entry'!$T$3,'Marks Entry'!AA18,IF($J$4='Marks Entry'!$AC$3,'Marks Entry'!AJ18,IF($J$4='Marks Entry'!$AL$3,'Marks Entry'!AS18,IF($J$4='Marks Entry'!$AU$3,'Marks Entry'!BB18,IF($J$4='Marks Entry'!$BD$3,'Marks Entry'!BK18,0)))))) -> 0 | R19: =IF($J$4='Marks Entry'!$K$3,'Marks Entry'!S18,IF($J$4='Marks Entry'!$T$3,'Marks Entry'!AB18,IF($J$4='Marks Entry'!$AC$3,'Marks Entry'!AK18,IF($J$4='Marks Entry'!$AL$3,'Marks Entry'!AT18,IF($J$4='Marks Entry'!$AU$3,'Marks Entry'!BC18,IF($J$4='Marks Entry'!$BD$3,'Marks Entry'!BL18,0)))))) -> 0
B20: ='Marks Entry'!B19 -> 0 | C20: ='Marks Entry'!C19 -> 0 | D20: ='Marks Entry'!D19 -> 0 | E20: ='Marks Entry'!E19 -> 0 | F20: ='Marks Entry'!F19 -> 0 | G20: ='Marks Entry'!G19 -> 0 | H20: ='Marks Entry'!H19 -> 0 | I20: ='Marks Entry'!I19 -> 0 | J20: =IF($J$4='Marks Entry'!$K$3,'Marks Entry'!K19,IF($J$4='Marks Entry'!$T$3,'Marks Entry'!T19,IF($J$4='Marks Entry'!$AC$3,'Marks Entry'!AC19,IF($J$4='Marks Entry'!$AL$3,'Marks Entry'!AL19,IF($J$4='Marks Entry'!$AU$3,'Marks Entry'!AU19,IF($J$4='Marks Entry'!$BD$3,'Marks Entry'!BD19,0)))))) -> 0 | K20: =IF($J$4='Marks Entry'!$K$3,'Marks Entry'!L19,IF($J$4='Marks Entry'!$T$3,'Marks Entry'!U19,IF($J$4='Marks Entry'!$AC$3,'Marks Entry'!AD19,IF($J$4='Marks Entry'!$AL$3,'Marks Entry'!AM19,IF($J$4='Marks Entry'!$AU$3,'Marks Entry'!AV19,IF($J$4='Marks Entry'!$BD$3,'Marks Entry'!BE19,0)))))) -> 0 | L20: =IF($J$4='Marks Entry'!$K$3,'Marks Entry'!M19,IF($J$4='Marks Entry'!$T$3,'Marks Entry'!V19,IF($J$4='Marks Entry'!$AC$3,'Marks Entry'!AE19,IF($J$4='Marks Entry'!$AL$3,'Marks Entry'!AN19,IF($J$4='Marks Entry'!$AU$3,'Marks Entry'!AW19,IF($J$4='Marks Entry'!$BD$3,'Marks Entry'!BF19,0)))))) -> 0 | M20: =IF($J$4='Marks Entry'!$K$3,'Marks Entry'!N19,IF($J$4='Marks Entry'!$T$3,'Marks Entry'!W19,IF($J$4='Marks Entry'!$AC$3,'Marks Entry'!AF19,IF($J$4='Marks Entry'!$AL$3,'Marks Entry'!AO19,IF($J$4='Marks Entry'!$AU$3,'Marks Entry'!AX19,IF($J$4='Marks Entry'!$BD$3,'Marks Entry'!BG19,0)))))) -> 0 | N20: =IF($J$4='Marks Entry'!$K$3,'Marks Entry'!O19,IF($J$4='Marks Entry'!$T$3,'Marks Entry'!X19,IF($J$4='Marks Entry'!$AC$3,'Marks Entry'!AG19,IF($J$4='Marks Entry'!$AL$3,'Marks Entry'!AP19,IF($J$4='Marks Entry'!$AU$3,'Marks Entry'!AY19,IF($J$4='Marks Entry'!$BD$3,'Marks Entry'!BH19,0)))))) -> 0 | O20: =IF($J$4='Marks Entry'!$K$3,'Marks Entry'!P19,IF($J$4='Marks Entry'!$T$3,'Marks Entry'!Y19,IF($J$4='Marks Entry'!$AC$3,'Marks Entry'!AH19,IF($J$4='Marks Entry'!$AL$3,'Marks Entry'!AQ19,IF($J$4='Marks Entry'!$AU$3,'Marks Entry'!AZ19,IF($J$4='Marks Entry'!$BD$3,'Marks Entry'!BI19,0)))))) -> 0 | P20: =IF($J$4='Marks Entry'!$K$3,'Marks Entry'!Q19,IF($J$4='Marks Entry'!$T$3,'Marks Entry'!Z19,IF($J$4='Marks Entry'!$AC$3,'Marks Entry'!AI19,IF($J$4='Marks Entry'!$AL$3,'Marks Entry'!AR19,IF($J$4='Marks Entry'!$AU$3,'Marks Entry'!BA19,IF($J$4='Marks Entry'!$BD$3,'Marks Entry'!BJ19,0)))))) -> 0 | Q20: =IF($J$4='Marks Entry'!$K$3,'Marks Entry'!R19,IF($J$4='Marks Entry'!$T$3,'Marks Entry'!AA19,IF($J$4='Marks Entry'!$AC$3,'Marks Entry'!AJ19,IF($J$4='Marks Entry'!$AL$3,'Marks Entry'!AS19,IF($J$4='Marks Entry'!$AU$3,'Marks Entry'!BB19,IF($J$4='Marks Entry'!$BD$3,'Marks Entry'!BK19,0)))))) -> 0 | R20: =IF($J$4='Marks Entry'!$K$3,'Marks Entry'!S19,IF($J$4='Marks Entry'!$T$3,'Marks Entry'!AB19,IF($J$4='Marks Entry'!$AC$3,'Marks Entry'!AK19,IF($J$4='Marks Entry'!$AL$3,'Marks Entry'!AT19,IF($J$4='Marks Entry'!$AU$3,'Marks Entry'!BC19,IF($J$4='Marks Entry'!$BD$3,'Marks Entry'!BL19,0)))))) -> 0
B21: ='Marks Entry'!B20 -> 0 | C21: ='Marks Entry'!C20 -> 0 | D21: ='Marks Entry'!D20 -> 0 | E21: ='Marks Entry'!E20 -> 0 | F21: ='Marks Entry'!F20 -> 0 | G21: ='Marks Entry'!G20 -> 0 | H21: ='Marks Entry'!H20 -> 0 | I21: ='Marks Entry'!I20 -> 0 | J21: =IF($J$4='Marks Entry'!$K$3,'Marks Entry'!K20,IF($J$4='Marks Entry'!$T$3,'Marks Entry'!T20,IF($J$4='Marks Entry'!$AC$3,'Marks Entry'!AC20,IF($J$4='Marks Entry'!$AL$3,'Marks Entry'!AL20,IF($J$4='Marks Entry'!$AU$3,'Marks Entry'!AU20,IF($J$4='Marks Entry'!$BD$3,'Marks Entry'!BD20,0)))))) -> 0 | K21: =IF($J$4='Marks Entry'!$K$3,'Marks Entry'!L20,IF($J$4='Marks Entry'!$T$3,'Marks Entry'!U20,IF($J$4='Marks Entry'!$AC$3,'Marks Entry'!AD20,IF($J$4='Marks Entry'!$AL$3,'Marks Entry'!AM20,IF($J$4='Marks Entry'!$AU$3,'Marks Entry'!AV20,IF($J$4='Marks Entry'!$BD$3,'Marks Entry'!BE20,0)))))) -> 0 | L21: =IF($J$4='Marks Entry'!$K$3,'Marks Entry'!M20,IF($J$4='Marks Entry'!$T$3,'Marks Entry'!V20,IF($J$4='Marks Entry'!$AC$3,'Marks Entry'!AE20,IF($J$4='Marks Entry'!$AL$3,'Marks Entry'!AN20,IF($J$4='Marks Entry'!$AU$3,'Marks Entry'!AW20,IF($J$4='Marks Entry'!$BD$3,'Marks Entry'!BF20,0)))))) -> 0 | M21: =IF($J$4='Marks Entry'!$K$3,'Marks Entry'!N20,IF($J$4='Marks Entry'!$T$3,'Marks Entry'!W20,IF($J$4='Marks Entry'!$AC$3,'Marks Entry'!AF20,IF($J$4='Marks Entry'!$AL$3,'Marks Entry'!AO20,IF($J$4='Marks Entry'!$AU$3,'Marks Entry'!AX20,IF($J$4='Marks Entry'!$BD$3,'Marks Entry'!BG20,0)))))) -> 0 | N21: =IF($J$4='Marks Entry'!$K$3,'Marks Entry'!O20,IF($J$4='Marks Entry'!$T$3,'Marks Entry'!X20,IF($J$4='Marks Entry'!$AC$3,'Marks Entry'!AG20,IF($J$4='Marks Entry'!$AL$3,'Marks Entry'!AP20,IF($J$4='Marks Entry'!$AU$3,'Marks Entry'!AY20,IF($J$4='Marks Entry'!$BD$3,'Marks Entry'!BH20,0)))))) -> 0 | O21: =IF($J$4='Marks Entry'!$K$3,'Marks Entry'!P20,IF($J$4='Marks Entry'!$T$3,'Marks Entry'!Y20,IF($J$4='Marks Entry'!$AC$3,'Marks Entry'!AH20,IF($J$4='Marks Entry'!$AL$3,'Marks Entry'!AQ20,IF($J$4='Marks Entry'!$AU$3,'Marks Entry'!AZ20,IF($J$4='Marks Entry'!$BD$3,'Marks Entry'!BI20,0)))))) -> 0 | P21: =IF($J$4='Marks Entry'!$K$3,'Marks Entry'!Q20,IF($J$4='Marks Entry'!$T$3,'Marks Entry'!Z20,IF($J$4='Marks Entry'!$AC$3,'Marks Entry'!AI20,IF($J$4='Marks Entry'!$AL$3,'Marks Entry'!AR20,IF($J$4='Marks Entry'!$AU$3,'Marks Entry'!BA20,IF($J$4='Marks Entry'!$BD$3,'Marks Entry'!BJ20,0)))))) -> 0 | Q21: =IF($J$4='Marks Entry'!$K$3,'Marks Entry'!R20,IF($J$4='Marks Entry'!$T$3,'Marks Entry'!AA20,IF($J$4='Marks Entry'!$AC$3,'Marks Entry'!AJ20,IF($J$4='Marks Entry'!$AL$3,'Marks Entry'!AS20,IF($J$4='Marks Entry'!$AU$3,'Marks Entry'!BB20,IF($J$4='Marks Entry'!$BD$3,'Marks Entry'!BK20,0)))))) -> 0 | R21: =IF($J$4='Marks Entry'!$K$3,'Marks Entry'!S20,IF($J$4='Marks Entry'!$T$3,'Marks Entry'!AB20,IF($J$4='Marks Entry'!$AC$3,'Marks Entry'!AK20,IF($J$4='Marks Entry'!$AL$3,'Marks Entry'!AT20,IF($J$4='Marks Entry'!$AU$3,'Marks Entry'!BC20,IF($J$4='Marks Entry'!$BD$3,'Marks Entry'!BL20,0)))))) -> 0
... B208: ='Marks Entry'!B207 -> 0 | C208: ='Marks Entry'!C207 -> 0 | D208: ='Marks Entry'!D207 -> 0 | E208: ='Marks Entry'!E207 -> 0 | F208: ='Marks Entry'!F207 -> 0 | G208: ='Marks Entry'!G207 -> 0 | H208: ='Marks Entry'!H207 -> 0 | I208: ='Marks Entry'!I207 -> 0 | J208: =IF($J$4='Marks Entry'!$K$3,'Marks Entry'!K207,IF($J$4='Marks Entry'!$T$3,'Marks Entry'!T207,IF($J$4='Marks Entry'!$AC$3,'Marks Entry'!AC207,IF($J$4='Marks Entry'!$AL$3,'Marks Entry'!AL207,IF($J$4='Marks Entry'!$AU$3,'Marks Entry'!AU207,IF($J$4='Marks Entry'!$BD$3,'Marks Entry'!BD207,0)))))) -> 0 | K208: =IF($J$4='Marks Entry'!$K$3,'Marks Entry'!L207,IF($J$4='Marks Entry'!$T$3,'Marks Entry'!U207,IF($J$4='Marks Entry'!$AC$3,'Marks Entry'!AD207,IF($J$4='Marks Entry'!$AL$3,'Marks Entry'!AM207,IF($J$4='Marks Entry'!$AU$3,'Marks Entry'!AV207,IF($J$4='Marks Entry'!$BD$3,'Marks Entry'!BE207,0)))))) -> 0 | L208: =IF($J$4='Marks Entry'!$K$3,'Marks Entry'!M207,IF($J$4='Marks Entry'!$T$3,'Marks Entry'!V207,IF($J$4='Marks Entry'!$AC$3,'Marks Entry'!AE207,IF($J$4='Marks Entry'!$AL$3,'Marks Entry'!AN207,IF($J$4='Marks Entry'!$AU$3,'Marks Entry'!AW207,IF($J$4='Marks Entry'!$BD$3,'Marks Entry'!BF207,0)))))) -> 0 | M208: =IF($J$4='Marks Entry'!$K$3,'Marks Entry'!N207,IF($J$4='Marks Entry'!$T$3,'Marks Entry'!W207,IF($J$4='Marks Entry'!$AC$3,'Marks Entry'!AF207,IF($J$4='Marks Entry'!$AL$3,'Marks Entry'!AO207,IF($J$4='Marks Entry'!$AU$3,'Marks Entry'!AX207,IF($J$4='Marks Entry'!$BD$3,'Marks Entry'!BG207,0)))))) -> 0 | N208: =IF($J$4='Marks Entry'!$K$3,'Marks Entry'!O207,IF($J$4='Marks Entry'!$T$3,'Marks Entry'!X207,IF($J$4='Marks Entry'!$AC$3,'Marks Entry'!AG207,IF($J$4='Marks Entry'!$AL$3,'Marks Entry'!AP207,IF($J$4='Marks Entry'!$AU$3,'Marks Entry'!AY207,IF($J$4='Marks Entry'!$BD$3,'Marks Entry'!BH207,0)))))) -> 0 | O208: =IF($J$4='Marks Entry'!$K$3,'Marks Entry'!P207,IF($J$4='Marks Entry'!$T$3,'Marks Entry'!Y207,IF($J$4='Marks Entry'!$AC$3,'Marks Entry'!AH207,IF($J$4='Marks Entry'!$AL$3,'Marks Entry'!AQ207,IF($J$4='Marks Entry'!$AU$3,'Marks Entry'!AZ207,IF($J$4='Marks Entry'!$BD$3,'Marks Entry'!BI207,0)))))) -> 0 | P208: =IF($J$4='Marks Entry'!$K$3,'Marks Entry'!Q207,IF($J$4='Marks Entry'!$T$3,'Marks Entry'!Z207,IF($J$4='Marks Entry'!$AC$3,'Marks Entry'!AI207,IF($J$4='Marks Entry'!$AL$3,'Marks Entry'!AR207,IF($J$4='Marks Entry'!$AU$3,'Marks Entry'!BA207,IF($J$4='Marks Entry'!$BD$3,'Marks Entry'!BJ207,0)))))) -> 0 | Q208: =IF($J$4='Marks Entry'!$K$3,'Marks Entry'!R207,IF($J$4='Marks Entry'!$T$3,'Marks Entry'!AA207,IF($J$4='Marks Entry'!$AC$3,'Marks Entry'!AJ207,IF($J$4='Marks Entry'!$AL$3,'Marks Entry'!AS207,IF($J$4='Marks Entry'!$AU$3,'Marks Entry'!BB207,IF($J$4='Marks Entry'!$BD$3,'Marks Entry'!BK207,0)))))) -> 0 | R208: =IF($J$4='Marks Entry'!$K$3,'Marks Entry'!S207,IF($J$4='Marks Entry'!$T$3,'Marks Entry'!AB207,IF($J$4='Marks Entry'!$AC$3,'Marks Entry'!AK207,IF($J$4='Marks Entry'!$AL$3,'Marks Entry'!AT207,IF($J$4='Marks Entry'!$AU$3,'Marks Entry'!BC207,IF($J$4='Marks Entry'!$BD$3,'Marks Entry'!BL207,0)))))) -> 0

Sheet Result Sheet
B1: Go To Marks Entry | J1: Go To All Subject List | V1: Go To All Subject List | AH1: Go To All Subject List | AT1: Go To All Subject List | BF1: Go To All Subject List | BR1: Go To All Subject List | CD1: Go To All Subject List | CM1: Go To All Subject List | CV1: Go To All Subject List
B3: ='Marks Entry'!B1:J1 -> 0 | I3: Subject→ | J3: Main Subjects | CD3: Extra Subjects
J4: ='Marks Entry'!K3 -> 0 | V4: ='Marks Entry'!T3 -> 0 | AH4: ='Marks Entry'!AC3 -> 0 | AT4: ='Marks Entry'!AL3 -> 0 | BF4: ='Marks Entry'!AU3 -> 0 | BR4: ='Marks Entry'!BD3 -> 0 | CD4: ='Marks Entry'!BM3 -> 0 | CM4: ='Marks Entry'!BV3 -> 0 | CV4: ='Marks Entry'!CE3 -> 0 | DE4: ='Marks Entry'!CN3 -> 0 | DG4: ='Marks Entry'!CP3 -> 0
B5: Sassional Marks : | F5: =IF(Master!E9="2021-22","2022",IF(Master!E9="2022-23","2023","2024")) -> 2022 | G5: Class:- | H5: =CONCATENATE('Marks Entry'!F4,'Marks Entry'!I4) -> 10(A) | I5: Subject Teacher→ | J5: ='Marks Entry'!K4 -> 0 | V5: ='Marks Entry'!T4 -> 0 | AH5: ='Marks Entry'!AC4 -> 0 | AT5: ='Marks Entry'!AL4 -> 0 | BF5: ='Marks Entry'!AU4 -> 0 | BR5: ='Marks Entry'!BD4 -> 0 | CD5: ='Marks Entry'!BM4 -> 0 | CM5: ='Marks Entry'!BV4 -> 0 | CV5: ='Marks Entry'!CE4 -> 0 | DE5: ='Marks Entry'!CN4 -> 0 | DG5: ='Marks Entry'!CP4 -> 0
B6: Student Related Basic Details | J6: 1st Test | K6: 2nd Test | L6: Total Tests | M6: Half Yearly | P6: Total Half Yearly | Q6: Total Th.+Int. Evo. | R6: Sassional Marks | S6: Yearly Exam (Board) | T6: Grand Total | U6: Grd/Div/Spacial Indi. | V6: 1st Test | W6: 2nd Test | X6: Total Tests | Y6: Half Yearly | AB6: Total Half Yearly | AC6: Total Th.+Int. Evo. | AD6: Sassional Marks | AE6: Yearly Exam (Board) | AF6: Grand Total | AG6: Grd/Div/Spacial Indi. | AH6: 1st Test | AI6: 2nd Test | AJ6: Total Tests | AK6: Half Yearly | AN6: Total Half Yearly | AO6: Total Th.+Int. Evo. | AP6: Sassional Marks | AQ6: Yearly Exam (Board) | AR6: Grand Total | AS6: Grd/Div/Spacial Indi. | AT6: 1st Test | AU6: 2nd Test | AV6: Total Tests | AW6: Half Yearly | AZ6: Total Half Yearly | BA6: Total Th.+Int. Evo. | BB6: Sassional Marks | BC6: Yearly Exam (Board) | BD6: Grand Total | BE6: Grd/Div/Spacial Indi. | BF6: 1st Test | BG6: 2nd Test | BH6: Total Tests | BI6: Half Yearly | BL6: Total Half Yearly | BM6: Total Th.+Int. Evo. | BN6: Sassional Marks | BO6: Yearly Exam (Board) | BP6: Grand Total | BQ6: Grd/Div/Spacial Indi. | BR6: 1st Test | BS6: 2nd Test | BT6: Total Tests | BU6: Half Yearly | BX6: Total Half Yearly | BY6: Total Th.+Int. Evo. | BZ6: Sassional Marks | CA6: Yearly Exam (Board) | CB6: Grand Total | CC6: Grd/Div/Spacial Indi. | CD6: 1st Test | CE6: 2nd Test | CF6: Total Tests | CG6: Half Yearly | CJ6: Total Half Yearly | CK6: Total Th.+Int. Evo. | CL6: Sassional Marks | CM6: 1st Test | CN6: 2nd Test | CO6: Total Tests | CP6: Half Yearly | CS6: Total Half Yearly | CT6: Total Th.+Int. Evo. | CU6: Sassional Marks | CV6: 1st Test | CW6: 2nd Test | CX6: Total Tests | CY6: Half Yearly | DB6: Total Half Yearly | DC6: Total Th.+Int. Evo. | DD6: Sassional Marks | DE6: PROJRCT/INTER. EVO. | DF6: Sassional Grades | DG6: PROJRCT/INTER. EVO. | DH6: Sassional Grades
B7: Sr. No. | C7: Class | D7: SR Number | E7: School Roll Number | F7: Board Roll Number | G7: Student's Name | H7: Father's Name | I7: Mother's Name | J7: Theory | K7: Theory | M7: Theory | N7: Internal Evolution | O7: Practical | V7: Theory | W7: Theory | Y7: Theory | Z7: Internal Evolution | AA7: Practical | AH7: Theory | AI7: Theory | AK7: Theory | AL7: Internal Evolution | AM7: Practical | AT7: Theory | AU7: Theory | AW7: Theory | AX7: Internal Evolution | AY7: Practical | BF7: Theory | BG7: Theory | BI7: Theory | BJ7: Internal Evolution | BK7: Practical | BR7: Theory | BS7: Theory | BU7: Theory | BV7: Internal Evolution | BW7: Practical | CD7: Theory | CE7: Theory | CG7: Theory | CH7: Internal Evolution | CI7: Practical | CM7: Theory | CN7: Theory | CP7: Theory | CQ7: Internal Evolution | CR7: Practical | CV7: Theory | CW7: Theory | CY7: Theory | CZ7: Internal Evolution | DA7: Practical
J8: ='Marks Entry'!K7 -> 20 | K8: ='Marks Entry'!L7 -> 20 | L8: ='Marks Entry'!M7 -> 40 | M8: ='Marks Entry'!N7 -> 48 | N8: ='Marks Entry'!O7 -> 12 | O8: ='Marks Entry'!P7 -> 0 | P8: ='Marks Entry'!Q7 -> 60 | Q8: ='Marks Entry'!R7 -> 100 | R8: ='Marks Entry'!S7 -> 20 | S8: 80 | T8: =R8+S8 -> 100 | V8: ='Marks Entry'!T7 -> 20 | W8: ='Marks Entry'!U7 -> 20 | X8: ='Marks Entry'!V7 -> 40 | Y8: ='Marks Entry'!W7 -> 48 | Z8: ='Marks Entry'!X7 -> 12 | AA8: ='Marks Entry'!Y7 -> 0 | AB8: ='Marks Entry'!Z7 -> 60 | AC8: ='Marks Entry'!AA7 -> 100 | AD8: ='Marks Entry'!AB7 -> 20 | AE8: 80 | AF8: =AD8+AE8 -> 100 | AH8: ='Marks Entry'!AC7 -> 20 | AI8: ='Marks Entry'!AD7 -> 20 | AJ8: ='Marks Entry'!AE7 -> 40 | AK8: ='Marks Entry'!AF7 -> 48 | AL8: ='Marks Entry'!AG7 -> 12 | AM8: ='Marks Entry'!AH7 -> 0 | AN8: ='Marks Entry'!AI7 -> 60 | AO8: ='Marks Entry'!AJ7 -> 100 | AP8: ='Marks Entry'!AK7 -> 20 | AQ8: 80 | AR8: =AP8+AQ8 -> 100 | AT8: ='Marks Entry'!AL7 -> 20 | AU8: ='Marks Entry'!AM7 -> 20 | AV8: ='Marks Entry'!AN7 -> 40 | AW8: ='Marks Entry'!AO7 -> 48 | AX8: ='Marks Entry'!AP7 -> 12 | AY8: ='Marks Entry'!AQ7 -> 0 | AZ8: ='Marks Entry'!AR7 -> 60 | BA8: ='Marks Entry'!AS7 -> 100 | BB8: ='Marks Entry'!AT7 -> 20 | BC8: 80 | BD8: =BB8+BC8 -> 100 | BF8: ='Marks Entry'!AU7 -> 20 | BG8: ='Marks Entry'!AV7 -> 20 | BH8: ='Marks Entry'!AW7 -> 40 | BI8: ='Marks Entry'!AX7 -> 48 | BJ8: ='Marks Entry'!AY7 -> 12 | BK8: ='Marks Entry'!AZ7 -> 0 | BL8: ='Marks Entry'!BA7 -> 60 | BM8: ='Marks Entry'!BB7 -> 100 | BN8: ='Marks Entry'!BC7 -> 20 | BO8: 80 | BP8: =BN8+BO8 -> 100 | BR8: ='Marks Entry'!BD7 -> 20 | BS8: ='Marks Entry'!BE7 -> 20 | BT8: ='Marks Entry'!BF7 -> 40 | BU8: ='Marks Entry'!BG7 -> 48 | BV8: ='Marks Entry'!BH7 -> 12 | BW8: ='Marks Entry'!BI7 -> 0 | BX8: ='Marks Entry'!BJ7 -> 60 | BY8: ='Marks Entry'!BK7 -> 100 | BZ8: ='Marks Entry'!BL7 -> 20 | CA8: 80 | CB8: =BZ8+CA8 -> 100 | CD8: ='Marks Entry'!BM7 -> 20 | CE8: ='Marks Entry'!BN7 -> 20 | CF8: ='Marks Entry'!BO7 -> 40 | CG8: ='Marks Entry'!BP7 -> 48 | CH8: ='Marks Entry'!BQ7 -> 12 | CI8: ='Marks Entry'!BR7 -> 0 | CJ8: ='Marks Entry'!BS7 -> 60 | CK8: ='Marks Entry'!BT7 -> 100 | ... DD8: ='Marks Entry'!CM7 -> 100 | DE8: 100 | DF8: A/B/C/D/E | DG8: 100 | DH8: A/B/C/D/E
B9: ='Marks Entry'!B8 -> 1 | C9: ='Marks Entry'!C8 -> 10 | D9: ='Marks Entry'!D8 -> 0 | E9: ='Marks Entry'!E8 -> 0 | F9: ='Marks Entry'!F8 -> 0 | G9: ='Marks Entry'!G8 -> 0 | H9: ='Marks Entry'!H8 -> 0 | I9: ='Marks Entry'!I8 -> 0 | J9: ='Marks Entry'!K8 -> 0 | K9: ='Marks Entry'!L8 -> 0 | L9: ='Marks Entry'!M8 -> 0 | M9: ='Marks Entry'!N8 -> 0 | N9: ='Marks Entry'!O8 -> 0 | O9: ='Marks Entry'!P8 -> 0 | P9: ='Marks Entry'!Q8 -> 0 | Q9: ='Marks Entry'!R8 -> 0 | R9: ='Marks Entry'!S8 -> 0 | V9: ='Marks Entry'!T8 -> 0 | W9: ='Marks Entry'!U8 -> 0 | X9: ='Marks Entry'!V8 -> 0 | Y9: ='Marks Entry'!W8 -> 0 | Z9: ='Marks Entry'!X8 -> 0 | AA9: ='Marks Entry'!Y8 -> 0 | AB9: ='Marks Entry'!Z8 -> 0 | AC9: ='Marks Entry'!AA8 -> 0 | AD9: ='Marks Entry'!AB8 -> 0 | AH9: ='Marks Entry'!AC10 -> 0 | AI9: ='Marks Entry'!AD10 -> 0 | AJ9: ='Marks Entry'!AE10 -> 0 | AK9: ='Marks Entry'!AF10 -> 0 | AL9: ='Marks Entry'!AG10 -> 0 | AM9: ='Marks Entry'!AH10 -> 0 | AN9: ='Marks Entry'!AI10 -> 0 | AO9: ='Marks Entry'!AJ10 -> 0 | AP9: ='Marks Entry'!AK10 -> 0 | AT9: ='Marks Entry'!AL8 -> 0 | AU9: ='Marks Entry'!AM8 -> 0 | AV9: ='Marks Entry'!AN8 -> 0 | AW9: ='Marks Entry'!AO8 -> 0 | AX9: ='Marks Entry'!AP8 -> 0 | AY9: ='Marks Entry'!AQ8 -> 0 | AZ9: ='Marks Entry'!AR8 -> 0 | BA9: ='Marks Entry'!AS8 -> 0 | BB9: ='Marks Entry'!AT8 -> 0 | BF9: ='Marks Entry'!AU8 -> 0 | BG9: ='Marks Entry'!AV8 -> 0 | BH9: ='Marks Entry'!AW8 -> 0 | BI9: ='Marks Entry'!AX8 -> 0 | BJ9: ='Marks Entry'!AY8 -> 0 | BK9: ='Marks Entry'!AZ8 -> 0 | BL9: ='Marks Entry'!BA8 -> 0 | BM9: ='Marks Entry'!BB8 -> 0 | BN9: ='Marks Entry'!BC8 -> 0 | BR9: ='Marks Entry'!BD8 -> 0 | BS9: ='Marks Entry'!BE8 -> 0 | BT9: ='Marks Entry'!BF8 -> 0 | BU9: ='Marks Entry'!BG8 -> 0 | BV9: ='Marks Entry'!BH8 -> 0 | BW9: ='Marks Entry'!BI8 -> 0 | BX9: ='Marks Entry'!BJ8 -> 0 | BY9: ='Marks Entry'!BK8 -> 0 | BZ9: ='Marks Entry'!BL8 -> 0 | CD9: ='Marks Entry'!BM8 -> 0 | CE9: ='Marks Entry'!BN8 -> 0 | CF9: ='Marks Entry'!BO8 -> 0 | CG9: ='Marks Entry'!BP8 -> 0 | CH9: ='Marks Entry'!BQ8 -> 0 | CI9: ='Marks Entry'!BR8 -> 0 | CJ9: ='Marks Entry'!BS8 -> 0 | CK9: ='Marks Entry'!BT8 -> 0 | ... DH9: ='Marks Entry'!CQ8 -> E
B10: ='Marks Entry'!B9 -> 2 | C10: ='Marks Entry'!C9 -> 10 | D10: ='Marks Entry'!D9 -> 0 | E10: ='Marks Entry'!E9 -> 0 | F10: ='Marks Entry'!F9 -> 0 | G10: ='Marks Entry'!G9 -> 0 | H10: ='Marks Entry'!H9 -> 0 | I10: ='Marks Entry'!I9 -> 0 | J10: ='Marks Entry'!K9 -> 0 | K10: ='Marks Entry'!L9 -> 0 | L10: ='Marks Entry'!M9 -> 0 | M10: ='Marks Entry'!N9 -> 0 | N10: ='Marks Entry'!O9 -> 0 | O10: ='Marks Entry'!P9 -> 0 | P10: ='Marks Entry'!Q9 -> 0 | Q10: ='Marks Entry'!R9 -> 0 | R10: ='Marks Entry'!S9 -> 0 | V10: ='Marks Entry'!T9 -> 0 | W10: ='Marks Entry'!U9 -> 0 | X10: ='Marks Entry'!V9 -> 0 | Y10: ='Marks Entry'!W9 -> 0 | Z10: ='Marks Entry'!X9 -> 0 | AA10: ='Marks Entry'!Y9 -> 0 | AB10: ='Marks Entry'!Z9 -> 0 | AC10: ='Marks Entry'!AA9 -> 0 | AD10: ='Marks Entry'!AB9 -> 0 | AH10: ='Marks Entry'!AC11 -> 0 | AI10: ='Marks Entry'!AD11 -> 0 | AJ10: ='Marks Entry'!AE11 -> 0 | AK10: ='Marks Entry'!AF11 -> 0 | AL10: ='Marks Entry'!AG11 -> 0 | AM10: ='Marks Entry'!AH11 -> 0 | AN10: ='Marks Entry'!AI11 -> 0 | AO10: ='Marks Entry'!AJ11 -> 0 | AP10: ='Marks Entry'!AK11 -> 0 | AT10: ='Marks Entry'!AL9 -> 0 | AU10: ='Marks Entry'!AM9 -> 0 | AV10: ='Marks Entry'!AN9 -> 0 | AW10: ='Marks Entry'!AO9 -> 0 | AX10: ='Marks Entry'!AP9 -> 0 | AY10: ='Marks Entry'!AQ9 -> 0 | AZ10: ='Marks Entry'!AR9 -> 0 | BA10: ='Marks Entry'!AS9 -> 0 | BB10: ='Marks Entry'!AT9 -> 0 | BF10: ='Marks Entry'!AU9 -> 0 | BG10: ='Marks Entry'!AV9 -> 0 | BH10: ='Marks Entry'!AW9 -> 0 | BI10: ='Marks Entry'!AX9 -> 0 | BJ10: ='Marks Entry'!AY9 -> 0 | BK10: ='Marks Entry'!AZ9 -> 0 | BL10: ='Marks Entry'!BA9 -> 0 | BM10: ='Marks Entry'!BB9 -> 0 | BN10: ='Marks Entry'!BC9 -> 0 | BR10: ='Marks Entry'!BD9 -> 0 | BS10: ='Marks Entry'!BE9 -> 0 | BT10: ='Marks Entry'!BF9 -> 0 | BU10: ='Marks Entry'!BG9 -> 0 | BV10: ='Marks Entry'!BH9 -> 0 | BW10: ='Marks Entry'!BI9 -> 0 | BX10: ='Marks Entry'!BJ9 -> 0 | BY10: ='Marks Entry'!BK9 -> 0 | BZ10: ='Marks Entry'!BL9 -> 0 | CD10: ='Marks Entry'!BM9 -> 0 | CE10: ='Marks Entry'!BN9 -> 0 | CF10: ='Marks Entry'!BO9 -> 0 | CG10: ='Marks Entry'!BP9 -> 0 | CH10: ='Marks Entry'!BQ9 -> 0 | CI10: ='Marks Entry'!BR9 -> 0 | CJ10: ='Marks Entry'!BS9 -> 0 | CK10: ='Marks Entry'!BT9 -> 0 | ... DH10: ='Marks Entry'!CQ9 -> E
B11: ='Marks Entry'!B10 -> 0 | C11: ='Marks Entry'!C10 -> 0 | D11: ='Marks Entry'!D10 -> 0 | E11: ='Marks Entry'!E10 -> 0 | F11: ='Marks Entry'!F10 -> 0 | G11: ='Marks Entry'!G10 -> 0 | H11: ='Marks Entry'!H10 -> 0 | I11: ='Marks Entry'!I10 -> 0 | J11: ='Marks Entry'!K10 -> 0 | K11: ='Marks Entry'!L10 -> 0 | L11: ='Marks Entry'!M10 -> 0 | M11: ='Marks Entry'!N10 -> 0 | N11: ='Marks Entry'!O10 -> 0 | O11: ='Marks Entry'!P10 -> 0 | P11: ='Marks Entry'!Q10 -> 0 | Q11: ='Marks Entry'!R10 -> 0 | R11: ='Marks Entry'!S10 -> 0 | V11: ='Marks Entry'!T10 -> 0 | W11: ='Marks Entry'!U10 -> 0 | X11: ='Marks Entry'!V10 -> 0 | Y11: ='Marks Entry'!W10 -> 0 | Z11: ='Marks Entry'!X10 -> 0 | AA11: ='Marks Entry'!Y10 -> 0 | AB11: ='Marks Entry'!Z10 -> 0 | AC11: ='Marks Entry'!AA10 -> 0 | AD11: ='Marks Entry'!AB10 -> 0 | AH11: ='Marks Entry'!AC12 -> 0 | AI11: ='Marks Entry'!AD12 -> 0 | AJ11: ='Marks Entry'!AE12 -> 0 | AK11: ='Marks Entry'!AF12 -> 0 | AL11: ='Marks Entry'!AG12 -> 0 | AM11: ='Marks Entry'!AH12 -> 0 | AN11: ='Marks Entry'!AI12 -> 0 | AO11: ='Marks Entry'!AJ12 -> 0 | AP11: ='Marks Entry'!AK12 -> 0 | AT11: ='Marks Entry'!AL10 -> 0 | AU11: ='Marks Entry'!AM10 -> 0 | AV11: ='Marks Entry'!AN10 -> 0 | AW11: ='Marks Entry'!AO10 -> 0 | AX11: ='Marks Entry'!AP10 -> 0 | AY11: ='Marks Entry'!AQ10 -> 0 | AZ11: ='Marks Entry'!AR10 -> 0 | BA11: ='Marks Entry'!AS10 -> 0 | BB11: ='Marks Entry'!AT10 -> 0 | BF11: ='Marks Entry'!AU10 -> 0 | BG11: ='Marks Entry'!AV10 -> 0 | BH11: ='Marks Entry'!AW10 -> 0 | BI11: ='Marks Entry'!AX10 -> 0 | BJ11: ='Marks Entry'!AY10 -> 0 | BK11: ='Marks Entry'!AZ10 -> 0 | BL11: ='Marks Entry'!BA10 -> 0 | BM11: ='Marks Entry'!BB10 -> 0 | BN11: ='Marks Entry'!BC10 -> 0 | BR11: ='Marks Entry'!BD10 -> 0 | BS11: ='Marks Entry'!BE10 -> 0 | BT11: ='Marks Entry'!BF10 -> 0 | BU11: ='Marks Entry'!BG10 -> 0 | BV11: ='Marks Entry'!BH10 -> 0 | BW11: ='Marks Entry'!BI10 -> 0 | BX11: ='Marks Entry'!BJ10 -> 0 | BY11: ='Marks Entry'!BK10 -> 0 | BZ11: ='Marks Entry'!BL10 -> 0 | CD11: ='Marks Entry'!BM10 -> 0 | CE11: ='Marks Entry'!BN10 -> 0 | CF11: ='Marks Entry'!BO10 -> 0 | CG11: ='Marks Entry'!BP10 -> 0 | CH11: ='Marks Entry'!BQ10 -> 0 | CI11: ='Marks Entry'!BR10 -> 0 | CJ11: ='Marks Entry'!BS10 -> 0 | CK11: ='Marks Entry'!BT10 -> 0 | ... DH11: ='Marks Entry'!CQ10 -> E
B12: ='Marks Entry'!B11 -> 0 | C12: ='Marks Entry'!C11 -> 0 | D12: ='Marks Entry'!D11 -> 0 | E12: ='Marks Entry'!E11 -> 0 | F12: ='Marks Entry'!F11 -> 0 | G12: ='Marks Entry'!G11 -> 0 | H12: ='Marks Entry'!H11 -> 0 | I12: ='Marks Entry'!I11 -> 0 | J12: ='Marks Entry'!K11 -> 0 | K12: ='Marks Entry'!L11 -> 0 | L12: ='Marks Entry'!M11 -> 0 | M12: ='Marks Entry'!N11 -> 0 | N12: ='Marks Entry'!O11 -> 0 | O12: ='Marks Entry'!P11 -> 0 | P12: ='Marks Entry'!Q11 -> 0 | Q12: ='Marks Entry'!R11 -> 0 | R12: ='Marks Entry'!S11 -> 0 | V12: ='Marks Entry'!T11 -> 0 | W12: ='Marks Entry'!U11 -> 0 | X12: ='Marks Entry'!V11 -> 0 | Y12: ='Marks Entry'!W11 -> 0 | Z12: ='Marks Entry'!X11 -> 0 | AA12: ='Marks Entry'!Y11 -> 0 | AB12: ='Marks Entry'!Z11 -> 0 | AC12: ='Marks Entry'!AA11 -> 0 | AD12: ='Marks Entry'!AB11 -> 0 | AH12: ='Marks Entry'!AC13 -> 0 | AI12: ='Marks Entry'!AD13 -> 0 | AJ12: ='Marks Entry'!AE13 -> 0 | AK12: ='Marks Entry'!AF13 -> 0 | AL12: ='Marks Entry'!AG13 -> 0 | AM12: ='Marks Entry'!AH13 -> 0 | AN12: ='Marks Entry'!AI13 -> 0 | AO12: ='Marks Entry'!AJ13 -> 0 | AP12: ='Marks Entry'!AK13 -> 0 | AT12: ='Marks Entry'!AL11 -> 0 | AU12: ='Marks Entry'!AM11 -> 0 | AV12: ='Marks Entry'!AN11 -> 0 | AW12: ='Marks Entry'!AO11 -> 0 | AX12: ='Marks Entry'!AP11 -> 0 | AY12: ='Marks Entry'!AQ11 -> 0 | AZ12: ='Marks Entry'!AR11 -> 0 | BA12: ='Marks Entry'!AS11 -> 0 | BB12: ='Marks Entry'!AT11 -> 0 | BF12: ='Marks Entry'!AU11 -> 0 | BG12: ='Marks Entry'!AV11 -> 0 | BH12: ='Marks Entry'!AW11 -> 0 | BI12: ='Marks Entry'!AX11 -> 0 | BJ12: ='Marks Entry'!AY11 -> 0 | BK12: ='Marks Entry'!AZ11 -> 0 | BL12: ='Marks Entry'!BA11 -> 0 | BM12: ='Marks Entry'!BB11 -> 0 | BN12: ='Marks Entry'!BC11 -> 0 | BR12: ='Marks Entry'!BD11 -> 0 | BS12: ='Marks Entry'!BE11 -> 0 | BT12: ='Marks Entry'!BF11 -> 0 | BU12: ='Marks Entry'!BG11 -> 0 | BV12: ='Marks Entry'!BH11 -> 0 | BW12: ='Marks Entry'!BI11 -> 0 | BX12: ='Marks Entry'!BJ11 -> 0 | BY12: ='Marks Entry'!BK11 -> 0 | BZ12: ='Marks Entry'!BL11 -> 0 | CD12: ='Marks Entry'!BM11 -> 0 | CE12: ='Marks Entry'!BN11 -> 0 | CF12: ='Marks Entry'!BO11 -> 0 | CG12: ='Marks Entry'!BP11 -> 0 | CH12: ='Marks Entry'!BQ11 -> 0 | CI12: ='Marks Entry'!BR11 -> 0 | CJ12: ='Marks Entry'!BS11 -> 0 | CK12: ='Marks Entry'!BT11 -> 0 | ... DH12: ='Marks Entry'!CQ11 -> E
B13: ='Marks Entry'!B12 -> 0 | C13: ='Marks Entry'!C12 -> 0 | D13: ='Marks Entry'!D12 -> 0 | E13: ='Marks Entry'!E12 -> 0 | F13: ='Marks Entry'!F12 -> 0 | G13: ='Marks Entry'!G12 -> 0 | H13: ='Marks Entry'!H12 -> 0 | I13: ='Marks Entry'!I12 -> 0 | J13: ='Marks Entry'!K12 -> 0 | K13: ='Marks Entry'!L12 -> 0 | L13: ='Marks Entry'!M12 -> 0 | M13: ='Marks Entry'!N12 -> 0 | N13: ='Marks Entry'!O12 -> 0 | O13: ='Marks Entry'!P12 -> 0 | P13: ='Marks Entry'!Q12 -> 0 | Q13: ='Marks Entry'!R12 -> 0 | R13: ='Marks Entry'!S12 -> 0 | V13: ='Marks Entry'!T12 -> 0 | W13: ='Marks Entry'!U12 -> 0 | X13: ='Marks Entry'!V12 -> 0 | Y13: ='Marks Entry'!W12 -> 0 | Z13: ='Marks Entry'!X12 -> 0 | AA13: ='Marks Entry'!Y12 -> 0 | AB13: ='Marks Entry'!Z12 -> 0 | AC13: ='Marks Entry'!AA12 -> 0 | AD13: ='Marks Entry'!AB12 -> 0 | AH13: ='Marks Entry'!AC14 -> 0 | AI13: ='Marks Entry'!AD14 -> 0 | AJ13: ='Marks Entry'!AE14 -> 0 | AK13: ='Marks Entry'!AF14 -> 0 | AL13: ='Marks Entry'!AG14 -> 0 | AM13: ='Marks Entry'!AH14 -> 0 | AN13: ='Marks Entry'!AI14 -> 0 | AO13: ='Marks Entry'!AJ14 -> 0 | AP13: ='Marks Entry'!AK14 -> 0 | AT13: ='Marks Entry'!AL12 -> 0 | AU13: ='Marks Entry'!AM12 -> 0 | AV13: ='Marks Entry'!AN12 -> 0 | AW13: ='Marks Entry'!AO12 -> 0 | AX13: ='Marks Entry'!AP12 -> 0 | AY13: ='Marks Entry'!AQ12 -> 0 | AZ13: ='Marks Entry'!AR12 -> 0 | BA13: ='Marks Entry'!AS12 -> 0 | BB13: ='Marks Entry'!AT12 -> 0 | BF13: ='Marks Entry'!AU12 -> 0 | BG13: ='Marks Entry'!AV12 -> 0 | BH13: ='Marks Entry'!AW12 -> 0 | BI13: ='Marks Entry'!AX12 -> 0 | BJ13: ='Marks Entry'!AY12 -> 0 | BK13: ='Marks Entry'!AZ12 -> 0 | BL13: ='Marks Entry'!BA12 -> 0 | BM13: ='Marks Entry'!BB12 -> 0 | BN13: ='Marks Entry'!BC12 -> 0 | BR13: ='Marks Entry'!BD12 -> 0 | BS13: ='Marks Entry'!BE12 -> 0 | BT13: ='Marks Entry'!BF12 -> 0 | BU13: ='Marks Entry'!BG12 -> 0 | BV13: ='Marks Entry'!BH12 -> 0 | BW13: ='Marks Entry'!BI12 -> 0 | BX13: ='Marks Entry'!BJ12 -> 0 | BY13: ='Marks Entry'!BK12 -> 0 | BZ13: ='Marks Entry'!BL12 -> 0 | CD13: ='Marks Entry'!BM12 -> 0 | CE13: ='Marks Entry'!BN12 -> 0 | CF13: ='Marks Entry'!BO12 -> 0 | CG13: ='Marks Entry'!BP12 -> 0 | CH13: ='Marks Entry'!BQ12 -> 0 | CI13: ='Marks Entry'!BR12 -> 0 | CJ13: ='Marks Entry'!BS12 -> 0 | CK13: ='Marks Entry'!BT12 -> 0 | ... DH13: ='Marks Entry'!CQ12 -> E
B14: ='Marks Entry'!B13 -> 0 | C14: ='Marks Entry'!C13 -> 0 | D14: ='Marks Entry'!D13 -> 0 | E14: ='Marks Entry'!E13 -> 0 | F14: ='Marks Entry'!F13 -> 0 | G14: ='Marks Entry'!G13 -> 0 | H14: ='Marks Entry'!H13 -> 0 | I14: ='Marks Entry'!I13 -> 0 | J14: ='Marks Entry'!K13 -> 0 | K14: ='Marks Entry'!L13 -> 0 | L14: ='Marks Entry'!M13 -> 0 | M14: ='Marks Entry'!N13 -> 0 | N14: ='Marks Entry'!O13 -> 0 | O14: ='Marks Entry'!P13 -> 0 | P14: ='Marks Entry'!Q13 -> 0 | Q14: ='Marks Entry'!R13 -> 0 | R14: ='Marks Entry'!S13 -> 0 | V14: ='Marks Entry'!T13 -> 0 | W14: ='Marks Entry'!U13 -> 0 | X14: ='Marks Entry'!V13 -> 0 | Y14: ='Marks Entry'!W13 -> 0 | Z14: ='Marks Entry'!X13 -> 0 | AA14: ='Marks Entry'!Y13 -> 0 | AB14: ='Marks Entry'!Z13 -> 0 | AC14: ='Marks Entry'!AA13 -> 0 | AD14: ='Marks Entry'!AB13 -> 0 | AH14: ='Marks Entry'!AC15 -> 0 | AI14: ='Marks Entry'!AD15 -> 0 | AJ14: ='Marks Entry'!AE15 -> 0 | AK14: ='Marks Entry'!AF15 -> 0 | AL14: ='Marks Entry'!AG15 -> 0 | AM14: ='Marks Entry'!AH15 -> 0 | AN14: ='Marks Entry'!AI15 -> 0 | AO14: ='Marks Entry'!AJ15 -> 0 | AP14: ='Marks Entry'!AK15 -> 0 | AT14: ='Marks Entry'!AL13 -> 0 | AU14: ='Marks Entry'!AM13 -> 0 | AV14: ='Marks Entry'!AN13 -> 0 | AW14: ='Marks Entry'!AO13 -> 0 | AX14: ='Marks Entry'!AP13 -> 0 | AY14: ='Marks Entry'!AQ13 -> 0 | AZ14: ='Marks Entry'!AR13 -> 0 | BA14: ='Marks Entry'!AS13 -> 0 | BB14: ='Marks Entry'!AT13 -> 0 | BF14: ='Marks Entry'!AU13 -> 0 | BG14: ='Marks Entry'!AV13 -> 0 | BH14: ='Marks Entry'!AW13 -> 0 | BI14: ='Marks Entry'!AX13 -> 0 | BJ14: ='Marks Entry'!AY13 -> 0 | BK14: ='Marks Entry'!AZ13 -> 0 | BL14: ='Marks Entry'!BA13 -> 0 | BM14: ='Marks Entry'!BB13 -> 0 | BN14: ='Marks Entry'!BC13 -> 0 | BR14: ='Marks Entry'!BD13 -> 0 | BS14: ='Marks Entry'!BE13 -> 0 | BT14: ='Marks Entry'!BF13 -> 0 | BU14: ='Marks Entry'!BG13 -> 0 | BV14: ='Marks Entry'!BH13 -> 0 | BW14: ='Marks Entry'!BI13 -> 0 | BX14: ='Marks Entry'!BJ13 -> 0 | BY14: ='Marks Entry'!BK13 -> 0 | BZ14: ='Marks Entry'!BL13 -> 0 | CD14: ='Marks Entry'!BM13 -> 0 | CE14: ='Marks Entry'!BN13 -> 0 | CF14: ='Marks Entry'!BO13 -> 0 | CG14: ='Marks Entry'!BP13 -> 0 | CH14: ='Marks Entry'!BQ13 -> 0 | CI14: ='Marks Entry'!BR13 -> 0 | CJ14: ='Marks Entry'!BS13 -> 0 | CK14: ='Marks Entry'!BT13 -> 0 | ... DH14: ='Marks Entry'!CQ13 -> E
B15: ='Marks Entry'!B14 -> 0 | C15: ='Marks Entry'!C14 -> 0 | D15: ='Marks Entry'!D14 -> 0 | E15: ='Marks Entry'!E14 -> 0 | F15: ='Marks Entry'!F14 -> 0 | G15: ='Marks Entry'!G14 -> 0 | H15: ='Marks Entry'!H14 -> 0 | I15: ='Marks Entry'!I14 -> 0 | J15: ='Marks Entry'!K14 -> 0 | K15: ='Marks Entry'!L14 -> 0 | L15: ='Marks Entry'!M14 -> 0 | M15: ='Marks Entry'!N14 -> 0 | N15: ='Marks Entry'!O14 -> 0 | O15: ='Marks Entry'!P14 -> 0 | P15: ='Marks Entry'!Q14 -> 0 | Q15: ='Marks Entry'!R14 -> 0 | R15: ='Marks Entry'!S14 -> 0 | V15: ='Marks Entry'!T14 -> 0 | W15: ='Marks Entry'!U14 -> 0 | X15: ='Marks Entry'!V14 -> 0 | Y15: ='Marks Entry'!W14 -> 0 | Z15: ='Marks Entry'!X14 -> 0 | AA15: ='Marks Entry'!Y14 -> 0 | AB15: ='Marks Entry'!Z14 -> 0 | AC15: ='Marks Entry'!AA14 -> 0 | AD15: ='Marks Entry'!AB14 -> 0 | AH15: ='Marks Entry'!AC16 -> 0 | AI15: ='Marks Entry'!AD16 -> 0 | AJ15: ='Marks Entry'!AE16 -> 0 | AK15: ='Marks Entry'!AF16 -> 0 | AL15: ='Marks Entry'!AG16 -> 0 | AM15: ='Marks Entry'!AH16 -> 0 | AN15: ='Marks Entry'!AI16 -> 0 | AO15: ='Marks Entry'!AJ16 -> 0 | AP15: ='Marks Entry'!AK16 -> 0 | AT15: ='Marks Entry'!AL14 -> 0 | AU15: ='Marks Entry'!AM14 -> 0 | AV15: ='Marks Entry'!AN14 -> 0 | AW15: ='Marks Entry'!AO14 -> 0 | AX15: ='Marks Entry'!AP14 -> 0 | AY15: ='Marks Entry'!AQ14 -> 0 | AZ15: ='Marks Entry'!AR14 -> 0 | BA15: ='Marks Entry'!AS14 -> 0 | BB15: ='Marks Entry'!AT14 -> 0 | BF15: ='Marks Entry'!AU14 -> 0 | BG15: ='Marks Entry'!AV14 -> 0 | BH15: ='Marks Entry'!AW14 -> 0 | BI15: ='Marks Entry'!AX14 -> 0 | BJ15: ='Marks Entry'!AY14 -> 0 | BK15: ='Marks Entry'!AZ14 -> 0 | BL15: ='Marks Entry'!BA14 -> 0 | BM15: ='Marks Entry'!BB14 -> 0 | BN15: ='Marks Entry'!BC14 -> 0 | BR15: ='Marks Entry'!BD14 -> 0 | BS15: ='Marks Entry'!BE14 -> 0 | BT15: ='Marks Entry'!BF14 -> 0 | BU15: ='Marks Entry'!BG14 -> 0 | BV15: ='Marks Entry'!BH14 -> 0 | BW15: ='Marks Entry'!BI14 -> 0 | BX15: ='Marks Entry'!BJ14 -> 0 | BY15: ='Marks Entry'!BK14 -> 0 | BZ15: ='Marks Entry'!BL14 -> 0 | CD15: ='Marks Entry'!BM14 -> 0 | CE15: ='Marks Entry'!BN14 -> 0 | CF15: ='Marks Entry'!BO14 -> 0 | CG15: ='Marks Entry'!BP14 -> 0 | CH15: ='Marks Entry'!BQ14 -> 0 | CI15: ='Marks Entry'!BR14 -> 0 | CJ15: ='Marks Entry'!BS14 -> 0 | CK15: ='Marks Entry'!BT14 -> 0 | ... DH15: ='Marks Entry'!CQ14 -> E
B16: ='Marks Entry'!B15 -> 0 | C16: ='Marks Entry'!C15 -> 0 | D16: ='Marks Entry'!D15 -> 0 | E16: ='Marks Entry'!E15 -> 0 | F16: ='Marks Entry'!F15 -> 0 | G16: ='Marks Entry'!G15 -> 0 | H16: ='Marks Entry'!H15 -> 0 | I16: ='Marks Entry'!I15 -> 0 | J16: ='Marks Entry'!K15 -> 0 | K16: ='Marks Entry'!L15 -> 0 | L16: ='Marks Entry'!M15 -> 0 | M16: ='Marks Entry'!N15 -> 0 | N16: ='Marks Entry'!O15 -> 0 | O16: ='Marks Entry'!P15 -> 0 | P16: ='Marks Entry'!Q15 -> 0 | Q16: ='Marks Entry'!R15 -> 0 | R16: ='Marks Entry'!S15 -> 0 | V16: ='Marks Entry'!T15 -> 0 | W16: ='Marks Entry'!U15 -> 0 | X16: ='Marks Entry'!V15 -> 0 | Y16: ='Marks Entry'!W15 -> 0 | Z16: ='Marks Entry'!X15 -> 0 | AA16: ='Marks Entry'!Y15 -> 0 | AB16: ='Marks Entry'!Z15 -> 0 | AC16: ='Marks Entry'!AA15 -> 0 | AD16: ='Marks Entry'!AB15 -> 0 | AH16: ='Marks Entry'!AC17 -> 0 | AI16: ='Marks Entry'!AD17 -> 0 | AJ16: ='Marks Entry'!AE17 -> 0 | AK16: ='Marks Entry'!AF17 -> 0 | AL16: ='Marks Entry'!AG17 -> 0 | AM16: ='Marks Entry'!AH17 -> 0 | AN16: ='Marks Entry'!AI17 -> 0 | AO16: ='Marks Entry'!AJ17 -> 0 | AP16: ='Marks Entry'!AK17 -> 0 | AT16: ='Marks Entry'!AL15 -> 0 | AU16: ='Marks Entry'!AM15 -> 0 | AV16: ='Marks Entry'!AN15 -> 0 | AW16: ='Marks Entry'!AO15 -> 0 | AX16: ='Marks Entry'!AP15 -> 0 | AY16: ='Marks Entry'!AQ15 -> 0 | AZ16: ='Marks Entry'!AR15 -> 0 | BA16: ='Marks Entry'!AS15 -> 0 | BB16: ='Marks Entry'!AT15 -> 0 | BF16: ='Marks Entry'!AU15 -> 0 | BG16: ='Marks Entry'!AV15 -> 0 | BH16: ='Marks Entry'!AW15 -> 0 | BI16: ='Marks Entry'!AX15 -> 0 | BJ16: ='Marks Entry'!AY15 -> 0 | BK16: ='Marks Entry'!AZ15 -> 0 | BL16: ='Marks Entry'!BA15 -> 0 | BM16: ='Marks Entry'!BB15 -> 0 | BN16: ='Marks Entry'!BC15 -> 0 | BR16: ='Marks Entry'!BD15 -> 0 | BS16: ='Marks Entry'!BE15 -> 0 | BT16: ='Marks Entry'!BF15 -> 0 | BU16: ='Marks Entry'!BG15 -> 0 | BV16: ='Marks Entry'!BH15 -> 0 | BW16: ='Marks Entry'!BI15 -> 0 | BX16: ='Marks Entry'!BJ15 -> 0 | BY16: ='Marks Entry'!BK15 -> 0 | BZ16: ='Marks Entry'!BL15 -> 0 | CD16: ='Marks Entry'!BM15 -> 0 | CE16: ='Marks Entry'!BN15 -> 0 | CF16: ='Marks Entry'!BO15 -> 0 | CG16: ='Marks Entry'!BP15 -> 0 | CH16: ='Marks Entry'!BQ15 -> 0 | CI16: ='Marks Entry'!BR15 -> 0 | CJ16: ='Marks Entry'!BS15 -> 0 | CK16: ='Marks Entry'!BT15 -> 0 | ... DH16: ='Marks Entry'!CQ15 -> E
B17: ='Marks Entry'!B16 -> 0 | C17: ='Marks Entry'!C16 -> 0 | D17: ='Marks Entry'!D16 -> 0 | E17: ='Marks Entry'!E16 -> 0 | F17: ='Marks Entry'!F16 -> 0 | G17: ='Marks Entry'!G16 -> 0 | H17: ='Marks Entry'!H16 -> 0 | I17: ='Marks Entry'!I16 -> 0 | J17: ='Marks Entry'!K16 -> 0 | K17: ='Marks Entry'!L16 -> 0 | L17: ='Marks Entry'!M16 -> 0 | M17: ='Marks Entry'!N16 -> 0 | N17: ='Marks Entry'!O16 -> 0 | O17: ='Marks Entry'!P16 -> 0 | P17: ='Marks Entry'!Q16 -> 0 | Q17: ='Marks Entry'!R16 -> 0 | R17: ='Marks Entry'!S16 -> 0 | V17: ='Marks Entry'!T16 -> 0 | W17: ='Marks Entry'!U16 -> 0 | X17: ='Marks Entry'!V16 -> 0 | Y17: ='Marks Entry'!W16 -> 0 | Z17: ='Marks Entry'!X16 -> 0 | AA17: ='Marks Entry'!Y16 -> 0 | AB17: ='Marks Entry'!Z16 -> 0 | AC17: ='Marks Entry'!AA16 -> 0 | AD17: ='Marks Entry'!AB16 -> 0 | AH17: ='Marks Entry'!AC18 -> 0 | AI17: ='Marks Entry'!AD18 -> 0 | AJ17: ='Marks Entry'!AE18 -> 0 | AK17: ='Marks Entry'!AF18 -> 0 | AL17: ='Marks Entry'!AG18 -> 0 | AM17: ='Marks Entry'!AH18 -> 0 | AN17: ='Marks Entry'!AI18 -> 0 | AO17: ='Marks Entry'!AJ18 -> 0 | AP17: ='Marks Entry'!AK18 -> 0 | AT17: ='Marks Entry'!AL16 -> 0 | AU17: ='Marks Entry'!AM16 -> 0 | AV17: ='Marks Entry'!AN16 -> 0 | AW17: ='Marks Entry'!AO16 -> 0 | AX17: ='Marks Entry'!AP16 -> 0 | AY17: ='Marks Entry'!AQ16 -> 0 | AZ17: ='Marks Entry'!AR16 -> 0 | BA17: ='Marks Entry'!AS16 -> 0 | BB17: ='Marks Entry'!AT16 -> 0 | BF17: ='Marks Entry'!AU16 -> 0 | BG17: ='Marks Entry'!AV16 -> 0 | BH17: ='Marks Entry'!AW16 -> 0 | BI17: ='Marks Entry'!AX16 -> 0 | BJ17: ='Marks Entry'!AY16 -> 0 | BK17: ='Marks Entry'!AZ16 -> 0 | BL17: ='Marks Entry'!BA16 -> 0 | BM17: ='Marks Entry'!BB16 -> 0 | BN17: ='Marks Entry'!BC16 -> 0 | BR17: ='Marks Entry'!BD16 -> 0 | BS17: ='Marks Entry'!BE16 -> 0 | BT17: ='Marks Entry'!BF16 -> 0 | BU17: ='Marks Entry'!BG16 -> 0 | BV17: ='Marks Entry'!BH16 -> 0 | BW17: ='Marks Entry'!BI16 -> 0 | BX17: ='Marks Entry'!BJ16 -> 0 | BY17: ='Marks Entry'!BK16 -> 0 | BZ17: ='Marks Entry'!BL16 -> 0 | CD17: ='Marks Entry'!BM16 -> 0 | CE17: ='Marks Entry'!BN16 -> 0 | CF17: ='Marks Entry'!BO16 -> 0 | CG17: ='Marks Entry'!BP16 -> 0 | CH17: ='Marks Entry'!BQ16 -> 0 | CI17: ='Marks Entry'!BR16 -> 0 | CJ17: ='Marks Entry'!BS16 -> 0 | CK17: ='Marks Entry'!BT16 -> 0 | ... DH17: ='Marks Entry'!CQ16 -> E
B18: ='Marks Entry'!B17 -> 0 | C18: ='Marks Entry'!C17 -> 0 | D18: ='Marks Entry'!D17 -> 0 | E18: ='Marks Entry'!E17 -> 0 | F18: ='Marks Entry'!F17 -> 0 | G18: ='Marks Entry'!G17 -> 0 | H18: ='Marks Entry'!H17 -> 0 | I18: ='Marks Entry'!I17 -> 0 | J18: ='Marks Entry'!K17 -> 0 | K18: ='Marks Entry'!L17 -> 0 | L18: ='Marks Entry'!M17 -> 0 | M18: ='Marks Entry'!N17 -> 0 | N18: ='Marks Entry'!O17 -> 0 | O18: ='Marks Entry'!P17 -> 0 | P18: ='Marks Entry'!Q17 -> 0 | Q18: ='Marks Entry'!R17 -> 0 | R18: ='Marks Entry'!S17 -> 0 | V18: ='Marks Entry'!T17 -> 0 | W18: ='Marks Entry'!U17 -> 0 | X18: ='Marks Entry'!V17 -> 0 | Y18: ='Marks Entry'!W17 -> 0 | Z18: ='Marks Entry'!X17 -> 0 | AA18: ='Marks Entry'!Y17 -> 0 | AB18: ='Marks Entry'!Z17 -> 0 | AC18: ='Marks Entry'!AA17 -> 0 | AD18: ='Marks Entry'!AB17 -> 0 | AH18: ='Marks Entry'!AC19 -> 0 | AI18: ='Marks Entry'!AD19 -> 0 | AJ18: ='Marks Entry'!AE19 -> 0 | AK18: ='Marks Entry'!AF19 -> 0 | AL18: ='Marks Entry'!AG19 -> 0 | AM18: ='Marks Entry'!AH19 -> 0 | AN18: ='Marks Entry'!AI19 -> 0 | AO18: ='Marks Entry'!AJ19 -> 0 | AP18: ='Marks Entry'!AK19 -> 0 | AT18: ='Marks Entry'!AL17 -> 0 | AU18: ='Marks Entry'!AM17 -> 0 | AV18: ='Marks Entry'!AN17 -> 0 | AW18: ='Marks Entry'!AO17 -> 0 | AX18: ='Marks Entry'!AP17 -> 0 | AY18: ='Marks Entry'!AQ17 -> 0 | AZ18: ='Marks Entry'!AR17 -> 0 | BA18: ='Marks Entry'!AS17 -> 0 | BB18: ='Marks Entry'!AT17 -> 0 | BF18: ='Marks Entry'!AU17 -> 0 | BG18: ='Marks Entry'!AV17 -> 0 | BH18: ='Marks Entry'!AW17 -> 0 | BI18: ='Marks Entry'!AX17 -> 0 | BJ18: ='Marks Entry'!AY17 -> 0 | BK18: ='Marks Entry'!AZ17 -> 0 | BL18: ='Marks Entry'!BA17 -> 0 | BM18: ='Marks Entry'!BB17 -> 0 | BN18: ='Marks Entry'!BC17 -> 0 | BR18: ='Marks Entry'!BD17 -> 0 | BS18: ='Marks Entry'!BE17 -> 0 | BT18: ='Marks Entry'!BF17 -> 0 | BU18: ='Marks Entry'!BG17 -> 0 | BV18: ='Marks Entry'!BH17 -> 0 | BW18: ='Marks Entry'!BI17 -> 0 | BX18: ='Marks Entry'!BJ17 -> 0 | BY18: ='Marks Entry'!BK17 -> 0 | BZ18: ='Marks Entry'!BL17 -> 0 | CD18: ='Marks Entry'!BM17 -> 0 | CE18: ='Marks Entry'!BN17 -> 0 | CF18: ='Marks Entry'!BO17 -> 0 | CG18: ='Marks Entry'!BP17 -> 0 | CH18: ='Marks Entry'!BQ17 -> 0 | CI18: ='Marks Entry'!BR17 -> 0 | CJ18: ='Marks Entry'!BS17 -> 0 | CK18: ='Marks Entry'!BT17 -> 0 | ... DH18: ='Marks Entry'!CQ17 -> E
B19: ='Marks Entry'!B18 -> 0 | C19: ='Marks Entry'!C18 -> 0 | D19: ='Marks Entry'!D18 -> 0 | E19: ='Marks Entry'!E18 -> 0 | F19: ='Marks Entry'!F18 -> 0 | G19: ='Marks Entry'!G18 -> 0 | H19: ='Marks Entry'!H18 -> 0 | I19: ='Marks Entry'!I18 -> 0 | J19: ='Marks Entry'!K18 -> 0 | K19: ='Marks Entry'!L18 -> 0 | L19: ='Marks Entry'!M18 -> 0 | M19: ='Marks Entry'!N18 -> 0 | N19: ='Marks Entry'!O18 -> 0 | O19: ='Marks Entry'!P18 -> 0 | P19: ='Marks Entry'!Q18 -> 0 | Q19: ='Marks Entry'!R18 -> 0 | R19: ='Marks Entry'!S18 -> 0 | V19: ='Marks Entry'!T18 -> 0 | W19: ='Marks Entry'!U18 -> 0 | X19: ='Marks Entry'!V18 -> 0 | Y19: ='Marks Entry'!W18 -> 0 | Z19: ='Marks Entry'!X18 -> 0 | AA19: ='Marks Entry'!Y18 -> 0 | AB19: ='Marks Entry'!Z18 -> 0 | AC19: ='Marks Entry'!AA18 -> 0 | AD19: ='Marks Entry'!AB18 -> 0 | AH19: ='Marks Entry'!AC20 -> 0 | AI19: ='Marks Entry'!AD20 -> 0 | AJ19: ='Marks Entry'!AE20 -> 0 | AK19: ='Marks Entry'!AF20 -> 0 | AL19: ='Marks Entry'!AG20 -> 0 | AM19: ='Marks Entry'!AH20 -> 0 | AN19: ='Marks Entry'!AI20 -> 0 | AO19: ='Marks Entry'!AJ20 -> 0 | AP19: ='Marks Entry'!AK20 -> 0 | AT19: ='Marks Entry'!AL18 -> 0 | AU19: ='Marks Entry'!AM18 -> 0 | AV19: ='Marks Entry'!AN18 -> 0 | AW19: ='Marks Entry'!AO18 -> 0 | AX19: ='Marks Entry'!AP18 -> 0 | AY19: ='Marks Entry'!AQ18 -> 0 | AZ19: ='Marks Entry'!AR18 -> 0 | BA19: ='Marks Entry'!AS18 -> 0 | BB19: ='Marks Entry'!AT18 -> 0 | BF19: ='Marks Entry'!AU18 -> 0 | BG19: ='Marks Entry'!AV18 -> 0 | BH19: ='Marks Entry'!AW18 -> 0 | BI19: ='Marks Entry'!AX18 -> 0 | BJ19: ='Marks Entry'!AY18 -> 0 | BK19: ='Marks Entry'!AZ18 -> 0 | BL19: ='Marks Entry'!BA18 -> 0 | BM19: ='Marks Entry'!BB18 -> 0 | BN19: ='Marks Entry'!BC18 -> 0 | BR19: ='Marks Entry'!BD18 -> 0 | BS19: ='Marks Entry'!BE18 -> 0 | BT19: ='Marks Entry'!BF18 -> 0 | BU19: ='Marks Entry'!BG18 -> 0 | BV19: ='Marks Entry'!BH18 -> 0 | BW19: ='Marks Entry'!BI18 -> 0 | BX19: ='Marks Entry'!BJ18 -> 0 | BY19: ='Marks Entry'!BK18 -> 0 | BZ19: ='Marks Entry'!BL18 -> 0 | CD19: ='Marks Entry'!BM18 -> 0 | CE19: ='Marks Entry'!BN18 -> 0 | CF19: ='Marks Entry'!BO18 -> 0 | CG19: ='Marks Entry'!BP18 -> 0 | CH19: ='Marks Entry'!BQ18 -> 0 | CI19: ='Marks Entry'!BR18 -> 0 | CJ19: ='Marks Entry'!BS18 -> 0 | CK19: ='Marks Entry'!BT18 -> 0 | ... DH19: ='Marks Entry'!CQ18 -> E
B20: ='Marks Entry'!B19 -> 0 | C20: ='Marks Entry'!C19 -> 0 | D20: ='Marks Entry'!D19 -> 0 | E20: ='Marks Entry'!E19 -> 0 | F20: ='Marks Entry'!F19 -> 0 | G20: ='Marks Entry'!G19 -> 0 | H20: ='Marks Entry'!H19 -> 0 | I20: ='Marks Entry'!I19 -> 0 | J20: ='Marks Entry'!K19 -> 0 | K20: ='Marks Entry'!L19 -> 0 | L20: ='Marks Entry'!M19 -> 0 | M20: ='Marks Entry'!N19 -> 0 | N20: ='Marks Entry'!O19 -> 0 | O20: ='Marks Entry'!P19 -> 0 | P20: ='Marks Entry'!Q19 -> 0 | Q20: ='Marks Entry'!R19 -> 0 | R20: ='Marks Entry'!S19 -> 0 | V20: ='Marks Entry'!T19 -> 0 | W20: ='Marks Entry'!U19 -> 0 | X20: ='Marks Entry'!V19 -> 0 | Y20: ='Marks Entry'!W19 -> 0 | Z20: ='Marks Entry'!X19 -> 0 | AA20: ='Marks Entry'!Y19 -> 0 | AB20: ='Marks Entry'!Z19 -> 0 | AC20: ='Marks Entry'!AA19 -> 0 | AD20: ='Marks Entry'!AB19 -> 0 | AH20: ='Marks Entry'!AC21 -> 0 | AI20: ='Marks Entry'!AD21 -> 0 | AJ20: ='Marks Entry'!AE21 -> 0 | AK20: ='Marks Entry'!AF21 -> 0 | AL20: ='Marks Entry'!AG21 -> 0 | AM20: ='Marks Entry'!AH21 -> 0 | AN20: ='Marks Entry'!AI21 -> 0 | AO20: ='Marks Entry'!AJ21 -> 0 | AP20: ='Marks Entry'!AK21 -> 0 | AT20: ='Marks Entry'!AL19 -> 0 | AU20: ='Marks Entry'!AM19 -> 0 | AV20: ='Marks Entry'!AN19 -> 0 | AW20: ='Marks Entry'!AO19 -> 0 | AX20: ='Marks Entry'!AP19 -> 0 | AY20: ='Marks Entry'!AQ19 -> 0 | AZ20: ='Marks Entry'!AR19 -> 0 | BA20: ='Marks Entry'!AS19 -> 0 | BB20: ='Marks Entry'!AT19 -> 0 | BF20: ='Marks Entry'!AU19 -> 0 | BG20: ='Marks Entry'!AV19 -> 0 | BH20: ='Marks Entry'!AW19 -> 0 | BI20: ='Marks Entry'!AX19 -> 0 | BJ20: ='Marks Entry'!AY19 -> 0 | BK20: ='Marks Entry'!AZ19 -> 0 | BL20: ='Marks Entry'!BA19 -> 0 | BM20: ='Marks Entry'!BB19 -> 0 | BN20: ='Marks Entry'!BC19 -> 0 | BR20: ='Marks Entry'!BD19 -> 0 | BS20: ='Marks Entry'!BE19 -> 0 | BT20: ='Marks Entry'!BF19 -> 0 | BU20: ='Marks Entry'!BG19 -> 0 | BV20: ='Marks Entry'!BH19 -> 0 | BW20: ='Marks Entry'!BI19 -> 0 | BX20: ='Marks Entry'!BJ19 -> 0 | BY20: ='Marks Entry'!BK19 -> 0 | BZ20: ='Marks Entry'!BL19 -> 0 | CD20: ='Marks Entry'!BM19 -> 0 | CE20: ='Marks Entry'!BN19 -> 0 | CF20: ='Marks Entry'!BO19 -> 0 | CG20: ='Marks Entry'!BP19 -> 0 | CH20: ='Marks Entry'!BQ19 -> 0 | CI20: ='Marks Entry'!BR19 -> 0 | CJ20: ='Marks Entry'!BS19 -> 0 | CK20: ='Marks Entry'!BT19 -> 0 | ... DH20: ='Marks Entry'!CQ19 -> E
... B208: ='Marks Entry'!B207 -> 0 | C208: ='Marks Entry'!C207 -> 0 | D208: ='Marks Entry'!D207 -> 0 | E208: ='Marks Entry'!E207 -> 0 | F208: ='Marks Entry'!F207 -> 0 | G208: ='Marks Entry'!G207 -> 0 | H208: ='Marks Entry'!H207 -> 0 | I208: ='Marks Entry'!I207 -> 0 | J208: ='Marks Entry'!K207 -> 0 | K208: ='Marks Entry'!L207 -> 0 | L208: ='Marks Entry'!M207 -> 0 | M208: ='Marks Entry'!N207 -> 0 | N208: ='Marks Entry'!O207 -> 0 | O208: ='Marks Entry'!P207 -> 0 | P208: ='Marks Entry'!Q207 -> 0 | Q208: ='Marks Entry'!R207 -> 0 | R208: ='Marks Entry'!S207 -> 0 | V208: ='Marks Entry'!T207 -> 0 | W208: ='Marks Entry'!U207 -> 0 | X208: ='Marks Entry'!V207 -> 0 | Y208: ='Marks Entry'!W207 -> 0 | Z208: ='Marks Entry'!X207 -> 0 | AA208: ='Marks Entry'!Y207 -> 0 | AB208: ='Marks Entry'!Z207 -> 0 | AC208: ='Marks Entry'!AA207 -> 0 | AD208: ='Marks Entry'!AB207 -> 0 | AH208: ='Marks Entry'!AC209 -> 0 | AI208: ='Marks Entry'!AD209 -> 0 | AJ208: ='Marks Entry'!AE209 -> 0 | AK208: ='Marks Entry'!AF209 -> 0 | AL208: ='Marks Entry'!AG209 -> 0 | AM208: ='Marks Entry'!AH209 -> 0 | AN208: ='Marks Entry'!AI209 -> 0 | AO208: ='Marks Entry'!AJ209 -> 0 | AP208: ='Marks Entry'!AK209 -> 0 | AT208: ='Marks Entry'!AL207 -> 0 | AU208: ='Marks Entry'!AM207 -> 0 | AV208: ='Marks Entry'!AN207 -> 0 | AW208: ='Marks Entry'!AO207 -> 0 | AX208: ='Marks Entry'!AP207 -> 0 | AY208: ='Marks Entry'!AQ207 -> 0 | AZ208: ='Marks Entry'!AR207 -> 0 | BA208: ='Marks Entry'!AS207 -> 0 | BB208: ='Marks Entry'!AT207 -> 0 | BF208: ='Marks Entry'!AU207 -> 0 | BG208: ='Marks Entry'!AV207 -> 0 | BH208: ='Marks Entry'!AW207 -> 0 | BI208: ='Marks Entry'!AX207 -> 0 | BJ208: ='Marks Entry'!AY207 -> 0 | BK208: ='Marks Entry'!AZ207 -> 0 | BL208: ='Marks Entry'!BA207 -> 0 | BM208: ='Marks Entry'!BB207 -> 0 | BN208: ='Marks Entry'!BC207 -> 0 | BR208: ='Marks Entry'!BD207 -> 0 | BS208: ='Marks Entry'!BE207 -> 0 | BT208: ='Marks Entry'!BF207 -> 0 | BU208: ='Marks Entry'!BG207 -> 0 | BV208: ='Marks Entry'!BH207 -> 0 | BW208: ='Marks Entry'!BI207 -> 0 | BX208: ='Marks Entry'!BJ207 -> 0 | BY208: ='Marks Entry'!BK207 -> 0 | BZ208: ='Marks Entry'!BL207 -> 0 | CD208: ='Marks Entry'!BM207 -> 0 | CE208: ='Marks Entry'!BN207 -> 0 | CF208: ='Marks Entry'!BO207 -> 0 | CG208: ='Marks Entry'!BP207 -> 0 | CH208: ='Marks Entry'!BQ207 -> 0 | CI208: ='Marks Entry'!BR207 -> 0 | CJ208: ='Marks Entry'!BS207 -> 0 | CK208: ='Marks Entry'!BT207 -> 0 | ... DH208: ='Marks Entry'!CQ207 -> E
B209: Subject | J209: =J4 -> 0 | V209: =V4 -> 0 | AH209: =AH4 -> 0 | AT209: =AT4 -> 0 | BF209: =BF4 -> 0 | BR209: =BR4 -> 0 | CD209: Overall Result | DE209: Signature Of Class Teacher
B210: Subject Teacher | J210: =J5 -> 0 | V210: =V5 -> 0 | AH210: =AH5 -> 0 | AT210: =AT5 -> 0 | BF210: =BF5 -> 0 | BR210: =BR5 -> 0 | DE210: Signature Of Exam Incharge
B211: Result Summary | J211: Total St. | L211: Ab/ NSO | M211: Enter Exam | N211: D | O211: I | P211: II | Q211: III | R211: S | S211: F | T211: Total | V211: Total St. | X211: Ab/ NSO | Y211: Enter Exam | Z211: D | AA211: I | AB211: II | AC211: III | AD211: S | AE211: F | AF211: Total | AH211: Total St. | AJ211: Ab/ NSO | AK211: Enter Exam | AL211: D | AM211: I | AN211: II | AO211: III | AP211: S | AQ211: F | AR211: Total | AT211: Total St. | AV211: Ab/ NSO | AW211: Enter Exam | AX211: D | AY211: I | AZ211: II | BA211: III | BB211: S | BC211: F | BD211: Total | BF211: Total St. | BH211: Ab/ NSO | BI211: Enter Exam | BJ211: D | BK211: I | BL211: II | BM211: III | BN211: S | BO211: F | BP211: Total | BR211: Total St. | BT211: Ab/ NSO | BU211: Enter Exam | BV211: D | BW211: I | BX211: II | BY211: III | BZ211: S | CA211: F | CB211: Total | CD211: Total Students | CG211: Ab/NSO | CJ211: Apperaed in Exam | CM211: First Div. | CP211: Second Div. | CS211: Third Div. | CV211: Supp. | CY211: Fail | DB211: Total | DE211: Seal and signature of Head Of Institution
B213: Signature Of Subject Teacher
