Workbook

Sheet Master
B2: निर्देश :- 1. यह सॉफ्टवेयर आपकी सुविधार्थ राजस्थान माध्यमिक शिक्षा बोर्ड कक्षा 10 एवं 12 दोनों के सत्रांक तैयार करने के उद्देश्य को ध्यान में रखते हुए तैयार किया गया हैl | U2: सेवा | V2: सहयोग | W2: समर्पण
B3: 2. सर्वप्रथम Master शीट में आवश्यक पूर्तियां करके Marks Entry शीट में विद्यार्थियों की जानकारी, कक्षा तथा सम्बंधित विषय एवं विषयाध्यापक का चुनाव करते हुए निर्धारित अंक भरेंl
B4: 3. All Subject शीट में सभी विषय की समेकित सत्रांक सूची तथा Subject Wise शीट में वांछित विषयवार सूची का प्रिंट प्राप्त किया जा सकता हैl
B5: नोट:- हालाँकि यह सत्रांक सॉफ्टवेयर माध्यमिक शिक्षा बोर्ड राजस्थान की कक्षा 10 एवं 12 हेतु विभागीय नियमानुसार तैयार किया गया है, फिर भी इसमें किसी मानवीय त्रुटी की स्थिति में विभागीय नियम ही सर्वमान्य होंगे, ऑनलाइन दर्ज करने से पूर्व अवश्य जाँच कर लेवेंl
B7: BOARD CLASS SASSIONAL PREPARATION PROGRAM | AB7: 2019-20 | AC7: PRIMARY
K8: Subjects | P8: Staff Detail | AB8: 2019-21 | AC8: UPPER PRIMARY
B9: SESSION | D9: :- | E9: 2021-22 | K9: Sr. No. | L9: Name | M9: Sr. No. | N9: Name | P9: Sr. No. | Q9: Name | R9: Sr. No. | S9: Name | AB9: 2019-22 | AC9: SECONDARY
K10: 1 | L10: HINDI | P10: 1 | AB10: 2019-21 | AC10: UPPER PRIMARY
B11: SCHOOL'S FULL NAME (Board Code) | D11: :- | K11: 2 | L11: ENGLISH | P11: 2
K12: 3 | L12: SCIENCE | P12: 3 | AB12: 2019-22 | AC12: SECONDARY
K13: 4 | L13: MATHEMATICS | P13: 4 | AB13: 2019-23 | AC13: SR. SECONDARY
B14: ADDRESS | D14: :- | K14: 5 | L14: SOCIAL SCIENCE | P14: 5
K15: 6 | L15: SANSKRIT | P15: 6 | U15: PREPARED BY:-UMMED TARAD | AB15: 2019-24
K16: 7 | L16: H & C RAJ.-3 | P16: 7 | AB16: 2019-23 | AC16: SR. SECONDARY
B17: U-DISE CODE | D17: :- | E17: 081100000000 | K17: 8 | L17: F.O.I.TECH.-3 | P17: 8 | AB17: 2019-24
K18: 9 | L18: SUPW & CS-3 | P18: 9 | U18: (GSSS RAIMALWADA) | AB18: 2019-25
B19: NAME OF PRINCIPAL | D19: :- | K19: 10 | L19: H & P EDU.-3 | P19: 10 | U19: MOBILE NO.-9166973141 | AB19: 2019-26
K20: 11 | L20: ART EDU.-3 | P20: 11 | U20: EMAIL ID-ummedtrdedu@gmail.com | AB20: 2019-25
B21: SCHOOL TYPE | D21: :- | E21: Sr. Secondary | K21: 12 | AB21: 2019-26
AB22: 2019-27

Sheet Marks Entry
B1: =Master!E11 -> 0 | K1: =B1 -> 0 | BM1: =B1 -> 0
B2: Print Complete Subject | H2: Print Subjectwise | K2: सम्बंधित विषय तथा विषयाध्यापक का चुनाव करें ↆ | BM2: Additional Subjects
B3: School U-Dise Code :- | F3: =Master!E17 -> 081100000000 | H3: Session :- | I3: =Master!E9 -> 2021-22
B4: Class - | F4: 10 | H4: Saction :- | I4: (A)
B5: Student Related Basic Details | K5: 1st Test | L5: 2nd Test | M5: Total Tests | N5: Half Yearly | Q5: Total Half Yeary | R5: Total Th.+Int. Evo. | S5: Sassional Marks | T5: 1st Test | U5: 2nd Test | V5: Total Tests | W5: Half Yearly | Z5: Total Half Yeary | AA5: Total Th.+Int. Evo. | AB5: Sassional Marks | AC5: 1st Test | AD5: 2nd Test | AE5: Total Tests | AF5: Half Yearly | AI5: Total Half Yearly | AJ5: Total Th.+Int. Evo. | AK5: Sassional Marks | AL5: 1st Test | AM5: 2nd Test | AN5: Total Tests | AO5: Half Yearly | AR5: Total Half Yearly | AS5: Total Th.+Int. Evo. | AT5: Sassional Marks | AU5: 1st Test | AV5: 2nd Test | AW5: Total Tests | AX5: Half Yearly | BA5: Total Half Yearly | BB5: Total Th.+Int. Evo. | BC5: Sassional Marks | BD5: 1st Test | BE5: 2nd Test | BF5: Total Tests | BG5: Half Yearly | BJ5: Total Half Yearly | BK5: Total Th.+Int. Evo. | BL5: Sassional Marks | BM5: 1st Test | BN5: 2nd Test | BO5: Total Tests | BP5: Half Yearly | BS5: Total Half Yearly | BT5: Total Th.+Int. Evo. | BU5: Sassional Marks | BV5: 1st Test | BW5: 2nd Test | BX5: Total Tests | BY5: Half Yearly | CB5: Total Half Yearly | CC5: Total Th.+Int. Evo. | CD5: Sassional Marks | CE5: 1st Test | CF5: 2nd Test | CG5: Total Tests | CH5: Half Yearly | CK5: Total Half Yearly | CL5: Total Th.+Int. Evo. | CM5: Sassional Marks | CN5: PROJRCT/INTER. EVO. | CO5: Sassional Grades | CP5: PROJRCT/INTER. EVO. | CQ5: Sassional Grades
B6: Sr. No. | C6: Class | D6: Scholar Number | E6: School Roll Number | F6: Board Roll Number | G6: Student's Name | H6: Father's Name | I6: Mother's Name | J6: Date Of Birth | K6: Theory | L6: Theory | N6: Theory | O6: Internal Evolution | T6: Theory | U6: Theory | W6: Theory | X6: Internal Evolution | AC6: Theory | AD6: Theory | AF6: Theory | AG6: Internal Evolution | AH6: Practical | AL6: Theory | AM6: Theory | AO6: Theory | AP6: Internal Evolution | AQ6: Practical | AU6: Theory | AV6: Theory | AX6: Theory | AY6: Internal Evolution | AZ6: Practical | BD6: Theory | BE6: Theory | BG6: Theory | BH6: Internal Evolution | BI6: Practical | BM6: Theory | BN6: Theory | BP6: Theory | BQ6: Internal Evolution | BR6: Practical | BV6: Theory | BW6: Theory | BY6: Theory | BZ6: Internal Evolution | CA6: Practical | CE6: Theory | CF6: Theory | CH6: Theory | CI6: Internal Evolution | CJ6: Practical
K7: 20 | L7: 20 | M7: =SUM(K7:L7) -> 40 | N7: 48 | O7: 12 | Q7: =SUM(N7:O7) -> 60 | R7: =K7+L7+N7+O7 -> 100 | S7: =IF(R7=100,20,IF(R7=86,14,6)) -> 20 | T7: 20 | U7: 20 | V7: =SUM(T7:U7) -> 40 | W7: 48 | X7: 12 | Z7: =SUM(W7:X7) -> 60 | AA7: =T7+U7+W7+X7 -> 100 | AB7: =IF(AA7=100,20,IF(AA7=86,14,6)) -> 20 | AC7: 20 | AD7: 20 | AE7: =SUM(AC7:AD7) -> 40 | AF7: 48 | AG7: 12 | AH7: =IF(AF7=34,14,IF(AF7=14,34,0)) -> 0 | AI7: =SUM(AF7,AG7,AH7) -> 60 | AJ7: =AC7+AD7+AF7+AG7 -> 100 | AK7: =IF(AJ7=100,20,IF(AJ7=86,14,6)) -> 20 | AL7: 20 | AM7: 20 | AN7: =SUM(AL7:AM7) -> 40 | AO7: 48 | AP7: 12 | AQ7: =IF(AO7=34,14,IF(AO7=14,34,0)) -> 0 | AR7: =SUM(AO7,AP7,AQ7) -> 60 | AS7: =AL7+AM7+AO7+AP7 -> 100 | AT7: =IF(AS7=100,20,IF(AS7=86,14,6)) -> 20 | AU7: 20 | AV7: 20 | AW7: =SUM(AU7:AV7) -> 40 | AX7: 48 | AY7: 12 | AZ7: =IF(AX7=34,14,IF(AX7=14,34,0)) -> 0 | BA7: =SUM(AX7,AY7,AZ7) -> 60 | BB7: =AU7+AV7+AX7+AY7 -> 100 | BC7: =IF(BB7=100,20,IF(BB7=86,14,6)) -> 20 | BD7: 20 | BE7: 20 | BF7: =SUM(BD7:BE7) -> 40 | BG7: 48 | BH7: 12 | BI7: =IF(BG7=34,14,IF(BG7=14,34,0)) -> 0 | BJ7: =SUM(BG7,BH7,BI7) -> 60 | BK7: =BD7+BE7+BG7+BH7 -> 100 | BL7: =IF(BK7=100,20,IF(BK7=86,14,6)) -> 20 | BM7: 20 | BN7: 20 | BO7: =SUM(BM7:BN7) -> 40 | BP7: 48 | BQ7: 12 | BR7: =IF(BP7=34,14,IF(BP7=14,34,0)) -> 0 | BS7: =SUM(BP7,BQ7,BR7) -> 60 | BT7: =BM7+BN7+BP7+BQ7 -> 100 | BU7: =BT7 -> 100 | BV7: 20 | BW7: 20 | BX7: =SUM(BV7:BW7) -> 40 | BY7: 48 | BZ7: 12 | CA7: =IF(BY7=34,14,IF(BY7=14,34,0)) -> 0 | CB7: =SUM(BY7,BZ7,CA7) -> 60 | CC7: =BV7+BW7+BY7+BZ7 -> 100 | CD7: =CC7 -> 100 | CE7: 20 | CF7: 20 | CG7: =SUM(CE7:CF7) -> 40 | CH7: 48 | CI7: 12 | CJ7: =IF(CH7=34,14,IF(CH7=14,34,0)) -> 0 | CK7: =SUM(CH7,CI7,CJ7) -> 60 | CL7: =CE7+CF7+CH7+CI7 -> 100 | CM7: =CL7 -> 100 | CN7: 100 | CO7: A/B/C/D/E | CP7: 100 | CQ7: A/B/C/D/E
A8: =F8 -> 0 | B8: 1 | C8: =F4 -> 10 | M8: =SUM(K8,L8) -> 0 | Q8: =SUM(N8,O8) -> 0 | R8: =K8+L8+N8+O8 -> 0 | S8: =ROUNDUP(R8*$S$7/$R$7,0) -> 0 | V8: =SUM(T8,U8) -> 0 | Z8: =SUM(W8,X8) -> 0 | AA8: =T8+U8+W8+X8 -> 0 | AB8: =ROUNDUP(AA8*$AB$7/$AA$7,0) -> 0 | AE8: =SUM(AC8,AD8) -> 0 | AH8: 0 | AI8: =SUM(AF8,AG8,AH8) -> 0 | AJ8: =AC8+AD8+AF8+AG8 -> 0 | AK8: =ROUNDUP(AJ8*$AK$7/$AJ$7,0) -> 0 | AN8: =SUM(AL8,AM8) -> 0 | AQ8: 0 | AR8: =SUM(AO8,AP8,AQ8) -> 0 | AS8: =AL8+AM8+AO8+AP8 -> 0 | AT8: =ROUNDUP(AS8*$AT$7/$AS$7,0) -> 0 | AW8: =SUM(AU8,AV8) -> 0 | AZ8: 0 | BA8: =SUM(AX8,AY8,AZ8) -> 0 | BB8: =AU8+AV8+AX8+AY8 -> 0 | BC8: =ROUNDUP(BB8*$BC$7/$BB$7,0) -> 0 | BF8: =SUM(BD8,BE8) -> 0 | BI8: 0 | BJ8: =SUM(BG8,BH8,BI8) -> 0 | BK8: =BD8+BE8+BG8+BH8 -> 0 | BL8: =ROUNDUP(BK8*$BL$7/$BK$7,0) -> 0 | BO8: =SUM(BM8,BN8) -> 0 | BR8: 0 | BS8: =SUM(BP8,BQ8,BR8) -> 0 | BT8: =BM8+BN8+BP8+BQ8 -> 0 | BU8: =BT8 -> 0 | BX8: =SUM(BV8,BW8) -> 0 | CA8: 0 | CB8: =SUM(BY8,BZ8,CA8) -> 0 | CC8: =BV8+BW8+BY8+BZ8 -> 0 | CD8: =CC8 -> 0 | CG8: =SUM(CE8,CF8) -> 0 | CJ8: 0 | CK8: =SUM(CH8,CI8,CJ8) -> 0 | CL8: =CE8+CF8+CH8+CI8 -> 0 | CM8: =CL8 -> 0 | CO8: =IF(CN8>=81,"A",IF(CN8>=61,"B",IF(CN8>=41,"C",IF(CN8>=21,"D","E")))) -> E | CQ8: =IF(CP8>=81,"A",IF(CP8>=61,"B",IF(CP8>=41,"C",IF(CP8>=21,"D","E")))) -> E
A9: =F9 -> 0 | B9: 2 | C9: =IF(B9>0,$F$4,0) -> 10 | M9: =SUM(K9,L9) -> 0 | Q9: =SUM(N9,O9) -> 0 | R9: =K9+L9+N9+O9 -> 0 | S9: =ROUNDUP(R9*$S$7/$R$7,0) -> 0 | V9: =SUM(T9,U9) -> 0 | Z9: =SUM(W9,X9) -> 0 | AA9: =T9+U9+W9+X9 -> 0 | AB9: =ROUNDUP(AA9*$AB$7/$AA$7,0) -> 0 | AE9: =SUM(AC9,AD9) -> 0 | AH9: 0 | AI9: =SUM(AF9,AG9,AH9) -> 0 | AJ9: =AC9+AD9+AF9+AG9 -> 0 | AK9: =ROUNDUP(AJ9*$AK$7/$AJ$7,0) -> 0 | AN9: =SUM(AL9,AM9) -> 0 | AQ9: 0 | AR9: =SUM(AO9,AP9,AQ9) -> 0 | AS9: =AL9+AM9+AO9+AP9 -> 0 | AT9: =ROUNDUP(AS9*$AT$7/$AS$7,0) -> 0 | AW9: =SUM(AU9,AV9) -> 0 | AZ9: 0 | BA9: =SUM(AX9,AY9,AZ9) -> 0 | BB9: =AU9+AV9+AX9+AY9 -> 0 | BC9: =ROUNDUP(BB9*$BC$7/$BB$7,0) -> 0 | BF9: =SUM(BD9,BE9) -> 0 | BI9: 0 | BJ9: =SUM(BG9,BH9,BI9) -> 0 | BK9: =BD9+BE9+BG9+BH9 -> 0 | BL9: =ROUNDUP(BK9*$BL$7/$BK$7,0) -> 0 | BO9: =SUM(BM9,BN9) -> 0 | BR9: 0 | BS9: =SUM(BP9,BQ9,BR9) -> 0 | BT9: =BM9+BN9+BP9+BQ9 -> 0 | BU9: =BT9 -> 0 | BX9: =SUM(BV9,BW9) -> 0 | CA9: 0 | CB9: =SUM(BY9,BZ9,CA9) -> 0 | CC9: =BV9+BW9+BY9+BZ9 -> 0 | CD9: =CC9 -> 0 | CG9: =SUM(CE9,CF9) -> 0 | CJ9: 0 | CK9: =SUM(CH9,CI9,CJ9) -> 0 | CL9: =CE9+CF9+CH9+CI9 -> 0 | CM9: =CL9 -> 0 | CO9: =IF(CN9>=81,"A",IF(CN9>=61,"B",IF(CN9>=41,"C",IF(CN9>=21,"D","E")))) -> E | CQ9: =IF(CP9>=81,"A",IF(CP9>=61,"B",IF(CP9>=41,"C",IF(CP9>=21,"D","E")))) -> E
A10: =F10 -> 0 | C10: =IF(B10>0,$F$4,0) -> 0 | M10: =SUM(K10,L10) -> 0 | Q10: =SUM(N10,O10) -> 0 | R10: =K10+L10+N10+O10 -> 0 | S10: =ROUNDUP(R10*$S$7/$R$7,0) -> 0 | V10: =SUM(T10,U10) -> 0 | Z10: =SUM(W10,X10) -> 0 | AA10: =T10+U10+W10+X10 -> 0 | AB10: =ROUNDUP(AA10*$AB$7/$AA$7,0) -> 0 | AE10: =SUM(AC10,AD10) -> 0 | AH10: 0 | AI10: =SUM(AF10,AG10,AH10) -> 0 | AJ10: =AC10+AD10+AF10+AG10 -> 0 | AK10: =ROUNDUP(AJ10*$AK$7/$AJ$7,0) -> 0 | AN10: =SUM(AL10,AM10) -> 0 | AQ10: 0 | AR10: =SUM(AO10,AP10,AQ10) -> 0 | AS10: =AL10+AM10+AO10+AP10 -> 0 | AT10: =ROUNDUP(AS10*$AT$7/$AS$7,0) -> 0 | AW10: =SUM(AU10,AV10) -> 0 | AZ10: 0 | BA10: =SUM(AX10,AY10,AZ10) -> 0 | BB10: =AU10+AV10+AX10+AY10 -> 0 | BC10: =ROUNDUP(BB10*$BC$7/$BB$7,0) -> 0 | BF10: =SUM(BD10,BE10) -> 0 | BI10: 0 | BJ10: =SUM(BG10,BH10,BI10) -> 0 | BK10: =BD10+BE10+BG10+BH10 -> 0 | BL10: =ROUNDUP(BK10*$BL$7/$BK$7,0) -> 0 | BO10: =SUM(BM10,BN10) -> 0 | BR10: 0 | BS10: =SUM(BP10,BQ10,BR10) -> 0 | BT10: =BM10+BN10+BP10+BQ10 -> 0 | BU10: =BT10 -> 0 | BX10: =SUM(BV10,BW10) -> 0 | CA10: 0 | CB10: =SUM(BY10,BZ10,CA10) -> 0 | CC10: =BV10+BW10+BY10+BZ10 -> 0 | CD10: =CC10 -> 0 | CG10: =SUM(CE10,CF10) -> 0 | CJ10: 0 | CK10: =SUM(CH10,CI10,CJ10) -> 0 | CL10: =CE10+CF10+CH10+CI10 -> 0 | CM10: =CL10 -> 0 | CO10: =IF(CN10>=81,"A",IF(CN10>=61,"B",IF(CN10>=41,"C",IF(CN10>=21,"D","E")))) -> E | CQ10: =IF(CP10>=81,"A",IF(CP10>=61,"B",IF(CP10>=41,"C",IF(CP10>=21,"D","E")))) -> E
A11: =F11 -> 0 | C11: =IF(B11>0,$F$4,0) -> 0 | M11: =SUM(K11,L11) -> 0 | Q11: =SUM(N11,O11) -> 0 | R11: =K11+L11+N11+O11 -> 0 | S11: =ROUNDUP(R11*$S$7/$R$7,0) -> 0 | V11: =SUM(T11,U11) -> 0 | Z11: =SUM(W11,X11) -> 0 | AA11: =T11+U11+W11+X11 -> 0 | AB11: =ROUNDUP(AA11*$AB$7/$AA$7,0) -> 0 | AE11: =SUM(AC11,AD11) -> 0 | AH11: 0 | AI11: =SUM(AF11,AG11,AH11) -> 0 | AJ11: =AC11+AD11+AF11+AG11 -> 0 | AK11: =ROUNDUP(AJ11*$AK$7/$AJ$7,0) -> 0 | AN11: =SUM(AL11,AM11) -> 0 | AQ11: 0 | AR11: =SUM(AO11,AP11,AQ11) -> 0 | AS11: =AL11+AM11+AO11+AP11 -> 0 | AT11: =ROUNDUP(AS11*$AT$7/$AS$7,0) -> 0 | AW11: =SUM(AU11,AV11) -> 0 | AZ11: 0 | BA11: =SUM(AX11,AY11,AZ11) -> 0 | BB11: =AU11+AV11+AX11+AY11 -> 0 | BC11: =ROUNDUP(BB11*$BC$7/$BB$7,0) -> 0 | BF11: =SUM(BD11,BE11) -> 0 | BI11: 0 | BJ11: =SUM(BG11,BH11,BI11) -> 0 | BK11: =BD11+BE11+BG11+BH11 -> 0 | BL11: =ROUNDUP(BK11*$BL$7/$BK$7,0) -> 0 | BO11: =SUM(BM11,BN11) -> 0 | BR11: 0 | BS11: =SUM(BP11,BQ11,BR11) -> 0 | BT11: =BM11+BN11+BP11+BQ11 -> 0 | BU11: =BT11 -> 0 | BX11: =SUM(BV11,BW11) -> 0 | CA11: 0 | CB11: =SUM(BY11,BZ11,CA11) -> 0 | CC11: =BV11+BW11+BY11+BZ11 -> 0 | CD11: =CC11 -> 0 | CG11: =SUM(CE11,CF11) -> 0 | CJ11: 0 | CK11: =SUM(CH11,CI11,CJ11) -> 0 | CL11: =CE11+CF11+CH11+CI11 -> 0 | CM11: =CL11 -> 0 | CO11: =IF(CN11>=81,"A",IF(CN11>=61,"B",IF(CN11>=41,"C",IF(CN11>=21,"D","E")))) -> E | CQ11: =IF(CP11>=81,"A",IF(CP11>=61,"B",IF(CP11>=41,"C",IF(CP11>=21,"D","E")))) -> E
A12: =F12 -> 0 | C12: =IF(B12>0,$F$4,0) -> 0 | M12: =SUM(K12,L12) -> 0 | Q12: =SUM(N12,O12) -> 0 | R12: =K12+L12+N12+O12 -> 0 | S12: =ROUNDUP(R12*$S$7/$R$7,0) -> 0 | V12: =SUM(T12,U12) -> 0 | Z12: =SUM(W12,X12) -> 0 | AA12: =T12+U12+W12+X12 -> 0 | AB12: =ROUNDUP(AA12*$AB$7/$AA$7,0) -> 0 | AE12: =SUM(AC12,AD12) -> 0 | AH12: 0 | AI12: =SUM(AF12,AG12,AH12) -> 0 | AJ12: =AC12+AD12+AF12+AG12 -> 0 | AK12: =ROUNDUP(AJ12*$AK$7/$AJ$7,0) -> 0 | AN12: =SUM(AL12,AM12) -> 0 | AQ12: 0 | AR12: =SUM(AO12,AP12,AQ12) -> 0 | AS12: =AL12+AM12+AO12+AP12 -> 0 | AT12: =ROUNDUP(AS12*$AT$7/$AS$7,0) -> 0 | AW12: =SUM(AU12,AV12) -> 0 | AZ12: 0 | BA12: =SUM(AX12,AY12,AZ12) -> 0 | BB12: =AU12+AV12+AX12+AY12 -> 0 | BC12: =ROUNDUP(BB12*$BC$7/$BB$7,0) -> 0 | BF12: =SUM(BD12,BE12) -> 0 | BI12: 0 | BJ12: =SUM(BG12,BH12,BI12) -> 0 | BK12: =BD12+BE12+BG12+BH12 -> 0 | BL12: =ROUNDUP(BK12*$BL$7/$BK$7,0) -> 0 | BO12: =SUM(BM12,BN12) -> 0 | BR12: 0 | BS12: =SUM(BP12,BQ12,BR12) -> 0 | BT12: =BM12+BN12+BP12+BQ12 -> 0 | BU12: =BT12 -> 0 | BX12: =SUM(BV12,BW12) -> 0 | CA12: 0 | CB12: =SUM(BY12,BZ12,CA12) -> 0 | CC12: =BV12+BW12+BY12+BZ12 -> 0 | CD12: =CC12 -> 0 | CG12: =SUM(CE12,CF12) -> 0 | CJ12: 0 | CK12: =SUM(CH12,CI12,CJ12) -> 0 | CL12: =CE12+CF12+CH12+CI12 -> 0 | CM12: =CL12 -> 0 | CO12: =IF(CN12>=81,"A",IF(CN12>=61,"B",IF(CN12>=41,"C",IF(CN12>=21,"D","E")))) -> E | CQ12: =IF(CP12>=81,"A",IF(CP12>=61,"B",IF(CP12>=41,"C",IF(CP12>=21,"D","E")))) -> E
A13: =F13 -> 0 | C13: =IF(B13>0,$F$4,0) -> 0 | M13: =SUM(K13,L13) -> 0 | Q13: =SUM(N13,O13) -> 0 | R13: =K13+L13+N13+O13 -> 0 | S13: =ROUNDUP(R13*$S$7/$R$7,0) -> 0 | V13: =SUM(T13,U13) -> 0 | Z13: =SUM(W13,X13) -> 0 | AA13: =T13+U13+W13+X13 -> 0 | AB13: =ROUNDUP(AA13*$AB$7/$AA$7,0) -> 0 | AE13: =SUM(AC13,AD13) -> 0 | AH13: 0 | AI13: =SUM(AF13,AG13,AH13) -> 0 | AJ13: =AC13+AD13+AF13+AG13 -> 0 | AK13: =ROUNDUP(AJ13*$AK$7/$AJ$7,0) -> 0 | AN13: =SUM(AL13,AM13) -> 0 | AQ13: 0 | AR13: =SUM(AO13,AP13,AQ13) -> 0 | AS13: =AL13+AM13+AO13+AP13 -> 0 | AT13: =ROUNDUP(AS13*$AT$7/$AS$7,0) -> 0 | AW13: =SUM(AU13,AV13) -> 0 | AZ13: 0 | BA13: =SUM(AX13,AY13,AZ13) -> 0 | BB13: =AU13+AV13+AX13+AY13 -> 0 | BC13: =ROUNDUP(BB13*$BC$7/$BB$7,0) -> 0 | BF13: =SUM(BD13,BE13) -> 0 | BI13: 0 | BJ13: =SUM(BG13,BH13,BI13) -> 0 | BK13: =BD13+BE13+BG13+BH13 -> 0 | BL13: =ROUNDUP(BK13*$BL$7/$BK$7,0) -> 0 | BO13: =SUM(BM13,BN13) -> 0 | BR13: 0 | BS13: =SUM(BP13,BQ13,BR13) -> 0 | BT13: =BM13+BN13+BP13+BQ13 -> 0 | BU13: =BT13 -> 0 | BX13: =SUM(BV13,BW13) -> 0 | CA13: 0 | CB13: =SUM(BY13,BZ13,CA13) -> 0 | CC13: =BV13+BW13+BY13+BZ13 -> 0 | CD13: =CC13 -> 0 | CG13: =SUM(CE13,CF13) -> 0 | CJ13: 0 | CK13: =SUM(CH13,CI13,CJ13) -> 0 | CL13: =CE13+CF13+CH13+CI13 -> 0 | CM13: =CL13 -> 0 | CO13: =IF(CN13>=81,"A",IF(CN13>=61,"B",IF(CN13>=41,"C",IF(CN13>=21,"D","E")))) -> E | CQ13: =IF(CP13>=81,"A",IF(CP13>=61,"B",IF(CP13>=41,"C",IF(CP13>=21,"D","E")))) -> E
A14: =F14 -> 0 | C14: =IF(B14>0,$F$4,0) -> 0 | M14: =SUM(K14,L14) -> 0 | Q14: =SUM(N14,O14) -> 0 | R14: =K14+L14+N14+O14 -> 0 | S14: =ROUNDUP(R14*$S$7/$R$7,0) -> 0 | V14: =SUM(T14,U14) -> 0 | Z14: =SUM(W14,X14) -> 0 | AA14: =T14+U14+W14+X14 -> 0 | AB14: =ROUNDUP(AA14*$AB$7/$AA$7,0) -> 0 | AE14: =SUM(AC14,AD14) -> 0 | AH14: 0 | AI14: =SUM(AF14,AG14,AH14) -> 0 | AJ14: =AC14+AD14+AF14+AG14 -> 0 | AK14: =ROUNDUP(AJ14*$AK$7/$AJ$7,0) -> 0 | AN14: =SUM(AL14,AM14) -> 0 | AQ14: 0 | AR14: =SUM(AO14,AP14,AQ14) -> 0 | AS14: =AL14+AM14+AO14+AP14 -> 0 | AT14: =ROUNDUP(AS14*$AT$7/$AS$7,0) -> 0 | AW14: =SUM(AU14,AV14) -> 0 | AZ14: 0 | BA14: =SUM(AX14,AY14,AZ14) -> 0 | BB14: =AU14+AV14+AX14+AY14 -> 0 | BC14: =ROUNDUP(BB14*$BC$7/$BB$7,0) -> 0 | BF14: =SUM(BD14,BE14) -> 0 | BI14: 0 | BJ14: =SUM(BG14,BH14,BI14) -> 0 | BK14: =BD14+BE14+BG14+BH14 -> 0 | BL14: =ROUNDUP(BK14*$BL$7/$BK$7,0) -> 0 | BO14: =SUM(BM14,BN14) -> 0 | BR14: 0 | BS14: =SUM(BP14,BQ14,BR14) -> 0 | BT14: =BM14+BN14+BP14+BQ14 -> 0 | BU14: =BT14 -> 0 | BX14: =SUM(BV14,BW14) -> 0 | CA14: 0 | CB14: =SUM(BY14,BZ14,CA14) -> 0 | CC14: =BV14+BW14+BY14+BZ14 -> 0 | CD14: =CC14 -> 0 | CG14: =SUM(CE14,CF14) -> 0 | CJ14: 0 | CK14: =SUM(CH14,CI14,CJ14) -> 0 | CL14: =CE14+CF14+CH14+CI14 -> 0 | CM14: =CL14 -> 0 | CO14: =IF(CN14>=81,"A",IF(CN14>=61,"B",IF(CN14>=41,"C",IF(CN14>=21,"D","E")))) -> E | CQ14: =IF(CP14>=81,"A",IF(CP14>=61,"B",IF(CP14>=41,"C",IF(CP14>=21,"D","E")))) -> E
A15: =F15 -> 0 | C15: =IF(B15>0,$F$4,0) -> 0 | M15: =SUM(K15,L15) -> 0 | Q15: =SUM(N15,O15) -> 0 | R15: =K15+L15+N15+O15 -> 0 | S15: =ROUNDUP(R15*$S$7/$R$7,0) -> 0 | V15: =SUM(T15,U15) -> 0 | Z15: =SUM(W15,X15) -> 0 | AA15: =T15+U15+W15+X15 -> 0 | AB15: =ROUNDUP(AA15*$AB$7/$AA$7,0) -> 0 | AE15: =SUM(AC15,AD15) -> 0 | AH15: 0 | AI15: =SUM(AF15,AG15,AH15) -> 0 | AJ15: =AC15+AD15+AF15+AG15 -> 0 | AK15: =ROUNDUP(AJ15*$AK$7/$AJ$7,0) -> 0 | AN15: =SUM(AL15,AM15) -> 0 | AQ15: 0 | AR15: =SUM(AO15,AP15,AQ15) -> 0 | AS15: =AL15+AM15+AO15+AP15 -> 0 | AT15: =ROUNDUP(AS15*$AT$7/$AS$7,0) -> 0 | AW15: =SUM(AU15,AV15) -> 0 | AZ15: 0 | BA15: =SUM(AX15,AY15,AZ15) -> 0 | BB15: =AU15+AV15+AX15+AY15 -> 0 | BC15: =ROUNDUP(BB15*$BC$7/$BB$7,0) -> 0 | BF15: =SUM(BD15,BE15) -> 0 | BI15: 0 | BJ15: =SUM(BG15,BH15,BI15) -> 0 | BK15: =BD15+BE15+BG15+BH15 -> 0 | BL15: =ROUNDUP(BK15*$BL$7/$BK$7,0) -> 0 | BO15: =SUM(BM15,BN15) -> 0 | BR15: 0 | BS15: =SUM(BP15,BQ15,BR15) -> 0 | BT15: =BM15+BN15+BP15+BQ15 -> 0 | BU15: =BT15 -> 0 | BX15: =SUM(BV15,BW15) -> 0 | CA15: 0 | CB15: =SUM(BY15,BZ15,CA15) -> 0 | CC15: =BV15+BW15+BY15+BZ15 -> 0 | CD15: =CC15 -> 0 | CG15: =SUM(CE15,CF15) -> 0 | CJ15: 0 | CK15: =SUM(CH15,CI15,CJ15) -> 0 | CL15: =CE15+CF15+CH15+CI15 -> 0 | CM15: =CL15 -> 0 | CO15: =IF(CN15>=81,"A",IF(CN15>=61,"B",IF(CN15>=41,"C",IF(CN15>=21,"D","E")))) -> E | CQ15: =IF(CP15>=81,"A",IF(CP15>=61,"B",IF(CP15>=41,"C",IF(CP15>=21,"D","E")))) -> E
A16: =F16 -> 0 | C16: =IF(B16>0,$F$4,0) -> 0 | M16: =SUM(K16,L16) -> 0 | Q16: =SUM(N16,O16) -> 0 | R16: =K16+L16+N16+O16 -> 0 | S16: =ROUNDUP(R16*$S$7/$R$7,0) -> 0 | V16: =SUM(T16,U16) -> 0 | Z16: =SUM(W16,X16) -> 0 | AA16: =T16+U16+W16+X16 -> 0 | AB16: =ROUNDUP(AA16*$AB$7/$AA$7,0) -> 0 | AE16: =SUM(AC16,AD16) -> 0 | AH16: 0 | AI16: =SUM(AF16,AG16,AH16) -> 0 | AJ16: =AC16+AD16+AF16+AG16 -> 0 | AK16: =ROUNDUP(AJ16*$AK$7/$AJ$7,0) -> 0 | AN16: =SUM(AL16,AM16) -> 0 | AQ16: 0 | AR16: =SUM(AO16,AP16,AQ16) -> 0 | AS16: =AL16+AM16+AO16+AP16 -> 0 | AT16: =ROUNDUP(AS16*$AT$7/$AS$7,0) -> 0 | AW16: =SUM(AU16,AV16) -> 0 | AZ16: 0 | BA16: =SUM(AX16,AY16,AZ16) -> 0 | BB16: =AU16+AV16+AX16+AY16 -> 0 | BC16: =ROUNDUP(BB16*$BC$7/$BB$7,0) -> 0 | BF16: =SUM(BD16,BE16) -> 0 | BI16: 0 | BJ16: =SUM(BG16,BH16,BI16) -> 0 | BK16: =BD16+BE16+BG16+BH16 -> 0 | BL16: =ROUNDUP(BK16*$BL$7/$BK$7,0) -> 0 | BO16: =SUM(BM16,BN16) -> 0 | BR16: 0 | BS16: =SUM(BP16,BQ16,BR16) -> 0 | BT16: =BM16+BN16+BP16+BQ16 -> 0 | BU16: =BT16 -> 0 | BX16: =SUM(BV16,BW16) -> 0 | CA16: 0 | CB16: =SUM(BY16,BZ16,CA16) -> 0 | CC16: =BV16+BW16+BY16+BZ16 -> 0 | CD16: =CC16 -> 0 | CG16: =SUM(CE16,CF16) -> 0 | CJ16: 0 | CK16: =SUM(CH16,CI16,CJ16) -> 0 | CL16: =CE16+CF16+CH16+CI16 -> 0 | CM16: =CL16 -> 0 | CO16: =IF(CN16>=81,"A",IF(CN16>=61,"B",IF(CN16>=41,"C",IF(CN16>=21,"D","E")))) -> E | CQ16: =IF(CP16>=81,"A",IF(CP16>=61,"B",IF(CP16>=41,"C",IF(CP16>=21,"D","E")))) -> E
A17: =F17 -> 0 | C17: =IF(B17>0,$F$4,0) -> 0 | M17: =SUM(K17,L17) -> 0 | Q17: =SUM(N17,O17) -> 0 | R17: =K17+L17+N17+O17 -> 0 | S17: =ROUNDUP(R17*$S$7/$R$7,0) -> 0 | V17: =SUM(T17,U17) -> 0 | Z17: =SUM(W17,X17) -> 0 | AA17: =T17+U17+W17+X17 -> 0 | AB17: =ROUNDUP(AA17*$AB$7/$AA$7,0) -> 0 | AE17: =SUM(AC17,AD17) -> 0 | AH17: 0 | AI17: =SUM(AF17,AG17,AH17) -> 0 | AJ17: =AC17+AD17+AF17+AG17 -> 0 | AK17: =ROUNDUP(AJ17*$AK$7/$AJ$7,0) -> 0 | AN17: =SUM(AL17,AM17) -> 0 | AQ17: 0 | AR17: =SUM(AO17,AP17,AQ17) -> 0 | AS17: =AL17+AM17+AO17+AP17 -> 0 | AT17: =ROUNDUP(AS17*$AT$7/$AS$7,0) -> 0 | AW17: =SUM(AU17,AV17) -> 0 | AZ17: 0 | BA17: =SUM(AX17,AY17,AZ17) -> 0 | BB17: =AU17+AV17+AX17+AY17 -> 0 | BC17: =ROUNDUP(BB17*$BC$7/$BB$7,0) -> 0 | BF17: =SUM(BD17,BE17) -> 0 | BI17: 0 | BJ17: =SUM(BG17,BH17,BI17) -> 0 | BK17: =BD17+BE17+BG17+BH17 -> 0 | BL17: =ROUNDUP(BK17*$BL$7/$BK$7,0) -> 0 | BO17: =SUM(BM17,BN17) -> 0 | BR17: 0 | BS17: =SUM(BP17,BQ17,BR17) -> 0 | BT17: =BM17+BN17+BP17+BQ17 -> 0 | BU17: =BT17 -> 0 | BX17: =SUM(BV17,BW17) -> 0 | CA17: 0 | CB17: =SUM(BY17,BZ17,CA17) -> 0 | CC17: =BV17+BW17+BY17+BZ17 -> 0 | CD17: =CC17 -> 0 | CG17: =SUM(CE17,CF17) -> 0 | CJ17: 0 | CK17: =SUM(CH17,CI17,CJ17) -> 0 | CL17: =CE17+CF17+CH17+CI17 -> 0 | CM17: =CL17 -> 0 | CO17: =IF(CN17>=81,"A",IF(CN17>=61,"B",IF(CN17>=41,"C",IF(CN17>=21,"D","E")))) -> E | CQ17: =IF(CP17>=81,"A",IF(CP17>=61,"B",IF(CP17>=41,"C",IF(CP17>=21,"D","E")))) -> E
A18: =F18 -> 0 | C18: =IF(B18>0,$F$4,0) -> 0 | M18: =SUM(K18,L18) -> 0 | Q18: =SUM(N18,O18) -> 0 | R18: =K18+L18+N18+O18 -> 0 | S18: =ROUNDUP(R18*$S$7/$R$7,0) -> 0 | V18: =SUM(T18,U18) -> 0 | Z18: =SUM(W18,X18) -> 0 | AA18: =T18+U18+W18+X18 -> 0 | AB18: =ROUNDUP(AA18*$AB$7/$AA$7,0) -> 0 | AE18: =SUM(AC18,AD18) -> 0 | AH18: 0 | AI18: =SUM(AF18,AG18,AH18) -> 0 | AJ18: =AC18+AD18+AF18+AG18 -> 0 | AK18: =ROUNDUP(AJ18*$AK$7/$AJ$7,0) -> 0 | AN18: =SUM(AL18,AM18) -> 0 | AQ18: 0 | AR18: =SUM(AO18,AP18,AQ18) -> 0 | AS18: =AL18+AM18+AO18+AP18 -> 0 | AT18: =ROUNDUP(AS18*$AT$7/$AS$7,0) -> 0 | AW18: =SUM(AU18,AV18) -> 0 | AZ18: 0 | BA18: =SUM(AX18,AY18,AZ18) -> 0 | BB18: =AU18+AV18+AX18+AY18 -> 0 | BC18: =ROUNDUP(BB18*$BC$7/$BB$7,0) -> 0 | BF18: =SUM(BD18,BE18) -> 0 | BI18: 0 | BJ18: =SUM(BG18,BH18,BI18) -> 0 | BK18: =BD18+BE18+BG18+BH18 -> 0 | BL18: =ROUNDUP(BK18*$BL$7/$BK$7,0) -> 0 | BO18: =SUM(BM18,BN18) -> 0 | BR18: 0 | BS18: =SUM(BP18,BQ18,BR18) -> 0 | BT18: =BM18+BN18+BP18+BQ18 -> 0 | BU18: =BT18 -> 0 | BX18: =SUM(BV18,BW18) -> 0 | CA18: 0 | CB18: =SUM(BY18,BZ18,CA18) -> 0 | CC18: =BV18+BW18+BY18+BZ18 -> 0 | CD18: =CC18 -> 0 | CG18: =SUM(CE18,CF18) -> 0 | CJ18: 0 | CK18: =SUM(CH18,CI18,CJ18) -> 0 | CL18: =CE18+CF18+CH18+CI18 -> 0 | CM18: =CL18 -> 0 | CO18: =IF(CN18>=81,"A",IF(CN18>=61,"B",IF(CN18>=41,"C",IF(CN18>=21,"D","E")))) -> E | CQ18: =IF(CP18>=81,"A",IF(CP18>=61,"B",IF(CP18>=41,"C",IF(CP18>=21,"D","E")))) -> E
A19: =F19 -> 0 | C19: =IF(B19>0,$F$4,0) -> 0 | M19: =SUM(K19,L19) -> 0 | Q19: =SUM(N19,O19) -> 0 | R19: =K19+L19+N19+O19 -> 0 | S19: =ROUNDUP(R19*$S$7/$R$7,0) -> 0 | V19: =SUM(T19,U19) -> 0 | Z19: =SUM(W19,X19) -> 0 | AA19: =T19+U19+W19+X19 -> 0 | AB19: =ROUNDUP(AA19*$AB$7/$AA$7,0) -> 0 | AE19: =SUM(AC19,AD19) -> 0 | AH19: 0 | AI19: =SUM(AF19,AG19,AH19) -> 0 | AJ19: =AC19+AD19+AF19+AG19 -> 0 | AK19: =ROUNDUP(AJ19*$AK$7/$AJ$7,0) -> 0 | AN19: =SUM(AL19,AM19) -> 0 | AQ19: 0 | AR19: =SUM(AO19,AP19,AQ19) -> 0 | AS19: =AL19+AM19+AO19+AP19 -> 0 | AT19: =ROUNDUP(AS19*$AT$7/$AS$7,0) -> 0 | AW19: =SUM(AU19,AV19) -> 0 | AZ19: 0 | BA19: =SUM(AX19,AY19,AZ19) -> 0 | BB19: =AU19+AV19+AX19+AY19 -> 0 | BC19: =ROUNDUP(BB19*$BC$7/$BB$7,0) -> 0 | BF19: =SUM(BD19,BE19) -> 0 | BI19: 0 | BJ19: =SUM(BG19,BH19,BI19) -> 0 | BK19: =BD19+BE19+BG19+BH19 -> 0 | BL19: =ROUNDUP(BK19*$BL$7/$BK$7,0) -> 0 | BO19: =SUM(BM19,BN19) -> 0 | BR19: 0 | BS19: =SUM(BP19,BQ19,BR19) -> 0 | BT19: =BM19+BN19+BP19+BQ19 -> 0 | BU19: =BT19 -> 0 | BX19: =SUM(BV19,BW19) -> 0 | CA19: 0 | CB19: =SUM(BY19,BZ19,CA19) -> 0 | CC19: =BV19+BW19+BY19+BZ19 -> 0 | CD19: =CC19 -> 0 | CG19: =SUM(CE19,CF19) -> 0 | CJ19: 0 | CK19: =SUM(CH19,CI19,CJ19) -> 0 | CL19: =CE19+CF19+CH19+CI19 -> 0 | CM19: =CL19 -> 0 | CO19: =IF(CN19>=81,"A",IF(CN19>=61,"B",IF(CN19>=41,"C",IF(CN19>=21,"D","E")))) -> E | CQ19: =IF(CP19>=81,"A",IF(CP19>=61,"B",IF(CP19>=41,"C",IF(CP19>=21,"D","E")))) -> E
A20: =F20 -> 0 | C20: =IF(B20>0,$F$4,0) -> 0 | M20: =SUM(K20,L20) -> 0 | Q20: =SUM(N20,O20) -> 0 | R20: =K20+L20+N20+O20 -> 0 | S20: =ROUNDUP(R20*$S$7/$R$7,0) -> 0 | V20: =SUM(T20,U20) -> 0 | Z20: =SUM(W20,X20) -> 0 | AA20: =T20+U20+W20+X20 -> 0 | AB20: =ROUNDUP(AA20*$AB$7/$AA$7,0) -> 0 | AE20: =SUM(AC20,AD20) -> 0 | AH20: 0 | AI20: =SUM(AF20,AG20,AH20) -> 0 | AJ20: =AC20+AD20+AF20+AG20 -> 0 | AK20: =ROUNDUP(AJ20*$AK$7/$AJ$7,0) -> 0 | AN20: =SUM(AL20,AM20) -> 0 | AQ20: 0 | AR20: =SUM(AO20,AP20,AQ20) -> 0 | AS20: =AL20+AM20+AO20+AP20 -> 0 | AT20: =ROUNDUP(AS20*$AT$7/$AS$7,0) -> 0 | AW20: =SUM(AU20,AV20) -> 0 | AZ20: 0 | BA20: =SUM(AX20,AY20,AZ20) -> 0 | BB20: =AU20+AV20+AX20+AY20 -> 0 | BC20: =ROUNDUP(BB20*$BC$7/$BB$7,0) -> 0 | BF20: =SUM(BD20,BE20) -> 0 | BI20: 0 | BJ20: =SUM(BG20,BH20,BI20) -> 0 | BK20: =BD20+BE20+BG20+BH20 -> 0 | BL20: =ROUNDUP(BK20*$BL$7/$BK$7,0) -> 0 | BO20: =SUM(BM20,BN20) -> 0 | BR20: 0 | BS20: =SUM(BP20,BQ20,BR20) -> 0 | BT20: =BM20+BN20+BP20+BQ20 -> 0 | BU20: =BT20 -> 0 | BX20: =SUM(BV20,BW20) -> 0 | CA20: 0 | CB20: =SUM(BY20,BZ20,CA20) -> 0 | CC20: =BV20+BW20+BY20+BZ20 -> 0 | CD20: =CC20 -> 0 | CG20: =SUM(CE20,CF20) -> 0 | CJ20: 0 | CK20: =SUM(CH20,CI20,CJ20) -> 0 | CL20: =CE20+CF20+CH20+CI20 -> 0 | CM20: =CL20 -> 0 | CO20: =IF(CN20>=81,"A",IF(CN20>=61,"B",IF(CN20>=41,"C",IF(CN20>=21,"D","E")))) -> E | CQ20: =IF(CP20>=81,"A",IF(CP20>=61,"B",IF(CP20>=41,"C",IF(CP20>=21,"D","E")))) -> E
A21: =F21 -> 0 | C21: =IF(B21>0,$F$4,0) -> 0 | M21: =SUM(K21,L21) -> 0 | Q21: =SUM(N21,O21) -> 0 | R21: =K21+L21+N21+O21 -> 0 | S21: =ROUNDUP(R21*$S$7/$R$7,0) -> 0 | V21: =SUM(T21,U21) -> 0 | Z21: =SUM(W21,X21) -> 0 | AA21: =T21+U21+W21+X21 -> 0 | AB21: =ROUNDUP(AA21*$AB$7/$AA$7,0) -> 0 | AE21: =SUM(AC21,AD21) -> 0 | AH21: 0 | AI21: =SUM(AF21,AG21,AH21) -> 0 | AJ21: =AC21+AD21+AF21+AG21 -> 0 | AK21: =ROUNDUP(AJ21*$AK$7/$AJ$7,0) -> 0 | AN21: =SUM(AL21,AM21) -> 0 | AQ21: 0 | AR21: =SUM(AO21,AP21,AQ21) -> 0 | AS21: =AL21+AM21+AO21+AP21 -> 0 | AT21: =ROUNDUP(AS21*$AT$7/$AS$7,0) -> 0 | AW21: =SUM(AU21,AV21) -> 0 | AZ21: 0 | BA21: =SUM(AX21,AY21,AZ21) -> 0 | BB21: =AU21+AV21+AX21+AY21 -> 0 | BC21: =ROUNDUP(BB21*$BC$7/$BB$7,0) -> 0 | BF21: =SUM(BD21,BE21) -> 0 | BI21: 0 | BJ21: =SUM(BG21,BH21,BI21) -> 0 | BK21: =BD21+BE21+BG21+BH21 -> 0 | BL21: =ROUNDUP(BK21*$BL$7/$BK$7,0) -> 0 | BO21: =SUM(BM21,BN21) -> 0 | BR21: 0 | BS21: =SUM(BP21,BQ21,BR21) -> 0 | BT21: =BM21+BN21+BP21+BQ21 -> 0 | BU21: =BT21 -> 0 | BX21: =SUM(BV21,BW21) -> 0 | CA21: 0 | CB21: =SUM(BY21,BZ21,CA21) -> 0 | CC21: =BV21+BW21+BY21+BZ21 -> 0 | CD21: =CC21 -> 0 | CG21: =SUM(CE21,CF21) -> 0 | CJ21: 0 | CK21: =SUM(CH21,CI21,CJ21) -> 0 | CL21: =CE21+CF21+CH21+CI21 -> 0 | CM21: =CL21 -> 0 | CO21: =IF(CN21>=81,"A",IF(CN21>=61,"B",IF(CN21>=41,"C",IF(CN21>=21,"D","E")))) -> E | CQ21: =IF(CP21>=81,"A",IF(CP21>=61,"B",IF(CP21>=41,"C",IF(CP21>=21,"D","E")))) -> E
... A99: =F99 -> 0 | C99: =IF(B99>0,$F$4,0) -> 0 | M99: =SUM(K99,L99) -> 0 | Q99: =SUM(N99,O99) -> 0 | R99: =K99+L99+N99+O99 -> 0 | S99: =ROUNDUP(R99*$S$7/$R$7,0) -> 0 | V99: =SUM(T99,U99) -> 0 | Z99: =SUM(W99,X99) -> 0 | AA99: =T99+U99+W99+X99 -> 0 | AB99: =ROUNDUP(AA99*$AB$7/$AA$7,0) -> 0 | AE99: =SUM(AC99,AD99) -> 0 | AH99: 0 | AI99: =SUM(AF99,AG99,AH99) -> 0 | AJ99: =AC99+AD99+AF99+AG99 -> 0 | AK99: =ROUNDUP(AJ99*$AK$7/$AJ$7,0) -> 0 | AN99: =SUM(AL99,AM99) -> 0 | AQ99: 0 | AR99: =SUM(AO99,AP99,AQ99) -> 0 | AS99: =AL99+AM99+AO99+AP99 -> 0 | AT99: =ROUNDUP(AS99*$AT$7/$AS$7,0) -> 0 | AW99: =SUM(AU99,AV99) -> 0 | AZ99: 0 | BA99: =SUM(AX99,AY99,AZ99) -> 0 | BB99: =AU99+AV99+AX99+AY99 -> 0 | BC99: =ROUNDUP(BB99*$BC$7/$BB$7,0) -> 0 | BF99: =SUM(BD99,BE99) -> 0 | BI99: 0 | BJ99: =SUM(BG99,BH99,BI99) -> 0 | BK99: =BD99+BE99+BG99+BH99 -> 0 | BL99: =ROUNDUP(BK99*$BL$7/$BK$7,0) -> 0 | BO99: =SUM(BM99,BN99) -> 0 | BR99: 0 | BS99: =SUM(BP99,BQ99,BR99) -> 0 | BT99: =BM99+BN99+BP99+BQ99 -> 0 | BU99: =BT99 -> 0 | BX99: =SUM(BV99,BW99) -> 0 | CA99: 0 | CB99: =SUM(BY99,BZ99,CA99) -> 0 | CC99: =BV99+BW99+BY99+BZ99 -> 0 | CD99: =CC99 -> 0 | CG99: =SUM(CE99,CF99) -> 0 | CJ99: 0 | CK99: =SUM(CH99,CI99,CJ99) -> 0 | CL99: =CE99+CF99+CH99+CI99 -> 0 | CM99: =CL99 -> 0 | CO99: =IF(CN99>=81,"A",IF(CN99>=61,"B",IF(CN99>=41,"C",IF(CN99>=21,"D","E")))) -> E | CQ99: =IF(CP99>=81,"A",IF(CP99>=61,"B",IF(CP99>=41,"C",IF(CP99>=21,"D","E")))) -> E
A100: =F100 -> 0 | C100: =IF(B100>0,$F$4,0) -> 0 | M100: =SUM(K100,L100) -> 0 | N100: 0 | O100: 0 | Q100: =SUM(N100,O100) -> 0 | R100: =K100+L100+N100+O100 -> 0 | S100: =ROUNDUP(R100*$S$7/$R$7,0) -> 0 | V100: =SUM(T100,U100) -> 0 | W100: 0 | X100: 0 | Z100: =SUM(W100,X100) -> 0 | AA100: =T100+U100+W100+X100 -> 0 | AB100: =ROUNDUP(AA100*$AB$7/$AA$7,0) -> 0 | AE100: =SUM(AC100,AD100) -> 0 | AF100: 0 | AG100: 0 | AH100: 0 | AI100: =SUM(AF100,AG100,AH100) -> 0 | AJ100: =AC100+AD100+AF100+AG100 -> 0 | AK100: =ROUNDUP(AJ100*$AK$7/$AJ$7,0) -> 0 | AN100: =SUM(AL100,AM100) -> 0 | AO100: 0 | AP100: 0 | AQ100: 0 | AR100: =SUM(AO100,AP100,AQ100) -> 0 | AS100: =AL100+AM100+AO100+AP100 -> 0 | AT100: =ROUNDUP(AS100*$AT$7/$AS$7,0) -> 0 | AW100: =SUM(AU100,AV100) -> 0 | AX100: 0 | AY100: 0 | AZ100: 0 | BA100: =SUM(AX100,AY100,AZ100) -> 0 | BB100: =AU100+AV100+AX100+AY100 -> 0 | BC100: =ROUNDUP(BB100*$BC$7/$BB$7,0) -> 0 | BF100: =SUM(BD100,BE100) -> 0 | BG100: 0 | BH100: 0 | BI100: 0 | BJ100: =SUM(BG100,BH100,BI100) -> 0 | BK100: =BD100+BE100+BG100+BH100 -> 0 | BL100: =ROUNDUP(BK100*$BL$7/$BK$7,0) -> 0 | BM100: 0 | BN100: 0 | BO100: =SUM(BM100,BN100) -> 0 | BP100: 0 | BQ100: 0 | BR100: 0 | BS100: =SUM(BP100,BQ100,BR100) -> 0 | BT100: =BM100+BN100+BP100+BQ100 -> 0 | BU100: =BT100 -> 0 | BV100: 0 | BW100: 0 | BX100: =SUM(BV100,BW100) -> 0 | BY100: 0 | BZ100: 0 | CA100: 0 | CB100: =SUM(BY100,BZ100,CA100) -> 0 | CC100: =BV100+BW100+BY100+BZ100 -> 0 | CD100: =CC100 -> 0 | CE100: 0 | CF100: 0 | CG100: =SUM(CE100,CF100) -> 0 | CH100: 0 | CI100: 0 | CJ100: 0 | CK100: =SUM(CH100,CI100,CJ100) -> 0 | CL100: =CE100+CF100+CH100+CI100 -> 0 | CM100: =CL100 -> 0 | CO100: =IF(CN100>=81,"A",IF(CN100>=61,"B",IF(CN100>=41,"C",IF(CN100>=21,"D","E")))) -> E | CQ100: =IF(CP100>=81,"A",IF(CP100>=61,"B",IF(CP100>=41,"C",IF(CP100>=21,"D","E")))) -> E
A101: =F101 -> 0 | C101: =IF(B101>0,$F$4,0) -> 0 | M101: =SUM(K101,L101) -> 0 | N101: 0 | O101: 0 | Q101: =SUM(N101,O101) -> 0 | R101: =K101+L101+N101+O101 -> 0 | S101: =ROUNDUP(R101*$S$7/$R$7,0) -> 0 | V101: =SUM(T101,U101) -> 0 | W101: 0 | X101: 0 | Z101: =SUM(W101,X101) -> 0 | AA101: =T101+U101+W101+X101 -> 0 | AB101: =ROUNDUP(AA101*$AB$7/$AA$7,0) -> 0 | AE101: =SUM(AC101,AD101) -> 0 | AF101: 0 | AG101: 0 | AH101: 0 | AI101: =SUM(AF101,AG101,AH101) -> 0 | AJ101: =AC101+AD101+AF101+AG101 -> 0 | AK101: =ROUNDUP(AJ101*$AK$7/$AJ$7,0) -> 0 | AN101: =SUM(AL101,AM101) -> 0 | AO101: 0 | AP101: 0 | AQ101: 0 | AR101: =SUM(AO101,AP101,AQ101) -> 0 | AS101: =AL101+AM101+AO101+AP101 -> 0 | AT101: =ROUNDUP(AS101*$AT$7/$AS$7,0) -> 0 | AW101: =SUM(AU101,AV101) -> 0 | AX101: 0 | AY101: 0 | AZ101: 0 | BA101: =SUM(AX101,AY101,AZ101) -> 0 | BB101: =AU101+AV101+AX101+AY101 -> 0 | BC101: =ROUNDUP(BB101*$BC$7/$BB$7,0) -> 0 | BF101: =SUM(BD101,BE101) -> 0 | BG101: 0 | BH101: 0 | BI101: 0 | BJ101: =SUM(BG101,BH101,BI101) -> 0 | BK101: =BD101+BE101+BG101+BH101 -> 0 | BL101: =ROUNDUP(BK101*$BL$7/$BK$7,0) -> 0 | BM101: 0 | BN101: 0 | BO101: =SUM(BM101,BN101) -> 0 | BP101: 0 | BQ101: 0 | BR101: 0 | BS101: =SUM(BP101,BQ101,BR101) -> 0 | BT101: =BM101+BN101+BP101+BQ101 -> 0 | BU101: =BT101 -> 0 | BV101: 0 | BW101: 0 | BX101: =SUM(BV101,BW101) -> 0 | BY101: 0 | BZ101: 0 | CA101: 0 | CB101: =SUM(BY101,BZ101,CA101) -> 0 | CC101: =BV101+BW101+BY101+BZ101 -> 0 | CD101: =CC101 -> 0 | CE101: 0 | CF101: 0 | CG101: =SUM(CE101,CF101) -> 0 | CH101: 0 | CI101: 0 | CJ101: 0 | CK101: =SUM(CH101,CI101,CJ101) -> 0 | CL101: =CE101+CF101+CH101+CI101 -> 0 | CM101: =CL101 -> 0 | CO101: =IF(CN101>=81,"A",IF(CN101>=61,"B",IF(CN101>=41,"C",IF(CN101>=21,"D","E")))) -> E | CQ101: =IF(CP101>=81,"A",IF(CP101>=61,"B",IF(CP101>=41,"C",IF(CP101>=21,"D","E")))) -> E
A102: =F102 -> 0 | C102: =IF(B102>0,$F$4,0) -> 0 | M102: =SUM(K102,L102) -> 0 | N102: 0 | O102: 0 | Q102: =SUM(N102,O102) -> 0 | R102: =K102+L102+N102+O102 -> 0 | S102: =ROUNDUP(R102*$S$7/$R$7,0) -> 0 | V102: =SUM(T102,U102) -> 0 | W102: 0 | X102: 0 | Z102: =SUM(W102,X102) -> 0 | AA102: =T102+U102+W102+X102 -> 0 | AB102: =ROUNDUP(AA102*$AB$7/$AA$7,0) -> 0 | AE102: =SUM(AC102,AD102) -> 0 | AF102: 0 | AG102: 0 | AH102: 0 | AI102: =SUM(AF102,AG102,AH102) -> 0 | AJ102: =AC102+AD102+AF102+AG102 -> 0 | AK102: =ROUNDUP(AJ102*$AK$7/$AJ$7,0) -> 0 | AN102: =SUM(AL102,AM102) -> 0 | AO102: 0 | AP102: 0 | AQ102: 0 | AR102: =SUM(AO102,AP102,AQ102) -> 0 | AS102: =AL102+AM102+AO102+AP102 -> 0 | AT102: =ROUNDUP(AS102*$AT$7/$AS$7,0) -> 0 | AW102: =SUM(AU102,AV102) -> 0 | AX102: 0 | AY102: 0 | AZ102: 0 | BA102: =SUM(AX102,AY102,AZ102) -> 0 | BB102: =AU102+AV102+AX102+AY102 -> 0 | BC102: =ROUNDUP(BB102*$BC$7/$BB$7,0) -> 0 | BF102: =SUM(BD102,BE102) -> 0 | BG102: 0 | BH102: 0 | BI102: 0 | BJ102: =SUM(BG102,BH102,BI102) -> 0 | BK102: =BD102+BE102+BG102+BH102 -> 0 | BL102: =ROUNDUP(BK102*$BL$7/$BK$7,0) -> 0 | BM102: 0 | BN102: 0 | BO102: =SUM(BM102,BN102) -> 0 | BP102: 0 | BQ102: 0 | BR102: 0 | BS102: =SUM(BP102,BQ102,BR102) -> 0 | BT102: =BM102+BN102+BP102+BQ102 -> 0 | BU102: =BT102 -> 0 | BV102: 0 | BW102: 0 | BX102: =SUM(BV102,BW102) -> 0 | BY102: 0 | BZ102: 0 | CA102: 0 | CB102: =SUM(BY102,BZ102,CA102) -> 0 | CC102: =BV102+BW102+BY102+BZ102 -> 0 | CD102: =CC102 -> 0 | CE102: 0 | CF102: 0 | CG102: =SUM(CE102,CF102) -> 0 | CH102: 0 | CI102: 0 | CJ102: 0 | CK102: =SUM(CH102,CI102,CJ102) -> 0 | CL102: =CE102+CF102+CH102+CI102 -> 0 | CM102: =CL102 -> 0 | CO102: =IF(CN102>=81,"A",IF(CN102>=61,"B",IF(CN102>=41,"C",IF(CN102>=21,"D","E")))) -> E | CQ102: =IF(CP102>=81,"A",IF(CP102>=61,"B",IF(CP102>=41,"C",IF(CP102>=21,"D","E")))) -> E
A103: =F103 -> 0 | C103: =IF(B103>0,$F$4,0) -> 0 | M103: =SUM(K103,L103) -> 0 | N103: 0 | O103: 0 | Q103: =SUM(N103,O103) -> 0 | R103: =K103+L103+N103+O103 -> 0 | S103: =ROUNDUP(R103*$S$7/$R$7,0) -> 0 | V103: =SUM(T103,U103) -> 0 | W103: 0 | X103: 0 | Z103: =SUM(W103,X103) -> 0 | AA103: =T103+U103+W103+X103 -> 0 | AB103: =ROUNDUP(AA103*$AB$7/$AA$7,0) -> 0 | AE103: =SUM(AC103,AD103) -> 0 | AF103: 0 | AG103: 0 | AH103: 0 | AI103: =SUM(AF103,AG103,AH103) -> 0 | AJ103: =AC103+AD103+AF103+AG103 -> 0 | AK103: =ROUNDUP(AJ103*$AK$7/$AJ$7,0) -> 0 | AN103: =SUM(AL103,AM103) -> 0 | AO103: 0 | AP103: 0 | AQ103: 0 | AR103: =SUM(AO103,AP103,AQ103) -> 0 | AS103: =AL103+AM103+AO103+AP103 -> 0 | AT103: =ROUNDUP(AS103*$AT$7/$AS$7,0) -> 0 | AW103: =SUM(AU103,AV103) -> 0 | AX103: 0 | AY103: 0 | AZ103: 0 | BA103: =SUM(AX103,AY103,AZ103) -> 0 | BB103: =AU103+AV103+AX103+AY103 -> 0 | BC103: =ROUNDUP(BB103*$BC$7/$BB$7,0) -> 0 | BF103: =SUM(BD103,BE103) -> 0 | BG103: 0 | BH103: 0 | BI103: 0 | BJ103: =SUM(BG103,BH103,BI103) -> 0 | BK103: =BD103+BE103+BG103+BH103 -> 0 | BL103: =ROUNDUP(BK103*$BL$7/$BK$7,0) -> 0 | BM103: 0 | BN103: 0 | BO103: =SUM(BM103,BN103) -> 0 | BP103: 0 | BQ103: 0 | BR103: 0 | BS103: =SUM(BP103,BQ103,BR103) -> 0 | BT103: =BM103+BN103+BP103+BQ103 -> 0 | BU103: =BT103 -> 0 | BV103: 0 | BW103: 0 | BX103: =SUM(BV103,BW103) -> 0 | BY103: 0 | BZ103: 0 | CA103: 0 | CB103: =SUM(BY103,BZ103,CA103) -> 0 | CC103: =BV103+BW103+BY103+BZ103 -> 0 | CD103: =CC103 -> 0 | CE103: 0 | CF103: 0 | CG103: =SUM(CE103,CF103) -> 0 | CH103: 0 | CI103: 0 | CJ103: 0 | CK103: =SUM(CH103,CI103,CJ103) -> 0 | CL103: =CE103+CF103+CH103+CI103 -> 0 | CM103: =CL103 -> 0 | CO103: =IF(CN103>=81,"A",IF(CN103>=61,"B",IF(CN103>=41,"C",IF(CN103>=21,"D","E")))) -> E | CQ103: =IF(CP103>=81,"A",IF(CP103>=61,"B",IF(CP103>=41,"C",IF(CP103>=21,"D","E")))) -> E
A104: =F104 -> 0 | C104: =IF(B104>0,$F$4,0) -> 0 | M104: =SUM(K104,L104) -> 0 | N104: 0 | O104: 0 | Q104: =SUM(N104,O104) -> 0 | R104: =K104+L104+N104+O104 -> 0 | S104: =ROUNDUP(R104*$S$7/$R$7,0) -> 0 | V104: =SUM(T104,U104) -> 0 | W104: 0 | X104: 0 | Z104: =SUM(W104,X104) -> 0 | AA104: =T104+U104+W104+X104 -> 0 | AB104: =ROUNDUP(AA104*$AB$7/$AA$7,0) -> 0 | AE104: =SUM(AC104,AD104) -> 0 | AF104: 0 | AG104: 0 | AH104: 0 | AI104: =SUM(AF104,AG104,AH104) -> 0 | AJ104: =AC104+AD104+AF104+AG104 -> 0 | AK104: =ROUNDUP(AJ104*$AK$7/$AJ$7,0) -> 0 | AN104: =SUM(AL104,AM104) -> 0 | AO104: 0 | AP104: 0 | AQ104: 0 | AR104: =SUM(AO104,AP104,AQ104) -> 0 | AS104: =AL104+AM104+AO104+AP104 -> 0 | AT104: =ROUNDUP(AS104*$AT$7/$AS$7,0) -> 0 | AW104: =SUM(AU104,AV104) -> 0 | AX104: 0 | AY104: 0 | AZ104: 0 | BA104: =SUM(AX104,AY104,AZ104) -> 0 | BB104: =AU104+AV104+AX104+AY104 -> 0 | BC104: =ROUNDUP(BB104*$BC$7/$BB$7,0) -> 0 | BF104: =SUM(BD104,BE104) -> 0 | BG104: 0 | BH104: 0 | BI104: 0 | BJ104: =SUM(BG104,BH104,BI104) -> 0 | BK104: =BD104+BE104+BG104+BH104 -> 0 | BL104: =ROUNDUP(BK104*$BL$7/$BK$7,0) -> 0 | BM104: 0 | BN104: 0 | BO104: =SUM(BM104,BN104) -> 0 | BP104: 0 | BQ104: 0 | BR104: 0 | BS104: =SUM(BP104,BQ104,BR104) -> 0 | BT104: =BM104+BN104+BP104+BQ104 -> 0 | BU104: =BT104 -> 0 | BV104: 0 | BW104: 0 | BX104: =SUM(BV104,BW104) -> 0 | BY104: 0 | BZ104: 0 | CA104: 0 | CB104: =SUM(BY104,BZ104,CA104) -> 0 | CC104: =BV104+BW104+BY104+BZ104 -> 0 | CD104: =CC104 -> 0 | CE104: 0 | CF104: 0 | CG104: =SUM(CE104,CF104) -> 0 | CH104: 0 | CI104: 0 | CJ104: 0 | CK104: =SUM(CH104,CI104,CJ104) -> 0 | CL104: =CE104+CF104+CH104+CI104 -> 0 | CM104: =CL104 -> 0 | CO104: =IF(CN104>=81,"A",IF(CN104>=61,"B",IF(CN104>=41,"C",IF(CN104>=21,"D","E")))) -> E | CQ104: =IF(CP104>=81,"A",IF(CP104>=61,"B",IF(CP104>=41,"C",IF(CP104>=21,"D","E")))) -> E
A105: =F105 -> 0 | C105: =IF(B105>0,$F$4,0) -> 0 | M105: =SUM(K105,L105) -> 0 | N105: 0 | O105: 0 | Q105: =SUM(N105,O105) -> 0 | R105: =K105+L105+N105+O105 -> 0 | S105: =ROUNDUP(R105*$S$7/$R$7,0) -> 0 | V105: =SUM(T105,U105) -> 0 | W105: 0 | X105: 0 | Z105: =SUM(W105,X105) -> 0 | AA105: =T105+U105+W105+X105 -> 0 | AB105: =ROUNDUP(AA105*$AB$7/$AA$7,0) -> 0 | AE105: =SUM(AC105,AD105) -> 0 | AF105: 0 | AG105: 0 | AH105: 0 | AI105: =SUM(AF105,AG105,AH105) -> 0 | AJ105: =AC105+AD105+AF105+AG105 -> 0 | AK105: =ROUNDUP(AJ105*$AK$7/$AJ$7,0) -> 0 | AN105: =SUM(AL105,AM105) -> 0 | AO105: 0 | AP105: 0 | AQ105: 0 | AR105: =SUM(AO105,AP105,AQ105) -> 0 | AS105: =AL105+AM105+AO105+AP105 -> 0 | AT105: =ROUNDUP(AS105*$AT$7/$AS$7,0) -> 0 | AW105: =SUM(AU105,AV105) -> 0 | AX105: 0 | AY105: 0 | AZ105: 0 | BA105: =SUM(AX105,AY105,AZ105) -> 0 | BB105: =AU105+AV105+AX105+AY105 -> 0 | BC105: =ROUNDUP(BB105*$BC$7/$BB$7,0) -> 0 | BF105: =SUM(BD105,BE105) -> 0 | BG105: 0 | BH105: 0 | BI105: 0 | BJ105: =SUM(BG105,BH105,BI105) -> 0 | BK105: =BD105+BE105+BG105+BH105 -> 0 | BL105: =ROUNDUP(BK105*$BL$7/$BK$7,0) -> 0 | BM105: 0 | BN105: 0 | BO105: =SUM(BM105,BN105) -> 0 | BP105: 0 | BQ105: 0 | BR105: 0 | BS105: =SUM(BP105,BQ105,BR105) -> 0 | BT105: =BM105+BN105+BP105+BQ105 -> 0 | BU105: =BT105 -> 0 | BV105: 0 | BW105: 0 | BX105: =SUM(BV105,BW105) -> 0 | BY105: 0 | BZ105: 0 | CA105: 0 | CB105: =SUM(BY105,BZ105,CA105) -> 0 | CC105: =BV105+BW105+BY105+BZ105 -> 0 | CD105: =CC105 -> 0 | CE105: 0 | CF105: 0 | CG105: =SUM(CE105,CF105) -> 0 | CH105: 0 | CI105: 0 | CJ105: 0 | CK105: =SUM(CH105,CI105,CJ105) -> 0 | CL105: =CE105+CF105+CH105+CI105 -> 0 | CM105: =CL105 -> 0 | CO105: =IF(CN105>=81,"A",IF(CN105>=61,"B",IF(CN105>=41,"C",IF(CN105>=21,"D","E")))) -> E | CQ105: =IF(CP105>=81,"A",IF(CP105>=61,"B",IF(CP105>=41,"C",IF(CP105>=21,"D","E")))) -> E
A106: =F106 -> 0 | C106: =IF(B106>0,$F$4,0) -> 0 | M106: =SUM(K106,L106) -> 0 | N106: 0 | O106: 0 | Q106: =SUM(N106,O106) -> 0 | R106: =K106+L106+N106+O106 -> 0 | S106: =ROUNDUP(R106*$S$7/$R$7,0) -> 0 | V106: =SUM(T106,U106) -> 0 | W106: 0 | X106: 0 | Z106: =SUM(W106,X106) -> 0 | AA106: =T106+U106+W106+X106 -> 0 | AB106: =ROUNDUP(AA106*$AB$7/$AA$7,0) -> 0 | AE106: =SUM(AC106,AD106) -> 0 | AF106: 0 | AG106: 0 | AH106: 0 | AI106: =SUM(AF106,AG106,AH106) -> 0 | AJ106: =AC106+AD106+AF106+AG106 -> 0 | AK106: =ROUNDUP(AJ106*$AK$7/$AJ$7,0) -> 0 | AN106: =SUM(AL106,AM106) -> 0 | AO106: 0 | AP106: 0 | AQ106: 0 | AR106: =SUM(AO106,AP106,AQ106) -> 0 | AS106: =AL106+AM106+AO106+AP106 -> 0 | AT106: =ROUNDUP(AS106*$AT$7/$AS$7,0) -> 0 | AW106: =SUM(AU106,AV106) -> 0 | AX106: 0 | AY106: 0 | AZ106: 0 | BA106: =SUM(AX106,AY106,AZ106) -> 0 | BB106: =AU106+AV106+AX106+AY106 -> 0 | BC106: =ROUNDUP(BB106*$BC$7/$BB$7,0) -> 0 | BF106: =SUM(BD106,BE106) -> 0 | BG106: 0 | BH106: 0 | BI106: 0 | BJ106: =SUM(BG106,BH106,BI106) -> 0 | BK106: =BD106+BE106+BG106+BH106 -> 0 | BL106: =ROUNDUP(BK106*$BL$7/$BK$7,0) -> 0 | BM106: 0 | BN106: 0 | BO106: =SUM(BM106,BN106) -> 0 | BP106: 0 | BQ106: 0 | BR106: 0 | BS106: =SUM(BP106,BQ106,BR106) -> 0 | BT106: =BM106+BN106+BP106+BQ106 -> 0 | BU106: =BT106 -> 0 | BV106: 0 | BW106: 0 | BX106: =SUM(BV106,BW106) -> 0 | BY106: 0 | BZ106: 0 | CA106: 0 | CB106: =SUM(BY106,BZ106,CA106) -> 0 | CC106: =BV106+BW106+BY106+BZ106 -> 0 | CD106: =CC106 -> 0 | CE106: 0 | CF106: 0 | CG106: =SUM(CE106,CF106) -> 0 | CH106: 0 | CI106: 0 | CJ106: 0 | CK106: =SUM(CH106,CI106,CJ106) -> 0 | CL106: =CE106+CF106+CH106+CI106 -> 0 | CM106: =CL106 -> 0 | CO106: =IF(CN106>=81,"A",IF(CN106>=61,"B",IF(CN106>=41,"C",IF(CN106>=21,"D","E")))) -> E | CQ106: =IF(CP106>=81,"A",IF(CP106>=61,"B",IF(CP106>=41,"C",IF(CP106>=21,"D","E")))) -> E
A107: =F107 -> 0 | C107: =IF(B107>0,$F$4,0) -> 0 | M107: =SUM(K107,L107) -> 0 | N107: 0 | O107: 0 | Q107: =SUM(N107,O107) -> 0 | R107: =K107+L107+N107+O107 -> 0 | S107: =ROUNDUP(R107*$S$7/$R$7,0) -> 0 | V107: =SUM(T107,U107) -> 0 | W107: 0 | X107: 0 | Z107: =SUM(W107,X107) -> 0 | AA107: =T107+U107+W107+X107 -> 0 | AB107: =ROUNDUP(AA107*$AB$7/$AA$7,0) -> 0 | AE107: =SUM(AC107,AD107) -> 0 | AF107: 0 | AG107: 0 | AH107: 0 | AI107: =SUM(AF107,AG107,AH107) -> 0 | AJ107: =AC107+AD107+AF107+AG107 -> 0 | AK107: =ROUNDUP(AJ107*$AK$7/$AJ$7,0) -> 0 | AN107: =SUM(AL107,AM107) -> 0 | AO107: 0 | AP107: 0 | AQ107: 0 | AR107: =SUM(AO107,AP107,AQ107) -> 0 | AS107: =AL107+AM107+AO107+AP107 -> 0 | AT107: =ROUNDUP(AS107*$AT$7/$AS$7,0) -> 0 | AW107: =SUM(AU107,AV107) -> 0 | AX107: 0 | AY107: 0 | AZ107: 0 | BA107: =SUM(AX107,AY107,AZ107) -> 0 | BB107: =AU107+AV107+AX107+AY107 -> 0 | BC107: =ROUNDUP(BB107*$BC$7/$BB$7,0) -> 0 | BF107: =SUM(BD107,BE107) -> 0 | BG107: 0 | BH107: 0 | BI107: 0 | BJ107: =SUM(BG107,BH107,BI107) -> 0 | BK107: =BD107+BE107+BG107+BH107 -> 0 | BL107: =ROUNDUP(BK107*$BL$7/$BK$7,0) -> 0 | BM107: 0 | BN107: 0 | BO107: =SUM(BM107,BN107) -> 0 | BP107: 0 | BQ107: 0 | BR107: 0 | BS107: =SUM(BP107,BQ107,BR107) -> 0 | BT107: =BM107+BN107+BP107+BQ107 -> 0 | BU107: =BT107 -> 0 | BV107: 0 | BW107: 0 | BX107: =SUM(BV107,BW107) -> 0 | BY107: 0 | BZ107: 0 | CA107: 0 | CB107: =SUM(BY107,BZ107,CA107) -> 0 | CC107: =BV107+BW107+BY107+BZ107 -> 0 | CD107: =CC107 -> 0 | CE107: 0 | CF107: 0 | CG107: =SUM(CE107,CF107) -> 0 | CH107: 0 | CI107: 0 | CJ107: 0 | CK107: =SUM(CH107,CI107,CJ107) -> 0 | CL107: =CE107+CF107+CH107+CI107 -> 0 | CM107: =CL107 -> 0 | CO107: =IF(CN107>=81,"A",IF(CN107>=61,"B",IF(CN107>=41,"C",IF(CN107>=21,"D","E")))) -> E | CQ107: =IF(CP107>=81,"A",IF(CP107>=61,"B",IF(CP107>=41,"C",IF(CP107>=21,"D","E")))) -> E
A108: =F108 -> 0 | C108: =IF(B108>0,$F$4,0) -> 0 | M108: =SUM(K108,L108) -> 0 | N108: 0 | O108: 0 | Q108: =SUM(N108,O108) -> 0 | R108: =K108+L108+N108+O108 -> 0 | S108: =ROUNDUP(R108*$S$7/$R$7,0) -> 0 | V108: =SUM(T108,U108) -> 0 | W108: 0 | X108: 0 | Z108: =SUM(W108,X108) -> 0 | AA108: =T108+U108+W108+X108 -> 0 | AB108: =ROUNDUP(AA108*$AB$7/$AA$7,0) -> 0 | AE108: =SUM(AC108,AD108) -> 0 | AF108: 0 | AG108: 0 | AH108: 0 | AI108: =SUM(AF108,AG108,AH108) -> 0 | AJ108: =AC108+AD108+AF108+AG108 -> 0 | AK108: =ROUNDUP(AJ108*$AK$7/$AJ$7,0) -> 0 | AN108: =SUM(AL108,AM108) -> 0 | AO108: 0 | AP108: 0 | AQ108: 0 | AR108: =SUM(AO108,AP108,AQ108) -> 0 | AS108: =AL108+AM108+AO108+AP108 -> 0 | AT108: =ROUNDUP(AS108*$AT$7/$AS$7,0) -> 0 | AW108: =SUM(AU108,AV108) -> 0 | AX108: 0 | AY108: 0 | AZ108: 0 | BA108: =SUM(AX108,AY108,AZ108) -> 0 | BB108: =AU108+AV108+AX108+AY108 -> 0 | BC108: =ROUNDUP(BB108*$BC$7/$BB$7,0) -> 0 | BF108: =SUM(BD108,BE108) -> 0 | BG108: 0 | BH108: 0 | BI108: 0 | BJ108: =SUM(BG108,BH108,BI108) -> 0 | BK108: =BD108+BE108+BG108+BH108 -> 0 | BL108: =ROUNDUP(BK108*$BL$7/$BK$7,0) -> 0 | BM108: 0 | BN108: 0 | BO108: =SUM(BM108,BN108) -> 0 | BP108: 0 | BQ108: 0 | BR108: 0 | BS108: =SUM(BP108,BQ108,BR108) -> 0 | BT108: =BM108+BN108+BP108+BQ108 -> 0 | BU108: =BT108 -> 0 | BV108: 0 | BW108: 0 | BX108: =SUM(BV108,BW108) -> 0 | BY108: 0 | BZ108: 0 | CA108: 0 | CB108: =SUM(BY108,BZ108,CA108) -> 0 | CC108: =BV108+BW108+BY108+BZ108 -> 0 | CD108: =CC108 -> 0 | CE108: 0 | CF108: 0 | CG108: =SUM(CE108,CF108) -> 0 | CH108: 0 | CI108: 0 | CJ108: 0 | CK108: =SUM(CH108,CI108,CJ108) -> 0 | CL108: =CE108+CF108+CH108+CI108 -> 0 | CM108: =CL108 -> 0 | CO108: =IF(CN108>=81,"A",IF(CN108>=61,"B",IF(CN108>=41,"C",IF(CN108>=21,"D","E")))) -> E | CQ108: =IF(CP108>=81,"A",IF(CP108>=61,"B",IF(CP108>=41,"C",IF(CP108>=21,"D","E")))) -> E
A109: =F109 -> 0 | C109: =IF(B109>0,$F$4,0) -> 0 | M109: =SUM(K109,L109) -> 0 | N109: 0 | O109: 0 | Q109: =SUM(N109,O109) -> 0 | R109: =K109+L109+N109+O109 -> 0 | S109: =ROUNDUP(R109*$S$7/$R$7,0) -> 0 | V109: =SUM(T109,U109) -> 0 | W109: 0 | X109: 0 | Z109: =SUM(W109,X109) -> 0 | AA109: =T109+U109+W109+X109 -> 0 | AB109: =ROUNDUP(AA109*$AB$7/$AA$7,0) -> 0 | AE109: =SUM(AC109,AD109) -> 0 | AF109: 0 | AG109: 0 | AH109: 0 | AI109: =SUM(AF109,AG109,AH109) -> 0 | AJ109: =AC109+AD109+AF109+AG109 -> 0 | AK109: =ROUNDUP(AJ109*$AK$7/$AJ$7,0) -> 0 | AN109: =SUM(AL109,AM109) -> 0 | AO109: 0 | AP109: 0 | AQ109: 0 | AR109: =SUM(AO109,AP109,AQ109) -> 0 | AS109: =AL109+AM109+AO109+AP109 -> 0 | AT109: =ROUNDUP(AS109*$AT$7/$AS$7,0) -> 0 | AW109: =SUM(AU109,AV109) -> 0 | AX109: 0 | AY109: 0 | AZ109: 0 | BA109: =SUM(AX109,AY109,AZ109) -> 0 | BB109: =AU109+AV109+AX109+AY109 -> 0 | BC109: =ROUNDUP(BB109*$BC$7/$BB$7,0) -> 0 | BF109: =SUM(BD109,BE109) -> 0 | BG109: 0 | BH109: 0 | BI109: 0 | BJ109: =SUM(BG109,BH109,BI109) -> 0 | BK109: =BD109+BE109+BG109+BH109 -> 0 | BL109: =ROUNDUP(BK109*$BL$7/$BK$7,0) -> 0 | BM109: 0 | BN109: 0 | BO109: =SUM(BM109,BN109) -> 0 | BP109: 0 | BQ109: 0 | BR109: 0 | BS109: =SUM(BP109,BQ109,BR109) -> 0 | BT109: =BM109+BN109+BP109+BQ109 -> 0 | BU109: =BT109 -> 0 | BV109: 0 | BW109: 0 | BX109: =SUM(BV109,BW109) -> 0 | BY109: 0 | BZ109: 0 | CA109: 0 | CB109: =SUM(BY109,BZ109,CA109) -> 0 | CC109: =BV109+BW109+BY109+BZ109 -> 0 | CD109: =CC109 -> 0 | CE109: 0 | CF109: 0 | CG109: =SUM(CE109,CF109) -> 0 | CH109: 0 | CI109: 0 | CJ109: 0 | CK109: =SUM(CH109,CI109,CJ109) -> 0 | CL109: =CE109+CF109+CH109+CI109 -> 0 | CM109: =CL109 -> 0 | CN109: 0 | CO109: =IF(CN109>=81,"A",IF(CN109>=61,"B",IF(CN109>=41,"C",IF(CN109>=21,"D","E")))) -> E | CP109: 0 | CQ109: =IF(CP109>=81,"A",IF(CP109>=61,"B",IF(CP109>=41,"C",IF(CP109>=21,"D","E")))) -> E
A110: =F110 -> 0 | C110: =IF(B110>0,$F$4,0) -> 0 | M110: =SUM(K110,L110) -> 0 | N110: 0 | O110: 0 | Q110: =SUM(N110,O110) -> 0 | R110: =K110+L110+N110+O110 -> 0 | S110: =ROUNDUP(R110*$S$7/$R$7,0) -> 0 | V110: =SUM(T110,U110) -> 0 | W110: 0 | X110: 0 | Z110: =SUM(W110,X110) -> 0 | AA110: =T110+U110+W110+X110 -> 0 | AB110: =ROUNDUP(AA110*$AB$7/$AA$7,0) -> 0 | AE110: =SUM(AC110,AD110) -> 0 | AF110: 0 | AG110: 0 | AH110: 0 | AI110: =SUM(AF110,AG110,AH110) -> 0 | AJ110: =AC110+AD110+AF110+AG110 -> 0 | AK110: =ROUNDUP(AJ110*$AK$7/$AJ$7,0) -> 0 | AN110: =SUM(AL110,AM110) -> 0 | AO110: 0 | AP110: 0 | AQ110: 0 | AR110: =SUM(AO110,AP110,AQ110) -> 0 | AS110: =AL110+AM110+AO110+AP110 -> 0 | AT110: =ROUNDUP(AS110*$AT$7/$AS$7,0) -> 0 | AW110: =SUM(AU110,AV110) -> 0 | AX110: 0 | AY110: 0 | AZ110: 0 | BA110: =SUM(AX110,AY110,AZ110) -> 0 | BB110: =AU110+AV110+AX110+AY110 -> 0 | BC110: =ROUNDUP(BB110*$BC$7/$BB$7,0) -> 0 | BF110: =SUM(BD110,BE110) -> 0 | BG110: 0 | BH110: 0 | BI110: 0 | BJ110: =SUM(BG110,BH110,BI110) -> 0 | BK110: =BD110+BE110+BG110+BH110 -> 0 | BL110: =ROUNDUP(BK110*$BL$7/$BK$7,0) -> 0 | BM110: 0 | BN110: 0 | BO110: =SUM(BM110,BN110) -> 0 | BP110: 0 | BQ110: 0 | BR110: 0 | BS110: =SUM(BP110,BQ110,BR110) -> 0 | BT110: =BM110+BN110+BP110+BQ110 -> 0 | BU110: =BT110 -> 0 | BV110: 0 | BW110: 0 | BX110: =SUM(BV110,BW110) -> 0 | BY110: 0 | BZ110: 0 | CA110: 0 | CB110: =SUM(BY110,BZ110,CA110) -> 0 | CC110: =BV110+BW110+BY110+BZ110 -> 0 | CD110: =CC110 -> 0 | CE110: 0 | CF110: 0 | CG110: =SUM(CE110,CF110) -> 0 | CH110: 0 | CI110: 0 | CJ110: 0 | CK110: =SUM(CH110,CI110,CJ110) -> 0 | CL110: =CE110+CF110+CH110+CI110 -> 0 | CM110: =CL110 -> 0 | CN110: 0 | CO110: =IF(CN110>=81,"A",IF(CN110>=61,"B",IF(CN110>=41,"C",IF(CN110>=21,"D","E")))) -> E | CP110: 0 | CQ110: =IF(CP110>=81,"A",IF(CP110>=61,"B",IF(CP110>=41,"C",IF(CP110>=21,"D","E")))) -> E
A111: =F111 -> 0 | C111: =IF(B111>0,$F$4,0) -> 0 | M111: =SUM(K111,L111) -> 0 | N111: 0 | O111: 0 | Q111: =SUM(N111,O111) -> 0 | R111: =K111+L111+N111+O111 -> 0 | S111: =ROUNDUP(R111*$S$7/$R$7,0) -> 0 | V111: =SUM(T111,U111) -> 0 | W111: 0 | X111: 0 | Z111: =SUM(W111,X111) -> 0 | AA111: =T111+U111+W111+X111 -> 0 | AB111: =ROUNDUP(AA111*$AB$7/$AA$7,0) -> 0 | AE111: =SUM(AC111,AD111) -> 0 | AF111: 0 | AG111: 0 | AH111: 0 | AI111: =SUM(AF111,AG111,AH111) -> 0 | AJ111: =AC111+AD111+AF111+AG111 -> 0 | AK111: =ROUNDUP(AJ111*$AK$7/$AJ$7,0) -> 0 | AN111: =SUM(AL111,AM111) -> 0 | AO111: 0 | AP111: 0 | AQ111: 0 | AR111: =SUM(AO111,AP111,AQ111) -> 0 | AS111: =AL111+AM111+AO111+AP111 -> 0 | AT111: =ROUNDUP(AS111*$AT$7/$AS$7,0) -> 0 | AW111: =SUM(AU111,AV111) -> 0 | AX111: 0 | AY111: 0 | AZ111: 0 | BA111: =SUM(AX111,AY111,AZ111) -> 0 | BB111: =AU111+AV111+AX111+AY111 -> 0 | BC111: =ROUNDUP(BB111*$BC$7/$BB$7,0) -> 0 | BF111: =SUM(BD111,BE111) -> 0 | BG111: 0 | BH111: 0 | BI111: 0 | BJ111: =SUM(BG111,BH111,BI111) -> 0 | BK111: =BD111+BE111+BG111+BH111 -> 0 | BL111: =ROUNDUP(BK111*$BL$7/$BK$7,0) -> 0 | BM111: 0 | BN111: 0 | BO111: =SUM(BM111,BN111) -> 0 | BP111: 0 | BQ111: 0 | BR111: 0 | BS111: =SUM(BP111,BQ111,BR111) -> 0 | BT111: =BM111+BN111+BP111+BQ111 -> 0 | BU111: =BT111 -> 0 | BV111: 0 | BW111: 0 | BX111: =SUM(BV111,BW111) -> 0 | BY111: 0 | BZ111: 0 | CA111: 0 | CB111: =SUM(BY111,BZ111,CA111) -> 0 | CC111: =BV111+BW111+BY111+BZ111 -> 0 | CD111: =CC111 -> 0 | CE111: 0 | CF111: 0 | CG111: =SUM(CE111,CF111) -> 0 | CH111: 0 | CI111: 0 | CJ111: 0 | CK111: =SUM(CH111,CI111,CJ111) -> 0 | CL111: =CE111+CF111+CH111+CI111 -> 0 | CM111: =CL111 -> 0 | CN111: 0 | CO111: =IF(CN111>=81,"A",IF(CN111>=61,"B",IF(CN111>=41,"C",IF(CN111>=21,"D","E")))) -> E | CP111: 0 | CQ111: =IF(CP111>=81,"A",IF(CP111>=61,"B",IF(CP111>=41,"C",IF(CP111>=21,"D","E")))) -> E
A112: =F112 -> 0 | C112: =IF(B112>0,$F$4,0) -> 0 | M112: =SUM(K112,L112) -> 0 | N112: 0 | O112: 0 | Q112: =SUM(N112,O112) -> 0 | R112: =K112+L112+N112+O112 -> 0 | S112: =ROUNDUP(R112*$S$7/$R$7,0) -> 0 | V112: =SUM(T112,U112) -> 0 | W112: 0 | X112: 0 | Z112: =SUM(W112,X112) -> 0 | AA112: =T112+U112+W112+X112 -> 0 | AB112: =ROUNDUP(AA112*$AB$7/$AA$7,0) -> 0 | AE112: =SUM(AC112,AD112) -> 0 | AF112: 0 | AG112: 0 | AH112: 0 | AI112: =SUM(AF112,AG112,AH112) -> 0 | AJ112: =AC112+AD112+AF112+AG112 -> 0 | AK112: =ROUNDUP(AJ112*$AK$7/$AJ$7,0) -> 0 | AN112: =SUM(AL112,AM112) -> 0 | AO112: 0 | AP112: 0 | AQ112: 0 | AR112: =SUM(AO112,AP112,AQ112) -> 0 | AS112: =AL112+AM112+AO112+AP112 -> 0 | AT112: =ROUNDUP(AS112*$AT$7/$AS$7,0) -> 0 | AW112: =SUM(AU112,AV112) -> 0 | AX112: 0 | AY112: 0 | AZ112: 0 | BA112: =SUM(AX112,AY112,AZ112) -> 0 | BB112: =AU112+AV112+AX112+AY112 -> 0 | BC112: =ROUNDUP(BB112*$BC$7/$BB$7,0) -> 0 | BF112: =SUM(BD112,BE112) -> 0 | BG112: 0 | BH112: 0 | BI112: 0 | BJ112: =SUM(BG112,BH112,BI112) -> 0 | BK112: =BD112+BE112+BG112+BH112 -> 0 | BL112: =ROUNDUP(BK112*$BL$7/$BK$7,0) -> 0 | BM112: 0 | BN112: 0 | BO112: =SUM(BM112,BN112) -> 0 | BP112: 0 | BQ112: 0 | BR112: 0 | BS112: =SUM(BP112,BQ112,BR112) -> 0 | BT112: =BM112+BN112+BP112+BQ112 -> 0 | BU112: =BT112 -> 0 | BV112: 0 | BW112: 0 | BX112: =SUM(BV112,BW112) -> 0 | BY112: 0 | BZ112: 0 | CA112: 0 | CB112: =SUM(BY112,BZ112,CA112) -> 0 | CC112: =BV112+BW112+BY112+BZ112 -> 0 | CD112: =CC112 -> 0 | CE112: 0 | CF112: 0 | CG112: =SUM(CE112,CF112) -> 0 | CH112: 0 | CI112: 0 | CJ112: 0 | CK112: =SUM(CH112,CI112,CJ112) -> 0 | CL112: =CE112+CF112+CH112+CI112 -> 0 | CM112: =CL112 -> 0 | CN112: 0 | CO112: =IF(CN112>=81,"A",IF(CN112>=61,"B",IF(CN112>=41,"C",IF(CN112>=21,"D","E")))) -> E | CP112: 0 | CQ112: =IF(CP112>=81,"A",IF(CP112>=61,"B",IF(CP112>=41,"C",IF(CP112>=21,"D","E")))) -> E
A113: =F113 -> 0 | C113: =IF(B113>0,$F$4,0) -> 0 | M113: =SUM(K113,L113) -> 0 | N113: 0 | O113: 0 | Q113: =SUM(N113,O113) -> 0 | R113: =K113+L113+N113+O113 -> 0 | S113: =ROUNDUP(R113*$S$7/$R$7,0) -> 0 | V113: =SUM(T113,U113) -> 0 | W113: 0 | X113: 0 | Z113: =SUM(W113,X113) -> 0 | AA113: =T113+U113+W113+X113 -> 0 | AB113: =ROUNDUP(AA113*$AB$7/$AA$7,0) -> 0 | AE113: =SUM(AC113,AD113) -> 0 | AF113: 0 | AG113: 0 | AH113: 0 | AI113: =SUM(AF113,AG113,AH113) -> 0 | AJ113: =AC113+AD113+AF113+AG113 -> 0 | AK113: =ROUNDUP(AJ113*$AK$7/$AJ$7,0) -> 0 | AN113: =SUM(AL113,AM113) -> 0 | AO113: 0 | AP113: 0 | AQ113: 0 | AR113: =SUM(AO113,AP113,AQ113) -> 0 | AS113: =AL113+AM113+AO113+AP113 -> 0 | AT113: =ROUNDUP(AS113*$AT$7/$AS$7,0) -> 0 | AW113: =SUM(AU113,AV113) -> 0 | AX113: 0 | AY113: 0 | AZ113: 0 | BA113: =SUM(AX113,AY113,AZ113) -> 0 | BB113: =AU113+AV113+AX113+AY113 -> 0 | BC113: =ROUNDUP(BB113*$BC$7/$BB$7,0) -> 0 | BF113: =SUM(BD113,BE113) -> 0 | BG113: 0 | BH113: 0 | BI113: 0 | BJ113: =SUM(BG113,BH113,BI113) -> 0 | BK113: =BD113+BE113+BG113+BH113 -> 0 | BL113: =ROUNDUP(BK113*$BL$7/$BK$7,0) -> 0 | BM113: 0 | BN113: 0 | BO113: =SUM(BM113,BN113) -> 0 | BP113: 0 | BQ113: 0 | BR113: 0 | BS113: =SUM(BP113,BQ113,BR113) -> 0 | BT113: =BM113+BN113+BP113+BQ113 -> 0 | BU113: =BT113 -> 0 | BV113: 0 | BW113: 0 | BX113: =SUM(BV113,BW113) -> 0 | BY113: 0 | BZ113: 0 | CA113: 0 | CB113: =SUM(BY113,BZ113,CA113) -> 0 | CC113: =BV113+BW113+BY113+BZ113 -> 0 | CD113: =CC113 -> 0 | CE113: 0 | CF113: 0 | CG113: =SUM(CE113,CF113) -> 0 | CH113: 0 | CI113: 0 | CJ113: 0 | CK113: =SUM(CH113,CI113,CJ113) -> 0 | CL113: =CE113+CF113+CH113+CI113 -> 0 | CM113: =CL113 -> 0 | CN113: 0 | CO113: =IF(CN113>=81,"A",IF(CN113>=61,"B",IF(CN113>=41,"C",IF(CN113>=21,"D","E")))) -> E | CP113: 0 | CQ113: =IF(CP113>=81,"A",IF(CP113>=61,"B",IF(CP113>=41,"C",IF(CP113>=21,"D","E")))) -> E
A114: =F114 -> 0 | C114: =IF(B114>0,$F$4,0) -> 0 | M114: =SUM(K114,L114) -> 0 | N114: 0 | O114: 0 | Q114: =SUM(N114,O114) -> 0 | R114: =K114+L114+N114+O114 -> 0 | S114: =ROUNDUP(R114*$S$7/$R$7,0) -> 0 | V114: =SUM(T114,U114) -> 0 | W114: 0 | X114: 0 | Z114: =SUM(W114,X114) -> 0 | AA114: =T114+U114+W114+X114 -> 0 | AB114: =ROUNDUP(AA114*$AB$7/$AA$7,0) -> 0 | AE114: =SUM(AC114,AD114) -> 0 | AF114: 0 | AG114: 0 | AH114: 0 | AI114: =SUM(AF114,AG114,AH114) -> 0 | AJ114: =AC114+AD114+AF114+AG114 -> 0 | AK114: =ROUNDUP(AJ114*$AK$7/$AJ$7,0) -> 0 | AN114: =SUM(AL114,AM114) -> 0 | AO114: 0 | AP114: 0 | AQ114: 0 | AR114: =SUM(AO114,AP114,AQ114) -> 0 | AS114: =AL114+AM114+AO114+AP114 -> 0 | AT114: =ROUNDUP(AS114*$AT$7/$AS$7,0) -> 0 | AW114: =SUM(AU114,AV114) -> 0 | AX114: 0 | AY114: 0 | AZ114: 0 | BA114: =SUM(AX114,AY114,AZ114) -> 0 | BB114: =AU114+AV114+AX114+AY114 -> 0 | BC114: =ROUNDUP(BB114*$BC$7/$BB$7,0) -> 0 | BF114: =SUM(BD114,BE114) -> 0 | BG114: 0 | BH114: 0 | BI114: 0 | BJ114: =SUM(BG114,BH114,BI114) -> 0 | BK114: =BD114+BE114+BG114+BH114 -> 0 | BL114: =ROUNDUP(BK114*$BL$7/$BK$7,0) -> 0 | BM114: 0 | BN114: 0 | BO114: =SUM(BM114,BN114) -> 0 | BP114: 0 | BQ114: 0 | BR114: 0 | BS114: =SUM(BP114,BQ114,BR114) -> 0 | BT114: =BM114+BN114+BP114+BQ114 -> 0 | BU114: =BT114 -> 0 | BV114: 0 | BW114: 0 | BX114: =SUM(BV114,BW114) -> 0 | BY114: 0 | BZ114: 0 | CA114: 0 | CB114: =SUM(BY114,BZ114,CA114) -> 0 | CC114: =BV114+BW114+BY114+BZ114 -> 0 | CD114: =CC114 -> 0 | CE114: 0 | CF114: 0 | CG114: =SUM(CE114,CF114) -> 0 | CH114: 0 | CI114: 0 | CJ114: 0 | CK114: =SUM(CH114,CI114,CJ114) -> 0 | CL114: =CE114+CF114+CH114+CI114 -> 0 | CM114: =CL114 -> 0 | CN114: 0 | CO114: =IF(CN114>=81,"A",IF(CN114>=61,"B",IF(CN114>=41,"C",IF(CN114>=21,"D","E")))) -> E | CP114: 0 | CQ114: =IF(CP114>=81,"A",IF(CP114>=61,"B",IF(CP114>=41,"C",IF(CP114>=21,"D","E")))) -> E
A115: =F115 -> 0 | C115: =IF(B115>0,$F$4,0) -> 0 | M115: =SUM(K115,L115) -> 0 | N115: 0 | O115: 0 | Q115: =SUM(N115,O115) -> 0 | R115: =K115+L115+N115+O115 -> 0 | S115: =ROUNDUP(R115*$S$7/$R$7,0) -> 0 | V115: =SUM(T115,U115) -> 0 | W115: 0 | X115: 0 | Z115: =SUM(W115,X115) -> 0 | AA115: =T115+U115+W115+X115 -> 0 | AB115: =ROUNDUP(AA115*$AB$7/$AA$7,0) -> 0 | AE115: =SUM(AC115,AD115) -> 0 | AF115: 0 | AG115: 0 | AH115: 0 | AI115: =SUM(AF115,AG115,AH115) -> 0 | AJ115: =AC115+AD115+AF115+AG115 -> 0 | AK115: =ROUNDUP(AJ115*$AK$7/$AJ$7,0) -> 0 | AN115: =SUM(AL115,AM115) -> 0 | AO115: 0 | AP115: 0 | AQ115: 0 | AR115: =SUM(AO115,AP115,AQ115) -> 0 | AS115: =AL115+AM115+AO115+AP115 -> 0 | AT115: =ROUNDUP(AS115*$AT$7/$AS$7,0) -> 0 | AW115: =SUM(AU115,AV115) -> 0 | AX115: 0 | AY115: 0 | AZ115: 0 | BA115: =SUM(AX115,AY115,AZ115) -> 0 | BB115: =AU115+AV115+AX115+AY115 -> 0 | BC115: =ROUNDUP(BB115*$BC$7/$BB$7,0) -> 0 | BF115: =SUM(BD115,BE115) -> 0 | BG115: 0 | BH115: 0 | BI115: 0 | BJ115: =SUM(BG115,BH115,BI115) -> 0 | BK115: =BD115+BE115+BG115+BH115 -> 0 | BL115: =ROUNDUP(BK115*$BL$7/$BK$7,0) -> 0 | BM115: 0 | BN115: 0 | BO115: =SUM(BM115,BN115) -> 0 | BP115: 0 | BQ115: 0 | BR115: 0 | BS115: =SUM(BP115,BQ115,BR115) -> 0 | BT115: =BM115+BN115+BP115+BQ115 -> 0 | BU115: =BT115 -> 0 | BV115: 0 | BW115: 0 | BX115: =SUM(BV115,BW115) -> 0 | BY115: 0 | BZ115: 0 | CA115: 0 | CB115: =SUM(BY115,BZ115,CA115) -> 0 | CC115: =BV115+BW115+BY115+BZ115 -> 0 | CD115: =CC115 -> 0 | CE115: 0 | CF115: 0 | CG115: =SUM(CE115,CF115) -> 0 | CH115: 0 | CI115: 0 | CJ115: 0 | CK115: =SUM(CH115,CI115,CJ115) -> 0 | CL115: =CE115+CF115+CH115+CI115 -> 0 | CM115: =CL115 -> 0 | CN115: 0 | CO115: =IF(CN115>=81,"A",IF(CN115>=61,"B",IF(CN115>=41,"C",IF(CN115>=21,"D","E")))) -> E | CP115: 0 | CQ115: =IF(CP115>=81,"A",IF(CP115>=61,"B",IF(CP115>=41,"C",IF(CP115>=21,"D","E")))) -> E
A116: =F116 -> 0 | C116: =IF(B116>0,$F$4,0) -> 0 | M116: =SUM(K116,L116) -> 0 | N116: 0 | O116: 0 | Q116: =SUM(N116,O116) -> 0 | R116: =K116+L116+N116+O116 -> 0 | S116: =ROUNDUP(R116*$S$7/$R$7,0) -> 0 | V116: =SUM(T116,U116) -> 0 | W116: 0 | X116: 0 | Z116: =SUM(W116,X116) -> 0 | AA116: =T116+U116+W116+X116 -> 0 | AB116: =ROUNDUP(AA116*$AB$7/$AA$7,0) -> 0 | AE116: =SUM(AC116,AD116) -> 0 | AF116: 0 | AG116: 0 | AH116: 0 | AI116: =SUM(AF116,AG116,AH116) -> 0 | AJ116: =AC116+AD116+AF116+AG116 -> 0 | AK116: =ROUNDUP(AJ116*$AK$7/$AJ$7,0) -> 0 | AN116: =SUM(AL116,AM116) -> 0 | AO116: 0 | AP116: 0 | AQ116: 0 | AR116: =SUM(AO116,AP116,AQ116) -> 0 | AS116: =AL116+AM116+AO116+AP116 -> 0 | AT116: =ROUNDUP(AS116*$AT$7/$AS$7,0) -> 0 | AW116: =SUM(AU116,AV116) -> 0 | AX116: 0 | AY116: 0 | AZ116: 0 | BA116: =SUM(AX116,AY116,AZ116) -> 0 | BB116: =AU116+AV116+AX116+AY116 -> 0 | BC116: =ROUNDUP(BB116*$BC$7/$BB$7,0) -> 0 | BF116: =SUM(BD116,BE116) -> 0 | BG116: 0 | BH116: 0 | BI116: 0 | BJ116: =SUM(BG116,BH116,BI116) -> 0 | BK116: =BD116+BE116+BG116+BH116 -> 0 | BL116: =ROUNDUP(BK116*$BL$7/$BK$7,0) -> 0 | BM116: 0 | BN116: 0 | BO116: =SUM(BM116,BN116) -> 0 | BP116: 0 | BQ116: 0 | BR116: 0 | BS116: =SUM(BP116,BQ116,BR116) -> 0 | BT116: =BM116+BN116+BP116+BQ116 -> 0 | BU116: =BT116 -> 0 | BV116: 0 | BW116: 0 | BX116: =SUM(BV116,BW116) -> 0 | BY116: 0 | BZ116: 0 | CA116: 0 | CB116: =SUM(BY116,BZ116,CA116) -> 0 | CC116: =BV116+BW116+BY116+BZ116 -> 0 | CD116: =CC116 -> 0 | CE116: 0 | CF116: 0 | CG116: =SUM(CE116,CF116) -> 0 | CH116: 0 | CI116: 0 | CJ116: 0 | CK116: =SUM(CH116,CI116,CJ116) -> 0 | CL116: =CE116+CF116+CH116+CI116 -> 0 | CM116: =CL116 -> 0 | CN116: 0 | CO116: =IF(CN116>=81,"A",IF(CN116>=61,"B",IF(CN116>=41,"C",IF(CN116>=21,"D","E")))) -> E | CP116: 0 | CQ116: =IF(CP116>=81,"A",IF(CP116>=61,"B",IF(CP116>=41,"C",IF(CP116>=21,"D","E")))) -> E
