Workbook
Name ca: Table2[[#All],[Category List]]
Name catagorylist: Table2[[#All],[Category List]]
Name Category_List: Table2[[#All],[Category List]]
Name Category_List: Table2[[#All],[Category List]]
Name Category_List: Table2[[#All],[Category List]]
Name Post_Name: Table3[[#All],[Post Name]]
Name Post_Name: Table3[[#All],[Post Name]]
Name Post_Name: Table3[[#All],[Post Name]]
Name school_name: 'Marks Entry'!$H$7:$H$300

Sheet Forms Entry
A1: कार्यालय --------------------------------------------------------------------------------------------------------------
A2: विद्या सम्बल योजना के अन्तर्गत प्राप्त आवेदन पत्रों की सूची
A4: क्र.सं. | B4: आवेदनकर्त्ता का नाम | C4: पिता का नाम | D4: जन्म दिनांक | E4: वर्ग | F4: पद जिसके लिए आवेदन किया | G4: विषय | H4: विद्यालय का नाम जिस हेतु आवेदन किया है | K4: Category List | M4: Post Name
A5: 1 | B5: Ashwini Kumar 1 | C5: Sh M.R.Shastri 1 | D5: 32179 | E5: GEN | F5: अध्यापक लेवल 1 | H5: GUPS 123 | K5: GEN | M5: अध्यापक लेवल 1
A6: 2 | B6: Ashwini Kumar 2 | C6: Sh M.R.Shastri 2 | D6: 32180 | E6: SC | F6: अध्यापक लेवल 1 | H6: GUPS 151 | K6: SC | M6: अध्यापक लेवल 2
A7: 3 | B7: Ashwini Kumar 3 | C7: Sh M.R.Shastri 3 | D7: 32181 | E7: ST | F7: वरिष्ठ अध्यापक | H7: GUPS 125 | K7: ST | M7: वरिष्ठ अध्यापक
A8: 4 | B8: Ashwini Kumar 4 | C8: Sh M.R.Shastri 4 | D8: 32182 | E8: OBC | F8: वरिष्ठ अध्यापक | H8: GUPS 126 | K8: OBC | M8: प्राध्यापक
A9: 5 | B9: Ashwini Kumar 5 | C9: Sh M.R.Shastri 5 | D9: 32183 | E9: EWS | F9: शारीरिक शिक्षक | H9: GUPS 127 | K9: EWS | M9: शारीरिक शिक्षक
A10: 6 | B10: Ashwini Kumar 6 | C10: Sh M.R.Shastri 6 | D10: 32184 | E10: other 1 | F10: प्रयोगशाला सहायक | H10: GUPS 128 | K10: other 1 | M10: प्रयोगशाला सहायक
A11: 7 | B11: Ashwini Kumar 7 | C11: Sh M.R.Shastri 7 | D11: 32185 | E11: GEN | F11: अध्यापक लेवल 2 | H11: GUPS 129 | K11: other 2 | M11: अन्य 1
A12: 8 | B12: Ashwini Kumar 8 | C12: Sh M.R.Shastri 8 | D12: 32186 | E12: SC | F12: प्राध्यापक | H12: GUPS 130 | K12: other 3 | M12: अन्य 2
A13: 9
A14: 10
A15: 11
A16: 12
A17: 13
A18: 14
A19: 15
A20: 16
A21: 17
A22: 18
A23: 19
A24: 20
... A203: 199
A204: 200 | B204: Ashwini Kumar 123 | C204: M R Shastri 123 | D204: 32143 | E204: GEN | F204: शारीरिक शिक्षक | H204: GUPS 140

Sheet Marks Entry
A1: ='Forms Entry'!A1 -> कार्यालय --------------------------------------------------------------------------------------------------------------
A2: आवेदनकर्त्ता के प्राप्तांकों की सूची
A4: क्र.सं. | B4: आवेदनकर्त्ता का नाम | C4: पिता का नाम | D4: जन्म दिनांक | E4: वर्ग | F4: पद जिसके लिए आवेदन किया | G4: विषय | H4: विद्यालय का नाम जिस हेतु आवेदन किया है | I4: शैक्षणिक योग्यता के प्राप्तांक | Q4: प्रशैक्षणिक योग्यता के प्राप्तांक
I5: 10th | K5: 12th | M5: UG | O5: PG | Q5: बी.एड./ समकक्ष | S5: डी.एल.एड./ समकक्ष | X5: Percentage
I6: पूर्णांक | J6: प्राप्तांक | K6: पूर्णांक | L6: प्राप्तांक | M6: पूर्णांक | N6: प्राप्तांक | O6: पूर्णांक | P6: प्राप्तांक | Q6: पूर्णांक | R6: प्राप्तांक | S6: पूर्णांक | T6: प्राप्तांक | X6: 10TH | Y6: 12TH | Z6: UG | AA6: PG | AB6: B.ED | AC6: DELED
A7: =IF('Forms Entry'!A5="","",'Forms Entry'!A5) -> 1 | B7: =IF('Forms Entry'!B5="","",'Forms Entry'!B5) -> Ashwini Kumar 1 | C7: =IF('Forms Entry'!C5="","",'Forms Entry'!C5) -> Sh M.R.Shastri 1 | D7: =IF('Forms Entry'!D5="","",'Forms Entry'!D5) -> 32179 | E7: =IF('Forms Entry'!E5="","",'Forms Entry'!E5) -> GEN | F7: =IF('Forms Entry'!F5="","",'Forms Entry'!F5) -> अध्यापक लेवल 1 | G7: =IF('Forms Entry'!G5="","",'Forms Entry'!G5) | H7: =IF('Forms Entry'!H5="","",'Forms Entry'!H5) -> GUPS 123 | I7: 600 | J7: 450 | K7: 550 | L7: 300 | M7: 1800 | N7: 1220 | O7: 900 | P7: 450 | Q7: 1000 | R7: 400 | S7: 1200 | T7: 1000 | X7: =IF(J7="","",J7/I7*100) -> 75 | Y7: =IF(L7="","",L7/K7*100) -> 54.545455 | Z7: =IF(N7="","",N7/M7*100) -> 67.777778 | AA7: =IF(P7="","",P7/O7*100) -> 50 | AB7: =IF(R7="","",R7/Q7*100) -> 40 | AC7: =IF(T7="","",T7/S7*100) -> 83.333333
A8: =IF('Forms Entry'!A6="","",'Forms Entry'!A6) -> 2 | B8: =IF('Forms Entry'!B6="","",'Forms Entry'!B6) -> Ashwini Kumar 2 | C8: =IF('Forms Entry'!C6="","",'Forms Entry'!C6) -> Sh M.R.Shastri 2 | D8: =IF('Forms Entry'!D6="","",'Forms Entry'!D6) -> 32180 | E8: =IF('Forms Entry'!E6="","",'Forms Entry'!E6) -> SC | F8: =IF('Forms Entry'!F6="","",'Forms Entry'!F6) -> अध्यापक लेवल 1 | G8: =IF('Forms Entry'!G6="","",'Forms Entry'!G6) | H8: =IF('Forms Entry'!H6="","",'Forms Entry'!H6) -> GUPS 151 | I8: 600 | J8: 450 | K8: 550 | L8: 400 | M8: 1800 | N8: 1220 | O8: 900 | P8: 450 | Q8: 1000 | R8: 400 | S8: 1200 | T8: 1000 | X8: =IF(J8="","",J8/I8*100) -> 75 | Y8: =IF(L8="","",L8/K8*100) -> 72.727273 | Z8: =IF(N8="","",N8/M8*100) -> 67.777778 | AA8: =IF(P8="","",P8/O8*100) -> 50 | AB8: =IF(R8="","",R8/Q8*100) -> 40 | AC8: =IF(T8="","",T8/S8*100) -> 83.333333
A9: =IF('Forms Entry'!A7="","",'Forms Entry'!A7) -> 3 | B9: =IF('Forms Entry'!B7="","",'Forms Entry'!B7) -> Ashwini Kumar 3 | C9: =IF('Forms Entry'!C7="","",'Forms Entry'!C7) -> Sh M.R.Shastri 3 | D9: =IF('Forms Entry'!D7="","",'Forms Entry'!D7) -> 32181 | E9: =IF('Forms Entry'!E7="","",'Forms Entry'!E7) -> ST | F9: =IF('Forms Entry'!F7="","",'Forms Entry'!F7) -> वरिष्ठ अध्यापक | G9: =IF('Forms Entry'!G7="","",'Forms Entry'!G7) | H9: =IF('Forms Entry'!H7="","",'Forms Entry'!H7) -> GUPS 125 | I9: 600 | J9: 450 | K9: 550 | L9: 300 | M9: 1800 | N9: 1220 | O9: 900 | P9: 450 | Q9: 1000 | R9: 400 | S9: 1200 | T9: 1000 | X9: =IF(J9="","",J9/I9*100) -> 75 | Y9: =IF(L9="","",L9/K9*100) -> 54.545455 | Z9: =IF(N9="","",N9/M9*100) -> 67.777778 | AA9: =IF(P9="","",P9/O9*100) -> 50 | AB9: =IF(R9="","",R9/Q9*100) -> 40 | AC9: =IF(T9="","",T9/S9*100) -> 83.333333
A10: =IF('Forms Entry'!A8="","",'Forms Entry'!A8) -> 4 | B10: =IF('Forms Entry'!B8="","",'Forms Entry'!B8) -> Ashwini Kumar 4 | C10: =IF('Forms Entry'!C8="","",'Forms Entry'!C8) -> Sh M.R.Shastri 4 | D10: =IF('Forms Entry'!D8="","",'Forms Entry'!D8) -> 32182 | E10: =IF('Forms Entry'!E8="","",'Forms Entry'!E8) -> OBC | F10: =IF('Forms Entry'!F8="","",'Forms Entry'!F8) -> वरिष्ठ अध्यापक | G10: =IF('Forms Entry'!G8="","",'Forms Entry'!G8) | H10: =IF('Forms Entry'!H8="","",'Forms Entry'!H8) -> GUPS 126 | I10: 600 | J10: 450 | K10: 550 | L10: 300 | M10: 1800 | N10: 1220 | O10: 900 | P10: 450 | Q10: 1000 | R10: 400 | S10: 1200 | T10: 1000 | X10: =IF(J10="","",J10/I10*100) -> 75 | Y10: =IF(L10="","",L10/K10*100) -> 54.545455 | Z10: =IF(N10="","",N10/M10*100) -> 67.777778 | AA10: =IF(P10="","",P10/O10*100) -> 50 | AB10: =IF(R10="","",R10/Q10*100) -> 40 | AC10: =IF(T10="","",T10/S10*100) -> 83.333333
A11: =IF('Forms Entry'!A9="","",'Forms Entry'!A9) -> 5 | B11: =IF('Forms Entry'!B9="","",'Forms Entry'!B9) -> Ashwini Kumar 5 | C11: =IF('Forms Entry'!C9="","",'Forms Entry'!C9) -> Sh M.R.Shastri 5 | D11: =IF('Forms Entry'!D9="","",'Forms Entry'!D9) -> 32183 | E11: =IF('Forms Entry'!E9="","",'Forms Entry'!E9) -> EWS | F11: =IF('Forms Entry'!F9="","",'Forms Entry'!F9) -> शारीरिक शिक्षक | G11: =IF('Forms Entry'!G9="","",'Forms Entry'!G9) | H11: =IF('Forms Entry'!H9="","",'Forms Entry'!H9) -> GUPS 127 | I11: 600 | J11: 450 | K11: 550 | L11: 300 | M11: 1800 | N11: 1220 | O11: 900 | P11: 450 | Q11: 1000 | R11: 400 | S11: 1200 | T11: 1000 | X11: =IF(J11="","",J11/I11*100) -> 75 | Y11: =IF(L11="","",L11/K11*100) -> 54.545455 | Z11: =IF(N11="","",N11/M11*100) -> 67.777778 | AA11: =IF(P11="","",P11/O11*100) -> 50 | AB11: =IF(R11="","",R11/Q11*100) -> 40 | AC11: =IF(T11="","",T11/S11*100) -> 83.333333
A12: =IF('Forms Entry'!A10="","",'Forms Entry'!A10) -> 6 | B12: =IF('Forms Entry'!B10="","",'Forms Entry'!B10) -> Ashwini Kumar 6 | C12: =IF('Forms Entry'!C10="","",'Forms Entry'!C10) -> Sh M.R.Shastri 6 | D12: =IF('Forms Entry'!D10="","",'Forms Entry'!D10) -> 32184 | E12: =IF('Forms Entry'!E10="","",'Forms Entry'!E10) -> other 1 | F12: =IF('Forms Entry'!F10="","",'Forms Entry'!F10) -> प्रयोगशाला सहायक | G12: =IF('Forms Entry'!G10="","",'Forms Entry'!G10) | H12: =IF('Forms Entry'!H10="","",'Forms Entry'!H10) -> GUPS 128 | I12: 600 | J12: 450 | K12: 550 | L12: 300 | M12: 1800 | N12: 1220 | O12: 900 | P12: 450 | Q12: 1000 | R12: 400 | S12: 1200 | T12: 1000 | X12: =IF(J12="","",J12/I12*100) -> 75 | Y12: =IF(L12="","",L12/K12*100) -> 54.545455 | Z12: =IF(N12="","",N12/M12*100) -> 67.777778 | AA12: =IF(P12="","",P12/O12*100) -> 50 | AB12: =IF(R12="","",R12/Q12*100) -> 40 | AC12: =IF(T12="","",T12/S12*100) -> 83.333333
A13: =IF('Forms Entry'!A11="","",'Forms Entry'!A11) -> 7 | B13: =IF('Forms Entry'!B11="","",'Forms Entry'!B11) -> Ashwini Kumar 7 | C13: =IF('Forms Entry'!C11="","",'Forms Entry'!C11) -> Sh M.R.Shastri 7 | D13: =IF('Forms Entry'!D11="","",'Forms Entry'!D11) -> 32185 | E13: =IF('Forms Entry'!E11="","",'Forms Entry'!E11) -> GEN | F13: =IF('Forms Entry'!F11="","",'Forms Entry'!F11) -> अध्यापक लेवल 2 | G13: =IF('Forms Entry'!G11="","",'Forms Entry'!G11) | H13: =IF('Forms Entry'!H11="","",'Forms Entry'!H11) -> GUPS 129 | I13: 600 | J13: 450 | K13: 550 | L13: 300 | M13: 1800 | N13: 1220 | O13: 900 | P13: 450 | Q13: 1000 | R13: 400 | S13: 1200 | T13: 1000 | X13: =IF(J13="","",J13/I13*100) -> 75 | Y13: =IF(L13="","",L13/K13*100) -> 54.545455 | Z13: =IF(N13="","",N13/M13*100) -> 67.777778 | AA13: =IF(P13="","",P13/O13*100) -> 50 | AB13: =IF(R13="","",R13/Q13*100) -> 40 | AC13: =IF(T13="","",T13/S13*100) -> 83.333333
A14: =IF('Forms Entry'!A12="","",'Forms Entry'!A12) -> 8 | B14: =IF('Forms Entry'!B12="","",'Forms Entry'!B12) -> Ashwini Kumar 8 | C14: =IF('Forms Entry'!C12="","",'Forms Entry'!C12) -> Sh M.R.Shastri 8 | D14: =IF('Forms Entry'!D12="","",'Forms Entry'!D12) -> 32186 | E14: =IF('Forms Entry'!E12="","",'Forms Entry'!E12) -> SC | F14: =IF('Forms Entry'!F12="","",'Forms Entry'!F12) -> प्राध्यापक | G14: =IF('Forms Entry'!G12="","",'Forms Entry'!G12) | H14: =IF('Forms Entry'!H12="","",'Forms Entry'!H12) -> GUPS 130 | I14: 600 | J14: 450 | K14: 550 | L14: 300 | M14: 1800 | N14: 1220 | O14: 900 | P14: 450 | Q14: 1000 | R14: 400 | S14: 1200 | T14: 1000 | X14: =IF(J14="","",J14/I14*100) -> 75 | Y14: =IF(L14="","",L14/K14*100) -> 54.545455 | Z14: =IF(N14="","",N14/M14*100) -> 67.777778 | AA14: =IF(P14="","",P14/O14*100) -> 50 | AB14: =IF(R14="","",R14/Q14*100) -> 40 | AC14: =IF(T14="","",T14/S14*100) -> 83.333333
A15: =IF('Forms Entry'!A13="","",'Forms Entry'!A13) -> 9 | B15: =IF('Forms Entry'!B13="","",'Forms Entry'!B13) | C15: =IF('Forms Entry'!C13="","",'Forms Entry'!C13) | D15: =IF('Forms Entry'!D13="","",'Forms Entry'!D13) | E15: =IF('Forms Entry'!E13="","",'Forms Entry'!E13) | F15: =IF('Forms Entry'!F13="","",'Forms Entry'!F13) | G15: =IF('Forms Entry'!G13="","",'Forms Entry'!G13) | H15: =IF('Forms Entry'!H13="","",'Forms Entry'!H13) | I15: 600 | K15: 550 | M15: 1800 | O15: 900 | Q15: 1000 | S15: 1200 | X15: =IF(J15="","",J15/I15*100) | Y15: =IF(L15="","",L15/K15*100) | Z15: =IF(N15="","",N15/M15*100) | AA15: =IF(P15="","",P15/O15*100) | AB15: =IF(R15="","",R15/Q15*100) | AC15: =IF(T15="","",T15/S15*100)
A16: =IF('Forms Entry'!A14="","",'Forms Entry'!A14) -> 10 | B16: =IF('Forms Entry'!B14="","",'Forms Entry'!B14) | C16: =IF('Forms Entry'!C14="","",'Forms Entry'!C14) | D16: =IF('Forms Entry'!D14="","",'Forms Entry'!D14) | E16: =IF('Forms Entry'!E14="","",'Forms Entry'!E14) | F16: =IF('Forms Entry'!F14="","",'Forms Entry'!F14) | G16: =IF('Forms Entry'!G14="","",'Forms Entry'!G14) | H16: =IF('Forms Entry'!H14="","",'Forms Entry'!H14) | I16: 600 | K16: 550 | M16: 1800 | O16: 900 | Q16: 1000 | S16: 1200 | X16: =IF(J16="","",J16/I16*100) | Y16: =IF(L16="","",L16/K16*100) | Z16: =IF(N16="","",N16/M16*100) | AA16: =IF(P16="","",P16/O16*100) | AB16: =IF(R16="","",R16/Q16*100) | AC16: =IF(T16="","",T16/S16*100)
A17: =IF('Forms Entry'!A15="","",'Forms Entry'!A15) -> 11 | B17: =IF('Forms Entry'!B15="","",'Forms Entry'!B15) | C17: =IF('Forms Entry'!C15="","",'Forms Entry'!C15) | D17: =IF('Forms Entry'!D15="","",'Forms Entry'!D15) | E17: =IF('Forms Entry'!E15="","",'Forms Entry'!E15) | F17: =IF('Forms Entry'!F15="","",'Forms Entry'!F15) | G17: =IF('Forms Entry'!G15="","",'Forms Entry'!G15) | H17: =IF('Forms Entry'!H15="","",'Forms Entry'!H15) | I17: 600 | K17: 550 | M17: 1800 | O17: 900 | Q17: 1000 | S17: 1200 | X17: =IF(J17="","",J17/I17*100) | Y17: =IF(L17="","",L17/K17*100) | Z17: =IF(N17="","",N17/M17*100) | AA17: =IF(P17="","",P17/O17*100) | AB17: =IF(R17="","",R17/Q17*100) | AC17: =IF(T17="","",T17/S17*100)
A18: =IF('Forms Entry'!A16="","",'Forms Entry'!A16) -> 12 | B18: =IF('Forms Entry'!B16="","",'Forms Entry'!B16) | C18: =IF('Forms Entry'!C16="","",'Forms Entry'!C16) | D18: =IF('Forms Entry'!D16="","",'Forms Entry'!D16) | E18: =IF('Forms Entry'!E16="","",'Forms Entry'!E16) | F18: =IF('Forms Entry'!F16="","",'Forms Entry'!F16) | G18: =IF('Forms Entry'!G16="","",'Forms Entry'!G16) | H18: =IF('Forms Entry'!H16="","",'Forms Entry'!H16) | I18: 600 | K18: 550 | M18: 1800 | O18: 900 | Q18: 1000 | S18: 1200 | X18: =IF(J18="","",J18/I18*100) | Y18: =IF(L18="","",L18/K18*100) | Z18: =IF(N18="","",N18/M18*100) | AA18: =IF(P18="","",P18/O18*100) | AB18: =IF(R18="","",R18/Q18*100) | AC18: =IF(T18="","",T18/S18*100)
A19: =IF('Forms Entry'!A17="","",'Forms Entry'!A17) -> 13 | B19: =IF('Forms Entry'!B17="","",'Forms Entry'!B17) | C19: =IF('Forms Entry'!C17="","",'Forms Entry'!C17) | D19: =IF('Forms Entry'!D17="","",'Forms Entry'!D17) | E19: =IF('Forms Entry'!E17="","",'Forms Entry'!E17) | F19: =IF('Forms Entry'!F17="","",'Forms Entry'!F17) | G19: =IF('Forms Entry'!G17="","",'Forms Entry'!G17) | H19: =IF('Forms Entry'!H17="","",'Forms Entry'!H17) | I19: 600 | K19: 550 | M19: 1800 | O19: 900 | Q19: 1000 | S19: 1200 | X19: =IF(J19="","",J19/I19*100) | Y19: =IF(L19="","",L19/K19*100) | Z19: =IF(N19="","",N19/M19*100) | AA19: =IF(P19="","",P19/O19*100) | AB19: =IF(R19="","",R19/Q19*100) | AC19: =IF(T19="","",T19/S19*100)
A20: =IF('Forms Entry'!A18="","",'Forms Entry'!A18) -> 14 | B20: =IF('Forms Entry'!B18="","",'Forms Entry'!B18) | C20: =IF('Forms Entry'!C18="","",'Forms Entry'!C18) | D20: =IF('Forms Entry'!D18="","",'Forms Entry'!D18) | E20: =IF('Forms Entry'!E18="","",'Forms Entry'!E18) | F20: =IF('Forms Entry'!F18="","",'Forms Entry'!F18) | G20: =IF('Forms Entry'!G18="","",'Forms Entry'!G18) | H20: =IF('Forms Entry'!H18="","",'Forms Entry'!H18) | I20: 600 | K20: 550 | M20: 1800 | O20: 900 | Q20: 1000 | S20: 1200 | X20: =IF(J20="","",J20/I20*100) | Y20: =IF(L20="","",L20/K20*100) | Z20: =IF(N20="","",N20/M20*100) | AA20: =IF(P20="","",P20/O20*100) | AB20: =IF(R20="","",R20/Q20*100) | AC20: =IF(T20="","",T20/S20*100)
A21: =IF('Forms Entry'!A19="","",'Forms Entry'!A19) -> 15 | B21: =IF('Forms Entry'!B19="","",'Forms Entry'!B19) | C21: =IF('Forms Entry'!C19="","",'Forms Entry'!C19) | D21: =IF('Forms Entry'!D19="","",'Forms Entry'!D19) | E21: =IF('Forms Entry'!E19="","",'Forms Entry'!E19) | F21: =IF('Forms Entry'!F19="","",'Forms Entry'!F19) | G21: =IF('Forms Entry'!G19="","",'Forms Entry'!G19) | H21: =IF('Forms Entry'!H19="","",'Forms Entry'!H19) | I21: 600 | K21: 550 | M21: 1800 | O21: 900 | Q21: 1000 | S21: 1200 | X21: =IF(J21="","",J21/I21*100) | Y21: =IF(L21="","",L21/K21*100) | Z21: =IF(N21="","",N21/M21*100) | AA21: =IF(P21="","",P21/O21*100) | AB21: =IF(R21="","",R21/Q21*100) | AC21: =IF(T21="","",T21/S21*100)
A22: =IF('Forms Entry'!A20="","",'Forms Entry'!A20) -> 16 | B22: =IF('Forms Entry'!B20="","",'Forms Entry'!B20) | C22: =IF('Forms Entry'!C20="","",'Forms Entry'!C20) | D22: =IF('Forms Entry'!D20="","",'Forms Entry'!D20) | E22: =IF('Forms Entry'!E20="","",'Forms Entry'!E20) | F22: =IF('Forms Entry'!F20="","",'Forms Entry'!F20) | G22: =IF('Forms Entry'!G20="","",'Forms Entry'!G20) | H22: =IF('Forms Entry'!H20="","",'Forms Entry'!H20) | I22: 600 | K22: 550 | M22: 1800 | O22: 900 | Q22: 1000 | S22: 1200 | X22: =IF(J22="","",J22/I22*100) | Y22: =IF(L22="","",L22/K22*100) | Z22: =IF(N22="","",N22/M22*100) | AA22: =IF(P22="","",P22/O22*100) | AB22: =IF(R22="","",R22/Q22*100) | AC22: =IF(T22="","",T22/S22*100)
A23: =IF('Forms Entry'!A21="","",'Forms Entry'!A21) -> 17 | B23: =IF('Forms Entry'!B21="","",'Forms Entry'!B21) | C23: =IF('Forms Entry'!C21="","",'Forms Entry'!C21) | D23: =IF('Forms Entry'!D21="","",'Forms Entry'!D21) | E23: =IF('Forms Entry'!E21="","",'Forms Entry'!E21) | F23: =IF('Forms Entry'!F21="","",'Forms Entry'!F21) | G23: =IF('Forms Entry'!G21="","",'Forms Entry'!G21) | H23: =IF('Forms Entry'!H21="","",'Forms Entry'!H21) | I23: 600 | K23: 550 | M23: 1800 | O23: 900 | Q23: 1000 | S23: 1200 | X23: =IF(J23="","",J23/I23*100) | Y23: =IF(L23="","",L23/K23*100) | Z23: =IF(N23="","",N23/M23*100) | AA23: =IF(P23="","",P23/O23*100) | AB23: =IF(R23="","",R23/Q23*100) | AC23: =IF(T23="","",T23/S23*100)
A24: =IF('Forms Entry'!A22="","",'Forms Entry'!A22) -> 18 | B24: =IF('Forms Entry'!B22="","",'Forms Entry'!B22) | C24: =IF('Forms Entry'!C22="","",'Forms Entry'!C22) | D24: =IF('Forms Entry'!D22="","",'Forms Entry'!D22) | E24: =IF('Forms Entry'!E22="","",'Forms Entry'!E22) | F24: =IF('Forms Entry'!F22="","",'Forms Entry'!F22) | G24: =IF('Forms Entry'!G22="","",'Forms Entry'!G22) | H24: =IF('Forms Entry'!H22="","",'Forms Entry'!H22) | I24: 600 | K24: 550 | M24: 1800 | O24: 900 | Q24: 1000 | S24: 1200 | X24: =IF(J24="","",J24/I24*100) | Y24: =IF(L24="","",L24/K24*100) | Z24: =IF(N24="","",N24/M24*100) | AA24: =IF(P24="","",P24/O24*100) | AB24: =IF(R24="","",R24/Q24*100) | AC24: =IF(T24="","",T24/S24*100)
A25: =IF('Forms Entry'!A23="","",'Forms Entry'!A23) -> 19 | B25: =IF('Forms Entry'!B23="","",'Forms Entry'!B23) | C25: =IF('Forms Entry'!C23="","",'Forms Entry'!C23) | D25: =IF('Forms Entry'!D23="","",'Forms Entry'!D23) | E25: =IF('Forms Entry'!E23="","",'Forms Entry'!E23) | F25: =IF('Forms Entry'!F23="","",'Forms Entry'!F23) | G25: =IF('Forms Entry'!G23="","",'Forms Entry'!G23) | H25: =IF('Forms Entry'!H23="","",'Forms Entry'!H23) | I25: 600 | K25: 550 | M25: 1800 | O25: 900 | Q25: 1000 | S25: 1200 | X25: =IF(J25="","",J25/I25*100) | Y25: =IF(L25="","",L25/K25*100) | Z25: =IF(N25="","",N25/M25*100) | AA25: =IF(P25="","",P25/O25*100) | AB25: =IF(R25="","",R25/Q25*100) | AC25: =IF(T25="","",T25/S25*100)
A26: =IF('Forms Entry'!A24="","",'Forms Entry'!A24) -> 20 | B26: =IF('Forms Entry'!B24="","",'Forms Entry'!B24) | C26: =IF('Forms Entry'!C24="","",'Forms Entry'!C24) | D26: =IF('Forms Entry'!D24="","",'Forms Entry'!D24) | E26: =IF('Forms Entry'!E24="","",'Forms Entry'!E24) | F26: =IF('Forms Entry'!F24="","",'Forms Entry'!F24) | G26: =IF('Forms Entry'!G24="","",'Forms Entry'!G24) | H26: =IF('Forms Entry'!H24="","",'Forms Entry'!H24) | I26: 600 | K26: 550 | M26: 1800 | O26: 900 | Q26: 1000 | S26: 1200 | X26: =IF(J26="","",J26/I26*100) | Y26: =IF(L26="","",L26/K26*100) | Z26: =IF(N26="","",N26/M26*100) | AA26: =IF(P26="","",P26/O26*100) | AB26: =IF(R26="","",R26/Q26*100) | AC26: =IF(T26="","",T26/S26*100)
... A31: =IF('Forms Entry'!A29="","",'Forms Entry'!A29) -> 25 | B31: =IF('Forms Entry'!B29="","",'Forms Entry'!B29) | C31: =IF('Forms Entry'!C29="","",'Forms Entry'!C29) | D31: =IF('Forms Entry'!D29="","",'Forms Entry'!D29) | E31: =IF('Forms Entry'!E29="","",'Forms Entry'!E29) | F31: =IF('Forms Entry'!F29="","",'Forms Entry'!F29) | G31: =IF('Forms Entry'!G29="","",'Forms Entry'!G29) | H31: =IF('Forms Entry'!H29="","",'Forms Entry'!H29) | I31: 600 | K31: 550 | M31: 1800 | O31: 900 | Q31: 1000 | S31: 1200 | X31: =IF(J31="","",J31/I31*100) | Y31: =IF(L31="","",L31/K31*100) | Z31: =IF(N31="","",N31/M31*100) | AA31: =IF(P31="","",P31/O31*100) | AB31: =IF(R31="","",R31/Q31*100) | AC31: =IF(T31="","",T31/S31*100)
A32: =IF('Forms Entry'!A30="","",'Forms Entry'!A30) -> 26 | B32: =IF('Forms Entry'!B30="","",'Forms Entry'!B30) | C32: =IF('Forms Entry'!C30="","",'Forms Entry'!C30) | D32: =IF('Forms Entry'!D30="","",'Forms Entry'!D30) | E32: =IF('Forms Entry'!E30="","",'Forms Entry'!E30) | F32: =IF('Forms Entry'!F30="","",'Forms Entry'!F30) | G32: =IF('Forms Entry'!G30="","",'Forms Entry'!G30) | H32: =IF('Forms Entry'!H30="","",'Forms Entry'!H30) | X32: =IF(J32="","",J32/I32*100) | Y32: =IF(L32="","",L32/K32*100) | Z32: =IF(N32="","",N32/M32*100) | AA32: =IF(P32="","",P32/O32*100) | AB32: =IF(R32="","",R32/Q32*100) | AC32: =IF(T32="","",T32/S32*100)
A33: =IF('Forms Entry'!A31="","",'Forms Entry'!A31) -> 27 | B33: =IF('Forms Entry'!B31="","",'Forms Entry'!B31) | C33: =IF('Forms Entry'!C31="","",'Forms Entry'!C31) | D33: =IF('Forms Entry'!D31="","",'Forms Entry'!D31) | E33: =IF('Forms Entry'!E31="","",'Forms Entry'!E31) | F33: =IF('Forms Entry'!F31="","",'Forms Entry'!F31) | G33: =IF('Forms Entry'!G31="","",'Forms Entry'!G31) | H33: =IF('Forms Entry'!H31="","",'Forms Entry'!H31) | X33: =IF(J33="","",J33/I33*100) | Y33: =IF(L33="","",L33/K33*100) | Z33: =IF(N33="","",N33/M33*100) | AA33: =IF(P33="","",P33/O33*100) | AB33: =IF(R33="","",R33/Q33*100) | AC33: =IF(T33="","",T33/S33*100)
A34: =IF('Forms Entry'!A32="","",'Forms Entry'!A32) -> 28 | B34: =IF('Forms Entry'!B32="","",'Forms Entry'!B32) | C34: =IF('Forms Entry'!C32="","",'Forms Entry'!C32) | D34: =IF('Forms Entry'!D32="","",'Forms Entry'!D32) | E34: =IF('Forms Entry'!E32="","",'Forms Entry'!E32) | F34: =IF('Forms Entry'!F32="","",'Forms Entry'!F32) | G34: =IF('Forms Entry'!G32="","",'Forms Entry'!G32) | H34: =IF('Forms Entry'!H32="","",'Forms Entry'!H32) | X34: =IF(J34="","",J34/I34*100) | Y34: =IF(L34="","",L34/K34*100) | Z34: =IF(N34="","",N34/M34*100) | AA34: =IF(P34="","",P34/O34*100) | AB34: =IF(R34="","",R34/Q34*100) | AC34: =IF(T34="","",T34/S34*100)
A35: =IF('Forms Entry'!A33="","",'Forms Entry'!A33) -> 29 | B35: =IF('Forms Entry'!B33="","",'Forms Entry'!B33) | C35: =IF('Forms Entry'!C33="","",'Forms Entry'!C33) | D35: =IF('Forms Entry'!D33="","",'Forms Entry'!D33) | E35: =IF('Forms Entry'!E33="","",'Forms Entry'!E33) | F35: =IF('Forms Entry'!F33="","",'Forms Entry'!F33) | G35: =IF('Forms Entry'!G33="","",'Forms Entry'!G33) | H35: =IF('Forms Entry'!H33="","",'Forms Entry'!H33) | X35: =IF(J35="","",J35/I35*100) | Y35: =IF(L35="","",L35/K35*100) | Z35: =IF(N35="","",N35/M35*100) | AA35: =IF(P35="","",P35/O35*100) | AB35: =IF(R35="","",R35/Q35*100) | AC35: =IF(T35="","",T35/S35*100)
A36: =IF('Forms Entry'!A34="","",'Forms Entry'!A34) -> 30 | B36: =IF('Forms Entry'!B34="","",'Forms Entry'!B34) | C36: =IF('Forms Entry'!C34="","",'Forms Entry'!C34) | D36: =IF('Forms Entry'!D34="","",'Forms Entry'!D34) | E36: =IF('Forms Entry'!E34="","",'Forms Entry'!E34) | F36: =IF('Forms Entry'!F34="","",'Forms Entry'!F34) | G36: =IF('Forms Entry'!G34="","",'Forms Entry'!G34) | H36: =IF('Forms Entry'!H34="","",'Forms Entry'!H34) | X36: =IF(J36="","",J36/I36*100) | Y36: =IF(L36="","",L36/K36*100) | Z36: =IF(N36="","",N36/M36*100) | AA36: =IF(P36="","",P36/O36*100) | AB36: =IF(R36="","",R36/Q36*100) | AC36: =IF(T36="","",T36/S36*100)
A37: =IF('Forms Entry'!A35="","",'Forms Entry'!A35) -> 31 | B37: =IF('Forms Entry'!B35="","",'Forms Entry'!B35) | C37: =IF('Forms Entry'!C35="","",'Forms Entry'!C35) | D37: =IF('Forms Entry'!D35="","",'Forms Entry'!D35) | E37: =IF('Forms Entry'!E35="","",'Forms Entry'!E35) | F37: =IF('Forms Entry'!F35="","",'Forms Entry'!F35) | G37: =IF('Forms Entry'!G35="","",'Forms Entry'!G35) | H37: =IF('Forms Entry'!H35="","",'Forms Entry'!H35) | X37: =IF(J37="","",J37/I37*100) | Y37: =IF(L37="","",L37/K37*100) | Z37: =IF(N37="","",N37/M37*100) | AA37: =IF(P37="","",P37/O37*100) | AB37: =IF(R37="","",R37/Q37*100) | AC37: =IF(T37="","",T37/S37*100)
A38: =IF('Forms Entry'!A36="","",'Forms Entry'!A36) -> 32 | B38: =IF('Forms Entry'!B36="","",'Forms Entry'!B36) | C38: =IF('Forms Entry'!C36="","",'Forms Entry'!C36) | D38: =IF('Forms Entry'!D36="","",'Forms Entry'!D36) | E38: =IF('Forms Entry'!E36="","",'Forms Entry'!E36) | F38: =IF('Forms Entry'!F36="","",'Forms Entry'!F36) | G38: =IF('Forms Entry'!G36="","",'Forms Entry'!G36) | H38: =IF('Forms Entry'!H36="","",'Forms Entry'!H36) | X38: =IF(J38="","",J38/I38*100) | Y38: =IF(L38="","",L38/K38*100) | Z38: =IF(N38="","",N38/M38*100) | AA38: =IF(P38="","",P38/O38*100) | AB38: =IF(R38="","",R38/Q38*100) | AC38: =IF(T38="","",T38/S38*100)
A39: =IF('Forms Entry'!A37="","",'Forms Entry'!A37) -> 33 | B39: =IF('Forms Entry'!B37="","",'Forms Entry'!B37) | C39: =IF('Forms Entry'!C37="","",'Forms Entry'!C37) | D39: =IF('Forms Entry'!D37="","",'Forms Entry'!D37) | E39: =IF('Forms Entry'!E37="","",'Forms Entry'!E37) | F39: =IF('Forms Entry'!F37="","",'Forms Entry'!F37) | G39: =IF('Forms Entry'!G37="","",'Forms Entry'!G37) | H39: =IF('Forms Entry'!H37="","",'Forms Entry'!H37) | X39: =IF(J39="","",J39/I39*100) | Y39: =IF(L39="","",L39/K39*100) | Z39: =IF(N39="","",N39/M39*100) | AA39: =IF(P39="","",P39/O39*100) | AB39: =IF(R39="","",R39/Q39*100) | AC39: =IF(T39="","",T39/S39*100)
A40: =IF('Forms Entry'!A38="","",'Forms Entry'!A38) -> 34 | B40: =IF('Forms Entry'!B38="","",'Forms Entry'!B38) | C40: =IF('Forms Entry'!C38="","",'Forms Entry'!C38) | D40: =IF('Forms Entry'!D38="","",'Forms Entry'!D38) | E40: =IF('Forms Entry'!E38="","",'Forms Entry'!E38) | F40: =IF('Forms Entry'!F38="","",'Forms Entry'!F38) | G40: =IF('Forms Entry'!G38="","",'Forms Entry'!G38) | H40: =IF('Forms Entry'!H38="","",'Forms Entry'!H38) | X40: =IF(J40="","",J40/I40*100) | Y40: =IF(L40="","",L40/K40*100) | Z40: =IF(N40="","",N40/M40*100) | AA40: =IF(P40="","",P40/O40*100) | AB40: =IF(R40="","",R40/Q40*100) | AC40: =IF(T40="","",T40/S40*100)
A41: =IF('Forms Entry'!A39="","",'Forms Entry'!A39) -> 35 | B41: =IF('Forms Entry'!B39="","",'Forms Entry'!B39) | C41: =IF('Forms Entry'!C39="","",'Forms Entry'!C39) | D41: =IF('Forms Entry'!D39="","",'Forms Entry'!D39) | E41: =IF('Forms Entry'!E39="","",'Forms Entry'!E39) | F41: =IF('Forms Entry'!F39="","",'Forms Entry'!F39) | G41: =IF('Forms Entry'!G39="","",'Forms Entry'!G39) | H41: =IF('Forms Entry'!H39="","",'Forms Entry'!H39) | X41: =IF(J41="","",J41/I41*100) | Y41: =IF(L41="","",L41/K41*100) | Z41: =IF(N41="","",N41/M41*100) | AA41: =IF(P41="","",P41/O41*100) | AB41: =IF(R41="","",R41/Q41*100) | AC41: =IF(T41="","",T41/S41*100)
A42: =IF('Forms Entry'!A40="","",'Forms Entry'!A40) -> 36 | B42: =IF('Forms Entry'!B40="","",'Forms Entry'!B40) | C42: =IF('Forms Entry'!C40="","",'Forms Entry'!C40) | D42: =IF('Forms Entry'!D40="","",'Forms Entry'!D40) | E42: =IF('Forms Entry'!E40="","",'Forms Entry'!E40) | F42: =IF('Forms Entry'!F40="","",'Forms Entry'!F40) | G42: =IF('Forms Entry'!G40="","",'Forms Entry'!G40) | H42: =IF('Forms Entry'!H40="","",'Forms Entry'!H40) | X42: =IF(J42="","",J42/I42*100) | Y42: =IF(L42="","",L42/K42*100) | Z42: =IF(N42="","",N42/M42*100) | AA42: =IF(P42="","",P42/O42*100) | AB42: =IF(R42="","",R42/Q42*100) | AC42: =IF(T42="","",T42/S42*100)
A43: =IF('Forms Entry'!A41="","",'Forms Entry'!A41) -> 37 | B43: =IF('Forms Entry'!B41="","",'Forms Entry'!B41) | C43: =IF('Forms Entry'!C41="","",'Forms Entry'!C41) | D43: =IF('Forms Entry'!D41="","",'Forms Entry'!D41) | E43: =IF('Forms Entry'!E41="","",'Forms Entry'!E41) | F43: =IF('Forms Entry'!F41="","",'Forms Entry'!F41) | G43: =IF('Forms Entry'!G41="","",'Forms Entry'!G41) | H43: =IF('Forms Entry'!H41="","",'Forms Entry'!H41) | X43: =IF(J43="","",J43/I43*100) | Y43: =IF(L43="","",L43/K43*100) | Z43: =IF(N43="","",N43/M43*100) | AA43: =IF(P43="","",P43/O43*100) | AB43: =IF(R43="","",R43/Q43*100) | AC43: =IF(T43="","",T43/S43*100)
... A205: =IF('Forms Entry'!A203="","",'Forms Entry'!A203) -> 199 | B205: =IF('Forms Entry'!B203="","",'Forms Entry'!B203) | C205: =IF('Forms Entry'!C203="","",'Forms Entry'!C203) | D205: =IF('Forms Entry'!D203="","",'Forms Entry'!D203) | E205: =IF('Forms Entry'!E203="","",'Forms Entry'!E203) | F205: =IF('Forms Entry'!F203="","",'Forms Entry'!F203) | G205: =IF('Forms Entry'!G203="","",'Forms Entry'!G203) | H205: =IF('Forms Entry'!H203="","",'Forms Entry'!H203) | X205: =IF(J205="","",J205/I205*100) | Y205: =IF(L205="","",L205/K205*100) | Z205: =IF(N205="","",N205/M205*100) | AA205: =IF(P205="","",P205/O205*100) | AB205: =IF(R205="","",R205/Q205*100) | AC205: =IF(T205="","",T205/S205*100)
A206: =IF('Forms Entry'!A204="","",'Forms Entry'!A204) -> 200 | B206: =IF('Forms Entry'!B204="","",'Forms Entry'!B204) -> Ashwini Kumar 123 | C206: =IF('Forms Entry'!C204="","",'Forms Entry'!C204) -> M R Shastri 123 | D206: =IF('Forms Entry'!D204="","",'Forms Entry'!D204) -> 32143 | E206: =IF('Forms Entry'!E204="","",'Forms Entry'!E204) -> GEN | F206: =IF('Forms Entry'!F204="","",'Forms Entry'!F204) -> शारीरिक शिक्षक | G206: =IF('Forms Entry'!G204="","",'Forms Entry'!G204) | H206: =IF('Forms Entry'!H204="","",'Forms Entry'!H204) -> GUPS 140 | I206: 600 | J206: 500 | K206: 550 | L206: 400 | M206: 1800 | N206: 1600 | O206: 900 | P206: 560 | Q206: 1000 | R206: 800 | X206: =IF(J206="","",J206/I206*100) -> 83.333333 | Y206: =IF(L206="","",L206/K206*100) -> 72.727273 | Z206: =IF(N206="","",N206/M206*100) -> 88.888889 | AA206: =IF(P206="","",P206/O206*100) -> 62.222222 | AB206: =IF(R206="","",R206/Q206*100) -> 80 | AC206: =IF(T206="","",T206/S206*100)

Sheet Total Forms with Marks
D1: ='Forms Entry'!A1 -> कार्यालय --------------------------------------------------------------------------------------------------------------
D2: प्राप्त आवेदन पत्रों की सूची अंको सहित
D4: क्र.सं. | E4: आवेदनकर्त्ता का नाम | F4: पिता का नाम | G4: जन्म दिनांक | H4: वर्ग | I4: पद जिसके लिए आवेदन किया | J4: विषय | K4: विद्यालय का नाम जिस हेतु आवेदन किया है | L4: शैक्षणिक योग्यता में प्राप्तांक का 75% | M4: प्रशैक्षणिक योग्यता में प्राप्तांक का 25% | N4: योग शैक्षणिक एवं प्रशैक्षणिक | Q4: Post Name
A5: =B5&"_"&C5 -> GUPS 123_1_अध्यापक लेवल 1_1 | B5: =K5&"_"&COUNTIF($K$5:K5,K5) -> GUPS 123_1 | C5: =I5&"_"&COUNTIF($I$5:I5,I5) -> अध्यापक लेवल 1_1 | D5: =IF('Marks Entry'!A7="","",'Marks Entry'!A7) -> 1 | E5: =IF('Marks Entry'!B7="","",'Marks Entry'!B7) -> Ashwini Kumar 1 | F5: =IF('Marks Entry'!C7="","",'Marks Entry'!C7) -> Sh M.R.Shastri 1 | G5: =IF('Marks Entry'!D7="","",'Marks Entry'!D7) -> 32179 | H5: =IF('Marks Entry'!E7="","",'Marks Entry'!E7) -> GEN | I5: =IF('Marks Entry'!F7="","",'Marks Entry'!F7) -> अध्यापक लेवल 1 | J5: =IF('Marks Entry'!G7="","",'Marks Entry'!G7) | K5: =IF('Marks Entry'!H7="","",'Marks Entry'!H7) -> GUPS 123 | L5: =IF(I5=$Q$5,'Marks Entry'!Y7*75%,IF(I5=$Q$6,'Marks Entry'!Z7*75%,IF(I5=$Q$7,'Marks Entry'!Z7*75%,IF(I5=$Q$8,'Marks Entry'!AA7*75%,IF(I5=$Q$9,'Marks Entry'!Z7*75%,IF(I5=$Q$10,'Marks Entry'!Y7*75%,"")))))) -> 40.909091 | M5: =IF(I5=$Q$5,'Marks Entry'!AC7*25%,IF(I5=$Q$6,'Marks Entry'!AB7*25%,IF(I5=$Q$7,'Marks Entry'!AB7*25%,IF(I5=$Q$8,'Marks Entry'!AB7*25%,IF(I5=$Q$9,'Marks Entry'!AB7*25%,IF(I5=$Q$10,'Marks Entry'!AC7*25%,"")))))) -> 20.833333 | N5: =IF(AND(L5="",M5=""),"",SUM(L5:M5)) -> 61.742424 | Q5: =Table3[[#This Row],[Post Name]] -> अध्यापक लेवल 1 | S5: =I5 -> अध्यापक लेवल 1 | T5: =E5 -> Ashwini Kumar 1 | U5: =F5 -> Sh M.R.Shastri 1 | V5: =G5 -> 32179 | W5: =H5 -> GEN | X5: =J5 | Y5: =L5 -> 40.909091 | Z5: =M5 -> 20.833333 | AA5: =N5 -> 61.742424 | AB5: =#REF! -> #REF!
A6: =B6&"_"&C6 -> GUPS 151_1_अध्यापक लेवल 1_2 | B6: =K6&"_"&COUNTIF($K$5:K6,K6) -> GUPS 151_1 | C6: =I6&"_"&COUNTIF($I$5:I6,I6) -> अध्यापक लेवल 1_2 | D6: =IF('Marks Entry'!A8="","",'Marks Entry'!A8) -> 2 | E6: =IF('Marks Entry'!B8="","",'Marks Entry'!B8) -> Ashwini Kumar 2 | F6: =IF('Marks Entry'!C8="","",'Marks Entry'!C8) -> Sh M.R.Shastri 2 | G6: =IF('Marks Entry'!D8="","",'Marks Entry'!D8) -> 32180 | H6: =IF('Marks Entry'!E8="","",'Marks Entry'!E8) -> SC | I6: =IF('Marks Entry'!F8="","",'Marks Entry'!F8) -> अध्यापक लेवल 1 | J6: =IF('Marks Entry'!G8="","",'Marks Entry'!G8) | K6: =IF('Marks Entry'!H8="","",'Marks Entry'!H8) -> GUPS 151 | L6: =IF(I6=$Q$5,'Marks Entry'!Y8*75%,IF(I6=$Q$6,'Marks Entry'!Z8*75%,IF(I6=$Q$7,'Marks Entry'!Z8*75%,IF(I6=$Q$8,'Marks Entry'!AA8*75%,IF(I6=$Q$9,'Marks Entry'!Z8*75%,IF(I6=$Q$10,'Marks Entry'!Y8*75%,"")))))) -> 54.545455 | M6: =IF(I6=$Q$5,'Marks Entry'!AC8*25%,IF(I6=$Q$6,'Marks Entry'!AB8*25%,IF(I6=$Q$7,'Marks Entry'!AB8*25%,IF(I6=$Q$8,'Marks Entry'!AB8*25%,IF(I6=$Q$9,'Marks Entry'!AB8*25%,IF(I6=$Q$10,'Marks Entry'!AC8*25%,"")))))) -> 20.833333 | N6: =IF(AND(L6="",M6=""),"",SUM(L6:M6)) -> 75.378788 | Q6: =Table3[[#This Row],[Post Name]] -> अध्यापक लेवल 2 | S6: =I6 -> अध्यापक लेवल 1 | T6: =E6 -> Ashwini Kumar 2 | U6: =F6 -> Sh M.R.Shastri 2 | V6: =G6 -> 32180 | W6: =H6 -> SC | X6: =J6 | Y6: =L6 -> 54.545455 | Z6: =M6 -> 20.833333 | AA6: =N6 -> 75.378788 | AB6: =#REF! -> #REF!
A7: =B7&"_"&C7 -> GUPS 125_1_वरिष्ठ अध्यापक_1 | B7: =K7&"_"&COUNTIF($K$5:K7,K7) -> GUPS 125_1 | C7: =I7&"_"&COUNTIF($I$5:I7,I7) -> वरिष्ठ अध्यापक_1 | D7: =IF('Marks Entry'!A9="","",'Marks Entry'!A9) -> 3 | E7: =IF('Marks Entry'!B9="","",'Marks Entry'!B9) -> Ashwini Kumar 3 | F7: =IF('Marks Entry'!C9="","",'Marks Entry'!C9) -> Sh M.R.Shastri 3 | G7: =IF('Marks Entry'!D9="","",'Marks Entry'!D9) -> 32181 | H7: =IF('Marks Entry'!E9="","",'Marks Entry'!E9) -> ST | I7: =IF('Marks Entry'!F9="","",'Marks Entry'!F9) -> वरिष्ठ अध्यापक | J7: =IF('Marks Entry'!G9="","",'Marks Entry'!G9) | K7: =IF('Marks Entry'!H9="","",'Marks Entry'!H9) -> GUPS 125 | L7: =IF(I7=$Q$5,'Marks Entry'!Y9*75%,IF(I7=$Q$6,'Marks Entry'!Z9*75%,IF(I7=$Q$7,'Marks Entry'!Z9*75%,IF(I7=$Q$8,'Marks Entry'!AA9*75%,IF(I7=$Q$9,'Marks Entry'!Z9*75%,IF(I7=$Q$10,'Marks Entry'!Y9*75%,"")))))) -> 50.833333 | M7: =IF(I7=$Q$5,'Marks Entry'!AC9*25%,IF(I7=$Q$6,'Marks Entry'!AB9*25%,IF(I7=$Q$7,'Marks Entry'!AB9*25%,IF(I7=$Q$8,'Marks Entry'!AB9*25%,IF(I7=$Q$9,'Marks Entry'!AB9*25%,IF(I7=$Q$10,'Marks Entry'!AC9*25%,"")))))) -> 10 | N7: =IF(AND(L7="",M7=""),"",SUM(L7:M7)) -> 60.833333 | Q7: =Table3[[#This Row],[Post Name]] -> वरिष्ठ अध्यापक | S7: =I7 -> वरिष्ठ अध्यापक | T7: =E7 -> Ashwini Kumar 3 | U7: =F7 -> Sh M.R.Shastri 3 | V7: =G7 -> 32181 | W7: =H7 -> ST | X7: =J7 | Y7: =L7 -> 50.833333 | Z7: =M7 -> 10 | AA7: =N7 -> 60.833333 | AB7: =#REF! -> #REF!
A8: =B8&"_"&C8 -> GUPS 126_1_वरिष्ठ अध्यापक_2 | B8: =K8&"_"&COUNTIF($K$5:K8,K8) -> GUPS 126_1 | C8: =I8&"_"&COUNTIF($I$5:I8,I8) -> वरिष्ठ अध्यापक_2 | D8: =IF('Marks Entry'!A10="","",'Marks Entry'!A10) -> 4 | E8: =IF('Marks Entry'!B10="","",'Marks Entry'!B10) -> Ashwini Kumar 4 | F8: =IF('Marks Entry'!C10="","",'Marks Entry'!C10) -> Sh M.R.Shastri 4 | G8: =IF('Marks Entry'!D10="","",'Marks Entry'!D10) -> 32182 | H8: =IF('Marks Entry'!E10="","",'Marks Entry'!E10) -> OBC | I8: =IF('Marks Entry'!F10="","",'Marks Entry'!F10) -> वरिष्ठ अध्यापक | J8: =IF('Marks Entry'!G10="","",'Marks Entry'!G10) | K8: =IF('Marks Entry'!H10="","",'Marks Entry'!H10) -> GUPS 126 | L8: =IF(I8=$Q$5,'Marks Entry'!Y10*75%,IF(I8=$Q$6,'Marks Entry'!Z10*75%,IF(I8=$Q$7,'Marks Entry'!Z10*75%,IF(I8=$Q$8,'Marks Entry'!AA10*75%,IF(I8=$Q$9,'Marks Entry'!Z10*75%,IF(I8=$Q$10,'Marks Entry'!Y10*75%,"")))))) -> 50.833333 | M8: =IF(I8=$Q$5,'Marks Entry'!AC10*25%,IF(I8=$Q$6,'Marks Entry'!AB10*25%,IF(I8=$Q$7,'Marks Entry'!AB10*25%,IF(I8=$Q$8,'Marks Entry'!AB10*25%,IF(I8=$Q$9,'Marks Entry'!AB10*25%,IF(I8=$Q$10,'Marks Entry'!AC10*25%,"")))))) -> 10 | N8: =IF(AND(L8="",M8=""),"",SUM(L8:M8)) -> 60.833333 | Q8: =Table3[[#This Row],[Post Name]] -> प्राध्यापक | S8: =I8 -> वरिष्ठ अध्यापक | T8: =E8 -> Ashwini Kumar 4 | U8: =F8 -> Sh M.R.Shastri 4 | V8: =G8 -> 32182 | W8: =H8 -> OBC | X8: =J8 | Y8: =L8 -> 50.833333 | Z8: =M8 -> 10 | AA8: =N8 -> 60.833333 | AB8: =#REF! -> #REF!
A9: =B9&"_"&C9 -> GUPS 127_1_शारीरिक शिक्षक_1 | B9: =K9&"_"&COUNTIF($K$5:K9,K9) -> GUPS 127_1 | C9: =I9&"_"&COUNTIF($I$5:I9,I9) -> शारीरिक शिक्षक_1 | D9: =IF('Marks Entry'!A11="","",'Marks Entry'!A11) -> 5 | E9: =IF('Marks Entry'!B11="","",'Marks Entry'!B11) -> Ashwini Kumar 5 | F9: =IF('Marks Entry'!C11="","",'Marks Entry'!C11) -> Sh M.R.Shastri 5 | G9: =IF('Marks Entry'!D11="","",'Marks Entry'!D11) -> 32183 | H9: =IF('Marks Entry'!E11="","",'Marks Entry'!E11) -> EWS | I9: =IF('Marks Entry'!F11="","",'Marks Entry'!F11) -> शारीरिक शिक्षक | J9: =IF('Marks Entry'!G11="","",'Marks Entry'!G11) | K9: =IF('Marks Entry'!H11="","",'Marks Entry'!H11) -> GUPS 127 | L9: =IF(I9=$Q$5,'Marks Entry'!Y11*75%,IF(I9=$Q$6,'Marks Entry'!Z11*75%,IF(I9=$Q$7,'Marks Entry'!Z11*75%,IF(I9=$Q$8,'Marks Entry'!AA11*75%,IF(I9=$Q$9,'Marks Entry'!Z11*75%,IF(I9=$Q$10,'Marks Entry'!Y11*75%,"")))))) -> 50.833333 | M9: =IF(I9=$Q$5,'Marks Entry'!AC11*25%,IF(I9=$Q$6,'Marks Entry'!AB11*25%,IF(I9=$Q$7,'Marks Entry'!AB11*25%,IF(I9=$Q$8,'Marks Entry'!AB11*25%,IF(I9=$Q$9,'Marks Entry'!AB11*25%,IF(I9=$Q$10,'Marks Entry'!AC11*25%,"")))))) -> 10 | N9: =IF(AND(L9="",M9=""),"",SUM(L9:M9)) -> 60.833333 | Q9: =Table3[[#This Row],[Post Name]] -> शारीरिक शिक्षक | S9: =I9 -> शारीरिक शिक्षक | T9: =E9 -> Ashwini Kumar 5 | U9: =F9 -> Sh M.R.Shastri 5 | V9: =G9 -> 32183 | W9: =H9 -> EWS | X9: =J9 | Y9: =L9 -> 50.833333 | Z9: =M9 -> 10 | AA9: =N9 -> 60.833333 | AB9: =#REF! -> #REF!
A10: =B10&"_"&C10 -> GUPS 128_1_प्रयोगशाला सहायक_1 | B10: =K10&"_"&COUNTIF($K$5:K10,K10) -> GUPS 128_1 | C10: =I10&"_"&COUNTIF($I$5:I10,I10) -> प्रयोगशाला सहायक_1 | D10: =IF('Marks Entry'!A12="","",'Marks Entry'!A12) -> 6 | E10: =IF('Marks Entry'!B12="","",'Marks Entry'!B12) -> Ashwini Kumar 6 | F10: =IF('Marks Entry'!C12="","",'Marks Entry'!C12) -> Sh M.R.Shastri 6 | G10: =IF('Marks Entry'!D12="","",'Marks Entry'!D12) -> 32184 | H10: =IF('Marks Entry'!E12="","",'Marks Entry'!E12) -> other 1 | I10: =IF('Marks Entry'!F12="","",'Marks Entry'!F12) -> प्रयोगशाला सहायक | J10: =IF('Marks Entry'!G12="","",'Marks Entry'!G12) | K10: =IF('Marks Entry'!H12="","",'Marks Entry'!H12) -> GUPS 128 | L10: =IF(I10=$Q$5,'Marks Entry'!Y12*75%,IF(I10=$Q$6,'Marks Entry'!Z12*75%,IF(I10=$Q$7,'Marks Entry'!Z12*75%,IF(I10=$Q$8,'Marks Entry'!AA12*75%,IF(I10=$Q$9,'Marks Entry'!Z12*75%,IF(I10=$Q$10,'Marks Entry'!Y12*75%,"")))))) -> 40.909091 | M10: =IF(I10=$Q$5,'Marks Entry'!AC12*25%,IF(I10=$Q$6,'Marks Entry'!AB12*25%,IF(I10=$Q$7,'Marks Entry'!AB12*25%,IF(I10=$Q$8,'Marks Entry'!AB12*25%,IF(I10=$Q$9,'Marks Entry'!AB12*25%,IF(I10=$Q$10,'Marks Entry'!AC12*25%,"")))))) -> 20.833333 | N10: =IF(AND(L10="",M10=""),"",SUM(L10:M10)) -> 61.742424 | Q10: =Table3[[#This Row],[Post Name]] -> प्रयोगशाला सहायक | S10: =I10 -> प्रयोगशाला सहायक | T10: =E10 -> Ashwini Kumar 6 | U10: =F10 -> Sh M.R.Shastri 6 | V10: =G10 -> 32184 | W10: =H10 -> other 1 | X10: =J10 | Y10: =L10 -> 40.909091 | Z10: =M10 -> 20.833333 | AA10: =N10 -> 61.742424 | AB10: =#REF! -> #REF!
A11: =B11&"_"&C11 -> GUPS 129_1_अध्यापक लेवल 2_1 | B11: =K11&"_"&COUNTIF($K$5:K11,K11) -> GUPS 129_1 | C11: =I11&"_"&COUNTIF($I$5:I11,I11) -> अध्यापक लेवल 2_1 | D11: =IF('Marks Entry'!A13="","",'Marks Entry'!A13) -> 7 | E11: =IF('Marks Entry'!B13="","",'Marks Entry'!B13) -> Ashwini Kumar 7 | F11: =IF('Marks Entry'!C13="","",'Marks Entry'!C13) -> Sh M.R.Shastri 7 | G11: =IF('Marks Entry'!D13="","",'Marks Entry'!D13) -> 32185 | H11: =IF('Marks Entry'!E13="","",'Marks Entry'!E13) -> GEN | I11: =IF('Marks Entry'!F13="","",'Marks Entry'!F13) -> अध्यापक लेवल 2 | J11: =IF('Marks Entry'!G13="","",'Marks Entry'!G13) | K11: =IF('Marks Entry'!H13="","",'Marks Entry'!H13) -> GUPS 129 | L11: =IF(I11=$Q$5,'Marks Entry'!Y13*75%,IF(I11=$Q$6,'Marks Entry'!Z13*75%,IF(I11=$Q$7,'Marks Entry'!Z13*75%,IF(I11=$Q$8,'Marks Entry'!AA13*75%,IF(I11=$Q$9,'Marks Entry'!Z13*75%,IF(I11=$Q$10,'Marks Entry'!Y13*75%,"")))))) -> 50.833333 | M11: =IF(I11=$Q$5,'Marks Entry'!AC13*25%,IF(I11=$Q$6,'Marks Entry'!AB13*25%,IF(I11=$Q$7,'Marks Entry'!AB13*25%,IF(I11=$Q$8,'Marks Entry'!AB13*25%,IF(I11=$Q$9,'Marks Entry'!AB13*25%,IF(I11=$Q$10,'Marks Entry'!AC13*25%,"")))))) -> 10 | N11: =IF(AND(L11="",M11=""),"",SUM(L11:M11)) -> 60.833333 | Q11: =Table3[[#This Row],[Post Name]] -> अन्य 1 | S11: =I11 -> अध्यापक लेवल 2 | T11: =E11 -> Ashwini Kumar 7 | U11: =F11 -> Sh M.R.Shastri 7 | V11: =G11 -> 32185 | W11: =H11 -> GEN | X11: =J11 | Y11: =L11 -> 50.833333 | Z11: =M11 -> 10 | AA11: =N11 -> 60.833333 | AB11: =#REF! -> #REF!
A12: =B12&"_"&C12 -> GUPS 130_1_प्राध्यापक_1 | B12: =K12&"_"&COUNTIF($K$5:K12,K12) -> GUPS 130_1 | C12: =I12&"_"&COUNTIF($I$5:I12,I12) -> प्राध्यापक_1 | D12: =IF('Marks Entry'!A14="","",'Marks Entry'!A14) -> 8 | E12: =IF('Marks Entry'!B14="","",'Marks Entry'!B14) -> Ashwini Kumar 8 | F12: =IF('Marks Entry'!C14="","",'Marks Entry'!C14) -> Sh M.R.Shastri 8 | G12: =IF('Marks Entry'!D14="","",'Marks Entry'!D14) -> 32186 | H12: =IF('Marks Entry'!E14="","",'Marks Entry'!E14) -> SC | I12: =IF('Marks Entry'!F14="","",'Marks Entry'!F14) -> प्राध्यापक | J12: =IF('Marks Entry'!G14="","",'Marks Entry'!G14) | K12: =IF('Marks Entry'!H14="","",'Marks Entry'!H14) -> GUPS 130 | L12: =IF(I12=$Q$5,'Marks Entry'!Y14*75%,IF(I12=$Q$6,'Marks Entry'!Z14*75%,IF(I12=$Q$7,'Marks Entry'!Z14*75%,IF(I12=$Q$8,'Marks Entry'!AA14*75%,IF(I12=$Q$9,'Marks Entry'!Z14*75%,IF(I12=$Q$10,'Marks Entry'!Y14*75%,"")))))) -> 37.5 | M12: =IF(I12=$Q$5,'Marks Entry'!AC14*25%,IF(I12=$Q$6,'Marks Entry'!AB14*25%,IF(I12=$Q$7,'Marks Entry'!AB14*25%,IF(I12=$Q$8,'Marks Entry'!AB14*25%,IF(I12=$Q$9,'Marks Entry'!AB14*25%,IF(I12=$Q$10,'Marks Entry'!AC14*25%,"")))))) -> 10 | N12: =IF(AND(L12="",M12=""),"",SUM(L12:M12)) -> 47.5 | Q12: =Table3[[#This Row],[Post Name]] -> अन्य 2 | S12: =I12 -> प्राध्यापक | T12: =E12 -> Ashwini Kumar 8 | U12: =F12 -> Sh M.R.Shastri 8 | V12: =G12 -> 32186 | W12: =H12 -> SC | X12: =J12 | Y12: =L12 -> 37.5 | Z12: =M12 -> 10 | AA12: =N12 -> 47.5 | AB12: =#REF! -> #REF!
A13: =B13&"_"&C13 -> _1__1 | B13: =K13&"_"&COUNTIF($K$5:K13,K13) -> _1 | C13: =I13&"_"&COUNTIF($I$5:I13,I13) -> _1 | D13: =IF('Marks Entry'!A15="","",'Marks Entry'!A15) -> 9 | E13: =IF('Marks Entry'!B15="","",'Marks Entry'!B15) | F13: =IF('Marks Entry'!C15="","",'Marks Entry'!C15) | G13: =IF('Marks Entry'!D15="","",'Marks Entry'!D15) | H13: =IF('Marks Entry'!E15="","",'Marks Entry'!E15) | I13: =IF('Marks Entry'!F15="","",'Marks Entry'!F15) | J13: =IF('Marks Entry'!G15="","",'Marks Entry'!G15) | K13: =IF('Marks Entry'!H15="","",'Marks Entry'!H15) | L13: =IF(I13=$Q$5,'Marks Entry'!Y15*75%,IF(I13=$Q$6,'Marks Entry'!Z15*75%,IF(I13=$Q$7,'Marks Entry'!Z15*75%,IF(I13=$Q$8,'Marks Entry'!AA15*75%,IF(I13=$Q$9,'Marks Entry'!Z15*75%,IF(I13=$Q$10,'Marks Entry'!Y15*75%,"")))))) | M13: =IF(I13=$Q$5,'Marks Entry'!AC15*25%,IF(I13=$Q$6,'Marks Entry'!AB15*25%,IF(I13=$Q$7,'Marks Entry'!AB15*25%,IF(I13=$Q$8,'Marks Entry'!AB15*25%,IF(I13=$Q$9,'Marks Entry'!AB15*25%,IF(I13=$Q$10,'Marks Entry'!AC15*25%,"")))))) | N13: =IF(AND(L13="",M13=""),"",SUM(L13:M13)) | S13: =I13 | T13: =E13 | U13: =F13 | V13: =G13 | W13: =H13 | X13: =J13 | Y13: =L13 | Z13: =M13 | AA13: =N13 | AB13: =#REF! -> #REF!
A14: =B14&"_"&C14 -> _2__2 | B14: =K14&"_"&COUNTIF($K$5:K14,K14) -> _2 | C14: =I14&"_"&COUNTIF($I$5:I14,I14) -> _2 | D14: =IF('Marks Entry'!A16="","",'Marks Entry'!A16) -> 10 | E14: =IF('Marks Entry'!B16="","",'Marks Entry'!B16) | F14: =IF('Marks Entry'!C16="","",'Marks Entry'!C16) | G14: =IF('Marks Entry'!D16="","",'Marks Entry'!D16) | H14: =IF('Marks Entry'!E16="","",'Marks Entry'!E16) | I14: =IF('Marks Entry'!F16="","",'Marks Entry'!F16) | J14: =IF('Marks Entry'!G16="","",'Marks Entry'!G16) | K14: =IF('Marks Entry'!H16="","",'Marks Entry'!H16) | L14: =IF(I14=$Q$5,'Marks Entry'!Y16*75%,IF(I14=$Q$6,'Marks Entry'!Z16*75%,IF(I14=$Q$7,'Marks Entry'!Z16*75%,IF(I14=$Q$8,'Marks Entry'!AA16*75%,IF(I14=$Q$9,'Marks Entry'!Z16*75%,IF(I14=$Q$10,'Marks Entry'!Y16*75%,"")))))) | M14: =IF(I14=$Q$5,'Marks Entry'!AC16*25%,IF(I14=$Q$6,'Marks Entry'!AB16*25%,IF(I14=$Q$7,'Marks Entry'!AB16*25%,IF(I14=$Q$8,'Marks Entry'!AB16*25%,IF(I14=$Q$9,'Marks Entry'!AB16*25%,IF(I14=$Q$10,'Marks Entry'!AC16*25%,"")))))) | N14: =IF(AND(L14="",M14=""),"",SUM(L14:M14)) | S14: =I14 | T14: =E14 | U14: =F14 | V14: =G14 | W14: =H14 | X14: =J14 | Y14: =L14 | Z14: =M14 | AA14: =N14 | AB14: =#REF! -> #REF!
A15: =B15&"_"&C15 -> _3__3 | B15: =K15&"_"&COUNTIF($K$5:K15,K15) -> _3 | C15: =I15&"_"&COUNTIF($I$5:I15,I15) -> _3 | D15: =IF('Marks Entry'!A17="","",'Marks Entry'!A17) -> 11 | E15: =IF('Marks Entry'!B17="","",'Marks Entry'!B17) | F15: =IF('Marks Entry'!C17="","",'Marks Entry'!C17) | G15: =IF('Marks Entry'!D17="","",'Marks Entry'!D17) | H15: =IF('Marks Entry'!E17="","",'Marks Entry'!E17) | I15: =IF('Marks Entry'!F17="","",'Marks Entry'!F17) | J15: =IF('Marks Entry'!G17="","",'Marks Entry'!G17) | K15: =IF('Marks Entry'!H17="","",'Marks Entry'!H17) | L15: =IF(I15=$Q$5,'Marks Entry'!Y17*75%,IF(I15=$Q$6,'Marks Entry'!Z17*75%,IF(I15=$Q$7,'Marks Entry'!Z17*75%,IF(I15=$Q$8,'Marks Entry'!AA17*75%,IF(I15=$Q$9,'Marks Entry'!Z17*75%,IF(I15=$Q$10,'Marks Entry'!Y17*75%,"")))))) | M15: =IF(I15=$Q$5,'Marks Entry'!AC17*25%,IF(I15=$Q$6,'Marks Entry'!AB17*25%,IF(I15=$Q$7,'Marks Entry'!AB17*25%,IF(I15=$Q$8,'Marks Entry'!AB17*25%,IF(I15=$Q$9,'Marks Entry'!AB17*25%,IF(I15=$Q$10,'Marks Entry'!AC17*25%,"")))))) | N15: =IF(AND(L15="",M15=""),"",SUM(L15:M15)) | S15: =I15 | T15: =E15 | U15: =F15 | V15: =G15 | W15: =H15 | X15: =J15 | Y15: =L15 | Z15: =M15 | AA15: =N15 | AB15: =#REF! -> #REF!
A16: =B16&"_"&C16 -> _4__4 | B16: =K16&"_"&COUNTIF($K$5:K16,K16) -> _4 | C16: =I16&"_"&COUNTIF($I$5:I16,I16) -> _4 | D16: =IF('Marks Entry'!A18="","",'Marks Entry'!A18) -> 12 | E16: =IF('Marks Entry'!B18="","",'Marks Entry'!B18) | F16: =IF('Marks Entry'!C18="","",'Marks Entry'!C18) | G16: =IF('Marks Entry'!D18="","",'Marks Entry'!D18) | H16: =IF('Marks Entry'!E18="","",'Marks Entry'!E18) | I16: =IF('Marks Entry'!F18="","",'Marks Entry'!F18) | J16: =IF('Marks Entry'!G18="","",'Marks Entry'!G18) | K16: =IF('Marks Entry'!H18="","",'Marks Entry'!H18) | L16: =IF(I16=$Q$5,'Marks Entry'!Y18*75%,IF(I16=$Q$6,'Marks Entry'!Z18*75%,IF(I16=$Q$7,'Marks Entry'!Z18*75%,IF(I16=$Q$8,'Marks Entry'!AA18*75%,IF(I16=$Q$9,'Marks Entry'!Z18*75%,IF(I16=$Q$10,'Marks Entry'!Y18*75%,"")))))) | M16: =IF(I16=$Q$5,'Marks Entry'!AC18*25%,IF(I16=$Q$6,'Marks Entry'!AB18*25%,IF(I16=$Q$7,'Marks Entry'!AB18*25%,IF(I16=$Q$8,'Marks Entry'!AB18*25%,IF(I16=$Q$9,'Marks Entry'!AB18*25%,IF(I16=$Q$10,'Marks Entry'!AC18*25%,"")))))) | N16: =IF(AND(L16="",M16=""),"",SUM(L16:M16)) | S16: =I16 | T16: =E16 | U16: =F16 | V16: =G16 | W16: =H16 | X16: =J16 | Y16: =L16 | Z16: =M16 | AA16: =N16 | AB16: =#REF! -> #REF!
A17: =B17&"_"&C17 -> _5__5 | B17: =K17&"_"&COUNTIF($K$5:K17,K17) -> _5 | C17: =I17&"_"&COUNTIF($I$5:I17,I17) -> _5 | D17: =IF('Marks Entry'!A19="","",'Marks Entry'!A19) -> 13 | E17: =IF('Marks Entry'!B19="","",'Marks Entry'!B19) | F17: =IF('Marks Entry'!C19="","",'Marks Entry'!C19) | G17: =IF('Marks Entry'!D19="","",'Marks Entry'!D19) | H17: =IF('Marks Entry'!E19="","",'Marks Entry'!E19) | I17: =IF('Marks Entry'!F19="","",'Marks Entry'!F19) | J17: =IF('Marks Entry'!G19="","",'Marks Entry'!G19) | K17: =IF('Marks Entry'!H19="","",'Marks Entry'!H19) | L17: =IF(I17=$Q$5,'Marks Entry'!Y19*75%,IF(I17=$Q$6,'Marks Entry'!Z19*75%,IF(I17=$Q$7,'Marks Entry'!Z19*75%,IF(I17=$Q$8,'Marks Entry'!AA19*75%,IF(I17=$Q$9,'Marks Entry'!Z19*75%,IF(I17=$Q$10,'Marks Entry'!Y19*75%,"")))))) | M17: =IF(I17=$Q$5,'Marks Entry'!AC19*25%,IF(I17=$Q$6,'Marks Entry'!AB19*25%,IF(I17=$Q$7,'Marks Entry'!AB19*25%,IF(I17=$Q$8,'Marks Entry'!AB19*25%,IF(I17=$Q$9,'Marks Entry'!AB19*25%,IF(I17=$Q$10,'Marks Entry'!AC19*25%,"")))))) | N17: =IF(AND(L17="",M17=""),"",SUM(L17:M17)) | S17: =I17 | T17: =E17 | U17: =F17 | V17: =G17 | W17: =H17 | X17: =J17 | Y17: =L17 | Z17: =M17 | AA17: =N17 | AB17: =#REF! -> #REF!
A18: =B18&"_"&C18 -> _6__6 | B18: =K18&"_"&COUNTIF($K$5:K18,K18) -> _6 | C18: =I18&"_"&COUNTIF($I$5:I18,I18) -> _6 | D18: =IF('Marks Entry'!A20="","",'Marks Entry'!A20) -> 14 | E18: =IF('Marks Entry'!B20="","",'Marks Entry'!B20) | F18: =IF('Marks Entry'!C20="","",'Marks Entry'!C20) | G18: =IF('Marks Entry'!D20="","",'Marks Entry'!D20) | H18: =IF('Marks Entry'!E20="","",'Marks Entry'!E20) | I18: =IF('Marks Entry'!F20="","",'Marks Entry'!F20) | J18: =IF('Marks Entry'!G20="","",'Marks Entry'!G20) | K18: =IF('Marks Entry'!H20="","",'Marks Entry'!H20) | L18: =IF(I18=$Q$5,'Marks Entry'!Y20*75%,IF(I18=$Q$6,'Marks Entry'!Z20*75%,IF(I18=$Q$7,'Marks Entry'!Z20*75%,IF(I18=$Q$8,'Marks Entry'!AA20*75%,IF(I18=$Q$9,'Marks Entry'!Z20*75%,IF(I18=$Q$10,'Marks Entry'!Y20*75%,"")))))) | M18: =IF(I18=$Q$5,'Marks Entry'!AC20*25%,IF(I18=$Q$6,'Marks Entry'!AB20*25%,IF(I18=$Q$7,'Marks Entry'!AB20*25%,IF(I18=$Q$8,'Marks Entry'!AB20*25%,IF(I18=$Q$9,'Marks Entry'!AB20*25%,IF(I18=$Q$10,'Marks Entry'!AC20*25%,"")))))) | N18: =IF(AND(L18="",M18=""),"",SUM(L18:M18)) | S18: =I18 | T18: =E18 | U18: =F18 | V18: =G18 | W18: =H18 | X18: =J18 | Y18: =L18 | Z18: =M18 | AA18: =N18 | AB18: =#REF! -> #REF!
A19: =B19&"_"&C19 -> _7__7 | B19: =K19&"_"&COUNTIF($K$5:K19,K19) -> _7 | C19: =I19&"_"&COUNTIF($I$5:I19,I19) -> _7 | D19: =IF('Marks Entry'!A21="","",'Marks Entry'!A21) -> 15 | E19: =IF('Marks Entry'!B21="","",'Marks Entry'!B21) | F19: =IF('Marks Entry'!C21="","",'Marks Entry'!C21) | G19: =IF('Marks Entry'!D21="","",'Marks Entry'!D21) | H19: =IF('Marks Entry'!E21="","",'Marks Entry'!E21) | I19: =IF('Marks Entry'!F21="","",'Marks Entry'!F21) | J19: =IF('Marks Entry'!G21="","",'Marks Entry'!G21) | K19: =IF('Marks Entry'!H21="","",'Marks Entry'!H21) | L19: =IF(I19=$Q$5,'Marks Entry'!Y21*75%,IF(I19=$Q$6,'Marks Entry'!Z21*75%,IF(I19=$Q$7,'Marks Entry'!Z21*75%,IF(I19=$Q$8,'Marks Entry'!AA21*75%,IF(I19=$Q$9,'Marks Entry'!Z21*75%,IF(I19=$Q$10,'Marks Entry'!Y21*75%,"")))))) | M19: =IF(I19=$Q$5,'Marks Entry'!AC21*25%,IF(I19=$Q$6,'Marks Entry'!AB21*25%,IF(I19=$Q$7,'Marks Entry'!AB21*25%,IF(I19=$Q$8,'Marks Entry'!AB21*25%,IF(I19=$Q$9,'Marks Entry'!AB21*25%,IF(I19=$Q$10,'Marks Entry'!AC21*25%,"")))))) | N19: =IF(AND(L19="",M19=""),"",SUM(L19:M19)) | S19: =I19 | T19: =E19 | U19: =F19 | V19: =G19 | W19: =H19 | X19: =J19 | Y19: =L19 | Z19: =M19 | AA19: =N19 | AB19: =#REF! -> #REF!
A20: =B20&"_"&C20 -> _8__8 | B20: =K20&"_"&COUNTIF($K$5:K20,K20) -> _8 | C20: =I20&"_"&COUNTIF($I$5:I20,I20) -> _8 | D20: =IF('Marks Entry'!A22="","",'Marks Entry'!A22) -> 16 | E20: =IF('Marks Entry'!B22="","",'Marks Entry'!B22) | F20: =IF('Marks Entry'!C22="","",'Marks Entry'!C22) | G20: =IF('Marks Entry'!D22="","",'Marks Entry'!D22) | H20: =IF('Marks Entry'!E22="","",'Marks Entry'!E22) | I20: =IF('Marks Entry'!F22="","",'Marks Entry'!F22) | J20: =IF('Marks Entry'!G22="","",'Marks Entry'!G22) | K20: =IF('Marks Entry'!H22="","",'Marks Entry'!H22) | L20: =IF(I20=$Q$5,'Marks Entry'!Y22*75%,IF(I20=$Q$6,'Marks Entry'!Z22*75%,IF(I20=$Q$7,'Marks Entry'!Z22*75%,IF(I20=$Q$8,'Marks Entry'!AA22*75%,IF(I20=$Q$9,'Marks Entry'!Z22*75%,IF(I20=$Q$10,'Marks Entry'!Y22*75%,"")))))) | M20: =IF(I20=$Q$5,'Marks Entry'!AC22*25%,IF(I20=$Q$6,'Marks Entry'!AB22*25%,IF(I20=$Q$7,'Marks Entry'!AB22*25%,IF(I20=$Q$8,'Marks Entry'!AB22*25%,IF(I20=$Q$9,'Marks Entry'!AB22*25%,IF(I20=$Q$10,'Marks Entry'!AC22*25%,"")))))) | N20: =IF(AND(L20="",M20=""),"",SUM(L20:M20)) | S20: =I20 | T20: =E20 | U20: =F20 | V20: =G20 | W20: =H20 | X20: =J20 | Y20: =L20 | Z20: =M20 | AA20: =N20 | AB20: =#REF! -> #REF!
A21: =B21&"_"&C21 -> _9__9 | B21: =K21&"_"&COUNTIF($K$5:K21,K21) -> _9 | C21: =I21&"_"&COUNTIF($I$5:I21,I21) -> _9 | D21: =IF('Marks Entry'!A23="","",'Marks Entry'!A23) -> 17 | E21: =IF('Marks Entry'!B23="","",'Marks Entry'!B23) | F21: =IF('Marks Entry'!C23="","",'Marks Entry'!C23) | G21: =IF('Marks Entry'!D23="","",'Marks Entry'!D23) | H21: =IF('Marks Entry'!E23="","",'Marks Entry'!E23) | I21: =IF('Marks Entry'!F23="","",'Marks Entry'!F23) | J21: =IF('Marks Entry'!G23="","",'Marks Entry'!G23) | K21: =IF('Marks Entry'!H23="","",'Marks Entry'!H23) | L21: =IF(I21=$Q$5,'Marks Entry'!Y23*75%,IF(I21=$Q$6,'Marks Entry'!Z23*75%,IF(I21=$Q$7,'Marks Entry'!Z23*75%,IF(I21=$Q$8,'Marks Entry'!AA23*75%,IF(I21=$Q$9,'Marks Entry'!Z23*75%,IF(I21=$Q$10,'Marks Entry'!Y23*75%,"")))))) | M21: =IF(I21=$Q$5,'Marks Entry'!AC23*25%,IF(I21=$Q$6,'Marks Entry'!AB23*25%,IF(I21=$Q$7,'Marks Entry'!AB23*25%,IF(I21=$Q$8,'Marks Entry'!AB23*25%,IF(I21=$Q$9,'Marks Entry'!AB23*25%,IF(I21=$Q$10,'Marks Entry'!AC23*25%,"")))))) | N21: =IF(AND(L21="",M21=""),"",SUM(L21:M21)) | S21: =I21 | T21: =E21 | U21: =F21 | V21: =G21 | W21: =H21 | X21: =J21 | Y21: =L21 | Z21: =M21 | AA21: =N21 | AB21: =#REF! -> #REF!
A22: =B22&"_"&C22 -> _10__10 | B22: =K22&"_"&COUNTIF($K$5:K22,K22) -> _10 | C22: =I22&"_"&COUNTIF($I$5:I22,I22) -> _10 | D22: =IF('Marks Entry'!A24="","",'Marks Entry'!A24) -> 18 | E22: =IF('Marks Entry'!B24="","",'Marks Entry'!B24) | F22: =IF('Marks Entry'!C24="","",'Marks Entry'!C24) | G22: =IF('Marks Entry'!D24="","",'Marks Entry'!D24) | H22: =IF('Marks Entry'!E24="","",'Marks Entry'!E24) | I22: =IF('Marks Entry'!F24="","",'Marks Entry'!F24) | J22: =IF('Marks Entry'!G24="","",'Marks Entry'!G24) | K22: =IF('Marks Entry'!H24="","",'Marks Entry'!H24) | L22: =IF(I22=$Q$5,'Marks Entry'!Y24*75%,IF(I22=$Q$6,'Marks Entry'!Z24*75%,IF(I22=$Q$7,'Marks Entry'!Z24*75%,IF(I22=$Q$8,'Marks Entry'!AA24*75%,IF(I22=$Q$9,'Marks Entry'!Z24*75%,IF(I22=$Q$10,'Marks Entry'!Y24*75%,"")))))) | M22: =IF(I22=$Q$5,'Marks Entry'!AC24*25%,IF(I22=$Q$6,'Marks Entry'!AB24*25%,IF(I22=$Q$7,'Marks Entry'!AB24*25%,IF(I22=$Q$8,'Marks Entry'!AB24*25%,IF(I22=$Q$9,'Marks Entry'!AB24*25%,IF(I22=$Q$10,'Marks Entry'!AC24*25%,"")))))) | N22: =IF(AND(L22="",M22=""),"",SUM(L22:M22)) | S22: =I22 | T22: =E22 | U22: =F22 | V22: =G22 | W22: =H22 | X22: =J22 | Y22: =L22 | Z22: =M22 | AA22: =N22 | AB22: =#REF! -> #REF!
A23: =B23&"_"&C23 -> _11__11 | B23: =K23&"_"&COUNTIF($K$5:K23,K23) -> _11 | C23: =I23&"_"&COUNTIF($I$5:I23,I23) -> _11 | D23: =IF('Marks Entry'!A25="","",'Marks Entry'!A25) -> 19 | E23: =IF('Marks Entry'!B25="","",'Marks Entry'!B25) | F23: =IF('Marks Entry'!C25="","",'Marks Entry'!C25) | G23: =IF('Marks Entry'!D25="","",'Marks Entry'!D25) | H23: =IF('Marks Entry'!E25="","",'Marks Entry'!E25) | I23: =IF('Marks Entry'!F25="","",'Marks Entry'!F25) | J23: =IF('Marks Entry'!G25="","",'Marks Entry'!G25) | K23: =IF('Marks Entry'!H25="","",'Marks Entry'!H25) | L23: =IF(I23=$Q$5,'Marks Entry'!Y25*75%,IF(I23=$Q$6,'Marks Entry'!Z25*75%,IF(I23=$Q$7,'Marks Entry'!Z25*75%,IF(I23=$Q$8,'Marks Entry'!AA25*75%,IF(I23=$Q$9,'Marks Entry'!Z25*75%,IF(I23=$Q$10,'Marks Entry'!Y25*75%,"")))))) | M23: =IF(I23=$Q$5,'Marks Entry'!AC25*25%,IF(I23=$Q$6,'Marks Entry'!AB25*25%,IF(I23=$Q$7,'Marks Entry'!AB25*25%,IF(I23=$Q$8,'Marks Entry'!AB25*25%,IF(I23=$Q$9,'Marks Entry'!AB25*25%,IF(I23=$Q$10,'Marks Entry'!AC25*25%,"")))))) | N23: =IF(AND(L23="",M23=""),"",SUM(L23:M23)) | S23: =I23 | T23: =E23 | U23: =F23 | V23: =G23 | W23: =H23 | X23: =J23 | Y23: =L23 | Z23: =M23 | AA23: =N23 | AB23: =#REF! -> #REF!
A24: =B24&"_"&C24 -> _12__12 | B24: =K24&"_"&COUNTIF($K$5:K24,K24) -> _12 | C24: =I24&"_"&COUNTIF($I$5:I24,I24) -> _12 | D24: =IF('Marks Entry'!A26="","",'Marks Entry'!A26) -> 20 | E24: =IF('Marks Entry'!B26="","",'Marks Entry'!B26) | F24: =IF('Marks Entry'!C26="","",'Marks Entry'!C26) | G24: =IF('Marks Entry'!D26="","",'Marks Entry'!D26) | H24: =IF('Marks Entry'!E26="","",'Marks Entry'!E26) | I24: =IF('Marks Entry'!F26="","",'Marks Entry'!F26) | J24: =IF('Marks Entry'!G26="","",'Marks Entry'!G26) | K24: =IF('Marks Entry'!H26="","",'Marks Entry'!H26) | L24: =IF(I24=$Q$5,'Marks Entry'!Y26*75%,IF(I24=$Q$6,'Marks Entry'!Z26*75%,IF(I24=$Q$7,'Marks Entry'!Z26*75%,IF(I24=$Q$8,'Marks Entry'!AA26*75%,IF(I24=$Q$9,'Marks Entry'!Z26*75%,IF(I24=$Q$10,'Marks Entry'!Y26*75%,"")))))) | M24: =IF(I24=$Q$5,'Marks Entry'!AC26*25%,IF(I24=$Q$6,'Marks Entry'!AB26*25%,IF(I24=$Q$7,'Marks Entry'!AB26*25%,IF(I24=$Q$8,'Marks Entry'!AB26*25%,IF(I24=$Q$9,'Marks Entry'!AB26*25%,IF(I24=$Q$10,'Marks Entry'!AC26*25%,"")))))) | N24: =IF(AND(L24="",M24=""),"",SUM(L24:M24)) | S24: =I24 | T24: =E24 | U24: =F24 | V24: =G24 | W24: =H24 | X24: =J24 | Y24: =L24 | Z24: =M24 | AA24: =N24 | AB24: =#REF! -> #REF!
... A29: =B29&"_"&C29 -> _17__17 | B29: =K29&"_"&COUNTIF($K$5:K29,K29) -> _17 | C29: =I29&"_"&COUNTIF($I$5:I29,I29) -> _17 | D29: =IF('Marks Entry'!A31="","",'Marks Entry'!A31) -> 25 | E29: =IF('Marks Entry'!B31="","",'Marks Entry'!B31) | F29: =IF('Marks Entry'!C31="","",'Marks Entry'!C31) | G29: =IF('Marks Entry'!D31="","",'Marks Entry'!D31) | H29: =IF('Marks Entry'!E31="","",'Marks Entry'!E31) | I29: =IF('Marks Entry'!F31="","",'Marks Entry'!F31) | J29: =IF('Marks Entry'!G31="","",'Marks Entry'!G31) | K29: =IF('Marks Entry'!H31="","",'Marks Entry'!H31) | L29: =IF(I29=$Q$5,'Marks Entry'!Y31*75%,IF(I29=$Q$6,'Marks Entry'!Z31*75%,IF(I29=$Q$7,'Marks Entry'!Z31*75%,IF(I29=$Q$8,'Marks Entry'!AA31*75%,IF(I29=$Q$9,'Marks Entry'!Z31*75%,IF(I29=$Q$10,'Marks Entry'!Y31*75%,"")))))) | M29: =IF(I29=$Q$5,'Marks Entry'!AC31*25%,IF(I29=$Q$6,'Marks Entry'!AB31*25%,IF(I29=$Q$7,'Marks Entry'!AB31*25%,IF(I29=$Q$8,'Marks Entry'!AB31*25%,IF(I29=$Q$9,'Marks Entry'!AB31*25%,IF(I29=$Q$10,'Marks Entry'!AC31*25%,"")))))) | N29: =IF(AND(L29="",M29=""),"",SUM(L29:M29)) | S29: =I29 | T29: =E29 | U29: =F29 | V29: =G29 | W29: =H29 | X29: =J29 | Y29: =L29 | Z29: =M29 | AA29: =N29 | AB29: =#REF! -> #REF!
A30: =B30&"_"&C30 -> _18__18 | B30: =K30&"_"&COUNTIF($K$5:K30,K30) -> _18 | C30: =I30&"_"&COUNTIF($I$5:I30,I30) -> _18 | D30: =IF('Marks Entry'!A32="","",'Marks Entry'!A32) -> 26 | E30: =IF('Marks Entry'!B32="","",'Marks Entry'!B32) | F30: =IF('Marks Entry'!C32="","",'Marks Entry'!C32) | G30: =IF('Marks Entry'!D32="","",'Marks Entry'!D32) | H30: =IF('Marks Entry'!E32="","",'Marks Entry'!E32) | I30: =IF('Marks Entry'!F32="","",'Marks Entry'!F32) | J30: =IF('Marks Entry'!G32="","",'Marks Entry'!G32) | K30: =IF('Marks Entry'!H32="","",'Marks Entry'!H32) | L30: =IF(I30=$Q$5,'Marks Entry'!Y32*75%,IF(I30=$Q$6,'Marks Entry'!Z32*75%,IF(I30=$Q$7,'Marks Entry'!Z32*75%,IF(I30=$Q$8,'Marks Entry'!AA32*75%,IF(I30=$Q$9,'Marks Entry'!Z32*75%,IF(I30=$Q$10,'Marks Entry'!Y32*75%,"")))))) | M30: =IF(I30=$Q$5,'Marks Entry'!AC32*25%,IF(I30=$Q$6,'Marks Entry'!AB32*25%,IF(I30=$Q$7,'Marks Entry'!AB32*25%,IF(I30=$Q$8,'Marks Entry'!AB32*25%,IF(I30=$Q$9,'Marks Entry'!AB32*25%,IF(I30=$Q$10,'Marks Entry'!AC32*25%,"")))))) | N30: =IF(AND(L30="",M30=""),"",SUM(L30:M30))
A31: =B31&"_"&C31 -> _19__19 | B31: =K31&"_"&COUNTIF($K$5:K31,K31) -> _19 | C31: =I31&"_"&COUNTIF($I$5:I31,I31) -> _19 | D31: =IF('Marks Entry'!A33="","",'Marks Entry'!A33) -> 27 | E31: =IF('Marks Entry'!B33="","",'Marks Entry'!B33) | F31: =IF('Marks Entry'!C33="","",'Marks Entry'!C33) | G31: =IF('Marks Entry'!D33="","",'Marks Entry'!D33) | H31: =IF('Marks Entry'!E33="","",'Marks Entry'!E33) | I31: =IF('Marks Entry'!F33="","",'Marks Entry'!F33) | J31: =IF('Marks Entry'!G33="","",'Marks Entry'!G33) | K31: =IF('Marks Entry'!H33="","",'Marks Entry'!H33) | L31: =IF(I31=$Q$5,'Marks Entry'!Y33*75%,IF(I31=$Q$6,'Marks Entry'!Z33*75%,IF(I31=$Q$7,'Marks Entry'!Z33*75%,IF(I31=$Q$8,'Marks Entry'!AA33*75%,IF(I31=$Q$9,'Marks Entry'!Z33*75%,IF(I31=$Q$10,'Marks Entry'!Y33*75%,"")))))) | M31: =IF(I31=$Q$5,'Marks Entry'!AC33*25%,IF(I31=$Q$6,'Marks Entry'!AB33*25%,IF(I31=$Q$7,'Marks Entry'!AB33*25%,IF(I31=$Q$8,'Marks Entry'!AB33*25%,IF(I31=$Q$9,'Marks Entry'!AB33*25%,IF(I31=$Q$10,'Marks Entry'!AC33*25%,"")))))) | N31: =IF(AND(L31="",M31=""),"",SUM(L31:M31))
A32: =B32&"_"&C32 -> _20__20 | B32: =K32&"_"&COUNTIF($K$5:K32,K32) -> _20 | C32: =I32&"_"&COUNTIF($I$5:I32,I32) -> _20 | D32: =IF('Marks Entry'!A34="","",'Marks Entry'!A34) -> 28 | E32: =IF('Marks Entry'!B34="","",'Marks Entry'!B34) | F32: =IF('Marks Entry'!C34="","",'Marks Entry'!C34) | G32: =IF('Marks Entry'!D34="","",'Marks Entry'!D34) | H32: =IF('Marks Entry'!E34="","",'Marks Entry'!E34) | I32: =IF('Marks Entry'!F34="","",'Marks Entry'!F34) | J32: =IF('Marks Entry'!G34="","",'Marks Entry'!G34) | K32: =IF('Marks Entry'!H34="","",'Marks Entry'!H34) | L32: =IF(I32=$Q$5,'Marks Entry'!Y34*75%,IF(I32=$Q$6,'Marks Entry'!Z34*75%,IF(I32=$Q$7,'Marks Entry'!Z34*75%,IF(I32=$Q$8,'Marks Entry'!AA34*75%,IF(I32=$Q$9,'Marks Entry'!Z34*75%,IF(I32=$Q$10,'Marks Entry'!Y34*75%,"")))))) | M32: =IF(I32=$Q$5,'Marks Entry'!AC34*25%,IF(I32=$Q$6,'Marks Entry'!AB34*25%,IF(I32=$Q$7,'Marks Entry'!AB34*25%,IF(I32=$Q$8,'Marks Entry'!AB34*25%,IF(I32=$Q$9,'Marks Entry'!AB34*25%,IF(I32=$Q$10,'Marks Entry'!AC34*25%,"")))))) | N32: =IF(AND(L32="",M32=""),"",SUM(L32:M32))
