Workbook

Sheet Master
A1: निर्देश:- नीचे दी गयी तालिकाओं में डिटेल्स भरने हेतु आप सर्वप्रथम बोर्ड साइट पर आपके स्कूल लॉगिन से Secondary अथवा Sen. Secondary कक्षाओं हेतु पृथक-पृथक रूप से Performance Marks का चयन कर सबसे नीचे Print Roll Number List with Name से प्रदर्शित होने वाली सूची को पीडीएफ के रूप में सेव करके www.ilovepdf.com में जाकर उस पीडीएफ को एक्सेल में कन्वर्ट कर निम्न पूर्तियाँ कॉपी करके यहाँ Pest Spacial Value करें। | O1: Prepared By:- Ummed Tarad (Teacher, GSSS Raimalwada, Jodhpur) | Q1: Mob.No.-9166973141
A2: Performance Chart वाली शीट्स में उचित पूर्तियाँ करें। आवश्यक हो तो समेकित अंकभार सूची के प्रिंट हेतु Complete Marks शीट को देखें।
A3: Board of Secondary Education, Rajasthan
A4: School Name:- | D4: G.S.S.S. Raimalwada, P.S.-Bapini (Jodhpur)-
A5: SECONDARY BOARD EXAMINATION-2021
A6: Class-12 | J6: Class-10
A7: S. No. | B7: Roll No. Current Class (12) | C7: Name | D7: Roll Class 10 | E7: Year Class 10 | F7: Optional Subjects | J7: S. No. | K7: Roll No. Current Class (10) | L7: Name | M7: Roll Class 8 | N7: Year Class 8
F8: Hindi Lit. | G8: Pol.Science | H8: History
A9: 1 | B9: KJHNKH | C9: KNJLJHOLJ | D9: JLJL | E9: JJLJ | F9: =F8 -> Hindi Lit. | G9: =G8 -> Pol.Science | H9: =H8 -> History | J9: 1 | K9: GJGI | L9: JHKHK | M9: HKHK | N9: LHJ
A10: 2 | F10: =F9 -> Hindi Lit. | G10: =G9 -> Pol.Science | H10: =H9 -> History | J10: 2
A11: 3 | F11: =F10 -> Hindi Lit. | G11: =G10 -> Pol.Science | H11: =H10 -> History | J11: 3
A12: 4 | F12: =F11 -> Hindi Lit. | G12: =G11 -> Pol.Science | H12: =H11 -> History | J12: 4
A13: 5 | F13: =F12 -> Hindi Lit. | G13: =G12 -> Pol.Science | H13: =H12 -> History | J13: 5
A14: 6 | F14: =F13 -> Hindi Lit. | G14: =G13 -> Pol.Science | H14: =H13 -> History | J14: 6
A15: 7 | F15: =F14 -> Hindi Lit. | G15: =G14 -> Pol.Science | H15: =H14 -> History | J15: 7
A16: 8 | F16: =F15 -> Hindi Lit. | G16: =G15 -> Pol.Science | H16: =H15 -> History | J16: 8
A17: 9 | F17: =F16 -> Hindi Lit. | G17: =G16 -> Pol.Science | H17: =H16 -> History | J17: 9
A18: 10 | F18: =F17 -> Hindi Lit. | G18: =G17 -> Pol.Science | H18: =H17 -> History | J18: 10
A19: 11 | F19: =F18 -> Hindi Lit. | G19: =G18 -> Pol.Science | H19: =H18 -> History | J19: 11
A20: 12 | F20: =F19 -> Hindi Lit. | G20: =G19 -> Pol.Science | H20: =H19 -> History | J20: 12
A21: 13 | F21: =F20 -> Hindi Lit. | G21: =G20 -> Pol.Science | H21: =H20 -> History | J21: 13
... A152: 144 | F152: =F151 -> Hindi Lit. | G152: =G151 -> Pol.Science | H152: =H151 -> History | J152: 144

Sheet Class-12 Perfomance Chart
B1: Board of Secondary Education, Rajasthan
B2: School Name:- | E2: =Master!D4 -> G.S.S.S. Raimalwada, P.S.-Bapini (Jodhpur)-
B3: SECONDARY BOARD EXAMINATION-2021
B4: Class-12 Performance Marks Chart For Online Submission
B5: S. No. | C5: Roll No. Current Class (12) | D5: Name | E5: Roll Class 10 | F5: Year Class 10 | G5: कक्षा 10 बोर्ड 2019 या विगत वर्ष परीक्षा का प्रदर्शन | L5: कक्षा-11 का प्रदर्शन | N5: कक्षा -12 का सतत मूल्यांकन एवं ओवरआल परफॉर्मेंस के आधार पर 20% अंकभार [M.M.20] | S5: कक्षा -12 के इस वर्ष ऑनलाइन किए सत्रांक [M.M.20]
G6: जिन तीन विषयों में अधिकतम अंक है | J6: औसत | K6: औसत का 40% (M,M, 40) | S6: नोट:- यदि सभी विद्यार्थियों की विषयवार समेकित अंकभार सूची की आवश्यकता हो तो ही भरें
G7: विषय-1 | H7: विषय-2 | I7: विषय-3 | L7: कक्षा-11 के अंतिम कुल प्राप्तांक | M7: कक्षा-11 के कुल अंकों का 20% [M.M.20] | N7: Comp. Hindi | O7: Comp. English | P7: =Master!F8 -> Hindi Lit. | Q7: =Master!G8 -> Pol.Science | R7: =Master!H8 -> History | S7: Comp. Hindi | T7: Comp. English | U7: =P7 -> Hindi Lit. | V7: =Q7 -> Pol.Science | W7: =R7 -> History
A8: =C8 -> KJHNKH | B8: 1 | C8: =Master!B9 -> KJHNKH | D8: =Master!C9 -> KNJLJHOLJ | E8: =Master!D9 -> JLJL | F8: =Master!E9 -> JJLJ | G8: 35 | H8: 36 | I8: 45 | J8: {=(G8+H8+I8)/3} -> 38.666667 | K8: {=ROUNDUP(J8*0.4,0)} -> 16 | L8: 36 | M8: {=ROUNDUP(L8*0.2,0)} -> 8
A9: =C9 -> 0 | B9: 2 | C9: =Master!B10 -> 0 | D9: =Master!C10 -> 0 | E9: =Master!D10 -> 0 | F9: =Master!E10 -> 0 | J9: {=(G9+H9+I9)/3} -> 0 | K9: {=ROUNDUP(J9*0.4,0)} -> 0 | M9: {=ROUNDUP(L9*0.2,0)} -> 0
A10: =C10 -> 0 | B10: 3 | C10: =Master!B11 -> 0 | D10: =Master!C11 -> 0 | E10: =Master!D11 -> 0 | F10: =Master!E11 -> 0 | J10: {=(G10+H10+I10)/3} -> 0 | K10: {=ROUNDUP(J10*0.4,0)} -> 0 | M10: {=ROUNDUP(L10*0.2,0)} -> 0
A11: =C11 -> 0 | B11: 4 | C11: =Master!B12 -> 0 | D11: =Master!C12 -> 0 | E11: =Master!D12 -> 0 | F11: =Master!E12 -> 0 | J11: {=(G11+H11+I11)/3} -> 0 | K11: {=ROUNDUP(J11*0.4,0)} -> 0 | M11: {=ROUNDUP(L11*0.2,0)} -> 0
A12: =C12 -> 0 | B12: 5 | C12: =Master!B13 -> 0 | D12: =Master!C13 -> 0 | E12: =Master!D13 -> 0 | F12: =Master!E13 -> 0 | J12: {=(G12+H12+I12)/3} -> 0 | K12: {=ROUNDUP(J12*0.4,0)} -> 0 | M12: {=ROUNDUP(L12*0.2,0)} -> 0
A13: =C13 -> 0 | B13: 6 | C13: =Master!B14 -> 0 | D13: =Master!C14 -> 0 | E13: =Master!D14 -> 0 | F13: =Master!E14 -> 0 | J13: {=(G13+H13+I13)/3} -> 0 | K13: {=ROUNDUP(J13*0.4,0)} -> 0 | M13: {=ROUNDUP(L13*0.2,0)} -> 0
A14: =C14 -> 0 | B14: 7 | C14: =Master!B15 -> 0 | D14: =Master!C15 -> 0 | E14: =Master!D15 -> 0 | F14: =Master!E15 -> 0 | J14: {=(G14+H14+I14)/3} -> 0 | K14: {=ROUNDUP(J14*0.4,0)} -> 0 | M14: {=ROUNDUP(L14*0.2,0)} -> 0
A15: =C15 -> 0 | B15: 8 | C15: =Master!B16 -> 0 | D15: =Master!C16 -> 0 | E15: =Master!D16 -> 0 | F15: =Master!E16 -> 0 | J15: {=(G15+H15+I15)/3} -> 0 | K15: {=ROUNDUP(J15*0.4,0)} -> 0 | M15: {=ROUNDUP(L15*0.2,0)} -> 0
A16: =C16 -> 0 | B16: 9 | C16: =Master!B17 -> 0 | D16: =Master!C17 -> 0 | E16: =Master!D17 -> 0 | F16: =Master!E17 -> 0 | J16: {=(G16+H16+I16)/3} -> 0 | K16: {=ROUNDUP(J16*0.4,0)} -> 0 | M16: {=ROUNDUP(L16*0.2,0)} -> 0
A17: =C17 -> 0 | B17: 10 | C17: =Master!B18 -> 0 | D17: =Master!C18 -> 0 | E17: =Master!D18 -> 0 | F17: =Master!E18 -> 0 | J17: {=(G17+H17+I17)/3} -> 0 | K17: {=ROUNDUP(J17*0.4,0)} -> 0 | M17: {=ROUNDUP(L17*0.2,0)} -> 0
A18: =C18 -> 0 | B18: 11 | C18: =Master!B19 -> 0 | D18: =Master!C19 -> 0 | E18: =Master!D19 -> 0 | F18: =Master!E19 -> 0 | J18: {=(G18+H18+I18)/3} -> 0 | K18: {=ROUNDUP(J18*0.4,0)} -> 0 | M18: {=ROUNDUP(L18*0.2,0)} -> 0
A19: =C19 -> 0 | B19: 12 | C19: =Master!B20 -> 0 | D19: =Master!C20 -> 0 | E19: =Master!D20 -> 0 | F19: =Master!E20 -> 0 | J19: {=(G19+H19+I19)/3} -> 0 | K19: {=ROUNDUP(J19*0.4,0)} -> 0 | M19: {=ROUNDUP(L19*0.2,0)} -> 0
A20: =C20 -> 0 | B20: 13 | C20: =Master!B21 -> 0 | D20: =Master!C21 -> 0 | E20: =Master!D21 -> 0 | F20: =Master!E21 -> 0 | J20: {=(G20+H20+I20)/3} -> 0 | K20: {=ROUNDUP(J20*0.4,0)} -> 0 | M20: {=ROUNDUP(L20*0.2,0)} -> 0
... A151: =C151 -> 0 | B151: 144 | C151: =Master!B152 -> 0 | D151: =Master!C152 -> 0 | E151: =Master!D152 -> 0 | F151: =Master!E152 -> 0 | J151: {=(G151+H151+I151)/3} -> 0 | K151: {=ROUNDUP(J151*0.4,0)} -> 0 | M151: {=ROUNDUP(L151*0.2,0)} -> 0

Sheet Class-10 Perfomance Chart
B1: Board of Secondary Education, Rajasthan
B2: School Name:- | E2: =Master!D4 -> G.S.S.S. Raimalwada, P.S.-Bapini (Jodhpur)-
B3: SECONDARY EXAMINATION-2021
B4: Class-10 Performance Marks Chart For Online Submission
B5: S. No. | C5: Roll No. Current Class (10) | D5: Name | E5: Roll Class 8 | F5: Year Class 8 | G5: कक्षा 8 बोर्ड 2019 या विगत वर्ष परीक्षा का प्रदर्शन | L5: कक्षा-9 का प्रदर्शन | N5: कक्षा - 10 का सतत मूल्यांकन एवं ओवरआल परफॉर्मेंस के आधार पर 10% अंकभार [M.M.10] | T5: कक्षा -10 के इस वर्ष ऑनलाइन किए सत्रांक [M.M.20]
G6: जिन तीन विषयों में अधिकतम अंक है | J6: औसत | K6: औसत का 45% (M,M, 45) | T6: नोट:- यदि सभी विद्यार्थियों की विषयवार समेकित अंकभार सूची की आवश्यकता हो तो ही भरें
G7: विषय-1 | H7: विषय-2 | I7: विषय-3 | L7: कक्षा-9 के अंतिम कुल प्राप्तांक | M7: कक्षा-9 के कुल अंकों का 25% [M.M.25] | N7: Hindi | O7: English | P7: Math | Q7: Sci. | R7: Soc. Stu. | S7: Third Lang. | T7: Hindi | U7: English | V7: Math | W7: Sci. | X7: Soc. Stu. | Y7: Third Lang.
A8: =C8 -> GJGI | B8: 1 | C8: =Master!K9 -> GJGI | D8: =Master!L9 -> JHKHK | E8: =Master!M9 -> HKHK | F8: =Master!N9 -> LHJ | G8: 40 | H8: 41 | I8: 27 | J8: {=(G8+H8+I8)/3} -> 36 | K8: {=ROUNDUP(J8*0.45,0)} -> 17 | L8: 37 | M8: {=ROUNDUP(L8*0.25,0)} -> 10
A9: =C9 -> 0 | B9: 2 | C9: =Master!K10 -> 0 | D9: =Master!L10 -> 0 | E9: =Master!M10 -> 0 | F9: =Master!N10 -> 0 | J9: {=(G9+H9+I9)/3} -> 0 | K9: {=ROUNDUP(J9*0.45,0)} -> 0 | M9: {=ROUNDUP(L9*0.25,0)} -> 0
A10: =C10 -> 0 | B10: 3 | C10: =Master!K11 -> 0 | D10: =Master!L11 -> 0 | E10: =Master!M11 -> 0 | F10: =Master!N11 -> 0 | J10: {=(G10+H10+I10)/3} -> 0 | K10: {=ROUNDUP(J10*0.45,0)} -> 0 | M10: {=ROUNDUP(L10*0.25,0)} -> 0
A11: =C11 -> 0 | B11: 4 | C11: =Master!K12 -> 0 | D11: =Master!L12 -> 0 | E11: =Master!M12 -> 0 | F11: =Master!N12 -> 0 | J11: {=(G11+H11+I11)/3} -> 0 | K11: {=ROUNDUP(J11*0.45,0)} -> 0 | M11: {=ROUNDUP(L11*0.25,0)} -> 0
A12: =C12 -> 0 | B12: 5 | C12: =Master!K13 -> 0 | D12: =Master!L13 -> 0 | E12: =Master!M13 -> 0 | F12: =Master!N13 -> 0 | J12: {=(G12+H12+I12)/3} -> 0 | K12: {=ROUNDUP(J12*0.45,0)} -> 0 | M12: {=ROUNDUP(L12*0.25,0)} -> 0
A13: =C13 -> 0 | B13: 6 | C13: =Master!K14 -> 0 | D13: =Master!L14 -> 0 | E13: =Master!M14 -> 0 | F13: =Master!N14 -> 0 | J13: {=(G13+H13+I13)/3} -> 0 | K13: {=ROUNDUP(J13*0.45,0)} -> 0 | M13: {=ROUNDUP(L13*0.25,0)} -> 0
A14: =C14 -> 0 | B14: 7 | C14: =Master!K15 -> 0 | D14: =Master!L15 -> 0 | E14: =Master!M15 -> 0 | F14: =Master!N15 -> 0 | J14: {=(G14+H14+I14)/3} -> 0 | K14: {=ROUNDUP(J14*0.45,0)} -> 0 | M14: {=ROUNDUP(L14*0.25,0)} -> 0
A15: =C15 -> 0 | B15: 8 | C15: =Master!K16 -> 0 | D15: =Master!L16 -> 0 | E15: =Master!M16 -> 0 | F15: =Master!N16 -> 0 | J15: {=(G15+H15+I15)/3} -> 0 | K15: {=ROUNDUP(J15*0.45,0)} -> 0 | M15: {=ROUNDUP(L15*0.25,0)} -> 0
A16: =C16 -> 0 | B16: 9 | C16: =Master!K17 -> 0 | D16: =Master!L17 -> 0 | E16: =Master!M17 -> 0 | F16: =Master!N17 -> 0 | J16: {=(G16+H16+I16)/3} -> 0 | K16: {=ROUNDUP(J16*0.45,0)} -> 0 | M16: {=ROUNDUP(L16*0.25,0)} -> 0
A17: =C17 -> 0 | B17: 10 | C17: =Master!K18 -> 0 | D17: =Master!L18 -> 0 | E17: =Master!M18 -> 0 | F17: =Master!N18 -> 0 | J17: {=(G17+H17+I17)/3} -> 0 | K17: {=ROUNDUP(J17*0.45,0)} -> 0 | M17: {=ROUNDUP(L17*0.25,0)} -> 0
A18: =C18 -> 0 | B18: 11 | C18: =Master!K19 -> 0 | D18: =Master!L19 -> 0 | E18: =Master!M19 -> 0 | F18: =Master!N19 -> 0 | J18: {=(G18+H18+I18)/3} -> 0 | K18: {=ROUNDUP(J18*0.45,0)} -> 0 | M18: {=ROUNDUP(L18*0.25,0)} -> 0
A19: =C19 -> 0 | B19: 12 | C19: =Master!K20 -> 0 | D19: =Master!L20 -> 0 | E19: =Master!M20 -> 0 | F19: =Master!N20 -> 0 | J19: {=(G19+H19+I19)/3} -> 0 | K19: {=ROUNDUP(J19*0.45,0)} -> 0 | M19: {=ROUNDUP(L19*0.25,0)} -> 0
A20: =C20 -> 0 | B20: 13 | C20: =Master!K21 -> 0 | D20: =Master!L21 -> 0 | E20: =Master!M21 -> 0 | F20: =Master!N21 -> 0 | J20: {=(G20+H20+I20)/3} -> 0 | K20: {=ROUNDUP(J20*0.45,0)} -> 0 | M20: {=ROUNDUP(L20*0.25,0)} -> 0
... A151: =C151 -> 0 | B151: 144 | C151: =Master!K152 -> 0 | D151: =Master!L152 -> 0 | E151: =Master!M152 -> 0 | F151: =Master!N152 -> 0 | J151: {=(G151+H151+I151)/3} -> 0 | K151: {=ROUNDUP(J151*0.45,0)} -> 0 | M151: {=ROUNDUP(L151*0.25,0)} -> 0

Sheet Complete Marks Class-12
B1: Board of Secondary Education, Rajasthan
B2: School Name:- | E2: =Master!D4 -> G.S.S.S. Raimalwada, P.S.-Bapini (Jodhpur)-
B3: SECONDARY EXAMINATION-2021
B4: Class-12 Complete Marks List (Only Without Practical Marks)
B5: S. No. | C5: Roll Number | D5: Name | E5: Comp. Hindi | K5: Comp. English | Q5: ='Class-12 Perfomance Chart'!P7 -> Hindi Lit. | W5: ='Class-12 Perfomance Chart'!Q7 -> Pol.Science | AC5: ='Class-12 Perfomance Chart'!R7 -> History | AI5: Grand Total [Max.500] | AJ5: Percentage
E6: Weigtage Of Class-10 | F6: Weigtage Of Class-11 | G6: सतत आकलन और मूल्यांकन आवरओल | H6: प्रदार्शन के आधार पर अंकों का कुल | I6: सत्रांक | J6: विषय महायोग | K6: Weigtage Of Class-10 | L6: Weigtage Of Class-11 | M6: सतत आकलन और मूल्यांकन आवरओल | N6: प्रदार्शन के आधार पर अंकों का कुल | O6: सत्रांक | P6: विषय महायोग | Q6: Weigtage Of Class-10 | R6: Weigtage Of Class-11 | S6: सतत आकलन और मूल्यांकन आवरओल | T6: प्रदार्शन के आधार पर अंकों का कुल | U6: सत्रांक | V6: विषय महायोग | W6: Weigtage Of Class-10 | X6: Weigtage Of Class-11 | Y6: सतत आकलन और मूल्यांकन आवरओल | Z6: प्रदार्शन के आधार पर अंकों का कुल | AA6: सत्रांक | AB6: विषय महायोग | AC6: Weigtage Of Class-10 | AD6: Weigtage Of Class-11 | AE6: सतत आकलन और मूल्यांकन आवरओल | AF6: प्रदार्शन के आधार पर अंकों का कुल | AG6: सत्रांक | AH6: विषय महायोग
E7: 40 | F7: 20 | G7: 20 | H7: 80 | I7: 20 | J7: 100 | K7: 40 | L7: 20 | M7: 20 | N7: 80 | O7: 20 | P7: 100 | Q7: 40 | R7: 20 | S7: 20 | T7: 80 | U7: 20 | V7: 100 | W7: 40 | X7: 20 | Y7: 20 | Z7: 80 | AA7: 20 | AB7: 100 | AC7: 40 | AD7: 20 | AE7: 20 | AF7: 80 | AG7: 20 | AH7: 100
A8: =C8 -> KJHNKH | B8: ='Class-12 Perfomance Chart'!B8 -> 1 | C8: ='Class-12 Perfomance Chart'!C8 -> KJHNKH | D8: ='Class-12 Perfomance Chart'!D8 -> KNJLJHOLJ | E8: ='Class-12 Perfomance Chart'!$K8 -> 16 | F8: ='Class-12 Perfomance Chart'!$M8 -> 8 | G8: ='Class-12 Perfomance Chart'!$N8 -> 0 | H8: {=SUM(E8+F8+G8)} -> 24 | I8: ='Class-12 Perfomance Chart'!$S8 -> 0 | J8: {=H8+I8} -> 24 | K8: ='Class-12 Perfomance Chart'!$K8 -> 16 | L8: ='Class-12 Perfomance Chart'!$M8 -> 8 | M8: ='Class-12 Perfomance Chart'!$N8 -> 0 | N8: {=SUM(K8+L8+M8)} -> 24 | O8: ='Class-12 Perfomance Chart'!$T8 -> 0 | P8: {=N8+O8} -> 24 | Q8: ='Class-12 Perfomance Chart'!$K8 -> 16 | R8: ='Class-12 Perfomance Chart'!$M8 -> 8 | S8: ='Class-12 Perfomance Chart'!$N8 -> 0 | T8: {=SUM(Q8+R8+S8)} -> 24 | U8: ='Class-12 Perfomance Chart'!$U8 -> 0 | V8: {=T8+U8} -> 24 | W8: ='Class-12 Perfomance Chart'!$K8 -> 16 | X8: ='Class-12 Perfomance Chart'!$M8 -> 8 | Y8: ='Class-12 Perfomance Chart'!$N8 -> 0 | Z8: {=SUM(W8+X8+Y8)} -> 24 | AA8: ='Class-12 Perfomance Chart'!$V8 -> 0 | AB8: {=Z8+AA8} -> 24 | AC8: ='Class-12 Perfomance Chart'!$K8 -> 16 | AD8: ='Class-12 Perfomance Chart'!$M8 -> 8 | AE8: ='Class-12 Perfomance Chart'!$N8 -> 0 | AF8: {=SUM(AC8+AD8+AE8)} -> 24 | AG8: ='Class-12 Perfomance Chart'!$W8 -> 0 | AH8: {=AF8+AG8} -> 24 | AI8: {=J8+P8+V8+AB8+AH8} -> 120 | AJ8: =ROUND(AI8/500*100,0) -> 24
A9: =C9 -> 0 | B9: ='Class-12 Perfomance Chart'!B9 -> 2 | C9: ='Class-12 Perfomance Chart'!C9 -> 0 | D9: ='Class-12 Perfomance Chart'!D9 -> 0 | E9: ='Class-12 Perfomance Chart'!$K9 -> 0 | F9: ='Class-12 Perfomance Chart'!$M9 -> 0 | G9: ='Class-12 Perfomance Chart'!$N9 -> 0 | H9: {=SUM(E9+F9+G9)} -> 0 | I9: ='Class-12 Perfomance Chart'!$S9 -> 0 | J9: {=H9+I9} -> 0 | K9: ='Class-12 Perfomance Chart'!$K9 -> 0 | L9: ='Class-12 Perfomance Chart'!$M9 -> 0 | M9: ='Class-12 Perfomance Chart'!$N9 -> 0 | N9: {=SUM(K9+L9+M9)} -> 0 | O9: ='Class-12 Perfomance Chart'!$T9 -> 0 | P9: {=N9+O9} -> 0 | Q9: ='Class-12 Perfomance Chart'!$K9 -> 0 | R9: ='Class-12 Perfomance Chart'!$M9 -> 0 | S9: ='Class-12 Perfomance Chart'!$N9 -> 0 | T9: {=SUM(Q9+R9+S9)} -> 0 | U9: ='Class-12 Perfomance Chart'!$U9 -> 0 | V9: {=T9+U9} -> 0 | W9: ='Class-12 Perfomance Chart'!$K9 -> 0 | X9: ='Class-12 Perfomance Chart'!$M9 -> 0 | Y9: ='Class-12 Perfomance Chart'!$N9 -> 0 | Z9: {=SUM(W9+X9+Y9)} -> 0 | AA9: ='Class-12 Perfomance Chart'!$V9 -> 0 | AB9: {=Z9+AA9} -> 0 | AC9: ='Class-12 Perfomance Chart'!$K9 -> 0 | AD9: ='Class-12 Perfomance Chart'!$M9 -> 0 | AE9: ='Class-12 Perfomance Chart'!$N9 -> 0 | AF9: {=SUM(AC9+AD9+AE9)} -> 0 | AG9: ='Class-12 Perfomance Chart'!$W9 -> 0 | AH9: {=AF9+AG9} -> 0 | AI9: {=J9+P9+V9+AB9+AH9} -> 0 | AJ9: =ROUND(AI9/500*100,0) -> 0
A10: =C10 -> 0 | B10: ='Class-12 Perfomance Chart'!B10 -> 3 | C10: ='Class-12 Perfomance Chart'!C10 -> 0 | D10: ='Class-12 Perfomance Chart'!D10 -> 0 | E10: ='Class-12 Perfomance Chart'!$K10 -> 0 | F10: ='Class-12 Perfomance Chart'!$M10 -> 0 | G10: ='Class-12 Perfomance Chart'!$N10 -> 0 | H10: {=SUM(E10+F10+G10)} -> 0 | I10: ='Class-12 Perfomance Chart'!$S10 -> 0 | J10: {=H10+I10} -> 0 | K10: ='Class-12 Perfomance Chart'!$K10 -> 0 | L10: ='Class-12 Perfomance Chart'!$M10 -> 0 | M10: ='Class-12 Perfomance Chart'!$N10 -> 0 | N10: {=SUM(K10+L10+M10)} -> 0 | O10: ='Class-12 Perfomance Chart'!$T10 -> 0 | P10: {=N10+O10} -> 0 | Q10: ='Class-12 Perfomance Chart'!$K10 -> 0 | R10: ='Class-12 Perfomance Chart'!$M10 -> 0 | S10: ='Class-12 Perfomance Chart'!$N10 -> 0 | T10: {=SUM(Q10+R10+S10)} -> 0 | U10: ='Class-12 Perfomance Chart'!$U10 -> 0 | V10: {=T10+U10} -> 0 | W10: ='Class-12 Perfomance Chart'!$K10 -> 0 | X10: ='Class-12 Perfomance Chart'!$M10 -> 0 | Y10: ='Class-12 Perfomance Chart'!$N10 -> 0 | Z10: {=SUM(W10+X10+Y10)} -> 0 | AA10: ='Class-12 Perfomance Chart'!$V10 -> 0 | AB10: {=Z10+AA10} -> 0 | AC10: ='Class-12 Perfomance Chart'!$K10 -> 0 | AD10: ='Class-12 Perfomance Chart'!$M10 -> 0 | AE10: ='Class-12 Perfomance Chart'!$N10 -> 0 | AF10: {=SUM(AC10+AD10+AE10)} -> 0 | AG10: ='Class-12 Perfomance Chart'!$W10 -> 0 | AH10: {=AF10+AG10} -> 0 | AI10: {=J10+P10+V10+AB10+AH10} -> 0 | AJ10: =ROUND(AI10/500*100,0) -> 0
A11: =C11 -> 0 | B11: ='Class-12 Perfomance Chart'!B11 -> 4 | C11: ='Class-12 Perfomance Chart'!C11 -> 0 | D11: ='Class-12 Perfomance Chart'!D11 -> 0 | E11: ='Class-12 Perfomance Chart'!$K11 -> 0 | F11: ='Class-12 Perfomance Chart'!$M11 -> 0 | G11: ='Class-12 Perfomance Chart'!$N11 -> 0 | H11: {=SUM(E11+F11+G11)} -> 0 | I11: ='Class-12 Perfomance Chart'!$S11 -> 0 | J11: {=H11+I11} -> 0 | K11: ='Class-12 Perfomance Chart'!$K11 -> 0 | L11: ='Class-12 Perfomance Chart'!$M11 -> 0 | M11: ='Class-12 Perfomance Chart'!$N11 -> 0 | N11: {=SUM(K11+L11+M11)} -> 0 | O11: ='Class-12 Perfomance Chart'!$T11 -> 0 | P11: {=N11+O11} -> 0 | Q11: ='Class-12 Perfomance Chart'!$K11 -> 0 | R11: ='Class-12 Perfomance Chart'!$M11 -> 0 | S11: ='Class-12 Perfomance Chart'!$N11 -> 0 | T11: {=SUM(Q11+R11+S11)} -> 0 | U11: ='Class-12 Perfomance Chart'!$U11 -> 0 | V11: {=T11+U11} -> 0 | W11: ='Class-12 Perfomance Chart'!$K11 -> 0 | X11: ='Class-12 Perfomance Chart'!$M11 -> 0 | Y11: ='Class-12 Perfomance Chart'!$N11 -> 0 | Z11: {=SUM(W11+X11+Y11)} -> 0 | AA11: ='Class-12 Perfomance Chart'!$V11 -> 0 | AB11: {=Z11+AA11} -> 0 | AC11: ='Class-12 Perfomance Chart'!$K11 -> 0 | AD11: ='Class-12 Perfomance Chart'!$M11 -> 0 | AE11: ='Class-12 Perfomance Chart'!$N11 -> 0 | AF11: {=SUM(AC11+AD11+AE11)} -> 0 | AG11: ='Class-12 Perfomance Chart'!$W11 -> 0 | AH11: {=AF11+AG11} -> 0 | AI11: {=J11+P11+V11+AB11+AH11} -> 0 | AJ11: =ROUND(AI11/500*100,0) -> 0
A12: =C12 -> 0 | B12: ='Class-12 Perfomance Chart'!B12 -> 5 | C12: ='Class-12 Perfomance Chart'!C12 -> 0 | D12: ='Class-12 Perfomance Chart'!D12 -> 0 | E12: ='Class-12 Perfomance Chart'!$K12 -> 0 | F12: ='Class-12 Perfomance Chart'!$M12 -> 0 | G12: ='Class-12 Perfomance Chart'!$N12 -> 0 | H12: {=SUM(E12+F12+G12)} -> 0 | I12: ='Class-12 Perfomance Chart'!$S12 -> 0 | J12: {=H12+I12} -> 0 | K12: ='Class-12 Perfomance Chart'!$K12 -> 0 | L12: ='Class-12 Perfomance Chart'!$M12 -> 0 | M12: ='Class-12 Perfomance Chart'!$N12 -> 0 | N12: {=SUM(K12+L12+M12)} -> 0 | O12: ='Class-12 Perfomance Chart'!$T12 -> 0 | P12: {=N12+O12} -> 0 | Q12: ='Class-12 Perfomance Chart'!$K12 -> 0 | R12: ='Class-12 Perfomance Chart'!$M12 -> 0 | S12: ='Class-12 Perfomance Chart'!$N12 -> 0 | T12: {=SUM(Q12+R12+S12)} -> 0 | U12: ='Class-12 Perfomance Chart'!$U12 -> 0 | V12: {=T12+U12} -> 0 | W12: ='Class-12 Perfomance Chart'!$K12 -> 0 | X12: ='Class-12 Perfomance Chart'!$M12 -> 0 | Y12: ='Class-12 Perfomance Chart'!$N12 -> 0 | Z12: {=SUM(W12+X12+Y12)} -> 0 | AA12: ='Class-12 Perfomance Chart'!$V12 -> 0 | AB12: {=Z12+AA12} -> 0 | AC12: ='Class-12 Perfomance Chart'!$K12 -> 0 | AD12: ='Class-12 Perfomance Chart'!$M12 -> 0 | AE12: ='Class-12 Perfomance Chart'!$N12 -> 0 | AF12: {=SUM(AC12+AD12+AE12)} -> 0 | AG12: ='Class-12 Perfomance Chart'!$W12 -> 0 | AH12: {=AF12+AG12} -> 0 | AI12: {=J12+P12+V12+AB12+AH12} -> 0 | AJ12: =ROUND(AI12/500*100,0) -> 0
A13: =C13 -> 0 | B13: ='Class-12 Perfomance Chart'!B13 -> 6 | C13: ='Class-12 Perfomance Chart'!C13 -> 0 | D13: ='Class-12 Perfomance Chart'!D13 -> 0 | E13: ='Class-12 Perfomance Chart'!$K13 -> 0 | F13: ='Class-12 Perfomance Chart'!$M13 -> 0 | G13: ='Class-12 Perfomance Chart'!$N13 -> 0 | H13: {=SUM(E13+F13+G13)} -> 0 | I13: ='Class-12 Perfomance Chart'!$S13 -> 0 | J13: {=H13+I13} -> 0 | K13: ='Class-12 Perfomance Chart'!$K13 -> 0 | L13: ='Class-12 Perfomance Chart'!$M13 -> 0 | M13: ='Class-12 Perfomance Chart'!$N13 -> 0 | N13: {=SUM(K13+L13+M13)} -> 0 | O13: ='Class-12 Perfomance Chart'!$T13 -> 0 | P13: {=N13+O13} -> 0 | Q13: ='Class-12 Perfomance Chart'!$K13 -> 0 | R13: ='Class-12 Perfomance Chart'!$M13 -> 0 | S13: ='Class-12 Perfomance Chart'!$N13 -> 0 | T13: {=SUM(Q13+R13+S13)} -> 0 | U13: ='Class-12 Perfomance Chart'!$U13 -> 0 | V13: {=T13+U13} -> 0 | W13: ='Class-12 Perfomance Chart'!$K13 -> 0 | X13: ='Class-12 Perfomance Chart'!$M13 -> 0 | Y13: ='Class-12 Perfomance Chart'!$N13 -> 0 | Z13: {=SUM(W13+X13+Y13)} -> 0 | AA13: ='Class-12 Perfomance Chart'!$V13 -> 0 | AB13: {=Z13+AA13} -> 0 | AC13: ='Class-12 Perfomance Chart'!$K13 -> 0 | AD13: ='Class-12 Perfomance Chart'!$M13 -> 0 | AE13: ='Class-12 Perfomance Chart'!$N13 -> 0 | AF13: {=SUM(AC13+AD13+AE13)} -> 0 | AG13: ='Class-12 Perfomance Chart'!$W13 -> 0 | AH13: {=AF13+AG13} -> 0 | AI13: {=J13+P13+V13+AB13+AH13} -> 0 | AJ13: =ROUND(AI13/500*100,0) -> 0
A14: =C14 -> 0 | B14: ='Class-12 Perfomance Chart'!B14 -> 7 | C14: ='Class-12 Perfomance Chart'!C14 -> 0 | D14: ='Class-12 Perfomance Chart'!D14 -> 0 | E14: ='Class-12 Perfomance Chart'!$K14 -> 0 | F14: ='Class-12 Perfomance Chart'!$M14 -> 0 | G14: ='Class-12 Perfomance Chart'!$N14 -> 0 | H14: {=SUM(E14+F14+G14)} -> 0 | I14: ='Class-12 Perfomance Chart'!$S14 -> 0 | J14: {=H14+I14} -> 0 | K14: ='Class-12 Perfomance Chart'!$K14 -> 0 | L14: ='Class-12 Perfomance Chart'!$M14 -> 0 | M14: ='Class-12 Perfomance Chart'!$N14 -> 0 | N14: {=SUM(K14+L14+M14)} -> 0 | O14: ='Class-12 Perfomance Chart'!$T14 -> 0 | P14: {=N14+O14} -> 0 | Q14: ='Class-12 Perfomance Chart'!$K14 -> 0 | R14: ='Class-12 Perfomance Chart'!$M14 -> 0 | S14: ='Class-12 Perfomance Chart'!$N14 -> 0 | T14: {=SUM(Q14+R14+S14)} -> 0 | U14: ='Class-12 Perfomance Chart'!$U14 -> 0 | V14: {=T14+U14} -> 0 | W14: ='Class-12 Perfomance Chart'!$K14 -> 0 | X14: ='Class-12 Perfomance Chart'!$M14 -> 0 | Y14: ='Class-12 Perfomance Chart'!$N14 -> 0 | Z14: {=SUM(W14+X14+Y14)} -> 0 | AA14: ='Class-12 Perfomance Chart'!$V14 -> 0 | AB14: {=Z14+AA14} -> 0 | AC14: ='Class-12 Perfomance Chart'!$K14 -> 0 | AD14: ='Class-12 Perfomance Chart'!$M14 -> 0 | AE14: ='Class-12 Perfomance Chart'!$N14 -> 0 | AF14: {=SUM(AC14+AD14+AE14)} -> 0 | AG14: ='Class-12 Perfomance Chart'!$W14 -> 0 | AH14: {=AF14+AG14} -> 0 | AI14: {=J14+P14+V14+AB14+AH14} -> 0 | AJ14: =ROUND(AI14/500*100,0) -> 0
A15: =C15 -> 0 | B15: ='Class-12 Perfomance Chart'!B15 -> 8 | C15: ='Class-12 Perfomance Chart'!C15 -> 0 | D15: ='Class-12 Perfomance Chart'!D15 -> 0 | E15: ='Class-12 Perfomance Chart'!$K15 -> 0 | F15: ='Class-12 Perfomance Chart'!$M15 -> 0 | G15: ='Class-12 Perfomance Chart'!$N15 -> 0 | H15: {=SUM(E15+F15+G15)} -> 0 | I15: ='Class-12 Perfomance Chart'!$S15 -> 0 | J15: {=H15+I15} -> 0 | K15: ='Class-12 Perfomance Chart'!$K15 -> 0 | L15: ='Class-12 Perfomance Chart'!$M15 -> 0 | M15: ='Class-12 Perfomance Chart'!$N15 -> 0 | N15: {=SUM(K15+L15+M15)} -> 0 | O15: ='Class-12 Perfomance Chart'!$T15 -> 0 | P15: {=N15+O15} -> 0 | Q15: ='Class-12 Perfomance Chart'!$K15 -> 0 | R15: ='Class-12 Perfomance Chart'!$M15 -> 0 | S15: ='Class-12 Perfomance Chart'!$N15 -> 0 | T15: {=SUM(Q15+R15+S15)} -> 0 | U15: ='Class-12 Perfomance Chart'!$U15 -> 0 | V15: {=T15+U15} -> 0 | W15: ='Class-12 Perfomance Chart'!$K15 -> 0 | X15: ='Class-12 Perfomance Chart'!$M15 -> 0 | Y15: ='Class-12 Perfomance Chart'!$N15 -> 0 | Z15: {=SUM(W15+X15+Y15)} -> 0 | AA15: ='Class-12 Perfomance Chart'!$V15 -> 0 | AB15: {=Z15+AA15} -> 0 | AC15: ='Class-12 Perfomance Chart'!$K15 -> 0 | AD15: ='Class-12 Perfomance Chart'!$M15 -> 0 | AE15: ='Class-12 Perfomance Chart'!$N15 -> 0 | AF15: {=SUM(AC15+AD15+AE15)} -> 0 | AG15: ='Class-12 Perfomance Chart'!$W15 -> 0 | AH15: {=AF15+AG15} -> 0 | AI15: {=J15+P15+V15+AB15+AH15} -> 0 | AJ15: =ROUND(AI15/500*100,0) -> 0
A16: =C16 -> 0 | B16: ='Class-12 Perfomance Chart'!B16 -> 9 | C16: ='Class-12 Perfomance Chart'!C16 -> 0 | D16: ='Class-12 Perfomance Chart'!D16 -> 0 | E16: ='Class-12 Perfomance Chart'!$K16 -> 0 | F16: ='Class-12 Perfomance Chart'!$M16 -> 0 | G16: ='Class-12 Perfomance Chart'!$N16 -> 0 | H16: {=SUM(E16+F16+G16)} -> 0 | I16: ='Class-12 Perfomance Chart'!$S16 -> 0 | J16: {=H16+I16} -> 0 | K16: ='Class-12 Perfomance Chart'!$K16 -> 0 | L16: ='Class-12 Perfomance Chart'!$M16 -> 0 | M16: ='Class-12 Perfomance Chart'!$N16 -> 0 | N16: {=SUM(K16+L16+M16)} -> 0 | O16: ='Class-12 Perfomance Chart'!$T16 -> 0 | P16: {=N16+O16} -> 0 | Q16: ='Class-12 Perfomance Chart'!$K16 -> 0 | R16: ='Class-12 Perfomance Chart'!$M16 -> 0 | S16: ='Class-12 Perfomance Chart'!$N16 -> 0 | T16: {=SUM(Q16+R16+S16)} -> 0 | U16: ='Class-12 Perfomance Chart'!$U16 -> 0 | V16: {=T16+U16} -> 0 | W16: ='Class-12 Perfomance Chart'!$K16 -> 0 | X16: ='Class-12 Perfomance Chart'!$M16 -> 0 | Y16: ='Class-12 Perfomance Chart'!$N16 -> 0 | Z16: {=SUM(W16+X16+Y16)} -> 0 | AA16: ='Class-12 Perfomance Chart'!$V16 -> 0 | AB16: {=Z16+AA16} -> 0 | AC16: ='Class-12 Perfomance Chart'!$K16 -> 0 | AD16: ='Class-12 Perfomance Chart'!$M16 -> 0 | AE16: ='Class-12 Perfomance Chart'!$N16 -> 0 | AF16: {=SUM(AC16+AD16+AE16)} -> 0 | AG16: ='Class-12 Perfomance Chart'!$W16 -> 0 | AH16: {=AF16+AG16} -> 0 | AI16: {=J16+P16+V16+AB16+AH16} -> 0 | AJ16: =ROUND(AI16/500*100,0) -> 0
A17: =C17 -> 0 | B17: ='Class-12 Perfomance Chart'!B17 -> 10 | C17: ='Class-12 Perfomance Chart'!C17 -> 0 | D17: ='Class-12 Perfomance Chart'!D17 -> 0 | E17: ='Class-12 Perfomance Chart'!$K17 -> 0 | F17: ='Class-12 Perfomance Chart'!$M17 -> 0 | G17: ='Class-12 Perfomance Chart'!$N17 -> 0 | H17: {=SUM(E17+F17+G17)} -> 0 | I17: ='Class-12 Perfomance Chart'!$S17 -> 0 | J17: {=H17+I17} -> 0 | K17: ='Class-12 Perfomance Chart'!$K17 -> 0 | L17: ='Class-12 Perfomance Chart'!$M17 -> 0 | M17: ='Class-12 Perfomance Chart'!$N17 -> 0 | N17: {=SUM(K17+L17+M17)} -> 0 | O17: ='Class-12 Perfomance Chart'!$T17 -> 0 | P17: {=N17+O17} -> 0 | Q17: ='Class-12 Perfomance Chart'!$K17 -> 0 | R17: ='Class-12 Perfomance Chart'!$M17 -> 0 | S17: ='Class-12 Perfomance Chart'!$N17 -> 0 | T17: {=SUM(Q17+R17+S17)} -> 0 | U17: ='Class-12 Perfomance Chart'!$U17 -> 0 | V17: {=T17+U17} -> 0 | W17: ='Class-12 Perfomance Chart'!$K17 -> 0 | X17: ='Class-12 Perfomance Chart'!$M17 -> 0 | Y17: ='Class-12 Perfomance Chart'!$N17 -> 0 | Z17: {=SUM(W17+X17+Y17)} -> 0 | AA17: ='Class-12 Perfomance Chart'!$V17 -> 0 | AB17: {=Z17+AA17} -> 0 | AC17: ='Class-12 Perfomance Chart'!$K17 -> 0 | AD17: ='Class-12 Perfomance Chart'!$M17 -> 0 | AE17: ='Class-12 Perfomance Chart'!$N17 -> 0 | AF17: {=SUM(AC17+AD17+AE17)} -> 0 | AG17: ='Class-12 Perfomance Chart'!$W17 -> 0 | AH17: {=AF17+AG17} -> 0 | AI17: {=J17+P17+V17+AB17+AH17} -> 0 | AJ17: =ROUND(AI17/500*100,0) -> 0
A18: =C18 -> 0 | B18: ='Class-12 Perfomance Chart'!B18 -> 11 | C18: ='Class-12 Perfomance Chart'!C18 -> 0 | D18: ='Class-12 Perfomance Chart'!D18 -> 0 | E18: ='Class-12 Perfomance Chart'!$K18 -> 0 | F18: ='Class-12 Perfomance Chart'!$M18 -> 0 | G18: ='Class-12 Perfomance Chart'!$N18 -> 0 | H18: {=SUM(E18+F18+G18)} -> 0 | I18: ='Class-12 Perfomance Chart'!$S18 -> 0 | J18: {=H18+I18} -> 0 | K18: ='Class-12 Perfomance Chart'!$K18 -> 0 | L18: ='Class-12 Perfomance Chart'!$M18 -> 0 | M18: ='Class-12 Perfomance Chart'!$N18 -> 0 | N18: {=SUM(K18+L18+M18)} -> 0 | O18: ='Class-12 Perfomance Chart'!$T18 -> 0 | P18: {=N18+O18} -> 0 | Q18: ='Class-12 Perfomance Chart'!$K18 -> 0 | R18: ='Class-12 Perfomance Chart'!$M18 -> 0 | S18: ='Class-12 Perfomance Chart'!$N18 -> 0 | T18: {=SUM(Q18+R18+S18)} -> 0 | U18: ='Class-12 Perfomance Chart'!$U18 -> 0 | V18: {=T18+U18} -> 0 | W18: ='Class-12 Perfomance Chart'!$K18 -> 0 | X18: ='Class-12 Perfomance Chart'!$M18 -> 0 | Y18: ='Class-12 Perfomance Chart'!$N18 -> 0 | Z18: {=SUM(W18+X18+Y18)} -> 0 | AA18: ='Class-12 Perfomance Chart'!$V18 -> 0 | AB18: {=Z18+AA18} -> 0 | AC18: ='Class-12 Perfomance Chart'!$K18 -> 0 | AD18: ='Class-12 Perfomance Chart'!$M18 -> 0 | AE18: ='Class-12 Perfomance Chart'!$N18 -> 0 | AF18: {=SUM(AC18+AD18+AE18)} -> 0 | AG18: ='Class-12 Perfomance Chart'!$W18 -> 0 | AH18: {=AF18+AG18} -> 0 | AI18: {=J18+P18+V18+AB18+AH18} -> 0 | AJ18: =ROUND(AI18/500*100,0) -> 0
A19: =C19 -> 0 | B19: ='Class-12 Perfomance Chart'!B19 -> 12 | C19: ='Class-12 Perfomance Chart'!C19 -> 0 | D19: ='Class-12 Perfomance Chart'!D19 -> 0 | E19: ='Class-12 Perfomance Chart'!$K19 -> 0 | F19: ='Class-12 Perfomance Chart'!$M19 -> 0 | G19: ='Class-12 Perfomance Chart'!$N19 -> 0 | H19: {=SUM(E19+F19+G19)} -> 0 | I19: ='Class-12 Perfomance Chart'!$S19 -> 0 | J19: {=H19+I19} -> 0 | K19: ='Class-12 Perfomance Chart'!$K19 -> 0 | L19: ='Class-12 Perfomance Chart'!$M19 -> 0 | M19: ='Class-12 Perfomance Chart'!$N19 -> 0 | N19: {=SUM(K19+L19+M19)} -> 0 | O19: ='Class-12 Perfomance Chart'!$T19 -> 0 | P19: {=N19+O19} -> 0 | Q19: ='Class-12 Perfomance Chart'!$K19 -> 0 | R19: ='Class-12 Perfomance Chart'!$M19 -> 0 | S19: ='Class-12 Perfomance Chart'!$N19 -> 0 | T19: {=SUM(Q19+R19+S19)} -> 0 | U19: ='Class-12 Perfomance Chart'!$U19 -> 0 | V19: {=T19+U19} -> 0 | W19: ='Class-12 Perfomance Chart'!$K19 -> 0 | X19: ='Class-12 Perfomance Chart'!$M19 -> 0 | Y19: ='Class-12 Perfomance Chart'!$N19 -> 0 | Z19: {=SUM(W19+X19+Y19)} -> 0 | AA19: ='Class-12 Perfomance Chart'!$V19 -> 0 | AB19: {=Z19+AA19} -> 0 | AC19: ='Class-12 Perfomance Chart'!$K19 -> 0 | AD19: ='Class-12 Perfomance Chart'!$M19 -> 0 | AE19: ='Class-12 Perfomance Chart'!$N19 -> 0 | AF19: {=SUM(AC19+AD19+AE19)} -> 0 | AG19: ='Class-12 Perfomance Chart'!$W19 -> 0 | AH19: {=AF19+AG19} -> 0 | AI19: {=J19+P19+V19+AB19+AH19} -> 0 | AJ19: =ROUND(AI19/500*100,0) -> 0
... A151: =C151 -> 0 | B151: ='Class-12 Perfomance Chart'!B151 -> 144 | C151: ='Class-12 Perfomance Chart'!C151 -> 0 | D151: ='Class-12 Perfomance Chart'!D151 -> 0 | E151: ='Class-12 Perfomance Chart'!$K151 -> 0 | F151: ='Class-12 Perfomance Chart'!$M151 -> 0 | G151: ='Class-12 Perfomance Chart'!$N151 -> 0 | H151: {=SUM(E151+F151+G151)} -> 0 | I151: ='Class-12 Perfomance Chart'!$S151 -> 0 | J151: {=H151+I151} -> 0 | K151: ='Class-12 Perfomance Chart'!$K151 -> 0 | L151: ='Class-12 Perfomance Chart'!$M151 -> 0 | M151: ='Class-12 Perfomance Chart'!$N151 -> 0 | N151: {=SUM(K151+L151+M151)} -> 0 | O151: ='Class-12 Perfomance Chart'!$T151 -> 0 | P151: {=N151+O151} -> 0 | Q151: ='Class-12 Perfomance Chart'!$K151 -> 0 | R151: ='Class-12 Perfomance Chart'!$M151 -> 0 | S151: ='Class-12 Perfomance Chart'!$N151 -> 0 | T151: {=SUM(Q151+R151+S151)} -> 0 | U151: ='Class-12 Perfomance Chart'!$U151 -> 0 | V151: {=T151+U151} -> 0 | W151: ='Class-12 Perfomance Chart'!$K151 -> 0 | X151: ='Class-12 Perfomance Chart'!$M151 -> 0 | Y151: ='Class-12 Perfomance Chart'!$N151 -> 0 | Z151: {=SUM(W151+X151+Y151)} -> 0 | AA151: ='Class-12 Perfomance Chart'!$V151 -> 0 | AB151: {=Z151+AA151} -> 0 | AC151: ='Class-12 Perfomance Chart'!$K151 -> 0 | AD151: ='Class-12 Perfomance Chart'!$M151 -> 0 | AE151: ='Class-12 Perfomance Chart'!$N151 -> 0 | AF151: {=SUM(AC151+AD151+AE151)} -> 0 | AG151: ='Class-12 Perfomance Chart'!$W151 -> 0 | AH151: {=AF151+AG151} -> 0 | AI151: {=J151+P151+V151+AB151+AH151} -> 0 | AJ151: =ROUND(AI151/500*100,0) -> 0

Sheet Complete Marks Class-10 
B1: Board of Secondary Education, Rajasthan
B2: School Name:- | E2: =Master!D4 -> G.S.S.S. Raimalwada, P.S.-Bapini (Jodhpur)-
B3: SECONDARY EXAMINATION-2021
B4: Class-10 Complete Marks List
B5: S. No. | C5: Roll Number | D5: Name | E5: Hindi | K5: English | Q5: Math. | W5: Science | AC5: Social Study | AI5: Third Language (……………………………) | AO5: Grand Total [Max.600] | AP5: Percentage
E6: Weigtage Of Class-8 | F6: Weigtage Of Class-9 | G6: सतत आकलन और मूल्यांकन आवरओल | H6: प्रदार्शन के आधार पर अंकों का कुल | I6: सत्रांक | J6: विषय महायोग | K6: Weigtage Of Class-8 | L6: Weigtage Of Class-9 | M6: सतत आकलन और मूल्यांकन आवरओल | N6: प्रदार्शन के आधार पर अंकों का कुल | O6: सत्रांक | P6: विषय महायोग | Q6: Weigtage Of Class-8 | R6: Weigtage Of Class-9 | S6: सतत आकलन और मूल्यांकन आवरओल | T6: प्रदार्शन के आधार पर अंकों का कुल | U6: सत्रांक | V6: विषय महायोग | W6: Weigtage Of Class-8 | X6: Weigtage Of Class-9 | Y6: सतत आकलन और मूल्यांकन आवरओल | Z6: प्रदार्शन के आधार पर अंकों का कुल | AA6: सत्रांक | AB6: विषय महायोग | AC6: Weigtage Of Class-8 | AD6: Weigtage Of Class-9 | AE6: सतत आकलन और मूल्यांकन आवरओल | AF6: प्रदार्शन के आधार पर अंकों का कुल | AG6: सत्रांक | AH6: विषय महायोग | AI6: Weigtage Of Class-8 | AJ6: Weigtage Of Class-9 | AK6: सतत आकलन और मूल्यांकन आवरओल | AL6: प्रदार्शन के आधार पर अंकों का कुल | AM6: सत्रांक | AN6: विषय महायोग
E7: 45 | F7: 25 | G7: 10 | H7: 80 | I7: 20 | J7: 100 | K7: 45 | L7: 25 | M7: 10 | N7: 80 | O7: 20 | P7: 100 | Q7: 45 | R7: 25 | S7: 10 | T7: 80 | U7: 20 | V7: 100 | W7: 45 | X7: 25 | Y7: 10 | Z7: 80 | AA7: 20 | AB7: 100 | AC7: 45 | AD7: 25 | AE7: 10 | AF7: 80 | AG7: 20 | AH7: 100 | AI7: 45 | AJ7: 25 | AK7: 10 | AL7: 80 | AM7: 20 | AN7: 100
A8: =C8 -> GJGI | B8: 1 | C8: =Master!K9 -> GJGI | D8: =Master!L9 -> JHKHK | E8: ='Class-10 Perfomance Chart'!$K8 -> 17 | F8: ='Class-10 Perfomance Chart'!$M8 -> 10 | G8: ='Class-10 Perfomance Chart'!$N8 -> 0 | H8: {=SUM(E8+F8+G8)} -> 27 | I8: ='Class-10 Perfomance Chart'!$T8 -> 0 | J8: {=H8+I8} -> 27 | K8: ='Class-10 Perfomance Chart'!$K8 -> 17 | L8: ='Class-10 Perfomance Chart'!$M8 -> 10 | M8: ='Class-10 Perfomance Chart'!$N8 -> 0 | N8: {=SUM(K8+L8+M8)} -> 27 | O8: ='Class-10 Perfomance Chart'!$U8 -> 0 | P8: {=N8+O8} -> 27 | Q8: ='Class-10 Perfomance Chart'!$K8 -> 17 | R8: ='Class-10 Perfomance Chart'!$M8 -> 10 | S8: ='Class-10 Perfomance Chart'!$N8 -> 0 | T8: {=SUM(Q8+R8+S8)} -> 27 | U8: ='Class-10 Perfomance Chart'!$V8 -> 0 | V8: {=T8+U8} -> 27 | W8: ='Class-10 Perfomance Chart'!$K8 -> 17 | X8: ='Class-10 Perfomance Chart'!$M8 -> 10 | Y8: ='Class-10 Perfomance Chart'!$N8 -> 0 | Z8: {=SUM(W8+X8+Y8)} -> 27 | AA8: ='Class-10 Perfomance Chart'!$W8 -> 0 | AB8: {=Z8+AA8} -> 27 | AC8: ='Class-10 Perfomance Chart'!$K8 -> 17 | AD8: ='Class-10 Perfomance Chart'!$M8 -> 10 | AE8: ='Class-10 Perfomance Chart'!$N8 -> 0 | AF8: {=SUM(AC8+AD8+AE8)} -> 27 | AG8: ='Class-10 Perfomance Chart'!$X8 -> 0 | AH8: {=AF8+AG8} -> 27 | AI8: ='Class-10 Perfomance Chart'!$K8 -> 17 | AJ8: ='Class-10 Perfomance Chart'!$M8 -> 10 | AK8: ='Class-10 Perfomance Chart'!$N8 -> 0 | AL8: {=SUM(AI8+AJ8+AK8)} -> 27 | AM8: ='Class-10 Perfomance Chart'!$Y8 -> 0 | AN8: {=AL8+AM8} -> 27 | AO8: {=J8+P8+V8+AB8+AH8+AN8} -> 162 | AP8: =ROUND(AO8/600*100,0) -> 27
A9: =C9 -> 0 | B9: 2 | C9: =Master!K10 -> 0 | D9: =Master!L10 -> 0 | E9: ='Class-10 Perfomance Chart'!$K9 -> 0 | F9: ='Class-10 Perfomance Chart'!$M9 -> 0 | G9: ='Class-10 Perfomance Chart'!$N9 -> 0 | H9: {=SUM(E9+F9+G9)} -> 0 | I9: ='Class-10 Perfomance Chart'!$T9 -> 0 | J9: {=H9+I9} -> 0 | K9: ='Class-10 Perfomance Chart'!$K9 -> 0 | L9: ='Class-10 Perfomance Chart'!$M9 -> 0 | M9: ='Class-10 Perfomance Chart'!$N9 -> 0 | N9: {=SUM(K9+L9+M9)} -> 0 | O9: ='Class-10 Perfomance Chart'!$U9 -> 0 | P9: {=N9+O9} -> 0 | Q9: ='Class-10 Perfomance Chart'!$K9 -> 0 | R9: ='Class-10 Perfomance Chart'!$M9 -> 0 | S9: ='Class-10 Perfomance Chart'!$N9 -> 0 | T9: {=SUM(Q9+R9+S9)} -> 0 | U9: ='Class-10 Perfomance Chart'!$V9 -> 0 | V9: {=T9+U9} -> 0 | W9: ='Class-10 Perfomance Chart'!$K9 -> 0 | X9: ='Class-10 Perfomance Chart'!$M9 -> 0 | Y9: ='Class-10 Perfomance Chart'!$N9 -> 0 | Z9: {=SUM(W9+X9+Y9)} -> 0 | AA9: ='Class-10 Perfomance Chart'!$W9 -> 0 | AB9: {=Z9+AA9} -> 0 | AC9: ='Class-10 Perfomance Chart'!$K9 -> 0 | AD9: ='Class-10 Perfomance Chart'!$M9 -> 0 | AE9: ='Class-10 Perfomance Chart'!$N9 -> 0 | AF9: {=SUM(AC9+AD9+AE9)} -> 0 | AG9: ='Class-10 Perfomance Chart'!$X9 -> 0 | AH9: {=AF9+AG9} -> 0 | AI9: ='Class-10 Perfomance Chart'!$K9 -> 0 | AJ9: ='Class-10 Perfomance Chart'!$M9 -> 0 | AK9: ='Class-10 Perfomance Chart'!$N9 -> 0 | AL9: {=SUM(AI9+AJ9+AK9)} -> 0 | AM9: ='Class-10 Perfomance Chart'!$Y9 -> 0 | AN9: {=AL9+AM9} -> 0 | AO9: {=J9+P9+V9+AB9+AH9+AN9} -> 0 | AP9: =ROUND(AO9/600*100,0) -> 0
A10: =C10 -> 0 | B10: 3 | C10: =Master!K11 -> 0 | D10: =Master!L11 -> 0 | E10: ='Class-10 Perfomance Chart'!$K10 -> 0 | F10: ='Class-10 Perfomance Chart'!$M10 -> 0 | G10: ='Class-10 Perfomance Chart'!$N10 -> 0 | H10: {=SUM(E10+F10+G10)} -> 0 | I10: ='Class-10 Perfomance Chart'!$T10 -> 0 | J10: {=H10+I10} -> 0 | K10: ='Class-10 Perfomance Chart'!$K10 -> 0 | L10: ='Class-10 Perfomance Chart'!$M10 -> 0 | M10: ='Class-10 Perfomance Chart'!$N10 -> 0 | N10: {=SUM(K10+L10+M10)} -> 0 | O10: ='Class-10 Perfomance Chart'!$U10 -> 0 | P10: {=N10+O10} -> 0 | Q10: ='Class-10 Perfomance Chart'!$K10 -> 0 | R10: ='Class-10 Perfomance Chart'!$M10 -> 0 | S10: ='Class-10 Perfomance Chart'!$N10 -> 0 | T10: {=SUM(Q10+R10+S10)} -> 0 | U10: ='Class-10 Perfomance Chart'!$V10 -> 0 | V10: {=T10+U10} -> 0 | W10: ='Class-10 Perfomance Chart'!$K10 -> 0 | X10: ='Class-10 Perfomance Chart'!$M10 -> 0 | Y10: ='Class-10 Perfomance Chart'!$N10 -> 0 | Z10: {=SUM(W10+X10+Y10)} -> 0 | AA10: ='Class-10 Perfomance Chart'!$W10 -> 0 | AB10: {=Z10+AA10} -> 0 | AC10: ='Class-10 Perfomance Chart'!$K10 -> 0 | AD10: ='Class-10 Perfomance Chart'!$M10 -> 0 | AE10: ='Class-10 Perfomance Chart'!$N10 -> 0 | AF10: {=SUM(AC10+AD10+AE10)} -> 0 | AG10: ='Class-10 Perfomance Chart'!$X10 -> 0 | AH10: {=AF10+AG10} -> 0 | AI10: ='Class-10 Perfomance Chart'!$K10 -> 0 | AJ10: ='Class-10 Perfomance Chart'!$M10 -> 0 | AK10: ='Class-10 Perfomance Chart'!$N10 -> 0 | AL10: {=SUM(AI10+AJ10+AK10)} -> 0 | AM10: ='Class-10 Perfomance Chart'!$Y10 -> 0 | AN10: {=AL10+AM10} -> 0 | AO10: {=J10+P10+V10+AB10+AH10+AN10} -> 0 | AP10: =ROUND(AO10/600*100,0) -> 0
A11: =C11 -> 0 | B11: 4 | C11: =Master!K12 -> 0 | D11: =Master!L12 -> 0 | E11: ='Class-10 Perfomance Chart'!$K11 -> 0 | F11: ='Class-10 Perfomance Chart'!$M11 -> 0 | G11: ='Class-10 Perfomance Chart'!$N11 -> 0 | H11: {=SUM(E11+F11+G11)} -> 0 | I11: ='Class-10 Perfomance Chart'!$T11 -> 0 | J11: {=H11+I11} -> 0 | K11: ='Class-10 Perfomance Chart'!$K11 -> 0 | L11: ='Class-10 Perfomance Chart'!$M11 -> 0 | M11: ='Class-10 Perfomance Chart'!$N11 -> 0 | N11: {=SUM(K11+L11+M11)} -> 0 | O11: ='Class-10 Perfomance Chart'!$U11 -> 0 | P11: {=N11+O11} -> 0 | Q11: ='Class-10 Perfomance Chart'!$K11 -> 0 | R11: ='Class-10 Perfomance Chart'!$M11 -> 0 | S11: ='Class-10 Perfomance Chart'!$N11 -> 0 | T11: {=SUM(Q11+R11+S11)} -> 0 | U11: ='Class-10 Perfomance Chart'!$V11 -> 0 | V11: {=T11+U11} -> 0 | W11: ='Class-10 Perfomance Chart'!$K11 -> 0 | X11: ='Class-10 Perfomance Chart'!$M11 -> 0 | Y11: ='Class-10 Perfomance Chart'!$N11 -> 0 | Z11: {=SUM(W11+X11+Y11)} -> 0 | AA11: ='Class-10 Perfomance Chart'!$W11 -> 0 | AB11: {=Z11+AA11} -> 0 | AC11: ='Class-10 Perfomance Chart'!$K11 -> 0 | AD11: ='Class-10 Perfomance Chart'!$M11 -> 0 | AE11: ='Class-10 Perfomance Chart'!$N11 -> 0 | AF11: {=SUM(AC11+AD11+AE11)} -> 0 | AG11: ='Class-10 Perfomance Chart'!$X11 -> 0 | AH11: {=AF11+AG11} -> 0 | AI11: ='Class-10 Perfomance Chart'!$K11 -> 0 | AJ11: ='Class-10 Perfomance Chart'!$M11 -> 0 | AK11: ='Class-10 Perfomance Chart'!$N11 -> 0 | AL11: {=SUM(AI11+AJ11+AK11)} -> 0 | AM11: ='Class-10 Perfomance Chart'!$Y11 -> 0 | AN11: {=AL11+AM11} -> 0 | AO11: {=J11+P11+V11+AB11+AH11+AN11} -> 0 | AP11: =ROUND(AO11/600*100,0) -> 0
A12: =C12 -> 0 | B12: 5 | C12: =Master!K13 -> 0 | D12: =Master!L13 -> 0 | E12: ='Class-10 Perfomance Chart'!$K12 -> 0 | F12: ='Class-10 Perfomance Chart'!$M12 -> 0 | G12: ='Class-10 Perfomance Chart'!$N12 -> 0 | H12: {=SUM(E12+F12+G12)} -> 0 | I12: ='Class-10 Perfomance Chart'!$T12 -> 0 | J12: {=H12+I12} -> 0 | K12: ='Class-10 Perfomance Chart'!$K12 -> 0 | L12: ='Class-10 Perfomance Chart'!$M12 -> 0 | M12: ='Class-10 Perfomance Chart'!$N12 -> 0 | N12: {=SUM(K12+L12+M12)} -> 0 | O12: ='Class-10 Perfomance Chart'!$U12 -> 0 | P12: {=N12+O12} -> 0 | Q12: ='Class-10 Perfomance Chart'!$K12 -> 0 | R12: ='Class-10 Perfomance Chart'!$M12 -> 0 | S12: ='Class-10 Perfomance Chart'!$N12 -> 0 | T12: {=SUM(Q12+R12+S12)} -> 0 | U12: ='Class-10 Perfomance Chart'!$V12 -> 0 | V12: {=T12+U12} -> 0 | W12: ='Class-10 Perfomance Chart'!$K12 -> 0 | X12: ='Class-10 Perfomance Chart'!$M12 -> 0 | Y12: ='Class-10 Perfomance Chart'!$N12 -> 0 | Z12: {=SUM(W12+X12+Y12)} -> 0 | AA12: ='Class-10 Perfomance Chart'!$W12 -> 0 | AB12: {=Z12+AA12} -> 0 | AC12: ='Class-10 Perfomance Chart'!$K12 -> 0 | AD12: ='Class-10 Perfomance Chart'!$M12 -> 0 | AE12: ='Class-10 Perfomance Chart'!$N12 -> 0 | AF12: {=SUM(AC12+AD12+AE12)} -> 0 | AG12: ='Class-10 Perfomance Chart'!$X12 -> 0 | AH12: {=AF12+AG12} -> 0 | AI12: ='Class-10 Perfomance Chart'!$K12 -> 0 | AJ12: ='Class-10 Perfomance Chart'!$M12 -> 0 | AK12: ='Class-10 Perfomance Chart'!$N12 -> 0 | AL12: {=SUM(AI12+AJ12+AK12)} -> 0 | AM12: ='Class-10 Perfomance Chart'!$Y12 -> 0 | AN12: {=AL12+AM12} -> 0 | AO12: {=J12+P12+V12+AB12+AH12+AN12} -> 0 | AP12: =ROUND(AO12/600*100,0) -> 0
A13: =C13 -> 0 | B13: 6 | C13: =Master!K14 -> 0 | D13: =Master!L14 -> 0 | E13: ='Class-10 Perfomance Chart'!$K13 -> 0 | F13: ='Class-10 Perfomance Chart'!$M13 -> 0 | G13: ='Class-10 Perfomance Chart'!$N13 -> 0 | H13: {=SUM(E13+F13+G13)} -> 0 | I13: ='Class-10 Perfomance Chart'!$T13 -> 0 | J13: {=H13+I13} -> 0 | K13: ='Class-10 Perfomance Chart'!$K13 -> 0 | L13: ='Class-10 Perfomance Chart'!$M13 -> 0 | M13: ='Class-10 Perfomance Chart'!$N13 -> 0 | N13: {=SUM(K13+L13+M13)} -> 0 | O13: ='Class-10 Perfomance Chart'!$U13 -> 0 | P13: {=N13+O13} -> 0 | Q13: ='Class-10 Perfomance Chart'!$K13 -> 0 | R13: ='Class-10 Perfomance Chart'!$M13 -> 0 | S13: ='Class-10 Perfomance Chart'!$N13 -> 0 | T13: {=SUM(Q13+R13+S13)} -> 0 | U13: ='Class-10 Perfomance Chart'!$V13 -> 0 | V13: {=T13+U13} -> 0 | W13: ='Class-10 Perfomance Chart'!$K13 -> 0 | X13: ='Class-10 Perfomance Chart'!$M13 -> 0 | Y13: ='Class-10 Perfomance Chart'!$N13 -> 0 | Z13: {=SUM(W13+X13+Y13)} -> 0 | AA13: ='Class-10 Perfomance Chart'!$W13 -> 0 | AB13: {=Z13+AA13} -> 0 | AC13: ='Class-10 Perfomance Chart'!$K13 -> 0 | AD13: ='Class-10 Perfomance Chart'!$M13 -> 0 | AE13: ='Class-10 Perfomance Chart'!$N13 -> 0 | AF13: {=SUM(AC13+AD13+AE13)} -> 0 | AG13: ='Class-10 Perfomance Chart'!$X13 -> 0 | AH13: {=AF13+AG13} -> 0 | AI13: ='Class-10 Perfomance Chart'!$K13 -> 0 | AJ13: ='Class-10 Perfomance Chart'!$M13 -> 0 | AK13: ='Class-10 Perfomance Chart'!$N13 -> 0 | AL13: {=SUM(AI13+AJ13+AK13)} -> 0 | AM13: ='Class-10 Perfomance Chart'!$Y13 -> 0 | AN13: {=AL13+AM13} -> 0 | AO13: {=J13+P13+V13+AB13+AH13+AN13} -> 0 | AP13: =ROUND(AO13/600*100,0) -> 0
A14: =C14 -> 0 | B14: 7 | C14: =Master!K15 -> 0 | D14: =Master!L15 -> 0 | E14: ='Class-10 Perfomance Chart'!$K14 -> 0 | F14: ='Class-10 Perfomance Chart'!$M14 -> 0 | G14: ='Class-10 Perfomance Chart'!$N14 -> 0 | H14: {=SUM(E14+F14+G14)} -> 0 | I14: ='Class-10 Perfomance Chart'!$T14 -> 0 | J14: {=H14+I14} -> 0 | K14: ='Class-10 Perfomance Chart'!$K14 -> 0 | L14: ='Class-10 Perfomance Chart'!$M14 -> 0 | M14: ='Class-10 Perfomance Chart'!$N14 -> 0 | N14: {=SUM(K14+L14+M14)} -> 0 | O14: ='Class-10 Perfomance Chart'!$U14 -> 0 | P14: {=N14+O14} -> 0 | Q14: ='Class-10 Perfomance Chart'!$K14 -> 0 | R14: ='Class-10 Perfomance Chart'!$M14 -> 0 | S14: ='Class-10 Perfomance Chart'!$N14 -> 0 | T14: {=SUM(Q14+R14+S14)} -> 0 | U14: ='Class-10 Perfomance Chart'!$V14 -> 0 | V14: {=T14+U14} -> 0 | W14: ='Class-10 Perfomance Chart'!$K14 -> 0 | X14: ='Class-10 Perfomance Chart'!$M14 -> 0 | Y14: ='Class-10 Perfomance Chart'!$N14 -> 0 | Z14: {=SUM(W14+X14+Y14)} -> 0 | AA14: ='Class-10 Perfomance Chart'!$W14 -> 0 | AB14: {=Z14+AA14} -> 0 | AC14: ='Class-10 Perfomance Chart'!$K14 -> 0 | AD14: ='Class-10 Perfomance Chart'!$M14 -> 0 | AE14: ='Class-10 Perfomance Chart'!$N14 -> 0 | AF14: {=SUM(AC14+AD14+AE14)} -> 0 | AG14: ='Class-10 Perfomance Chart'!$X14 -> 0 | AH14: {=AF14+AG14} -> 0 | AI14: ='Class-10 Perfomance Chart'!$K14 -> 0 | AJ14: ='Class-10 Perfomance Chart'!$M14 -> 0 | AK14: ='Class-10 Perfomance Chart'!$N14 -> 0 | AL14: {=SUM(AI14+AJ14+AK14)} -> 0 | AM14: ='Class-10 Perfomance Chart'!$Y14 -> 0 | AN14: {=AL14+AM14} -> 0 | AO14: {=J14+P14+V14+AB14+AH14+AN14} -> 0 | AP14: =ROUND(AO14/600*100,0) -> 0
A15: =C15 -> 0 | B15: 8 | C15: =Master!K16 -> 0 | D15: =Master!L16 -> 0 | E15: ='Class-10 Perfomance Chart'!$K15 -> 0 | F15: ='Class-10 Perfomance Chart'!$M15 -> 0 | G15: ='Class-10 Perfomance Chart'!$N15 -> 0 | H15: {=SUM(E15+F15+G15)} -> 0 | I15: ='Class-10 Perfomance Chart'!$T15 -> 0 | J15: {=H15+I15} -> 0 | K15: ='Class-10 Perfomance Chart'!$K15 -> 0 | L15: ='Class-10 Perfomance Chart'!$M15 -> 0 | M15: ='Class-10 Perfomance Chart'!$N15 -> 0 | N15: {=SUM(K15+L15+M15)} -> 0 | O15: ='Class-10 Perfomance Chart'!$U15 -> 0 | P15: {=N15+O15} -> 0 | Q15: ='Class-10 Perfomance Chart'!$K15 -> 0 | R15: ='Class-10 Perfomance Chart'!$M15 -> 0 | S15: ='Class-10 Perfomance Chart'!$N15 -> 0 | T15: {=SUM(Q15+R15+S15)} -> 0 | U15: ='Class-10 Perfomance Chart'!$V15 -> 0 | V15: {=T15+U15} -> 0 | W15: ='Class-10 Perfomance Chart'!$K15 -> 0 | X15: ='Class-10 Perfomance Chart'!$M15 -> 0 | Y15: ='Class-10 Perfomance Chart'!$N15 -> 0 | Z15: {=SUM(W15+X15+Y15)} -> 0 | AA15: ='Class-10 Perfomance Chart'!$W15 -> 0 | AB15: {=Z15+AA15} -> 0 | AC15: ='Class-10 Perfomance Chart'!$K15 -> 0 | AD15: ='Class-10 Perfomance Chart'!$M15 -> 0 | AE15: ='Class-10 Perfomance Chart'!$N15 -> 0 | AF15: {=SUM(AC15+AD15+AE15)} -> 0 | AG15: ='Class-10 Perfomance Chart'!$X15 -> 0 | AH15: {=AF15+AG15} -> 0 | AI15: ='Class-10 Perfomance Chart'!$K15 -> 0 | AJ15: ='Class-10 Perfomance Chart'!$M15 -> 0 | AK15: ='Class-10 Perfomance Chart'!$N15 -> 0 | AL15: {=SUM(AI15+AJ15+AK15)} -> 0 | AM15: ='Class-10 Perfomance Chart'!$Y15 -> 0 | AN15: {=AL15+AM15} -> 0 | AO15: {=J15+P15+V15+AB15+AH15+AN15} -> 0 | AP15: =ROUND(AO15/600*100,0) -> 0
A16: =C16 -> 0 | B16: 9 | C16: =Master!K17 -> 0 | D16: =Master!L17 -> 0 | E16: ='Class-10 Perfomance Chart'!$K16 -> 0 | F16: ='Class-10 Perfomance Chart'!$M16 -> 0 | G16: ='Class-10 Perfomance Chart'!$N16 -> 0 | H16: {=SUM(E16+F16+G16)} -> 0 | I16: ='Class-10 Perfomance Chart'!$T16 -> 0 | J16: {=H16+I16} -> 0 | K16: ='Class-10 Perfomance Chart'!$K16 -> 0 | L16: ='Class-10 Perfomance Chart'!$M16 -> 0 | M16: ='Class-10 Perfomance Chart'!$N16 -> 0 | N16: {=SUM(K16+L16+M16)} -> 0 | O16: ='Class-10 Perfomance Chart'!$U16 -> 0 | P16: {=N16+O16} -> 0 | Q16: ='Class-10 Perfomance Chart'!$K16 -> 0 | R16: ='Class-10 Perfomance Chart'!$M16 -> 0 | S16: ='Class-10 Perfomance Chart'!$N16 -> 0 | T16: {=SUM(Q16+R16+S16)} -> 0 | U16: ='Class-10 Perfomance Chart'!$V16 -> 0 | V16: {=T16+U16} -> 0 | W16: ='Class-10 Perfomance Chart'!$K16 -> 0 | X16: ='Class-10 Perfomance Chart'!$M16 -> 0 | Y16: ='Class-10 Perfomance Chart'!$N16 -> 0 | Z16: {=SUM(W16+X16+Y16)} -> 0 | AA16: ='Class-10 Perfomance Chart'!$W16 -> 0 | AB16: {=Z16+AA16} -> 0 | AC16: ='Class-10 Perfomance Chart'!$K16 -> 0 | AD16: ='Class-10 Perfomance Chart'!$M16 -> 0 | AE16: ='Class-10 Perfomance Chart'!$N16 -> 0 | AF16: {=SUM(AC16+AD16+AE16)} -> 0 | AG16: ='Class-10 Perfomance Chart'!$X16 -> 0 | AH16: {=AF16+AG16} -> 0 | AI16: ='Class-10 Perfomance Chart'!$K16 -> 0 | AJ16: ='Class-10 Perfomance Chart'!$M16 -> 0 | AK16: ='Class-10 Perfomance Chart'!$N16 -> 0 | AL16: {=SUM(AI16+AJ16+AK16)} -> 0 | AM16: ='Class-10 Perfomance Chart'!$Y16 -> 0 | AN16: {=AL16+AM16} -> 0 | AO16: {=J16+P16+V16+AB16+AH16+AN16} -> 0 | AP16: =ROUND(AO16/600*100,0) -> 0
A17: =C17 -> 0 | B17: 10 | C17: =Master!K18 -> 0 | D17: =Master!L18 -> 0 | E17: ='Class-10 Perfomance Chart'!$K17 -> 0 | F17: ='Class-10 Perfomance Chart'!$M17 -> 0 | G17: ='Class-10 Perfomance Chart'!$N17 -> 0 | H17: {=SUM(E17+F17+G17)} -> 0 | I17: ='Class-10 Perfomance Chart'!$T17 -> 0 | J17: {=H17+I17} -> 0 | K17: ='Class-10 Perfomance Chart'!$K17 -> 0 | L17: ='Class-10 Perfomance Chart'!$M17 -> 0 | M17: ='Class-10 Perfomance Chart'!$N17 -> 0 | N17: {=SUM(K17+L17+M17)} -> 0 | O17: ='Class-10 Perfomance Chart'!$U17 -> 0 | P17: {=N17+O17} -> 0 | Q17: ='Class-10 Perfomance Chart'!$K17 -> 0 | R17: ='Class-10 Perfomance Chart'!$M17 -> 0 | S17: ='Class-10 Perfomance Chart'!$N17 -> 0 | T17: {=SUM(Q17+R17+S17)} -> 0 | U17: ='Class-10 Perfomance Chart'!$V17 -> 0 | V17: {=T17+U17} -> 0 | W17: ='Class-10 Perfomance Chart'!$K17 -> 0 | X17: ='Class-10 Perfomance Chart'!$M17 -> 0 | Y17: ='Class-10 Perfomance Chart'!$N17 -> 0 | Z17: {=SUM(W17+X17+Y17)} -> 0 | AA17: ='Class-10 Perfomance Chart'!$W17 -> 0 | AB17: {=Z17+AA17} -> 0 | AC17: ='Class-10 Perfomance Chart'!$K17 -> 0 | AD17: ='Class-10 Perfomance Chart'!$M17 -> 0 | AE17: ='Class-10 Perfomance Chart'!$N17 -> 0 | AF17: {=SUM(AC17+AD17+AE17)} -> 0 | AG17: ='Class-10 Perfomance Chart'!$X17 -> 0 | AH17: {=AF17+AG17} -> 0 | AI17: ='Class-10 Perfomance Chart'!$K17 -> 0 | AJ17: ='Class-10 Perfomance Chart'!$M17 -> 0 | AK17: ='Class-10 Perfomance Chart'!$N17 -> 0 | AL17: {=SUM(AI17+AJ17+AK17)} -> 0 | AM17: ='Class-10 Perfomance Chart'!$Y17 -> 0 | AN17: {=AL17+AM17} -> 0 | AO17: {=J17+P17+V17+AB17+AH17+AN17} -> 0 | AP17: =ROUND(AO17/600*100,0) -> 0
A18: =C18 -> 0 | B18: 11 | C18: =Master!K19 -> 0 | D18: =Master!L19 -> 0 | E18: ='Class-10 Perfomance Chart'!$K18 -> 0 | F18: ='Class-10 Perfomance Chart'!$M18 -> 0 | G18: ='Class-10 Perfomance Chart'!$N18 -> 0 | H18: {=SUM(E18+F18+G18)} -> 0 | I18: ='Class-10 Perfomance Chart'!$T18 -> 0 | J18: {=H18+I18} -> 0 | K18: ='Class-10 Perfomance Chart'!$K18 -> 0 | L18: ='Class-10 Perfomance Chart'!$M18 -> 0 | M18: ='Class-10 Perfomance Chart'!$N18 -> 0 | N18: {=SUM(K18+L18+M18)} -> 0 | O18: ='Class-10 Perfomance Chart'!$U18 -> 0 | P18: {=N18+O18} -> 0 | Q18: ='Class-10 Perfomance Chart'!$K18 -> 0 | R18: ='Class-10 Perfomance Chart'!$M18 -> 0 | S18: ='Class-10 Perfomance Chart'!$N18 -> 0 | T18: {=SUM(Q18+R18+S18)} -> 0 | U18: ='Class-10 Perfomance Chart'!$V18 -> 0 | V18: {=T18+U18} -> 0 | W18: ='Class-10 Perfomance Chart'!$K18 -> 0 | X18: ='Class-10 Perfomance Chart'!$M18 -> 0 | Y18: ='Class-10 Perfomance Chart'!$N18 -> 0 | Z18: {=SUM(W18+X18+Y18)} -> 0 | AA18: ='Class-10 Perfomance Chart'!$W18 -> 0 | AB18: {=Z18+AA18} -> 0 | AC18: ='Class-10 Perfomance Chart'!$K18 -> 0 | AD18: ='Class-10 Perfomance Chart'!$M18 -> 0 | AE18: ='Class-10 Perfomance Chart'!$N18 -> 0 | AF18: {=SUM(AC18+AD18+AE18)} -> 0 | AG18: ='Class-10 Perfomance Chart'!$X18 -> 0 | AH18: {=AF18+AG18} -> 0 | AI18: ='Class-10 Perfomance Chart'!$K18 -> 0 | AJ18: ='Class-10 Perfomance Chart'!$M18 -> 0 | AK18: ='Class-10 Perfomance Chart'!$N18 -> 0 | AL18: {=SUM(AI18+AJ18+AK18)} -> 0 | AM18: ='Class-10 Perfomance Chart'!$Y18 -> 0 | AN18: {=AL18+AM18} -> 0 | AO18: {=J18+P18+V18+AB18+AH18+AN18} -> 0 | AP18: =ROUND(AO18/600*100,0) -> 0
A19: =C19 -> 0 | B19: 12 | C19: =Master!K20 -> 0 | D19: =Master!L20 -> 0 | E19: ='Class-10 Perfomance Chart'!$K19 -> 0 | F19: ='Class-10 Perfomance Chart'!$M19 -> 0 | G19: ='Class-10 Perfomance Chart'!$N19 -> 0 | H19: {=SUM(E19+F19+G19)} -> 0 | I19: ='Class-10 Perfomance Chart'!$T19 -> 0 | J19: {=H19+I19} -> 0 | K19: ='Class-10 Perfomance Chart'!$K19 -> 0 | L19: ='Class-10 Perfomance Chart'!$M19 -> 0 | M19: ='Class-10 Perfomance Chart'!$N19 -> 0 | N19: {=SUM(K19+L19+M19)} -> 0 | O19: ='Class-10 Perfomance Chart'!$U19 -> 0 | P19: {=N19+O19} -> 0 | Q19: ='Class-10 Perfomance Chart'!$K19 -> 0 | R19: ='Class-10 Perfomance Chart'!$M19 -> 0 | S19: ='Class-10 Perfomance Chart'!$N19 -> 0 | T19: {=SUM(Q19+R19+S19)} -> 0 | U19: ='Class-10 Perfomance Chart'!$V19 -> 0 | V19: {=T19+U19} -> 0 | W19: ='Class-10 Perfomance Chart'!$K19 -> 0 | X19: ='Class-10 Perfomance Chart'!$M19 -> 0 | Y19: ='Class-10 Perfomance Chart'!$N19 -> 0 | Z19: {=SUM(W19+X19+Y19)} -> 0 | AA19: ='Class-10 Perfomance Chart'!$W19 -> 0 | AB19: {=Z19+AA19} -> 0 | AC19: ='Class-10 Perfomance Chart'!$K19 -> 0 | AD19: ='Class-10 Perfomance Chart'!$M19 -> 0 | AE19: ='Class-10 Perfomance Chart'!$N19 -> 0 | AF19: {=SUM(AC19+AD19+AE19)} -> 0 | AG19: ='Class-10 Perfomance Chart'!$X19 -> 0 | AH19: {=AF19+AG19} -> 0 | AI19: ='Class-10 Perfomance Chart'!$K19 -> 0 | AJ19: ='Class-10 Perfomance Chart'!$M19 -> 0 | AK19: ='Class-10 Perfomance Chart'!$N19 -> 0 | AL19: {=SUM(AI19+AJ19+AK19)} -> 0 | AM19: ='Class-10 Perfomance Chart'!$Y19 -> 0 | AN19: {=AL19+AM19} -> 0 | AO19: {=J19+P19+V19+AB19+AH19+AN19} -> 0 | AP19: =ROUND(AO19/600*100,0) -> 0
... A151: =C151 -> 0 | B151: 144 | C151: =Master!K152 -> 0 | D151: =Master!L152 -> 0 | E151: ='Class-10 Perfomance Chart'!$K151 -> 0 | F151: ='Class-10 Perfomance Chart'!$M151 -> 0 | G151: ='Class-10 Perfomance Chart'!$N151 -> 0 | H151: {=SUM(E151+F151+G151)} -> 0 | I151: ='Class-10 Perfomance Chart'!$T151 -> 0 | J151: {=H151+I151} -> 0 | K151: ='Class-10 Perfomance Chart'!$K151 -> 0 | L151: ='Class-10 Perfomance Chart'!$M151 -> 0 | M151: ='Class-10 Perfomance Chart'!$N151 -> 0 | N151: {=SUM(K151+L151+M151)} -> 0 | O151: ='Class-10 Perfomance Chart'!$U151 -> 0 | P151: {=N151+O151} -> 0 | Q151: ='Class-10 Perfomance Chart'!$K151 -> 0 | R151: ='Class-10 Perfomance Chart'!$M151 -> 0 | S151: ='Class-10 Perfomance Chart'!$N151 -> 0 | T151: {=SUM(Q151+R151+S151)} -> 0 | U151: ='Class-10 Perfomance Chart'!$V151 -> 0 | V151: {=T151+U151} -> 0 | W151: ='Class-10 Perfomance Chart'!$K151 -> 0 | X151: ='Class-10 Perfomance Chart'!$M151 -> 0 | Y151: ='Class-10 Perfomance Chart'!$N151 -> 0 | Z151: {=SUM(W151+X151+Y151)} -> 0 | AA151: ='Class-10 Perfomance Chart'!$W151 -> 0 | AB151: {=Z151+AA151} -> 0 | AC151: ='Class-10 Perfomance Chart'!$K151 -> 0 | AD151: ='Class-10 Perfomance Chart'!$M151 -> 0 | AE151: ='Class-10 Perfomance Chart'!$N151 -> 0 | AF151: {=SUM(AC151+AD151+AE151)} -> 0 | AG151: ='Class-10 Perfomance Chart'!$X151 -> 0 | AH151: {=AF151+AG151} -> 0 | AI151: ='Class-10 Perfomance Chart'!$K151 -> 0 | AJ151: ='Class-10 Perfomance Chart'!$M151 -> 0 | AK151: ='Class-10 Perfomance Chart'!$N151 -> 0 | AL151: {=SUM(AI151+AJ151+AK151)} -> 0 | AM151: ='Class-10 Perfomance Chart'!$Y151 -> 0 | AN151: {=AL151+AM151} -> 0 | AO151: {=J151+P151+V151+AB151+AH151+AN151} -> 0 | AP151: =ROUND(AO151/600*100,0) -> 0
