Workbook
Name AJMER: DETAIL!$AB$7:$AB$18
Name ALWAR: DETAIL!$AC$7:$AC$23
Name BANSWARA: DETAIL!$AD$7:$AD$18
Name BARAN: DETAIL!$AE$7:$AE$15
Name BARMER: DETAIL!$AF$7:$AF$28
Name BHARATPUR: DETAIL!$AG$7:$AG$19
Name BHILWARA: DETAIL!$AH$7:$AH$21
Name BIKANER: DETAIL!$AI$7:$AI$17
Name BUNDI: DETAIL!$AJ$7:$AJ$12
Name CHITTORGARH: DETAIL!$AK$7:$AK$18
Name CHURU: DETAIL!$AL$7:$AL$14
Name class: 'DATA ENTRY'!$CM$6:$CM$17
Name code: 'School Profile'!$C$22:$C$37
Name DAUSA: DETAIL!$AM$7:$AM$18
Name DHOLPUR: DETAIL!$AN$7:$AN$13
Name DIST.: DETAIL!$Z$7:$Z$39
Name DUNGARPUR: DETAIL!$AO$7:$AO$17
Name First_Grade_School_Lecturer: 'DATA ENTRY'!$CR$6:$CR$69
Name HANUMANGARH: DETAIL!$AP$7:$AP$14
Name HLJ: 'DATA ENTRY'!$A$6:$AN$201
Name JAIPUR: DETAIL!$AQ$7:$AQ$29
Name JAISALMER: DETAIL!$AR$7:$AR$15
Name JALORE: DETAIL!$AS$7:$AS$17
Name JHALAWAR: DETAIL!$AT$7:$AT$15
Name JHUNJHUNU: DETAIL!$AU$7:$AU$18
Name JODHPUR: DETAIL!$AV$7:$AV$29
Name KARAULI: DETAIL!$AW$7:$AW$15
Name KOTA: DETAIL!$AX$7:$AX$12
Name Lab_Ass: 'DATA ENTRY'!$CS$6
Name letter: 'subjectwise Merit list'!$A$8:$S$22
Name MKPIC: INDEX('DATA ENTRY'!$AN$6:$AN$201,MATCH(#REF!,'DATA ENTRY'!$A$6:$A$201,0))
Name NAGOUR: DETAIL!$AY$7:$AY$22
Name PALI: DETAIL!$AZ$7:$AZ$17
Name PEEO_SCHOOL: 'School Profile'!$C$22:$G$37
Name Pic_1: INDEX('DATA ENTRY'!$AN$6:$AN$203,MATCH(#REF!,'DATA ENTRY'!$A$6:$A$203,0))
Name Pic_2: INDEX('DATA ENTRY'!$AN$6:$AN$203,MATCH(#REF!,'DATA ENTRY'!$A$6:$A$203,0))
Name Pic_3: INDEX('DATA ENTRY'!$AN$6:$AN$203,MATCH(#REF!,'DATA ENTRY'!$A$6:$A$203,0))
Name Pic_4: INDEX('DATA ENTRY'!$AN$6:$AN$203,MATCH(#REF!,'DATA ENTRY'!$A$6:$A$203,0))
Name Pic_5: INDEX('DATA ENTRY'!$AN$6:$AN$203,MATCH(#REF!,'DATA ENTRY'!$A$6:$A$203,0))
Name Pic_6: INDEX('DATA ENTRY'!$AN$6:$AN$203,MATCH(#REF!,'DATA ENTRY'!$A$6:$A$203,0))
Name PICTURE: INDEX('DATA ENTRY'!AF2:AF1502,MATCH(#REF!,'DATA ENTRY'!XEQ2:XEQ1502,0))
Name PRATAPGARH: DETAIL!$BA$7:$BA$15
Name RAJSAMAND: DETAIL!$BB$7:$BB$15
Name SAWAI_MADHOPUR: DETAIL!$BC$7:$BC$14
Name schoolwise: DETAIL!$DA$7:$DS$211
Name Second_Grade: 'DATA ENTRY'!$CQ$6:$CQ$12
Name selection: DETAIL!$BZ$7:$CQ$211
Name SIKAR: DETAIL!$BD$7:$BD$19
Name SIROHI: DETAIL!$BE$7:$BE$14
Name SRI_GANGANAGAR: DETAIL!$BF$7:$BF$16
Name subject: 'DATA ENTRY'!$CN$6:$CN$11
Name subjectwise: DETAIL!$EA$7:$ES$211
Name Third_Grade_L1: 'DATA ENTRY'!$CO$6
Name Third_Grade_L2: 'DATA ENTRY'!$CP$6:$CP$13
Name Third_Grade_PET: 'DATA ENTRY'!$CT$6
Name TONK: DETAIL!$BG$7:$BG$14
Name UDAIPUR: DETAIL!$BH$7:$BH$27

Sheet School Profile
C3: School Profile
C5: PEEO School Name :- | E5: महात्मा गाँधी राजकीय विद्यालय (अंग्रेजी माध्यम ) बर , पाली
C7: School General Information
C9: District Name :- | E9: PALI | G9: Block Name :- | I9: RAIPUR | L9: जय गुरुदेव वासुदेव जी महाराज
C11: Shala Darpan NIC ID :- | E11: 123456 | G11: U-DISE Code :- | I11: 8200303101
C13: Principal Name :- | E13: USHA PALIYA | G13: Principal Mobile No. :- | L13: Prepared By
L14: Heeralal Jat
C15: SSY Incharge :- | E15: HEERALAL JAT | G15: Incharge Mob. No.:- | L15: Sr. Teacher , Excel Programmer
L16: MGGS Bar , PALI
L17: V./P. - Chandawal Nagar , Sojat (PALI)
C19: पीईईओ अधिनस्थ आने वाले विद्यालयों की सूची
C21: शाला दर्पण की NIC आई. डी. | E21: विद्यालय का नाम
C22: 333333 | E22: GUPS NO. 01
C23: 123457 | E23: GUPS NO. 02
C24: 123458 | E24: GUPS NO. 03
C25: 123459 | E25: GUPS NO. 04
C26: 123460 | E26: GUPS NO. 05
C27: 123461 | E27: GUPS NO. 06
C28: 123462 | E28: GUPS NO. 07
C29: 123463 | E29: GUPS NO. 08 | L29: Sheet Password
C30: 123464 | E30: GUPS NO. 09 | L30: Shala@sambal
C31: 123465 | E31: GUPS NO. 10
C32: 123466 | E32: GUPS NO. 11 | I32: You Tube Channel | L32: Watch the You Tube Video For More Information.
C33: 123467 | E33: GUPS NO. 12 | I33: https://www.youtube.com/c/Heeralaljat/
C34: 123468 | E34: GUPS NO. 13 | L34: https://youtu.be/jJaILnAsZGc
C35: 123469 | E35: GUPS NO. 14
C36: 123470 | E36: GUPS NO. 15
C37: 123471 | E37: GUPS NO. 16

Sheet DATA ENTRY
A1: =IF('School Profile'!E5="","",'School Profile'!E5) -> महात्मा गाँधी राजकीय विद्यालय (अंग्रेजी माध्यम ) बर , पाली
B3: https://youtu.be/jJaILnAsZGc
A4: S.No. | B4: NAME OF CANDIDATE | C4: FATHER’S NAME | D4: आवेदित विद्यालय का शाला दर्पण कोड | E4: आवेदित विद्यालय का नाम | F4: आवेदित पद का नाम | G4: आवेदित पद का विषय | H4: आवेदन प्रस्तुत करने की दिनांक | I4: DATE OF BIRTH DD/MM/YYYY | J4: DATE OF BIRTH IN WORDS | K4: 44866 | V4: RELIGION | W4: CATEGORY | X4: GENDER (Male/Female) | Y4: CORRESPONDING ADDRESS | Z4: PERMANENT ADDRESS | AA4: CONTACT Mob. NO. | AB4: Whats App NO. | AC4: EMAIL I.D. | AD4: AADHAR No. | AE4: Family JAN- AADHAR ID | AF4: Disability STATUS (yes/No) | AG4: If Yes, type of disability | AH4: CO-CURRICULAR ACTIVITIES | AI4: SPORTS CERTIFICATE | AJ4: BANK ACCOUNT DETAIL | AN4: OTHER
K5: Years | L5: Month | M5: Day | N5: जिस पद के लिए आवेदन किया उस पद हेतु वांछित शैक्षणिक योग्यता | O5: Percentage | P5: प्रशैक्षणिक योग्यता | Q5: Percentage | R5: REET उत्तीर्णता वर्ष (आवश्यक होने पर लिखे) | S5: REET परीक्षा के प्रतिशत | T5: जिस जिले के लिए आवेदन किया जा रहा है, वो जिला सलेक्ट करे | U5: जिस तहसील के लिए आवेदन किया जा रहा है, वो तहसील सलेक्ट करे | AH5: (NCC/NSS/ SCOUT/GUIDE/ CUB/ BULBUL) | AI5: (National/State/ District level) | AJ5: Name of Bank | AK5: Branch | AL5: IFSC Code | AM5: Account No. | BV5: GEN | BW5: MALE | BX5: NCC | BY5: NATIONAL | BZ5: YES | CA5: PASSED | CB5: HINDU | CC5: Govt. | CO5: Third_Grade_L1 | CP5: Third_Grade_L2 | CQ5: Second_Grade | CR5: First_Grade_School_Lecturer | CS5: Lab_Ass | CT5: Third_Grade_PET
A6: =IFERROR(IF(AND(B6="",C6="",F6="",I6=""),"",1),"") -> 1 | B6: JHHG | C6: KJJKJ | D6: 333333 | E6: =IFERROR(VLOOKUP(D6,PEEO_SCHOOL,3,0),"") -> GUPS NO. 01 | F6: Third_Grade_L1 | G6: NA | I6: 31179 | J6: =IFERROR(IF(CK6="","",CK6),"") -> MAY 12TH, NINETEEN EIGHTY FIVE | K6: =IFERROR(IF(OR($K$4="",B6="",A6="",I6=""),"",DATEDIF(I6,$K$4,"Y")),"") -> 37 | L6: =IFERROR(IF(OR($K$4="",B6="",A6="",I6=""),"",DATEDIF(I6,$K$4,"YM")),"") -> 5 | M6: =IFERROR(IF(OR($K$4="",B6="",A6="",I6=""),"",DATEDIF(I6,$K$4,"MD")),"") -> 19 | N6: 12th | O6: 0.7 | P6: B.S.T.C. (D.EI.Ed.) | Q6: 0.8 | R6: 2016 | S6: 0.75 | T6: PALI | U6: RAIPUR | V6: HINDU | W6: GEN | X6: MALE | Y6: V./P. = ………….. TEH. = …………… DIST. = …………… | Z6: H.NO. = ………… COLONEY = …………….. BLOCK = …………… DIST. = ………………. | AA6: 1313131313 | AB6: 2121212121 | AC6: excelguru@gmail.com | AD6: 123465471475 | AE6: 1234567891 | AF6: NO | AH6: NA | AI6: NA | AJ6: SBI | AK6: BAR | AL6: SBIN0012345 | AM6: 121212121212121 | BV6: ST | BW6: TRANSGENDER | BX6: NSS | BY6: STATE | BZ6: NO | CA6: Fail | CB6: MUSLIM | CC6: KV | CE6: =IFERROR(IF(I6="","",YEAR(I6)),"") -> 1985 | CF6: =IFERROR(IF(I6="","",MONTH(I6)),"") -> 5 | CG6: =IFERROR(IF(I6="","",DAY(I6)),"") -> 12 | CH6: =IF(CE6=1961,"NINETEEN SIXTY ONE",IF(CE6=1962,"NINETEEN SIXTY TWO",IF(CE6=1963,"NINETEEN SIXTY THREE",IF(CE6=1964,"NINETEEN SIXTY FOUR",IF(CE6=1965,"NINETEEN SIXTY FIVE",IF(CE6=1966,"NINETEEN SIXTY SIX",IF(CE6=1967,"NINETEEN SIXTY SEVEN",IF(CE6=1968,"NINETEEN SIXTY EIGHT",IF(CE6=1969,"NINETEEN SIXTY NINE",IF(CE6=1970,"NINETEEN SEVENTY",IF(CE6=1971,"NINETEEN SEVENTY ONE",IF(CE6=1972,"NINETEEN SEVENTY TWO",IF(CE6=1973,"NINETEEN SEVENTY THREE",IF(CE6=1974,"NINETEEN SEVENTY FOUR",IF(CE6=1975,"NINETEEN SEVENTY FIVE",IF(CE6=1976,"NINETEEN SEVENTY SIX",IF(CE6=1977,"NINETEEN SEVENTY SEVEN",IF(CE6=1978,"NINETEEN SEVENTY EIGHT",IF(CE6=1979,"NINETEEN SEVENTY NINE",IF(CE6=1980,"NINETEEN EIGHTY",IF(CE6=1981,"NINETEEN EIGHTY ONE",IF(CE6=1982,"NINETEEN EIGHTY TWO",IF(CE6=1983,"NINETEEN EIGHTY THREE",IF(CE6=1984,"NINETEEN EIGHTY FOUR",IF(CE6=1985,"NINETEEN EIGHTY FIVE",IF(CE6=1986,"NINETEEN EIGHTY SIX",IF(CE6=1987,"NINETEEN EIGHTY SEVEN",IF(CE6=1988,"NINETEEN EIGHTY EIGHT",IF(CE6=1989,"NINETEEN EIGHTY NINE",IF(CE6=1990,"NINETEEN NINETY",IF(CE6=1991,"NINETEEN NINETY ONE",IF(CE6=1992,"NINETEEN NINETY TWO",IF(CE6=1993,"NINETEEN NINETY THREE",IF(CE6=1994,"NINETEEN NINETY FOUR",IF(CE6=1995,"NINETEEN NINETY FIVE",IF(CE6=1996,"NINETEEN NINETY SIX",IF(CE6=1997,"NINETEEN NINETY SEVEN",IF(CE6=1998,"NINETEEN NINETY EIGHT",IF(CE6=1999,"NINETEEN NINETY NINE",IF(CE6=2000,"TWO THOUSAND",IF(CE6=2001,"TWO THOUSAND ONE",IF(CE6=2002,"TWO THOUSAND TWO",IF(CE6=2003,"TWO THOUSAND THREE",IF(CE6=2004,"TWO THOUSAND FOUR",IF(CE6=2005,"TWO THOUSAND FIVE",IF(CE6=2006,"TWO THOUSAND SIX",IF(CE6=2007,"TWO THOUSAND SEVEN",IF(CE6=2008,"TWO THOUSAND EIGHT",IF(CE6=2009,"TWO THOUSAND NINE",IF(CE6=2010,"TWO THOUSAND TEN",IF(CE6=2011,"TWO THOUSAND ELEVEN",IF(CE6=2012,"TWO THOUSAND TWELVE",IF(CE6=2013,"TWO THOUSAND THIRTEEN",IF(CE6=2014,"TWO THOUSAND FOURTEEN",IF(CE6=2015,"TWO THOUSAND FIFTEEN",IF(CE6=2016,"TWO THOUSAND SIXTEEN",IF(CE6=2017,"TWO THOUSAND SEVENTEEN",IF(CE6=2018,"TWO THOUSAND EIGHTEEN",IF(CE6=2019,"TWO THOUSAND NINETEEN",IF(CE6=2020,"TWO THOUSAND TWENTY",IF(CE6=2021,"TWO THOUSAND TWENTY ONE",IF(CE6=2022,"TWO THOUSAND TWENTY TWO",IF(CE6=2023,"TWO THOUSAND TWENTY THREE",IF(CE6=2024,"TWO THOUSAND TWENTY FOUR",IF(CE6=2025,"TWO THOUSAND TWENTY FIVE",""))))))))))))))))))))))))))))))))))))))))))))))))))))))))))))))))) -> NINETEEN EIGHTY FIVE | CI6: =IF(CF6=1,"JANUARY",IF(CF6=2,"FEBUARY", IF(CF6=3,"MARCH",IF(CF6=4,"APRIL",IF(CF6=5,"MAY",IF(CF6=6,"JUNE",IF(CF6=7,"JULY",IF(CF6=8,"AUGUST",IF(CF6=9,"SEPTEMBER",IF(CF6=10,"OCTOBER",IF(CF6=11,"NOVEMBER",IF(CF6=12,"DECEMBER","")))))))))))) -> MAY | CJ6: =IF(CG6=1,"1ST",IF(CG6=2,"2ND", IF(CG6=3,"3RD",IF(CG6=4,"FOURTH",IF(CG6=5,"FIFTH",IF(CG6=6,"SIXTH",IF(CG6=7,"7TH",IF(CG6=8,"8TH",IF(CG6=9,"9TH",IF(CG6=10,"10TH",IF(CG6=11,"11TH",IF(CG6=12,"12TH",IF(CG6=13,"13TH",IF(CG6=14,"14TH",IF(CG6=15,"FIFTEEN",IF(CG6=16,"SIXTEEN",IF(CG6=17,"SEVENTEEN",IF(CG6=18,"EIGHTEEN",IF(CG6=19,"NINETEEN",IF(CG6=20,"TWENTY",IF(CG6=21,"TWENTY FIRST",IF(CG6=22,"TWENTY SECOND",IF(CG6=23,"TWENTY THIRD",IF(CG6=24,"TWENTY FOURTH",IF(CG6=25,"TWENTY FIFTH",IF(CG6=26,"TWENTY SIX",IF(CG6=27,"TWENTY SEVEN",IF(CG6=28,"TWENTY EIGHT",IF(CG6=29,"TWENTY NINE",IF(CG6=30,"THIRTY",IF(CG6=31,"THIRTY FIRST",""))))))))))))))))))))))))))))))) -> 12TH | CK6: =IFERROR(IF(AND(CH6="",CI6="",CJ6=""),"",CONCATENATE(CI6," ",CJ6,", ",CH6)),"") -> MAY 12TH, NINETEEN EIGHTY FIVE | CL6: =IF(F6="","",IF(OR(F6="3rd Grade L-2",F6="2nd Grade",F6="1st Grade (Lecturer)",F6="Lab. Ass.",F6="3rd Grade P.E.T."),"YES","")) | CM6: 1st | CN6: Third_Grade_L1 | CO6: NA | CP6: Hindi | CQ6: Hindi | CR6: ACCOUNTANCY | CS6: NA | CT6: NA | CV6: =IF(F6="","",IF(F6=$CN$6,"3rd Grade L-1",IF(F6=$CN$7,"3rd Grade L-2",IF(F6=$CN$8,"2nd Grade",IF(F6=$CN$9,"1st Grade (Lecturer)",IF(F6=$CN$10,"Lab. Ass.",IF(F6=$CN$11,"3rd Grade P.E.T.",""))))))) -> 3rd Grade L-1
A7: =IFERROR(IF(AND(B7="",C7="",F7="",I7=""),"",A6+1),"") -> 2 | B7: HHJHJH | C7: KJKJJJ | D7: 123460 | E7: =IFERROR(VLOOKUP(D7,PEEO_SCHOOL,3,0),"") -> GUPS NO. 05 | F7: Third_Grade_L1 | G7: NA | I7: 31331 | J7: =IFERROR(IF(CK7="","",CK7),"") -> OCTOBER 11TH, NINETEEN EIGHTY FIVE | K7: =IFERROR(IF(OR($K$4="",B7="",A7="",I7=""),"",DATEDIF(I7,$K$4,"Y")),"") -> 37 | L7: =IFERROR(IF(OR($K$4="",B7="",A7="",I7=""),"",DATEDIF(I7,$K$4,"YM")),"") -> 0 | M7: =IFERROR(IF(OR($K$4="",B7="",A7="",I7=""),"",DATEDIF(I7,$K$4,"MD")),"") -> 20 | N7: 12th | O7: 0.74 | P7: B.S.T.C. (D.EI.Ed.) | Q7: 0.81 | R7: 2015 | S7: 0.74 | T7: JODHPUR | U7: BILARA | V7: HINDU | W7: ST | X7: MALE | AE7: 2222222222 | AF7: YES | AG7: bd | BV7: SC | BX7: SCOUT | BY7: DISTRICT | CA7: STUDYING | CB7: SIKKH | CC7: JNV | CE7: =IFERROR(IF(I7="","",YEAR(I7)),"") -> 1985 | CF7: =IFERROR(IF(I7="","",MONTH(I7)),"") -> 10 | CG7: =IFERROR(IF(I7="","",DAY(I7)),"") -> 11 | CH7: =IF(CE7=1961,"NINETEEN SIXTY ONE",IF(CE7=1962,"NINETEEN SIXTY TWO",IF(CE7=1963,"NINETEEN SIXTY THREE",IF(CE7=1964,"NINETEEN SIXTY FOUR",IF(CE7=1965,"NINETEEN SIXTY FIVE",IF(CE7=1966,"NINETEEN SIXTY SIX",IF(CE7=1967,"NINETEEN SIXTY SEVEN",IF(CE7=1968,"NINETEEN SIXTY EIGHT",IF(CE7=1969,"NINETEEN SIXTY NINE",IF(CE7=1970,"NINETEEN SEVENTY",IF(CE7=1971,"NINETEEN SEVENTY ONE",IF(CE7=1972,"NINETEEN SEVENTY TWO",IF(CE7=1973,"NINETEEN SEVENTY THREE",IF(CE7=1974,"NINETEEN SEVENTY FOUR",IF(CE7=1975,"NINETEEN SEVENTY FIVE",IF(CE7=1976,"NINETEEN SEVENTY SIX",IF(CE7=1977,"NINETEEN SEVENTY SEVEN",IF(CE7=1978,"NINETEEN SEVENTY EIGHT",IF(CE7=1979,"NINETEEN SEVENTY NINE",IF(CE7=1980,"NINETEEN EIGHTY",IF(CE7=1981,"NINETEEN EIGHTY ONE",IF(CE7=1982,"NINETEEN EIGHTY TWO",IF(CE7=1983,"NINETEEN EIGHTY THREE",IF(CE7=1984,"NINETEEN EIGHTY FOUR",IF(CE7=1985,"NINETEEN EIGHTY FIVE",IF(CE7=1986,"NINETEEN EIGHTY SIX",IF(CE7=1987,"NINETEEN EIGHTY SEVEN",IF(CE7=1988,"NINETEEN EIGHTY EIGHT",IF(CE7=1989,"NINETEEN EIGHTY NINE",IF(CE7=1990,"NINETEEN NINETY",IF(CE7=1991,"NINETEEN NINETY ONE",IF(CE7=1992,"NINETEEN NINETY TWO",IF(CE7=1993,"NINETEEN NINETY THREE",IF(CE7=1994,"NINETEEN NINETY FOUR",IF(CE7=1995,"NINETEEN NINETY FIVE",IF(CE7=1996,"NINETEEN NINETY SIX",IF(CE7=1997,"NINETEEN NINETY SEVEN",IF(CE7=1998,"NINETEEN NINETY EIGHT",IF(CE7=1999,"NINETEEN NINETY NINE",IF(CE7=2000,"TWO THOUSAND",IF(CE7=2001,"TWO THOUSAND ONE",IF(CE7=2002,"TWO THOUSAND TWO",IF(CE7=2003,"TWO THOUSAND THREE",IF(CE7=2004,"TWO THOUSAND FOUR",IF(CE7=2005,"TWO THOUSAND FIVE",IF(CE7=2006,"TWO THOUSAND SIX",IF(CE7=2007,"TWO THOUSAND SEVEN",IF(CE7=2008,"TWO THOUSAND EIGHT",IF(CE7=2009,"TWO THOUSAND NINE",IF(CE7=2010,"TWO THOUSAND TEN",IF(CE7=2011,"TWO THOUSAND ELEVEN",IF(CE7=2012,"TWO THOUSAND TWELVE",IF(CE7=2013,"TWO THOUSAND THIRTEEN",IF(CE7=2014,"TWO THOUSAND FOURTEEN",IF(CE7=2015,"TWO THOUSAND FIFTEEN",IF(CE7=2016,"TWO THOUSAND SIXTEEN",IF(CE7=2017,"TWO THOUSAND SEVENTEEN",IF(CE7=2018,"TWO THOUSAND EIGHTEEN",IF(CE7=2019,"TWO THOUSAND NINETEEN",IF(CE7=2020,"TWO THOUSAND TWENTY",IF(CE7=2021,"TWO THOUSAND TWENTY ONE",IF(CE7=2022,"TWO THOUSAND TWENTY TWO",IF(CE7=2023,"TWO THOUSAND TWENTY THREE",IF(CE7=2024,"TWO THOUSAND TWENTY FOUR",IF(CE7=2025,"TWO THOUSAND TWENTY FIVE",""))))))))))))))))))))))))))))))))))))))))))))))))))))))))))))))))) -> NINETEEN EIGHTY FIVE | CI7: =IF(CF7=1,"JANUARY",IF(CF7=2,"FEBUARY", IF(CF7=3,"MARCH",IF(CF7=4,"APRIL",IF(CF7=5,"MAY",IF(CF7=6,"JUNE",IF(CF7=7,"JULY",IF(CF7=8,"AUGUST",IF(CF7=9,"SEPTEMBER",IF(CF7=10,"OCTOBER",IF(CF7=11,"NOVEMBER",IF(CF7=12,"DECEMBER","")))))))))))) -> OCTOBER | CJ7: =IF(CG7=1,"1ST",IF(CG7=2,"2ND", IF(CG7=3,"3RD",IF(CG7=4,"FOURTH",IF(CG7=5,"FIFTH",IF(CG7=6,"SIXTH",IF(CG7=7,"7TH",IF(CG7=8,"8TH",IF(CG7=9,"9TH",IF(CG7=10,"10TH",IF(CG7=11,"11TH",IF(CG7=12,"12TH",IF(CG7=13,"13TH",IF(CG7=14,"14TH",IF(CG7=15,"FIFTEEN",IF(CG7=16,"SIXTEEN",IF(CG7=17,"SEVENTEEN",IF(CG7=18,"EIGHTEEN",IF(CG7=19,"NINETEEN",IF(CG7=20,"TWENTY",IF(CG7=21,"TWENTY FIRST",IF(CG7=22,"TWENTY SECOND",IF(CG7=23,"TWENTY THIRD",IF(CG7=24,"TWENTY FOURTH",IF(CG7=25,"TWENTY FIFTH",IF(CG7=26,"TWENTY SIX",IF(CG7=27,"TWENTY SEVEN",IF(CG7=28,"TWENTY EIGHT",IF(CG7=29,"TWENTY NINE",IF(CG7=30,"THIRTY",IF(CG7=31,"THIRTY FIRST",""))))))))))))))))))))))))))))))) -> 11TH | CK7: =IFERROR(IF(AND(CH7="",CI7="",CJ7=""),"",CONCATENATE(CI7," ",CJ7,", ",CH7)),"") -> OCTOBER 11TH, NINETEEN EIGHTY FIVE | CL7: =IF(F7="","",IF(F7="3rd Grade L-1","YES","")) | CM7: 2nd | CN7: Third_Grade_L2 | CP7: English | CQ7: English | CR7: BUSINESS STUDIES | CV7: =IF(F7="","",IF(F7=$CN$6,"3rd Grade L-1",IF(F7=$CN$7,"3rd Grade L-2",IF(F7=$CN$8,"2nd Grade",IF(F7=$CN$9,"1st Grade (Lecturer)",IF(F7=$CN$10,"Lab. Ass.",IF(F7=$CN$11,"3rd Grade P.E.T.",""))))))) -> 3rd Grade L-1
A8: =IFERROR(IF(AND(B8="",C8="",F8="",I8=""),"",A7+1),"") -> 3 | B8: GGHG | C8: DSGF | D8: 333333 | E8: =IFERROR(VLOOKUP(D8,PEEO_SCHOOL,3,0),"") -> GUPS NO. 01 | F8: Third_Grade_L1 | G8: NA | I8: 29587 | J8: =IFERROR(IF(CK8="","",CK8),"") -> JANUARY 1ST, NINETEEN EIGHTY ONE | K8: =IFERROR(IF(OR($K$4="",B8="",A8="",I8=""),"",DATEDIF(I8,$K$4,"Y")),"") -> 41 | L8: =IFERROR(IF(OR($K$4="",B8="",A8="",I8=""),"",DATEDIF(I8,$K$4,"YM")),"") -> 10 | M8: =IFERROR(IF(OR($K$4="",B8="",A8="",I8=""),"",DATEDIF(I8,$K$4,"MD")),"") -> 0 | N8: 12th | O8: 0.74 | P8: B.S.T.C. (D.EI.Ed.) | Q8: 0.81 | V8: SIKKH | W8: SC | X8: FEMALE | AE8: 3333333333 | BV8: OBC | BX8: GUIDE | CB8: CHRISTIAN | CC8: Private | CE8: =IFERROR(IF(I8="","",YEAR(I8)),"") -> 1981 | CF8: =IFERROR(IF(I8="","",MONTH(I8)),"") -> 1 | CG8: =IFERROR(IF(I8="","",DAY(I8)),"") -> 1 | CH8: =IF(CE8=1961,"NINETEEN SIXTY ONE",IF(CE8=1962,"NINETEEN SIXTY TWO",IF(CE8=1963,"NINETEEN SIXTY THREE",IF(CE8=1964,"NINETEEN SIXTY FOUR",IF(CE8=1965,"NINETEEN SIXTY FIVE",IF(CE8=1966,"NINETEEN SIXTY SIX",IF(CE8=1967,"NINETEEN SIXTY SEVEN",IF(CE8=1968,"NINETEEN SIXTY EIGHT",IF(CE8=1969,"NINETEEN SIXTY NINE",IF(CE8=1970,"NINETEEN SEVENTY",IF(CE8=1971,"NINETEEN SEVENTY ONE",IF(CE8=1972,"NINETEEN SEVENTY TWO",IF(CE8=1973,"NINETEEN SEVENTY THREE",IF(CE8=1974,"NINETEEN SEVENTY FOUR",IF(CE8=1975,"NINETEEN SEVENTY FIVE",IF(CE8=1976,"NINETEEN SEVENTY SIX",IF(CE8=1977,"NINETEEN SEVENTY SEVEN",IF(CE8=1978,"NINETEEN SEVENTY EIGHT",IF(CE8=1979,"NINETEEN SEVENTY NINE",IF(CE8=1980,"NINETEEN EIGHTY",IF(CE8=1981,"NINETEEN EIGHTY ONE",IF(CE8=1982,"NINETEEN EIGHTY TWO",IF(CE8=1983,"NINETEEN EIGHTY THREE",IF(CE8=1984,"NINETEEN EIGHTY FOUR",IF(CE8=1985,"NINETEEN EIGHTY FIVE",IF(CE8=1986,"NINETEEN EIGHTY SIX",IF(CE8=1987,"NINETEEN EIGHTY SEVEN",IF(CE8=1988,"NINETEEN EIGHTY EIGHT",IF(CE8=1989,"NINETEEN EIGHTY NINE",IF(CE8=1990,"NINETEEN NINETY",IF(CE8=1991,"NINETEEN NINETY ONE",IF(CE8=1992,"NINETEEN NINETY TWO",IF(CE8=1993,"NINETEEN NINETY THREE",IF(CE8=1994,"NINETEEN NINETY FOUR",IF(CE8=1995,"NINETEEN NINETY FIVE",IF(CE8=1996,"NINETEEN NINETY SIX",IF(CE8=1997,"NINETEEN NINETY SEVEN",IF(CE8=1998,"NINETEEN NINETY EIGHT",IF(CE8=1999,"NINETEEN NINETY NINE",IF(CE8=2000,"TWO THOUSAND",IF(CE8=2001,"TWO THOUSAND ONE",IF(CE8=2002,"TWO THOUSAND TWO",IF(CE8=2003,"TWO THOUSAND THREE",IF(CE8=2004,"TWO THOUSAND FOUR",IF(CE8=2005,"TWO THOUSAND FIVE",IF(CE8=2006,"TWO THOUSAND SIX",IF(CE8=2007,"TWO THOUSAND SEVEN",IF(CE8=2008,"TWO THOUSAND EIGHT",IF(CE8=2009,"TWO THOUSAND NINE",IF(CE8=2010,"TWO THOUSAND TEN",IF(CE8=2011,"TWO THOUSAND ELEVEN",IF(CE8=2012,"TWO THOUSAND TWELVE",IF(CE8=2013,"TWO THOUSAND THIRTEEN",IF(CE8=2014,"TWO THOUSAND FOURTEEN",IF(CE8=2015,"TWO THOUSAND FIFTEEN",IF(CE8=2016,"TWO THOUSAND SIXTEEN",IF(CE8=2017,"TWO THOUSAND SEVENTEEN",IF(CE8=2018,"TWO THOUSAND EIGHTEEN",IF(CE8=2019,"TWO THOUSAND NINETEEN",IF(CE8=2020,"TWO THOUSAND TWENTY",IF(CE8=2021,"TWO THOUSAND TWENTY ONE",IF(CE8=2022,"TWO THOUSAND TWENTY TWO",IF(CE8=2023,"TWO THOUSAND TWENTY THREE",IF(CE8=2024,"TWO THOUSAND TWENTY FOUR",IF(CE8=2025,"TWO THOUSAND TWENTY FIVE",""))))))))))))))))))))))))))))))))))))))))))))))))))))))))))))))))) -> NINETEEN EIGHTY ONE | CI8: =IF(CF8=1,"JANUARY",IF(CF8=2,"FEBUARY", IF(CF8=3,"MARCH",IF(CF8=4,"APRIL",IF(CF8=5,"MAY",IF(CF8=6,"JUNE",IF(CF8=7,"JULY",IF(CF8=8,"AUGUST",IF(CF8=9,"SEPTEMBER",IF(CF8=10,"OCTOBER",IF(CF8=11,"NOVEMBER",IF(CF8=12,"DECEMBER","")))))))))))) -> JANUARY | CJ8: =IF(CG8=1,"1ST",IF(CG8=2,"2ND", IF(CG8=3,"3RD",IF(CG8=4,"FOURTH",IF(CG8=5,"FIFTH",IF(CG8=6,"SIXTH",IF(CG8=7,"7TH",IF(CG8=8,"8TH",IF(CG8=9,"9TH",IF(CG8=10,"10TH",IF(CG8=11,"11TH",IF(CG8=12,"12TH",IF(CG8=13,"13TH",IF(CG8=14,"14TH",IF(CG8=15,"FIFTEEN",IF(CG8=16,"SIXTEEN",IF(CG8=17,"SEVENTEEN",IF(CG8=18,"EIGHTEEN",IF(CG8=19,"NINETEEN",IF(CG8=20,"TWENTY",IF(CG8=21,"TWENTY FIRST",IF(CG8=22,"TWENTY SECOND",IF(CG8=23,"TWENTY THIRD",IF(CG8=24,"TWENTY FOURTH",IF(CG8=25,"TWENTY FIFTH",IF(CG8=26,"TWENTY SIX",IF(CG8=27,"TWENTY SEVEN",IF(CG8=28,"TWENTY EIGHT",IF(CG8=29,"TWENTY NINE",IF(CG8=30,"THIRTY",IF(CG8=31,"THIRTY FIRST",""))))))))))))))))))))))))))))))) -> 1ST | CK8: =IFERROR(IF(AND(CH8="",CI8="",CJ8=""),"",CONCATENATE(CI8," ",CJ8,", ",CH8)),"") -> JANUARY 1ST, NINETEEN EIGHTY ONE | CL8: =IF(F8="","",IF(F8="3rd Grade L-1","YES","")) | CM8: 3rd | CN8: Second_Grade | CP8: Maths | CQ8: Maths | CR8: ECONOMICS | CV8: =IF(F8="","",IF(F8=$CN$6,"3rd Grade L-1",IF(F8=$CN$7,"3rd Grade L-2",IF(F8=$CN$8,"2nd Grade",IF(F8=$CN$9,"1st Grade (Lecturer)",IF(F8=$CN$10,"Lab. Ass.",IF(F8=$CN$11,"3rd Grade P.E.T.",""))))))) -> 3rd Grade L-1
A9: =IFERROR(IF(AND(B9="",C9="",F9="",I9=""),"",A8+1),"") -> 4 | B9: BNBNB | C9: CVXC | D9: 123468 | E9: =IFERROR(VLOOKUP(D9,PEEO_SCHOOL,3,0),"") -> GUPS NO. 13 | F9: Third_Grade_L2 | G9: English | I9: 28676 | J9: =IFERROR(IF(CK9="","",CK9),"") -> JULY FIFTH, NINETEEN SEVENTY EIGHT | K9: =IFERROR(IF(OR($K$4="",B9="",A9="",I9=""),"",DATEDIF(I9,$K$4,"Y")),"") -> 44 | L9: =IFERROR(IF(OR($K$4="",B9="",A9="",I9=""),"",DATEDIF(I9,$K$4,"YM")),"") -> 3 | M9: =IFERROR(IF(OR($K$4="",B9="",A9="",I9=""),"",DATEDIF(I9,$K$4,"MD")),"") -> 26 | N9: 12th | O9: 0.74 | P9: B.S.T.C. (D.EI.Ed.) | Q9: 0.81 | V9: CHRISTIAN | W9: OBC | X9: FEMALE | AE9: 4444444444 | BV9: SBC | BX9: CUB | CB9: PARSI | CC9: Recognized | CE9: =IFERROR(IF(I9="","",YEAR(I9)),"") -> 1978 | CF9: =IFERROR(IF(I9="","",MONTH(I9)),"") -> 7 | CG9: =IFERROR(IF(I9="","",DAY(I9)),"") -> 5 | CH9: =IF(CE9=1961,"NINETEEN SIXTY ONE",IF(CE9=1962,"NINETEEN SIXTY TWO",IF(CE9=1963,"NINETEEN SIXTY THREE",IF(CE9=1964,"NINETEEN SIXTY FOUR",IF(CE9=1965,"NINETEEN SIXTY FIVE",IF(CE9=1966,"NINETEEN SIXTY SIX",IF(CE9=1967,"NINETEEN SIXTY SEVEN",IF(CE9=1968,"NINETEEN SIXTY EIGHT",IF(CE9=1969,"NINETEEN SIXTY NINE",IF(CE9=1970,"NINETEEN SEVENTY",IF(CE9=1971,"NINETEEN SEVENTY ONE",IF(CE9=1972,"NINETEEN SEVENTY TWO",IF(CE9=1973,"NINETEEN SEVENTY THREE",IF(CE9=1974,"NINETEEN SEVENTY FOUR",IF(CE9=1975,"NINETEEN SEVENTY FIVE",IF(CE9=1976,"NINETEEN SEVENTY SIX",IF(CE9=1977,"NINETEEN SEVENTY SEVEN",IF(CE9=1978,"NINETEEN SEVENTY EIGHT",IF(CE9=1979,"NINETEEN SEVENTY NINE",IF(CE9=1980,"NINETEEN EIGHTY",IF(CE9=1981,"NINETEEN EIGHTY ONE",IF(CE9=1982,"NINETEEN EIGHTY TWO",IF(CE9=1983,"NINETEEN EIGHTY THREE",IF(CE9=1984,"NINETEEN EIGHTY FOUR",IF(CE9=1985,"NINETEEN EIGHTY FIVE",IF(CE9=1986,"NINETEEN EIGHTY SIX",IF(CE9=1987,"NINETEEN EIGHTY SEVEN",IF(CE9=1988,"NINETEEN EIGHTY EIGHT",IF(CE9=1989,"NINETEEN EIGHTY NINE",IF(CE9=1990,"NINETEEN NINETY",IF(CE9=1991,"NINETEEN NINETY ONE",IF(CE9=1992,"NINETEEN NINETY TWO",IF(CE9=1993,"NINETEEN NINETY THREE",IF(CE9=1994,"NINETEEN NINETY FOUR",IF(CE9=1995,"NINETEEN NINETY FIVE",IF(CE9=1996,"NINETEEN NINETY SIX",IF(CE9=1997,"NINETEEN NINETY SEVEN",IF(CE9=1998,"NINETEEN NINETY EIGHT",IF(CE9=1999,"NINETEEN NINETY NINE",IF(CE9=2000,"TWO THOUSAND",IF(CE9=2001,"TWO THOUSAND ONE",IF(CE9=2002,"TWO THOUSAND TWO",IF(CE9=2003,"TWO THOUSAND THREE",IF(CE9=2004,"TWO THOUSAND FOUR",IF(CE9=2005,"TWO THOUSAND FIVE",IF(CE9=2006,"TWO THOUSAND SIX",IF(CE9=2007,"TWO THOUSAND SEVEN",IF(CE9=2008,"TWO THOUSAND EIGHT",IF(CE9=2009,"TWO THOUSAND NINE",IF(CE9=2010,"TWO THOUSAND TEN",IF(CE9=2011,"TWO THOUSAND ELEVEN",IF(CE9=2012,"TWO THOUSAND TWELVE",IF(CE9=2013,"TWO THOUSAND THIRTEEN",IF(CE9=2014,"TWO THOUSAND FOURTEEN",IF(CE9=2015,"TWO THOUSAND FIFTEEN",IF(CE9=2016,"TWO THOUSAND SIXTEEN",IF(CE9=2017,"TWO THOUSAND SEVENTEEN",IF(CE9=2018,"TWO THOUSAND EIGHTEEN",IF(CE9=2019,"TWO THOUSAND NINETEEN",IF(CE9=2020,"TWO THOUSAND TWENTY",IF(CE9=2021,"TWO THOUSAND TWENTY ONE",IF(CE9=2022,"TWO THOUSAND TWENTY TWO",IF(CE9=2023,"TWO THOUSAND TWENTY THREE",IF(CE9=2024,"TWO THOUSAND TWENTY FOUR",IF(CE9=2025,"TWO THOUSAND TWENTY FIVE",""))))))))))))))))))))))))))))))))))))))))))))))))))))))))))))))))) -> NINETEEN SEVENTY EIGHT | CI9: =IF(CF9=1,"JANUARY",IF(CF9=2,"FEBUARY", IF(CF9=3,"MARCH",IF(CF9=4,"APRIL",IF(CF9=5,"MAY",IF(CF9=6,"JUNE",IF(CF9=7,"JULY",IF(CF9=8,"AUGUST",IF(CF9=9,"SEPTEMBER",IF(CF9=10,"OCTOBER",IF(CF9=11,"NOVEMBER",IF(CF9=12,"DECEMBER","")))))))))))) -> JULY | CJ9: =IF(CG9=1,"1ST",IF(CG9=2,"2ND", IF(CG9=3,"3RD",IF(CG9=4,"FOURTH",IF(CG9=5,"FIFTH",IF(CG9=6,"SIXTH",IF(CG9=7,"7TH",IF(CG9=8,"8TH",IF(CG9=9,"9TH",IF(CG9=10,"10TH",IF(CG9=11,"11TH",IF(CG9=12,"12TH",IF(CG9=13,"13TH",IF(CG9=14,"14TH",IF(CG9=15,"FIFTEEN",IF(CG9=16,"SIXTEEN",IF(CG9=17,"SEVENTEEN",IF(CG9=18,"EIGHTEEN",IF(CG9=19,"NINETEEN",IF(CG9=20,"TWENTY",IF(CG9=21,"TWENTY FIRST",IF(CG9=22,"TWENTY SECOND",IF(CG9=23,"TWENTY THIRD",IF(CG9=24,"TWENTY FOURTH",IF(CG9=25,"TWENTY FIFTH",IF(CG9=26,"TWENTY SIX",IF(CG9=27,"TWENTY SEVEN",IF(CG9=28,"TWENTY EIGHT",IF(CG9=29,"TWENTY NINE",IF(CG9=30,"THIRTY",IF(CG9=31,"THIRTY FIRST",""))))))))))))))))))))))))))))))) -> FIFTH | CK9: =IFERROR(IF(AND(CH9="",CI9="",CJ9=""),"",CONCATENATE(CI9," ",CJ9,", ",CH9)),"") -> JULY FIFTH, NINETEEN SEVENTY EIGHT | CL9: =IF(F9="","",IF(F9="3rd Grade L-1","YES","")) | CM9: 4th | CN9: First_Grade_School_Lecturer | CP9: Science | CQ9: Science | CR9: ENGLISH LITERATURE | CV9: =IF(F9="","",IF(F9=$CN$6,"3rd Grade L-1",IF(F9=$CN$7,"3rd Grade L-2",IF(F9=$CN$8,"2nd Grade",IF(F9=$CN$9,"1st Grade (Lecturer)",IF(F9=$CN$10,"Lab. Ass.",IF(F9=$CN$11,"3rd Grade P.E.T.",""))))))) -> 3rd Grade L-2
A10: =IFERROR(IF(AND(B10="",C10="",F10="",I10=""),"",A9+1),"") -> 5 | B10: hll | C10: kkk | D10: 123458 | E10: =IFERROR(VLOOKUP(D10,PEEO_SCHOOL,3,0),"") -> GUPS NO. 03 | F10: Second_Grade | G10: English | I10: 28675 | J10: =IFERROR(IF(CK10="","",CK10),"") -> JULY FOURTH, NINETEEN SEVENTY EIGHT | K10: =IFERROR(IF(OR($K$4="",B10="",A10="",I10=""),"",DATEDIF(I10,$K$4,"Y")),"") -> 44 | L10: =IFERROR(IF(OR($K$4="",B10="",A10="",I10=""),"",DATEDIF(I10,$K$4,"YM")),"") -> 3 | M10: =IFERROR(IF(OR($K$4="",B10="",A10="",I10=""),"",DATEDIF(I10,$K$4,"MD")),"") -> 27 | N10: 12th | O10: 0.74 | P10: B.S.T.C. (D.EI.Ed.) | Q10: 0.79 | V10: HINDU | W10: SBC | X10: FEMALE | BX10: BULBUL | CB10: OTHER | CC10: Other | CE10: =IFERROR(IF(I10="","",YEAR(I10)),"") -> 1978 | CF10: =IFERROR(IF(I10="","",MONTH(I10)),"") -> 7 | CG10: =IFERROR(IF(I10="","",DAY(I10)),"") -> 4 | CH10: =IF(CE10=1961,"NINETEEN SIXTY ONE",IF(CE10=1962,"NINETEEN SIXTY TWO",IF(CE10=1963,"NINETEEN SIXTY THREE",IF(CE10=1964,"NINETEEN SIXTY FOUR",IF(CE10=1965,"NINETEEN SIXTY FIVE",IF(CE10=1966,"NINETEEN SIXTY SIX",IF(CE10=1967,"NINETEEN SIXTY SEVEN",IF(CE10=1968,"NINETEEN SIXTY EIGHT",IF(CE10=1969,"NINETEEN SIXTY NINE",IF(CE10=1970,"NINETEEN SEVENTY",IF(CE10=1971,"NINETEEN SEVENTY ONE",IF(CE10=1972,"NINETEEN SEVENTY TWO",IF(CE10=1973,"NINETEEN SEVENTY THREE",IF(CE10=1974,"NINETEEN SEVENTY FOUR",IF(CE10=1975,"NINETEEN SEVENTY FIVE",IF(CE10=1976,"NINETEEN SEVENTY SIX",IF(CE10=1977,"NINETEEN SEVENTY SEVEN",IF(CE10=1978,"NINETEEN SEVENTY EIGHT",IF(CE10=1979,"NINETEEN SEVENTY NINE",IF(CE10=1980,"NINETEEN EIGHTY",IF(CE10=1981,"NINETEEN EIGHTY ONE",IF(CE10=1982,"NINETEEN EIGHTY TWO",IF(CE10=1983,"NINETEEN EIGHTY THREE",IF(CE10=1984,"NINETEEN EIGHTY FOUR",IF(CE10=1985,"NINETEEN EIGHTY FIVE",IF(CE10=1986,"NINETEEN EIGHTY SIX",IF(CE10=1987,"NINETEEN EIGHTY SEVEN",IF(CE10=1988,"NINETEEN EIGHTY EIGHT",IF(CE10=1989,"NINETEEN EIGHTY NINE",IF(CE10=1990,"NINETEEN NINETY",IF(CE10=1991,"NINETEEN NINETY ONE",IF(CE10=1992,"NINETEEN NINETY TWO",IF(CE10=1993,"NINETEEN NINETY THREE",IF(CE10=1994,"NINETEEN NINETY FOUR",IF(CE10=1995,"NINETEEN NINETY FIVE",IF(CE10=1996,"NINETEEN NINETY SIX",IF(CE10=1997,"NINETEEN NINETY SEVEN",IF(CE10=1998,"NINETEEN NINETY EIGHT",IF(CE10=1999,"NINETEEN NINETY NINE",IF(CE10=2000,"TWO THOUSAND",IF(CE10=2001,"TWO THOUSAND ONE",IF(CE10=2002,"TWO THOUSAND TWO",IF(CE10=2003,"TWO THOUSAND THREE",IF(CE10=2004,"TWO THOUSAND FOUR",IF(CE10=2005,"TWO THOUSAND FIVE",IF(CE10=2006,"TWO THOUSAND SIX",IF(CE10=2007,"TWO THOUSAND SEVEN",IF(CE10=2008,"TWO THOUSAND EIGHT",IF(CE10=2009,"TWO THOUSAND NINE",IF(CE10=2010,"TWO THOUSAND TEN",IF(CE10=2011,"TWO THOUSAND ELEVEN",IF(CE10=2012,"TWO THOUSAND TWELVE",IF(CE10=2013,"TWO THOUSAND THIRTEEN",IF(CE10=2014,"TWO THOUSAND FOURTEEN",IF(CE10=2015,"TWO THOUSAND FIFTEEN",IF(CE10=2016,"TWO THOUSAND SIXTEEN",IF(CE10=2017,"TWO THOUSAND SEVENTEEN",IF(CE10=2018,"TWO THOUSAND EIGHTEEN",IF(CE10=2019,"TWO THOUSAND NINETEEN",IF(CE10=2020,"TWO THOUSAND TWENTY",IF(CE10=2021,"TWO THOUSAND TWENTY ONE",IF(CE10=2022,"TWO THOUSAND TWENTY TWO",IF(CE10=2023,"TWO THOUSAND TWENTY THREE",IF(CE10=2024,"TWO THOUSAND TWENTY FOUR",IF(CE10=2025,"TWO THOUSAND TWENTY FIVE",""))))))))))))))))))))))))))))))))))))))))))))))))))))))))))))))))) -> NINETEEN SEVENTY EIGHT | CI10: =IF(CF10=1,"JANUARY",IF(CF10=2,"FEBUARY", IF(CF10=3,"MARCH",IF(CF10=4,"APRIL",IF(CF10=5,"MAY",IF(CF10=6,"JUNE",IF(CF10=7,"JULY",IF(CF10=8,"AUGUST",IF(CF10=9,"SEPTEMBER",IF(CF10=10,"OCTOBER",IF(CF10=11,"NOVEMBER",IF(CF10=12,"DECEMBER","")))))))))))) -> JULY | CJ10: =IF(CG10=1,"1ST",IF(CG10=2,"2ND", IF(CG10=3,"3RD",IF(CG10=4,"FOURTH",IF(CG10=5,"FIFTH",IF(CG10=6,"SIXTH",IF(CG10=7,"7TH",IF(CG10=8,"8TH",IF(CG10=9,"9TH",IF(CG10=10,"10TH",IF(CG10=11,"11TH",IF(CG10=12,"12TH",IF(CG10=13,"13TH",IF(CG10=14,"14TH",IF(CG10=15,"FIFTEEN",IF(CG10=16,"SIXTEEN",IF(CG10=17,"SEVENTEEN",IF(CG10=18,"EIGHTEEN",IF(CG10=19,"NINETEEN",IF(CG10=20,"TWENTY",IF(CG10=21,"TWENTY FIRST",IF(CG10=22,"TWENTY SECOND",IF(CG10=23,"TWENTY THIRD",IF(CG10=24,"TWENTY FOURTH",IF(CG10=25,"TWENTY FIFTH",IF(CG10=26,"TWENTY SIX",IF(CG10=27,"TWENTY SEVEN",IF(CG10=28,"TWENTY EIGHT",IF(CG10=29,"TWENTY NINE",IF(CG10=30,"THIRTY",IF(CG10=31,"THIRTY FIRST",""))))))))))))))))))))))))))))))) -> FOURTH | CK10: =IFERROR(IF(AND(CH10="",CI10="",CJ10=""),"",CONCATENATE(CI10," ",CJ10,", ",CH10)),"") -> JULY FOURTH, NINETEEN SEVENTY EIGHT | CL10: =IF(F10="","",IF(F10="3rd Grade L-1","YES","")) | CM10: 5th | CN10: Lab_Ass | CP10: SST | CQ10: SST | CR10: ENVIRONMENTAL STUDIES | CV10: =IF(F10="","",IF(F10=$CN$6,"3rd Grade L-1",IF(F10=$CN$7,"3rd Grade L-2",IF(F10=$CN$8,"2nd Grade",IF(F10=$CN$9,"1st Grade (Lecturer)",IF(F10=$CN$10,"Lab. Ass.",IF(F10=$CN$11,"3rd Grade P.E.T.",""))))))) -> 2nd Grade
A11: =IFERROR(IF(AND(B11="",C11="",F11="",I11=""),"",A10+1),"") -> 6 | B11: op | C11: l;l; | D11: 123459 | E11: =IFERROR(VLOOKUP(D11,PEEO_SCHOOL,3,0),"") -> GUPS NO. 04 | F11: First_Grade_School_Lecturer | G11: HINDI LITERATURE | I11: 32570 | J11: =IFERROR(IF(CK11="","",CK11),"") -> MARCH 3RD, NINETEEN EIGHTY NINE | K11: =IFERROR(IF(OR($K$4="",B11="",A11="",I11=""),"",DATEDIF(I11,$K$4,"Y")),"") -> 33 | L11: =IFERROR(IF(OR($K$4="",B11="",A11="",I11=""),"",DATEDIF(I11,$K$4,"YM")),"") -> 7 | M11: =IFERROR(IF(OR($K$4="",B11="",A11="",I11=""),"",DATEDIF(I11,$K$4,"MD")),"") -> 28 | N11: PG | O11: 0.6 | P11: B.ed | Q11: 0.75 | V11: MUSLIM | W11: SBC | X11: MALE | CE11: =IFERROR(IF(I11="","",YEAR(I11)),"") -> 1989 | CF11: =IFERROR(IF(I11="","",MONTH(I11)),"") -> 3 | CG11: =IFERROR(IF(I11="","",DAY(I11)),"") -> 3 | CH11: =IF(CE11=1961,"NINETEEN SIXTY ONE",IF(CE11=1962,"NINETEEN SIXTY TWO",IF(CE11=1963,"NINETEEN SIXTY THREE",IF(CE11=1964,"NINETEEN SIXTY FOUR",IF(CE11=1965,"NINETEEN SIXTY FIVE",IF(CE11=1966,"NINETEEN SIXTY SIX",IF(CE11=1967,"NINETEEN SIXTY SEVEN",IF(CE11=1968,"NINETEEN SIXTY EIGHT",IF(CE11=1969,"NINETEEN SIXTY NINE",IF(CE11=1970,"NINETEEN SEVENTY",IF(CE11=1971,"NINETEEN SEVENTY ONE",IF(CE11=1972,"NINETEEN SEVENTY TWO",IF(CE11=1973,"NINETEEN SEVENTY THREE",IF(CE11=1974,"NINETEEN SEVENTY FOUR",IF(CE11=1975,"NINETEEN SEVENTY FIVE",IF(CE11=1976,"NINETEEN SEVENTY SIX",IF(CE11=1977,"NINETEEN SEVENTY SEVEN",IF(CE11=1978,"NINETEEN SEVENTY EIGHT",IF(CE11=1979,"NINETEEN SEVENTY NINE",IF(CE11=1980,"NINETEEN EIGHTY",IF(CE11=1981,"NINETEEN EIGHTY ONE",IF(CE11=1982,"NINETEEN EIGHTY TWO",IF(CE11=1983,"NINETEEN EIGHTY THREE",IF(CE11=1984,"NINETEEN EIGHTY FOUR",IF(CE11=1985,"NINETEEN EIGHTY FIVE",IF(CE11=1986,"NINETEEN EIGHTY SIX",IF(CE11=1987,"NINETEEN EIGHTY SEVEN",IF(CE11=1988,"NINETEEN EIGHTY EIGHT",IF(CE11=1989,"NINETEEN EIGHTY NINE",IF(CE11=1990,"NINETEEN NINETY",IF(CE11=1991,"NINETEEN NINETY ONE",IF(CE11=1992,"NINETEEN NINETY TWO",IF(CE11=1993,"NINETEEN NINETY THREE",IF(CE11=1994,"NINETEEN NINETY FOUR",IF(CE11=1995,"NINETEEN NINETY FIVE",IF(CE11=1996,"NINETEEN NINETY SIX",IF(CE11=1997,"NINETEEN NINETY SEVEN",IF(CE11=1998,"NINETEEN NINETY EIGHT",IF(CE11=1999,"NINETEEN NINETY NINE",IF(CE11=2000,"TWO THOUSAND",IF(CE11=2001,"TWO THOUSAND ONE",IF(CE11=2002,"TWO THOUSAND TWO",IF(CE11=2003,"TWO THOUSAND THREE",IF(CE11=2004,"TWO THOUSAND FOUR",IF(CE11=2005,"TWO THOUSAND FIVE",IF(CE11=2006,"TWO THOUSAND SIX",IF(CE11=2007,"TWO THOUSAND SEVEN",IF(CE11=2008,"TWO THOUSAND EIGHT",IF(CE11=2009,"TWO THOUSAND NINE",IF(CE11=2010,"TWO THOUSAND TEN",IF(CE11=2011,"TWO THOUSAND ELEVEN",IF(CE11=2012,"TWO THOUSAND TWELVE",IF(CE11=2013,"TWO THOUSAND THIRTEEN",IF(CE11=2014,"TWO THOUSAND FOURTEEN",IF(CE11=2015,"TWO THOUSAND FIFTEEN",IF(CE11=2016,"TWO THOUSAND SIXTEEN",IF(CE11=2017,"TWO THOUSAND SEVENTEEN",IF(CE11=2018,"TWO THOUSAND EIGHTEEN",IF(CE11=2019,"TWO THOUSAND NINETEEN",IF(CE11=2020,"TWO THOUSAND TWENTY",IF(CE11=2021,"TWO THOUSAND TWENTY ONE",IF(CE11=2022,"TWO THOUSAND TWENTY TWO",IF(CE11=2023,"TWO THOUSAND TWENTY THREE",IF(CE11=2024,"TWO THOUSAND TWENTY FOUR",IF(CE11=2025,"TWO THOUSAND TWENTY FIVE",""))))))))))))))))))))))))))))))))))))))))))))))))))))))))))))))))) -> NINETEEN EIGHTY NINE | CI11: =IF(CF11=1,"JANUARY",IF(CF11=2,"FEBUARY", IF(CF11=3,"MARCH",IF(CF11=4,"APRIL",IF(CF11=5,"MAY",IF(CF11=6,"JUNE",IF(CF11=7,"JULY",IF(CF11=8,"AUGUST",IF(CF11=9,"SEPTEMBER",IF(CF11=10,"OCTOBER",IF(CF11=11,"NOVEMBER",IF(CF11=12,"DECEMBER","")))))))))))) -> MARCH | CJ11: =IF(CG11=1,"1ST",IF(CG11=2,"2ND", IF(CG11=3,"3RD",IF(CG11=4,"FOURTH",IF(CG11=5,"FIFTH",IF(CG11=6,"SIXTH",IF(CG11=7,"7TH",IF(CG11=8,"8TH",IF(CG11=9,"9TH",IF(CG11=10,"10TH",IF(CG11=11,"11TH",IF(CG11=12,"12TH",IF(CG11=13,"13TH",IF(CG11=14,"14TH",IF(CG11=15,"FIFTEEN",IF(CG11=16,"SIXTEEN",IF(CG11=17,"SEVENTEEN",IF(CG11=18,"EIGHTEEN",IF(CG11=19,"NINETEEN",IF(CG11=20,"TWENTY",IF(CG11=21,"TWENTY FIRST",IF(CG11=22,"TWENTY SECOND",IF(CG11=23,"TWENTY THIRD",IF(CG11=24,"TWENTY FOURTH",IF(CG11=25,"TWENTY FIFTH",IF(CG11=26,"TWENTY SIX",IF(CG11=27,"TWENTY SEVEN",IF(CG11=28,"TWENTY EIGHT",IF(CG11=29,"TWENTY NINE",IF(CG11=30,"THIRTY",IF(CG11=31,"THIRTY FIRST",""))))))))))))))))))))))))))))))) -> 3RD | CK11: =IFERROR(IF(AND(CH11="",CI11="",CJ11=""),"",CONCATENATE(CI11," ",CJ11,", ",CH11)),"") -> MARCH 3RD, NINETEEN EIGHTY NINE | CL11: =IF(F11="","",IF(F11="3rd Grade L-1","YES","")) | CM11: 6th | CN11: Third_Grade_PET | CP11: Sanskrit | CQ11: Sanskrit | CR11: FARSI LITERATURE | CV11: =IF(F11="","",IF(F11=$CN$6,"3rd Grade L-1",IF(F11=$CN$7,"3rd Grade L-2",IF(F11=$CN$8,"2nd Grade",IF(F11=$CN$9,"1st Grade (Lecturer)",IF(F11=$CN$10,"Lab. Ass.",IF(F11=$CN$11,"3rd Grade P.E.T.",""))))))) -> 1st Grade (Lecturer)
A12: =IFERROR(IF(AND(B12="",C12="",F12="",I12=""),"",A11+1),"") -> 7 | B12: poo- | C12: yyui | D12: 123460 | E12: =IFERROR(VLOOKUP(D12,PEEO_SCHOOL,3,0),"") -> GUPS NO. 05 | F12: Lab_Ass | G12: NA | I12: 33698 | J12: =IFERROR(IF(CK12="","",CK12),"") -> APRIL FOURTH, NINETEEN NINETY TWO | K12: =IFERROR(IF(OR($K$4="",B12="",A12="",I12=""),"",DATEDIF(I12,$K$4,"Y")),"") -> 30 | L12: =IFERROR(IF(OR($K$4="",B12="",A12="",I12=""),"",DATEDIF(I12,$K$4,"YM")),"") -> 6 | M12: =IFERROR(IF(OR($K$4="",B12="",A12="",I12=""),"",DATEDIF(I12,$K$4,"MD")),"") -> 27 | V12: HINDU | W12: GEN | X12: MALE | CE12: =IFERROR(IF(I12="","",YEAR(I12)),"") -> 1992 | CF12: =IFERROR(IF(I12="","",MONTH(I12)),"") -> 4 | CG12: =IFERROR(IF(I12="","",DAY(I12)),"") -> 4 | CH12: =IF(CE12=1961,"NINETEEN SIXTY ONE",IF(CE12=1962,"NINETEEN SIXTY TWO",IF(CE12=1963,"NINETEEN SIXTY THREE",IF(CE12=1964,"NINETEEN SIXTY FOUR",IF(CE12=1965,"NINETEEN SIXTY FIVE",IF(CE12=1966,"NINETEEN SIXTY SIX",IF(CE12=1967,"NINETEEN SIXTY SEVEN",IF(CE12=1968,"NINETEEN SIXTY EIGHT",IF(CE12=1969,"NINETEEN SIXTY NINE",IF(CE12=1970,"NINETEEN SEVENTY",IF(CE12=1971,"NINETEEN SEVENTY ONE",IF(CE12=1972,"NINETEEN SEVENTY TWO",IF(CE12=1973,"NINETEEN SEVENTY THREE",IF(CE12=1974,"NINETEEN SEVENTY FOUR",IF(CE12=1975,"NINETEEN SEVENTY FIVE",IF(CE12=1976,"NINETEEN SEVENTY SIX",IF(CE12=1977,"NINETEEN SEVENTY SEVEN",IF(CE12=1978,"NINETEEN SEVENTY EIGHT",IF(CE12=1979,"NINETEEN SEVENTY NINE",IF(CE12=1980,"NINETEEN EIGHTY",IF(CE12=1981,"NINETEEN EIGHTY ONE",IF(CE12=1982,"NINETEEN EIGHTY TWO",IF(CE12=1983,"NINETEEN EIGHTY THREE",IF(CE12=1984,"NINETEEN EIGHTY FOUR",IF(CE12=1985,"NINETEEN EIGHTY FIVE",IF(CE12=1986,"NINETEEN EIGHTY SIX",IF(CE12=1987,"NINETEEN EIGHTY SEVEN",IF(CE12=1988,"NINETEEN EIGHTY EIGHT",IF(CE12=1989,"NINETEEN EIGHTY NINE",IF(CE12=1990,"NINETEEN NINETY",IF(CE12=1991,"NINETEEN NINETY ONE",IF(CE12=1992,"NINETEEN NINETY TWO",IF(CE12=1993,"NINETEEN NINETY THREE",IF(CE12=1994,"NINETEEN NINETY FOUR",IF(CE12=1995,"NINETEEN NINETY FIVE",IF(CE12=1996,"NINETEEN NINETY SIX",IF(CE12=1997,"NINETEEN NINETY SEVEN",IF(CE12=1998,"NINETEEN NINETY EIGHT",IF(CE12=1999,"NINETEEN NINETY NINE",IF(CE12=2000,"TWO THOUSAND",IF(CE12=2001,"TWO THOUSAND ONE",IF(CE12=2002,"TWO THOUSAND TWO",IF(CE12=2003,"TWO THOUSAND THREE",IF(CE12=2004,"TWO THOUSAND FOUR",IF(CE12=2005,"TWO THOUSAND FIVE",IF(CE12=2006,"TWO THOUSAND SIX",IF(CE12=2007,"TWO THOUSAND SEVEN",IF(CE12=2008,"TWO THOUSAND EIGHT",IF(CE12=2009,"TWO THOUSAND NINE",IF(CE12=2010,"TWO THOUSAND TEN",IF(CE12=2011,"TWO THOUSAND ELEVEN",IF(CE12=2012,"TWO THOUSAND TWELVE",IF(CE12=2013,"TWO THOUSAND THIRTEEN",IF(CE12=2014,"TWO THOUSAND FOURTEEN",IF(CE12=2015,"TWO THOUSAND FIFTEEN",IF(CE12=2016,"TWO THOUSAND SIXTEEN",IF(CE12=2017,"TWO THOUSAND SEVENTEEN",IF(CE12=2018,"TWO THOUSAND EIGHTEEN",IF(CE12=2019,"TWO THOUSAND NINETEEN",IF(CE12=2020,"TWO THOUSAND TWENTY",IF(CE12=2021,"TWO THOUSAND TWENTY ONE",IF(CE12=2022,"TWO THOUSAND TWENTY TWO",IF(CE12=2023,"TWO THOUSAND TWENTY THREE",IF(CE12=2024,"TWO THOUSAND TWENTY FOUR",IF(CE12=2025,"TWO THOUSAND TWENTY FIVE",""))))))))))))))))))))))))))))))))))))))))))))))))))))))))))))))))) -> NINETEEN NINETY TWO | CI12: =IF(CF12=1,"JANUARY",IF(CF12=2,"FEBUARY", IF(CF12=3,"MARCH",IF(CF12=4,"APRIL",IF(CF12=5,"MAY",IF(CF12=6,"JUNE",IF(CF12=7,"JULY",IF(CF12=8,"AUGUST",IF(CF12=9,"SEPTEMBER",IF(CF12=10,"OCTOBER",IF(CF12=11,"NOVEMBER",IF(CF12=12,"DECEMBER","")))))))))))) -> APRIL | CJ12: =IF(CG12=1,"1ST",IF(CG12=2,"2ND", IF(CG12=3,"3RD",IF(CG12=4,"FOURTH",IF(CG12=5,"FIFTH",IF(CG12=6,"SIXTH",IF(CG12=7,"7TH",IF(CG12=8,"8TH",IF(CG12=9,"9TH",IF(CG12=10,"10TH",IF(CG12=11,"11TH",IF(CG12=12,"12TH",IF(CG12=13,"13TH",IF(CG12=14,"14TH",IF(CG12=15,"FIFTEEN",IF(CG12=16,"SIXTEEN",IF(CG12=17,"SEVENTEEN",IF(CG12=18,"EIGHTEEN",IF(CG12=19,"NINETEEN",IF(CG12=20,"TWENTY",IF(CG12=21,"TWENTY FIRST",IF(CG12=22,"TWENTY SECOND",IF(CG12=23,"TWENTY THIRD",IF(CG12=24,"TWENTY FOURTH",IF(CG12=25,"TWENTY FIFTH",IF(CG12=26,"TWENTY SIX",IF(CG12=27,"TWENTY SEVEN",IF(CG12=28,"TWENTY EIGHT",IF(CG12=29,"TWENTY NINE",IF(CG12=30,"THIRTY",IF(CG12=31,"THIRTY FIRST",""))))))))))))))))))))))))))))))) -> FOURTH | CK12: =IFERROR(IF(AND(CH12="",CI12="",CJ12=""),"",CONCATENATE(CI12," ",CJ12,", ",CH12)),"") -> APRIL FOURTH, NINETEEN NINETY TWO | CL12: =IF(F12="","",IF(F12="3rd Grade L-1","YES","")) | CM12: 7th | CP12: Maths-Science | CQ12: Third_Language | CR12: GUJRATI LITERATURE | CV12: =IF(F12="","",IF(F12=$CN$6,"3rd Grade L-1",IF(F12=$CN$7,"3rd Grade L-2",IF(F12=$CN$8,"2nd Grade",IF(F12=$CN$9,"1st Grade (Lecturer)",IF(F12=$CN$10,"Lab. Ass.",IF(F12=$CN$11,"3rd Grade P.E.T.",""))))))) -> Lab. Ass.
A13: =IFERROR(IF(AND(B13="",C13="",F13="",I13=""),"",A12+1),"") -> 8 | B13: p= | C13: uio | D13: 123461 | E13: =IFERROR(VLOOKUP(D13,PEEO_SCHOOL,3,0),"") -> GUPS NO. 06 | F13: Third_Grade_L2 | G13: Maths | I13: 35292 | J13: =IFERROR(IF(CK13="","",CK13),"") -> AUGUST FIFTEEN, NINETEEN NINETY SIX | K13: =IFERROR(IF(OR($K$4="",B13="",A13="",I13=""),"",DATEDIF(I13,$K$4,"Y")),"") -> 26 | L13: =IFERROR(IF(OR($K$4="",B13="",A13="",I13=""),"",DATEDIF(I13,$K$4,"YM")),"") -> 2 | M13: =IFERROR(IF(OR($K$4="",B13="",A13="",I13=""),"",DATEDIF(I13,$K$4,"MD")),"") -> 16 | N13: UG | O13: 0.68 | P13: B.ed | Q13: 0.72 | V13: MUSLIM | W13: OBC | X13: FEMALE | CE13: =IFERROR(IF(I13="","",YEAR(I13)),"") -> 1996 | CF13: =IFERROR(IF(I13="","",MONTH(I13)),"") -> 8 | CG13: =IFERROR(IF(I13="","",DAY(I13)),"") -> 15 | CH13: =IF(CE13=1961,"NINETEEN SIXTY ONE",IF(CE13=1962,"NINETEEN SIXTY TWO",IF(CE13=1963,"NINETEEN SIXTY THREE",IF(CE13=1964,"NINETEEN SIXTY FOUR",IF(CE13=1965,"NINETEEN SIXTY FIVE",IF(CE13=1966,"NINETEEN SIXTY SIX",IF(CE13=1967,"NINETEEN SIXTY SEVEN",IF(CE13=1968,"NINETEEN SIXTY EIGHT",IF(CE13=1969,"NINETEEN SIXTY NINE",IF(CE13=1970,"NINETEEN SEVENTY",IF(CE13=1971,"NINETEEN SEVENTY ONE",IF(CE13=1972,"NINETEEN SEVENTY TWO",IF(CE13=1973,"NINETEEN SEVENTY THREE",IF(CE13=1974,"NINETEEN SEVENTY FOUR",IF(CE13=1975,"NINETEEN SEVENTY FIVE",IF(CE13=1976,"NINETEEN SEVENTY SIX",IF(CE13=1977,"NINETEEN SEVENTY SEVEN",IF(CE13=1978,"NINETEEN SEVENTY EIGHT",IF(CE13=1979,"NINETEEN SEVENTY NINE",IF(CE13=1980,"NINETEEN EIGHTY",IF(CE13=1981,"NINETEEN EIGHTY ONE",IF(CE13=1982,"NINETEEN EIGHTY TWO",IF(CE13=1983,"NINETEEN EIGHTY THREE",IF(CE13=1984,"NINETEEN EIGHTY FOUR",IF(CE13=1985,"NINETEEN EIGHTY FIVE",IF(CE13=1986,"NINETEEN EIGHTY SIX",IF(CE13=1987,"NINETEEN EIGHTY SEVEN",IF(CE13=1988,"NINETEEN EIGHTY EIGHT",IF(CE13=1989,"NINETEEN EIGHTY NINE",IF(CE13=1990,"NINETEEN NINETY",IF(CE13=1991,"NINETEEN NINETY ONE",IF(CE13=1992,"NINETEEN NINETY TWO",IF(CE13=1993,"NINETEEN NINETY THREE",IF(CE13=1994,"NINETEEN NINETY FOUR",IF(CE13=1995,"NINETEEN NINETY FIVE",IF(CE13=1996,"NINETEEN NINETY SIX",IF(CE13=1997,"NINETEEN NINETY SEVEN",IF(CE13=1998,"NINETEEN NINETY EIGHT",IF(CE13=1999,"NINETEEN NINETY NINE",IF(CE13=2000,"TWO THOUSAND",IF(CE13=2001,"TWO THOUSAND ONE",IF(CE13=2002,"TWO THOUSAND TWO",IF(CE13=2003,"TWO THOUSAND THREE",IF(CE13=2004,"TWO THOUSAND FOUR",IF(CE13=2005,"TWO THOUSAND FIVE",IF(CE13=2006,"TWO THOUSAND SIX",IF(CE13=2007,"TWO THOUSAND SEVEN",IF(CE13=2008,"TWO THOUSAND EIGHT",IF(CE13=2009,"TWO THOUSAND NINE",IF(CE13=2010,"TWO THOUSAND TEN",IF(CE13=2011,"TWO THOUSAND ELEVEN",IF(CE13=2012,"TWO THOUSAND TWELVE",IF(CE13=2013,"TWO THOUSAND THIRTEEN",IF(CE13=2014,"TWO THOUSAND FOURTEEN",IF(CE13=2015,"TWO THOUSAND FIFTEEN",IF(CE13=2016,"TWO THOUSAND SIXTEEN",IF(CE13=2017,"TWO THOUSAND SEVENTEEN",IF(CE13=2018,"TWO THOUSAND EIGHTEEN",IF(CE13=2019,"TWO THOUSAND NINETEEN",IF(CE13=2020,"TWO THOUSAND TWENTY",IF(CE13=2021,"TWO THOUSAND TWENTY ONE",IF(CE13=2022,"TWO THOUSAND TWENTY TWO",IF(CE13=2023,"TWO THOUSAND TWENTY THREE",IF(CE13=2024,"TWO THOUSAND TWENTY FOUR",IF(CE13=2025,"TWO THOUSAND TWENTY FIVE",""))))))))))))))))))))))))))))))))))))))))))))))))))))))))))))))))) -> NINETEEN NINETY SIX | CI13: =IF(CF13=1,"JANUARY",IF(CF13=2,"FEBUARY", IF(CF13=3,"MARCH",IF(CF13=4,"APRIL",IF(CF13=5,"MAY",IF(CF13=6,"JUNE",IF(CF13=7,"JULY",IF(CF13=8,"AUGUST",IF(CF13=9,"SEPTEMBER",IF(CF13=10,"OCTOBER",IF(CF13=11,"NOVEMBER",IF(CF13=12,"DECEMBER","")))))))))))) -> AUGUST | CJ13: =IF(CG13=1,"1ST",IF(CG13=2,"2ND", IF(CG13=3,"3RD",IF(CG13=4,"FOURTH",IF(CG13=5,"FIFTH",IF(CG13=6,"SIXTH",IF(CG13=7,"7TH",IF(CG13=8,"8TH",IF(CG13=9,"9TH",IF(CG13=10,"10TH",IF(CG13=11,"11TH",IF(CG13=12,"12TH",IF(CG13=13,"13TH",IF(CG13=14,"14TH",IF(CG13=15,"FIFTEEN",IF(CG13=16,"SIXTEEN",IF(CG13=17,"SEVENTEEN",IF(CG13=18,"EIGHTEEN",IF(CG13=19,"NINETEEN",IF(CG13=20,"TWENTY",IF(CG13=21,"TWENTY FIRST",IF(CG13=22,"TWENTY SECOND",IF(CG13=23,"TWENTY THIRD",IF(CG13=24,"TWENTY FOURTH",IF(CG13=25,"TWENTY FIFTH",IF(CG13=26,"TWENTY SIX",IF(CG13=27,"TWENTY SEVEN",IF(CG13=28,"TWENTY EIGHT",IF(CG13=29,"TWENTY NINE",IF(CG13=30,"THIRTY",IF(CG13=31,"THIRTY FIRST",""))))))))))))))))))))))))))))))) -> FIFTEEN | CK13: =IFERROR(IF(AND(CH13="",CI13="",CJ13=""),"",CONCATENATE(CI13," ",CJ13,", ",CH13)),"") -> AUGUST FIFTEEN, NINETEEN NINETY SIX | CL13: =IF(F13="","",IF(F13="3rd Grade L-1","YES","")) | CM13: 8th | CP13: Third_Language | CR13: HINDI LITERATURE | CV13: =IF(F13="","",IF(F13=$CN$6,"3rd Grade L-1",IF(F13=$CN$7,"3rd Grade L-2",IF(F13=$CN$8,"2nd Grade",IF(F13=$CN$9,"1st Grade (Lecturer)",IF(F13=$CN$10,"Lab. Ass.",IF(F13=$CN$11,"3rd Grade P.E.T.",""))))))) -> 3rd Grade L-2
A14: =IFERROR(IF(AND(B14="",C14="",F14="",I14=""),"",A13+1),"") -> 9 | B14: jggh | C14: dfzd | D14: 123461 | E14: =IFERROR(VLOOKUP(D14,PEEO_SCHOOL,3,0),"") -> GUPS NO. 06 | F14: Third_Grade_PET | G14: NA | I14: 36542 | J14: =IFERROR(IF(CK14="","",CK14),"") -> JANUARY SEVENTEEN, TWO THOUSAND | K14: =IFERROR(IF(OR($K$4="",B14="",A14="",I14=""),"",DATEDIF(I14,$K$4,"Y")),"") -> 22 | L14: =IFERROR(IF(OR($K$4="",B14="",A14="",I14=""),"",DATEDIF(I14,$K$4,"YM")),"") -> 9 | M14: =IFERROR(IF(OR($K$4="",B14="",A14="",I14=""),"",DATEDIF(I14,$K$4,"MD")),"") -> 14 | N14: UG | O14: 0.55 | P14: B.P.Ed. | Q14: 0.75 | V14: HINDU | W14: OBC | X14: MALE | CE14: =IFERROR(IF(I14="","",YEAR(I14)),"") -> 2000 | CF14: =IFERROR(IF(I14="","",MONTH(I14)),"") -> 1 | CG14: =IFERROR(IF(I14="","",DAY(I14)),"") -> 17 | CH14: =IF(CE14=1961,"NINETEEN SIXTY ONE",IF(CE14=1962,"NINETEEN SIXTY TWO",IF(CE14=1963,"NINETEEN SIXTY THREE",IF(CE14=1964,"NINETEEN SIXTY FOUR",IF(CE14=1965,"NINETEEN SIXTY FIVE",IF(CE14=1966,"NINETEEN SIXTY SIX",IF(CE14=1967,"NINETEEN SIXTY SEVEN",IF(CE14=1968,"NINETEEN SIXTY EIGHT",IF(CE14=1969,"NINETEEN SIXTY NINE",IF(CE14=1970,"NINETEEN SEVENTY",IF(CE14=1971,"NINETEEN SEVENTY ONE",IF(CE14=1972,"NINETEEN SEVENTY TWO",IF(CE14=1973,"NINETEEN SEVENTY THREE",IF(CE14=1974,"NINETEEN SEVENTY FOUR",IF(CE14=1975,"NINETEEN SEVENTY FIVE",IF(CE14=1976,"NINETEEN SEVENTY SIX",IF(CE14=1977,"NINETEEN SEVENTY SEVEN",IF(CE14=1978,"NINETEEN SEVENTY EIGHT",IF(CE14=1979,"NINETEEN SEVENTY NINE",IF(CE14=1980,"NINETEEN EIGHTY",IF(CE14=1981,"NINETEEN EIGHTY ONE",IF(CE14=1982,"NINETEEN EIGHTY TWO",IF(CE14=1983,"NINETEEN EIGHTY THREE",IF(CE14=1984,"NINETEEN EIGHTY FOUR",IF(CE14=1985,"NINETEEN EIGHTY FIVE",IF(CE14=1986,"NINETEEN EIGHTY SIX",IF(CE14=1987,"NINETEEN EIGHTY SEVEN",IF(CE14=1988,"NINETEEN EIGHTY EIGHT",IF(CE14=1989,"NINETEEN EIGHTY NINE",IF(CE14=1990,"NINETEEN NINETY",IF(CE14=1991,"NINETEEN NINETY ONE",IF(CE14=1992,"NINETEEN NINETY TWO",IF(CE14=1993,"NINETEEN NINETY THREE",IF(CE14=1994,"NINETEEN NINETY FOUR",IF(CE14=1995,"NINETEEN NINETY FIVE",IF(CE14=1996,"NINETEEN NINETY SIX",IF(CE14=1997,"NINETEEN NINETY SEVEN",IF(CE14=1998,"NINETEEN NINETY EIGHT",IF(CE14=1999,"NINETEEN NINETY NINE",IF(CE14=2000,"TWO THOUSAND",IF(CE14=2001,"TWO THOUSAND ONE",IF(CE14=2002,"TWO THOUSAND TWO",IF(CE14=2003,"TWO THOUSAND THREE",IF(CE14=2004,"TWO THOUSAND FOUR",IF(CE14=2005,"TWO THOUSAND FIVE",IF(CE14=2006,"TWO THOUSAND SIX",IF(CE14=2007,"TWO THOUSAND SEVEN",IF(CE14=2008,"TWO THOUSAND EIGHT",IF(CE14=2009,"TWO THOUSAND NINE",IF(CE14=2010,"TWO THOUSAND TEN",IF(CE14=2011,"TWO THOUSAND ELEVEN",IF(CE14=2012,"TWO THOUSAND TWELVE",IF(CE14=2013,"TWO THOUSAND THIRTEEN",IF(CE14=2014,"TWO THOUSAND FOURTEEN",IF(CE14=2015,"TWO THOUSAND FIFTEEN",IF(CE14=2016,"TWO THOUSAND SIXTEEN",IF(CE14=2017,"TWO THOUSAND SEVENTEEN",IF(CE14=2018,"TWO THOUSAND EIGHTEEN",IF(CE14=2019,"TWO THOUSAND NINETEEN",IF(CE14=2020,"TWO THOUSAND TWENTY",IF(CE14=2021,"TWO THOUSAND TWENTY ONE",IF(CE14=2022,"TWO THOUSAND TWENTY TWO",IF(CE14=2023,"TWO THOUSAND TWENTY THREE",IF(CE14=2024,"TWO THOUSAND TWENTY FOUR",IF(CE14=2025,"TWO THOUSAND TWENTY FIVE",""))))))))))))))))))))))))))))))))))))))))))))))))))))))))))))))))) -> TWO THOUSAND | CI14: =IF(CF14=1,"JANUARY",IF(CF14=2,"FEBUARY", IF(CF14=3,"MARCH",IF(CF14=4,"APRIL",IF(CF14=5,"MAY",IF(CF14=6,"JUNE",IF(CF14=7,"JULY",IF(CF14=8,"AUGUST",IF(CF14=9,"SEPTEMBER",IF(CF14=10,"OCTOBER",IF(CF14=11,"NOVEMBER",IF(CF14=12,"DECEMBER","")))))))))))) -> JANUARY | CJ14: =IF(CG14=1,"1ST",IF(CG14=2,"2ND", IF(CG14=3,"3RD",IF(CG14=4,"FOURTH",IF(CG14=5,"FIFTH",IF(CG14=6,"SIXTH",IF(CG14=7,"7TH",IF(CG14=8,"8TH",IF(CG14=9,"9TH",IF(CG14=10,"10TH",IF(CG14=11,"11TH",IF(CG14=12,"12TH",IF(CG14=13,"13TH",IF(CG14=14,"14TH",IF(CG14=15,"FIFTEEN",IF(CG14=16,"SIXTEEN",IF(CG14=17,"SEVENTEEN",IF(CG14=18,"EIGHTEEN",IF(CG14=19,"NINETEEN",IF(CG14=20,"TWENTY",IF(CG14=21,"TWENTY FIRST",IF(CG14=22,"TWENTY SECOND",IF(CG14=23,"TWENTY THIRD",IF(CG14=24,"TWENTY FOURTH",IF(CG14=25,"TWENTY FIFTH",IF(CG14=26,"TWENTY SIX",IF(CG14=27,"TWENTY SEVEN",IF(CG14=28,"TWENTY EIGHT",IF(CG14=29,"TWENTY NINE",IF(CG14=30,"THIRTY",IF(CG14=31,"THIRTY FIRST",""))))))))))))))))))))))))))))))) -> SEVENTEEN | CK14: =IFERROR(IF(AND(CH14="",CI14="",CJ14=""),"",CONCATENATE(CI14," ",CJ14,", ",CH14)),"") -> JANUARY SEVENTEEN, TWO THOUSAND | CL14: =IF(F14="","",IF(F14="3rd Grade L-1","YES","")) | CM14: 9th | CR14: HISTORY | CV14: =IF(F14="","",IF(F14=$CN$6,"3rd Grade L-1",IF(F14=$CN$7,"3rd Grade L-2",IF(F14=$CN$8,"2nd Grade",IF(F14=$CN$9,"1st Grade (Lecturer)",IF(F14=$CN$10,"Lab. Ass.",IF(F14=$CN$11,"3rd Grade P.E.T.",""))))))) -> 3rd Grade P.E.T.
A15: =IFERROR(IF(AND(B15="",C15="",F15="",I15=""),"",A14+1),"") -> 10 | B15: fgkl | C15: po]p\ | D15: 123461 | E15: =IFERROR(VLOOKUP(D15,PEEO_SCHOOL,3,0),"") -> GUPS NO. 06 | F15: First_Grade_School_Lecturer | G15: HISTORY | I15: 31332 | J15: =IFERROR(IF(CK15="","",CK15),"") -> OCTOBER 12TH, NINETEEN EIGHTY FIVE | K15: =IFERROR(IF(OR($K$4="",B15="",A15="",I15=""),"",DATEDIF(I15,$K$4,"Y")),"") -> 37 | L15: =IFERROR(IF(OR($K$4="",B15="",A15="",I15=""),"",DATEDIF(I15,$K$4,"YM")),"") -> 0 | M15: =IFERROR(IF(OR($K$4="",B15="",A15="",I15=""),"",DATEDIF(I15,$K$4,"MD")),"") -> 19 | N15: PG | O15: 0.6 | P15: B.ed | Q15: 0.7 | T15: AJMER | U15: KISHANGARH | V15: HINDU | W15: GEN | X15: MALE | CE15: =IFERROR(IF(I15="","",YEAR(I15)),"") -> 1985 | CF15: =IFERROR(IF(I15="","",MONTH(I15)),"") -> 10 | CG15: =IFERROR(IF(I15="","",DAY(I15)),"") -> 12 | CH15: =IF(CE15=1961,"NINETEEN SIXTY ONE",IF(CE15=1962,"NINETEEN SIXTY TWO",IF(CE15=1963,"NINETEEN SIXTY THREE",IF(CE15=1964,"NINETEEN SIXTY FOUR",IF(CE15=1965,"NINETEEN SIXTY FIVE",IF(CE15=1966,"NINETEEN SIXTY SIX",IF(CE15=1967,"NINETEEN SIXTY SEVEN",IF(CE15=1968,"NINETEEN SIXTY EIGHT",IF(CE15=1969,"NINETEEN SIXTY NINE",IF(CE15=1970,"NINETEEN SEVENTY",IF(CE15=1971,"NINETEEN SEVENTY ONE",IF(CE15=1972,"NINETEEN SEVENTY TWO",IF(CE15=1973,"NINETEEN SEVENTY THREE",IF(CE15=1974,"NINETEEN SEVENTY FOUR",IF(CE15=1975,"NINETEEN SEVENTY FIVE",IF(CE15=1976,"NINETEEN SEVENTY SIX",IF(CE15=1977,"NINETEEN SEVENTY SEVEN",IF(CE15=1978,"NINETEEN SEVENTY EIGHT",IF(CE15=1979,"NINETEEN SEVENTY NINE",IF(CE15=1980,"NINETEEN EIGHTY",IF(CE15=1981,"NINETEEN EIGHTY ONE",IF(CE15=1982,"NINETEEN EIGHTY TWO",IF(CE15=1983,"NINETEEN EIGHTY THREE",IF(CE15=1984,"NINETEEN EIGHTY FOUR",IF(CE15=1985,"NINETEEN EIGHTY FIVE",IF(CE15=1986,"NINETEEN EIGHTY SIX",IF(CE15=1987,"NINETEEN EIGHTY SEVEN",IF(CE15=1988,"NINETEEN EIGHTY EIGHT",IF(CE15=1989,"NINETEEN EIGHTY NINE",IF(CE15=1990,"NINETEEN NINETY",IF(CE15=1991,"NINETEEN NINETY ONE",IF(CE15=1992,"NINETEEN NINETY TWO",IF(CE15=1993,"NINETEEN NINETY THREE",IF(CE15=1994,"NINETEEN NINETY FOUR",IF(CE15=1995,"NINETEEN NINETY FIVE",IF(CE15=1996,"NINETEEN NINETY SIX",IF(CE15=1997,"NINETEEN NINETY SEVEN",IF(CE15=1998,"NINETEEN NINETY EIGHT",IF(CE15=1999,"NINETEEN NINETY NINE",IF(CE15=2000,"TWO THOUSAND",IF(CE15=2001,"TWO THOUSAND ONE",IF(CE15=2002,"TWO THOUSAND TWO",IF(CE15=2003,"TWO THOUSAND THREE",IF(CE15=2004,"TWO THOUSAND FOUR",IF(CE15=2005,"TWO THOUSAND FIVE",IF(CE15=2006,"TWO THOUSAND SIX",IF(CE15=2007,"TWO THOUSAND SEVEN",IF(CE15=2008,"TWO THOUSAND EIGHT",IF(CE15=2009,"TWO THOUSAND NINE",IF(CE15=2010,"TWO THOUSAND TEN",IF(CE15=2011,"TWO THOUSAND ELEVEN",IF(CE15=2012,"TWO THOUSAND TWELVE",IF(CE15=2013,"TWO THOUSAND THIRTEEN",IF(CE15=2014,"TWO THOUSAND FOURTEEN",IF(CE15=2015,"TWO THOUSAND FIFTEEN",IF(CE15=2016,"TWO THOUSAND SIXTEEN",IF(CE15=2017,"TWO THOUSAND SEVENTEEN",IF(CE15=2018,"TWO THOUSAND EIGHTEEN",IF(CE15=2019,"TWO THOUSAND NINETEEN",IF(CE15=2020,"TWO THOUSAND TWENTY",IF(CE15=2021,"TWO THOUSAND TWENTY ONE",IF(CE15=2022,"TWO THOUSAND TWENTY TWO",IF(CE15=2023,"TWO THOUSAND TWENTY THREE",IF(CE15=2024,"TWO THOUSAND TWENTY FOUR",IF(CE15=2025,"TWO THOUSAND TWENTY FIVE",""))))))))))))))))))))))))))))))))))))))))))))))))))))))))))))))))) -> NINETEEN EIGHTY FIVE | CI15: =IF(CF15=1,"JANUARY",IF(CF15=2,"FEBUARY", IF(CF15=3,"MARCH",IF(CF15=4,"APRIL",IF(CF15=5,"MAY",IF(CF15=6,"JUNE",IF(CF15=7,"JULY",IF(CF15=8,"AUGUST",IF(CF15=9,"SEPTEMBER",IF(CF15=10,"OCTOBER",IF(CF15=11,"NOVEMBER",IF(CF15=12,"DECEMBER","")))))))))))) -> OCTOBER | CJ15: =IF(CG15=1,"1ST",IF(CG15=2,"2ND", IF(CG15=3,"3RD",IF(CG15=4,"FOURTH",IF(CG15=5,"FIFTH",IF(CG15=6,"SIXTH",IF(CG15=7,"7TH",IF(CG15=8,"8TH",IF(CG15=9,"9TH",IF(CG15=10,"10TH",IF(CG15=11,"11TH",IF(CG15=12,"12TH",IF(CG15=13,"13TH",IF(CG15=14,"14TH",IF(CG15=15,"FIFTEEN",IF(CG15=16,"SIXTEEN",IF(CG15=17,"SEVENTEEN",IF(CG15=18,"EIGHTEEN",IF(CG15=19,"NINETEEN",IF(CG15=20,"TWENTY",IF(CG15=21,"TWENTY FIRST",IF(CG15=22,"TWENTY SECOND",IF(CG15=23,"TWENTY THIRD",IF(CG15=24,"TWENTY FOURTH",IF(CG15=25,"TWENTY FIFTH",IF(CG15=26,"TWENTY SIX",IF(CG15=27,"TWENTY SEVEN",IF(CG15=28,"TWENTY EIGHT",IF(CG15=29,"TWENTY NINE",IF(CG15=30,"THIRTY",IF(CG15=31,"THIRTY FIRST",""))))))))))))))))))))))))))))))) -> 12TH | CK15: =IFERROR(IF(AND(CH15="",CI15="",CJ15=""),"",CONCATENATE(CI15," ",CJ15,", ",CH15)),"") -> OCTOBER 12TH, NINETEEN EIGHTY FIVE | CL15: =IF(F15="","",IF(F15="3rd Grade L-1","YES","")) | CM15: 10th | CR15: MATHEMATICS | CV15: =IF(F15="","",IF(F15=$CN$6,"3rd Grade L-1",IF(F15=$CN$7,"3rd Grade L-2",IF(F15=$CN$8,"2nd Grade",IF(F15=$CN$9,"1st Grade (Lecturer)",IF(F15=$CN$10,"Lab. Ass.",IF(F15=$CN$11,"3rd Grade P.E.T.",""))))))) -> 1st Grade (Lecturer)
A16: =IFERROR(IF(AND(B16="",C16="",F16="",I16=""),"",A15+1),"") -> 11 | B16: ram | C16: shyam | D16: 333333 | E16: =IFERROR(VLOOKUP(D16,PEEO_SCHOOL,3,0),"") -> GUPS NO. 01 | F16: First_Grade_School_Lecturer | G16: Compulsory Hindi | I16: 29950 | J16: =IFERROR(IF(CK16="","",CK16),"") -> DECEMBER THIRTY, NINETEEN EIGHTY ONE | K16: =IFERROR(IF(OR($K$4="",B16="",A16="",I16=""),"",DATEDIF(I16,$K$4,"Y")),"") -> 40 | L16: =IFERROR(IF(OR($K$4="",B16="",A16="",I16=""),"",DATEDIF(I16,$K$4,"YM")),"") -> 10 | M16: =IFERROR(IF(OR($K$4="",B16="",A16="",I16=""),"",DATEDIF(I16,$K$4,"MD")),"") -> 1 | N16: PG | O16: 0.84 | P16: B.ed | Q16: 0.7 | W16: ST | X16: FEMALE | CE16: =IFERROR(IF(I16="","",YEAR(I16)),"") -> 1981 | CF16: =IFERROR(IF(I16="","",MONTH(I16)),"") -> 12 | CG16: =IFERROR(IF(I16="","",DAY(I16)),"") -> 30 | CH16: =IF(CE16=1961,"NINETEEN SIXTY ONE",IF(CE16=1962,"NINETEEN SIXTY TWO",IF(CE16=1963,"NINETEEN SIXTY THREE",IF(CE16=1964,"NINETEEN SIXTY FOUR",IF(CE16=1965,"NINETEEN SIXTY FIVE",IF(CE16=1966,"NINETEEN SIXTY SIX",IF(CE16=1967,"NINETEEN SIXTY SEVEN",IF(CE16=1968,"NINETEEN SIXTY EIGHT",IF(CE16=1969,"NINETEEN SIXTY NINE",IF(CE16=1970,"NINETEEN SEVENTY",IF(CE16=1971,"NINETEEN SEVENTY ONE",IF(CE16=1972,"NINETEEN SEVENTY TWO",IF(CE16=1973,"NINETEEN SEVENTY THREE",IF(CE16=1974,"NINETEEN SEVENTY FOUR",IF(CE16=1975,"NINETEEN SEVENTY FIVE",IF(CE16=1976,"NINETEEN SEVENTY SIX",IF(CE16=1977,"NINETEEN SEVENTY SEVEN",IF(CE16=1978,"NINETEEN SEVENTY EIGHT",IF(CE16=1979,"NINETEEN SEVENTY NINE",IF(CE16=1980,"NINETEEN EIGHTY",IF(CE16=1981,"NINETEEN EIGHTY ONE",IF(CE16=1982,"NINETEEN EIGHTY TWO",IF(CE16=1983,"NINETEEN EIGHTY THREE",IF(CE16=1984,"NINETEEN EIGHTY FOUR",IF(CE16=1985,"NINETEEN EIGHTY FIVE",IF(CE16=1986,"NINETEEN EIGHTY SIX",IF(CE16=1987,"NINETEEN EIGHTY SEVEN",IF(CE16=1988,"NINETEEN EIGHTY EIGHT",IF(CE16=1989,"NINETEEN EIGHTY NINE",IF(CE16=1990,"NINETEEN NINETY",IF(CE16=1991,"NINETEEN NINETY ONE",IF(CE16=1992,"NINETEEN NINETY TWO",IF(CE16=1993,"NINETEEN NINETY THREE",IF(CE16=1994,"NINETEEN NINETY FOUR",IF(CE16=1995,"NINETEEN NINETY FIVE",IF(CE16=1996,"NINETEEN NINETY SIX",IF(CE16=1997,"NINETEEN NINETY SEVEN",IF(CE16=1998,"NINETEEN NINETY EIGHT",IF(CE16=1999,"NINETEEN NINETY NINE",IF(CE16=2000,"TWO THOUSAND",IF(CE16=2001,"TWO THOUSAND ONE",IF(CE16=2002,"TWO THOUSAND TWO",IF(CE16=2003,"TWO THOUSAND THREE",IF(CE16=2004,"TWO THOUSAND FOUR",IF(CE16=2005,"TWO THOUSAND FIVE",IF(CE16=2006,"TWO THOUSAND SIX",IF(CE16=2007,"TWO THOUSAND SEVEN",IF(CE16=2008,"TWO THOUSAND EIGHT",IF(CE16=2009,"TWO THOUSAND NINE",IF(CE16=2010,"TWO THOUSAND TEN",IF(CE16=2011,"TWO THOUSAND ELEVEN",IF(CE16=2012,"TWO THOUSAND TWELVE",IF(CE16=2013,"TWO THOUSAND THIRTEEN",IF(CE16=2014,"TWO THOUSAND FOURTEEN",IF(CE16=2015,"TWO THOUSAND FIFTEEN",IF(CE16=2016,"TWO THOUSAND SIXTEEN",IF(CE16=2017,"TWO THOUSAND SEVENTEEN",IF(CE16=2018,"TWO THOUSAND EIGHTEEN",IF(CE16=2019,"TWO THOUSAND NINETEEN",IF(CE16=2020,"TWO THOUSAND TWENTY",IF(CE16=2021,"TWO THOUSAND TWENTY ONE",IF(CE16=2022,"TWO THOUSAND TWENTY TWO",IF(CE16=2023,"TWO THOUSAND TWENTY THREE",IF(CE16=2024,"TWO THOUSAND TWENTY FOUR",IF(CE16=2025,"TWO THOUSAND TWENTY FIVE",""))))))))))))))))))))))))))))))))))))))))))))))))))))))))))))))))) -> NINETEEN EIGHTY ONE | CI16: =IF(CF16=1,"JANUARY",IF(CF16=2,"FEBUARY", IF(CF16=3,"MARCH",IF(CF16=4,"APRIL",IF(CF16=5,"MAY",IF(CF16=6,"JUNE",IF(CF16=7,"JULY",IF(CF16=8,"AUGUST",IF(CF16=9,"SEPTEMBER",IF(CF16=10,"OCTOBER",IF(CF16=11,"NOVEMBER",IF(CF16=12,"DECEMBER","")))))))))))) -> DECEMBER | CJ16: =IF(CG16=1,"1ST",IF(CG16=2,"2ND", IF(CG16=3,"3RD",IF(CG16=4,"FOURTH",IF(CG16=5,"FIFTH",IF(CG16=6,"SIXTH",IF(CG16=7,"7TH",IF(CG16=8,"8TH",IF(CG16=9,"9TH",IF(CG16=10,"10TH",IF(CG16=11,"11TH",IF(CG16=12,"12TH",IF(CG16=13,"13TH",IF(CG16=14,"14TH",IF(CG16=15,"FIFTEEN",IF(CG16=16,"SIXTEEN",IF(CG16=17,"SEVENTEEN",IF(CG16=18,"EIGHTEEN",IF(CG16=19,"NINETEEN",IF(CG16=20,"TWENTY",IF(CG16=21,"TWENTY FIRST",IF(CG16=22,"TWENTY SECOND",IF(CG16=23,"TWENTY THIRD",IF(CG16=24,"TWENTY FOURTH",IF(CG16=25,"TWENTY FIFTH",IF(CG16=26,"TWENTY SIX",IF(CG16=27,"TWENTY SEVEN",IF(CG16=28,"TWENTY EIGHT",IF(CG16=29,"TWENTY NINE",IF(CG16=30,"THIRTY",IF(CG16=31,"THIRTY FIRST",""))))))))))))))))))))))))))))))) -> THIRTY | CK16: =IFERROR(IF(AND(CH16="",CI16="",CJ16=""),"",CONCATENATE(CI16," ",CJ16,", ",CH16)),"") -> DECEMBER THIRTY, NINETEEN EIGHTY ONE | CL16: =IF(F16="","",IF(F16="3rd Grade L-1","YES","")) | CM16: 11th | CR16: PHILOSOPHY | CV16: =IF(F16="","",IF(F16=$CN$6,"3rd Grade L-1",IF(F16=$CN$7,"3rd Grade L-2",IF(F16=$CN$8,"2nd Grade",IF(F16=$CN$9,"1st Grade (Lecturer)",IF(F16=$CN$10,"Lab. Ass.",IF(F16=$CN$11,"3rd Grade P.E.T.",""))))))) -> 1st Grade (Lecturer)
