Workbook
Name AJMER: DETAIL!$AB$7:$AB$18
Name ALWAR: DETAIL!$AC$7:$AC$23
Name BANSWARA: DETAIL!$AD$7:$AD$18
Name BARAN: DETAIL!$AE$7:$AE$15
Name BARMER: DETAIL!$AF$7:$AF$28
Name BHARATPUR: DETAIL!$AG$7:$AG$19
Name BHILWARA: DETAIL!$AH$7:$AH$21
Name BIKANER: DETAIL!$AI$7:$AI$17
Name BUNDI: DETAIL!$AJ$7:$AJ$12
Name CHITTORGARH: DETAIL!$AK$7:$AK$18
Name CHURU: DETAIL!$AL$7:$AL$14
Name class: 'DATA ENTRY'!$CM$6:$CM$17
Name code: 'School Profile'!$C$22:$C$37
Name DAUSA: DETAIL!$AM$7:$AM$18
Name DHOLPUR: DETAIL!$AN$7:$AN$13
Name DIST.: DETAIL!$Z$7:$Z$39
Name DUNGARPUR: DETAIL!$AO$7:$AO$17
Name First_Grade_School_Lecturer: 'DATA ENTRY'!$CR$6:$CR$69
Name HANUMANGARH: DETAIL!$AP$7:$AP$14
Name HLJ: 'DATA ENTRY'!$A$6:$AN$201
Name JAIPUR: DETAIL!$AQ$7:$AQ$29
Name JAISALMER: DETAIL!$AR$7:$AR$15
Name JALORE: DETAIL!$AS$7:$AS$17
Name JHALAWAR: DETAIL!$AT$7:$AT$15
Name JHUNJHUNU: DETAIL!$AU$7:$AU$18
Name JODHPUR: DETAIL!$AV$7:$AV$29
Name KARAULI: DETAIL!$AW$7:$AW$15
Name KOTA: DETAIL!$AX$7:$AX$12
Name Lab_Ass: 'DATA ENTRY'!$CS$6
Name letter: 'subjectwise Merit list'!$A$8:$S$22
Name MKPIC: INDEX('DATA ENTRY'!$AN$6:$AN$201,MATCH(#REF!,'DATA ENTRY'!$A$6:$A$201,0))
Name NAGOUR: DETAIL!$AY$7:$AY$22
Name PALI: DETAIL!$AZ$7:$AZ$17
Name PEEO_SCHOOL: 'School Profile'!$C$22:$G$37
Name Pic_1: INDEX('DATA ENTRY'!$AN$6:$AN$203,MATCH(#REF!,'DATA ENTRY'!$A$6:$A$203,0))
Name Pic_2: INDEX('DATA ENTRY'!$AN$6:$AN$203,MATCH(#REF!,'DATA ENTRY'!$A$6:$A$203,0))
Name Pic_3: INDEX('DATA ENTRY'!$AN$6:$AN$203,MATCH(#REF!,'DATA ENTRY'!$A$6:$A$203,0))
Name Pic_4: INDEX('DATA ENTRY'!$AN$6:$AN$203,MATCH(#REF!,'DATA ENTRY'!$A$6:$A$203,0))
Name Pic_5: INDEX('DATA ENTRY'!$AN$6:$AN$203,MATCH(#REF!,'DATA ENTRY'!$A$6:$A$203,0))
Name Pic_6: INDEX('DATA ENTRY'!$AN$6:$AN$203,MATCH(#REF!,'DATA ENTRY'!$A$6:$A$203,0))
Name PICTURE: INDEX('DATA ENTRY'!AF2:AF1502,MATCH(#REF!,'DATA ENTRY'!XEQ2:XEQ1502,0))
Name PRATAPGARH: DETAIL!$BA$7:$BA$15
Name RAJSAMAND: DETAIL!$BB$7:$BB$15
Name SAWAI_MADHOPUR: DETAIL!$BC$7:$BC$14
Name schoolwise: DETAIL!$DA$7:$DS$211
Name Second_Grade: 'DATA ENTRY'!$CQ$6:$CQ$12
Name selection: DETAIL!$BZ$7:$CQ$211
Name SIKAR: DETAIL!$BD$7:$BD$19
Name SIROHI: DETAIL!$BE$7:$BE$14
Name SRI_GANGANAGAR: DETAIL!$BF$7:$BF$16
Name subject: 'DATA ENTRY'!$CN$6:$CN$11
Name subjectwise: DETAIL!$EA$7:$ES$211
Name Third_Grade_L1: 'DATA ENTRY'!$CO$6
Name Third_Grade_L2: 'DATA ENTRY'!$CP$6:$CP$13
Name Third_Grade_PET: 'DATA ENTRY'!$CT$6
Name TONK: DETAIL!$BG$7:$BG$14
Name UDAIPUR: DETAIL!$BH$7:$BH$27

Sheet School Profile
C3: School Profile
C5: PEEO School Name :- | E5: महात्मा गाँधी राजकीय विद्यालय (अंग्रेजी माध्यम ) बर , पाली
C7: School General Information
C9: District Name :- | E9: PALI | G9: Block Name :- | I9: RAIPUR | L9: जय गुरुदेव वासुदेव जी महाराज
C11: Shala Darpan NIC ID :- | E11: 123456 | G11: U-DISE Code :- | I11: 8200303101
C13: Principal Name :- | E13: USHA PALIYA | G13: Principal Mobile No. :- | L13: Prepared By
L14: Heeralal Jat
C15: SSY Incharge :- | E15: HEERALAL JAT | G15: Incharge Mob. No.:- | L15: Sr. Teacher , Excel Programmer
L16: MGGS Bar , PALI
L17: V./P. - Chandawal Nagar , Sojat (PALI)
C19: पीईईओ अधिनस्थ आने वाले विद्यालयों की सूची
C21: शाला दर्पण की NIC आई. डी. | E21: विद्यालय का नाम
C22: 333333 | E22: GUPS NO. 01
C23: 123457 | E23: GUPS NO. 02
C24: 123458 | E24: GUPS NO. 03
C25: 123459 | E25: GUPS NO. 04
C26: 123460 | E26: GUPS NO. 05
C27: 123461 | E27: GUPS NO. 06
C28: 123462 | E28: GUPS NO. 07
C29: 123463 | E29: GUPS NO. 08 | L29: Sheet Password
C30: 123464 | E30: GUPS NO. 09 | L30: Shala@sambal
C31: 123465 | E31: GUPS NO. 10
C32: 123466 | E32: GUPS NO. 11 | I32: You Tube Channel | L32: Watch the You Tube Video For More Information.
C33: 123467 | E33: GUPS NO. 12 | I33: https://www.youtube.com/c/Heeralaljat/
C34: 123468 | E34: GUPS NO. 13 | L34: https://youtu.be/jJaILnAsZGc
C35: 123469 | E35: GUPS NO. 14
C36: 123470 | E36: GUPS NO. 15
C37: 123471 | E37: GUPS NO. 16

Sheet DATA ENTRY
A1: =IF('School Profile'!E5="","",'School Profile'!E5) -> महात्मा गाँधी राजकीय विद्यालय (अंग्रेजी माध्यम ) बर , पाली
B3: https://youtu.be/jJaILnAsZGc
A4: S.No. | B4: NAME OF CANDIDATE | C4: FATHER’S NAME | D4: आवेदित विद्यालय का शाला दर्पण कोड | E4: आवेदित विद्यालय का नाम | F4: आवेदित पद का नाम | G4: आवेदित पद का विषय | H4: आवेदन प्रस्तुत करने की दिनांक | I4: DATE OF BIRTH DD/MM/YYYY | J4: DATE OF BIRTH IN WORDS | K4: 44866 | V4: RELIGION | W4: CATEGORY | X4: GENDER (Male/Female) | Y4: CORRESPONDING ADDRESS | Z4: PERMANENT ADDRESS | AA4: CONTACT Mob. NO. | AB4: Whats App NO. | AC4: EMAIL I.D. | AD4: AADHAR No. | AE4: Family JAN- AADHAR ID | AF4: Disability STATUS (yes/No) | AG4: If Yes, type of disability | AH4: CO-CURRICULAR ACTIVITIES | AI4: SPORTS CERTIFICATE | AJ4: BANK ACCOUNT DETAIL | AN4: OTHER
K5: Years | L5: Month | M5: Day | N5: जिस पद के लिए आवेदन किया उस पद हेतु वांछित शैक्षणिक योग्यता | O5: Percentage | P5: प्रशैक्षणिक योग्यता | Q5: Percentage | R5: REET उत्तीर्णता वर्ष (आवश्यक होने पर लिखे) | S5: REET परीक्षा के प्रतिशत | T5: जिस जिले के लिए आवेदन किया जा रहा है, वो जिला सलेक्ट करे | U5: जिस तहसील के लिए आवेदन किया जा रहा है, वो तहसील सलेक्ट करे | AH5: (NCC/NSS/ SCOUT/GUIDE/ CUB/ BULBUL) | AI5: (National/State/ District level) | AJ5: Name of Bank | AK5: Branch | AL5: IFSC Code | AM5: Account No. | BV5: GEN | BW5: MALE | BX5: NCC | BY5: NATIONAL | BZ5: YES | CA5: PASSED | CB5: HINDU | CC5: Govt. | CO5: Third_Grade_L1 | CP5: Third_Grade_L2 | CQ5: Second_Grade | CR5: First_Grade_School_Lecturer | CS5: Lab_Ass | CT5: Third_Grade_PET
A6: =IFERROR(IF(AND(B6="",C6="",F6="",I6=""),"",1),"") -> 1 | B6: JHHG | C6: KJJKJ | D6: 333333 | E6: =IFERROR(VLOOKUP(D6,PEEO_SCHOOL,3,0),"") -> GUPS NO. 01 | F6: Third_Grade_L1 | G6: NA | I6: 31179 | J6: =IFERROR(IF(CK6="","",CK6),"") -> MAY 12TH, NINETEEN EIGHTY FIVE | K6: =IFERROR(IF(OR($K$4="",B6="",A6="",I6=""),"",DATEDIF(I6,$K$4,"Y")),"") -> 37 | L6: =IFERROR(IF(OR($K$4="",B6="",A6="",I6=""),"",DATEDIF(I6,$K$4,"YM")),"") -> 5 | M6: =IFERROR(IF(OR($K$4="",B6="",A6="",I6=""),"",DATEDIF(I6,$K$4,"MD")),"") -> 19 | N6: 12th | O6: 0.7 | P6: B.S.T.C. (D.EI.Ed.) | Q6: 0.8 | R6: 2016 | S6: 0.75 | T6: PALI | U6: RAIPUR | V6: HINDU | W6: GEN | X6: MALE | Y6: V./P. = ………….. TEH. = …………… DIST. = …………… | Z6: H.NO. = ………… COLONEY = …………….. BLOCK = …………… DIST. = ………………. | AA6: 1313131313 | AB6: 2121212121 | AC6: excelguru@gmail.com | AD6: 123465471475 | AE6: 1234567891 | AF6: NO | AH6: NA | AI6: NA | AJ6: SBI | AK6: BAR | AL6: SBIN0012345 | AM6: 121212121212121 | BV6: ST | BW6: TRANSGENDER | BX6: NSS | BY6: STATE | BZ6: NO | CA6: Fail | CB6: MUSLIM | CC6: KV | CE6: =IFERROR(IF(I6="","",YEAR(I6)),"") -> 1985 | CF6: =IFERROR(IF(I6="","",MONTH(I6)),"") -> 5 | CG6: =IFERROR(IF(I6="","",DAY(I6)),"") -> 12 | CH6: =IF(CE6=1961,"NINETEEN SIXTY ONE",IF(CE6=1962,"NINETEEN SIXTY TWO",IF(CE6=1963,"NINETEEN SIXTY THREE",IF(CE6=1964,"NINETEEN SIXTY FOUR",IF(CE6=1965,"NINETEEN SIXTY FIVE",IF(CE6=1966,"NINETEEN SIXTY SIX",IF(CE6=1967,"NINETEEN SIXTY SEVEN",IF(CE6=1968,"NINETEEN SIXTY EIGHT",IF(CE6=1969,"NINETEEN SIXTY NINE",IF(CE6=1970,"NINETEEN SEVENTY",IF(CE6=1971,"NINETEEN SEVENTY ONE",IF(CE6=1972,"NINETEEN SEVENTY TWO",IF(CE6=1973,"NINETEEN SEVENTY THREE",IF(CE6=1974,"NINETEEN SEVENTY FOUR",IF(CE6=1975,"NINETEEN SEVENTY FIVE",IF(CE6=1976,"NINETEEN SEVENTY SIX",IF(CE6=1977,"NINETEEN SEVENTY SEVEN",IF(CE6=1978,"NINETEEN SEVENTY EIGHT",IF(CE6=1979,"NINETEEN SEVENTY NINE",IF(CE6=1980,"NINETEEN EIGHTY",IF(CE6=1981,"NINETEEN EIGHTY ONE",IF(CE6=1982,"NINETEEN EIGHTY TWO",IF(CE6=1983,"NINETEEN EIGHTY THREE",IF(CE6=1984,"NINETEEN EIGHTY FOUR",IF(CE6=1985,"NINETEEN EIGHTY FIVE",IF(CE6=1986,"NINETEEN EIGHTY SIX",IF(CE6=1987,"NINETEEN EIGHTY SEVEN",IF(CE6=1988,"NINETEEN EIGHTY EIGHT",IF(CE6=1989,"NINETEEN EIGHTY NINE",IF(CE6=1990,"NINETEEN NINETY",IF(CE6=1991,"NINETEEN NINETY ONE",IF(CE6=1992,"NINETEEN NINETY TWO",IF(CE6=1993,"NINETEEN NINETY THREE",IF(CE6=1994,"NINETEEN NINETY FOUR",IF(CE6=1995,"NINETEEN NINETY FIVE",IF(CE6=1996,"NINETEEN NINETY SIX",IF(CE6=1997,"NINETEEN NINETY SEVEN",IF(CE6=1998,"NINETEEN NINETY EIGHT",IF(CE6=1999,"NINETEEN NINETY NINE",IF(CE6=2000,"TWO THOUSAND",IF(CE6=2001,"TWO THOUSAND ONE",IF(CE6=2002,"TWO THOUSAND TWO",IF(CE6=2003,"TWO THOUSAND THREE",IF(CE6=2004,"TWO THOUSAND FOUR",IF(CE6=2005,"TWO THOUSAND FIVE",IF(CE6=2006,"TWO THOUSAND SIX",IF(CE6=2007,"TWO THOUSAND SEVEN",IF(CE6=2008,"TWO THOUSAND EIGHT",IF(CE6=2009,"TWO THOUSAND NINE",IF(CE6=2010,"TWO THOUSAND TEN",IF(CE6=2011,"TWO THOUSAND ELEVEN",IF(CE6=2012,"TWO THOUSAND TWELVE",IF(CE6=2013,"TWO THOUSAND THIRTEEN",IF(CE6=2014,"TWO THOUSAND FOURTEEN",IF(CE6=2015,"TWO THOUSAND FIFTEEN",IF(CE6=2016,"TWO THOUSAND SIXTEEN",IF(CE6=2017,"TWO THOUSAND SEVENTEEN",IF(CE6=2018,"TWO THOUSAND EIGHTEEN",IF(CE6=2019,"TWO THOUSAND NINETEEN",IF(CE6=2020,"TWO THOUSAND TWENTY",IF(CE6=2021,"TWO THOUSAND TWENTY ONE",IF(CE6=2022,"TWO THOUSAND TWENTY TWO",IF(CE6=2023,"TWO THOUSAND TWENTY THREE",IF(CE6=2024,"TWO THOUSAND TWENTY FOUR",IF(CE6=2025,"TWO THOUSAND TWENTY FIVE",""))))))))))))))))))))))))))))))))))))))))))))))))))))))))))))))))) -> NINETEEN EIGHTY FIVE | CI6: =IF(CF6=1,"JANUARY",IF(CF6=2,"FEBUARY", IF(CF6=3,"MARCH",IF(CF6=4,"APRIL",IF(CF6=5,"MAY",IF(CF6=6,"JUNE",IF(CF6=7,"JULY",IF(CF6=8,"AUGUST",IF(CF6=9,"SEPTEMBER",IF(CF6=10,"OCTOBER",IF(CF6=11,"NOVEMBER",IF(CF6=12,"DECEMBER","")))))))))))) -> MAY | CJ6: =IF(CG6=1,"1ST",IF(CG6=2,"2ND", IF(CG6=3,"3RD",IF(CG6=4,"FOURTH",IF(CG6=5,"FIFTH",IF(CG6=6,"SIXTH",IF(CG6=7,"7TH",IF(CG6=8,"8TH",IF(CG6=9,"9TH",IF(CG6=10,"10TH",IF(CG6=11,"11TH",IF(CG6=12,"12TH",IF(CG6=13,"13TH",IF(CG6=14,"14TH",IF(CG6=15,"FIFTEEN",IF(CG6=16,"SIXTEEN",IF(CG6=17,"SEVENTEEN",IF(CG6=18,"EIGHTEEN",IF(CG6=19,"NINETEEN",IF(CG6=20,"TWENTY",IF(CG6=21,"TWENTY FIRST",IF(CG6=22,"TWENTY SECOND",IF(CG6=23,"TWENTY THIRD",IF(CG6=24,"TWENTY FOURTH",IF(CG6=25,"TWENTY FIFTH",IF(CG6=26,"TWENTY SIX",IF(CG6=27,"TWENTY SEVEN",IF(CG6=28,"TWENTY EIGHT",IF(CG6=29,"TWENTY NINE",IF(CG6=30,"THIRTY",IF(CG6=31,"THIRTY FIRST",""))))))))))))))))))))))))))))))) -> 12TH | CK6: =IFERROR(IF(AND(CH6="",CI6="",CJ6=""),"",CONCATENATE(CI6," ",CJ6,", ",CH6)),"") -> MAY 12TH, NINETEEN EIGHTY FIVE | CL6: =IF(F6="","",IF(OR(F6="3rd Grade L-2",F6="2nd Grade",F6="1st Grade (Lecturer)",F6="Lab. Ass.",F6="3rd Grade P.E.T."),"YES","")) | CM6: 1st | CN6: Third_Grade_L1 | CO6: NA | CP6: Hindi | CQ6: Hindi | CR6: ACCOUNTANCY | CS6: NA | CT6: NA | CV6: =IF(F6="","",IF(F6=$CN$6,"3rd Grade L-1",IF(F6=$CN$7,"3rd Grade L-2",IF(F6=$CN$8,"2nd Grade",IF(F6=$CN$9,"1st Grade (Lecturer)",IF(F6=$CN$10,"Lab. Ass.",IF(F6=$CN$11,"3rd Grade P.E.T.",""))))))) -> 3rd Grade L-1
A7: =IFERROR(IF(AND(B7="",C7="",F7="",I7=""),"",A6+1),"") -> 2 | B7: HHJHJH | C7: KJKJJJ | D7: 123460 | E7: =IFERROR(VLOOKUP(D7,PEEO_SCHOOL,3,0),"") -> GUPS NO. 05 | F7: Third_Grade_L1 | G7: NA | I7: 31331 | J7: =IFERROR(IF(CK7="","",CK7),"") -> OCTOBER 11TH, NINETEEN EIGHTY FIVE | K7: =IFERROR(IF(OR($K$4="",B7="",A7="",I7=""),"",DATEDIF(I7,$K$4,"Y")),"") -> 37 | L7: =IFERROR(IF(OR($K$4="",B7="",A7="",I7=""),"",DATEDIF(I7,$K$4,"YM")),"") -> 0 | M7: =IFERROR(IF(OR($K$4="",B7="",A7="",I7=""),"",DATEDIF(I7,$K$4,"MD")),"") -> 20 | N7: 12th | O7: 0.74 | P7: B.S.T.C. (D.EI.Ed.) | Q7: 0.81 | R7: 2015 | S7: 0.74 | T7: JODHPUR | U7: BILARA | V7: HINDU | W7: ST | X7: MALE | AE7: 2222222222 | AF7: YES | AG7: bd | BV7: SC | BX7: SCOUT | BY7: DISTRICT | CA7: STUDYING | CB7: SIKKH | CC7: JNV | CE7: =IFERROR(IF(I7="","",YEAR(I7)),"") -> 1985 | CF7: =IFERROR(IF(I7="","",MONTH(I7)),"") -> 10 | CG7: =IFERROR(IF(I7="","",DAY(I7)),"") -> 11 | CH7: =IF(CE7=1961,"NINETEEN SIXTY ONE",IF(CE7=1962,"NINETEEN SIXTY TWO",IF(CE7=1963,"NINETEEN SIXTY THREE",IF(CE7=1964,"NINETEEN SIXTY FOUR",IF(CE7=1965,"NINETEEN SIXTY FIVE",IF(CE7=1966,"NINETEEN SIXTY SIX",IF(CE7=1967,"NINETEEN SIXTY SEVEN",IF(CE7=1968,"NINETEEN SIXTY EIGHT",IF(CE7=1969,"NINETEEN SIXTY NINE",IF(CE7=1970,"NINETEEN SEVENTY",IF(CE7=1971,"NINETEEN SEVENTY ONE",IF(CE7=1972,"NINETEEN SEVENTY TWO",IF(CE7=1973,"NINETEEN SEVENTY THREE",IF(CE7=1974,"NINETEEN SEVENTY FOUR",IF(CE7=1975,"NINETEEN SEVENTY FIVE",IF(CE7=1976,"NINETEEN SEVENTY SIX",IF(CE7=1977,"NINETEEN SEVENTY SEVEN",IF(CE7=1978,"NINETEEN SEVENTY EIGHT",IF(CE7=1979,"NINETEEN SEVENTY NINE",IF(CE7=1980,"NINETEEN EIGHTY",IF(CE7=1981,"NINETEEN EIGHTY ONE",IF(CE7=1982,"NINETEEN EIGHTY TWO",IF(CE7=1983,"NINETEEN EIGHTY THREE",IF(CE7=1984,"NINETEEN EIGHTY FOUR",IF(CE7=1985,"NINETEEN EIGHTY FIVE",IF(CE7=1986,"NINETEEN EIGHTY SIX",IF(CE7=1987,"NINETEEN EIGHTY SEVEN",IF(CE7=1988,"NINETEEN EIGHTY EIGHT",IF(CE7=1989,"NINETEEN EIGHTY NINE",IF(CE7=1990,"NINETEEN NINETY",IF(CE7=1991,"NINETEEN NINETY ONE",IF(CE7=1992,"NINETEEN NINETY TWO",IF(CE7=1993,"NINETEEN NINETY THREE",IF(CE7=1994,"NINETEEN NINETY FOUR",IF(CE7=1995,"NINETEEN NINETY FIVE",IF(CE7=1996,"NINETEEN NINETY SIX",IF(CE7=1997,"NINETEEN NINETY SEVEN",IF(CE7=1998,"NINETEEN NINETY EIGHT",IF(CE7=1999,"NINETEEN NINETY NINE",IF(CE7=2000,"TWO THOUSAND",IF(CE7=2001,"TWO THOUSAND ONE",IF(CE7=2002,"TWO THOUSAND TWO",IF(CE7=2003,"TWO THOUSAND THREE",IF(CE7=2004,"TWO THOUSAND FOUR",IF(CE7=2005,"TWO THOUSAND FIVE",IF(CE7=2006,"TWO THOUSAND SIX",IF(CE7=2007,"TWO THOUSAND SEVEN",IF(CE7=2008,"TWO THOUSAND EIGHT",IF(CE7=2009,"TWO THOUSAND NINE",IF(CE7=2010,"TWO THOUSAND TEN",IF(CE7=2011,"TWO THOUSAND ELEVEN",IF(CE7=2012,"TWO THOUSAND TWELVE",IF(CE7=2013,"TWO THOUSAND THIRTEEN",IF(CE7=2014,"TWO THOUSAND FOURTEEN",IF(CE7=2015,"TWO THOUSAND FIFTEEN",IF(CE7=2016,"TWO THOUSAND SIXTEEN",IF(CE7=2017,"TWO THOUSAND SEVENTEEN",IF(CE7=2018,"TWO THOUSAND EIGHTEEN",IF(CE7=2019,"TWO THOUSAND NINETEEN",IF(CE7=2020,"TWO THOUSAND TWENTY",IF(CE7=2021,"TWO THOUSAND TWENTY ONE",IF(CE7=2022,"TWO THOUSAND TWENTY TWO",IF(CE7=2023,"TWO THOUSAND TWENTY THREE",IF(CE7=2024,"TWO THOUSAND TWENTY FOUR",IF(CE7=2025,"TWO THOUSAND TWENTY FIVE",""))))))))))))))))))))))))))))))))))))))))))))))))))))))))))))))))) -> NINETEEN EIGHTY FIVE | CI7: =IF(CF7=1,"JANUARY",IF(CF7=2,"FEBUARY", IF(CF7=3,"MARCH",IF(CF7=4,"APRIL",IF(CF7=5,"MAY",IF(CF7=6,"JUNE",IF(CF7=7,"JULY",IF(CF7=8,"AUGUST",IF(CF7=9,"SEPTEMBER",IF(CF7=10,"OCTOBER",IF(CF7=11,"NOVEMBER",IF(CF7=12,"DECEMBER","")))))))))))) -> OCTOBER | CJ7: =IF(CG7=1,"1ST",IF(CG7=2,"2ND", IF(CG7=3,"3RD",IF(CG7=4,"FOURTH",IF(CG7=5,"FIFTH",IF(CG7=6,"SIXTH",IF(CG7=7,"7TH",IF(CG7=8,"8TH",IF(CG7=9,"9TH",IF(CG7=10,"10TH",IF(CG7=11,"11TH",IF(CG7=12,"12TH",IF(CG7=13,"13TH",IF(CG7=14,"14TH",IF(CG7=15,"FIFTEEN",IF(CG7=16,"SIXTEEN",IF(CG7=17,"SEVENTEEN",IF(CG7=18,"EIGHTEEN",IF(CG7=19,"NINETEEN",IF(CG7=20,"TWENTY",IF(CG7=21,"TWENTY FIRST",IF(CG7=22,"TWENTY SECOND",IF(CG7=23,"TWENTY THIRD",IF(CG7=24,"TWENTY FOURTH",IF(CG7=25,"TWENTY FIFTH",IF(CG7=26,"TWENTY SIX",IF(CG7=27,"TWENTY SEVEN",IF(CG7=28,"TWENTY EIGHT",IF(CG7=29,"TWENTY NINE",IF(CG7=30,"THIRTY",IF(CG7=31,"THIRTY FIRST",""))))))))))))))))))))))))))))))) -> 11TH | CK7: =IFERROR(IF(AND(CH7="",CI7="",CJ7=""),"",CONCATENATE(CI7," ",CJ7,", ",CH7)),"") -> OCTOBER 11TH, NINETEEN EIGHTY FIVE | CL7: =IF(F7="","",IF(F7="3rd Grade L-1","YES","")) | CM7: 2nd | CN7: Third_Grade_L2 | CP7: English | CQ7: English | CR7: BUSINESS STUDIES | CV7: =IF(F7="","",IF(F7=$CN$6,"3rd Grade L-1",IF(F7=$CN$7,"3rd Grade L-2",IF(F7=$CN$8,"2nd Grade",IF(F7=$CN$9,"1st Grade (Lecturer)",IF(F7=$CN$10,"Lab. Ass.",IF(F7=$CN$11,"3rd Grade P.E.T.",""))))))) -> 3rd Grade L-1
A8: =IFERROR(IF(AND(B8="",C8="",F8="",I8=""),"",A7+1),"") -> 3 | B8: GGHG | C8: DSGF | D8: 333333 | E8: =IFERROR(VLOOKUP(D8,PEEO_SCHOOL,3,0),"") -> GUPS NO. 01 | F8: Third_Grade_L1 | G8: NA | I8: 29587 | J8: =IFERROR(IF(CK8="","",CK8),"") -> JANUARY 1ST, NINETEEN EIGHTY ONE | K8: =IFERROR(IF(OR($K$4="",B8="",A8="",I8=""),"",DATEDIF(I8,$K$4,"Y")),"") -> 41 | L8: =IFERROR(IF(OR($K$4="",B8="",A8="",I8=""),"",DATEDIF(I8,$K$4,"YM")),"") -> 10 | M8: =IFERROR(IF(OR($K$4="",B8="",A8="",I8=""),"",DATEDIF(I8,$K$4,"MD")),"") -> 0 | N8: 12th | O8: 0.74 | P8: B.S.T.C. (D.EI.Ed.) | Q8: 0.81 | V8: SIKKH | W8: SC | X8: FEMALE | AE8: 3333333333 | BV8: OBC | BX8: GUIDE | CB8: CHRISTIAN | CC8: Private | CE8: =IFERROR(IF(I8="","",YEAR(I8)),"") -> 1981 | CF8: =IFERROR(IF(I8="","",MONTH(I8)),"") -> 1 | CG8: =IFERROR(IF(I8="","",DAY(I8)),"") -> 1 | CH8: =IF(CE8=1961,"NINETEEN SIXTY ONE",IF(CE8=1962,"NINETEEN SIXTY TWO",IF(CE8=1963,"NINETEEN SIXTY THREE",IF(CE8=1964,"NINETEEN SIXTY FOUR",IF(CE8=1965,"NINETEEN SIXTY FIVE",IF(CE8=1966,"NINETEEN SIXTY SIX",IF(CE8=1967,"NINETEEN SIXTY SEVEN",IF(CE8=1968,"NINETEEN SIXTY EIGHT",IF(CE8=1969,"NINETEEN SIXTY NINE",IF(CE8=1970,"NINETEEN SEVENTY",IF(CE8=1971,"NINETEEN SEVENTY ONE",IF(CE8=1972,"NINETEEN SEVENTY TWO",IF(CE8=1973,"NINETEEN SEVENTY THREE",IF(CE8=1974,"NINETEEN SEVENTY FOUR",IF(CE8=1975,"NINETEEN SEVENTY FIVE",IF(CE8=1976,"NINETEEN SEVENTY SIX",IF(CE8=1977,"NINETEEN SEVENTY SEVEN",IF(CE8=1978,"NINETEEN SEVENTY EIGHT",IF(CE8=1979,"NINETEEN SEVENTY NINE",IF(CE8=1980,"NINETEEN EIGHTY",IF(CE8=1981,"NINETEEN EIGHTY ONE",IF(CE8=1982,"NINETEEN EIGHTY TWO",IF(CE8=1983,"NINETEEN EIGHTY THREE",IF(CE8=1984,"NINETEEN EIGHTY FOUR",IF(CE8=1985,"NINETEEN EIGHTY FIVE",IF(CE8=1986,"NINETEEN EIGHTY SIX",IF(CE8=1987,"NINETEEN EIGHTY SEVEN",IF(CE8=1988,"NINETEEN EIGHTY EIGHT",IF(CE8=1989,"NINETEEN EIGHTY NINE",IF(CE8=1990,"NINETEEN NINETY",IF(CE8=1991,"NINETEEN NINETY ONE",IF(CE8=1992,"NINETEEN NINETY TWO",IF(CE8=1993,"NINETEEN NINETY THREE",IF(CE8=1994,"NINETEEN NINETY FOUR",IF(CE8=1995,"NINETEEN NINETY FIVE",IF(CE8=1996,"NINETEEN NINETY SIX",IF(CE8=1997,"NINETEEN NINETY SEVEN",IF(CE8=1998,"NINETEEN NINETY EIGHT",IF(CE8=1999,"NINETEEN NINETY NINE",IF(CE8=2000,"TWO THOUSAND",IF(CE8=2001,"TWO THOUSAND ONE",IF(CE8=2002,"TWO THOUSAND TWO",IF(CE8=2003,"TWO THOUSAND THREE",IF(CE8=2004,"TWO THOUSAND FOUR",IF(CE8=2005,"TWO THOUSAND FIVE",IF(CE8=2006,"TWO THOUSAND SIX",IF(CE8=2007,"TWO THOUSAND SEVEN",IF(CE8=2008,"TWO THOUSAND EIGHT",IF(CE8=2009,"TWO THOUSAND NINE",IF(CE8=2010,"TWO THOUSAND TEN",IF(CE8=2011,"TWO THOUSAND ELEVEN",IF(CE8=2012,"TWO THOUSAND TWELVE",IF(CE8=2013,"TWO THOUSAND THIRTEEN",IF(CE8=2014,"TWO THOUSAND FOURTEEN",IF(CE8=2015,"TWO THOUSAND FIFTEEN",IF(CE8=2016,"TWO THOUSAND SIXTEEN",IF(CE8=2017,"TWO THOUSAND SEVENTEEN",IF(CE8=2018,"TWO THOUSAND EIGHTEEN",IF(CE8=2019,"TWO THOUSAND NINETEEN",IF(CE8=2020,"TWO THOUSAND TWENTY",IF(CE8=2021,"TWO THOUSAND TWENTY ONE",IF(CE8=2022,"TWO THOUSAND TWENTY TWO",IF(CE8=2023,"TWO THOUSAND TWENTY THREE",IF(CE8=2024,"TWO THOUSAND TWENTY FOUR",IF(CE8=2025,"TWO THOUSAND TWENTY FIVE",""))))))))))))))))))))))))))))))))))))))))))))))))))))))))))))))))) -> NINETEEN EIGHTY ONE | CI8: =IF(CF8=1,"JANUARY",IF(CF8=2,"FEBUARY", IF(CF8=3,"MARCH",IF(CF8=4,"APRIL",IF(CF8=5,"MAY",IF(CF8=6,"JUNE",IF(CF8=7,"JULY",IF(CF8=8,"AUGUST",IF(CF8=9,"SEPTEMBER",IF(CF8=10,"OCTOBER",IF(CF8=11,"NOVEMBER",IF(CF8=12,"DECEMBER","")))))))))))) -> JANUARY | CJ8: =IF(CG8=1,"1ST",IF(CG8=2,"2ND", IF(CG8=3,"3RD",IF(CG8=4,"FOURTH",IF(CG8=5,"FIFTH",IF(CG8=6,"SIXTH",IF(CG8=7,"7TH",IF(CG8=8,"8TH",IF(CG8=9,"9TH",IF(CG8=10,"10TH",IF(CG8=11,"11TH",IF(CG8=12,"12TH",IF(CG8=13,"13TH",IF(CG8=14,"14TH",IF(CG8=15,"FIFTEEN",IF(CG8=16,"SIXTEEN",IF(CG8=17,"SEVENTEEN",IF(CG8=18,"EIGHTEEN",IF(CG8=19,"NINETEEN",IF(CG8=20,"TWENTY",IF(CG8=21,"TWENTY FIRST",IF(CG8=22,"TWENTY SECOND",IF(CG8=23,"TWENTY THIRD",IF(CG8=24,"TWENTY FOURTH",IF(CG8=25,"TWENTY FIFTH",IF(CG8=26,"TWENTY SIX",IF(CG8=27,"TWENTY SEVEN",IF(CG8=28,"TWENTY EIGHT",IF(CG8=29,"TWENTY NINE",IF(CG8=30,"THIRTY",IF(CG8=31,"THIRTY FIRST",""))))))))))))))))))))))))))))))) -> 1ST | CK8: =IFERROR(IF(AND(CH8="",CI8="",CJ8=""),"",CONCATENATE(CI8," ",CJ8,", ",CH8)),"") -> JANUARY 1ST, NINETEEN EIGHTY ONE | CL8: =IF(F8="","",IF(F8="3rd Grade L-1","YES","")) | CM8: 3rd | CN8: Second_Grade | CP8: Maths | CQ8: Maths | CR8: ECONOMICS | CV8: =IF(F8="","",IF(F8=$CN$6,"3rd Grade L-1",IF(F8=$CN$7,"3rd Grade L-2",IF(F8=$CN$8,"2nd Grade",IF(F8=$CN$9,"1st Grade (Lecturer)",IF(F8=$CN$10,"Lab. Ass.",IF(F8=$CN$11,"3rd Grade P.E.T.",""))))))) -> 3rd Grade L-1
A9: =IFERROR(IF(AND(B9="",C9="",F9="",I9=""),"",A8+1),"") -> 4 | B9: BNBNB | C9: CVXC | D9: 123468 | E9: =IFERROR(VLOOKUP(D9,PEEO_SCHOOL,3,0),"") -> GUPS NO. 13 | F9: Third_Grade_L2 | G9: English | I9: 28676 | J9: =IFERROR(IF(CK9="","",CK9),"") -> JULY FIFTH, NINETEEN SEVENTY EIGHT | K9: =IFERROR(IF(OR($K$4="",B9="",A9="",I9=""),"",DATEDIF(I9,$K$4,"Y")),"") -> 44 | L9: =IFERROR(IF(OR($K$4="",B9="",A9="",I9=""),"",DATEDIF(I9,$K$4,"YM")),"") -> 3 | M9: =IFERROR(IF(OR($K$4="",B9="",A9="",I9=""),"",DATEDIF(I9,$K$4,"MD")),"") -> 26 | N9: 12th | O9: 0.74 | P9: B.S.T.C. (D.EI.Ed.) | Q9: 0.81 | V9: CHRISTIAN | W9: OBC | X9: FEMALE | AE9: 4444444444 | BV9: SBC | BX9: CUB | CB9: PARSI | CC9: Recognized | CE9: =IFERROR(IF(I9="","",YEAR(I9)),"") -> 1978 | CF9: =IFERROR(IF(I9="","",MONTH(I9)),"") -> 7 | CG9: =IFERROR(IF(I9="","",DAY(I9)),"") -> 5 | CH9: =IF(CE9=1961,"NINETEEN SIXTY ONE",IF(CE9=1962,"NINETEEN SIXTY TWO",IF(CE9=1963,"NINETEEN SIXTY THREE",IF(CE9=1964,"NINETEEN SIXTY FOUR",IF(CE9=1965,"NINETEEN SIXTY FIVE",IF(CE9=1966,"NINETEEN SIXTY SIX",IF(CE9=1967,"NINETEEN SIXTY SEVEN",IF(CE9=1968,"NINETEEN SIXTY EIGHT",IF(CE9=1969,"NINETEEN SIXTY NINE",IF(CE9=1970,"NINETEEN SEVENTY",IF(CE9=1971,"NINETEEN SEVENTY ONE",IF(CE9=1972,"NINETEEN SEVENTY TWO",IF(CE9=1973,"NINETEEN SEVENTY THREE",IF(CE9=1974,"NINETEEN SEVENTY FOUR",IF(CE9=1975,"NINETEEN SEVENTY FIVE",IF(CE9=1976,"NINETEEN SEVENTY SIX",IF(CE9=1977,"NINETEEN SEVENTY SEVEN",IF(CE9=1978,"NINETEEN SEVENTY EIGHT",IF(CE9=1979,"NINETEEN SEVENTY NINE",IF(CE9=1980,"NINETEEN EIGHTY",IF(CE9=1981,"NINETEEN EIGHTY ONE",IF(CE9=1982,"NINETEEN EIGHTY TWO",IF(CE9=1983,"NINETEEN EIGHTY THREE",IF(CE9=1984,"NINETEEN EIGHTY FOUR",IF(CE9=1985,"NINETEEN EIGHTY FIVE",IF(CE9=1986,"NINETEEN EIGHTY SIX",IF(CE9=1987,"NINETEEN EIGHTY SEVEN",IF(CE9=1988,"NINETEEN EIGHTY EIGHT",IF(CE9=1989,"NINETEEN EIGHTY NINE",IF(CE9=1990,"NINETEEN NINETY",IF(CE9=1991,"NINETEEN NINETY ONE",IF(CE9=1992,"NINETEEN NINETY TWO",IF(CE9=1993,"NINETEEN NINETY THREE",IF(CE9=1994,"NINETEEN NINETY FOUR",IF(CE9=1995,"NINETEEN NINETY FIVE",IF(CE9=1996,"NINETEEN NINETY SIX",IF(CE9=1997,"NINETEEN NINETY SEVEN",IF(CE9=1998,"NINETEEN NINETY EIGHT",IF(CE9=1999,"NINETEEN NINETY NINE",IF(CE9=2000,"TWO THOUSAND",IF(CE9=2001,"TWO THOUSAND ONE",IF(CE9=2002,"TWO THOUSAND TWO",IF(CE9=2003,"TWO THOUSAND THREE",IF(CE9=2004,"TWO THOUSAND FOUR",IF(CE9=2005,"TWO THOUSAND FIVE",IF(CE9=2006,"TWO THOUSAND SIX",IF(CE9=2007,"TWO THOUSAND SEVEN",IF(CE9=2008,"TWO THOUSAND EIGHT",IF(CE9=2009,"TWO THOUSAND NINE",IF(CE9=2010,"TWO THOUSAND TEN",IF(CE9=2011,"TWO THOUSAND ELEVEN",IF(CE9=2012,"TWO THOUSAND TWELVE",IF(CE9=2013,"TWO THOUSAND THIRTEEN",IF(CE9=2014,"TWO THOUSAND FOURTEEN",IF(CE9=2015,"TWO THOUSAND FIFTEEN",IF(CE9=2016,"TWO THOUSAND SIXTEEN",IF(CE9=2017,"TWO THOUSAND SEVENTEEN",IF(CE9=2018,"TWO THOUSAND EIGHTEEN",IF(CE9=2019,"TWO THOUSAND NINETEEN",IF(CE9=2020,"TWO THOUSAND TWENTY",IF(CE9=2021,"TWO THOUSAND TWENTY ONE",IF(CE9=2022,"TWO THOUSAND TWENTY TWO",IF(CE9=2023,"TWO THOUSAND TWENTY THREE",IF(CE9=2024,"TWO THOUSAND TWENTY FOUR",IF(CE9=2025,"TWO THOUSAND TWENTY FIVE",""))))))))))))))))))))))))))))))))))))))))))))))))))))))))))))))))) -> NINETEEN SEVENTY EIGHT | CI9: =IF(CF9=1,"JANUARY",IF(CF9=2,"FEBUARY", IF(CF9=3,"MARCH",IF(CF9=4,"APRIL",IF(CF9=5,"MAY",IF(CF9=6,"JUNE",IF(CF9=7,"JULY",IF(CF9=8,"AUGUST",IF(CF9=9,"SEPTEMBER",IF(CF9=10,"OCTOBER",IF(CF9=11,"NOVEMBER",IF(CF9=12,"DECEMBER","")))))))))))) -> JULY | CJ9: =IF(CG9=1,"1ST",IF(CG9=2,"2ND", IF(CG9=3,"3RD",IF(CG9=4,"FOURTH",IF(CG9=5,"FIFTH",IF(CG9=6,"SIXTH",IF(CG9=7,"7TH",IF(CG9=8,"8TH",IF(CG9=9,"9TH",IF(CG9=10,"10TH",IF(CG9=11,"11TH",IF(CG9=12,"12TH",IF(CG9=13,"13TH",IF(CG9=14,"14TH",IF(CG9=15,"FIFTEEN",IF(CG9=16,"SIXTEEN",IF(CG9=17,"SEVENTEEN",IF(CG9=18,"EIGHTEEN",IF(CG9=19,"NINETEEN",IF(CG9=20,"TWENTY",IF(CG9=21,"TWENTY FIRST",IF(CG9=22,"TWENTY SECOND",IF(CG9=23,"TWENTY THIRD",IF(CG9=24,"TWENTY FOURTH",IF(CG9=25,"TWENTY FIFTH",IF(CG9=26,"TWENTY SIX",IF(CG9=27,"TWENTY SEVEN",IF(CG9=28,"TWENTY EIGHT",IF(CG9=29,"TWENTY NINE",IF(CG9=30,"THIRTY",IF(CG9=31,"THIRTY FIRST",""))))))))))))))))))))))))))))))) -> FIFTH | CK9: =IFERROR(IF(AND(CH9="",CI9="",CJ9=""),"",CONCATENATE(CI9," ",CJ9,", ",CH9)),"") -> JULY FIFTH, NINETEEN SEVENTY EIGHT | CL9: =IF(F9="","",IF(F9="3rd Grade L-1","YES","")) | CM9: 4th | CN9: First_Grade_School_Lecturer | CP9: Science | CQ9: Science | CR9: ENGLISH LITERATURE | CV9: =IF(F9="","",IF(F9=$CN$6,"3rd Grade L-1",IF(F9=$CN$7,"3rd Grade L-2",IF(F9=$CN$8,"2nd Grade",IF(F9=$CN$9,"1st Grade (Lecturer)",IF(F9=$CN$10,"Lab. Ass.",IF(F9=$CN$11,"3rd Grade P.E.T.",""))))))) -> 3rd Grade L-2
A10: =IFERROR(IF(AND(B10="",C10="",F10="",I10=""),"",A9+1),"") -> 5 | B10: hll | C10: kkk | D10: 123458 | E10: =IFERROR(VLOOKUP(D10,PEEO_SCHOOL,3,0),"") -> GUPS NO. 03 | F10: Second_Grade | G10: English | I10: 28675 | J10: =IFERROR(IF(CK10="","",CK10),"") -> JULY FOURTH, NINETEEN SEVENTY EIGHT | K10: =IFERROR(IF(OR($K$4="",B10="",A10="",I10=""),"",DATEDIF(I10,$K$4,"Y")),"") -> 44 | L10: =IFERROR(IF(OR($K$4="",B10="",A10="",I10=""),"",DATEDIF(I10,$K$4,"YM")),"") -> 3 | M10: =IFERROR(IF(OR($K$4="",B10="",A10="",I10=""),"",DATEDIF(I10,$K$4,"MD")),"") -> 27 | N10: 12th | O10: 0.74 | P10: B.S.T.C. (D.EI.Ed.) | Q10: 0.79 | V10: HINDU | W10: SBC | X10: FEMALE | BX10: BULBUL | CB10: OTHER | CC10: Other | CE10: =IFERROR(IF(I10="","",YEAR(I10)),"") -> 1978 | CF10: =IFERROR(IF(I10="","",MONTH(I10)),"") -> 7 | CG10: =IFERROR(IF(I10="","",DAY(I10)),"") -> 4 | CH10: =IF(CE10=1961,"NINETEEN SIXTY ONE",IF(CE10=1962,"NINETEEN SIXTY TWO",IF(CE10=1963,"NINETEEN SIXTY THREE",IF(CE10=1964,"NINETEEN SIXTY FOUR",IF(CE10=1965,"NINETEEN SIXTY FIVE",IF(CE10=1966,"NINETEEN SIXTY SIX",IF(CE10=1967,"NINETEEN SIXTY SEVEN",IF(CE10=1968,"NINETEEN SIXTY EIGHT",IF(CE10=1969,"NINETEEN SIXTY NINE",IF(CE10=1970,"NINETEEN SEVENTY",IF(CE10=1971,"NINETEEN SEVENTY ONE",IF(CE10=1972,"NINETEEN SEVENTY TWO",IF(CE10=1973,"NINETEEN SEVENTY THREE",IF(CE10=1974,"NINETEEN SEVENTY FOUR",IF(CE10=1975,"NINETEEN SEVENTY FIVE",IF(CE10=1976,"NINETEEN SEVENTY SIX",IF(CE10=1977,"NINETEEN SEVENTY SEVEN",IF(CE10=1978,"NINETEEN SEVENTY EIGHT",IF(CE10=1979,"NINETEEN SEVENTY NINE",IF(CE10=1980,"NINETEEN EIGHTY",IF(CE10=1981,"NINETEEN EIGHTY ONE",IF(CE10=1982,"NINETEEN EIGHTY TWO",IF(CE10=1983,"NINETEEN EIGHTY THREE",IF(CE10=1984,"NINETEEN EIGHTY FOUR",IF(CE10=1985,"NINETEEN EIGHTY FIVE",IF(CE10=1986,"NINETEEN EIGHTY SIX",IF(CE10=1987,"NINETEEN EIGHTY SEVEN",IF(CE10=1988,"NINETEEN EIGHTY EIGHT",IF(CE10=1989,"NINETEEN EIGHTY NINE",IF(CE10=1990,"NINETEEN NINETY",IF(CE10=1991,"NINETEEN NINETY ONE",IF(CE10=1992,"NINETEEN NINETY TWO",IF(CE10=1993,"NINETEEN NINETY THREE",IF(CE10=1994,"NINETEEN NINETY FOUR",IF(CE10=1995,"NINETEEN NINETY FIVE",IF(CE10=1996,"NINETEEN NINETY SIX",IF(CE10=1997,"NINETEEN NINETY SEVEN",IF(CE10=1998,"NINETEEN NINETY EIGHT",IF(CE10=1999,"NINETEEN NINETY NINE",IF(CE10=2000,"TWO THOUSAND",IF(CE10=2001,"TWO THOUSAND ONE",IF(CE10=2002,"TWO THOUSAND TWO",IF(CE10=2003,"TWO THOUSAND THREE",IF(CE10=2004,"TWO THOUSAND FOUR",IF(CE10=2005,"TWO THOUSAND FIVE",IF(CE10=2006,"TWO THOUSAND SIX",IF(CE10=2007,"TWO THOUSAND SEVEN",IF(CE10=2008,"TWO THOUSAND EIGHT",IF(CE10=2009,"TWO THOUSAND NINE",IF(CE10=2010,"TWO THOUSAND TEN",IF(CE10=2011,"TWO THOUSAND ELEVEN",IF(CE10=2012,"TWO THOUSAND TWELVE",IF(CE10=2013,"TWO THOUSAND THIRTEEN",IF(CE10=2014,"TWO THOUSAND FOURTEEN",IF(CE10=2015,"TWO THOUSAND FIFTEEN",IF(CE10=2016,"TWO THOUSAND SIXTEEN",IF(CE10=2017,"TWO THOUSAND SEVENTEEN",IF(CE10=2018,"TWO THOUSAND EIGHTEEN",IF(CE10=2019,"TWO THOUSAND NINETEEN",IF(CE10=2020,"TWO THOUSAND TWENTY",IF(CE10=2021,"TWO THOUSAND TWENTY ONE",IF(CE10=2022,"TWO THOUSAND TWENTY TWO",IF(CE10=2023,"TWO THOUSAND TWENTY THREE",IF(CE10=2024,"TWO THOUSAND TWENTY FOUR",IF(CE10=2025,"TWO THOUSAND TWENTY FIVE",""))))))))))))))))))))))))))))))))))))))))))))))))))))))))))))))))) -> NINETEEN SEVENTY EIGHT | CI10: =IF(CF10=1,"JANUARY",IF(CF10=2,"FEBUARY", IF(CF10=3,"MARCH",IF(CF10=4,"APRIL",IF(CF10=5,"MAY",IF(CF10=6,"JUNE",IF(CF10=7,"JULY",IF(CF10=8,"AUGUST",IF(CF10=9,"SEPTEMBER",IF(CF10=10,"OCTOBER",IF(CF10=11,"NOVEMBER",IF(CF10=12,"DECEMBER","")))))))))))) -> JULY | CJ10: =IF(CG10=1,"1ST",IF(CG10=2,"2ND", IF(CG10=3,"3RD",IF(CG10=4,"FOURTH",IF(CG10=5,"FIFTH",IF(CG10=6,"SIXTH",IF(CG10=7,"7TH",IF(CG10=8,"8TH",IF(CG10=9,"9TH",IF(CG10=10,"10TH",IF(CG10=11,"11TH",IF(CG10=12,"12TH",IF(CG10=13,"13TH",IF(CG10=14,"14TH",IF(CG10=15,"FIFTEEN",IF(CG10=16,"SIXTEEN",IF(CG10=17,"SEVENTEEN",IF(CG10=18,"EIGHTEEN",IF(CG10=19,"NINETEEN",IF(CG10=20,"TWENTY",IF(CG10=21,"TWENTY FIRST",IF(CG10=22,"TWENTY SECOND",IF(CG10=23,"TWENTY THIRD",IF(CG10=24,"TWENTY FOURTH",IF(CG10=25,"TWENTY FIFTH",IF(CG10=26,"TWENTY SIX",IF(CG10=27,"TWENTY SEVEN",IF(CG10=28,"TWENTY EIGHT",IF(CG10=29,"TWENTY NINE",IF(CG10=30,"THIRTY",IF(CG10=31,"THIRTY FIRST",""))))))))))))))))))))))))))))))) -> FOURTH | CK10: =IFERROR(IF(AND(CH10="",CI10="",CJ10=""),"",CONCATENATE(CI10," ",CJ10,", ",CH10)),"") -> JULY FOURTH, NINETEEN SEVENTY EIGHT | CL10: =IF(F10="","",IF(F10="3rd Grade L-1","YES","")) | CM10: 5th | CN10: Lab_Ass | CP10: SST | CQ10: SST | CR10: ENVIRONMENTAL STUDIES | CV10: =IF(F10="","",IF(F10=$CN$6,"3rd Grade L-1",IF(F10=$CN$7,"3rd Grade L-2",IF(F10=$CN$8,"2nd Grade",IF(F10=$CN$9,"1st Grade (Lecturer)",IF(F10=$CN$10,"Lab. Ass.",IF(F10=$CN$11,"3rd Grade P.E.T.",""))))))) -> 2nd Grade
A11: =IFERROR(IF(AND(B11="",C11="",F11="",I11=""),"",A10+1),"") -> 6 | B11: op | C11: l;l; | D11: 123459 | E11: =IFERROR(VLOOKUP(D11,PEEO_SCHOOL,3,0),"") -> GUPS NO. 04 | F11: First_Grade_School_Lecturer | G11: HINDI LITERATURE | I11: 32570 | J11: =IFERROR(IF(CK11="","",CK11),"") -> MARCH 3RD, NINETEEN EIGHTY NINE | K11: =IFERROR(IF(OR($K$4="",B11="",A11="",I11=""),"",DATEDIF(I11,$K$4,"Y")),"") -> 33 | L11: =IFERROR(IF(OR($K$4="",B11="",A11="",I11=""),"",DATEDIF(I11,$K$4,"YM")),"") -> 7 | M11: =IFERROR(IF(OR($K$4="",B11="",A11="",I11=""),"",DATEDIF(I11,$K$4,"MD")),"") -> 28 | N11: PG | O11: 0.6 | P11: B.ed | Q11: 0.75 | V11: MUSLIM | W11: SBC | X11: MALE | CE11: =IFERROR(IF(I11="","",YEAR(I11)),"") -> 1989 | CF11: =IFERROR(IF(I11="","",MONTH(I11)),"") -> 3 | CG11: =IFERROR(IF(I11="","",DAY(I11)),"") -> 3 | CH11: =IF(CE11=1961,"NINETEEN SIXTY ONE",IF(CE11=1962,"NINETEEN SIXTY TWO",IF(CE11=1963,"NINETEEN SIXTY THREE",IF(CE11=1964,"NINETEEN SIXTY FOUR",IF(CE11=1965,"NINETEEN SIXTY FIVE",IF(CE11=1966,"NINETEEN SIXTY SIX",IF(CE11=1967,"NINETEEN SIXTY SEVEN",IF(CE11=1968,"NINETEEN SIXTY EIGHT",IF(CE11=1969,"NINETEEN SIXTY NINE",IF(CE11=1970,"NINETEEN SEVENTY",IF(CE11=1971,"NINETEEN SEVENTY ONE",IF(CE11=1972,"NINETEEN SEVENTY TWO",IF(CE11=1973,"NINETEEN SEVENTY THREE",IF(CE11=1974,"NINETEEN SEVENTY FOUR",IF(CE11=1975,"NINETEEN SEVENTY FIVE",IF(CE11=1976,"NINETEEN SEVENTY SIX",IF(CE11=1977,"NINETEEN SEVENTY SEVEN",IF(CE11=1978,"NINETEEN SEVENTY EIGHT",IF(CE11=1979,"NINETEEN SEVENTY NINE",IF(CE11=1980,"NINETEEN EIGHTY",IF(CE11=1981,"NINETEEN EIGHTY ONE",IF(CE11=1982,"NINETEEN EIGHTY TWO",IF(CE11=1983,"NINETEEN EIGHTY THREE",IF(CE11=1984,"NINETEEN EIGHTY FOUR",IF(CE11=1985,"NINETEEN EIGHTY FIVE",IF(CE11=1986,"NINETEEN EIGHTY SIX",IF(CE11=1987,"NINETEEN EIGHTY SEVEN",IF(CE11=1988,"NINETEEN EIGHTY EIGHT",IF(CE11=1989,"NINETEEN EIGHTY NINE",IF(CE11=1990,"NINETEEN NINETY",IF(CE11=1991,"NINETEEN NINETY ONE",IF(CE11=1992,"NINETEEN NINETY TWO",IF(CE11=1993,"NINETEEN NINETY THREE",IF(CE11=1994,"NINETEEN NINETY FOUR",IF(CE11=1995,"NINETEEN NINETY FIVE",IF(CE11=1996,"NINETEEN NINETY SIX",IF(CE11=1997,"NINETEEN NINETY SEVEN",IF(CE11=1998,"NINETEEN NINETY EIGHT",IF(CE11=1999,"NINETEEN NINETY NINE",IF(CE11=2000,"TWO THOUSAND",IF(CE11=2001,"TWO THOUSAND ONE",IF(CE11=2002,"TWO THOUSAND TWO",IF(CE11=2003,"TWO THOUSAND THREE",IF(CE11=2004,"TWO THOUSAND FOUR",IF(CE11=2005,"TWO THOUSAND FIVE",IF(CE11=2006,"TWO THOUSAND SIX",IF(CE11=2007,"TWO THOUSAND SEVEN",IF(CE11=2008,"TWO THOUSAND EIGHT",IF(CE11=2009,"TWO THOUSAND NINE",IF(CE11=2010,"TWO THOUSAND TEN",IF(CE11=2011,"TWO THOUSAND ELEVEN",IF(CE11=2012,"TWO THOUSAND TWELVE",IF(CE11=2013,"TWO THOUSAND THIRTEEN",IF(CE11=2014,"TWO THOUSAND FOURTEEN",IF(CE11=2015,"TWO THOUSAND FIFTEEN",IF(CE11=2016,"TWO THOUSAND SIXTEEN",IF(CE11=2017,"TWO THOUSAND SEVENTEEN",IF(CE11=2018,"TWO THOUSAND EIGHTEEN",IF(CE11=2019,"TWO THOUSAND NINETEEN",IF(CE11=2020,"TWO THOUSAND TWENTY",IF(CE11=2021,"TWO THOUSAND TWENTY ONE",IF(CE11=2022,"TWO THOUSAND TWENTY TWO",IF(CE11=2023,"TWO THOUSAND TWENTY THREE",IF(CE11=2024,"TWO THOUSAND TWENTY FOUR",IF(CE11=2025,"TWO THOUSAND TWENTY FIVE",""))))))))))))))))))))))))))))))))))))))))))))))))))))))))))))))))) -> NINETEEN EIGHTY NINE | CI11: =IF(CF11=1,"JANUARY",IF(CF11=2,"FEBUARY", IF(CF11=3,"MARCH",IF(CF11=4,"APRIL",IF(CF11=5,"MAY",IF(CF11=6,"JUNE",IF(CF11=7,"JULY",IF(CF11=8,"AUGUST",IF(CF11=9,"SEPTEMBER",IF(CF11=10,"OCTOBER",IF(CF11=11,"NOVEMBER",IF(CF11=12,"DECEMBER","")))))))))))) -> MARCH | CJ11: =IF(CG11=1,"1ST",IF(CG11=2,"2ND", IF(CG11=3,"3RD",IF(CG11=4,"FOURTH",IF(CG11=5,"FIFTH",IF(CG11=6,"SIXTH",IF(CG11=7,"7TH",IF(CG11=8,"8TH",IF(CG11=9,"9TH",IF(CG11=10,"10TH",IF(CG11=11,"11TH",IF(CG11=12,"12TH",IF(CG11=13,"13TH",IF(CG11=14,"14TH",IF(CG11=15,"FIFTEEN",IF(CG11=16,"SIXTEEN",IF(CG11=17,"SEVENTEEN",IF(CG11=18,"EIGHTEEN",IF(CG11=19,"NINETEEN",IF(CG11=20,"TWENTY",IF(CG11=21,"TWENTY FIRST",IF(CG11=22,"TWENTY SECOND",IF(CG11=23,"TWENTY THIRD",IF(CG11=24,"TWENTY FOURTH",IF(CG11=25,"TWENTY FIFTH",IF(CG11=26,"TWENTY SIX",IF(CG11=27,"TWENTY SEVEN",IF(CG11=28,"TWENTY EIGHT",IF(CG11=29,"TWENTY NINE",IF(CG11=30,"THIRTY",IF(CG11=31,"THIRTY FIRST",""))))))))))))))))))))))))))))))) -> 3RD | CK11: =IFERROR(IF(AND(CH11="",CI11="",CJ11=""),"",CONCATENATE(CI11," ",CJ11,", ",CH11)),"") -> MARCH 3RD, NINETEEN EIGHTY NINE | CL11: =IF(F11="","",IF(F11="3rd Grade L-1","YES","")) | CM11: 6th | CN11: Third_Grade_PET | CP11: Sanskrit | CQ11: Sanskrit | CR11: FARSI LITERATURE | CV11: =IF(F11="","",IF(F11=$CN$6,"3rd Grade L-1",IF(F11=$CN$7,"3rd Grade L-2",IF(F11=$CN$8,"2nd Grade",IF(F11=$CN$9,"1st Grade (Lecturer)",IF(F11=$CN$10,"Lab. Ass.",IF(F11=$CN$11,"3rd Grade P.E.T.",""))))))) -> 1st Grade (Lecturer)
A12: =IFERROR(IF(AND(B12="",C12="",F12="",I12=""),"",A11+1),"") -> 7 | B12: poo- | C12: yyui | D12: 123460 | E12: =IFERROR(VLOOKUP(D12,PEEO_SCHOOL,3,0),"") -> GUPS NO. 05 | F12: Lab_Ass | G12: NA | I12: 33698 | J12: =IFERROR(IF(CK12="","",CK12),"") -> APRIL FOURTH, NINETEEN NINETY TWO | K12: =IFERROR(IF(OR($K$4="",B12="",A12="",I12=""),"",DATEDIF(I12,$K$4,"Y")),"") -> 30 | L12: =IFERROR(IF(OR($K$4="",B12="",A12="",I12=""),"",DATEDIF(I12,$K$4,"YM")),"") -> 6 | M12: =IFERROR(IF(OR($K$4="",B12="",A12="",I12=""),"",DATEDIF(I12,$K$4,"MD")),"") -> 27 | V12: HINDU | W12: GEN | X12: MALE | CE12: =IFERROR(IF(I12="","",YEAR(I12)),"") -> 1992 | CF12: =IFERROR(IF(I12="","",MONTH(I12)),"") -> 4 | CG12: =IFERROR(IF(I12="","",DAY(I12)),"") -> 4 | CH12: =IF(CE12=1961,"NINETEEN SIXTY ONE",IF(CE12=1962,"NINETEEN SIXTY TWO",IF(CE12=1963,"NINETEEN SIXTY THREE",IF(CE12=1964,"NINETEEN SIXTY FOUR",IF(CE12=1965,"NINETEEN SIXTY FIVE",IF(CE12=1966,"NINETEEN SIXTY SIX",IF(CE12=1967,"NINETEEN SIXTY SEVEN",IF(CE12=1968,"NINETEEN SIXTY EIGHT",IF(CE12=1969,"NINETEEN SIXTY NINE",IF(CE12=1970,"NINETEEN SEVENTY",IF(CE12=1971,"NINETEEN SEVENTY ONE",IF(CE12=1972,"NINETEEN SEVENTY TWO",IF(CE12=1973,"NINETEEN SEVENTY THREE",IF(CE12=1974,"NINETEEN SEVENTY FOUR",IF(CE12=1975,"NINETEEN SEVENTY FIVE",IF(CE12=1976,"NINETEEN SEVENTY SIX",IF(CE12=1977,"NINETEEN SEVENTY SEVEN",IF(CE12=1978,"NINETEEN SEVENTY EIGHT",IF(CE12=1979,"NINETEEN SEVENTY NINE",IF(CE12=1980,"NINETEEN EIGHTY",IF(CE12=1981,"NINETEEN EIGHTY ONE",IF(CE12=1982,"NINETEEN EIGHTY TWO",IF(CE12=1983,"NINETEEN EIGHTY THREE",IF(CE12=1984,"NINETEEN EIGHTY FOUR",IF(CE12=1985,"NINETEEN EIGHTY FIVE",IF(CE12=1986,"NINETEEN EIGHTY SIX",IF(CE12=1987,"NINETEEN EIGHTY SEVEN",IF(CE12=1988,"NINETEEN EIGHTY EIGHT",IF(CE12=1989,"NINETEEN EIGHTY NINE",IF(CE12=1990,"NINETEEN NINETY",IF(CE12=1991,"NINETEEN NINETY ONE",IF(CE12=1992,"NINETEEN NINETY TWO",IF(CE12=1993,"NINETEEN NINETY THREE",IF(CE12=1994,"NINETEEN NINETY FOUR",IF(CE12=1995,"NINETEEN NINETY FIVE",IF(CE12=1996,"NINETEEN NINETY SIX",IF(CE12=1997,"NINETEEN NINETY SEVEN",IF(CE12=1998,"NINETEEN NINETY EIGHT",IF(CE12=1999,"NINETEEN NINETY NINE",IF(CE12=2000,"TWO THOUSAND",IF(CE12=2001,"TWO THOUSAND ONE",IF(CE12=2002,"TWO THOUSAND TWO",IF(CE12=2003,"TWO THOUSAND THREE",IF(CE12=2004,"TWO THOUSAND FOUR",IF(CE12=2005,"TWO THOUSAND FIVE",IF(CE12=2006,"TWO THOUSAND SIX",IF(CE12=2007,"TWO THOUSAND SEVEN",IF(CE12=2008,"TWO THOUSAND EIGHT",IF(CE12=2009,"TWO THOUSAND NINE",IF(CE12=2010,"TWO THOUSAND TEN",IF(CE12=2011,"TWO THOUSAND ELEVEN",IF(CE12=2012,"TWO THOUSAND TWELVE",IF(CE12=2013,"TWO THOUSAND THIRTEEN",IF(CE12=2014,"TWO THOUSAND FOURTEEN",IF(CE12=2015,"TWO THOUSAND FIFTEEN",IF(CE12=2016,"TWO THOUSAND SIXTEEN",IF(CE12=2017,"TWO THOUSAND SEVENTEEN",IF(CE12=2018,"TWO THOUSAND EIGHTEEN",IF(CE12=2019,"TWO THOUSAND NINETEEN",IF(CE12=2020,"TWO THOUSAND TWENTY",IF(CE12=2021,"TWO THOUSAND TWENTY ONE",IF(CE12=2022,"TWO THOUSAND TWENTY TWO",IF(CE12=2023,"TWO THOUSAND TWENTY THREE",IF(CE12=2024,"TWO THOUSAND TWENTY FOUR",IF(CE12=2025,"TWO THOUSAND TWENTY FIVE",""))))))))))))))))))))))))))))))))))))))))))))))))))))))))))))))))) -> NINETEEN NINETY TWO | CI12: =IF(CF12=1,"JANUARY",IF(CF12=2,"FEBUARY", IF(CF12=3,"MARCH",IF(CF12=4,"APRIL",IF(CF12=5,"MAY",IF(CF12=6,"JUNE",IF(CF12=7,"JULY",IF(CF12=8,"AUGUST",IF(CF12=9,"SEPTEMBER",IF(CF12=10,"OCTOBER",IF(CF12=11,"NOVEMBER",IF(CF12=12,"DECEMBER","")))))))))))) -> APRIL | CJ12: =IF(CG12=1,"1ST",IF(CG12=2,"2ND", IF(CG12=3,"3RD",IF(CG12=4,"FOURTH",IF(CG12=5,"FIFTH",IF(CG12=6,"SIXTH",IF(CG12=7,"7TH",IF(CG12=8,"8TH",IF(CG12=9,"9TH",IF(CG12=10,"10TH",IF(CG12=11,"11TH",IF(CG12=12,"12TH",IF(CG12=13,"13TH",IF(CG12=14,"14TH",IF(CG12=15,"FIFTEEN",IF(CG12=16,"SIXTEEN",IF(CG12=17,"SEVENTEEN",IF(CG12=18,"EIGHTEEN",IF(CG12=19,"NINETEEN",IF(CG12=20,"TWENTY",IF(CG12=21,"TWENTY FIRST",IF(CG12=22,"TWENTY SECOND",IF(CG12=23,"TWENTY THIRD",IF(CG12=24,"TWENTY FOURTH",IF(CG12=25,"TWENTY FIFTH",IF(CG12=26,"TWENTY SIX",IF(CG12=27,"TWENTY SEVEN",IF(CG12=28,"TWENTY EIGHT",IF(CG12=29,"TWENTY NINE",IF(CG12=30,"THIRTY",IF(CG12=31,"THIRTY FIRST",""))))))))))))))))))))))))))))))) -> FOURTH | CK12: =IFERROR(IF(AND(CH12="",CI12="",CJ12=""),"",CONCATENATE(CI12," ",CJ12,", ",CH12)),"") -> APRIL FOURTH, NINETEEN NINETY TWO | CL12: =IF(F12="","",IF(F12="3rd Grade L-1","YES","")) | CM12: 7th | CP12: Maths-Science | CQ12: Third_Language | CR12: GUJRATI LITERATURE | CV12: =IF(F12="","",IF(F12=$CN$6,"3rd Grade L-1",IF(F12=$CN$7,"3rd Grade L-2",IF(F12=$CN$8,"2nd Grade",IF(F12=$CN$9,"1st Grade (Lecturer)",IF(F12=$CN$10,"Lab. Ass.",IF(F12=$CN$11,"3rd Grade P.E.T.",""))))))) -> Lab. Ass.
A13: =IFERROR(IF(AND(B13="",C13="",F13="",I13=""),"",A12+1),"") -> 8 | B13: p= | C13: uio | D13: 123461 | E13: =IFERROR(VLOOKUP(D13,PEEO_SCHOOL,3,0),"") -> GUPS NO. 06 | F13: Third_Grade_L2 | G13: Maths | I13: 35292 | J13: =IFERROR(IF(CK13="","",CK13),"") -> AUGUST FIFTEEN, NINETEEN NINETY SIX | K13: =IFERROR(IF(OR($K$4="",B13="",A13="",I13=""),"",DATEDIF(I13,$K$4,"Y")),"") -> 26 | L13: =IFERROR(IF(OR($K$4="",B13="",A13="",I13=""),"",DATEDIF(I13,$K$4,"YM")),"") -> 2 | M13: =IFERROR(IF(OR($K$4="",B13="",A13="",I13=""),"",DATEDIF(I13,$K$4,"MD")),"") -> 16 | N13: UG | O13: 0.68 | P13: B.ed | Q13: 0.72 | V13: MUSLIM | W13: OBC | X13: FEMALE | CE13: =IFERROR(IF(I13="","",YEAR(I13)),"") -> 1996 | CF13: =IFERROR(IF(I13="","",MONTH(I13)),"") -> 8 | CG13: =IFERROR(IF(I13="","",DAY(I13)),"") -> 15 | CH13: =IF(CE13=1961,"NINETEEN SIXTY ONE",IF(CE13=1962,"NINETEEN SIXTY TWO",IF(CE13=1963,"NINETEEN SIXTY THREE",IF(CE13=1964,"NINETEEN SIXTY FOUR",IF(CE13=1965,"NINETEEN SIXTY FIVE",IF(CE13=1966,"NINETEEN SIXTY SIX",IF(CE13=1967,"NINETEEN SIXTY SEVEN",IF(CE13=1968,"NINETEEN SIXTY EIGHT",IF(CE13=1969,"NINETEEN SIXTY NINE",IF(CE13=1970,"NINETEEN SEVENTY",IF(CE13=1971,"NINETEEN SEVENTY ONE",IF(CE13=1972,"NINETEEN SEVENTY TWO",IF(CE13=1973,"NINETEEN SEVENTY THREE",IF(CE13=1974,"NINETEEN SEVENTY FOUR",IF(CE13=1975,"NINETEEN SEVENTY FIVE",IF(CE13=1976,"NINETEEN SEVENTY SIX",IF(CE13=1977,"NINETEEN SEVENTY SEVEN",IF(CE13=1978,"NINETEEN SEVENTY EIGHT",IF(CE13=1979,"NINETEEN SEVENTY NINE",IF(CE13=1980,"NINETEEN EIGHTY",IF(CE13=1981,"NINETEEN EIGHTY ONE",IF(CE13=1982,"NINETEEN EIGHTY TWO",IF(CE13=1983,"NINETEEN EIGHTY THREE",IF(CE13=1984,"NINETEEN EIGHTY FOUR",IF(CE13=1985,"NINETEEN EIGHTY FIVE",IF(CE13=1986,"NINETEEN EIGHTY SIX",IF(CE13=1987,"NINETEEN EIGHTY SEVEN",IF(CE13=1988,"NINETEEN EIGHTY EIGHT",IF(CE13=1989,"NINETEEN EIGHTY NINE",IF(CE13=1990,"NINETEEN NINETY",IF(CE13=1991,"NINETEEN NINETY ONE",IF(CE13=1992,"NINETEEN NINETY TWO",IF(CE13=1993,"NINETEEN NINETY THREE",IF(CE13=1994,"NINETEEN NINETY FOUR",IF(CE13=1995,"NINETEEN NINETY FIVE",IF(CE13=1996,"NINETEEN NINETY SIX",IF(CE13=1997,"NINETEEN NINETY SEVEN",IF(CE13=1998,"NINETEEN NINETY EIGHT",IF(CE13=1999,"NINETEEN NINETY NINE",IF(CE13=2000,"TWO THOUSAND",IF(CE13=2001,"TWO THOUSAND ONE",IF(CE13=2002,"TWO THOUSAND TWO",IF(CE13=2003,"TWO THOUSAND THREE",IF(CE13=2004,"TWO THOUSAND FOUR",IF(CE13=2005,"TWO THOUSAND FIVE",IF(CE13=2006,"TWO THOUSAND SIX",IF(CE13=2007,"TWO THOUSAND SEVEN",IF(CE13=2008,"TWO THOUSAND EIGHT",IF(CE13=2009,"TWO THOUSAND NINE",IF(CE13=2010,"TWO THOUSAND TEN",IF(CE13=2011,"TWO THOUSAND ELEVEN",IF(CE13=2012,"TWO THOUSAND TWELVE",IF(CE13=2013,"TWO THOUSAND THIRTEEN",IF(CE13=2014,"TWO THOUSAND FOURTEEN",IF(CE13=2015,"TWO THOUSAND FIFTEEN",IF(CE13=2016,"TWO THOUSAND SIXTEEN",IF(CE13=2017,"TWO THOUSAND SEVENTEEN",IF(CE13=2018,"TWO THOUSAND EIGHTEEN",IF(CE13=2019,"TWO THOUSAND NINETEEN",IF(CE13=2020,"TWO THOUSAND TWENTY",IF(CE13=2021,"TWO THOUSAND TWENTY ONE",IF(CE13=2022,"TWO THOUSAND TWENTY TWO",IF(CE13=2023,"TWO THOUSAND TWENTY THREE",IF(CE13=2024,"TWO THOUSAND TWENTY FOUR",IF(CE13=2025,"TWO THOUSAND TWENTY FIVE",""))))))))))))))))))))))))))))))))))))))))))))))))))))))))))))))))) -> NINETEEN NINETY SIX | CI13: =IF(CF13=1,"JANUARY",IF(CF13=2,"FEBUARY", IF(CF13=3,"MARCH",IF(CF13=4,"APRIL",IF(CF13=5,"MAY",IF(CF13=6,"JUNE",IF(CF13=7,"JULY",IF(CF13=8,"AUGUST",IF(CF13=9,"SEPTEMBER",IF(CF13=10,"OCTOBER",IF(CF13=11,"NOVEMBER",IF(CF13=12,"DECEMBER","")))))))))))) -> AUGUST | CJ13: =IF(CG13=1,"1ST",IF(CG13=2,"2ND", IF(CG13=3,"3RD",IF(CG13=4,"FOURTH",IF(CG13=5,"FIFTH",IF(CG13=6,"SIXTH",IF(CG13=7,"7TH",IF(CG13=8,"8TH",IF(CG13=9,"9TH",IF(CG13=10,"10TH",IF(CG13=11,"11TH",IF(CG13=12,"12TH",IF(CG13=13,"13TH",IF(CG13=14,"14TH",IF(CG13=15,"FIFTEEN",IF(CG13=16,"SIXTEEN",IF(CG13=17,"SEVENTEEN",IF(CG13=18,"EIGHTEEN",IF(CG13=19,"NINETEEN",IF(CG13=20,"TWENTY",IF(CG13=21,"TWENTY FIRST",IF(CG13=22,"TWENTY SECOND",IF(CG13=23,"TWENTY THIRD",IF(CG13=24,"TWENTY FOURTH",IF(CG13=25,"TWENTY FIFTH",IF(CG13=26,"TWENTY SIX",IF(CG13=27,"TWENTY SEVEN",IF(CG13=28,"TWENTY EIGHT",IF(CG13=29,"TWENTY NINE",IF(CG13=30,"THIRTY",IF(CG13=31,"THIRTY FIRST",""))))))))))))))))))))))))))))))) -> FIFTEEN | CK13: =IFERROR(IF(AND(CH13="",CI13="",CJ13=""),"",CONCATENATE(CI13," ",CJ13,", ",CH13)),"") -> AUGUST FIFTEEN, NINETEEN NINETY SIX | CL13: =IF(F13="","",IF(F13="3rd Grade L-1","YES","")) | CM13: 8th | CP13: Third_Language | CR13: HINDI LITERATURE | CV13: =IF(F13="","",IF(F13=$CN$6,"3rd Grade L-1",IF(F13=$CN$7,"3rd Grade L-2",IF(F13=$CN$8,"2nd Grade",IF(F13=$CN$9,"1st Grade (Lecturer)",IF(F13=$CN$10,"Lab. Ass.",IF(F13=$CN$11,"3rd Grade P.E.T.",""))))))) -> 3rd Grade L-2
A14: =IFERROR(IF(AND(B14="",C14="",F14="",I14=""),"",A13+1),"") -> 9 | B14: jggh | C14: dfzd | D14: 123461 | E14: =IFERROR(VLOOKUP(D14,PEEO_SCHOOL,3,0),"") -> GUPS NO. 06 | F14: Third_Grade_PET | G14: NA | I14: 36542 | J14: =IFERROR(IF(CK14="","",CK14),"") -> JANUARY SEVENTEEN, TWO THOUSAND | K14: =IFERROR(IF(OR($K$4="",B14="",A14="",I14=""),"",DATEDIF(I14,$K$4,"Y")),"") -> 22 | L14: =IFERROR(IF(OR($K$4="",B14="",A14="",I14=""),"",DATEDIF(I14,$K$4,"YM")),"") -> 9 | M14: =IFERROR(IF(OR($K$4="",B14="",A14="",I14=""),"",DATEDIF(I14,$K$4,"MD")),"") -> 14 | N14: UG | O14: 0.55 | P14: B.P.Ed. | Q14: 0.75 | V14: HINDU | W14: OBC | X14: MALE | CE14: =IFERROR(IF(I14="","",YEAR(I14)),"") -> 2000 | CF14: =IFERROR(IF(I14="","",MONTH(I14)),"") -> 1 | CG14: =IFERROR(IF(I14="","",DAY(I14)),"") -> 17 | CH14: =IF(CE14=1961,"NINETEEN SIXTY ONE",IF(CE14=1962,"NINETEEN SIXTY TWO",IF(CE14=1963,"NINETEEN SIXTY THREE",IF(CE14=1964,"NINETEEN SIXTY FOUR",IF(CE14=1965,"NINETEEN SIXTY FIVE",IF(CE14=1966,"NINETEEN SIXTY SIX",IF(CE14=1967,"NINETEEN SIXTY SEVEN",IF(CE14=1968,"NINETEEN SIXTY EIGHT",IF(CE14=1969,"NINETEEN SIXTY NINE",IF(CE14=1970,"NINETEEN SEVENTY",IF(CE14=1971,"NINETEEN SEVENTY ONE",IF(CE14=1972,"NINETEEN SEVENTY TWO",IF(CE14=1973,"NINETEEN SEVENTY THREE",IF(CE14=1974,"NINETEEN SEVENTY FOUR",IF(CE14=1975,"NINETEEN SEVENTY FIVE",IF(CE14=1976,"NINETEEN SEVENTY SIX",IF(CE14=1977,"NINETEEN SEVENTY SEVEN",IF(CE14=1978,"NINETEEN SEVENTY EIGHT",IF(CE14=1979,"NINETEEN SEVENTY NINE",IF(CE14=1980,"NINETEEN EIGHTY",IF(CE14=1981,"NINETEEN EIGHTY ONE",IF(CE14=1982,"NINETEEN EIGHTY TWO",IF(CE14=1983,"NINETEEN EIGHTY THREE",IF(CE14=1984,"NINETEEN EIGHTY FOUR",IF(CE14=1985,"NINETEEN EIGHTY FIVE",IF(CE14=1986,"NINETEEN EIGHTY SIX",IF(CE14=1987,"NINETEEN EIGHTY SEVEN",IF(CE14=1988,"NINETEEN EIGHTY EIGHT",IF(CE14=1989,"NINETEEN EIGHTY NINE",IF(CE14=1990,"NINETEEN NINETY",IF(CE14=1991,"NINETEEN NINETY ONE",IF(CE14=1992,"NINETEEN NINETY TWO",IF(CE14=1993,"NINETEEN NINETY THREE",IF(CE14=1994,"NINETEEN NINETY FOUR",IF(CE14=1995,"NINETEEN NINETY FIVE",IF(CE14=1996,"NINETEEN NINETY SIX",IF(CE14=1997,"NINETEEN NINETY SEVEN",IF(CE14=1998,"NINETEEN NINETY EIGHT",IF(CE14=1999,"NINETEEN NINETY NINE",IF(CE14=2000,"TWO THOUSAND",IF(CE14=2001,"TWO THOUSAND ONE",IF(CE14=2002,"TWO THOUSAND TWO",IF(CE14=2003,"TWO THOUSAND THREE",IF(CE14=2004,"TWO THOUSAND FOUR",IF(CE14=2005,"TWO THOUSAND FIVE",IF(CE14=2006,"TWO THOUSAND SIX",IF(CE14=2007,"TWO THOUSAND SEVEN",IF(CE14=2008,"TWO THOUSAND EIGHT",IF(CE14=2009,"TWO THOUSAND NINE",IF(CE14=2010,"TWO THOUSAND TEN",IF(CE14=2011,"TWO THOUSAND ELEVEN",IF(CE14=2012,"TWO THOUSAND TWELVE",IF(CE14=2013,"TWO THOUSAND THIRTEEN",IF(CE14=2014,"TWO THOUSAND FOURTEEN",IF(CE14=2015,"TWO THOUSAND FIFTEEN",IF(CE14=2016,"TWO THOUSAND SIXTEEN",IF(CE14=2017,"TWO THOUSAND SEVENTEEN",IF(CE14=2018,"TWO THOUSAND EIGHTEEN",IF(CE14=2019,"TWO THOUSAND NINETEEN",IF(CE14=2020,"TWO THOUSAND TWENTY",IF(CE14=2021,"TWO THOUSAND TWENTY ONE",IF(CE14=2022,"TWO THOUSAND TWENTY TWO",IF(CE14=2023,"TWO THOUSAND TWENTY THREE",IF(CE14=2024,"TWO THOUSAND TWENTY FOUR",IF(CE14=2025,"TWO THOUSAND TWENTY FIVE",""))))))))))))))))))))))))))))))))))))))))))))))))))))))))))))))))) -> TWO THOUSAND | CI14: =IF(CF14=1,"JANUARY",IF(CF14=2,"FEBUARY", IF(CF14=3,"MARCH",IF(CF14=4,"APRIL",IF(CF14=5,"MAY",IF(CF14=6,"JUNE",IF(CF14=7,"JULY",IF(CF14=8,"AUGUST",IF(CF14=9,"SEPTEMBER",IF(CF14=10,"OCTOBER",IF(CF14=11,"NOVEMBER",IF(CF14=12,"DECEMBER","")))))))))))) -> JANUARY | CJ14: =IF(CG14=1,"1ST",IF(CG14=2,"2ND", IF(CG14=3,"3RD",IF(CG14=4,"FOURTH",IF(CG14=5,"FIFTH",IF(CG14=6,"SIXTH",IF(CG14=7,"7TH",IF(CG14=8,"8TH",IF(CG14=9,"9TH",IF(CG14=10,"10TH",IF(CG14=11,"11TH",IF(CG14=12,"12TH",IF(CG14=13,"13TH",IF(CG14=14,"14TH",IF(CG14=15,"FIFTEEN",IF(CG14=16,"SIXTEEN",IF(CG14=17,"SEVENTEEN",IF(CG14=18,"EIGHTEEN",IF(CG14=19,"NINETEEN",IF(CG14=20,"TWENTY",IF(CG14=21,"TWENTY FIRST",IF(CG14=22,"TWENTY SECOND",IF(CG14=23,"TWENTY THIRD",IF(CG14=24,"TWENTY FOURTH",IF(CG14=25,"TWENTY FIFTH",IF(CG14=26,"TWENTY SIX",IF(CG14=27,"TWENTY SEVEN",IF(CG14=28,"TWENTY EIGHT",IF(CG14=29,"TWENTY NINE",IF(CG14=30,"THIRTY",IF(CG14=31,"THIRTY FIRST",""))))))))))))))))))))))))))))))) -> SEVENTEEN | CK14: =IFERROR(IF(AND(CH14="",CI14="",CJ14=""),"",CONCATENATE(CI14," ",CJ14,", ",CH14)),"") -> JANUARY SEVENTEEN, TWO THOUSAND | CL14: =IF(F14="","",IF(F14="3rd Grade L-1","YES","")) | CM14: 9th | CR14: HISTORY | CV14: =IF(F14="","",IF(F14=$CN$6,"3rd Grade L-1",IF(F14=$CN$7,"3rd Grade L-2",IF(F14=$CN$8,"2nd Grade",IF(F14=$CN$9,"1st Grade (Lecturer)",IF(F14=$CN$10,"Lab. Ass.",IF(F14=$CN$11,"3rd Grade P.E.T.",""))))))) -> 3rd Grade P.E.T.
A15: =IFERROR(IF(AND(B15="",C15="",F15="",I15=""),"",A14+1),"") -> 10 | B15: fgkl | C15: po]p\ | D15: 123461 | E15: =IFERROR(VLOOKUP(D15,PEEO_SCHOOL,3,0),"") -> GUPS NO. 06 | F15: First_Grade_School_Lecturer | G15: HISTORY | I15: 31332 | J15: =IFERROR(IF(CK15="","",CK15),"") -> OCTOBER 12TH, NINETEEN EIGHTY FIVE | K15: =IFERROR(IF(OR($K$4="",B15="",A15="",I15=""),"",DATEDIF(I15,$K$4,"Y")),"") -> 37 | L15: =IFERROR(IF(OR($K$4="",B15="",A15="",I15=""),"",DATEDIF(I15,$K$4,"YM")),"") -> 0 | M15: =IFERROR(IF(OR($K$4="",B15="",A15="",I15=""),"",DATEDIF(I15,$K$4,"MD")),"") -> 19 | N15: PG | O15: 0.6 | P15: B.ed | Q15: 0.7 | T15: AJMER | U15: KISHANGARH | V15: HINDU | W15: GEN | X15: MALE | CE15: =IFERROR(IF(I15="","",YEAR(I15)),"") -> 1985 | CF15: =IFERROR(IF(I15="","",MONTH(I15)),"") -> 10 | CG15: =IFERROR(IF(I15="","",DAY(I15)),"") -> 12 | CH15: =IF(CE15=1961,"NINETEEN SIXTY ONE",IF(CE15=1962,"NINETEEN SIXTY TWO",IF(CE15=1963,"NINETEEN SIXTY THREE",IF(CE15=1964,"NINETEEN SIXTY FOUR",IF(CE15=1965,"NINETEEN SIXTY FIVE",IF(CE15=1966,"NINETEEN SIXTY SIX",IF(CE15=1967,"NINETEEN SIXTY SEVEN",IF(CE15=1968,"NINETEEN SIXTY EIGHT",IF(CE15=1969,"NINETEEN SIXTY NINE",IF(CE15=1970,"NINETEEN SEVENTY",IF(CE15=1971,"NINETEEN SEVENTY ONE",IF(CE15=1972,"NINETEEN SEVENTY TWO",IF(CE15=1973,"NINETEEN SEVENTY THREE",IF(CE15=1974,"NINETEEN SEVENTY FOUR",IF(CE15=1975,"NINETEEN SEVENTY FIVE",IF(CE15=1976,"NINETEEN SEVENTY SIX",IF(CE15=1977,"NINETEEN SEVENTY SEVEN",IF(CE15=1978,"NINETEEN SEVENTY EIGHT",IF(CE15=1979,"NINETEEN SEVENTY NINE",IF(CE15=1980,"NINETEEN EIGHTY",IF(CE15=1981,"NINETEEN EIGHTY ONE",IF(CE15=1982,"NINETEEN EIGHTY TWO",IF(CE15=1983,"NINETEEN EIGHTY THREE",IF(CE15=1984,"NINETEEN EIGHTY FOUR",IF(CE15=1985,"NINETEEN EIGHTY FIVE",IF(CE15=1986,"NINETEEN EIGHTY SIX",IF(CE15=1987,"NINETEEN EIGHTY SEVEN",IF(CE15=1988,"NINETEEN EIGHTY EIGHT",IF(CE15=1989,"NINETEEN EIGHTY NINE",IF(CE15=1990,"NINETEEN NINETY",IF(CE15=1991,"NINETEEN NINETY ONE",IF(CE15=1992,"NINETEEN NINETY TWO",IF(CE15=1993,"NINETEEN NINETY THREE",IF(CE15=1994,"NINETEEN NINETY FOUR",IF(CE15=1995,"NINETEEN NINETY FIVE",IF(CE15=1996,"NINETEEN NINETY SIX",IF(CE15=1997,"NINETEEN NINETY SEVEN",IF(CE15=1998,"NINETEEN NINETY EIGHT",IF(CE15=1999,"NINETEEN NINETY NINE",IF(CE15=2000,"TWO THOUSAND",IF(CE15=2001,"TWO THOUSAND ONE",IF(CE15=2002,"TWO THOUSAND TWO",IF(CE15=2003,"TWO THOUSAND THREE",IF(CE15=2004,"TWO THOUSAND FOUR",IF(CE15=2005,"TWO THOUSAND FIVE",IF(CE15=2006,"TWO THOUSAND SIX",IF(CE15=2007,"TWO THOUSAND SEVEN",IF(CE15=2008,"TWO THOUSAND EIGHT",IF(CE15=2009,"TWO THOUSAND NINE",IF(CE15=2010,"TWO THOUSAND TEN",IF(CE15=2011,"TWO THOUSAND ELEVEN",IF(CE15=2012,"TWO THOUSAND TWELVE",IF(CE15=2013,"TWO THOUSAND THIRTEEN",IF(CE15=2014,"TWO THOUSAND FOURTEEN",IF(CE15=2015,"TWO THOUSAND FIFTEEN",IF(CE15=2016,"TWO THOUSAND SIXTEEN",IF(CE15=2017,"TWO THOUSAND SEVENTEEN",IF(CE15=2018,"TWO THOUSAND EIGHTEEN",IF(CE15=2019,"TWO THOUSAND NINETEEN",IF(CE15=2020,"TWO THOUSAND TWENTY",IF(CE15=2021,"TWO THOUSAND TWENTY ONE",IF(CE15=2022,"TWO THOUSAND TWENTY TWO",IF(CE15=2023,"TWO THOUSAND TWENTY THREE",IF(CE15=2024,"TWO THOUSAND TWENTY FOUR",IF(CE15=2025,"TWO THOUSAND TWENTY FIVE",""))))))))))))))))))))))))))))))))))))))))))))))))))))))))))))))))) -> NINETEEN EIGHTY FIVE | CI15: =IF(CF15=1,"JANUARY",IF(CF15=2,"FEBUARY", IF(CF15=3,"MARCH",IF(CF15=4,"APRIL",IF(CF15=5,"MAY",IF(CF15=6,"JUNE",IF(CF15=7,"JULY",IF(CF15=8,"AUGUST",IF(CF15=9,"SEPTEMBER",IF(CF15=10,"OCTOBER",IF(CF15=11,"NOVEMBER",IF(CF15=12,"DECEMBER","")))))))))))) -> OCTOBER | CJ15: =IF(CG15=1,"1ST",IF(CG15=2,"2ND", IF(CG15=3,"3RD",IF(CG15=4,"FOURTH",IF(CG15=5,"FIFTH",IF(CG15=6,"SIXTH",IF(CG15=7,"7TH",IF(CG15=8,"8TH",IF(CG15=9,"9TH",IF(CG15=10,"10TH",IF(CG15=11,"11TH",IF(CG15=12,"12TH",IF(CG15=13,"13TH",IF(CG15=14,"14TH",IF(CG15=15,"FIFTEEN",IF(CG15=16,"SIXTEEN",IF(CG15=17,"SEVENTEEN",IF(CG15=18,"EIGHTEEN",IF(CG15=19,"NINETEEN",IF(CG15=20,"TWENTY",IF(CG15=21,"TWENTY FIRST",IF(CG15=22,"TWENTY SECOND",IF(CG15=23,"TWENTY THIRD",IF(CG15=24,"TWENTY FOURTH",IF(CG15=25,"TWENTY FIFTH",IF(CG15=26,"TWENTY SIX",IF(CG15=27,"TWENTY SEVEN",IF(CG15=28,"TWENTY EIGHT",IF(CG15=29,"TWENTY NINE",IF(CG15=30,"THIRTY",IF(CG15=31,"THIRTY FIRST",""))))))))))))))))))))))))))))))) -> 12TH | CK15: =IFERROR(IF(AND(CH15="",CI15="",CJ15=""),"",CONCATENATE(CI15," ",CJ15,", ",CH15)),"") -> OCTOBER 12TH, NINETEEN EIGHTY FIVE | CL15: =IF(F15="","",IF(F15="3rd Grade L-1","YES","")) | CM15: 10th | CR15: MATHEMATICS | CV15: =IF(F15="","",IF(F15=$CN$6,"3rd Grade L-1",IF(F15=$CN$7,"3rd Grade L-2",IF(F15=$CN$8,"2nd Grade",IF(F15=$CN$9,"1st Grade (Lecturer)",IF(F15=$CN$10,"Lab. Ass.",IF(F15=$CN$11,"3rd Grade P.E.T.",""))))))) -> 1st Grade (Lecturer)
A16: =IFERROR(IF(AND(B16="",C16="",F16="",I16=""),"",A15+1),"") -> 11 | B16: ram | C16: shyam | D16: 333333 | E16: =IFERROR(VLOOKUP(D16,PEEO_SCHOOL,3,0),"") -> GUPS NO. 01 | F16: First_Grade_School_Lecturer | G16: Compulsory Hindi | I16: 29950 | J16: =IFERROR(IF(CK16="","",CK16),"") -> DECEMBER THIRTY, NINETEEN EIGHTY ONE | K16: =IFERROR(IF(OR($K$4="",B16="",A16="",I16=""),"",DATEDIF(I16,$K$4,"Y")),"") -> 40 | L16: =IFERROR(IF(OR($K$4="",B16="",A16="",I16=""),"",DATEDIF(I16,$K$4,"YM")),"") -> 10 | M16: =IFERROR(IF(OR($K$4="",B16="",A16="",I16=""),"",DATEDIF(I16,$K$4,"MD")),"") -> 1 | N16: PG | O16: 0.84 | P16: B.ed | Q16: 0.7 | W16: ST | X16: FEMALE | CE16: =IFERROR(IF(I16="","",YEAR(I16)),"") -> 1981 | CF16: =IFERROR(IF(I16="","",MONTH(I16)),"") -> 12 | CG16: =IFERROR(IF(I16="","",DAY(I16)),"") -> 30 | CH16: =IF(CE16=1961,"NINETEEN SIXTY ONE",IF(CE16=1962,"NINETEEN SIXTY TWO",IF(CE16=1963,"NINETEEN SIXTY THREE",IF(CE16=1964,"NINETEEN SIXTY FOUR",IF(CE16=1965,"NINETEEN SIXTY FIVE",IF(CE16=1966,"NINETEEN SIXTY SIX",IF(CE16=1967,"NINETEEN SIXTY SEVEN",IF(CE16=1968,"NINETEEN SIXTY EIGHT",IF(CE16=1969,"NINETEEN SIXTY NINE",IF(CE16=1970,"NINETEEN SEVENTY",IF(CE16=1971,"NINETEEN SEVENTY ONE",IF(CE16=1972,"NINETEEN SEVENTY TWO",IF(CE16=1973,"NINETEEN SEVENTY THREE",IF(CE16=1974,"NINETEEN SEVENTY FOUR",IF(CE16=1975,"NINETEEN SEVENTY FIVE",IF(CE16=1976,"NINETEEN SEVENTY SIX",IF(CE16=1977,"NINETEEN SEVENTY SEVEN",IF(CE16=1978,"NINETEEN SEVENTY EIGHT",IF(CE16=1979,"NINETEEN SEVENTY NINE",IF(CE16=1980,"NINETEEN EIGHTY",IF(CE16=1981,"NINETEEN EIGHTY ONE",IF(CE16=1982,"NINETEEN EIGHTY TWO",IF(CE16=1983,"NINETEEN EIGHTY THREE",IF(CE16=1984,"NINETEEN EIGHTY FOUR",IF(CE16=1985,"NINETEEN EIGHTY FIVE",IF(CE16=1986,"NINETEEN EIGHTY SIX",IF(CE16=1987,"NINETEEN EIGHTY SEVEN",IF(CE16=1988,"NINETEEN EIGHTY EIGHT",IF(CE16=1989,"NINETEEN EIGHTY NINE",IF(CE16=1990,"NINETEEN NINETY",IF(CE16=1991,"NINETEEN NINETY ONE",IF(CE16=1992,"NINETEEN NINETY TWO",IF(CE16=1993,"NINETEEN NINETY THREE",IF(CE16=1994,"NINETEEN NINETY FOUR",IF(CE16=1995,"NINETEEN NINETY FIVE",IF(CE16=1996,"NINETEEN NINETY SIX",IF(CE16=1997,"NINETEEN NINETY SEVEN",IF(CE16=1998,"NINETEEN NINETY EIGHT",IF(CE16=1999,"NINETEEN NINETY NINE",IF(CE16=2000,"TWO THOUSAND",IF(CE16=2001,"TWO THOUSAND ONE",IF(CE16=2002,"TWO THOUSAND TWO",IF(CE16=2003,"TWO THOUSAND THREE",IF(CE16=2004,"TWO THOUSAND FOUR",IF(CE16=2005,"TWO THOUSAND FIVE",IF(CE16=2006,"TWO THOUSAND SIX",IF(CE16=2007,"TWO THOUSAND SEVEN",IF(CE16=2008,"TWO THOUSAND EIGHT",IF(CE16=2009,"TWO THOUSAND NINE",IF(CE16=2010,"TWO THOUSAND TEN",IF(CE16=2011,"TWO THOUSAND ELEVEN",IF(CE16=2012,"TWO THOUSAND TWELVE",IF(CE16=2013,"TWO THOUSAND THIRTEEN",IF(CE16=2014,"TWO THOUSAND FOURTEEN",IF(CE16=2015,"TWO THOUSAND FIFTEEN",IF(CE16=2016,"TWO THOUSAND SIXTEEN",IF(CE16=2017,"TWO THOUSAND SEVENTEEN",IF(CE16=2018,"TWO THOUSAND EIGHTEEN",IF(CE16=2019,"TWO THOUSAND NINETEEN",IF(CE16=2020,"TWO THOUSAND TWENTY",IF(CE16=2021,"TWO THOUSAND TWENTY ONE",IF(CE16=2022,"TWO THOUSAND TWENTY TWO",IF(CE16=2023,"TWO THOUSAND TWENTY THREE",IF(CE16=2024,"TWO THOUSAND TWENTY FOUR",IF(CE16=2025,"TWO THOUSAND TWENTY FIVE",""))))))))))))))))))))))))))))))))))))))))))))))))))))))))))))))))) -> NINETEEN EIGHTY ONE | CI16: =IF(CF16=1,"JANUARY",IF(CF16=2,"FEBUARY", IF(CF16=3,"MARCH",IF(CF16=4,"APRIL",IF(CF16=5,"MAY",IF(CF16=6,"JUNE",IF(CF16=7,"JULY",IF(CF16=8,"AUGUST",IF(CF16=9,"SEPTEMBER",IF(CF16=10,"OCTOBER",IF(CF16=11,"NOVEMBER",IF(CF16=12,"DECEMBER","")))))))))))) -> DECEMBER | CJ16: =IF(CG16=1,"1ST",IF(CG16=2,"2ND", IF(CG16=3,"3RD",IF(CG16=4,"FOURTH",IF(CG16=5,"FIFTH",IF(CG16=6,"SIXTH",IF(CG16=7,"7TH",IF(CG16=8,"8TH",IF(CG16=9,"9TH",IF(CG16=10,"10TH",IF(CG16=11,"11TH",IF(CG16=12,"12TH",IF(CG16=13,"13TH",IF(CG16=14,"14TH",IF(CG16=15,"FIFTEEN",IF(CG16=16,"SIXTEEN",IF(CG16=17,"SEVENTEEN",IF(CG16=18,"EIGHTEEN",IF(CG16=19,"NINETEEN",IF(CG16=20,"TWENTY",IF(CG16=21,"TWENTY FIRST",IF(CG16=22,"TWENTY SECOND",IF(CG16=23,"TWENTY THIRD",IF(CG16=24,"TWENTY FOURTH",IF(CG16=25,"TWENTY FIFTH",IF(CG16=26,"TWENTY SIX",IF(CG16=27,"TWENTY SEVEN",IF(CG16=28,"TWENTY EIGHT",IF(CG16=29,"TWENTY NINE",IF(CG16=30,"THIRTY",IF(CG16=31,"THIRTY FIRST",""))))))))))))))))))))))))))))))) -> THIRTY | CK16: =IFERROR(IF(AND(CH16="",CI16="",CJ16=""),"",CONCATENATE(CI16," ",CJ16,", ",CH16)),"") -> DECEMBER THIRTY, NINETEEN EIGHTY ONE | CL16: =IF(F16="","",IF(F16="3rd Grade L-1","YES","")) | CM16: 11th | CR16: PHILOSOPHY | CV16: =IF(F16="","",IF(F16=$CN$6,"3rd Grade L-1",IF(F16=$CN$7,"3rd Grade L-2",IF(F16=$CN$8,"2nd Grade",IF(F16=$CN$9,"1st Grade (Lecturer)",IF(F16=$CN$10,"Lab. Ass.",IF(F16=$CN$11,"3rd Grade P.E.T.",""))))))) -> 1st Grade (Lecturer)
A17: =IFERROR(IF(AND(B17="",C17="",F17="",I17=""),"",A16+1),"") | E17: =IFERROR(VLOOKUP(D17,PEEO_SCHOOL,3,0),"") | J17: =IFERROR(IF(CK17="","",CK17),"") | K17: =IFERROR(IF(OR($K$4="",B17="",A17="",I17=""),"",DATEDIF(I17,$K$4,"Y")),"") | L17: =IFERROR(IF(OR($K$4="",B17="",A17="",I17=""),"",DATEDIF(I17,$K$4,"YM")),"") | M17: =IFERROR(IF(OR($K$4="",B17="",A17="",I17=""),"",DATEDIF(I17,$K$4,"MD")),"") | CE17: =IFERROR(IF(I17="","",YEAR(I17)),"") | CF17: =IFERROR(IF(I17="","",MONTH(I17)),"") | CG17: =IFERROR(IF(I17="","",DAY(I17)),"") | CH17: =IF(CE17=1961,"NINETEEN SIXTY ONE",IF(CE17=1962,"NINETEEN SIXTY TWO",IF(CE17=1963,"NINETEEN SIXTY THREE",IF(CE17=1964,"NINETEEN SIXTY FOUR",IF(CE17=1965,"NINETEEN SIXTY FIVE",IF(CE17=1966,"NINETEEN SIXTY SIX",IF(CE17=1967,"NINETEEN SIXTY SEVEN",IF(CE17=1968,"NINETEEN SIXTY EIGHT",IF(CE17=1969,"NINETEEN SIXTY NINE",IF(CE17=1970,"NINETEEN SEVENTY",IF(CE17=1971,"NINETEEN SEVENTY ONE",IF(CE17=1972,"NINETEEN SEVENTY TWO",IF(CE17=1973,"NINETEEN SEVENTY THREE",IF(CE17=1974,"NINETEEN SEVENTY FOUR",IF(CE17=1975,"NINETEEN SEVENTY FIVE",IF(CE17=1976,"NINETEEN SEVENTY SIX",IF(CE17=1977,"NINETEEN SEVENTY SEVEN",IF(CE17=1978,"NINETEEN SEVENTY EIGHT",IF(CE17=1979,"NINETEEN SEVENTY NINE",IF(CE17=1980,"NINETEEN EIGHTY",IF(CE17=1981,"NINETEEN EIGHTY ONE",IF(CE17=1982,"NINETEEN EIGHTY TWO",IF(CE17=1983,"NINETEEN EIGHTY THREE",IF(CE17=1984,"NINETEEN EIGHTY FOUR",IF(CE17=1985,"NINETEEN EIGHTY FIVE",IF(CE17=1986,"NINETEEN EIGHTY SIX",IF(CE17=1987,"NINETEEN EIGHTY SEVEN",IF(CE17=1988,"NINETEEN EIGHTY EIGHT",IF(CE17=1989,"NINETEEN EIGHTY NINE",IF(CE17=1990,"NINETEEN NINETY",IF(CE17=1991,"NINETEEN NINETY ONE",IF(CE17=1992,"NINETEEN NINETY TWO",IF(CE17=1993,"NINETEEN NINETY THREE",IF(CE17=1994,"NINETEEN NINETY FOUR",IF(CE17=1995,"NINETEEN NINETY FIVE",IF(CE17=1996,"NINETEEN NINETY SIX",IF(CE17=1997,"NINETEEN NINETY SEVEN",IF(CE17=1998,"NINETEEN NINETY EIGHT",IF(CE17=1999,"NINETEEN NINETY NINE",IF(CE17=2000,"TWO THOUSAND",IF(CE17=2001,"TWO THOUSAND ONE",IF(CE17=2002,"TWO THOUSAND TWO",IF(CE17=2003,"TWO THOUSAND THREE",IF(CE17=2004,"TWO THOUSAND FOUR",IF(CE17=2005,"TWO THOUSAND FIVE",IF(CE17=2006,"TWO THOUSAND SIX",IF(CE17=2007,"TWO THOUSAND SEVEN",IF(CE17=2008,"TWO THOUSAND EIGHT",IF(CE17=2009,"TWO THOUSAND NINE",IF(CE17=2010,"TWO THOUSAND TEN",IF(CE17=2011,"TWO THOUSAND ELEVEN",IF(CE17=2012,"TWO THOUSAND TWELVE",IF(CE17=2013,"TWO THOUSAND THIRTEEN",IF(CE17=2014,"TWO THOUSAND FOURTEEN",IF(CE17=2015,"TWO THOUSAND FIFTEEN",IF(CE17=2016,"TWO THOUSAND SIXTEEN",IF(CE17=2017,"TWO THOUSAND SEVENTEEN",IF(CE17=2018,"TWO THOUSAND EIGHTEEN",IF(CE17=2019,"TWO THOUSAND NINETEEN",IF(CE17=2020,"TWO THOUSAND TWENTY",IF(CE17=2021,"TWO THOUSAND TWENTY ONE",IF(CE17=2022,"TWO THOUSAND TWENTY TWO",IF(CE17=2023,"TWO THOUSAND TWENTY THREE",IF(CE17=2024,"TWO THOUSAND TWENTY FOUR",IF(CE17=2025,"TWO THOUSAND TWENTY FIVE",""))))))))))))))))))))))))))))))))))))))))))))))))))))))))))))))))) | CI17: =IF(CF17=1,"JANUARY",IF(CF17=2,"FEBUARY", IF(CF17=3,"MARCH",IF(CF17=4,"APRIL",IF(CF17=5,"MAY",IF(CF17=6,"JUNE",IF(CF17=7,"JULY",IF(CF17=8,"AUGUST",IF(CF17=9,"SEPTEMBER",IF(CF17=10,"OCTOBER",IF(CF17=11,"NOVEMBER",IF(CF17=12,"DECEMBER","")))))))))))) | CJ17: =IF(CG17=1,"1ST",IF(CG17=2,"2ND", IF(CG17=3,"3RD",IF(CG17=4,"FOURTH",IF(CG17=5,"FIFTH",IF(CG17=6,"SIXTH",IF(CG17=7,"7TH",IF(CG17=8,"8TH",IF(CG17=9,"9TH",IF(CG17=10,"10TH",IF(CG17=11,"11TH",IF(CG17=12,"12TH",IF(CG17=13,"13TH",IF(CG17=14,"14TH",IF(CG17=15,"FIFTEEN",IF(CG17=16,"SIXTEEN",IF(CG17=17,"SEVENTEEN",IF(CG17=18,"EIGHTEEN",IF(CG17=19,"NINETEEN",IF(CG17=20,"TWENTY",IF(CG17=21,"TWENTY FIRST",IF(CG17=22,"TWENTY SECOND",IF(CG17=23,"TWENTY THIRD",IF(CG17=24,"TWENTY FOURTH",IF(CG17=25,"TWENTY FIFTH",IF(CG17=26,"TWENTY SIX",IF(CG17=27,"TWENTY SEVEN",IF(CG17=28,"TWENTY EIGHT",IF(CG17=29,"TWENTY NINE",IF(CG17=30,"THIRTY",IF(CG17=31,"THIRTY FIRST",""))))))))))))))))))))))))))))))) | CK17: =IFERROR(IF(AND(CH17="",CI17="",CJ17=""),"",CONCATENATE(CI17," ",CJ17,", ",CH17)),"") | CL17: =IF(F17="","",IF(F17="3rd Grade L-1","YES","")) | CM17: 12th | CR17: PHYSICAL EDUCATION | CV17: =IF(F17="","",IF(F17=$CN$6,"3rd Grade L-1",IF(F17=$CN$7,"3rd Grade L-2",IF(F17=$CN$8,"2nd Grade",IF(F17=$CN$9,"1st Grade (Lecturer)",IF(F17=$CN$10,"Lab. Ass.",IF(F17=$CN$11,"3rd Grade P.E.T.","")))))))
A18: =IFERROR(IF(AND(B18="",C18="",F18="",I18=""),"",A17+1),"") | E18: =IFERROR(VLOOKUP(D18,PEEO_SCHOOL,3,0),"") | J18: =IFERROR(IF(CK18="","",CK18),"") | K18: =IFERROR(IF(OR($K$4="",B18="",A18="",I18=""),"",DATEDIF(I18,$K$4,"Y")),"") | L18: =IFERROR(IF(OR($K$4="",B18="",A18="",I18=""),"",DATEDIF(I18,$K$4,"YM")),"") | M18: =IFERROR(IF(OR($K$4="",B18="",A18="",I18=""),"",DATEDIF(I18,$K$4,"MD")),"") | CE18: =IFERROR(IF(I18="","",YEAR(I18)),"") | CF18: =IFERROR(IF(I18="","",MONTH(I18)),"") | CG18: =IFERROR(IF(I18="","",DAY(I18)),"") | CH18: =IF(CE18=1961,"NINETEEN SIXTY ONE",IF(CE18=1962,"NINETEEN SIXTY TWO",IF(CE18=1963,"NINETEEN SIXTY THREE",IF(CE18=1964,"NINETEEN SIXTY FOUR",IF(CE18=1965,"NINETEEN SIXTY FIVE",IF(CE18=1966,"NINETEEN SIXTY SIX",IF(CE18=1967,"NINETEEN SIXTY SEVEN",IF(CE18=1968,"NINETEEN SIXTY EIGHT",IF(CE18=1969,"NINETEEN SIXTY NINE",IF(CE18=1970,"NINETEEN SEVENTY",IF(CE18=1971,"NINETEEN SEVENTY ONE",IF(CE18=1972,"NINETEEN SEVENTY TWO",IF(CE18=1973,"NINETEEN SEVENTY THREE",IF(CE18=1974,"NINETEEN SEVENTY FOUR",IF(CE18=1975,"NINETEEN SEVENTY FIVE",IF(CE18=1976,"NINETEEN SEVENTY SIX",IF(CE18=1977,"NINETEEN SEVENTY SEVEN",IF(CE18=1978,"NINETEEN SEVENTY EIGHT",IF(CE18=1979,"NINETEEN SEVENTY NINE",IF(CE18=1980,"NINETEEN EIGHTY",IF(CE18=1981,"NINETEEN EIGHTY ONE",IF(CE18=1982,"NINETEEN EIGHTY TWO",IF(CE18=1983,"NINETEEN EIGHTY THREE",IF(CE18=1984,"NINETEEN EIGHTY FOUR",IF(CE18=1985,"NINETEEN EIGHTY FIVE",IF(CE18=1986,"NINETEEN EIGHTY SIX",IF(CE18=1987,"NINETEEN EIGHTY SEVEN",IF(CE18=1988,"NINETEEN EIGHTY EIGHT",IF(CE18=1989,"NINETEEN EIGHTY NINE",IF(CE18=1990,"NINETEEN NINETY",IF(CE18=1991,"NINETEEN NINETY ONE",IF(CE18=1992,"NINETEEN NINETY TWO",IF(CE18=1993,"NINETEEN NINETY THREE",IF(CE18=1994,"NINETEEN NINETY FOUR",IF(CE18=1995,"NINETEEN NINETY FIVE",IF(CE18=1996,"NINETEEN NINETY SIX",IF(CE18=1997,"NINETEEN NINETY SEVEN",IF(CE18=1998,"NINETEEN NINETY EIGHT",IF(CE18=1999,"NINETEEN NINETY NINE",IF(CE18=2000,"TWO THOUSAND",IF(CE18=2001,"TWO THOUSAND ONE",IF(CE18=2002,"TWO THOUSAND TWO",IF(CE18=2003,"TWO THOUSAND THREE",IF(CE18=2004,"TWO THOUSAND FOUR",IF(CE18=2005,"TWO THOUSAND FIVE",IF(CE18=2006,"TWO THOUSAND SIX",IF(CE18=2007,"TWO THOUSAND SEVEN",IF(CE18=2008,"TWO THOUSAND EIGHT",IF(CE18=2009,"TWO THOUSAND NINE",IF(CE18=2010,"TWO THOUSAND TEN",IF(CE18=2011,"TWO THOUSAND ELEVEN",IF(CE18=2012,"TWO THOUSAND TWELVE",IF(CE18=2013,"TWO THOUSAND THIRTEEN",IF(CE18=2014,"TWO THOUSAND FOURTEEN",IF(CE18=2015,"TWO THOUSAND FIFTEEN",IF(CE18=2016,"TWO THOUSAND SIXTEEN",IF(CE18=2017,"TWO THOUSAND SEVENTEEN",IF(CE18=2018,"TWO THOUSAND EIGHTEEN",IF(CE18=2019,"TWO THOUSAND NINETEEN",IF(CE18=2020,"TWO THOUSAND TWENTY",IF(CE18=2021,"TWO THOUSAND TWENTY ONE",IF(CE18=2022,"TWO THOUSAND TWENTY TWO",IF(CE18=2023,"TWO THOUSAND TWENTY THREE",IF(CE18=2024,"TWO THOUSAND TWENTY FOUR",IF(CE18=2025,"TWO THOUSAND TWENTY FIVE",""))))))))))))))))))))))))))))))))))))))))))))))))))))))))))))))))) | CI18: =IF(CF18=1,"JANUARY",IF(CF18=2,"FEBUARY", IF(CF18=3,"MARCH",IF(CF18=4,"APRIL",IF(CF18=5,"MAY",IF(CF18=6,"JUNE",IF(CF18=7,"JULY",IF(CF18=8,"AUGUST",IF(CF18=9,"SEPTEMBER",IF(CF18=10,"OCTOBER",IF(CF18=11,"NOVEMBER",IF(CF18=12,"DECEMBER","")))))))))))) | CJ18: =IF(CG18=1,"1ST",IF(CG18=2,"2ND", IF(CG18=3,"3RD",IF(CG18=4,"FOURTH",IF(CG18=5,"FIFTH",IF(CG18=6,"SIXTH",IF(CG18=7,"7TH",IF(CG18=8,"8TH",IF(CG18=9,"9TH",IF(CG18=10,"10TH",IF(CG18=11,"11TH",IF(CG18=12,"12TH",IF(CG18=13,"13TH",IF(CG18=14,"14TH",IF(CG18=15,"FIFTEEN",IF(CG18=16,"SIXTEEN",IF(CG18=17,"SEVENTEEN",IF(CG18=18,"EIGHTEEN",IF(CG18=19,"NINETEEN",IF(CG18=20,"TWENTY",IF(CG18=21,"TWENTY FIRST",IF(CG18=22,"TWENTY SECOND",IF(CG18=23,"TWENTY THIRD",IF(CG18=24,"TWENTY FOURTH",IF(CG18=25,"TWENTY FIFTH",IF(CG18=26,"TWENTY SIX",IF(CG18=27,"TWENTY SEVEN",IF(CG18=28,"TWENTY EIGHT",IF(CG18=29,"TWENTY NINE",IF(CG18=30,"THIRTY",IF(CG18=31,"THIRTY FIRST",""))))))))))))))))))))))))))))))) | CK18: =IFERROR(IF(AND(CH18="",CI18="",CJ18=""),"",CONCATENATE(CI18," ",CJ18,", ",CH18)),"") | CL18: =IF(F18="","",IF(F18="3rd Grade L-1","YES","")) | CR18: POLITICAL SCIENCE | CV18: =IF(F18="","",IF(F18=$CN$6,"3rd Grade L-1",IF(F18=$CN$7,"3rd Grade L-2",IF(F18=$CN$8,"2nd Grade",IF(F18=$CN$9,"1st Grade (Lecturer)",IF(F18=$CN$10,"Lab. Ass.",IF(F18=$CN$11,"3rd Grade P.E.T.","")))))))
A19: =IFERROR(IF(AND(B19="",C19="",F19="",I19=""),"",A18+1),"") | E19: =IFERROR(VLOOKUP(D19,PEEO_SCHOOL,3,0),"") | J19: =IFERROR(IF(CK19="","",CK19),"") | K19: =IFERROR(IF(OR($K$4="",B19="",A19="",I19=""),"",DATEDIF(I19,$K$4,"Y")),"") | L19: =IFERROR(IF(OR($K$4="",B19="",A19="",I19=""),"",DATEDIF(I19,$K$4,"YM")),"") | M19: =IFERROR(IF(OR($K$4="",B19="",A19="",I19=""),"",DATEDIF(I19,$K$4,"MD")),"") | CE19: =IFERROR(IF(I19="","",YEAR(I19)),"") | CF19: =IFERROR(IF(I19="","",MONTH(I19)),"") | CG19: =IFERROR(IF(I19="","",DAY(I19)),"") | CH19: =IF(CE19=1961,"NINETEEN SIXTY ONE",IF(CE19=1962,"NINETEEN SIXTY TWO",IF(CE19=1963,"NINETEEN SIXTY THREE",IF(CE19=1964,"NINETEEN SIXTY FOUR",IF(CE19=1965,"NINETEEN SIXTY FIVE",IF(CE19=1966,"NINETEEN SIXTY SIX",IF(CE19=1967,"NINETEEN SIXTY SEVEN",IF(CE19=1968,"NINETEEN SIXTY EIGHT",IF(CE19=1969,"NINETEEN SIXTY NINE",IF(CE19=1970,"NINETEEN SEVENTY",IF(CE19=1971,"NINETEEN SEVENTY ONE",IF(CE19=1972,"NINETEEN SEVENTY TWO",IF(CE19=1973,"NINETEEN SEVENTY THREE",IF(CE19=1974,"NINETEEN SEVENTY FOUR",IF(CE19=1975,"NINETEEN SEVENTY FIVE",IF(CE19=1976,"NINETEEN SEVENTY SIX",IF(CE19=1977,"NINETEEN SEVENTY SEVEN",IF(CE19=1978,"NINETEEN SEVENTY EIGHT",IF(CE19=1979,"NINETEEN SEVENTY NINE",IF(CE19=1980,"NINETEEN EIGHTY",IF(CE19=1981,"NINETEEN EIGHTY ONE",IF(CE19=1982,"NINETEEN EIGHTY TWO",IF(CE19=1983,"NINETEEN EIGHTY THREE",IF(CE19=1984,"NINETEEN EIGHTY FOUR",IF(CE19=1985,"NINETEEN EIGHTY FIVE",IF(CE19=1986,"NINETEEN EIGHTY SIX",IF(CE19=1987,"NINETEEN EIGHTY SEVEN",IF(CE19=1988,"NINETEEN EIGHTY EIGHT",IF(CE19=1989,"NINETEEN EIGHTY NINE",IF(CE19=1990,"NINETEEN NINETY",IF(CE19=1991,"NINETEEN NINETY ONE",IF(CE19=1992,"NINETEEN NINETY TWO",IF(CE19=1993,"NINETEEN NINETY THREE",IF(CE19=1994,"NINETEEN NINETY FOUR",IF(CE19=1995,"NINETEEN NINETY FIVE",IF(CE19=1996,"NINETEEN NINETY SIX",IF(CE19=1997,"NINETEEN NINETY SEVEN",IF(CE19=1998,"NINETEEN NINETY EIGHT",IF(CE19=1999,"NINETEEN NINETY NINE",IF(CE19=2000,"TWO THOUSAND",IF(CE19=2001,"TWO THOUSAND ONE",IF(CE19=2002,"TWO THOUSAND TWO",IF(CE19=2003,"TWO THOUSAND THREE",IF(CE19=2004,"TWO THOUSAND FOUR",IF(CE19=2005,"TWO THOUSAND FIVE",IF(CE19=2006,"TWO THOUSAND SIX",IF(CE19=2007,"TWO THOUSAND SEVEN",IF(CE19=2008,"TWO THOUSAND EIGHT",IF(CE19=2009,"TWO THOUSAND NINE",IF(CE19=2010,"TWO THOUSAND TEN",IF(CE19=2011,"TWO THOUSAND ELEVEN",IF(CE19=2012,"TWO THOUSAND TWELVE",IF(CE19=2013,"TWO THOUSAND THIRTEEN",IF(CE19=2014,"TWO THOUSAND FOURTEEN",IF(CE19=2015,"TWO THOUSAND FIFTEEN",IF(CE19=2016,"TWO THOUSAND SIXTEEN",IF(CE19=2017,"TWO THOUSAND SEVENTEEN",IF(CE19=2018,"TWO THOUSAND EIGHTEEN",IF(CE19=2019,"TWO THOUSAND NINETEEN",IF(CE19=2020,"TWO THOUSAND TWENTY",IF(CE19=2021,"TWO THOUSAND TWENTY ONE",IF(CE19=2022,"TWO THOUSAND TWENTY TWO",IF(CE19=2023,"TWO THOUSAND TWENTY THREE",IF(CE19=2024,"TWO THOUSAND TWENTY FOUR",IF(CE19=2025,"TWO THOUSAND TWENTY FIVE",""))))))))))))))))))))))))))))))))))))))))))))))))))))))))))))))))) | CI19: =IF(CF19=1,"JANUARY",IF(CF19=2,"FEBUARY", IF(CF19=3,"MARCH",IF(CF19=4,"APRIL",IF(CF19=5,"MAY",IF(CF19=6,"JUNE",IF(CF19=7,"JULY",IF(CF19=8,"AUGUST",IF(CF19=9,"SEPTEMBER",IF(CF19=10,"OCTOBER",IF(CF19=11,"NOVEMBER",IF(CF19=12,"DECEMBER","")))))))))))) | CJ19: =IF(CG19=1,"1ST",IF(CG19=2,"2ND", IF(CG19=3,"3RD",IF(CG19=4,"FOURTH",IF(CG19=5,"FIFTH",IF(CG19=6,"SIXTH",IF(CG19=7,"7TH",IF(CG19=8,"8TH",IF(CG19=9,"9TH",IF(CG19=10,"10TH",IF(CG19=11,"11TH",IF(CG19=12,"12TH",IF(CG19=13,"13TH",IF(CG19=14,"14TH",IF(CG19=15,"FIFTEEN",IF(CG19=16,"SIXTEEN",IF(CG19=17,"SEVENTEEN",IF(CG19=18,"EIGHTEEN",IF(CG19=19,"NINETEEN",IF(CG19=20,"TWENTY",IF(CG19=21,"TWENTY FIRST",IF(CG19=22,"TWENTY SECOND",IF(CG19=23,"TWENTY THIRD",IF(CG19=24,"TWENTY FOURTH",IF(CG19=25,"TWENTY FIFTH",IF(CG19=26,"TWENTY SIX",IF(CG19=27,"TWENTY SEVEN",IF(CG19=28,"TWENTY EIGHT",IF(CG19=29,"TWENTY NINE",IF(CG19=30,"THIRTY",IF(CG19=31,"THIRTY FIRST",""))))))))))))))))))))))))))))))) | CK19: =IFERROR(IF(AND(CH19="",CI19="",CJ19=""),"",CONCATENATE(CI19," ",CJ19,", ",CH19)),"") | CL19: =IF(F19="","",IF(F19="3rd Grade L-1","YES","")) | CR19: PRAKRIT LITERATURE | CV19: =IF(F19="","",IF(F19=$CN$6,"3rd Grade L-1",IF(F19=$CN$7,"3rd Grade L-2",IF(F19=$CN$8,"2nd Grade",IF(F19=$CN$9,"1st Grade (Lecturer)",IF(F19=$CN$10,"Lab. Ass.",IF(F19=$CN$11,"3rd Grade P.E.T.","")))))))
A20: =IFERROR(IF(AND(B20="",C20="",F20="",I20=""),"",A19+1),"") | E20: =IFERROR(VLOOKUP(D20,PEEO_SCHOOL,3,0),"") | J20: =IFERROR(IF(CK20="","",CK20),"") | K20: =IFERROR(IF(OR($K$4="",B20="",A20="",I20=""),"",DATEDIF(I20,$K$4,"Y")),"") | L20: =IFERROR(IF(OR($K$4="",B20="",A20="",I20=""),"",DATEDIF(I20,$K$4,"YM")),"") | M20: =IFERROR(IF(OR($K$4="",B20="",A20="",I20=""),"",DATEDIF(I20,$K$4,"MD")),"") | CE20: =IFERROR(IF(I20="","",YEAR(I20)),"") | CF20: =IFERROR(IF(I20="","",MONTH(I20)),"") | CG20: =IFERROR(IF(I20="","",DAY(I20)),"") | CH20: =IF(CE20=1961,"NINETEEN SIXTY ONE",IF(CE20=1962,"NINETEEN SIXTY TWO",IF(CE20=1963,"NINETEEN SIXTY THREE",IF(CE20=1964,"NINETEEN SIXTY FOUR",IF(CE20=1965,"NINETEEN SIXTY FIVE",IF(CE20=1966,"NINETEEN SIXTY SIX",IF(CE20=1967,"NINETEEN SIXTY SEVEN",IF(CE20=1968,"NINETEEN SIXTY EIGHT",IF(CE20=1969,"NINETEEN SIXTY NINE",IF(CE20=1970,"NINETEEN SEVENTY",IF(CE20=1971,"NINETEEN SEVENTY ONE",IF(CE20=1972,"NINETEEN SEVENTY TWO",IF(CE20=1973,"NINETEEN SEVENTY THREE",IF(CE20=1974,"NINETEEN SEVENTY FOUR",IF(CE20=1975,"NINETEEN SEVENTY FIVE",IF(CE20=1976,"NINETEEN SEVENTY SIX",IF(CE20=1977,"NINETEEN SEVENTY SEVEN",IF(CE20=1978,"NINETEEN SEVENTY EIGHT",IF(CE20=1979,"NINETEEN SEVENTY NINE",IF(CE20=1980,"NINETEEN EIGHTY",IF(CE20=1981,"NINETEEN EIGHTY ONE",IF(CE20=1982,"NINETEEN EIGHTY TWO",IF(CE20=1983,"NINETEEN EIGHTY THREE",IF(CE20=1984,"NINETEEN EIGHTY FOUR",IF(CE20=1985,"NINETEEN EIGHTY FIVE",IF(CE20=1986,"NINETEEN EIGHTY SIX",IF(CE20=1987,"NINETEEN EIGHTY SEVEN",IF(CE20=1988,"NINETEEN EIGHTY EIGHT",IF(CE20=1989,"NINETEEN EIGHTY NINE",IF(CE20=1990,"NINETEEN NINETY",IF(CE20=1991,"NINETEEN NINETY ONE",IF(CE20=1992,"NINETEEN NINETY TWO",IF(CE20=1993,"NINETEEN NINETY THREE",IF(CE20=1994,"NINETEEN NINETY FOUR",IF(CE20=1995,"NINETEEN NINETY FIVE",IF(CE20=1996,"NINETEEN NINETY SIX",IF(CE20=1997,"NINETEEN NINETY SEVEN",IF(CE20=1998,"NINETEEN NINETY EIGHT",IF(CE20=1999,"NINETEEN NINETY NINE",IF(CE20=2000,"TWO THOUSAND",IF(CE20=2001,"TWO THOUSAND ONE",IF(CE20=2002,"TWO THOUSAND TWO",IF(CE20=2003,"TWO THOUSAND THREE",IF(CE20=2004,"TWO THOUSAND FOUR",IF(CE20=2005,"TWO THOUSAND FIVE",IF(CE20=2006,"TWO THOUSAND SIX",IF(CE20=2007,"TWO THOUSAND SEVEN",IF(CE20=2008,"TWO THOUSAND EIGHT",IF(CE20=2009,"TWO THOUSAND NINE",IF(CE20=2010,"TWO THOUSAND TEN",IF(CE20=2011,"TWO THOUSAND ELEVEN",IF(CE20=2012,"TWO THOUSAND TWELVE",IF(CE20=2013,"TWO THOUSAND THIRTEEN",IF(CE20=2014,"TWO THOUSAND FOURTEEN",IF(CE20=2015,"TWO THOUSAND FIFTEEN",IF(CE20=2016,"TWO THOUSAND SIXTEEN",IF(CE20=2017,"TWO THOUSAND SEVENTEEN",IF(CE20=2018,"TWO THOUSAND EIGHTEEN",IF(CE20=2019,"TWO THOUSAND NINETEEN",IF(CE20=2020,"TWO THOUSAND TWENTY",IF(CE20=2021,"TWO THOUSAND TWENTY ONE",IF(CE20=2022,"TWO THOUSAND TWENTY TWO",IF(CE20=2023,"TWO THOUSAND TWENTY THREE",IF(CE20=2024,"TWO THOUSAND TWENTY FOUR",IF(CE20=2025,"TWO THOUSAND TWENTY FIVE",""))))))))))))))))))))))))))))))))))))))))))))))))))))))))))))))))) | CI20: =IF(CF20=1,"JANUARY",IF(CF20=2,"FEBUARY", IF(CF20=3,"MARCH",IF(CF20=4,"APRIL",IF(CF20=5,"MAY",IF(CF20=6,"JUNE",IF(CF20=7,"JULY",IF(CF20=8,"AUGUST",IF(CF20=9,"SEPTEMBER",IF(CF20=10,"OCTOBER",IF(CF20=11,"NOVEMBER",IF(CF20=12,"DECEMBER","")))))))))))) | CJ20: =IF(CG20=1,"1ST",IF(CG20=2,"2ND", IF(CG20=3,"3RD",IF(CG20=4,"FOURTH",IF(CG20=5,"FIFTH",IF(CG20=6,"SIXTH",IF(CG20=7,"7TH",IF(CG20=8,"8TH",IF(CG20=9,"9TH",IF(CG20=10,"10TH",IF(CG20=11,"11TH",IF(CG20=12,"12TH",IF(CG20=13,"13TH",IF(CG20=14,"14TH",IF(CG20=15,"FIFTEEN",IF(CG20=16,"SIXTEEN",IF(CG20=17,"SEVENTEEN",IF(CG20=18,"EIGHTEEN",IF(CG20=19,"NINETEEN",IF(CG20=20,"TWENTY",IF(CG20=21,"TWENTY FIRST",IF(CG20=22,"TWENTY SECOND",IF(CG20=23,"TWENTY THIRD",IF(CG20=24,"TWENTY FOURTH",IF(CG20=25,"TWENTY FIFTH",IF(CG20=26,"TWENTY SIX",IF(CG20=27,"TWENTY SEVEN",IF(CG20=28,"TWENTY EIGHT",IF(CG20=29,"TWENTY NINE",IF(CG20=30,"THIRTY",IF(CG20=31,"THIRTY FIRST",""))))))))))))))))))))))))))))))) | CK20: =IFERROR(IF(AND(CH20="",CI20="",CJ20=""),"",CONCATENATE(CI20," ",CJ20,", ",CH20)),"") | CL20: =IF(F20="","",IF(F20="3rd Grade L-1","YES","")) | CR20: PUBLIC ADMINISTRATION | CV20: =IF(F20="","",IF(F20=$CN$6,"3rd Grade L-1",IF(F20=$CN$7,"3rd Grade L-2",IF(F20=$CN$8,"2nd Grade",IF(F20=$CN$9,"1st Grade (Lecturer)",IF(F20=$CN$10,"Lab. Ass.",IF(F20=$CN$11,"3rd Grade P.E.T.","")))))))
A21: =IFERROR(IF(AND(B21="",C21="",F21="",I21=""),"",A20+1),"") | E21: =IFERROR(VLOOKUP(D21,PEEO_SCHOOL,3,0),"") | J21: =IFERROR(IF(CK21="","",CK21),"") | K21: =IFERROR(IF(OR($K$4="",B21="",A21="",I21=""),"",DATEDIF(I21,$K$4,"Y")),"") | L21: =IFERROR(IF(OR($K$4="",B21="",A21="",I21=""),"",DATEDIF(I21,$K$4,"YM")),"") | M21: =IFERROR(IF(OR($K$4="",B21="",A21="",I21=""),"",DATEDIF(I21,$K$4,"MD")),"") | CE21: =IFERROR(IF(I21="","",YEAR(I21)),"") | CF21: =IFERROR(IF(I21="","",MONTH(I21)),"") | CG21: =IFERROR(IF(I21="","",DAY(I21)),"") | CH21: =IF(CE21=1961,"NINETEEN SIXTY ONE",IF(CE21=1962,"NINETEEN SIXTY TWO",IF(CE21=1963,"NINETEEN SIXTY THREE",IF(CE21=1964,"NINETEEN SIXTY FOUR",IF(CE21=1965,"NINETEEN SIXTY FIVE",IF(CE21=1966,"NINETEEN SIXTY SIX",IF(CE21=1967,"NINETEEN SIXTY SEVEN",IF(CE21=1968,"NINETEEN SIXTY EIGHT",IF(CE21=1969,"NINETEEN SIXTY NINE",IF(CE21=1970,"NINETEEN SEVENTY",IF(CE21=1971,"NINETEEN SEVENTY ONE",IF(CE21=1972,"NINETEEN SEVENTY TWO",IF(CE21=1973,"NINETEEN SEVENTY THREE",IF(CE21=1974,"NINETEEN SEVENTY FOUR",IF(CE21=1975,"NINETEEN SEVENTY FIVE",IF(CE21=1976,"NINETEEN SEVENTY SIX",IF(CE21=1977,"NINETEEN SEVENTY SEVEN",IF(CE21=1978,"NINETEEN SEVENTY EIGHT",IF(CE21=1979,"NINETEEN SEVENTY NINE",IF(CE21=1980,"NINETEEN EIGHTY",IF(CE21=1981,"NINETEEN EIGHTY ONE",IF(CE21=1982,"NINETEEN EIGHTY TWO",IF(CE21=1983,"NINETEEN EIGHTY THREE",IF(CE21=1984,"NINETEEN EIGHTY FOUR",IF(CE21=1985,"NINETEEN EIGHTY FIVE",IF(CE21=1986,"NINETEEN EIGHTY SIX",IF(CE21=1987,"NINETEEN EIGHTY SEVEN",IF(CE21=1988,"NINETEEN EIGHTY EIGHT",IF(CE21=1989,"NINETEEN EIGHTY NINE",IF(CE21=1990,"NINETEEN NINETY",IF(CE21=1991,"NINETEEN NINETY ONE",IF(CE21=1992,"NINETEEN NINETY TWO",IF(CE21=1993,"NINETEEN NINETY THREE",IF(CE21=1994,"NINETEEN NINETY FOUR",IF(CE21=1995,"NINETEEN NINETY FIVE",IF(CE21=1996,"NINETEEN NINETY SIX",IF(CE21=1997,"NINETEEN NINETY SEVEN",IF(CE21=1998,"NINETEEN NINETY EIGHT",IF(CE21=1999,"NINETEEN NINETY NINE",IF(CE21=2000,"TWO THOUSAND",IF(CE21=2001,"TWO THOUSAND ONE",IF(CE21=2002,"TWO THOUSAND TWO",IF(CE21=2003,"TWO THOUSAND THREE",IF(CE21=2004,"TWO THOUSAND FOUR",IF(CE21=2005,"TWO THOUSAND FIVE",IF(CE21=2006,"TWO THOUSAND SIX",IF(CE21=2007,"TWO THOUSAND SEVEN",IF(CE21=2008,"TWO THOUSAND EIGHT",IF(CE21=2009,"TWO THOUSAND NINE",IF(CE21=2010,"TWO THOUSAND TEN",IF(CE21=2011,"TWO THOUSAND ELEVEN",IF(CE21=2012,"TWO THOUSAND TWELVE",IF(CE21=2013,"TWO THOUSAND THIRTEEN",IF(CE21=2014,"TWO THOUSAND FOURTEEN",IF(CE21=2015,"TWO THOUSAND FIFTEEN",IF(CE21=2016,"TWO THOUSAND SIXTEEN",IF(CE21=2017,"TWO THOUSAND SEVENTEEN",IF(CE21=2018,"TWO THOUSAND EIGHTEEN",IF(CE21=2019,"TWO THOUSAND NINETEEN",IF(CE21=2020,"TWO THOUSAND TWENTY",IF(CE21=2021,"TWO THOUSAND TWENTY ONE",IF(CE21=2022,"TWO THOUSAND TWENTY TWO",IF(CE21=2023,"TWO THOUSAND TWENTY THREE",IF(CE21=2024,"TWO THOUSAND TWENTY FOUR",IF(CE21=2025,"TWO THOUSAND TWENTY FIVE",""))))))))))))))))))))))))))))))))))))))))))))))))))))))))))))))))) | CI21: =IF(CF21=1,"JANUARY",IF(CF21=2,"FEBUARY", IF(CF21=3,"MARCH",IF(CF21=4,"APRIL",IF(CF21=5,"MAY",IF(CF21=6,"JUNE",IF(CF21=7,"JULY",IF(CF21=8,"AUGUST",IF(CF21=9,"SEPTEMBER",IF(CF21=10,"OCTOBER",IF(CF21=11,"NOVEMBER",IF(CF21=12,"DECEMBER","")))))))))))) | CJ21: =IF(CG21=1,"1ST",IF(CG21=2,"2ND", IF(CG21=3,"3RD",IF(CG21=4,"FOURTH",IF(CG21=5,"FIFTH",IF(CG21=6,"SIXTH",IF(CG21=7,"7TH",IF(CG21=8,"8TH",IF(CG21=9,"9TH",IF(CG21=10,"10TH",IF(CG21=11,"11TH",IF(CG21=12,"12TH",IF(CG21=13,"13TH",IF(CG21=14,"14TH",IF(CG21=15,"FIFTEEN",IF(CG21=16,"SIXTEEN",IF(CG21=17,"SEVENTEEN",IF(CG21=18,"EIGHTEEN",IF(CG21=19,"NINETEEN",IF(CG21=20,"TWENTY",IF(CG21=21,"TWENTY FIRST",IF(CG21=22,"TWENTY SECOND",IF(CG21=23,"TWENTY THIRD",IF(CG21=24,"TWENTY FOURTH",IF(CG21=25,"TWENTY FIFTH",IF(CG21=26,"TWENTY SIX",IF(CG21=27,"TWENTY SEVEN",IF(CG21=28,"TWENTY EIGHT",IF(CG21=29,"TWENTY NINE",IF(CG21=30,"THIRTY",IF(CG21=31,"THIRTY FIRST",""))))))))))))))))))))))))))))))) | CK21: =IFERROR(IF(AND(CH21="",CI21="",CJ21=""),"",CONCATENATE(CI21," ",CJ21,", ",CH21)),"") | CL21: =IF(F21="","",IF(F21="3rd Grade L-1","YES","")) | CR21: PUNJABI LITERATURE | CV21: =IF(F21="","",IF(F21=$CN$6,"3rd Grade L-1",IF(F21=$CN$7,"3rd Grade L-2",IF(F21=$CN$8,"2nd Grade",IF(F21=$CN$9,"1st Grade (Lecturer)",IF(F21=$CN$10,"Lab. Ass.",IF(F21=$CN$11,"3rd Grade P.E.T.","")))))))
A22: =IFERROR(IF(AND(B22="",C22="",F22="",I22=""),"",A21+1),"") | E22: =IFERROR(VLOOKUP(D22,PEEO_SCHOOL,3,0),"") | J22: =IFERROR(IF(CK22="","",CK22),"") | K22: =IFERROR(IF(OR($K$4="",B22="",A22="",I22=""),"",DATEDIF(I22,$K$4,"Y")),"") | L22: =IFERROR(IF(OR($K$4="",B22="",A22="",I22=""),"",DATEDIF(I22,$K$4,"YM")),"") | M22: =IFERROR(IF(OR($K$4="",B22="",A22="",I22=""),"",DATEDIF(I22,$K$4,"MD")),"") | CE22: =IFERROR(IF(I22="","",YEAR(I22)),"") | CF22: =IFERROR(IF(I22="","",MONTH(I22)),"") | CG22: =IFERROR(IF(I22="","",DAY(I22)),"") | CH22: =IF(CE22=1961,"NINETEEN SIXTY ONE",IF(CE22=1962,"NINETEEN SIXTY TWO",IF(CE22=1963,"NINETEEN SIXTY THREE",IF(CE22=1964,"NINETEEN SIXTY FOUR",IF(CE22=1965,"NINETEEN SIXTY FIVE",IF(CE22=1966,"NINETEEN SIXTY SIX",IF(CE22=1967,"NINETEEN SIXTY SEVEN",IF(CE22=1968,"NINETEEN SIXTY EIGHT",IF(CE22=1969,"NINETEEN SIXTY NINE",IF(CE22=1970,"NINETEEN SEVENTY",IF(CE22=1971,"NINETEEN SEVENTY ONE",IF(CE22=1972,"NINETEEN SEVENTY TWO",IF(CE22=1973,"NINETEEN SEVENTY THREE",IF(CE22=1974,"NINETEEN SEVENTY FOUR",IF(CE22=1975,"NINETEEN SEVENTY FIVE",IF(CE22=1976,"NINETEEN SEVENTY SIX",IF(CE22=1977,"NINETEEN SEVENTY SEVEN",IF(CE22=1978,"NINETEEN SEVENTY EIGHT",IF(CE22=1979,"NINETEEN SEVENTY NINE",IF(CE22=1980,"NINETEEN EIGHTY",IF(CE22=1981,"NINETEEN EIGHTY ONE",IF(CE22=1982,"NINETEEN EIGHTY TWO",IF(CE22=1983,"NINETEEN EIGHTY THREE",IF(CE22=1984,"NINETEEN EIGHTY FOUR",IF(CE22=1985,"NINETEEN EIGHTY FIVE",IF(CE22=1986,"NINETEEN EIGHTY SIX",IF(CE22=1987,"NINETEEN EIGHTY SEVEN",IF(CE22=1988,"NINETEEN EIGHTY EIGHT",IF(CE22=1989,"NINETEEN EIGHTY NINE",IF(CE22=1990,"NINETEEN NINETY",IF(CE22=1991,"NINETEEN NINETY ONE",IF(CE22=1992,"NINETEEN NINETY TWO",IF(CE22=1993,"NINETEEN NINETY THREE",IF(CE22=1994,"NINETEEN NINETY FOUR",IF(CE22=1995,"NINETEEN NINETY FIVE",IF(CE22=1996,"NINETEEN NINETY SIX",IF(CE22=1997,"NINETEEN NINETY SEVEN",IF(CE22=1998,"NINETEEN NINETY EIGHT",IF(CE22=1999,"NINETEEN NINETY NINE",IF(CE22=2000,"TWO THOUSAND",IF(CE22=2001,"TWO THOUSAND ONE",IF(CE22=2002,"TWO THOUSAND TWO",IF(CE22=2003,"TWO THOUSAND THREE",IF(CE22=2004,"TWO THOUSAND FOUR",IF(CE22=2005,"TWO THOUSAND FIVE",IF(CE22=2006,"TWO THOUSAND SIX",IF(CE22=2007,"TWO THOUSAND SEVEN",IF(CE22=2008,"TWO THOUSAND EIGHT",IF(CE22=2009,"TWO THOUSAND NINE",IF(CE22=2010,"TWO THOUSAND TEN",IF(CE22=2011,"TWO THOUSAND ELEVEN",IF(CE22=2012,"TWO THOUSAND TWELVE",IF(CE22=2013,"TWO THOUSAND THIRTEEN",IF(CE22=2014,"TWO THOUSAND FOURTEEN",IF(CE22=2015,"TWO THOUSAND FIFTEEN",IF(CE22=2016,"TWO THOUSAND SIXTEEN",IF(CE22=2017,"TWO THOUSAND SEVENTEEN",IF(CE22=2018,"TWO THOUSAND EIGHTEEN",IF(CE22=2019,"TWO THOUSAND NINETEEN",IF(CE22=2020,"TWO THOUSAND TWENTY",IF(CE22=2021,"TWO THOUSAND TWENTY ONE",IF(CE22=2022,"TWO THOUSAND TWENTY TWO",IF(CE22=2023,"TWO THOUSAND TWENTY THREE",IF(CE22=2024,"TWO THOUSAND TWENTY FOUR",IF(CE22=2025,"TWO THOUSAND TWENTY FIVE",""))))))))))))))))))))))))))))))))))))))))))))))))))))))))))))))))) | CI22: =IF(CF22=1,"JANUARY",IF(CF22=2,"FEBUARY", IF(CF22=3,"MARCH",IF(CF22=4,"APRIL",IF(CF22=5,"MAY",IF(CF22=6,"JUNE",IF(CF22=7,"JULY",IF(CF22=8,"AUGUST",IF(CF22=9,"SEPTEMBER",IF(CF22=10,"OCTOBER",IF(CF22=11,"NOVEMBER",IF(CF22=12,"DECEMBER","")))))))))))) | CJ22: =IF(CG22=1,"1ST",IF(CG22=2,"2ND", IF(CG22=3,"3RD",IF(CG22=4,"FOURTH",IF(CG22=5,"FIFTH",IF(CG22=6,"SIXTH",IF(CG22=7,"7TH",IF(CG22=8,"8TH",IF(CG22=9,"9TH",IF(CG22=10,"10TH",IF(CG22=11,"11TH",IF(CG22=12,"12TH",IF(CG22=13,"13TH",IF(CG22=14,"14TH",IF(CG22=15,"FIFTEEN",IF(CG22=16,"SIXTEEN",IF(CG22=17,"SEVENTEEN",IF(CG22=18,"EIGHTEEN",IF(CG22=19,"NINETEEN",IF(CG22=20,"TWENTY",IF(CG22=21,"TWENTY FIRST",IF(CG22=22,"TWENTY SECOND",IF(CG22=23,"TWENTY THIRD",IF(CG22=24,"TWENTY FOURTH",IF(CG22=25,"TWENTY FIFTH",IF(CG22=26,"TWENTY SIX",IF(CG22=27,"TWENTY SEVEN",IF(CG22=28,"TWENTY EIGHT",IF(CG22=29,"TWENTY NINE",IF(CG22=30,"THIRTY",IF(CG22=31,"THIRTY FIRST",""))))))))))))))))))))))))))))))) | CK22: =IFERROR(IF(AND(CH22="",CI22="",CJ22=""),"",CONCATENATE(CI22," ",CJ22,", ",CH22)),"") | CL22: =IF(F22="","",IF(F22="3rd Grade L-1","YES","")) | CR22: RAJASTHANI LITERATURE | CV22: =IF(F22="","",IF(F22=$CN$6,"3rd Grade L-1",IF(F22=$CN$7,"3rd Grade L-2",IF(F22=$CN$8,"2nd Grade",IF(F22=$CN$9,"1st Grade (Lecturer)",IF(F22=$CN$10,"Lab. Ass.",IF(F22=$CN$11,"3rd Grade P.E.T.","")))))))
A23: =IFERROR(IF(AND(B23="",C23="",F23="",I23=""),"",A22+1),"") | E23: =IFERROR(VLOOKUP(D23,PEEO_SCHOOL,3,0),"") | J23: =IFERROR(IF(CK23="","",CK23),"") | K23: =IFERROR(IF(OR($K$4="",B23="",A23="",I23=""),"",DATEDIF(I23,$K$4,"Y")),"") | L23: =IFERROR(IF(OR($K$4="",B23="",A23="",I23=""),"",DATEDIF(I23,$K$4,"YM")),"") | M23: =IFERROR(IF(OR($K$4="",B23="",A23="",I23=""),"",DATEDIF(I23,$K$4,"MD")),"") | CE23: =IFERROR(IF(I23="","",YEAR(I23)),"") | CF23: =IFERROR(IF(I23="","",MONTH(I23)),"") | CG23: =IFERROR(IF(I23="","",DAY(I23)),"") | CH23: =IF(CE23=1961,"NINETEEN SIXTY ONE",IF(CE23=1962,"NINETEEN SIXTY TWO",IF(CE23=1963,"NINETEEN SIXTY THREE",IF(CE23=1964,"NINETEEN SIXTY FOUR",IF(CE23=1965,"NINETEEN SIXTY FIVE",IF(CE23=1966,"NINETEEN SIXTY SIX",IF(CE23=1967,"NINETEEN SIXTY SEVEN",IF(CE23=1968,"NINETEEN SIXTY EIGHT",IF(CE23=1969,"NINETEEN SIXTY NINE",IF(CE23=1970,"NINETEEN SEVENTY",IF(CE23=1971,"NINETEEN SEVENTY ONE",IF(CE23=1972,"NINETEEN SEVENTY TWO",IF(CE23=1973,"NINETEEN SEVENTY THREE",IF(CE23=1974,"NINETEEN SEVENTY FOUR",IF(CE23=1975,"NINETEEN SEVENTY FIVE",IF(CE23=1976,"NINETEEN SEVENTY SIX",IF(CE23=1977,"NINETEEN SEVENTY SEVEN",IF(CE23=1978,"NINETEEN SEVENTY EIGHT",IF(CE23=1979,"NINETEEN SEVENTY NINE",IF(CE23=1980,"NINETEEN EIGHTY",IF(CE23=1981,"NINETEEN EIGHTY ONE",IF(CE23=1982,"NINETEEN EIGHTY TWO",IF(CE23=1983,"NINETEEN EIGHTY THREE",IF(CE23=1984,"NINETEEN EIGHTY FOUR",IF(CE23=1985,"NINETEEN EIGHTY FIVE",IF(CE23=1986,"NINETEEN EIGHTY SIX",IF(CE23=1987,"NINETEEN EIGHTY SEVEN",IF(CE23=1988,"NINETEEN EIGHTY EIGHT",IF(CE23=1989,"NINETEEN EIGHTY NINE",IF(CE23=1990,"NINETEEN NINETY",IF(CE23=1991,"NINETEEN NINETY ONE",IF(CE23=1992,"NINETEEN NINETY TWO",IF(CE23=1993,"NINETEEN NINETY THREE",IF(CE23=1994,"NINETEEN NINETY FOUR",IF(CE23=1995,"NINETEEN NINETY FIVE",IF(CE23=1996,"NINETEEN NINETY SIX",IF(CE23=1997,"NINETEEN NINETY SEVEN",IF(CE23=1998,"NINETEEN NINETY EIGHT",IF(CE23=1999,"NINETEEN NINETY NINE",IF(CE23=2000,"TWO THOUSAND",IF(CE23=2001,"TWO THOUSAND ONE",IF(CE23=2002,"TWO THOUSAND TWO",IF(CE23=2003,"TWO THOUSAND THREE",IF(CE23=2004,"TWO THOUSAND FOUR",IF(CE23=2005,"TWO THOUSAND FIVE",IF(CE23=2006,"TWO THOUSAND SIX",IF(CE23=2007,"TWO THOUSAND SEVEN",IF(CE23=2008,"TWO THOUSAND EIGHT",IF(CE23=2009,"TWO THOUSAND NINE",IF(CE23=2010,"TWO THOUSAND TEN",IF(CE23=2011,"TWO THOUSAND ELEVEN",IF(CE23=2012,"TWO THOUSAND TWELVE",IF(CE23=2013,"TWO THOUSAND THIRTEEN",IF(CE23=2014,"TWO THOUSAND FOURTEEN",IF(CE23=2015,"TWO THOUSAND FIFTEEN",IF(CE23=2016,"TWO THOUSAND SIXTEEN",IF(CE23=2017,"TWO THOUSAND SEVENTEEN",IF(CE23=2018,"TWO THOUSAND EIGHTEEN",IF(CE23=2019,"TWO THOUSAND NINETEEN",IF(CE23=2020,"TWO THOUSAND TWENTY",IF(CE23=2021,"TWO THOUSAND TWENTY ONE",IF(CE23=2022,"TWO THOUSAND TWENTY TWO",IF(CE23=2023,"TWO THOUSAND TWENTY THREE",IF(CE23=2024,"TWO THOUSAND TWENTY FOUR",IF(CE23=2025,"TWO THOUSAND TWENTY FIVE",""))))))))))))))))))))))))))))))))))))))))))))))))))))))))))))))))) | CI23: =IF(CF23=1,"JANUARY",IF(CF23=2,"FEBUARY", IF(CF23=3,"MARCH",IF(CF23=4,"APRIL",IF(CF23=5,"MAY",IF(CF23=6,"JUNE",IF(CF23=7,"JULY",IF(CF23=8,"AUGUST",IF(CF23=9,"SEPTEMBER",IF(CF23=10,"OCTOBER",IF(CF23=11,"NOVEMBER",IF(CF23=12,"DECEMBER","")))))))))))) | CJ23: =IF(CG23=1,"1ST",IF(CG23=2,"2ND", IF(CG23=3,"3RD",IF(CG23=4,"FOURTH",IF(CG23=5,"FIFTH",IF(CG23=6,"SIXTH",IF(CG23=7,"7TH",IF(CG23=8,"8TH",IF(CG23=9,"9TH",IF(CG23=10,"10TH",IF(CG23=11,"11TH",IF(CG23=12,"12TH",IF(CG23=13,"13TH",IF(CG23=14,"14TH",IF(CG23=15,"FIFTEEN",IF(CG23=16,"SIXTEEN",IF(CG23=17,"SEVENTEEN",IF(CG23=18,"EIGHTEEN",IF(CG23=19,"NINETEEN",IF(CG23=20,"TWENTY",IF(CG23=21,"TWENTY FIRST",IF(CG23=22,"TWENTY SECOND",IF(CG23=23,"TWENTY THIRD",IF(CG23=24,"TWENTY FOURTH",IF(CG23=25,"TWENTY FIFTH",IF(CG23=26,"TWENTY SIX",IF(CG23=27,"TWENTY SEVEN",IF(CG23=28,"TWENTY EIGHT",IF(CG23=29,"TWENTY NINE",IF(CG23=30,"THIRTY",IF(CG23=31,"THIRTY FIRST",""))))))))))))))))))))))))))))))) | CK23: =IFERROR(IF(AND(CH23="",CI23="",CJ23=""),"",CONCATENATE(CI23," ",CJ23,", ",CH23)),"") | CL23: =IF(F23="","",IF(F23="3rd Grade L-1","YES","")) | CR23: SANSKRIT LITERATURE | CV23: =IF(F23="","",IF(F23=$CN$6,"3rd Grade L-1",IF(F23=$CN$7,"3rd Grade L-2",IF(F23=$CN$8,"2nd Grade",IF(F23=$CN$9,"1st Grade (Lecturer)",IF(F23=$CN$10,"Lab. Ass.",IF(F23=$CN$11,"3rd Grade P.E.T.","")))))))
A24: =IFERROR(IF(AND(B24="",C24="",F24="",I24=""),"",A23+1),"") | E24: =IFERROR(VLOOKUP(D24,PEEO_SCHOOL,3,0),"") | J24: =IFERROR(IF(CK24="","",CK24),"") | K24: =IFERROR(IF(OR($K$4="",B24="",A24="",I24=""),"",DATEDIF(I24,$K$4,"Y")),"") | L24: =IFERROR(IF(OR($K$4="",B24="",A24="",I24=""),"",DATEDIF(I24,$K$4,"YM")),"") | M24: =IFERROR(IF(OR($K$4="",B24="",A24="",I24=""),"",DATEDIF(I24,$K$4,"MD")),"") | CE24: =IFERROR(IF(I24="","",YEAR(I24)),"") | CF24: =IFERROR(IF(I24="","",MONTH(I24)),"") | CG24: =IFERROR(IF(I24="","",DAY(I24)),"") | CH24: =IF(CE24=1961,"NINETEEN SIXTY ONE",IF(CE24=1962,"NINETEEN SIXTY TWO",IF(CE24=1963,"NINETEEN SIXTY THREE",IF(CE24=1964,"NINETEEN SIXTY FOUR",IF(CE24=1965,"NINETEEN SIXTY FIVE",IF(CE24=1966,"NINETEEN SIXTY SIX",IF(CE24=1967,"NINETEEN SIXTY SEVEN",IF(CE24=1968,"NINETEEN SIXTY EIGHT",IF(CE24=1969,"NINETEEN SIXTY NINE",IF(CE24=1970,"NINETEEN SEVENTY",IF(CE24=1971,"NINETEEN SEVENTY ONE",IF(CE24=1972,"NINETEEN SEVENTY TWO",IF(CE24=1973,"NINETEEN SEVENTY THREE",IF(CE24=1974,"NINETEEN SEVENTY FOUR",IF(CE24=1975,"NINETEEN SEVENTY FIVE",IF(CE24=1976,"NINETEEN SEVENTY SIX",IF(CE24=1977,"NINETEEN SEVENTY SEVEN",IF(CE24=1978,"NINETEEN SEVENTY EIGHT",IF(CE24=1979,"NINETEEN SEVENTY NINE",IF(CE24=1980,"NINETEEN EIGHTY",IF(CE24=1981,"NINETEEN EIGHTY ONE",IF(CE24=1982,"NINETEEN EIGHTY TWO",IF(CE24=1983,"NINETEEN EIGHTY THREE",IF(CE24=1984,"NINETEEN EIGHTY FOUR",IF(CE24=1985,"NINETEEN EIGHTY FIVE",IF(CE24=1986,"NINETEEN EIGHTY SIX",IF(CE24=1987,"NINETEEN EIGHTY SEVEN",IF(CE24=1988,"NINETEEN EIGHTY EIGHT",IF(CE24=1989,"NINETEEN EIGHTY NINE",IF(CE24=1990,"NINETEEN NINETY",IF(CE24=1991,"NINETEEN NINETY ONE",IF(CE24=1992,"NINETEEN NINETY TWO",IF(CE24=1993,"NINETEEN NINETY THREE",IF(CE24=1994,"NINETEEN NINETY FOUR",IF(CE24=1995,"NINETEEN NINETY FIVE",IF(CE24=1996,"NINETEEN NINETY SIX",IF(CE24=1997,"NINETEEN NINETY SEVEN",IF(CE24=1998,"NINETEEN NINETY EIGHT",IF(CE24=1999,"NINETEEN NINETY NINE",IF(CE24=2000,"TWO THOUSAND",IF(CE24=2001,"TWO THOUSAND ONE",IF(CE24=2002,"TWO THOUSAND TWO",IF(CE24=2003,"TWO THOUSAND THREE",IF(CE24=2004,"TWO THOUSAND FOUR",IF(CE24=2005,"TWO THOUSAND FIVE",IF(CE24=2006,"TWO THOUSAND SIX",IF(CE24=2007,"TWO THOUSAND SEVEN",IF(CE24=2008,"TWO THOUSAND EIGHT",IF(CE24=2009,"TWO THOUSAND NINE",IF(CE24=2010,"TWO THOUSAND TEN",IF(CE24=2011,"TWO THOUSAND ELEVEN",IF(CE24=2012,"TWO THOUSAND TWELVE",IF(CE24=2013,"TWO THOUSAND THIRTEEN",IF(CE24=2014,"TWO THOUSAND FOURTEEN",IF(CE24=2015,"TWO THOUSAND FIFTEEN",IF(CE24=2016,"TWO THOUSAND SIXTEEN",IF(CE24=2017,"TWO THOUSAND SEVENTEEN",IF(CE24=2018,"TWO THOUSAND EIGHTEEN",IF(CE24=2019,"TWO THOUSAND NINETEEN",IF(CE24=2020,"TWO THOUSAND TWENTY",IF(CE24=2021,"TWO THOUSAND TWENTY ONE",IF(CE24=2022,"TWO THOUSAND TWENTY TWO",IF(CE24=2023,"TWO THOUSAND TWENTY THREE",IF(CE24=2024,"TWO THOUSAND TWENTY FOUR",IF(CE24=2025,"TWO THOUSAND TWENTY FIVE",""))))))))))))))))))))))))))))))))))))))))))))))))))))))))))))))))) | CI24: =IF(CF24=1,"JANUARY",IF(CF24=2,"FEBUARY", IF(CF24=3,"MARCH",IF(CF24=4,"APRIL",IF(CF24=5,"MAY",IF(CF24=6,"JUNE",IF(CF24=7,"JULY",IF(CF24=8,"AUGUST",IF(CF24=9,"SEPTEMBER",IF(CF24=10,"OCTOBER",IF(CF24=11,"NOVEMBER",IF(CF24=12,"DECEMBER","")))))))))))) | CJ24: =IF(CG24=1,"1ST",IF(CG24=2,"2ND", IF(CG24=3,"3RD",IF(CG24=4,"FOURTH",IF(CG24=5,"FIFTH",IF(CG24=6,"SIXTH",IF(CG24=7,"7TH",IF(CG24=8,"8TH",IF(CG24=9,"9TH",IF(CG24=10,"10TH",IF(CG24=11,"11TH",IF(CG24=12,"12TH",IF(CG24=13,"13TH",IF(CG24=14,"14TH",IF(CG24=15,"FIFTEEN",IF(CG24=16,"SIXTEEN",IF(CG24=17,"SEVENTEEN",IF(CG24=18,"EIGHTEEN",IF(CG24=19,"NINETEEN",IF(CG24=20,"TWENTY",IF(CG24=21,"TWENTY FIRST",IF(CG24=22,"TWENTY SECOND",IF(CG24=23,"TWENTY THIRD",IF(CG24=24,"TWENTY FOURTH",IF(CG24=25,"TWENTY FIFTH",IF(CG24=26,"TWENTY SIX",IF(CG24=27,"TWENTY SEVEN",IF(CG24=28,"TWENTY EIGHT",IF(CG24=29,"TWENTY NINE",IF(CG24=30,"THIRTY",IF(CG24=31,"THIRTY FIRST",""))))))))))))))))))))))))))))))) | CK24: =IFERROR(IF(AND(CH24="",CI24="",CJ24=""),"",CONCATENATE(CI24," ",CJ24,", ",CH24)),"") | CL24: =IF(F24="","",IF(F24="3rd Grade L-1","YES","")) | CR24: SINDHI LITERATURE | CV24: =IF(F24="","",IF(F24=$CN$6,"3rd Grade L-1",IF(F24=$CN$7,"3rd Grade L-2",IF(F24=$CN$8,"2nd Grade",IF(F24=$CN$9,"1st Grade (Lecturer)",IF(F24=$CN$10,"Lab. Ass.",IF(F24=$CN$11,"3rd Grade P.E.T.","")))))))
A25: =IFERROR(IF(AND(B25="",C25="",F25="",I25=""),"",A24+1),"") | E25: =IFERROR(VLOOKUP(D25,PEEO_SCHOOL,3,0),"") | J25: =IFERROR(IF(CK25="","",CK25),"") | K25: =IFERROR(IF(OR($K$4="",B25="",A25="",I25=""),"",DATEDIF(I25,$K$4,"Y")),"") | L25: =IFERROR(IF(OR($K$4="",B25="",A25="",I25=""),"",DATEDIF(I25,$K$4,"YM")),"") | M25: =IFERROR(IF(OR($K$4="",B25="",A25="",I25=""),"",DATEDIF(I25,$K$4,"MD")),"") | CE25: =IFERROR(IF(I25="","",YEAR(I25)),"") | CF25: =IFERROR(IF(I25="","",MONTH(I25)),"") | CG25: =IFERROR(IF(I25="","",DAY(I25)),"") | CH25: =IF(CE25=1961,"NINETEEN SIXTY ONE",IF(CE25=1962,"NINETEEN SIXTY TWO",IF(CE25=1963,"NINETEEN SIXTY THREE",IF(CE25=1964,"NINETEEN SIXTY FOUR",IF(CE25=1965,"NINETEEN SIXTY FIVE",IF(CE25=1966,"NINETEEN SIXTY SIX",IF(CE25=1967,"NINETEEN SIXTY SEVEN",IF(CE25=1968,"NINETEEN SIXTY EIGHT",IF(CE25=1969,"NINETEEN SIXTY NINE",IF(CE25=1970,"NINETEEN SEVENTY",IF(CE25=1971,"NINETEEN SEVENTY ONE",IF(CE25=1972,"NINETEEN SEVENTY TWO",IF(CE25=1973,"NINETEEN SEVENTY THREE",IF(CE25=1974,"NINETEEN SEVENTY FOUR",IF(CE25=1975,"NINETEEN SEVENTY FIVE",IF(CE25=1976,"NINETEEN SEVENTY SIX",IF(CE25=1977,"NINETEEN SEVENTY SEVEN",IF(CE25=1978,"NINETEEN SEVENTY EIGHT",IF(CE25=1979,"NINETEEN SEVENTY NINE",IF(CE25=1980,"NINETEEN EIGHTY",IF(CE25=1981,"NINETEEN EIGHTY ONE",IF(CE25=1982,"NINETEEN EIGHTY TWO",IF(CE25=1983,"NINETEEN EIGHTY THREE",IF(CE25=1984,"NINETEEN EIGHTY FOUR",IF(CE25=1985,"NINETEEN EIGHTY FIVE",IF(CE25=1986,"NINETEEN EIGHTY SIX",IF(CE25=1987,"NINETEEN EIGHTY SEVEN",IF(CE25=1988,"NINETEEN EIGHTY EIGHT",IF(CE25=1989,"NINETEEN EIGHTY NINE",IF(CE25=1990,"NINETEEN NINETY",IF(CE25=1991,"NINETEEN NINETY ONE",IF(CE25=1992,"NINETEEN NINETY TWO",IF(CE25=1993,"NINETEEN NINETY THREE",IF(CE25=1994,"NINETEEN NINETY FOUR",IF(CE25=1995,"NINETEEN NINETY FIVE",IF(CE25=1996,"NINETEEN NINETY SIX",IF(CE25=1997,"NINETEEN NINETY SEVEN",IF(CE25=1998,"NINETEEN NINETY EIGHT",IF(CE25=1999,"NINETEEN NINETY NINE",IF(CE25=2000,"TWO THOUSAND",IF(CE25=2001,"TWO THOUSAND ONE",IF(CE25=2002,"TWO THOUSAND TWO",IF(CE25=2003,"TWO THOUSAND THREE",IF(CE25=2004,"TWO THOUSAND FOUR",IF(CE25=2005,"TWO THOUSAND FIVE",IF(CE25=2006,"TWO THOUSAND SIX",IF(CE25=2007,"TWO THOUSAND SEVEN",IF(CE25=2008,"TWO THOUSAND EIGHT",IF(CE25=2009,"TWO THOUSAND NINE",IF(CE25=2010,"TWO THOUSAND TEN",IF(CE25=2011,"TWO THOUSAND ELEVEN",IF(CE25=2012,"TWO THOUSAND TWELVE",IF(CE25=2013,"TWO THOUSAND THIRTEEN",IF(CE25=2014,"TWO THOUSAND FOURTEEN",IF(CE25=2015,"TWO THOUSAND FIFTEEN",IF(CE25=2016,"TWO THOUSAND SIXTEEN",IF(CE25=2017,"TWO THOUSAND SEVENTEEN",IF(CE25=2018,"TWO THOUSAND EIGHTEEN",IF(CE25=2019,"TWO THOUSAND NINETEEN",IF(CE25=2020,"TWO THOUSAND TWENTY",IF(CE25=2021,"TWO THOUSAND TWENTY ONE",IF(CE25=2022,"TWO THOUSAND TWENTY TWO",IF(CE25=2023,"TWO THOUSAND TWENTY THREE",IF(CE25=2024,"TWO THOUSAND TWENTY FOUR",IF(CE25=2025,"TWO THOUSAND TWENTY FIVE",""))))))))))))))))))))))))))))))))))))))))))))))))))))))))))))))))) | CI25: =IF(CF25=1,"JANUARY",IF(CF25=2,"FEBUARY", IF(CF25=3,"MARCH",IF(CF25=4,"APRIL",IF(CF25=5,"MAY",IF(CF25=6,"JUNE",IF(CF25=7,"JULY",IF(CF25=8,"AUGUST",IF(CF25=9,"SEPTEMBER",IF(CF25=10,"OCTOBER",IF(CF25=11,"NOVEMBER",IF(CF25=12,"DECEMBER","")))))))))))) | CJ25: =IF(CG25=1,"1ST",IF(CG25=2,"2ND", IF(CG25=3,"3RD",IF(CG25=4,"FOURTH",IF(CG25=5,"FIFTH",IF(CG25=6,"SIXTH",IF(CG25=7,"7TH",IF(CG25=8,"8TH",IF(CG25=9,"9TH",IF(CG25=10,"10TH",IF(CG25=11,"11TH",IF(CG25=12,"12TH",IF(CG25=13,"13TH",IF(CG25=14,"14TH",IF(CG25=15,"FIFTEEN",IF(CG25=16,"SIXTEEN",IF(CG25=17,"SEVENTEEN",IF(CG25=18,"EIGHTEEN",IF(CG25=19,"NINETEEN",IF(CG25=20,"TWENTY",IF(CG25=21,"TWENTY FIRST",IF(CG25=22,"TWENTY SECOND",IF(CG25=23,"TWENTY THIRD",IF(CG25=24,"TWENTY FOURTH",IF(CG25=25,"TWENTY FIFTH",IF(CG25=26,"TWENTY SIX",IF(CG25=27,"TWENTY SEVEN",IF(CG25=28,"TWENTY EIGHT",IF(CG25=29,"TWENTY NINE",IF(CG25=30,"THIRTY",IF(CG25=31,"THIRTY FIRST",""))))))))))))))))))))))))))))))) | CK25: =IFERROR(IF(AND(CH25="",CI25="",CJ25=""),"",CONCATENATE(CI25," ",CJ25,", ",CH25)),"") | CL25: =IF(F25="","",IF(F25="3rd Grade L-1","YES","")) | CR25: SOCIOLOGY | CV25: =IF(F25="","",IF(F25=$CN$6,"3rd Grade L-1",IF(F25=$CN$7,"3rd Grade L-2",IF(F25=$CN$8,"2nd Grade",IF(F25=$CN$9,"1st Grade (Lecturer)",IF(F25=$CN$10,"Lab. Ass.",IF(F25=$CN$11,"3rd Grade P.E.T.","")))))))
A26: =IFERROR(IF(AND(B26="",C26="",F26="",I26=""),"",A25+1),"") | E26: =IFERROR(VLOOKUP(D26,PEEO_SCHOOL,3,0),"") | J26: =IFERROR(IF(CK26="","",CK26),"") | K26: =IFERROR(IF(OR($K$4="",B26="",A26="",I26=""),"",DATEDIF(I26,$K$4,"Y")),"") | L26: =IFERROR(IF(OR($K$4="",B26="",A26="",I26=""),"",DATEDIF(I26,$K$4,"YM")),"") | M26: =IFERROR(IF(OR($K$4="",B26="",A26="",I26=""),"",DATEDIF(I26,$K$4,"MD")),"") | CE26: =IFERROR(IF(I26="","",YEAR(I26)),"") | CF26: =IFERROR(IF(I26="","",MONTH(I26)),"") | CG26: =IFERROR(IF(I26="","",DAY(I26)),"") | CH26: =IF(CE26=1961,"NINETEEN SIXTY ONE",IF(CE26=1962,"NINETEEN SIXTY TWO",IF(CE26=1963,"NINETEEN SIXTY THREE",IF(CE26=1964,"NINETEEN SIXTY FOUR",IF(CE26=1965,"NINETEEN SIXTY FIVE",IF(CE26=1966,"NINETEEN SIXTY SIX",IF(CE26=1967,"NINETEEN SIXTY SEVEN",IF(CE26=1968,"NINETEEN SIXTY EIGHT",IF(CE26=1969,"NINETEEN SIXTY NINE",IF(CE26=1970,"NINETEEN SEVENTY",IF(CE26=1971,"NINETEEN SEVENTY ONE",IF(CE26=1972,"NINETEEN SEVENTY TWO",IF(CE26=1973,"NINETEEN SEVENTY THREE",IF(CE26=1974,"NINETEEN SEVENTY FOUR",IF(CE26=1975,"NINETEEN SEVENTY FIVE",IF(CE26=1976,"NINETEEN SEVENTY SIX",IF(CE26=1977,"NINETEEN SEVENTY SEVEN",IF(CE26=1978,"NINETEEN SEVENTY EIGHT",IF(CE26=1979,"NINETEEN SEVENTY NINE",IF(CE26=1980,"NINETEEN EIGHTY",IF(CE26=1981,"NINETEEN EIGHTY ONE",IF(CE26=1982,"NINETEEN EIGHTY TWO",IF(CE26=1983,"NINETEEN EIGHTY THREE",IF(CE26=1984,"NINETEEN EIGHTY FOUR",IF(CE26=1985,"NINETEEN EIGHTY FIVE",IF(CE26=1986,"NINETEEN EIGHTY SIX",IF(CE26=1987,"NINETEEN EIGHTY SEVEN",IF(CE26=1988,"NINETEEN EIGHTY EIGHT",IF(CE26=1989,"NINETEEN EIGHTY NINE",IF(CE26=1990,"NINETEEN NINETY",IF(CE26=1991,"NINETEEN NINETY ONE",IF(CE26=1992,"NINETEEN NINETY TWO",IF(CE26=1993,"NINETEEN NINETY THREE",IF(CE26=1994,"NINETEEN NINETY FOUR",IF(CE26=1995,"NINETEEN NINETY FIVE",IF(CE26=1996,"NINETEEN NINETY SIX",IF(CE26=1997,"NINETEEN NINETY SEVEN",IF(CE26=1998,"NINETEEN NINETY EIGHT",IF(CE26=1999,"NINETEEN NINETY NINE",IF(CE26=2000,"TWO THOUSAND",IF(CE26=2001,"TWO THOUSAND ONE",IF(CE26=2002,"TWO THOUSAND TWO",IF(CE26=2003,"TWO THOUSAND THREE",IF(CE26=2004,"TWO THOUSAND FOUR",IF(CE26=2005,"TWO THOUSAND FIVE",IF(CE26=2006,"TWO THOUSAND SIX",IF(CE26=2007,"TWO THOUSAND SEVEN",IF(CE26=2008,"TWO THOUSAND EIGHT",IF(CE26=2009,"TWO THOUSAND NINE",IF(CE26=2010,"TWO THOUSAND TEN",IF(CE26=2011,"TWO THOUSAND ELEVEN",IF(CE26=2012,"TWO THOUSAND TWELVE",IF(CE26=2013,"TWO THOUSAND THIRTEEN",IF(CE26=2014,"TWO THOUSAND FOURTEEN",IF(CE26=2015,"TWO THOUSAND FIFTEEN",IF(CE26=2016,"TWO THOUSAND SIXTEEN",IF(CE26=2017,"TWO THOUSAND SEVENTEEN",IF(CE26=2018,"TWO THOUSAND EIGHTEEN",IF(CE26=2019,"TWO THOUSAND NINETEEN",IF(CE26=2020,"TWO THOUSAND TWENTY",IF(CE26=2021,"TWO THOUSAND TWENTY ONE",IF(CE26=2022,"TWO THOUSAND TWENTY TWO",IF(CE26=2023,"TWO THOUSAND TWENTY THREE",IF(CE26=2024,"TWO THOUSAND TWENTY FOUR",IF(CE26=2025,"TWO THOUSAND TWENTY FIVE",""))))))))))))))))))))))))))))))))))))))))))))))))))))))))))))))))) | CI26: =IF(CF26=1,"JANUARY",IF(CF26=2,"FEBUARY", IF(CF26=3,"MARCH",IF(CF26=4,"APRIL",IF(CF26=5,"MAY",IF(CF26=6,"JUNE",IF(CF26=7,"JULY",IF(CF26=8,"AUGUST",IF(CF26=9,"SEPTEMBER",IF(CF26=10,"OCTOBER",IF(CF26=11,"NOVEMBER",IF(CF26=12,"DECEMBER","")))))))))))) | CJ26: =IF(CG26=1,"1ST",IF(CG26=2,"2ND", IF(CG26=3,"3RD",IF(CG26=4,"FOURTH",IF(CG26=5,"FIFTH",IF(CG26=6,"SIXTH",IF(CG26=7,"7TH",IF(CG26=8,"8TH",IF(CG26=9,"9TH",IF(CG26=10,"10TH",IF(CG26=11,"11TH",IF(CG26=12,"12TH",IF(CG26=13,"13TH",IF(CG26=14,"14TH",IF(CG26=15,"FIFTEEN",IF(CG26=16,"SIXTEEN",IF(CG26=17,"SEVENTEEN",IF(CG26=18,"EIGHTEEN",IF(CG26=19,"NINETEEN",IF(CG26=20,"TWENTY",IF(CG26=21,"TWENTY FIRST",IF(CG26=22,"TWENTY SECOND",IF(CG26=23,"TWENTY THIRD",IF(CG26=24,"TWENTY FOURTH",IF(CG26=25,"TWENTY FIFTH",IF(CG26=26,"TWENTY SIX",IF(CG26=27,"TWENTY SEVEN",IF(CG26=28,"TWENTY EIGHT",IF(CG26=29,"TWENTY NINE",IF(CG26=30,"THIRTY",IF(CG26=31,"THIRTY FIRST",""))))))))))))))))))))))))))))))) | CK26: =IFERROR(IF(AND(CH26="",CI26="",CJ26=""),"",CONCATENATE(CI26," ",CJ26,", ",CH26)),"") | CL26: =IF(F26="","",IF(F26="3rd Grade L-1","YES","")) | CR26: URDU LITERATURE | CV26: =IF(F26="","",IF(F26=$CN$6,"3rd Grade L-1",IF(F26=$CN$7,"3rd Grade L-2",IF(F26=$CN$8,"2nd Grade",IF(F26=$CN$9,"1st Grade (Lecturer)",IF(F26=$CN$10,"Lab. Ass.",IF(F26=$CN$11,"3rd Grade P.E.T.","")))))))
A27: =IFERROR(IF(AND(B27="",C27="",F27="",I27=""),"",A26+1),"") | E27: =IFERROR(VLOOKUP(D27,PEEO_SCHOOL,3,0),"") | J27: =IFERROR(IF(CK27="","",CK27),"") | K27: =IFERROR(IF(OR($K$4="",B27="",A27="",I27=""),"",DATEDIF(I27,$K$4,"Y")),"") | L27: =IFERROR(IF(OR($K$4="",B27="",A27="",I27=""),"",DATEDIF(I27,$K$4,"YM")),"") | M27: =IFERROR(IF(OR($K$4="",B27="",A27="",I27=""),"",DATEDIF(I27,$K$4,"MD")),"") | CE27: =IFERROR(IF(I27="","",YEAR(I27)),"") | CF27: =IFERROR(IF(I27="","",MONTH(I27)),"") | CG27: =IFERROR(IF(I27="","",DAY(I27)),"") | CH27: =IF(CE27=1961,"NINETEEN SIXTY ONE",IF(CE27=1962,"NINETEEN SIXTY TWO",IF(CE27=1963,"NINETEEN SIXTY THREE",IF(CE27=1964,"NINETEEN SIXTY FOUR",IF(CE27=1965,"NINETEEN SIXTY FIVE",IF(CE27=1966,"NINETEEN SIXTY SIX",IF(CE27=1967,"NINETEEN SIXTY SEVEN",IF(CE27=1968,"NINETEEN SIXTY EIGHT",IF(CE27=1969,"NINETEEN SIXTY NINE",IF(CE27=1970,"NINETEEN SEVENTY",IF(CE27=1971,"NINETEEN SEVENTY ONE",IF(CE27=1972,"NINETEEN SEVENTY TWO",IF(CE27=1973,"NINETEEN SEVENTY THREE",IF(CE27=1974,"NINETEEN SEVENTY FOUR",IF(CE27=1975,"NINETEEN SEVENTY FIVE",IF(CE27=1976,"NINETEEN SEVENTY SIX",IF(CE27=1977,"NINETEEN SEVENTY SEVEN",IF(CE27=1978,"NINETEEN SEVENTY EIGHT",IF(CE27=1979,"NINETEEN SEVENTY NINE",IF(CE27=1980,"NINETEEN EIGHTY",IF(CE27=1981,"NINETEEN EIGHTY ONE",IF(CE27=1982,"NINETEEN EIGHTY TWO",IF(CE27=1983,"NINETEEN EIGHTY THREE",IF(CE27=1984,"NINETEEN EIGHTY FOUR",IF(CE27=1985,"NINETEEN EIGHTY FIVE",IF(CE27=1986,"NINETEEN EIGHTY SIX",IF(CE27=1987,"NINETEEN EIGHTY SEVEN",IF(CE27=1988,"NINETEEN EIGHTY EIGHT",IF(CE27=1989,"NINETEEN EIGHTY NINE",IF(CE27=1990,"NINETEEN NINETY",IF(CE27=1991,"NINETEEN NINETY ONE",IF(CE27=1992,"NINETEEN NINETY TWO",IF(CE27=1993,"NINETEEN NINETY THREE",IF(CE27=1994,"NINETEEN NINETY FOUR",IF(CE27=1995,"NINETEEN NINETY FIVE",IF(CE27=1996,"NINETEEN NINETY SIX",IF(CE27=1997,"NINETEEN NINETY SEVEN",IF(CE27=1998,"NINETEEN NINETY EIGHT",IF(CE27=1999,"NINETEEN NINETY NINE",IF(CE27=2000,"TWO THOUSAND",IF(CE27=2001,"TWO THOUSAND ONE",IF(CE27=2002,"TWO THOUSAND TWO",IF(CE27=2003,"TWO THOUSAND THREE",IF(CE27=2004,"TWO THOUSAND FOUR",IF(CE27=2005,"TWO THOUSAND FIVE",IF(CE27=2006,"TWO THOUSAND SIX",IF(CE27=2007,"TWO THOUSAND SEVEN",IF(CE27=2008,"TWO THOUSAND EIGHT",IF(CE27=2009,"TWO THOUSAND NINE",IF(CE27=2010,"TWO THOUSAND TEN",IF(CE27=2011,"TWO THOUSAND ELEVEN",IF(CE27=2012,"TWO THOUSAND TWELVE",IF(CE27=2013,"TWO THOUSAND THIRTEEN",IF(CE27=2014,"TWO THOUSAND FOURTEEN",IF(CE27=2015,"TWO THOUSAND FIFTEEN",IF(CE27=2016,"TWO THOUSAND SIXTEEN",IF(CE27=2017,"TWO THOUSAND SEVENTEEN",IF(CE27=2018,"TWO THOUSAND EIGHTEEN",IF(CE27=2019,"TWO THOUSAND NINETEEN",IF(CE27=2020,"TWO THOUSAND TWENTY",IF(CE27=2021,"TWO THOUSAND TWENTY ONE",IF(CE27=2022,"TWO THOUSAND TWENTY TWO",IF(CE27=2023,"TWO THOUSAND TWENTY THREE",IF(CE27=2024,"TWO THOUSAND TWENTY FOUR",IF(CE27=2025,"TWO THOUSAND TWENTY FIVE",""))))))))))))))))))))))))))))))))))))))))))))))))))))))))))))))))) | CI27: =IF(CF27=1,"JANUARY",IF(CF27=2,"FEBUARY", IF(CF27=3,"MARCH",IF(CF27=4,"APRIL",IF(CF27=5,"MAY",IF(CF27=6,"JUNE",IF(CF27=7,"JULY",IF(CF27=8,"AUGUST",IF(CF27=9,"SEPTEMBER",IF(CF27=10,"OCTOBER",IF(CF27=11,"NOVEMBER",IF(CF27=12,"DECEMBER","")))))))))))) | CJ27: =IF(CG27=1,"1ST",IF(CG27=2,"2ND", IF(CG27=3,"3RD",IF(CG27=4,"FOURTH",IF(CG27=5,"FIFTH",IF(CG27=6,"SIXTH",IF(CG27=7,"7TH",IF(CG27=8,"8TH",IF(CG27=9,"9TH",IF(CG27=10,"10TH",IF(CG27=11,"11TH",IF(CG27=12,"12TH",IF(CG27=13,"13TH",IF(CG27=14,"14TH",IF(CG27=15,"FIFTEEN",IF(CG27=16,"SIXTEEN",IF(CG27=17,"SEVENTEEN",IF(CG27=18,"EIGHTEEN",IF(CG27=19,"NINETEEN",IF(CG27=20,"TWENTY",IF(CG27=21,"TWENTY FIRST",IF(CG27=22,"TWENTY SECOND",IF(CG27=23,"TWENTY THIRD",IF(CG27=24,"TWENTY FOURTH",IF(CG27=25,"TWENTY FIFTH",IF(CG27=26,"TWENTY SIX",IF(CG27=27,"TWENTY SEVEN",IF(CG27=28,"TWENTY EIGHT",IF(CG27=29,"TWENTY NINE",IF(CG27=30,"THIRTY",IF(CG27=31,"THIRTY FIRST",""))))))))))))))))))))))))))))))) | CK27: =IFERROR(IF(AND(CH27="",CI27="",CJ27=""),"",CONCATENATE(CI27," ",CJ27,", ",CH27)),"") | CL27: =IF(F27="","",IF(F27="3rd Grade L-1","YES","")) | CR27: AGRICULTURE | CV27: =IF(F27="","",IF(F27=$CN$6,"3rd Grade L-1",IF(F27=$CN$7,"3rd Grade L-2",IF(F27=$CN$8,"2nd Grade",IF(F27=$CN$9,"1st Grade (Lecturer)",IF(F27=$CN$10,"Lab. Ass.",IF(F27=$CN$11,"3rd Grade P.E.T.","")))))))
A28: =IFERROR(IF(AND(B28="",C28="",F28="",I28=""),"",A27+1),"") | E28: =IFERROR(VLOOKUP(D28,PEEO_SCHOOL,3,0),"") | J28: =IFERROR(IF(CK28="","",CK28),"") | K28: =IFERROR(IF(OR($K$4="",B28="",A28="",I28=""),"",DATEDIF(I28,$K$4,"Y")),"") | L28: =IFERROR(IF(OR($K$4="",B28="",A28="",I28=""),"",DATEDIF(I28,$K$4,"YM")),"") | M28: =IFERROR(IF(OR($K$4="",B28="",A28="",I28=""),"",DATEDIF(I28,$K$4,"MD")),"") | CE28: =IFERROR(IF(I28="","",YEAR(I28)),"") | CF28: =IFERROR(IF(I28="","",MONTH(I28)),"") | CG28: =IFERROR(IF(I28="","",DAY(I28)),"") | CH28: =IF(CE28=1961,"NINETEEN SIXTY ONE",IF(CE28=1962,"NINETEEN SIXTY TWO",IF(CE28=1963,"NINETEEN SIXTY THREE",IF(CE28=1964,"NINETEEN SIXTY FOUR",IF(CE28=1965,"NINETEEN SIXTY FIVE",IF(CE28=1966,"NINETEEN SIXTY SIX",IF(CE28=1967,"NINETEEN SIXTY SEVEN",IF(CE28=1968,"NINETEEN SIXTY EIGHT",IF(CE28=1969,"NINETEEN SIXTY NINE",IF(CE28=1970,"NINETEEN SEVENTY",IF(CE28=1971,"NINETEEN SEVENTY ONE",IF(CE28=1972,"NINETEEN SEVENTY TWO",IF(CE28=1973,"NINETEEN SEVENTY THREE",IF(CE28=1974,"NINETEEN SEVENTY FOUR",IF(CE28=1975,"NINETEEN SEVENTY FIVE",IF(CE28=1976,"NINETEEN SEVENTY SIX",IF(CE28=1977,"NINETEEN SEVENTY SEVEN",IF(CE28=1978,"NINETEEN SEVENTY EIGHT",IF(CE28=1979,"NINETEEN SEVENTY NINE",IF(CE28=1980,"NINETEEN EIGHTY",IF(CE28=1981,"NINETEEN EIGHTY ONE",IF(CE28=1982,"NINETEEN EIGHTY TWO",IF(CE28=1983,"NINETEEN EIGHTY THREE",IF(CE28=1984,"NINETEEN EIGHTY FOUR",IF(CE28=1985,"NINETEEN EIGHTY FIVE",IF(CE28=1986,"NINETEEN EIGHTY SIX",IF(CE28=1987,"NINETEEN EIGHTY SEVEN",IF(CE28=1988,"NINETEEN EIGHTY EIGHT",IF(CE28=1989,"NINETEEN EIGHTY NINE",IF(CE28=1990,"NINETEEN NINETY",IF(CE28=1991,"NINETEEN NINETY ONE",IF(CE28=1992,"NINETEEN NINETY TWO",IF(CE28=1993,"NINETEEN NINETY THREE",IF(CE28=1994,"NINETEEN NINETY FOUR",IF(CE28=1995,"NINETEEN NINETY FIVE",IF(CE28=1996,"NINETEEN NINETY SIX",IF(CE28=1997,"NINETEEN NINETY SEVEN",IF(CE28=1998,"NINETEEN NINETY EIGHT",IF(CE28=1999,"NINETEEN NINETY NINE",IF(CE28=2000,"TWO THOUSAND",IF(CE28=2001,"TWO THOUSAND ONE",IF(CE28=2002,"TWO THOUSAND TWO",IF(CE28=2003,"TWO THOUSAND THREE",IF(CE28=2004,"TWO THOUSAND FOUR",IF(CE28=2005,"TWO THOUSAND FIVE",IF(CE28=2006,"TWO THOUSAND SIX",IF(CE28=2007,"TWO THOUSAND SEVEN",IF(CE28=2008,"TWO THOUSAND EIGHT",IF(CE28=2009,"TWO THOUSAND NINE",IF(CE28=2010,"TWO THOUSAND TEN",IF(CE28=2011,"TWO THOUSAND ELEVEN",IF(CE28=2012,"TWO THOUSAND TWELVE",IF(CE28=2013,"TWO THOUSAND THIRTEEN",IF(CE28=2014,"TWO THOUSAND FOURTEEN",IF(CE28=2015,"TWO THOUSAND FIFTEEN",IF(CE28=2016,"TWO THOUSAND SIXTEEN",IF(CE28=2017,"TWO THOUSAND SEVENTEEN",IF(CE28=2018,"TWO THOUSAND EIGHTEEN",IF(CE28=2019,"TWO THOUSAND NINETEEN",IF(CE28=2020,"TWO THOUSAND TWENTY",IF(CE28=2021,"TWO THOUSAND TWENTY ONE",IF(CE28=2022,"TWO THOUSAND TWENTY TWO",IF(CE28=2023,"TWO THOUSAND TWENTY THREE",IF(CE28=2024,"TWO THOUSAND TWENTY FOUR",IF(CE28=2025,"TWO THOUSAND TWENTY FIVE",""))))))))))))))))))))))))))))))))))))))))))))))))))))))))))))))))) | CI28: =IF(CF28=1,"JANUARY",IF(CF28=2,"FEBUARY", IF(CF28=3,"MARCH",IF(CF28=4,"APRIL",IF(CF28=5,"MAY",IF(CF28=6,"JUNE",IF(CF28=7,"JULY",IF(CF28=8,"AUGUST",IF(CF28=9,"SEPTEMBER",IF(CF28=10,"OCTOBER",IF(CF28=11,"NOVEMBER",IF(CF28=12,"DECEMBER","")))))))))))) | CJ28: =IF(CG28=1,"1ST",IF(CG28=2,"2ND", IF(CG28=3,"3RD",IF(CG28=4,"FOURTH",IF(CG28=5,"FIFTH",IF(CG28=6,"SIXTH",IF(CG28=7,"7TH",IF(CG28=8,"8TH",IF(CG28=9,"9TH",IF(CG28=10,"10TH",IF(CG28=11,"11TH",IF(CG28=12,"12TH",IF(CG28=13,"13TH",IF(CG28=14,"14TH",IF(CG28=15,"FIFTEEN",IF(CG28=16,"SIXTEEN",IF(CG28=17,"SEVENTEEN",IF(CG28=18,"EIGHTEEN",IF(CG28=19,"NINETEEN",IF(CG28=20,"TWENTY",IF(CG28=21,"TWENTY FIRST",IF(CG28=22,"TWENTY SECOND",IF(CG28=23,"TWENTY THIRD",IF(CG28=24,"TWENTY FOURTH",IF(CG28=25,"TWENTY FIFTH",IF(CG28=26,"TWENTY SIX",IF(CG28=27,"TWENTY SEVEN",IF(CG28=28,"TWENTY EIGHT",IF(CG28=29,"TWENTY NINE",IF(CG28=30,"THIRTY",IF(CG28=31,"THIRTY FIRST",""))))))))))))))))))))))))))))))) | CK28: =IFERROR(IF(AND(CH28="",CI28="",CJ28=""),"",CONCATENATE(CI28," ",CJ28,", ",CH28)),"") | CL28: =IF(F28="","",IF(F28="3rd Grade L-1","YES","")) | CR28: AGRICULTURE BIOLOGY | CV28: =IF(F28="","",IF(F28=$CN$6,"3rd Grade L-1",IF(F28=$CN$7,"3rd Grade L-2",IF(F28=$CN$8,"2nd Grade",IF(F28=$CN$9,"1st Grade (Lecturer)",IF(F28=$CN$10,"Lab. Ass.",IF(F28=$CN$11,"3rd Grade P.E.T.","")))))))
A29: =IFERROR(IF(AND(B29="",C29="",F29="",I29=""),"",A28+1),"") | E29: =IFERROR(VLOOKUP(D29,PEEO_SCHOOL,3,0),"") | J29: =IFERROR(IF(CK29="","",CK29),"") | K29: =IFERROR(IF(OR($K$4="",B29="",A29="",I29=""),"",DATEDIF(I29,$K$4,"Y")),"") | L29: =IFERROR(IF(OR($K$4="",B29="",A29="",I29=""),"",DATEDIF(I29,$K$4,"YM")),"") | M29: =IFERROR(IF(OR($K$4="",B29="",A29="",I29=""),"",DATEDIF(I29,$K$4,"MD")),"") | CE29: =IFERROR(IF(I29="","",YEAR(I29)),"") | CF29: =IFERROR(IF(I29="","",MONTH(I29)),"") | CG29: =IFERROR(IF(I29="","",DAY(I29)),"") | CH29: =IF(CE29=1961,"NINETEEN SIXTY ONE",IF(CE29=1962,"NINETEEN SIXTY TWO",IF(CE29=1963,"NINETEEN SIXTY THREE",IF(CE29=1964,"NINETEEN SIXTY FOUR",IF(CE29=1965,"NINETEEN SIXTY FIVE",IF(CE29=1966,"NINETEEN SIXTY SIX",IF(CE29=1967,"NINETEEN SIXTY SEVEN",IF(CE29=1968,"NINETEEN SIXTY EIGHT",IF(CE29=1969,"NINETEEN SIXTY NINE",IF(CE29=1970,"NINETEEN SEVENTY",IF(CE29=1971,"NINETEEN SEVENTY ONE",IF(CE29=1972,"NINETEEN SEVENTY TWO",IF(CE29=1973,"NINETEEN SEVENTY THREE",IF(CE29=1974,"NINETEEN SEVENTY FOUR",IF(CE29=1975,"NINETEEN SEVENTY FIVE",IF(CE29=1976,"NINETEEN SEVENTY SIX",IF(CE29=1977,"NINETEEN SEVENTY SEVEN",IF(CE29=1978,"NINETEEN SEVENTY EIGHT",IF(CE29=1979,"NINETEEN SEVENTY NINE",IF(CE29=1980,"NINETEEN EIGHTY",IF(CE29=1981,"NINETEEN EIGHTY ONE",IF(CE29=1982,"NINETEEN EIGHTY TWO",IF(CE29=1983,"NINETEEN EIGHTY THREE",IF(CE29=1984,"NINETEEN EIGHTY FOUR",IF(CE29=1985,"NINETEEN EIGHTY FIVE",IF(CE29=1986,"NINETEEN EIGHTY SIX",IF(CE29=1987,"NINETEEN EIGHTY SEVEN",IF(CE29=1988,"NINETEEN EIGHTY EIGHT",IF(CE29=1989,"NINETEEN EIGHTY NINE",IF(CE29=1990,"NINETEEN NINETY",IF(CE29=1991,"NINETEEN NINETY ONE",IF(CE29=1992,"NINETEEN NINETY TWO",IF(CE29=1993,"NINETEEN NINETY THREE",IF(CE29=1994,"NINETEEN NINETY FOUR",IF(CE29=1995,"NINETEEN NINETY FIVE",IF(CE29=1996,"NINETEEN NINETY SIX",IF(CE29=1997,"NINETEEN NINETY SEVEN",IF(CE29=1998,"NINETEEN NINETY EIGHT",IF(CE29=1999,"NINETEEN NINETY NINE",IF(CE29=2000,"TWO THOUSAND",IF(CE29=2001,"TWO THOUSAND ONE",IF(CE29=2002,"TWO THOUSAND TWO",IF(CE29=2003,"TWO THOUSAND THREE",IF(CE29=2004,"TWO THOUSAND FOUR",IF(CE29=2005,"TWO THOUSAND FIVE",IF(CE29=2006,"TWO THOUSAND SIX",IF(CE29=2007,"TWO THOUSAND SEVEN",IF(CE29=2008,"TWO THOUSAND EIGHT",IF(CE29=2009,"TWO THOUSAND NINE",IF(CE29=2010,"TWO THOUSAND TEN",IF(CE29=2011,"TWO THOUSAND ELEVEN",IF(CE29=2012,"TWO THOUSAND TWELVE",IF(CE29=2013,"TWO THOUSAND THIRTEEN",IF(CE29=2014,"TWO THOUSAND FOURTEEN",IF(CE29=2015,"TWO THOUSAND FIFTEEN",IF(CE29=2016,"TWO THOUSAND SIXTEEN",IF(CE29=2017,"TWO THOUSAND SEVENTEEN",IF(CE29=2018,"TWO THOUSAND EIGHTEEN",IF(CE29=2019,"TWO THOUSAND NINETEEN",IF(CE29=2020,"TWO THOUSAND TWENTY",IF(CE29=2021,"TWO THOUSAND TWENTY ONE",IF(CE29=2022,"TWO THOUSAND TWENTY TWO",IF(CE29=2023,"TWO THOUSAND TWENTY THREE",IF(CE29=2024,"TWO THOUSAND TWENTY FOUR",IF(CE29=2025,"TWO THOUSAND TWENTY FIVE",""))))))))))))))))))))))))))))))))))))))))))))))))))))))))))))))))) | CI29: =IF(CF29=1,"JANUARY",IF(CF29=2,"FEBUARY", IF(CF29=3,"MARCH",IF(CF29=4,"APRIL",IF(CF29=5,"MAY",IF(CF29=6,"JUNE",IF(CF29=7,"JULY",IF(CF29=8,"AUGUST",IF(CF29=9,"SEPTEMBER",IF(CF29=10,"OCTOBER",IF(CF29=11,"NOVEMBER",IF(CF29=12,"DECEMBER","")))))))))))) | CJ29: =IF(CG29=1,"1ST",IF(CG29=2,"2ND", IF(CG29=3,"3RD",IF(CG29=4,"FOURTH",IF(CG29=5,"FIFTH",IF(CG29=6,"SIXTH",IF(CG29=7,"7TH",IF(CG29=8,"8TH",IF(CG29=9,"9TH",IF(CG29=10,"10TH",IF(CG29=11,"11TH",IF(CG29=12,"12TH",IF(CG29=13,"13TH",IF(CG29=14,"14TH",IF(CG29=15,"FIFTEEN",IF(CG29=16,"SIXTEEN",IF(CG29=17,"SEVENTEEN",IF(CG29=18,"EIGHTEEN",IF(CG29=19,"NINETEEN",IF(CG29=20,"TWENTY",IF(CG29=21,"TWENTY FIRST",IF(CG29=22,"TWENTY SECOND",IF(CG29=23,"TWENTY THIRD",IF(CG29=24,"TWENTY FOURTH",IF(CG29=25,"TWENTY FIFTH",IF(CG29=26,"TWENTY SIX",IF(CG29=27,"TWENTY SEVEN",IF(CG29=28,"TWENTY EIGHT",IF(CG29=29,"TWENTY NINE",IF(CG29=30,"THIRTY",IF(CG29=31,"THIRTY FIRST",""))))))))))))))))))))))))))))))) | CK29: =IFERROR(IF(AND(CH29="",CI29="",CJ29=""),"",CONCATENATE(CI29," ",CJ29,", ",CH29)),"") | CL29: =IF(F29="","",IF(F29="3rd Grade L-1","YES","")) | CR29: AGRICULTURE CHEMISTRY | CV29: =IF(F29="","",IF(F29=$CN$6,"3rd Grade L-1",IF(F29=$CN$7,"3rd Grade L-2",IF(F29=$CN$8,"2nd Grade",IF(F29=$CN$9,"1st Grade (Lecturer)",IF(F29=$CN$10,"Lab. Ass.",IF(F29=$CN$11,"3rd Grade P.E.T.","")))))))
... A68: =IFERROR(IF(AND(B68="",C68="",F68="",I68=""),"",A67+1),"") | E68: =IFERROR(VLOOKUP(D68,PEEO_SCHOOL,3,0),"") | J68: =IFERROR(IF(CK68="","",CK68),"") | K68: =IFERROR(IF(OR($K$4="",B68="",A68="",I68=""),"",DATEDIF(I68,$K$4,"Y")),"") | L68: =IFERROR(IF(OR($K$4="",B68="",A68="",I68=""),"",DATEDIF(I68,$K$4,"YM")),"") | M68: =IFERROR(IF(OR($K$4="",B68="",A68="",I68=""),"",DATEDIF(I68,$K$4,"MD")),"") | CE68: =IFERROR(IF(I68="","",YEAR(I68)),"") | CF68: =IFERROR(IF(I68="","",MONTH(I68)),"") | CG68: =IFERROR(IF(I68="","",DAY(I68)),"") | CH68: =IF(CE68=1961,"NINETEEN SIXTY ONE",IF(CE68=1962,"NINETEEN SIXTY TWO",IF(CE68=1963,"NINETEEN SIXTY THREE",IF(CE68=1964,"NINETEEN SIXTY FOUR",IF(CE68=1965,"NINETEEN SIXTY FIVE",IF(CE68=1966,"NINETEEN SIXTY SIX",IF(CE68=1967,"NINETEEN SIXTY SEVEN",IF(CE68=1968,"NINETEEN SIXTY EIGHT",IF(CE68=1969,"NINETEEN SIXTY NINE",IF(CE68=1970,"NINETEEN SEVENTY",IF(CE68=1971,"NINETEEN SEVENTY ONE",IF(CE68=1972,"NINETEEN SEVENTY TWO",IF(CE68=1973,"NINETEEN SEVENTY THREE",IF(CE68=1974,"NINETEEN SEVENTY FOUR",IF(CE68=1975,"NINETEEN SEVENTY FIVE",IF(CE68=1976,"NINETEEN SEVENTY SIX",IF(CE68=1977,"NINETEEN SEVENTY SEVEN",IF(CE68=1978,"NINETEEN SEVENTY EIGHT",IF(CE68=1979,"NINETEEN SEVENTY NINE",IF(CE68=1980,"NINETEEN EIGHTY",IF(CE68=1981,"NINETEEN EIGHTY ONE",IF(CE68=1982,"NINETEEN EIGHTY TWO",IF(CE68=1983,"NINETEEN EIGHTY THREE",IF(CE68=1984,"NINETEEN EIGHTY FOUR",IF(CE68=1985,"NINETEEN EIGHTY FIVE",IF(CE68=1986,"NINETEEN EIGHTY SIX",IF(CE68=1987,"NINETEEN EIGHTY SEVEN",IF(CE68=1988,"NINETEEN EIGHTY EIGHT",IF(CE68=1989,"NINETEEN EIGHTY NINE",IF(CE68=1990,"NINETEEN NINETY",IF(CE68=1991,"NINETEEN NINETY ONE",IF(CE68=1992,"NINETEEN NINETY TWO",IF(CE68=1993,"NINETEEN NINETY THREE",IF(CE68=1994,"NINETEEN NINETY FOUR",IF(CE68=1995,"NINETEEN NINETY FIVE",IF(CE68=1996,"NINETEEN NINETY SIX",IF(CE68=1997,"NINETEEN NINETY SEVEN",IF(CE68=1998,"NINETEEN NINETY EIGHT",IF(CE68=1999,"NINETEEN NINETY NINE",IF(CE68=2000,"TWO THOUSAND",IF(CE68=2001,"TWO THOUSAND ONE",IF(CE68=2002,"TWO THOUSAND TWO",IF(CE68=2003,"TWO THOUSAND THREE",IF(CE68=2004,"TWO THOUSAND FOUR",IF(CE68=2005,"TWO THOUSAND FIVE",IF(CE68=2006,"TWO THOUSAND SIX",IF(CE68=2007,"TWO THOUSAND SEVEN",IF(CE68=2008,"TWO THOUSAND EIGHT",IF(CE68=2009,"TWO THOUSAND NINE",IF(CE68=2010,"TWO THOUSAND TEN",IF(CE68=2011,"TWO THOUSAND ELEVEN",IF(CE68=2012,"TWO THOUSAND TWELVE",IF(CE68=2013,"TWO THOUSAND THIRTEEN",IF(CE68=2014,"TWO THOUSAND FOURTEEN",IF(CE68=2015,"TWO THOUSAND FIFTEEN",IF(CE68=2016,"TWO THOUSAND SIXTEEN",IF(CE68=2017,"TWO THOUSAND SEVENTEEN",IF(CE68=2018,"TWO THOUSAND EIGHTEEN",IF(CE68=2019,"TWO THOUSAND NINETEEN",IF(CE68=2020,"TWO THOUSAND TWENTY",IF(CE68=2021,"TWO THOUSAND TWENTY ONE",IF(CE68=2022,"TWO THOUSAND TWENTY TWO",IF(CE68=2023,"TWO THOUSAND TWENTY THREE",IF(CE68=2024,"TWO THOUSAND TWENTY FOUR",IF(CE68=2025,"TWO THOUSAND TWENTY FIVE",""))))))))))))))))))))))))))))))))))))))))))))))))))))))))))))))))) | CI68: =IF(CF68=1,"JANUARY",IF(CF68=2,"FEBUARY", IF(CF68=3,"MARCH",IF(CF68=4,"APRIL",IF(CF68=5,"MAY",IF(CF68=6,"JUNE",IF(CF68=7,"JULY",IF(CF68=8,"AUGUST",IF(CF68=9,"SEPTEMBER",IF(CF68=10,"OCTOBER",IF(CF68=11,"NOVEMBER",IF(CF68=12,"DECEMBER","")))))))))))) | CJ68: =IF(CG68=1,"1ST",IF(CG68=2,"2ND", IF(CG68=3,"3RD",IF(CG68=4,"FOURTH",IF(CG68=5,"FIFTH",IF(CG68=6,"SIXTH",IF(CG68=7,"7TH",IF(CG68=8,"8TH",IF(CG68=9,"9TH",IF(CG68=10,"10TH",IF(CG68=11,"11TH",IF(CG68=12,"12TH",IF(CG68=13,"13TH",IF(CG68=14,"14TH",IF(CG68=15,"FIFTEEN",IF(CG68=16,"SIXTEEN",IF(CG68=17,"SEVENTEEN",IF(CG68=18,"EIGHTEEN",IF(CG68=19,"NINETEEN",IF(CG68=20,"TWENTY",IF(CG68=21,"TWENTY FIRST",IF(CG68=22,"TWENTY SECOND",IF(CG68=23,"TWENTY THIRD",IF(CG68=24,"TWENTY FOURTH",IF(CG68=25,"TWENTY FIFTH",IF(CG68=26,"TWENTY SIX",IF(CG68=27,"TWENTY SEVEN",IF(CG68=28,"TWENTY EIGHT",IF(CG68=29,"TWENTY NINE",IF(CG68=30,"THIRTY",IF(CG68=31,"THIRTY FIRST",""))))))))))))))))))))))))))))))) | CK68: =IFERROR(IF(AND(CH68="",CI68="",CJ68=""),"",CONCATENATE(CI68," ",CJ68,", ",CH68)),"") | CL68: =IF(F68="","",IF(F68="3rd Grade L-1","YES","")) | CR68: Compulsory English | CV68: =IF(F68="","",IF(F68=$CN$6,"3rd Grade L-1",IF(F68=$CN$7,"3rd Grade L-2",IF(F68=$CN$8,"2nd Grade",IF(F68=$CN$9,"1st Grade (Lecturer)",IF(F68=$CN$10,"Lab. Ass.",IF(F68=$CN$11,"3rd Grade P.E.T.","")))))))
A69: =IFERROR(IF(AND(B69="",C69="",F69="",I69=""),"",A68+1),"") | E69: =IFERROR(VLOOKUP(D69,PEEO_SCHOOL,3,0),"") | J69: =IFERROR(IF(CK69="","",CK69),"") | K69: =IFERROR(IF(OR($K$4="",B69="",A69="",I69=""),"",DATEDIF(I69,$K$4,"Y")),"") | L69: =IFERROR(IF(OR($K$4="",B69="",A69="",I69=""),"",DATEDIF(I69,$K$4,"YM")),"") | M69: =IFERROR(IF(OR($K$4="",B69="",A69="",I69=""),"",DATEDIF(I69,$K$4,"MD")),"") | CE69: =IFERROR(IF(I69="","",YEAR(I69)),"") | CF69: =IFERROR(IF(I69="","",MONTH(I69)),"") | CG69: =IFERROR(IF(I69="","",DAY(I69)),"") | CH69: =IF(CE69=1961,"NINETEEN SIXTY ONE",IF(CE69=1962,"NINETEEN SIXTY TWO",IF(CE69=1963,"NINETEEN SIXTY THREE",IF(CE69=1964,"NINETEEN SIXTY FOUR",IF(CE69=1965,"NINETEEN SIXTY FIVE",IF(CE69=1966,"NINETEEN SIXTY SIX",IF(CE69=1967,"NINETEEN SIXTY SEVEN",IF(CE69=1968,"NINETEEN SIXTY EIGHT",IF(CE69=1969,"NINETEEN SIXTY NINE",IF(CE69=1970,"NINETEEN SEVENTY",IF(CE69=1971,"NINETEEN SEVENTY ONE",IF(CE69=1972,"NINETEEN SEVENTY TWO",IF(CE69=1973,"NINETEEN SEVENTY THREE",IF(CE69=1974,"NINETEEN SEVENTY FOUR",IF(CE69=1975,"NINETEEN SEVENTY FIVE",IF(CE69=1976,"NINETEEN SEVENTY SIX",IF(CE69=1977,"NINETEEN SEVENTY SEVEN",IF(CE69=1978,"NINETEEN SEVENTY EIGHT",IF(CE69=1979,"NINETEEN SEVENTY NINE",IF(CE69=1980,"NINETEEN EIGHTY",IF(CE69=1981,"NINETEEN EIGHTY ONE",IF(CE69=1982,"NINETEEN EIGHTY TWO",IF(CE69=1983,"NINETEEN EIGHTY THREE",IF(CE69=1984,"NINETEEN EIGHTY FOUR",IF(CE69=1985,"NINETEEN EIGHTY FIVE",IF(CE69=1986,"NINETEEN EIGHTY SIX",IF(CE69=1987,"NINETEEN EIGHTY SEVEN",IF(CE69=1988,"NINETEEN EIGHTY EIGHT",IF(CE69=1989,"NINETEEN EIGHTY NINE",IF(CE69=1990,"NINETEEN NINETY",IF(CE69=1991,"NINETEEN NINETY ONE",IF(CE69=1992,"NINETEEN NINETY TWO",IF(CE69=1993,"NINETEEN NINETY THREE",IF(CE69=1994,"NINETEEN NINETY FOUR",IF(CE69=1995,"NINETEEN NINETY FIVE",IF(CE69=1996,"NINETEEN NINETY SIX",IF(CE69=1997,"NINETEEN NINETY SEVEN",IF(CE69=1998,"NINETEEN NINETY EIGHT",IF(CE69=1999,"NINETEEN NINETY NINE",IF(CE69=2000,"TWO THOUSAND",IF(CE69=2001,"TWO THOUSAND ONE",IF(CE69=2002,"TWO THOUSAND TWO",IF(CE69=2003,"TWO THOUSAND THREE",IF(CE69=2004,"TWO THOUSAND FOUR",IF(CE69=2005,"TWO THOUSAND FIVE",IF(CE69=2006,"TWO THOUSAND SIX",IF(CE69=2007,"TWO THOUSAND SEVEN",IF(CE69=2008,"TWO THOUSAND EIGHT",IF(CE69=2009,"TWO THOUSAND NINE",IF(CE69=2010,"TWO THOUSAND TEN",IF(CE69=2011,"TWO THOUSAND ELEVEN",IF(CE69=2012,"TWO THOUSAND TWELVE",IF(CE69=2013,"TWO THOUSAND THIRTEEN",IF(CE69=2014,"TWO THOUSAND FOURTEEN",IF(CE69=2015,"TWO THOUSAND FIFTEEN",IF(CE69=2016,"TWO THOUSAND SIXTEEN",IF(CE69=2017,"TWO THOUSAND SEVENTEEN",IF(CE69=2018,"TWO THOUSAND EIGHTEEN",IF(CE69=2019,"TWO THOUSAND NINETEEN",IF(CE69=2020,"TWO THOUSAND TWENTY",IF(CE69=2021,"TWO THOUSAND TWENTY ONE",IF(CE69=2022,"TWO THOUSAND TWENTY TWO",IF(CE69=2023,"TWO THOUSAND TWENTY THREE",IF(CE69=2024,"TWO THOUSAND TWENTY FOUR",IF(CE69=2025,"TWO THOUSAND TWENTY FIVE",""))))))))))))))))))))))))))))))))))))))))))))))))))))))))))))))))) | CI69: =IF(CF69=1,"JANUARY",IF(CF69=2,"FEBUARY", IF(CF69=3,"MARCH",IF(CF69=4,"APRIL",IF(CF69=5,"MAY",IF(CF69=6,"JUNE",IF(CF69=7,"JULY",IF(CF69=8,"AUGUST",IF(CF69=9,"SEPTEMBER",IF(CF69=10,"OCTOBER",IF(CF69=11,"NOVEMBER",IF(CF69=12,"DECEMBER","")))))))))))) | CJ69: =IF(CG69=1,"1ST",IF(CG69=2,"2ND", IF(CG69=3,"3RD",IF(CG69=4,"FOURTH",IF(CG69=5,"FIFTH",IF(CG69=6,"SIXTH",IF(CG69=7,"7TH",IF(CG69=8,"8TH",IF(CG69=9,"9TH",IF(CG69=10,"10TH",IF(CG69=11,"11TH",IF(CG69=12,"12TH",IF(CG69=13,"13TH",IF(CG69=14,"14TH",IF(CG69=15,"FIFTEEN",IF(CG69=16,"SIXTEEN",IF(CG69=17,"SEVENTEEN",IF(CG69=18,"EIGHTEEN",IF(CG69=19,"NINETEEN",IF(CG69=20,"TWENTY",IF(CG69=21,"TWENTY FIRST",IF(CG69=22,"TWENTY SECOND",IF(CG69=23,"TWENTY THIRD",IF(CG69=24,"TWENTY FOURTH",IF(CG69=25,"TWENTY FIFTH",IF(CG69=26,"TWENTY SIX",IF(CG69=27,"TWENTY SEVEN",IF(CG69=28,"TWENTY EIGHT",IF(CG69=29,"TWENTY NINE",IF(CG69=30,"THIRTY",IF(CG69=31,"THIRTY FIRST",""))))))))))))))))))))))))))))))) | CK69: =IFERROR(IF(AND(CH69="",CI69="",CJ69=""),"",CONCATENATE(CI69," ",CJ69,", ",CH69)),"") | CL69: =IF(F69="","",IF(F69="3rd Grade L-1","YES","")) | CV69: =IF(F69="","",IF(F69=$CN$6,"3rd Grade L-1",IF(F69=$CN$7,"3rd Grade L-2",IF(F69=$CN$8,"2nd Grade",IF(F69=$CN$9,"1st Grade (Lecturer)",IF(F69=$CN$10,"Lab. Ass.",IF(F69=$CN$11,"3rd Grade P.E.T.","")))))))
A70: =IFERROR(IF(AND(B70="",C70="",F70="",I70=""),"",A69+1),"") | E70: =IFERROR(VLOOKUP(D70,PEEO_SCHOOL,3,0),"") | J70: =IFERROR(IF(CK70="","",CK70),"") | K70: =IFERROR(IF(OR($K$4="",B70="",A70="",I70=""),"",DATEDIF(I70,$K$4,"Y")),"") | L70: =IFERROR(IF(OR($K$4="",B70="",A70="",I70=""),"",DATEDIF(I70,$K$4,"YM")),"") | M70: =IFERROR(IF(OR($K$4="",B70="",A70="",I70=""),"",DATEDIF(I70,$K$4,"MD")),"") | CE70: =IFERROR(IF(I70="","",YEAR(I70)),"") | CF70: =IFERROR(IF(I70="","",MONTH(I70)),"") | CG70: =IFERROR(IF(I70="","",DAY(I70)),"") | CH70: =IF(CE70=1961,"NINETEEN SIXTY ONE",IF(CE70=1962,"NINETEEN SIXTY TWO",IF(CE70=1963,"NINETEEN SIXTY THREE",IF(CE70=1964,"NINETEEN SIXTY FOUR",IF(CE70=1965,"NINETEEN SIXTY FIVE",IF(CE70=1966,"NINETEEN SIXTY SIX",IF(CE70=1967,"NINETEEN SIXTY SEVEN",IF(CE70=1968,"NINETEEN SIXTY EIGHT",IF(CE70=1969,"NINETEEN SIXTY NINE",IF(CE70=1970,"NINETEEN SEVENTY",IF(CE70=1971,"NINETEEN SEVENTY ONE",IF(CE70=1972,"NINETEEN SEVENTY TWO",IF(CE70=1973,"NINETEEN SEVENTY THREE",IF(CE70=1974,"NINETEEN SEVENTY FOUR",IF(CE70=1975,"NINETEEN SEVENTY FIVE",IF(CE70=1976,"NINETEEN SEVENTY SIX",IF(CE70=1977,"NINETEEN SEVENTY SEVEN",IF(CE70=1978,"NINETEEN SEVENTY EIGHT",IF(CE70=1979,"NINETEEN SEVENTY NINE",IF(CE70=1980,"NINETEEN EIGHTY",IF(CE70=1981,"NINETEEN EIGHTY ONE",IF(CE70=1982,"NINETEEN EIGHTY TWO",IF(CE70=1983,"NINETEEN EIGHTY THREE",IF(CE70=1984,"NINETEEN EIGHTY FOUR",IF(CE70=1985,"NINETEEN EIGHTY FIVE",IF(CE70=1986,"NINETEEN EIGHTY SIX",IF(CE70=1987,"NINETEEN EIGHTY SEVEN",IF(CE70=1988,"NINETEEN EIGHTY EIGHT",IF(CE70=1989,"NINETEEN EIGHTY NINE",IF(CE70=1990,"NINETEEN NINETY",IF(CE70=1991,"NINETEEN NINETY ONE",IF(CE70=1992,"NINETEEN NINETY TWO",IF(CE70=1993,"NINETEEN NINETY THREE",IF(CE70=1994,"NINETEEN NINETY FOUR",IF(CE70=1995,"NINETEEN NINETY FIVE",IF(CE70=1996,"NINETEEN NINETY SIX",IF(CE70=1997,"NINETEEN NINETY SEVEN",IF(CE70=1998,"NINETEEN NINETY EIGHT",IF(CE70=1999,"NINETEEN NINETY NINE",IF(CE70=2000,"TWO THOUSAND",IF(CE70=2001,"TWO THOUSAND ONE",IF(CE70=2002,"TWO THOUSAND TWO",IF(CE70=2003,"TWO THOUSAND THREE",IF(CE70=2004,"TWO THOUSAND FOUR",IF(CE70=2005,"TWO THOUSAND FIVE",IF(CE70=2006,"TWO THOUSAND SIX",IF(CE70=2007,"TWO THOUSAND SEVEN",IF(CE70=2008,"TWO THOUSAND EIGHT",IF(CE70=2009,"TWO THOUSAND NINE",IF(CE70=2010,"TWO THOUSAND TEN",IF(CE70=2011,"TWO THOUSAND ELEVEN",IF(CE70=2012,"TWO THOUSAND TWELVE",IF(CE70=2013,"TWO THOUSAND THIRTEEN",IF(CE70=2014,"TWO THOUSAND FOURTEEN",IF(CE70=2015,"TWO THOUSAND FIFTEEN",IF(CE70=2016,"TWO THOUSAND SIXTEEN",IF(CE70=2017,"TWO THOUSAND SEVENTEEN",IF(CE70=2018,"TWO THOUSAND EIGHTEEN",IF(CE70=2019,"TWO THOUSAND NINETEEN",IF(CE70=2020,"TWO THOUSAND TWENTY",IF(CE70=2021,"TWO THOUSAND TWENTY ONE",IF(CE70=2022,"TWO THOUSAND TWENTY TWO",IF(CE70=2023,"TWO THOUSAND TWENTY THREE",IF(CE70=2024,"TWO THOUSAND TWENTY FOUR",IF(CE70=2025,"TWO THOUSAND TWENTY FIVE",""))))))))))))))))))))))))))))))))))))))))))))))))))))))))))))))))) | CI70: =IF(CF70=1,"JANUARY",IF(CF70=2,"FEBUARY", IF(CF70=3,"MARCH",IF(CF70=4,"APRIL",IF(CF70=5,"MAY",IF(CF70=6,"JUNE",IF(CF70=7,"JULY",IF(CF70=8,"AUGUST",IF(CF70=9,"SEPTEMBER",IF(CF70=10,"OCTOBER",IF(CF70=11,"NOVEMBER",IF(CF70=12,"DECEMBER","")))))))))))) | CJ70: =IF(CG70=1,"1ST",IF(CG70=2,"2ND", IF(CG70=3,"3RD",IF(CG70=4,"FOURTH",IF(CG70=5,"FIFTH",IF(CG70=6,"SIXTH",IF(CG70=7,"7TH",IF(CG70=8,"8TH",IF(CG70=9,"9TH",IF(CG70=10,"10TH",IF(CG70=11,"11TH",IF(CG70=12,"12TH",IF(CG70=13,"13TH",IF(CG70=14,"14TH",IF(CG70=15,"FIFTEEN",IF(CG70=16,"SIXTEEN",IF(CG70=17,"SEVENTEEN",IF(CG70=18,"EIGHTEEN",IF(CG70=19,"NINETEEN",IF(CG70=20,"TWENTY",IF(CG70=21,"TWENTY FIRST",IF(CG70=22,"TWENTY SECOND",IF(CG70=23,"TWENTY THIRD",IF(CG70=24,"TWENTY FOURTH",IF(CG70=25,"TWENTY FIFTH",IF(CG70=26,"TWENTY SIX",IF(CG70=27,"TWENTY SEVEN",IF(CG70=28,"TWENTY EIGHT",IF(CG70=29,"TWENTY NINE",IF(CG70=30,"THIRTY",IF(CG70=31,"THIRTY FIRST",""))))))))))))))))))))))))))))))) | CK70: =IFERROR(IF(AND(CH70="",CI70="",CJ70=""),"",CONCATENATE(CI70," ",CJ70,", ",CH70)),"") | CL70: =IF(F70="","",IF(F70="3rd Grade L-1","YES","")) | CV70: =IF(F70="","",IF(F70=$CN$6,"3rd Grade L-1",IF(F70=$CN$7,"3rd Grade L-2",IF(F70=$CN$8,"2nd Grade",IF(F70=$CN$9,"1st Grade (Lecturer)",IF(F70=$CN$10,"Lab. Ass.",IF(F70=$CN$11,"3rd Grade P.E.T.","")))))))
A71: =IFERROR(IF(AND(B71="",C71="",F71="",I71=""),"",A70+1),"") | E71: =IFERROR(VLOOKUP(D71,PEEO_SCHOOL,3,0),"") | J71: =IFERROR(IF(CK71="","",CK71),"") | K71: =IFERROR(IF(OR($K$4="",B71="",A71="",I71=""),"",DATEDIF(I71,$K$4,"Y")),"") | L71: =IFERROR(IF(OR($K$4="",B71="",A71="",I71=""),"",DATEDIF(I71,$K$4,"YM")),"") | M71: =IFERROR(IF(OR($K$4="",B71="",A71="",I71=""),"",DATEDIF(I71,$K$4,"MD")),"") | CE71: =IFERROR(IF(I71="","",YEAR(I71)),"") | CF71: =IFERROR(IF(I71="","",MONTH(I71)),"") | CG71: =IFERROR(IF(I71="","",DAY(I71)),"") | CH71: =IF(CE71=1961,"NINETEEN SIXTY ONE",IF(CE71=1962,"NINETEEN SIXTY TWO",IF(CE71=1963,"NINETEEN SIXTY THREE",IF(CE71=1964,"NINETEEN SIXTY FOUR",IF(CE71=1965,"NINETEEN SIXTY FIVE",IF(CE71=1966,"NINETEEN SIXTY SIX",IF(CE71=1967,"NINETEEN SIXTY SEVEN",IF(CE71=1968,"NINETEEN SIXTY EIGHT",IF(CE71=1969,"NINETEEN SIXTY NINE",IF(CE71=1970,"NINETEEN SEVENTY",IF(CE71=1971,"NINETEEN SEVENTY ONE",IF(CE71=1972,"NINETEEN SEVENTY TWO",IF(CE71=1973,"NINETEEN SEVENTY THREE",IF(CE71=1974,"NINETEEN SEVENTY FOUR",IF(CE71=1975,"NINETEEN SEVENTY FIVE",IF(CE71=1976,"NINETEEN SEVENTY SIX",IF(CE71=1977,"NINETEEN SEVENTY SEVEN",IF(CE71=1978,"NINETEEN SEVENTY EIGHT",IF(CE71=1979,"NINETEEN SEVENTY NINE",IF(CE71=1980,"NINETEEN EIGHTY",IF(CE71=1981,"NINETEEN EIGHTY ONE",IF(CE71=1982,"NINETEEN EIGHTY TWO",IF(CE71=1983,"NINETEEN EIGHTY THREE",IF(CE71=1984,"NINETEEN EIGHTY FOUR",IF(CE71=1985,"NINETEEN EIGHTY FIVE",IF(CE71=1986,"NINETEEN EIGHTY SIX",IF(CE71=1987,"NINETEEN EIGHTY SEVEN",IF(CE71=1988,"NINETEEN EIGHTY EIGHT",IF(CE71=1989,"NINETEEN EIGHTY NINE",IF(CE71=1990,"NINETEEN NINETY",IF(CE71=1991,"NINETEEN NINETY ONE",IF(CE71=1992,"NINETEEN NINETY TWO",IF(CE71=1993,"NINETEEN NINETY THREE",IF(CE71=1994,"NINETEEN NINETY FOUR",IF(CE71=1995,"NINETEEN NINETY FIVE",IF(CE71=1996,"NINETEEN NINETY SIX",IF(CE71=1997,"NINETEEN NINETY SEVEN",IF(CE71=1998,"NINETEEN NINETY EIGHT",IF(CE71=1999,"NINETEEN NINETY NINE",IF(CE71=2000,"TWO THOUSAND",IF(CE71=2001,"TWO THOUSAND ONE",IF(CE71=2002,"TWO THOUSAND TWO",IF(CE71=2003,"TWO THOUSAND THREE",IF(CE71=2004,"TWO THOUSAND FOUR",IF(CE71=2005,"TWO THOUSAND FIVE",IF(CE71=2006,"TWO THOUSAND SIX",IF(CE71=2007,"TWO THOUSAND SEVEN",IF(CE71=2008,"TWO THOUSAND EIGHT",IF(CE71=2009,"TWO THOUSAND NINE",IF(CE71=2010,"TWO THOUSAND TEN",IF(CE71=2011,"TWO THOUSAND ELEVEN",IF(CE71=2012,"TWO THOUSAND TWELVE",IF(CE71=2013,"TWO THOUSAND THIRTEEN",IF(CE71=2014,"TWO THOUSAND FOURTEEN",IF(CE71=2015,"TWO THOUSAND FIFTEEN",IF(CE71=2016,"TWO THOUSAND SIXTEEN",IF(CE71=2017,"TWO THOUSAND SEVENTEEN",IF(CE71=2018,"TWO THOUSAND EIGHTEEN",IF(CE71=2019,"TWO THOUSAND NINETEEN",IF(CE71=2020,"TWO THOUSAND TWENTY",IF(CE71=2021,"TWO THOUSAND TWENTY ONE",IF(CE71=2022,"TWO THOUSAND TWENTY TWO",IF(CE71=2023,"TWO THOUSAND TWENTY THREE",IF(CE71=2024,"TWO THOUSAND TWENTY FOUR",IF(CE71=2025,"TWO THOUSAND TWENTY FIVE",""))))))))))))))))))))))))))))))))))))))))))))))))))))))))))))))))) | CI71: =IF(CF71=1,"JANUARY",IF(CF71=2,"FEBUARY", IF(CF71=3,"MARCH",IF(CF71=4,"APRIL",IF(CF71=5,"MAY",IF(CF71=6,"JUNE",IF(CF71=7,"JULY",IF(CF71=8,"AUGUST",IF(CF71=9,"SEPTEMBER",IF(CF71=10,"OCTOBER",IF(CF71=11,"NOVEMBER",IF(CF71=12,"DECEMBER","")))))))))))) | CJ71: =IF(CG71=1,"1ST",IF(CG71=2,"2ND", IF(CG71=3,"3RD",IF(CG71=4,"FOURTH",IF(CG71=5,"FIFTH",IF(CG71=6,"SIXTH",IF(CG71=7,"7TH",IF(CG71=8,"8TH",IF(CG71=9,"9TH",IF(CG71=10,"10TH",IF(CG71=11,"11TH",IF(CG71=12,"12TH",IF(CG71=13,"13TH",IF(CG71=14,"14TH",IF(CG71=15,"FIFTEEN",IF(CG71=16,"SIXTEEN",IF(CG71=17,"SEVENTEEN",IF(CG71=18,"EIGHTEEN",IF(CG71=19,"NINETEEN",IF(CG71=20,"TWENTY",IF(CG71=21,"TWENTY FIRST",IF(CG71=22,"TWENTY SECOND",IF(CG71=23,"TWENTY THIRD",IF(CG71=24,"TWENTY FOURTH",IF(CG71=25,"TWENTY FIFTH",IF(CG71=26,"TWENTY SIX",IF(CG71=27,"TWENTY SEVEN",IF(CG71=28,"TWENTY EIGHT",IF(CG71=29,"TWENTY NINE",IF(CG71=30,"THIRTY",IF(CG71=31,"THIRTY FIRST",""))))))))))))))))))))))))))))))) | CK71: =IFERROR(IF(AND(CH71="",CI71="",CJ71=""),"",CONCATENATE(CI71," ",CJ71,", ",CH71)),"") | CL71: =IF(F71="","",IF(F71="3rd Grade L-1","YES","")) | CV71: =IF(F71="","",IF(F71=$CN$6,"3rd Grade L-1",IF(F71=$CN$7,"3rd Grade L-2",IF(F71=$CN$8,"2nd Grade",IF(F71=$CN$9,"1st Grade (Lecturer)",IF(F71=$CN$10,"Lab. Ass.",IF(F71=$CN$11,"3rd Grade P.E.T.","")))))))
A72: =IFERROR(IF(AND(B72="",C72="",F72="",I72=""),"",A71+1),"") | E72: =IFERROR(VLOOKUP(D72,PEEO_SCHOOL,3,0),"") | J72: =IFERROR(IF(CK72="","",CK72),"") | K72: =IFERROR(IF(OR($K$4="",B72="",A72="",I72=""),"",DATEDIF(I72,$K$4,"Y")),"") | L72: =IFERROR(IF(OR($K$4="",B72="",A72="",I72=""),"",DATEDIF(I72,$K$4,"YM")),"") | M72: =IFERROR(IF(OR($K$4="",B72="",A72="",I72=""),"",DATEDIF(I72,$K$4,"MD")),"") | CE72: =IFERROR(IF(I72="","",YEAR(I72)),"") | CF72: =IFERROR(IF(I72="","",MONTH(I72)),"") | CG72: =IFERROR(IF(I72="","",DAY(I72)),"") | CH72: =IF(CE72=1961,"NINETEEN SIXTY ONE",IF(CE72=1962,"NINETEEN SIXTY TWO",IF(CE72=1963,"NINETEEN SIXTY THREE",IF(CE72=1964,"NINETEEN SIXTY FOUR",IF(CE72=1965,"NINETEEN SIXTY FIVE",IF(CE72=1966,"NINETEEN SIXTY SIX",IF(CE72=1967,"NINETEEN SIXTY SEVEN",IF(CE72=1968,"NINETEEN SIXTY EIGHT",IF(CE72=1969,"NINETEEN SIXTY NINE",IF(CE72=1970,"NINETEEN SEVENTY",IF(CE72=1971,"NINETEEN SEVENTY ONE",IF(CE72=1972,"NINETEEN SEVENTY TWO",IF(CE72=1973,"NINETEEN SEVENTY THREE",IF(CE72=1974,"NINETEEN SEVENTY FOUR",IF(CE72=1975,"NINETEEN SEVENTY FIVE",IF(CE72=1976,"NINETEEN SEVENTY SIX",IF(CE72=1977,"NINETEEN SEVENTY SEVEN",IF(CE72=1978,"NINETEEN SEVENTY EIGHT",IF(CE72=1979,"NINETEEN SEVENTY NINE",IF(CE72=1980,"NINETEEN EIGHTY",IF(CE72=1981,"NINETEEN EIGHTY ONE",IF(CE72=1982,"NINETEEN EIGHTY TWO",IF(CE72=1983,"NINETEEN EIGHTY THREE",IF(CE72=1984,"NINETEEN EIGHTY FOUR",IF(CE72=1985,"NINETEEN EIGHTY FIVE",IF(CE72=1986,"NINETEEN EIGHTY SIX",IF(CE72=1987,"NINETEEN EIGHTY SEVEN",IF(CE72=1988,"NINETEEN EIGHTY EIGHT",IF(CE72=1989,"NINETEEN EIGHTY NINE",IF(CE72=1990,"NINETEEN NINETY",IF(CE72=1991,"NINETEEN NINETY ONE",IF(CE72=1992,"NINETEEN NINETY TWO",IF(CE72=1993,"NINETEEN NINETY THREE",IF(CE72=1994,"NINETEEN NINETY FOUR",IF(CE72=1995,"NINETEEN NINETY FIVE",IF(CE72=1996,"NINETEEN NINETY SIX",IF(CE72=1997,"NINETEEN NINETY SEVEN",IF(CE72=1998,"NINETEEN NINETY EIGHT",IF(CE72=1999,"NINETEEN NINETY NINE",IF(CE72=2000,"TWO THOUSAND",IF(CE72=2001,"TWO THOUSAND ONE",IF(CE72=2002,"TWO THOUSAND TWO",IF(CE72=2003,"TWO THOUSAND THREE",IF(CE72=2004,"TWO THOUSAND FOUR",IF(CE72=2005,"TWO THOUSAND FIVE",IF(CE72=2006,"TWO THOUSAND SIX",IF(CE72=2007,"TWO THOUSAND SEVEN",IF(CE72=2008,"TWO THOUSAND EIGHT",IF(CE72=2009,"TWO THOUSAND NINE",IF(CE72=2010,"TWO THOUSAND TEN",IF(CE72=2011,"TWO THOUSAND ELEVEN",IF(CE72=2012,"TWO THOUSAND TWELVE",IF(CE72=2013,"TWO THOUSAND THIRTEEN",IF(CE72=2014,"TWO THOUSAND FOURTEEN",IF(CE72=2015,"TWO THOUSAND FIFTEEN",IF(CE72=2016,"TWO THOUSAND SIXTEEN",IF(CE72=2017,"TWO THOUSAND SEVENTEEN",IF(CE72=2018,"TWO THOUSAND EIGHTEEN",IF(CE72=2019,"TWO THOUSAND NINETEEN",IF(CE72=2020,"TWO THOUSAND TWENTY",IF(CE72=2021,"TWO THOUSAND TWENTY ONE",IF(CE72=2022,"TWO THOUSAND TWENTY TWO",IF(CE72=2023,"TWO THOUSAND TWENTY THREE",IF(CE72=2024,"TWO THOUSAND TWENTY FOUR",IF(CE72=2025,"TWO THOUSAND TWENTY FIVE",""))))))))))))))))))))))))))))))))))))))))))))))))))))))))))))))))) | CI72: =IF(CF72=1,"JANUARY",IF(CF72=2,"FEBUARY", IF(CF72=3,"MARCH",IF(CF72=4,"APRIL",IF(CF72=5,"MAY",IF(CF72=6,"JUNE",IF(CF72=7,"JULY",IF(CF72=8,"AUGUST",IF(CF72=9,"SEPTEMBER",IF(CF72=10,"OCTOBER",IF(CF72=11,"NOVEMBER",IF(CF72=12,"DECEMBER","")))))))))))) | CJ72: =IF(CG72=1,"1ST",IF(CG72=2,"2ND", IF(CG72=3,"3RD",IF(CG72=4,"FOURTH",IF(CG72=5,"FIFTH",IF(CG72=6,"SIXTH",IF(CG72=7,"7TH",IF(CG72=8,"8TH",IF(CG72=9,"9TH",IF(CG72=10,"10TH",IF(CG72=11,"11TH",IF(CG72=12,"12TH",IF(CG72=13,"13TH",IF(CG72=14,"14TH",IF(CG72=15,"FIFTEEN",IF(CG72=16,"SIXTEEN",IF(CG72=17,"SEVENTEEN",IF(CG72=18,"EIGHTEEN",IF(CG72=19,"NINETEEN",IF(CG72=20,"TWENTY",IF(CG72=21,"TWENTY FIRST",IF(CG72=22,"TWENTY SECOND",IF(CG72=23,"TWENTY THIRD",IF(CG72=24,"TWENTY FOURTH",IF(CG72=25,"TWENTY FIFTH",IF(CG72=26,"TWENTY SIX",IF(CG72=27,"TWENTY SEVEN",IF(CG72=28,"TWENTY EIGHT",IF(CG72=29,"TWENTY NINE",IF(CG72=30,"THIRTY",IF(CG72=31,"THIRTY FIRST",""))))))))))))))))))))))))))))))) | CK72: =IFERROR(IF(AND(CH72="",CI72="",CJ72=""),"",CONCATENATE(CI72," ",CJ72,", ",CH72)),"") | CL72: =IF(F72="","",IF(F72="3rd Grade L-1","YES","")) | CV72: =IF(F72="","",IF(F72=$CN$6,"3rd Grade L-1",IF(F72=$CN$7,"3rd Grade L-2",IF(F72=$CN$8,"2nd Grade",IF(F72=$CN$9,"1st Grade (Lecturer)",IF(F72=$CN$10,"Lab. Ass.",IF(F72=$CN$11,"3rd Grade P.E.T.","")))))))
A73: =IFERROR(IF(AND(B73="",C73="",F73="",I73=""),"",A72+1),"") | E73: =IFERROR(VLOOKUP(D73,PEEO_SCHOOL,3,0),"") | J73: =IFERROR(IF(CK73="","",CK73),"") | K73: =IFERROR(IF(OR($K$4="",B73="",A73="",I73=""),"",DATEDIF(I73,$K$4,"Y")),"") | L73: =IFERROR(IF(OR($K$4="",B73="",A73="",I73=""),"",DATEDIF(I73,$K$4,"YM")),"") | M73: =IFERROR(IF(OR($K$4="",B73="",A73="",I73=""),"",DATEDIF(I73,$K$4,"MD")),"") | CE73: =IFERROR(IF(I73="","",YEAR(I73)),"") | CF73: =IFERROR(IF(I73="","",MONTH(I73)),"") | CG73: =IFERROR(IF(I73="","",DAY(I73)),"") | CH73: =IF(CE73=1961,"NINETEEN SIXTY ONE",IF(CE73=1962,"NINETEEN SIXTY TWO",IF(CE73=1963,"NINETEEN SIXTY THREE",IF(CE73=1964,"NINETEEN SIXTY FOUR",IF(CE73=1965,"NINETEEN SIXTY FIVE",IF(CE73=1966,"NINETEEN SIXTY SIX",IF(CE73=1967,"NINETEEN SIXTY SEVEN",IF(CE73=1968,"NINETEEN SIXTY EIGHT",IF(CE73=1969,"NINETEEN SIXTY NINE",IF(CE73=1970,"NINETEEN SEVENTY",IF(CE73=1971,"NINETEEN SEVENTY ONE",IF(CE73=1972,"NINETEEN SEVENTY TWO",IF(CE73=1973,"NINETEEN SEVENTY THREE",IF(CE73=1974,"NINETEEN SEVENTY FOUR",IF(CE73=1975,"NINETEEN SEVENTY FIVE",IF(CE73=1976,"NINETEEN SEVENTY SIX",IF(CE73=1977,"NINETEEN SEVENTY SEVEN",IF(CE73=1978,"NINETEEN SEVENTY EIGHT",IF(CE73=1979,"NINETEEN SEVENTY NINE",IF(CE73=1980,"NINETEEN EIGHTY",IF(CE73=1981,"NINETEEN EIGHTY ONE",IF(CE73=1982,"NINETEEN EIGHTY TWO",IF(CE73=1983,"NINETEEN EIGHTY THREE",IF(CE73=1984,"NINETEEN EIGHTY FOUR",IF(CE73=1985,"NINETEEN EIGHTY FIVE",IF(CE73=1986,"NINETEEN EIGHTY SIX",IF(CE73=1987,"NINETEEN EIGHTY SEVEN",IF(CE73=1988,"NINETEEN EIGHTY EIGHT",IF(CE73=1989,"NINETEEN EIGHTY NINE",IF(CE73=1990,"NINETEEN NINETY",IF(CE73=1991,"NINETEEN NINETY ONE",IF(CE73=1992,"NINETEEN NINETY TWO",IF(CE73=1993,"NINETEEN NINETY THREE",IF(CE73=1994,"NINETEEN NINETY FOUR",IF(CE73=1995,"NINETEEN NINETY FIVE",IF(CE73=1996,"NINETEEN NINETY SIX",IF(CE73=1997,"NINETEEN NINETY SEVEN",IF(CE73=1998,"NINETEEN NINETY EIGHT",IF(CE73=1999,"NINETEEN NINETY NINE",IF(CE73=2000,"TWO THOUSAND",IF(CE73=2001,"TWO THOUSAND ONE",IF(CE73=2002,"TWO THOUSAND TWO",IF(CE73=2003,"TWO THOUSAND THREE",IF(CE73=2004,"TWO THOUSAND FOUR",IF(CE73=2005,"TWO THOUSAND FIVE",IF(CE73=2006,"TWO THOUSAND SIX",IF(CE73=2007,"TWO THOUSAND SEVEN",IF(CE73=2008,"TWO THOUSAND EIGHT",IF(CE73=2009,"TWO THOUSAND NINE",IF(CE73=2010,"TWO THOUSAND TEN",IF(CE73=2011,"TWO THOUSAND ELEVEN",IF(CE73=2012,"TWO THOUSAND TWELVE",IF(CE73=2013,"TWO THOUSAND THIRTEEN",IF(CE73=2014,"TWO THOUSAND FOURTEEN",IF(CE73=2015,"TWO THOUSAND FIFTEEN",IF(CE73=2016,"TWO THOUSAND SIXTEEN",IF(CE73=2017,"TWO THOUSAND SEVENTEEN",IF(CE73=2018,"TWO THOUSAND EIGHTEEN",IF(CE73=2019,"TWO THOUSAND NINETEEN",IF(CE73=2020,"TWO THOUSAND TWENTY",IF(CE73=2021,"TWO THOUSAND TWENTY ONE",IF(CE73=2022,"TWO THOUSAND TWENTY TWO",IF(CE73=2023,"TWO THOUSAND TWENTY THREE",IF(CE73=2024,"TWO THOUSAND TWENTY FOUR",IF(CE73=2025,"TWO THOUSAND TWENTY FIVE",""))))))))))))))))))))))))))))))))))))))))))))))))))))))))))))))))) | CI73: =IF(CF73=1,"JANUARY",IF(CF73=2,"FEBUARY", IF(CF73=3,"MARCH",IF(CF73=4,"APRIL",IF(CF73=5,"MAY",IF(CF73=6,"JUNE",IF(CF73=7,"JULY",IF(CF73=8,"AUGUST",IF(CF73=9,"SEPTEMBER",IF(CF73=10,"OCTOBER",IF(CF73=11,"NOVEMBER",IF(CF73=12,"DECEMBER","")))))))))))) | CJ73: =IF(CG73=1,"1ST",IF(CG73=2,"2ND", IF(CG73=3,"3RD",IF(CG73=4,"FOURTH",IF(CG73=5,"FIFTH",IF(CG73=6,"SIXTH",IF(CG73=7,"7TH",IF(CG73=8,"8TH",IF(CG73=9,"9TH",IF(CG73=10,"10TH",IF(CG73=11,"11TH",IF(CG73=12,"12TH",IF(CG73=13,"13TH",IF(CG73=14,"14TH",IF(CG73=15,"FIFTEEN",IF(CG73=16,"SIXTEEN",IF(CG73=17,"SEVENTEEN",IF(CG73=18,"EIGHTEEN",IF(CG73=19,"NINETEEN",IF(CG73=20,"TWENTY",IF(CG73=21,"TWENTY FIRST",IF(CG73=22,"TWENTY SECOND",IF(CG73=23,"TWENTY THIRD",IF(CG73=24,"TWENTY FOURTH",IF(CG73=25,"TWENTY FIFTH",IF(CG73=26,"TWENTY SIX",IF(CG73=27,"TWENTY SEVEN",IF(CG73=28,"TWENTY EIGHT",IF(CG73=29,"TWENTY NINE",IF(CG73=30,"THIRTY",IF(CG73=31,"THIRTY FIRST",""))))))))))))))))))))))))))))))) | CK73: =IFERROR(IF(AND(CH73="",CI73="",CJ73=""),"",CONCATENATE(CI73," ",CJ73,", ",CH73)),"") | CL73: =IF(F73="","",IF(F73="3rd Grade L-1","YES","")) | CV73: =IF(F73="","",IF(F73=$CN$6,"3rd Grade L-1",IF(F73=$CN$7,"3rd Grade L-2",IF(F73=$CN$8,"2nd Grade",IF(F73=$CN$9,"1st Grade (Lecturer)",IF(F73=$CN$10,"Lab. Ass.",IF(F73=$CN$11,"3rd Grade P.E.T.","")))))))
A74: =IFERROR(IF(AND(B74="",C74="",F74="",I74=""),"",A73+1),"") | E74: =IFERROR(VLOOKUP(D74,PEEO_SCHOOL,3,0),"") | J74: =IFERROR(IF(CK74="","",CK74),"") | K74: =IFERROR(IF(OR($K$4="",B74="",A74="",I74=""),"",DATEDIF(I74,$K$4,"Y")),"") | L74: =IFERROR(IF(OR($K$4="",B74="",A74="",I74=""),"",DATEDIF(I74,$K$4,"YM")),"") | M74: =IFERROR(IF(OR($K$4="",B74="",A74="",I74=""),"",DATEDIF(I74,$K$4,"MD")),"") | CE74: =IFERROR(IF(I74="","",YEAR(I74)),"") | CF74: =IFERROR(IF(I74="","",MONTH(I74)),"") | CG74: =IFERROR(IF(I74="","",DAY(I74)),"") | CH74: =IF(CE74=1961,"NINETEEN SIXTY ONE",IF(CE74=1962,"NINETEEN SIXTY TWO",IF(CE74=1963,"NINETEEN SIXTY THREE",IF(CE74=1964,"NINETEEN SIXTY FOUR",IF(CE74=1965,"NINETEEN SIXTY FIVE",IF(CE74=1966,"NINETEEN SIXTY SIX",IF(CE74=1967,"NINETEEN SIXTY SEVEN",IF(CE74=1968,"NINETEEN SIXTY EIGHT",IF(CE74=1969,"NINETEEN SIXTY NINE",IF(CE74=1970,"NINETEEN SEVENTY",IF(CE74=1971,"NINETEEN SEVENTY ONE",IF(CE74=1972,"NINETEEN SEVENTY TWO",IF(CE74=1973,"NINETEEN SEVENTY THREE",IF(CE74=1974,"NINETEEN SEVENTY FOUR",IF(CE74=1975,"NINETEEN SEVENTY FIVE",IF(CE74=1976,"NINETEEN SEVENTY SIX",IF(CE74=1977,"NINETEEN SEVENTY SEVEN",IF(CE74=1978,"NINETEEN SEVENTY EIGHT",IF(CE74=1979,"NINETEEN SEVENTY NINE",IF(CE74=1980,"NINETEEN EIGHTY",IF(CE74=1981,"NINETEEN EIGHTY ONE",IF(CE74=1982,"NINETEEN EIGHTY TWO",IF(CE74=1983,"NINETEEN EIGHTY THREE",IF(CE74=1984,"NINETEEN EIGHTY FOUR",IF(CE74=1985,"NINETEEN EIGHTY FIVE",IF(CE74=1986,"NINETEEN EIGHTY SIX",IF(CE74=1987,"NINETEEN EIGHTY SEVEN",IF(CE74=1988,"NINETEEN EIGHTY EIGHT",IF(CE74=1989,"NINETEEN EIGHTY NINE",IF(CE74=1990,"NINETEEN NINETY",IF(CE74=1991,"NINETEEN NINETY ONE",IF(CE74=1992,"NINETEEN NINETY TWO",IF(CE74=1993,"NINETEEN NINETY THREE",IF(CE74=1994,"NINETEEN NINETY FOUR",IF(CE74=1995,"NINETEEN NINETY FIVE",IF(CE74=1996,"NINETEEN NINETY SIX",IF(CE74=1997,"NINETEEN NINETY SEVEN",IF(CE74=1998,"NINETEEN NINETY EIGHT",IF(CE74=1999,"NINETEEN NINETY NINE",IF(CE74=2000,"TWO THOUSAND",IF(CE74=2001,"TWO THOUSAND ONE",IF(CE74=2002,"TWO THOUSAND TWO",IF(CE74=2003,"TWO THOUSAND THREE",IF(CE74=2004,"TWO THOUSAND FOUR",IF(CE74=2005,"TWO THOUSAND FIVE",IF(CE74=2006,"TWO THOUSAND SIX",IF(CE74=2007,"TWO THOUSAND SEVEN",IF(CE74=2008,"TWO THOUSAND EIGHT",IF(CE74=2009,"TWO THOUSAND NINE",IF(CE74=2010,"TWO THOUSAND TEN",IF(CE74=2011,"TWO THOUSAND ELEVEN",IF(CE74=2012,"TWO THOUSAND TWELVE",IF(CE74=2013,"TWO THOUSAND THIRTEEN",IF(CE74=2014,"TWO THOUSAND FOURTEEN",IF(CE74=2015,"TWO THOUSAND FIFTEEN",IF(CE74=2016,"TWO THOUSAND SIXTEEN",IF(CE74=2017,"TWO THOUSAND SEVENTEEN",IF(CE74=2018,"TWO THOUSAND EIGHTEEN",IF(CE74=2019,"TWO THOUSAND NINETEEN",IF(CE74=2020,"TWO THOUSAND TWENTY",IF(CE74=2021,"TWO THOUSAND TWENTY ONE",IF(CE74=2022,"TWO THOUSAND TWENTY TWO",IF(CE74=2023,"TWO THOUSAND TWENTY THREE",IF(CE74=2024,"TWO THOUSAND TWENTY FOUR",IF(CE74=2025,"TWO THOUSAND TWENTY FIVE",""))))))))))))))))))))))))))))))))))))))))))))))))))))))))))))))))) | CI74: =IF(CF74=1,"JANUARY",IF(CF74=2,"FEBUARY", IF(CF74=3,"MARCH",IF(CF74=4,"APRIL",IF(CF74=5,"MAY",IF(CF74=6,"JUNE",IF(CF74=7,"JULY",IF(CF74=8,"AUGUST",IF(CF74=9,"SEPTEMBER",IF(CF74=10,"OCTOBER",IF(CF74=11,"NOVEMBER",IF(CF74=12,"DECEMBER","")))))))))))) | CJ74: =IF(CG74=1,"1ST",IF(CG74=2,"2ND", IF(CG74=3,"3RD",IF(CG74=4,"FOURTH",IF(CG74=5,"FIFTH",IF(CG74=6,"SIXTH",IF(CG74=7,"7TH",IF(CG74=8,"8TH",IF(CG74=9,"9TH",IF(CG74=10,"10TH",IF(CG74=11,"11TH",IF(CG74=12,"12TH",IF(CG74=13,"13TH",IF(CG74=14,"14TH",IF(CG74=15,"FIFTEEN",IF(CG74=16,"SIXTEEN",IF(CG74=17,"SEVENTEEN",IF(CG74=18,"EIGHTEEN",IF(CG74=19,"NINETEEN",IF(CG74=20,"TWENTY",IF(CG74=21,"TWENTY FIRST",IF(CG74=22,"TWENTY SECOND",IF(CG74=23,"TWENTY THIRD",IF(CG74=24,"TWENTY FOURTH",IF(CG74=25,"TWENTY FIFTH",IF(CG74=26,"TWENTY SIX",IF(CG74=27,"TWENTY SEVEN",IF(CG74=28,"TWENTY EIGHT",IF(CG74=29,"TWENTY NINE",IF(CG74=30,"THIRTY",IF(CG74=31,"THIRTY FIRST",""))))))))))))))))))))))))))))))) | CK74: =IFERROR(IF(AND(CH74="",CI74="",CJ74=""),"",CONCATENATE(CI74," ",CJ74,", ",CH74)),"") | CL74: =IF(F74="","",IF(F74="3rd Grade L-1","YES","")) | CV74: =IF(F74="","",IF(F74=$CN$6,"3rd Grade L-1",IF(F74=$CN$7,"3rd Grade L-2",IF(F74=$CN$8,"2nd Grade",IF(F74=$CN$9,"1st Grade (Lecturer)",IF(F74=$CN$10,"Lab. Ass.",IF(F74=$CN$11,"3rd Grade P.E.T.","")))))))
A75: =IFERROR(IF(AND(B75="",C75="",F75="",I75=""),"",A74+1),"") | E75: =IFERROR(VLOOKUP(D75,PEEO_SCHOOL,3,0),"") | J75: =IFERROR(IF(CK75="","",CK75),"") | K75: =IFERROR(IF(OR($K$4="",B75="",A75="",I75=""),"",DATEDIF(I75,$K$4,"Y")),"") | L75: =IFERROR(IF(OR($K$4="",B75="",A75="",I75=""),"",DATEDIF(I75,$K$4,"YM")),"") | M75: =IFERROR(IF(OR($K$4="",B75="",A75="",I75=""),"",DATEDIF(I75,$K$4,"MD")),"") | CE75: =IFERROR(IF(I75="","",YEAR(I75)),"") | CF75: =IFERROR(IF(I75="","",MONTH(I75)),"") | CG75: =IFERROR(IF(I75="","",DAY(I75)),"") | CH75: =IF(CE75=1961,"NINETEEN SIXTY ONE",IF(CE75=1962,"NINETEEN SIXTY TWO",IF(CE75=1963,"NINETEEN SIXTY THREE",IF(CE75=1964,"NINETEEN SIXTY FOUR",IF(CE75=1965,"NINETEEN SIXTY FIVE",IF(CE75=1966,"NINETEEN SIXTY SIX",IF(CE75=1967,"NINETEEN SIXTY SEVEN",IF(CE75=1968,"NINETEEN SIXTY EIGHT",IF(CE75=1969,"NINETEEN SIXTY NINE",IF(CE75=1970,"NINETEEN SEVENTY",IF(CE75=1971,"NINETEEN SEVENTY ONE",IF(CE75=1972,"NINETEEN SEVENTY TWO",IF(CE75=1973,"NINETEEN SEVENTY THREE",IF(CE75=1974,"NINETEEN SEVENTY FOUR",IF(CE75=1975,"NINETEEN SEVENTY FIVE",IF(CE75=1976,"NINETEEN SEVENTY SIX",IF(CE75=1977,"NINETEEN SEVENTY SEVEN",IF(CE75=1978,"NINETEEN SEVENTY EIGHT",IF(CE75=1979,"NINETEEN SEVENTY NINE",IF(CE75=1980,"NINETEEN EIGHTY",IF(CE75=1981,"NINETEEN EIGHTY ONE",IF(CE75=1982,"NINETEEN EIGHTY TWO",IF(CE75=1983,"NINETEEN EIGHTY THREE",IF(CE75=1984,"NINETEEN EIGHTY FOUR",IF(CE75=1985,"NINETEEN EIGHTY FIVE",IF(CE75=1986,"NINETEEN EIGHTY SIX",IF(CE75=1987,"NINETEEN EIGHTY SEVEN",IF(CE75=1988,"NINETEEN EIGHTY EIGHT",IF(CE75=1989,"NINETEEN EIGHTY NINE",IF(CE75=1990,"NINETEEN NINETY",IF(CE75=1991,"NINETEEN NINETY ONE",IF(CE75=1992,"NINETEEN NINETY TWO",IF(CE75=1993,"NINETEEN NINETY THREE",IF(CE75=1994,"NINETEEN NINETY FOUR",IF(CE75=1995,"NINETEEN NINETY FIVE",IF(CE75=1996,"NINETEEN NINETY SIX",IF(CE75=1997,"NINETEEN NINETY SEVEN",IF(CE75=1998,"NINETEEN NINETY EIGHT",IF(CE75=1999,"NINETEEN NINETY NINE",IF(CE75=2000,"TWO THOUSAND",IF(CE75=2001,"TWO THOUSAND ONE",IF(CE75=2002,"TWO THOUSAND TWO",IF(CE75=2003,"TWO THOUSAND THREE",IF(CE75=2004,"TWO THOUSAND FOUR",IF(CE75=2005,"TWO THOUSAND FIVE",IF(CE75=2006,"TWO THOUSAND SIX",IF(CE75=2007,"TWO THOUSAND SEVEN",IF(CE75=2008,"TWO THOUSAND EIGHT",IF(CE75=2009,"TWO THOUSAND NINE",IF(CE75=2010,"TWO THOUSAND TEN",IF(CE75=2011,"TWO THOUSAND ELEVEN",IF(CE75=2012,"TWO THOUSAND TWELVE",IF(CE75=2013,"TWO THOUSAND THIRTEEN",IF(CE75=2014,"TWO THOUSAND FOURTEEN",IF(CE75=2015,"TWO THOUSAND FIFTEEN",IF(CE75=2016,"TWO THOUSAND SIXTEEN",IF(CE75=2017,"TWO THOUSAND SEVENTEEN",IF(CE75=2018,"TWO THOUSAND EIGHTEEN",IF(CE75=2019,"TWO THOUSAND NINETEEN",IF(CE75=2020,"TWO THOUSAND TWENTY",IF(CE75=2021,"TWO THOUSAND TWENTY ONE",IF(CE75=2022,"TWO THOUSAND TWENTY TWO",IF(CE75=2023,"TWO THOUSAND TWENTY THREE",IF(CE75=2024,"TWO THOUSAND TWENTY FOUR",IF(CE75=2025,"TWO THOUSAND TWENTY FIVE",""))))))))))))))))))))))))))))))))))))))))))))))))))))))))))))))))) | CI75: =IF(CF75=1,"JANUARY",IF(CF75=2,"FEBUARY", IF(CF75=3,"MARCH",IF(CF75=4,"APRIL",IF(CF75=5,"MAY",IF(CF75=6,"JUNE",IF(CF75=7,"JULY",IF(CF75=8,"AUGUST",IF(CF75=9,"SEPTEMBER",IF(CF75=10,"OCTOBER",IF(CF75=11,"NOVEMBER",IF(CF75=12,"DECEMBER","")))))))))))) | CJ75: =IF(CG75=1,"1ST",IF(CG75=2,"2ND", IF(CG75=3,"3RD",IF(CG75=4,"FOURTH",IF(CG75=5,"FIFTH",IF(CG75=6,"SIXTH",IF(CG75=7,"7TH",IF(CG75=8,"8TH",IF(CG75=9,"9TH",IF(CG75=10,"10TH",IF(CG75=11,"11TH",IF(CG75=12,"12TH",IF(CG75=13,"13TH",IF(CG75=14,"14TH",IF(CG75=15,"FIFTEEN",IF(CG75=16,"SIXTEEN",IF(CG75=17,"SEVENTEEN",IF(CG75=18,"EIGHTEEN",IF(CG75=19,"NINETEEN",IF(CG75=20,"TWENTY",IF(CG75=21,"TWENTY FIRST",IF(CG75=22,"TWENTY SECOND",IF(CG75=23,"TWENTY THIRD",IF(CG75=24,"TWENTY FOURTH",IF(CG75=25,"TWENTY FIFTH",IF(CG75=26,"TWENTY SIX",IF(CG75=27,"TWENTY SEVEN",IF(CG75=28,"TWENTY EIGHT",IF(CG75=29,"TWENTY NINE",IF(CG75=30,"THIRTY",IF(CG75=31,"THIRTY FIRST",""))))))))))))))))))))))))))))))) | CK75: =IFERROR(IF(AND(CH75="",CI75="",CJ75=""),"",CONCATENATE(CI75," ",CJ75,", ",CH75)),"") | CL75: =IF(F75="","",IF(F75="3rd Grade L-1","YES","")) | CV75: =IF(F75="","",IF(F75=$CN$6,"3rd Grade L-1",IF(F75=$CN$7,"3rd Grade L-2",IF(F75=$CN$8,"2nd Grade",IF(F75=$CN$9,"1st Grade (Lecturer)",IF(F75=$CN$10,"Lab. Ass.",IF(F75=$CN$11,"3rd Grade P.E.T.","")))))))
A76: =IFERROR(IF(AND(B76="",C76="",F76="",I76=""),"",A75+1),"") | E76: =IFERROR(VLOOKUP(D76,PEEO_SCHOOL,3,0),"") | J76: =IFERROR(IF(CK76="","",CK76),"") | K76: =IFERROR(IF(OR($K$4="",B76="",A76="",I76=""),"",DATEDIF(I76,$K$4,"Y")),"") | L76: =IFERROR(IF(OR($K$4="",B76="",A76="",I76=""),"",DATEDIF(I76,$K$4,"YM")),"") | M76: =IFERROR(IF(OR($K$4="",B76="",A76="",I76=""),"",DATEDIF(I76,$K$4,"MD")),"") | CE76: =IFERROR(IF(I76="","",YEAR(I76)),"") | CF76: =IFERROR(IF(I76="","",MONTH(I76)),"") | CG76: =IFERROR(IF(I76="","",DAY(I76)),"") | CH76: =IF(CE76=1961,"NINETEEN SIXTY ONE",IF(CE76=1962,"NINETEEN SIXTY TWO",IF(CE76=1963,"NINETEEN SIXTY THREE",IF(CE76=1964,"NINETEEN SIXTY FOUR",IF(CE76=1965,"NINETEEN SIXTY FIVE",IF(CE76=1966,"NINETEEN SIXTY SIX",IF(CE76=1967,"NINETEEN SIXTY SEVEN",IF(CE76=1968,"NINETEEN SIXTY EIGHT",IF(CE76=1969,"NINETEEN SIXTY NINE",IF(CE76=1970,"NINETEEN SEVENTY",IF(CE76=1971,"NINETEEN SEVENTY ONE",IF(CE76=1972,"NINETEEN SEVENTY TWO",IF(CE76=1973,"NINETEEN SEVENTY THREE",IF(CE76=1974,"NINETEEN SEVENTY FOUR",IF(CE76=1975,"NINETEEN SEVENTY FIVE",IF(CE76=1976,"NINETEEN SEVENTY SIX",IF(CE76=1977,"NINETEEN SEVENTY SEVEN",IF(CE76=1978,"NINETEEN SEVENTY EIGHT",IF(CE76=1979,"NINETEEN SEVENTY NINE",IF(CE76=1980,"NINETEEN EIGHTY",IF(CE76=1981,"NINETEEN EIGHTY ONE",IF(CE76=1982,"NINETEEN EIGHTY TWO",IF(CE76=1983,"NINETEEN EIGHTY THREE",IF(CE76=1984,"NINETEEN EIGHTY FOUR",IF(CE76=1985,"NINETEEN EIGHTY FIVE",IF(CE76=1986,"NINETEEN EIGHTY SIX",IF(CE76=1987,"NINETEEN EIGHTY SEVEN",IF(CE76=1988,"NINETEEN EIGHTY EIGHT",IF(CE76=1989,"NINETEEN EIGHTY NINE",IF(CE76=1990,"NINETEEN NINETY",IF(CE76=1991,"NINETEEN NINETY ONE",IF(CE76=1992,"NINETEEN NINETY TWO",IF(CE76=1993,"NINETEEN NINETY THREE",IF(CE76=1994,"NINETEEN NINETY FOUR",IF(CE76=1995,"NINETEEN NINETY FIVE",IF(CE76=1996,"NINETEEN NINETY SIX",IF(CE76=1997,"NINETEEN NINETY SEVEN",IF(CE76=1998,"NINETEEN NINETY EIGHT",IF(CE76=1999,"NINETEEN NINETY NINE",IF(CE76=2000,"TWO THOUSAND",IF(CE76=2001,"TWO THOUSAND ONE",IF(CE76=2002,"TWO THOUSAND TWO",IF(CE76=2003,"TWO THOUSAND THREE",IF(CE76=2004,"TWO THOUSAND FOUR",IF(CE76=2005,"TWO THOUSAND FIVE",IF(CE76=2006,"TWO THOUSAND SIX",IF(CE76=2007,"TWO THOUSAND SEVEN",IF(CE76=2008,"TWO THOUSAND EIGHT",IF(CE76=2009,"TWO THOUSAND NINE",IF(CE76=2010,"TWO THOUSAND TEN",IF(CE76=2011,"TWO THOUSAND ELEVEN",IF(CE76=2012,"TWO THOUSAND TWELVE",IF(CE76=2013,"TWO THOUSAND THIRTEEN",IF(CE76=2014,"TWO THOUSAND FOURTEEN",IF(CE76=2015,"TWO THOUSAND FIFTEEN",IF(CE76=2016,"TWO THOUSAND SIXTEEN",IF(CE76=2017,"TWO THOUSAND SEVENTEEN",IF(CE76=2018,"TWO THOUSAND EIGHTEEN",IF(CE76=2019,"TWO THOUSAND NINETEEN",IF(CE76=2020,"TWO THOUSAND TWENTY",IF(CE76=2021,"TWO THOUSAND TWENTY ONE",IF(CE76=2022,"TWO THOUSAND TWENTY TWO",IF(CE76=2023,"TWO THOUSAND TWENTY THREE",IF(CE76=2024,"TWO THOUSAND TWENTY FOUR",IF(CE76=2025,"TWO THOUSAND TWENTY FIVE",""))))))))))))))))))))))))))))))))))))))))))))))))))))))))))))))))) | CI76: =IF(CF76=1,"JANUARY",IF(CF76=2,"FEBUARY", IF(CF76=3,"MARCH",IF(CF76=4,"APRIL",IF(CF76=5,"MAY",IF(CF76=6,"JUNE",IF(CF76=7,"JULY",IF(CF76=8,"AUGUST",IF(CF76=9,"SEPTEMBER",IF(CF76=10,"OCTOBER",IF(CF76=11,"NOVEMBER",IF(CF76=12,"DECEMBER","")))))))))))) | CJ76: =IF(CG76=1,"1ST",IF(CG76=2,"2ND", IF(CG76=3,"3RD",IF(CG76=4,"FOURTH",IF(CG76=5,"FIFTH",IF(CG76=6,"SIXTH",IF(CG76=7,"7TH",IF(CG76=8,"8TH",IF(CG76=9,"9TH",IF(CG76=10,"10TH",IF(CG76=11,"11TH",IF(CG76=12,"12TH",IF(CG76=13,"13TH",IF(CG76=14,"14TH",IF(CG76=15,"FIFTEEN",IF(CG76=16,"SIXTEEN",IF(CG76=17,"SEVENTEEN",IF(CG76=18,"EIGHTEEN",IF(CG76=19,"NINETEEN",IF(CG76=20,"TWENTY",IF(CG76=21,"TWENTY FIRST",IF(CG76=22,"TWENTY SECOND",IF(CG76=23,"TWENTY THIRD",IF(CG76=24,"TWENTY FOURTH",IF(CG76=25,"TWENTY FIFTH",IF(CG76=26,"TWENTY SIX",IF(CG76=27,"TWENTY SEVEN",IF(CG76=28,"TWENTY EIGHT",IF(CG76=29,"TWENTY NINE",IF(CG76=30,"THIRTY",IF(CG76=31,"THIRTY FIRST",""))))))))))))))))))))))))))))))) | CK76: =IFERROR(IF(AND(CH76="",CI76="",CJ76=""),"",CONCATENATE(CI76," ",CJ76,", ",CH76)),"") | CL76: =IF(F76="","",IF(F76="3rd Grade L-1","YES","")) | CV76: =IF(F76="","",IF(F76=$CN$6,"3rd Grade L-1",IF(F76=$CN$7,"3rd Grade L-2",IF(F76=$CN$8,"2nd Grade",IF(F76=$CN$9,"1st Grade (Lecturer)",IF(F76=$CN$10,"Lab. Ass.",IF(F76=$CN$11,"3rd Grade P.E.T.","")))))))
A77: =IFERROR(IF(AND(B77="",C77="",F77="",I77=""),"",A76+1),"") | E77: =IFERROR(VLOOKUP(D77,PEEO_SCHOOL,3,0),"") | J77: =IFERROR(IF(CK77="","",CK77),"") | K77: =IFERROR(IF(OR($K$4="",B77="",A77="",I77=""),"",DATEDIF(I77,$K$4,"Y")),"") | L77: =IFERROR(IF(OR($K$4="",B77="",A77="",I77=""),"",DATEDIF(I77,$K$4,"YM")),"") | M77: =IFERROR(IF(OR($K$4="",B77="",A77="",I77=""),"",DATEDIF(I77,$K$4,"MD")),"") | CE77: =IFERROR(IF(I77="","",YEAR(I77)),"") | CF77: =IFERROR(IF(I77="","",MONTH(I77)),"") | CG77: =IFERROR(IF(I77="","",DAY(I77)),"") | CH77: =IF(CE77=1961,"NINETEEN SIXTY ONE",IF(CE77=1962,"NINETEEN SIXTY TWO",IF(CE77=1963,"NINETEEN SIXTY THREE",IF(CE77=1964,"NINETEEN SIXTY FOUR",IF(CE77=1965,"NINETEEN SIXTY FIVE",IF(CE77=1966,"NINETEEN SIXTY SIX",IF(CE77=1967,"NINETEEN SIXTY SEVEN",IF(CE77=1968,"NINETEEN SIXTY EIGHT",IF(CE77=1969,"NINETEEN SIXTY NINE",IF(CE77=1970,"NINETEEN SEVENTY",IF(CE77=1971,"NINETEEN SEVENTY ONE",IF(CE77=1972,"NINETEEN SEVENTY TWO",IF(CE77=1973,"NINETEEN SEVENTY THREE",IF(CE77=1974,"NINETEEN SEVENTY FOUR",IF(CE77=1975,"NINETEEN SEVENTY FIVE",IF(CE77=1976,"NINETEEN SEVENTY SIX",IF(CE77=1977,"NINETEEN SEVENTY SEVEN",IF(CE77=1978,"NINETEEN SEVENTY EIGHT",IF(CE77=1979,"NINETEEN SEVENTY NINE",IF(CE77=1980,"NINETEEN EIGHTY",IF(CE77=1981,"NINETEEN EIGHTY ONE",IF(CE77=1982,"NINETEEN EIGHTY TWO",IF(CE77=1983,"NINETEEN EIGHTY THREE",IF(CE77=1984,"NINETEEN EIGHTY FOUR",IF(CE77=1985,"NINETEEN EIGHTY FIVE",IF(CE77=1986,"NINETEEN EIGHTY SIX",IF(CE77=1987,"NINETEEN EIGHTY SEVEN",IF(CE77=1988,"NINETEEN EIGHTY EIGHT",IF(CE77=1989,"NINETEEN EIGHTY NINE",IF(CE77=1990,"NINETEEN NINETY",IF(CE77=1991,"NINETEEN NINETY ONE",IF(CE77=1992,"NINETEEN NINETY TWO",IF(CE77=1993,"NINETEEN NINETY THREE",IF(CE77=1994,"NINETEEN NINETY FOUR",IF(CE77=1995,"NINETEEN NINETY FIVE",IF(CE77=1996,"NINETEEN NINETY SIX",IF(CE77=1997,"NINETEEN NINETY SEVEN",IF(CE77=1998,"NINETEEN NINETY EIGHT",IF(CE77=1999,"NINETEEN NINETY NINE",IF(CE77=2000,"TWO THOUSAND",IF(CE77=2001,"TWO THOUSAND ONE",IF(CE77=2002,"TWO THOUSAND TWO",IF(CE77=2003,"TWO THOUSAND THREE",IF(CE77=2004,"TWO THOUSAND FOUR",IF(CE77=2005,"TWO THOUSAND FIVE",IF(CE77=2006,"TWO THOUSAND SIX",IF(CE77=2007,"TWO THOUSAND SEVEN",IF(CE77=2008,"TWO THOUSAND EIGHT",IF(CE77=2009,"TWO THOUSAND NINE",IF(CE77=2010,"TWO THOUSAND TEN",IF(CE77=2011,"TWO THOUSAND ELEVEN",IF(CE77=2012,"TWO THOUSAND TWELVE",IF(CE77=2013,"TWO THOUSAND THIRTEEN",IF(CE77=2014,"TWO THOUSAND FOURTEEN",IF(CE77=2015,"TWO THOUSAND FIFTEEN",IF(CE77=2016,"TWO THOUSAND SIXTEEN",IF(CE77=2017,"TWO THOUSAND SEVENTEEN",IF(CE77=2018,"TWO THOUSAND EIGHTEEN",IF(CE77=2019,"TWO THOUSAND NINETEEN",IF(CE77=2020,"TWO THOUSAND TWENTY",IF(CE77=2021,"TWO THOUSAND TWENTY ONE",IF(CE77=2022,"TWO THOUSAND TWENTY TWO",IF(CE77=2023,"TWO THOUSAND TWENTY THREE",IF(CE77=2024,"TWO THOUSAND TWENTY FOUR",IF(CE77=2025,"TWO THOUSAND TWENTY FIVE",""))))))))))))))))))))))))))))))))))))))))))))))))))))))))))))))))) | CI77: =IF(CF77=1,"JANUARY",IF(CF77=2,"FEBUARY", IF(CF77=3,"MARCH",IF(CF77=4,"APRIL",IF(CF77=5,"MAY",IF(CF77=6,"JUNE",IF(CF77=7,"JULY",IF(CF77=8,"AUGUST",IF(CF77=9,"SEPTEMBER",IF(CF77=10,"OCTOBER",IF(CF77=11,"NOVEMBER",IF(CF77=12,"DECEMBER","")))))))))))) | CJ77: =IF(CG77=1,"1ST",IF(CG77=2,"2ND", IF(CG77=3,"3RD",IF(CG77=4,"FOURTH",IF(CG77=5,"FIFTH",IF(CG77=6,"SIXTH",IF(CG77=7,"7TH",IF(CG77=8,"8TH",IF(CG77=9,"9TH",IF(CG77=10,"10TH",IF(CG77=11,"11TH",IF(CG77=12,"12TH",IF(CG77=13,"13TH",IF(CG77=14,"14TH",IF(CG77=15,"FIFTEEN",IF(CG77=16,"SIXTEEN",IF(CG77=17,"SEVENTEEN",IF(CG77=18,"EIGHTEEN",IF(CG77=19,"NINETEEN",IF(CG77=20,"TWENTY",IF(CG77=21,"TWENTY FIRST",IF(CG77=22,"TWENTY SECOND",IF(CG77=23,"TWENTY THIRD",IF(CG77=24,"TWENTY FOURTH",IF(CG77=25,"TWENTY FIFTH",IF(CG77=26,"TWENTY SIX",IF(CG77=27,"TWENTY SEVEN",IF(CG77=28,"TWENTY EIGHT",IF(CG77=29,"TWENTY NINE",IF(CG77=30,"THIRTY",IF(CG77=31,"THIRTY FIRST",""))))))))))))))))))))))))))))))) | CK77: =IFERROR(IF(AND(CH77="",CI77="",CJ77=""),"",CONCATENATE(CI77," ",CJ77,", ",CH77)),"") | CL77: =IF(F77="","",IF(F77="3rd Grade L-1","YES","")) | CV77: =IF(F77="","",IF(F77=$CN$6,"3rd Grade L-1",IF(F77=$CN$7,"3rd Grade L-2",IF(F77=$CN$8,"2nd Grade",IF(F77=$CN$9,"1st Grade (Lecturer)",IF(F77=$CN$10,"Lab. Ass.",IF(F77=$CN$11,"3rd Grade P.E.T.","")))))))
A78: =IFERROR(IF(AND(B78="",C78="",F78="",I78=""),"",A77+1),"") | E78: =IFERROR(VLOOKUP(D78,PEEO_SCHOOL,3,0),"") | J78: =IFERROR(IF(CK78="","",CK78),"") | K78: =IFERROR(IF(OR($K$4="",B78="",A78="",I78=""),"",DATEDIF(I78,$K$4,"Y")),"") | L78: =IFERROR(IF(OR($K$4="",B78="",A78="",I78=""),"",DATEDIF(I78,$K$4,"YM")),"") | M78: =IFERROR(IF(OR($K$4="",B78="",A78="",I78=""),"",DATEDIF(I78,$K$4,"MD")),"") | CE78: =IFERROR(IF(I78="","",YEAR(I78)),"") | CF78: =IFERROR(IF(I78="","",MONTH(I78)),"") | CG78: =IFERROR(IF(I78="","",DAY(I78)),"") | CH78: =IF(CE78=1961,"NINETEEN SIXTY ONE",IF(CE78=1962,"NINETEEN SIXTY TWO",IF(CE78=1963,"NINETEEN SIXTY THREE",IF(CE78=1964,"NINETEEN SIXTY FOUR",IF(CE78=1965,"NINETEEN SIXTY FIVE",IF(CE78=1966,"NINETEEN SIXTY SIX",IF(CE78=1967,"NINETEEN SIXTY SEVEN",IF(CE78=1968,"NINETEEN SIXTY EIGHT",IF(CE78=1969,"NINETEEN SIXTY NINE",IF(CE78=1970,"NINETEEN SEVENTY",IF(CE78=1971,"NINETEEN SEVENTY ONE",IF(CE78=1972,"NINETEEN SEVENTY TWO",IF(CE78=1973,"NINETEEN SEVENTY THREE",IF(CE78=1974,"NINETEEN SEVENTY FOUR",IF(CE78=1975,"NINETEEN SEVENTY FIVE",IF(CE78=1976,"NINETEEN SEVENTY SIX",IF(CE78=1977,"NINETEEN SEVENTY SEVEN",IF(CE78=1978,"NINETEEN SEVENTY EIGHT",IF(CE78=1979,"NINETEEN SEVENTY NINE",IF(CE78=1980,"NINETEEN EIGHTY",IF(CE78=1981,"NINETEEN EIGHTY ONE",IF(CE78=1982,"NINETEEN EIGHTY TWO",IF(CE78=1983,"NINETEEN EIGHTY THREE",IF(CE78=1984,"NINETEEN EIGHTY FOUR",IF(CE78=1985,"NINETEEN EIGHTY FIVE",IF(CE78=1986,"NINETEEN EIGHTY SIX",IF(CE78=1987,"NINETEEN EIGHTY SEVEN",IF(CE78=1988,"NINETEEN EIGHTY EIGHT",IF(CE78=1989,"NINETEEN EIGHTY NINE",IF(CE78=1990,"NINETEEN NINETY",IF(CE78=1991,"NINETEEN NINETY ONE",IF(CE78=1992,"NINETEEN NINETY TWO",IF(CE78=1993,"NINETEEN NINETY THREE",IF(CE78=1994,"NINETEEN NINETY FOUR",IF(CE78=1995,"NINETEEN NINETY FIVE",IF(CE78=1996,"NINETEEN NINETY SIX",IF(CE78=1997,"NINETEEN NINETY SEVEN",IF(CE78=1998,"NINETEEN NINETY EIGHT",IF(CE78=1999,"NINETEEN NINETY NINE",IF(CE78=2000,"TWO THOUSAND",IF(CE78=2001,"TWO THOUSAND ONE",IF(CE78=2002,"TWO THOUSAND TWO",IF(CE78=2003,"TWO THOUSAND THREE",IF(CE78=2004,"TWO THOUSAND FOUR",IF(CE78=2005,"TWO THOUSAND FIVE",IF(CE78=2006,"TWO THOUSAND SIX",IF(CE78=2007,"TWO THOUSAND SEVEN",IF(CE78=2008,"TWO THOUSAND EIGHT",IF(CE78=2009,"TWO THOUSAND NINE",IF(CE78=2010,"TWO THOUSAND TEN",IF(CE78=2011,"TWO THOUSAND ELEVEN",IF(CE78=2012,"TWO THOUSAND TWELVE",IF(CE78=2013,"TWO THOUSAND THIRTEEN",IF(CE78=2014,"TWO THOUSAND FOURTEEN",IF(CE78=2015,"TWO THOUSAND FIFTEEN",IF(CE78=2016,"TWO THOUSAND SIXTEEN",IF(CE78=2017,"TWO THOUSAND SEVENTEEN",IF(CE78=2018,"TWO THOUSAND EIGHTEEN",IF(CE78=2019,"TWO THOUSAND NINETEEN",IF(CE78=2020,"TWO THOUSAND TWENTY",IF(CE78=2021,"TWO THOUSAND TWENTY ONE",IF(CE78=2022,"TWO THOUSAND TWENTY TWO",IF(CE78=2023,"TWO THOUSAND TWENTY THREE",IF(CE78=2024,"TWO THOUSAND TWENTY FOUR",IF(CE78=2025,"TWO THOUSAND TWENTY FIVE",""))))))))))))))))))))))))))))))))))))))))))))))))))))))))))))))))) | CI78: =IF(CF78=1,"JANUARY",IF(CF78=2,"FEBUARY", IF(CF78=3,"MARCH",IF(CF78=4,"APRIL",IF(CF78=5,"MAY",IF(CF78=6,"JUNE",IF(CF78=7,"JULY",IF(CF78=8,"AUGUST",IF(CF78=9,"SEPTEMBER",IF(CF78=10,"OCTOBER",IF(CF78=11,"NOVEMBER",IF(CF78=12,"DECEMBER","")))))))))))) | CJ78: =IF(CG78=1,"1ST",IF(CG78=2,"2ND", IF(CG78=3,"3RD",IF(CG78=4,"FOURTH",IF(CG78=5,"FIFTH",IF(CG78=6,"SIXTH",IF(CG78=7,"7TH",IF(CG78=8,"8TH",IF(CG78=9,"9TH",IF(CG78=10,"10TH",IF(CG78=11,"11TH",IF(CG78=12,"12TH",IF(CG78=13,"13TH",IF(CG78=14,"14TH",IF(CG78=15,"FIFTEEN",IF(CG78=16,"SIXTEEN",IF(CG78=17,"SEVENTEEN",IF(CG78=18,"EIGHTEEN",IF(CG78=19,"NINETEEN",IF(CG78=20,"TWENTY",IF(CG78=21,"TWENTY FIRST",IF(CG78=22,"TWENTY SECOND",IF(CG78=23,"TWENTY THIRD",IF(CG78=24,"TWENTY FOURTH",IF(CG78=25,"TWENTY FIFTH",IF(CG78=26,"TWENTY SIX",IF(CG78=27,"TWENTY SEVEN",IF(CG78=28,"TWENTY EIGHT",IF(CG78=29,"TWENTY NINE",IF(CG78=30,"THIRTY",IF(CG78=31,"THIRTY FIRST",""))))))))))))))))))))))))))))))) | CK78: =IFERROR(IF(AND(CH78="",CI78="",CJ78=""),"",CONCATENATE(CI78," ",CJ78,", ",CH78)),"") | CL78: =IF(F78="","",IF(F78="3rd Grade L-1","YES","")) | CV78: =IF(F78="","",IF(F78=$CN$6,"3rd Grade L-1",IF(F78=$CN$7,"3rd Grade L-2",IF(F78=$CN$8,"2nd Grade",IF(F78=$CN$9,"1st Grade (Lecturer)",IF(F78=$CN$10,"Lab. Ass.",IF(F78=$CN$11,"3rd Grade P.E.T.","")))))))
A79: =IFERROR(IF(AND(B79="",C79="",F79="",I79=""),"",A78+1),"") | E79: =IFERROR(VLOOKUP(D79,PEEO_SCHOOL,3,0),"") | J79: =IFERROR(IF(CK79="","",CK79),"") | K79: =IFERROR(IF(OR($K$4="",B79="",A79="",I79=""),"",DATEDIF(I79,$K$4,"Y")),"") | L79: =IFERROR(IF(OR($K$4="",B79="",A79="",I79=""),"",DATEDIF(I79,$K$4,"YM")),"") | M79: =IFERROR(IF(OR($K$4="",B79="",A79="",I79=""),"",DATEDIF(I79,$K$4,"MD")),"") | CE79: =IFERROR(IF(I79="","",YEAR(I79)),"") | CF79: =IFERROR(IF(I79="","",MONTH(I79)),"") | CG79: =IFERROR(IF(I79="","",DAY(I79)),"") | CH79: =IF(CE79=1961,"NINETEEN SIXTY ONE",IF(CE79=1962,"NINETEEN SIXTY TWO",IF(CE79=1963,"NINETEEN SIXTY THREE",IF(CE79=1964,"NINETEEN SIXTY FOUR",IF(CE79=1965,"NINETEEN SIXTY FIVE",IF(CE79=1966,"NINETEEN SIXTY SIX",IF(CE79=1967,"NINETEEN SIXTY SEVEN",IF(CE79=1968,"NINETEEN SIXTY EIGHT",IF(CE79=1969,"NINETEEN SIXTY NINE",IF(CE79=1970,"NINETEEN SEVENTY",IF(CE79=1971,"NINETEEN SEVENTY ONE",IF(CE79=1972,"NINETEEN SEVENTY TWO",IF(CE79=1973,"NINETEEN SEVENTY THREE",IF(CE79=1974,"NINETEEN SEVENTY FOUR",IF(CE79=1975,"NINETEEN SEVENTY FIVE",IF(CE79=1976,"NINETEEN SEVENTY SIX",IF(CE79=1977,"NINETEEN SEVENTY SEVEN",IF(CE79=1978,"NINETEEN SEVENTY EIGHT",IF(CE79=1979,"NINETEEN SEVENTY NINE",IF(CE79=1980,"NINETEEN EIGHTY",IF(CE79=1981,"NINETEEN EIGHTY ONE",IF(CE79=1982,"NINETEEN EIGHTY TWO",IF(CE79=1983,"NINETEEN EIGHTY THREE",IF(CE79=1984,"NINETEEN EIGHTY FOUR",IF(CE79=1985,"NINETEEN EIGHTY FIVE",IF(CE79=1986,"NINETEEN EIGHTY SIX",IF(CE79=1987,"NINETEEN EIGHTY SEVEN",IF(CE79=1988,"NINETEEN EIGHTY EIGHT",IF(CE79=1989,"NINETEEN EIGHTY NINE",IF(CE79=1990,"NINETEEN NINETY",IF(CE79=1991,"NINETEEN NINETY ONE",IF(CE79=1992,"NINETEEN NINETY TWO",IF(CE79=1993,"NINETEEN NINETY THREE",IF(CE79=1994,"NINETEEN NINETY FOUR",IF(CE79=1995,"NINETEEN NINETY FIVE",IF(CE79=1996,"NINETEEN NINETY SIX",IF(CE79=1997,"NINETEEN NINETY SEVEN",IF(CE79=1998,"NINETEEN NINETY EIGHT",IF(CE79=1999,"NINETEEN NINETY NINE",IF(CE79=2000,"TWO THOUSAND",IF(CE79=2001,"TWO THOUSAND ONE",IF(CE79=2002,"TWO THOUSAND TWO",IF(CE79=2003,"TWO THOUSAND THREE",IF(CE79=2004,"TWO THOUSAND FOUR",IF(CE79=2005,"TWO THOUSAND FIVE",IF(CE79=2006,"TWO THOUSAND SIX",IF(CE79=2007,"TWO THOUSAND SEVEN",IF(CE79=2008,"TWO THOUSAND EIGHT",IF(CE79=2009,"TWO THOUSAND NINE",IF(CE79=2010,"TWO THOUSAND TEN",IF(CE79=2011,"TWO THOUSAND ELEVEN",IF(CE79=2012,"TWO THOUSAND TWELVE",IF(CE79=2013,"TWO THOUSAND THIRTEEN",IF(CE79=2014,"TWO THOUSAND FOURTEEN",IF(CE79=2015,"TWO THOUSAND FIFTEEN",IF(CE79=2016,"TWO THOUSAND SIXTEEN",IF(CE79=2017,"TWO THOUSAND SEVENTEEN",IF(CE79=2018,"TWO THOUSAND EIGHTEEN",IF(CE79=2019,"TWO THOUSAND NINETEEN",IF(CE79=2020,"TWO THOUSAND TWENTY",IF(CE79=2021,"TWO THOUSAND TWENTY ONE",IF(CE79=2022,"TWO THOUSAND TWENTY TWO",IF(CE79=2023,"TWO THOUSAND TWENTY THREE",IF(CE79=2024,"TWO THOUSAND TWENTY FOUR",IF(CE79=2025,"TWO THOUSAND TWENTY FIVE",""))))))))))))))))))))))))))))))))))))))))))))))))))))))))))))))))) | CI79: =IF(CF79=1,"JANUARY",IF(CF79=2,"FEBUARY", IF(CF79=3,"MARCH",IF(CF79=4,"APRIL",IF(CF79=5,"MAY",IF(CF79=6,"JUNE",IF(CF79=7,"JULY",IF(CF79=8,"AUGUST",IF(CF79=9,"SEPTEMBER",IF(CF79=10,"OCTOBER",IF(CF79=11,"NOVEMBER",IF(CF79=12,"DECEMBER","")))))))))))) | CJ79: =IF(CG79=1,"1ST",IF(CG79=2,"2ND", IF(CG79=3,"3RD",IF(CG79=4,"FOURTH",IF(CG79=5,"FIFTH",IF(CG79=6,"SIXTH",IF(CG79=7,"7TH",IF(CG79=8,"8TH",IF(CG79=9,"9TH",IF(CG79=10,"10TH",IF(CG79=11,"11TH",IF(CG79=12,"12TH",IF(CG79=13,"13TH",IF(CG79=14,"14TH",IF(CG79=15,"FIFTEEN",IF(CG79=16,"SIXTEEN",IF(CG79=17,"SEVENTEEN",IF(CG79=18,"EIGHTEEN",IF(CG79=19,"NINETEEN",IF(CG79=20,"TWENTY",IF(CG79=21,"TWENTY FIRST",IF(CG79=22,"TWENTY SECOND",IF(CG79=23,"TWENTY THIRD",IF(CG79=24,"TWENTY FOURTH",IF(CG79=25,"TWENTY FIFTH",IF(CG79=26,"TWENTY SIX",IF(CG79=27,"TWENTY SEVEN",IF(CG79=28,"TWENTY EIGHT",IF(CG79=29,"TWENTY NINE",IF(CG79=30,"THIRTY",IF(CG79=31,"THIRTY FIRST",""))))))))))))))))))))))))))))))) | CK79: =IFERROR(IF(AND(CH79="",CI79="",CJ79=""),"",CONCATENATE(CI79," ",CJ79,", ",CH79)),"") | CL79: =IF(F79="","",IF(F79="3rd Grade L-1","YES","")) | CV79: =IF(F79="","",IF(F79=$CN$6,"3rd Grade L-1",IF(F79=$CN$7,"3rd Grade L-2",IF(F79=$CN$8,"2nd Grade",IF(F79=$CN$9,"1st Grade (Lecturer)",IF(F79=$CN$10,"Lab. Ass.",IF(F79=$CN$11,"3rd Grade P.E.T.","")))))))
A80: =IFERROR(IF(AND(B80="",C80="",F80="",I80=""),"",A79+1),"") | E80: =IFERROR(VLOOKUP(D80,PEEO_SCHOOL,3,0),"") | J80: =IFERROR(IF(CK80="","",CK80),"") | K80: =IFERROR(IF(OR($K$4="",B80="",A80="",I80=""),"",DATEDIF(I80,$K$4,"Y")),"") | L80: =IFERROR(IF(OR($K$4="",B80="",A80="",I80=""),"",DATEDIF(I80,$K$4,"YM")),"") | M80: =IFERROR(IF(OR($K$4="",B80="",A80="",I80=""),"",DATEDIF(I80,$K$4,"MD")),"") | CE80: =IFERROR(IF(I80="","",YEAR(I80)),"") | CF80: =IFERROR(IF(I80="","",MONTH(I80)),"") | CG80: =IFERROR(IF(I80="","",DAY(I80)),"") | CH80: =IF(CE80=1961,"NINETEEN SIXTY ONE",IF(CE80=1962,"NINETEEN SIXTY TWO",IF(CE80=1963,"NINETEEN SIXTY THREE",IF(CE80=1964,"NINETEEN SIXTY FOUR",IF(CE80=1965,"NINETEEN SIXTY FIVE",IF(CE80=1966,"NINETEEN SIXTY SIX",IF(CE80=1967,"NINETEEN SIXTY SEVEN",IF(CE80=1968,"NINETEEN SIXTY EIGHT",IF(CE80=1969,"NINETEEN SIXTY NINE",IF(CE80=1970,"NINETEEN SEVENTY",IF(CE80=1971,"NINETEEN SEVENTY ONE",IF(CE80=1972,"NINETEEN SEVENTY TWO",IF(CE80=1973,"NINETEEN SEVENTY THREE",IF(CE80=1974,"NINETEEN SEVENTY FOUR",IF(CE80=1975,"NINETEEN SEVENTY FIVE",IF(CE80=1976,"NINETEEN SEVENTY SIX",IF(CE80=1977,"NINETEEN SEVENTY SEVEN",IF(CE80=1978,"NINETEEN SEVENTY EIGHT",IF(CE80=1979,"NINETEEN SEVENTY NINE",IF(CE80=1980,"NINETEEN EIGHTY",IF(CE80=1981,"NINETEEN EIGHTY ONE",IF(CE80=1982,"NINETEEN EIGHTY TWO",IF(CE80=1983,"NINETEEN EIGHTY THREE",IF(CE80=1984,"NINETEEN EIGHTY FOUR",IF(CE80=1985,"NINETEEN EIGHTY FIVE",IF(CE80=1986,"NINETEEN EIGHTY SIX",IF(CE80=1987,"NINETEEN EIGHTY SEVEN",IF(CE80=1988,"NINETEEN EIGHTY EIGHT",IF(CE80=1989,"NINETEEN EIGHTY NINE",IF(CE80=1990,"NINETEEN NINETY",IF(CE80=1991,"NINETEEN NINETY ONE",IF(CE80=1992,"NINETEEN NINETY TWO",IF(CE80=1993,"NINETEEN NINETY THREE",IF(CE80=1994,"NINETEEN NINETY FOUR",IF(CE80=1995,"NINETEEN NINETY FIVE",IF(CE80=1996,"NINETEEN NINETY SIX",IF(CE80=1997,"NINETEEN NINETY SEVEN",IF(CE80=1998,"NINETEEN NINETY EIGHT",IF(CE80=1999,"NINETEEN NINETY NINE",IF(CE80=2000,"TWO THOUSAND",IF(CE80=2001,"TWO THOUSAND ONE",IF(CE80=2002,"TWO THOUSAND TWO",IF(CE80=2003,"TWO THOUSAND THREE",IF(CE80=2004,"TWO THOUSAND FOUR",IF(CE80=2005,"TWO THOUSAND FIVE",IF(CE80=2006,"TWO THOUSAND SIX",IF(CE80=2007,"TWO THOUSAND SEVEN",IF(CE80=2008,"TWO THOUSAND EIGHT",IF(CE80=2009,"TWO THOUSAND NINE",IF(CE80=2010,"TWO THOUSAND TEN",IF(CE80=2011,"TWO THOUSAND ELEVEN",IF(CE80=2012,"TWO THOUSAND TWELVE",IF(CE80=2013,"TWO THOUSAND THIRTEEN",IF(CE80=2014,"TWO THOUSAND FOURTEEN",IF(CE80=2015,"TWO THOUSAND FIFTEEN",IF(CE80=2016,"TWO THOUSAND SIXTEEN",IF(CE80=2017,"TWO THOUSAND SEVENTEEN",IF(CE80=2018,"TWO THOUSAND EIGHTEEN",IF(CE80=2019,"TWO THOUSAND NINETEEN",IF(CE80=2020,"TWO THOUSAND TWENTY",IF(CE80=2021,"TWO THOUSAND TWENTY ONE",IF(CE80=2022,"TWO THOUSAND TWENTY TWO",IF(CE80=2023,"TWO THOUSAND TWENTY THREE",IF(CE80=2024,"TWO THOUSAND TWENTY FOUR",IF(CE80=2025,"TWO THOUSAND TWENTY FIVE",""))))))))))))))))))))))))))))))))))))))))))))))))))))))))))))))))) | CI80: =IF(CF80=1,"JANUARY",IF(CF80=2,"FEBUARY", IF(CF80=3,"MARCH",IF(CF80=4,"APRIL",IF(CF80=5,"MAY",IF(CF80=6,"JUNE",IF(CF80=7,"JULY",IF(CF80=8,"AUGUST",IF(CF80=9,"SEPTEMBER",IF(CF80=10,"OCTOBER",IF(CF80=11,"NOVEMBER",IF(CF80=12,"DECEMBER","")))))))))))) | CJ80: =IF(CG80=1,"1ST",IF(CG80=2,"2ND", IF(CG80=3,"3RD",IF(CG80=4,"FOURTH",IF(CG80=5,"FIFTH",IF(CG80=6,"SIXTH",IF(CG80=7,"7TH",IF(CG80=8,"8TH",IF(CG80=9,"9TH",IF(CG80=10,"10TH",IF(CG80=11,"11TH",IF(CG80=12,"12TH",IF(CG80=13,"13TH",IF(CG80=14,"14TH",IF(CG80=15,"FIFTEEN",IF(CG80=16,"SIXTEEN",IF(CG80=17,"SEVENTEEN",IF(CG80=18,"EIGHTEEN",IF(CG80=19,"NINETEEN",IF(CG80=20,"TWENTY",IF(CG80=21,"TWENTY FIRST",IF(CG80=22,"TWENTY SECOND",IF(CG80=23,"TWENTY THIRD",IF(CG80=24,"TWENTY FOURTH",IF(CG80=25,"TWENTY FIFTH",IF(CG80=26,"TWENTY SIX",IF(CG80=27,"TWENTY SEVEN",IF(CG80=28,"TWENTY EIGHT",IF(CG80=29,"TWENTY NINE",IF(CG80=30,"THIRTY",IF(CG80=31,"THIRTY FIRST",""))))))))))))))))))))))))))))))) | CK80: =IFERROR(IF(AND(CH80="",CI80="",CJ80=""),"",CONCATENATE(CI80," ",CJ80,", ",CH80)),"") | CL80: =IF(F80="","",IF(F80="3rd Grade L-1","YES","")) | CV80: =IF(F80="","",IF(F80=$CN$6,"3rd Grade L-1",IF(F80=$CN$7,"3rd Grade L-2",IF(F80=$CN$8,"2nd Grade",IF(F80=$CN$9,"1st Grade (Lecturer)",IF(F80=$CN$10,"Lab. Ass.",IF(F80=$CN$11,"3rd Grade P.E.T.","")))))))
... A201: =IFERROR(IF(AND(B201="",C201="",F201="",I201=""),"",A200+1),"") | E201: =IFERROR(VLOOKUP(D201,PEEO_SCHOOL,3,0),"") | J201: =IFERROR(IF(CK201="","",CK201),"") | K201: =IFERROR(IF(OR($K$4="",B201="",A201="",I201=""),"",DATEDIF(I201,$K$4,"Y")),"") | L201: =IFERROR(IF(OR($K$4="",B201="",A201="",I201=""),"",DATEDIF(I201,$K$4,"YM")),"") | M201: =IFERROR(IF(OR($K$4="",B201="",A201="",I201=""),"",DATEDIF(I201,$K$4,"MD")),"") | CE201: =IFERROR(IF(I201="","",YEAR(I201)),"") | CF201: =IFERROR(IF(I201="","",MONTH(I201)),"") | CG201: =IFERROR(IF(I201="","",DAY(I201)),"") | CH201: =IF(CE201=1961,"NINETEEN SIXTY ONE",IF(CE201=1962,"NINETEEN SIXTY TWO",IF(CE201=1963,"NINETEEN SIXTY THREE",IF(CE201=1964,"NINETEEN SIXTY FOUR",IF(CE201=1965,"NINETEEN SIXTY FIVE",IF(CE201=1966,"NINETEEN SIXTY SIX",IF(CE201=1967,"NINETEEN SIXTY SEVEN",IF(CE201=1968,"NINETEEN SIXTY EIGHT",IF(CE201=1969,"NINETEEN SIXTY NINE",IF(CE201=1970,"NINETEEN SEVENTY",IF(CE201=1971,"NINETEEN SEVENTY ONE",IF(CE201=1972,"NINETEEN SEVENTY TWO",IF(CE201=1973,"NINETEEN SEVENTY THREE",IF(CE201=1974,"NINETEEN SEVENTY FOUR",IF(CE201=1975,"NINETEEN SEVENTY FIVE",IF(CE201=1976,"NINETEEN SEVENTY SIX",IF(CE201=1977,"NINETEEN SEVENTY SEVEN",IF(CE201=1978,"NINETEEN SEVENTY EIGHT",IF(CE201=1979,"NINETEEN SEVENTY NINE",IF(CE201=1980,"NINETEEN EIGHTY",IF(CE201=1981,"NINETEEN EIGHTY ONE",IF(CE201=1982,"NINETEEN EIGHTY TWO",IF(CE201=1983,"NINETEEN EIGHTY THREE",IF(CE201=1984,"NINETEEN EIGHTY FOUR",IF(CE201=1985,"NINETEEN EIGHTY FIVE",IF(CE201=1986,"NINETEEN EIGHTY SIX",IF(CE201=1987,"NINETEEN EIGHTY SEVEN",IF(CE201=1988,"NINETEEN EIGHTY EIGHT",IF(CE201=1989,"NINETEEN EIGHTY NINE",IF(CE201=1990,"NINETEEN NINETY",IF(CE201=1991,"NINETEEN NINETY ONE",IF(CE201=1992,"NINETEEN NINETY TWO",IF(CE201=1993,"NINETEEN NINETY THREE",IF(CE201=1994,"NINETEEN NINETY FOUR",IF(CE201=1995,"NINETEEN NINETY FIVE",IF(CE201=1996,"NINETEEN NINETY SIX",IF(CE201=1997,"NINETEEN NINETY SEVEN",IF(CE201=1998,"NINETEEN NINETY EIGHT",IF(CE201=1999,"NINETEEN NINETY NINE",IF(CE201=2000,"TWO THOUSAND",IF(CE201=2001,"TWO THOUSAND ONE",IF(CE201=2002,"TWO THOUSAND TWO",IF(CE201=2003,"TWO THOUSAND THREE",IF(CE201=2004,"TWO THOUSAND FOUR",IF(CE201=2005,"TWO THOUSAND FIVE",IF(CE201=2006,"TWO THOUSAND SIX",IF(CE201=2007,"TWO THOUSAND SEVEN",IF(CE201=2008,"TWO THOUSAND EIGHT",IF(CE201=2009,"TWO THOUSAND NINE",IF(CE201=2010,"TWO THOUSAND TEN",IF(CE201=2011,"TWO THOUSAND ELEVEN",IF(CE201=2012,"TWO THOUSAND TWELVE",IF(CE201=2013,"TWO THOUSAND THIRTEEN",IF(CE201=2014,"TWO THOUSAND FOURTEEN",IF(CE201=2015,"TWO THOUSAND FIFTEEN",IF(CE201=2016,"TWO THOUSAND SIXTEEN",IF(CE201=2017,"TWO THOUSAND SEVENTEEN",IF(CE201=2018,"TWO THOUSAND EIGHTEEN",IF(CE201=2019,"TWO THOUSAND NINETEEN",IF(CE201=2020,"TWO THOUSAND TWENTY",IF(CE201=2021,"TWO THOUSAND TWENTY ONE",IF(CE201=2022,"TWO THOUSAND TWENTY TWO",IF(CE201=2023,"TWO THOUSAND TWENTY THREE",IF(CE201=2024,"TWO THOUSAND TWENTY FOUR",IF(CE201=2025,"TWO THOUSAND TWENTY FIVE",""))))))))))))))))))))))))))))))))))))))))))))))))))))))))))))))))) | CI201: =IF(CF201=1,"JANUARY",IF(CF201=2,"FEBUARY", IF(CF201=3,"MARCH",IF(CF201=4,"APRIL",IF(CF201=5,"MAY",IF(CF201=6,"JUNE",IF(CF201=7,"JULY",IF(CF201=8,"AUGUST",IF(CF201=9,"SEPTEMBER",IF(CF201=10,"OCTOBER",IF(CF201=11,"NOVEMBER",IF(CF201=12,"DECEMBER","")))))))))))) | CJ201: =IF(CG201=1,"1ST",IF(CG201=2,"2ND", IF(CG201=3,"3RD",IF(CG201=4,"FOURTH",IF(CG201=5,"FIFTH",IF(CG201=6,"SIXTH",IF(CG201=7,"7TH",IF(CG201=8,"8TH",IF(CG201=9,"9TH",IF(CG201=10,"10TH",IF(CG201=11,"11TH",IF(CG201=12,"12TH",IF(CG201=13,"13TH",IF(CG201=14,"14TH",IF(CG201=15,"FIFTEEN",IF(CG201=16,"SIXTEEN",IF(CG201=17,"SEVENTEEN",IF(CG201=18,"EIGHTEEN",IF(CG201=19,"NINETEEN",IF(CG201=20,"TWENTY",IF(CG201=21,"TWENTY FIRST",IF(CG201=22,"TWENTY SECOND",IF(CG201=23,"TWENTY THIRD",IF(CG201=24,"TWENTY FOURTH",IF(CG201=25,"TWENTY FIFTH",IF(CG201=26,"TWENTY SIX",IF(CG201=27,"TWENTY SEVEN",IF(CG201=28,"TWENTY EIGHT",IF(CG201=29,"TWENTY NINE",IF(CG201=30,"THIRTY",IF(CG201=31,"THIRTY FIRST",""))))))))))))))))))))))))))))))) | CK201: =IFERROR(IF(AND(CH201="",CI201="",CJ201=""),"",CONCATENATE(CI201," ",CJ201,", ",CH201)),"") | CL201: =IF(F201="","",IF(F201="3rd Grade L-1","YES","")) | CV201: =IF(F201="","",IF(F201=$CN$6,"3rd Grade L-1",IF(F201=$CN$7,"3rd Grade L-2",IF(F201=$CN$8,"2nd Grade",IF(F201=$CN$9,"1st Grade (Lecturer)",IF(F201=$CN$10,"Lab. Ass.",IF(F201=$CN$11,"3rd Grade P.E.T.","")))))))

Sheet DETAIL
B1: Mahtma Gandhi Government School (English Medium) Bar, PALI | CB1: Mahtma Gandhi Government School (English Medium) Bar, PALI | DC1: Mahtma Gandhi Government School (English Medium) Bar, PALI | EC1: Mahtma Gandhi Government School (English Medium) Bar, PALI
C2: Candidate List | CC2: Candidate List | DD2: Candidate List | ED2: Candidate List
C4: CLASS :- | D4: =IF('Candidate Received form'!D5="","",'Candidate Received form'!D5) -> All Post | AB4: 1 | AC4: 2 | AD4: 3 | AE4: 4 | AF4: 5 | AG4: 6 | AH4: 7 | AI4: 8 | AJ4: 9 | AK4: 10 | AL4: 11 | AM4: 12 | AN4: 13 | AO4: 14 | AP4: 15 | AQ4: 16 | AR4: 17 | AS4: 18 | AT4: 19 | AU4: 20 | AV4: 21 | AW4: 22 | AX4: 23 | AY4: 24 | AZ4: 25 | BA4: 26 | BB4: 27 | BC4: 28 | BD4: 29 | BE4: 30 | BF4: 31 | BG4: 32 | BH4: 33 | CC4: CLASS :- | CD4: =IF('Merit List postwise'!D4="","",'Merit List postwise'!D4) -> 3rd Grade L-1 | DD4: CLASS :- | DE4: =IF('Schoolwise suchi'!D4="","",'Schoolwise suchi'!D4) -> 333333 | ED4: subject :- | EE4: =IF('subjectwise Merit list'!K5="","",'subjectwise Merit list'!K5) -> Compulsory Hindi | EF4: Post | EG4: =IF('subjectwise Merit list'!E5="","",'subjectwise Merit list'!E5) -> First_Grade_School_Lecturer
B6: Sr. No. | C6: Candidate Name | D6: Candidate's Father Name | E6: Date of Birth | F6: Post for which applying | G6: शैक्षणिक योग्यता | H6: Percentage (75%) | I6: प्रशैक्षणिक योग्यता | J6: Percentage (25%) | K6: REET Year | L6: Reet % | M6: आवेदित विद्यालय का नाम | N6: category | O6: gender | P6: subject | Z6: DIST. | AB6: AJMER | AC6: ALWAR | AD6: BANSWARA | AE6: BARAN | AF6: BARMER | AG6: BHARATPUR | AH6: BHILWARA | AI6: BIKANER | AJ6: BUNDI | AK6: CHITTORGARH | AL6: CHURU | AM6: DAUSA | AN6: DHOLPUR | AO6: DUNGARPUR | AP6: HANUMANGARH | AQ6: JAIPUR | AR6: JAISALMER | AS6: JALORE | AT6: JHALAWAR | AU6: JHUNJHUNU | AV6: JODHPUR | AW6: KARAULI | AX6: KOTA | AY6: NAGOUR | AZ6: PALI | BA6: PRATAPGARH | BB6: RAJSAMAND | BC6: SAWAI MADHOPUR | BD6: SIKAR | BE6: SIROHI | BF6: SRI GANGANAGAR | BG6: TONK | BH6: UDAIPUR | CB6: Sr. No. | CC6: Candidate Name | CD6: Candidate's Father Name | CE6: Date of Birth | CF6: Post for which applying | CG6: शैक्षणिक योग्यता | CH6: Percentage (75%) | CI6: प्रशैक्षणिक योग्यता | CJ6: Percentage (25%) | CK6: REET Year | CL6: Reet % | CM6: आवेदित विद्यालय का नाम | CN6: category | CO6: gender | CP6: Total Percentage (100%) | CQ6: subject | DC6: Sr. No. | DD6: Candidate Name | DE6: Candidate's Father Name | DF6: Date of Birth | DG6: Post for which applying | DH6: शैक्षणिक योग्यता | DI6: Percentage (75%) | DJ6: प्रशैक्षणिक योग्यता | DK6: Percentage (25%) | DL6: REET Year | DM6: Reet % | DN6: आवेदित विद्यालय का नाम | DO6: NIC CODE | DP6: category | DQ6: gender | DR6: Total Percentage (100%) | DS6: subject | EC6: Sr. No. | ED6: Candidate Name | EE6: Candidate's Father Name | EF6: Date of Birth | EG6: Post for which applying | EH6: शैक्षणिक योग्यता | EI6: Percentage (75%) | EJ6: प्रशैक्षणिक योग्यता | EK6: Percentage (25%) | EL6: REET Year | EM6: Reet % | EN6: आवेदित विद्यालय का नाम | EO6: NIC CODE | EP6: category | EQ6: gender | ER6: Total Percentage (100%) | ES6: subject
A7: =IF(S7=0,"",S7) -> 1 | B7: 1 | C7: =IF('DATA ENTRY'!CV6="","",IF('DATA ENTRY'!B6="","",IF($D$4="All Post",'DATA ENTRY'!B6,IF(AND($D$4='DATA ENTRY'!CV6),'DATA ENTRY'!B6,"")))) -> JHHG | D7: =IF('DATA ENTRY'!CV6="","",IF('DATA ENTRY'!C6="","",IF($D$4="All Post",'DATA ENTRY'!C6,IF(AND($D$4='DATA ENTRY'!CV6),'DATA ENTRY'!C6,"")))) -> KJJKJ | E7: =IF('DATA ENTRY'!CV6="","",IF('DATA ENTRY'!I6="","",IF($D$4="All Post",'DATA ENTRY'!I6,IF(AND($D$4='DATA ENTRY'!CV6),'DATA ENTRY'!I6,"")))) -> 31179 | F7: =IF('DATA ENTRY'!CV6="","",IF('DATA ENTRY'!CV6="","",IF($D$4="All Post",'DATA ENTRY'!CV6,IF(AND($D$4='DATA ENTRY'!CV6),'DATA ENTRY'!CV6,"")))) -> 3rd Grade L-1 | G7: =IF('DATA ENTRY'!CV6="","",IF('DATA ENTRY'!N6="","",IF($D$4="All Post",'DATA ENTRY'!N6,IF(AND($D$4='DATA ENTRY'!CV6),'DATA ENTRY'!N6,"")))) -> 12th | H7: =IF('DATA ENTRY'!CV6="","",IF('DATA ENTRY'!O6="","",IF($D$4="All Post",'DATA ENTRY'!O6,IF(AND($D$4='DATA ENTRY'!CV6),'DATA ENTRY'!O6,"")))) -> 0.7 | I7: =IF('DATA ENTRY'!CV6="","",IF('DATA ENTRY'!P6="","",IF($D$4="All Post",'DATA ENTRY'!P6,IF(AND($D$4='DATA ENTRY'!CV6),'DATA ENTRY'!P6,"")))) -> B.S.T.C. (D.EI.Ed.) | J7: =IF('DATA ENTRY'!CV6="","",IF('DATA ENTRY'!Q6="","",IF($D$4="All Post",'DATA ENTRY'!Q6,IF(AND($D$4='DATA ENTRY'!CV6),'DATA ENTRY'!Q6,"")))) -> 0.8 | K7: =IF('DATA ENTRY'!CV6="","",IF('DATA ENTRY'!R6="","",IF($D$4="All Post",'DATA ENTRY'!R6,IF(AND($D$4='DATA ENTRY'!CV6),'DATA ENTRY'!R6,"")))) -> 2016 | L7: =IF('DATA ENTRY'!CV6="","",IF('DATA ENTRY'!S6="","",IF($D$4="All Post",'DATA ENTRY'!S6,IF(AND($D$4='DATA ENTRY'!CV6),'DATA ENTRY'!S6,"")))) -> 0.75 | M7: =IF('DATA ENTRY'!CV6="","",IF('DATA ENTRY'!E6="","",IF($D$4="All Post",'DATA ENTRY'!E6,IF(AND($D$4='DATA ENTRY'!CV6),'DATA ENTRY'!E6,"")))) -> GUPS NO. 01 | N7: =IF('DATA ENTRY'!CV6="","",IF('DATA ENTRY'!W6="","",IF($D$4="All Post",'DATA ENTRY'!W6,IF(AND($D$4='DATA ENTRY'!CV6),'DATA ENTRY'!W6,"")))) -> GEN | O7: =IF('DATA ENTRY'!CV6="","",IF('DATA ENTRY'!X6="","",IF($D$4="All Post",'DATA ENTRY'!X6,IF(AND($D$4='DATA ENTRY'!CV6),'DATA ENTRY'!X6,"")))) -> MALE | P7: =IF('DATA ENTRY'!CV6="","",IF('DATA ENTRY'!G6="","",IF($D$4="All Post",'DATA ENTRY'!G6,IF(AND($D$4='DATA ENTRY'!CV6),'DATA ENTRY'!G6,"")))) -> NA | S7: =IF($D$4=F7,1,IF(T7="All Post",1,0)) -> 1 | T7: =IF(AND(C7="",F7=""),"","All Post") -> All Post | Z7: AJMER | AA7: 1 | AB7: AJMER GRAMEEN | AC7: BANSUR | AD7: ANANDPURI | AE7: ANTA | AF7: AADEL | AG7: BAYANA | AH7: ASIND | AI7: BIKANER | AJ7: BUNDI | AK7: BADI SADRI | AL7: BIDASAR | AM7: BANDIKUI | AN7: BARI | AO7: AASPUR | AP7: BHADRA | AQ7: AAMER | AR7: BHANIYANA | AS7: AAHORE | AT7: AKLERA | AU7: ALSISAR | AV7: BALESAR | AW7: HINDAUN | AX7: ITAWA | AY7: DEEDWANA | AZ7: BALI | BA7: ARNOD | BB7: AMET | BC7: BAMANWAS | BD7: DATARAMGARH | BE7: ABU ROAD | BF7: ANOOPGARH | BG7: DEOLI | BH7: BADGAON | BZ7: =IF(CE7="","",RANK(CE7,$CE$7:$CE$211,1)) -> 2 | CA7: =IF(CW7=0,"",CW7) -> 1 | CB7: 1 | CC7: =IF('DATA ENTRY'!CV6="","",IF('DATA ENTRY'!B6="","",IF(AND($CD$4='DATA ENTRY'!CV6),'DATA ENTRY'!B6,""))) -> JHHG | CD7: =IF('DATA ENTRY'!CV6="","",IF('DATA ENTRY'!C6="","",IF(AND($CD$4='DATA ENTRY'!CV6),'DATA ENTRY'!C6,""))) -> KJJKJ | CE7: =IF('DATA ENTRY'!CV6="","",IF('DATA ENTRY'!I6="","",IF(AND($CD$4='DATA ENTRY'!CV6),'DATA ENTRY'!I6,""))) -> 31179 | CF7: =IF('DATA ENTRY'!CV6="","",IF('DATA ENTRY'!CV6="","",IF(AND($CD$4='DATA ENTRY'!CV6),'DATA ENTRY'!CV6,""))) -> 3rd Grade L-1 | CG7: =IF('DATA ENTRY'!CV6="","",IF('DATA ENTRY'!N6="","",IF(AND($CD$4='DATA ENTRY'!CV6),'DATA ENTRY'!N6,""))) -> 12th | CH7: =IF('DATA ENTRY'!CV6="","",IF('DATA ENTRY'!O6="","",IF(AND($CD$4='DATA ENTRY'!CV6),'DATA ENTRY'!O6,""))) -> 0.7 | CI7: =IF('DATA ENTRY'!CV6="","",IF('DATA ENTRY'!P6="","",IF(AND($CD$4='DATA ENTRY'!CV6),'DATA ENTRY'!P6,""))) -> B.S.T.C. (D.EI.Ed.) | CJ7: =IF('DATA ENTRY'!CV6="","",IF('DATA ENTRY'!Q6="","",IF(AND($CD$4='DATA ENTRY'!CV6),'DATA ENTRY'!Q6,""))) -> 0.8 | CK7: =IF('DATA ENTRY'!CV6="","",IF('DATA ENTRY'!R6="","",IF(AND($CD$4='DATA ENTRY'!CV6),'DATA ENTRY'!R6,""))) -> 2016 | CL7: =IF('DATA ENTRY'!CV6="","",IF('DATA ENTRY'!S6="","",IF(AND($CD$4='DATA ENTRY'!CV6),'DATA ENTRY'!S6,""))) -> 0.75 | CM7: =IF('DATA ENTRY'!CV6="","",IF('DATA ENTRY'!E6="","",IF(AND($CD$4='DATA ENTRY'!CV6),'DATA ENTRY'!E6,""))) -> GUPS NO. 01 | CN7: =IF('DATA ENTRY'!CV6="","",IF('DATA ENTRY'!W6="","",IF(AND($CD$4='DATA ENTRY'!CV6),'DATA ENTRY'!W6,""))) -> GEN | CO7: =IF('DATA ENTRY'!CV6="","",IF('DATA ENTRY'!X6="","",IF(AND($CD$4='DATA ENTRY'!CV6),'DATA ENTRY'!X6,""))) -> MALE | CP7: =IFERROR(IF(CF7="","",SUM(CH7*75%+CJ7*25%)),"") -> 0.725 | CQ7: =IF('DATA ENTRY'!CV6="","",IF('DATA ENTRY'!G6="","",IF(AND($CD$4='DATA ENTRY'!CV6),'DATA ENTRY'!G6,""))) -> NA | CR7: =SUMPRODUCT((CP7<$CP$7:$CP$211)/COUNTIF($CP$7:$CP$211,$CP$7:$CP$211)) -> 2 | CS7: =SUMPRODUCT((CE7<$CE$7:$CE$211)/COUNTIF($CE$7:$CE$211,$CE$7:$CE$211)) -> 2 | CW7: =IF($CD$4=CF7,1,0) -> 1 | DA7: =IF(DF7="","",RANK(DF7,$DF$7:$DF$211,1)) -> 3 | DB7: =IF(DX7=0,"",DX7) -> 1 | DC7: 1 | DD7: =IF('DATA ENTRY'!CV6="","",IF('DATA ENTRY'!B6="","",IF(AND($DE$4='DATA ENTRY'!D6),'DATA ENTRY'!B6,""))) -> JHHG | DE7: =IF('DATA ENTRY'!CV6="","",IF('DATA ENTRY'!C6="","",IF(AND($DE$4='DATA ENTRY'!D6),'DATA ENTRY'!C6,""))) -> KJJKJ | DF7: =IF('DATA ENTRY'!CV6="","",IF('DATA ENTRY'!I6="","",IF(AND($DE$4='DATA ENTRY'!D6),'DATA ENTRY'!I6,""))) -> 31179 | DG7: =IF('DATA ENTRY'!CV6="","",IF('DATA ENTRY'!CV6="","",IF(AND($DE$4='DATA ENTRY'!D6),'DATA ENTRY'!CV6,""))) -> 3rd Grade L-1 | DH7: =IF('DATA ENTRY'!CV6="","",IF('DATA ENTRY'!N6="","",IF(AND($DE$4='DATA ENTRY'!D6),'DATA ENTRY'!N6,""))) -> 12th | DI7: =IF('DATA ENTRY'!CV6="","",IF('DATA ENTRY'!O6="","",IF(AND($DE$4='DATA ENTRY'!D6),'DATA ENTRY'!O6,""))) -> 0.7 | DJ7: =IF('DATA ENTRY'!CV6="","",IF('DATA ENTRY'!P6="","",IF(AND($DE$4='DATA ENTRY'!D6),'DATA ENTRY'!P6,""))) -> B.S.T.C. (D.EI.Ed.) | DK7: =IF('DATA ENTRY'!CV6="","",IF('DATA ENTRY'!Q6="","",IF(AND($DE$4='DATA ENTRY'!D6),'DATA ENTRY'!Q6,""))) -> 0.8 | DL7: =IF('DATA ENTRY'!CV6="","",IF('DATA ENTRY'!R6="","",IF(AND($DE$4='DATA ENTRY'!D6),'DATA ENTRY'!R6,""))) -> 2016 | DM7: =IF('DATA ENTRY'!CV6="","",IF('DATA ENTRY'!S6="","",IF(AND($DE$4='DATA ENTRY'!D6),'DATA ENTRY'!S6,""))) -> 0.75 | DN7: =IF('DATA ENTRY'!CV6="","",IF('DATA ENTRY'!E6="","",IF(AND($DE$4='DATA ENTRY'!D6),'DATA ENTRY'!E6,""))) -> GUPS NO. 01 | DO7: =IF('DATA ENTRY'!CV6="","",IF('DATA ENTRY'!D6="","",IF(AND($DE$4='DATA ENTRY'!D6),'DATA ENTRY'!D6,""))) -> 333333 | DP7: =IF('DATA ENTRY'!CV6="","",IF('DATA ENTRY'!W6="","",IF(AND($DE$4='DATA ENTRY'!D6),'DATA ENTRY'!W6,""))) -> GEN | DQ7: =IF('DATA ENTRY'!CV6="","",IF('DATA ENTRY'!X6="","",IF(AND($DE$4='DATA ENTRY'!D6),'DATA ENTRY'!X6,""))) -> MALE | DR7: =IFERROR(IF(DG7="","",SUM(DI7*75%+DK7*25%)),"") -> 0.725 | DS7: =IF('DATA ENTRY'!CV6="","",IF('DATA ENTRY'!D6="","",IF(AND($DE$4='DATA ENTRY'!D6),'DATA ENTRY'!G6,""))) -> NA | DX7: =IF($DE$4="",0,IF($DE$4=DO7,1,0)) -> 1 | EA7: =IF(EF7="","",RANK(EF7,$EF$7:$EF$211,1)) | EB7: =IF(EX7=0,"",EX7) | EC7: 1 | ED7: =IF('DATA ENTRY'!CV6="","",IF('DATA ENTRY'!B6="","",IF(AND($EE$4='DATA ENTRY'!G6,$EG$4='DATA ENTRY'!F6),'DATA ENTRY'!B6,""))) | EE7: =IF('DATA ENTRY'!CV6="","",IF('DATA ENTRY'!C6="","",IF(AND($EE$4='DATA ENTRY'!G6,$EG$4='DATA ENTRY'!F6),'DATA ENTRY'!C6,""))) | EF7: =IF('DATA ENTRY'!CV6="","",IF('DATA ENTRY'!I6="","",IF(AND($EE$4='DATA ENTRY'!G6,$EG$4='DATA ENTRY'!F6),'DATA ENTRY'!I6,""))) | EG7: =IF('DATA ENTRY'!CV6="","",IF('DATA ENTRY'!CV6="","",IF(AND($EE$4='DATA ENTRY'!G6,$EG$4='DATA ENTRY'!F6),'DATA ENTRY'!CV6,""))) | EH7: =IF('DATA ENTRY'!CV6="","",IF('DATA ENTRY'!N6="","",IF(AND($EE$4='DATA ENTRY'!G6,$EG$4='DATA ENTRY'!F6),'DATA ENTRY'!N6,""))) | EI7: =IF('DATA ENTRY'!CV6="","",IF('DATA ENTRY'!O6="","",IF(AND($EE$4='DATA ENTRY'!G6,$EG$4='DATA ENTRY'!F6),'DATA ENTRY'!O6,""))) | EJ7: =IF('DATA ENTRY'!CV6="","",IF('DATA ENTRY'!P6="","",IF(AND($EE$4='DATA ENTRY'!G6,$EG$4='DATA ENTRY'!F6),'DATA ENTRY'!P6,""))) | EK7: =IF('DATA ENTRY'!CV6="","",IF('DATA ENTRY'!Q6="","",IF(AND($EE$4='DATA ENTRY'!G6,$EG$4='DATA ENTRY'!F6),'DATA ENTRY'!Q6,""))) | EL7: =IF('DATA ENTRY'!CV6="","",IF('DATA ENTRY'!R6="","",IF(AND($EE$4='DATA ENTRY'!G6,$EG$4='DATA ENTRY'!F6),'DATA ENTRY'!R6,""))) | EM7: =IF('DATA ENTRY'!CV6="","",IF('DATA ENTRY'!S6="","",IF(AND($EE$4='DATA ENTRY'!G6,$EG$4='DATA ENTRY'!F6),'DATA ENTRY'!S6,""))) | EN7: =IF('DATA ENTRY'!CV6="","",IF('DATA ENTRY'!E6="","",IF(AND($EE$4='DATA ENTRY'!G6,$EG$4='DATA ENTRY'!F6),'DATA ENTRY'!E6,""))) | EO7: =IF('DATA ENTRY'!CV6="","",IF('DATA ENTRY'!D6="","",IF(AND($EE$4='DATA ENTRY'!G6,$EG$4='DATA ENTRY'!F6),'DATA ENTRY'!D6,""))) | EP7: =IF('DATA ENTRY'!CV6="","",IF('DATA ENTRY'!W6="","",IF(AND($EE$4='DATA ENTRY'!G6,$EG$4='DATA ENTRY'!F6),'DATA ENTRY'!W6,""))) | EQ7: =IF('DATA ENTRY'!CV6="","",IF('DATA ENTRY'!X6="","",IF(AND($EE$4='DATA ENTRY'!G6,$EG$4='DATA ENTRY'!F6),'DATA ENTRY'!X6,""))) | ER7: =IFERROR(IF(EG7="","",SUM(EI7*75%+EK7*25%)),"") | ES7: =IF('DATA ENTRY'!CV6="","",IF('DATA ENTRY'!D6="","",IF(AND($EE$4='DATA ENTRY'!G6,$EG$4='DATA ENTRY'!F6),'DATA ENTRY'!G6,""))) | EX7: =IF($DE$4="",0,IF($DE$4=EO7,1,0)) -> 0
A8: =IF(S8=0,"",1+(MAX($A$7:A7))) -> 2 | B8: 2 | C8: =IF('DATA ENTRY'!CV7="","",IF('DATA ENTRY'!B7="","",IF($D$4="All Post",'DATA ENTRY'!B7,IF(AND($D$4='DATA ENTRY'!CV7),'DATA ENTRY'!B7,"")))) -> HHJHJH | D8: =IF('DATA ENTRY'!CV7="","",IF('DATA ENTRY'!C7="","",IF($D$4="All Post",'DATA ENTRY'!C7,IF(AND($D$4='DATA ENTRY'!CV7),'DATA ENTRY'!C7,"")))) -> KJKJJJ | E8: =IF('DATA ENTRY'!CV7="","",IF('DATA ENTRY'!I7="","",IF($D$4="All Post",'DATA ENTRY'!I7,IF(AND($D$4='DATA ENTRY'!CV7),'DATA ENTRY'!I7,"")))) -> 31331 | F8: =IF('DATA ENTRY'!CV7="","",IF('DATA ENTRY'!CV7="","",IF($D$4="All Post",'DATA ENTRY'!CV7,IF(AND($D$4='DATA ENTRY'!CV7),'DATA ENTRY'!CV7,"")))) -> 3rd Grade L-1 | G8: =IF('DATA ENTRY'!CV7="","",IF('DATA ENTRY'!N7="","",IF($D$4="All Post",'DATA ENTRY'!N7,IF(AND($D$4='DATA ENTRY'!CV7),'DATA ENTRY'!N7,"")))) -> 12th | H8: =IF('DATA ENTRY'!CV7="","",IF('DATA ENTRY'!O7="","",IF($D$4="All Post",'DATA ENTRY'!O7,IF(AND($D$4='DATA ENTRY'!CV7),'DATA ENTRY'!O7,"")))) -> 0.74 | I8: =IF('DATA ENTRY'!CV7="","",IF('DATA ENTRY'!P7="","",IF($D$4="All Post",'DATA ENTRY'!P7,IF(AND($D$4='DATA ENTRY'!CV7),'DATA ENTRY'!P7,"")))) -> B.S.T.C. (D.EI.Ed.) | J8: =IF('DATA ENTRY'!CV7="","",IF('DATA ENTRY'!Q7="","",IF($D$4="All Post",'DATA ENTRY'!Q7,IF(AND($D$4='DATA ENTRY'!CV7),'DATA ENTRY'!Q7,"")))) -> 0.81 | K8: =IF('DATA ENTRY'!CV7="","",IF('DATA ENTRY'!R7="","",IF($D$4="All Post",'DATA ENTRY'!R7,IF(AND($D$4='DATA ENTRY'!CV7),'DATA ENTRY'!R7,"")))) -> 2015 | L8: =IF('DATA ENTRY'!CV7="","",IF('DATA ENTRY'!S7="","",IF($D$4="All Post",'DATA ENTRY'!S7,IF(AND($D$4='DATA ENTRY'!CV7),'DATA ENTRY'!S7,"")))) -> 0.74 | M8: =IF('DATA ENTRY'!CV7="","",IF('DATA ENTRY'!E7="","",IF($D$4="All Post",'DATA ENTRY'!E7,IF(AND($D$4='DATA ENTRY'!CV7),'DATA ENTRY'!E7,"")))) -> GUPS NO. 05 | N8: =IF('DATA ENTRY'!CV7="","",IF('DATA ENTRY'!W7="","",IF($D$4="All Post",'DATA ENTRY'!W7,IF(AND($D$4='DATA ENTRY'!CV7),'DATA ENTRY'!W7,"")))) -> ST | O8: =IF('DATA ENTRY'!CV7="","",IF('DATA ENTRY'!X7="","",IF($D$4="All Post",'DATA ENTRY'!X7,IF(AND($D$4='DATA ENTRY'!CV7),'DATA ENTRY'!X7,"")))) -> MALE | P8: =IF('DATA ENTRY'!CV7="","",IF('DATA ENTRY'!G7="","",IF($D$4="All Post",'DATA ENTRY'!G7,IF(AND($D$4='DATA ENTRY'!CV7),'DATA ENTRY'!G7,"")))) -> NA | S8: =IF($D$4=F8,1,IF(T8="All Post",1,0)) -> 1 | T8: =IF(AND(C8="",F8=""),"","All Post") -> All Post | Z8: ALWAR | AA8: 2 | AB8: ARAIN | AC8: BEHRORE | AD8: ARTHUNA | AE8: ATRU | AF8: BAITU | AG8: BHUSAWAR | AH8: BANERA | AI8: BAJJU | AJ8: HINDOLI | AK8: BHANDESAR | AL8: CHURU | AM8: BASWA | AN8: BASEDI | AO8: BICHHIWADA | AP8: HANUMANGARH | AQ8: AANDHI | AR8: FATEHGARH | AS8: BAGODA | AT8: BAKANI | AU8: BUHANA | AV8: AAU | AW8: KARAULI | AX8: KHAIRABAD | AY8: BHAIRUNDA | AZ8: DESURI | BA8: CHOTI SADARI | BB8: BHIM | BC8: BONLI | BD8: AJITGARH | BE8: PINDWARA | BF8: GHARSANA | BG8: MALPURA | BH8: BHINDAR | BZ8: =IF(CE8="","",RANK(CE8,$CE$7:$CE$211,1)) -> 3 | CA8: =IF(CW8=0,"",1+(MAX($CA$7:CA7))) -> 2 | CB8: 2 | CC8: =IF('DATA ENTRY'!CV7="","",IF('DATA ENTRY'!B7="","",IF(AND($CD$4='DATA ENTRY'!CV7),'DATA ENTRY'!B7,""))) -> HHJHJH | CD8: =IF('DATA ENTRY'!CV7="","",IF('DATA ENTRY'!C7="","",IF(AND($CD$4='DATA ENTRY'!CV7),'DATA ENTRY'!C7,""))) -> KJKJJJ | CE8: =IF('DATA ENTRY'!CV7="","",IF('DATA ENTRY'!I7="","",IF(AND($CD$4='DATA ENTRY'!CV7),'DATA ENTRY'!I7,""))) -> 31331 | CF8: =IF('DATA ENTRY'!CV7="","",IF('DATA ENTRY'!CV7="","",IF(AND($CD$4='DATA ENTRY'!CV7),'DATA ENTRY'!CV7,""))) -> 3rd Grade L-1 | CG8: =IF('DATA ENTRY'!CV7="","",IF('DATA ENTRY'!N7="","",IF(AND($CD$4='DATA ENTRY'!CV7),'DATA ENTRY'!N7,""))) -> 12th | CH8: =IF('DATA ENTRY'!CV7="","",IF('DATA ENTRY'!O7="","",IF(AND($CD$4='DATA ENTRY'!CV7),'DATA ENTRY'!O7,""))) -> 0.74 | CI8: =IF('DATA ENTRY'!CV7="","",IF('DATA ENTRY'!P7="","",IF(AND($CD$4='DATA ENTRY'!CV7),'DATA ENTRY'!P7,""))) -> B.S.T.C. (D.EI.Ed.) | CJ8: =IF('DATA ENTRY'!CV7="","",IF('DATA ENTRY'!Q7="","",IF(AND($CD$4='DATA ENTRY'!CV7),'DATA ENTRY'!Q7,""))) -> 0.81 | CK8: =IF('DATA ENTRY'!CV7="","",IF('DATA ENTRY'!R7="","",IF(AND($CD$4='DATA ENTRY'!CV7),'DATA ENTRY'!R7,""))) -> 2015 | CL8: =IF('DATA ENTRY'!CV7="","",IF('DATA ENTRY'!S7="","",IF(AND($CD$4='DATA ENTRY'!CV7),'DATA ENTRY'!S7,""))) -> 0.74 | CM8: =IF('DATA ENTRY'!CV7="","",IF('DATA ENTRY'!E7="","",IF(AND($CD$4='DATA ENTRY'!CV7),'DATA ENTRY'!E7,""))) -> GUPS NO. 05 | CN8: =IF('DATA ENTRY'!CV7="","",IF('DATA ENTRY'!W7="","",IF(AND($CD$4='DATA ENTRY'!CV7),'DATA ENTRY'!W7,""))) -> ST | CO8: =IF('DATA ENTRY'!CV7="","",IF('DATA ENTRY'!X7="","",IF(AND($CD$4='DATA ENTRY'!CV7),'DATA ENTRY'!X7,""))) -> MALE | CP8: =IFERROR(IF(CF8="","",SUM(CH8*75%+CJ8*25%)),"") -> 0.7575 | CQ8: =IF('DATA ENTRY'!CV7="","",IF('DATA ENTRY'!G7="","",IF(AND($CD$4='DATA ENTRY'!CV7),'DATA ENTRY'!G7,""))) -> NA | CR8: =SUMPRODUCT((CP8<$CP$7:$CP$211)/COUNTIF($CP$7:$CP$211,$CP$7:$CP$211)) -> 1 | CS8: =SUMPRODUCT((CE8<$CE$7:$CE$211)/COUNTIF($CE$7:$CE$211,$CE$7:$CE$211)) -> 1 | CW8: =IF($CD$4=CF8,1,0) -> 1 | DA8: =IF(DF8="","",RANK(DF8,$DF$7:$DF$211,1)) | DB8: =IF(DX8=0,"",1+(MAX($DB$7:DB7))) | DC8: 2 | DD8: =IF('DATA ENTRY'!CV7="","",IF('DATA ENTRY'!B7="","",IF(AND($DE$4='DATA ENTRY'!D7),'DATA ENTRY'!B7,""))) | DE8: =IF('DATA ENTRY'!CV7="","",IF('DATA ENTRY'!C7="","",IF(AND($DE$4='DATA ENTRY'!D7),'DATA ENTRY'!C7,""))) | DF8: =IF('DATA ENTRY'!CV7="","",IF('DATA ENTRY'!I7="","",IF(AND($DE$4='DATA ENTRY'!D7),'DATA ENTRY'!I7,""))) | DG8: =IF('DATA ENTRY'!CV7="","",IF('DATA ENTRY'!CV7="","",IF(AND($DE$4='DATA ENTRY'!D7),'DATA ENTRY'!CV7,""))) | DH8: =IF('DATA ENTRY'!CV7="","",IF('DATA ENTRY'!N7="","",IF(AND($DE$4='DATA ENTRY'!D7),'DATA ENTRY'!N7,""))) | DI8: =IF('DATA ENTRY'!CV7="","",IF('DATA ENTRY'!O7="","",IF(AND($DE$4='DATA ENTRY'!D7),'DATA ENTRY'!O7,""))) | DJ8: =IF('DATA ENTRY'!CV7="","",IF('DATA ENTRY'!P7="","",IF(AND($DE$4='DATA ENTRY'!D7),'DATA ENTRY'!P7,""))) | DK8: =IF('DATA ENTRY'!CV7="","",IF('DATA ENTRY'!Q7="","",IF(AND($DE$4='DATA ENTRY'!D7),'DATA ENTRY'!Q7,""))) | DL8: =IF('DATA ENTRY'!CV7="","",IF('DATA ENTRY'!R7="","",IF(AND($DE$4='DATA ENTRY'!D7),'DATA ENTRY'!R7,""))) | DM8: =IF('DATA ENTRY'!CV7="","",IF('DATA ENTRY'!S7="","",IF(AND($DE$4='DATA ENTRY'!D7),'DATA ENTRY'!S7,""))) | DN8: =IF('DATA ENTRY'!CV7="","",IF('DATA ENTRY'!E7="","",IF(AND($DE$4='DATA ENTRY'!D7),'DATA ENTRY'!E7,""))) | DO8: =IF('DATA ENTRY'!CV7="","",IF('DATA ENTRY'!D7="","",IF(AND($DE$4='DATA ENTRY'!D7),'DATA ENTRY'!D7,""))) | DP8: =IF('DATA ENTRY'!CV7="","",IF('DATA ENTRY'!W7="","",IF(AND($DE$4='DATA ENTRY'!D7),'DATA ENTRY'!W7,""))) | DQ8: =IF('DATA ENTRY'!CV7="","",IF('DATA ENTRY'!X7="","",IF(AND($DE$4='DATA ENTRY'!D7),'DATA ENTRY'!X7,""))) | DR8: =IFERROR(IF(DG8="","",SUM(DI8*75%+DK8*25%)),"") | DS8: =IF('DATA ENTRY'!CV7="","",IF('DATA ENTRY'!D7="","",IF(AND($DE$4='DATA ENTRY'!D7),'DATA ENTRY'!G7,""))) | DX8: =IF($DE$4="",0,IF($DE$4=DO8,1,0)) -> 0 | EA8: =IF(EF8="","",RANK(EF8,$EF$7:$EF$211,1)) | EB8: =IF(EX8=0,"",1+(MAX($EB$7:EB7))) | EC8: 2 | ED8: =IF('DATA ENTRY'!CV7="","",IF('DATA ENTRY'!B7="","",IF(AND($EE$4='DATA ENTRY'!G7,$EG$4='DATA ENTRY'!F7),'DATA ENTRY'!B7,""))) | EE8: =IF('DATA ENTRY'!CV7="","",IF('DATA ENTRY'!C7="","",IF(AND($EE$4='DATA ENTRY'!G7,$EG$4='DATA ENTRY'!F7),'DATA ENTRY'!C7,""))) | EF8: =IF('DATA ENTRY'!CV7="","",IF('DATA ENTRY'!I7="","",IF(AND($EE$4='DATA ENTRY'!G7,$EG$4='DATA ENTRY'!F7),'DATA ENTRY'!I7,""))) | EG8: =IF('DATA ENTRY'!CV7="","",IF('DATA ENTRY'!CV7="","",IF(AND($EE$4='DATA ENTRY'!G7,$EG$4='DATA ENTRY'!F7),'DATA ENTRY'!CV7,""))) | EH8: =IF('DATA ENTRY'!CV7="","",IF('DATA ENTRY'!N7="","",IF(AND($EE$4='DATA ENTRY'!G7,$EG$4='DATA ENTRY'!F7),'DATA ENTRY'!N7,""))) | EI8: =IF('DATA ENTRY'!CV7="","",IF('DATA ENTRY'!O7="","",IF(AND($EE$4='DATA ENTRY'!G7,$EG$4='DATA ENTRY'!F7),'DATA ENTRY'!O7,""))) | EJ8: =IF('DATA ENTRY'!CV7="","",IF('DATA ENTRY'!P7="","",IF(AND($EE$4='DATA ENTRY'!G7,$EG$4='DATA ENTRY'!F7),'DATA ENTRY'!P7,""))) | EK8: =IF('DATA ENTRY'!CV7="","",IF('DATA ENTRY'!Q7="","",IF(AND($EE$4='DATA ENTRY'!G7,$EG$4='DATA ENTRY'!F7),'DATA ENTRY'!Q7,""))) | EL8: =IF('DATA ENTRY'!CV7="","",IF('DATA ENTRY'!R7="","",IF(AND($EE$4='DATA ENTRY'!G7,$EG$4='DATA ENTRY'!F7),'DATA ENTRY'!R7,""))) | EM8: =IF('DATA ENTRY'!CV7="","",IF('DATA ENTRY'!S7="","",IF(AND($EE$4='DATA ENTRY'!G7,$EG$4='DATA ENTRY'!F7),'DATA ENTRY'!S7,""))) | EN8: =IF('DATA ENTRY'!CV7="","",IF('DATA ENTRY'!E7="","",IF(AND($EE$4='DATA ENTRY'!G7,$EG$4='DATA ENTRY'!F7),'DATA ENTRY'!E7,""))) | EO8: =IF('DATA ENTRY'!CV7="","",IF('DATA ENTRY'!D6="","",IF(AND($EE$4='DATA ENTRY'!G7,$EG$4='DATA ENTRY'!F7),'DATA ENTRY'!D6,""))) | EP8: =IF('DATA ENTRY'!CV7="","",IF('DATA ENTRY'!W7="","",IF(AND($EE$4='DATA ENTRY'!G7,$EG$4='DATA ENTRY'!F7),'DATA ENTRY'!W7,""))) | EQ8: =IF('DATA ENTRY'!CV7="","",IF('DATA ENTRY'!X7="","",IF(AND($EE$4='DATA ENTRY'!G7,$EG$4='DATA ENTRY'!F7),'DATA ENTRY'!X7,""))) | ER8: =IFERROR(IF(EG8="","",SUM(EI8*75%+EK8*25%)),"") | ES8: =IF('DATA ENTRY'!CV7="","",IF('DATA ENTRY'!D6="","",IF(AND($EE$4='DATA ENTRY'!G7,$EG$4='DATA ENTRY'!F7),'DATA ENTRY'!G7,""))) | EX8: =IF($DE$4="",0,IF($DE$4=EO8,1,0)) -> 0
