Workbook

Sheet Help
A1: Visit Youtube Channel For Help:-
A2: http://youtu.be/EexJyQYhFPs

Sheet Master
B2: t; fgUn | G2: oUns ekrje~ | N2: t; fgUn
B4: RESULT PREPARATION PROGRAM | Y4: 2019-20 | Z4: PRIMARY
K5: Subject Detail | M5: Staff Detail | Y5: 2019-21 | Z5: UPPER PRIMARY
B6: SESSION | D6: :- | E6: 2021-22 | K6: Sr. No. | L6: Subject's Name | M6: Sr. No. | N6: Teacher's Name | O6: Sr. No. | P6: Teacher's Name | Y6: 2019-22 | Z6: SECONDARY
K7: =IF(L7>1,1,0) -> 1 | L7: HINDI | M7: =IF(N7>1,1,0) -> 1 | N7: A | O7: =IF(P7>1,M20+1,0) -> 0 | Y7: 2019-21 | Z7: UPPER PRIMARY
B8: SCHOOL'S FULL NAME | D8: :- | E8: Govt. Sr. Secondary School Raimalwada | K8: =IF(L8>1,K7+1,0) -> 2 | L8: ENGLISH | M8: =IF(N8>1,M7+1,0) -> 2 | N8: B | O8: =IF(P8>1,O7+1,0) -> 0
K9: =IF(L9>1,K8+1,0) -> 3 | L9: SANSKRIT | M9: =IF(N9>1,M8+1,0) -> 3 | N9: C | O9: =IF(P9>1,O8+1,0) -> 0 | Y9: 2019-22 | Z9: SECONDARY
K10: =IF(L10>1,K9+1,0) -> 4 | L10: SCIENCE | M10: =IF(N10>1,M9+1,0) -> 4 | N10: D | O10: =IF(P10>1,O9+1,0) -> 0 | Y10: 2019-23 | Z10: SR. SECONDARY
B11: ADDRESS | D11: :- | E11: P.S.-Bapini (Jodhpur) | K11: =IF(L11>1,K10+1,0) -> 5 | L11: MATHEMATICS | M11: =IF(N11>1,M10+1,0) -> 5 | N11: E | O11: =IF(P11>1,O10+1,0) -> 0
K12: =IF(L12>1,K11+1,0) -> 6 | L12: SOCIAL SCIENCE | M12: =IF(N12>1,M11+1,0) -> 6 | N12: F | O12: =IF(P12>1,O11+1,0) -> 0 | R12: DEVOPED BY:-UMMED TARAD | Y12: 2019-24
K13: =IF(L13>1,K12+1,0) -> 0 | M13: =IF(N13>1,M12+1,0) -> 7 | N13: G | O13: =IF(P13>1,O12+1,0) -> 0 | Y13: 2019-23 | Z13: SR. SECONDARY
B14: U-DISE CODE | D14: :- | E14: 08151106901 | K14: =IF(L14>1,K13+1,0) -> 0 | M14: =IF(N14>1,M13+1,0) -> 0 | O14: =IF(P14>1,O13+1,0) -> 0 | Y14: 2019-24
K15: =IF(L15>1,K14+1,0) -> 0 | M15: =IF(N15>1,M14+1,0) -> 0 | O15: =IF(P15>1,O14+1,0) -> 0 | R15: (GSSS RAIMALWADA) | Y15: 2019-25
B16: NAME OF PRINCIPAL | D16: :- | K16: =IF(L16>1,K15+1,0) -> 0 | M16: =IF(N16>1,M15+1,0) -> 0 | O16: =IF(P16>1,O15+1,0) -> 0 | R16: MOBILE NO.-9166973141 | Y16: 2019-26
K17: =IF(L17>1,K16+1,0) -> 0 | M17: =IF(N17>1,M16+1,0) -> 0 | O17: =IF(P17>1,O16+1,0) -> 0
B18: SCHOOL TYPE | D18: :- | E18: Sr. Secondary | K18: =IF(L18>1,K17+1,0) -> 0 | M18: =IF(N18>1,M17+1,0) -> 0 | O18: =IF(P18>1,O17+1,0) -> 0
K19: =IF(L19>1,K18+1,0) -> 0 | M19: =IF(N19>1,M18+1,0) -> 0 | O19: =IF(P19>1,O18+1,0) -> 0 | Y19: 2019-25
B20: Result Date | D20: :- | E20: 44676 | K20: =IF(L20>1,K19+1,0) -> 0 | M20: =IF(N20>1,M19+1,0) -> 0 | O20: =IF(P20>1,O19+1,0) -> 0 | R20: EMAIL ID-ummedtrdedu@gmail.com | Y20: 2019-26
Y21: 2019-27

Sheet Class-6
C1: =Master!E8 -> Govt. Sr. Secondary School Raimalwada
C2: Print Report Card | I2: Go To Result Sheet | L2: Result Date:- | V2: =Master!E20 -> 44676 | AA2: Result Entry
C3: School U-Dise Code :- | G3: =Master!E14 -> 08151106901 | I3: Session :- | J3: =Master!E6 -> 2021-22 | L3: HINDI | AA3: ENGLISH | AP3: SANSKRIT | BE3: SCIENCE | BT3: MATHEMATICS | CI3: SOCIAL SCIENCE | CX3: WORK EXP. | DG3: ART EDU. | DP3: HEALTH & PHY. EDU. | DY3: Attendance | EB3: Statics | EI3: Remark | EJ3: Subject Wise Result | EP3: Total Grd "A" | EQ3: Total Grd "B" | ER3: Total Grd "C" | ES3: Total Grd "D" | ET3: Total Grd "E"
C4: Class - | G4: 6 | I4: Saction :- | J4: (A) | L4: 0 | AA4: 0 | AP4: 0 | BE4: 0 | BT4: 0 | CI4: 0 | DY4: Total Attendance | DZ4: Student's Attendance | EA4: Attandance % | EB4: Total Maximum Marks | EC4: Obtained Marks | ED4: Percentage | EE4: Overall Div. | EF4: Result | EH4: Position in Class
C5: Student Related Basic Details | L5: Tests | N5: Total Tests | O5: Half Yearly | S5: Yearly Exam | W5: Total Marks | X5: MARKS % | Z5: Grd | AA5: Tests | AC5: Total Tests | AD5: Half Yearly | AH5: Yearly Exam | AL5: Total Marks | AM5: MARKS % | AO5: Grd | AP5: Tests | AR5: Total Tests | AS5: Half Yearly | AW5: Yearly Exam | BA5: Total Marks | BB5: MARKS % | BD5: Grd | BE5: Tests | BG5: Total Tests | BH5: Half Yearly | BL5: Yearly Exam | BP5: Total Marks | BQ5: MARKS % | BS5: Grd | BT5: Tests | BV5: Total Tests | BW5: Half Yearly | CA5: Yearly Exam | CE5: Total Marks | CF5: MARKS % | CH5: Grd | CI5: Tests | CK5: Total Tests | CL5: Half Yearly | CP5: Yearly Exam | CT5: Total Marks | CU5: MARKS % | CW5: Grd | CX5: FIRST EVO. | CY5: SECOND EVO. | CZ5: THIRD EVO. | DA5: FOURTH EVO. | DB5: FIFTH EVO. | DC5: Total | DD5: MARKS % | DF5: Grd. | DG5: FIRST EVO. | DH5: SECOND EVO. | DI5: THIRD EVO. | DJ5: FOURTH EVO. | DK5: FIFTH EVO. | DL5: Total | DM5: MARKS % | DO5: Grd. | DP5: FIRST EVO. | DQ5: SECOND EVO. | DR5: THIRD EVO. | DS5: FOURTH EVO. | DT5: FIFTH EVO. | DU5: Total | DV5: MARKS % | DX5: Grd. | EJ5: Hindi | EK5: English | EL5: Sanskrit | EM5: Math | EN5: Science | EO5: social Science
C6: Sr. No. | D6: Class | E6: Scholar Number | F6: School Adm. Date | G6: Roll Number | H6: Student's Name | I6: Father's Name | J6: Mother's Name | K6: Date Of Birth | L6: First Test | M6: Second Test | O6: Written | P6: Internal Evo. | Q6: Oral | R6: Total H.Y. | S6: Written | T6: Internal Evo. | U6: Oral | V6: Total Yearly | Z6: A+/A/B/C/D | AA6: First Test | AB6: Second Test | AD6: Written | AE6: Internal Evo. | AF6: Oral | AG6: Total H.Y. | AH6: Written | AI6: Internal Evo. | AJ6: Oral | AK6: Total Yearly | AO6: A+/A/B/C/D | AP6: First Test | AQ6: Second Test | AS6: Written | AT6: Internal Evo. | AU6: oral | AV6: Total H.Y. | AW6: Written | AX6: Internal Evo. | AY6: Oral | AZ6: Total Yearly | BD6: A+/A/B/C/D | BE6: First Test | BF6: Second Test | BH6: Written | BI6: Internal Evo. | BJ6: Oral | BK6: Total H.Y. | BL6: Written | BM6: Internal Evo. | BN6: Oral | BO6: Total Yearly | BS6: A+/A/B/C/D | BT6: First Test | BU6: Second Test | BW6: Written | BX6: Internal Evo. | BY6: Oral | BZ6: Total H.Y. | CA6: Written | CB6: Internal Evo. | CC6: Oral | CD6: Total Yearly | CH6: A+/A/B/C/D | CI6: First Test | CJ6: Second Test | CL6: Written | CM6: Internal Evo. | CN6: Oral | CO6: Total H.Y. | CP6: Written | CQ6: Internal Evo. | CR6: Oral | CS6: Total Yearly | CW6: A+/A/B/C/D | DF6: A+/A/B/C/D | DO6: A+/A/B/C/D | DX6: A+/A/B/C/D
L7: 20 | M7: 20 | N7: =SUM(L7:M7) -> 40 | O7: 42 | P7: 12 | Q7: 6 | R7: =SUM(O7:Q7) -> 60 | S7: 50 | T7: 30 | U7: 20 | V7: =SUM(S7:U7) -> 100 | W7: =SUM(N7,R7,V7) -> 200 | AA7: 20 | AB7: 20 | AC7: =SUM(AA7:AB7) -> 40 | AD7: 42 | AE7: 12 | AF7: 6 | AG7: =SUM(AD7:AF7) -> 60 | AH7: 50 | AI7: 30 | AJ7: 20 | AK7: =SUM(AH7:AJ7) -> 100 | AL7: =SUM(AC7,AG7,AK7) -> 200 | AP7: 20 | AQ7: 20 | AR7: =SUM(AP7:AQ7) -> 40 | AS7: 42 | AT7: 12 | AU7: 6 | AV7: =IF(AU7="NA",AS7,(AS7+AT7+AU7)) -> 60 | AW7: 50 | AX7: 30 | AY7: 20 | AZ7: =IF(AY7="NA",AW7,(AW7+AX7+AY7)) -> 100 | BA7: =SUM(AR7,AV7,AZ7) -> 200 | BE7: 20 | BF7: 20 | BG7: =SUM(BE7:BF7) -> 40 | BH7: 42 | BI7: 12 | BJ7: 6 | BK7: =IF(BJ7="NA",BH7,(BH7+BI7+BJ7)) -> 60 | BL7: 50 | BM7: 30 | BN7: 20 | BO7: =IF(BN7="NA",BL7,(BL7+BM7+BN7)) -> 100 | BP7: =SUM(BG7,BK7,BO7) -> 200 | BT7: 20 | BU7: 20 | BV7: =SUM(BT7:BU7) -> 40 | BW7: 42 | BX7: 12 | BY7: 6 | BZ7: =IF(BY7="NA",BW7,(BW7+BX7+BY7)) -> 60 | CA7: 50 | CB7: 30 | CC7: 20 | CD7: =IF(CC7="NA",CA7,(CA7+CB7+CC7)) -> 100 | CE7: =SUM(BV7,BZ7,CD7) -> 200 | CI7: 20 | CJ7: 20 | CK7: =SUM(CI7:CJ7) -> 40 | CL7: 42 | CM7: 12 | CN7: 6 | CO7: =IF(CN7="NA",CL7,(CL7+CM7+CN7)) -> 60 | CP7: 50 | CQ7: 30 | CR7: 20 | CS7: =IF(CR7="NA",CP7,(CP7+CQ7+CR7)) -> 100 | CT7: =SUM(CK7,CO7,CS7) -> 200 | CX7: 20 | CY7: 20 | CZ7: 20 | DA7: 20 | DB7: 20 | DC7: =SUM(CX7:DB7) -> 100 | DG7: 20 | DH7: 20 | DI7: 20 | DJ7: 20 | DK7: 20 | DL7: =SUM(DG7:DK7) -> 100 | DP7: 20 | DQ7: 20 | DR7: 20 | DS7: 20 | DT7: 20 | DU7: =SUM(DP7:DT7) -> 100 | EW7: WORK EXP. | FA7: ART | FE7: H & PHY EDU
C8: 0 | D8: 0 | E8: 0 | F8: 0 | H8: 0 | I8: 0 | J8: 0 | K8: 0 | N8: =SUM(L8:M8) -> 0 | O8: 0 | P8: =IF($P$7="NA",O8,IF($P$7<=100,ROUNDUP(O8*$P$7/$O$7,0))) -> 0 | R8: =SUM(N8,O8) -> 0 | S8: =SUM(#REF!,P8) -> #REF! | T8: 0 | V8: 0 | W8: =IF($T$7="NA",#REF!+P8+V8,#REF!+P8+T8) -> #REF! | X8: =IF(OR(W8="",$W$7=""),"",ROUNDUP(W8/$W$7*100,0)) -> #REF! | Z8: =IF(OR(#REF!="",#REF!=0,#REF!="S",#REF!="F",#REF!="AB"),#REF!,IF(X8>=75,"D",IF(X8>=60,"I",IF(X8>=48,"II",IF(X8>=36,"III",#REF!))))) -> #REF! | AC8: =SUM(AA8:AB8) -> 0 | AD8: 0 | AE8: =IF($P$7="NA",AD8,IF($P$7<=100,ROUNDUP(AD8*$P$7/$O$7,0))) -> 0 | AG8: =SUM(AC8,AD8) -> 0 | AH8: =SUM(#REF!,AE8) -> #REF! | AI8: 0 | AK8: 0 | AL8: =IF($T$7="NA",#REF!+AE8+AK8,#REF!+AE8+AI8) -> #REF! | AM8: =IF(OR(AL8="",$W$7=""),"",ROUNDUP(AL8/$W$7*100,0)) -> #REF! | AO8: =IF(OR(#REF!="",#REF!=0,#REF!="S",#REF!="F",#REF!="AB"),#REF!,IF(AM8>=75,"D",IF(AM8>=60,"I",IF(AM8>=48,"II",IF(AM8>=36,"III",#REF!))))) -> #REF! | AR8: =SUM(AP8:AQ8) -> 0 | AS8: 0 | AU8: =IF($P$7="NA",AS8,IF($P$7<=100,ROUNDUP(AS8*$P$7/$O$7,0))) -> 0 | AV8: =SUM(AR8,AS8) -> 0 | AW8: =SUM(#REF!,AU8) -> #REF! | AY8: 0 | AZ8: 0 | BA8: =IF($T$7="NA",#REF!+AU8+AZ8,#REF!+AU8+AY8) -> #REF! | BB8: =IF(OR(BA8="",$W$7=""),"",ROUNDUP(BA8/$W$7*100,0)) -> #REF! | BD8: =IF(OR(#REF!="",#REF!=0,#REF!="S",#REF!="F",#REF!="AB"),#REF!,IF(BB8>=75,"D",IF(BB8>=60,"I",IF(BB8>=48,"II",IF(BB8>=36,"III",#REF!))))) -> #REF! | BG8: =SUM(BE8:BF8) -> 0 | BH8: 0 | BJ8: =IF($P$7="NA",BH8,IF($P$7<=100,ROUNDUP(BH8*$P$7/$O$7,0))) -> 0 | BK8: =SUM(BG8,BH8) -> 0 | BL8: =SUM(#REF!,BJ8) -> #REF! | BN8: 0 | BO8: 0 | BP8: =IF($T$7="NA",#REF!+BJ8+BO8,#REF!+BJ8+BN8) -> #REF! | BQ8: =IF(OR(BP8="",$W$7=""),"",ROUNDUP(BP8/$W$7*100,0)) -> #REF! | BS8: =IF(OR(#REF!="",#REF!=0,#REF!="S",#REF!="F",#REF!="AB"),#REF!,IF(BQ8>=75,"D",IF(BQ8>=60,"I",IF(BQ8>=48,"II",IF(BQ8>=36,"III",#REF!))))) -> #REF! | BV8: =SUM(BT8:BU8) -> 0 | BW8: 0 | BY8: =IF($P$7="NA",BW8,IF($P$7<=100,ROUNDUP(BW8*$P$7/$O$7,0))) -> 0 | BZ8: =SUM(BV8,BW8) -> 0 | CA8: =SUM(#REF!,BY8) -> #REF! | CC8: 0 | CD8: 0 | CE8: =IF($T$7="NA",#REF!+BY8+CD8,#REF!+BY8+CC8) -> #REF! | CF8: =IF(OR(CE8="",$W$7=""),"",ROUNDUP(CE8/$W$7*100,0)) -> #REF! | CH8: =IF(OR(#REF!="",#REF!=0,#REF!="S",#REF!="F",#REF!="AB"),#REF!,IF(CF8>=75,"D",IF(CF8>=60,"I",IF(CF8>=48,"II",IF(CF8>=36,"III",#REF!))))) -> #REF! | CK8: =SUM(CI8:CJ8) -> 0 | CL8: 0 | CM8: =IF($P$7="NA",CL8,IF($P$7<=100,ROUNDUP(CL8*$P$7/$O$7,0))) -> 0 | CO8: =SUM(CK8,CL8) -> 0 | CP8: =SUM(#REF!,CM8) -> #REF! | CR8: 0 | CS8: 0 | CT8: =IF($T$7="NA",#REF!+CM8+CS8,#REF!+CM8+CR8) -> #REF! | CU8: =IF(OR(CT8="",$W$7=""),"",ROUNDUP(CT8/$W$7*100,0)) -> #REF! | CW8: =IF(OR(#REF!="",#REF!=0,#REF!="S",#REF!="F",#REF!="AB"),#REF!,IF(CU8>=75,"D",IF(CU8>=60,"I",IF(CU8>=48,"II",IF(CU8>=36,"III",#REF!))))) -> #REF! | CX8: 0 | CY8: 0 | CZ8: 0 | DC8: 0 | DF8: 0 | DG8: 0 | DH8: 0 | DI8: 0 | DL8: 0 | DO8: 0 | DP8: 0 | DQ8: 0 | DR8: 0 | DU8: 0 | DX8: 0 | DY8: 0 | DZ8: 0 | EA8: 0 | EB8: 0 | EC8: 0 | ED8: 0 | EE8: =IF(AND(ED8>=60,EF8="Pass"),"First",IF(AND(ED8>=60,EF8="Pass With G"),"First",IF(AND(ED8>=48,EF8="Pass"),"Second;",IF(AND(ED8>=48,EF8="Pass With G"),"Second",IF(OR(EF8="Pass",EF8="Pass With G"),"Third",EF8))))) | EF8: =IF($G8="NSO","NSO",IF(OR($G8="",$G8=0,O8="",AD8="",AS8="",BH8="",BW8="",CL8=""),"",IF(OR(#REF!>0,(#REF!+#REF!+#REF!)>2),"FAIL",IF(OR(#REF!>0,#REF!>1),"SUPP.",IF(AND(#REF!>0,#REF!>0),"SUPP.",IF((#REF!+#REF!),"PASS With G","PASS")))))) | EH8: 0 | EI8: =IF(ED8>81,"Excellent",IF(ED8>60,"Verry Good",IF(ED8>48,"Good",IF(ED8>36,"Average",IF(ED8=0,0,"Need Improvement"))))) -> 0 | EJ8: =Z8 -> #REF! | EK8: =AO8 -> #REF! | EL8: =BD8 -> #REF! | EM8: =BS8 -> #REF! | EN8: =CH8 -> #REF! | EO8: =CW8 -> #REF!
A9: =G9 -> 901 | B9: 1 | C9: 1 | D9: =IF(E9>0,$G$4,0) -> 6 | E9: 793 | F9: 41876 | G9: 901 | H9: ABHISHEK | I9: RAMU KHAN | J9: SEEPA DEVI | K9: 38555 | L9: 2 | M9: 10 | N9: =SUM(L9:M9) -> 12 | O9: 30 | P9: 10 | Q9: 5 | R9: =IF(O9="AB","AB",IF(O9="ML","ML",SUM(O9:Q9))) -> 45 | S9: 38 | T9: 20 | U9: 15 | V9: =IF(AND(S9="",T9="",U9=""),"",IF(OR(S9="AB",T9="AB",U9=""),"AB",IF(OR(S9="ML",T9="ML",U9=""),"ML",SUM(S9:U9)))) -> 73 | W9: =SUM(N9,R9,V9) -> 130 | X9: =IF(OR(W9="",W$7=""),"",W9/W$7*100) -> 65 | Y9: =IF($G9="nso","NSO",IF(V9="ab",V9,IF(V9="ML",V9,IF(X9>=86,"A",IF(X9>=71,"B",IF(X9>=51,"C",IF(X9>=31,"D","E"))))))) -> C | Z9: =IF($G9>0,Y9,$G9) -> C | AA9: 15 | AB9: 15 | AC9: =SUM(AA9:AB9) -> 30 | AD9: 30 | AE9: 10 | AF9: 5 | AG9: =IF(AD9="AB","AB",IF(AD9="ML","ML",SUM(AD9:AF9))) -> 45 | AH9: 38 | AI9: 20 | AJ9: 20 | AK9: =IF(AND(AH9="",AI9="",AJ9=""),"",IF(OR(AH9="AB",AI9="AB",AJ9=""),"AB",IF(OR(AH9="ML",AI9="ML",AJ9=""),"ML",SUM(AH9:AJ9)))) -> 78 | AL9: =SUM(AC9,AG9,AK9) -> 153 | AM9: =IF(OR(AL9="",AL$7=""),"",AL9/AL$7*100) -> 76.5 | AN9: =IF($G9="nso","NSO",IF(AK9="ab",AK9,IF(AK9="ML",AK9,IF(AM9>=86,"A",IF(AM9>=71,"B",IF(AM9>=51,"C",IF(AM9>=31,"D","E"))))))) -> B | AO9: =IF($G9>0,AN9,$G9) -> B | AP9: 10 | AQ9: 10 | AR9: =SUM(AP9:AQ9) -> 20 | AS9: 48 | AT9: 12 | AU9: 5 | AV9: =IF(AS9="AB","AB",IF(AS9="ML","ML",SUM(AS9:AU9))) -> 65 | AW9: 38 | AX9: 20 | AY9: 10 | AZ9: =IF(AND(AW9="",AX9="",AY9=""),"",IF(OR(AW9="AB",AX9="AB",AY9=""),"AB",IF(OR(AW9="ML",AX9="ML",AY9=""),"ML",SUM(AW9:AY9)))) -> 68 | BA9: =SUM(AR9,AV9,AZ9) -> 153 | BB9: =IF(OR(BA9="",BA$7=""),"",BA9/BA$7*100) -> 76.5 | BC9: =IF($G9="nso","NSO",IF(AZ9="ab",AZ9,IF(AZ9="ML",AZ9,IF(BB9>=86,"A",IF(BB9>=71,"B",IF(BB9>=51,"C",IF(BB9>=31,"D","E"))))))) -> B | BD9: =IF($G9>0,BC9,$G9) -> B | BE9: 15 | BF9: 15 | BG9: =SUM(BE9:BF9) -> 30 | BH9: 48 | BI9: 12 | BJ9: 5 | BK9: =IF(BH9="AB","AB",IF(BH9="ML","ML",SUM(BH9:BJ9))) -> 65 | BL9: 38 | BM9: 20 | BN9: 15 | BO9: =IF(AND(BL9="",BM9="",BN9=""),"",IF(OR(BL9="AB",BM9="AB",BN9=""),"AB",IF(OR(BL9="ML",BM9="ML",BN9=""),"ML",SUM(BL9:BN9)))) -> 73 | BP9: =SUM(BG9,BK9,BO9) -> 168 | BQ9: =IF(OR(BP9="",BP$7=""),"",BP9/BP$7*100) -> 84 | BR9: =IF($G9="nso","NSO",IF(BO9="ab",BO9,IF(BO9="ML",BO9,IF(BQ9>=86,"A",IF(BQ9>=71,"B",IF(BQ9>=51,"C",IF(BQ9>=31,"D","E"))))))) -> B | BS9: =IF($G9>0,BR9,$G9) -> B | BT9: 20 | BU9: 10 | BV9: =SUM(BT9:BU9) -> 30 | BW9: 40 | BX9: 12 | BY9: 4 | BZ9: =IF(BW9="AB","AB",IF(BW9="ML","ML",SUM(BW9:BY9))) -> 56 | CA9: 38 | CB9: 20 | CC9: 15 | CD9: =IF(AND(CA9="",CB9="",CC9=""),"",IF(OR(CA9="AB",CB9="AB",CC9=""),"AB",IF(OR(CA9="ML",CB9="ML",CC9=""),"ML",SUM(CA9:CC9)))) -> 73 | CE9: =SUM(BV9,BZ9,CD9) -> 159 | CF9: =IF(OR(CE9="",CE$7=""),"",CE9/CE$7*100) -> 79.5 | CG9: =IF($G9="nso","NSO",IF(CD9="ab",CD9,IF(CD9="ML",CD9,IF(CF9>=86,"A",IF(CF9>=71,"B",IF(CF9>=51,"C",IF(CF9>=31,"D","E"))))))) -> B | CH9: =IF($G9>0,CG9,$G9) -> B | CI9: 4 | CJ9: 18 | CK9: =SUM(CI9:CJ9) -> 22 | CL9: 40 | CM9: 10 | CN9: 5 | CO9: =IF(CL9="AB","AB",IF(CL9="ML","ML",SUM(CL9:CN9))) -> 55 | CP9: 38 | CQ9: 20 | CR9: 17 | CS9: =IF(AND(CP9="",CQ9="",CR9=""),"",IF(OR(CP9="AB",CQ9="AB",CR9=""),"AB",IF(OR(CP9="ML",CQ9="ML",CR9=""),"ML",SUM(CP9:CR9)))) -> 75 | CT9: =SUM(CK9,CO9,CS9) -> 152 | CU9: =IF(OR(CT9="",CT$7=""),"",CT9/CT$7*100) -> 76 | CV9: =IF($G9="nso","NSO",IF(CS9="ab",CS9,IF(CS9="ML",CS9,IF(CU9>=86,"A",IF(CU9>=71,"B",IF(CU9>=51,"C",IF(CU9>=31,"D","E"))))))) -> B | CW9: =IF($G9>0,CV9,$G9) -> B | CX9: 15 | CY9: 40 | CZ9: 11 | DA9: 20 | DB9: 10 | DC9: =SUM(CX9:DB9) -> 96 | DD9: =IF(OR(DC9="",DC$7=""),"",DC9/DC$7*100) -> 96 | DE9: =IF($G9="nso","NSO",IF(DB9="ab",DB9,IF(DB9="ML",DB9,IF(DD9>=91,"A+",IF(DD9>=76,"A",IF(DD9>=61,"B",IF(DD9>=41,"C","D"))))))) -> A+ | DF9: =IF($G9>0,DE9,$G9) -> A+ | DG9: 15 | DH9: 40 | DI9: 11 | DJ9: 10 | DK9: 10 | DL9: =SUM(DG9:DK9) -> 86 | DM9: =IF(OR(DL9="",DL$7=""),"",DL9/DL$7*100) -> 86 | DN9: =IF($G9="nso","NSO",IF(DK9="ab",DK9,IF(DK9="ML",DK9,IF(DM9>=91,"A+",IF(DM9>=76,"A",IF(DM9>=61,"B",IF(DM9>=41,"C","D"))))))) -> A | DO9: =IF($G9>0,DN9,$G9) -> A | DP9: 15 | DQ9: 40 | DR9: 11 | DS9: 10 | DT9: 10 | DU9: =SUM(DP9:DT9) -> 86 | DV9: =IF(OR(DU9="",DU$7=""),"",DU9/DU$7*100) -> 86 | DW9: =IF($G9="nso","NSO",IF(DT9="ab",DT9,IF(DT9="ML",DT9,IF(DV9>=91,"A+",IF(DV9>=76,"A",IF(DV9>=61,"B",IF(DV9>=41,"C","D"))))))) -> A | DX9: =IF($G9>0,DW9,$G9) -> A | DY9: 362 | DZ9: 274 | EA9: =IF(OR(DY9="",DZ9=""),"",DZ9/DY9*100) -> 75.690608 | EB9: =IF(G9=0,0,SUM($W$7,$AL$7,$BA$7,$BP$7,$CE$7,$CT$7)) -> 1200 | EC9: =SUM(W9,AL9,BA9,BP9,CE9,CT9) -> 915 | ED9: =IF(EB9>0,EC9/EB9*100,0) -> 76.25 | EE9: =IF(AND(ED9>=60,EF9="Passed"),"First",IF(AND(ED9>=48,EF9="Passed"),"Second",IF(OR(EF9="passed"),"Third",EF9))) -> First | EF9: =IF($G9="NSO","NSO",IF($G9="tc","Transferred",IF($ET9>2,"Promoted",IF(ED9=0,"","Passed")))) -> Passed | EG9: =IF(EF9="Passed",ED9,"") -> 76.25 | EH9: =IF(EG9="","",SUMPRODUCT((EG9<EG$9:EG$108)/COUNTIF(EG$9:EG$108,EG$9:EG$108))) -> 1 | EI9: =IF(ED9>81,"Excellent",IF(ED9>60,"Very Good",IF(ED9>48,"Good",IF(ED9>36,"Average",IF(ED9=0,0,"Need Improvement"))))) -> Very Good | EJ9: =Z9 -> C | EK9: =AO9 -> B | EL9: =BD9 -> B | EM9: =BS9 -> B | EN9: =CH9 -> B | EO9: =CW9 -> B | EP9: =COUNTIF($EJ9:$EO9,"A") -> 0 | EQ9: =COUNTIF($EJ9:$EO9,"B") -> 5 | ER9: =COUNTIF($EJ9:$EO9,"C") -> 1 | ES9: =COUNTIF($EJ9:$EO9,"D") -> 0 | ET9: =COUNTIF($EJ9:$EO9,"E") -> 0 | EW9: =DC9 -> 96 | EX9: / | EY9: =$DC$7 -> 100 | EZ9: =CONCATENATE(EW9,EX9,EY9) -> 96/100 | FA9: =DL9 -> 86 | FB9: / | FC9: =$DL$7 -> 100 | FD9: =CONCATENATE(FA9,FB9,FC9) -> 86/100 | FE9: =DU9 -> 86 | FF9: / | FG9: =$DU$7 -> 100 | FH9: =CONCATENATE(FE9,FF9,FG9) -> 86/100
A10: =G10 -> 902 | B10: 2 | C10: 2 | D10: =IF(E10>0,$G$4,0) -> 6 | E10: 1490 | F10: 43658 | G10: 902 | H10: ACHALA RAM | I10: HEMA RAM | J10: TULACHHI DEVI | K10: 38535 | L10: 14 | M10: 14 | N10: =SUM(L10:M10) -> 28 | O10: 25 | P10: 10 | Q10: 5 | R10: =IF(O10="AB","AB",IF(O10="ML","ML",SUM(O10:Q10))) -> 40 | S10: 35 | T10: 10 | U10: 10 | V10: =IF(AND(S10="",T10="",U10=""),"",IF(OR(S10="AB",T10="AB",U10=""),"AB",IF(OR(S10="ML",T10="ML",U10=""),"ML",SUM(S10:U10)))) -> 55 | W10: =SUM(N10,R10,V10) -> 123 | X10: =IF(OR(W10="",W$7=""),"",W10/W$7*100) -> 61.5 | Y10: =IF($G10="nso","NSO",IF(V10="ab",V10,IF(V10="ML",V10,IF(X10>=86,"A",IF(X10>=71,"B",IF(X10>=51,"C",IF(X10>=31,"D","E"))))))) -> C | Z10: =IF($G10>0,Y10,$G10) -> C | AA10: 10 | AB10: 10 | AC10: =SUM(AA10:AB10) -> 20 | AD10: 30 | AE10: 10 | AF10: 5 | AG10: =IF(AD10="AB","AB",IF(AD10="ML","ML",SUM(AD10:AF10))) -> 45 | AH10: 25 | AI10: 10 | AJ10: 20 | AK10: =IF(AND(AH10="",AI10="",AJ10=""),"",IF(OR(AH10="AB",AI10="AB",AJ10=""),"AB",IF(OR(AH10="ML",AI10="ML",AJ10=""),"ML",SUM(AH10:AJ10)))) -> 55 | AL10: =SUM(AC10,AG10,AK10) -> 120 | AM10: =IF(OR(AL10="",AL$7=""),"",AL10/AL$7*100) -> 60 | AN10: =IF($G10="nso","NSO",IF(AK10="ab",AK10,IF(AK10="ML",AK10,IF(AM10>=86,"A",IF(AM10>=71,"B",IF(AM10>=51,"C",IF(AM10>=31,"D","E"))))))) -> C | AO10: =IF($G10>0,AN10,$G10) -> C | AP10: 5 | AQ10: 15 | AR10: =SUM(AP10:AQ10) -> 20 | AS10: 38 | AT10: 10 | AU10: 5 | AV10: =IF(AS10="AB","AB",IF(AS10="ML","ML",SUM(AS10:AU10))) -> 53 | AW10: 38 | AX10: 20 | AY10: 5 | AZ10: =IF(AND(AW10="",AX10="",AY10=""),"",IF(OR(AW10="AB",AX10="AB",AY10=""),"AB",IF(OR(AW10="ML",AX10="ML",AY10=""),"ML",SUM(AW10:AY10)))) -> 63 | BA10: =SUM(AR10,AV10,AZ10) -> 136 | BB10: =IF(OR(BA10="",BA$7=""),"",BA10/BA$7*100) -> 68 | BC10: =IF($G10="nso","NSO",IF(AZ10="ab",AZ10,IF(AZ10="ML",AZ10,IF(BB10>=86,"A",IF(BB10>=71,"B",IF(BB10>=51,"C",IF(BB10>=31,"D","E"))))))) -> C | BD10: =IF($G10>0,BC10,$G10) -> C | BE10: 10 | BF10: 15 | BG10: =SUM(BE10:BF10) -> 25 | BH10: 40 | BI10: 10 | BJ10: 5 | BK10: =IF(BH10="AB","AB",IF(BH10="ML","ML",SUM(BH10:BJ10))) -> 55 | BL10: 48 | BM10: 20 | BN10: 10 | BO10: =IF(AND(BL10="",BM10="",BN10=""),"",IF(OR(BL10="AB",BM10="AB",BN10=""),"AB",IF(OR(BL10="ML",BM10="ML",BN10=""),"ML",SUM(BL10:BN10)))) -> 78 | BP10: =SUM(BG10,BK10,BO10) -> 158 | BQ10: =IF(OR(BP10="",BP$7=""),"",BP10/BP$7*100) -> 79 | BR10: =IF($G10="nso","NSO",IF(BO10="ab",BO10,IF(BO10="ML",BO10,IF(BQ10>=86,"A",IF(BQ10>=71,"B",IF(BQ10>=51,"C",IF(BQ10>=31,"D","E"))))))) -> B | BS10: =IF($G10>0,BR10,$G10) -> B | BT10: 10 | BU10: 15 | BV10: =SUM(BT10:BU10) -> 25 | BW10: 35 | BX10: 10 | BY10: 5 | BZ10: =IF(BW10="AB","AB",IF(BW10="ML","ML",SUM(BW10:BY10))) -> 50 | CA10: 35 | CB10: 10 | CC10: 15 | CD10: =IF(AND(CA10="",CB10="",CC10=""),"",IF(OR(CA10="AB",CB10="AB",CC10=""),"AB",IF(OR(CA10="ML",CB10="ML",CC10=""),"ML",SUM(CA10:CC10)))) -> 60 | CE10: =SUM(BV10,BZ10,CD10) -> 135 | CF10: =IF(OR(CE10="",CE$7=""),"",CE10/CE$7*100) -> 67.5 | CG10: =IF($G10="nso","NSO",IF(CD10="ab",CD10,IF(CD10="ML",CD10,IF(CF10>=86,"A",IF(CF10>=71,"B",IF(CF10>=51,"C",IF(CF10>=31,"D","E"))))))) -> C | CH10: =IF($G10>0,CG10,$G10) -> C | CI10: 5 | CJ10: 10 | CK10: =SUM(CI10:CJ10) -> 15 | CL10: 15 | CM10: 10 | CN10: 5 | CO10: =IF(CL10="AB","AB",IF(CL10="ML","ML",SUM(CL10:CN10))) -> 30 | CP10: 50 | CQ10: 20 | CR10: 15 | CS10: =IF(AND(CP10="",CQ10="",CR10=""),"",IF(OR(CP10="AB",CQ10="AB",CR10=""),"AB",IF(OR(CP10="ML",CQ10="ML",CR10=""),"ML",SUM(CP10:CR10)))) -> 85 | CT10: =SUM(CK10,CO10,CS10) -> 130 | CU10: =IF(OR(CT10="",CT$7=""),"",CT10/CT$7*100) -> 65 | CV10: =IF($G10="nso","NSO",IF(CS10="ab",CS10,IF(CS10="ML",CS10,IF(CU10>=86,"A",IF(CU10>=71,"B",IF(CU10>=51,"C",IF(CU10>=31,"D","E"))))))) -> C | CW10: =IF($G10>0,CV10,$G10) -> C | CX10: 10 | CY10: 10 | CZ10: 10 | DA10: 10 | DB10: 10 | DC10: =SUM(CX10:DB10) -> 50 | DD10: =IF(OR(DC10="",DC$7=""),"",DC10/DC$7*100) -> 50 | DE10: =IF(DD10>91,"A+",IF(DD10>76,"A",IF(DD10>61,"B",IF(DD10>41,"C","D")))) -> C | DF10: =IF($G10>0,DE10,$G10) -> C | DG10: 10 | DH10: 15 | DI10: 20 | DJ10: 20 | DK10: 15 | DL10: =SUM(DG10:DK10) -> 80 | DM10: =IF(OR(DL10="",DL$7=""),"",DL10/DL$7*100) -> 80 | DN10: =IF($G10="nso","NSO",IF(DK10="ab",DK10,IF(DK10="ML",DK10,IF(DM10>=91,"A+",IF(DM10>=76,"A",IF(DM10>=61,"B",IF(DM10>=41,"C","D"))))))) -> A | DO10: =IF($G10>0,DN10,$G10) -> A | DP10: 15 | DQ10: 15 | DR10: 15 | DS10: 15 | DT10: 15 | DU10: =SUM(DP10:DT10) -> 75 | DV10: =IF(OR(DU10="",DU$7=""),"",DU10/DU$7*100) -> 75 | DW10: =IF($G10="nso","NSO",IF(DT10="ab",DT10,IF(DT10="ML",DT10,IF(DV10>=91,"A+",IF(DV10>=76,"A",IF(DV10>=61,"B",IF(DV10>=41,"C","D"))))))) -> B | DX10: =IF($G10>0,DW10,$G10) -> B | EA10: =IF(OR(DY10="",DZ10=""),"",DZ10/DY10*100) | EB10: =IF(G10=0,0,SUM($W$7,$AL$7,$BA$7,$BP$7,$CE$7,$CT$7)) -> 1200 | EC10: =SUM(W10,AL10,BA10,BP10,CE10,CT10) -> 802 | ED10: =IF(EB10>0,EC10/EB10*100,0) -> 66.833333 | EE10: =IF(AND(ED10>=60,EF10="Passed"),"First",IF(AND(ED10>=48,EF10="Passed"),"Second",IF(OR(EF10="passed"),"Third",EF10))) -> First | EF10: =IF($G10="NSO","NSO",IF($G10="tc","Transferred",IF($ET10>2,"Promoted",IF(ED10=0,"","Passed")))) -> Passed | EG10: =IF(EF10="Passed",ED10,"") -> 66.833333 | EH10: =IF(EG10="","",SUMPRODUCT((EG10<EG$9:EG$108)/COUNTIF(EG$9:EG$108,EG$9:EG$108))) -> 2 | EI10: =IF(ED10>81,"Excellent",IF(ED10>60,"Very Good",IF(ED10>48,"Good",IF(ED10>36,"Average",IF(ED10=0,0,"Need Improvement"))))) -> Very Good | EJ10: =Z10 -> C | EK10: =AO10 -> C | EL10: =BD10 -> C | EM10: =BS10 -> B | EN10: =CH10 -> C | EO10: =CW10 -> C | EP10: =COUNTIF($EJ10:$EO10,"A") -> 0 | EQ10: =COUNTIF($EJ10:$EO10,"B") -> 1 | ER10: =COUNTIF($EJ10:$EO10,"C") -> 5 | ES10: =COUNTIF($EJ10:$EO10,"D") -> 0 | ET10: =COUNTIF($EJ10:$EO10,"E") -> 0 | EW10: =DC10 -> 50 | EX10: / | EY10: =$DC$7 -> 100 | EZ10: =CONCATENATE(EW10,EX10,EY10) -> 50/100 | FA10: =DL10 -> 80 | FB10: / | FC10: =$DL$7 -> 100 | FD10: =CONCATENATE(FA10,FB10,FC10) -> 80/100 | FE10: =DU10 -> 75 | FF10: / | FG10: =$DU$7 -> 100 | FH10: =CONCATENATE(FE10,FF10,FG10) -> 75/100
A11: =G11 -> 903 | B11: 3 | C11: 3 | D11: =IF(E11>0,$G$4,0) -> 6 | E11: 1458 | F11: 43651 | G11: 903 | H11: ANITA | I11: DUDA RAM | J11: SUKHI | K11: 38893 | L11: 0 | M11: 0 | N11: =SUM(L11:M11) -> 0 | O11: 0 | P11: 0 | Q11: 0 | R11: =IF(O11="AB","AB",IF(O11="ML","ML",SUM(O11:Q11))) -> 0 | S11: 0 | T11: =IF($T$7="NA","NA",0) -> 0 | U11: 0 | V11: =IF(AND(S11="",T11="",U11=""),"",IF(OR(S11="AB",T11="AB",U11=""),"AB",IF(OR(S11="ML",T11="ML",U11=""),"ML",SUM(S11:U11)))) -> 0 | W11: =SUM(N11,R11,V11) -> 0 | X11: =IF(OR(W11="",W$7=""),"",W11/W$7*100) -> 0 | Y11: =IF($G11="nso","NSO",IF(V11="ab",V11,IF(V11="ML",V11,IF(X11>=86,"A",IF(X11>=71,"B",IF(X11>=51,"C",IF(X11>=31,"D","E"))))))) -> E | Z11: =IF($G11>0,Y11,$G11) -> E | AA11: 0 | AB11: 0 | AC11: =SUM(AA11:AB11) -> 0 | AD11: 0 | AE11: 0 | AF11: 0 | AG11: =IF(AD11="AB","AB",IF(AD11="ML","ML",SUM(AD11:AF11))) -> 0 | AH11: 0 | AI11: =IF($T$7="NA","NA",0) -> 0 | AJ11: 0 | AK11: =IF(AND(AH11="",AI11="",AJ11=""),"",IF(OR(AH11="AB",AI11="AB",AJ11=""),"AB",IF(OR(AH11="ML",AI11="ML",AJ11=""),"ML",SUM(AH11:AJ11)))) -> 0 | AL11: =SUM(AC11,AG11,AK11) -> 0 | AM11: =IF(OR(AL11="",AL$7=""),"",AL11/AL$7*100) -> 0 | AN11: =IF($G11="nso","NSO",IF(AK11="ab",AK11,IF(AK11="ML",AK11,IF(AM11>=86,"A",IF(AM11>=71,"B",IF(AM11>=51,"C",IF(AM11>=31,"D","E"))))))) -> E | AO11: =IF($G11>0,AN11,$G11) -> E | AP11: 0 | AQ11: 0 | AR11: =SUM(AP11:AQ11) -> 0 | AS11: 0 | AT11: 0 | AU11: 0 | AV11: =IF(AS11="AB","AB",IF(AS11="ML","ML",SUM(AS11:AU11))) -> 0 | AW11: 0 | AX11: 0 | AY11: 0 | AZ11: =IF(AND(AW11="",AX11="",AY11=""),"",IF(OR(AW11="AB",AX11="AB",AY11=""),"AB",IF(OR(AW11="ML",AX11="ML",AY11=""),"ML",SUM(AW11:AY11)))) -> 0 | BA11: =SUM(AR11,AV11,AZ11) -> 0 | BB11: =IF(OR(BA11="",BA$7=""),"",BA11/BA$7*100) -> 0 | BC11: =IF($G11="nso","NSO",IF(AZ11="ab",AZ11,IF(AZ11="ML",AZ11,IF(BB11>=86,"A",IF(BB11>=71,"B",IF(BB11>=51,"C",IF(BB11>=31,"D","E"))))))) -> E | BD11: =IF($G11>0,BC11,$G11) -> E | BE11: 0 | BF11: 0 | BG11: =SUM(BE11:BF11) -> 0 | BH11: 0 | BI11: 0 | BJ11: 0 | BK11: =IF(BH11="AB","AB",IF(BH11="ML","ML",SUM(BH11:BJ11))) -> 0 | BL11: 0 | BM11: 0 | BN11: 0 | BO11: =IF(AND(BL11="",BM11="",BN11=""),"",IF(OR(BL11="AB",BM11="AB",BN11=""),"AB",IF(OR(BL11="ML",BM11="ML",BN11=""),"ML",SUM(BL11:BN11)))) -> 0 | BP11: =SUM(BG11,BK11,BO11) -> 0 | BQ11: =IF(OR(BP11="",BP$7=""),"",BP11/BP$7*100) -> 0 | BR11: =IF($G11="nso","NSO",IF(BO11="ab",BO11,IF(BO11="ML",BO11,IF(BQ11>=86,"A",IF(BQ11>=71,"B",IF(BQ11>=51,"C",IF(BQ11>=31,"D","E"))))))) -> E | BS11: =IF($G11>0,BR11,$G11) -> E | BT11: 0 | BU11: 0 | BV11: =SUM(BT11:BU11) -> 0 | BW11: 0 | BX11: 0 | BY11: 0 | BZ11: =IF(BW11="AB","AB",IF(BW11="ML","ML",SUM(BW11:BY11))) -> 0 | CA11: 0 | CB11: 0 | CC11: 0 | CD11: =IF(AND(CA11="",CB11="",CC11=""),"",IF(OR(CA11="AB",CB11="AB",CC11=""),"AB",IF(OR(CA11="ML",CB11="ML",CC11=""),"ML",SUM(CA11:CC11)))) -> 0 | CE11: =SUM(BV11,BZ11,CD11) -> 0 | CF11: =IF(OR(CE11="",CE$7=""),"",CE11/CE$7*100) -> 0 | CG11: =IF($G11="nso","NSO",IF(CD11="ab",CD11,IF(CD11="ML",CD11,IF(CF11>=86,"A",IF(CF11>=71,"B",IF(CF11>=51,"C",IF(CF11>=31,"D","E"))))))) -> E | CH11: =IF($G11>0,CG11,$G11) -> E | CI11: 0 | CJ11: 0 | CK11: =SUM(CI11:CJ11) -> 0 | CL11: 0 | CM11: 0 | CN11: 0 | CO11: =IF(CL11="AB","AB",IF(CL11="ML","ML",SUM(CL11:CN11))) -> 0 | CP11: 0 | CQ11: 0 | CR11: =IF($T$7="NA","NA",0) -> 0 | CS11: =IF(AND(CP11="",CQ11="",CR11=""),"",IF(OR(CP11="AB",CQ11="AB",CR11=""),"AB",IF(OR(CP11="ML",CQ11="ML",CR11=""),"ML",SUM(CP11:CR11)))) -> 0 | CT11: =SUM(CK11,CO11,CS11) -> 0 | CU11: =IF(OR(CT11="",CT$7=""),"",CT11/CT$7*100) -> 0 | CV11: =IF($G11="nso","NSO",IF(CS11="ab",CS11,IF(CS11="ML",CS11,IF(CU11>=86,"A",IF(CU11>=71,"B",IF(CU11>=51,"C",IF(CU11>=31,"D","E"))))))) -> E | CW11: =IF($G11>0,CV11,$G11) -> E | CX11: 0 | CY11: 0 | CZ11: 0 | DC11: =SUM(CX11:DB11) -> 0 | DD11: =IF(OR(DC11="",DC$7=""),"",DC11/DC$7*100) -> 0 | DE11: =IF(DD11>91,"A+",IF(DD11>76,"A",IF(DD11>61,"B",IF(DD11>41,"C","D")))) -> D | DF11: =IF($G11>0,DE11,$G11) -> D | DG11: 0 | DH11: 0 | DI11: 0 | DL11: =SUM(DG11:DK11) -> 0 | DM11: =IF(OR(DL11="",DL$7=""),"",DL11/DL$7*100) -> 0 | DN11: =IF($G11="nso","NSO",IF(DK11="ab",DK11,IF(DK11="ML",DK11,IF(DM11>=91,"A+",IF(DM11>=76,"A",IF(DM11>=61,"B",IF(DM11>=41,"C","D"))))))) -> D | DO11: =IF($G11>0,DN11,$G11) -> D | DP11: 0 | DQ11: 0 | DR11: 0 | DU11: =SUM(DP11:DT11) -> 0 | DV11: =IF(OR(DU11="",DU$7=""),"",DU11/DU$7*100) -> 0 | DW11: =IF($G11="nso","NSO",IF(DT11="ab",DT11,IF(DT11="ML",DT11,IF(DV11>=91,"A+",IF(DV11>=76,"A",IF(DV11>=61,"B",IF(DV11>=41,"C","D"))))))) -> D | DX11: =IF($G11>0,DW11,$G11) -> D | EA11: =IF(OR(DY11="",DZ11=""),"",DZ11/DY11*100) | EB11: =IF(G11=0,0,SUM($W$7,$AL$7,$BA$7,$BP$7,$CE$7,$CT$7)) -> 1200 | EC11: =SUM(W11,AL11,BA11,BP11,CE11,CT11) -> 0 | ED11: =IF(EB11>0,EC11/EB11*100,0) -> 0 | EE11: =IF(AND(ED11>=60,EF11="Passed"),"First",IF(AND(ED11>=48,EF11="Passed"),"Second",IF(OR(EF11="passed"),"Third",EF11))) -> Promoted | EF11: =IF($G11="NSO","NSO",IF($G11="tc","Transferred",IF($ET11>2,"Promoted",IF(ED11=0,"","Passed")))) -> Promoted | EG11: =IF(EF11="Passed",ED11,"") | EH11: =IF(EG11="","",SUMPRODUCT((EG11<EG$9:EG$108)/COUNTIF(EG$9:EG$108,EG$9:EG$108))) | EI11: =IF(ED11>81,"Excellent",IF(ED11>60,"Very Good",IF(ED11>48,"Good",IF(ED11>36,"Average",IF(ED11=0,0,"Need Improvement"))))) -> 0 | EJ11: =Z11 -> E | EK11: =AO11 -> E | EL11: =BD11 -> E | EM11: =BS11 -> E | EN11: =CH11 -> E | EO11: =CW11 -> E | EP11: =COUNTIF($EJ11:$EO11,"A") -> 0 | EQ11: =COUNTIF($EJ11:$EO11,"B") -> 0 | ER11: =COUNTIF($EJ11:$EO11,"C") -> 0 | ES11: =COUNTIF($EJ11:$EO11,"D") -> 0 | ET11: =COUNTIF($EJ11:$EO11,"E") -> 6 | EW11: =DC11 -> 0 | EX11: / | EY11: =$DC$7 -> 100 | EZ11: =CONCATENATE(EW11,EX11,EY11) -> 0/100 | FA11: =DL11 -> 0 | FB11: / | FC11: =$DL$7 -> 100 | FD11: =CONCATENATE(FA11,FB11,FC11) -> 0/100 | FE11: =DU11 -> 0 | FF11: / | FG11: =$DU$7 -> 100 | FH11: =CONCATENATE(FE11,FF11,FG11) -> 0/100
A12: =G12 -> 904 | B12: 4 | C12: 4 | D12: =IF(E12>0,$G$4,0) -> 6 | E12: 1470 | F12: 43652 | G12: 904 | H12: ANOPI | I12: HARI RAM | J12: RUKI | K12: 39309 | L12: 0 | M12: 0 | N12: =SUM(L12:M12) -> 0 | O12: 0 | P12: 0 | Q12: 0 | R12: =IF(O12="AB","AB",IF(O12="ML","ML",SUM(O12:Q12))) -> 0 | S12: 0 | T12: =IF($T$7="NA","NA",0) -> 0 | U12: 0 | V12: =IF(AND(S12="",T12="",U12=""),"",IF(OR(S12="AB",T12="AB",U12=""),"AB",IF(OR(S12="ML",T12="ML",U12=""),"ML",SUM(S12:U12)))) -> 0 | W12: =SUM(N12,R12,V12) -> 0 | X12: =IF(OR(W12="",W$7=""),"",W12/W$7*100) -> 0 | Y12: =IF($G12="nso","NSO",IF(V12="ab",V12,IF(V12="ML",V12,IF(X12>=86,"A",IF(X12>=71,"B",IF(X12>=51,"C",IF(X12>=31,"D","E"))))))) -> E | Z12: =IF($G12>0,Y12,$G12) -> E | AA12: 0 | AB12: 0 | AC12: =SUM(AA12:AB12) -> 0 | AD12: 0 | AE12: 0 | AF12: 0 | AG12: =IF(AD12="AB","AB",IF(AD12="ML","ML",SUM(AD12:AF12))) -> 0 | AH12: 0 | AI12: =IF($T$7="NA","NA",0) -> 0 | AJ12: 0 | AK12: =IF(AND(AH12="",AI12="",AJ12=""),"",IF(OR(AH12="AB",AI12="AB",AJ12=""),"AB",IF(OR(AH12="ML",AI12="ML",AJ12=""),"ML",SUM(AH12:AJ12)))) -> 0 | AL12: =SUM(AC12,AG12,AK12) -> 0 | AM12: =IF(OR(AL12="",AL$7=""),"",AL12/AL$7*100) -> 0 | AN12: =IF($G12="nso","NSO",IF(AK12="ab",AK12,IF(AK12="ML",AK12,IF(AM12>=86,"A",IF(AM12>=71,"B",IF(AM12>=51,"C",IF(AM12>=31,"D","E"))))))) -> E | AO12: =IF($G12>0,AN12,$G12) -> E | AP12: 0 | AQ12: 0 | AR12: =SUM(AP12:AQ12) -> 0 | AS12: 0 | AT12: 0 | AU12: 0 | AV12: =IF(AS12="AB","AB",IF(AS12="ML","ML",SUM(AS12:AU12))) -> 0 | AW12: 0 | AX12: 0 | AY12: 0 | AZ12: =IF(AND(AW12="",AX12="",AY12=""),"",IF(OR(AW12="AB",AX12="AB",AY12=""),"AB",IF(OR(AW12="ML",AX12="ML",AY12=""),"ML",SUM(AW12:AY12)))) -> 0 | BA12: =SUM(AR12,AV12,AZ12) -> 0 | BB12: =IF(OR(BA12="",BA$7=""),"",BA12/BA$7*100) -> 0 | BC12: =IF($G12="nso","NSO",IF(AZ12="ab",AZ12,IF(AZ12="ML",AZ12,IF(BB12>=86,"A",IF(BB12>=71,"B",IF(BB12>=51,"C",IF(BB12>=31,"D","E"))))))) -> E | BD12: =IF($G12>0,BC12,$G12) -> E | BE12: 0 | BF12: 0 | BG12: =SUM(BE12:BF12) -> 0 | BH12: 0 | BI12: 0 | BJ12: 0 | BK12: =IF(BH12="AB","AB",IF(BH12="ML","ML",SUM(BH12:BJ12))) -> 0 | BL12: 0 | BM12: 0 | BN12: 0 | BO12: =IF(AND(BL12="",BM12="",BN12=""),"",IF(OR(BL12="AB",BM12="AB",BN12=""),"AB",IF(OR(BL12="ML",BM12="ML",BN12=""),"ML",SUM(BL12:BN12)))) -> 0 | BP12: =SUM(BG12,BK12,BO12) -> 0 | BQ12: =IF(OR(BP12="",BP$7=""),"",BP12/BP$7*100) -> 0 | BR12: =IF($G12="nso","NSO",IF(BO12="ab",BO12,IF(BO12="ML",BO12,IF(BQ12>=86,"A",IF(BQ12>=71,"B",IF(BQ12>=51,"C",IF(BQ12>=31,"D","E"))))))) -> E | BS12: =IF($G12>0,BR12,$G12) -> E | BT12: 0 | BU12: 0 | BV12: =SUM(BT12:BU12) -> 0 | BW12: 0 | BX12: 0 | BY12: 0 | BZ12: =IF(BW12="AB","AB",IF(BW12="ML","ML",SUM(BW12:BY12))) -> 0 | CA12: 0 | CB12: 0 | CC12: 0 | CD12: =IF(AND(CA12="",CB12="",CC12=""),"",IF(OR(CA12="AB",CB12="AB",CC12=""),"AB",IF(OR(CA12="ML",CB12="ML",CC12=""),"ML",SUM(CA12:CC12)))) -> 0 | CE12: =SUM(BV12,BZ12,CD12) -> 0 | CF12: =IF(OR(CE12="",CE$7=""),"",CE12/CE$7*100) -> 0 | CG12: =IF($G12="nso","NSO",IF(CD12="ab",CD12,IF(CD12="ML",CD12,IF(CF12>=86,"A",IF(CF12>=71,"B",IF(CF12>=51,"C",IF(CF12>=31,"D","E"))))))) -> E | CH12: =IF($G12>0,CG12,$G12) -> E | CI12: 0 | CJ12: 0 | CK12: =SUM(CI12:CJ12) -> 0 | CL12: 0 | CM12: 0 | CN12: 0 | CO12: =IF(CL12="AB","AB",IF(CL12="ML","ML",SUM(CL12:CN12))) -> 0 | CP12: 0 | CQ12: 0 | CR12: =IF($T$7="NA","NA",0) -> 0 | CS12: =IF(AND(CP12="",CQ12="",CR12=""),"",IF(OR(CP12="AB",CQ12="AB",CR12=""),"AB",IF(OR(CP12="ML",CQ12="ML",CR12=""),"ML",SUM(CP12:CR12)))) -> 0 | CT12: =SUM(CK12,CO12,CS12) -> 0 | CU12: =IF(OR(CT12="",CT$7=""),"",CT12/CT$7*100) -> 0 | CV12: =IF($G12="nso","NSO",IF(CS12="ab",CS12,IF(CS12="ML",CS12,IF(CU12>=86,"A",IF(CU12>=71,"B",IF(CU12>=51,"C",IF(CU12>=31,"D","E"))))))) -> E | CW12: =IF($G12>0,CV12,$G12) -> E | CX12: 0 | CY12: 0 | CZ12: 0 | DC12: =SUM(CX12:DB12) -> 0 | DD12: =IF(OR(DC12="",DC$7=""),"",DC12/DC$7*100) -> 0 | DE12: =IF(DD12>91,"A+",IF(DD12>76,"A",IF(DD12>61,"B",IF(DD12>41,"C","D")))) -> D | DF12: =IF($G12>0,DE12,$G12) -> D | DG12: 0 | DH12: 0 | DI12: 0 | DL12: =SUM(DG12:DK12) -> 0 | DM12: =IF(OR(DL12="",DL$7=""),"",DL12/DL$7*100) -> 0 | DN12: =IF($G12="nso","NSO",IF(DK12="ab",DK12,IF(DK12="ML",DK12,IF(DM12>=91,"A+",IF(DM12>=76,"A",IF(DM12>=61,"B",IF(DM12>=41,"C","D"))))))) -> D | DO12: =IF($G12>0,DN12,$G12) -> D | DP12: 0 | DQ12: 0 | DR12: 0 | DU12: =SUM(DP12:DT12) -> 0 | DV12: =IF(OR(DU12="",DU$7=""),"",DU12/DU$7*100) -> 0 | DW12: =IF($G12="nso","NSO",IF(DT12="ab",DT12,IF(DT12="ML",DT12,IF(DV12>=91,"A+",IF(DV12>=76,"A",IF(DV12>=61,"B",IF(DV12>=41,"C","D"))))))) -> D | DX12: =IF($G12>0,DW12,$G12) -> D | EA12: =IF(OR(DY12="",DZ12=""),"",DZ12/DY12*100) | EB12: =IF(G12=0,0,SUM($W$7,$AL$7,$BA$7,$BP$7,$CE$7,$CT$7)) -> 1200 | EC12: =SUM(W12,AL12,BA12,BP12,CE12,CT12) -> 0 | ED12: =IF(EB12>0,EC12/EB12*100,0) -> 0 | EE12: =IF(AND(ED12>=60,EF12="Passed"),"First",IF(AND(ED12>=48,EF12="Passed"),"Second",IF(OR(EF12="passed"),"Third",EF12))) -> Promoted | EF12: =IF($G12="NSO","NSO",IF($G12="tc","Transferred",IF($ET12>2,"Promoted",IF(ED12=0,"","Passed")))) -> Promoted | EG12: =IF(EF12="Passed",ED12,"") | EH12: =IF(EG12="","",SUMPRODUCT((EG12<EG$9:EG$108)/COUNTIF(EG$9:EG$108,EG$9:EG$108))) | EI12: =IF(ED12>81,"Excellent",IF(ED12>60,"Very Good",IF(ED12>48,"Good",IF(ED12>36,"Average",IF(ED12=0,0,"Need Improvement"))))) -> 0 | EJ12: =Z12 -> E | EK12: =AO12 -> E | EL12: =BD12 -> E | EM12: =BS12 -> E | EN12: =CH12 -> E | EO12: =CW12 -> E | EP12: =COUNTIF($EJ12:$EO12,"A") -> 0 | EQ12: =COUNTIF($EJ12:$EO12,"B") -> 0 | ER12: =COUNTIF($EJ12:$EO12,"C") -> 0 | ES12: =COUNTIF($EJ12:$EO12,"D") -> 0 | ET12: =COUNTIF($EJ12:$EO12,"E") -> 6 | EW12: =DC12 -> 0 | EX12: / | EY12: =$DC$7 -> 100 | EZ12: =CONCATENATE(EW12,EX12,EY12) -> 0/100 | FA12: =DL12 -> 0 | FB12: / | FC12: =$DL$7 -> 100 | FD12: =CONCATENATE(FA12,FB12,FC12) -> 0/100 | FE12: =DU12 -> 0 | FF12: / | FG12: =$DU$7 -> 100 | FH12: =CONCATENATE(FE12,FF12,FG12) -> 0/100
A13: =G13 -> 905 | B13: 5 | C13: 5 | D13: =IF(E13>0,$G$4,0) -> 6 | E13: 968 | F13: 42192 | G13: 905 | H13: ANU JANDU | I13: HEERA RAM JANDU | J13: MANU DEVI | K13: 38946 | L13: 0 | M13: 0 | N13: =SUM(L13:M13) -> 0 | O13: 0 | P13: 0 | Q13: 0 | R13: =IF(O13="AB","AB",IF(O13="ML","ML",SUM(O13:Q13))) -> 0 | S13: 0 | T13: =IF($T$7="NA","NA",0) -> 0 | U13: 0 | V13: =IF(AND(S13="",T13="",U13=""),"",IF(OR(S13="AB",T13="AB",U13=""),"AB",IF(OR(S13="ML",T13="ML",U13=""),"ML",SUM(S13:U13)))) -> 0 | W13: =SUM(N13,R13,V13) -> 0 | X13: =IF(OR(W13="",W$7=""),"",W13/W$7*100) -> 0 | Y13: =IF($G13="nso","NSO",IF(V13="ab",V13,IF(V13="ML",V13,IF(X13>=86,"A",IF(X13>=71,"B",IF(X13>=51,"C",IF(X13>=31,"D","E"))))))) -> E | Z13: =IF($G13>0,Y13,$G13) -> E | AA13: 0 | AB13: 0 | AC13: =SUM(AA13:AB13) -> 0 | AD13: 0 | AE13: 0 | AF13: 0 | AG13: =IF(AD13="AB","AB",IF(AD13="ML","ML",SUM(AD13:AF13))) -> 0 | AH13: 0 | AI13: =IF($T$7="NA","NA",0) -> 0 | AJ13: 0 | AK13: =IF(AND(AH13="",AI13="",AJ13=""),"",IF(OR(AH13="AB",AI13="AB",AJ13=""),"AB",IF(OR(AH13="ML",AI13="ML",AJ13=""),"ML",SUM(AH13:AJ13)))) -> 0 | AL13: =SUM(AC13,AG13,AK13) -> 0 | AM13: =IF(OR(AL13="",AL$7=""),"",AL13/AL$7*100) -> 0 | AN13: =IF($G13="nso","NSO",IF(AK13="ab",AK13,IF(AK13="ML",AK13,IF(AM13>=86,"A",IF(AM13>=71,"B",IF(AM13>=51,"C",IF(AM13>=31,"D","E"))))))) -> E | AO13: =IF($G13>0,AN13,$G13) -> E | AP13: 0 | AQ13: 0 | AR13: =SUM(AP13:AQ13) -> 0 | AS13: 0 | AT13: 0 | AU13: 0 | AV13: =IF(AS13="AB","AB",IF(AS13="ML","ML",SUM(AS13:AU13))) -> 0 | AW13: 0 | AX13: 0 | AY13: 0 | AZ13: =IF(AND(AW13="",AX13="",AY13=""),"",IF(OR(AW13="AB",AX13="AB",AY13=""),"AB",IF(OR(AW13="ML",AX13="ML",AY13=""),"ML",SUM(AW13:AY13)))) -> 0 | BA13: =SUM(AR13,AV13,AZ13) -> 0 | BB13: =IF(OR(BA13="",BA$7=""),"",BA13/BA$7*100) -> 0 | BC13: =IF($G13="nso","NSO",IF(AZ13="ab",AZ13,IF(AZ13="ML",AZ13,IF(BB13>=86,"A",IF(BB13>=71,"B",IF(BB13>=51,"C",IF(BB13>=31,"D","E"))))))) -> E | BD13: =IF($G13>0,BC13,$G13) -> E | BE13: 0 | BF13: 0 | BG13: =SUM(BE13:BF13) -> 0 | BH13: 0 | BI13: 0 | BJ13: 0 | BK13: =IF(BH13="AB","AB",IF(BH13="ML","ML",SUM(BH13:BJ13))) -> 0 | BL13: 0 | BM13: 0 | BN13: 0 | BO13: =IF(AND(BL13="",BM13="",BN13=""),"",IF(OR(BL13="AB",BM13="AB",BN13=""),"AB",IF(OR(BL13="ML",BM13="ML",BN13=""),"ML",SUM(BL13:BN13)))) -> 0 | BP13: =SUM(BG13,BK13,BO13) -> 0 | BQ13: =IF(OR(BP13="",BP$7=""),"",BP13/BP$7*100) -> 0 | BR13: =IF($G13="nso","NSO",IF(BO13="ab",BO13,IF(BO13="ML",BO13,IF(BQ13>=86,"A",IF(BQ13>=71,"B",IF(BQ13>=51,"C",IF(BQ13>=31,"D","E"))))))) -> E | BS13: =IF($G13>0,BR13,$G13) -> E | BT13: 0 | BU13: 0 | BV13: =SUM(BT13:BU13) -> 0 | BW13: 0 | BX13: 0 | BY13: 0 | BZ13: =IF(BW13="AB","AB",IF(BW13="ML","ML",SUM(BW13:BY13))) -> 0 | CA13: 0 | CB13: 0 | CC13: 0 | CD13: =IF(AND(CA13="",CB13="",CC13=""),"",IF(OR(CA13="AB",CB13="AB",CC13=""),"AB",IF(OR(CA13="ML",CB13="ML",CC13=""),"ML",SUM(CA13:CC13)))) -> 0 | CE13: =SUM(BV13,BZ13,CD13) -> 0 | CF13: =IF(OR(CE13="",CE$7=""),"",CE13/CE$7*100) -> 0 | CG13: =IF($G13="nso","NSO",IF(CD13="ab",CD13,IF(CD13="ML",CD13,IF(CF13>=86,"A",IF(CF13>=71,"B",IF(CF13>=51,"C",IF(CF13>=31,"D","E"))))))) -> E | CH13: =IF($G13>0,CG13,$G13) -> E | CI13: 0 | CJ13: 0 | CK13: =SUM(CI13:CJ13) -> 0 | CL13: 0 | CM13: 0 | CN13: 0 | CO13: =IF(CL13="AB","AB",IF(CL13="ML","ML",SUM(CL13:CN13))) -> 0 | CP13: 0 | CQ13: 0 | CR13: =IF($T$7="NA","NA",0) -> 0 | CS13: =IF(AND(CP13="",CQ13="",CR13=""),"",IF(OR(CP13="AB",CQ13="AB",CR13=""),"AB",IF(OR(CP13="ML",CQ13="ML",CR13=""),"ML",SUM(CP13:CR13)))) -> 0 | CT13: =SUM(CK13,CO13,CS13) -> 0 | CU13: =IF(OR(CT13="",CT$7=""),"",CT13/CT$7*100) -> 0 | CV13: =IF($G13="nso","NSO",IF(CS13="ab",CS13,IF(CS13="ML",CS13,IF(CU13>=86,"A",IF(CU13>=71,"B",IF(CU13>=51,"C",IF(CU13>=31,"D","E"))))))) -> E | CW13: =IF($G13>0,CV13,$G13) -> E | CX13: 0 | CY13: 0 | CZ13: 0 | DC13: =SUM(CX13:DB13) -> 0 | DD13: =IF(OR(DC13="",DC$7=""),"",DC13/DC$7*100) -> 0 | DE13: =IF(DD13>91,"A+",IF(DD13>76,"A",IF(DD13>61,"B",IF(DD13>41,"C","D")))) -> D | DF13: =IF($G13>0,DE13,$G13) -> D | DG13: 0 | DH13: 0 | DI13: 0 | DL13: =SUM(DG13:DK13) -> 0 | DM13: =IF(OR(DL13="",DL$7=""),"",DL13/DL$7*100) -> 0 | DN13: =IF($G13="nso","NSO",IF(DK13="ab",DK13,IF(DK13="ML",DK13,IF(DM13>=91,"A+",IF(DM13>=76,"A",IF(DM13>=61,"B",IF(DM13>=41,"C","D"))))))) -> D | DO13: =IF($G13>0,DN13,$G13) -> D | DP13: 0 | DQ13: 0 | DR13: 0 | DU13: =SUM(DP13:DT13) -> 0 | DV13: =IF(OR(DU13="",DU$7=""),"",DU13/DU$7*100) -> 0 | DW13: =IF($G13="nso","NSO",IF(DT13="ab",DT13,IF(DT13="ML",DT13,IF(DV13>=91,"A+",IF(DV13>=76,"A",IF(DV13>=61,"B",IF(DV13>=41,"C","D"))))))) -> D | DX13: =IF($G13>0,DW13,$G13) -> D | EA13: =IF(OR(DY13="",DZ13=""),"",DZ13/DY13*100) | EB13: =IF(G13=0,0,SUM($W$7,$AL$7,$BA$7,$BP$7,$CE$7,$CT$7)) -> 1200 | EC13: =SUM(W13,AL13,BA13,BP13,CE13,CT13) -> 0 | ED13: =IF(EB13>0,EC13/EB13*100,0) -> 0 | EE13: =IF(AND(ED13>=60,EF13="Passed"),"First",IF(AND(ED13>=48,EF13="Passed"),"Second",IF(OR(EF13="passed"),"Third",EF13))) -> Promoted | EF13: =IF($G13="NSO","NSO",IF($G13="tc","Transferred",IF($ET13>2,"Promoted",IF(ED13=0,"","Passed")))) -> Promoted | EG13: =IF(EF13="Passed",ED13,"") | EH13: =IF(EG13="","",SUMPRODUCT((EG13<EG$9:EG$108)/COUNTIF(EG$9:EG$108,EG$9:EG$108))) | EI13: =IF(ED13>81,"Excellent",IF(ED13>60,"Very Good",IF(ED13>48,"Good",IF(ED13>36,"Average",IF(ED13=0,0,"Need Improvement"))))) -> 0 | EJ13: =Z13 -> E | EK13: =AO13 -> E | EL13: =BD13 -> E | EM13: =BS13 -> E | EN13: =CH13 -> E | EO13: =CW13 -> E | EP13: =COUNTIF($EJ13:$EO13,"A") -> 0 | EQ13: =COUNTIF($EJ13:$EO13,"B") -> 0 | ER13: =COUNTIF($EJ13:$EO13,"C") -> 0 | ES13: =COUNTIF($EJ13:$EO13,"D") -> 0 | ET13: =COUNTIF($EJ13:$EO13,"E") -> 6 | EW13: =DC13 -> 0 | EX13: / | EY13: =$DC$7 -> 100 | EZ13: =CONCATENATE(EW13,EX13,EY13) -> 0/100 | FA13: =DL13 -> 0 | FB13: / | FC13: =$DL$7 -> 100 | FD13: =CONCATENATE(FA13,FB13,FC13) -> 0/100 | FE13: =DU13 -> 0 | FF13: / | FG13: =$DU$7 -> 100 | FH13: =CONCATENATE(FE13,FF13,FG13) -> 0/100
A14: =G14 -> 906 | B14: 6 | C14: 6 | D14: =IF(E14>0,$G$4,0) -> 6 | E14: 1404 | F14: 43294 | G14: 906 | H14: ASHOKA SUTHAR | I14: SATYNARYAN | J14: SANTU | K14: 38876 | L14: 0 | M14: 0 | N14: =SUM(L14:M14) -> 0 | O14: 0 | P14: 0 | Q14: 0 | R14: =IF(O14="AB","AB",IF(O14="ML","ML",SUM(O14:Q14))) -> 0 | S14: 0 | T14: =IF($T$7="NA","NA",0) -> 0 | U14: 0 | V14: =IF(AND(S14="",T14="",U14=""),"",IF(OR(S14="AB",T14="AB",U14=""),"AB",IF(OR(S14="ML",T14="ML",U14=""),"ML",SUM(S14:U14)))) -> 0 | W14: =SUM(N14,R14,V14) -> 0 | X14: =IF(OR(W14="",W$7=""),"",W14/W$7*100) -> 0 | Y14: =IF($G14="nso","NSO",IF(V14="ab",V14,IF(V14="ML",V14,IF(X14>=86,"A",IF(X14>=71,"B",IF(X14>=51,"C",IF(X14>=31,"D","E"))))))) -> E | Z14: =IF($G14>0,Y14,$G14) -> E | AA14: 0 | AB14: 0 | AC14: =SUM(AA14:AB14) -> 0 | AD14: 0 | AE14: 0 | AF14: 0 | AG14: =IF(AD14="AB","AB",IF(AD14="ML","ML",SUM(AD14:AF14))) -> 0 | AH14: 0 | AI14: =IF($T$7="NA","NA",0) -> 0 | AJ14: 0 | AK14: =IF(AND(AH14="",AI14="",AJ14=""),"",IF(OR(AH14="AB",AI14="AB",AJ14=""),"AB",IF(OR(AH14="ML",AI14="ML",AJ14=""),"ML",SUM(AH14:AJ14)))) -> 0 | AL14: =SUM(AC14,AG14,AK14) -> 0 | AM14: =IF(OR(AL14="",AL$7=""),"",AL14/AL$7*100) -> 0 | AN14: =IF($G14="nso","NSO",IF(AK14="ab",AK14,IF(AK14="ML",AK14,IF(AM14>=86,"A",IF(AM14>=71,"B",IF(AM14>=51,"C",IF(AM14>=31,"D","E"))))))) -> E | AO14: =IF($G14>0,AN14,$G14) -> E | AP14: 0 | AQ14: 0 | AR14: =SUM(AP14:AQ14) -> 0 | AS14: 0 | AT14: 0 | AU14: 0 | AV14: =IF(AS14="AB","AB",IF(AS14="ML","ML",SUM(AS14:AU14))) -> 0 | AW14: 0 | AX14: 0 | AY14: 0 | AZ14: =IF(AND(AW14="",AX14="",AY14=""),"",IF(OR(AW14="AB",AX14="AB",AY14=""),"AB",IF(OR(AW14="ML",AX14="ML",AY14=""),"ML",SUM(AW14:AY14)))) -> 0 | BA14: =SUM(AR14,AV14,AZ14) -> 0 | BB14: =IF(OR(BA14="",BA$7=""),"",BA14/BA$7*100) -> 0 | BC14: =IF($G14="nso","NSO",IF(AZ14="ab",AZ14,IF(AZ14="ML",AZ14,IF(BB14>=86,"A",IF(BB14>=71,"B",IF(BB14>=51,"C",IF(BB14>=31,"D","E"))))))) -> E | BD14: =IF($G14>0,BC14,$G14) -> E | BE14: 0 | BF14: 0 | BG14: =SUM(BE14:BF14) -> 0 | BH14: 0 | BI14: 0 | BJ14: 0 | BK14: =IF(BH14="AB","AB",IF(BH14="ML","ML",SUM(BH14:BJ14))) -> 0 | BL14: 0 | BM14: 0 | BN14: 0 | BO14: =IF(AND(BL14="",BM14="",BN14=""),"",IF(OR(BL14="AB",BM14="AB",BN14=""),"AB",IF(OR(BL14="ML",BM14="ML",BN14=""),"ML",SUM(BL14:BN14)))) -> 0 | BP14: =SUM(BG14,BK14,BO14) -> 0 | BQ14: =IF(OR(BP14="",BP$7=""),"",BP14/BP$7*100) -> 0 | BR14: =IF($G14="nso","NSO",IF(BO14="ab",BO14,IF(BO14="ML",BO14,IF(BQ14>=86,"A",IF(BQ14>=71,"B",IF(BQ14>=51,"C",IF(BQ14>=31,"D","E"))))))) -> E | BS14: =IF($G14>0,BR14,$G14) -> E | BT14: 0 | BU14: 0 | BV14: =SUM(BT14:BU14) -> 0 | BW14: 0 | BX14: 0 | BY14: 0 | BZ14: =IF(BW14="AB","AB",IF(BW14="ML","ML",SUM(BW14:BY14))) -> 0 | CA14: 0 | CB14: 0 | CC14: 0 | CD14: =IF(AND(CA14="",CB14="",CC14=""),"",IF(OR(CA14="AB",CB14="AB",CC14=""),"AB",IF(OR(CA14="ML",CB14="ML",CC14=""),"ML",SUM(CA14:CC14)))) -> 0 | CE14: =SUM(BV14,BZ14,CD14) -> 0 | CF14: =IF(OR(CE14="",CE$7=""),"",CE14/CE$7*100) -> 0 | CG14: =IF($G14="nso","NSO",IF(CD14="ab",CD14,IF(CD14="ML",CD14,IF(CF14>=86,"A",IF(CF14>=71,"B",IF(CF14>=51,"C",IF(CF14>=31,"D","E"))))))) -> E | CH14: =IF($G14>0,CG14,$G14) -> E | CI14: 0 | CJ14: 0 | CK14: =SUM(CI14:CJ14) -> 0 | CL14: 0 | CM14: 0 | CN14: 0 | CO14: =IF(CL14="AB","AB",IF(CL14="ML","ML",SUM(CL14:CN14))) -> 0 | CP14: 0 | CQ14: 0 | CR14: =IF($T$7="NA","NA",0) -> 0 | CS14: =IF(AND(CP14="",CQ14="",CR14=""),"",IF(OR(CP14="AB",CQ14="AB",CR14=""),"AB",IF(OR(CP14="ML",CQ14="ML",CR14=""),"ML",SUM(CP14:CR14)))) -> 0 | CT14: =SUM(CK14,CO14,CS14) -> 0 | CU14: =IF(OR(CT14="",CT$7=""),"",CT14/CT$7*100) -> 0 | CV14: =IF($G14="nso","NSO",IF(CS14="ab",CS14,IF(CS14="ML",CS14,IF(CU14>=86,"A",IF(CU14>=71,"B",IF(CU14>=51,"C",IF(CU14>=31,"D","E"))))))) -> E | CW14: =IF($G14>0,CV14,$G14) -> E | CX14: 0 | CY14: 0 | CZ14: 0 | DC14: =SUM(CX14:DB14) -> 0 | DD14: =IF(OR(DC14="",DC$7=""),"",DC14/DC$7*100) -> 0 | DE14: =IF(DD14>91,"A+",IF(DD14>76,"A",IF(DD14>61,"B",IF(DD14>41,"C","D")))) -> D | DF14: =IF($G14>0,DE14,$G14) -> D | DG14: 0 | DH14: 0 | DI14: 0 | DL14: =SUM(DG14:DK14) -> 0 | DM14: =IF(OR(DL14="",DL$7=""),"",DL14/DL$7*100) -> 0 | DN14: =IF($G14="nso","NSO",IF(DK14="ab",DK14,IF(DK14="ML",DK14,IF(DM14>=91,"A+",IF(DM14>=76,"A",IF(DM14>=61,"B",IF(DM14>=41,"C","D"))))))) -> D | DO14: =IF($G14>0,DN14,$G14) -> D | DP14: 0 | DQ14: 0 | DR14: 0 | DS14: 0 | DT14: 0 | DU14: =SUM(DP14:DT14) -> 0 | DV14: =IF(OR(DU14="",DU$7=""),"",DU14/DU$7*100) -> 0 | DW14: =IF($G14="nso","NSO",IF(DT14="ab",DT14,IF(DT14="ML",DT14,IF(DV14>=91,"A+",IF(DV14>=76,"A",IF(DV14>=61,"B",IF(DV14>=41,"C","D"))))))) -> D | DX14: =IF($G14>0,DW14,$G14) -> D | EA14: =IF(OR(DY14="",DZ14=""),"",DZ14/DY14*100) | EB14: =IF(G14=0,0,SUM($W$7,$AL$7,$BA$7,$BP$7,$CE$7,$CT$7)) -> 1200 | EC14: =SUM(W14,AL14,BA14,BP14,CE14,CT14) -> 0 | ED14: =IF(EB14>0,EC14/EB14*100,0) -> 0 | EE14: =IF(AND(ED14>=60,EF14="Passed"),"First",IF(AND(ED14>=48,EF14="Passed"),"Second",IF(OR(EF14="passed"),"Third",EF14))) -> Promoted | EF14: =IF($G14="NSO","NSO",IF($G14="tc","Transferred",IF($ET14>2,"Promoted",IF(ED14=0,"","Passed")))) -> Promoted | EG14: =IF(EF14="Passed",ED14,"") | EH14: =IF(EG14="","",SUMPRODUCT((EG14<EG$9:EG$108)/COUNTIF(EG$9:EG$108,EG$9:EG$108))) | EI14: =IF(ED14>81,"Excellent",IF(ED14>60,"Very Good",IF(ED14>48,"Good",IF(ED14>36,"Average",IF(ED14=0,0,"Need Improvement"))))) -> 0 | EJ14: =Z14 -> E | EK14: =AO14 -> E | EL14: =BD14 -> E | EM14: =BS14 -> E | EN14: =CH14 -> E | EO14: =CW14 -> E | EP14: =COUNTIF($EJ14:$EO14,"A") -> 0 | EQ14: =COUNTIF($EJ14:$EO14,"B") -> 0 | ER14: =COUNTIF($EJ14:$EO14,"C") -> 0 | ES14: =COUNTIF($EJ14:$EO14,"D") -> 0 | ET14: =COUNTIF($EJ14:$EO14,"E") -> 6 | EW14: =DC14 -> 0 | EX14: / | EY14: =$DC$7 -> 100 | EZ14: =CONCATENATE(EW14,EX14,EY14) -> 0/100 | FA14: =DL14 -> 0 | FB14: / | FC14: =$DL$7 -> 100 | FD14: =CONCATENATE(FA14,FB14,FC14) -> 0/100 | FE14: =DU14 -> 0 | FF14: / | FG14: =$DU$7 -> 100 | FH14: =CONCATENATE(FE14,FF14,FG14) -> 0/100
A15: =G15 -> 907 | B15: 7 | C15: 7 | D15: =IF(E15>0,$G$4,0) -> 6 | E15: 1453 | F15: 43650 | G15: 907 | H15: BAJRANG VISHNOI | I15: OM PRAKASH VISHNOI | J15: LOONGA DEVI | K15: 38991 | L15: 0 | M15: 0 | N15: =SUM(L15:M15) -> 0 | O15: 0 | P15: 0 | Q15: 0 | R15: =IF(O15="AB","AB",IF(O15="ML","ML",SUM(O15:Q15))) -> 0 | S15: 0 | T15: =IF($T$7="NA","NA",0) -> 0 | U15: 0 | V15: =IF(AND(S15="",T15="",U15=""),"",IF(OR(S15="AB",T15="AB",U15=""),"AB",IF(OR(S15="ML",T15="ML",U15=""),"ML",SUM(S15:U15)))) -> 0 | W15: =SUM(N15,R15,V15) -> 0 | X15: =IF(OR(W15="",W$7=""),"",W15/W$7*100) -> 0 | Y15: =IF($G15="nso","NSO",IF(V15="ab",V15,IF(V15="ML",V15,IF(X15>=86,"A",IF(X15>=71,"B",IF(X15>=51,"C",IF(X15>=31,"D","E"))))))) -> E | Z15: =IF($G15>0,Y15,$G15) -> E | AA15: 0 | AB15: 0 | AC15: =SUM(AA15:AB15) -> 0 | AD15: 0 | AE15: 0 | AF15: 0 | AG15: =IF(AD15="AB","AB",IF(AD15="ML","ML",SUM(AD15:AF15))) -> 0 | AH15: 0 | AI15: =IF($T$7="NA","NA",0) -> 0 | AJ15: 0 | AK15: =IF(AND(AH15="",AI15="",AJ15=""),"",IF(OR(AH15="AB",AI15="AB",AJ15=""),"AB",IF(OR(AH15="ML",AI15="ML",AJ15=""),"ML",SUM(AH15:AJ15)))) -> 0 | AL15: =SUM(AC15,AG15,AK15) -> 0 | AM15: =IF(OR(AL15="",AL$7=""),"",AL15/AL$7*100) -> 0 | AN15: =IF($G15="nso","NSO",IF(AK15="ab",AK15,IF(AK15="ML",AK15,IF(AM15>=86,"A",IF(AM15>=71,"B",IF(AM15>=51,"C",IF(AM15>=31,"D","E"))))))) -> E | AO15: =IF($G15>0,AN15,$G15) -> E | AP15: 0 | AQ15: 0 | AR15: =SUM(AP15:AQ15) -> 0 | AS15: 0 | AT15: 0 | AU15: 0 | AV15: =IF(AS15="AB","AB",IF(AS15="ML","ML",SUM(AS15:AU15))) -> 0 | AW15: 0 | AX15: 0 | AY15: 0 | AZ15: =IF(AND(AW15="",AX15="",AY15=""),"",IF(OR(AW15="AB",AX15="AB",AY15=""),"AB",IF(OR(AW15="ML",AX15="ML",AY15=""),"ML",SUM(AW15:AY15)))) -> 0 | BA15: =SUM(AR15,AV15,AZ15) -> 0 | BB15: =IF(OR(BA15="",BA$7=""),"",BA15/BA$7*100) -> 0 | BC15: =IF($G15="nso","NSO",IF(AZ15="ab",AZ15,IF(AZ15="ML",AZ15,IF(BB15>=86,"A",IF(BB15>=71,"B",IF(BB15>=51,"C",IF(BB15>=31,"D","E"))))))) -> E | BD15: =IF($G15>0,BC15,$G15) -> E | BE15: 0 | BF15: 0 | BG15: =SUM(BE15:BF15) -> 0 | BH15: 0 | BI15: 0 | BJ15: 0 | BK15: =IF(BH15="AB","AB",IF(BH15="ML","ML",SUM(BH15:BJ15))) -> 0 | BL15: 0 | BM15: 0 | BN15: 0 | BO15: =IF(AND(BL15="",BM15="",BN15=""),"",IF(OR(BL15="AB",BM15="AB",BN15=""),"AB",IF(OR(BL15="ML",BM15="ML",BN15=""),"ML",SUM(BL15:BN15)))) -> 0 | BP15: =SUM(BG15,BK15,BO15) -> 0 | BQ15: =IF(OR(BP15="",BP$7=""),"",BP15/BP$7*100) -> 0 | BR15: =IF($G15="nso","NSO",IF(BO15="ab",BO15,IF(BO15="ML",BO15,IF(BQ15>=86,"A",IF(BQ15>=71,"B",IF(BQ15>=51,"C",IF(BQ15>=31,"D","E"))))))) -> E | BS15: =IF($G15>0,BR15,$G15) -> E | BT15: 0 | BU15: 0 | BV15: =SUM(BT15:BU15) -> 0 | BW15: 0 | BX15: 0 | BY15: 0 | BZ15: =IF(BW15="AB","AB",IF(BW15="ML","ML",SUM(BW15:BY15))) -> 0 | CA15: 0 | CB15: 0 | CC15: 0 | CD15: =IF(AND(CA15="",CB15="",CC15=""),"",IF(OR(CA15="AB",CB15="AB",CC15=""),"AB",IF(OR(CA15="ML",CB15="ML",CC15=""),"ML",SUM(CA15:CC15)))) -> 0 | CE15: =SUM(BV15,BZ15,CD15) -> 0 | CF15: =IF(OR(CE15="",CE$7=""),"",CE15/CE$7*100) -> 0 | CG15: =IF($G15="nso","NSO",IF(CD15="ab",CD15,IF(CD15="ML",CD15,IF(CF15>=86,"A",IF(CF15>=71,"B",IF(CF15>=51,"C",IF(CF15>=31,"D","E"))))))) -> E | CH15: =IF($G15>0,CG15,$G15) -> E | CI15: 0 | CJ15: 0 | CK15: =SUM(CI15:CJ15) -> 0 | CL15: 0 | CM15: 0 | CN15: 0 | CO15: =IF(CL15="AB","AB",IF(CL15="ML","ML",SUM(CL15:CN15))) -> 0 | CP15: 0 | CQ15: 0 | CR15: =IF($T$7="NA","NA",0) -> 0 | CS15: =IF(AND(CP15="",CQ15="",CR15=""),"",IF(OR(CP15="AB",CQ15="AB",CR15=""),"AB",IF(OR(CP15="ML",CQ15="ML",CR15=""),"ML",SUM(CP15:CR15)))) -> 0 | CT15: =SUM(CK15,CO15,CS15) -> 0 | CU15: =IF(OR(CT15="",CT$7=""),"",CT15/CT$7*100) -> 0 | CV15: =IF($G15="nso","NSO",IF(CS15="ab",CS15,IF(CS15="ML",CS15,IF(CU15>=86,"A",IF(CU15>=71,"B",IF(CU15>=51,"C",IF(CU15>=31,"D","E"))))))) -> E | CW15: =IF($G15>0,CV15,$G15) -> E | CX15: 0 | CY15: 0 | CZ15: 0 | DC15: =SUM(CX15:DB15) -> 0 | DD15: =IF(OR(DC15="",DC$7=""),"",DC15/DC$7*100) -> 0 | DE15: =IF(DD15>91,"A+",IF(DD15>76,"A",IF(DD15>61,"B",IF(DD15>41,"C","D")))) -> D | DF15: =IF($G15>0,DE15,$G15) -> D | DG15: 0 | DH15: 0 | DI15: 0 | DL15: =SUM(DG15:DK15) -> 0 | DM15: =IF(OR(DL15="",DL$7=""),"",DL15/DL$7*100) -> 0 | DN15: =IF($G15="nso","NSO",IF(DK15="ab",DK15,IF(DK15="ML",DK15,IF(DM15>=91,"A+",IF(DM15>=76,"A",IF(DM15>=61,"B",IF(DM15>=41,"C","D"))))))) -> D | DO15: =IF($G15>0,DN15,$G15) -> D | DP15: 0 | DQ15: 0 | DR15: 0 | DU15: =SUM(DP15:DT15) -> 0 | DV15: =IF(OR(DU15="",DU$7=""),"",DU15/DU$7*100) -> 0 | DW15: =IF($G15="nso","NSO",IF(DT15="ab",DT15,IF(DT15="ML",DT15,IF(DV15>=91,"A+",IF(DV15>=76,"A",IF(DV15>=61,"B",IF(DV15>=41,"C","D"))))))) -> D | DX15: =IF($G15>0,DW15,$G15) -> D | EA15: =IF(OR(DY15="",DZ15=""),"",DZ15/DY15*100) | EB15: =IF(G15=0,0,SUM($W$7,$AL$7,$BA$7,$BP$7,$CE$7,$CT$7)) -> 1200 | EC15: =SUM(W15,AL15,BA15,BP15,CE15,CT15) -> 0 | ED15: =IF(EB15>0,EC15/EB15*100,0) -> 0 | EE15: =IF(AND(ED15>=60,EF15="Passed"),"First",IF(AND(ED15>=48,EF15="Passed"),"Second",IF(OR(EF15="passed"),"Third",EF15))) -> Promoted | EF15: =IF($G15="NSO","NSO",IF($G15="tc","Transferred",IF($ET15>2,"Promoted",IF(ED15=0,"","Passed")))) -> Promoted | EG15: =IF(EF15="Passed",ED15,"") | EH15: =IF(EG15="","",SUMPRODUCT((EG15<EG$9:EG$108)/COUNTIF(EG$9:EG$108,EG$9:EG$108))) | EI15: =IF(ED15>81,"Excellent",IF(ED15>60,"Very Good",IF(ED15>48,"Good",IF(ED15>36,"Average",IF(ED15=0,0,"Need Improvement"))))) -> 0 | EJ15: =Z15 -> E | EK15: =AO15 -> E | EL15: =BD15 -> E | EM15: =BS15 -> E | EN15: =CH15 -> E | EO15: =CW15 -> E | EP15: =COUNTIF($EJ15:$EO15,"A") -> 0 | EQ15: =COUNTIF($EJ15:$EO15,"B") -> 0 | ER15: =COUNTIF($EJ15:$EO15,"C") -> 0 | ES15: =COUNTIF($EJ15:$EO15,"D") -> 0 | ET15: =COUNTIF($EJ15:$EO15,"E") -> 6 | EW15: =DC15 -> 0 | EX15: / | EY15: =$DC$7 -> 100 | EZ15: =CONCATENATE(EW15,EX15,EY15) -> 0/100 | FA15: =DL15 -> 0 | FB15: / | FC15: =$DL$7 -> 100 | FD15: =CONCATENATE(FA15,FB15,FC15) -> 0/100 | FE15: =DU15 -> 0 | FF15: / | FG15: =$DU$7 -> 100 | FH15: =CONCATENATE(FE15,FF15,FG15) -> 0/100
A16: =G16 -> 0 | B16: 8 | D16: =IF(E16>0,$G$4,0) -> 0 | L16: 0 | M16: 0 | N16: =SUM(L16:M16) -> 0 | O16: 0 | P16: 0 | Q16: 0 | R16: =IF(O16="AB","AB",IF(O16="ML","ML",SUM(O16:Q16))) -> 0 | S16: 0 | T16: =IF($T$7="NA","NA",0) -> 0 | U16: 0 | V16: =IF(AND(S16="",T16="",U16=""),"",IF(OR(S16="AB",T16="AB",U16=""),"AB",IF(OR(S16="ML",T16="ML",U16=""),"ML",SUM(S16:U16)))) -> 0 | W16: =SUM(N16,R16,V16) -> 0 | X16: =IF(OR(W16="",W$7=""),"",W16/W$7*100) -> 0 | Y16: =IF($G16="nso","NSO",IF(V16="ab",V16,IF(V16="ML",V16,IF(X16>=86,"A",IF(X16>=71,"B",IF(X16>=51,"C",IF(X16>=31,"D","E"))))))) -> E | Z16: =IF($G16>0,Y16,$G16) -> 0 | AA16: 0 | AB16: 0 | AC16: =SUM(AA16:AB16) -> 0 | AD16: 0 | AE16: 0 | AF16: 0 | AG16: =IF(AD16="AB","AB",IF(AD16="ML","ML",SUM(AD16:AF16))) -> 0 | AH16: 0 | AI16: =IF($T$7="NA","NA",0) -> 0 | AJ16: 0 | AK16: =IF(AND(AH16="",AI16="",AJ16=""),"",IF(OR(AH16="AB",AI16="AB",AJ16=""),"AB",IF(OR(AH16="ML",AI16="ML",AJ16=""),"ML",SUM(AH16:AJ16)))) -> 0 | AL16: =SUM(AC16,AG16,AK16) -> 0 | AM16: =IF(OR(AL16="",AL$7=""),"",AL16/AL$7*100) -> 0 | AN16: =IF($G16="nso","NSO",IF(AK16="ab",AK16,IF(AK16="ML",AK16,IF(AM16>=86,"A",IF(AM16>=71,"B",IF(AM16>=51,"C",IF(AM16>=31,"D","E"))))))) -> E | AO16: =IF($G16>0,AN16,$G16) -> 0 | AP16: 0 | AQ16: 0 | AR16: =SUM(AP16:AQ16) -> 0 | AS16: 0 | AT16: 0 | AU16: 0 | AV16: =IF(AS16="AB","AB",IF(AS16="ML","ML",SUM(AS16:AU16))) -> 0 | AW16: 0 | AX16: 0 | AY16: 0 | AZ16: =IF(AND(AW16="",AX16="",AY16=""),"",IF(OR(AW16="AB",AX16="AB",AY16=""),"AB",IF(OR(AW16="ML",AX16="ML",AY16=""),"ML",SUM(AW16:AY16)))) -> 0 | BA16: =SUM(AR16,AV16,AZ16) -> 0 | BB16: =IF(OR(BA16="",BA$7=""),"",BA16/BA$7*100) -> 0 | BC16: =IF($G16="nso","NSO",IF(AZ16="ab",AZ16,IF(AZ16="ML",AZ16,IF(BB16>=86,"A",IF(BB16>=71,"B",IF(BB16>=51,"C",IF(BB16>=31,"D","E"))))))) -> E | BD16: =IF($G16>0,BC16,$G16) -> 0 | BE16: 0 | BF16: 0 | BG16: =SUM(BE16:BF16) -> 0 | BH16: 0 | BI16: 0 | BJ16: 0 | BK16: =IF(BH16="AB","AB",IF(BH16="ML","ML",SUM(BH16:BJ16))) -> 0 | BL16: 0 | BM16: 0 | BN16: 0 | BO16: =IF(AND(BL16="",BM16="",BN16=""),"",IF(OR(BL16="AB",BM16="AB",BN16=""),"AB",IF(OR(BL16="ML",BM16="ML",BN16=""),"ML",SUM(BL16:BN16)))) -> 0 | BP16: =SUM(BG16,BK16,BO16) -> 0 | BQ16: =IF(OR(BP16="",BP$7=""),"",BP16/BP$7*100) -> 0 | BR16: =IF($G16="nso","NSO",IF(BO16="ab",BO16,IF(BO16="ML",BO16,IF(BQ16>=86,"A",IF(BQ16>=71,"B",IF(BQ16>=51,"C",IF(BQ16>=31,"D","E"))))))) -> E | BS16: =IF($G16>0,BR16,$G16) -> 0 | BT16: 0 | BU16: 0 | BV16: =SUM(BT16:BU16) -> 0 | BW16: 0 | BX16: 0 | BY16: 0 | BZ16: =IF(BW16="AB","AB",IF(BW16="ML","ML",SUM(BW16:BY16))) -> 0 | CA16: 0 | CB16: 0 | CC16: 0 | CD16: =IF(AND(CA16="",CB16="",CC16=""),"",IF(OR(CA16="AB",CB16="AB",CC16=""),"AB",IF(OR(CA16="ML",CB16="ML",CC16=""),"ML",SUM(CA16:CC16)))) -> 0 | CE16: =SUM(BV16,BZ16,CD16) -> 0 | CF16: =IF(OR(CE16="",CE$7=""),"",CE16/CE$7*100) -> 0 | CG16: =IF($G16="nso","NSO",IF(CD16="ab",CD16,IF(CD16="ML",CD16,IF(CF16>=86,"A",IF(CF16>=71,"B",IF(CF16>=51,"C",IF(CF16>=31,"D","E"))))))) -> E | CH16: =IF($G16>0,CG16,$G16) -> 0 | CI16: 0 | CJ16: 0 | CK16: =SUM(CI16:CJ16) -> 0 | CL16: 0 | CM16: 0 | CN16: 0 | CO16: =IF(CL16="AB","AB",IF(CL16="ML","ML",SUM(CL16:CN16))) -> 0 | CP16: 0 | CQ16: 0 | CR16: =IF($T$7="NA","NA",0) -> 0 | CS16: =IF(AND(CP16="",CQ16="",CR16=""),"",IF(OR(CP16="AB",CQ16="AB",CR16=""),"AB",IF(OR(CP16="ML",CQ16="ML",CR16=""),"ML",SUM(CP16:CR16)))) -> 0 | CT16: =SUM(CK16,CO16,CS16) -> 0 | CU16: =IF(OR(CT16="",CT$7=""),"",CT16/CT$7*100) -> 0 | CV16: =IF($G16="nso","NSO",IF(CS16="ab",CS16,IF(CS16="ML",CS16,IF(CU16>=86,"A",IF(CU16>=71,"B",IF(CU16>=51,"C",IF(CU16>=31,"D","E"))))))) -> E | CW16: =IF($G16>0,CV16,$G16) -> 0 | CX16: 0 | CY16: 0 | CZ16: 0 | DC16: =SUM(CX16:DB16) -> 0 | DD16: =IF(OR(DC16="",DC$7=""),"",DC16/DC$7*100) -> 0 | DE16: =IF(DD16>91,"A+",IF(DD16>76,"A",IF(DD16>61,"B",IF(DD16>41,"C","D")))) -> D | DF16: =IF($G16>0,DE16,$G16) -> 0 | DG16: 0 | DH16: 0 | DI16: 0 | DL16: =SUM(DG16:DK16) -> 0 | DM16: =IF(OR(DL16="",DL$7=""),"",DL16/DL$7*100) -> 0 | DN16: =IF($G16="nso","NSO",IF(DK16="ab",DK16,IF(DK16="ML",DK16,IF(DM16>=91,"A+",IF(DM16>=76,"A",IF(DM16>=61,"B",IF(DM16>=41,"C","D"))))))) -> D | DO16: =IF($G16>0,DN16,$G16) -> 0 | DP16: 0 | DQ16: 0 | DR16: 0 | DU16: =SUM(DP16:DT16) -> 0 | DV16: =IF(OR(DU16="",DU$7=""),"",DU16/DU$7*100) -> 0 | DW16: =IF($G16="nso","NSO",IF(DT16="ab",DT16,IF(DT16="ML",DT16,IF(DV16>=91,"A+",IF(DV16>=76,"A",IF(DV16>=61,"B",IF(DV16>=41,"C","D"))))))) -> D | DX16: =IF($G16>0,DW16,$G16) -> 0 | EA16: =IF(OR(DY16="",DZ16=""),"",DZ16/DY16*100) | EB16: =IF(G16=0,0,SUM($W$7,$AL$7,$BA$7,$BP$7,$CE$7,$CT$7)) -> 0 | EC16: =SUM(W16,AL16,BA16,BP16,CE16,CT16) -> 0 | ED16: =IF(EB16>0,EC16/EB16*100,0) -> 0 | EE16: =IF(AND(ED16>=60,EF16="Passed"),"First",IF(AND(ED16>=48,EF16="Passed"),"Second",IF(OR(EF16="passed"),"Third",EF16))) | EF16: =IF($G16="NSO","NSO",IF($G16="tc","Transferred",IF($ET16>2,"Promoted",IF(ED16=0,"","Passed")))) | EG16: =IF(EF16="Passed",ED16,"") | EH16: =IF(EG16="","",SUMPRODUCT((EG16<EG$9:EG$108)/COUNTIF(EG$9:EG$108,EG$9:EG$108))) | EI16: =IF(ED16>81,"Excellent",IF(ED16>60,"Very Good",IF(ED16>48,"Good",IF(ED16>36,"Average",IF(ED16=0,0,"Need Improvement"))))) -> 0 | EJ16: =Z16 -> 0 | EK16: =AO16 -> 0 | EL16: =BD16 -> 0 | EM16: =BS16 -> 0 | EN16: =CH16 -> 0 | EO16: =CW16 -> 0 | EP16: =COUNTIF($EJ16:$EO16,"A") -> 0 | EQ16: =COUNTIF($EJ16:$EO16,"B") -> 0 | ER16: =COUNTIF($EJ16:$EO16,"C") -> 0 | ES16: =COUNTIF($EJ16:$EO16,"D") -> 0 | ET16: =COUNTIF($EJ16:$EO16,"E") -> 0 | EW16: =DC16 -> 0 | EX16: / | EY16: =$DC$7 -> 100 | EZ16: =CONCATENATE(EW16,EX16,EY16) -> 0/100 | FA16: =DL16 -> 0 | FB16: / | FC16: =$DL$7 -> 100 | FD16: =CONCATENATE(FA16,FB16,FC16) -> 0/100 | FE16: =DU16 -> 0 | FF16: / | FG16: =$DU$7 -> 100 | FH16: =CONCATENATE(FE16,FF16,FG16) -> 0/100
A17: =G17 -> 0 | B17: 9 | D17: =IF(E17>0,$G$4,0) -> 0 | L17: 0 | M17: 0 | N17: =SUM(L17:M17) -> 0 | O17: 0 | P17: 0 | Q17: 0 | R17: =IF(O17="AB","AB",IF(O17="ML","ML",SUM(O17:Q17))) -> 0 | S17: 0 | T17: =IF($T$7="NA","NA",0) -> 0 | U17: 0 | V17: =IF(AND(S17="",T17="",U17=""),"",IF(OR(S17="AB",T17="AB",U17=""),"AB",IF(OR(S17="ML",T17="ML",U17=""),"ML",SUM(S17:U17)))) -> 0 | W17: =SUM(N17,R17,V17) -> 0 | X17: =IF(OR(W17="",W$7=""),"",W17/W$7*100) -> 0 | Y17: =IF($G17="nso","NSO",IF(V17="ab",V17,IF(V17="ML",V17,IF(X17>=86,"A",IF(X17>=71,"B",IF(X17>=51,"C",IF(X17>=31,"D","E"))))))) -> E | Z17: =IF($G17>0,Y17,$G17) -> 0 | AA17: 0 | AB17: 0 | AC17: =SUM(AA17:AB17) -> 0 | AD17: 0 | AE17: 0 | AF17: 0 | AG17: =IF(AD17="AB","AB",IF(AD17="ML","ML",SUM(AD17:AF17))) -> 0 | AH17: 0 | AI17: =IF($T$7="NA","NA",0) -> 0 | AJ17: 0 | AK17: =IF(AND(AH17="",AI17="",AJ17=""),"",IF(OR(AH17="AB",AI17="AB",AJ17=""),"AB",IF(OR(AH17="ML",AI17="ML",AJ17=""),"ML",SUM(AH17:AJ17)))) -> 0 | AL17: =SUM(AC17,AG17,AK17) -> 0 | AM17: =IF(OR(AL17="",AL$7=""),"",AL17/AL$7*100) -> 0 | AN17: =IF($G17="nso","NSO",IF(AK17="ab",AK17,IF(AK17="ML",AK17,IF(AM17>=86,"A",IF(AM17>=71,"B",IF(AM17>=51,"C",IF(AM17>=31,"D","E"))))))) -> E | AO17: =IF($G17>0,AN17,$G17) -> 0 | AP17: 0 | AQ17: 0 | AR17: =SUM(AP17:AQ17) -> 0 | AS17: 0 | AT17: 0 | AU17: 0 | AV17: =IF(AS17="AB","AB",IF(AS17="ML","ML",SUM(AS17:AU17))) -> 0 | AW17: 0 | AX17: 0 | AY17: 0 | AZ17: =IF(AND(AW17="",AX17="",AY17=""),"",IF(OR(AW17="AB",AX17="AB",AY17=""),"AB",IF(OR(AW17="ML",AX17="ML",AY17=""),"ML",SUM(AW17:AY17)))) -> 0 | BA17: =SUM(AR17,AV17,AZ17) -> 0 | BB17: =IF(OR(BA17="",BA$7=""),"",BA17/BA$7*100) -> 0 | BC17: =IF($G17="nso","NSO",IF(AZ17="ab",AZ17,IF(AZ17="ML",AZ17,IF(BB17>=86,"A",IF(BB17>=71,"B",IF(BB17>=51,"C",IF(BB17>=31,"D","E"))))))) -> E | BD17: =IF($G17>0,BC17,$G17) -> 0 | BE17: 0 | BF17: 0 | BG17: =SUM(BE17:BF17) -> 0 | BH17: 0 | BI17: 0 | BJ17: 0 | BK17: =IF(BH17="AB","AB",IF(BH17="ML","ML",SUM(BH17:BJ17))) -> 0 | BL17: 0 | BM17: 0 | BN17: 0 | BO17: =IF(AND(BL17="",BM17="",BN17=""),"",IF(OR(BL17="AB",BM17="AB",BN17=""),"AB",IF(OR(BL17="ML",BM17="ML",BN17=""),"ML",SUM(BL17:BN17)))) -> 0 | BP17: =SUM(BG17,BK17,BO17) -> 0 | BQ17: =IF(OR(BP17="",BP$7=""),"",BP17/BP$7*100) -> 0 | BR17: =IF($G17="nso","NSO",IF(BO17="ab",BO17,IF(BO17="ML",BO17,IF(BQ17>=86,"A",IF(BQ17>=71,"B",IF(BQ17>=51,"C",IF(BQ17>=31,"D","E"))))))) -> E | BS17: =IF($G17>0,BR17,$G17) -> 0 | BT17: 0 | BU17: 0 | BV17: =SUM(BT17:BU17) -> 0 | BW17: 0 | BX17: 0 | BY17: 0 | BZ17: =IF(BW17="AB","AB",IF(BW17="ML","ML",SUM(BW17:BY17))) -> 0 | CA17: 0 | CB17: 0 | CC17: 0 | CD17: =IF(AND(CA17="",CB17="",CC17=""),"",IF(OR(CA17="AB",CB17="AB",CC17=""),"AB",IF(OR(CA17="ML",CB17="ML",CC17=""),"ML",SUM(CA17:CC17)))) -> 0 | CE17: =SUM(BV17,BZ17,CD17) -> 0 | CF17: =IF(OR(CE17="",CE$7=""),"",CE17/CE$7*100) -> 0 | CG17: =IF($G17="nso","NSO",IF(CD17="ab",CD17,IF(CD17="ML",CD17,IF(CF17>=86,"A",IF(CF17>=71,"B",IF(CF17>=51,"C",IF(CF17>=31,"D","E"))))))) -> E | CH17: =IF($G17>0,CG17,$G17) -> 0 | CI17: 0 | CJ17: 0 | CK17: =SUM(CI17:CJ17) -> 0 | CL17: 0 | CM17: 0 | CN17: 0 | CO17: =IF(CL17="AB","AB",IF(CL17="ML","ML",SUM(CL17:CN17))) -> 0 | CP17: 0 | CQ17: 0 | CR17: =IF($T$7="NA","NA",0) -> 0 | CS17: =IF(AND(CP17="",CQ17="",CR17=""),"",IF(OR(CP17="AB",CQ17="AB",CR17=""),"AB",IF(OR(CP17="ML",CQ17="ML",CR17=""),"ML",SUM(CP17:CR17)))) -> 0 | CT17: =SUM(CK17,CO17,CS17) -> 0 | CU17: =IF(OR(CT17="",CT$7=""),"",CT17/CT$7*100) -> 0 | CV17: =IF($G17="nso","NSO",IF(CS17="ab",CS17,IF(CS17="ML",CS17,IF(CU17>=86,"A",IF(CU17>=71,"B",IF(CU17>=51,"C",IF(CU17>=31,"D","E"))))))) -> E | CW17: =IF($G17>0,CV17,$G17) -> 0 | CX17: 0 | CY17: 0 | CZ17: 0 | DC17: =SUM(CX17:DB17) -> 0 | DD17: =IF(OR(DC17="",DC$7=""),"",DC17/DC$7*100) -> 0 | DE17: =IF(DD17>91,"A+",IF(DD17>76,"A",IF(DD17>61,"B",IF(DD17>41,"C","D")))) -> D | DF17: =IF($G17>0,DE17,$G17) -> 0 | DG17: 0 | DH17: 0 | DI17: 0 | DL17: =SUM(DG17:DK17) -> 0 | DM17: =IF(OR(DL17="",DL$7=""),"",DL17/DL$7*100) -> 0 | DN17: =IF($G17="nso","NSO",IF(DK17="ab",DK17,IF(DK17="ML",DK17,IF(DM17>=91,"A+",IF(DM17>=76,"A",IF(DM17>=61,"B",IF(DM17>=41,"C","D"))))))) -> D | DO17: =IF($G17>0,DN17,$G17) -> 0 | DP17: 0 | DQ17: 0 | DR17: 0 | DU17: =SUM(DP17:DT17) -> 0 | DV17: =IF(OR(DU17="",DU$7=""),"",DU17/DU$7*100) -> 0 | DW17: =IF($G17="nso","NSO",IF(DT17="ab",DT17,IF(DT17="ML",DT17,IF(DV17>=91,"A+",IF(DV17>=76,"A",IF(DV17>=61,"B",IF(DV17>=41,"C","D"))))))) -> D | DX17: =IF($G17>0,DW17,$G17) -> 0 | EA17: =IF(OR(DY17="",DZ17=""),"",DZ17/DY17*100) | EB17: =IF(G17=0,0,SUM($W$7,$AL$7,$BA$7,$BP$7,$CE$7,$CT$7)) -> 0 | EC17: =SUM(W17,AL17,BA17,BP17,CE17,CT17) -> 0 | ED17: =IF(EB17>0,EC17/EB17*100,0) -> 0 | EE17: =IF(AND(ED17>=60,EF17="Passed"),"First",IF(AND(ED17>=48,EF17="Passed"),"Second",IF(OR(EF17="passed"),"Third",EF17))) | EF17: =IF($G17="NSO","NSO",IF($G17="tc","Transferred",IF($ET17>2,"Promoted",IF(ED17=0,"","Passed")))) | EG17: =IF(EF17="Passed",ED17,"") | EH17: =IF(EG17="","",SUMPRODUCT((EG17<EG$9:EG$108)/COUNTIF(EG$9:EG$108,EG$9:EG$108))) | EI17: =IF(ED17>81,"Excellent",IF(ED17>60,"Very Good",IF(ED17>48,"Good",IF(ED17>36,"Average",IF(ED17=0,0,"Need Improvement"))))) -> 0 | EJ17: =Z17 -> 0 | EK17: =AO17 -> 0 | EL17: =BD17 -> 0 | EM17: =BS17 -> 0 | EN17: =CH17 -> 0 | EO17: =CW17 -> 0 | EP17: =COUNTIF($EJ17:$EO17,"A") -> 0 | EQ17: =COUNTIF($EJ17:$EO17,"B") -> 0 | ER17: =COUNTIF($EJ17:$EO17,"C") -> 0 | ES17: =COUNTIF($EJ17:$EO17,"D") -> 0 | ET17: =COUNTIF($EJ17:$EO17,"E") -> 0 | EW17: =DC17 -> 0 | EX17: / | EY17: =$DC$7 -> 100 | EZ17: =CONCATENATE(EW17,EX17,EY17) -> 0/100 | FA17: =DL17 -> 0 | FB17: / | FC17: =$DL$7 -> 100 | FD17: =CONCATENATE(FA17,FB17,FC17) -> 0/100 | FE17: =DU17 -> 0 | FF17: / | FG17: =$DU$7 -> 100 | FH17: =CONCATENATE(FE17,FF17,FG17) -> 0/100
A18: =G18 -> 0 | B18: 10 | D18: =IF(E18>0,$G$4,0) -> 0 | L18: 0 | M18: 0 | N18: =SUM(L18:M18) -> 0 | O18: 0 | P18: 0 | Q18: 0 | R18: =IF(O18="AB","AB",IF(O18="ML","ML",SUM(O18:Q18))) -> 0 | S18: 0 | T18: =IF($T$7="NA","NA",0) -> 0 | U18: 0 | V18: =IF(AND(S18="",T18="",U18=""),"",IF(OR(S18="AB",T18="AB",U18=""),"AB",IF(OR(S18="ML",T18="ML",U18=""),"ML",SUM(S18:U18)))) -> 0 | W18: =SUM(N18,R18,V18) -> 0 | X18: =IF(OR(W18="",W$7=""),"",W18/W$7*100) -> 0 | Y18: =IF($G18="nso","NSO",IF(V18="ab",V18,IF(V18="ML",V18,IF(X18>=86,"A",IF(X18>=71,"B",IF(X18>=51,"C",IF(X18>=31,"D","E"))))))) -> E | Z18: =IF($G18>0,Y18,$G18) -> 0 | AA18: 0 | AB18: 0 | AC18: =SUM(AA18:AB18) -> 0 | AD18: 0 | AE18: 0 | AF18: 0 | AG18: =IF(AD18="AB","AB",IF(AD18="ML","ML",SUM(AD18:AF18))) -> 0 | AH18: 0 | AI18: =IF($T$7="NA","NA",0) -> 0 | AJ18: 0 | AK18: =IF(AND(AH18="",AI18="",AJ18=""),"",IF(OR(AH18="AB",AI18="AB",AJ18=""),"AB",IF(OR(AH18="ML",AI18="ML",AJ18=""),"ML",SUM(AH18:AJ18)))) -> 0 | AL18: =SUM(AC18,AG18,AK18) -> 0 | AM18: =IF(OR(AL18="",AL$7=""),"",AL18/AL$7*100) -> 0 | AN18: =IF($G18="nso","NSO",IF(AK18="ab",AK18,IF(AK18="ML",AK18,IF(AM18>=86,"A",IF(AM18>=71,"B",IF(AM18>=51,"C",IF(AM18>=31,"D","E"))))))) -> E | AO18: =IF($G18>0,AN18,$G18) -> 0 | AP18: 0 | AQ18: 0 | AR18: =SUM(AP18:AQ18) -> 0 | AS18: 0 | AT18: 0 | AU18: 0 | AV18: =IF(AS18="AB","AB",IF(AS18="ML","ML",SUM(AS18:AU18))) -> 0 | AW18: 0 | AX18: 0 | AY18: 0 | AZ18: =IF(AND(AW18="",AX18="",AY18=""),"",IF(OR(AW18="AB",AX18="AB",AY18=""),"AB",IF(OR(AW18="ML",AX18="ML",AY18=""),"ML",SUM(AW18:AY18)))) -> 0 | BA18: =SUM(AR18,AV18,AZ18) -> 0 | BB18: =IF(OR(BA18="",BA$7=""),"",BA18/BA$7*100) -> 0 | BC18: =IF($G18="nso","NSO",IF(AZ18="ab",AZ18,IF(AZ18="ML",AZ18,IF(BB18>=86,"A",IF(BB18>=71,"B",IF(BB18>=51,"C",IF(BB18>=31,"D","E"))))))) -> E | BD18: =IF($G18>0,BC18,$G18) -> 0 | BE18: 0 | BF18: 0 | BG18: =SUM(BE18:BF18) -> 0 | BH18: 0 | BI18: 0 | BJ18: 0 | BK18: =IF(BH18="AB","AB",IF(BH18="ML","ML",SUM(BH18:BJ18))) -> 0 | BL18: 0 | BM18: 0 | BN18: 0 | BO18: =IF(AND(BL18="",BM18="",BN18=""),"",IF(OR(BL18="AB",BM18="AB",BN18=""),"AB",IF(OR(BL18="ML",BM18="ML",BN18=""),"ML",SUM(BL18:BN18)))) -> 0 | BP18: =SUM(BG18,BK18,BO18) -> 0 | BQ18: =IF(OR(BP18="",BP$7=""),"",BP18/BP$7*100) -> 0 | BR18: =IF($G18="nso","NSO",IF(BO18="ab",BO18,IF(BO18="ML",BO18,IF(BQ18>=86,"A",IF(BQ18>=71,"B",IF(BQ18>=51,"C",IF(BQ18>=31,"D","E"))))))) -> E | BS18: =IF($G18>0,BR18,$G18) -> 0 | BT18: 0 | BU18: 0 | BV18: =SUM(BT18:BU18) -> 0 | BW18: 0 | BX18: 0 | BY18: 0 | BZ18: =IF(BW18="AB","AB",IF(BW18="ML","ML",SUM(BW18:BY18))) -> 0 | CA18: 0 | CB18: 0 | CC18: 0 | CD18: =IF(AND(CA18="",CB18="",CC18=""),"",IF(OR(CA18="AB",CB18="AB",CC18=""),"AB",IF(OR(CA18="ML",CB18="ML",CC18=""),"ML",SUM(CA18:CC18)))) -> 0 | CE18: =SUM(BV18,BZ18,CD18) -> 0 | CF18: =IF(OR(CE18="",CE$7=""),"",CE18/CE$7*100) -> 0 | CG18: =IF($G18="nso","NSO",IF(CD18="ab",CD18,IF(CD18="ML",CD18,IF(CF18>=86,"A",IF(CF18>=71,"B",IF(CF18>=51,"C",IF(CF18>=31,"D","E"))))))) -> E | CH18: =IF($G18>0,CG18,$G18) -> 0 | CI18: 0 | CJ18: 0 | CK18: =SUM(CI18:CJ18) -> 0 | CL18: 0 | CM18: 0 | CN18: 0 | CO18: =IF(CL18="AB","AB",IF(CL18="ML","ML",SUM(CL18:CN18))) -> 0 | CP18: 0 | CQ18: 0 | CR18: =IF($T$7="NA","NA",0) -> 0 | CS18: =IF(AND(CP18="",CQ18="",CR18=""),"",IF(OR(CP18="AB",CQ18="AB",CR18=""),"AB",IF(OR(CP18="ML",CQ18="ML",CR18=""),"ML",SUM(CP18:CR18)))) -> 0 | CT18: =SUM(CK18,CO18,CS18) -> 0 | CU18: =IF(OR(CT18="",CT$7=""),"",CT18/CT$7*100) -> 0 | CV18: =IF($G18="nso","NSO",IF(CS18="ab",CS18,IF(CS18="ML",CS18,IF(CU18>=86,"A",IF(CU18>=71,"B",IF(CU18>=51,"C",IF(CU18>=31,"D","E"))))))) -> E | CW18: =IF($G18>0,CV18,$G18) -> 0 | CX18: 0 | CY18: 0 | CZ18: 0 | DC18: =SUM(CX18:DB18) -> 0 | DD18: =IF(OR(DC18="",DC$7=""),"",DC18/DC$7*100) -> 0 | DE18: =IF(DD18>91,"A+",IF(DD18>76,"A",IF(DD18>61,"B",IF(DD18>41,"C","D")))) -> D | DF18: =IF($G18>0,DE18,$G18) -> 0 | DG18: 0 | DH18: 0 | DI18: 0 | DL18: =SUM(DG18:DK18) -> 0 | DM18: =IF(OR(DL18="",DL$7=""),"",DL18/DL$7*100) -> 0 | DN18: =IF($G18="nso","NSO",IF(DK18="ab",DK18,IF(DK18="ML",DK18,IF(DM18>=91,"A+",IF(DM18>=76,"A",IF(DM18>=61,"B",IF(DM18>=41,"C","D"))))))) -> D | DO18: =IF($G18>0,DN18,$G18) -> 0 | DP18: 0 | DQ18: 0 | DR18: 0 | DU18: =SUM(DP18:DT18) -> 0 | DV18: =IF(OR(DU18="",DU$7=""),"",DU18/DU$7*100) -> 0 | DW18: =IF($G18="nso","NSO",IF(DT18="ab",DT18,IF(DT18="ML",DT18,IF(DV18>=91,"A+",IF(DV18>=76,"A",IF(DV18>=61,"B",IF(DV18>=41,"C","D"))))))) -> D | DX18: =IF($G18>0,DW18,$G18) -> 0 | EA18: =IF(OR(DY18="",DZ18=""),"",DZ18/DY18*100) | EB18: =IF(G18=0,0,SUM($W$7,$AL$7,$BA$7,$BP$7,$CE$7,$CT$7)) -> 0 | EC18: =SUM(W18,AL18,BA18,BP18,CE18,CT18) -> 0 | ED18: =IF(EB18>0,EC18/EB18*100,0) -> 0 | EE18: =IF(AND(ED18>=60,EF18="Passed"),"First",IF(AND(ED18>=48,EF18="Passed"),"Second",IF(OR(EF18="passed"),"Third",EF18))) | EF18: =IF($G18="NSO","NSO",IF($G18="tc","Transferred",IF($ET18>2,"Promoted",IF(ED18=0,"","Passed")))) | EG18: =IF(EF18="Passed",ED18,"") | EH18: =IF(EG18="","",SUMPRODUCT((EG18<EG$9:EG$108)/COUNTIF(EG$9:EG$108,EG$9:EG$108))) | EI18: =IF(ED18>81,"Excellent",IF(ED18>60,"Very Good",IF(ED18>48,"Good",IF(ED18>36,"Average",IF(ED18=0,0,"Need Improvement"))))) -> 0 | EJ18: =Z18 -> 0 | EK18: =AO18 -> 0 | EL18: =BD18 -> 0 | EM18: =BS18 -> 0 | EN18: =CH18 -> 0 | EO18: =CW18 -> 0 | EP18: =COUNTIF($EJ18:$EO18,"A") -> 0 | EQ18: =COUNTIF($EJ18:$EO18,"B") -> 0 | ER18: =COUNTIF($EJ18:$EO18,"C") -> 0 | ES18: =COUNTIF($EJ18:$EO18,"D") -> 0 | ET18: =COUNTIF($EJ18:$EO18,"E") -> 0 | EW18: =DC18 -> 0 | EX18: / | EY18: =$DC$7 -> 100 | EZ18: =CONCATENATE(EW18,EX18,EY18) -> 0/100 | FA18: =DL18 -> 0 | FB18: / | FC18: =$DL$7 -> 100 | FD18: =CONCATENATE(FA18,FB18,FC18) -> 0/100 | FE18: =DU18 -> 0 | FF18: / | FG18: =$DU$7 -> 100 | FH18: =CONCATENATE(FE18,FF18,FG18) -> 0/100
A19: =G19 -> 0 | B19: 11 | D19: =IF(E19>0,$G$4,0) -> 0 | L19: 0 | M19: 0 | N19: =SUM(L19:M19) -> 0 | O19: 0 | P19: 0 | Q19: 0 | R19: =IF(O19="AB","AB",IF(O19="ML","ML",SUM(O19:Q19))) -> 0 | S19: 0 | T19: =IF($T$7="NA","NA",0) -> 0 | U19: 0 | V19: =IF(AND(S19="",T19="",U19=""),"",IF(OR(S19="AB",T19="AB",U19=""),"AB",IF(OR(S19="ML",T19="ML",U19=""),"ML",SUM(S19:U19)))) -> 0 | W19: =SUM(N19,R19,V19) -> 0 | X19: =IF(OR(W19="",W$7=""),"",W19/W$7*100) -> 0 | Y19: =IF($G19="nso","NSO",IF(V19="ab",V19,IF(V19="ML",V19,IF(X19>=86,"A",IF(X19>=71,"B",IF(X19>=51,"C",IF(X19>=31,"D","E"))))))) -> E | Z19: =IF($G19>0,Y19,$G19) -> 0 | AA19: 0 | AB19: 0 | AC19: =SUM(AA19:AB19) -> 0 | AD19: 0 | AE19: 0 | AF19: 0 | AG19: =IF(AD19="AB","AB",IF(AD19="ML","ML",SUM(AD19:AF19))) -> 0 | AH19: 0 | AI19: =IF($T$7="NA","NA",0) -> 0 | AJ19: 0 | AK19: =IF(AND(AH19="",AI19="",AJ19=""),"",IF(OR(AH19="AB",AI19="AB",AJ19=""),"AB",IF(OR(AH19="ML",AI19="ML",AJ19=""),"ML",SUM(AH19:AJ19)))) -> 0 | AL19: =SUM(AC19,AG19,AK19) -> 0 | AM19: =IF(OR(AL19="",AL$7=""),"",AL19/AL$7*100) -> 0 | AN19: =IF($G19="nso","NSO",IF(AK19="ab",AK19,IF(AK19="ML",AK19,IF(AM19>=86,"A",IF(AM19>=71,"B",IF(AM19>=51,"C",IF(AM19>=31,"D","E"))))))) -> E | AO19: =IF($G19>0,AN19,$G19) -> 0 | AP19: 0 | AQ19: 0 | AR19: =SUM(AP19:AQ19) -> 0 | AS19: 0 | AT19: 0 | AU19: 0 | AV19: =IF(AS19="AB","AB",IF(AS19="ML","ML",SUM(AS19:AU19))) -> 0 | AW19: 0 | AX19: 0 | AY19: 0 | AZ19: =IF(AND(AW19="",AX19="",AY19=""),"",IF(OR(AW19="AB",AX19="AB",AY19=""),"AB",IF(OR(AW19="ML",AX19="ML",AY19=""),"ML",SUM(AW19:AY19)))) -> 0 | BA19: =SUM(AR19,AV19,AZ19) -> 0 | BB19: =IF(OR(BA19="",BA$7=""),"",BA19/BA$7*100) -> 0 | BC19: =IF($G19="nso","NSO",IF(AZ19="ab",AZ19,IF(AZ19="ML",AZ19,IF(BB19>=86,"A",IF(BB19>=71,"B",IF(BB19>=51,"C",IF(BB19>=31,"D","E"))))))) -> E | BD19: =IF($G19>0,BC19,$G19) -> 0 | BE19: 0 | BF19: 0 | BG19: =SUM(BE19:BF19) -> 0 | BH19: 0 | BI19: 0 | BJ19: 0 | BK19: =IF(BH19="AB","AB",IF(BH19="ML","ML",SUM(BH19:BJ19))) -> 0 | BL19: 0 | BM19: 0 | BN19: 0 | BO19: =IF(AND(BL19="",BM19="",BN19=""),"",IF(OR(BL19="AB",BM19="AB",BN19=""),"AB",IF(OR(BL19="ML",BM19="ML",BN19=""),"ML",SUM(BL19:BN19)))) -> 0 | BP19: =SUM(BG19,BK19,BO19) -> 0 | BQ19: =IF(OR(BP19="",BP$7=""),"",BP19/BP$7*100) -> 0 | BR19: =IF($G19="nso","NSO",IF(BO19="ab",BO19,IF(BO19="ML",BO19,IF(BQ19>=86,"A",IF(BQ19>=71,"B",IF(BQ19>=51,"C",IF(BQ19>=31,"D","E"))))))) -> E | BS19: =IF($G19>0,BR19,$G19) -> 0 | BT19: 0 | BU19: 0 | BV19: =SUM(BT19:BU19) -> 0 | BW19: 0 | BX19: 0 | BY19: 0 | BZ19: =IF(BW19="AB","AB",IF(BW19="ML","ML",SUM(BW19:BY19))) -> 0 | CA19: 0 | CB19: 0 | CC19: 0 | CD19: =IF(AND(CA19="",CB19="",CC19=""),"",IF(OR(CA19="AB",CB19="AB",CC19=""),"AB",IF(OR(CA19="ML",CB19="ML",CC19=""),"ML",SUM(CA19:CC19)))) -> 0 | CE19: =SUM(BV19,BZ19,CD19) -> 0 | CF19: =IF(OR(CE19="",CE$7=""),"",CE19/CE$7*100) -> 0 | CG19: =IF($G19="nso","NSO",IF(CD19="ab",CD19,IF(CD19="ML",CD19,IF(CF19>=86,"A",IF(CF19>=71,"B",IF(CF19>=51,"C",IF(CF19>=31,"D","E"))))))) -> E | CH19: =IF($G19>0,CG19,$G19) -> 0 | CI19: 0 | CJ19: 0 | CK19: =SUM(CI19:CJ19) -> 0 | CL19: 0 | CM19: 0 | CN19: 0 | CO19: =IF(CL19="AB","AB",IF(CL19="ML","ML",SUM(CL19:CN19))) -> 0 | CP19: 0 | CQ19: 0 | CR19: =IF($T$7="NA","NA",0) -> 0 | CS19: =IF(AND(CP19="",CQ19="",CR19=""),"",IF(OR(CP19="AB",CQ19="AB",CR19=""),"AB",IF(OR(CP19="ML",CQ19="ML",CR19=""),"ML",SUM(CP19:CR19)))) -> 0 | CT19: =SUM(CK19,CO19,CS19) -> 0 | CU19: =IF(OR(CT19="",CT$7=""),"",CT19/CT$7*100) -> 0 | CV19: =IF($G19="nso","NSO",IF(CS19="ab",CS19,IF(CS19="ML",CS19,IF(CU19>=86,"A",IF(CU19>=71,"B",IF(CU19>=51,"C",IF(CU19>=31,"D","E"))))))) -> E | CW19: =IF($G19>0,CV19,$G19) -> 0 | CX19: 0 | CY19: 0 | CZ19: 0 | DC19: =SUM(CX19:DB19) -> 0 | DD19: =IF(OR(DC19="",DC$7=""),"",DC19/DC$7*100) -> 0 | DE19: =IF(DD19>91,"A+",IF(DD19>76,"A",IF(DD19>61,"B",IF(DD19>41,"C","D")))) -> D | DF19: =IF($G19>0,DE19,$G19) -> 0 | DG19: 0 | DH19: 0 | DI19: 0 | DL19: =SUM(DG19:DK19) -> 0 | DM19: =IF(OR(DL19="",DL$7=""),"",DL19/DL$7*100) -> 0 | DN19: =IF($G19="nso","NSO",IF(DK19="ab",DK19,IF(DK19="ML",DK19,IF(DM19>=91,"A+",IF(DM19>=76,"A",IF(DM19>=61,"B",IF(DM19>=41,"C","D"))))))) -> D | DO19: =IF($G19>0,DN19,$G19) -> 0 | DP19: 0 | DQ19: 0 | DR19: 0 | DU19: =SUM(DP19:DT19) -> 0 | DV19: =IF(OR(DU19="",DU$7=""),"",DU19/DU$7*100) -> 0 | DW19: =IF($G19="nso","NSO",IF(DT19="ab",DT19,IF(DT19="ML",DT19,IF(DV19>=91,"A+",IF(DV19>=76,"A",IF(DV19>=61,"B",IF(DV19>=41,"C","D"))))))) -> D | DX19: =IF($G19>0,DW19,$G19) -> 0 | EA19: =IF(OR(DY19="",DZ19=""),"",DZ19/DY19*100) | EB19: =IF(G19=0,0,SUM($W$7,$AL$7,$BA$7,$BP$7,$CE$7,$CT$7)) -> 0 | EC19: =SUM(W19,AL19,BA19,BP19,CE19,CT19) -> 0 | ED19: =IF(EB19>0,EC19/EB19*100,0) -> 0 | EE19: =IF(AND(ED19>=60,EF19="Passed"),"First",IF(AND(ED19>=48,EF19="Passed"),"Second",IF(OR(EF19="passed"),"Third",EF19))) | EF19: =IF($G19="NSO","NSO",IF($G19="tc","Transferred",IF($ET19>2,"Promoted",IF(ED19=0,"","Passed")))) | EG19: =IF(EF19="Passed",ED19,"") | EH19: =IF(EG19="","",SUMPRODUCT((EG19<EG$9:EG$108)/COUNTIF(EG$9:EG$108,EG$9:EG$108))) | EI19: =IF(ED19>81,"Excellent",IF(ED19>60,"Very Good",IF(ED19>48,"Good",IF(ED19>36,"Average",IF(ED19=0,0,"Need Improvement"))))) -> 0 | EJ19: =Z19 -> 0 | EK19: =AO19 -> 0 | EL19: =BD19 -> 0 | EM19: =BS19 -> 0 | EN19: =CH19 -> 0 | EO19: =CW19 -> 0 | EP19: =COUNTIF($EJ19:$EO19,"A") -> 0 | EQ19: =COUNTIF($EJ19:$EO19,"B") -> 0 | ER19: =COUNTIF($EJ19:$EO19,"C") -> 0 | ES19: =COUNTIF($EJ19:$EO19,"D") -> 0 | ET19: =COUNTIF($EJ19:$EO19,"E") -> 0 | EW19: =DC19 -> 0 | EX19: / | EY19: =$DC$7 -> 100 | EZ19: =CONCATENATE(EW19,EX19,EY19) -> 0/100 | FA19: =DL19 -> 0 | FB19: / | FC19: =$DL$7 -> 100 | FD19: =CONCATENATE(FA19,FB19,FC19) -> 0/100 | FE19: =DU19 -> 0 | FF19: / | FG19: =$DU$7 -> 100 | FH19: =CONCATENATE(FE19,FF19,FG19) -> 0/100
A20: =G20 -> 0 | B20: 12 | D20: =IF(E20>0,$G$4,0) -> 0 | L20: 0 | M20: 0 | N20: =SUM(L20:M20) -> 0 | O20: 0 | P20: 0 | Q20: 0 | R20: =IF(O20="AB","AB",IF(O20="ML","ML",SUM(O20:Q20))) -> 0 | S20: 0 | T20: =IF($T$7="NA","NA",0) -> 0 | U20: 0 | V20: =IF(AND(S20="",T20="",U20=""),"",IF(OR(S20="AB",T20="AB",U20=""),"AB",IF(OR(S20="ML",T20="ML",U20=""),"ML",SUM(S20:U20)))) -> 0 | W20: =SUM(N20,R20,V20) -> 0 | X20: =IF(OR(W20="",W$7=""),"",W20/W$7*100) -> 0 | Y20: =IF($G20="nso","NSO",IF(V20="ab",V20,IF(V20="ML",V20,IF(X20>=86,"A",IF(X20>=71,"B",IF(X20>=51,"C",IF(X20>=31,"D","E"))))))) -> E | Z20: =IF($G20>0,Y20,$G20) -> 0 | AA20: 0 | AB20: 0 | AC20: =SUM(AA20:AB20) -> 0 | AD20: 0 | AE20: 0 | AF20: 0 | AG20: =IF(AD20="AB","AB",IF(AD20="ML","ML",SUM(AD20:AF20))) -> 0 | AH20: 0 | AI20: =IF($T$7="NA","NA",0) -> 0 | AJ20: 0 | AK20: =IF(AND(AH20="",AI20="",AJ20=""),"",IF(OR(AH20="AB",AI20="AB",AJ20=""),"AB",IF(OR(AH20="ML",AI20="ML",AJ20=""),"ML",SUM(AH20:AJ20)))) -> 0 | AL20: =SUM(AC20,AG20,AK20) -> 0 | AM20: =IF(OR(AL20="",AL$7=""),"",AL20/AL$7*100) -> 0 | AN20: =IF($G20="nso","NSO",IF(AK20="ab",AK20,IF(AK20="ML",AK20,IF(AM20>=86,"A",IF(AM20>=71,"B",IF(AM20>=51,"C",IF(AM20>=31,"D","E"))))))) -> E | AO20: =IF($G20>0,AN20,$G20) -> 0 | AP20: 0 | AQ20: 0 | AR20: =SUM(AP20:AQ20) -> 0 | AS20: 0 | AT20: 0 | AU20: 0 | AV20: =IF(AS20="AB","AB",IF(AS20="ML","ML",SUM(AS20:AU20))) -> 0 | AW20: 0 | AX20: 0 | AY20: 0 | AZ20: =IF(AND(AW20="",AX20="",AY20=""),"",IF(OR(AW20="AB",AX20="AB",AY20=""),"AB",IF(OR(AW20="ML",AX20="ML",AY20=""),"ML",SUM(AW20:AY20)))) -> 0 | BA20: =SUM(AR20,AV20,AZ20) -> 0 | BB20: =IF(OR(BA20="",BA$7=""),"",BA20/BA$7*100) -> 0 | BC20: =IF($G20="nso","NSO",IF(AZ20="ab",AZ20,IF(AZ20="ML",AZ20,IF(BB20>=86,"A",IF(BB20>=71,"B",IF(BB20>=51,"C",IF(BB20>=31,"D","E"))))))) -> E | BD20: =IF($G20>0,BC20,$G20) -> 0 | BE20: 0 | BF20: 0 | BG20: =SUM(BE20:BF20) -> 0 | BH20: 0 | BI20: 0 | BJ20: 0 | BK20: =IF(BH20="AB","AB",IF(BH20="ML","ML",SUM(BH20:BJ20))) -> 0 | BL20: 0 | BM20: 0 | BN20: 0 | BO20: =IF(AND(BL20="",BM20="",BN20=""),"",IF(OR(BL20="AB",BM20="AB",BN20=""),"AB",IF(OR(BL20="ML",BM20="ML",BN20=""),"ML",SUM(BL20:BN20)))) -> 0 | BP20: =SUM(BG20,BK20,BO20) -> 0 | BQ20: =IF(OR(BP20="",BP$7=""),"",BP20/BP$7*100) -> 0 | BR20: =IF($G20="nso","NSO",IF(BO20="ab",BO20,IF(BO20="ML",BO20,IF(BQ20>=86,"A",IF(BQ20>=71,"B",IF(BQ20>=51,"C",IF(BQ20>=31,"D","E"))))))) -> E | BS20: =IF($G20>0,BR20,$G20) -> 0 | BT20: 0 | BU20: 0 | BV20: =SUM(BT20:BU20) -> 0 | BW20: 0 | BX20: 0 | BY20: 0 | BZ20: =IF(BW20="AB","AB",IF(BW20="ML","ML",SUM(BW20:BY20))) -> 0 | CA20: 0 | CB20: 0 | CC20: 0 | CD20: =IF(AND(CA20="",CB20="",CC20=""),"",IF(OR(CA20="AB",CB20="AB",CC20=""),"AB",IF(OR(CA20="ML",CB20="ML",CC20=""),"ML",SUM(CA20:CC20)))) -> 0 | CE20: =SUM(BV20,BZ20,CD20) -> 0 | CF20: =IF(OR(CE20="",CE$7=""),"",CE20/CE$7*100) -> 0 | CG20: =IF($G20="nso","NSO",IF(CD20="ab",CD20,IF(CD20="ML",CD20,IF(CF20>=86,"A",IF(CF20>=71,"B",IF(CF20>=51,"C",IF(CF20>=31,"D","E"))))))) -> E | CH20: =IF($G20>0,CG20,$G20) -> 0 | CI20: 0 | CJ20: 0 | CK20: =SUM(CI20:CJ20) -> 0 | CL20: 0 | CM20: 0 | CN20: 0 | CO20: =IF(CL20="AB","AB",IF(CL20="ML","ML",SUM(CL20:CN20))) -> 0 | CP20: 0 | CQ20: 0 | CR20: =IF($T$7="NA","NA",0) -> 0 | CS20: =IF(AND(CP20="",CQ20="",CR20=""),"",IF(OR(CP20="AB",CQ20="AB",CR20=""),"AB",IF(OR(CP20="ML",CQ20="ML",CR20=""),"ML",SUM(CP20:CR20)))) -> 0 | CT20: =SUM(CK20,CO20,CS20) -> 0 | CU20: =IF(OR(CT20="",CT$7=""),"",CT20/CT$7*100) -> 0 | CV20: =IF($G20="nso","NSO",IF(CS20="ab",CS20,IF(CS20="ML",CS20,IF(CU20>=86,"A",IF(CU20>=71,"B",IF(CU20>=51,"C",IF(CU20>=31,"D","E"))))))) -> E | CW20: =IF($G20>0,CV20,$G20) -> 0 | CX20: 0 | CY20: 0 | CZ20: 0 | DC20: =SUM(CX20:DB20) -> 0 | DD20: =IF(OR(DC20="",DC$7=""),"",DC20/DC$7*100) -> 0 | DE20: =IF(DD20>91,"A+",IF(DD20>76,"A",IF(DD20>61,"B",IF(DD20>41,"C","D")))) -> D | DF20: =IF($G20>0,DE20,$G20) -> 0 | DG20: 0 | DH20: 0 | DI20: 0 | DL20: =SUM(DG20:DK20) -> 0 | DM20: =IF(OR(DL20="",DL$7=""),"",DL20/DL$7*100) -> 0 | DN20: =IF($G20="nso","NSO",IF(DK20="ab",DK20,IF(DK20="ML",DK20,IF(DM20>=91,"A+",IF(DM20>=76,"A",IF(DM20>=61,"B",IF(DM20>=41,"C","D"))))))) -> D | DO20: =IF($G20>0,DN20,$G20) -> 0 | DP20: 0 | DQ20: 0 | DR20: 0 | DU20: =SUM(DP20:DT20) -> 0 | DV20: =IF(OR(DU20="",DU$7=""),"",DU20/DU$7*100) -> 0 | DW20: =IF($G20="nso","NSO",IF(DT20="ab",DT20,IF(DT20="ML",DT20,IF(DV20>=91,"A+",IF(DV20>=76,"A",IF(DV20>=61,"B",IF(DV20>=41,"C","D"))))))) -> D | DX20: =IF($G20>0,DW20,$G20) -> 0 | EA20: =IF(OR(DY20="",DZ20=""),"",DZ20/DY20*100) | EB20: =IF(G20=0,0,SUM($W$7,$AL$7,$BA$7,$BP$7,$CE$7,$CT$7)) -> 0 | EC20: =SUM(W20,AL20,BA20,BP20,CE20,CT20) -> 0 | ED20: =IF(EB20>0,EC20/EB20*100,0) -> 0 | EE20: =IF(AND(ED20>=60,EF20="Passed"),"First",IF(AND(ED20>=48,EF20="Passed"),"Second",IF(OR(EF20="passed"),"Third",EF20))) | EF20: =IF($G20="NSO","NSO",IF($G20="tc","Transferred",IF($ET20>2,"Promoted",IF(ED20=0,"","Passed")))) | EG20: =IF(EF20="Passed",ED20,"") | EH20: =IF(EG20="","",SUMPRODUCT((EG20<EG$9:EG$108)/COUNTIF(EG$9:EG$108,EG$9:EG$108))) | EI20: =IF(ED20>81,"Excellent",IF(ED20>60,"Very Good",IF(ED20>48,"Good",IF(ED20>36,"Average",IF(ED20=0,0,"Need Improvement"))))) -> 0 | EJ20: =Z20 -> 0 | EK20: =AO20 -> 0 | EL20: =BD20 -> 0 | EM20: =BS20 -> 0 | EN20: =CH20 -> 0 | EO20: =CW20 -> 0 | EP20: =COUNTIF($EJ20:$EO20,"A") -> 0 | EQ20: =COUNTIF($EJ20:$EO20,"B") -> 0 | ER20: =COUNTIF($EJ20:$EO20,"C") -> 0 | ES20: =COUNTIF($EJ20:$EO20,"D") -> 0 | ET20: =COUNTIF($EJ20:$EO20,"E") -> 0 | EW20: =DC20 -> 0 | EX20: / | EY20: =$DC$7 -> 100 | EZ20: =CONCATENATE(EW20,EX20,EY20) -> 0/100 | FA20: =DL20 -> 0 | FB20: / | FC20: =$DL$7 -> 100 | FD20: =CONCATENATE(FA20,FB20,FC20) -> 0/100 | FE20: =DU20 -> 0 | FF20: / | FG20: =$DU$7 -> 100 | FH20: =CONCATENATE(FE20,FF20,FG20) -> 0/100
A21: =G21 -> 0 | B21: 13 | D21: =IF(E21>0,$G$4,0) -> 0 | L21: 0 | M21: 0 | N21: =SUM(L21:M21) -> 0 | O21: 0 | P21: 0 | Q21: 0 | R21: =IF(O21="AB","AB",IF(O21="ML","ML",SUM(O21:Q21))) -> 0 | S21: 0 | T21: =IF($T$7="NA","NA",0) -> 0 | U21: 0 | V21: =IF(AND(S21="",T21="",U21=""),"",IF(OR(S21="AB",T21="AB",U21=""),"AB",IF(OR(S21="ML",T21="ML",U21=""),"ML",SUM(S21:U21)))) -> 0 | W21: =SUM(N21,R21,V21) -> 0 | X21: =IF(OR(W21="",W$7=""),"",W21/W$7*100) -> 0 | Y21: =IF($G21="nso","NSO",IF(V21="ab",V21,IF(V21="ML",V21,IF(X21>=86,"A",IF(X21>=71,"B",IF(X21>=51,"C",IF(X21>=31,"D","E"))))))) -> E | Z21: =IF($G21>0,Y21,$G21) -> 0 | AA21: 0 | AB21: 0 | AC21: =SUM(AA21:AB21) -> 0 | AD21: 0 | AE21: 0 | AF21: 0 | AG21: =IF(AD21="AB","AB",IF(AD21="ML","ML",SUM(AD21:AF21))) -> 0 | AH21: 0 | AI21: =IF($T$7="NA","NA",0) -> 0 | AJ21: 0 | AK21: =IF(AND(AH21="",AI21="",AJ21=""),"",IF(OR(AH21="AB",AI21="AB",AJ21=""),"AB",IF(OR(AH21="ML",AI21="ML",AJ21=""),"ML",SUM(AH21:AJ21)))) -> 0 | AL21: =SUM(AC21,AG21,AK21) -> 0 | AM21: =IF(OR(AL21="",AL$7=""),"",AL21/AL$7*100) -> 0 | AN21: =IF($G21="nso","NSO",IF(AK21="ab",AK21,IF(AK21="ML",AK21,IF(AM21>=86,"A",IF(AM21>=71,"B",IF(AM21>=51,"C",IF(AM21>=31,"D","E"))))))) -> E | AO21: =IF($G21>0,AN21,$G21) -> 0 | AP21: 0 | AQ21: 0 | AR21: =SUM(AP21:AQ21) -> 0 | AS21: 0 | AT21: 0 | AU21: 0 | AV21: =IF(AS21="AB","AB",IF(AS21="ML","ML",SUM(AS21:AU21))) -> 0 | AW21: 0 | AX21: 0 | AY21: 0 | AZ21: =IF(AND(AW21="",AX21="",AY21=""),"",IF(OR(AW21="AB",AX21="AB",AY21=""),"AB",IF(OR(AW21="ML",AX21="ML",AY21=""),"ML",SUM(AW21:AY21)))) -> 0 | BA21: =SUM(AR21,AV21,AZ21) -> 0 | BB21: =IF(OR(BA21="",BA$7=""),"",BA21/BA$7*100) -> 0 | BC21: =IF($G21="nso","NSO",IF(AZ21="ab",AZ21,IF(AZ21="ML",AZ21,IF(BB21>=86,"A",IF(BB21>=71,"B",IF(BB21>=51,"C",IF(BB21>=31,"D","E"))))))) -> E | BD21: =IF($G21>0,BC21,$G21) -> 0 | BE21: 0 | BF21: 0 | BG21: =SUM(BE21:BF21) -> 0 | BH21: 0 | BI21: 0 | BJ21: 0 | BK21: =IF(BH21="AB","AB",IF(BH21="ML","ML",SUM(BH21:BJ21))) -> 0 | BL21: 0 | BM21: 0 | BN21: 0 | BO21: =IF(AND(BL21="",BM21="",BN21=""),"",IF(OR(BL21="AB",BM21="AB",BN21=""),"AB",IF(OR(BL21="ML",BM21="ML",BN21=""),"ML",SUM(BL21:BN21)))) -> 0 | BP21: =SUM(BG21,BK21,BO21) -> 0 | BQ21: =IF(OR(BP21="",BP$7=""),"",BP21/BP$7*100) -> 0 | BR21: =IF($G21="nso","NSO",IF(BO21="ab",BO21,IF(BO21="ML",BO21,IF(BQ21>=86,"A",IF(BQ21>=71,"B",IF(BQ21>=51,"C",IF(BQ21>=31,"D","E"))))))) -> E | BS21: =IF($G21>0,BR21,$G21) -> 0 | BT21: 0 | BU21: 0 | BV21: =SUM(BT21:BU21) -> 0 | BW21: 0 | BX21: 0 | BY21: 0 | BZ21: =IF(BW21="AB","AB",IF(BW21="ML","ML",SUM(BW21:BY21))) -> 0 | CA21: 0 | CB21: 0 | CC21: 0 | CD21: =IF(AND(CA21="",CB21="",CC21=""),"",IF(OR(CA21="AB",CB21="AB",CC21=""),"AB",IF(OR(CA21="ML",CB21="ML",CC21=""),"ML",SUM(CA21:CC21)))) -> 0 | CE21: =SUM(BV21,BZ21,CD21) -> 0 | CF21: =IF(OR(CE21="",CE$7=""),"",CE21/CE$7*100) -> 0 | CG21: =IF($G21="nso","NSO",IF(CD21="ab",CD21,IF(CD21="ML",CD21,IF(CF21>=86,"A",IF(CF21>=71,"B",IF(CF21>=51,"C",IF(CF21>=31,"D","E"))))))) -> E | CH21: =IF($G21>0,CG21,$G21) -> 0 | CI21: 0 | CJ21: 0 | CK21: =SUM(CI21:CJ21) -> 0 | CL21: 0 | CM21: 0 | CN21: 0 | CO21: =IF(CL21="AB","AB",IF(CL21="ML","ML",SUM(CL21:CN21))) -> 0 | CP21: 0 | CQ21: 0 | CR21: =IF($T$7="NA","NA",0) -> 0 | CS21: =IF(AND(CP21="",CQ21="",CR21=""),"",IF(OR(CP21="AB",CQ21="AB",CR21=""),"AB",IF(OR(CP21="ML",CQ21="ML",CR21=""),"ML",SUM(CP21:CR21)))) -> 0 | CT21: =SUM(CK21,CO21,CS21) -> 0 | CU21: =IF(OR(CT21="",CT$7=""),"",CT21/CT$7*100) -> 0 | CV21: =IF($G21="nso","NSO",IF(CS21="ab",CS21,IF(CS21="ML",CS21,IF(CU21>=86,"A",IF(CU21>=71,"B",IF(CU21>=51,"C",IF(CU21>=31,"D","E"))))))) -> E | CW21: =IF($G21>0,CV21,$G21) -> 0 | CX21: 0 | CY21: 0 | CZ21: 0 | DC21: =SUM(CX21:DB21) -> 0 | DD21: =IF(OR(DC21="",DC$7=""),"",DC21/DC$7*100) -> 0 | DE21: =IF(DD21>91,"A+",IF(DD21>76,"A",IF(DD21>61,"B",IF(DD21>41,"C","D")))) -> D | DF21: =IF($G21>0,DE21,$G21) -> 0 | DG21: 0 | DH21: 0 | DI21: 0 | DL21: =SUM(DG21:DK21) -> 0 | DM21: =IF(OR(DL21="",DL$7=""),"",DL21/DL$7*100) -> 0 | DN21: =IF($G21="nso","NSO",IF(DK21="ab",DK21,IF(DK21="ML",DK21,IF(DM21>=91,"A+",IF(DM21>=76,"A",IF(DM21>=61,"B",IF(DM21>=41,"C","D"))))))) -> D | DO21: =IF($G21>0,DN21,$G21) -> 0 | DP21: 0 | DQ21: 0 | DR21: 0 | DU21: =SUM(DP21:DT21) -> 0 | DV21: =IF(OR(DU21="",DU$7=""),"",DU21/DU$7*100) -> 0 | DW21: =IF($G21="nso","NSO",IF(DT21="ab",DT21,IF(DT21="ML",DT21,IF(DV21>=91,"A+",IF(DV21>=76,"A",IF(DV21>=61,"B",IF(DV21>=41,"C","D"))))))) -> D | DX21: =IF($G21>0,DW21,$G21) -> 0 | EA21: =IF(OR(DY21="",DZ21=""),"",DZ21/DY21*100) | EB21: =IF(G21=0,0,SUM($W$7,$AL$7,$BA$7,$BP$7,$CE$7,$CT$7)) -> 0 | EC21: =SUM(W21,AL21,BA21,BP21,CE21,CT21) -> 0 | ED21: =IF(EB21>0,EC21/EB21*100,0) -> 0 | EE21: =IF(AND(ED21>=60,EF21="Passed"),"First",IF(AND(ED21>=48,EF21="Passed"),"Second",IF(OR(EF21="passed"),"Third",EF21))) | EF21: =IF($G21="NSO","NSO",IF($G21="tc","Transferred",IF($ET21>2,"Promoted",IF(ED21=0,"","Passed")))) | EG21: =IF(EF21="Passed",ED21,"") | EH21: =IF(EG21="","",SUMPRODUCT((EG21<EG$9:EG$108)/COUNTIF(EG$9:EG$108,EG$9:EG$108))) | EI21: =IF(ED21>81,"Excellent",IF(ED21>60,"Very Good",IF(ED21>48,"Good",IF(ED21>36,"Average",IF(ED21=0,0,"Need Improvement"))))) -> 0 | EJ21: =Z21 -> 0 | EK21: =AO21 -> 0 | EL21: =BD21 -> 0 | EM21: =BS21 -> 0 | EN21: =CH21 -> 0 | EO21: =CW21 -> 0 | EP21: =COUNTIF($EJ21:$EO21,"A") -> 0 | EQ21: =COUNTIF($EJ21:$EO21,"B") -> 0 | ER21: =COUNTIF($EJ21:$EO21,"C") -> 0 | ES21: =COUNTIF($EJ21:$EO21,"D") -> 0 | ET21: =COUNTIF($EJ21:$EO21,"E") -> 0 | EW21: =DC21 -> 0 | EX21: / | EY21: =$DC$7 -> 100 | EZ21: =CONCATENATE(EW21,EX21,EY21) -> 0/100 | FA21: =DL21 -> 0 | FB21: / | FC21: =$DL$7 -> 100 | FD21: =CONCATENATE(FA21,FB21,FC21) -> 0/100 | FE21: =DU21 -> 0 | FF21: / | FG21: =$DU$7 -> 100 | FH21: =CONCATENATE(FE21,FF21,FG21) -> 0/100
A22: =G22 -> 0 | B22: 14 | D22: =IF(E22>0,$G$4,0) -> 0 | L22: 0 | M22: 0 | N22: =SUM(L22:M22) -> 0 | O22: 0 | P22: 0 | Q22: 0 | R22: =IF(O22="AB","AB",IF(O22="ML","ML",SUM(O22:Q22))) -> 0 | S22: 0 | T22: =IF($T$7="NA","NA",0) -> 0 | U22: 0 | V22: =IF(AND(S22="",T22="",U22=""),"",IF(OR(S22="AB",T22="AB",U22=""),"AB",IF(OR(S22="ML",T22="ML",U22=""),"ML",SUM(S22:U22)))) -> 0 | W22: =SUM(N22,R22,V22) -> 0 | X22: =IF(OR(W22="",W$7=""),"",W22/W$7*100) -> 0 | Y22: =IF($G22="nso","NSO",IF(V22="ab",V22,IF(V22="ML",V22,IF(X22>=86,"A",IF(X22>=71,"B",IF(X22>=51,"C",IF(X22>=31,"D","E"))))))) -> E | Z22: =IF($G22>0,Y22,$G22) -> 0 | AA22: 0 | AB22: 0 | AC22: =SUM(AA22:AB22) -> 0 | AD22: 0 | AE22: 0 | AF22: 0 | AG22: =IF(AD22="AB","AB",IF(AD22="ML","ML",SUM(AD22:AF22))) -> 0 | AH22: 0 | AI22: =IF($T$7="NA","NA",0) -> 0 | AJ22: 0 | AK22: =IF(AND(AH22="",AI22="",AJ22=""),"",IF(OR(AH22="AB",AI22="AB",AJ22=""),"AB",IF(OR(AH22="ML",AI22="ML",AJ22=""),"ML",SUM(AH22:AJ22)))) -> 0 | AL22: =SUM(AC22,AG22,AK22) -> 0 | AM22: =IF(OR(AL22="",AL$7=""),"",AL22/AL$7*100) -> 0 | AN22: =IF($G22="nso","NSO",IF(AK22="ab",AK22,IF(AK22="ML",AK22,IF(AM22>=86,"A",IF(AM22>=71,"B",IF(AM22>=51,"C",IF(AM22>=31,"D","E"))))))) -> E | AO22: =IF($G22>0,AN22,$G22) -> 0 | AP22: 0 | AQ22: 0 | AR22: =SUM(AP22:AQ22) -> 0 | AS22: 0 | AT22: 0 | AU22: 0 | AV22: =IF(AS22="AB","AB",IF(AS22="ML","ML",SUM(AS22:AU22))) -> 0 | AW22: 0 | AX22: 0 | AY22: 0 | AZ22: =IF(AND(AW22="",AX22="",AY22=""),"",IF(OR(AW22="AB",AX22="AB",AY22=""),"AB",IF(OR(AW22="ML",AX22="ML",AY22=""),"ML",SUM(AW22:AY22)))) -> 0 | BA22: =SUM(AR22,AV22,AZ22) -> 0 | BB22: =IF(OR(BA22="",BA$7=""),"",BA22/BA$7*100) -> 0 | BC22: =IF($G22="nso","NSO",IF(AZ22="ab",AZ22,IF(AZ22="ML",AZ22,IF(BB22>=86,"A",IF(BB22>=71,"B",IF(BB22>=51,"C",IF(BB22>=31,"D","E"))))))) -> E | BD22: =IF($G22>0,BC22,$G22) -> 0 | BE22: 0 | BF22: 0 | BG22: =SUM(BE22:BF22) -> 0 | BH22: 0 | BI22: 0 | BJ22: 0 | BK22: =IF(BH22="AB","AB",IF(BH22="ML","ML",SUM(BH22:BJ22))) -> 0 | BL22: 0 | BM22: 0 | BN22: 0 | BO22: =IF(AND(BL22="",BM22="",BN22=""),"",IF(OR(BL22="AB",BM22="AB",BN22=""),"AB",IF(OR(BL22="ML",BM22="ML",BN22=""),"ML",SUM(BL22:BN22)))) -> 0 | BP22: =SUM(BG22,BK22,BO22) -> 0 | BQ22: =IF(OR(BP22="",BP$7=""),"",BP22/BP$7*100) -> 0 | BR22: =IF($G22="nso","NSO",IF(BO22="ab",BO22,IF(BO22="ML",BO22,IF(BQ22>=86,"A",IF(BQ22>=71,"B",IF(BQ22>=51,"C",IF(BQ22>=31,"D","E"))))))) -> E | BS22: =IF($G22>0,BR22,$G22) -> 0 | BT22: 0 | BU22: 0 | BV22: =SUM(BT22:BU22) -> 0 | BW22: 0 | BX22: 0 | BY22: 0 | BZ22: =IF(BW22="AB","AB",IF(BW22="ML","ML",SUM(BW22:BY22))) -> 0 | CA22: 0 | CB22: 0 | CC22: 0 | CD22: =IF(AND(CA22="",CB22="",CC22=""),"",IF(OR(CA22="AB",CB22="AB",CC22=""),"AB",IF(OR(CA22="ML",CB22="ML",CC22=""),"ML",SUM(CA22:CC22)))) -> 0 | CE22: =SUM(BV22,BZ22,CD22) -> 0 | CF22: =IF(OR(CE22="",CE$7=""),"",CE22/CE$7*100) -> 0 | CG22: =IF($G22="nso","NSO",IF(CD22="ab",CD22,IF(CD22="ML",CD22,IF(CF22>=86,"A",IF(CF22>=71,"B",IF(CF22>=51,"C",IF(CF22>=31,"D","E"))))))) -> E | CH22: =IF($G22>0,CG22,$G22) -> 0 | CI22: 0 | CJ22: 0 | CK22: =SUM(CI22:CJ22) -> 0 | CL22: 0 | CM22: 0 | CN22: 0 | CO22: =IF(CL22="AB","AB",IF(CL22="ML","ML",SUM(CL22:CN22))) -> 0 | CP22: 0 | CQ22: 0 | CR22: =IF($T$7="NA","NA",0) -> 0 | CS22: =IF(AND(CP22="",CQ22="",CR22=""),"",IF(OR(CP22="AB",CQ22="AB",CR22=""),"AB",IF(OR(CP22="ML",CQ22="ML",CR22=""),"ML",SUM(CP22:CR22)))) -> 0 | CT22: =SUM(CK22,CO22,CS22) -> 0 | CU22: =IF(OR(CT22="",CT$7=""),"",CT22/CT$7*100) -> 0 | CV22: =IF($G22="nso","NSO",IF(CS22="ab",CS22,IF(CS22="ML",CS22,IF(CU22>=86,"A",IF(CU22>=71,"B",IF(CU22>=51,"C",IF(CU22>=31,"D","E"))))))) -> E | CW22: =IF($G22>0,CV22,$G22) -> 0 | CX22: 0 | CY22: 0 | CZ22: 0 | DC22: =SUM(CX22:DB22) -> 0 | DD22: =IF(OR(DC22="",DC$7=""),"",DC22/DC$7*100) -> 0 | DE22: =IF(DD22>91,"A+",IF(DD22>76,"A",IF(DD22>61,"B",IF(DD22>41,"C","D")))) -> D | DF22: =IF($G22>0,DE22,$G22) -> 0 | DG22: 0 | DH22: 0 | DI22: 0 | DL22: =SUM(DG22:DK22) -> 0 | DM22: =IF(OR(DL22="",DL$7=""),"",DL22/DL$7*100) -> 0 | DN22: =IF($G22="nso","NSO",IF(DK22="ab",DK22,IF(DK22="ML",DK22,IF(DM22>=91,"A+",IF(DM22>=76,"A",IF(DM22>=61,"B",IF(DM22>=41,"C","D"))))))) -> D | DO22: =IF($G22>0,DN22,$G22) -> 0 | DP22: 0 | DQ22: 0 | DR22: 0 | DU22: =SUM(DP22:DT22) -> 0 | DV22: =IF(OR(DU22="",DU$7=""),"",DU22/DU$7*100) -> 0 | DW22: =IF($G22="nso","NSO",IF(DT22="ab",DT22,IF(DT22="ML",DT22,IF(DV22>=91,"A+",IF(DV22>=76,"A",IF(DV22>=61,"B",IF(DV22>=41,"C","D"))))))) -> D | DX22: =IF($G22>0,DW22,$G22) -> 0 | EA22: =IF(OR(DY22="",DZ22=""),"",DZ22/DY22*100) | EB22: =IF(G22=0,0,SUM($W$7,$AL$7,$BA$7,$BP$7,$CE$7,$CT$7)) -> 0 | EC22: =SUM(W22,AL22,BA22,BP22,CE22,CT22) -> 0 | ED22: =IF(EB22>0,EC22/EB22*100,0) -> 0 | EE22: =IF(AND(ED22>=60,EF22="Passed"),"First",IF(AND(ED22>=48,EF22="Passed"),"Second",IF(OR(EF22="passed"),"Third",EF22))) | EF22: =IF($G22="NSO","NSO",IF($G22="tc","Transferred",IF($ET22>2,"Promoted",IF(ED22=0,"","Passed")))) | EG22: =IF(EF22="Passed",ED22,"") | EH22: =IF(EG22="","",SUMPRODUCT((EG22<EG$9:EG$108)/COUNTIF(EG$9:EG$108,EG$9:EG$108))) | EI22: =IF(ED22>81,"Excellent",IF(ED22>60,"Very Good",IF(ED22>48,"Good",IF(ED22>36,"Average",IF(ED22=0,0,"Need Improvement"))))) -> 0 | EJ22: =Z22 -> 0 | EK22: =AO22 -> 0 | EL22: =BD22 -> 0 | EM22: =BS22 -> 0 | EN22: =CH22 -> 0 | EO22: =CW22 -> 0 | EP22: =COUNTIF($EJ22:$EO22,"A") -> 0 | EQ22: =COUNTIF($EJ22:$EO22,"B") -> 0 | ER22: =COUNTIF($EJ22:$EO22,"C") -> 0 | ES22: =COUNTIF($EJ22:$EO22,"D") -> 0 | ET22: =COUNTIF($EJ22:$EO22,"E") -> 0 | EW22: =DC22 -> 0 | EX22: / | EY22: =$DC$7 -> 100 | EZ22: =CONCATENATE(EW22,EX22,EY22) -> 0/100 | FA22: =DL22 -> 0 | FB22: / | FC22: =$DL$7 -> 100 | FD22: =CONCATENATE(FA22,FB22,FC22) -> 0/100 | FE22: =DU22 -> 0 | FF22: / | FG22: =$DU$7 -> 100 | FH22: =CONCATENATE(FE22,FF22,FG22) -> 0/100
A23: =G23 -> 0 | B23: 15 | D23: =IF(E23>0,$G$4,0) -> 0 | L23: 0 | M23: 0 | N23: =SUM(L23:M23) -> 0 | O23: 0 | P23: 0 | Q23: 0 | R23: =IF(O23="AB","AB",IF(O23="ML","ML",SUM(O23:Q23))) -> 0 | S23: 0 | T23: =IF($T$7="NA","NA",0) -> 0 | U23: 0 | V23: =IF(AND(S23="",T23="",U23=""),"",IF(OR(S23="AB",T23="AB",U23=""),"AB",IF(OR(S23="ML",T23="ML",U23=""),"ML",SUM(S23:U23)))) -> 0 | W23: =SUM(N23,R23,V23) -> 0 | X23: =IF(OR(W23="",W$7=""),"",W23/W$7*100) -> 0 | Y23: =IF($G23="nso","NSO",IF(V23="ab",V23,IF(V23="ML",V23,IF(X23>=86,"A",IF(X23>=71,"B",IF(X23>=51,"C",IF(X23>=31,"D","E"))))))) -> E | Z23: =IF($G23>0,Y23,$G23) -> 0 | AA23: 0 | AB23: 0 | AC23: =SUM(AA23:AB23) -> 0 | AD23: 0 | AE23: 0 | AF23: 0 | AG23: =IF(AD23="AB","AB",IF(AD23="ML","ML",SUM(AD23:AF23))) -> 0 | AH23: 0 | AI23: =IF($T$7="NA","NA",0) -> 0 | AJ23: 0 | AK23: =IF(AND(AH23="",AI23="",AJ23=""),"",IF(OR(AH23="AB",AI23="AB",AJ23=""),"AB",IF(OR(AH23="ML",AI23="ML",AJ23=""),"ML",SUM(AH23:AJ23)))) -> 0 | AL23: =SUM(AC23,AG23,AK23) -> 0 | AM23: =IF(OR(AL23="",AL$7=""),"",AL23/AL$7*100) -> 0 | AN23: =IF($G23="nso","NSO",IF(AK23="ab",AK23,IF(AK23="ML",AK23,IF(AM23>=86,"A",IF(AM23>=71,"B",IF(AM23>=51,"C",IF(AM23>=31,"D","E"))))))) -> E | AO23: =IF($G23>0,AN23,$G23) -> 0 | AP23: 0 | AQ23: 0 | AR23: =SUM(AP23:AQ23) -> 0 | AS23: 0 | AT23: 0 | AU23: 0 | AV23: =IF(AS23="AB","AB",IF(AS23="ML","ML",SUM(AS23:AU23))) -> 0 | AW23: 0 | AX23: 0 | AY23: 0 | AZ23: =IF(AND(AW23="",AX23="",AY23=""),"",IF(OR(AW23="AB",AX23="AB",AY23=""),"AB",IF(OR(AW23="ML",AX23="ML",AY23=""),"ML",SUM(AW23:AY23)))) -> 0 | BA23: =SUM(AR23,AV23,AZ23) -> 0 | BB23: =IF(OR(BA23="",BA$7=""),"",BA23/BA$7*100) -> 0 | BC23: =IF($G23="nso","NSO",IF(AZ23="ab",AZ23,IF(AZ23="ML",AZ23,IF(BB23>=86,"A",IF(BB23>=71,"B",IF(BB23>=51,"C",IF(BB23>=31,"D","E"))))))) -> E | BD23: =IF($G23>0,BC23,$G23) -> 0 | BE23: 0 | BF23: 0 | BG23: =SUM(BE23:BF23) -> 0 | BH23: 0 | BI23: 0 | BJ23: 0 | BK23: =IF(BH23="AB","AB",IF(BH23="ML","ML",SUM(BH23:BJ23))) -> 0 | BL23: 0 | BM23: 0 | BN23: 0 | BO23: =IF(AND(BL23="",BM23="",BN23=""),"",IF(OR(BL23="AB",BM23="AB",BN23=""),"AB",IF(OR(BL23="ML",BM23="ML",BN23=""),"ML",SUM(BL23:BN23)))) -> 0 | BP23: =SUM(BG23,BK23,BO23) -> 0 | BQ23: =IF(OR(BP23="",BP$7=""),"",BP23/BP$7*100) -> 0 | BR23: =IF($G23="nso","NSO",IF(BO23="ab",BO23,IF(BO23="ML",BO23,IF(BQ23>=86,"A",IF(BQ23>=71,"B",IF(BQ23>=51,"C",IF(BQ23>=31,"D","E"))))))) -> E | BS23: =IF($G23>0,BR23,$G23) -> 0 | BT23: 0 | BU23: 0 | BV23: =SUM(BT23:BU23) -> 0 | BW23: 0 | BX23: 0 | BY23: 0 | BZ23: =IF(BW23="AB","AB",IF(BW23="ML","ML",SUM(BW23:BY23))) -> 0 | CA23: 0 | CB23: 0 | CC23: 0 | CD23: =IF(AND(CA23="",CB23="",CC23=""),"",IF(OR(CA23="AB",CB23="AB",CC23=""),"AB",IF(OR(CA23="ML",CB23="ML",CC23=""),"ML",SUM(CA23:CC23)))) -> 0 | CE23: =SUM(BV23,BZ23,CD23) -> 0 | CF23: =IF(OR(CE23="",CE$7=""),"",CE23/CE$7*100) -> 0 | CG23: =IF($G23="nso","NSO",IF(CD23="ab",CD23,IF(CD23="ML",CD23,IF(CF23>=86,"A",IF(CF23>=71,"B",IF(CF23>=51,"C",IF(CF23>=31,"D","E"))))))) -> E | CH23: =IF($G23>0,CG23,$G23) -> 0 | CI23: 0 | CJ23: 0 | CK23: =SUM(CI23:CJ23) -> 0 | CL23: 0 | CM23: 0 | CN23: 0 | CO23: =IF(CL23="AB","AB",IF(CL23="ML","ML",SUM(CL23:CN23))) -> 0 | CP23: 0 | CQ23: 0 | CR23: =IF($T$7="NA","NA",0) -> 0 | CS23: =IF(AND(CP23="",CQ23="",CR23=""),"",IF(OR(CP23="AB",CQ23="AB",CR23=""),"AB",IF(OR(CP23="ML",CQ23="ML",CR23=""),"ML",SUM(CP23:CR23)))) -> 0 | CT23: =SUM(CK23,CO23,CS23) -> 0 | CU23: =IF(OR(CT23="",CT$7=""),"",CT23/CT$7*100) -> 0 | CV23: =IF($G23="nso","NSO",IF(CS23="ab",CS23,IF(CS23="ML",CS23,IF(CU23>=86,"A",IF(CU23>=71,"B",IF(CU23>=51,"C",IF(CU23>=31,"D","E"))))))) -> E | CW23: =IF($G23>0,CV23,$G23) -> 0 | CX23: 0 | CY23: 0 | CZ23: 0 | DC23: =SUM(CX23:DB23) -> 0 | DD23: =IF(OR(DC23="",DC$7=""),"",DC23/DC$7*100) -> 0 | DE23: =IF(DD23>91,"A+",IF(DD23>76,"A",IF(DD23>61,"B",IF(DD23>41,"C","D")))) -> D | DF23: =IF($G23>0,DE23,$G23) -> 0 | DG23: 0 | DH23: 0 | DI23: 0 | DL23: =SUM(DG23:DK23) -> 0 | DM23: =IF(OR(DL23="",DL$7=""),"",DL23/DL$7*100) -> 0 | DN23: =IF($G23="nso","NSO",IF(DK23="ab",DK23,IF(DK23="ML",DK23,IF(DM23>=91,"A+",IF(DM23>=76,"A",IF(DM23>=61,"B",IF(DM23>=41,"C","D"))))))) -> D | DO23: =IF($G23>0,DN23,$G23) -> 0 | DP23: 0 | DQ23: 0 | DR23: 0 | DU23: =SUM(DP23:DT23) -> 0 | DV23: =IF(OR(DU23="",DU$7=""),"",DU23/DU$7*100) -> 0 | DW23: =IF($G23="nso","NSO",IF(DT23="ab",DT23,IF(DT23="ML",DT23,IF(DV23>=91,"A+",IF(DV23>=76,"A",IF(DV23>=61,"B",IF(DV23>=41,"C","D"))))))) -> D | DX23: =IF($G23>0,DW23,$G23) -> 0 | EA23: =IF(OR(DY23="",DZ23=""),"",DZ23/DY23*100) | EB23: =IF(G23=0,0,SUM($W$7,$AL$7,$BA$7,$BP$7,$CE$7,$CT$7)) -> 0 | EC23: =SUM(W23,AL23,BA23,BP23,CE23,CT23) -> 0 | ED23: =IF(EB23>0,EC23/EB23*100,0) -> 0 | EE23: =IF(AND(ED23>=60,EF23="Passed"),"First",IF(AND(ED23>=48,EF23="Passed"),"Second",IF(OR(EF23="passed"),"Third",EF23))) | EF23: =IF($G23="NSO","NSO",IF($G23="tc","Transferred",IF($ET23>2,"Promoted",IF(ED23=0,"","Passed")))) | EG23: =IF(EF23="Passed",ED23,"") | EH23: =IF(EG23="","",SUMPRODUCT((EG23<EG$9:EG$108)/COUNTIF(EG$9:EG$108,EG$9:EG$108))) | EI23: =IF(ED23>81,"Excellent",IF(ED23>60,"Very Good",IF(ED23>48,"Good",IF(ED23>36,"Average",IF(ED23=0,0,"Need Improvement"))))) -> 0 | EJ23: =Z23 -> 0 | EK23: =AO23 -> 0 | EL23: =BD23 -> 0 | EM23: =BS23 -> 0 | EN23: =CH23 -> 0 | EO23: =CW23 -> 0 | EP23: =COUNTIF($EJ23:$EO23,"A") -> 0 | EQ23: =COUNTIF($EJ23:$EO23,"B") -> 0 | ER23: =COUNTIF($EJ23:$EO23,"C") -> 0 | ES23: =COUNTIF($EJ23:$EO23,"D") -> 0 | ET23: =COUNTIF($EJ23:$EO23,"E") -> 0 | EW23: =DC23 -> 0 | EX23: / | EY23: =$DC$7 -> 100 | EZ23: =CONCATENATE(EW23,EX23,EY23) -> 0/100 | FA23: =DL23 -> 0 | FB23: / | FC23: =$DL$7 -> 100 | FD23: =CONCATENATE(FA23,FB23,FC23) -> 0/100 | FE23: =DU23 -> 0 | FF23: / | FG23: =$DU$7 -> 100 | FH23: =CONCATENATE(FE23,FF23,FG23) -> 0/100
A24: =G24 -> 0 | B24: 16 | D24: =IF(E24>0,$G$4,0) -> 0 | L24: 0 | M24: 0 | N24: =SUM(L24:M24) -> 0 | O24: 0 | P24: 0 | Q24: 0 | R24: =IF(O24="AB","AB",IF(O24="ML","ML",SUM(O24:Q24))) -> 0 | S24: 0 | T24: =IF($T$7="NA","NA",0) -> 0 | U24: 0 | V24: =IF(AND(S24="",T24="",U24=""),"",IF(OR(S24="AB",T24="AB",U24=""),"AB",IF(OR(S24="ML",T24="ML",U24=""),"ML",SUM(S24:U24)))) -> 0 | W24: =SUM(N24,R24,V24) -> 0 | X24: =IF(OR(W24="",W$7=""),"",W24/W$7*100) -> 0 | Y24: =IF($G24="nso","NSO",IF(V24="ab",V24,IF(V24="ML",V24,IF(X24>=86,"A",IF(X24>=71,"B",IF(X24>=51,"C",IF(X24>=31,"D","E"))))))) -> E | Z24: =IF($G24>0,Y24,$G24) -> 0 | AA24: 0 | AB24: 0 | AC24: =SUM(AA24:AB24) -> 0 | AD24: 0 | AE24: 0 | AF24: 0 | AG24: =IF(AD24="AB","AB",IF(AD24="ML","ML",SUM(AD24:AF24))) -> 0 | AH24: 0 | AI24: =IF($T$7="NA","NA",0) -> 0 | AJ24: 0 | AK24: =IF(AND(AH24="",AI24="",AJ24=""),"",IF(OR(AH24="AB",AI24="AB",AJ24=""),"AB",IF(OR(AH24="ML",AI24="ML",AJ24=""),"ML",SUM(AH24:AJ24)))) -> 0 | AL24: =SUM(AC24,AG24,AK24) -> 0 | AM24: =IF(OR(AL24="",AL$7=""),"",AL24/AL$7*100) -> 0 | AN24: =IF($G24="nso","NSO",IF(AK24="ab",AK24,IF(AK24="ML",AK24,IF(AM24>=86,"A",IF(AM24>=71,"B",IF(AM24>=51,"C",IF(AM24>=31,"D","E"))))))) -> E | AO24: =IF($G24>0,AN24,$G24) -> 0 | AP24: 0 | AQ24: 0 | AR24: =SUM(AP24:AQ24) -> 0 | AS24: 0 | AT24: 0 | AU24: 0 | AV24: =IF(AS24="AB","AB",IF(AS24="ML","ML",SUM(AS24:AU24))) -> 0 | AW24: 0 | AX24: 0 | AY24: 0 | AZ24: =IF(AND(AW24="",AX24="",AY24=""),"",IF(OR(AW24="AB",AX24="AB",AY24=""),"AB",IF(OR(AW24="ML",AX24="ML",AY24=""),"ML",SUM(AW24:AY24)))) -> 0 | BA24: =SUM(AR24,AV24,AZ24) -> 0 | BB24: =IF(OR(BA24="",BA$7=""),"",BA24/BA$7*100) -> 0 | BC24: =IF($G24="nso","NSO",IF(AZ24="ab",AZ24,IF(AZ24="ML",AZ24,IF(BB24>=86,"A",IF(BB24>=71,"B",IF(BB24>=51,"C",IF(BB24>=31,"D","E"))))))) -> E | BD24: =IF($G24>0,BC24,$G24) -> 0 | BE24: 0 | BF24: 0 | BG24: =SUM(BE24:BF24) -> 0 | BH24: 0 | BI24: 0 | BJ24: 0 | BK24: =IF(BH24="AB","AB",IF(BH24="ML","ML",SUM(BH24:BJ24))) -> 0 | BL24: 0 | BM24: 0 | BN24: 0 | BO24: =IF(AND(BL24="",BM24="",BN24=""),"",IF(OR(BL24="AB",BM24="AB",BN24=""),"AB",IF(OR(BL24="ML",BM24="ML",BN24=""),"ML",SUM(BL24:BN24)))) -> 0 | BP24: =SUM(BG24,BK24,BO24) -> 0 | BQ24: =IF(OR(BP24="",BP$7=""),"",BP24/BP$7*100) -> 0 | BR24: =IF($G24="nso","NSO",IF(BO24="ab",BO24,IF(BO24="ML",BO24,IF(BQ24>=86,"A",IF(BQ24>=71,"B",IF(BQ24>=51,"C",IF(BQ24>=31,"D","E"))))))) -> E | BS24: =IF($G24>0,BR24,$G24) -> 0 | BT24: 0 | BU24: 0 | BV24: =SUM(BT24:BU24) -> 0 | BW24: 0 | BX24: 0 | BY24: 0 | BZ24: =IF(BW24="AB","AB",IF(BW24="ML","ML",SUM(BW24:BY24))) -> 0 | CA24: 0 | CB24: 0 | CC24: 0 | CD24: =IF(AND(CA24="",CB24="",CC24=""),"",IF(OR(CA24="AB",CB24="AB",CC24=""),"AB",IF(OR(CA24="ML",CB24="ML",CC24=""),"ML",SUM(CA24:CC24)))) -> 0 | CE24: =SUM(BV24,BZ24,CD24) -> 0 | CF24: =IF(OR(CE24="",CE$7=""),"",CE24/CE$7*100) -> 0 | CG24: =IF($G24="nso","NSO",IF(CD24="ab",CD24,IF(CD24="ML",CD24,IF(CF24>=86,"A",IF(CF24>=71,"B",IF(CF24>=51,"C",IF(CF24>=31,"D","E"))))))) -> E | CH24: =IF($G24>0,CG24,$G24) -> 0 | CI24: 0 | CJ24: 0 | CK24: =SUM(CI24:CJ24) -> 0 | CL24: 0 | CM24: 0 | CN24: 0 | CO24: =IF(CL24="AB","AB",IF(CL24="ML","ML",SUM(CL24:CN24))) -> 0 | CP24: 0 | CQ24: 0 | CR24: =IF($T$7="NA","NA",0) -> 0 | CS24: =IF(AND(CP24="",CQ24="",CR24=""),"",IF(OR(CP24="AB",CQ24="AB",CR24=""),"AB",IF(OR(CP24="ML",CQ24="ML",CR24=""),"ML",SUM(CP24:CR24)))) -> 0 | CT24: =SUM(CK24,CO24,CS24) -> 0 | CU24: =IF(OR(CT24="",CT$7=""),"",CT24/CT$7*100) -> 0 | CV24: =IF($G24="nso","NSO",IF(CS24="ab",CS24,IF(CS24="ML",CS24,IF(CU24>=86,"A",IF(CU24>=71,"B",IF(CU24>=51,"C",IF(CU24>=31,"D","E"))))))) -> E | CW24: =IF($G24>0,CV24,$G24) -> 0 | CX24: 0 | CY24: 0 | CZ24: 0 | DC24: =SUM(CX24:DB24) -> 0 | DD24: =IF(OR(DC24="",DC$7=""),"",DC24/DC$7*100) -> 0 | DE24: =IF(DD24>91,"A+",IF(DD24>76,"A",IF(DD24>61,"B",IF(DD24>41,"C","D")))) -> D | DF24: =IF($G24>0,DE24,$G24) -> 0 | DG24: 0 | DH24: 0 | DI24: 0 | DL24: =SUM(DG24:DK24) -> 0 | DM24: =IF(OR(DL24="",DL$7=""),"",DL24/DL$7*100) -> 0 | DN24: =IF($G24="nso","NSO",IF(DK24="ab",DK24,IF(DK24="ML",DK24,IF(DM24>=91,"A+",IF(DM24>=76,"A",IF(DM24>=61,"B",IF(DM24>=41,"C","D"))))))) -> D | DO24: =IF($G24>0,DN24,$G24) -> 0 | DP24: 0 | DQ24: 0 | DR24: 0 | DU24: =SUM(DP24:DT24) -> 0 | DV24: =IF(OR(DU24="",DU$7=""),"",DU24/DU$7*100) -> 0 | DW24: =IF($G24="nso","NSO",IF(DT24="ab",DT24,IF(DT24="ML",DT24,IF(DV24>=91,"A+",IF(DV24>=76,"A",IF(DV24>=61,"B",IF(DV24>=41,"C","D"))))))) -> D | DX24: =IF($G24>0,DW24,$G24) -> 0 | EA24: =IF(OR(DY24="",DZ24=""),"",DZ24/DY24*100) | EB24: =IF(G24=0,0,SUM($W$7,$AL$7,$BA$7,$BP$7,$CE$7,$CT$7)) -> 0 | EC24: =SUM(W24,AL24,BA24,BP24,CE24,CT24) -> 0 | ED24: =IF(EB24>0,EC24/EB24*100,0) -> 0 | EE24: =IF(AND(ED24>=60,EF24="Passed"),"First",IF(AND(ED24>=48,EF24="Passed"),"Second",IF(OR(EF24="passed"),"Third",EF24))) | EF24: =IF($G24="NSO","NSO",IF($G24="tc","Transferred",IF($ET24>2,"Promoted",IF(ED24=0,"","Passed")))) | EG24: =IF(EF24="Passed",ED24,"") | EH24: =IF(EG24="","",SUMPRODUCT((EG24<EG$9:EG$108)/COUNTIF(EG$9:EG$108,EG$9:EG$108))) | EI24: =IF(ED24>81,"Excellent",IF(ED24>60,"Very Good",IF(ED24>48,"Good",IF(ED24>36,"Average",IF(ED24=0,0,"Need Improvement"))))) -> 0 | EJ24: =Z24 -> 0 | EK24: =AO24 -> 0 | EL24: =BD24 -> 0 | EM24: =BS24 -> 0 | EN24: =CH24 -> 0 | EO24: =CW24 -> 0 | EP24: =COUNTIF($EJ24:$EO24,"A") -> 0 | EQ24: =COUNTIF($EJ24:$EO24,"B") -> 0 | ER24: =COUNTIF($EJ24:$EO24,"C") -> 0 | ES24: =COUNTIF($EJ24:$EO24,"D") -> 0 | ET24: =COUNTIF($EJ24:$EO24,"E") -> 0 | EW24: =DC24 -> 0 | EX24: / | EY24: =$DC$7 -> 100 | EZ24: =CONCATENATE(EW24,EX24,EY24) -> 0/100 | FA24: =DL24 -> 0 | FB24: / | FC24: =$DL$7 -> 100 | FD24: =CONCATENATE(FA24,FB24,FC24) -> 0/100 | FE24: =DU24 -> 0 | FF24: / | FG24: =$DU$7 -> 100 | FH24: =CONCATENATE(FE24,FF24,FG24) -> 0/100
A25: =G25 -> 0 | B25: 17 | D25: =IF(E25>0,$G$4,0) -> 0 | L25: 0 | M25: 0 | N25: =SUM(L25:M25) -> 0 | O25: 0 | P25: 0 | Q25: 0 | R25: =IF(O25="AB","AB",IF(O25="ML","ML",SUM(O25:Q25))) -> 0 | S25: 0 | T25: =IF($T$7="NA","NA",0) -> 0 | U25: 0 | V25: =IF(AND(S25="",T25="",U25=""),"",IF(OR(S25="AB",T25="AB",U25=""),"AB",IF(OR(S25="ML",T25="ML",U25=""),"ML",SUM(S25:U25)))) -> 0 | W25: =SUM(N25,R25,V25) -> 0 | X25: =IF(OR(W25="",W$7=""),"",W25/W$7*100) -> 0 | Y25: =IF($G25="nso","NSO",IF(V25="ab",V25,IF(V25="ML",V25,IF(X25>=86,"A",IF(X25>=71,"B",IF(X25>=51,"C",IF(X25>=31,"D","E"))))))) -> E | Z25: =IF($G25>0,Y25,$G25) -> 0 | AA25: 0 | AB25: 0 | AC25: =SUM(AA25:AB25) -> 0 | AD25: 0 | AE25: 0 | AF25: 0 | AG25: =IF(AD25="AB","AB",IF(AD25="ML","ML",SUM(AD25:AF25))) -> 0 | AH25: 0 | AI25: =IF($T$7="NA","NA",0) -> 0 | AJ25: 0 | AK25: =IF(AND(AH25="",AI25="",AJ25=""),"",IF(OR(AH25="AB",AI25="AB",AJ25=""),"AB",IF(OR(AH25="ML",AI25="ML",AJ25=""),"ML",SUM(AH25:AJ25)))) -> 0 | AL25: =SUM(AC25,AG25,AK25) -> 0 | AM25: =IF(OR(AL25="",AL$7=""),"",AL25/AL$7*100) -> 0 | AN25: =IF($G25="nso","NSO",IF(AK25="ab",AK25,IF(AK25="ML",AK25,IF(AM25>=86,"A",IF(AM25>=71,"B",IF(AM25>=51,"C",IF(AM25>=31,"D","E"))))))) -> E | AO25: =IF($G25>0,AN25,$G25) -> 0 | AP25: 0 | AQ25: 0 | AR25: =SUM(AP25:AQ25) -> 0 | AS25: 0 | AT25: 0 | AU25: 0 | AV25: =IF(AS25="AB","AB",IF(AS25="ML","ML",SUM(AS25:AU25))) -> 0 | AW25: 0 | AX25: 0 | AY25: 0 | AZ25: =IF(AND(AW25="",AX25="",AY25=""),"",IF(OR(AW25="AB",AX25="AB",AY25=""),"AB",IF(OR(AW25="ML",AX25="ML",AY25=""),"ML",SUM(AW25:AY25)))) -> 0 | BA25: =SUM(AR25,AV25,AZ25) -> 0 | BB25: =IF(OR(BA25="",BA$7=""),"",BA25/BA$7*100) -> 0 | BC25: =IF($G25="nso","NSO",IF(AZ25="ab",AZ25,IF(AZ25="ML",AZ25,IF(BB25>=86,"A",IF(BB25>=71,"B",IF(BB25>=51,"C",IF(BB25>=31,"D","E"))))))) -> E | BD25: =IF($G25>0,BC25,$G25) -> 0 | BE25: 0 | BF25: 0 | BG25: =SUM(BE25:BF25) -> 0 | BH25: 0 | BI25: 0 | BJ25: 0 | BK25: =IF(BH25="AB","AB",IF(BH25="ML","ML",SUM(BH25:BJ25))) -> 0 | BL25: 0 | BM25: 0 | BN25: 0 | BO25: =IF(AND(BL25="",BM25="",BN25=""),"",IF(OR(BL25="AB",BM25="AB",BN25=""),"AB",IF(OR(BL25="ML",BM25="ML",BN25=""),"ML",SUM(BL25:BN25)))) -> 0 | BP25: =SUM(BG25,BK25,BO25) -> 0 | BQ25: =IF(OR(BP25="",BP$7=""),"",BP25/BP$7*100) -> 0 | BR25: =IF($G25="nso","NSO",IF(BO25="ab",BO25,IF(BO25="ML",BO25,IF(BQ25>=86,"A",IF(BQ25>=71,"B",IF(BQ25>=51,"C",IF(BQ25>=31,"D","E"))))))) -> E | BS25: =IF($G25>0,BR25,$G25) -> 0 | BT25: 0 | BU25: 0 | BV25: =SUM(BT25:BU25) -> 0 | BW25: 0 | BX25: 0 | BY25: 0 | BZ25: =IF(BW25="AB","AB",IF(BW25="ML","ML",SUM(BW25:BY25))) -> 0 | CA25: 0 | CB25: 0 | CC25: 0 | CD25: =IF(AND(CA25="",CB25="",CC25=""),"",IF(OR(CA25="AB",CB25="AB",CC25=""),"AB",IF(OR(CA25="ML",CB25="ML",CC25=""),"ML",SUM(CA25:CC25)))) -> 0 | CE25: =SUM(BV25,BZ25,CD25) -> 0 | CF25: =IF(OR(CE25="",CE$7=""),"",CE25/CE$7*100) -> 0 | CG25: =IF($G25="nso","NSO",IF(CD25="ab",CD25,IF(CD25="ML",CD25,IF(CF25>=86,"A",IF(CF25>=71,"B",IF(CF25>=51,"C",IF(CF25>=31,"D","E"))))))) -> E | CH25: =IF($G25>0,CG25,$G25) -> 0 | CI25: 0 | CJ25: 0 | CK25: =SUM(CI25:CJ25) -> 0 | CL25: 0 | CM25: 0 | CN25: 0 | CO25: =IF(CL25="AB","AB",IF(CL25="ML","ML",SUM(CL25:CN25))) -> 0 | CP25: 0 | CQ25: 0 | CR25: =IF($T$7="NA","NA",0) -> 0 | CS25: =IF(AND(CP25="",CQ25="",CR25=""),"",IF(OR(CP25="AB",CQ25="AB",CR25=""),"AB",IF(OR(CP25="ML",CQ25="ML",CR25=""),"ML",SUM(CP25:CR25)))) -> 0 | CT25: =SUM(CK25,CO25,CS25) -> 0 | CU25: =IF(OR(CT25="",CT$7=""),"",CT25/CT$7*100) -> 0 | CV25: =IF($G25="nso","NSO",IF(CS25="ab",CS25,IF(CS25="ML",CS25,IF(CU25>=86,"A",IF(CU25>=71,"B",IF(CU25>=51,"C",IF(CU25>=31,"D","E"))))))) -> E | CW25: =IF($G25>0,CV25,$G25) -> 0 | CX25: 0 | CY25: 0 | CZ25: 0 | DC25: =SUM(CX25:DB25) -> 0 | DD25: =IF(OR(DC25="",DC$7=""),"",DC25/DC$7*100) -> 0 | DE25: =IF(DD25>91,"A+",IF(DD25>76,"A",IF(DD25>61,"B",IF(DD25>41,"C","D")))) -> D | DF25: =IF($G25>0,DE25,$G25) -> 0 | DG25: 0 | DH25: 0 | DI25: 0 | DL25: =SUM(DG25:DK25) -> 0 | DM25: =IF(OR(DL25="",DL$7=""),"",DL25/DL$7*100) -> 0 | DN25: =IF($G25="nso","NSO",IF(DK25="ab",DK25,IF(DK25="ML",DK25,IF(DM25>=91,"A+",IF(DM25>=76,"A",IF(DM25>=61,"B",IF(DM25>=41,"C","D"))))))) -> D | DO25: =IF($G25>0,DN25,$G25) -> 0 | DP25: 0 | DQ25: 0 | DR25: 0 | DU25: =SUM(DP25:DT25) -> 0 | DV25: =IF(OR(DU25="",DU$7=""),"",DU25/DU$7*100) -> 0 | DW25: =IF($G25="nso","NSO",IF(DT25="ab",DT25,IF(DT25="ML",DT25,IF(DV25>=91,"A+",IF(DV25>=76,"A",IF(DV25>=61,"B",IF(DV25>=41,"C","D"))))))) -> D | DX25: =IF($G25>0,DW25,$G25) -> 0 | EA25: =IF(OR(DY25="",DZ25=""),"",DZ25/DY25*100) | EB25: =IF(G25=0,0,SUM($W$7,$AL$7,$BA$7,$BP$7,$CE$7,$CT$7)) -> 0 | EC25: =SUM(W25,AL25,BA25,BP25,CE25,CT25) -> 0 | ED25: =IF(EB25>0,EC25/EB25*100,0) -> 0 | EE25: =IF(AND(ED25>=60,EF25="Passed"),"First",IF(AND(ED25>=48,EF25="Passed"),"Second",IF(OR(EF25="passed"),"Third",EF25))) | EF25: =IF($G25="NSO","NSO",IF($G25="tc","Transferred",IF($ET25>2,"Promoted",IF(ED25=0,"","Passed")))) | EG25: =IF(EF25="Passed",ED25,"") | EH25: =IF(EG25="","",SUMPRODUCT((EG25<EG$9:EG$108)/COUNTIF(EG$9:EG$108,EG$9:EG$108))) | EI25: =IF(ED25>81,"Excellent",IF(ED25>60,"Very Good",IF(ED25>48,"Good",IF(ED25>36,"Average",IF(ED25=0,0,"Need Improvement"))))) -> 0 | EJ25: =Z25 -> 0 | EK25: =AO25 -> 0 | EL25: =BD25 -> 0 | EM25: =BS25 -> 0 | EN25: =CH25 -> 0 | EO25: =CW25 -> 0 | EP25: =COUNTIF($EJ25:$EO25,"A") -> 0 | EQ25: =COUNTIF($EJ25:$EO25,"B") -> 0 | ER25: =COUNTIF($EJ25:$EO25,"C") -> 0 | ES25: =COUNTIF($EJ25:$EO25,"D") -> 0 | ET25: =COUNTIF($EJ25:$EO25,"E") -> 0 | EW25: =DC25 -> 0 | EX25: / | EY25: =$DC$7 -> 100 | EZ25: =CONCATENATE(EW25,EX25,EY25) -> 0/100 | FA25: =DL25 -> 0 | FB25: / | FC25: =$DL$7 -> 100 | FD25: =CONCATENATE(FA25,FB25,FC25) -> 0/100 | FE25: =DU25 -> 0 | FF25: / | FG25: =$DU$7 -> 100 | FH25: =CONCATENATE(FE25,FF25,FG25) -> 0/100
A26: =G26 -> 0 | B26: 18 | D26: =IF(E26>0,$G$4,0) -> 0 | L26: 0 | M26: 0 | N26: =SUM(L26:M26) -> 0 | O26: 0 | P26: 0 | Q26: 0 | R26: =IF(O26="AB","AB",IF(O26="ML","ML",SUM(O26:Q26))) -> 0 | S26: 0 | T26: =IF($T$7="NA","NA",0) -> 0 | U26: 0 | V26: =IF(AND(S26="",T26="",U26=""),"",IF(OR(S26="AB",T26="AB",U26=""),"AB",IF(OR(S26="ML",T26="ML",U26=""),"ML",SUM(S26:U26)))) -> 0 | W26: =SUM(N26,R26,V26) -> 0 | X26: =IF(OR(W26="",W$7=""),"",W26/W$7*100) -> 0 | Y26: =IF($G26="nso","NSO",IF(V26="ab",V26,IF(V26="ML",V26,IF(X26>=86,"A",IF(X26>=71,"B",IF(X26>=51,"C",IF(X26>=31,"D","E"))))))) -> E | Z26: =IF($G26>0,Y26,$G26) -> 0 | AA26: 0 | AB26: 0 | AC26: =SUM(AA26:AB26) -> 0 | AD26: 0 | AE26: 0 | AF26: 0 | AG26: =IF(AD26="AB","AB",IF(AD26="ML","ML",SUM(AD26:AF26))) -> 0 | AH26: 0 | AI26: =IF($T$7="NA","NA",0) -> 0 | AJ26: 0 | AK26: =IF(AND(AH26="",AI26="",AJ26=""),"",IF(OR(AH26="AB",AI26="AB",AJ26=""),"AB",IF(OR(AH26="ML",AI26="ML",AJ26=""),"ML",SUM(AH26:AJ26)))) -> 0 | AL26: =SUM(AC26,AG26,AK26) -> 0 | AM26: =IF(OR(AL26="",AL$7=""),"",AL26/AL$7*100) -> 0 | AN26: =IF($G26="nso","NSO",IF(AK26="ab",AK26,IF(AK26="ML",AK26,IF(AM26>=86,"A",IF(AM26>=71,"B",IF(AM26>=51,"C",IF(AM26>=31,"D","E"))))))) -> E | AO26: =IF($G26>0,AN26,$G26) -> 0 | AP26: 0 | AQ26: 0 | AR26: =SUM(AP26:AQ26) -> 0 | AS26: 0 | AT26: 0 | AU26: 0 | AV26: =IF(AS26="AB","AB",IF(AS26="ML","ML",SUM(AS26:AU26))) -> 0 | AW26: 0 | AX26: 0 | AY26: 0 | AZ26: =IF(AND(AW26="",AX26="",AY26=""),"",IF(OR(AW26="AB",AX26="AB",AY26=""),"AB",IF(OR(AW26="ML",AX26="ML",AY26=""),"ML",SUM(AW26:AY26)))) -> 0 | BA26: =SUM(AR26,AV26,AZ26) -> 0 | BB26: =IF(OR(BA26="",BA$7=""),"",BA26/BA$7*100) -> 0 | BC26: =IF($G26="nso","NSO",IF(AZ26="ab",AZ26,IF(AZ26="ML",AZ26,IF(BB26>=86,"A",IF(BB26>=71,"B",IF(BB26>=51,"C",IF(BB26>=31,"D","E"))))))) -> E | BD26: =IF($G26>0,BC26,$G26) -> 0 | BE26: 0 | BF26: 0 | BG26: =SUM(BE26:BF26) -> 0 | BH26: 0 | BI26: 0 | BJ26: 0 | BK26: =IF(BH26="AB","AB",IF(BH26="ML","ML",SUM(BH26:BJ26))) -> 0 | BL26: 0 | BM26: 0 | BN26: 0 | BO26: =IF(AND(BL26="",BM26="",BN26=""),"",IF(OR(BL26="AB",BM26="AB",BN26=""),"AB",IF(OR(BL26="ML",BM26="ML",BN26=""),"ML",SUM(BL26:BN26)))) -> 0 | BP26: =SUM(BG26,BK26,BO26) -> 0 | BQ26: =IF(OR(BP26="",BP$7=""),"",BP26/BP$7*100) -> 0 | BR26: =IF($G26="nso","NSO",IF(BO26="ab",BO26,IF(BO26="ML",BO26,IF(BQ26>=86,"A",IF(BQ26>=71,"B",IF(BQ26>=51,"C",IF(BQ26>=31,"D","E"))))))) -> E | BS26: =IF($G26>0,BR26,$G26) -> 0 | BT26: 0 | BU26: 0 | BV26: =SUM(BT26:BU26) -> 0 | BW26: 0 | BX26: 0 | BY26: 0 | BZ26: =IF(BW26="AB","AB",IF(BW26="ML","ML",SUM(BW26:BY26))) -> 0 | CA26: 0 | CB26: 0 | CC26: 0 | CD26: =IF(AND(CA26="",CB26="",CC26=""),"",IF(OR(CA26="AB",CB26="AB",CC26=""),"AB",IF(OR(CA26="ML",CB26="ML",CC26=""),"ML",SUM(CA26:CC26)))) -> 0 | CE26: =SUM(BV26,BZ26,CD26) -> 0 | CF26: =IF(OR(CE26="",CE$7=""),"",CE26/CE$7*100) -> 0 | CG26: =IF($G26="nso","NSO",IF(CD26="ab",CD26,IF(CD26="ML",CD26,IF(CF26>=86,"A",IF(CF26>=71,"B",IF(CF26>=51,"C",IF(CF26>=31,"D","E"))))))) -> E | CH26: =IF($G26>0,CG26,$G26) -> 0 | CI26: 0 | CJ26: 0 | CK26: =SUM(CI26:CJ26) -> 0 | CL26: 0 | CM26: 0 | CN26: 0 | CO26: =IF(CL26="AB","AB",IF(CL26="ML","ML",SUM(CL26:CN26))) -> 0 | CP26: 0 | CQ26: 0 | CR26: =IF($T$7="NA","NA",0) -> 0 | CS26: =IF(AND(CP26="",CQ26="",CR26=""),"",IF(OR(CP26="AB",CQ26="AB",CR26=""),"AB",IF(OR(CP26="ML",CQ26="ML",CR26=""),"ML",SUM(CP26:CR26)))) -> 0 | CT26: =SUM(CK26,CO26,CS26) -> 0 | CU26: =IF(OR(CT26="",CT$7=""),"",CT26/CT$7*100) -> 0 | CV26: =IF($G26="nso","NSO",IF(CS26="ab",CS26,IF(CS26="ML",CS26,IF(CU26>=86,"A",IF(CU26>=71,"B",IF(CU26>=51,"C",IF(CU26>=31,"D","E"))))))) -> E | CW26: =IF($G26>0,CV26,$G26) -> 0 | CX26: 0 | CY26: 0 | CZ26: 0 | DC26: =SUM(CX26:DB26) -> 0 | DD26: =IF(OR(DC26="",DC$7=""),"",DC26/DC$7*100) -> 0 | DE26: =IF(DD26>91,"A+",IF(DD26>76,"A",IF(DD26>61,"B",IF(DD26>41,"C","D")))) -> D | DF26: =IF($G26>0,DE26,$G26) -> 0 | DG26: 0 | DH26: 0 | DI26: 0 | DL26: =SUM(DG26:DK26) -> 0 | DM26: =IF(OR(DL26="",DL$7=""),"",DL26/DL$7*100) -> 0 | DN26: =IF($G26="nso","NSO",IF(DK26="ab",DK26,IF(DK26="ML",DK26,IF(DM26>=91,"A+",IF(DM26>=76,"A",IF(DM26>=61,"B",IF(DM26>=41,"C","D"))))))) -> D | DO26: =IF($G26>0,DN26,$G26) -> 0 | DP26: 0 | DQ26: 0 | DR26: 0 | DU26: =SUM(DP26:DT26) -> 0 | DV26: =IF(OR(DU26="",DU$7=""),"",DU26/DU$7*100) -> 0 | DW26: =IF($G26="nso","NSO",IF(DT26="ab",DT26,IF(DT26="ML",DT26,IF(DV26>=91,"A+",IF(DV26>=76,"A",IF(DV26>=61,"B",IF(DV26>=41,"C","D"))))))) -> D | DX26: =IF($G26>0,DW26,$G26) -> 0 | EA26: =IF(OR(DY26="",DZ26=""),"",DZ26/DY26*100) | EB26: =IF(G26=0,0,SUM($W$7,$AL$7,$BA$7,$BP$7,$CE$7,$CT$7)) -> 0 | EC26: =SUM(W26,AL26,BA26,BP26,CE26,CT26) -> 0 | ED26: =IF(EB26>0,EC26/EB26*100,0) -> 0 | EE26: =IF(AND(ED26>=60,EF26="Passed"),"First",IF(AND(ED26>=48,EF26="Passed"),"Second",IF(OR(EF26="passed"),"Third",EF26))) | EF26: =IF($G26="NSO","NSO",IF($G26="tc","Transferred",IF($ET26>2,"Promoted",IF(ED26=0,"","Passed")))) | EG26: =IF(EF26="Passed",ED26,"") | EH26: =IF(EG26="","",SUMPRODUCT((EG26<EG$9:EG$108)/COUNTIF(EG$9:EG$108,EG$9:EG$108))) | EI26: =IF(ED26>81,"Excellent",IF(ED26>60,"Very Good",IF(ED26>48,"Good",IF(ED26>36,"Average",IF(ED26=0,0,"Need Improvement"))))) -> 0 | EJ26: =Z26 -> 0 | EK26: =AO26 -> 0 | EL26: =BD26 -> 0 | EM26: =BS26 -> 0 | EN26: =CH26 -> 0 | EO26: =CW26 -> 0 | EP26: =COUNTIF($EJ26:$EO26,"A") -> 0 | EQ26: =COUNTIF($EJ26:$EO26,"B") -> 0 | ER26: =COUNTIF($EJ26:$EO26,"C") -> 0 | ES26: =COUNTIF($EJ26:$EO26,"D") -> 0 | ET26: =COUNTIF($EJ26:$EO26,"E") -> 0 | EW26: =DC26 -> 0 | EX26: / | EY26: =$DC$7 -> 100 | EZ26: =CONCATENATE(EW26,EX26,EY26) -> 0/100 | FA26: =DL26 -> 0 | FB26: / | FC26: =$DL$7 -> 100 | FD26: =CONCATENATE(FA26,FB26,FC26) -> 0/100 | FE26: =DU26 -> 0 | FF26: / | FG26: =$DU$7 -> 100 | FH26: =CONCATENATE(FE26,FF26,FG26) -> 0/100
A27: =G27 -> 0 | B27: 19 | D27: =IF(E27>0,$G$4,0) -> 0 | L27: 0 | M27: 0 | N27: =SUM(L27:M27) -> 0 | O27: 0 | P27: 0 | Q27: 0 | R27: =IF(O27="AB","AB",IF(O27="ML","ML",SUM(O27:Q27))) -> 0 | S27: 0 | T27: =IF($T$7="NA","NA",0) -> 0 | U27: 0 | V27: =IF(AND(S27="",T27="",U27=""),"",IF(OR(S27="AB",T27="AB",U27=""),"AB",IF(OR(S27="ML",T27="ML",U27=""),"ML",SUM(S27:U27)))) -> 0 | W27: =SUM(N27,R27,V27) -> 0 | X27: =IF(OR(W27="",W$7=""),"",W27/W$7*100) -> 0 | Y27: =IF($G27="nso","NSO",IF(V27="ab",V27,IF(V27="ML",V27,IF(X27>=86,"A",IF(X27>=71,"B",IF(X27>=51,"C",IF(X27>=31,"D","E"))))))) -> E | Z27: =IF($G27>0,Y27,$G27) -> 0 | AA27: 0 | AB27: 0 | AC27: =SUM(AA27:AB27) -> 0 | AD27: 0 | AE27: 0 | AF27: 0 | AG27: =IF(AD27="AB","AB",IF(AD27="ML","ML",SUM(AD27:AF27))) -> 0 | AH27: 0 | AI27: =IF($T$7="NA","NA",0) -> 0 | AJ27: 0 | AK27: =IF(AND(AH27="",AI27="",AJ27=""),"",IF(OR(AH27="AB",AI27="AB",AJ27=""),"AB",IF(OR(AH27="ML",AI27="ML",AJ27=""),"ML",SUM(AH27:AJ27)))) -> 0 | AL27: =SUM(AC27,AG27,AK27) -> 0 | AM27: =IF(OR(AL27="",AL$7=""),"",AL27/AL$7*100) -> 0 | AN27: =IF($G27="nso","NSO",IF(AK27="ab",AK27,IF(AK27="ML",AK27,IF(AM27>=86,"A",IF(AM27>=71,"B",IF(AM27>=51,"C",IF(AM27>=31,"D","E"))))))) -> E | AO27: =IF($G27>0,AN27,$G27) -> 0 | AP27: 0 | AQ27: 0 | AR27: =SUM(AP27:AQ27) -> 0 | AS27: 0 | AT27: 0 | AU27: 0 | AV27: =IF(AS27="AB","AB",IF(AS27="ML","ML",SUM(AS27:AU27))) -> 0 | AW27: 0 | AX27: 0 | AY27: 0 | AZ27: =IF(AND(AW27="",AX27="",AY27=""),"",IF(OR(AW27="AB",AX27="AB",AY27=""),"AB",IF(OR(AW27="ML",AX27="ML",AY27=""),"ML",SUM(AW27:AY27)))) -> 0 | BA27: =SUM(AR27,AV27,AZ27) -> 0 | BB27: =IF(OR(BA27="",BA$7=""),"",BA27/BA$7*100) -> 0 | BC27: =IF($G27="nso","NSO",IF(AZ27="ab",AZ27,IF(AZ27="ML",AZ27,IF(BB27>=86,"A",IF(BB27>=71,"B",IF(BB27>=51,"C",IF(BB27>=31,"D","E"))))))) -> E | BD27: =IF($G27>0,BC27,$G27) -> 0 | BE27: 0 | BF27: 0 | BG27: =SUM(BE27:BF27) -> 0 | BH27: 0 | BI27: 0 | BJ27: 0 | BK27: =IF(BH27="AB","AB",IF(BH27="ML","ML",SUM(BH27:BJ27))) -> 0 | BL27: 0 | BM27: 0 | BN27: 0 | BO27: =IF(AND(BL27="",BM27="",BN27=""),"",IF(OR(BL27="AB",BM27="AB",BN27=""),"AB",IF(OR(BL27="ML",BM27="ML",BN27=""),"ML",SUM(BL27:BN27)))) -> 0 | BP27: =SUM(BG27,BK27,BO27) -> 0 | BQ27: =IF(OR(BP27="",BP$7=""),"",BP27/BP$7*100) -> 0 | BR27: =IF($G27="nso","NSO",IF(BO27="ab",BO27,IF(BO27="ML",BO27,IF(BQ27>=86,"A",IF(BQ27>=71,"B",IF(BQ27>=51,"C",IF(BQ27>=31,"D","E"))))))) -> E | BS27: =IF($G27>0,BR27,$G27) -> 0 | BT27: 0 | BU27: 0 | BV27: =SUM(BT27:BU27) -> 0 | BW27: 0 | BX27: 0 | BY27: 0 | BZ27: =IF(BW27="AB","AB",IF(BW27="ML","ML",SUM(BW27:BY27))) -> 0 | CA27: 0 | CB27: 0 | CC27: 0 | CD27: =IF(AND(CA27="",CB27="",CC27=""),"",IF(OR(CA27="AB",CB27="AB",CC27=""),"AB",IF(OR(CA27="ML",CB27="ML",CC27=""),"ML",SUM(CA27:CC27)))) -> 0 | CE27: =SUM(BV27,BZ27,CD27) -> 0 | CF27: =IF(OR(CE27="",CE$7=""),"",CE27/CE$7*100) -> 0 | CG27: =IF($G27="nso","NSO",IF(CD27="ab",CD27,IF(CD27="ML",CD27,IF(CF27>=86,"A",IF(CF27>=71,"B",IF(CF27>=51,"C",IF(CF27>=31,"D","E"))))))) -> E | CH27: =IF($G27>0,CG27,$G27) -> 0 | CI27: 0 | CJ27: 0 | CK27: =SUM(CI27:CJ27) -> 0 | CL27: 0 | CM27: 0 | CN27: 0 | CO27: =IF(CL27="AB","AB",IF(CL27="ML","ML",SUM(CL27:CN27))) -> 0 | CP27: 0 | CQ27: 0 | CR27: =IF($T$7="NA","NA",0) -> 0 | CS27: =IF(AND(CP27="",CQ27="",CR27=""),"",IF(OR(CP27="AB",CQ27="AB",CR27=""),"AB",IF(OR(CP27="ML",CQ27="ML",CR27=""),"ML",SUM(CP27:CR27)))) -> 0 | CT27: =SUM(CK27,CO27,CS27) -> 0 | CU27: =IF(OR(CT27="",CT$7=""),"",CT27/CT$7*100) -> 0 | CV27: =IF($G27="nso","NSO",IF(CS27="ab",CS27,IF(CS27="ML",CS27,IF(CU27>=86,"A",IF(CU27>=71,"B",IF(CU27>=51,"C",IF(CU27>=31,"D","E"))))))) -> E | CW27: =IF($G27>0,CV27,$G27) -> 0 | CX27: 0 | CY27: 0 | CZ27: 0 | DC27: =SUM(CX27:DB27) -> 0 | DD27: =IF(OR(DC27="",DC$7=""),"",DC27/DC$7*100) -> 0 | DE27: =IF(DD27>91,"A+",IF(DD27>76,"A",IF(DD27>61,"B",IF(DD27>41,"C","D")))) -> D | DF27: =IF($G27>0,DE27,$G27) -> 0 | DG27: 0 | DH27: 0 | DI27: 0 | DL27: =SUM(DG27:DK27) -> 0 | DM27: =IF(OR(DL27="",DL$7=""),"",DL27/DL$7*100) -> 0 | DN27: =IF($G27="nso","NSO",IF(DK27="ab",DK27,IF(DK27="ML",DK27,IF(DM27>=91,"A+",IF(DM27>=76,"A",IF(DM27>=61,"B",IF(DM27>=41,"C","D"))))))) -> D | DO27: =IF($G27>0,DN27,$G27) -> 0 | DP27: 0 | DQ27: 0 | DR27: 0 | DU27: =SUM(DP27:DT27) -> 0 | DV27: =IF(OR(DU27="",DU$7=""),"",DU27/DU$7*100) -> 0 | DW27: =IF($G27="nso","NSO",IF(DT27="ab",DT27,IF(DT27="ML",DT27,IF(DV27>=91,"A+",IF(DV27>=76,"A",IF(DV27>=61,"B",IF(DV27>=41,"C","D"))))))) -> D | DX27: =IF($G27>0,DW27,$G27) -> 0 | EA27: =IF(OR(DY27="",DZ27=""),"",DZ27/DY27*100) | EB27: =IF(G27=0,0,SUM($W$7,$AL$7,$BA$7,$BP$7,$CE$7,$CT$7)) -> 0 | EC27: =SUM(W27,AL27,BA27,BP27,CE27,CT27) -> 0 | ED27: =IF(EB27>0,EC27/EB27*100,0) -> 0 | EE27: =IF(AND(ED27>=60,EF27="Passed"),"First",IF(AND(ED27>=48,EF27="Passed"),"Second",IF(OR(EF27="passed"),"Third",EF27))) | EF27: =IF($G27="NSO","NSO",IF($G27="tc","Transferred",IF($ET27>2,"Promoted",IF(ED27=0,"","Passed")))) | EG27: =IF(EF27="Passed",ED27,"") | EH27: =IF(EG27="","",SUMPRODUCT((EG27<EG$9:EG$108)/COUNTIF(EG$9:EG$108,EG$9:EG$108))) | EI27: =IF(ED27>81,"Excellent",IF(ED27>60,"Very Good",IF(ED27>48,"Good",IF(ED27>36,"Average",IF(ED27=0,0,"Need Improvement"))))) -> 0 | EJ27: =Z27 -> 0 | EK27: =AO27 -> 0 | EL27: =BD27 -> 0 | EM27: =BS27 -> 0 | EN27: =CH27 -> 0 | EO27: =CW27 -> 0 | EP27: =COUNTIF($EJ27:$EO27,"A") -> 0 | EQ27: =COUNTIF($EJ27:$EO27,"B") -> 0 | ER27: =COUNTIF($EJ27:$EO27,"C") -> 0 | ES27: =COUNTIF($EJ27:$EO27,"D") -> 0 | ET27: =COUNTIF($EJ27:$EO27,"E") -> 0 | EW27: =DC27 -> 0 | EX27: / | EY27: =$DC$7 -> 100 | EZ27: =CONCATENATE(EW27,EX27,EY27) -> 0/100 | FA27: =DL27 -> 0 | FB27: / | FC27: =$DL$7 -> 100 | FD27: =CONCATENATE(FA27,FB27,FC27) -> 0/100 | FE27: =DU27 -> 0 | FF27: / | FG27: =$DU$7 -> 100 | FH27: =CONCATENATE(FE27,FF27,FG27) -> 0/100
... A76: =G76 -> 0 | B76: 68 | D76: =IF(E76>0,$G$4,0) -> 0 | L76: 0 | M76: 0 | N76: =SUM(L76:M76) -> 0 | O76: 0 | P76: 0 | Q76: 0 | R76: =IF(O76="AB","AB",IF(O76="ML","ML",SUM(O76:Q76))) -> 0 | S76: 0 | T76: =IF($T$7="NA","NA",0) -> 0 | U76: 0 | V76: =IF(AND(S76="",T76="",U76=""),"",IF(OR(S76="AB",T76="AB",U76=""),"AB",IF(OR(S76="ML",T76="ML",U76=""),"ML",SUM(S76:U76)))) -> 0 | W76: =SUM(N76,R76,V76) -> 0 | X76: =IF(OR(W76="",W$7=""),"",W76/W$7*100) -> 0 | Y76: =IF($G76="nso","NSO",IF(V76="ab",V76,IF(V76="ML",V76,IF(X76>=86,"A",IF(X76>=71,"B",IF(X76>=51,"C",IF(X76>=31,"D","E"))))))) -> E | Z76: =IF($G76>0,Y76,$G76) -> 0 | AA76: 0 | AB76: 0 | AC76: =SUM(AA76:AB76) -> 0 | AD76: 0 | AE76: 0 | AF76: 0 | AG76: =IF(AD76="AB","AB",IF(AD76="ML","ML",SUM(AD76:AF76))) -> 0 | AH76: 0 | AI76: =IF($T$7="NA","NA",0) -> 0 | AJ76: 0 | AK76: =IF(AND(AH76="",AI76="",AJ76=""),"",IF(OR(AH76="AB",AI76="AB",AJ76=""),"AB",IF(OR(AH76="ML",AI76="ML",AJ76=""),"ML",SUM(AH76:AJ76)))) -> 0 | AL76: =SUM(AC76,AG76,AK76) -> 0 | AM76: =IF(OR(AL76="",AL$7=""),"",AL76/AL$7*100) -> 0 | AN76: =IF($G76="nso","NSO",IF(AK76="ab",AK76,IF(AK76="ML",AK76,IF(AM76>=86,"A",IF(AM76>=71,"B",IF(AM76>=51,"C",IF(AM76>=31,"D","E"))))))) -> E | AO76: =IF($G76>0,AN76,$G76) -> 0 | AP76: 0 | AQ76: 0 | AR76: =SUM(AP76:AQ76) -> 0 | AS76: 0 | AT76: 0 | AU76: 0 | AV76: =IF(AS76="AB","AB",IF(AS76="ML","ML",SUM(AS76:AU76))) -> 0 | AW76: 0 | AX76: 0 | AY76: 0 | AZ76: =IF(AND(AW76="",AX76="",AY76=""),"",IF(OR(AW76="AB",AX76="AB",AY76=""),"AB",IF(OR(AW76="ML",AX76="ML",AY76=""),"ML",SUM(AW76:AY76)))) -> 0 | BA76: =SUM(AR76,AV76,AZ76) -> 0 | BB76: =IF(OR(BA76="",BA$7=""),"",BA76/BA$7*100) -> 0 | BC76: =IF($G76="nso","NSO",IF(AZ76="ab",AZ76,IF(AZ76="ML",AZ76,IF(BB76>=86,"A",IF(BB76>=71,"B",IF(BB76>=51,"C",IF(BB76>=31,"D","E"))))))) -> E | BD76: =IF($G76>0,BC76,$G76) -> 0 | BE76: 0 | BF76: 0 | BG76: =SUM(BE76:BF76) -> 0 | BH76: 0 | BI76: 0 | BJ76: 0 | BK76: =IF(BH76="AB","AB",IF(BH76="ML","ML",SUM(BH76:BJ76))) -> 0 | BL76: 0 | BM76: 0 | BN76: 0 | BO76: =IF(AND(BL76="",BM76="",BN76=""),"",IF(OR(BL76="AB",BM76="AB",BN76=""),"AB",IF(OR(BL76="ML",BM76="ML",BN76=""),"ML",SUM(BL76:BN76)))) -> 0 | BP76: =SUM(BG76,BK76,BO76) -> 0 | BQ76: =IF(OR(BP76="",BP$7=""),"",BP76/BP$7*100) -> 0 | BR76: =IF($G76="nso","NSO",IF(BO76="ab",BO76,IF(BO76="ML",BO76,IF(BQ76>=86,"A",IF(BQ76>=71,"B",IF(BQ76>=51,"C",IF(BQ76>=31,"D","E"))))))) -> E | BS76: =IF($G76>0,BR76,$G76) -> 0 | BT76: 0 | BU76: 0 | BV76: =SUM(BT76:BU76) -> 0 | BW76: 0 | BX76: 0 | BY76: 0 | BZ76: =IF(BW76="AB","AB",IF(BW76="ML","ML",SUM(BW76:BY76))) -> 0 | CA76: 0 | CB76: 0 | CC76: 0 | CD76: =IF(AND(CA76="",CB76="",CC76=""),"",IF(OR(CA76="AB",CB76="AB",CC76=""),"AB",IF(OR(CA76="ML",CB76="ML",CC76=""),"ML",SUM(CA76:CC76)))) -> 0 | CE76: =SUM(BV76,BZ76,CD76) -> 0 | CF76: =IF(OR(CE76="",CE$7=""),"",CE76/CE$7*100) -> 0 | CG76: =IF($G76="nso","NSO",IF(CD76="ab",CD76,IF(CD76="ML",CD76,IF(CF76>=86,"A",IF(CF76>=71,"B",IF(CF76>=51,"C",IF(CF76>=31,"D","E"))))))) -> E | CH76: =IF($G76>0,CG76,$G76) -> 0 | CI76: 0 | CJ76: 0 | CK76: =SUM(CI76:CJ76) -> 0 | CL76: 0 | CM76: 0 | CN76: 0 | CO76: =IF(CL76="AB","AB",IF(CL76="ML","ML",SUM(CL76:CN76))) -> 0 | CP76: 0 | CQ76: 0 | CR76: =IF($T$7="NA","NA",0) -> 0 | CS76: =IF(AND(CP76="",CQ76="",CR76=""),"",IF(OR(CP76="AB",CQ76="AB",CR76=""),"AB",IF(OR(CP76="ML",CQ76="ML",CR76=""),"ML",SUM(CP76:CR76)))) -> 0 | CT76: =SUM(CK76,CO76,CS76) -> 0 | CU76: =IF(OR(CT76="",CT$7=""),"",CT76/CT$7*100) -> 0 | CV76: =IF($G76="nso","NSO",IF(CS76="ab",CS76,IF(CS76="ML",CS76,IF(CU76>=86,"A",IF(CU76>=71,"B",IF(CU76>=51,"C",IF(CU76>=31,"D","E"))))))) -> E | CW76: =IF($G76>0,CV76,$G76) -> 0 | CX76: 0 | CY76: 0 | CZ76: 0 | DC76: =SUM(CX76:DB76) -> 0 | DD76: =IF(OR(DC76="",DC$7=""),"",DC76/DC$7*100) -> 0 | DE76: =IF(DD76>91,"A+",IF(DD76>76,"A",IF(DD76>61,"B",IF(DD76>41,"C","D")))) -> D | DF76: =IF($G76>0,DE76,$G76) -> 0 | DG76: 0 | DH76: 0 | DI76: 0 | DL76: =SUM(DG76:DK76) -> 0 | DM76: =IF(OR(DL76="",DL$7=""),"",DL76/DL$7*100) -> 0 | DN76: =IF($G76="nso","NSO",IF(DK76="ab",DK76,IF(DK76="ML",DK76,IF(DM76>=91,"A+",IF(DM76>=76,"A",IF(DM76>=61,"B",IF(DM76>=41,"C","D"))))))) -> D | DO76: =IF($G76>0,DN76,$G76) -> 0 | DP76: 0 | DQ76: 0 | DR76: 0 | DU76: =SUM(DP76:DT76) -> 0 | DV76: =IF(OR(DU76="",DU$7=""),"",DU76/DU$7*100) -> 0 | DW76: =IF($G76="nso","NSO",IF(DT76="ab",DT76,IF(DT76="ML",DT76,IF(DV76>=91,"A+",IF(DV76>=76,"A",IF(DV76>=61,"B",IF(DV76>=41,"C","D"))))))) -> D | DX76: =IF($G76>0,DW76,$G76) -> 0 | EA76: =IF(OR(DY76="",DZ76=""),"",DZ76/DY76*100) | EB76: =IF(G76=0,0,SUM($W$7,$AL$7,$BA$7,$BP$7,$CE$7,$CT$7)) -> 0 | EC76: =SUM(W76,AL76,BA76,BP76,CE76,CT76) -> 0 | ED76: =IF(EB76>0,EC76/EB76*100,0) -> 0 | EE76: =IF(AND(ED76>=60,EF76="Passed"),"First",IF(AND(ED76>=48,EF76="Passed"),"Second",IF(OR(EF76="passed"),"Third",EF76))) | EF76: =IF($G76="NSO","NSO",IF($G76="tc","Transferred",IF($ET76>2,"Promoted",IF(ED76=0,"","Passed")))) | EG76: =IF(EF76="Passed",ED76,"") | EH76: =IF(EG76="","",SUMPRODUCT((EG76<EG$9:EG$108)/COUNTIF(EG$9:EG$108,EG$9:EG$108))) | EI76: =IF(ED76>81,"Excellent",IF(ED76>60,"Very Good",IF(ED76>48,"Good",IF(ED76>36,"Average",IF(ED76=0,0,"Need Improvement"))))) -> 0 | EJ76: =Z76 -> 0 | EK76: =AO76 -> 0 | EL76: =BD76 -> 0 | EM76: =BS76 -> 0 | EN76: =CH76 -> 0 | EO76: =CW76 -> 0 | EP76: =COUNTIF($EJ76:$EO76,"A") -> 0 | EQ76: =COUNTIF($EJ76:$EO76,"B") -> 0 | ER76: =COUNTIF($EJ76:$EO76,"C") -> 0 | ES76: =COUNTIF($EJ76:$EO76,"D") -> 0 | ET76: =COUNTIF($EJ76:$EO76,"E") -> 0 | EW76: =DC76 -> 0 | EX76: / | EY76: =$DC$7 -> 100 | EZ76: =CONCATENATE(EW76,EX76,EY76) -> 0/100 | FA76: =DL76 -> 0 | FB76: / | FC76: =$DL$7 -> 100 | FD76: =CONCATENATE(FA76,FB76,FC76) -> 0/100 | FE76: =DU76 -> 0 | FF76: / | FG76: =$DU$7 -> 100 | FH76: =CONCATENATE(FE76,FF76,FG76) -> 0/100
A77: =G77 -> 0 | B77: 69 | D77: =IF(E77>0,$G$4,0) -> 0 | L77: 0 | M77: 0 | N77: =SUM(L77:M77) -> 0 | O77: 0 | P77: 0 | Q77: 0 | R77: =IF(O77="AB","AB",IF(O77="ML","ML",SUM(O77:Q77))) -> 0 | S77: 0 | T77: =IF($T$7="NA","NA",0) -> 0 | U77: 0 | V77: =IF(AND(S77="",T77="",U77=""),"",IF(OR(S77="AB",T77="AB",U77=""),"AB",IF(OR(S77="ML",T77="ML",U77=""),"ML",SUM(S77:U77)))) -> 0 | W77: =SUM(N77,R77,V77) -> 0 | X77: =IF(OR(W77="",W$7=""),"",W77/W$7*100) -> 0 | Y77: =IF($G77="nso","NSO",IF(V77="ab",V77,IF(V77="ML",V77,IF(X77>=86,"A",IF(X77>=71,"B",IF(X77>=51,"C",IF(X77>=31,"D","E"))))))) -> E | Z77: =IF($G77>0,Y77,$G77) -> 0 | AA77: 0 | AB77: 0 | AC77: =SUM(AA77:AB77) -> 0 | AD77: 0 | AE77: 0 | AF77: 0 | AG77: =IF(AD77="AB","AB",IF(AD77="ML","ML",SUM(AD77:AF77))) -> 0 | AH77: 0 | AI77: =IF($T$7="NA","NA",0) -> 0 | AJ77: 0 | AK77: =IF(AND(AH77="",AI77="",AJ77=""),"",IF(OR(AH77="AB",AI77="AB",AJ77=""),"AB",IF(OR(AH77="ML",AI77="ML",AJ77=""),"ML",SUM(AH77:AJ77)))) -> 0 | AL77: =SUM(AC77,AG77,AK77) -> 0 | AM77: =IF(OR(AL77="",AL$7=""),"",AL77/AL$7*100) -> 0 | AN77: =IF($G77="nso","NSO",IF(AK77="ab",AK77,IF(AK77="ML",AK77,IF(AM77>=86,"A",IF(AM77>=71,"B",IF(AM77>=51,"C",IF(AM77>=31,"D","E"))))))) -> E | AO77: =IF($G77>0,AN77,$G77) -> 0 | AP77: 0 | AQ77: 0 | AR77: =SUM(AP77:AQ77) -> 0 | AS77: 0 | AT77: 0 | AU77: 0 | AV77: =IF(AS77="AB","AB",IF(AS77="ML","ML",SUM(AS77:AU77))) -> 0 | AW77: 0 | AX77: 0 | AY77: 0 | AZ77: =IF(AND(AW77="",AX77="",AY77=""),"",IF(OR(AW77="AB",AX77="AB",AY77=""),"AB",IF(OR(AW77="ML",AX77="ML",AY77=""),"ML",SUM(AW77:AY77)))) -> 0 | BA77: =SUM(AR77,AV77,AZ77) -> 0 | BB77: =IF(OR(BA77="",BA$7=""),"",BA77/BA$7*100) -> 0 | BC77: =IF($G77="nso","NSO",IF(AZ77="ab",AZ77,IF(AZ77="ML",AZ77,IF(BB77>=86,"A",IF(BB77>=71,"B",IF(BB77>=51,"C",IF(BB77>=31,"D","E"))))))) -> E | BD77: =IF($G77>0,BC77,$G77) -> 0 | BE77: 0 | BF77: 0 | BG77: =SUM(BE77:BF77) -> 0 | BH77: 0 | BI77: 0 | BJ77: 0 | BK77: =IF(BH77="AB","AB",IF(BH77="ML","ML",SUM(BH77:BJ77))) -> 0 | BL77: 0 | BM77: 0 | BN77: 0 | BO77: =IF(AND(BL77="",BM77="",BN77=""),"",IF(OR(BL77="AB",BM77="AB",BN77=""),"AB",IF(OR(BL77="ML",BM77="ML",BN77=""),"ML",SUM(BL77:BN77)))) -> 0 | BP77: =SUM(BG77,BK77,BO77) -> 0 | BQ77: =IF(OR(BP77="",BP$7=""),"",BP77/BP$7*100) -> 0 | BR77: =IF($G77="nso","NSO",IF(BO77="ab",BO77,IF(BO77="ML",BO77,IF(BQ77>=86,"A",IF(BQ77>=71,"B",IF(BQ77>=51,"C",IF(BQ77>=31,"D","E"))))))) -> E | BS77: =IF($G77>0,BR77,$G77) -> 0 | BT77: 0 | BU77: 0 | BV77: =SUM(BT77:BU77) -> 0 | BW77: 0 | BX77: 0 | BY77: 0 | BZ77: =IF(BW77="AB","AB",IF(BW77="ML","ML",SUM(BW77:BY77))) -> 0 | CA77: 0 | CB77: 0 | CC77: 0 | CD77: =IF(AND(CA77="",CB77="",CC77=""),"",IF(OR(CA77="AB",CB77="AB",CC77=""),"AB",IF(OR(CA77="ML",CB77="ML",CC77=""),"ML",SUM(CA77:CC77)))) -> 0 | CE77: =SUM(BV77,BZ77,CD77) -> 0 | CF77: =IF(OR(CE77="",CE$7=""),"",CE77/CE$7*100) -> 0 | CG77: =IF($G77="nso","NSO",IF(CD77="ab",CD77,IF(CD77="ML",CD77,IF(CF77>=86,"A",IF(CF77>=71,"B",IF(CF77>=51,"C",IF(CF77>=31,"D","E"))))))) -> E | CH77: =IF($G77>0,CG77,$G77) -> 0 | CI77: 0 | CJ77: 0 | CK77: =SUM(CI77:CJ77) -> 0 | CL77: 0 | CM77: 0 | CN77: 0 | CO77: =IF(CL77="AB","AB",IF(CL77="ML","ML",SUM(CL77:CN77))) -> 0 | CP77: 0 | CQ77: 0 | CR77: =IF($T$7="NA","NA",0) -> 0 | CS77: =IF(AND(CP77="",CQ77="",CR77=""),"",IF(OR(CP77="AB",CQ77="AB",CR77=""),"AB",IF(OR(CP77="ML",CQ77="ML",CR77=""),"ML",SUM(CP77:CR77)))) -> 0 | CT77: =SUM(CK77,CO77,CS77) -> 0 | CU77: =IF(OR(CT77="",CT$7=""),"",CT77/CT$7*100) -> 0 | CV77: =IF($G77="nso","NSO",IF(CS77="ab",CS77,IF(CS77="ML",CS77,IF(CU77>=86,"A",IF(CU77>=71,"B",IF(CU77>=51,"C",IF(CU77>=31,"D","E"))))))) -> E | CW77: =IF($G77>0,CV77,$G77) -> 0 | CX77: 0 | CY77: 0 | CZ77: 0 | DC77: =SUM(CX77:DB77) -> 0 | DD77: =IF(OR(DC77="",DC$7=""),"",DC77/DC$7*100) -> 0 | DE77: =IF(DD77>91,"A+",IF(DD77>76,"A",IF(DD77>61,"B",IF(DD77>41,"C","D")))) -> D | DF77: =IF($G77>0,DE77,$G77) -> 0 | DG77: 0 | DH77: 0 | DI77: 0 | DL77: =SUM(DG77:DK77) -> 0 | DM77: =IF(OR(DL77="",DL$7=""),"",DL77/DL$7*100) -> 0 | DN77: =IF($G77="nso","NSO",IF(DK77="ab",DK77,IF(DK77="ML",DK77,IF(DM77>=91,"A+",IF(DM77>=76,"A",IF(DM77>=61,"B",IF(DM77>=41,"C","D"))))))) -> D | DO77: =IF($G77>0,DN77,$G77) -> 0 | DP77: 0 | DQ77: 0 | DR77: 0 | DU77: =SUM(DP77:DT77) -> 0 | DV77: =IF(OR(DU77="",DU$7=""),"",DU77/DU$7*100) -> 0 | DW77: =IF($G77="nso","NSO",IF(DT77="ab",DT77,IF(DT77="ML",DT77,IF(DV77>=91,"A+",IF(DV77>=76,"A",IF(DV77>=61,"B",IF(DV77>=41,"C","D"))))))) -> D | DX77: =IF($G77>0,DW77,$G77) -> 0 | EA77: =IF(OR(DY77="",DZ77=""),"",DZ77/DY77*100) | EB77: =IF(G77=0,0,SUM($W$7,$AL$7,$BA$7,$BP$7,$CE$7,$CT$7)) -> 0 | EC77: =SUM(W77,AL77,BA77,BP77,CE77,CT77) -> 0 | ED77: =IF(EB77>0,ROUND(EC77/EB77*100,0),0) -> 0 | EE77: =IF(AND(ED77>=60,EF77="Passed"),"First",IF(AND(ED77>=48,EF77="Passed"),"Second",IF(OR(EF77="passed"),"Third",EF77))) | EF77: =IF($G77="NSO","NSO",IF($G77="tc","Transferred",IF($ET77>2,"Promoted",IF(ED77=0,"","Passed")))) | EG77: =IF(EF77="Passed",ED77,"") | EH77: =IF(EG77="","",SUMPRODUCT((EG77<EG$9:EG$108)/COUNTIF(EG$9:EG$108,EG$9:EG$108))) | EI77: =IF(ED77>81,"Excellent",IF(ED77>60,"Very Good",IF(ED77>48,"Good",IF(ED77>36,"Average",IF(ED77=0,0,"Need Improvement"))))) -> 0 | EJ77: =Z77 -> 0 | EK77: =AO77 -> 0 | EL77: =BD77 -> 0 | EM77: =BS77 -> 0 | EN77: =CH77 -> 0 | EO77: =CW77 -> 0 | EP77: =COUNTIF($EJ77:$EO77,"A") -> 0 | EQ77: =COUNTIF($EJ77:$EO77,"B") -> 0 | ER77: =COUNTIF($EJ77:$EO77,"C") -> 0 | ES77: =COUNTIF($EJ77:$EO77,"D") -> 0 | ET77: =COUNTIF($EJ77:$EO77,"E") -> 0 | EW77: =DC77 -> 0 | EX77: / | EY77: =$DC$7 -> 100 | EZ77: =CONCATENATE(EW77,EX77,EY77) -> 0/100 | FA77: =DL77 -> 0 | FB77: / | FC77: =$DL$7 -> 100 | FD77: =CONCATENATE(FA77,FB77,FC77) -> 0/100 | FE77: =DU77 -> 0 | FF77: / | FG77: =$DU$7 -> 100 | FH77: =CONCATENATE(FE77,FF77,FG77) -> 0/100
A78: =G78 -> 0 | B78: 70 | D78: =IF(E78>0,$G$4,0) -> 0 | L78: 0 | M78: 0 | N78: =SUM(L78:M78) -> 0 | O78: 0 | P78: 0 | Q78: 0 | R78: =IF(O78="AB","AB",IF(O78="ML","ML",SUM(O78:Q78))) -> 0 | S78: 0 | T78: =IF($T$7="NA","NA",0) -> 0 | U78: 0 | V78: =IF(AND(S78="",T78="",U78=""),"",IF(OR(S78="AB",T78="AB",U78=""),"AB",IF(OR(S78="ML",T78="ML",U78=""),"ML",SUM(S78:U78)))) -> 0 | W78: =SUM(N78,R78,V78) -> 0 | X78: =IF(OR(W78="",W$7=""),"",W78/W$7*100) -> 0 | Y78: =IF($G78="nso","NSO",IF(V78="ab",V78,IF(V78="ML",V78,IF(X78>=86,"A",IF(X78>=71,"B",IF(X78>=51,"C",IF(X78>=31,"D","E"))))))) -> E | Z78: =IF($G78>0,Y78,$G78) -> 0 | AA78: 0 | AB78: 0 | AC78: =SUM(AA78:AB78) -> 0 | AD78: 0 | AE78: 0 | AF78: 0 | AG78: =IF(AD78="AB","AB",IF(AD78="ML","ML",SUM(AD78:AF78))) -> 0 | AH78: 0 | AI78: =IF($T$7="NA","NA",0) -> 0 | AJ78: 0 | AK78: =IF(AND(AH78="",AI78="",AJ78=""),"",IF(OR(AH78="AB",AI78="AB",AJ78=""),"AB",IF(OR(AH78="ML",AI78="ML",AJ78=""),"ML",SUM(AH78:AJ78)))) -> 0 | AL78: =SUM(AC78,AG78,AK78) -> 0 | AM78: =IF(OR(AL78="",AL$7=""),"",AL78/AL$7*100) -> 0 | AN78: =IF($G78="nso","NSO",IF(AK78="ab",AK78,IF(AK78="ML",AK78,IF(AM78>=86,"A",IF(AM78>=71,"B",IF(AM78>=51,"C",IF(AM78>=31,"D","E"))))))) -> E | AO78: =IF($G78>0,AN78,$G78) -> 0 | AP78: 0 | AQ78: 0 | AR78: =SUM(AP78:AQ78) -> 0 | AS78: 0 | AT78: 0 | AU78: 0 | AV78: =IF(AS78="AB","AB",IF(AS78="ML","ML",SUM(AS78:AU78))) -> 0 | AW78: 0 | AX78: 0 | AY78: 0 | AZ78: =IF(AND(AW78="",AX78="",AY78=""),"",IF(OR(AW78="AB",AX78="AB",AY78=""),"AB",IF(OR(AW78="ML",AX78="ML",AY78=""),"ML",SUM(AW78:AY78)))) -> 0 | BA78: =SUM(AR78,AV78,AZ78) -> 0 | BB78: =IF(OR(BA78="",BA$7=""),"",BA78/BA$7*100) -> 0 | BC78: =IF($G78="nso","NSO",IF(AZ78="ab",AZ78,IF(AZ78="ML",AZ78,IF(BB78>=86,"A",IF(BB78>=71,"B",IF(BB78>=51,"C",IF(BB78>=31,"D","E"))))))) -> E | BD78: =IF($G78>0,BC78,$G78) -> 0 | BE78: 0 | BF78: 0 | BG78: =SUM(BE78:BF78) -> 0 | BH78: 0 | BI78: 0 | BJ78: 0 | BK78: =IF(BH78="AB","AB",IF(BH78="ML","ML",SUM(BH78:BJ78))) -> 0 | BL78: 0 | BM78: 0 | BN78: 0 | BO78: =IF(AND(BL78="",BM78="",BN78=""),"",IF(OR(BL78="AB",BM78="AB",BN78=""),"AB",IF(OR(BL78="ML",BM78="ML",BN78=""),"ML",SUM(BL78:BN78)))) -> 0 | BP78: =SUM(BG78,BK78,BO78) -> 0 | BQ78: =IF(OR(BP78="",BP$7=""),"",BP78/BP$7*100) -> 0 | BR78: =IF($G78="nso","NSO",IF(BO78="ab",BO78,IF(BO78="ML",BO78,IF(BQ78>=86,"A",IF(BQ78>=71,"B",IF(BQ78>=51,"C",IF(BQ78>=31,"D","E"))))))) -> E | BS78: =IF($G78>0,BR78,$G78) -> 0 | BT78: 0 | BU78: 0 | BV78: =SUM(BT78:BU78) -> 0 | BW78: 0 | BX78: 0 | BY78: 0 | BZ78: =IF(BW78="AB","AB",IF(BW78="ML","ML",SUM(BW78:BY78))) -> 0 | CA78: 0 | CB78: 0 | CC78: 0 | CD78: =IF(AND(CA78="",CB78="",CC78=""),"",IF(OR(CA78="AB",CB78="AB",CC78=""),"AB",IF(OR(CA78="ML",CB78="ML",CC78=""),"ML",SUM(CA78:CC78)))) -> 0 | CE78: =SUM(BV78,BZ78,CD78) -> 0 | CF78: =IF(OR(CE78="",CE$7=""),"",CE78/CE$7*100) -> 0 | CG78: =IF($G78="nso","NSO",IF(CD78="ab",CD78,IF(CD78="ML",CD78,IF(CF78>=86,"A",IF(CF78>=71,"B",IF(CF78>=51,"C",IF(CF78>=31,"D","E"))))))) -> E | CH78: =IF($G78>0,CG78,$G78) -> 0 | CI78: 0 | CJ78: 0 | CK78: =SUM(CI78:CJ78) -> 0 | CL78: 0 | CM78: 0 | CN78: 0 | CO78: =IF(CL78="AB","AB",IF(CL78="ML","ML",SUM(CL78:CN78))) -> 0 | CP78: 0 | CQ78: 0 | CR78: =IF($T$7="NA","NA",0) -> 0 | CS78: =IF(AND(CP78="",CQ78="",CR78=""),"",IF(OR(CP78="AB",CQ78="AB",CR78=""),"AB",IF(OR(CP78="ML",CQ78="ML",CR78=""),"ML",SUM(CP78:CR78)))) -> 0 | CT78: =SUM(CK78,CO78,CS78) -> 0 | CU78: =IF(OR(CT78="",CT$7=""),"",CT78/CT$7*100) -> 0 | CV78: =IF($G78="nso","NSO",IF(CS78="ab",CS78,IF(CS78="ML",CS78,IF(CU78>=86,"A",IF(CU78>=71,"B",IF(CU78>=51,"C",IF(CU78>=31,"D","E"))))))) -> E | CW78: =IF($G78>0,CV78,$G78) -> 0 | CX78: 0 | CY78: 0 | CZ78: 0 | DC78: =SUM(CX78:DB78) -> 0 | DD78: =IF(OR(DC78="",DC$7=""),"",DC78/DC$7*100) -> 0 | DE78: =IF(DD78>91,"A+",IF(DD78>76,"A",IF(DD78>61,"B",IF(DD78>41,"C","D")))) -> D | DF78: =IF($G78>0,DE78,$G78) -> 0 | DG78: 0 | DH78: 0 | DI78: 0 | DL78: =SUM(DG78:DK78) -> 0 | DM78: =IF(OR(DL78="",DL$7=""),"",DL78/DL$7*100) -> 0 | DN78: =IF($G78="nso","NSO",IF(DK78="ab",DK78,IF(DK78="ML",DK78,IF(DM78>=91,"A+",IF(DM78>=76,"A",IF(DM78>=61,"B",IF(DM78>=41,"C","D"))))))) -> D | DO78: =IF($G78>0,DN78,$G78) -> 0 | DP78: 0 | DQ78: 0 | DR78: 0 | DU78: =SUM(DP78:DT78) -> 0 | DV78: =IF(OR(DU78="",DU$7=""),"",DU78/DU$7*100) -> 0 | DW78: =IF($G78="nso","NSO",IF(DT78="ab",DT78,IF(DT78="ML",DT78,IF(DV78>=91,"A+",IF(DV78>=76,"A",IF(DV78>=61,"B",IF(DV78>=41,"C","D"))))))) -> D | DX78: =IF($G78>0,DW78,$G78) -> 0 | EA78: =IF(OR(DY78="",DZ78=""),"",DZ78/DY78*100) | EB78: =IF(G78=0,0,SUM($W$7,$AL$7,$BA$7,$BP$7,$CE$7,$CT$7)) -> 0 | EC78: =SUM(W78,AL78,BA78,BP78,CE78,CT78) -> 0 | ED78: =IF(EB78>0,ROUND(EC78/EB78*100,0),0) -> 0 | EE78: =IF(AND(ED78>=60,EF78="Passed"),"First",IF(AND(ED78>=48,EF78="Passed"),"Second",IF(OR(EF78="passed"),"Third",EF78))) | EF78: =IF($G78="NSO","NSO",IF($G78="tc","Transferred",IF($ET78>2,"Promoted",IF(ED78=0,"","Passed")))) | EG78: =IF(EF78="Passed",ED78,"") | EH78: =IF(EG78="","",SUMPRODUCT((EG78<EG$9:EG$108)/COUNTIF(EG$9:EG$108,EG$9:EG$108))) | EI78: =IF(ED78>81,"Excellent",IF(ED78>60,"Very Good",IF(ED78>48,"Good",IF(ED78>36,"Average",IF(ED78=0,0,"Need Improvement"))))) -> 0 | EJ78: =Z78 -> 0 | EK78: =AO78 -> 0 | EL78: =BD78 -> 0 | EM78: =BS78 -> 0 | EN78: =CH78 -> 0 | EO78: =CW78 -> 0 | EP78: =COUNTIF($EJ78:$EO78,"A") -> 0 | EQ78: =COUNTIF($EJ78:$EO78,"B") -> 0 | ER78: =COUNTIF($EJ78:$EO78,"C") -> 0 | ES78: =COUNTIF($EJ78:$EO78,"D") -> 0 | ET78: =COUNTIF($EJ78:$EO78,"E") -> 0 | EW78: =DC78 -> 0 | EX78: / | EY78: =$DC$7 -> 100 | EZ78: =CONCATENATE(EW78,EX78,EY78) -> 0/100 | FA78: =DL78 -> 0 | FB78: / | FC78: =$DL$7 -> 100 | FD78: =CONCATENATE(FA78,FB78,FC78) -> 0/100 | FE78: =DU78 -> 0 | FF78: / | FG78: =$DU$7 -> 100 | FH78: =CONCATENATE(FE78,FF78,FG78) -> 0/100
A79: =G79 -> 0 | B79: 71 | D79: =IF(E79>0,$G$4,0) -> 0 | L79: 0 | M79: 0 | N79: =SUM(L79:M79) -> 0 | O79: 0 | P79: 0 | Q79: 0 | R79: =IF(O79="AB","AB",IF(O79="ML","ML",SUM(O79:Q79))) -> 0 | S79: 0 | T79: =IF($T$7="NA","NA",0) -> 0 | U79: 0 | V79: =IF(AND(S79="",T79="",U79=""),"",IF(OR(S79="AB",T79="AB",U79=""),"AB",IF(OR(S79="ML",T79="ML",U79=""),"ML",SUM(S79:U79)))) -> 0 | W79: =SUM(N79,R79,V79) -> 0 | X79: =IF(OR(W79="",W$7=""),"",W79/W$7*100) -> 0 | Y79: =IF($G79="nso","NSO",IF(V79="ab",V79,IF(V79="ML",V79,IF(X79>=86,"A",IF(X79>=71,"B",IF(X79>=51,"C",IF(X79>=31,"D","E"))))))) -> E | Z79: =IF($G79>0,Y79,$G79) -> 0 | AA79: 0 | AB79: 0 | AC79: =SUM(AA79:AB79) -> 0 | AD79: 0 | AE79: 0 | AF79: 0 | AG79: =IF(AD79="AB","AB",IF(AD79="ML","ML",SUM(AD79:AF79))) -> 0 | AH79: 0 | AI79: =IF($T$7="NA","NA",0) -> 0 | AJ79: 0 | AK79: =IF(AND(AH79="",AI79="",AJ79=""),"",IF(OR(AH79="AB",AI79="AB",AJ79=""),"AB",IF(OR(AH79="ML",AI79="ML",AJ79=""),"ML",SUM(AH79:AJ79)))) -> 0 | AL79: =SUM(AC79,AG79,AK79) -> 0 | AM79: =IF(OR(AL79="",AL$7=""),"",AL79/AL$7*100) -> 0 | AN79: =IF($G79="nso","NSO",IF(AK79="ab",AK79,IF(AK79="ML",AK79,IF(AM79>=86,"A",IF(AM79>=71,"B",IF(AM79>=51,"C",IF(AM79>=31,"D","E"))))))) -> E | AO79: =IF($G79>0,AN79,$G79) -> 0 | AP79: 0 | AQ79: 0 | AR79: =SUM(AP79:AQ79) -> 0 | AS79: 0 | AT79: 0 | AU79: 0 | AV79: =IF(AS79="AB","AB",IF(AS79="ML","ML",SUM(AS79:AU79))) -> 0 | AW79: 0 | AX79: 0 | AY79: 0 | AZ79: =IF(AND(AW79="",AX79="",AY79=""),"",IF(OR(AW79="AB",AX79="AB",AY79=""),"AB",IF(OR(AW79="ML",AX79="ML",AY79=""),"ML",SUM(AW79:AY79)))) -> 0 | BA79: =SUM(AR79,AV79,AZ79) -> 0 | BB79: =IF(OR(BA79="",BA$7=""),"",BA79/BA$7*100) -> 0 | BC79: =IF($G79="nso","NSO",IF(AZ79="ab",AZ79,IF(AZ79="ML",AZ79,IF(BB79>=86,"A",IF(BB79>=71,"B",IF(BB79>=51,"C",IF(BB79>=31,"D","E"))))))) -> E | BD79: =IF($G79>0,BC79,$G79) -> 0 | BE79: 0 | BF79: 0 | BG79: =SUM(BE79:BF79) -> 0 | BH79: 0 | BI79: 0 | BJ79: 0 | BK79: =IF(BH79="AB","AB",IF(BH79="ML","ML",SUM(BH79:BJ79))) -> 0 | BL79: 0 | BM79: 0 | BN79: 0 | BO79: =IF(AND(BL79="",BM79="",BN79=""),"",IF(OR(BL79="AB",BM79="AB",BN79=""),"AB",IF(OR(BL79="ML",BM79="ML",BN79=""),"ML",SUM(BL79:BN79)))) -> 0 | BP79: =SUM(BG79,BK79,BO79) -> 0 | BQ79: =IF(OR(BP79="",BP$7=""),"",BP79/BP$7*100) -> 0 | BR79: =IF($G79="nso","NSO",IF(BO79="ab",BO79,IF(BO79="ML",BO79,IF(BQ79>=86,"A",IF(BQ79>=71,"B",IF(BQ79>=51,"C",IF(BQ79>=31,"D","E"))))))) -> E | BS79: =IF($G79>0,BR79,$G79) -> 0 | BT79: 0 | BU79: 0 | BV79: =SUM(BT79:BU79) -> 0 | BW79: 0 | BX79: 0 | BY79: 0 | BZ79: =IF(BW79="AB","AB",IF(BW79="ML","ML",SUM(BW79:BY79))) -> 0 | CA79: 0 | CB79: 0 | CC79: 0 | CD79: =IF(AND(CA79="",CB79="",CC79=""),"",IF(OR(CA79="AB",CB79="AB",CC79=""),"AB",IF(OR(CA79="ML",CB79="ML",CC79=""),"ML",SUM(CA79:CC79)))) -> 0 | CE79: =SUM(BV79,BZ79,CD79) -> 0 | CF79: =IF(OR(CE79="",CE$7=""),"",CE79/CE$7*100) -> 0 | CG79: =IF($G79="nso","NSO",IF(CD79="ab",CD79,IF(CD79="ML",CD79,IF(CF79>=86,"A",IF(CF79>=71,"B",IF(CF79>=51,"C",IF(CF79>=31,"D","E"))))))) -> E | CH79: =IF($G79>0,CG79,$G79) -> 0 | CI79: 0 | CJ79: 0 | CK79: =SUM(CI79:CJ79) -> 0 | CL79: 0 | CM79: 0 | CN79: 0 | CO79: =IF(CL79="AB","AB",IF(CL79="ML","ML",SUM(CL79:CN79))) -> 0 | CP79: 0 | CQ79: 0 | CR79: =IF($T$7="NA","NA",0) -> 0 | CS79: =IF(AND(CP79="",CQ79="",CR79=""),"",IF(OR(CP79="AB",CQ79="AB",CR79=""),"AB",IF(OR(CP79="ML",CQ79="ML",CR79=""),"ML",SUM(CP79:CR79)))) -> 0 | CT79: =SUM(CK79,CO79,CS79) -> 0 | CU79: =IF(OR(CT79="",CT$7=""),"",CT79/CT$7*100) -> 0 | CV79: =IF($G79="nso","NSO",IF(CS79="ab",CS79,IF(CS79="ML",CS79,IF(CU79>=86,"A",IF(CU79>=71,"B",IF(CU79>=51,"C",IF(CU79>=31,"D","E"))))))) -> E | CW79: =IF($G79>0,CV79,$G79) -> 0 | CX79: 0 | CY79: 0 | CZ79: 0 | DC79: =SUM(CX79:DB79) -> 0 | DD79: =IF(OR(DC79="",DC$7=""),"",DC79/DC$7*100) -> 0 | DE79: =IF(DD79>91,"A+",IF(DD79>76,"A",IF(DD79>61,"B",IF(DD79>41,"C","D")))) -> D | DF79: =IF($G79>0,DE79,$G79) -> 0 | DG79: 0 | DH79: 0 | DI79: 0 | DL79: =SUM(DG79:DK79) -> 0 | DM79: =IF(OR(DL79="",DL$7=""),"",DL79/DL$7*100) -> 0 | DN79: =IF($G79="nso","NSO",IF(DK79="ab",DK79,IF(DK79="ML",DK79,IF(DM79>=91,"A+",IF(DM79>=76,"A",IF(DM79>=61,"B",IF(DM79>=41,"C","D"))))))) -> D | DO79: =IF($G79>0,DN79,$G79) -> 0 | DP79: 0 | DQ79: 0 | DR79: 0 | DU79: =SUM(DP79:DT79) -> 0 | DV79: =IF(OR(DU79="",DU$7=""),"",DU79/DU$7*100) -> 0 | DW79: =IF($G79="nso","NSO",IF(DT79="ab",DT79,IF(DT79="ML",DT79,IF(DV79>=91,"A+",IF(DV79>=76,"A",IF(DV79>=61,"B",IF(DV79>=41,"C","D"))))))) -> D | DX79: =IF($G79>0,DW79,$G79) -> 0 | EA79: =IF(OR(DY79="",DZ79=""),"",DZ79/DY79*100) | EB79: =IF(G79=0,0,SUM($W$7,$AL$7,$BA$7,$BP$7,$CE$7,$CT$7)) -> 0 | EC79: =SUM(W79,AL79,BA79,BP79,CE79,CT79) -> 0 | ED79: =IF(EB79>0,ROUND(EC79/EB79*100,0),0) -> 0 | EE79: =IF(AND(ED79>=60,EF79="Passed"),"First",IF(AND(ED79>=48,EF79="Passed"),"Second",IF(OR(EF79="passed"),"Third",EF79))) | EF79: =IF($G79="NSO","NSO",IF($G79="tc","Transferred",IF($ET79>2,"Promoted",IF(ED79=0,"","Passed")))) | EG79: =IF(EF79="Passed",ED79,"") | EH79: =IF(EG79="","",SUMPRODUCT((EG79<EG$9:EG$108)/COUNTIF(EG$9:EG$108,EG$9:EG$108))) | EI79: =IF(ED79>81,"Excellent",IF(ED79>60,"Very Good",IF(ED79>48,"Good",IF(ED79>36,"Average",IF(ED79=0,0,"Need Improvement"))))) -> 0 | EJ79: =Z79 -> 0 | EK79: =AO79 -> 0 | EL79: =BD79 -> 0 | EM79: =BS79 -> 0 | EN79: =CH79 -> 0 | EO79: =CW79 -> 0 | EP79: =COUNTIF($EJ79:$EO79,"A") -> 0 | EQ79: =COUNTIF($EJ79:$EO79,"B") -> 0 | ER79: =COUNTIF($EJ79:$EO79,"C") -> 0 | ES79: =COUNTIF($EJ79:$EO79,"D") -> 0 | ET79: =COUNTIF($EJ79:$EO79,"E") -> 0 | EW79: =DC79 -> 0 | EX79: / | EY79: =$DC$7 -> 100 | EZ79: =CONCATENATE(EW79,EX79,EY79) -> 0/100 | FA79: =DL79 -> 0 | FB79: / | FC79: =$DL$7 -> 100 | FD79: =CONCATENATE(FA79,FB79,FC79) -> 0/100 | FE79: =DU79 -> 0 | FF79: / | FG79: =$DU$7 -> 100 | FH79: =CONCATENATE(FE79,FF79,FG79) -> 0/100
A80: =G80 -> 0 | B80: 72 | D80: =IF(E80>0,$G$4,0) -> 0 | L80: 0 | M80: 0 | N80: =SUM(L80:M80) -> 0 | O80: 0 | P80: 0 | Q80: 0 | R80: =IF(O80="AB","AB",IF(O80="ML","ML",SUM(O80:Q80))) -> 0 | S80: 0 | T80: =IF($T$7="NA","NA",0) -> 0 | U80: 0 | V80: =IF(AND(S80="",T80="",U80=""),"",IF(OR(S80="AB",T80="AB",U80=""),"AB",IF(OR(S80="ML",T80="ML",U80=""),"ML",SUM(S80:U80)))) -> 0 | W80: =SUM(N80,R80,V80) -> 0 | X80: =IF(OR(W80="",W$7=""),"",W80/W$7*100) -> 0 | Y80: =IF($G80="nso","NSO",IF(V80="ab",V80,IF(V80="ML",V80,IF(X80>=86,"A",IF(X80>=71,"B",IF(X80>=51,"C",IF(X80>=31,"D","E"))))))) -> E | Z80: =IF($G80>0,Y80,$G80) -> 0 | AA80: 0 | AB80: 0 | AC80: =SUM(AA80:AB80) -> 0 | AD80: 0 | AE80: 0 | AF80: 0 | AG80: =IF(AD80="AB","AB",IF(AD80="ML","ML",SUM(AD80:AF80))) -> 0 | AH80: 0 | AI80: =IF($T$7="NA","NA",0) -> 0 | AJ80: 0 | AK80: =IF(AND(AH80="",AI80="",AJ80=""),"",IF(OR(AH80="AB",AI80="AB",AJ80=""),"AB",IF(OR(AH80="ML",AI80="ML",AJ80=""),"ML",SUM(AH80:AJ80)))) -> 0 | AL80: =SUM(AC80,AG80,AK80) -> 0 | AM80: =IF(OR(AL80="",AL$7=""),"",AL80/AL$7*100) -> 0 | AN80: =IF($G80="nso","NSO",IF(AK80="ab",AK80,IF(AK80="ML",AK80,IF(AM80>=86,"A",IF(AM80>=71,"B",IF(AM80>=51,"C",IF(AM80>=31,"D","E"))))))) -> E | AO80: =IF($G80>0,AN80,$G80) -> 0 | AP80: 0 | AQ80: 0 | AR80: =SUM(AP80:AQ80) -> 0 | AS80: 0 | AT80: 0 | AU80: 0 | AV80: =IF(AS80="AB","AB",IF(AS80="ML","ML",SUM(AS80:AU80))) -> 0 | AW80: 0 | AX80: 0 | AY80: 0 | AZ80: =IF(AND(AW80="",AX80="",AY80=""),"",IF(OR(AW80="AB",AX80="AB",AY80=""),"AB",IF(OR(AW80="ML",AX80="ML",AY80=""),"ML",SUM(AW80:AY80)))) -> 0 | BA80: =SUM(AR80,AV80,AZ80) -> 0 | BB80: =IF(OR(BA80="",BA$7=""),"",BA80/BA$7*100) -> 0 | BC80: =IF($G80="nso","NSO",IF(AZ80="ab",AZ80,IF(AZ80="ML",AZ80,IF(BB80>=86,"A",IF(BB80>=71,"B",IF(BB80>=51,"C",IF(BB80>=31,"D","E"))))))) -> E | BD80: =IF($G80>0,BC80,$G80) -> 0 | BE80: 0 | BF80: 0 | BG80: =SUM(BE80:BF80) -> 0 | BH80: 0 | BI80: 0 | BJ80: 0 | BK80: =IF(BH80="AB","AB",IF(BH80="ML","ML",SUM(BH80:BJ80))) -> 0 | BL80: 0 | BM80: 0 | BN80: 0 | BO80: =IF(AND(BL80="",BM80="",BN80=""),"",IF(OR(BL80="AB",BM80="AB",BN80=""),"AB",IF(OR(BL80="ML",BM80="ML",BN80=""),"ML",SUM(BL80:BN80)))) -> 0 | BP80: =SUM(BG80,BK80,BO80) -> 0 | BQ80: =IF(OR(BP80="",BP$7=""),"",BP80/BP$7*100) -> 0 | BR80: =IF($G80="nso","NSO",IF(BO80="ab",BO80,IF(BO80="ML",BO80,IF(BQ80>=86,"A",IF(BQ80>=71,"B",IF(BQ80>=51,"C",IF(BQ80>=31,"D","E"))))))) -> E | BS80: =IF($G80>0,BR80,$G80) -> 0 | BT80: 0 | BU80: 0 | BV80: =SUM(BT80:BU80) -> 0 | BW80: 0 | BX80: 0 | BY80: 0 | BZ80: =IF(BW80="AB","AB",IF(BW80="ML","ML",SUM(BW80:BY80))) -> 0 | CA80: 0 | CB80: 0 | CC80: 0 | CD80: =IF(AND(CA80="",CB80="",CC80=""),"",IF(OR(CA80="AB",CB80="AB",CC80=""),"AB",IF(OR(CA80="ML",CB80="ML",CC80=""),"ML",SUM(CA80:CC80)))) -> 0 | CE80: =SUM(BV80,BZ80,CD80) -> 0 | CF80: =IF(OR(CE80="",CE$7=""),"",CE80/CE$7*100) -> 0 | CG80: =IF($G80="nso","NSO",IF(CD80="ab",CD80,IF(CD80="ML",CD80,IF(CF80>=86,"A",IF(CF80>=71,"B",IF(CF80>=51,"C",IF(CF80>=31,"D","E"))))))) -> E | CH80: =IF($G80>0,CG80,$G80) -> 0 | CI80: 0 | CJ80: 0 | CK80: =SUM(CI80:CJ80) -> 0 | CL80: 0 | CM80: 0 | CN80: 0 | CO80: =IF(CL80="AB","AB",IF(CL80="ML","ML",SUM(CL80:CN80))) -> 0 | CP80: 0 | CQ80: 0 | CR80: =IF($T$7="NA","NA",0) -> 0 | CS80: =IF(AND(CP80="",CQ80="",CR80=""),"",IF(OR(CP80="AB",CQ80="AB",CR80=""),"AB",IF(OR(CP80="ML",CQ80="ML",CR80=""),"ML",SUM(CP80:CR80)))) -> 0 | CT80: =SUM(CK80,CO80,CS80) -> 0 | CU80: =IF(OR(CT80="",CT$7=""),"",CT80/CT$7*100) -> 0 | CV80: =IF($G80="nso","NSO",IF(CS80="ab",CS80,IF(CS80="ML",CS80,IF(CU80>=86,"A",IF(CU80>=71,"B",IF(CU80>=51,"C",IF(CU80>=31,"D","E"))))))) -> E | CW80: =IF($G80>0,CV80,$G80) -> 0 | CX80: 0 | CY80: 0 | CZ80: 0 | DC80: =SUM(CX80:DB80) -> 0 | DD80: =IF(OR(DC80="",DC$7=""),"",DC80/DC$7*100) -> 0 | DE80: =IF(DD80>91,"A+",IF(DD80>76,"A",IF(DD80>61,"B",IF(DD80>41,"C","D")))) -> D | DF80: =IF($G80>0,DE80,$G80) -> 0 | DG80: 0 | DH80: 0 | DI80: 0 | DL80: =SUM(DG80:DK80) -> 0 | DM80: =IF(OR(DL80="",DL$7=""),"",DL80/DL$7*100) -> 0 | DN80: =IF($G80="nso","NSO",IF(DK80="ab",DK80,IF(DK80="ML",DK80,IF(DM80>=91,"A+",IF(DM80>=76,"A",IF(DM80>=61,"B",IF(DM80>=41,"C","D"))))))) -> D | DO80: =IF($G80>0,DN80,$G80) -> 0 | DP80: 0 | DQ80: 0 | DR80: 0 | DU80: =SUM(DP80:DT80) -> 0 | DV80: =IF(OR(DU80="",DU$7=""),"",DU80/DU$7*100) -> 0 | DW80: =IF($G80="nso","NSO",IF(DT80="ab",DT80,IF(DT80="ML",DT80,IF(DV80>=91,"A+",IF(DV80>=76,"A",IF(DV80>=61,"B",IF(DV80>=41,"C","D"))))))) -> D | DX80: =IF($G80>0,DW80,$G80) -> 0 | EA80: =IF(OR(DY80="",DZ80=""),"",DZ80/DY80*100) | EB80: =IF(G80=0,0,SUM($W$7,$AL$7,$BA$7,$BP$7,$CE$7,$CT$7)) -> 0 | EC80: =SUM(W80,AL80,BA80,BP80,CE80,CT80) -> 0 | ED80: =IF(EB80>0,ROUND(EC80/EB80*100,0),0) -> 0 | EE80: =IF(AND(ED80>=60,EF80="Passed"),"First",IF(AND(ED80>=48,EF80="Passed"),"Second",IF(OR(EF80="passed"),"Third",EF80))) | EF80: =IF($G80="NSO","NSO",IF($G80="tc","Transferred",IF($ET80>2,"Promoted",IF(ED80=0,"","Passed")))) | EG80: =IF(EF80="Passed",ED80,"") | EH80: =IF(EG80="","",SUMPRODUCT((EG80<EG$9:EG$108)/COUNTIF(EG$9:EG$108,EG$9:EG$108))) | EI80: =IF(ED80>81,"Excellent",IF(ED80>60,"Very Good",IF(ED80>48,"Good",IF(ED80>36,"Average",IF(ED80=0,0,"Need Improvement"))))) -> 0 | EJ80: =Z80 -> 0 | EK80: =AO80 -> 0 | EL80: =BD80 -> 0 | EM80: =BS80 -> 0 | EN80: =CH80 -> 0 | EO80: =CW80 -> 0 | EP80: =COUNTIF($EJ80:$EO80,"A") -> 0 | EQ80: =COUNTIF($EJ80:$EO80,"B") -> 0 | ER80: =COUNTIF($EJ80:$EO80,"C") -> 0 | ES80: =COUNTIF($EJ80:$EO80,"D") -> 0 | ET80: =COUNTIF($EJ80:$EO80,"E") -> 0 | EW80: =DC80 -> 0 | EX80: / | EY80: =$DC$7 -> 100 | EZ80: =CONCATENATE(EW80,EX80,EY80) -> 0/100 | FA80: =DL80 -> 0 | FB80: / | FC80: =$DL$7 -> 100 | FD80: =CONCATENATE(FA80,FB80,FC80) -> 0/100 | FE80: =DU80 -> 0 | FF80: / | FG80: =$DU$7 -> 100 | FH80: =CONCATENATE(FE80,FF80,FG80) -> 0/100
A81: =G81 -> 0 | B81: 73 | D81: =IF(E81>0,$G$4,0) -> 0 | L81: 0 | M81: 0 | N81: =SUM(L81:M81) -> 0 | O81: 0 | P81: 0 | Q81: 0 | R81: =IF(O81="AB","AB",IF(O81="ML","ML",SUM(O81:Q81))) -> 0 | S81: 0 | T81: =IF($T$7="NA","NA",0) -> 0 | U81: 0 | V81: =IF(AND(S81="",T81="",U81=""),"",IF(OR(S81="AB",T81="AB",U81=""),"AB",IF(OR(S81="ML",T81="ML",U81=""),"ML",SUM(S81:U81)))) -> 0 | W81: =SUM(N81,R81,V81) -> 0 | X81: =IF(OR(W81="",W$7=""),"",W81/W$7*100) -> 0 | Y81: =IF($G81="nso","NSO",IF(V81="ab",V81,IF(V81="ML",V81,IF(X81>=86,"A",IF(X81>=71,"B",IF(X81>=51,"C",IF(X81>=31,"D","E"))))))) -> E | Z81: =IF($G81>0,Y81,$G81) -> 0 | AA81: 0 | AB81: 0 | AC81: =SUM(AA81:AB81) -> 0 | AD81: 0 | AE81: 0 | AF81: 0 | AG81: =IF(AD81="AB","AB",IF(AD81="ML","ML",SUM(AD81:AF81))) -> 0 | AH81: 0 | AI81: =IF($T$7="NA","NA",0) -> 0 | AJ81: 0 | AK81: =IF(AND(AH81="",AI81="",AJ81=""),"",IF(OR(AH81="AB",AI81="AB",AJ81=""),"AB",IF(OR(AH81="ML",AI81="ML",AJ81=""),"ML",SUM(AH81:AJ81)))) -> 0 | AL81: =SUM(AC81,AG81,AK81) -> 0 | AM81: =IF(OR(AL81="",AL$7=""),"",AL81/AL$7*100) -> 0 | AN81: =IF($G81="nso","NSO",IF(AK81="ab",AK81,IF(AK81="ML",AK81,IF(AM81>=86,"A",IF(AM81>=71,"B",IF(AM81>=51,"C",IF(AM81>=31,"D","E"))))))) -> E | AO81: =IF($G81>0,AN81,$G81) -> 0 | AP81: 0 | AQ81: 0 | AR81: =SUM(AP81:AQ81) -> 0 | AS81: 0 | AT81: 0 | AU81: 0 | AV81: =IF(AS81="AB","AB",IF(AS81="ML","ML",SUM(AS81:AU81))) -> 0 | AW81: 0 | AX81: 0 | AY81: 0 | AZ81: =IF(AND(AW81="",AX81="",AY81=""),"",IF(OR(AW81="AB",AX81="AB",AY81=""),"AB",IF(OR(AW81="ML",AX81="ML",AY81=""),"ML",SUM(AW81:AY81)))) -> 0 | BA81: =SUM(AR81,AV81,AZ81) -> 0 | BB81: =IF(OR(BA81="",BA$7=""),"",BA81/BA$7*100) -> 0 | BC81: =IF($G81="nso","NSO",IF(AZ81="ab",AZ81,IF(AZ81="ML",AZ81,IF(BB81>=86,"A",IF(BB81>=71,"B",IF(BB81>=51,"C",IF(BB81>=31,"D","E"))))))) -> E | BD81: =IF($G81>0,BC81,$G81) -> 0 | BE81: 0 | BF81: 0 | BG81: =SUM(BE81:BF81) -> 0 | BH81: 0 | BI81: 0 | BJ81: 0 | BK81: =IF(BH81="AB","AB",IF(BH81="ML","ML",SUM(BH81:BJ81))) -> 0 | BL81: 0 | BM81: 0 | BN81: 0 | BO81: =IF(AND(BL81="",BM81="",BN81=""),"",IF(OR(BL81="AB",BM81="AB",BN81=""),"AB",IF(OR(BL81="ML",BM81="ML",BN81=""),"ML",SUM(BL81:BN81)))) -> 0 | BP81: =SUM(BG81,BK81,BO81) -> 0 | BQ81: =IF(OR(BP81="",BP$7=""),"",BP81/BP$7*100) -> 0 | BR81: =IF($G81="nso","NSO",IF(BO81="ab",BO81,IF(BO81="ML",BO81,IF(BQ81>=86,"A",IF(BQ81>=71,"B",IF(BQ81>=51,"C",IF(BQ81>=31,"D","E"))))))) -> E | BS81: =IF($G81>0,BR81,$G81) -> 0 | BT81: 0 | BU81: 0 | BV81: =SUM(BT81:BU81) -> 0 | BW81: 0 | BX81: 0 | BY81: 0 | BZ81: =IF(BW81="AB","AB",IF(BW81="ML","ML",SUM(BW81:BY81))) -> 0 | CA81: 0 | CB81: 0 | CC81: 0 | CD81: =IF(AND(CA81="",CB81="",CC81=""),"",IF(OR(CA81="AB",CB81="AB",CC81=""),"AB",IF(OR(CA81="ML",CB81="ML",CC81=""),"ML",SUM(CA81:CC81)))) -> 0 | CE81: =SUM(BV81,BZ81,CD81) -> 0 | CF81: =IF(OR(CE81="",CE$7=""),"",CE81/CE$7*100) -> 0 | CG81: =IF($G81="nso","NSO",IF(CD81="ab",CD81,IF(CD81="ML",CD81,IF(CF81>=86,"A",IF(CF81>=71,"B",IF(CF81>=51,"C",IF(CF81>=31,"D","E"))))))) -> E | CH81: =IF($G81>0,CG81,$G81) -> 0 | CI81: 0 | CJ81: 0 | CK81: =SUM(CI81:CJ81) -> 0 | CL81: 0 | CM81: 0 | CN81: 0 | CO81: =IF(CL81="AB","AB",IF(CL81="ML","ML",SUM(CL81:CN81))) -> 0 | CP81: 0 | CQ81: 0 | CR81: =IF($T$7="NA","NA",0) -> 0 | CS81: =IF(AND(CP81="",CQ81="",CR81=""),"",IF(OR(CP81="AB",CQ81="AB",CR81=""),"AB",IF(OR(CP81="ML",CQ81="ML",CR81=""),"ML",SUM(CP81:CR81)))) -> 0 | CT81: =SUM(CK81,CO81,CS81) -> 0 | CU81: =IF(OR(CT81="",CT$7=""),"",CT81/CT$7*100) -> 0 | CV81: =IF($G81="nso","NSO",IF(CS81="ab",CS81,IF(CS81="ML",CS81,IF(CU81>=86,"A",IF(CU81>=71,"B",IF(CU81>=51,"C",IF(CU81>=31,"D","E"))))))) -> E | CW81: =IF($G81>0,CV81,$G81) -> 0 | CX81: 0 | CY81: 0 | CZ81: 0 | DC81: =SUM(CX81:DB81) -> 0 | DD81: =IF(OR(DC81="",DC$7=""),"",DC81/DC$7*100) -> 0 | DE81: =IF(DD81>91,"A+",IF(DD81>76,"A",IF(DD81>61,"B",IF(DD81>41,"C","D")))) -> D | DF81: =IF($G81>0,DE81,$G81) -> 0 | DG81: 0 | DH81: 0 | DI81: 0 | DL81: =SUM(DG81:DK81) -> 0 | DM81: =IF(OR(DL81="",DL$7=""),"",DL81/DL$7*100) -> 0 | DN81: =IF($G81="nso","NSO",IF(DK81="ab",DK81,IF(DK81="ML",DK81,IF(DM81>=91,"A+",IF(DM81>=76,"A",IF(DM81>=61,"B",IF(DM81>=41,"C","D"))))))) -> D | DO81: =IF($G81>0,DN81,$G81) -> 0 | DP81: 0 | DQ81: 0 | DR81: 0 | DU81: =SUM(DP81:DT81) -> 0 | DV81: =IF(OR(DU81="",DU$7=""),"",DU81/DU$7*100) -> 0 | DW81: =IF($G81="nso","NSO",IF(DT81="ab",DT81,IF(DT81="ML",DT81,IF(DV81>=91,"A+",IF(DV81>=76,"A",IF(DV81>=61,"B",IF(DV81>=41,"C","D"))))))) -> D | DX81: =IF($G81>0,DW81,$G81) -> 0 | EA81: =IF(OR(DY81="",DZ81=""),"",DZ81/DY81*100) | EB81: =IF(G81=0,0,SUM($W$7,$AL$7,$BA$7,$BP$7,$CE$7,$CT$7)) -> 0 | EC81: =SUM(W81,AL81,BA81,BP81,CE81,CT81) -> 0 | ED81: =IF(EB81>0,ROUND(EC81/EB81*100,0),0) -> 0 | EE81: =IF(AND(ED81>=60,EF81="Passed"),"First",IF(AND(ED81>=48,EF81="Passed"),"Second",IF(OR(EF81="passed"),"Third",EF81))) | EF81: =IF($G81="NSO","NSO",IF($G81="tc","Transferred",IF($ET81>2,"Promoted",IF(ED81=0,"","Passed")))) | EG81: =IF(EF81="Passed",ED81,"") | EH81: =IF(EG81="","",SUMPRODUCT((EG81<EG$9:EG$108)/COUNTIF(EG$9:EG$108,EG$9:EG$108))) | EI81: =IF(ED81>81,"Excellent",IF(ED81>60,"Very Good",IF(ED81>48,"Good",IF(ED81>36,"Average",IF(ED81=0,0,"Need Improvement"))))) -> 0 | EJ81: =Z81 -> 0 | EK81: =AO81 -> 0 | EL81: =BD81 -> 0 | EM81: =BS81 -> 0 | EN81: =CH81 -> 0 | EO81: =CW81 -> 0 | EP81: =COUNTIF($EJ81:$EO81,"A") -> 0 | EQ81: =COUNTIF($EJ81:$EO81,"B") -> 0 | ER81: =COUNTIF($EJ81:$EO81,"C") -> 0 | ES81: =COUNTIF($EJ81:$EO81,"D") -> 0 | ET81: =COUNTIF($EJ81:$EO81,"E") -> 0 | EW81: =DC81 -> 0 | EX81: / | EY81: =$DC$7 -> 100 | EZ81: =CONCATENATE(EW81,EX81,EY81) -> 0/100 | FA81: =DL81 -> 0 | FB81: / | FC81: =$DL$7 -> 100 | FD81: =CONCATENATE(FA81,FB81,FC81) -> 0/100 | FE81: =DU81 -> 0 | FF81: / | FG81: =$DU$7 -> 100 | FH81: =CONCATENATE(FE81,FF81,FG81) -> 0/100
A82: =G82 -> 0 | B82: 74 | D82: =IF(E82>0,$G$4,0) -> 0 | L82: 0 | M82: 0 | N82: =SUM(L82:M82) -> 0 | O82: 0 | P82: 0 | Q82: 0 | R82: =IF(O82="AB","AB",IF(O82="ML","ML",SUM(O82:Q82))) -> 0 | S82: 0 | T82: =IF($T$7="NA","NA",0) -> 0 | U82: 0 | V82: =IF(AND(S82="",T82="",U82=""),"",IF(OR(S82="AB",T82="AB",U82=""),"AB",IF(OR(S82="ML",T82="ML",U82=""),"ML",SUM(S82:U82)))) -> 0 | W82: =SUM(N82,R82,V82) -> 0 | X82: =IF(OR(W82="",W$7=""),"",W82/W$7*100) -> 0 | Y82: =IF($G82="nso","NSO",IF(V82="ab",V82,IF(V82="ML",V82,IF(X82>=86,"A",IF(X82>=71,"B",IF(X82>=51,"C",IF(X82>=31,"D","E"))))))) -> E | Z82: =IF($G82>0,Y82,$G82) -> 0 | AA82: 0 | AB82: 0 | AC82: =SUM(AA82:AB82) -> 0 | AD82: 0 | AE82: 0 | AF82: 0 | AG82: =IF(AD82="AB","AB",IF(AD82="ML","ML",SUM(AD82:AF82))) -> 0 | AH82: 0 | AI82: =IF($T$7="NA","NA",0) -> 0 | AJ82: 0 | AK82: =IF(AND(AH82="",AI82="",AJ82=""),"",IF(OR(AH82="AB",AI82="AB",AJ82=""),"AB",IF(OR(AH82="ML",AI82="ML",AJ82=""),"ML",SUM(AH82:AJ82)))) -> 0 | AL82: =SUM(AC82,AG82,AK82) -> 0 | AM82: =IF(OR(AL82="",AL$7=""),"",AL82/AL$7*100) -> 0 | AN82: =IF($G82="nso","NSO",IF(AK82="ab",AK82,IF(AK82="ML",AK82,IF(AM82>=86,"A",IF(AM82>=71,"B",IF(AM82>=51,"C",IF(AM82>=31,"D","E"))))))) -> E | AO82: =IF($G82>0,AN82,$G82) -> 0 | AP82: 0 | AQ82: 0 | AR82: =SUM(AP82:AQ82) -> 0 | AS82: 0 | AT82: 0 | AU82: 0 | AV82: =IF(AS82="AB","AB",IF(AS82="ML","ML",SUM(AS82:AU82))) -> 0 | AW82: 0 | AX82: 0 | AY82: 0 | AZ82: =IF(AND(AW82="",AX82="",AY82=""),"",IF(OR(AW82="AB",AX82="AB",AY82=""),"AB",IF(OR(AW82="ML",AX82="ML",AY82=""),"ML",SUM(AW82:AY82)))) -> 0 | BA82: =SUM(AR82,AV82,AZ82) -> 0 | BB82: =IF(OR(BA82="",BA$7=""),"",BA82/BA$7*100) -> 0 | BC82: =IF($G82="nso","NSO",IF(AZ82="ab",AZ82,IF(AZ82="ML",AZ82,IF(BB82>=86,"A",IF(BB82>=71,"B",IF(BB82>=51,"C",IF(BB82>=31,"D","E"))))))) -> E | BD82: =IF($G82>0,BC82,$G82) -> 0 | BE82: 0 | BF82: 0 | BG82: =SUM(BE82:BF82) -> 0 | BH82: 0 | BI82: 0 | BJ82: 0 | BK82: =IF(BH82="AB","AB",IF(BH82="ML","ML",SUM(BH82:BJ82))) -> 0 | BL82: 0 | BM82: 0 | BN82: 0 | BO82: =IF(AND(BL82="",BM82="",BN82=""),"",IF(OR(BL82="AB",BM82="AB",BN82=""),"AB",IF(OR(BL82="ML",BM82="ML",BN82=""),"ML",SUM(BL82:BN82)))) -> 0 | BP82: =SUM(BG82,BK82,BO82) -> 0 | BQ82: =IF(OR(BP82="",BP$7=""),"",BP82/BP$7*100) -> 0 | BR82: =IF($G82="nso","NSO",IF(BO82="ab",BO82,IF(BO82="ML",BO82,IF(BQ82>=86,"A",IF(BQ82>=71,"B",IF(BQ82>=51,"C",IF(BQ82>=31,"D","E"))))))) -> E | BS82: =IF($G82>0,BR82,$G82) -> 0 | BT82: 0 | BU82: 0 | BV82: =SUM(BT82:BU82) -> 0 | BW82: 0 | BX82: 0 | BY82: 0 | BZ82: =IF(BW82="AB","AB",IF(BW82="ML","ML",SUM(BW82:BY82))) -> 0 | CA82: 0 | CB82: 0 | CC82: 0 | CD82: =IF(AND(CA82="",CB82="",CC82=""),"",IF(OR(CA82="AB",CB82="AB",CC82=""),"AB",IF(OR(CA82="ML",CB82="ML",CC82=""),"ML",SUM(CA82:CC82)))) -> 0 | CE82: =SUM(BV82,BZ82,CD82) -> 0 | CF82: =IF(OR(CE82="",CE$7=""),"",CE82/CE$7*100) -> 0 | CG82: =IF($G82="nso","NSO",IF(CD82="ab",CD82,IF(CD82="ML",CD82,IF(CF82>=86,"A",IF(CF82>=71,"B",IF(CF82>=51,"C",IF(CF82>=31,"D","E"))))))) -> E | CH82: =IF($G82>0,CG82,$G82) -> 0 | CI82: 0 | CJ82: 0 | CK82: =SUM(CI82:CJ82) -> 0 | CL82: 0 | CM82: 0 | CN82: 0 | CO82: =IF(CL82="AB","AB",IF(CL82="ML","ML",SUM(CL82:CN82))) -> 0 | CP82: 0 | CQ82: 0 | CR82: =IF($T$7="NA","NA",0) -> 0 | CS82: =IF(AND(CP82="",CQ82="",CR82=""),"",IF(OR(CP82="AB",CQ82="AB",CR82=""),"AB",IF(OR(CP82="ML",CQ82="ML",CR82=""),"ML",SUM(CP82:CR82)))) -> 0 | CT82: =SUM(CK82,CO82,CS82) -> 0 | CU82: =IF(OR(CT82="",CT$7=""),"",CT82/CT$7*100) -> 0 | CV82: =IF($G82="nso","NSO",IF(CS82="ab",CS82,IF(CS82="ML",CS82,IF(CU82>=86,"A",IF(CU82>=71,"B",IF(CU82>=51,"C",IF(CU82>=31,"D","E"))))))) -> E | CW82: =IF($G82>0,CV82,$G82) -> 0 | CX82: 0 | CY82: 0 | CZ82: 0 | DC82: =SUM(CX82:DB82) -> 0 | DD82: =IF(OR(DC82="",DC$7=""),"",DC82/DC$7*100) -> 0 | DE82: =IF(DD82>91,"A+",IF(DD82>76,"A",IF(DD82>61,"B",IF(DD82>41,"C","D")))) -> D | DF82: =IF($G82>0,DE82,$G82) -> 0 | DG82: 0 | DH82: 0 | DI82: 0 | DL82: =SUM(DG82:DK82) -> 0 | DM82: =IF(OR(DL82="",DL$7=""),"",DL82/DL$7*100) -> 0 | DN82: =IF($G82="nso","NSO",IF(DK82="ab",DK82,IF(DK82="ML",DK82,IF(DM82>=91,"A+",IF(DM82>=76,"A",IF(DM82>=61,"B",IF(DM82>=41,"C","D"))))))) -> D | DO82: =IF($G82>0,DN82,$G82) -> 0 | DP82: 0 | DQ82: 0 | DR82: 0 | DU82: =SUM(DP82:DT82) -> 0 | DV82: =IF(OR(DU82="",DU$7=""),"",DU82/DU$7*100) -> 0 | DW82: =IF($G82="nso","NSO",IF(DT82="ab",DT82,IF(DT82="ML",DT82,IF(DV82>=91,"A+",IF(DV82>=76,"A",IF(DV82>=61,"B",IF(DV82>=41,"C","D"))))))) -> D | DX82: =IF($G82>0,DW82,$G82) -> 0 | EA82: =IF(OR(DY82="",DZ82=""),"",DZ82/DY82*100) | EB82: =IF(G82=0,0,SUM($W$7,$AL$7,$BA$7,$BP$7,$CE$7,$CT$7)) -> 0 | EC82: =SUM(W82,AL82,BA82,BP82,CE82,CT82) -> 0 | ED82: =IF(EB82>0,ROUND(EC82/EB82*100,0),0) -> 0 | EE82: =IF(AND(ED82>=60,EF82="Passed"),"First",IF(AND(ED82>=48,EF82="Passed"),"Second",IF(OR(EF82="passed"),"Third",EF82))) | EF82: =IF($G82="NSO","NSO",IF($G82="tc","Transferred",IF($ET82>2,"Promoted",IF(ED82=0,"","Passed")))) | EG82: =IF(EF82="Passed",ED82,"") | EH82: =IF(EG82="","",SUMPRODUCT((EG82<EG$9:EG$108)/COUNTIF(EG$9:EG$108,EG$9:EG$108))) | EI82: =IF(ED82>81,"Excellent",IF(ED82>60,"Very Good",IF(ED82>48,"Good",IF(ED82>36,"Average",IF(ED82=0,0,"Need Improvement"))))) -> 0 | EJ82: =Z82 -> 0 | EK82: =AO82 -> 0 | EL82: =BD82 -> 0 | EM82: =BS82 -> 0 | EN82: =CH82 -> 0 | EO82: =CW82 -> 0 | EP82: =COUNTIF($EJ82:$EO82,"A") -> 0 | EQ82: =COUNTIF($EJ82:$EO82,"B") -> 0 | ER82: =COUNTIF($EJ82:$EO82,"C") -> 0 | ES82: =COUNTIF($EJ82:$EO82,"D") -> 0 | ET82: =COUNTIF($EJ82:$EO82,"E") -> 0 | EW82: =DC82 -> 0 | EX82: / | EY82: =$DC$7 -> 100 | EZ82: =CONCATENATE(EW82,EX82,EY82) -> 0/100 | FA82: =DL82 -> 0 | FB82: / | FC82: =$DL$7 -> 100 | FD82: =CONCATENATE(FA82,FB82,FC82) -> 0/100 | FE82: =DU82 -> 0 | FF82: / | FG82: =$DU$7 -> 100 | FH82: =CONCATENATE(FE82,FF82,FG82) -> 0/100
A83: =G83 -> 0 | B83: 75 | D83: =IF(E83>0,$G$4,0) -> 0 | L83: 0 | M83: 0 | N83: =SUM(L83:M83) -> 0 | O83: 0 | P83: 0 | Q83: 0 | R83: =IF(O83="AB","AB",IF(O83="ML","ML",SUM(O83:Q83))) -> 0 | S83: 0 | T83: =IF($T$7="NA","NA",0) -> 0 | U83: 0 | V83: =IF(AND(S83="",T83="",U83=""),"",IF(OR(S83="AB",T83="AB",U83=""),"AB",IF(OR(S83="ML",T83="ML",U83=""),"ML",SUM(S83:U83)))) -> 0 | W83: =SUM(N83,R83,V83) -> 0 | X83: =IF(OR(W83="",W$7=""),"",W83/W$7*100) -> 0 | Y83: =IF($G83="nso","NSO",IF(V83="ab",V83,IF(V83="ML",V83,IF(X83>=86,"A",IF(X83>=71,"B",IF(X83>=51,"C",IF(X83>=31,"D","E"))))))) -> E | Z83: =IF($G83>0,Y83,$G83) -> 0 | AA83: 0 | AB83: 0 | AC83: =SUM(AA83:AB83) -> 0 | AD83: 0 | AE83: 0 | AF83: 0 | AG83: =IF(AD83="AB","AB",IF(AD83="ML","ML",SUM(AD83:AF83))) -> 0 | AH83: 0 | AI83: =IF($T$7="NA","NA",0) -> 0 | AJ83: 0 | AK83: =IF(AND(AH83="",AI83="",AJ83=""),"",IF(OR(AH83="AB",AI83="AB",AJ83=""),"AB",IF(OR(AH83="ML",AI83="ML",AJ83=""),"ML",SUM(AH83:AJ83)))) -> 0 | AL83: =SUM(AC83,AG83,AK83) -> 0 | AM83: =IF(OR(AL83="",AL$7=""),"",AL83/AL$7*100) -> 0 | AN83: =IF($G83="nso","NSO",IF(AK83="ab",AK83,IF(AK83="ML",AK83,IF(AM83>=86,"A",IF(AM83>=71,"B",IF(AM83>=51,"C",IF(AM83>=31,"D","E"))))))) -> E | AO83: =IF($G83>0,AN83,$G83) -> 0 | AP83: 0 | AQ83: 0 | AR83: =SUM(AP83:AQ83) -> 0 | AS83: 0 | AT83: 0 | AU83: 0 | AV83: =IF(AS83="AB","AB",IF(AS83="ML","ML",SUM(AS83:AU83))) -> 0 | AW83: 0 | AX83: 0 | AY83: 0 | AZ83: =IF(AND(AW83="",AX83="",AY83=""),"",IF(OR(AW83="AB",AX83="AB",AY83=""),"AB",IF(OR(AW83="ML",AX83="ML",AY83=""),"ML",SUM(AW83:AY83)))) -> 0 | BA83: =SUM(AR83,AV83,AZ83) -> 0 | BB83: =IF(OR(BA83="",BA$7=""),"",BA83/BA$7*100) -> 0 | BC83: =IF($G83="nso","NSO",IF(AZ83="ab",AZ83,IF(AZ83="ML",AZ83,IF(BB83>=86,"A",IF(BB83>=71,"B",IF(BB83>=51,"C",IF(BB83>=31,"D","E"))))))) -> E | BD83: =IF($G83>0,BC83,$G83) -> 0 | BE83: 0 | BF83: 0 | BG83: =SUM(BE83:BF83) -> 0 | BH83: 0 | BI83: 0 | BJ83: 0 | BK83: =IF(BH83="AB","AB",IF(BH83="ML","ML",SUM(BH83:BJ83))) -> 0 | BL83: 0 | BM83: 0 | BN83: 0 | BO83: =IF(AND(BL83="",BM83="",BN83=""),"",IF(OR(BL83="AB",BM83="AB",BN83=""),"AB",IF(OR(BL83="ML",BM83="ML",BN83=""),"ML",SUM(BL83:BN83)))) -> 0 | BP83: =SUM(BG83,BK83,BO83) -> 0 | BQ83: =IF(OR(BP83="",BP$7=""),"",BP83/BP$7*100) -> 0 | BR83: =IF($G83="nso","NSO",IF(BO83="ab",BO83,IF(BO83="ML",BO83,IF(BQ83>=86,"A",IF(BQ83>=71,"B",IF(BQ83>=51,"C",IF(BQ83>=31,"D","E"))))))) -> E | BS83: =IF($G83>0,BR83,$G83) -> 0 | BT83: 0 | BU83: 0 | BV83: =SUM(BT83:BU83) -> 0 | BW83: 0 | BX83: 0 | BY83: 0 | BZ83: =IF(BW83="AB","AB",IF(BW83="ML","ML",SUM(BW83:BY83))) -> 0 | CA83: 0 | CB83: 0 | CC83: 0 | CD83: =IF(AND(CA83="",CB83="",CC83=""),"",IF(OR(CA83="AB",CB83="AB",CC83=""),"AB",IF(OR(CA83="ML",CB83="ML",CC83=""),"ML",SUM(CA83:CC83)))) -> 0 | CE83: =SUM(BV83,BZ83,CD83) -> 0 | CF83: =IF(OR(CE83="",CE$7=""),"",CE83/CE$7*100) -> 0 | CG83: =IF($G83="nso","NSO",IF(CD83="ab",CD83,IF(CD83="ML",CD83,IF(CF83>=86,"A",IF(CF83>=71,"B",IF(CF83>=51,"C",IF(CF83>=31,"D","E"))))))) -> E | CH83: =IF($G83>0,CG83,$G83) -> 0 | CI83: 0 | CJ83: 0 | CK83: =SUM(CI83:CJ83) -> 0 | CL83: 0 | CM83: 0 | CN83: 0 | CO83: =IF(CL83="AB","AB",IF(CL83="ML","ML",SUM(CL83:CN83))) -> 0 | CP83: 0 | CQ83: 0 | CR83: =IF($T$7="NA","NA",0) -> 0 | CS83: =IF(AND(CP83="",CQ83="",CR83=""),"",IF(OR(CP83="AB",CQ83="AB",CR83=""),"AB",IF(OR(CP83="ML",CQ83="ML",CR83=""),"ML",SUM(CP83:CR83)))) -> 0 | CT83: =SUM(CK83,CO83,CS83) -> 0 | CU83: =IF(OR(CT83="",CT$7=""),"",CT83/CT$7*100) -> 0 | CV83: =IF($G83="nso","NSO",IF(CS83="ab",CS83,IF(CS83="ML",CS83,IF(CU83>=86,"A",IF(CU83>=71,"B",IF(CU83>=51,"C",IF(CU83>=31,"D","E"))))))) -> E | CW83: =IF($G83>0,CV83,$G83) -> 0 | CX83: 0 | CY83: 0 | CZ83: 0 | DC83: =SUM(CX83:DB83) -> 0 | DD83: =IF(OR(DC83="",DC$7=""),"",DC83/DC$7*100) -> 0 | DE83: =IF(DD83>91,"A+",IF(DD83>76,"A",IF(DD83>61,"B",IF(DD83>41,"C","D")))) -> D | DF83: =IF($G83>0,DE83,$G83) -> 0 | DG83: 0 | DH83: 0 | DI83: 0 | DL83: =SUM(DG83:DK83) -> 0 | DM83: =IF(OR(DL83="",DL$7=""),"",DL83/DL$7*100) -> 0 | DN83: =IF($G83="nso","NSO",IF(DK83="ab",DK83,IF(DK83="ML",DK83,IF(DM83>=91,"A+",IF(DM83>=76,"A",IF(DM83>=61,"B",IF(DM83>=41,"C","D"))))))) -> D | DO83: =IF($G83>0,DN83,$G83) -> 0 | DP83: 0 | DQ83: 0 | DR83: 0 | DU83: =SUM(DP83:DT83) -> 0 | DV83: =IF(OR(DU83="",DU$7=""),"",DU83/DU$7*100) -> 0 | DW83: =IF($G83="nso","NSO",IF(DT83="ab",DT83,IF(DT83="ML",DT83,IF(DV83>=91,"A+",IF(DV83>=76,"A",IF(DV83>=61,"B",IF(DV83>=41,"C","D"))))))) -> D | DX83: =IF($G83>0,DW83,$G83) -> 0 | EA83: =IF(OR(DY83="",DZ83=""),"",DZ83/DY83*100) | EB83: =IF(G83=0,0,SUM($W$7,$AL$7,$BA$7,$BP$7,$CE$7,$CT$7)) -> 0 | EC83: =SUM(W83,AL83,BA83,BP83,CE83,CT83) -> 0 | ED83: =IF(EB83>0,ROUND(EC83/EB83*100,0),0) -> 0 | EE83: =IF(AND(ED83>=60,EF83="Passed"),"First",IF(AND(ED83>=48,EF83="Passed"),"Second",IF(OR(EF83="passed"),"Third",EF83))) | EF83: =IF($G83="NSO","NSO",IF($G83="tc","Transferred",IF($ET83>2,"Promoted",IF(ED83=0,"","Passed")))) | EG83: =IF(EF83="Passed",ED83,"") | EH83: =IF(EG83="","",SUMPRODUCT((EG83<EG$9:EG$108)/COUNTIF(EG$9:EG$108,EG$9:EG$108))) | EI83: =IF(ED83>81,"Excellent",IF(ED83>60,"Very Good",IF(ED83>48,"Good",IF(ED83>36,"Average",IF(ED83=0,0,"Need Improvement"))))) -> 0 | EJ83: =Z83 -> 0 | EK83: =AO83 -> 0 | EL83: =BD83 -> 0 | EM83: =BS83 -> 0 | EN83: =CH83 -> 0 | EO83: =CW83 -> 0 | EP83: =COUNTIF($EJ83:$EO83,"A") -> 0 | EQ83: =COUNTIF($EJ83:$EO83,"B") -> 0 | ER83: =COUNTIF($EJ83:$EO83,"C") -> 0 | ES83: =COUNTIF($EJ83:$EO83,"D") -> 0 | ET83: =COUNTIF($EJ83:$EO83,"E") -> 0 | EW83: =DC83 -> 0 | EX83: / | EY83: =$DC$7 -> 100 | EZ83: =CONCATENATE(EW83,EX83,EY83) -> 0/100 | FA83: =DL83 -> 0 | FB83: / | FC83: =$DL$7 -> 100 | FD83: =CONCATENATE(FA83,FB83,FC83) -> 0/100 | FE83: =DU83 -> 0 | FF83: / | FG83: =$DU$7 -> 100 | FH83: =CONCATENATE(FE83,FF83,FG83) -> 0/100
A84: =G84 -> 0 | B84: 76 | D84: =IF(E84>0,$G$4,0) -> 0 | L84: 0 | M84: 0 | N84: =SUM(L84:M84) -> 0 | O84: 0 | P84: 0 | Q84: 0 | R84: =IF(O84="AB","AB",IF(O84="ML","ML",SUM(O84:Q84))) -> 0 | S84: 0 | T84: =IF($T$7="NA","NA",0) -> 0 | U84: 0 | V84: =IF(AND(S84="",T84="",U84=""),"",IF(OR(S84="AB",T84="AB",U84=""),"AB",IF(OR(S84="ML",T84="ML",U84=""),"ML",SUM(S84:U84)))) -> 0 | W84: =SUM(N84,R84,V84) -> 0 | X84: =IF(OR(W84="",W$7=""),"",W84/W$7*100) -> 0 | Y84: =IF($G84="nso","NSO",IF(V84="ab",V84,IF(V84="ML",V84,IF(X84>=86,"A",IF(X84>=71,"B",IF(X84>=51,"C",IF(X84>=31,"D","E"))))))) -> E | Z84: =IF($G84>0,Y84,$G84) -> 0 | AA84: 0 | AB84: 0 | AC84: =SUM(AA84:AB84) -> 0 | AD84: 0 | AE84: 0 | AF84: 0 | AG84: =IF(AD84="AB","AB",IF(AD84="ML","ML",SUM(AD84:AF84))) -> 0 | AH84: 0 | AI84: =IF($T$7="NA","NA",0) -> 0 | AJ84: 0 | AK84: =IF(AND(AH84="",AI84="",AJ84=""),"",IF(OR(AH84="AB",AI84="AB",AJ84=""),"AB",IF(OR(AH84="ML",AI84="ML",AJ84=""),"ML",SUM(AH84:AJ84)))) -> 0 | AL84: =SUM(AC84,AG84,AK84) -> 0 | AM84: =IF(OR(AL84="",AL$7=""),"",AL84/AL$7*100) -> 0 | AN84: =IF($G84="nso","NSO",IF(AK84="ab",AK84,IF(AK84="ML",AK84,IF(AM84>=86,"A",IF(AM84>=71,"B",IF(AM84>=51,"C",IF(AM84>=31,"D","E"))))))) -> E | AO84: =IF($G84>0,AN84,$G84) -> 0 | AP84: 0 | AQ84: 0 | AR84: =SUM(AP84:AQ84) -> 0 | AS84: 0 | AT84: 0 | AU84: 0 | AV84: =IF(AS84="AB","AB",IF(AS84="ML","ML",SUM(AS84:AU84))) -> 0 | AW84: 0 | AX84: 0 | AY84: 0 | AZ84: =IF(AND(AW84="",AX84="",AY84=""),"",IF(OR(AW84="AB",AX84="AB",AY84=""),"AB",IF(OR(AW84="ML",AX84="ML",AY84=""),"ML",SUM(AW84:AY84)))) -> 0 | BA84: =SUM(AR84,AV84,AZ84) -> 0 | BB84: =IF(OR(BA84="",BA$7=""),"",BA84/BA$7*100) -> 0 | BC84: =IF($G84="nso","NSO",IF(AZ84="ab",AZ84,IF(AZ84="ML",AZ84,IF(BB84>=86,"A",IF(BB84>=71,"B",IF(BB84>=51,"C",IF(BB84>=31,"D","E"))))))) -> E | BD84: =IF($G84>0,BC84,$G84) -> 0 | BE84: 0 | BF84: 0 | BG84: =SUM(BE84:BF84) -> 0 | BH84: 0 | BI84: 0 | BJ84: 0 | BK84: =IF(BH84="AB","AB",IF(BH84="ML","ML",SUM(BH84:BJ84))) -> 0 | BL84: 0 | BM84: 0 | BN84: 0 | BO84: =IF(AND(BL84="",BM84="",BN84=""),"",IF(OR(BL84="AB",BM84="AB",BN84=""),"AB",IF(OR(BL84="ML",BM84="ML",BN84=""),"ML",SUM(BL84:BN84)))) -> 0 | BP84: =SUM(BG84,BK84,BO84) -> 0 | BQ84: =IF(OR(BP84="",BP$7=""),"",BP84/BP$7*100) -> 0 | BR84: =IF($G84="nso","NSO",IF(BO84="ab",BO84,IF(BO84="ML",BO84,IF(BQ84>=86,"A",IF(BQ84>=71,"B",IF(BQ84>=51,"C",IF(BQ84>=31,"D","E"))))))) -> E | BS84: =IF($G84>0,BR84,$G84) -> 0 | BT84: 0 | BU84: 0 | BV84: =SUM(BT84:BU84) -> 0 | BW84: 0 | BX84: 0 | BY84: 0 | BZ84: =IF(BW84="AB","AB",IF(BW84="ML","ML",SUM(BW84:BY84))) -> 0 | CA84: 0 | CB84: 0 | CC84: 0 | CD84: =IF(AND(CA84="",CB84="",CC84=""),"",IF(OR(CA84="AB",CB84="AB",CC84=""),"AB",IF(OR(CA84="ML",CB84="ML",CC84=""),"ML",SUM(CA84:CC84)))) -> 0 | CE84: =SUM(BV84,BZ84,CD84) -> 0 | CF84: =IF(OR(CE84="",CE$7=""),"",CE84/CE$7*100) -> 0 | CG84: =IF($G84="nso","NSO",IF(CD84="ab",CD84,IF(CD84="ML",CD84,IF(CF84>=86,"A",IF(CF84>=71,"B",IF(CF84>=51,"C",IF(CF84>=31,"D","E"))))))) -> E | CH84: =IF($G84>0,CG84,$G84) -> 0 | CI84: 0 | CJ84: 0 | CK84: =SUM(CI84:CJ84) -> 0 | CL84: 0 | CM84: 0 | CN84: 0 | CO84: =IF(CL84="AB","AB",IF(CL84="ML","ML",SUM(CL84:CN84))) -> 0 | CP84: 0 | CQ84: 0 | CR84: =IF($T$7="NA","NA",0) -> 0 | CS84: =IF(AND(CP84="",CQ84="",CR84=""),"",IF(OR(CP84="AB",CQ84="AB",CR84=""),"AB",IF(OR(CP84="ML",CQ84="ML",CR84=""),"ML",SUM(CP84:CR84)))) -> 0 | CT84: =SUM(CK84,CO84,CS84) -> 0 | CU84: =IF(OR(CT84="",CT$7=""),"",CT84/CT$7*100) -> 0 | CV84: =IF($G84="nso","NSO",IF(CS84="ab",CS84,IF(CS84="ML",CS84,IF(CU84>=86,"A",IF(CU84>=71,"B",IF(CU84>=51,"C",IF(CU84>=31,"D","E"))))))) -> E | CW84: =IF($G84>0,CV84,$G84) -> 0 | CX84: 0 | CY84: 0 | CZ84: 0 | DC84: =SUM(CX84:DB84) -> 0 | DD84: =IF(OR(DC84="",DC$7=""),"",DC84/DC$7*100) -> 0 | DE84: =IF(DD84>91,"A+",IF(DD84>76,"A",IF(DD84>61,"B",IF(DD84>41,"C","D")))) -> D | DF84: =IF($G84>0,DE84,$G84) -> 0 | DG84: 0 | DH84: 0 | DI84: 0 | DL84: =SUM(DG84:DK84) -> 0 | DM84: =IF(OR(DL84="",DL$7=""),"",DL84/DL$7*100) -> 0 | DN84: =IF($G84="nso","NSO",IF(DK84="ab",DK84,IF(DK84="ML",DK84,IF(DM84>=91,"A+",IF(DM84>=76,"A",IF(DM84>=61,"B",IF(DM84>=41,"C","D"))))))) -> D | DO84: =IF($G84>0,DN84,$G84) -> 0 | DP84: 0 | DQ84: 0 | DR84: 0 | DU84: =SUM(DP84:DT84) -> 0 | DV84: =IF(OR(DU84="",DU$7=""),"",DU84/DU$7*100) -> 0 | DW84: =IF($G84="nso","NSO",IF(DT84="ab",DT84,IF(DT84="ML",DT84,IF(DV84>=91,"A+",IF(DV84>=76,"A",IF(DV84>=61,"B",IF(DV84>=41,"C","D"))))))) -> D | DX84: =IF($G84>0,DW84,$G84) -> 0 | EA84: =IF(OR(DY84="",DZ84=""),"",DZ84/DY84*100) | EB84: =IF(G84=0,0,SUM($W$7,$AL$7,$BA$7,$BP$7,$CE$7,$CT$7)) -> 0 | EC84: =SUM(W84,AL84,BA84,BP84,CE84,CT84) -> 0 | ED84: =IF(EB84>0,ROUND(EC84/EB84*100,0),0) -> 0 | EE84: =IF(AND(ED84>=60,EF84="Passed"),"First",IF(AND(ED84>=48,EF84="Passed"),"Second",IF(OR(EF84="passed"),"Third",EF84))) | EF84: =IF($G84="NSO","NSO",IF($G84="tc","Transferred",IF($ET84>2,"Promoted",IF(ED84=0,"","Passed")))) | EG84: =IF(EF84="Passed",ED84,"") | EH84: =IF(EG84="","",SUMPRODUCT((EG84<EG$9:EG$108)/COUNTIF(EG$9:EG$108,EG$9:EG$108))) | EI84: =IF(ED84>81,"Excellent",IF(ED84>60,"Very Good",IF(ED84>48,"Good",IF(ED84>36,"Average",IF(ED84=0,0,"Need Improvement"))))) -> 0 | EJ84: =Z84 -> 0 | EK84: =AO84 -> 0 | EL84: =BD84 -> 0 | EM84: =BS84 -> 0 | EN84: =CH84 -> 0 | EO84: =CW84 -> 0 | EP84: =COUNTIF($EJ84:$EO84,"A") -> 0 | EQ84: =COUNTIF($EJ84:$EO84,"B") -> 0 | ER84: =COUNTIF($EJ84:$EO84,"C") -> 0 | ES84: =COUNTIF($EJ84:$EO84,"D") -> 0 | ET84: =COUNTIF($EJ84:$EO84,"E") -> 0 | EW84: =DC84 -> 0 | EX84: / | EY84: =$DC$7 -> 100 | EZ84: =CONCATENATE(EW84,EX84,EY84) -> 0/100 | FA84: =DL84 -> 0 | FB84: / | FC84: =$DL$7 -> 100 | FD84: =CONCATENATE(FA84,FB84,FC84) -> 0/100 | FE84: =DU84 -> 0 | FF84: / | FG84: =$DU$7 -> 100 | FH84: =CONCATENATE(FE84,FF84,FG84) -> 0/100
A85: =G85 -> 0 | B85: 77 | D85: =IF(E85>0,$G$4,0) -> 0 | L85: 0 | M85: 0 | N85: =SUM(L85:M85) -> 0 | O85: 0 | P85: 0 | Q85: 0 | R85: =IF(O85="AB","AB",IF(O85="ML","ML",SUM(O85:Q85))) -> 0 | S85: 0 | T85: =IF($T$7="NA","NA",0) -> 0 | U85: 0 | V85: =IF(AND(S85="",T85="",U85=""),"",IF(OR(S85="AB",T85="AB",U85=""),"AB",IF(OR(S85="ML",T85="ML",U85=""),"ML",SUM(S85:U85)))) -> 0 | W85: =SUM(N85,R85,V85) -> 0 | X85: =IF(OR(W85="",W$7=""),"",W85/W$7*100) -> 0 | Y85: =IF($G85="nso","NSO",IF(V85="ab",V85,IF(V85="ML",V85,IF(X85>=86,"A",IF(X85>=71,"B",IF(X85>=51,"C",IF(X85>=31,"D","E"))))))) -> E | Z85: =IF($G85>0,Y85,$G85) -> 0 | AA85: 0 | AB85: 0 | AC85: =SUM(AA85:AB85) -> 0 | AD85: 0 | AE85: 0 | AF85: 0 | AG85: =IF(AD85="AB","AB",IF(AD85="ML","ML",SUM(AD85:AF85))) -> 0 | AH85: 0 | AI85: =IF($T$7="NA","NA",0) -> 0 | AJ85: 0 | AK85: =IF(AND(AH85="",AI85="",AJ85=""),"",IF(OR(AH85="AB",AI85="AB",AJ85=""),"AB",IF(OR(AH85="ML",AI85="ML",AJ85=""),"ML",SUM(AH85:AJ85)))) -> 0 | AL85: =SUM(AC85,AG85,AK85) -> 0 | AM85: =IF(OR(AL85="",AL$7=""),"",AL85/AL$7*100) -> 0 | AN85: =IF($G85="nso","NSO",IF(AK85="ab",AK85,IF(AK85="ML",AK85,IF(AM85>=86,"A",IF(AM85>=71,"B",IF(AM85>=51,"C",IF(AM85>=31,"D","E"))))))) -> E | AO85: =IF($G85>0,AN85,$G85) -> 0 | AP85: 0 | AQ85: 0 | AR85: =SUM(AP85:AQ85) -> 0 | AS85: 0 | AT85: 0 | AU85: 0 | AV85: =IF(AS85="AB","AB",IF(AS85="ML","ML",SUM(AS85:AU85))) -> 0 | AW85: 0 | AX85: 0 | AY85: 0 | AZ85: =IF(AND(AW85="",AX85="",AY85=""),"",IF(OR(AW85="AB",AX85="AB",AY85=""),"AB",IF(OR(AW85="ML",AX85="ML",AY85=""),"ML",SUM(AW85:AY85)))) -> 0 | BA85: =SUM(AR85,AV85,AZ85) -> 0 | BB85: =IF(OR(BA85="",BA$7=""),"",BA85/BA$7*100) -> 0 | BC85: =IF($G85="nso","NSO",IF(AZ85="ab",AZ85,IF(AZ85="ML",AZ85,IF(BB85>=86,"A",IF(BB85>=71,"B",IF(BB85>=51,"C",IF(BB85>=31,"D","E"))))))) -> E | BD85: =IF($G85>0,BC85,$G85) -> 0 | BE85: 0 | BF85: 0 | BG85: =SUM(BE85:BF85) -> 0 | BH85: 0 | BI85: 0 | BJ85: 0 | BK85: =IF(BH85="AB","AB",IF(BH85="ML","ML",SUM(BH85:BJ85))) -> 0 | BL85: 0 | BM85: 0 | BN85: 0 | BO85: =IF(AND(BL85="",BM85="",BN85=""),"",IF(OR(BL85="AB",BM85="AB",BN85=""),"AB",IF(OR(BL85="ML",BM85="ML",BN85=""),"ML",SUM(BL85:BN85)))) -> 0 | BP85: =SUM(BG85,BK85,BO85) -> 0 | BQ85: =IF(OR(BP85="",BP$7=""),"",BP85/BP$7*100) -> 0 | BR85: =IF($G85="nso","NSO",IF(BO85="ab",BO85,IF(BO85="ML",BO85,IF(BQ85>=86,"A",IF(BQ85>=71,"B",IF(BQ85>=51,"C",IF(BQ85>=31,"D","E"))))))) -> E | BS85: =IF($G85>0,BR85,$G85) -> 0 | BT85: 0 | BU85: 0 | BV85: =SUM(BT85:BU85) -> 0 | BW85: 0 | BX85: 0 | BY85: 0 | BZ85: =IF(BW85="AB","AB",IF(BW85="ML","ML",SUM(BW85:BY85))) -> 0 | CA85: 0 | CB85: 0 | CC85: 0 | CD85: =IF(AND(CA85="",CB85="",CC85=""),"",IF(OR(CA85="AB",CB85="AB",CC85=""),"AB",IF(OR(CA85="ML",CB85="ML",CC85=""),"ML",SUM(CA85:CC85)))) -> 0 | CE85: =SUM(BV85,BZ85,CD85) -> 0 | CF85: =IF(OR(CE85="",CE$7=""),"",CE85/CE$7*100) -> 0 | CG85: =IF($G85="nso","NSO",IF(CD85="ab",CD85,IF(CD85="ML",CD85,IF(CF85>=86,"A",IF(CF85>=71,"B",IF(CF85>=51,"C",IF(CF85>=31,"D","E"))))))) -> E | CH85: =IF($G85>0,CG85,$G85) -> 0 | CI85: 0 | CJ85: 0 | CK85: =SUM(CI85:CJ85) -> 0 | CL85: 0 | CM85: 0 | CN85: 0 | CO85: =IF(CL85="AB","AB",IF(CL85="ML","ML",SUM(CL85:CN85))) -> 0 | CP85: 0 | CQ85: 0 | CR85: =IF($T$7="NA","NA",0) -> 0 | CS85: =IF(AND(CP85="",CQ85="",CR85=""),"",IF(OR(CP85="AB",CQ85="AB",CR85=""),"AB",IF(OR(CP85="ML",CQ85="ML",CR85=""),"ML",SUM(CP85:CR85)))) -> 0 | CT85: =SUM(CK85,CO85,CS85) -> 0 | CU85: =IF(OR(CT85="",CT$7=""),"",CT85/CT$7*100) -> 0 | CV85: =IF($G85="nso","NSO",IF(CS85="ab",CS85,IF(CS85="ML",CS85,IF(CU85>=86,"A",IF(CU85>=71,"B",IF(CU85>=51,"C",IF(CU85>=31,"D","E"))))))) -> E | CW85: =IF($G85>0,CV85,$G85) -> 0 | CX85: 0 | CY85: 0 | CZ85: 0 | DC85: =SUM(CX85:DB85) -> 0 | DD85: =IF(OR(DC85="",DC$7=""),"",DC85/DC$7*100) -> 0 | DE85: =IF(DD85>91,"A+",IF(DD85>76,"A",IF(DD85>61,"B",IF(DD85>41,"C","D")))) -> D | DF85: =IF($G85>0,DE85,$G85) -> 0 | DG85: 0 | DH85: 0 | DI85: 0 | DL85: =SUM(DG85:DK85) -> 0 | DM85: =IF(OR(DL85="",DL$7=""),"",DL85/DL$7*100) -> 0 | DN85: =IF($G85="nso","NSO",IF(DK85="ab",DK85,IF(DK85="ML",DK85,IF(DM85>=91,"A+",IF(DM85>=76,"A",IF(DM85>=61,"B",IF(DM85>=41,"C","D"))))))) -> D | DO85: =IF($G85>0,DN85,$G85) -> 0 | DP85: 0 | DQ85: 0 | DR85: 0 | DU85: =SUM(DP85:DT85) -> 0 | DV85: =IF(OR(DU85="",DU$7=""),"",DU85/DU$7*100) -> 0 | DW85: =IF($G85="nso","NSO",IF(DT85="ab",DT85,IF(DT85="ML",DT85,IF(DV85>=91,"A+",IF(DV85>=76,"A",IF(DV85>=61,"B",IF(DV85>=41,"C","D"))))))) -> D | DX85: =IF($G85>0,DW85,$G85) -> 0 | EA85: =IF(OR(DY85="",DZ85=""),"",DZ85/DY85*100) | EB85: =IF(G85=0,0,SUM($W$7,$AL$7,$BA$7,$BP$7,$CE$7,$CT$7)) -> 0 | EC85: =SUM(W85,AL85,BA85,BP85,CE85,CT85) -> 0 | ED85: =IF(EB85>0,ROUND(EC85/EB85*100,0),0) -> 0 | EE85: =IF(AND(ED85>=60,EF85="Passed"),"First",IF(AND(ED85>=48,EF85="Passed"),"Second",IF(OR(EF85="passed"),"Third",EF85))) | EF85: =IF($G85="NSO","NSO",IF($G85="tc","Transferred",IF($ET85>2,"Promoted",IF(ED85=0,"","Passed")))) | EG85: =IF(EF85="Passed",ED85,"") | EH85: =IF(EG85="","",SUMPRODUCT((EG85<EG$9:EG$108)/COUNTIF(EG$9:EG$108,EG$9:EG$108))) | EI85: =IF(ED85>81,"Excellent",IF(ED85>60,"Very Good",IF(ED85>48,"Good",IF(ED85>36,"Average",IF(ED85=0,0,"Need Improvement"))))) -> 0 | EJ85: =Z85 -> 0 | EK85: =AO85 -> 0 | EL85: =BD85 -> 0 | EM85: =BS85 -> 0 | EN85: =CH85 -> 0 | EO85: =CW85 -> 0 | EP85: =COUNTIF($EJ85:$EO85,"A") -> 0 | EQ85: =COUNTIF($EJ85:$EO85,"B") -> 0 | ER85: =COUNTIF($EJ85:$EO85,"C") -> 0 | ES85: =COUNTIF($EJ85:$EO85,"D") -> 0 | ET85: =COUNTIF($EJ85:$EO85,"E") -> 0 | EW85: =DC85 -> 0 | EX85: / | EY85: =$DC$7 -> 100 | EZ85: =CONCATENATE(EW85,EX85,EY85) -> 0/100 | FA85: =DL85 -> 0 | FB85: / | FC85: =$DL$7 -> 100 | FD85: =CONCATENATE(FA85,FB85,FC85) -> 0/100 | FE85: =DU85 -> 0 | FF85: / | FG85: =$DU$7 -> 100 | FH85: =CONCATENATE(FE85,FF85,FG85) -> 0/100
A86: =G86 -> 0 | B86: 78 | D86: =IF(E86>0,$G$4,0) -> 0 | L86: 0 | M86: 0 | N86: =SUM(L86:M86) -> 0 | O86: 0 | P86: 0 | Q86: 0 | R86: =IF(O86="AB","AB",IF(O86="ML","ML",SUM(O86:Q86))) -> 0 | S86: 0 | T86: =IF($T$7="NA","NA",0) -> 0 | U86: 0 | V86: =IF(AND(S86="",T86="",U86=""),"",IF(OR(S86="AB",T86="AB",U86=""),"AB",IF(OR(S86="ML",T86="ML",U86=""),"ML",SUM(S86:U86)))) -> 0 | W86: =SUM(N86,R86,V86) -> 0 | X86: =IF(OR(W86="",W$7=""),"",W86/W$7*100) -> 0 | Y86: =IF($G86="nso","NSO",IF(V86="ab",V86,IF(V86="ML",V86,IF(X86>=86,"A",IF(X86>=71,"B",IF(X86>=51,"C",IF(X86>=31,"D","E"))))))) -> E | Z86: =IF($G86>0,Y86,$G86) -> 0 | AA86: 0 | AB86: 0 | AC86: =SUM(AA86:AB86) -> 0 | AD86: 0 | AE86: 0 | AF86: 0 | AG86: =IF(AD86="AB","AB",IF(AD86="ML","ML",SUM(AD86:AF86))) -> 0 | AH86: 0 | AI86: =IF($T$7="NA","NA",0) -> 0 | AJ86: 0 | AK86: =IF(AND(AH86="",AI86="",AJ86=""),"",IF(OR(AH86="AB",AI86="AB",AJ86=""),"AB",IF(OR(AH86="ML",AI86="ML",AJ86=""),"ML",SUM(AH86:AJ86)))) -> 0 | AL86: =SUM(AC86,AG86,AK86) -> 0 | AM86: =IF(OR(AL86="",AL$7=""),"",AL86/AL$7*100) -> 0 | AN86: =IF($G86="nso","NSO",IF(AK86="ab",AK86,IF(AK86="ML",AK86,IF(AM86>=86,"A",IF(AM86>=71,"B",IF(AM86>=51,"C",IF(AM86>=31,"D","E"))))))) -> E | AO86: =IF($G86>0,AN86,$G86) -> 0 | AP86: 0 | AQ86: 0 | AR86: =SUM(AP86:AQ86) -> 0 | AS86: 0 | AT86: 0 | AU86: 0 | AV86: =IF(AS86="AB","AB",IF(AS86="ML","ML",SUM(AS86:AU86))) -> 0 | AW86: 0 | AX86: 0 | AY86: 0 | AZ86: =IF(AND(AW86="",AX86="",AY86=""),"",IF(OR(AW86="AB",AX86="AB",AY86=""),"AB",IF(OR(AW86="ML",AX86="ML",AY86=""),"ML",SUM(AW86:AY86)))) -> 0 | BA86: =SUM(AR86,AV86,AZ86) -> 0 | BB86: =IF(OR(BA86="",BA$7=""),"",BA86/BA$7*100) -> 0 | BC86: =IF($G86="nso","NSO",IF(AZ86="ab",AZ86,IF(AZ86="ML",AZ86,IF(BB86>=86,"A",IF(BB86>=71,"B",IF(BB86>=51,"C",IF(BB86>=31,"D","E"))))))) -> E | BD86: =IF($G86>0,BC86,$G86) -> 0 | BE86: 0 | BF86: 0 | BG86: =SUM(BE86:BF86) -> 0 | BH86: 0 | BI86: 0 | BJ86: 0 | BK86: =IF(BH86="AB","AB",IF(BH86="ML","ML",SUM(BH86:BJ86))) -> 0 | BL86: 0 | BM86: 0 | BN86: 0 | BO86: =IF(AND(BL86="",BM86="",BN86=""),"",IF(OR(BL86="AB",BM86="AB",BN86=""),"AB",IF(OR(BL86="ML",BM86="ML",BN86=""),"ML",SUM(BL86:BN86)))) -> 0 | BP86: =SUM(BG86,BK86,BO86) -> 0 | BQ86: =IF(OR(BP86="",BP$7=""),"",BP86/BP$7*100) -> 0 | BR86: =IF($G86="nso","NSO",IF(BO86="ab",BO86,IF(BO86="ML",BO86,IF(BQ86>=86,"A",IF(BQ86>=71,"B",IF(BQ86>=51,"C",IF(BQ86>=31,"D","E"))))))) -> E | BS86: =IF($G86>0,BR86,$G86) -> 0 | BT86: 0 | BU86: 0 | BV86: =SUM(BT86:BU86) -> 0 | BW86: 0 | BX86: 0 | BY86: 0 | BZ86: =IF(BW86="AB","AB",IF(BW86="ML","ML",SUM(BW86:BY86))) -> 0 | CA86: 0 | CB86: 0 | CC86: 0 | CD86: =IF(AND(CA86="",CB86="",CC86=""),"",IF(OR(CA86="AB",CB86="AB",CC86=""),"AB",IF(OR(CA86="ML",CB86="ML",CC86=""),"ML",SUM(CA86:CC86)))) -> 0 | CE86: =SUM(BV86,BZ86,CD86) -> 0 | CF86: =IF(OR(CE86="",CE$7=""),"",CE86/CE$7*100) -> 0 | CG86: =IF($G86="nso","NSO",IF(CD86="ab",CD86,IF(CD86="ML",CD86,IF(CF86>=86,"A",IF(CF86>=71,"B",IF(CF86>=51,"C",IF(CF86>=31,"D","E"))))))) -> E | CH86: =IF($G86>0,CG86,$G86) -> 0 | CI86: 0 | CJ86: 0 | CK86: =SUM(CI86:CJ86) -> 0 | CL86: 0 | CM86: 0 | CN86: 0 | CO86: =IF(CL86="AB","AB",IF(CL86="ML","ML",SUM(CL86:CN86))) -> 0 | CP86: 0 | CQ86: 0 | CR86: =IF($T$7="NA","NA",0) -> 0 | CS86: =IF(AND(CP86="",CQ86="",CR86=""),"",IF(OR(CP86="AB",CQ86="AB",CR86=""),"AB",IF(OR(CP86="ML",CQ86="ML",CR86=""),"ML",SUM(CP86:CR86)))) -> 0 | CT86: =SUM(CK86,CO86,CS86) -> 0 | CU86: =IF(OR(CT86="",CT$7=""),"",CT86/CT$7*100) -> 0 | CV86: =IF($G86="nso","NSO",IF(CS86="ab",CS86,IF(CS86="ML",CS86,IF(CU86>=86,"A",IF(CU86>=71,"B",IF(CU86>=51,"C",IF(CU86>=31,"D","E"))))))) -> E | CW86: =IF($G86>0,CV86,$G86) -> 0 | CX86: 0 | CY86: 0 | CZ86: 0 | DC86: =SUM(CX86:DB86) -> 0 | DD86: =IF(OR(DC86="",DC$7=""),"",DC86/DC$7*100) -> 0 | DE86: =IF(DD86>91,"A+",IF(DD86>76,"A",IF(DD86>61,"B",IF(DD86>41,"C","D")))) -> D | DF86: =IF($G86>0,DE86,$G86) -> 0 | DG86: 0 | DH86: 0 | DI86: 0 | DL86: =SUM(DG86:DK86) -> 0 | DM86: =IF(OR(DL86="",DL$7=""),"",DL86/DL$7*100) -> 0 | DN86: =IF($G86="nso","NSO",IF(DK86="ab",DK86,IF(DK86="ML",DK86,IF(DM86>=91,"A+",IF(DM86>=76,"A",IF(DM86>=61,"B",IF(DM86>=41,"C","D"))))))) -> D | DO86: =IF($G86>0,DN86,$G86) -> 0 | DP86: 0 | DQ86: 0 | DR86: 0 | DU86: =SUM(DP86:DT86) -> 0 | DV86: =IF(OR(DU86="",DU$7=""),"",DU86/DU$7*100) -> 0 | DW86: =IF($G86="nso","NSO",IF(DT86="ab",DT86,IF(DT86="ML",DT86,IF(DV86>=91,"A+",IF(DV86>=76,"A",IF(DV86>=61,"B",IF(DV86>=41,"C","D"))))))) -> D | DX86: =IF($G86>0,DW86,$G86) -> 0 | EA86: =IF(OR(DY86="",DZ86=""),"",DZ86/DY86*100) | EB86: =IF(G86=0,0,SUM($W$7,$AL$7,$BA$7,$BP$7,$CE$7,$CT$7)) -> 0 | EC86: =SUM(W86,AL86,BA86,BP86,CE86,CT86) -> 0 | ED86: =IF(EB86>0,ROUND(EC86/EB86*100,0),0) -> 0 | EE86: =IF(AND(ED86>=60,EF86="Passed"),"First",IF(AND(ED86>=48,EF86="Passed"),"Second",IF(OR(EF86="passed"),"Third",EF86))) | EF86: =IF($G86="NSO","NSO",IF($G86="tc","Transferred",IF($ET86>2,"Promoted",IF(ED86=0,"","Passed")))) | EG86: =IF(EF86="Passed",ED86,"") | EH86: =IF(EG86="","",SUMPRODUCT((EG86<EG$9:EG$108)/COUNTIF(EG$9:EG$108,EG$9:EG$108))) | EI86: =IF(ED86>81,"Excellent",IF(ED86>60,"Very Good",IF(ED86>48,"Good",IF(ED86>36,"Average",IF(ED86=0,0,"Need Improvement"))))) -> 0 | EJ86: =Z86 -> 0 | EK86: =AO86 -> 0 | EL86: =BD86 -> 0 | EM86: =BS86 -> 0 | EN86: =CH86 -> 0 | EO86: =CW86 -> 0 | EP86: =COUNTIF($EJ86:$EO86,"A") -> 0 | EQ86: =COUNTIF($EJ86:$EO86,"B") -> 0 | ER86: =COUNTIF($EJ86:$EO86,"C") -> 0 | ES86: =COUNTIF($EJ86:$EO86,"D") -> 0 | ET86: =COUNTIF($EJ86:$EO86,"E") -> 0 | EW86: =DC86 -> 0 | EX86: / | EY86: =$DC$7 -> 100 | EZ86: =CONCATENATE(EW86,EX86,EY86) -> 0/100 | FA86: =DL86 -> 0 | FB86: / | FC86: =$DL$7 -> 100 | FD86: =CONCATENATE(FA86,FB86,FC86) -> 0/100 | FE86: =DU86 -> 0 | FF86: / | FG86: =$DU$7 -> 100 | FH86: =CONCATENATE(FE86,FF86,FG86) -> 0/100
A87: =G87 -> 0 | B87: 79 | D87: =IF(E87>0,$G$4,0) -> 0 | L87: 0 | M87: 0 | N87: =SUM(L87:M87) -> 0 | O87: 0 | P87: 0 | Q87: 0 | R87: =IF(O87="AB","AB",IF(O87="ML","ML",SUM(O87:Q87))) -> 0 | S87: 0 | T87: =IF($T$7="NA","NA",0) -> 0 | U87: 0 | V87: =IF(AND(S87="",T87="",U87=""),"",IF(OR(S87="AB",T87="AB",U87=""),"AB",IF(OR(S87="ML",T87="ML",U87=""),"ML",SUM(S87:U87)))) -> 0 | W87: =SUM(N87,R87,V87) -> 0 | X87: =IF(OR(W87="",W$7=""),"",W87/W$7*100) -> 0 | Y87: =IF($G87="nso","NSO",IF(V87="ab",V87,IF(V87="ML",V87,IF(X87>=86,"A",IF(X87>=71,"B",IF(X87>=51,"C",IF(X87>=31,"D","E"))))))) -> E | Z87: =IF($G87>0,Y87,$G87) -> 0 | AA87: 0 | AB87: 0 | AC87: =SUM(AA87:AB87) -> 0 | AD87: 0 | AE87: 0 | AF87: 0 | AG87: =IF(AD87="AB","AB",IF(AD87="ML","ML",SUM(AD87:AF87))) -> 0 | AH87: 0 | AI87: =IF($T$7="NA","NA",0) -> 0 | AJ87: 0 | AK87: =IF(AND(AH87="",AI87="",AJ87=""),"",IF(OR(AH87="AB",AI87="AB",AJ87=""),"AB",IF(OR(AH87="ML",AI87="ML",AJ87=""),"ML",SUM(AH87:AJ87)))) -> 0 | AL87: =SUM(AC87,AG87,AK87) -> 0 | AM87: =IF(OR(AL87="",AL$7=""),"",AL87/AL$7*100) -> 0 | AN87: =IF($G87="nso","NSO",IF(AK87="ab",AK87,IF(AK87="ML",AK87,IF(AM87>=86,"A",IF(AM87>=71,"B",IF(AM87>=51,"C",IF(AM87>=31,"D","E"))))))) -> E | AO87: =IF($G87>0,AN87,$G87) -> 0 | AP87: 0 | AQ87: 0 | AR87: =SUM(AP87:AQ87) -> 0 | AS87: 0 | AT87: 0 | AU87: 0 | AV87: =IF(AS87="AB","AB",IF(AS87="ML","ML",SUM(AS87:AU87))) -> 0 | AW87: 0 | AX87: 0 | AY87: 0 | AZ87: =IF(AND(AW87="",AX87="",AY87=""),"",IF(OR(AW87="AB",AX87="AB",AY87=""),"AB",IF(OR(AW87="ML",AX87="ML",AY87=""),"ML",SUM(AW87:AY87)))) -> 0 | BA87: =SUM(AR87,AV87,AZ87) -> 0 | BB87: =IF(OR(BA87="",BA$7=""),"",BA87/BA$7*100) -> 0 | BC87: =IF($G87="nso","NSO",IF(AZ87="ab",AZ87,IF(AZ87="ML",AZ87,IF(BB87>=86,"A",IF(BB87>=71,"B",IF(BB87>=51,"C",IF(BB87>=31,"D","E"))))))) -> E | BD87: =IF($G87>0,BC87,$G87) -> 0 | BE87: 0 | BF87: 0 | BG87: =SUM(BE87:BF87) -> 0 | BH87: 0 | BI87: 0 | BJ87: 0 | BK87: =IF(BH87="AB","AB",IF(BH87="ML","ML",SUM(BH87:BJ87))) -> 0 | BL87: 0 | BM87: 0 | BN87: 0 | BO87: =IF(AND(BL87="",BM87="",BN87=""),"",IF(OR(BL87="AB",BM87="AB",BN87=""),"AB",IF(OR(BL87="ML",BM87="ML",BN87=""),"ML",SUM(BL87:BN87)))) -> 0 | BP87: =SUM(BG87,BK87,BO87) -> 0 | BQ87: =IF(OR(BP87="",BP$7=""),"",BP87/BP$7*100) -> 0 | BR87: =IF($G87="nso","NSO",IF(BO87="ab",BO87,IF(BO87="ML",BO87,IF(BQ87>=86,"A",IF(BQ87>=71,"B",IF(BQ87>=51,"C",IF(BQ87>=31,"D","E"))))))) -> E | BS87: =IF($G87>0,BR87,$G87) -> 0 | BT87: 0 | BU87: 0 | BV87: =SUM(BT87:BU87) -> 0 | BW87: 0 | BX87: 0 | BY87: 0 | BZ87: =IF(BW87="AB","AB",IF(BW87="ML","ML",SUM(BW87:BY87))) -> 0 | CA87: 0 | CB87: 0 | CC87: 0 | CD87: =IF(AND(CA87="",CB87="",CC87=""),"",IF(OR(CA87="AB",CB87="AB",CC87=""),"AB",IF(OR(CA87="ML",CB87="ML",CC87=""),"ML",SUM(CA87:CC87)))) -> 0 | CE87: =SUM(BV87,BZ87,CD87) -> 0 | CF87: =IF(OR(CE87="",CE$7=""),"",CE87/CE$7*100) -> 0 | CG87: =IF($G87="nso","NSO",IF(CD87="ab",CD87,IF(CD87="ML",CD87,IF(CF87>=86,"A",IF(CF87>=71,"B",IF(CF87>=51,"C",IF(CF87>=31,"D","E"))))))) -> E | CH87: =IF($G87>0,CG87,$G87) -> 0 | CI87: 0 | CJ87: 0 | CK87: =SUM(CI87:CJ87) -> 0 | CL87: 0 | CM87: 0 | CN87: 0 | CO87: =IF(CL87="AB","AB",IF(CL87="ML","ML",SUM(CL87:CN87))) -> 0 | CP87: 0 | CQ87: 0 | CR87: =IF($T$7="NA","NA",0) -> 0 | CS87: =IF(AND(CP87="",CQ87="",CR87=""),"",IF(OR(CP87="AB",CQ87="AB",CR87=""),"AB",IF(OR(CP87="ML",CQ87="ML",CR87=""),"ML",SUM(CP87:CR87)))) -> 0 | CT87: =SUM(CK87,CO87,CS87) -> 0 | CU87: =IF(OR(CT87="",CT$7=""),"",CT87/CT$7*100) -> 0 | CV87: =IF($G87="nso","NSO",IF(CS87="ab",CS87,IF(CS87="ML",CS87,IF(CU87>=86,"A",IF(CU87>=71,"B",IF(CU87>=51,"C",IF(CU87>=31,"D","E"))))))) -> E | CW87: =IF($G87>0,CV87,$G87) -> 0 | CX87: 0 | CY87: 0 | CZ87: 0 | DC87: =SUM(CX87:DB87) -> 0 | DD87: =IF(OR(DC87="",DC$7=""),"",DC87/DC$7*100) -> 0 | DE87: =IF(DD87>91,"A+",IF(DD87>76,"A",IF(DD87>61,"B",IF(DD87>41,"C","D")))) -> D | DF87: =IF($G87>0,DE87,$G87) -> 0 | DG87: 0 | DH87: 0 | DI87: 0 | DL87: =SUM(DG87:DK87) -> 0 | DM87: =IF(OR(DL87="",DL$7=""),"",DL87/DL$7*100) -> 0 | DN87: =IF($G87="nso","NSO",IF(DK87="ab",DK87,IF(DK87="ML",DK87,IF(DM87>=91,"A+",IF(DM87>=76,"A",IF(DM87>=61,"B",IF(DM87>=41,"C","D"))))))) -> D | DO87: =IF($G87>0,DN87,$G87) -> 0 | DP87: 0 | DQ87: 0 | DR87: 0 | DU87: =SUM(DP87:DT87) -> 0 | DV87: =IF(OR(DU87="",DU$7=""),"",DU87/DU$7*100) -> 0 | DW87: =IF($G87="nso","NSO",IF(DT87="ab",DT87,IF(DT87="ML",DT87,IF(DV87>=91,"A+",IF(DV87>=76,"A",IF(DV87>=61,"B",IF(DV87>=41,"C","D"))))))) -> D | DX87: =IF($G87>0,DW87,$G87) -> 0 | EA87: =IF(OR(DY87="",DZ87=""),"",DZ87/DY87*100) | EB87: =IF(G87=0,0,SUM($W$7,$AL$7,$BA$7,$BP$7,$CE$7,$CT$7)) -> 0 | EC87: =SUM(W87,AL87,BA87,BP87,CE87,CT87) -> 0 | ED87: =IF(EB87>0,ROUND(EC87/EB87*100,0),0) -> 0 | EE87: =IF(AND(ED87>=60,EF87="Passed"),"First",IF(AND(ED87>=48,EF87="Passed"),"Second",IF(OR(EF87="passed"),"Third",EF87))) | EF87: =IF($G87="NSO","NSO",IF($G87="tc","Transferred",IF($ET87>2,"Promoted",IF(ED87=0,"","Passed")))) | EG87: =IF(EF87="Passed",ED87,"") | EH87: =IF(EG87="","",SUMPRODUCT((EG87<EG$9:EG$108)/COUNTIF(EG$9:EG$108,EG$9:EG$108))) | EI87: =IF(ED87>81,"Excellent",IF(ED87>60,"Very Good",IF(ED87>48,"Good",IF(ED87>36,"Average",IF(ED87=0,0,"Need Improvement"))))) -> 0 | EJ87: =Z87 -> 0 | EK87: =AO87 -> 0 | EL87: =BD87 -> 0 | EM87: =BS87 -> 0 | EN87: =CH87 -> 0 | EO87: =CW87 -> 0 | EP87: =COUNTIF($EJ87:$EO87,"A") -> 0 | EQ87: =COUNTIF($EJ87:$EO87,"B") -> 0 | ER87: =COUNTIF($EJ87:$EO87,"C") -> 0 | ES87: =COUNTIF($EJ87:$EO87,"D") -> 0 | ET87: =COUNTIF($EJ87:$EO87,"E") -> 0 | EW87: =DC87 -> 0 | EX87: / | EY87: =$DC$7 -> 100 | EZ87: =CONCATENATE(EW87,EX87,EY87) -> 0/100 | FA87: =DL87 -> 0 | FB87: / | FC87: =$DL$7 -> 100 | FD87: =CONCATENATE(FA87,FB87,FC87) -> 0/100 | FE87: =DU87 -> 0 | FF87: / | FG87: =$DU$7 -> 100 | FH87: =CONCATENATE(FE87,FF87,FG87) -> 0/100
A88: =G88 -> 0 | B88: 80 | D88: =IF(E88>0,$G$4,0) -> 0 | L88: 0 | M88: 0 | N88: =SUM(L88:M88) -> 0 | O88: 0 | P88: 0 | Q88: 0 | R88: =IF(O88="AB","AB",IF(O88="ML","ML",SUM(O88:Q88))) -> 0 | S88: 0 | T88: =IF($T$7="NA","NA",0) -> 0 | U88: 0 | V88: =IF(AND(S88="",T88="",U88=""),"",IF(OR(S88="AB",T88="AB",U88=""),"AB",IF(OR(S88="ML",T88="ML",U88=""),"ML",SUM(S88:U88)))) -> 0 | W88: =SUM(N88,R88,V88) -> 0 | X88: =IF(OR(W88="",W$7=""),"",W88/W$7*100) -> 0 | Y88: =IF($G88="nso","NSO",IF(V88="ab",V88,IF(V88="ML",V88,IF(X88>=86,"A",IF(X88>=71,"B",IF(X88>=51,"C",IF(X88>=31,"D","E"))))))) -> E | Z88: =IF($G88>0,Y88,$G88) -> 0 | AA88: 0 | AB88: 0 | AC88: =SUM(AA88:AB88) -> 0 | AD88: 0 | AE88: 0 | AF88: 0 | AG88: =IF(AD88="AB","AB",IF(AD88="ML","ML",SUM(AD88:AF88))) -> 0 | AH88: 0 | AI88: =IF($T$7="NA","NA",0) -> 0 | AJ88: 0 | AK88: =IF(AND(AH88="",AI88="",AJ88=""),"",IF(OR(AH88="AB",AI88="AB",AJ88=""),"AB",IF(OR(AH88="ML",AI88="ML",AJ88=""),"ML",SUM(AH88:AJ88)))) -> 0 | AL88: =SUM(AC88,AG88,AK88) -> 0 | AM88: =IF(OR(AL88="",AL$7=""),"",AL88/AL$7*100) -> 0 | AN88: =IF($G88="nso","NSO",IF(AK88="ab",AK88,IF(AK88="ML",AK88,IF(AM88>=86,"A",IF(AM88>=71,"B",IF(AM88>=51,"C",IF(AM88>=31,"D","E"))))))) -> E | AO88: =IF($G88>0,AN88,$G88) -> 0 | AP88: 0 | AQ88: 0 | AR88: =SUM(AP88:AQ88) -> 0 | AS88: 0 | AT88: 0 | AU88: 0 | AV88: =IF(AS88="AB","AB",IF(AS88="ML","ML",SUM(AS88:AU88))) -> 0 | AW88: 0 | AX88: 0 | AY88: 0 | AZ88: =IF(AND(AW88="",AX88="",AY88=""),"",IF(OR(AW88="AB",AX88="AB",AY88=""),"AB",IF(OR(AW88="ML",AX88="ML",AY88=""),"ML",SUM(AW88:AY88)))) -> 0 | BA88: =SUM(AR88,AV88,AZ88) -> 0 | BB88: =IF(OR(BA88="",BA$7=""),"",BA88/BA$7*100) -> 0 | BC88: =IF($G88="nso","NSO",IF(AZ88="ab",AZ88,IF(AZ88="ML",AZ88,IF(BB88>=86,"A",IF(BB88>=71,"B",IF(BB88>=51,"C",IF(BB88>=31,"D","E"))))))) -> E | BD88: =IF($G88>0,BC88,$G88) -> 0 | BE88: 0 | BF88: 0 | BG88: =SUM(BE88:BF88) -> 0 | BH88: 0 | BI88: 0 | BJ88: 0 | BK88: =IF(BH88="AB","AB",IF(BH88="ML","ML",SUM(BH88:BJ88))) -> 0 | BL88: 0 | BM88: 0 | BN88: 0 | BO88: =IF(AND(BL88="",BM88="",BN88=""),"",IF(OR(BL88="AB",BM88="AB",BN88=""),"AB",IF(OR(BL88="ML",BM88="ML",BN88=""),"ML",SUM(BL88:BN88)))) -> 0 | BP88: =SUM(BG88,BK88,BO88) -> 0 | BQ88: =IF(OR(BP88="",BP$7=""),"",BP88/BP$7*100) -> 0 | BR88: =IF($G88="nso","NSO",IF(BO88="ab",BO88,IF(BO88="ML",BO88,IF(BQ88>=86,"A",IF(BQ88>=71,"B",IF(BQ88>=51,"C",IF(BQ88>=31,"D","E"))))))) -> E | BS88: =IF($G88>0,BR88,$G88) -> 0 | BT88: 0 | BU88: 0 | BV88: =SUM(BT88:BU88) -> 0 | BW88: 0 | BX88: 0 | BY88: 0 | BZ88: =IF(BW88="AB","AB",IF(BW88="ML","ML",SUM(BW88:BY88))) -> 0 | CA88: 0 | CB88: 0 | CC88: 0 | CD88: =IF(AND(CA88="",CB88="",CC88=""),"",IF(OR(CA88="AB",CB88="AB",CC88=""),"AB",IF(OR(CA88="ML",CB88="ML",CC88=""),"ML",SUM(CA88:CC88)))) -> 0 | CE88: =SUM(BV88,BZ88,CD88) -> 0 | CF88: =IF(OR(CE88="",CE$7=""),"",CE88/CE$7*100) -> 0 | CG88: =IF($G88="nso","NSO",IF(CD88="ab",CD88,IF(CD88="ML",CD88,IF(CF88>=86,"A",IF(CF88>=71,"B",IF(CF88>=51,"C",IF(CF88>=31,"D","E"))))))) -> E | CH88: =IF($G88>0,CG88,$G88) -> 0 | CI88: 0 | CJ88: 0 | CK88: =SUM(CI88:CJ88) -> 0 | CL88: 0 | CM88: 0 | CN88: 0 | CO88: =IF(CL88="AB","AB",IF(CL88="ML","ML",SUM(CL88:CN88))) -> 0 | CP88: 0 | CQ88: 0 | CR88: =IF($T$7="NA","NA",0) -> 0 | CS88: =IF(AND(CP88="",CQ88="",CR88=""),"",IF(OR(CP88="AB",CQ88="AB",CR88=""),"AB",IF(OR(CP88="ML",CQ88="ML",CR88=""),"ML",SUM(CP88:CR88)))) -> 0 | CT88: =SUM(CK88,CO88,CS88) -> 0 | CU88: =IF(OR(CT88="",CT$7=""),"",CT88/CT$7*100) -> 0 | CV88: =IF($G88="nso","NSO",IF(CS88="ab",CS88,IF(CS88="ML",CS88,IF(CU88>=86,"A",IF(CU88>=71,"B",IF(CU88>=51,"C",IF(CU88>=31,"D","E"))))))) -> E | CW88: =IF($G88>0,CV88,$G88) -> 0 | CX88: 0 | CY88: 0 | CZ88: 0 | DC88: =SUM(CX88:DB88) -> 0 | DD88: =IF(OR(DC88="",DC$7=""),"",DC88/DC$7*100) -> 0 | DE88: =IF(DD88>91,"A+",IF(DD88>76,"A",IF(DD88>61,"B",IF(DD88>41,"C","D")))) -> D | DF88: =IF($G88>0,DE88,$G88) -> 0 | DG88: 0 | DH88: 0 | DI88: 0 | DL88: =SUM(DG88:DK88) -> 0 | DM88: =IF(OR(DL88="",DL$7=""),"",DL88/DL$7*100) -> 0 | DN88: =IF($G88="nso","NSO",IF(DK88="ab",DK88,IF(DK88="ML",DK88,IF(DM88>=91,"A+",IF(DM88>=76,"A",IF(DM88>=61,"B",IF(DM88>=41,"C","D"))))))) -> D | DO88: =IF($G88>0,DN88,$G88) -> 0 | DP88: 0 | DQ88: 0 | DR88: 0 | DU88: =SUM(DP88:DT88) -> 0 | DV88: =IF(OR(DU88="",DU$7=""),"",DU88/DU$7*100) -> 0 | DW88: =IF($G88="nso","NSO",IF(DT88="ab",DT88,IF(DT88="ML",DT88,IF(DV88>=91,"A+",IF(DV88>=76,"A",IF(DV88>=61,"B",IF(DV88>=41,"C","D"))))))) -> D | DX88: =IF($G88>0,DW88,$G88) -> 0 | EA88: =IF(OR(DY88="",DZ88=""),"",DZ88/DY88*100) | EB88: =IF(G88=0,0,SUM($W$7,$AL$7,$BA$7,$BP$7,$CE$7,$CT$7)) -> 0 | EC88: =SUM(W88,AL88,BA88,BP88,CE88,CT88) -> 0 | ED88: =IF(EB88>0,ROUND(EC88/EB88*100,0),0) -> 0 | EE88: =IF(AND(ED88>=60,EF88="Passed"),"First",IF(AND(ED88>=48,EF88="Passed"),"Second",IF(OR(EF88="passed"),"Third",EF88))) | EF88: =IF($G88="NSO","NSO",IF($G88="tc","Transferred",IF($ET88>2,"Promoted",IF(ED88=0,"","Passed")))) | EG88: =IF(EF88="Passed",ED88,"") | EH88: =IF(EG88="","",SUMPRODUCT((EG88<EG$9:EG$108)/COUNTIF(EG$9:EG$108,EG$9:EG$108))) | EI88: =IF(ED88>81,"Excellent",IF(ED88>60,"Very Good",IF(ED88>48,"Good",IF(ED88>36,"Average",IF(ED88=0,0,"Need Improvement"))))) -> 0 | EJ88: =Z88 -> 0 | EK88: =AO88 -> 0 | EL88: =BD88 -> 0 | EM88: =BS88 -> 0 | EN88: =CH88 -> 0 | EO88: =CW88 -> 0 | EP88: =COUNTIF($EJ88:$EO88,"A") -> 0 | EQ88: =COUNTIF($EJ88:$EO88,"B") -> 0 | ER88: =COUNTIF($EJ88:$EO88,"C") -> 0 | ES88: =COUNTIF($EJ88:$EO88,"D") -> 0 | ET88: =COUNTIF($EJ88:$EO88,"E") -> 0 | EW88: =DC88 -> 0 | EX88: / | EY88: =$DC$7 -> 100 | EZ88: =CONCATENATE(EW88,EX88,EY88) -> 0/100 | FA88: =DL88 -> 0 | FB88: / | FC88: =$DL$7 -> 100 | FD88: =CONCATENATE(FA88,FB88,FC88) -> 0/100 | FE88: =DU88 -> 0 | FF88: / | FG88: =$DU$7 -> 100 | FH88: =CONCATENATE(FE88,FF88,FG88) -> 0/100
