Workbook

Sheet Help
A1: Visit Youtube Channel For Help:-
A2: http://youtu.be/EexJyQYhFPs

Sheet Master
B2: t; fgUn | G2: oUns ekrje~ | N2: t; fgUn
B4: RESULT PREPARATION PROGRAM | Y4: 2019-20 | Z4: PRIMARY
K5: Subject Detail | M5: Staff Detail | Y5: 2019-21 | Z5: UPPER PRIMARY
B6: SESSION | D6: :- | E6: 2021-22 | K6: Sr. No. | L6: Subject's Name | M6: Sr. No. | N6: Teacher's Name | O6: Sr. No. | P6: Teacher's Name | Y6: 2019-22 | Z6: SECONDARY
K7: =IF(L7>1,1,0) -> 1 | L7: HINDI | M7: =IF(N7>1,1,0) -> 1 | N7: A | O7: =IF(P7>1,M20+1,0) -> 0 | Y7: 2019-21 | Z7: UPPER PRIMARY
B8: SCHOOL'S FULL NAME | D8: :- | E8: Govt. Sr. Secondary School Raimalwada | K8: =IF(L8>1,K7+1,0) -> 2 | L8: ENGLISH | M8: =IF(N8>1,M7+1,0) -> 2 | N8: B | O8: =IF(P8>1,O7+1,0) -> 0
K9: =IF(L9>1,K8+1,0) -> 3 | L9: SANSKRIT | M9: =IF(N9>1,M8+1,0) -> 3 | N9: C | O9: =IF(P9>1,O8+1,0) -> 0 | Y9: 2019-22 | Z9: SECONDARY
K10: =IF(L10>1,K9+1,0) -> 4 | L10: SCIENCE | M10: =IF(N10>1,M9+1,0) -> 4 | N10: D | O10: =IF(P10>1,O9+1,0) -> 0 | Y10: 2019-23 | Z10: SR. SECONDARY
B11: ADDRESS | D11: :- | E11: P.S.-Bapini (Jodhpur) | K11: =IF(L11>1,K10+1,0) -> 5 | L11: MATHEMATICS | M11: =IF(N11>1,M10+1,0) -> 5 | N11: E | O11: =IF(P11>1,O10+1,0) -> 0
K12: =IF(L12>1,K11+1,0) -> 6 | L12: SOCIAL SCIENCE | M12: =IF(N12>1,M11+1,0) -> 6 | N12: F | O12: =IF(P12>1,O11+1,0) -> 0 | R12: DEVOPED BY:-UMMED TARAD | Y12: 2019-24
K13: =IF(L13>1,K12+1,0) -> 0 | M13: =IF(N13>1,M12+1,0) -> 7 | N13: G | O13: =IF(P13>1,O12+1,0) -> 0 | Y13: 2019-23 | Z13: SR. SECONDARY
B14: U-DISE CODE | D14: :- | E14: 08151106901 | K14: =IF(L14>1,K13+1,0) -> 0 | M14: =IF(N14>1,M13+1,0) -> 0 | O14: =IF(P14>1,O13+1,0) -> 0 | Y14: 2019-24
K15: =IF(L15>1,K14+1,0) -> 0 | M15: =IF(N15>1,M14+1,0) -> 0 | O15: =IF(P15>1,O14+1,0) -> 0 | R15: (GSSS RAIMALWADA) | Y15: 2019-25
B16: NAME OF PRINCIPAL | D16: :- | K16: =IF(L16>1,K15+1,0) -> 0 | M16: =IF(N16>1,M15+1,0) -> 0 | O16: =IF(P16>1,O15+1,0) -> 0 | R16: MOBILE NO.-9166973141 | Y16: 2019-26
K17: =IF(L17>1,K16+1,0) -> 0 | M17: =IF(N17>1,M16+1,0) -> 0 | O17: =IF(P17>1,O16+1,0) -> 0
B18: SCHOOL TYPE | D18: :- | E18: Sr. Secondary | K18: =IF(L18>1,K17+1,0) -> 0 | M18: =IF(N18>1,M17+1,0) -> 0 | O18: =IF(P18>1,O17+1,0) -> 0
K19: =IF(L19>1,K18+1,0) -> 0 | M19: =IF(N19>1,M18+1,0) -> 0 | O19: =IF(P19>1,O18+1,0) -> 0 | Y19: 2019-25
B20: Result Date | D20: :- | E20: 44676 | K20: =IF(L20>1,K19+1,0) -> 0 | M20: =IF(N20>1,M19+1,0) -> 0 | O20: =IF(P20>1,O19+1,0) -> 0 | R20: EMAIL ID-ummedtrdedu@gmail.com | Y20: 2019-26
Y21: 2019-27

Sheet Class-6
C1: =Master!E8 -> Govt. Sr. Secondary School Raimalwada
C2: Print Report Card | I2: Go To Result Sheet | L2: Result Date:- | V2: =Master!E20 -> 44676 | AA2: Result Entry
C3: School U-Dise Code :- | G3: =Master!E14 -> 08151106901 | I3: Session :- | J3: =Master!E6 -> 2021-22 | L3: HINDI | AA3: ENGLISH | AP3: SANSKRIT | BE3: SCIENCE | BT3: MATHEMATICS | CI3: SOCIAL SCIENCE | CX3: WORK EXP. | DG3: ART EDU. | DP3: HEALTH & PHY. EDU. | DY3: Attendance | EB3: Statics | EI3: Remark | EJ3: Subject Wise Result | EP3: Total Grd "A" | EQ3: Total Grd "B" | ER3: Total Grd "C" | ES3: Total Grd "D" | ET3: Total Grd "E"
C4: Class - | G4: 6 | I4: Saction :- | J4: (A) | L4: 0 | AA4: 0 | AP4: 0 | BE4: 0 | BT4: 0 | CI4: 0 | DY4: Total Attendance | DZ4: Student's Attendance | EA4: Attandance % | EB4: Total Maximum Marks | EC4: Obtained Marks | ED4: Percentage | EE4: Overall Div. | EF4: Result | EH4: Position in Class
C5: Student Related Basic Details | L5: Tests | N5: Total Tests | O5: Half Yearly | S5: Yearly Exam | W5: Total Marks | X5: MARKS % | Z5: Grd | AA5: Tests | AC5: Total Tests | AD5: Half Yearly | AH5: Yearly Exam | AL5: Total Marks | AM5: MARKS % | AO5: Grd | AP5: Tests | AR5: Total Tests | AS5: Half Yearly | AW5: Yearly Exam | BA5: Total Marks | BB5: MARKS % | BD5: Grd | BE5: Tests | BG5: Total Tests | BH5: Half Yearly | BL5: Yearly Exam | BP5: Total Marks | BQ5: MARKS % | BS5: Grd | BT5: Tests | BV5: Total Tests | BW5: Half Yearly | CA5: Yearly Exam | CE5: Total Marks | CF5: MARKS % | CH5: Grd | CI5: Tests | CK5: Total Tests | CL5: Half Yearly | CP5: Yearly Exam | CT5: Total Marks | CU5: MARKS % | CW5: Grd | CX5: FIRST EVO. | CY5: SECOND EVO. | CZ5: THIRD EVO. | DA5: FOURTH EVO. | DB5: FIFTH EVO. | DC5: Total | DD5: MARKS % | DF5: Grd. | DG5: FIRST EVO. | DH5: SECOND EVO. | DI5: THIRD EVO. | DJ5: FOURTH EVO. | DK5: FIFTH EVO. | DL5: Total | DM5: MARKS % | DO5: Grd. | DP5: FIRST EVO. | DQ5: SECOND EVO. | DR5: THIRD EVO. | DS5: FOURTH EVO. | DT5: FIFTH EVO. | DU5: Total | DV5: MARKS % | DX5: Grd. | EJ5: Hindi | EK5: English | EL5: Sanskrit | EM5: Math | EN5: Science | EO5: social Science
C6: Sr. No. | D6: Class | E6: Scholar Number | F6: School Adm. Date | G6: Roll Number | H6: Student's Name | I6: Father's Name | J6: Mother's Name | K6: Date Of Birth | L6: First Test | M6: Second Test | O6: Written | P6: Internal Evo. | Q6: Oral | R6: Total H.Y. | S6: Written | T6: Internal Evo. | U6: Oral | V6: Total Yearly | Z6: A+/A/B/C/D | AA6: First Test | AB6: Second Test | AD6: Written | AE6: Internal Evo. | AF6: Oral | AG6: Total H.Y. | AH6: Written | AI6: Internal Evo. | AJ6: Oral | AK6: Total Yearly | AO6: A+/A/B/C/D | AP6: First Test | AQ6: Second Test | AS6: Written | AT6: Internal Evo. | AU6: oral | AV6: Total H.Y. | AW6: Written | AX6: Internal Evo. | AY6: Oral | AZ6: Total Yearly | BD6: A+/A/B/C/D | BE6: First Test | BF6: Second Test | BH6: Written | BI6: Internal Evo. | BJ6: Oral | BK6: Total H.Y. | BL6: Written | BM6: Internal Evo. | BN6: Oral | BO6: Total Yearly | BS6: A+/A/B/C/D | BT6: First Test | BU6: Second Test | BW6: Written | BX6: Internal Evo. | BY6: Oral | BZ6: Total H.Y. | CA6: Written | CB6: Internal Evo. | CC6: Oral | CD6: Total Yearly | CH6: A+/A/B/C/D | CI6: First Test | CJ6: Second Test | CL6: Written | CM6: Internal Evo. | CN6: Oral | CO6: Total H.Y. | CP6: Written | CQ6: Internal Evo. | CR6: Oral | CS6: Total Yearly | CW6: A+/A/B/C/D | DF6: A+/A/B/C/D | DO6: A+/A/B/C/D | DX6: A+/A/B/C/D
L7: 20 | M7: 20 | N7: =SUM(L7:M7) -> 40 | O7: 42 | P7: 12 | Q7: 6 | R7: =SUM(O7:Q7) -> 60 | S7: 50 | T7: 30 | U7: 20 | V7: =SUM(S7:U7) -> 100 | W7: =SUM(N7,R7,V7) -> 200 | AA7: 20 | AB7: 20 | AC7: =SUM(AA7:AB7) -> 40 | AD7: 42 | AE7: 12 | AF7: 6 | AG7: =SUM(AD7:AF7) -> 60 | AH7: 50 | AI7: 30 | AJ7: 20 | AK7: =SUM(AH7:AJ7) -> 100 | AL7: =SUM(AC7,AG7,AK7) -> 200 | AP7: 20 | AQ7: 20 | AR7: =SUM(AP7:AQ7) -> 40 | AS7: 42 | AT7: 12 | AU7: 6 | AV7: =IF(AU7="NA",AS7,(AS7+AT7+AU7)) -> 60 | AW7: 50 | AX7: 30 | AY7: 20 | AZ7: =IF(AY7="NA",AW7,(AW7+AX7+AY7)) -> 100 | BA7: =SUM(AR7,AV7,AZ7) -> 200 | BE7: 20 | BF7: 20 | BG7: =SUM(BE7:BF7) -> 40 | BH7: 42 | BI7: 12 | BJ7: 6 | BK7: =IF(BJ7="NA",BH7,(BH7+BI7+BJ7)) -> 60 | BL7: 50 | BM7: 30 | BN7: 20 | BO7: =IF(BN7="NA",BL7,(BL7+BM7+BN7)) -> 100 | BP7: =SUM(BG7,BK7,BO7) -> 200 | BT7: 20 | BU7: 20 | BV7: =SUM(BT7:BU7) -> 40 | BW7: 42 | BX7: 12 | BY7: 6 | BZ7: =IF(BY7="NA",BW7,(BW7+BX7+BY7)) -> 60 | CA7: 50 | CB7: 30 | CC7: 20 | CD7: =IF(CC7="NA",CA7,(CA7+CB7+CC7)) -> 100 | CE7: =SUM(BV7,BZ7,CD7) -> 200 | CI7: 20 | CJ7: 20 | CK7: =SUM(CI7:CJ7) -> 40 | CL7: 42 | CM7: 12 | CN7: 6 | CO7: =IF(CN7="NA",CL7,(CL7+CM7+CN7)) -> 60 | CP7: 50 | CQ7: 30 | CR7: 20 | CS7: =IF(CR7="NA",CP7,(CP7+CQ7+CR7)) -> 100 | CT7: =SUM(CK7,CO7,CS7) -> 200 | CX7: 20 | CY7: 20 | CZ7: 20 | DA7: 20 | DB7: 20 | DC7: =SUM(CX7:DB7) -> 100 | DG7: 20 | DH7: 20 | DI7: 20 | DJ7: 20 | DK7: 20 | DL7: =SUM(DG7:DK7) -> 100 | DP7: 20 | DQ7: 20 | DR7: 20 | DS7: 20 | DT7: 20 | DU7: =SUM(DP7:DT7) -> 100 | EW7: WORK EXP. | FA7: ART | FE7: H & PHY EDU
C8: 0 | D8: 0 | E8: 0 | F8: 0 | H8: 0 | I8: 0 | J8: 0 | K8: 0 | N8: =SUM(L8:M8) -> 0 | O8: 0 | P8: =IF($P$7="NA",O8,IF($P$7<=100,ROUNDUP(O8*$P$7/$O$7,0))) -> 0 | R8: =SUM(N8,O8) -> 0 | S8: =SUM(#REF!,P8) -> #REF! | T8: 0 | V8: 0 | W8: =IF($T$7="NA",#REF!+P8+V8,#REF!+P8+T8) -> #REF! | X8: =IF(OR(W8="",$W$7=""),"",ROUNDUP(W8/$W$7*100,0)) -> #REF! | Z8: =IF(OR(#REF!="",#REF!=0,#REF!="S",#REF!="F",#REF!="AB"),#REF!,IF(X8>=75,"D",IF(X8>=60,"I",IF(X8>=48,"II",IF(X8>=36,"III",#REF!))))) -> #REF! | AC8: =SUM(AA8:AB8) -> 0 | AD8: 0 | AE8: =IF($P$7="NA",AD8,IF($P$7<=100,ROUNDUP(AD8*$P$7/$O$7,0))) -> 0 | AG8: =SUM(AC8,AD8) -> 0 | AH8: =SUM(#REF!,AE8) -> #REF! | AI8: 0 | AK8: 0 | AL8: =IF($T$7="NA",#REF!+AE8+AK8,#REF!+AE8+AI8) -> #REF! | AM8: =IF(OR(AL8="",$W$7=""),"",ROUNDUP(AL8/$W$7*100,0)) -> #REF! | AO8: =IF(OR(#REF!="",#REF!=0,#REF!="S",#REF!="F",#REF!="AB"),#REF!,IF(AM8>=75,"D",IF(AM8>=60,"I",IF(AM8>=48,"II",IF(AM8>=36,"III",#REF!))))) -> #REF! | AR8: =SUM(AP8:AQ8) -> 0 | AS8: 0 | AU8: =IF($P$7="NA",AS8,IF($P$7<=100,ROUNDUP(AS8*$P$7/$O$7,0))) -> 0 | AV8: =SUM(AR8,AS8) -> 0 | AW8: =SUM(#REF!,AU8) -> #REF! | AY8: 0 | AZ8: 0 | BA8: =IF($T$7="NA",#REF!+AU8+AZ8,#REF!+AU8+AY8) -> #REF! | BB8: =IF(OR(BA8="",$W$7=""),"",ROUNDUP(BA8/$W$7*100,0)) -> #REF! | BD8: =IF(OR(#REF!="",#REF!=0,#REF!="S",#REF!="F",#REF!="AB"),#REF!,IF(BB8>=75,"D",IF(BB8>=60,"I",IF(BB8>=48,"II",IF(BB8>=36,"III",#REF!))))) -> #REF! | BG8: =SUM(BE8:BF8) -> 0 | BH8: 0 | BJ8: =IF($P$7="NA",BH8,IF($P$7<=100,ROUNDUP(BH8*$P$7/$O$7,0))) -> 0 | BK8: =SUM(BG8,BH8) -> 0 | BL8: =SUM(#REF!,BJ8) -> #REF! | BN8: 0 | BO8: 0 | BP8: =IF($T$7="NA",#REF!+BJ8+BO8,#REF!+BJ8+BN8) -> #REF! | BQ8: =IF(OR(BP8="",$W$7=""),"",ROUNDUP(BP8/$W$7*100,0)) -> #REF! | BS8: =IF(OR(#REF!="",#REF!=0,#REF!="S",#REF!="F",#REF!="AB"),#REF!,IF(BQ8>=75,"D",IF(BQ8>=60,"I",IF(BQ8>=48,"II",IF(BQ8>=36,"III",#REF!))))) -> #REF! | BV8: =SUM(BT8:BU8) -> 0 | BW8: 0 | BY8: =IF($P$7="NA",BW8,IF($P$7<=100,ROUNDUP(BW8*$P$7/$O$7,0))) -> 0 | BZ8: =SUM(BV8,BW8) -> 0 | CA8: =SUM(#REF!,BY8) -> #REF! | CC8: 0 | CD8: 0 | CE8: =IF($T$7="NA",#REF!+BY8+CD8,#REF!+BY8+CC8) -> #REF! | CF8: =IF(OR(CE8="",$W$7=""),"",ROUNDUP(CE8/$W$7*100,0)) -> #REF! | CH8: =IF(OR(#REF!="",#REF!=0,#REF!="S",#REF!="F",#REF!="AB"),#REF!,IF(CF8>=75,"D",IF(CF8>=60,"I",IF(CF8>=48,"II",IF(CF8>=36,"III",#REF!))))) -> #REF! | CK8: =SUM(CI8:CJ8) -> 0 | CL8: 0 | CM8: =IF($P$7="NA",CL8,IF($P$7<=100,ROUNDUP(CL8*$P$7/$O$7,0))) -> 0 | CO8: =SUM(CK8,CL8) -> 0 | CP8: =SUM(#REF!,CM8) -> #REF! | CR8: 0 | CS8: 0 | CT8: =IF($T$7="NA",#REF!+CM8+CS8,#REF!+CM8+CR8) -> #REF! | CU8: =IF(OR(CT8="",$W$7=""),"",ROUNDUP(CT8/$W$7*100,0)) -> #REF! | CW8: =IF(OR(#REF!="",#REF!=0,#REF!="S",#REF!="F",#REF!="AB"),#REF!,IF(CU8>=75,"D",IF(CU8>=60,"I",IF(CU8>=48,"II",IF(CU8>=36,"III",#REF!))))) -> #REF! | CX8: 0 | CY8: 0 | CZ8: 0 | DC8: 0 | DF8: 0 | DG8: 0 | DH8: 0 | DI8: 0 | DL8: 0 | DO8: 0 | DP8: 0 | DQ8: 0 | DR8: 0 | DU8: 0 | DX8: 0 | DY8: 0 | DZ8: 0 | EA8: 0 | EB8: 0 | EC8: 0 | ED8: 0 | EE8: =IF(AND(ED8>=60,EF8="Pass"),"First",IF(AND(ED8>=60,EF8="Pass With G"),"First",IF(AND(ED8>=48,EF8="Pass"),"Second;",IF(AND(ED8>=48,EF8="Pass With G"),"Second",IF(OR(EF8="Pass",EF8="Pass With G"),"Third",EF8))))) | EF8: =IF($G8="NSO","NSO",IF(OR($G8="",$G8=0,O8="",AD8="",AS8="",BH8="",BW8="",CL8=""),"",IF(OR(#REF!>0,(#REF!+#REF!+#REF!)>2),"FAIL",IF(OR(#REF!>0,#REF!>1),"SUPP.",IF(AND(#REF!>0,#REF!>0),"SUPP.",IF((#REF!+#REF!),"PASS With G","PASS")))))) | EH8: 0 | EI8: =IF(ED8>81,"Excellent",IF(ED8>60,"Verry Good",IF(ED8>48,"Good",IF(ED8>36,"Average",IF(ED8=0,0,"Need Improvement"))))) -> 0 | EJ8: =Z8 -> #REF! | EK8: =AO8 -> #REF! | EL8: =BD8 -> #REF! | EM8: =BS8 -> #REF! | EN8: =CH8 -> #REF! | EO8: =CW8 -> #REF!
A9: =G9 -> 901 | B9: 1 | C9: 1 | D9: =IF(E9>0,$G$4,0) -> 6 | E9: 793 | F9: 41876 | G9: 901 | H9: ABHISHEK | I9: RAMU KHAN | J9: SEEPA DEVI | K9: 38555 | L9: 2 | M9: 10 | N9: =SUM(L9:M9) -> 12 | O9: 30 | P9: 10 | Q9: 5 | R9: =IF(O9="AB","AB",IF(O9="ML","ML",SUM(O9:Q9))) -> 45 | S9: 38 | T9: 20 | U9: 15 | V9: =IF(AND(S9="",T9="",U9=""),"",IF(OR(S9="AB",T9="AB",U9=""),"AB",IF(OR(S9="ML",T9="ML",U9=""),"ML",SUM(S9:U9)))) -> 73 | W9: =SUM(N9,R9,V9) -> 130 | X9: =IF(OR(W9="",W$7=""),"",W9/W$7*100) -> 65 | Y9: =IF($G9="nso","NSO",IF(V9="ab",V9,IF(V9="ML",V9,IF(X9>=86,"A",IF(X9>=71,"B",IF(X9>=51,"C",IF(X9>=31,"D","E"))))))) -> C | Z9: =IF($G9>0,Y9,$G9) -> C | AA9: 15 | AB9: 15 | AC9: =SUM(AA9:AB9) -> 30 | AD9: 30 | AE9: 10 | AF9: 5 | AG9: =IF(AD9="AB","AB",IF(AD9="ML","ML",SUM(AD9:AF9))) -> 45 | AH9: 38 | AI9: 20 | AJ9: 20 | AK9: =IF(AND(AH9="",AI9="",AJ9=""),"",IF(OR(AH9="AB",AI9="AB",AJ9=""),"AB",IF(OR(AH9="ML",AI9="ML",AJ9=""),"ML",SUM(AH9:AJ9)))) -> 78 | AL9: =SUM(AC9,AG9,AK9) -> 153 | AM9: =IF(OR(AL9="",AL$7=""),"",AL9/AL$7*100) -> 76.5 | AN9: =IF($G9="nso","NSO",IF(AK9="ab",AK9,IF(AK9="ML",AK9,IF(AM9>=86,"A",IF(AM9>=71,"B",IF(AM9>=51,"C",IF(AM9>=31,"D","E"))))))) -> B | AO9: =IF($G9>0,AN9,$G9) -> B | AP9: 10 | AQ9: 10 | AR9: =SUM(AP9:AQ9) -> 20 | AS9: 48 | AT9: 12 | AU9: 5 | AV9: =IF(AS9="AB","AB",IF(AS9="ML","ML",SUM(AS9:AU9))) -> 65 | AW9: 38 | AX9: 20 | AY9: 10 | AZ9: =IF(AND(AW9="",AX9="",AY9=""),"",IF(OR(AW9="AB",AX9="AB",AY9=""),"AB",IF(OR(AW9="ML",AX9="ML",AY9=""),"ML",SUM(AW9:AY9)))) -> 68 | BA9: =SUM(AR9,AV9,AZ9) -> 153 | BB9: =IF(OR(BA9="",BA$7=""),"",BA9/BA$7*100) -> 76.5 | BC9: =IF($G9="nso","NSO",IF(AZ9="ab",AZ9,IF(AZ9="ML",AZ9,IF(BB9>=86,"A",IF(BB9>=71,"B",IF(BB9>=51,"C",IF(BB9>=31,"D","E"))))))) -> B | BD9: =IF($G9>0,BC9,$G9) -> B | BE9: 15 | BF9: 15 | BG9: =SUM(BE9:BF9) -> 30 | BH9: 48 | BI9: 12 | BJ9: 5 | BK9: =IF(BH9="AB","AB",IF(BH9="ML","ML",SUM(BH9:BJ9))) -> 65 | BL9: 38 | BM9: 20 | BN9: 15 | BO9: =IF(AND(BL9="",BM9="",BN9=""),"",IF(OR(BL9="AB",BM9="AB",BN9=""),"AB",IF(OR(BL9="ML",BM9="ML",BN9=""),"ML",SUM(BL9:BN9)))) -> 73 | BP9: =SUM(BG9,BK9,BO9) -> 168 | BQ9: =IF(OR(BP9="",BP$7=""),"",BP9/BP$7*100) -> 84 | BR9: =IF($G9="nso","NSO",IF(BO9="ab",BO9,IF(BO9="ML",BO9,IF(BQ9>=86,"A",IF(BQ9>=71,"B",IF(BQ9>=51,"C",IF(BQ9>=31,"D","E"))))))) -> B | BS9: =IF($G9>0,BR9,$G9) -> B | BT9: 20 | BU9: 10 | BV9: =SUM(BT9:BU9) -> 30 | BW9: 40 | BX9: 12 | BY9: 4 | BZ9: =IF(BW9="AB","AB",IF(BW9="ML","ML",SUM(BW9:BY9))) -> 56 | CA9: 38 | CB9: 20 | CC9: 15 | CD9: =IF(AND(CA9="",CB9="",CC9=""),"",IF(OR(CA9="AB",CB9="AB",CC9=""),"AB",IF(OR(CA9="ML",CB9="ML",CC9=""),"ML",SUM(CA9:CC9)))) -> 73 | CE9: =SUM(BV9,BZ9,CD9) -> 159 | CF9: =IF(OR(CE9="",CE$7=""),"",CE9/CE$7*100) -> 79.5 | CG9: =IF($G9="nso","NSO",IF(CD9="ab",CD9,IF(CD9="ML",CD9,IF(CF9>=86,"A",IF(CF9>=71,"B",IF(CF9>=51,"C",IF(CF9>=31,"D","E"))))))) -> B | CH9: =IF($G9>0,CG9,$G9) -> B | CI9: 4 | CJ9: 18 | CK9: =SUM(CI9:CJ9) -> 22 | CL9: 40 | CM9: 10 | CN9: 5 | CO9: =IF(CL9="AB","AB",IF(CL9="ML","ML",SUM(CL9:CN9))) -> 55 | CP9: 38 | CQ9: 20 | CR9: 17 | CS9: =IF(AND(CP9="",CQ9="",CR9=""),"",IF(OR(CP9="AB",CQ9="AB",CR9=""),"AB",IF(OR(CP9="ML",CQ9="ML",CR9=""),"ML",SUM(CP9:CR9)))) -> 75 | CT9: =SUM(CK9,CO9,CS9) -> 152 | CU9: =IF(OR(CT9="",CT$7=""),"",CT9/CT$7*100) -> 76 | CV9: =IF($G9="nso","NSO",IF(CS9="ab",CS9,IF(CS9="ML",CS9,IF(CU9>=86,"A",IF(CU9>=71,"B",IF(CU9>=51,"C",IF(CU9>=31,"D","E"))))))) -> B | CW9: =IF($G9>0,CV9,$G9) -> B | CX9: 15 | CY9: 40 | CZ9: 11 | DA9: 20 | DB9: 10 | DC9: =SUM(CX9:DB9) -> 96 | DD9: =IF(OR(DC9="",DC$7=""),"",DC9/DC$7*100) -> 96 | DE9: =IF($G9="nso","NSO",IF(DB9="ab",DB9,IF(DB9="ML",DB9,IF(DD9>=91,"A+",IF(DD9>=76,"A",IF(DD9>=61,"B",IF(DD9>=41,"C","D"))))))) -> A+ | DF9: =IF($G9>0,DE9,$G9) -> A+ | DG9: 15 | DH9: 40 | DI9: 11 | DJ9: 10 | DK9: 10 | DL9: =SUM(DG9:DK9) -> 86 | DM9: =IF(OR(DL9="",DL$7=""),"",DL9/DL$7*100) -> 86 | DN9: =IF($G9="nso","NSO",IF(DK9="ab",DK9,IF(DK9="ML",DK9,IF(DM9>=91,"A+",IF(DM9>=76,"A",IF(DM9>=61,"B",IF(DM9>=41,"C","D"))))))) -> A | DO9: =IF($G9>0,DN9,$G9) -> A | DP9: 15 | DQ9: 40 | DR9: 11 | DS9: 10 | DT9: 10 | DU9: =SUM(DP9:DT9) -> 86 | DV9: =IF(OR(DU9="",DU$7=""),"",DU9/DU$7*100) -> 86 | DW9: =IF($G9="nso","NSO",IF(DT9="ab",DT9,IF(DT9="ML",DT9,IF(DV9>=91,"A+",IF(DV9>=76,"A",IF(DV9>=61,"B",IF(DV9>=41,"C","D"))))))) -> A | DX9: =IF($G9>0,DW9,$G9) -> A | DY9: 362 | DZ9: 274 | EA9: =IF(OR(DY9="",DZ9=""),"",DZ9/DY9*100) -> 75.690608 | EB9: =IF(G9=0,0,SUM($W$7,$AL$7,$BA$7,$BP$7,$CE$7,$CT$7)) -> 1200 | EC9: =SUM(W9,AL9,BA9,BP9,CE9,CT9) -> 915 | ED9: =IF(EB9>0,EC9/EB9*100,0) -> 76.25 | EE9: =IF(AND(ED9>=60,EF9="Passed"),"First",IF(AND(ED9>=48,EF9="Passed"),"Second",IF(OR(EF9="passed"),"Third",EF9))) -> First | EF9: =IF($G9="NSO","NSO",IF($G9="tc","Transferred",IF($ET9>2,"Promoted",IF(ED9=0,"","Passed")))) -> Passed | EG9: =IF(EF9="Passed",ED9,"") -> 76.25 | EH9: =IF(EG9="","",SUMPRODUCT((EG9<EG$9:EG$108)/COUNTIF(EG$9:EG$108,EG$9:EG$108))) -> 1 | EI9: =IF(ED9>81,"Excellent",IF(ED9>60,"Very Good",IF(ED9>48,"Good",IF(ED9>36,"Average",IF(ED9=0,0,"Need Improvement"))))) -> Very Good | EJ9: =Z9 -> C | EK9: =AO9 -> B | EL9: =BD9 -> B | EM9: =BS9 -> B | EN9: =CH9 -> B | EO9: =CW9 -> B | EP9: =COUNTIF($EJ9:$EO9,"A") -> 0 | EQ9: =COUNTIF($EJ9:$EO9,"B") -> 5 | ER9: =COUNTIF($EJ9:$EO9,"C") -> 1 | ES9: =COUNTIF($EJ9:$EO9,"D") -> 0 | ET9: =COUNTIF($EJ9:$EO9,"E") -> 0 | EW9: =DC9 -> 96 | EX9: / | EY9: =$DC$7 -> 100 | EZ9: =CONCATENATE(EW9,EX9,EY9) -> 96/100 | FA9: =DL9 -> 86 | FB9: / | FC9: =$DL$7 -> 100 | FD9: =CONCATENATE(FA9,FB9,FC9) -> 86/100 | FE9: =DU9 -> 86 | FF9: / | FG9: =$DU$7 -> 100 | FH9: =CONCATENATE(FE9,FF9,FG9) -> 86/100
A10: =G10 -> 902 | B10: 2 | C10: 2 | D10: =IF(E10>0,$G$4,0) -> 6 | E10: 1490 | F10: 43658 | G10: 902 | H10: ACHALA RAM | I10: HEMA RAM | J10: TULACHHI DEVI | K10: 38535 | L10: 14 | M10: 14 | N10: =SUM(L10:M10) -> 28 | O10: 25 | P10: 10 | Q10: 5 | R10: =IF(O10="AB","AB",IF(O10="ML","ML",SUM(O10:Q10))) -> 40 | S10: 35 | T10: 10 | U10: 10 | V10: =IF(AND(S10="",T10="",U10=""),"",IF(OR(S10="AB",T10="AB",U10=""),"AB",IF(OR(S10="ML",T10="ML",U10=""),"ML",SUM(S10:U10)))) -> 55 | W10: =SUM(N10,R10,V10) -> 123 | X10: =IF(OR(W10="",W$7=""),"",W10/W$7*100) -> 61.5 | Y10: =IF($G10="nso","NSO",IF(V10="ab",V10,IF(V10="ML",V10,IF(X10>=86,"A",IF(X10>=71,"B",IF(X10>=51,"C",IF(X10>=31,"D","E"))))))) -> C | Z10: =IF($G10>0,Y10,$G10) -> C | AA10: 10 | AB10: 10 | AC10: =SUM(AA10:AB10) -> 20 | AD10: 30 | AE10: 10 | AF10: 5 | AG10: =IF(AD10="AB","AB",IF(AD10="ML","ML",SUM(AD10:AF10))) -> 45 | AH10: 25 | AI10: 10 | AJ10: 20 | AK10: =IF(AND(AH10="",AI10="",AJ10=""),"",IF(OR(AH10="AB",AI10="AB",AJ10=""),"AB",IF(OR(AH10="ML",AI10="ML",AJ10=""),"ML",SUM(AH10:AJ10)))) -> 55 | AL10: =SUM(AC10,AG10,AK10) -> 120 | AM10: =IF(OR(AL10="",AL$7=""),"",AL10/AL$7*100) -> 60 | AN10: =IF($G10="nso","NSO",IF(AK10="ab",AK10,IF(AK10="ML",AK10,IF(AM10>=86,"A",IF(AM10>=71,"B",IF(AM10>=51,"C",IF(AM10>=31,"D","E"))))))) -> C | AO10: =IF($G10>0,AN10,$G10) -> C | AP10: 5 | AQ10: 15 | AR10: =SUM(AP10:AQ10) -> 20 | AS10: 38 | AT10: 10 | AU10: 5 | AV10: =IF(AS10="AB","AB",IF(AS10="ML","ML",SUM(AS10:AU10))) -> 53 | AW10: 38 | AX10: 20 | AY10: 5 | AZ10: =IF(AND(AW10="",AX10="",AY10=""),"",IF(OR(AW10="AB",AX10="AB",AY10=""),"AB",IF(OR(AW10="ML",AX10="ML",AY10=""),"ML",SUM(AW10:AY10)))) -> 63 | BA10: =SUM(AR10,AV10,AZ10) -> 136 | BB10: =IF(OR(BA10="",BA$7=""),"",BA10/BA$7*100) -> 68 | BC10: =IF($G10="nso","NSO",IF(AZ10="ab",AZ10,IF(AZ10="ML",AZ10,IF(BB10>=86,"A",IF(BB10>=71,"B",IF(BB10>=51,"C",IF(BB10>=31,"D","E"))))))) -> C | BD10: =IF($G10>0,BC10,$G10) -> C | BE10: 10 | BF10: 15 | BG10: =SUM(BE10:BF10) -> 25 | BH10: 40 | BI10: 10 | BJ10: 5 | BK10: =IF(BH10="AB","AB",IF(BH10="ML","ML",SUM(BH10:BJ10))) -> 55 | BL10: 48 | BM10: 20 | BN10: 10 | BO10: =IF(AND(BL10="",BM10="",BN10=""),"",IF(OR(BL10="AB",BM10="AB",BN10=""),"AB",IF(OR(BL10="ML",BM10="ML",BN10=""),"ML",SUM(BL10:BN10)))) -> 78 | BP10: =SUM(BG10,BK10,BO10) -> 158 | BQ10: =IF(OR(BP10="",BP$7=""),"",BP10/BP$7*100) -> 79 | BR10: =IF($G10="nso","NSO",IF(BO10="ab",BO10,IF(BO10="ML",BO10,IF(BQ10>=86,"A",IF(BQ10>=71,"B",IF(BQ10>=51,"C",IF(BQ10>=31,"D","E"))))))) -> B | BS10: =IF($G10>0,BR10,$G10) -> B | BT10: 10 | BU10: 15 | BV10: =SUM(BT10:BU10) -> 25 | BW10: 35 | BX10: 10 | BY10: 5 | BZ10: =IF(BW10="AB","AB",IF(BW10="ML","ML",SUM(BW10:BY10))) -> 50 | CA10: 35 | CB10: 10 | CC10: 15 | CD10: =IF(AND(CA10="",CB10="",CC10=""),"",IF(OR(CA10="AB",CB10="AB",CC10=""),"AB",IF(OR(CA10="ML",CB10="ML",CC10=""),"ML",SUM(CA10:CC10)))) -> 60 | CE10: =SUM(BV10,BZ10,CD10) -> 135 | CF10: =IF(OR(CE10="",CE$7=""),"",CE10/CE$7*100) -> 67.5 | CG10: =IF($G10="nso","NSO",IF(CD10="ab",CD10,IF(CD10="ML",CD10,IF(CF10>=86,"A",IF(CF10>=71,"B",IF(CF10>=51,"C",IF(CF10>=31,"D","E"))))))) -> C | CH10: =IF($G10>0,CG10,$G10) -> C | CI10: 5 | CJ10: 10 | CK10: =SUM(CI10:CJ10) -> 15 | CL10: 15 | CM10: 10 | CN10: 5 | CO10: =IF(CL10="AB","AB",IF(CL10="ML","ML",SUM(CL10:CN10))) -> 30 | CP10: 50 | CQ10: 20 | CR10: 15 | CS10: =IF(AND(CP10="",CQ10="",CR10=""),"",IF(OR(CP10="AB",CQ10="AB",CR10=""),"AB",IF(OR(CP10="ML",CQ10="ML",CR10=""),"ML",SUM(CP10:CR10)))) -> 85 | CT10: =SUM(CK10,CO10,CS10) -> 130 | CU10: =IF(OR(CT10="",CT$7=""),"",CT10/CT$7*100) -> 65 | CV10: =IF($G10="nso","NSO",IF(CS10="ab",CS10,IF(CS10="ML",CS10,IF(CU10>=86,"A",IF(CU10>=71,"B",IF(CU10>=51,"C",IF(CU10>=31,"D","E"))))))) -> C | CW10: =IF($G10>0,CV10,$G10) -> C | CX10: 10 | CY10: 10 | CZ10: 10 | DA10: 10 | DB10: 10 | DC10: =SUM(CX10:DB10) -> 50 | DD10: =IF(OR(DC10="",DC$7=""),"",DC10/DC$7*100) -> 50 | DE10: =IF(DD10>91,"A+",IF(DD10>76,"A",IF(DD10>61,"B",IF(DD10>41,"C","D")))) -> C | DF10: =IF($G10>0,DE10,$G10) -> C | DG10: 10 | DH10: 15 | DI10: 20 | DJ10: 20 | DK10: 15 | DL10: =SUM(DG10:DK10) -> 80 | DM10: =IF(OR(DL10="",DL$7=""),"",DL10/DL$7*100) -> 80 | DN10: =IF($G10="nso","NSO",IF(DK10="ab",DK10,IF(DK10="ML",DK10,IF(DM10>=91,"A+",IF(DM10>=76,"A",IF(DM10>=61,"B",IF(DM10>=41,"C","D"))))))) -> A | DO10: =IF($G10>0,DN10,$G10) -> A | DP10: 15 | DQ10: 15 | DR10: 15 | DS10: 15 | DT10: 15 | DU10: =SUM(DP10:DT10) -> 75 | DV10: =IF(OR(DU10="",DU$7=""),"",DU10/DU$7*100) -> 75 | DW10: =IF($G10="nso","NSO",IF(DT10="ab",DT10,IF(DT10="ML",DT10,IF(DV10>=91,"A+",IF(DV10>=76,"A",IF(DV10>=61,"B",IF(DV10>=41,"C","D"))))))) -> B | DX10: =IF($G10>0,DW10,$G10) -> B | EA10: =IF(OR(DY10="",DZ10=""),"",DZ10/DY10*100) | EB10: =IF(G10=0,0,SUM($W$7,$AL$7,$BA$7,$BP$7,$CE$7,$CT$7)) -> 1200 | EC10: =SUM(W10,AL10,BA10,BP10,CE10,CT10) -> 802 | ED10: =IF(EB10>0,EC10/EB10*100,0) -> 66.833333 | EE10: =IF(AND(ED10>=60,EF10="Passed"),"First",IF(AND(ED10>=48,EF10="Passed"),"Second",IF(OR(EF10="passed"),"Third",EF10))) -> First | EF10: =IF($G10="NSO","NSO",IF($G10="tc","Transferred",IF($ET10>2,"Promoted",IF(ED10=0,"","Passed")))) -> Passed | EG10: =IF(EF10="Passed",ED10,"") -> 66.833333 | EH10: =IF(EG10="","",SUMPRODUCT((EG10<EG$9:EG$108)/COUNTIF(EG$9:EG$108,EG$9:EG$108))) -> 2 | EI10: =IF(ED10>81,"Excellent",IF(ED10>60,"Very Good",IF(ED10>48,"Good",IF(ED10>36,"Average",IF(ED10=0,0,"Need Improvement"))))) -> Very Good | EJ10: =Z10 -> C | EK10: =AO10 -> C | EL10: =BD10 -> C | EM10: =BS10 -> B | EN10: =CH10 -> C | EO10: =CW10 -> C | EP10: =COUNTIF($EJ10:$EO10,"A") -> 0 | EQ10: =COUNTIF($EJ10:$EO10,"B") -> 1 | ER10: =COUNTIF($EJ10:$EO10,"C") -> 5 | ES10: =COUNTIF($EJ10:$EO10,"D") -> 0 | ET10: =COUNTIF($EJ10:$EO10,"E") -> 0 | EW10: =DC10 -> 50 | EX10: / | EY10: =$DC$7 -> 100 | EZ10: =CONCATENATE(EW10,EX10,EY10) -> 50/100 | FA10: =DL10 -> 80 | FB10: / | FC10: =$DL$7 -> 100 | FD10: =CONCATENATE(FA10,FB10,FC10) -> 80/100 | FE10: =DU10 -> 75 | FF10: / | FG10: =$DU$7 -> 100 | FH10: =CONCATENATE(FE10,FF10,FG10) -> 75/100
A11: =G11 -> 903 | B11: 3 | C11: 3 | D11: =IF(E11>0,$G$4,0) -> 6 | E11: 1458 | F11: 43651 | G11: 903 | H11: ANITA | I11: DUDA RAM | J11: SUKHI | K11: 38893 | L11: 0 | M11: 0 | N11: =SUM(L11:M11) -> 0 | O11: 0 | P11: 0 | Q11: 0 | R11: =IF(O11="AB","AB",IF(O11="ML","ML",SUM(O11:Q11))) -> 0 | S11: 0 | T11: =IF($T$7="NA","NA",0) -> 0 | U11: 0 | V11: =IF(AND(S11="",T11="",U11=""),"",IF(OR(S11="AB",T11="AB",U11=""),"AB",IF(OR(S11="ML",T11="ML",U11=""),"ML",SUM(S11:U11)))) -> 0 | W11: =SUM(N11,R11,V11) -> 0 | X11: =IF(OR(W11="",W$7=""),"",W11/W$7*100) -> 0 | Y11: =IF($G11="nso","NSO",IF(V11="ab",V11,IF(V11="ML",V11,IF(X11>=86,"A",IF(X11>=71,"B",IF(X11>=51,"C",IF(X11>=31,"D","E"))))))) -> E | Z11: =IF($G11>0,Y11,$G11) -> E | AA11: 0 | AB11: 0 | AC11: =SUM(AA11:AB11) -> 0 | AD11: 0 | AE11: 0 | AF11: 0 | AG11: =IF(AD11="AB","AB",IF(AD11="ML","ML",SUM(AD11:AF11))) -> 0 | AH11: 0 | AI11: =IF($T$7="NA","NA",0) -> 0 | AJ11: 0 | AK11: =IF(AND(AH11="",AI11="",AJ11=""),"",IF(OR(AH11="AB",AI11="AB",AJ11=""),"AB",IF(OR(AH11="ML",AI11="ML",AJ11=""),"ML",SUM(AH11:AJ11)))) -> 0 | AL11: =SUM(AC11,AG11,AK11) -> 0 | AM11: =IF(OR(AL11="",AL$7=""),"",AL11/AL$7*100) -> 0 | AN11: =IF($G11="nso","NSO",IF(AK11="ab",AK11,IF(AK11="ML",AK11,IF(AM11>=86,"A",IF(AM11>=71,"B",IF(AM11>=51,"C",IF(AM11>=31,"D","E"))))))) -> E | AO11: =IF($G11>0,AN11,$G11) -> E | AP11: 0 | AQ11: 0 | AR11: =SUM(AP11:AQ11) -> 0 | AS11: 0 | AT11: 0 | AU11: 0 | AV11: =IF(AS11="AB","AB",IF(AS11="ML","ML",SUM(AS11:AU11))) -> 0 | AW11: 0 | AX11: 0 | AY11: 0 | AZ11: =IF(AND(AW11="",AX11="",AY11=""),"",IF(OR(AW11="AB",AX11="AB",AY11=""),"AB",IF(OR(AW11="ML",AX11="ML",AY11=""),"ML",SUM(AW11:AY11)))) -> 0 | BA11: =SUM(AR11,AV11,AZ11) -> 0 | BB11: =IF(OR(BA11="",BA$7=""),"",BA11/BA$7*100) -> 0 | BC11: =IF($G11="nso","NSO",IF(AZ11="ab",AZ11,IF(AZ11="ML",AZ11,IF(BB11>=86,"A",IF(BB11>=71,"B",IF(BB11>=51,"C",IF(BB11>=31,"D","E"))))))) -> E | BD11: =IF($G11>0,BC11,$G11) -> E | BE11: 0 | BF11: 0 | BG11: =SUM(BE11:BF11) -> 0 | BH11: 0 | BI11: 0 | BJ11: 0 | BK11: =IF(BH11="AB","AB",IF(BH11="ML","ML",SUM(BH11:BJ11))) -> 0 | BL11: 0 | BM11: 0 | BN11: 0 | BO11: =IF(AND(BL11="",BM11="",BN11=""),"",IF(OR(BL11="AB",BM11="AB",BN11=""),"AB",IF(OR(BL11="ML",BM11="ML",BN11=""),"ML",SUM(BL11:BN11)))) -> 0 | BP11: =SUM(BG11,BK11,BO11) -> 0 | BQ11: =IF(OR(BP11="",BP$7=""),"",BP11/BP$7*100) -> 0 | BR11: =IF($G11="nso","NSO",IF(BO11="ab",BO11,IF(BO11="ML",BO11,IF(BQ11>=86,"A",IF(BQ11>=71,"B",IF(BQ11>=51,"C",IF(BQ11>=31,"D","E"))))))) -> E | BS11: =IF($G11>0,BR11,$G11) -> E | BT11: 0 | BU11: 0 | BV11: =SUM(BT11:BU11) -> 0 | BW11: 0 | BX11: 0 | BY11: 0 | BZ11: =IF(BW11="AB","AB",IF(BW11="ML","ML",SUM(BW11:BY11))) -> 0 | CA11: 0 | CB11: 0 | CC11: 0 | CD11: =IF(AND(CA11="",CB11="",CC11=""),"",IF(OR(CA11="AB",CB11="AB",CC11=""),"AB",IF(OR(CA11="ML",CB11="ML",CC11=""),"ML",SUM(CA11:CC11)))) -> 0 | CE11: =SUM(BV11,BZ11,CD11) -> 0 | CF11: =IF(OR(CE11="",CE$7=""),"",CE11/CE$7*100) -> 0 | CG11: =IF($G11="nso","NSO",IF(CD11="ab",CD11,IF(CD11="ML",CD11,IF(CF11>=86,"A",IF(CF11>=71,"B",IF(CF11>=51,"C",IF(CF11>=31,"D","E"))))))) -> E | CH11: =IF($G11>0,CG11,$G11) -> E | CI11: 0 | CJ11: 0 | CK11: =SUM(CI11:CJ11) -> 0 | CL11: 0 | CM11: 0 | CN11: 0 | CO11: =IF(CL11="AB","AB",IF(CL11="ML","ML",SUM(CL11:CN11))) -> 0 | CP11: 0 | CQ11: 0 | CR11: =IF($T$7="NA","NA",0) -> 0 | CS11: =IF(AND(CP11="",CQ11="",CR11=""),"",IF(OR(CP11="AB",CQ11="AB",CR11=""),"AB",IF(OR(CP11="ML",CQ11="ML",CR11=""),"ML",SUM(CP11:CR11)))) -> 0 | CT11: =SUM(CK11,CO11,CS11) -> 0 | CU11: =IF(OR(CT11="",CT$7=""),"",CT11/CT$7*100) -> 0 | CV11: =IF($G11="nso","NSO",IF(CS11="ab",CS11,IF(CS11="ML",CS11,IF(CU11>=86,"A",IF(CU11>=71,"B",IF(CU11>=51,"C",IF(CU11>=31,"D","E"))))))) -> E | CW11: =IF($G11>0,CV11,$G11) -> E | CX11: 0 | CY11: 0 | CZ11: 0 | DC11: =SUM(CX11:DB11) -> 0 | DD11: =IF(OR(DC11="",DC$7=""),"",DC11/DC$7*100) -> 0 | DE11: =IF(DD11>91,"A+",IF(DD11>76,"A",IF(DD11>61,"B",IF(DD11>41,"C","D")))) -> D | DF11: =IF($G11>0,DE11,$G11) -> D | DG11: 0 | DH11: 0 | DI11: 0 | DL11: =SUM(DG11:DK11) -> 0 | DM11: =IF(OR(DL11="",DL$7=""),"",DL11/DL$7*100) -> 0 | DN11: =IF($G11="nso","NSO",IF(DK11="ab",DK11,IF(DK11="ML",DK11,IF(DM11>=91,"A+",IF(DM11>=76,"A",IF(DM11>=61,"B",IF(DM11>=41,"C","D"))))))) -> D | DO11: =IF($G11>0,DN11,$G11) -> D | DP11: 0 | DQ11: 0 | DR11: 0 | DU11: =SUM(DP11:DT11) -> 0 | DV11: =IF(OR(DU11="",DU$7=""),"",DU11/DU$7*100) -> 0 | DW11: =IF($G11="nso","NSO",IF(DT11="ab",DT11,IF(DT11="ML",DT11,IF(DV11>=91,"A+",IF(DV11>=76,"A",IF(DV11>=61,"B",IF(DV11>=41,"C","D"))))))) -> D | DX11: =IF($G11>0,DW11,$G11) -> D | EA11: =IF(OR(DY11="",DZ11=""),"",DZ11/DY11*100) | EB11: =IF(G11=0,0,SUM($W$7,$AL$7,$BA$7,$BP$7,$CE$7,$CT$7)) -> 1200 | EC11: =SUM(W11,AL11,BA11,BP11,CE11,CT11) -> 0 | ED11: =IF(EB11>0,EC11/EB11*100,0) -> 0 | EE11: =IF(AND(ED11>=60,EF11="Passed"),"First",IF(AND(ED11>=48,EF11="Passed"),"Second",IF(OR(EF11="passed"),"Third",EF11))) -> Promoted | EF11: =IF($G11="NSO","NSO",IF($G11="tc","Transferred",IF($ET11>2,"Promoted",IF(ED11=0,"","Passed")))) -> Promoted | EG11: =IF(EF11="Passed",ED11,"") | EH11: =IF(EG11="","",SUMPRODUCT((EG11<EG$9:EG$108)/COUNTIF(EG$9:EG$108,EG$9:EG$108))) | EI11: =IF(ED11>81,"Excellent",IF(ED11>60,"Very Good",IF(ED11>48,"Good",IF(ED11>36,"Average",IF(ED11=0,0,"Need Improvement"))))) -> 0 | EJ11: =Z11 -> E | EK11: =AO11 -> E | EL11: =BD11 -> E | EM11: =BS11 -> E | EN11: =CH11 -> E | EO11: =CW11 -> E | EP11: =COUNTIF($EJ11:$EO11,"A") -> 0 | EQ11: =COUNTIF($EJ11:$EO11,"B") -> 0 | ER11: =COUNTIF($EJ11:$EO11,"C") -> 0 | ES11: =COUNTIF($EJ11:$EO11,"D") -> 0 | ET11: =COUNTIF($EJ11:$EO11,"E") -> 6 | EW11: =DC11 -> 0 | EX11: / | EY11: =$DC$7 -> 100 | EZ11: =CONCATENATE(EW11,EX11,EY11) -> 0/100 | FA11: =DL11 -> 0 | FB11: / | FC11: =$DL$7 -> 100 | FD11: =CONCATENATE(FA11,FB11,FC11) -> 0/100 | FE11: =DU11 -> 0 | FF11: / | FG11: =$DU$7 -> 100 | FH11: =CONCATENATE(FE11,FF11,FG11) -> 0/100
A12: =G12 -> 904 | B12: 4 | C12: 4 | D12: =IF(E12>0,$G$4,0) -> 6 | E12: 1470 | F12: 43652 | G12: 904 | H12: ANOPI | I12: HARI RAM | J12: RUKI | K12: 39309 | L12: 0 | M12: 0 | N12: =SUM(L12:M12) -> 0 | O12: 0 | P12: 0 | Q12: 0 | R12: =IF(O12="AB","AB",IF(O12="ML","ML",SUM(O12:Q12))) -> 0 | S12: 0 | T12: =IF($T$7="NA","NA",0) -> 0 | U12: 0 | V12: =IF(AND(S12="",T12="",U12=""),"",IF(OR(S12="AB",T12="AB",U12=""),"AB",IF(OR(S12="ML",T12="ML",U12=""),"ML",SUM(S12:U12)))) -> 0 | W12: =SUM(N12,R12,V12) -> 0 | X12: =IF(OR(W12="",W$7=""),"",W12/W$7*100) -> 0 | Y12: =IF($G12="nso","NSO",IF(V12="ab",V12,IF(V12="ML",V12,IF(X12>=86,"A",IF(X12>=71,"B",IF(X12>=51,"C",IF(X12>=31,"D","E"))))))) -> E | Z12: =IF($G12>0,Y12,$G12) -> E | AA12: 0 | AB12: 0 | AC12: =SUM(AA12:AB12) -> 0 | AD12: 0 | AE12: 0 | AF12: 0 | AG12: =IF(AD12="AB","AB",IF(AD12="ML","ML",SUM(AD12:AF12))) -> 0 | AH12: 0 | AI12: =IF($T$7="NA","NA",0) -> 0 | AJ12: 0 | AK12: =IF(AND(AH12="",AI12="",AJ12=""),"",IF(OR(AH12="AB",AI12="AB",AJ12=""),"AB",IF(OR(AH12="ML",AI12="ML",AJ12=""),"ML",SUM(AH12:AJ12)))) -> 0 | AL12: =SUM(AC12,AG12,AK12) -> 0 | AM12: =IF(OR(AL12="",AL$7=""),"",AL12/AL$7*100) -> 0 | AN12: =IF($G12="nso","NSO",IF(AK12="ab",AK12,IF(AK12="ML",AK12,IF(AM12>=86,"A",IF(AM12>=71,"B",IF(AM12>=51,"C",IF(AM12>=31,"D","E"))))))) -> E | AO12: =IF($G12>0,AN12,$G12) -> E | AP12: 0 | AQ12: 0 | AR12: =SUM(AP12:AQ12) -> 0 | AS12: 0 | AT12: 0 | AU12: 0 | AV12: =IF(AS12="AB","AB",IF(AS12="ML","ML",SUM(AS12:AU12))) -> 0 | AW12: 0 | AX12: 0 | AY12: 0 | AZ12: =IF(AND(AW12="",AX12="",AY12=""),"",IF(OR(AW12="AB",AX12="AB",AY12=""),"AB",IF(OR(AW12="ML",AX12="ML",AY12=""),"ML",SUM(AW12:AY12)))) -> 0 | BA12: =SUM(AR12,AV12,AZ12) -> 0 | BB12: =IF(OR(BA12="",BA$7=""),"",BA12/BA$7*100) -> 0 | BC12: =IF($G12="nso","NSO",IF(AZ12="ab",AZ12,IF(AZ12="ML",AZ12,IF(BB12>=86,"A",IF(BB12>=71,"B",IF(BB12>=51,"C",IF(BB12>=31,"D","E"))))))) -> E | BD12: =IF($G12>0,BC12,$G12) -> E | BE12: 0 | BF12: 0 | BG12: =SUM(BE12:BF12) -> 0 | BH12: 0 | BI12: 0 | BJ12: 0 | BK12: =IF(BH12="AB","AB",IF(BH12="ML","ML",SUM(BH12:BJ12))) -> 0 | BL12: 0 | BM12: 0 | BN12: 0 | BO12: =IF(AND(BL12="",BM12="",BN12=""),"",IF(OR(BL12="AB",BM12="AB",BN12=""),"AB",IF(OR(BL12="ML",BM12="ML",BN12=""),"ML",SUM(BL12:BN12)))) -> 0 | BP12: =SUM(BG12,BK12,BO12) -> 0 | BQ12: =IF(OR(BP12="",BP$7=""),"",BP12/BP$7*100) -> 0 | BR12: =IF($G12="nso","NSO",IF(BO12="ab",BO12,IF(BO12="ML",BO12,IF(BQ12>=86,"A",IF(BQ12>=71,"B",IF(BQ12>=51,"C",IF(BQ12>=31,"D","E"))))))) -> E | BS12: =IF($G12>0,BR12,$G12) -> E | BT12: 0 | BU12: 0 | BV12: =SUM(BT12:BU12) -> 0 | BW12: 0 | BX12: 0 | BY12: 0 | BZ12: =IF(BW12="AB","AB",IF(BW12="ML","ML",SUM(BW12:BY12))) -> 0 | CA12: 0 | CB12: 0 | CC12: 0 | CD12: =IF(AND(CA12="",CB12="",CC12=""),"",IF(OR(CA12="AB",CB12="AB",CC12=""),"AB",IF(OR(CA12="ML",CB12="ML",CC12=""),"ML",SUM(CA12:CC12)))) -> 0 | CE12: =SUM(BV12,BZ12,CD12) -> 0 | CF12: =IF(OR(CE12="",CE$7=""),"",CE12/CE$7*100) -> 0 | CG12: =IF($G12="nso","NSO",IF(CD12="ab",CD12,IF(CD12="ML",CD12,IF(CF12>=86,"A",IF(CF12>=71,"B",IF(CF12>=51,"C",IF(CF12>=31,"D","E"))))))) -> E | CH12: =IF($G12>0,CG12,$G12) -> E | CI12: 0 | CJ12: 0 | CK12: =SUM(CI12:CJ12) -> 0 | CL12: 0 | CM12: 0 | CN12: 0 | CO12: =IF(CL12="AB","AB",IF(CL12="ML","ML",SUM(CL12:CN12))) -> 0 | CP12: 0 | CQ12: 0 | CR12: =IF($T$7="NA","NA",0) -> 0 | CS12: =IF(AND(CP12="",CQ12="",CR12=""),"",IF(OR(CP12="AB",CQ12="AB",CR12=""),"AB",IF(OR(CP12="ML",CQ12="ML",CR12=""),"ML",SUM(CP12:CR12)))) -> 0 | CT12: =SUM(CK12,CO12,CS12) -> 0 | CU12: =IF(OR(CT12="",CT$7=""),"",CT12/CT$7*100) -> 0 | CV12: =IF($G12="nso","NSO",IF(CS12="ab",CS12,IF(CS12="ML",CS12,IF(CU12>=86,"A",IF(CU12>=71,"B",IF(CU12>=51,"C",IF(CU12>=31,"D","E"))))))) -> E | CW12: =IF($G12>0,CV12,$G12) -> E | CX12: 0 | CY12: 0 | CZ12: 0 | DC12: =SUM(CX12:DB12) -> 0 | DD12: =IF(OR(DC12="",DC$7=""),"",DC12/DC$7*100) -> 0 | DE12: =IF(DD12>91,"A+",IF(DD12>76,"A",IF(DD12>61,"B",IF(DD12>41,"C","D")))) -> D | DF12: =IF($G12>0,DE12,$G12) -> D | DG12: 0 | DH12: 0 | DI12: 0 | DL12: =SUM(DG12:DK12) -> 0 | DM12: =IF(OR(DL12="",DL$7=""),"",DL12/DL$7*100) -> 0 | DN12: =IF($G12="nso","NSO",IF(DK12="ab",DK12,IF(DK12="ML",DK12,IF(DM12>=91,"A+",IF(DM12>=76,"A",IF(DM12>=61,"B",IF(DM12>=41,"C","D"))))))) -> D | DO12: =IF($G12>0,DN12,$G12) -> D | DP12: 0 | DQ12: 0 | DR12: 0 | DU12: =SUM(DP12:DT12) -> 0 | DV12: =IF(OR(DU12="",DU$7=""),"",DU12/DU$7*100) -> 0 | DW12: =IF($G12="nso","NSO",IF(DT12="ab",DT12,IF(DT12="ML",DT12,IF(DV12>=91,"A+",IF(DV12>=76,"A",IF(DV12>=61,"B",IF(DV12>=41,"C","D"))))))) -> D | DX12: =IF($G12>0,DW12,$G12) -> D | EA12: =IF(OR(DY12="",DZ12=""),"",DZ12/DY12*100) | EB12: =IF(G12=0,0,SUM($W$7,$AL$7,$BA$7,$BP$7,$CE$7,$CT$7)) -> 1200 | EC12: =SUM(W12,AL12,BA12,BP12,CE12,CT12) -> 0 | ED12: =IF(EB12>0,EC12/EB12*100,0) -> 0 | EE12: =IF(AND(ED12>=60,EF12="Passed"),"First",IF(AND(ED12>=48,EF12="Passed"),"Second",IF(OR(EF12="passed"),"Third",EF12))) -> Promoted | EF12: =IF($G12="NSO","NSO",IF($G12="tc","Transferred",IF($ET12>2,"Promoted",IF(ED12=0,"","Passed")))) -> Promoted | EG12: =IF(EF12="Passed",ED12,"") | EH12: =IF(EG12="","",SUMPRODUCT((EG12<EG$9:EG$108)/COUNTIF(EG$9:EG$108,EG$9:EG$108))) | EI12: =IF(ED12>81,"Excellent",IF(ED12>60,"Very Good",IF(ED12>48,"Good",IF(ED12>36,"Average",IF(ED12=0,0,"Need Improvement"))))) -> 0 | EJ12: =Z12 -> E | EK12: =AO12 -> E | EL12: =BD12 -> E | EM12: =BS12 -> E | EN12: =CH12 -> E | EO12: =CW12 -> E | EP12: =COUNTIF($EJ12:$EO12,"A") -> 0 | EQ12: =COUNTIF($EJ12:$EO12,"B") -> 0 | ER12: =COUNTIF($EJ12:$EO12,"C") -> 0 | ES12: =COUNTIF($EJ12:$EO12,"D") -> 0 | ET12: =COUNTIF($EJ12:$EO12,"E") -> 6 | EW12: =DC12 -> 0 | EX12: / | EY12: =$DC$7 -> 100 | EZ12: =CONCATENATE(EW12,EX12,EY12) -> 0/100 | FA12: =DL12 -> 0 | FB12: / | FC12: =$DL$7 -> 100 | FD12: =CONCATENATE(FA12,FB12,FC12) -> 0/100 | FE12: =DU12 -> 0 | FF12: / | FG12: =$DU$7 -> 100 | FH12: =CONCATENATE(FE12,FF12,FG12) -> 0/100
A13: =G13 -> 905 | B13: 5 | C13: 5 | D13: =IF(E13>0,$G$4,0) -> 6 | E13: 968 | F13: 42192 | G13: 905 | H13: ANU JANDU | I13: HEERA RAM JANDU | J13: MANU DEVI | K13: 38946 | L13: 0 | M13: 0 | N13: =SUM(L13:M13) -> 0 | O13: 0 | P13: 0 | Q13: 0 | R13: =IF(O13="AB","AB",IF(O13="ML","ML",SUM(O13:Q13))) -> 0 | S13: 0 | T13: =IF($T$7="NA","NA",0) -> 0 | U13: 0 | V13: =IF(AND(S13="",T13="",U13=""),"",IF(OR(S13="AB",T13="AB",U13=""),"AB",IF(OR(S13="ML",T13="ML",U13=""),"ML",SUM(S13:U13)))) -> 0 | W13: =SUM(N13,R13,V13) -> 0 | X13: =IF(OR(W13="",W$7=""),"",W13/W$7*100) -> 0 | Y13: =IF($G13="nso","NSO",IF(V13="ab",V13,IF(V13="ML",V13,IF(X13>=86,"A",IF(X13>=71,"B",IF(X13>=51,"C",IF(X13>=31,"D","E"))))))) -> E | Z13: =IF($G13>0,Y13,$G13) -> E | AA13: 0 | AB13: 0 | AC13: =SUM(AA13:AB13) -> 0 | AD13: 0 | AE13: 0 | AF13: 0 | AG13: =IF(AD13="AB","AB",IF(AD13="ML","ML",SUM(AD13:AF13))) -> 0 | AH13: 0 | AI13: =IF($T$7="NA","NA",0) -> 0 | AJ13: 0 | AK13: =IF(AND(AH13="",AI13="",AJ13=""),"",IF(OR(AH13="AB",AI13="AB",AJ13=""),"AB",IF(OR(AH13="ML",AI13="ML",AJ13=""),"ML",SUM(AH13:AJ13)))) -> 0 | AL13: =SUM(AC13,AG13,AK13) -> 0 | AM13: =IF(OR(AL13="",AL$7=""),"",AL13/AL$7*100) -> 0 | AN13: =IF($G13="nso","NSO",IF(AK13="ab",AK13,IF(AK13="ML",AK13,IF(AM13>=86,"A",IF(AM13>=71,"B",IF(AM13>=51,"C",IF(AM13>=31,"D","E"))))))) -> E | AO13: =IF($G13>0,AN13,$G13) -> E | AP13: 0 | AQ13: 0 | AR13: =SUM(AP13:AQ13) -> 0 | AS13: 0 | AT13: 0 | AU13: 0 | AV13: =IF(AS13="AB","AB",IF(AS13="ML","ML",SUM(AS13:AU13))) -> 0 | AW13: 0 | AX13: 0 | AY13: 0 | AZ13: =IF(AND(AW13="",AX13="",AY13=""),"",IF(OR(AW13="AB",AX13="AB",AY13=""),"AB",IF(OR(AW13="ML",AX13="ML",AY13=""),"ML",SUM(AW13:AY13)))) -> 0 | BA13: =SUM(AR13,AV13,AZ13) -> 0 | BB13: =IF(OR(BA13="",BA$7=""),"",BA13/BA$7*100) -> 0 | BC13: =IF($G13="nso","NSO",IF(AZ13="ab",AZ13,IF(AZ13="ML",AZ13,IF(BB13>=86,"A",IF(BB13>=71,"B",IF(BB13>=51,"C",IF(BB13>=31,"D","E"))))))) -> E | BD13: =IF($G13>0,BC13,$G13) -> E | BE13: 0 | BF13: 0 | BG13: =SUM(BE13:BF13) -> 0 | BH13: 0 | BI13: 0 | BJ13: 0 | BK13: =IF(BH13="AB","AB",IF(BH13="ML","ML",SUM(BH13:BJ13))) -> 0 | BL13: 0 | BM13: 0 | BN13: 0 | BO13: =IF(AND(BL13="",BM13="",BN13=""),"",IF(OR(BL13="AB",BM13="AB",BN13=""),"AB",IF(OR(BL13="ML",BM13="ML",BN13=""),"ML",SUM(BL13:BN13)))) -> 0 | BP13: =SUM(BG13,BK13,BO13) -> 0 | BQ13: =IF(OR(BP13="",BP$7=""),"",BP13/BP$7*100) -> 0 | BR13: =IF($G13="nso","NSO",IF(BO13="ab",BO13,IF(BO13="ML",BO13,IF(BQ13>=86,"A",IF(BQ13>=71,"B",IF(BQ13>=51,"C",IF(BQ13>=31,"D","E"))))))) -> E | BS13: =IF($G13>0,BR13,$G13) -> E | BT13: 0 | BU13: 0 | BV13: =SUM(BT13:BU13) -> 0 | BW13: 0 | BX13: 0 | BY13: 0 | BZ13: =IF(BW13="AB","AB",IF(BW13="ML","ML",SUM(BW13:BY13))) -> 0 | CA13: 0 | CB13: 0 | CC13: 0 | CD13: =IF(AND(CA13="",CB13="",CC13=""),"",IF(OR(CA13="AB",CB13="AB",CC13=""),"AB",IF(OR(CA13="ML",CB13="ML",CC13=""),"ML",SUM(CA13:CC13)))) -> 0 | CE13: =SUM(BV13,BZ13,CD13) -> 0 | CF13: =IF(OR(CE13="",CE$7=""),"",CE13/CE$7*100) -> 0 | CG13: =IF($G13="nso","NSO",IF(CD13="ab",CD13,IF(CD13="ML",CD13,IF(CF13>=86,"A",IF(CF13>=71,"B",IF(CF13>=51,"C",IF(CF13>=31,"D","E"))))))) -> E | CH13: =IF($G13>0,CG13,$G13) -> E | CI13: 0 | CJ13: 0 | CK13: =SUM(CI13:CJ13) -> 0 | CL13: 0 | CM13: 0 | CN13: 0 | CO13: =IF(CL13="AB","AB",IF(CL13="ML","ML",SUM(CL13:CN13))) -> 0 | CP13: 0 | CQ13: 0 | CR13: =IF($T$7="NA","NA",0) -> 0 | CS13: =IF(AND(CP13="",CQ13="",CR13=""),"",IF(OR(CP13="AB",CQ13="AB",CR13=""),"AB",IF(OR(CP13="ML",CQ13="ML",CR13=""),"ML",SUM(CP13:CR13)))) -> 0 | CT13: =SUM(CK13,CO13,CS13) -> 0 | CU13: =IF(OR(CT13="",CT$7=""),"",CT13/CT$7*100) -> 0 | CV13: =IF($G13="nso","NSO",IF(CS13="ab",CS13,IF(CS13="ML",CS13,IF(CU13>=86,"A",IF(CU13>=71,"B",IF(CU13>=51,"C",IF(CU13>=31,"D","E"))))))) -> E | CW13: =IF($G13>0,CV13,$G13) -> E | CX13: 0 | CY13: 0 | CZ13: 0 | DC13: =SUM(CX13:DB13) -> 0 | DD13: =IF(OR(DC13="",DC$7=""),"",DC13/DC$7*100) -> 0 | DE13: =IF(DD13>91,"A+",IF(DD13>76,"A",IF(DD13>61,"B",IF(DD13>41,"C","D")))) -> D | DF13: =IF($G13>0,DE13,$G13) -> D | DG13: 0 | DH13: 0 | DI13: 0 | DL13: =SUM(DG13:DK13) -> 0 | DM13: =IF(OR(DL13="",DL$7=""),"",DL13/DL$7*100) -> 0 | DN13: =IF($G13="nso","NSO",IF(DK13="ab",DK13,IF(DK13="ML",DK13,IF(DM13>=91,"A+",IF(DM13>=76,"A",IF(DM13>=61,"B",IF(DM13>=41,"C","D"))))))) -> D | DO13: =IF($G13>0,DN13,$G13) -> D | DP13: 0 | DQ13: 0 | DR13: 0 | DU13: =SUM(DP13:DT13) -> 0 | DV13: =IF(OR(DU13="",DU$7=""),"",DU13/DU$7*100) -> 0 | DW13: =IF($G13="nso","NSO",IF(DT13="ab",DT13,IF(DT13="ML",DT13,IF(DV13>=91,"A+",IF(DV13>=76,"A",IF(DV13>=61,"B",IF(DV13>=41,"C","D"))))))) -> D | DX13: =IF($G13>0,DW13,$G13) -> D | EA13: =IF(OR(DY13="",DZ13=""),"",DZ13/DY13*100) | EB13: =IF(G13=0,0,SUM($W$7,$AL$7,$BA$7,$BP$7,$CE$7,$CT$7)) -> 1200 | EC13: =SUM(W13,AL13,BA13,BP13,CE13,CT13) -> 0 | ED13: =IF(EB13>0,EC13/EB13*100,0) -> 0 | EE13: =IF(AND(ED13>=60,EF13="Passed"),"First",IF(AND(ED13>=48,EF13="Passed"),"Second",IF(OR(EF13="passed"),"Third",EF13))) -> Promoted | EF13: =IF($G13="NSO","NSO",IF($G13="tc","Transferred",IF($ET13>2,"Promoted",IF(ED13=0,"","Passed")))) -> Promoted | EG13: =IF(EF13="Passed",ED13,"") | EH13: =IF(EG13="","",SUMPRODUCT((EG13<EG$9:EG$108)/COUNTIF(EG$9:EG$108,EG$9:EG$108))) | EI13: =IF(ED13>81,"Excellent",IF(ED13>60,"Very Good",IF(ED13>48,"Good",IF(ED13>36,"Average",IF(ED13=0,0,"Need Improvement"))))) -> 0 | EJ13: =Z13 -> E | EK13: =AO13 -> E | EL13: =BD13 -> E | EM13: =BS13 -> E | EN13: =CH13 -> E | EO13: =CW13 -> E | EP13: =COUNTIF($EJ13:$EO13,"A") -> 0 | EQ13: =COUNTIF($EJ13:$EO13,"B") -> 0 | ER13: =COUNTIF($EJ13:$EO13,"C") -> 0 | ES13: =COUNTIF($EJ13:$EO13,"D") -> 0 | ET13: =COUNTIF($EJ13:$EO13,"E") -> 6 | EW13: =DC13 -> 0 | EX13: / | EY13: =$DC$7 -> 100 | EZ13: =CONCATENATE(EW13,EX13,EY13) -> 0/100 | FA13: =DL13 -> 0 | FB13: / | FC13: =$DL$7 -> 100 | FD13: =CONCATENATE(FA13,FB13,FC13) -> 0/100 | FE13: =DU13 -> 0 | FF13: / | FG13: =$DU$7 -> 100 | FH13: =CONCATENATE(FE13,FF13,FG13) -> 0/100
A14: =G14 -> 906 | B14: 6 | C14: 6 | D14: =IF(E14>0,$G$4,0) -> 6 | E14: 1404 | F14: 43294 | G14: 906 | H14: ASHOKA SUTHAR | I14: SATYNARYAN | J14: SANTU | K14: 38876 | L14: 0 | M14: 0 | N14: =SUM(L14:M14) -> 0 | O14: 0 | P14: 0 | Q14: 0 | R14: =IF(O14="AB","AB",IF(O14="ML","ML",SUM(O14:Q14))) -> 0 | S14: 0 | T14: =IF($T$7="NA","NA",0) -> 0 | U14: 0 | V14: =IF(AND(S14="",T14="",U14=""),"",IF(OR(S14="AB",T14="AB",U14=""),"AB",IF(OR(S14="ML",T14="ML",U14=""),"ML",SUM(S14:U14)))) -> 0 | W14: =SUM(N14,R14,V14) -> 0 | X14: =IF(OR(W14="",W$7=""),"",W14/W$7*100) -> 0 | Y14: =IF($G14="nso","NSO",IF(V14="ab",V14,IF(V14="ML",V14,IF(X14>=86,"A",IF(X14>=71,"B",IF(X14>=51,"C",IF(X14>=31,"D","E"))))))) -> E | Z14: =IF($G14>0,Y14,$G14) -> E | AA14: 0 | AB14: 0 | AC14: =SUM(AA14:AB14) -> 0 | AD14: 0 | AE14: 0 | AF14: 0 | AG14: =IF(AD14="AB","AB",IF(AD14="ML","ML",SUM(AD14:AF14))) -> 0 | AH14: 0 | AI14: =IF($T$7="NA","NA",0) -> 0 | AJ14: 0 | AK14: =IF(AND(AH14="",AI14="",AJ14=""),"",IF(OR(AH14="AB",AI14="AB",AJ14=""),"AB",IF(OR(AH14="ML",AI14="ML",AJ14=""),"ML",SUM(AH14:AJ14)))) -> 0 | AL14: =SUM(AC14,AG14,AK14) -> 0 | AM14: =IF(OR(AL14="",AL$7=""),"",AL14/AL$7*100) -> 0 | AN14: =IF($G14="nso","NSO",IF(AK14="ab",AK14,IF(AK14="ML",AK14,IF(AM14>=86,"A",IF(AM14>=71,"B",IF(AM14>=51,"C",IF(AM14>=31,"D","E"))))))) -> E | AO14: =IF($G14>0,AN14,$G14) -> E | AP14: 0 | AQ14: 0 | AR14: =SUM(AP14:AQ14) -> 0 | AS14: 0 | AT14: 0 | AU14: 0 | AV14: =IF(AS14="AB","AB",IF(AS14="ML","ML",SUM(AS14:AU14))) -> 0 | AW14: 0 | AX14: 0 | AY14: 0 | AZ14: =IF(AND(AW14="",AX14="",AY14=""),"",IF(OR(AW14="AB",AX14="AB",AY14=""),"AB",IF(OR(AW14="ML",AX14="ML",AY14=""),"ML",SUM(AW14:AY14)))) -> 0 | BA14: =SUM(AR14,AV14,AZ14) -> 0 | BB14: =IF(OR(BA14="",BA$7=""),"",BA14/BA$7*100) -> 0 | BC14: =IF($G14="nso","NSO",IF(AZ14="ab",AZ14,IF(AZ14="ML",AZ14,IF(BB14>=86,"A",IF(BB14>=71,"B",IF(BB14>=51,"C",IF(BB14>=31,"D","E"))))))) -> E | BD14: =IF($G14>0,BC14,$G14) -> E | BE14: 0 | BF14: 0 | BG14: =SUM(BE14:BF14) -> 0 | BH14: 0 | BI14: 0 | BJ14: 0 | BK14: =IF(BH14="AB","AB",IF(BH14="ML","ML",SUM(BH14:BJ14))) -> 0 | BL14: 0 | BM14: 0 | BN14: 0 | BO14: =IF(AND(BL14="",BM14="",BN14=""),"",IF(OR(BL14="AB",BM14="AB",BN14=""),"AB",IF(OR(BL14="ML",BM14="ML",BN14=""),"ML",SUM(BL14:BN14)))) -> 0 | BP14: =SUM(BG14,BK14,BO14) -> 0 | BQ14: =IF(OR(BP14="",BP$7=""),"",BP14/BP$7*100) -> 0 | BR14: =IF($G14="nso","NSO",IF(BO14="ab",BO14,IF(BO14="ML",BO14,IF(BQ14>=86,"A",IF(BQ14>=71,"B",IF(BQ14>=51,"C",IF(BQ14>=31,"D","E"))))))) -> E | BS14: =IF($G14>0,BR14,$G14) -> E | BT14: 0 | BU14: 0 | BV14: =SUM(BT14:BU14) -> 0 | BW14: 0 | BX14: 0 | BY14: 0 | BZ14: =IF(BW14="AB","AB",IF(BW14="ML","ML",SUM(BW14:BY14))) -> 0 | CA14: 0 | CB14: 0 | CC14: 0 | CD14: =IF(AND(CA14="",CB14="",CC14=""),"",IF(OR(CA14="AB",CB14="AB",CC14=""),"AB",IF(OR(CA14="ML",CB14="ML",CC14=""),"ML",SUM(CA14:CC14)))) -> 0 | CE14: =SUM(BV14,BZ14,CD14) -> 0 | CF14: =IF(OR(CE14="",CE$7=""),"",CE14/CE$7*100) -> 0 | CG14: =IF($G14="nso","NSO",IF(CD14="ab",CD14,IF(CD14="ML",CD14,IF(CF14>=86,"A",IF(CF14>=71,"B",IF(CF14>=51,"C",IF(CF14>=31,"D","E"))))))) -> E | CH14: =IF($G14>0,CG14,$G14) -> E | CI14: 0 | CJ14: 0 | CK14: =SUM(CI14:CJ14) -> 0 | CL14: 0 | CM14: 0 | CN14: 0 | CO14: =IF(CL14="AB","AB",IF(CL14="ML","ML",SUM(CL14:CN14))) -> 0 | CP14: 0 | CQ14: 0 | CR14: =IF($T$7="NA","NA",0) -> 0 | CS14: =IF(AND(CP14="",CQ14="",CR14=""),"",IF(OR(CP14="AB",CQ14="AB",CR14=""),"AB",IF(OR(CP14="ML",CQ14="ML",CR14=""),"ML",SUM(CP14:CR14)))) -> 0 | CT14: =SUM(CK14,CO14,CS14) -> 0 | CU14: =IF(OR(CT14="",CT$7=""),"",CT14/CT$7*100) -> 0 | CV14: =IF($G14="nso","NSO",IF(CS14="ab",CS14,IF(CS14="ML",CS14,IF(CU14>=86,"A",IF(CU14>=71,"B",IF(CU14>=51,"C",IF(CU14>=31,"D","E"))))))) -> E | CW14: =IF($G14>0,CV14,$G14) -> E | CX14: 0 | CY14: 0 | CZ14: 0 | DC14: =SUM(CX14:DB14) -> 0 | DD14: =IF(OR(DC14="",DC$7=""),"",DC14/DC$7*100) -> 0 | DE14: =IF(DD14>91,"A+",IF(DD14>76,"A",IF(DD14>61,"B",IF(DD14>41,"C","D")))) -> D | DF14: =IF($G14>0,DE14,$G14) -> D | DG14: 0 | DH14: 0 | DI14: 0 | DL14: =SUM(DG14:DK14) -> 0 | DM14: =IF(OR(DL14="",DL$7=""),"",DL14/DL$7*100) -> 0 | DN14: =IF($G14="nso","NSO",IF(DK14="ab",DK14,IF(DK14="ML",DK14,IF(DM14>=91,"A+",IF(DM14>=76,"A",IF(DM14>=61,"B",IF(DM14>=41,"C","D"))))))) -> D | DO14: =IF($G14>0,DN14,$G14) -> D | DP14: 0 | DQ14: 0 | DR14: 0 | DS14: 0 | DT14: 0 | DU14: =SUM(DP14:DT14) -> 0 | DV14: =IF(OR(DU14="",DU$7=""),"",DU14/DU$7*100) -> 0 | DW14: =IF($G14="nso","NSO",IF(DT14="ab",DT14,IF(DT14="ML",DT14,IF(DV14>=91,"A+",IF(DV14>=76,"A",IF(DV14>=61,"B",IF(DV14>=41,"C","D"))))))) -> D | DX14: =IF($G14>0,DW14,$G14) -> D | EA14: =IF(OR(DY14="",DZ14=""),"",DZ14/DY14*100) | EB14: =IF(G14=0,0,SUM($W$7,$AL$7,$BA$7,$BP$7,$CE$7,$CT$7)) -> 1200 | EC14: =SUM(W14,AL14,BA14,BP14,CE14,CT14) -> 0 | ED14: =IF(EB14>0,EC14/EB14*100,0) -> 0 | EE14: =IF(AND(ED14>=60,EF14="Passed"),"First",IF(AND(ED14>=48,EF14="Passed"),"Second",IF(OR(EF14="passed"),"Third",EF14))) -> Promoted | EF14: =IF($G14="NSO","NSO",IF($G14="tc","Transferred",IF($ET14>2,"Promoted",IF(ED14=0,"","Passed")))) -> Promoted | EG14: =IF(EF14="Passed",ED14,"") | EH14: =IF(EG14="","",SUMPRODUCT((EG14<EG$9:EG$108)/COUNTIF(EG$9:EG$108,EG$9:EG$108))) | EI14: =IF(ED14>81,"Excellent",IF(ED14>60,"Very Good",IF(ED14>48,"Good",IF(ED14>36,"Average",IF(ED14=0,0,"Need Improvement"))))) -> 0 | EJ14: =Z14 -> E | EK14: =AO14 -> E | EL14: =BD14 -> E | EM14: =BS14 -> E | EN14: =CH14 -> E | EO14: =CW14 -> E | EP14: =COUNTIF($EJ14:$EO14,"A") -> 0 | EQ14: =COUNTIF($EJ14:$EO14,"B") -> 0 | ER14: =COUNTIF($EJ14:$EO14,"C") -> 0 | ES14: =COUNTIF($EJ14:$EO14,"D") -> 0 | ET14: =COUNTIF($EJ14:$EO14,"E") -> 6 | EW14: =DC14 -> 0 | EX14: / | EY14: =$DC$7 -> 100 | EZ14: =CONCATENATE(EW14,EX14,EY14) -> 0/100 | FA14: =DL14 -> 0 | FB14: / | FC14: =$DL$7 -> 100 | FD14: =CONCATENATE(FA14,FB14,FC14) -> 0/100 | FE14: =DU14 -> 0 | FF14: / | FG14: =$DU$7 -> 100 | FH14: =CONCATENATE(FE14,FF14,FG14) -> 0/100
A15: =G15 -> 907 | B15: 7 | C15: 7 | D15: =IF(E15>0,$G$4,0) -> 6 | E15: 1453 | F15: 43650 | G15: 907 | H15: BAJRANG VISHNOI | I15: OM PRAKASH VISHNOI | J15: LOONGA DEVI | K15: 38991 | L15: 0 | M15: 0 | N15: =SUM(L15:M15) -> 0 | O15: 0 | P15: 0 | Q15: 0 | R15: =IF(O15="AB","AB",IF(O15="ML","ML",SUM(O15:Q15))) -> 0 | S15: 0 | T15: =IF($T$7="NA","NA",0) -> 0 | U15: 0 | V15: =IF(AND(S15="",T15="",U15=""),"",IF(OR(S15="AB",T15="AB",U15=""),"AB",IF(OR(S15="ML",T15="ML",U15=""),"ML",SUM(S15:U15)))) -> 0 | W15: =SUM(N15,R15,V15) -> 0 | X15: =IF(OR(W15="",W$7=""),"",W15/W$7*100) -> 0 | Y15: =IF($G15="nso","NSO",IF(V15="ab",V15,IF(V15="ML",V15,IF(X15>=86,"A",IF(X15>=71,"B",IF(X15>=51,"C",IF(X15>=31,"D","E"))))))) -> E | Z15: =IF($G15>0,Y15,$G15) -> E | AA15: 0 | AB15: 0 | AC15: =SUM(AA15:AB15) -> 0 | AD15: 0 | AE15: 0 | AF15: 0 | AG15: =IF(AD15="AB","AB",IF(AD15="ML","ML",SUM(AD15:AF15))) -> 0 | AH15: 0 | AI15: =IF($T$7="NA","NA",0) -> 0 | AJ15: 0 | AK15: =IF(AND(AH15="",AI15="",AJ15=""),"",IF(OR(AH15="AB",AI15="AB",AJ15=""),"AB",IF(OR(AH15="ML",AI15="ML",AJ15=""),"ML",SUM(AH15:AJ15)))) -> 0 | AL15: =SUM(AC15,AG15,AK15) -> 0 | AM15: =IF(OR(AL15="",AL$7=""),"",AL15/AL$7*100) -> 0 | AN15: =IF($G15="nso","NSO",IF(AK15="ab",AK15,IF(AK15="ML",AK15,IF(AM15>=86,"A",IF(AM15>=71,"B",IF(AM15>=51,"C",IF(AM15>=31,"D","E"))))))) -> E | AO15: =IF($G15>0,AN15,$G15) -> E | AP15: 0 | AQ15: 0 | AR15: =SUM(AP15:AQ15) -> 0 | AS15: 0 | AT15: 0 | AU15: 0 | AV15: =IF(AS15="AB","AB",IF(AS15="ML","ML",SUM(AS15:AU15))) -> 0 | AW15: 0 | AX15: 0 | AY15: 0 | AZ15: =IF(AND(AW15="",AX15="",AY15=""),"",IF(OR(AW15="AB",AX15="AB",AY15=""),"AB",IF(OR(AW15="ML",AX15="ML",AY15=""),"ML",SUM(AW15:AY15)))) -> 0 | BA15: =SUM(AR15,AV15,AZ15) -> 0 | BB15: =IF(OR(BA15="",BA$7=""),"",BA15/BA$7*100) -> 0 | BC15: =IF($G15="nso","NSO",IF(AZ15="ab",AZ15,IF(AZ15="ML",AZ15,IF(BB15>=86,"A",IF(BB15>=71,"B",IF(BB15>=51,"C",IF(BB15>=31,"D","E"))))))) -> E | BD15: =IF($G15>0,BC15,$G15) -> E | BE15: 0 | BF15: 0 | BG15: =SUM(BE15:BF15) -> 0 | BH15: 0 | BI15: 0 | BJ15: 0 | BK15: =IF(BH15="AB","AB",IF(BH15="ML","ML",SUM(BH15:BJ15))) -> 0 | BL15: 0 | BM15: 0 | BN15: 0 | BO15: =IF(AND(BL15="",BM15="",BN15=""),"",IF(OR(BL15="AB",BM15="AB",BN15=""),"AB",IF(OR(BL15="ML",BM15="ML",BN15=""),"ML",SUM(BL15:BN15)))) -> 0 | BP15: =SUM(BG15,BK15,BO15) -> 0 | BQ15: =IF(OR(BP15="",BP$7=""),"",BP15/BP$7*100) -> 0 | BR15: =IF($G15="nso","NSO",IF(BO15="ab",BO15,IF(BO15="ML",BO15,IF(BQ15>=86,"A",IF(BQ15>=71,"B",IF(BQ15>=51,"C",IF(BQ15>=31,"D","E"))))))) -> E | BS15: =IF($G15>0,BR15,$G15) -> E | BT15: 0 | BU15: 0 | BV15: =SUM(BT15:BU15) -> 0 | BW15: 0 | BX15: 0 | BY15: 0 | BZ15: =IF(BW15="AB","AB",IF(BW15="ML","ML",SUM(BW15:BY15))) -> 0 | CA15: 0 | CB15: 0 | CC15: 0 | CD15: =IF(AND(CA15="",CB15="",CC15=""),"",IF(OR(CA15="AB",CB15="AB",CC15=""),"AB",IF(OR(CA15="ML",CB15="ML",CC15=""),"ML",SUM(CA15:CC15)))) -> 0 | CE15: =SUM(BV15,BZ15,CD15) -> 0 | CF15: =IF(OR(CE15="",CE$7=""),"",CE15/CE$7*100) -> 0 | CG15: =IF($G15="nso","NSO",IF(CD15="ab",CD15,IF(CD15="ML",CD15,IF(CF15>=86,"A",IF(CF15>=71,"B",IF(CF15>=51,"C",IF(CF15>=31,"D","E"))))))) -> E | CH15: =IF($G15>0,CG15,$G15) -> E | CI15: 0 | CJ15: 0 | CK15: =SUM(CI15:CJ15) -> 0 | CL15: 0 | CM15: 0 | CN15: 0 | CO15: =IF(CL15="AB","AB",IF(CL15="ML","ML",SUM(CL15:CN15))) -> 0 | CP15: 0 | CQ15: 0 | CR15: =IF($T$7="NA","NA",0) -> 0 | CS15: =IF(AND(CP15="",CQ15="",CR15=""),"",IF(OR(CP15="AB",CQ15="AB",CR15=""),"AB",IF(OR(CP15="ML",CQ15="ML",CR15=""),"ML",SUM(CP15:CR15)))) -> 0 | CT15: =SUM(CK15,CO15,CS15) -> 0 | CU15: =IF(OR(CT15="",CT$7=""),"",CT15/CT$7*100) -> 0 | CV15: =IF($G15="nso","NSO",IF(CS15="ab",CS15,IF(CS15="ML",CS15,IF(CU15>=86,"A",IF(CU15>=71,"B",IF(CU15>=51,"C",IF(CU15>=31,"D","E"))))))) -> E | CW15: =IF($G15>0,CV15,$G15) -> E | CX15: 0 | CY15: 0 | CZ15: 0 | DC15: =SUM(CX15:DB15) -> 0 | DD15: =IF(OR(DC15="",DC$7=""),"",DC15/DC$7*100) -> 0 | DE15: =IF(DD15>91,"A+",IF(DD15>76,"A",IF(DD15>61,"B",IF(DD15>41,"C","D")))) -> D | DF15: =IF($G15>0,DE15,$G15) -> D | DG15: 0 | DH15: 0 | DI15: 0 | DL15: =SUM(DG15:DK15) -> 0 | DM15: =IF(OR(DL15="",DL$7=""),"",DL15/DL$7*100) -> 0 | DN15: =IF($G15="nso","NSO",IF(DK15="ab",DK15,IF(DK15="ML",DK15,IF(DM15>=91,"A+",IF(DM15>=76,"A",IF(DM15>=61,"B",IF(DM15>=41,"C","D"))))))) -> D | DO15: =IF($G15>0,DN15,$G15) -> D | DP15: 0 | DQ15: 0 | DR15: 0 | DU15: =SUM(DP15:DT15) -> 0 | DV15: =IF(OR(DU15="",DU$7=""),"",DU15/DU$7*100) -> 0 | DW15: =IF($G15="nso","NSO",IF(DT15="ab",DT15,IF(DT15="ML",DT15,IF(DV15>=91,"A+",IF(DV15>=76,"A",IF(DV15>=61,"B",IF(DV15>=41,"C","D"))))))) -> D | DX15: =IF($G15>0,DW15,$G15) -> D | EA15: =IF(OR(DY15="",DZ15=""),"",DZ15/DY15*100) | EB15: =IF(G15=0,0,SUM($W$7,$AL$7,$BA$7,$BP$7,$CE$7,$CT$7)) -> 1200 | EC15: =SUM(W15,AL15,BA15,BP15,CE15,CT15) -> 0 | ED15: =IF(EB15>0,EC15/EB15*100,0) -> 0 | EE15: =IF(AND(ED15>=60,EF15="Passed"),"First",IF(AND(ED15>=48,EF15="Passed"),"Second",IF(OR(EF15="passed"),"Third",EF15))) -> Promoted | EF15: =IF($G15="NSO","NSO",IF($G15="tc","Transferred",IF($ET15>2,"Promoted",IF(ED15=0,"","Passed")))) -> Promoted | EG15: =IF(EF15="Passed",ED15,"") | EH15: =IF(EG15="","",SUMPRODUCT((EG15<EG$9:EG$108)/COUNTIF(EG$9:EG$108,EG$9:EG$108))) | EI15: =IF(ED15>81,"Excellent",IF(ED15>60,"Very Good",IF(ED15>48,"Good",IF(ED15>36,"Average",IF(ED15=0,0,"Need Improvement"))))) -> 0 | EJ15: =Z15 -> E | EK15: =AO15 -> E | EL15: =BD15 -> E | EM15: =BS15 -> E | EN15: =CH15 -> E | EO15: =CW15 -> E | EP15: =COUNTIF($EJ15:$EO15,"A") -> 0 | EQ15: =COUNTIF($EJ15:$EO15,"B") -> 0 | ER15: =COUNTIF($EJ15:$EO15,"C") -> 0 | ES15: =COUNTIF($EJ15:$EO15,"D") -> 0 | ET15: =COUNTIF($EJ15:$EO15,"E") -> 6 | EW15: =DC15 -> 0 | EX15: / | EY15: =$DC$7 -> 100 | EZ15: =CONCATENATE(EW15,EX15,EY15) -> 0/100 | FA15: =DL15 -> 0 | FB15: / | FC15: =$DL$7 -> 100 | FD15: =CONCATENATE(FA15,FB15,FC15) -> 0/100 | FE15: =DU15 -> 0 | FF15: / | FG15: =$DU$7 -> 100 | FH15: =CONCATENATE(FE15,FF15,FG15) -> 0/100
A16: =G16 -> 0 | B16: 8 | D16: =IF(E16>0,$G$4,0) -> 0 | L16: 0 | M16: 0 | N16: =SUM(L16:M16) -> 0 | O16: 0 | P16: 0 | Q16: 0 | R16: =IF(O16="AB","AB",IF(O16="ML","ML",SUM(O16:Q16))) -> 0 | S16: 0 | T16: =IF($T$7="NA","NA",0) -> 0 | U16: 0 | V16: =IF(AND(S16="",T16="",U16=""),"",IF(OR(S16="AB",T16="AB",U16=""),"AB",IF(OR(S16="ML",T16="ML",U16=""),"ML",SUM(S16:U16)))) -> 0 | W16: =SUM(N16,R16,V16) -> 0 | X16: =IF(OR(W16="",W$7=""),"",W16/W$7*100) -> 0 | Y16: =IF($G16="nso","NSO",IF(V16="ab",V16,IF(V16="ML",V16,IF(X16>=86,"A",IF(X16>=71,"B",IF(X16>=51,"C",IF(X16>=31,"D","E"))))))) -> E | Z16: =IF($G16>0,Y16,$G16) -> 0 | AA16: 0 | AB16: 0 | AC16: =SUM(AA16:AB16) -> 0 | AD16: 0 | AE16: 0 | AF16: 0 | AG16: =IF(AD16="AB","AB",IF(AD16="ML","ML",SUM(AD16:AF16))) -> 0 | AH16: 0 | AI16: =IF($T$7="NA","NA",0) -> 0 | AJ16: 0 | AK16: =IF(AND(AH16="",AI16="",AJ16=""),"",IF(OR(AH16="AB",AI16="AB",AJ16=""),"AB",IF(OR(AH16="ML",AI16="ML",AJ16=""),"ML",SUM(AH16:AJ16)))) -> 0 | AL16: =SUM(AC16,AG16,AK16) -> 0 | AM16: =IF(OR(AL16="",AL$7=""),"",AL16/AL$7*100) -> 0 | AN16: =IF($G16="nso","NSO",IF(AK16="ab",AK16,IF(AK16="ML",AK16,IF(AM16>=86,"A",IF(AM16>=71,"B",IF(AM16>=51,"C",IF(AM16>=31,"D","E"))))))) -> E | AO16: =IF($G16>0,AN16,$G16) -> 0 | AP16: 0 | AQ16: 0 | AR16: =SUM(AP16:AQ16) -> 0 | AS16: 0 | AT16: 0 | AU16: 0 | AV16: =IF(AS16="AB","AB",IF(AS16="ML","ML",SUM(AS16:AU16))) -> 0 | AW16: 0 | AX16: 0 | AY16: 0 | AZ16: =IF(AND(AW16="",AX16="",AY16=""),"",IF(OR(AW16="AB",AX16="AB",AY16=""),"AB",IF(OR(AW16="ML",AX16="ML",AY16=""),"ML",SUM(AW16:AY16)))) -> 0 | BA16: =SUM(AR16,AV16,AZ16) -> 0 | BB16: =IF(OR(BA16="",BA$7=""),"",BA16/BA$7*100) -> 0 | BC16: =IF($G16="nso","NSO",IF(AZ16="ab",AZ16,IF(AZ16="ML",AZ16,IF(BB16>=86,"A",IF(BB16>=71,"B",IF(BB16>=51,"C",IF(BB16>=31,"D","E"))))))) -> E | BD16: =IF($G16>0,BC16,$G16) -> 0 | BE16: 0 | BF16: 0 | BG16: =SUM(BE16:BF16) -> 0 | BH16: 0 | BI16: 0 | BJ16: 0 | BK16: =IF(BH16="AB","AB",IF(BH16="ML","ML",SUM(BH16:BJ16))) -> 0 | BL16: 0 | BM16: 0 | BN16: 0 | BO16: =IF(AND(BL16="",BM16="",BN16=""),"",IF(OR(BL16="AB",BM16="AB",BN16=""),"AB",IF(OR(BL16="ML",BM16="ML",BN16=""),"ML",SUM(BL16:BN16)))) -> 0 | BP16: =SUM(BG16,BK16,BO16) -> 0 | BQ16: =IF(OR(BP16="",BP$7=""),"",BP16/BP$7*100) -> 0 | BR16: =IF($G16="nso","NSO",IF(BO16="ab",BO16,IF(BO16="ML",BO16,IF(BQ16>=86,"A",IF(BQ16>=71,"B",IF(BQ16>=51,"C",IF(BQ16>=31,"D","E"))))))) -> E | BS16: =IF($G16>0,BR16,$G16) -> 0 | BT16: 0 | BU16: 0 | BV16: =SUM(BT16:BU16) -> 0 | BW16: 0 | BX16: 0 | BY16: 0 | BZ16: =IF(BW16="AB","AB",IF(BW16="ML","ML",SUM(BW16:BY16))) -> 0 | CA16: 0 | CB16: 0 | CC16: 0 | CD16: =IF(AND(CA16="",CB16="",CC16=""),"",IF(OR(CA16="AB",CB16="AB",CC16=""),"AB",IF(OR(CA16="ML",CB16="ML",CC16=""),"ML",SUM(CA16:CC16)))) -> 0 | CE16: =SUM(BV16,BZ16,CD16) -> 0 | CF16: =IF(OR(CE16="",CE$7=""),"",CE16/CE$7*100) -> 0 | CG16: =IF($G16="nso","NSO",IF(CD16="ab",CD16,IF(CD16="ML",CD16,IF(CF16>=86,"A",IF(CF16>=71,"B",IF(CF16>=51,"C",IF(CF16>=31,"D","E"))))))) -> E | CH16: =IF($G16>0,CG16,$G16) -> 0 | CI16: 0 | CJ16: 0 | CK16: =SUM(CI16:CJ16) -> 0 | CL16: 0 | CM16: 0 | CN16: 0 | CO16: =IF(CL16="AB","AB",IF(CL16="ML","ML",SUM(CL16:CN16))) -> 0 | CP16: 0 | CQ16: 0 | CR16: =IF($T$7="NA","NA",0) -> 0 | CS16: =IF(AND(CP16="",CQ16="",CR16=""),"",IF(OR(CP16="AB",CQ16="AB",CR16=""),"AB",IF(OR(CP16="ML",CQ16="ML",CR16=""),"ML",SUM(CP16:CR16)))) -> 0 | CT16: =SUM(CK16,CO16,CS16) -> 0 | CU16: =IF(OR(CT16="",CT$7=""),"",CT16/CT$7*100) -> 0 | CV16: =IF($G16="nso","NSO",IF(CS16="ab",CS16,IF(CS16="ML",CS16,IF(CU16>=86,"A",IF(CU16>=71,"B",IF(CU16>=51,"C",IF(CU16>=31,"D","E"))))))) -> E | CW16: =IF($G16>0,CV16,$G16) -> 0 | CX16: 0 | CY16: 0 | CZ16: 0 | DC16: =SUM(CX16:DB16) -> 0 | DD16: =IF(OR(DC16="",DC$7=""),"",DC16/DC$7*100) -> 0 | DE16: =IF(DD16>91,"A+",IF(DD16>76,"A",IF(DD16>61,"B",IF(DD16>41,"C","D")))) -> D | DF16: =IF($G16>0,DE16,$G16) -> 0 | DG16: 0 | DH16: 0 | DI16: 0 | DL16: =SUM(DG16:DK16) -> 0 | DM16: =IF(OR(DL16="",DL$7=""),"",DL16/DL$7*100) -> 0 | DN16: =IF($G16="nso","NSO",IF(DK16="ab",DK16,IF(DK16="ML",DK16,IF(DM16>=91,"A+",IF(DM16>=76,"A",IF(DM16>=61,"B",IF(DM16>=41,"C","D"))))))) -> D | DO16: =IF($G16>0,DN16,$G16) -> 0 | DP16: 0 | DQ16: 0 | DR16: 0 | DU16: =SUM(DP16:DT16) -> 0 | DV16: =IF(OR(DU16="",DU$7=""),"",DU16/DU$7*100) -> 0 | DW16: =IF($G16="nso","NSO",IF(DT16="ab",DT16,IF(DT16="ML",DT16,IF(DV16>=91,"A+",IF(DV16>=76,"A",IF(DV16>=61,"B",IF(DV16>=41,"C","D"))))))) -> D | DX16: =IF($G16>0,DW16,$G16) -> 0 | EA16: =IF(OR(DY16="",DZ16=""),"",DZ16/DY16*100) | EB16: =IF(G16=0,0,SUM($W$7,$AL$7,$BA$7,$BP$7,$CE$7,$CT$7)) -> 0 | EC16: =SUM(W16,AL16,BA16,BP16,CE16,CT16) -> 0 | ED16: =IF(EB16>0,EC16/EB16*100,0) -> 0 | EE16: =IF(AND(ED16>=60,EF16="Passed"),"First",IF(AND(ED16>=48,EF16="Passed"),"Second",IF(OR(EF16="passed"),"Third",EF16))) | EF16: =IF($G16="NSO","NSO",IF($G16="tc","Transferred",IF($ET16>2,"Promoted",IF(ED16=0,"","Passed")))) | EG16: =IF(EF16="Passed",ED16,"") | EH16: =IF(EG16="","",SUMPRODUCT((EG16<EG$9:EG$108)/COUNTIF(EG$9:EG$108,EG$9:EG$108))) | EI16: =IF(ED16>81,"Excellent",IF(ED16>60,"Very Good",IF(ED16>48,"Good",IF(ED16>36,"Average",IF(ED16=0,0,"Need Improvement"))))) -> 0 | EJ16: =Z16 -> 0 | EK16: =AO16 -> 0 | EL16: =BD16 -> 0 | EM16: =BS16 -> 0 | EN16: =CH16 -> 0 | EO16: =CW16 -> 0 | EP16: =COUNTIF($EJ16:$EO16,"A") -> 0 | EQ16: =COUNTIF($EJ16:$EO16,"B") -> 0 | ER16: =COUNTIF($EJ16:$EO16,"C") -> 0 | ES16: =COUNTIF($EJ16:$EO16,"D") -> 0 | ET16: =COUNTIF($EJ16:$EO16,"E") -> 0 | EW16: =DC16 -> 0 | EX16: / | EY16: =$DC$7 -> 100 | EZ16: =CONCATENATE(EW16,EX16,EY16) -> 0/100 | FA16: =DL16 -> 0 | FB16: / | FC16: =$DL$7 -> 100 | FD16: =CONCATENATE(FA16,FB16,FC16) -> 0/100 | FE16: =DU16 -> 0 | FF16: / | FG16: =$DU$7 -> 100 | FH16: =CONCATENATE(FE16,FF16,FG16) -> 0/100
