Workbook

Sheet Entry
A1: कार्मिक विभाग की अधिसूचना क्रमांक एफ-7 (1) कार्मिक/क-2/96 (33/01) दिनांक 20.06.2001 के क्रम में कर्मचारी द्वारा दिया जाने वाला
A2: संतान सम्बन्धी घोषणा पत्र
A3: नाम कर्मचारी - | C3: मेघराज शर्मा
A4: पिता का नाम - | C4: देवीलाल शर्मा
A5: पद | C5: व्याख्याता
A6: पदस्थापन कार्यालय/विभाग/स्कूल का नाम - | C6: राउमावि, दीपपुरा
A7: जन्म तिथि | C7: 23956
A8: वरिष्ठता क्रमांक | C8: 2737
A9: वरिष्ठता वर्ष | C9: 2016-17
A10: पात्रता सूची क्रमांक | C10: 11549
A12: =CONCATENATE("1. दिनांक 31.05.2002 तक मेरे बच्चों (पुत्र/पुत्री) की संख्या - ",COUNTA($B$14:$B$18)," ","थी |") -> 1. दिनांक 31.05.2002 तक मेरे बच्चों (पुत्र/पुत्री) की संख्या - 3 थी |
A13: क्र.सं. | B13: नाम | C13: पुत्र / पुत्री | D13: जन्म तिथि
A14: 1 | B14: अश्विनी कुमार | C14: पुत्र | D14: 32179
A15: 2 | B15: हिमांशु शर्मा | C15: पुत्र | D15: 32812
A16: 3 | B16: प्रीति खण्डेलवाल | C16: पुत्री | D16: 33695
A17: 4
A18: 5
A20: =CONCATENATE("3. दिनांक 01.06.2002 को अथवा उसके पश्चात् मेरे बच्चों (पुत्र/पुत्री) की संख्या में वृद्धि हुई है तथा वर्तमान में मेरे बच्चों की कुल संख्या - ",COUNTA($B$22:$B$26)," "," है |") -> 3. दिनांक 01.06.2002 को अथवा उसके पश्चात् मेरे बच्चों (पुत्र/पुत्री) की संख्या में वृद्धि हुई है तथा वर्तमान में मेरे बच्चों की कुल संख्या - 0 है |
A21: क्र.सं. | B21: नाम | C21: पुत्र / पुत्री | D21: जन्म तिथि
A22: 1
A23: 2
A24: 3
A25: 4
A26: 5

Sheet Santan Ghoshna Ptra
A1: कार्मिक विभाग की अधिसूचना क्रमांक एफ-7 (1) कार्मिक/क-2/96 (33/01) दिनांक 20.06.2001 के क्रम में कर्मचारी द्वारा दिया जाने वाला
A2: संतान सम्बन्धी घोषणा पत्र
A3: =CONCATENATE(" मै ",Entry!C3," पद - ",Entry!C5," कार्यालय/विभाग/स्कूल - ",Entry!C6," एतद् द्वारा घोषणा करता करती हूँ कि :-") -> मै मेघराज शर्मा पद - व्याख्याता कार्यालय/विभाग/स्कूल - राउमावि, दीपपुरा एतद् द्वारा घोषणा करता करती हूँ कि :-
A4: =Entry!A12 -> 1. दिनांक 31.05.2002 तक मेरे बच्चों (पुत्र/पुत्री) की संख्या - 3 थी |
A5: क्र.सं. | B5: नाम | C5: पुत्र / पुत्री | D5: जन्म तिथि
A6: 1 | B6: =IF(Entry!B14="","",Entry!B14) -> अश्विनी कुमार | C6: =IF(Entry!C14="","",Entry!C14) -> पुत्र | D6: =IF(Entry!D14="","",Entry!D14) -> 32179
A7: 2 | B7: =IF(Entry!B15="","",Entry!B15) -> हिमांशु शर्मा | C7: =IF(Entry!C15="","",Entry!C15) -> पुत्र | D7: =IF(Entry!D15="","",Entry!D15) -> 32812
A8: 3 | B8: =IF(Entry!B16="","",Entry!B16) -> प्रीति खण्डेलवाल | C8: =IF(Entry!C16="","",Entry!C16) -> पुत्री | D8: =IF(Entry!D16="","",Entry!D16) -> 33695
A9: 4 | B9: =IF(Entry!B17="","",Entry!B17) | C9: =IF(Entry!C17="","",Entry!C17) | D9: =IF(Entry!D17="","",Entry!D17)
A10: 5 | B10: =IF(Entry!B18="","",Entry!B18) | C10: =IF(Entry!C18="","",Entry!C18) | D10: =IF(Entry!D18="","",Entry!D18)
A11: 2. दिनांक 01.06.2002 को मेरे बच्चों (पुत्र/पुत्री) की संख्या में वृद्धि नहीं हुई है,
A12: अथवा
A13: =Entry!A20 -> 3. दिनांक 01.06.2002 को अथवा उसके पश्चात् मेरे बच्चों (पुत्र/पुत्री) की संख्या में वृद्धि हुई है तथा वर्तमान में मेरे बच्चों की कुल संख्या - 0 है |
A14: क्र.सं. | B14: नाम | C14: पुत्र / पुत्री | D14: जन्म तिथि
A15: 1 | B15: =IF(Entry!B22="","",Entry!B22) | C15: =IF(Entry!C22="","",Entry!C22) | D15: =IF(Entry!D22="","",Entry!D22)
A16: 2 | B16: =IF(Entry!B23="","",Entry!B23) | C16: =IF(Entry!C23="","",Entry!C23) | D16: =IF(Entry!D23="","",Entry!D23)
A17: 3 | B17: =IF(Entry!B24="","",Entry!B24) | C17: =IF(Entry!C24="","",Entry!C24) | D17: =IF(Entry!D24="","",Entry!D24)
A18: 4 | B18: =IF(Entry!B25="","",Entry!B25) | C18: =IF(Entry!C25="","",Entry!C25) | D18: =IF(Entry!D25="","",Entry!D25)
A19: 5 | B19: =IF(Entry!B26="","",Entry!B26) | C19: =IF(Entry!C26="","",Entry!C26) | D19: =IF(Entry!D26="","",Entry!D26)
D21: हस्ताक्षर
A22: नाम | C22: =IF(Entry!C3="","",Entry!C3) -> मेघराज शर्मा
A23: पद | C23: =IF(Entry!C5="","",Entry!C5) -> व्याख्याता
A24: जन्म तिथि | C24: =IF(Entry!C7="","",Entry!C7) -> 23956
A25: पदस्थापन स्थान | C25: =IF(Entry!C6="","",Entry!C6) -> राउमावि, दीपपुरा
A26: वरिष्ठता क्रमांक | C26: =IF(Entry!C8="","",Entry!C8) -> 2737
A27: वरिष्ठता वर्ष | C27: =IF(Entry!C9="","",Entry!C9) -> 2016-17
A28: पात्रता सूची क्रमांक | C28: =IF(Entry!C10="","",Entry!C10) -> 11549
D30: प्रमाणित सक्षम अधिकारी
A31: www.ashwinisharma.com | D31: मय कार्यालय मोहर

Sheet Aaptti Ptra
A1: आपत्ति हेतु निर्धारित प्रपत्र
A3: क्र.सं. | B3: विवरण | C3: विवरण
A4: 1 | B4: आवेदक मय पिता का नाम | C4: =CONCATENATE(Entry!C3," पुत्र श्री ",Entry!C4) -> मेघराज शर्मा पुत्र श्री देवीलाल शर्मा
A5: 2 | B5: पदनाम | C5: =Entry!C5 -> व्याख्याता
A6: 3 | B6: कार्यरत स्थान | C6: =Entry!C6 -> राउमावि, दीपपुरा
A7: 4 | B7: जन्म तिथि | C7: =Entry!C7 -> 23956
A8: 5 | B8: मण्डल स्तरीय वरिष्ठता सूची का क्रमांक
A9: 6 | B9: राज्य स्तरीय वरिष्ठता सूची का क्रमांक
A10: 7 | B10: वरिष्ठता अवधि
A11: 8 | B11: लिंग - पुरुष / स्त्री
A12: 9 | B12: वर्ग (अजा / अजजा हो तो वर्ग अंकित करें)
A13: 10 | B13: आपत्ति का विवरण
C15: अभ्यर्थी के हस्ताक्षर
A16: www.ashwinisharma.com
