{"text_format":"3","workbook":"xlsx","n_sheets":7,"sheets":["info","SHALADARPAN","MARK SLIP(6-8)","SLIP(9-10)","SLIP(11-12)","SLIP(1-5)","Sheet1"],"not_rendered":{"images":2,"macros":1,"defined_names":16},"read":"whole","date_system":"1900"}

{"sheet":"info","index":0,"n_rows":34,"n_cols":14,"rows_kept":34,"merged":[[1,1,1,15],[2,1,2,15],[3,1,3,15],[4,1,8,1],[4,2,4,15],[5,2,5,15],[6,2,6,15],[7,2,7,15],[8,2,8,15],[9,1,11,1],[9,2,9,15],[10,2,10,15],[11,2,11,15],[12,1,13,1],[12,2,12,15],[13,2,13,15],[14,1,15,1],[14,2,14,15],[15,2,15,15],[16,1,17,1],[16,2,16,15],[17,2,17,15],[18,1,19,1],[18,2,18,15],[19,2,19,15],[20,2,20,15],[21,1,22,4],[21,5,22,8],[21,9,22,10],[21,11,22,15],[23,3,23,15],[24,3,24,15],[25,3,25,15],[26,6,26,7],[26,8,26,15],[27,3,27,15],[28,3,30,5],[28,6,30,8],[28,9,30,12],[28,13,30,15],[31,3,32,8],[31,9,32,12],[31,13,32,15],[33,1,34,6],[33,7,34,9],[33,10,34,15]]}
[]
[null,"मूल्यांकन अंकन सूची 2022-23 प्रोग्राम में आपका स्वागत है "]
[null,"करणीय कार्य"]
[null,"यह प्रोग्राम विशेषकर राजस्थान के सभी शिक्षा' विभाग के कर्मचारीगण हेतु सरल,सहज,एंव स्मार्ट तरीके से बनाया गया है"]
[null,1,"shaladarpan sheet"]
[null,null,"दोस्तों सबसे पहले आपके शाला दर्पण से student record detail को download करे एंव उसको A1 पर "]
[null,null,"कॉपी करके paste करे"]
[null,null,"आयकर स्लैब का चयन करे "]
[null,null,"कटौती में GPF,SIP,GPF LOAN,INCOMETAX इत्यादि की entry करे बाकी cell ऑटो जनरेट है BILL NO एंव TV NO MANUAL FEED करे"]
[null,2,"MARK slip sheets"]
[null,null," कक्षा एंव वर्ग को select करके Refresh button को दबाये आपकी list तैयार है"]
[null,null,"extra बॉक्स को select करके NO border करके print page select करके आगे पीछे ले सकते है"]
[null,3,"TAX CALCULATION"]
[null,null,"यह sheet भी लॉक है आप OLD TAX REGIME और NEW TAX REGIME में आपके लिए कोनसी BETTER है का चुनाव कर सकते है"]
[null,4,"OLD TAX REGIME "]
[null,null,"इस sheet में आयकर विभाग द्वारा जिस धारा की छूट GA 55 के अलावा है तो DARK cell में entry करे"]
[null,5,"NEW TAX REGIME "]
[null,null,"इस sheet में आयकर विभाग द्वारा 70% प्रकार की छूट नहीं है केवल NPS कर्मचारी अंशदान की छूट ले सकता है "]
[null,6,"PAY SLIP"]
[null,null,"यदि आपने GA55 कम्पलीट भर दिया है तो इसमें माह का चुनाव करके अपनी माहवार वेतन पर्ची print ले सकते है"]
[]
[null,"आपकी सुरक्षा ही मेरी उर्जा है अतः कोविड नियमो का पालन करे",{"$nulls":3},"आप मेरा youtube चैनल भी देख और SUBSCRIBE और LIKE कर सकते है",{"$nulls":5},"https://youtu.be/WsgbbOL0NQE"]
[]
[{"$nulls":3},"दोस्तों यह PROGRAMME आपको कैसा लगा मेरी MAIL ID पर जरुर बताये "]
[{"$nulls":3},"आपका विजय कुमार प्रजापत अध्यापक "]
[{"$nulls":3},"राजकीय उच्च माध्यमिक विद्यालय आलनियावास तह. रियां बड़ी जिला- नागौर "]
[{"$nulls":6},9828120697,null,"कृपया इस नम्बर पर केवल MASSAGE करे CALL नहीं करे"]
[{"$nulls":3},"मेरे प्रेरणास्रोत --- अश्विनीकुमारजी,किशन जी सेन,विष्णुजी शर्मा,,परमानन्द जी,हीरालाल जी जाट और आप"]
[{"$nulls":3},"कृपया मेरे अन्य सभी SOFTWARE एंव अन्य शैक्षिक उपयोगी जानकारी हेतु इन LINKS पर जाये",null,null,"http://www.rajsevak.com/VIJAY-KUMAR-PRAJAPAT-SOFTWARE/",null,null,"http://www.ashwinisharma.com/p/vijay-kumar-excel-sheet-expert.html",{"$nulls":3},"http://www.shalasugam.com/vijay-kumar-excel-expert/"]
[]
[]
[{"$nulls":9},"https://rajteacher.net/vijay-kumar-prajapat",{"$nulls":3},"यह software PC,LAPTOP एंव MOBILE पर भी USE कर सकते है मोबाइल में WPS जैसे APP हो एंव EDIT OPTION में प्रत्येक cell में entry करे"]
[]
[null,"KEEP YOUR FACE ALWAYS IN SUNSHINE",{"$nulls":5},"ANY SUGGESTION AND QUERY PLS CONTACT ME",null,null,"MAIL ID-  gupskalani@gmail.com"]

{"sheet":"SHALADARPAN","index":1,"n_rows":781,"n_cols":30,"rows_kept":781}
["Class","Section","SRNO","DOA","Name","Late Status","FatherName","MotherName","Gender","Dob","ClassRollNo","ExamRollNumber","School Total Working Days","Student Total Attendence","Category","Religion","Previous Year Marks","Name Of School","School UDise Code","Aadhar No of Student","Bhamashash Card","Mobile No Student(Father/Mother/Guardian","Student Permanent Address","Annual Parental Income","CWSN Status","BPL Status","Minority Status","Age On Present(In Years)","Co-Curricular Activity","Distance From School"]
[1,"A",4992,null,"Aaliya",null,"Kailash","Reshma","F","2016-04-07",null,null,4,null,"OBC",null,null,"GOVT. SENIOR SECONDARY SCHOOL ALNIYAWAS (219445)",8140200308,null,null,8619654499,"ALNIYAWAS,RIYAN BARI,ALNIYAWAS,341513",40000,"N","N","Yes",5,"None",1]
[1,"A",4914,null,"Aarju",null,"Kailash","Reshma Banu","F","2016-04-08",null,null,4,null,"OBC",null,null,"GOVT. SENIOR SECONDARY SCHOOL ALNIYAWAS (219445)",8140200308,null,null,8619654499,"ALNIYAWAS,RIYAN BARI,ALNIYAWAS,341514",40000,"N","N","Yes",5,"None",1]
[1,"A",5100,null,"Aarmin",null,"Kailash","Soniya Bano","F","2016-04-09",null,null,4,null,"OBC",null,null,"GOVT. SENIOR SECONDARY SCHOOL ALNIYAWAS (219445)",8140200308,null,null,8619654499,"ALNIYAWAS,RIYAN BARI,ALNIYAWAS,341515",null,"N","Y",null,5,null,1]
[1,"A",4913,null,"Aashmen",null,"Kailash","Haseena Banu","F","2016-04-10",null,null,4,null,"OBC",null,null,"GOVT. SENIOR SECONDARY SCHOOL ALNIYAWAS (219445)",8140200308,null,null,8619654499,"ALNIYAWAS,RIYAN BARI,ALNIYAWAS,341516",40000,"N","N","Yes",7,"None",1]
[1,"A",5075,null,"Aliya",null,"Kailash","Madina","F","2016-04-11",null,null,4,null,"OBC",null,null,"GOVT. SENIOR SECONDARY SCHOOL ALNIYAWAS (219445)",8140200308,null,null,8619654499,"ALNIYAWAS,RIYAN BARI,ALNIYAWAS,341517",50000,"N","N","Yes",5,"None",1]
[1,"A",4931,null,"Bheemraj",null,"Kailash","Seema Devi","M","2016-04-12",null,null,4,null,"OBC",null,null,"GOVT. SENIOR SECONDARY SCHOOL ALNIYAWAS (219445)",8140200308,null,null,8619654499,"ALNIYAWAS,RIYAN BARI,ALNIYAWAS,341518",90000,"N","N","No",5,"None",1]
[1,"A",4917,null,"Bilal",null,"Kailash","Seema Devi","M","2016-04-13",null,null,4,null,"OBC",null,null,"GOVT. SENIOR SECONDARY SCHOOL ALNIYAWAS (219445)",8140200308,null,null,8619654499,"ALNIYAWAS,RIYAN BARI,ALNIYAWAS,341519",25000,"N","N","No",5,"None",1]
[1,"A",5122,null,"Gulnaj Banu",null,"Kailash","Seema Devi","F","2016-04-14",null,null,4,null,"OBC",null,null,"GOVT. SENIOR SECONDARY SCHOOL ALNIYAWAS (219445)",8140200308,null,null,8619654499,"ALNIYAWAS,RIYAN BARI,ALNIYAWAS,341520",null,"N","Y",null,5,null,1]
[1,"A",4911,null,"Gunjan",null,"Kailash","Seema Devi","F","2016-04-15",null,null,4,null,"OBC",null,null,"GOVT. SENIOR SECONDARY SCHOOL ALNIYAWAS (219445)",8140200308,null,null,8619654499,"ALNIYAWAS,RIYAN BARI,ALNIYAWAS,341521",35000,"N","N","No",6,"None",1]
[1,"A",5076,null,"Jasmim",null,"Kailash","Seema Devi","F","2016-04-16",null,null,4,null,"OBC",null,null,"GOVT. SENIOR SECONDARY SCHOOL ALNIYAWAS (219445)",8140200308,null,null,8619654499,"ALNIYAWAS,RIYAN BARI,ALNIYAWAS,341522",40000,"N","N","No",7,"None",1]
[1,"A",4995,null,"Jyoti Dagdi",null,"Kailash","Seema Devi","F","2016-04-17",null,null,4,null,"OBC",null,null,"GOVT. SENIOR SECONDARY SCHOOL ALNIYAWAS (219445)",8140200308,null,null,8619654499,"ALNIYAWAS,RIYAN BARI,ALNIYAWAS,341523",50000,"N","N","No",6,"None",1]
[1,"A",4916,null,"Kalu Dagdi",null,"Kailash","Seema Devi","M","2016-04-18",null,null,4,null,"OBC",null,null,"GOVT. SENIOR SECONDARY SCHOOL ALNIYAWAS (219445)",8140200308,null,null,8619654499,"ALNIYAWAS,RIYAN BARI,ALNIYAWAS,341524",50000,"N","N","No",6,"None",1]
[1,"A",4920,null,"Khushanur Bano",null,"Kailash","Seema Devi","F","2016-04-19",null,null,4,null,"OBC",null,null,"GOVT. SENIOR SECONDARY SCHOOL ALNIYAWAS (219445)",8140200308,null,null,8619654499,"ALNIYAWAS,RIYAN BARI,ALNIYAWAS,341525",350000,"N","N","Yes",6,"None",1]
[1,"A",4915,null,"Komal Gurjar",null,"Kailash","Seema Devi","F","2016-04-20",null,null,4,null,"OBC",null,null,"GOVT. SENIOR SECONDARY SCHOOL ALNIYAWAS (219445)",8140200308,null,null,8619654499,"ALNIYAWAS,RIYAN BARI,ALNIYAWAS,341526",40000,"N","N","No",5,"None",1]
[1,"A",4918,null,"Lal Chand",null,"Kailash","Seema Devi","M","2016-04-21",null,null,4,null,"OBC",null,null,"GOVT. SENIOR SECONDARY SCHOOL ALNIYAWAS (219445)",8140200308,null,null,8619654499,"ALNIYAWAS,RIYAN BARI,ALNIYAWAS,341527",30000,"N","N","No",6,"None",1]
[1,"A",4945,null,"Mamtaj",null,"Kailash","Seema Devi","F","2016-04-22",null,null,4,null,"OBC",null,null,"GOVT. SENIOR SECONDARY SCHOOL ALNIYAWAS (219445)",8140200308,null,null,8619654499,"ALNIYAWAS,RIYAN BARI,ALNIYAWAS,341528",40000,"N","N","Yes",6,"None",1]
[1,"A",5102,null,"Mohammad Abbas",null,"Kailash","Seema Devi","M","2016-04-23",null,null,4,null,"OBC",null,null,"GOVT. SENIOR SECONDARY SCHOOL ALNIYAWAS (219445)",8140200308,null,null,8619654499,"ALNIYAWAS,RIYAN BARI,ALNIYAWAS,341529",null,"N","Y",null,5,null,1]
[1,"A",5107,null,"Mohammad Aman",null,"Kailash","Seema Devi","M","2016-04-24",null,null,4,null,"OBC",null,null,"GOVT. SENIOR SECONDARY SCHOOL ALNIYAWAS (219445)",8140200308,null,null,8619654499,"ALNIYAWAS,RIYAN BARI,ALNIYAWAS,341530",null,"N","Y",null,5,null,1]
[1,"A",4921,null,"Mohammad Arphin",null,"Kailash","Seema Devi","M","2016-04-25",null,null,4,null,"OBC",null,null,"GOVT. SENIOR SECONDARY SCHOOL ALNIYAWAS (219445)",8140200308,null,null,8619654499,"ALNIYAWAS,RIYAN BARI,ALNIYAWAS,341531",42000,"N","N","Yes",7,"None",1]
[1,"A",4932,null,"Mustafa",null,"Kailash","Seema Devi","M","2016-04-26",null,null,4,null,"OBC",null,null,"GOVT. SENIOR SECONDARY SCHOOL ALNIYAWAS (219445)",8140200308,null,null,8619654499,"ALNIYAWAS,RIYAN BARI,ALNIYAWAS,341532",40000,"N","N","Yes",6,"None",1]
[1,"A",4997,null,"Nenu Ram",null,"Kailash","Seema Devi","M","2016-04-27",null,null,4,null,"OBC",null,null,"GOVT. SENIOR SECONDARY SCHOOL ALNIYAWAS (219445)",8140200308,null,null,8619654499,"ALNIYAWAS,RIYAN BARI,ALNIYAWAS,341533",40000,"N","N","No",6,"None",1]
[1,"A",4910,null,"Raju",null,"Kailash","Seema Devi","M","2016-04-28",null,null,4,null,"OBC",null,null,"GOVT. SENIOR SECONDARY SCHOOL ALNIYAWAS (219445)",8140200308,null,null,8619654499,"ALNIYAWAS,RIYAN BARI,ALNIYAWAS,341534",30000,"N","N","Yes",7,"None",1]
[1,"A",5101,null,"Rehana Banu",null,"Kailash","Seema Devi","F","2016-04-29",null,null,4,null,"OBC",null,null,"GOVT. SENIOR SECONDARY SCHOOL ALNIYAWAS (219445)",8140200308,null,null,8619654499,"ALNIYAWAS,RIYAN BARI,ALNIYAWAS,341535",null,"N","Y",null,5,null,1]
[1,"A",4912,null,"Saina",null,"Kailash","Seema Devi","F","2016-04-30",null,null,4,null,"OBC",null,null,"GOVT. SENIOR SECONDARY SCHOOL ALNIYAWAS (219445)",8140200308,null,null,8619654499,"ALNIYAWAS,RIYAN BARI,ALNIYAWAS,341536",40000,"N","N","Yes",5,"None",1]
[1,"A",4944,null,"Sangeeta",null,"Kailash","Seema Devi","F","2016-05-01",null,null,4,null,"OBC",null,null,"GOVT. SENIOR SECONDARY SCHOOL ALNIYAWAS (219445)",8140200308,null,null,8619654499,"ALNIYAWAS,RIYAN BARI,ALNIYAWAS,341537",30000,"N","N","No",6,"None",1]
[1,"A",5123,null,"Sayna Banu",null,"Kailash","Seema Devi","F","2016-05-02",null,null,4,null,"OBC",null,null,"GOVT. SENIOR SECONDARY SCHOOL ALNIYAWAS (219445)",8140200308,null,null,8619654499,"ALNIYAWAS,RIYAN BARI,ALNIYAWAS,341538",null,"N","Y",null,8,null,1]
[1,"A",5124,null,"Shahid",null,"Kailash","Seema Devi","M","2016-05-03",null,null,4,null,"OBC",null,null,"GOVT. SENIOR SECONDARY SCHOOL ALNIYAWAS (219445)",8140200308,null,null,8619654499,"ALNIYAWAS,RIYAN BARI,ALNIYAWAS,341539",null,"N","Y",null,6,null,1]
[1,"A",4996,null,"Sivani",null,"Kailash","Seema Devi","F","2016-05-04",null,null,4,null,"OBC",null,null,"GOVT. SENIOR SECONDARY SCHOOL ALNIYAWAS (219445)",8140200308,null,null,8619654499,"ALNIYAWAS,RIYAN BARI,ALNIYAWAS,341540",40000,"N","N","No",5,"None",1]
[1,"A",4991,null,"Surta",null,"Kailash","Seema Devi","F","2016-05-05",null,null,4,null,"OBC",null,null,"GOVT. SENIOR SECONDARY SCHOOL ALNIYAWAS (219445)",8140200308,null,null,8619654499,"ALNIYAWAS,RIYAN BARI,ALNIYAWAS,341541",50000,"N","N","No",6,"None",1]
[1,"A",4993,null,"Tammna Aacharya",null,"Kailash","Seema Devi","F","2016-05-06",null,null,4,null,"OBC",null,null,"GOVT. SENIOR SECONDARY SCHOOL ALNIYAWAS (219445)",8140200308,null,null,8619654499,"ALNIYAWAS,RIYAN BARI,ALNIYAWAS,341542",40000,"N","N","No",6,"None",1]
[1,"A",5129,null,"Tanu",null,"Kailash","Seema Devi","F","2016-05-07",null,null,4,null,"OBC",null,null,"GOVT. SENIOR SECONDARY SCHOOL ALNIYAWAS (219445)",8140200308,null,null,8619654499,"ALNIYAWAS,RIYAN BARI,ALNIYAWAS,341543",null,"N","Y",null,6,null,1]
[1,"A",4933,null,"Yuvraj Acharya",null,"Kailash","Seema Devi","M","2016-05-08",null,null,4,null,"OBC",null,null,"GOVT. SENIOR SECONDARY SCHOOL ALNIYAWAS (219445)",8140200308,null,null,8619654499,"ALNIYAWAS,RIYAN BARI,ALNIYAWAS,341544",40000,"N","N","No",5,"None",1]
[2,"A",4858,null,"Aaliya Bano",null,"Kailash","Seema Devi","F","2016-05-09",null,null,4,null,"OBC",null,null,"GOVT. SENIOR SECONDARY SCHOOL ALNIYAWAS (219445)",8140200308,null,null,8619654499,"ALNIYAWAS,RIYAN BARI,ALNIYAWAS,341545",50000,"N","N","Yes",6,"None",1]
[2,"A",4863,null,"Abbas",null,"Kailash","Seema Devi","F","2016-05-10",null,null,4,null,"OBC",null,null,"GOVT. SENIOR SECONDARY SCHOOL ALNIYAWAS (219445)",8140200308,null,null,8619654499,"ALNIYAWAS,RIYAN BARI,ALNIYAWAS,341546",null,"N","Y",null,6,null,0]
[2,"A",4860,null,"Abhishek",null,"Kailash","Seema Devi","M","2016-05-11",null,null,4,null,"OBC",null,null,"GOVT. SENIOR SECONDARY SCHOOL ALNIYAWAS (219445)",8140200308,null,null,8619654499,"ALNIYAWAS,RIYAN BARI,ALNIYAWAS,341547",null,"N","Y",null,7,null,1]
[2,"A",4791,null,"Anita",null,"Kailash","Seema Devi","F","2016-05-12",null,null,4,null,"OBC",null,null,"GOVT. SENIOR SECONDARY SCHOOL ALNIYAWAS (219445)",8140200308,null,null,8619654499,"ALNIYAWAS,RIYAN BARI,ALNIYAWAS,341548",25000,"N","N","No",6,"None",1]
[2,"A",5113,null,"Asad Rajja",null,"Kailash","Seema Devi","M","2016-05-13",null,null,4,null,"OBC",null,null,"GOVT. SENIOR SECONDARY SCHOOL ALNIYAWAS (219445)",8140200308,null,null,8619654499,"ALNIYAWAS,RIYAN BARI,ALNIYAWAS,341549",null,"N","Y",null,7,null,1]
[2,"A",4864,null,"Aslam",null,"Kailash","Seema Devi","M","2016-05-14",null,null,4,null,"OBC",null,null,"GOVT. SENIOR SECONDARY SCHOOL ALNIYAWAS (219445)",8140200308,null,null,8619654499,"ALNIYAWAS,RIYAN BARI,ALNIYAWAS,341550",null,"N","Y",null,7,null,0]
[2,"A",4865,null,"Bushra",null,"Kailash","Seema Devi","F","2016-05-15",null,null,4,null,"OBC",null,null,"GOVT. SENIOR SECONDARY SCHOOL ALNIYAWAS (219445)",8140200308,null,null,8619654499,"ALNIYAWAS,RIYAN BARI,ALNIYAWAS,341551",null,"N","Y",null,6,null,0]
[2,"A",4795,null,"Harshita",null,"Kailash","Seema Devi","F","2016-05-16",null,null,4,null,"OBC",null,null,"GOVT. SENIOR SECONDARY SCHOOL ALNIYAWAS (219445)",8140200308,null,null,8619654499,"ALNIYAWAS,RIYAN BARI,ALNIYAWAS,341552",40000,"N","N","No",9,"None",1]
[2,"A",4793,null,"Imran",null,"Kailash","Seema Devi","M","2016-05-17",null,null,4,null,"OBC",null,null,"GOVT. SENIOR SECONDARY SCHOOL ALNIYAWAS (219445)",8140200308,null,null,8619654499,"ALNIYAWAS,RIYAN BARI,ALNIYAWAS,341553",40000,"N","N","Yes",8,"None",0]
[2,"A",4805,null,"Javed",null,"Kailash","Seema Devi","M","2016-05-18",null,null,4,null,"OBC",null,null,"GOVT. SENIOR SECONDARY SCHOOL ALNIYAWAS (219445)",8140200308,null,null,8619654499,"ALNIYAWAS,RIYAN BARI,ALNIYAWAS,341554",40000,"N","N","Yes",7,"None",0]
[2,"A",4790,null,"Kamal",null,"Kailash","Seema Devi","M","2016-05-19",null,null,4,null,"OBC",null,null,"GOVT. SENIOR SECONDARY SCHOOL ALNIYAWAS (219445)",8140200308,null,null,8619654499,"ALNIYAWAS,RIYAN BARI,ALNIYAWAS,341555",25000,"N","N","No",6,"None",1]
[2,"A",4788,null,"Kuldeep",null,"Kailash","Seema Devi","M","2016-05-20",null,null,4,null,"OBC",null,null,"GOVT. SENIOR SECONDARY SCHOOL ALNIYAWAS (219445)",8140200308,null,null,8619654499,"ALNIYAWAS,RIYAN BARI,ALNIYAWAS,341556",25000,"N","N","No",7,"None",1]
[2,"A",5031,null,"Mohit Nath",null,"Kailash","Seema Devi","M","2016-05-21",null,null,4,null,"OBC",null,null,"GOVT. SENIOR SECONDARY SCHOOL ALNIYAWAS (219445)",8140200308,null,null,8619654499,"ALNIYAWAS,RIYAN BARI,ALNIYAWAS,341557",40000,"N","N","No",6,"None",1]
[2,"A",4994,null,"Naveen Jangliya",null,"Kailash","Seema Devi","M","2016-05-22",null,null,4,null,"OBC",null,null,"GOVT. SENIOR SECONDARY SCHOOL ALNIYAWAS (219445)",8140200308,null,null,8619654499,"ALNIYAWAS,RIYAN BARI,ALNIYAWAS,341558",40000,"N","N","No",9,"None",1]
[2,"A",4789,null,"Om Prakash",null,"Kailash","Seema Devi","M","2016-05-23",null,null,4,null,"OBC",null,null,"GOVT. SENIOR SECONDARY SCHOOL ALNIYAWAS (219445)",8140200308,null,null,8619654499,"ALNIYAWAS,RIYAN BARI,ALNIYAWAS,341559",30000,"N","N","No",6,"None",1]
[2,"A",4859,null,"Parina",null,"Kailash","Seema Devi","F","2016-05-24",null,null,4,null,"OBC",null,null,"GOVT. SENIOR SECONDARY SCHOOL ALNIYAWAS (219445)",8140200308,null,null,8619654499,"ALNIYAWAS,RIYAN BARI,ALNIYAWAS,341560",50000,"N","N","Yes",6,"None",1]
[2,"A",4794,null,"Rahul",null,"Kailash","Seema Devi","M","2016-05-25",null,null,4,null,"OBC",null,null,"GOVT. SENIOR SECONDARY SCHOOL ALNIYAWAS (219445)",8140200308,null,null,8619654499,"ALNIYAWAS,RIYAN BARI,ALNIYAWAS,341561",40000,"N","N","No",7,"None",1]
[2,"A",4874,null,"Samina",null,"Kailash","Seema Devi","F","2016-05-26",null,null,4,null,"OBC",null,null,"GOVT. SENIOR SECONDARY SCHOOL ALNIYAWAS (219445)",8140200308,null,null,8619654499,"ALNIYAWAS,RIYAN BARI,ALNIYAWAS,341562",null,"N","Y",null,6,null,0]
[2,"A",4862,null,"Sayaba",null,"Kailash","Seema Devi","F","2016-05-27",null,null,4,null,"OBC",null,null,"GOVT. SENIOR SECONDARY SCHOOL ALNIYAWAS (219445)",8140200308,null,null,8619654499,"ALNIYAWAS,RIYAN BARI,ALNIYAWAS,341563",null,"N","Y",null,6,null,0]
[2,"A",4867,null,"Sayana",null,"Kailash","Seema Devi","F","2016-05-28",null,null,4,null,"OBC",null,null,"GOVT. SENIOR SECONDARY SCHOOL ALNIYAWAS (219445)",8140200308,null,null,8619654499,"ALNIYAWAS,RIYAN BARI,ALNIYAWAS,341564",null,"N","Y",null,6,null,0]
[2,"A",4869,null,"Seema Devi",null,"Kailash","Seema Devi","F","2016-05-29",null,null,4,null,"OBC",null,null,"GOVT. SENIOR SECONDARY SCHOOL ALNIYAWAS (219445)",8140200308,null,null,8619654499,"ALNIYAWAS,RIYAN BARI,ALNIYAWAS,341565",null,"N","Y",null,7,null,0]
[2,"A",4868,null,"Shabana",null,"Kailash","Seema Devi","F","2016-05-30",null,null,4,null,"OBC",null,null,"GOVT. SENIOR SECONDARY SCHOOL ALNIYAWAS (219445)",8140200308,null,null,8619654499,"ALNIYAWAS,RIYAN BARI,ALNIYAWAS,341566",null,"N","Y",null,9,null,0]
[2,"A",4803,null,"Shabir Huhain",null,"Kailash","Seema Devi","M","2016-05-31",null,null,4,null,"OBC",null,null,"GOVT. SENIOR SECONDARY SCHOOL ALNIYAWAS (219445)",8140200308,null,null,8619654499,"ALNIYAWAS,RIYAN BARI,ALNIYAWAS,341567",40000,"N","N","Yes",7,"None",1]
[2,"A",4807,null,"Shahiba Banu",null,"Kailash","Seema Devi","F","2016-06-01",null,null,4,null,"OBC",null,null,"GOVT. SENIOR SECONDARY SCHOOL ALNIYAWAS (219445)",8140200308,null,null,8619654499,"ALNIYAWAS,RIYAN BARI,ALNIYAWAS,341568",50000,"N","N","Yes",8,"None",1]
[2,"A",4870,null,"Shahnaz",null,"Kailash","Seema Devi","F","2016-06-02",null,null,4,null,"OBC",null,null,"GOVT. SENIOR SECONDARY SCHOOL ALNIYAWAS (219445)",8140200308,null,null,8619654499,"ALNIYAWAS,RIYAN BARI,ALNIYAWAS,341569",null,"N","Y",null,6,null,0]
[2,"A",4804,null,"Shalu Kanwar",null,"Kailash","Seema Devi","F","2016-06-03",null,null,4,null,"OBC",null,null,"GOVT. SENIOR SECONDARY SCHOOL ALNIYAWAS (219445)",8140200308,null,null,8619654499,"ALNIYAWAS,RIYAN BARI,ALNIYAWAS,341570",50000,"N","N","No",6,"None",1]
[2,"A",5127,null,"Shalu Kanwar",null,"Kailash","Seema Devi","F","2016-06-04",null,null,4,null,"OBC",null,null,"GOVT. SENIOR SECONDARY SCHOOL ALNIYAWAS (219445)",8140200308,null,null,8619654499,"ALNIYAWAS,RIYAN BARI,ALNIYAWAS,341571",null,"N","Y",null,6,null,1]
[2,"A",4806,null,"Sharif Mohmmed",null,"Kailash","Seema Devi","M","2016-06-05",null,null,4,null,"OBC",null,null,"GOVT. SENIOR SECONDARY SCHOOL ALNIYAWAS (219445)",8140200308,null,null,8619654499,"ALNIYAWAS,RIYAN BARI,ALNIYAWAS,341572",50000,"N","N","Yes",7,"None",0]
[2,"A",4872,null,"Sidarth Mali",null,"Kailash","Seema Devi","M","2016-06-06",null,null,4,null,"OBC",null,null,"GOVT. SENIOR SECONDARY SCHOOL ALNIYAWAS (219445)",8140200308,null,null,8619654499,"ALNIYAWAS,RIYAN BARI,ALNIYAWAS,341573",null,"N","Y",null,7,null,0]
[2,"A",4861,null,"Soni",null,"Kailash","Seema Devi","F","2016-06-07",null,null,4,null,"OBC",null,null,"GOVT. SENIOR SECONDARY SCHOOL ALNIYAWAS (219445)",8140200308,null,null,8619654499,"ALNIYAWAS,RIYAN BARI,ALNIYAWAS,341574",30000,"N","N","Yes",6,"None",1]
[3,"A",4718,null,"AAISHA BANO",null,"Kailash","Seema Devi","F","2016-06-08",null,null,4,null,"OBC",null,null,"GOVT. SENIOR SECONDARY SCHOOL ALNIYAWAS (219445)",8140200308,null,null,8619654499,"ALNIYAWAS,RIYAN BARI,ALNIYAWAS,341575",50000,"N","N","Yes",7,"None",0]
[3,"A",4729,null,"AARIF",null,"Kailash","Seema Devi","M","2016-06-09",null,null,4,null,"OBC",null,null,"GOVT. SENIOR SECONDARY SCHOOL ALNIYAWAS (219445)",8140200308,null,null,8619654499,"ALNIYAWAS,RIYAN BARI,ALNIYAWAS,341576",50000,"N","N","Yes",7,"None",0]
[3,"A",4630,null,"ALFIDA",null,"Kailash","Seema Devi","F","2016-06-10",null,null,4,null,"OBC",null,null,"GOVT. SENIOR SECONDARY SCHOOL ALNIYAWAS (219445)",8140200308,null,null,8619654499,"ALNIYAWAS,RIYAN BARI,ALNIYAWAS,341577",60000,"N","N","Yes",7,"None",0]
[3,"A",4676,null,"ALVEERA",null,"Kailash","Seema Devi","F","2016-06-11",null,null,4,null,"OBC",null,null,"GOVT. SENIOR SECONDARY SCHOOL ALNIYAWAS (219445)",8140200308,null,null,8619654499,"ALNIYAWAS,RIYAN BARI,ALNIYAWAS,341578",60000,"N","N","Yes",7,"None",0]
[3,"A",4710,null,"ANJALEE",null,"Kailash","Seema Devi","F","2016-06-12",null,null,4,null,"OBC",null,null,"GOVT. SENIOR SECONDARY SCHOOL ALNIYAWAS (219445)",8140200308,null,null,8619654499,"ALNIYAWAS,RIYAN BARI,ALNIYAWAS,341579",50000,"N","N","No",8,"None",1]
[3,"A",4628,null,"CHANCHAL",null,"Kailash","Seema Devi","F","2016-06-13",null,null,4,null,"OBC",null,null,"GOVT. SENIOR SECONDARY SCHOOL ALNIYAWAS (219445)",8140200308,null,null,8619654499,"ALNIYAWAS,RIYAN BARI,ALNIYAWAS,341580",50000,"N","N","No",7,"None",0]
[3,"A",5119,null,"Danish",null,"Kailash","Seema Devi","M","2016-06-14",null,null,4,null,"OBC",null,null,"GOVT. SENIOR SECONDARY SCHOOL ALNIYAWAS (219445)",8140200308,null,null,8619654499,"ALNIYAWAS,RIYAN BARI,ALNIYAWAS,341581",null,"N","Y",null,9,null,1]
[3,"A",4728,null,"GOVIND",null,"Kailash","Seema Devi","M","2016-06-15",null,null,4,null,"OBC",null,null,"GOVT. SENIOR SECONDARY SCHOOL ALNIYAWAS (219445)",8140200308,null,null,8619654499,"ALNIYAWAS,RIYAN BARI,ALNIYAWAS,341582",50000,"N","N","No",7,"None",0]
[3,"A",4695,null,"HAIDAR ALI",null,"Kailash","Seema Devi","M","2016-06-16",null,null,4,null,"OBC",null,null,"GOVT. SENIOR SECONDARY SCHOOL ALNIYAWAS (219445)",8140200308,null,null,8619654499,"ALNIYAWAS,RIYAN BARI,ALNIYAWAS,341583",60000,"N","N","Yes",7,"None",0]
[3,"A",4627,null,"KAVITA",null,"Kailash","Seema Devi","F","2016-06-17",null,null,4,null,"OBC",null,null,"GOVT. SENIOR SECONDARY SCHOOL ALNIYAWAS (219445)",8140200308,null,null,8619654499,"ALNIYAWAS,RIYAN BARI,ALNIYAWAS,341584",60000,"N","N","No",7,"None",0]
[3,"A",4711,null,"KHUSBU",null,"Kailash","Seema Devi","F","2016-06-18",null,null,4,null,"OBC",null,null,"GOVT. SENIOR SECONDARY SCHOOL ALNIYAWAS (219445)",8140200308,null,null,8619654499,"ALNIYAWAS,RIYAN BARI,ALNIYAWAS,341585",200000,"N","N","No",9,"None",1]
[3,"A",4787,null,"Komal",null,"Kailash","Seema Devi","F","2016-06-19",null,null,4,null,"OBC",null,null,"GOVT. SENIOR SECONDARY SCHOOL ALNIYAWAS (219445)",8140200308,null,null,8619654499,"ALNIYAWAS,RIYAN BARI,ALNIYAWAS,341586",25000,"N","N","No",9,"None",1]
[3,"A",5099,null,"Monika Saini",null,"Kailash","Seema Devi","F","2016-06-20",null,null,4,null,"OBC",null,null,"GOVT. SENIOR SECONDARY SCHOOL ALNIYAWAS (219445)",8140200308,null,null,8619654499,"ALNIYAWAS,RIYAN BARI,ALNIYAWAS,341587",null,"Y","N",null,9,"None",1]
[3,"A",4948,null,"Mukesh Vaishnav",null,"Kailash","Seema Devi","M","2016-06-21",null,null,4,null,"OBC",null,null,"GOVT. SENIOR SECONDARY SCHOOL ALNIYAWAS (219445)",8140200308,null,null,8619654499,"ALNIYAWAS,RIYAN BARI,ALNIYAWAS,341588",30000,"N","N","No",12,"None",1]
[3,"A",4642,null,"NIKIT BANU",null,"Kailash","Seema Devi","F","2016-06-22",null,null,4,null,"OBC",null,null,"GOVT. SENIOR SECONDARY SCHOOL ALNIYAWAS (219445)",8140200308,null,null,8619654499,"ALNIYAWAS,RIYAN BARI,ALNIYAWAS,341589",60000,"N","N","Yes",6,"None",0]
[3,"A",4738,null,"NISHA TAMBOLI",null,"Kailash","Seema Devi","F","2016-06-23",null,null,4,null,"OBC",null,null,"GOVT. SENIOR SECONDARY SCHOOL ALNIYAWAS (219445)",8140200308,null,null,8619654499,"ALNIYAWAS,RIYAN BARI,ALNIYAWAS,341590",50000,"N","N","No",8,"None",0]
[3,"A",4690,null,"RAJESH",null,"Kailash","Seema Devi","M","2016-06-24",null,null,4,null,"OBC",null,null,"GOVT. SENIOR SECONDARY SCHOOL ALNIYAWAS (219445)",8140200308,null,null,8619654499,"ALNIYAWAS,RIYAN BARI,ALNIYAWAS,341591",60000,"N","N","No",7,"None",0]
[3,"A",4957,null,"Ranveer Acharya",null,"Kailash","Seema Devi","M","2016-06-25",null,null,4,null,"OBC",null,null,"GOVT. SENIOR SECONDARY SCHOOL ALNIYAWAS (219445)",8140200308,null,null,8619654499,"ALNIYAWAS,RIYAN BARI,ALNIYAWAS,341592",40000,"N","N","No",7,"None",1]
[3,"A",4873,null,"Ravindra Saini",null,"Kailash","Seema Devi","M","2016-06-26",null,null,4,null,"OBC",null,null,"GOVT. SENIOR SECONDARY SCHOOL ALNIYAWAS (219445)",8140200308,null,null,8619654499,"ALNIYAWAS,RIYAN BARI,ALNIYAWAS,341593",40000,"N","N","No",7,"None",1]
[3,"A",5030,null,"Sachi Nath",null,"Kailash","Seema Devi","M","2016-06-27",null,null,4,null,"OBC",null,null,"GOVT. SENIOR SECONDARY SCHOOL ALNIYAWAS (219445)",8140200308,null,null,8619654499,"ALNIYAWAS,RIYAN BARI,ALNIYAWAS,341594",40000,"N","N","No",8,"None",1]
[3,"A",4626,null,"SAHEENA BANU",null,"Kailash","Seema Devi","F","2016-06-28",null,null,4,null,"OBC",null,null,"GOVT. SENIOR SECONDARY SCHOOL ALNIYAWAS (219445)",8140200308,null,null,8619654499,"ALNIYAWAS,RIYAN BARI,ALNIYAWAS,341595",60000,"N","N","Yes",7,"None",0]
[3,"A",4698,null,"SHEHJAD",null,"Kailash","Seema Devi","M","2016-06-29",null,null,4,null,"OBC",null,null,"GOVT. SENIOR SECONDARY SCHOOL ALNIYAWAS (219445)",8140200308,null,null,8619654499,"ALNIYAWAS,RIYAN BARI,ALNIYAWAS,341596",50000,"N","N","Yes",9,"None",1]
[3,"A",4633,null,"SIMRAN",null,"Kailash","Seema Devi","F","2016-06-30",null,null,4,null,"OBC",null,null,"GOVT. SENIOR SECONDARY SCHOOL ALNIYAWAS (219445)",8140200308,null,null,8619654499,"ALNIYAWAS,RIYAN BARI,ALNIYAWAS,341597",60000,"N","N","Yes",9,"None",0]
[3,"A",4780,null,"Sufiyan",null,"Kailash","Seema Devi","F","2016-07-01",null,null,4,null,"OBC",null,null,"GOVT. SENIOR SECONDARY SCHOOL ALNIYAWAS (219445)",8140200308,null,null,8619654499,"ALNIYAWAS,RIYAN BARI,ALNIYAWAS,341598",60000,"N","N","Yes",7,"None",0]
[3,"A",4949,null,"Viki",null,"Kailash","Seema Devi","M","2016-07-02",null,null,4,null,"OBC",null,null,"GOVT. SENIOR SECONDARY SCHOOL ALNIYAWAS (219445)",8140200308,null,null,8619654499,"ALNIYAWAS,RIYAN BARI,ALNIYAWAS,341599",30000,"N","N","No",10,"None",1]
[4,"A",5116,null,"Aasma",null,"Kailash","Seema Devi","F","2016-07-03",null,null,4,null,"OBC",null,null,"GOVT. SENIOR SECONDARY SCHOOL ALNIYAWAS (219445)",8140200308,null,null,8619654499,"ALNIYAWAS,RIYAN BARI,ALNIYAWAS,341600",null,"N","Y",null,8,null,1]
[4,"A",4522,null,"ALIYA BANO",null,"Kailash","Seema Devi","F","2016-07-04",null,null,4,null,"OBC",null,null,"GOVT. SENIOR SECONDARY SCHOOL ALNIYAWAS (219445)",8140200308,null,null,8619654499,"ALNIYAWAS,RIYAN BARI,ALNIYAWAS,341601",40000,"N","N","Yes",9,"None",1]
[4,"A",4620,null,"ASGAR",null,"Kailash","Seema Devi","M","2016-07-05",null,null,4,null,"OBC",null,null,"GOVT. SENIOR SECONDARY SCHOOL ALNIYAWAS (219445)",8140200308,null,null,8619654499,"ALNIYAWAS,RIYAN BARI,ALNIYAWAS,341602",40000,"N","N","Yes",9,"None",0]
[4,"A",4924,null,"Balotiya Naresh",null,"Kailash","Seema Devi","M","2016-07-06",null,null,4,null,"OBC",null,null,"GOVT. SENIOR SECONDARY SCHOOL ALNIYAWAS (219445)",8140200308,null,null,8619654499,"ALNIYAWAS,RIYAN BARI,ALNIYAWAS,341603",null,"N","Y",null,9,null,1]
[4,"A",4581,null,"BHRAT PARJAPAT",null,"Kailash","Seema Devi","M","2016-07-07",null,null,4,null,"OBC",null,null,"GOVT. SENIOR SECONDARY SCHOOL ALNIYAWAS (219445)",8140200308,null,null,8619654499,"ALNIYAWAS,RIYAN BARI,ALNIYAWAS,341604",36000,"N","N","No",9,"None",1]
[4,"A",4526,null,"HINA MIRASI",null,"Kailash","Seema Devi","F","2016-07-08",null,null,4,null,"OBC",null,null,"GOVT. SENIOR SECONDARY SCHOOL ALNIYAWAS (219445)",8140200308,null,null,8619654499,"ALNIYAWAS,RIYAN BARI,ALNIYAWAS,341605",40000,"N","N","Yes",9,"None",0]
[4,"A",4610,null,"ISANA",null,"Kailash","Seema Devi","F","2016-07-09",null,null,4,null,"OBC",null,null,"GOVT. SENIOR SECONDARY SCHOOL ALNIYAWAS (219445)",8140200308,null,null,8619654499,"ALNIYAWAS,RIYAN BARI,ALNIYAWAS,341606",40000,"N","N","Yes",8,"None",0]
[4,"A",4591,null,"JASMIN",null,"Kailash","Seema Devi","F","2016-07-10",null,null,4,null,"OBC",null,null,"GOVT. SENIOR SECONDARY SCHOOL ALNIYAWAS (219445)",8140200308,null,null,8619654499,"ALNIYAWAS,RIYAN BARI,ALNIYAWAS,341607",40000,"N","N","Yes",8,"None",0]
[4,"A",4520,null,"JOYA",null,"Kailash","Seema Devi","F","2016-07-11",null,null,4,null,"OBC",null,null,"GOVT. SENIOR SECONDARY SCHOOL ALNIYAWAS (219445)",8140200308,null,null,8619654499,"ALNIYAWAS,RIYAN BARI,ALNIYAWAS,341608",40000,"N","N","Yes",8,"None",0]
[4,"A",4480,null,"KOMAL",null,"Kailash","Seema Devi","F","2016-07-12",null,null,4,null,"OBC",null,null,"GOVT. SENIOR SECONDARY SCHOOL ALNIYAWAS (219445)",8140200308,null,null,8619654499,"ALNIYAWAS,RIYAN BARI,ALNIYAWAS,341609",40000,"N","N","No",9,"None",1]
[4,"A",4950,null,"Lakshay",null,"Kailash","Seema Devi","M","2016-07-13",null,null,4,null,"OBC",null,null,"GOVT. SENIOR SECONDARY SCHOOL ALNIYAWAS (219445)",8140200308,null,null,8619654499,"ALNIYAWAS,RIYAN BARI,ALNIYAWAS,341610",null,"N","Y",null,9,null,1]
[4,"A",4499,null,"MOH. BILAL",null,"Kailash","Seema Devi","M","2016-07-14",null,null,4,null,"OBC",null,null,"GOVT. SENIOR SECONDARY SCHOOL ALNIYAWAS (219445)",8140200308,null,null,8619654499,"ALNIYAWAS,RIYAN BARI,ALNIYAWAS,341611",40000,"N","N","Yes",11,"None",1]
[4,"A",4622,null,"MUBARAK",null,"Kailash","Seema Devi","M","2016-07-15",null,null,4,null,"OBC",null,null,"GOVT. SENIOR SECONDARY SCHOOL ALNIYAWAS (219445)",8140200308,null,null,8619654499,"ALNIYAWAS,RIYAN BARI,ALNIYAWAS,341612",36000,"N","N","Yes",9,"None",0]
[4,"A",4537,null,"NENOO RAM",null,"Kailash","Seema Devi","M","2016-07-16",null,null,4,null,"OBC",null,null,"GOVT. SENIOR SECONDARY SCHOOL ALNIYAWAS (219445)",8140200308,null,null,8619654499,"ALNIYAWAS,RIYAN BARI,ALNIYAWAS,341613",36000,"N","N","No",8,"None",1]
[4,"A",4565,null,"NIKUL RAIDAS",null,"Kailash","Seema Devi","M","2016-07-17",null,null,4,null,"OBC",null,null,"GOVT. SENIOR SECONDARY SCHOOL ALNIYAWAS (219445)",8140200308,null,null,8619654499,"ALNIYAWAS,RIYAN BARI,ALNIYAWAS,341614",36000,"N","N","No",9,"None",1]
[4,"A",4474,null,"PARVEENA BANO",null,"Kailash","Seema Devi","F","2016-07-18",null,null,4,null,"OBC",null,null,"GOVT. SENIOR SECONDARY SCHOOL ALNIYAWAS (219445)",8140200308,null,null,8619654499,"ALNIYAWAS,RIYAN BARI,ALNIYAWAS,341615",30000,"N","N","Yes",8,"None",0]
[4,"A",4478,null,"PAYAL ACHARY",null,"Kailash","Seema Devi","F","2016-07-19",null,null,4,null,"OBC",null,null,"GOVT. SENIOR SECONDARY SCHOOL ALNIYAWAS (219445)",8140200308,null,null,8619654499,"ALNIYAWAS,RIYAN BARI,ALNIYAWAS,341616",50000,"N","N","No",9,"None",0]
[4,"A",4727,null,"RINKU MALI",null,"Kailash","Seema Devi","F","2016-07-20",null,null,4,null,"OBC",null,null,"GOVT. SENIOR SECONDARY SCHOOL ALNIYAWAS (219445)",8140200308,null,null,8619654499,"ALNIYAWAS,RIYAN BARI,ALNIYAWAS,341617",60000,"N","N","No",8,"None",0]
[4,"A",4601,null,"RITU",null,"Kailash","Seema Devi","F","2016-07-21",null,null,4,null,"OBC",null,null,"GOVT. SENIOR SECONDARY SCHOOL ALNIYAWAS (219445)",8140200308,null,null,8619654499,"ALNIYAWAS,RIYAN BARI,ALNIYAWAS,341618",36000,"N","N","No",9,"None",0]
[4,"A",4521,null,"RIYAN ALI",null,"Kailash","Seema Devi","M","2016-07-22",null,null,4,null,"OBC",null,null,"GOVT. SENIOR SECONDARY SCHOOL ALNIYAWAS (219445)",8140200308,null,null,8619654499,"ALNIYAWAS,RIYAN BARI,ALNIYAWAS,341619",40000,"N","N","Yes",8,"None",0]
[4,"A",4473,null,"RUSTAM",null,"Kailash","Seema Devi","M","2016-07-23",null,null,4,null,"OBC",null,null,"GOVT. SENIOR SECONDARY SCHOOL ALNIYAWAS (219445)",8140200308,null,null,8619654499,"ALNIYAWAS,RIYAN BARI,ALNIYAWAS,341620",40000,"N","N","Yes",9,"None",1]
[4,"A",4475,null,"SAJEEDA BANU",null,"Kailash","Seema Devi","F","2016-07-24",null,null,4,null,"OBC",null,null,"GOVT. SENIOR SECONDARY SCHOOL ALNIYAWAS (219445)",8140200308,null,null,8619654499,"ALNIYAWAS,RIYAN BARI,ALNIYAWAS,341621",40000,"N","N","Yes",9,"None",0]
[4,"A",4611,null,"SHABEENA",null,"Kailash","Seema Devi","F","2016-07-25",null,null,4,null,"OBC",null,null,"GOVT. SENIOR SECONDARY SCHOOL ALNIYAWAS (219445)",8140200308,null,null,8619654499,"ALNIYAWAS,RIYAN BARI,ALNIYAWAS,341622",40000,"N","N","Yes",9,"None",0]
[4,"A",4694,null,"SHAHNVAJ",null,"Kailash","Seema Devi","M","2016-07-26",null,null,4,null,"OBC",null,null,"GOVT. SENIOR SECONDARY SCHOOL ALNIYAWAS (219445)",8140200308,null,null,8619654499,"ALNIYAWAS,RIYAN BARI,ALNIYAWAS,341623",60000,"N","N","Yes",11,"None",0]
[4,"A",4527,null,"SHAKIL",null,"Kailash","Seema Devi","M","2016-07-27",null,null,4,null,"OBC",null,null,"GOVT. SENIOR SECONDARY SCHOOL ALNIYAWAS (219445)",8140200308,null,null,8619654499,"ALNIYAWAS,RIYAN BARI,ALNIYAWAS,341624",40000,"N","N","Yes",8,"None",0]
[4,"A",4538,null,"SHYAMLAL",null,"Kailash","Seema Devi","M","2016-07-28",null,null,4,null,"OBC",null,null,"GOVT. SENIOR SECONDARY SCHOOL ALNIYAWAS (219445)",8140200308,null,null,8619654499,"ALNIYAWAS,RIYAN BARI,ALNIYAWAS,341625",40000,"N","N","No",8,"None",2]
[4,"A",4497,null,"SIMARAN",null,"Kailash","Seema Devi","F","2016-07-29",null,null,4,null,"OBC",null,null,"GOVT. SENIOR SECONDARY SCHOOL ALNIYAWAS (219445)",8140200308,null,null,8619654499,"ALNIYAWAS,RIYAN BARI,ALNIYAWAS,341626",36000,"N","N","Yes",9,"None",1]
[4,"A",4700,null,"SUKHDEV BAWARI",null,"Kailash","Seema Devi","M","2016-07-30",null,null,4,null,"OBC",null,null,"GOVT. SENIOR SECONDARY SCHOOL ALNIYAWAS (219445)",8140200308,null,null,8619654499,"ALNIYAWAS,RIYAN BARI,ALNIYAWAS,341627",60000,"N","N","No",9,"None",0]
[4,"A",4691,null,"SUMAN",null,"Kailash","Seema Devi","F","2016-07-31",null,null,4,null,"OBC",null,null,"GOVT. SENIOR SECONDARY SCHOOL ALNIYAWAS (219445)",8140200308,null,null,8619654499,"ALNIYAWAS,RIYAN BARI,ALNIYAWAS,341628",60000,"N","N","No",8,"None",1]
[4,"A",4621,null,"USRA",null,"Kailash","Seema Devi","F","2016-08-01",null,null,4,null,"OBC",null,null,"GOVT. SENIOR SECONDARY SCHOOL ALNIYAWAS (219445)",8140200308,null,null,8619654499,"ALNIYAWAS,RIYAN BARI,ALNIYAWAS,341629",40000,"N","N","Yes",9,"None",0]
[4,"A",4750,null,"VINOD",null,"Kailash","Seema Devi","M","2016-08-02",null,null,4,null,"OBC",null,null,"GOVT. SENIOR SECONDARY SCHOOL ALNIYAWAS (219445)",8140200308,null,null,8619654499,"ALNIYAWAS,RIYAN BARI,ALNIYAWAS,341630",60000,"N","N","No",10,"None",0]
[4,"A",4477,null,"VINOD RAVAL",null,"Kailash","Seema Devi","M","2016-08-03",null,null,4,null,"OBC",null,null,"GOVT. SENIOR SECONDARY SCHOOL ALNIYAWAS (219445)",8140200308,null,null,8619654499,"ALNIYAWAS,RIYAN BARI,ALNIYAWAS,341631",40000,"N","N","No",9,"None",1]
[5,"A",4367,null,"ANILA",null,"Kailash","Seema Devi","F","2016-08-04",null,null,4,null,"OBC",null,null,"GOVT. SENIOR SECONDARY SCHOOL ALNIYAWAS (219445)",8140200308,null,null,8619654499,"ALNIYAWAS,RIYAN BARI,ALNIYAWAS,341632",35000,"N","N","Yes",9,"None",1]
[5,"A",4277,null,"ANNU",null,"Kailash","Seema Devi","F","2016-08-05",null,null,4,null,"OBC",null,null,"GOVT. SENIOR SECONDARY SCHOOL ALNIYAWAS (219445)",8140200308,null,null,8619654499,"ALNIYAWAS,RIYAN BARI,ALNIYAWAS,341633",48000,"N","N",null,11,"None",1]
[5,"A",4370,null,"ARMAN",null,"Kailash","Seema Devi","M","2016-08-06",null,null,4,null,"OBC",null,null,"GOVT. SENIOR SECONDARY SCHOOL ALNIYAWAS (219445)",8140200308,null,null,8619654499,"ALNIYAWAS,RIYAN BARI,ALNIYAWAS,341634",40000,"N","N","Yes",10,"None",1]
[5,"A",5036,null,"BULBUL JANGLIYA",null,"Kailash","Seema Devi","F","2016-08-07",null,null,4,null,"OBC",null,null,"GOVT. SENIOR SECONDARY SCHOOL ALNIYAWAS (219445)",8140200308,null,null,8619654499,"ALNIYAWAS,RIYAN BARI,ALNIYAWAS,341635",25000,"N","N","No",10,"None",1]
[5,"A",4673,null,"FARUKH",null,"Kailash","Seema Devi","M","2016-08-08",null,null,4,null,"OBC",null,null,"GOVT. SENIOR SECONDARY SCHOOL ALNIYAWAS (219445)",8140200308,null,null,8619654499,"ALNIYAWAS,RIYAN BARI,ALNIYAWAS,341636",60000,"Y","N","Yes",11,"None",0]
[5,"A",4431,null,"FATMA BANU",null,"Kailash","Seema Devi","F","2016-08-09",null,null,4,null,"OBC",null,null,"GOVT. SENIOR SECONDARY SCHOOL ALNIYAWAS (219445)",8140200308,null,null,8619654499,"ALNIYAWAS,RIYAN BARI,ALNIYAWAS,341637",30000,"N","N","Yes",9,"None",1]
[5,"A",4433,null,"GOPAL",null,"Kailash","Seema Devi","M","2016-08-10",null,null,4,null,"OBC",null,null,"GOVT. SENIOR SECONDARY SCHOOL ALNIYAWAS (219445)",8140200308,null,null,8619654499,"ALNIYAWAS,RIYAN BARI,ALNIYAWAS,341638",50000,"N","N","No",9,"None",1]
[5,"A",4337,null,"KAUSHAR BANU",null,"Kailash","Seema Devi","F","2016-08-11",null,null,4,null,"OBC",null,null,"GOVT. SENIOR SECONDARY SCHOOL ALNIYAWAS (219445)",8140200308,null,null,8619654499,"ALNIYAWAS,RIYAN BARI,ALNIYAWAS,341639",0,"N","N","Yes",11,"None",1]
[5,"A",5118,null,"Khushi Kanwar",null,"Kailash","Seema Devi","F","2016-08-12",null,null,4,null,"OBC",null,null,"GOVT. SENIOR SECONDARY SCHOOL ALNIYAWAS (219445)",8140200308,null,null,8619654499,"ALNIYAWAS,RIYAN BARI,ALNIYAWAS,341640",null,"N","Y",null,10,null,1]
[5,"A",5128,null,"Krishna Vaishnav",null,"Kailash","Seema Devi","M","2016-08-13",null,null,4,null,"OBC",null,null,"GOVT. SENIOR SECONDARY SCHOOL ALNIYAWAS (219445)",8140200308,null,null,8619654499,"ALNIYAWAS,RIYAN BARI,ALNIYAWAS,341641",null,"N","Y",null,10,null,1]
[5,"A",4438,null,"LAKHI RAM",null,"Kailash","Seema Devi","M","2016-08-14",null,null,4,null,"OBC",null,null,"GOVT. SENIOR SECONDARY SCHOOL ALNIYAWAS (219445)",8140200308,null,null,8619654499,"ALNIYAWAS,RIYAN BARI,ALNIYAWAS,341642",0,"N","N","No",14,"None",1]
[5,"A",4500,null,"LALITA",null,"Kailash","Seema Devi","F","2016-08-15",null,null,4,null,"OBC",null,null,"GOVT. SENIOR SECONDARY SCHOOL ALNIYAWAS (219445)",8140200308,null,null,8619654499,"ALNIYAWAS,RIYAN BARI,ALNIYAWAS,341643",40000,"N","N","No",10,"None",3]
[5,"A",4439,null,"MAMTA",null,"Kailash","Seema Devi","F","2016-08-16",null,null,4,null,"OBC",null,null,"GOVT. SENIOR SECONDARY SCHOOL ALNIYAWAS (219445)",8140200308,null,null,8619654499,"ALNIYAWAS,RIYAN BARI,ALNIYAWAS,341644",400000,"N","N","No",10,"None",1]
[5,"A",4368,null,"MANAVI",null,"Kailash","Seema Devi","F","2016-08-17",null,null,4,null,"OBC",null,null,"GOVT. SENIOR SECONDARY SCHOOL ALNIYAWAS (219445)",8140200308,null,null,8619654499,"ALNIYAWAS,RIYAN BARI,ALNIYAWAS,341645",35000,"Y","N","Yes",9,"None",1]
[5,"A",4335,null,"MARIYAM",null,"Kailash","Seema Devi","F","2016-08-18",null,null,4,null,"OBC",null,null,"GOVT. SENIOR SECONDARY SCHOOL ALNIYAWAS (219445)",8140200308,null,null,8619654499,"ALNIYAWAS,RIYAN BARI,ALNIYAWAS,341646",0,"N","N","Yes",13,"None",1]
[5,"A",4333,null,"MATIYA DEVI",null,"Kailash","Seema Devi","F","2016-08-19",null,null,4,null,"OBC",null,null,"GOVT. SENIOR SECONDARY SCHOOL ALNIYAWAS (219445)",8140200308,null,null,8619654499,"ALNIYAWAS,RIYAN BARI,ALNIYAWAS,341647",0,"N","N","No",9,"None",1]
[5,"A",5115,null,"Mohammad Bilala",null,"Kailash","Seema Devi","M","2016-08-20",null,null,4,null,"OBC",null,null,"GOVT. SENIOR SECONDARY SCHOOL ALNIYAWAS (219445)",8140200308,null,null,8619654499,"ALNIYAWAS,RIYAN BARI,ALNIYAWAS,341648",null,"N","Y",null,9,null,1]
[5,"A",4925,null,"Nafish Razza",null,"Kailash","Seema Devi","M","2016-08-21",null,null,4,null,"OBC",null,null,"GOVT. SENIOR SECONDARY SCHOOL ALNIYAWAS (219445)",8140200308,null,null,8619654499,"ALNIYAWAS,RIYAN BARI,ALNIYAWAS,341649",null,"N","Y",null,10,null,1]
[5,"A",4371,null,"NASEEM BANU",null,"Kailash","Seema Devi","F","2016-08-22",null,null,4,null,"OBC",null,null,"GOVT. SENIOR SECONDARY SCHOOL ALNIYAWAS (219445)",8140200308,null,null,8619654499,"ALNIYAWAS,RIYAN BARI,ALNIYAWAS,341650",35000,"N","N","No",10,"None",1]
[5,"A",5035,null,"NAVEEN JANGLIYA",null,"Kailash","Seema Devi","M","2016-08-23",null,null,4,null,"OBC",null,null,"GOVT. SENIOR SECONDARY SCHOOL ALNIYAWAS (219445)",8140200308,null,null,8619654499,"ALNIYAWAS,RIYAN BARI,ALNIYAWAS,341651",25000,"N","N","No",9,"None",2]
[5,"A",5013,null,"Navya Vaishnav",null,"Kailash","Seema Devi","F","2016-08-24",null,null,4,null,"OBC",null,null,"GOVT. SENIOR SECONDARY SCHOOL ALNIYAWAS (219445)",8140200308,null,null,8619654499,"ALNIYAWAS,RIYAN BARI,ALNIYAWAS,341652",null,"N","Y",null,9,null,1]
[5,"A",4857,null,"Naziya",null,"Kailash","Seema Devi","F","2016-08-25",null,null,4,null,"OBC",null,null,"GOVT. SENIOR SECONDARY SCHOOL ALNIYAWAS (219445)",8140200308,null,null,8619654499,"ALNIYAWAS,RIYAN BARI,ALNIYAWAS,341653",null,"N","Y",null,8,null,1]
[5,"A",4283,null,"NISHA",null,"Kailash","Seema Devi","F","2016-08-26",null,null,4,null,"OBC",null,null,"GOVT. SENIOR SECONDARY SCHOOL ALNIYAWAS (219445)",8140200308,null,null,8619654499,"ALNIYAWAS,RIYAN BARI,ALNIYAWAS,341654",48000,"N","N","No",9,"None",1]
[5,"A",4955,null,"Nitesh Acharya",null,"Kailash","Seema Devi","M","2016-08-27",null,null,4,null,"OBC",null,null,"GOVT. SENIOR SECONDARY SCHOOL ALNIYAWAS (219445)",8140200308,null,null,8619654499,"ALNIYAWAS,RIYAN BARI,ALNIYAWAS,341655",null,"N","Y",null,11,null,1]
[5,"A",4326,null,"OMARAM",null,"Kailash","Seema Devi","M","2016-08-28",null,null,4,null,"OBC",null,null,"GOVT. SENIOR SECONDARY SCHOOL ALNIYAWAS (219445)",8140200308,null,null,8619654499,"ALNIYAWAS,RIYAN BARI,ALNIYAWAS,341656",0,"N","N",null,9,"None",1]
[5,"A",4699,null,"RAKESH BAWARI",null,"Kailash","Seema Devi","M","2016-08-29",null,null,4,null,"OBC",null,null,"GOVT. SENIOR SECONDARY SCHOOL ALNIYAWAS (219445)",8140200308,null,null,8619654499,"ALNIYAWAS,RIYAN BARI,ALNIYAWAS,341657",60000,"N","N","No",11,"None",0]
[5,"A",5014,null,"Rashika Vaishnav",null,"Kailash","Seema Devi","F","2016-08-30",null,null,4,null,"OBC",null,null,"GOVT. SENIOR SECONDARY SCHOOL ALNIYAWAS (219445)",8140200308,null,null,8619654499,"ALNIYAWAS,RIYAN BARI,ALNIYAWAS,341658",null,"N","Y",null,11,null,1]
[5,"A",4336,null,"RESHAMA BANU",null,"Kailash","Seema Devi","F","2016-08-31",null,null,4,null,"OBC",null,null,"GOVT. SENIOR SECONDARY SCHOOL ALNIYAWAS (219445)",8140200308,null,null,8619654499,"ALNIYAWAS,RIYAN BARI,ALNIYAWAS,341659",0,"N","N","Yes",12,"None",1]
[5,"A",4276,null,"ROHIT TAMBOLI",null,"Kailash","Seema Devi","M","2016-09-01",null,null,4,null,"OBC",null,null,"GOVT. SENIOR SECONDARY SCHOOL ALNIYAWAS (219445)",8140200308,null,null,8619654499,"ALNIYAWAS,RIYAN BARI,ALNIYAWAS,341660",35000,"N","N","No",9,"None",1]
[5,"A",4324,null,"RUKSANA MIRASI",null,"Kailash","Seema Devi","F","2016-09-02",null,null,4,null,"OBC",null,null,"GOVT. SENIOR SECONDARY SCHOOL ALNIYAWAS (219445)",8140200308,null,null,8619654499,"ALNIYAWAS,RIYAN BARI,ALNIYAWAS,341661",0,"N","N","Yes",10,"None",1]
[5,"A",5023,null,"Sahil",null,"Kailash","Seema Devi","M","2016-09-03",null,null,4,null,"OBC",null,null,"GOVT. SENIOR SECONDARY SCHOOL ALNIYAWAS (219445)",8140200308,null,null,8619654499,"ALNIYAWAS,RIYAN BARI,ALNIYAWAS,341662",null,"N","Y",null,10,null,1]
[5,"A",4339,null,"SAMEER ALI",null,"Kailash","Seema Devi","M","2016-09-04",null,null,4,null,"OBC",null,null,"GOVT. SENIOR SECONDARY SCHOOL ALNIYAWAS (219445)",8140200308,null,null,8619654499,"ALNIYAWAS,RIYAN BARI,ALNIYAWAS,341663",35000,"N","N","Yes",11,"None",1]
[5,"A",4325,null,"SANJU DEVI",null,"Kailash","Seema Devi","F","2016-09-05",null,null,4,null,"OBC",null,null,"GOVT. SENIOR SECONDARY SCHOOL ALNIYAWAS (219445)",8140200308,null,null,8619654499,"ALNIYAWAS,RIYAN BARI,ALNIYAWAS,341664",0,"N","N","No",10,"None",1]
[5,"A",4435,null,"SHABANA",null,"Kailash","Seema Devi","F","2016-09-06",null,null,4,null,"OBC",null,null,"GOVT. SENIOR SECONDARY SCHOOL ALNIYAWAS (219445)",8140200308,null,null,8619654499,"ALNIYAWAS,RIYAN BARI,ALNIYAWAS,341665",0,"N","N","Yes",10,"None",1]
[5,"A",4419,null,"SHAHILSYA",null,"Kailash","Seema Devi","M","2016-09-07",null,null,4,null,"OBC",null,null,"GOVT. SENIOR SECONDARY SCHOOL ALNIYAWAS (219445)",8140200308,null,null,8619654499,"ALNIYAWAS,RIYAN BARI,ALNIYAWAS,341666",35000,"N","N","Yes",10,"None",1]
[5,"A",4437,null,"SHAHNAWAZ",null,"Kailash","Seema Devi","M","2016-09-08",null,null,4,null,"OBC",null,null,"GOVT. SENIOR SECONDARY SCHOOL ALNIYAWAS (219445)",8140200308,null,null,8619654499,"ALNIYAWAS,RIYAN BARI,ALNIYAWAS,341667",35000,"N","N","Yes",9,"None",1]
[5,"A",4369,null,"SHAKIL",null,"Kailash","Seema Devi","M","2016-09-09",null,null,4,null,"OBC",null,null,"GOVT. SENIOR SECONDARY SCHOOL ALNIYAWAS (219445)",8140200308,null,null,8619654499,"ALNIYAWAS,RIYAN BARI,ALNIYAWAS,341668",50000,"N","N","Yes",9,"None",1]
[5,"A",4275,null,"SHALIGRAM",null,"Kailash","Seema Devi","M","2016-09-10",null,null,4,null,"OBC",null,null,"GOVT. SENIOR SECONDARY SCHOOL ALNIYAWAS (219445)",8140200308,null,null,8619654499,"ALNIYAWAS,RIYAN BARI,ALNIYAWAS,341669",48000,"N","N","No",10,"None",1]
[5,"A",4434,null,"SIMRAN",null,"Kailash","Seema Devi","F","2016-09-11",null,null,4,null,"OBC",null,null,"GOVT. SENIOR SECONDARY SCHOOL ALNIYAWAS (219445)",8140200308,null,null,8619654499,"ALNIYAWAS,RIYAN BARI,ALNIYAWAS,341670",42000,"N","N","Yes",9,"None",0]
[5,"A",4436,null,"SUFIYA BANU",null,"Kailash","Seema Devi","F","2016-09-12",null,null,4,null,"OBC",null,null,"GOVT. SENIOR SECONDARY SCHOOL ALNIYAWAS (219445)",8140200308,null,null,8619654499,"ALNIYAWAS,RIYAN BARI,ALNIYAWAS,341671",35000,"N","N","Yes",9,"None",1]
[5,"A",4930,null,"Sumitra Jangliya",null,"Kailash","Seema Devi","F","2016-09-13",null,null,4,null,"OBC",null,null,"GOVT. SENIOR SECONDARY SCHOOL ALNIYAWAS (219445)",8140200308,null,null,8619654499,"ALNIYAWAS,RIYAN BARI,ALNIYAWAS,341672",null,"N","Y",null,11,null,1]
[5,"A",4929,null,"Sushil Acharya",null,"Kailash","Seema Devi","M","2016-09-14",null,null,4,null,"OBC",null,null,"GOVT. SENIOR SECONDARY SCHOOL ALNIYAWAS (219445)",8140200308,null,null,8619654499,"ALNIYAWAS,RIYAN BARI,ALNIYAWAS,341673",null,"N","Y",null,10,null,1]
[5,"A",4940,null,"Tamanna",null,"Kailash","Seema Devi","F","2016-09-15",null,null,4,null,"OBC",null,null,"GOVT. SENIOR SECONDARY SCHOOL ALNIYAWAS (219445)",8140200308,null,null,8619654499,"ALNIYAWAS,RIYAN BARI,ALNIYAWAS,341674",null,"N","Y",null,11,null,1]
[5,"A",4432,null,"TAMNNA",null,"Kailash","Seema Devi","F","2016-09-16",null,null,4,null,"OBC",null,null,"GOVT. SENIOR SECONDARY SCHOOL ALNIYAWAS (219445)",8140200308,null,null,8619654499,"ALNIYAWAS,RIYAN BARI,ALNIYAWAS,341675",48000,"N","N","Yes",9,"None",0]
[5,"A",4307,null,"TASLIMA",null,"Kailash","Seema Devi","F","2016-09-17",null,null,4,null,"OBC",null,null,"GOVT. SENIOR SECONDARY SCHOOL ALNIYAWAS (219445)",8140200308,null,null,8619654499,"ALNIYAWAS,RIYAN BARI,ALNIYAWAS,341676",0,"N","N","Yes",9,"None",1]
[5,"A",4323,null,"TIKAM","Late","Kailash","Seema Devi","M","2016-09-18",null,null,4,null,"OBC",null,null,"GOVT. SENIOR SECONDARY SCHOOL ALNIYAWAS (219445)",8140200308,null,null,8619654499,"ALNIYAWAS,RIYAN BARI,ALNIYAWAS,341677",20000,"N","N","No",12,"None",1]
[5,"A",4338,null,"VASEEM",null,"Kailash","Seema Devi","M","2016-09-19",null,null,4,null,"OBC",null,null,"GOVT. SENIOR SECONDARY SCHOOL ALNIYAWAS (219445)",8140200308,null,null,8619654499,"ALNIYAWAS,RIYAN BARI,ALNIYAWAS,341678",0,"N","N",null,10,"None",1]
[5,"A",4956,null,"Vikas Acharya",null,"Kailash","Seema Devi","M","2016-09-20",null,null,4,null,"OBC",null,null,"GOVT. SENIOR SECONDARY SCHOOL ALNIYAWAS (219445)",8140200308,null,null,8619654499,"ALNIYAWAS,RIYAN BARI,ALNIYAWAS,341679",null,"N","Y",null,10,null,1]
[6,"A",4988,null,"Abid Husain",null,"Kailash","Seema Devi","M","2016-09-21",601,null,10,null,"OBC",null,null,"GOVT. SENIOR SECONDARY SCHOOL ALNIYAWAS (219445)",8140200308,null,null,8619654499,"ALNIYAWAS,RIYAN BARI,ALNIYAWAS,341680",50000,"N","N","Yes",11,"None",1]
[6,"A",4290,null,"ALVEERA BANU",null,"Kailash","Seema Devi","F","2016-09-22",602,null,10,null,"OBC",null,null,"GOVT. SENIOR SECONDARY SCHOOL ALNIYAWAS (219445)",8140200308,null,null,8619654499,"ALNIYAWAS,RIYAN BARI,ALNIYAWAS,341681",35000,"N","N","Yes",11,"None",1]
[6,"A",4304,null,"AMIT SHARMA",null,"Kailash","Seema Devi","M","2016-09-23",603,null,10,null,"OBC",null,null,"GOVT. SENIOR SECONDARY SCHOOL ALNIYAWAS (219445)",8140200308,null,null,8619654499,"ALNIYAWAS,RIYAN BARI,ALNIYAWAS,341682",40000,"N","N","No",16,"None",1]
[6,"A",4976,null,"ANIL SAINI",null,"Kailash","Seema Devi","M","2016-09-24",604,null,10,null,"OBC",null,null,"GOVT. SENIOR SECONDARY SCHOOL ALNIYAWAS (219445)",8140200308,null,null,8619654499,"ALNIYAWAS,RIYAN BARI,ALNIYAWAS,341683",45000,"N","N","No",11,"None",1.5]
[6,"A",4246,null,"ARBAZ AHMAD",null,"Kailash","Seema Devi","M","2016-09-25",605,null,10,null,"OBC",null,null,"GOVT. SENIOR SECONDARY SCHOOL ALNIYAWAS (219445)",8140200308,null,null,8619654499,"ALNIYAWAS,RIYAN BARI,ALNIYAWAS,341684",0,"N","N","Yes",11,"None",1]
[6,"A",4740,null,"Arjun Shingh",null,"Kailash","Seema Devi","M","2016-09-26",606,null,10,null,"OBC",null,null,"GOVT. SENIOR SECONDARY SCHOOL ALNIYAWAS (219445)",8140200308,null,null,8619654499,"ALNIYAWAS,RIYAN BARI,ALNIYAWAS,341685",50000,"N","N","No",12,"None",1]
[6,"A",4193,null,"ARMAN",null,"Kailash","Seema Devi","M","2016-09-27",607,null,10,null,"OBC",null,null,"GOVT. SENIOR SECONDARY SCHOOL ALNIYAWAS (219445)",8140200308,null,null,8619654499,"ALNIYAWAS,RIYAN BARI,ALNIYAWAS,341686",0,"N","N",null,11,"None",0]
[6,"A",5085,null,"Asraf Ali",null,"Kailash","Seema Devi","M","2016-09-28",608,null,10,null,"OBC",null,null,"GOVT. SENIOR SECONDARY SCHOOL ALNIYAWAS (219445)",8140200308,null,null,8619654499,"ALNIYAWAS,RIYAN BARI,ALNIYAWAS,341687",36000,"N","N",null,11,"None",1]
[6,"A",4109,null,"AYCHUKI",null,"Kailash","Seema Devi","F","2016-09-29",609,null,10,null,"OBC",null,null,"GOVT. SENIOR SECONDARY SCHOOL ALNIYAWAS (219445)",8140200308,null,null,8619654499,"ALNIYAWAS,RIYAN BARI,ALNIYAWAS,341688",45000,"N","N","Yes",11,"None",1]
[6,"A",4943,null,"BABLU",null,"Kailash","Seema Devi","M","2016-09-30",610,null,10,null,"OBC",null,null,"GOVT. SENIOR SECONDARY SCHOOL ALNIYAWAS (219445)",8140200308,null,null,8619654499,"ALNIYAWAS,RIYAN BARI,ALNIYAWAS,341689",40000,"N","N","No",10,"None",1]
[6,"A",4975,null,"BABY KANWAR",null,"Kailash","Seema Devi","F","2016-10-01",611,null,10,null,"OBC",null,null,"GOVT. SENIOR SECONDARY SCHOOL ALNIYAWAS (219445)",8140200308,null,null,8619654499,"ALNIYAWAS,RIYAN BARI,ALNIYAWAS,341690",46000,"N","N","No",12,"None",1]
[6,"A",4248,null,"BURHAN",null,"Kailash","Seema Devi","M","2016-10-02",612,null,10,null,"OBC",null,null,"GOVT. SENIOR SECONDARY SCHOOL ALNIYAWAS (219445)",8140200308,null,null,8619654499,"ALNIYAWAS,RIYAN BARI,ALNIYAWAS,341691",0,"N","N","Yes",11,"None",1]
[6,"A",4167,null,"CHANCHAL DEVI",null,"Kailash","Seema Devi","F","2016-10-03",613,null,10,null,"OBC",null,null,"GOVT. SENIOR SECONDARY SCHOOL ALNIYAWAS (219445)",8140200308,null,null,8619654499,"ALNIYAWAS,RIYAN BARI,ALNIYAWAS,341692",0,"N","N","No",10,"None",1]
[6,"A",4589,null,"CHETAN NAT",null,"Kailash","Seema Devi","M","2016-10-04",614,null,10,null,"OBC",null,null,"GOVT. SENIOR SECONDARY SCHOOL ALNIYAWAS (219445)",8140200308,null,null,8619654499,"ALNIYAWAS,RIYAN BARI,ALNIYAWAS,341693",40000,"N","N","No",10,"None",0]
[6,"A",4257,null,"HAIDAR ALI",null,"Kailash","Seema Devi","M","2016-10-05",615,null,10,null,"OBC",null,null,"GOVT. SENIOR SECONDARY SCHOOL ALNIYAWAS (219445)",8140200308,null,null,8619654499,"ALNIYAWAS,RIYAN BARI,ALNIYAWAS,341694",0,"N","N","Yes",10,"None",1]
[6,"A",4122,null,"HEENA BANU",null,"Kailash","Seema Devi","F","2016-10-06",616,null,10,null,"OBC",null,null,"GOVT. SENIOR SECONDARY SCHOOL ALNIYAWAS (219445)",8140200308,null,null,8619654499,"ALNIYAWAS,RIYAN BARI,ALNIYAWAS,341695",0,"N","N",null,13,"None",1]
[6,"A",4903,null,"Hemant Tank",null,"Kailash","Seema Devi","M","2016-10-07",617,null,10,null,"OBC",null,null,"GOVT. SENIOR SECONDARY SCHOOL ALNIYAWAS (219445)",8140200308,null,null,8619654499,"ALNIYAWAS,RIYAN BARI,ALNIYAWAS,341696",null,"N","Y",null,11,null,1]
[6,"A",4110,null,"IMRAN",null,"Kailash","Seema Devi","M","2016-10-08",618,null,10,null,"OBC",null,null,"GOVT. SENIOR SECONDARY SCHOOL ALNIYAWAS (219445)",8140200308,null,null,8619654499,"ALNIYAWAS,RIYAN BARI,ALNIYAWAS,341697",45000,"N","N","Yes",10,"None",1]
[6,"A",4250,null,"INSAF ALI",null,"Kailash","Seema Devi","M","2016-10-09",619,null,10,null,"OBC",null,null,"GOVT. SENIOR SECONDARY SCHOOL ALNIYAWAS (219445)",8140200308,null,null,8619654499,"ALNIYAWAS,RIYAN BARI,ALNIYAWAS,341698",0,"N","N","Yes",12,"None",1]
[6,"A",4674,null,"IRFAN",null,"Kailash","Seema Devi","M","2016-10-10",620,null,10,null,"OBC",null,null,"GOVT. SENIOR SECONDARY SCHOOL ALNIYAWAS (219445)",8140200308,null,null,8619654499,"ALNIYAWAS,RIYAN BARI,ALNIYAWAS,341699",60000,"N","N","Yes",14,"None",0]
[6,"A",4672,null,"KADIR",null,"Kailash","Seema Devi","M","2016-10-11",621,null,10,null,"OBC",null,null,"GOVT. SENIOR SECONDARY SCHOOL ALNIYAWAS (219445)",8140200308,null,null,8619654499,"ALNIYAWAS,RIYAN BARI,ALNIYAWAS,341700",50000,"N","N","Yes",14,"None",0]
[6,"A",4117,null,"KALPANA",null,"Kailash","Seema Devi","F","2016-10-12",622,null,10,null,"OBC",null,null,"GOVT. SENIOR SECONDARY SCHOOL ALNIYAWAS (219445)",8140200308,null,null,8619654499,"ALNIYAWAS,RIYAN BARI,ALNIYAWAS,341701",0,"N","N",null,11,"None",1]
[6,"A",4802,null,"Khushi Kanwar",null,"Kailash","Seema Devi","F","2016-10-13",623,null,10,null,"OBC",null,null,"GOVT. SENIOR SECONDARY SCHOOL ALNIYAWAS (219445)",8140200308,null,null,8619654499,"ALNIYAWAS,RIYAN BARI,ALNIYAWAS,341702",null,"N","Y",null,10,null,1]
[6,"A",4131,null,"KIRAN",null,"Kailash","Seema Devi","F","2016-10-14",624,null,10,null,"OBC",null,null,"GOVT. SENIOR SECONDARY SCHOOL ALNIYAWAS (219445)",8140200308,null,null,8619654499,"ALNIYAWAS,RIYAN BARI,ALNIYAWAS,341703",40000,"N","N","No",13,"None",1]
[6,"A",5121,null,"LAL SINGH",null,"Kailash","Seema Devi","M","2016-10-15",625,null,10,null,"OBC",null,null,"GOVT. SENIOR SECONDARY SCHOOL ALNIYAWAS (219445)",8140200308,null,null,8619654499,"ALNIYAWAS,RIYAN BARI,ALNIYAWAS,341704",48000,"N","N","No",11,"None",1]
[6,"A",5104,null,"Liladhar Vaishnav",null,"Kailash","Seema Devi","M","2016-10-16",626,null,10,null,"OBC",null,null,"GOVT. SENIOR SECONDARY SCHOOL ALNIYAWAS (219445)",8140200308,null,null,8619654499,"ALNIYAWAS,RIYAN BARI,ALNIYAWAS,341705",null,"N","Y",null,10,null,2]
[6,"A",4652,null,"LOKESH NATH",null,"Kailash","Seema Devi","M","2016-10-17",627,null,10,null,"OBC",null,null,"GOVT. SENIOR SECONDARY SCHOOL ALNIYAWAS (219445)",8140200308,null,null,8619654499,"ALNIYAWAS,RIYAN BARI,ALNIYAWAS,341706",60000,"N","N","No",14,"None",7]
[6,"A",5052,null,"Lokesh Nimbawat",null,"Kailash","Seema Devi","M","2016-10-18",628,null,10,null,"OBC",null,null,"GOVT. SENIOR SECONDARY SCHOOL ALNIYAWAS (219445)",8140200308,null,null,8619654499,"ALNIYAWAS,RIYAN BARI,ALNIYAWAS,341707",40000,"N","N","No",12,"None",2]
[6,"A",4722,null,"MAHENDRA",null,"Kailash","Seema Devi","M","2016-10-19",629,null,10,null,"OBC",null,null,"GOVT. SENIOR SECONDARY SCHOOL ALNIYAWAS (219445)",8140200308,null,null,8619654499,"ALNIYAWAS,RIYAN BARI,ALNIYAWAS,341708",60000,"N","N","No",12,"None",1]
[6,"A",4692,null,"MAHENDRA CHOKIDAR",null,"Kailash","Seema Devi","M","2016-10-20",630,null,10,null,"OBC",null,null,"GOVT. SENIOR SECONDARY SCHOOL ALNIYAWAS (219445)",8140200308,null,null,8619654499,"ALNIYAWAS,RIYAN BARI,ALNIYAWAS,341709",60000,"N","N","No",13,"None",1]
[6,"A",5109,null,"Mahendra Dagdi",null,"Kailash","Seema Devi","M","2016-10-21",631,null,10,null,"OBC",null,null,"GOVT. SENIOR SECONDARY SCHOOL ALNIYAWAS (219445)",8140200308,null,null,8619654499,"ALNIYAWAS,RIYAN BARI,ALNIYAWAS,341710",null,"N","Y",null,13,null,8]
[6,"A",4742,null,"MAYA",null,"Kailash","Seema Devi","F","2016-10-22",632,null,10,null,"OBC",null,null,"GOVT. SENIOR SECONDARY SCHOOL ALNIYAWAS (219445)",8140200308,null,null,8619654499,"ALNIYAWAS,RIYAN BARI,ALNIYAWAS,341711",50000,"N","N","No",11,"None",2]
[6,"A",5089,null,"Mohammad Imran",null,"Kailash","Seema Devi","M","2016-10-23",633,null,10,null,"OBC",null,null,"GOVT. SENIOR SECONDARY SCHOOL ALNIYAWAS (219445)",8140200308,null,null,8619654499,"ALNIYAWAS,RIYAN BARI,ALNIYAWAS,341712",null,"N","Y",null,10,null,1]
[6,"A",4878,null,"Mohammed Rahil",null,"Kailash","Seema Devi","M","2016-10-24",634,null,10,null,"OBC",null,null,"GOVT. SENIOR SECONDARY SCHOOL ALNIYAWAS (219445)",8140200308,null,null,8619654499,"ALNIYAWAS,RIYAN BARI,ALNIYAWAS,341713",36000,"N","N","Yes",13,"None",1]
[6,"A",4255,null,"MOHASIN",null,"Kailash","Seema Devi","M","2016-10-25",635,null,10,null,"OBC",null,null,"GOVT. SENIOR SECONDARY SCHOOL ALNIYAWAS (219445)",8140200308,null,null,8619654499,"ALNIYAWAS,RIYAN BARI,ALNIYAWAS,341714",0,"N","N","Yes",11,"None",1]
[6,"A",4258,null,"MOHMMAD BILAL",null,"Kailash","Seema Devi","M","2016-10-26",636,null,10,null,"OBC",null,null,"GOVT. SENIOR SECONDARY SCHOOL ALNIYAWAS (219445)",8140200308,null,null,8619654499,"ALNIYAWAS,RIYAN BARI,ALNIYAWAS,341715",0,"N","N","Yes",11,"None",1]
[6,"A",4100,null,"MUSKAN",null,"Kailash","Seema Devi","F","2016-10-27",637,null,10,null,"OBC",null,null,"GOVT. SENIOR SECONDARY SCHOOL ALNIYAWAS (219445)",8140200308,null,null,8619654499,"ALNIYAWAS,RIYAN BARI,ALNIYAWAS,341716",0,"N","N","Yes",11,"None",1]
[6,"A",4245,null,"MUSSA PAHALWAN",null,"Kailash","Seema Devi","M","2016-10-28",638,null,10,null,"OBC",null,null,"GOVT. SENIOR SECONDARY SCHOOL ALNIYAWAS (219445)",8140200308,null,null,8619654499,"ALNIYAWAS,RIYAN BARI,ALNIYAWAS,341717",0,"N","N","Yes",11,"None",1]
[6,"A",4206,null,"NASIM BANO",null,"Kailash","Seema Devi","F","2016-10-29",639,null,10,null,"OBC",null,null,"GOVT. SENIOR SECONDARY SCHOOL ALNIYAWAS (219445)",8140200308,null,null,8619654499,"ALNIYAWAS,RIYAN BARI,ALNIYAWAS,341718",0,"N","N","Yes",11,"None",1]
[6,"A",5032,null,"PAYAL SAINI",null,"Kailash","Seema Devi","F","2016-10-30",640,null,10,null,"OBC",null,null,"GOVT. SENIOR SECONDARY SCHOOL ALNIYAWAS (219445)",8140200308,null,null,8619654499,"ALNIYAWAS,RIYAN BARI,ALNIYAWAS,341719",45000,"N","N","No",11,"None",0.5]
[6,"A",4602,null,"PINTU PARJAPAT",null,"Kailash","Seema Devi","M","2016-10-31",641,null,10,null,"OBC",null,null,"GOVT. SENIOR SECONDARY SCHOOL ALNIYAWAS (219445)",8140200308,null,null,8619654499,"ALNIYAWAS,RIYAN BARI,ALNIYAWAS,341720",40000,"N","N","No",12,"None",0]
[6,"A",4132,null,"POOJA DEVI",null,"Kailash","Seema Devi","F","2016-11-01",642,null,10,null,"OBC",null,null,"GOVT. SENIOR SECONDARY SCHOOL ALNIYAWAS (219445)",8140200308,null,null,8619654499,"ALNIYAWAS,RIYAN BARI,ALNIYAWAS,341721",45000,"N","N","No",12,"None",1]
[6,"A",5020,null,"Ramawtar",null,"Kailash","Seema Devi","M","2016-11-02",643,null,10,null,"OBC",null,null,"GOVT. SENIOR SECONDARY SCHOOL ALNIYAWAS (219445)",8140200308,null,null,8619654499,"ALNIYAWAS,RIYAN BARI,ALNIYAWAS,341722",100000,"N","N",null,11,"None",1]
[6,"A",5125,null,"RAMDEV",null,"Kailash","Seema Devi","M","2016-11-03",644,null,10,null,"OBC",null,null,"GOVT. SENIOR SECONDARY SCHOOL ALNIYAWAS (219445)",8140200308,null,null,8619654499,"ALNIYAWAS,RIYAN BARI,ALNIYAWAS,341723",41000,"N","N","No",11,"None",1]
[6,"A",5028,null,"RAVI RAJ BAWARI",null,"Kailash","Seema Devi","M","2016-11-04",645,null,10,null,"OBC",null,null,"GOVT. SENIOR SECONDARY SCHOOL ALNIYAWAS (219445)",8140200308,null,null,8619654499,"ALNIYAWAS,RIYAN BARI,ALNIYAWAS,341724",45000,"N","N","No",11,"None",1]
[6,"A",5046,null,"RAVINDRA KUMAWAT",null,"Kailash","Seema Devi","M","2016-11-05",646,null,10,null,"OBC",null,null,"GOVT. SENIOR SECONDARY SCHOOL ALNIYAWAS (219445)",8140200308,null,null,8619654499,"ALNIYAWAS,RIYAN BARI,ALNIYAWAS,341725",60000,"N","N","No",11,"None",1]
[6,"A",4130,null,"REKHA DEVI",null,"Kailash","Seema Devi","F","2016-11-06",647,null,10,null,"OBC",null,null,"GOVT. SENIOR SECONDARY SCHOOL ALNIYAWAS (219445)",8140200308,null,null,8619654499,"ALNIYAWAS,RIYAN BARI,ALNIYAWAS,341726",0,"N","N","No",11,"None",1]
[6,"A",4959,null,"RINKU KANWAR",null,"Kailash","Seema Devi","F","2016-11-07",648,null,10,null,"OBC",null,null,"GOVT. SENIOR SECONDARY SCHOOL ALNIYAWAS (219445)",8140200308,null,null,8619654499,"ALNIYAWAS,RIYAN BARI,ALNIYAWAS,341727",44000,"N","N","No",11,"None",1]
[6,"A",4964,null,"RITIKA",null,"Kailash","Seema Devi","F","2016-11-08",649,null,10,null,"OBC",null,null,"GOVT. SENIOR SECONDARY SCHOOL ALNIYAWAS (219445)",8140200308,null,null,8619654499,"ALNIYAWAS,RIYAN BARI,ALNIYAWAS,341728",45000,"N","N","No",11,"None",1]
[6,"A",4244,null,"RUSTAM ALI PAHALWAN",null,"Kailash","Seema Devi","M","2016-11-09",650,null,10,null,"OBC",null,null,"GOVT. SENIOR SECONDARY SCHOOL ALNIYAWAS (219445)",8140200308,null,null,8619654499,"ALNIYAWAS,RIYAN BARI,ALNIYAWAS,341729",0,"N","N","Yes",13,"None",1]
[6,"A",4254,null,"SALMA BANU",null,"Kailash","Seema Devi","F","2016-11-10",651,null,10,null,"OBC",null,null,"GOVT. SENIOR SECONDARY SCHOOL ALNIYAWAS (219445)",8140200308,null,null,8619654499,"ALNIYAWAS,RIYAN BARI,ALNIYAWAS,341730",0,"N","N","Yes",11,"None",1]
[6,"A",4101,null,"SAMEER",null,"Kailash","Seema Devi","M","2016-11-11",652,null,10,null,"OBC",null,null,"GOVT. SENIOR SECONDARY SCHOOL ALNIYAWAS (219445)",8140200308,null,null,8619654499,"ALNIYAWAS,RIYAN BARI,ALNIYAWAS,341731",45000,"N","N","Yes",10,"None",0]
[6,"A",5027,null,"SANGEETA",null,"Kailash","Seema Devi","F","2016-11-12",653,null,10,null,"OBC",null,null,"GOVT. SENIOR SECONDARY SCHOOL ALNIYAWAS (219445)",8140200308,null,null,8619654499,"ALNIYAWAS,RIYAN BARI,ALNIYAWAS,341732",40000,"N","N","No",11,"None",1]
[6,"A",4926,null,"SARITA NATH",null,"Kailash","Seema Devi","F","2016-11-13",654,null,10,null,"OBC",null,null,"GOVT. SENIOR SECONDARY SCHOOL ALNIYAWAS (219445)",8140200308,null,null,8619654499,"ALNIYAWAS,RIYAN BARI,ALNIYAWAS,341733",47000,"N","N","No",11,"None",0]
[6,"A",4129,null,"SAROJ DEVI",null,"Kailash","Seema Devi","F","2016-11-14",655,null,10,null,"OBC",null,null,"GOVT. SENIOR SECONDARY SCHOOL ALNIYAWAS (219445)",8140200308,null,null,8619654499,"ALNIYAWAS,RIYAN BARI,ALNIYAWAS,341734",0,"N","N","No",10,"None",1]
[6,"A",4256,null,"SHAHINA",null,"Kailash","Seema Devi","F","2016-11-15",656,null,10,null,"OBC",null,null,"GOVT. SENIOR SECONDARY SCHOOL ALNIYAWAS (219445)",8140200308,null,null,8619654499,"ALNIYAWAS,RIYAN BARI,ALNIYAWAS,341735",0,"N","N","Yes",11,"None",1]
[6,"A",4960,null,"SHIMBHU SINGH",null,"Kailash","Seema Devi","M","2016-11-16",657,null,10,null,"OBC",null,null,"GOVT. SENIOR SECONDARY SCHOOL ALNIYAWAS (219445)",8140200308,null,null,8619654499,"ALNIYAWAS,RIYAN BARI,ALNIYAWAS,341736",40000,"N","N","No",11,"None",1]
[6,"A",4118,null,"SHOHIL",null,"Kailash","Seema Devi","M","2016-11-17",658,null,10,null,"OBC",null,null,"GOVT. SENIOR SECONDARY SCHOOL ALNIYAWAS (219445)",8140200308,null,null,8619654499,"ALNIYAWAS,RIYAN BARI,ALNIYAWAS,341737",0,"N","N","Yes",11,"None",1]
[6,"A",4102,null,"SOHIL",null,"Kailash","Seema Devi","M","2016-11-18",659,null,10,null,"OBC",null,null,"GOVT. SENIOR SECONDARY SCHOOL ALNIYAWAS (219445)",8140200308,null,null,8619654499,"ALNIYAWAS,RIYAN BARI,ALNIYAWAS,341738",0,"N","N","Yes",12,"None",1]
[6,"A",4099,null,"SUMAN DEVI CHAUKIDAR",null,"Kailash","Seema Devi","F","2016-11-19",660,null,10,null,"OBC",null,null,"GOVT. SENIOR SECONDARY SCHOOL ALNIYAWAS (219445)",8140200308,null,null,8619654499,"ALNIYAWAS,RIYAN BARI,ALNIYAWAS,341739",48000,"N","N","No",10,"None",1]
[6,"A",4224,null,"SUNIL",null,"Kailash","Seema Devi","M","2016-11-20",661,null,10,null,"OBC",null,null,"GOVT. SENIOR SECONDARY SCHOOL ALNIYAWAS (219445)",8140200308,null,null,8619654499,"ALNIYAWAS,RIYAN BARI,ALNIYAWAS,341740",0,"N","N","No",11,"None",0]
[6,"A",4501,null,"TANU DEVI",null,"Kailash","Seema Devi","F","2016-11-21",662,null,10,null,"OBC",null,null,"GOVT. SENIOR SECONDARY SCHOOL ALNIYAWAS (219445)",8140200308,null,null,8619654499,"ALNIYAWAS,RIYAN BARI,ALNIYAWAS,341741",36000,"N","Y","No",11,"None",1]
[6,"A",5130,null,"Teena",null,"Kailash","Seema Devi","F","2016-11-22",663,null,10,null,"OBC",null,null,"GOVT. SENIOR SECONDARY SCHOOL ALNIYAWAS (219445)",8140200308,null,null,8619654499,"ALNIYAWAS,RIYAN BARI,ALNIYAWAS,341742",null,"N","Y",null,14,null,1]
[6,"A",4990,null,"TULCHHI RAM",null,"Kailash","Seema Devi","M","2016-11-23",664,null,10,null,"OBC",null,null,"GOVT. SENIOR SECONDARY SCHOOL ALNIYAWAS (219445)",8140200308,null,null,8619654499,"ALNIYAWAS,RIYAN BARI,ALNIYAWAS,341743",55000,"N","N","No",11,"None",1]
[7,"A",4714,null,"KAVITA",null,"Kailash","Seema Devi","F","2016-11-24",723,null,10,null,"OBC",null,null,"GOVT. SENIOR SECONDARY SCHOOL ALNIYAWAS (219445)",8140200308,null,null,8619654499,"ALNIYAWAS,RIYAN BARI,ALNIYAWAS,341744",40000,"N","N","No",12,"None",2]
[7,"A",4015,null,"AADIL",null,"Kailash","Seema Devi","M","2016-11-25",701,null,10,null,"OBC",null,null,"GOVT. SENIOR SECONDARY SCHOOL ALNIYAWAS (219445)",8140200308,null,null,8619654499,"ALNIYAWAS,RIYAN BARI,ALNIYAWAS,341745",100000,"N","N","Yes",11,"None",1]
[7,"A",3956,null,"AASHIYA BANU",null,"Kailash","Seema Devi","F","2016-11-26",702,null,10,null,"OBC",null,null,"GOVT. SENIOR SECONDARY SCHOOL ALNIYAWAS (219445)",8140200308,null,null,8619654499,"ALNIYAWAS,RIYAN BARI,ALNIYAWAS,341746",0,"N","N","Yes",11,"None",1]
[7,"A",5078,null,"Afzal Ali",null,"Kailash","Seema Devi","M","2016-11-27",703,null,10,null,"OBC",null,null,"GOVT. SENIOR SECONDARY SCHOOL ALNIYAWAS (219445)",8140200308,null,null,8619654499,"ALNIYAWAS,RIYAN BARI,ALNIYAWAS,341747",null,"N","Y",null,14,null,1]
[7,"A",5110,null,"Ajay Raghvendra",null,"Kailash","Seema Devi","M","2016-11-28",704,null,10,null,"OBC",null,null,"GOVT. SENIOR SECONDARY SCHOOL ALNIYAWAS (219445)",8140200308,null,null,8619654499,"ALNIYAWAS,RIYAN BARI,ALNIYAWAS,341748",null,"N","Y",null,13,null,2]
[7,"A",4088,null,"ALEESA BANO",null,"Kailash","Seema Devi","F","2016-11-29",705,null,10,null,"OBC",null,null,"GOVT. SENIOR SECONDARY SCHOOL ALNIYAWAS (219445)",8140200308,null,null,8619654499,"ALNIYAWAS,RIYAN BARI,ALNIYAWAS,341749",0,"N","N","Yes",12,"None",1]
[7,"A",4927,null,"Altaf Raza",null,"Kailash","Seema Devi","M","2016-11-30",706,null,10,null,"OBC",null,null,"GOVT. SENIOR SECONDARY SCHOOL ALNIYAWAS (219445)",8140200308,null,null,8619654499,"ALNIYAWAS,RIYAN BARI,ALNIYAWAS,341750",null,"N","Y",null,12,null,1]
[7,"A",5005,null,"Anil Saini",null,"Kailash","Seema Devi","M","2016-12-01",707,null,10,null,"OBC",null,null,"GOVT. SENIOR SECONDARY SCHOOL ALNIYAWAS (219445)",8140200308,null,null,8619654499,"ALNIYAWAS,RIYAN BARI,ALNIYAWAS,341751",null,"N","Y",null,12,null,1]
[7,"A",4909,null,"ANSHITA CHOUDHARY",null,"Kailash","Seema Devi","F","2016-12-02",708,null,10,null,"OBC",null,null,"GOVT. SENIOR SECONDARY SCHOOL ALNIYAWAS (219445)",8140200308,null,null,8619654499,"ALNIYAWAS,RIYAN BARI,ALNIYAWAS,341752",40000,"N","N","No",11,"None",5]
[7,"A",4049,null,"ARFAN",null,"Kailash","Seema Devi","M","2016-12-03",709,null,10,null,"OBC",null,null,"GOVT. SENIOR SECONDARY SCHOOL ALNIYAWAS (219445)",8140200308,null,null,8619654499,"ALNIYAWAS,RIYAN BARI,ALNIYAWAS,341753",100000,"N","N","Yes",12,"None",1]
[7,"A",4876,null,"ASHA KANWAR",null,"Kailash","Seema Devi","F","2016-12-04",710,null,10,null,"OBC",null,null,"GOVT. SENIOR SECONDARY SCHOOL ALNIYAWAS (219445)",8140200308,null,null,8619654499,"ALNIYAWAS,RIYAN BARI,ALNIYAWAS,341754",50000,"N","N","No",12,"None",1]
[7,"A",3995,null,"ASLAM ALI",null,"Kailash","Seema Devi","M","2016-12-05",711,null,10,null,"OBC",null,null,"GOVT. SENIOR SECONDARY SCHOOL ALNIYAWAS (219445)",8140200308,null,null,8619654499,"ALNIYAWAS,RIYAN BARI,ALNIYAWAS,341755",0,"N","N","Yes",11,"None",1]
[7,"A",4046,null,"BHARAT MALI",null,"Kailash","Seema Devi","M","2016-12-06",712,null,10,null,"OBC",null,null,"GOVT. SENIOR SECONDARY SCHOOL ALNIYAWAS (219445)",8140200308,null,null,8619654499,"ALNIYAWAS,RIYAN BARI,ALNIYAWAS,341756",0,"N","N","No",11,"None",2]
[7,"A",4440,null,"BHAWANI RAWAL",null,"Kailash","Seema Devi","M","2016-12-07",713,null,10,null,"OBC",null,null,"GOVT. SENIOR SECONDARY SCHOOL ALNIYAWAS (219445)",8140200308,null,null,8619654499,"ALNIYAWAS,RIYAN BARI,ALNIYAWAS,341757",60000,"N","N","No",12,"None",2]
[7,"A",4905,null,"DEEPAK",null,"Kailash","Seema Devi","M","2016-12-08",714,null,10,null,"OBC",null,null,"GOVT. SENIOR SECONDARY SCHOOL ALNIYAWAS (219445)",8140200308,null,null,8619654499,"ALNIYAWAS,RIYAN BARI,ALNIYAWAS,341758",40000,"N","N","No",13,"None",1]
[7,"A",4987,null,"Devendra Saini",null,"Kailash","Seema Devi",null,"2016-12-09",715,null,10,null,"OBC",null,null,"GOVT. SENIOR SECONDARY SCHOOL ALNIYAWAS (219445)",8140200308,null,null,8619654499,"ALNIYAWAS,RIYAN BARI,ALNIYAWAS,341759",null,"N","Y",null,11,null,1]
[7,"A",5120,null,"Dinesh Latiyal",null,"Kailash","Seema Devi","M","2016-12-10",716,null,10,null,"OBC",null,null,"GOVT. SENIOR SECONDARY SCHOOL ALNIYAWAS (219445)",8140200308,null,null,8619654499,"ALNIYAWAS,RIYAN BARI,ALNIYAWAS,341760",null,"N","Y",null,13,null,3]
[7,"A",4519,null,"FAIJAN MOHMMAD",null,"Kailash","Seema Devi","M","2016-12-11",717,null,10,null,"OBC",null,null,"GOVT. SENIOR SECONDARY SCHOOL ALNIYAWAS (219445)",8140200308,null,null,8619654499,"ALNIYAWAS,RIYAN BARI,ALNIYAWAS,341761",45000,"N","N","Yes",13,"None",0]
[7,"A",4739,null,"GAJENDAR SHINGH",null,"Kailash","Seema Devi","M","2016-12-12",718,null,10,null,"OBC",null,null,"GOVT. SENIOR SECONDARY SCHOOL ALNIYAWAS (219445)",8140200308,null,null,8619654499,"ALNIYAWAS,RIYAN BARI,ALNIYAWAS,341762",50000,"N","N","No",14,"None",1]
[7,"A",4567,null,"GANESH VAISHNAV",null,"Kailash","Seema Devi","M","2016-12-13",719,null,10,null,"OBC",null,null,"GOVT. SENIOR SECONDARY SCHOOL ALNIYAWAS (219445)",8140200308,null,null,8619654499,"ALNIYAWAS,RIYAN BARI,ALNIYAWAS,341763",40000,"N","N","No",12,"None",1]
[7,"A",5077,null,"Harshita Jangid",null,"Kailash","Seema Devi","F","2016-12-14",720,null,10,null,"OBC",null,null,"GOVT. SENIOR SECONDARY SCHOOL ALNIYAWAS (219445)",8140200308,null,null,8619654499,"ALNIYAWAS,RIYAN BARI,ALNIYAWAS,341764",null,"N","Y",null,12,null,1]
[7,"A",5096,null,"Hemraj",null,"Kailash","Seema Devi","M","2016-12-15",721,null,10,null,"OBC",null,null,"GOVT. SENIOR SECONDARY SCHOOL ALNIYAWAS (219445)",8140200308,null,null,8619654499,"ALNIYAWAS,RIYAN BARI,ALNIYAWAS,341765",null,"N","Y",null,12,null,1]
[7,"A",4942,null,"Irfan",null,"Kailash","Seema Devi","M","2016-12-16",722,null,10,null,"OBC",null,null,"GOVT. SENIOR SECONDARY SCHOOL ALNIYAWAS (219445)",8140200308,null,null,8619654499,"ALNIYAWAS,RIYAN BARI,ALNIYAWAS,341766",null,"N","Y",null,12,null,1]
[7,"A",4819,null,"KHUSHBOO",null,"Kailash","Seema Devi","F","2016-12-17",724,null,10,null,"OBC",null,null,"GOVT. SENIOR SECONDARY SCHOOL ALNIYAWAS (219445)",8140200308,null,null,8619654499,"ALNIYAWAS,RIYAN BARI,ALNIYAWAS,341767",80000,"N","N","No",13,"None",1]
[7,"A",3938,null,"KHUSHBOO",null,"Kailash","Seema Devi","F","2016-12-18",725,null,10,null,"OBC",null,null,"GOVT. SENIOR SECONDARY SCHOOL ALNIYAWAS (219445)",8140200308,null,null,8619654499,"ALNIYAWAS,RIYAN BARI,ALNIYAWAS,341768",0,"N","N","No",11,"None",1]
[7,"A",5106,null,"Khushi Vaishnav",null,"Kailash","Seema Devi","F","2016-12-19",726,null,10,null,"OBC",null,null,"GOVT. SENIOR SECONDARY SCHOOL ALNIYAWAS (219445)",8140200308,null,null,8619654499,"ALNIYAWAS,RIYAN BARI,ALNIYAWAS,341769",null,"N","Y",null,12,null,1]
[7,"A",4514,null,"KOMAL",null,"Kailash","Seema Devi","F","2016-12-20",727,null,10,null,"OBC",null,null,"GOVT. SENIOR SECONDARY SCHOOL ALNIYAWAS (219445)",8140200308,null,null,8619654499,"ALNIYAWAS,RIYAN BARI,ALNIYAWAS,341770",40000,"N","N","No",11,"None",4]
[7,"A",4875,null,"LALI NATH",null,"Kailash","Seema Devi","F","2016-12-21",728,null,10,null,"OBC",null,null,"GOVT. SENIOR SECONDARY SCHOOL ALNIYAWAS (219445)",8140200308,null,null,8619654499,"ALNIYAWAS,RIYAN BARI,ALNIYAWAS,341771",45000,"N","N","No",12,"None",0]
[7,"A",5090,null,"Mohammad Irfan",null,"Kailash","Seema Devi","M","2016-12-22",729,null,10,null,"OBC",null,null,"GOVT. SENIOR SECONDARY SCHOOL ALNIYAWAS (219445)",8140200308,null,null,8619654499,"ALNIYAWAS,RIYAN BARI,ALNIYAWAS,341772",null,"N","Y",null,11,null,1]
[7,"A",4443,null,"MOSEEM",null,"Kailash","Seema Devi","M","2016-12-23",730,null,10,null,"OBC",null,null,"GOVT. SENIOR SECONDARY SCHOOL ALNIYAWAS (219445)",8140200308,null,null,8619654499,"ALNIYAWAS,RIYAN BARI,ALNIYAWAS,341773",45000,"N","N","Yes",14,"None",2]
[7,"A",4087,null,"MUNNI",null,"Kailash","Seema Devi","F","2016-12-24",731,null,10,null,"OBC",null,null,"GOVT. SENIOR SECONDARY SCHOOL ALNIYAWAS (219445)",8140200308,null,null,8619654499,"ALNIYAWAS,RIYAN BARI,ALNIYAWAS,341774",0,"N","N","No",12,"None",1]
[7,"A",3972,null,"MUSKAN",null,"Kailash","Seema Devi","F","2016-12-25",732,null,10,null,"OBC",null,null,"GOVT. SENIOR SECONDARY SCHOOL ALNIYAWAS (219445)",8140200308,null,null,8619654499,"ALNIYAWAS,RIYAN BARI,ALNIYAWAS,341775",0,"N","N","Yes",13,"None",1]
[7,"A",4014,null,"NASREEN",null,"Kailash","Seema Devi","F","2016-12-26",733,null,10,null,"OBC",null,null,"GOVT. SENIOR SECONDARY SCHOOL ALNIYAWAS (219445)",8140200308,null,null,8619654499,"ALNIYAWAS,RIYAN BARI,ALNIYAWAS,341776",100000,"N","N","Yes",13,"None",1]
[7,"A",3998,null,"NAZMEEN",null,"Kailash","Seema Devi","F","2016-12-27",734,null,10,null,"OBC",null,null,"GOVT. SENIOR SECONDARY SCHOOL ALNIYAWAS (219445)",8140200308,null,null,8619654499,"ALNIYAWAS,RIYAN BARI,ALNIYAWAS,341777",0,"N","N","Yes",13,"None",1]
[7,"A",4515,null,"NISHA",null,"Kailash","Seema Devi","F","2016-12-28",735,null,10,null,"OBC",null,null,"GOVT. SENIOR SECONDARY SCHOOL ALNIYAWAS (219445)",8140200308,null,null,8619654499,"ALNIYAWAS,RIYAN BARI,ALNIYAWAS,341778",40000,"N","N","No",12,"None",4]
[7,"A",4907,null,"Nitin Saini",null,"Kailash","Seema Devi","M","2016-12-29",736,null,10,null,"OBC",null,null,"GOVT. SENIOR SECONDARY SCHOOL ALNIYAWAS (219445)",8140200308,null,null,8619654499,"ALNIYAWAS,RIYAN BARI,ALNIYAWAS,341779",null,"N","Y",null,11,null,1]
[7,"A",5117,null,"Nitu Gurjar",null,"Kailash","Seema Devi","F","2016-12-30",737,null,10,null,"OBC",null,null,"GOVT. SENIOR SECONDARY SCHOOL ALNIYAWAS (219445)",8140200308,null,null,8619654499,"ALNIYAWAS,RIYAN BARI,ALNIYAWAS,341780",null,"N","Y",null,12,null,5]
[7,"A",4018,null,"NORAT LAL",null,"Kailash","Seema Devi","M","2016-12-31",738,null,10,null,"OBC",null,null,"GOVT. SENIOR SECONDARY SCHOOL ALNIYAWAS (219445)",8140200308,null,null,8619654499,"ALNIYAWAS,RIYAN BARI,ALNIYAWAS,341781",0,"N","N",null,13,"None",1]
[7,"A",4697,null,"PAWAN JUNJADIYA",null,"Kailash","Seema Devi","M","2017-01-01",739,null,10,null,"OBC",null,null,"GOVT. SENIOR SECONDARY SCHOOL ALNIYAWAS (219445)",8140200308,null,null,8619654499,"ALNIYAWAS,RIYAN BARI,ALNIYAWAS,341782",500000,"N","N","No",11,"None",5]
[7,"A",4894,null,"PINTU SAINI",null,"Kailash","Seema Devi","M","2017-01-02",740,null,10,null,"OBC",null,null,"GOVT. SENIOR SECONDARY SCHOOL ALNIYAWAS (219445)",8140200308,null,null,8619654499,"ALNIYAWAS,RIYAN BARI,ALNIYAWAS,341783",100000,"N","N",null,10,"None",0]
[7,"A",4892,null,"PRIYANKA",null,"Kailash","Seema Devi","F","2017-01-03",741,null,10,null,"OBC",null,null,"GOVT. SENIOR SECONDARY SCHOOL ALNIYAWAS (219445)",8140200308,null,null,8619654499,"ALNIYAWAS,RIYAN BARI,ALNIYAWAS,341784",60000,"N","N",null,11,"None",0]
[7,"A",4792,null,"RAJU RAM",null,"Kailash","Seema Devi","M","2017-01-04",742,null,10,null,"OBC",null,null,"GOVT. SENIOR SECONDARY SCHOOL ALNIYAWAS (219445)",8140200308,null,null,8619654499,"ALNIYAWAS,RIYAN BARI,ALNIYAWAS,341785",0,"N","N",null,13,"None",0]
[7,"A",4579,null,"RAVI BAVARI",null,"Kailash","Seema Devi","M","2017-01-05",743,null,10,null,"OBC",null,null,"GOVT. SENIOR SECONDARY SCHOOL ALNIYAWAS (219445)",8140200308,null,null,8619654499,"ALNIYAWAS,RIYAN BARI,ALNIYAWAS,341786",36000,"N","N","No",10,"None",0]
[7,"A",4696,null,"RIJVAN",null,"Kailash","Seema Devi","M","2017-01-06",744,null,10,null,"OBC",null,null,"GOVT. SENIOR SECONDARY SCHOOL ALNIYAWAS (219445)",8140200308,null,null,8619654499,"ALNIYAWAS,RIYAN BARI,ALNIYAWAS,341787",60000,"N","N","Yes",12,"None",1]
[7,"A",3975,null,"RIYAN",null,"Kailash","Seema Devi","M","2017-01-07",745,null,10,null,"OBC",null,null,"GOVT. SENIOR SECONDARY SCHOOL ALNIYAWAS (219445)",8140200308,null,null,8619654499,"ALNIYAWAS,RIYAN BARI,ALNIYAWAS,341788",0,"N","N","Yes",12,"None",1]
[7,"A",4012,null,"RUKEEIA",null,"Kailash","Seema Devi","F","2017-01-08",746,null,10,null,"OBC",null,null,"GOVT. SENIOR SECONDARY SCHOOL ALNIYAWAS (219445)",8140200308,null,null,8619654499,"ALNIYAWAS,RIYAN BARI,ALNIYAWAS,341789",100000,"Y","N","Yes",13,"None",1]
[7,"A",3944,null,"SAMEER",null,"Kailash","Seema Devi","M","2017-01-09",747,null,10,null,"OBC",null,null,"GOVT. SENIOR SECONDARY SCHOOL ALNIYAWAS (219445)",8140200308,null,null,8619654499,"ALNIYAWAS,RIYAN BARI,ALNIYAWAS,341790",100000,"N","N","Yes",11,"None",1]
[7,"A",4064,null,"SANIYA",null,"Kailash","Seema Devi","F","2017-01-10",748,null,10,null,"OBC",null,null,"GOVT. SENIOR SECONDARY SCHOOL ALNIYAWAS (219445)",8140200308,null,null,8619654499,"ALNIYAWAS,RIYAN BARI,ALNIYAWAS,341791",0,"N","N","Yes",12,"None",1]
[7,"A",3985,null,"SHABANA BANU",null,"Kailash","Seema Devi","F","2017-01-11",749,null,10,null,"OBC",null,null,"GOVT. SENIOR SECONDARY SCHOOL ALNIYAWAS (219445)",8140200308,null,null,8619654499,"ALNIYAWAS,RIYAN BARI,ALNIYAWAS,341792",0,"N","N","Yes",12,"None",1]
[7,"A",3866,null,"SHARIF MOHD.",null,"Kailash","Seema Devi","M","2017-01-12",750,null,10,null,"OBC",null,null,"GOVT. SENIOR SECONDARY SCHOOL ALNIYAWAS (219445)",8140200308,null,null,8619654499,"ALNIYAWAS,RIYAN BARI,ALNIYAWAS,341793",0,"N","N","Yes",14,"None",0]
[7,"A",3973,null,"SHOHIL",null,"Kailash","Seema Devi","M","2017-01-13",752,null,10,null,"OBC",null,null,"GOVT. SENIOR SECONDARY SCHOOL ALNIYAWAS (219445)",8140200308,null,null,8619654499,"ALNIYAWAS,RIYAN BARI,ALNIYAWAS,341794",0,"N","N","Yes",11,"None",1]
[7,"A",4013,null,"SHOHIL",null,"Kailash","Seema Devi","M","2017-01-14",751,null,10,null,"OBC",null,null,"GOVT. SENIOR SECONDARY SCHOOL ALNIYAWAS (219445)",8140200308,null,null,8619654499,"ALNIYAWAS,RIYAN BARI,ALNIYAWAS,341795",60000,"N","N","Yes",12,"None",1]
[7,"A",4516,null,"SIMARAN",null,"Kailash","Seema Devi","F","2017-01-15",753,null,10,null,"OBC",null,null,"GOVT. SENIOR SECONDARY SCHOOL ALNIYAWAS (219445)",8140200308,null,null,8619654499,"ALNIYAWAS,RIYAN BARI,ALNIYAWAS,341796",36000,"N","N","Yes",11,"None",0]
[7,"A",5015,null,"Sonu Saini",null,"Kailash","Seema Devi","F","2017-01-16",754,null,10,null,"OBC",null,null,"GOVT. SENIOR SECONDARY SCHOOL ALNIYAWAS (219445)",8140200308,null,null,8619654499,"ALNIYAWAS,RIYAN BARI,ALNIYAWAS,341797",null,"N","Y",null,11,null,1]
[7,"A",3997,null,"TEENA",null,"Kailash","Seema Devi","F","2017-01-17",755,null,10,null,"OBC",null,null,"GOVT. SENIOR SECONDARY SCHOOL ALNIYAWAS (219445)",8140200308,null,null,8619654499,"ALNIYAWAS,RIYAN BARI,ALNIYAWAS,341798",0,"N","N","Yes",12,"None",1]
[8,"A",4897,null,"Aadil Mohammad",null,"Kailash","Seema Devi","M","2017-01-18",801,null,10,null,"OBC",null,null,"GOVT. SENIOR SECONDARY SCHOOL ALNIYAWAS (219445)",8140200308,null,null,8619654499,"ALNIYAWAS,RIYAN BARI,ALNIYAWAS,341799",null,"N","Y",null,13,null,1]
[8,"A",4609,null,"AAFREEN BANOO",null,"Kailash","Seema Devi","F","2017-01-19",802,null,10,null,"OBC",null,null,"GOVT. SENIOR SECONDARY SCHOOL ALNIYAWAS (219445)",8140200308,null,null,8619654499,"ALNIYAWAS,RIYAN BARI,ALNIYAWAS,341800",40000,"N","N","Yes",13,"None",0]
[8,"A",3921,null,"AASIK",null,"Kailash","Seema Devi","M","2017-01-20",803,null,10,null,"OBC",null,null,"GOVT. SENIOR SECONDARY SCHOOL ALNIYAWAS (219445)",8140200308,null,null,8619654499,"ALNIYAWAS,RIYAN BARI,ALNIYAWAS,341801",0,"N","N",null,13,"None",1]
[8,"A",4779,null,"ADITI GURJAR",null,"Kailash","Seema Devi","F","2017-01-21",804,null,10,null,"OBC",null,null,"GOVT. SENIOR SECONDARY SCHOOL ALNIYAWAS (219445)",8140200308,null,null,8619654499,"ALNIYAWAS,RIYAN BARI,ALNIYAWAS,341802",60000,"N","N","No",12,"None",0]
[8,"A",4786,null,"ALTAPH",null,"Kailash","Seema Devi","M","2017-01-22",805,null,10,null,"OBC",null,null,"GOVT. SENIOR SECONDARY SCHOOL ALNIYAWAS (219445)",8140200308,null,null,8619654499,"ALNIYAWAS,RIYAN BARI,ALNIYAWAS,341803",60000,"N","N","Yes",15,"None",1]
[8,"A",4717,null,"ANIL",null,"Kailash","Seema Devi","M","2017-01-23",807,null,10,null,"OBC",null,null,"GOVT. SENIOR SECONDARY SCHOOL ALNIYAWAS (219445)",8140200308,null,null,8619654499,"ALNIYAWAS,RIYAN BARI,ALNIYAWAS,341804",60000,"N","N",null,11,"None",4]
[8,"A",3923,null,"ANIL",null,"Kailash","Seema Devi","M","2017-01-24",808,null,10,null,"OBC",null,null,"GOVT. SENIOR SECONDARY SCHOOL ALNIYAWAS (219445)",8140200308,null,null,8619654499,"ALNIYAWAS,RIYAN BARI,ALNIYAWAS,341805",0,"N","N","No",14,"None",1]
[8,"A",3903,null,"ANIL",null,"Kailash","Seema Devi","M","2017-01-25",806,null,10,null,"OBC",null,null,"GOVT. SENIOR SECONDARY SCHOOL ALNIYAWAS (219445)",8140200308,null,null,8619654499,"ALNIYAWAS,RIYAN BARI,ALNIYAWAS,341806",0,"N","N","No",13,"None",1]
[8,"A",4712,null,"ANIL ACHARYA",null,"Kailash","Seema Devi","M","2017-01-26",809,null,10,null,"OBC",null,null,"GOVT. SENIOR SECONDARY SCHOOL ALNIYAWAS (219445)",8140200308,null,null,8619654499,"ALNIYAWAS,RIYAN BARI,ALNIYAWAS,341807",60000,"N","N","No",12,"None",1]
[8,"A",4766,null,"ANKIT",null,"Kailash","Seema Devi","M","2017-01-27",810,null,10,null,"OBC",null,null,"GOVT. SENIOR SECONDARY SCHOOL ALNIYAWAS (219445)",8140200308,null,null,8619654499,"ALNIYAWAS,RIYAN BARI,ALNIYAWAS,341808",40000,"N","N","No",13,"None",2]
[8,"A",3934,null,"ANWAR",null,"Kailash","Seema Devi","M","2017-01-28",811,null,10,null,"OBC",null,null,"GOVT. SENIOR SECONDARY SCHOOL ALNIYAWAS (219445)",8140200308,null,null,8619654499,"ALNIYAWAS,RIYAN BARI,ALNIYAWAS,341809",0,"N","N","Yes",13,"None",1]
[8,"A",3928,null,"ARBAJ",null,"Kailash","Seema Devi","M","2017-01-29",812,null,10,null,"OBC",null,null,"GOVT. SENIOR SECONDARY SCHOOL ALNIYAWAS (219445)",8140200308,null,null,8619654499,"ALNIYAWAS,RIYAN BARI,ALNIYAWAS,341810",0,"N","N","Yes",13,"None",0]
[8,"A",4632,null,"ASHISH JANGID",null,"Kailash","Seema Devi","M","2017-01-30",813,null,10,null,"OBC",null,null,"GOVT. SENIOR SECONDARY SCHOOL ALNIYAWAS (219445)",8140200308,null,null,8619654499,"ALNIYAWAS,RIYAN BARI,ALNIYAWAS,341811",72000,"N","N","No",13,"None",0]
[8,"A",3898,null,"BHARAT CHOKIDAR",null,"Kailash","Seema Devi","M","2017-01-31",814,null,10,null,"OBC",null,null,"GOVT. SENIOR SECONDARY SCHOOL ALNIYAWAS (219445)",8140200308,null,null,8619654499,"ALNIYAWAS,RIYAN BARI,ALNIYAWAS,341812",0,"N","N","No",13,"None",1]
[8,"A",3911,null,"DHAN RAJ",null,"Kailash","Seema Devi","M","2017-02-01",815,null,10,null,"OBC",null,null,"GOVT. SENIOR SECONDARY SCHOOL ALNIYAWAS (219445)",8140200308,null,null,8619654499,"ALNIYAWAS,RIYAN BARI,ALNIYAWAS,341813",0,"N","N","No",13,"None",1]
[8,"A",4748,null,"DILEEP KUMAWAT",null,"Kailash","Seema Devi","M","2017-02-02",816,null,10,null,"OBC",null,null,"GOVT. SENIOR SECONDARY SCHOOL ALNIYAWAS (219445)",8140200308,null,null,8619654499,"ALNIYAWAS,RIYAN BARI,ALNIYAWAS,341814",55000,"N","N","No",14,"None",2]
[8,"A",3936,null,"DILIP CHOKIDAR",null,"Kailash","Seema Devi","M","2017-02-03",817,null,10,null,"OBC",null,null,"GOVT. SENIOR SECONDARY SCHOOL ALNIYAWAS (219445)",8140200308,null,null,8619654499,"ALNIYAWAS,RIYAN BARI,ALNIYAWAS,341815",0,"N","N","No",13,"None",1]
[8,"A",4745,null,"DIVYA",null,"Kailash","Seema Devi","F","2017-02-04",818,null,10,null,"OBC",null,null,"GOVT. SENIOR SECONDARY SCHOOL ALNIYAWAS (219445)",8140200308,null,null,8619654499,"ALNIYAWAS,RIYAN BARI,ALNIYAWAS,341816",40000,"N","N","No",13,"None",2]
[8,"A",4736,null,"GUNGUN SAINI",null,"Kailash","Seema Devi","F","2017-02-05",819,null,10,null,"OBC",null,null,"GOVT. SENIOR SECONDARY SCHOOL ALNIYAWAS (219445)",8140200308,null,null,8619654499,"ALNIYAWAS,RIYAN BARI,ALNIYAWAS,341817",45000,"N","N","No",13,"None",2]
[8,"A",4650,null,"HANUMAN NATH",null,"Kailash","Seema Devi","M","2017-02-06",820,null,10,null,"OBC",null,null,"GOVT. SENIOR SECONDARY SCHOOL ALNIYAWAS (219445)",8140200308,null,null,8619654499,"ALNIYAWAS,RIYAN BARI,ALNIYAWAS,341818",36000,"N","N","No",12,"None",4]
[8,"A",3917,null,"HEENA BANOO",null,"Kailash","Seema Devi","F","2017-02-07",821,null,10,null,"OBC",null,null,"GOVT. SENIOR SECONDARY SCHOOL ALNIYAWAS (219445)",8140200308,null,null,8619654499,"ALNIYAWAS,RIYAN BARI,ALNIYAWAS,341819",0,"N","N","Yes",13,"None",1]
[8,"A",4951,null,"Heena Banu",null,"Kailash","Seema Devi","F","2017-02-08",822,null,10,null,"OBC",null,null,"GOVT. SENIOR SECONDARY SCHOOL ALNIYAWAS (219445)",8140200308,null,null,8619654499,"ALNIYAWAS,RIYAN BARI,ALNIYAWAS,341820",null,"N","Y",null,12,null,1]
[8,"A",3909,null,"HUSAIN MOH.",null,"Kailash","Seema Devi","M","2017-02-09",823,null,10,null,"OBC",null,null,"GOVT. SENIOR SECONDARY SCHOOL ALNIYAWAS (219445)",8140200308,null,null,8619654499,"ALNIYAWAS,RIYAN BARI,ALNIYAWAS,341821",0,"N","N","Yes",13,"None",1]
[8,"A",4066,null,"ISHRAT BANOO",null,"Kailash","Seema Devi","F","2017-02-10",824,null,10,null,"OBC",null,null,"GOVT. SENIOR SECONDARY SCHOOL ALNIYAWAS (219445)",8140200308,null,null,8619654499,"ALNIYAWAS,RIYAN BARI,ALNIYAWAS,341822",0,"N","N","Yes",14,"None",1]
[8,"A",4989,null,"Jabid Husain",null,"Kailash","Seema Devi","M","2017-02-11",825,null,10,null,"OBC",null,null,"GOVT. SENIOR SECONDARY SCHOOL ALNIYAWAS (219445)",8140200308,null,null,8619654499,"ALNIYAWAS,RIYAN BARI,ALNIYAWAS,341823",null,"N","Y",null,13,null,1]
[8,"A",4518,null,"JITENDRA AACHARYA",null,"Kailash","Seema Devi","M","2017-02-12",826,null,10,null,"OBC",null,null,"GOVT. SENIOR SECONDARY SCHOOL ALNIYAWAS (219445)",8140200308,null,null,8619654499,"ALNIYAWAS,RIYAN BARI,ALNIYAWAS,341824",40000,"N","N","No",14,"None",0]
[8,"A",4097,null,"KANHIYALAL",null,"Kailash","Seema Devi","M","2017-02-13",827,null,10,null,"OBC",null,null,"GOVT. SENIOR SECONDARY SCHOOL ALNIYAWAS (219445)",8140200308,null,null,8619654499,"ALNIYAWAS,RIYAN BARI,ALNIYAWAS,341825",0,"N","N","No",14,"None",1]
[8,"A",4756,null,"KHEMRAJ SAINI",null,"Kailash","Seema Devi","M","2017-02-14",828,null,10,null,"OBC",null,null,"GOVT. SENIOR SECONDARY SCHOOL ALNIYAWAS (219445)",8140200308,null,null,8619654499,"ALNIYAWAS,RIYAN BARI,ALNIYAWAS,341826",60000,"N","N","No",13,"None",3]
[8,"A",4747,null,"KIRAN BAWARI",null,"Kailash","Seema Devi","F","2017-02-15",830,null,10,null,"OBC",null,null,"GOVT. SENIOR SECONDARY SCHOOL ALNIYAWAS (219445)",8140200308,null,null,8619654499,"ALNIYAWAS,RIYAN BARI,ALNIYAWAS,341827",40000,"N","N","No",13,"None",5]
[8,"A",4743,null,"KIRAN BAWARI",null,"Kailash","Seema Devi","F","2017-02-16",829,null,10,null,"OBC",null,null,"GOVT. SENIOR SECONDARY SCHOOL ALNIYAWAS (219445)",8140200308,null,null,8619654499,"ALNIYAWAS,RIYAN BARI,ALNIYAWAS,341828",40000,"N","N","No",13,"None",5]
[8,"A",4744,null,"MAMTA",null,"Kailash","Seema Devi","F","2017-02-17",831,null,10,null,"OBC",null,null,"GOVT. SENIOR SECONDARY SCHOOL ALNIYAWAS (219445)",8140200308,null,null,8619654499,"ALNIYAWAS,RIYAN BARI,ALNIYAWAS,341829",36000,"N","N","No",14,"None",2]
[8,"A",4585,null,"MANISH GURJAR",null,"Kailash","Seema Devi","M","2017-02-18",832,null,10,null,"OBC",null,null,"GOVT. SENIOR SECONDARY SCHOOL ALNIYAWAS (219445)",8140200308,null,null,8619654499,"ALNIYAWAS,RIYAN BARI,ALNIYAWAS,341830",45000,"N","N","No",10,"None",0]
[8,"A",3905,null,"MANOHAR LAL",null,"Kailash","Seema Devi","M","2017-02-19",833,null,10,null,"OBC",null,null,"GOVT. SENIOR SECONDARY SCHOOL ALNIYAWAS (219445)",8140200308,null,null,8619654499,"ALNIYAWAS,RIYAN BARI,ALNIYAWAS,341831",0,"N","N","No",13,"None",1]
[8,"A",5010,null,"Manoj",null,"Kailash","Seema Devi","M","2017-02-20",834,null,10,null,"OBC",null,null,"GOVT. SENIOR SECONDARY SCHOOL ALNIYAWAS (219445)",8140200308,null,null,8619654499,"ALNIYAWAS,RIYAN BARI,ALNIYAWAS,341832",null,"N","Y",null,12,null,4]
[8,"A",4752,null,"MANU KANWAR",null,"Kailash","Seema Devi","F","2017-02-21",835,null,10,null,"OBC",null,null,"GOVT. SENIOR SECONDARY SCHOOL ALNIYAWAS (219445)",8140200308,null,null,8619654499,"ALNIYAWAS,RIYAN BARI,ALNIYAWAS,341833",40000,"N","N","No",13,"None",5]
[8,"A",3924,null,"MAYA DEVI",null,"Kailash","Seema Devi","F","2017-02-22",836,null,10,null,"OBC",null,null,"GOVT. SENIOR SECONDARY SCHOOL ALNIYAWAS (219445)",8140200308,null,null,8619654499,"ALNIYAWAS,RIYAN BARI,ALNIYAWAS,341834",0,"N","N","No",14,"None",1]
[8,"A",3926,null,"MOHD.KHALEEL",null,"Kailash","Seema Devi","M","2017-02-23",837,null,10,null,"OBC",null,null,"GOVT. SENIOR SECONDARY SCHOOL ALNIYAWAS (219445)",8140200308,null,null,8619654499,"ALNIYAWAS,RIYAN BARI,ALNIYAWAS,341835",0,"N","N","Yes",14,"None",1]
[8,"A",3925,null,"MOHIT ACHARYA",null,"Kailash","Seema Devi","M","2017-02-24",838,null,10,null,"OBC",null,null,"GOVT. SENIOR SECONDARY SCHOOL ALNIYAWAS (219445)",8140200308,null,null,8619654499,"ALNIYAWAS,RIYAN BARI,ALNIYAWAS,341836",0,"N","N","No",13,"None",1]
[8,"A",4765,null,"MONIKA",null,"Kailash","Seema Devi","F","2017-02-25",839,null,10,null,"OBC",null,null,"GOVT. SENIOR SECONDARY SCHOOL ALNIYAWAS (219445)",8140200308,null,null,8619654499,"ALNIYAWAS,RIYAN BARI,ALNIYAWAS,341837",55000,"N","N","No",14,"None",2]
[8,"A",4767,null,"MONIKA",null,"Kailash","Seema Devi","F","2017-02-26",840,null,10,null,"OBC",null,null,"GOVT. SENIOR SECONDARY SCHOOL ALNIYAWAS (219445)",8140200308,null,null,8619654499,"ALNIYAWAS,RIYAN BARI,ALNIYAWAS,341838",45000,"N","N",null,12,"None",0]
[8,"A",3907,null,"NASEEM BANOO",null,"Kailash","Seema Devi","F","2017-02-27",841,null,10,null,"OBC",null,null,"GOVT. SENIOR SECONDARY SCHOOL ALNIYAWAS (219445)",8140200308,null,null,8619654499,"ALNIYAWAS,RIYAN BARI,ALNIYAWAS,341839",0,"N","N","Yes",13,"None",1]
[8,"A",4775,null,"NISHA NATH",null,"Kailash","Seema Devi","F","2017-02-28",842,null,10,null,"OBC",null,null,"GOVT. SENIOR SECONDARY SCHOOL ALNIYAWAS (219445)",8140200308,null,null,8619654499,"ALNIYAWAS,RIYAN BARI,ALNIYAWAS,341840",40000,"N","N","No",13,"None",5]
[8,"A",4775,null,"Nitesh Saini",null,"Kailash","Seema Devi","M","2017-03-01",843,null,10,null,"OBC",null,null,"GOVT. SENIOR SECONDARY SCHOOL ALNIYAWAS (219445)",8140200308,null,null,8619654499,"ALNIYAWAS,RIYAN BARI,ALNIYAWAS,341841",null,"N","Y",null,13,null,1]
[8,"A",4775,null,"PALAK KANWAR",null,"Kailash","Seema Devi","F","2017-03-02",844,null,10,null,"OBC",null,null,"GOVT. SENIOR SECONDARY SCHOOL ALNIYAWAS (219445)",8140200308,null,null,8619654499,"ALNIYAWAS,RIYAN BARI,ALNIYAWAS,341842",40000,"N","N","No",13,"None",5]
[8,"A",4775,null,"Pankaj Puri",null,"Kailash","Seema Devi","M","2017-03-03",845,null,10,null,"OBC",null,null,"GOVT. SENIOR SECONDARY SCHOOL ALNIYAWAS (219445)",8140200308,null,null,8619654499,"ALNIYAWAS,RIYAN BARI,ALNIYAWAS,341843",null,"N","Y",null,12,null,5]
[8,"A",4775,null,"POOJA",null,"Kailash","Seema Devi","F","2017-03-04",846,null,10,null,"OBC",null,null,"GOVT. SENIOR SECONDARY SCHOOL ALNIYAWAS (219445)",8140200308,null,null,8619654499,"ALNIYAWAS,RIYAN BARI,ALNIYAWAS,341844",0,"N","N","No",13,"None",1]
[8,"A",4775,null,"POOJA BAWARI",null,"Kailash","Seema Devi","F","2017-03-05",847,null,10,null,"OBC",null,null,"GOVT. SENIOR SECONDARY SCHOOL ALNIYAWAS (219445)",8140200308,null,null,8619654499,"ALNIYAWAS,RIYAN BARI,ALNIYAWAS,341845",40000,"N","N","No",13,"None",5]
[8,"A",4775,null,"PRAKASH",null,"Kailash","Seema Devi","M","2017-03-06",848,null,10,null,"OBC",null,null,"GOVT. SENIOR SECONDARY SCHOOL ALNIYAWAS (219445)",8140200308,null,null,8619654499,"ALNIYAWAS,RIYAN BARI,ALNIYAWAS,341846",0,"N","N","No",16,"None",1]
[8,"A",4775,null,"Radhika Vaishnav",null,"Kailash","Seema Devi","F","2017-03-07",849,null,10,null,"OBC",null,null,"GOVT. SENIOR SECONDARY SCHOOL ALNIYAWAS (219445)",8140200308,null,null,8619654499,"ALNIYAWAS,RIYAN BARI,ALNIYAWAS,341847",null,"N","Y",null,12,null,1]
[8,"A",4775,null,"Rajdeep",null,"Kailash","Seema Devi","M","2017-03-08",850,null,10,null,"OBC",null,null,"GOVT. SENIOR SECONDARY SCHOOL ALNIYAWAS (219445)",8140200308,null,null,8619654499,"ALNIYAWAS,RIYAN BARI,ALNIYAWAS,341848",0,"N","N",null,13,"None",1]
[8,"A",4775,null,"RAKESH BAVARI",null,"Kailash","Seema Devi","M","2017-03-09",851,null,10,null,"OBC",null,null,"GOVT. SENIOR SECONDARY SCHOOL ALNIYAWAS (219445)",8140200308,null,null,8619654499,"ALNIYAWAS,RIYAN BARI,ALNIYAWAS,341849",40000,"N","N","No",11,"None",0]
[8,"A",4775,null,"RAKHI KANWAR",null,"Kailash","Seema Devi","F","2017-03-10",852,null,10,null,"OBC",null,null,"GOVT. SENIOR SECONDARY SCHOOL ALNIYAWAS (219445)",8140200308,null,null,8619654499,"ALNIYAWAS,RIYAN BARI,ALNIYAWAS,341850",40000,"N","N","No",13,"None",5]
[8,"A",4775,null,"RESHMA BANOO",null,"Kailash","Seema Devi","F","2017-03-11",853,null,10,null,"OBC",null,null,"GOVT. SENIOR SECONDARY SCHOOL ALNIYAWAS (219445)",8140200308,null,null,8619654499,"ALNIYAWAS,RIYAN BARI,ALNIYAWAS,341851",0,"N","N","Yes",13,"None",1]
[8,"A",4775,null,"RUBANA BANU",null,"Kailash","Seema Devi","F","2017-03-12",854,null,10,null,"OBC",null,null,"GOVT. SENIOR SECONDARY SCHOOL ALNIYAWAS (219445)",8140200308,null,null,8619654499,"ALNIYAWAS,RIYAN BARI,ALNIYAWAS,341852",100000,"N","N","Yes",13,"None",0]
[8,"A",4775,null,"Sabir Ali",null,"Kailash","Seema Devi","M","2017-03-13",855,null,10,null,"OBC",null,null,"GOVT. SENIOR SECONDARY SCHOOL ALNIYAWAS (219445)",8140200308,null,null,8619654499,"ALNIYAWAS,RIYAN BARI,ALNIYAWAS,341853",null,"N","Y",null,14,null,1]
[8,"A",4775,null,"SAHUKAR",null,"Kailash","Seema Devi","M","2017-03-14",856,null,10,null,"OBC",null,null,"GOVT. SENIOR SECONDARY SCHOOL ALNIYAWAS (219445)",8140200308,null,null,8619654499,"ALNIYAWAS,RIYAN BARI,ALNIYAWAS,341854",40000,"N","N","No",12,"None",5]
[8,"A",4775,null,"SALMA BANOO",null,"Kailash","Seema Devi","F","2017-03-15",857,null,10,null,"OBC",null,null,"GOVT. SENIOR SECONDARY SCHOOL ALNIYAWAS (219445)",8140200308,null,null,8619654499,"ALNIYAWAS,RIYAN BARI,ALNIYAWAS,341855",0,"N","N","Yes",13,"None",1]
[8,"A",4775,null,"SANIYA BANOO",null,"Kailash","Seema Devi","F","2017-03-16",858,null,10,null,"OBC",null,null,"GOVT. SENIOR SECONDARY SCHOOL ALNIYAWAS (219445)",8140200308,null,null,8619654499,"ALNIYAWAS,RIYAN BARI,ALNIYAWAS,341856",0,"N","N","Yes",13,"None",1]
[8,"A",4775,null,"SANJAY KHAN",null,"Kailash","Seema Devi","M","2017-03-17",859,null,10,null,"OBC",null,null,"GOVT. SENIOR SECONDARY SCHOOL ALNIYAWAS (219445)",8140200308,null,null,8619654499,"ALNIYAWAS,RIYAN BARI,ALNIYAWAS,341857",0,"N","N","Yes",14,"None",1]
[8,"A",4775,null,"SAPNA GURJAR",null,"Kailash","Seema Devi","F","2017-03-18",860,null,10,null,"OBC",null,null,"GOVT. SENIOR SECONDARY SCHOOL ALNIYAWAS (219445)",8140200308,null,null,8619654499,"ALNIYAWAS,RIYAN BARI,ALNIYAWAS,341858",36000,"N","N","No",11,"None",0]
[8,"A",4775,null,"SEEMA DEVI",null,"Kailash","Seema Devi","F","2017-03-19",861,null,10,null,"OBC",null,null,"GOVT. SENIOR SECONDARY SCHOOL ALNIYAWAS (219445)",8140200308,null,null,8619654499,"ALNIYAWAS,RIYAN BARI,ALNIYAWAS,341859",0,"N","N","No",13,"None",1]
[8,"A",4775,null,"SHOHIL",null,"Kailash","Seema Devi","M","2017-03-20",862,null,10,null,"OBC",null,null,"GOVT. SENIOR SECONDARY SCHOOL ALNIYAWAS (219445)",8140200308,null,null,8619654499,"ALNIYAWAS,RIYAN BARI,ALNIYAWAS,341860",0,"N","N","Yes",13,"None",0]
[8,"A",4775,null,"Shubham Acharya",null,"Kailash","Seema Devi","M","2017-03-21",863,null,10,null,"OBC",null,null,"GOVT. SENIOR SECONDARY SCHOOL ALNIYAWAS (219445)",8140200308,null,null,8619654499,"ALNIYAWAS,RIYAN BARI,ALNIYAWAS,341861",null,"N","Y",null,13,null,1]
[8,"A",4775,null,"SUJITA",null,"Kailash","Seema Devi","F","2017-03-22",864,null,10,null,"OBC",null,null,"GOVT. SENIOR SECONDARY SCHOOL ALNIYAWAS (219445)",8140200308,null,null,8619654499,"ALNIYAWAS,RIYAN BARI,ALNIYAWAS,341862",45000,"N","N","No",12,"None",1]
[8,"A",4775,null,"Sunil Saini",null,"Kailash","Seema Devi","M","2017-03-23",865,null,10,null,"OBC",null,null,"GOVT. SENIOR SECONDARY SCHOOL ALNIYAWAS (219445)",8140200308,null,null,8619654499,"ALNIYAWAS,RIYAN BARI,ALNIYAWAS,341863",null,"N","Y",null,13,null,1]
[8,"A",4775,null,"SUNIL SAINI",null,"Kailash","Seema Devi","M","2017-03-24",866,null,10,null,"OBC",null,null,"GOVT. SENIOR SECONDARY SCHOOL ALNIYAWAS (219445)",8140200308,null,null,8619654499,"ALNIYAWAS,RIYAN BARI,ALNIYAWAS,341864",40000,"N","N","No",14,"None",1]
[8,"A",4775,null,"Sushil Kumar",null,"Kailash","Seema Devi","M","2017-03-25",867,null,10,null,"OBC",null,null,"GOVT. SENIOR SECONDARY SCHOOL ALNIYAWAS (219445)",8140200308,null,null,8619654499,"ALNIYAWAS,RIYAN BARI,ALNIYAWAS,341865",null,"N","Y",null,15,null,1]
[8,"A",4775,null,"Tanvi Singh",null,"Kailash","Seema Devi","F","2017-03-26",868,null,10,null,"OBC",null,null,"GOVT. SENIOR SECONDARY SCHOOL ALNIYAWAS (219445)",8140200308,null,null,8619654499,"ALNIYAWAS,RIYAN BARI,ALNIYAWAS,341866",80000,"N","N","No",12,"None",1]
[8,"A",4775,null,"TEENA AACHARYA",null,"Kailash","Seema Devi","F","2017-03-27",869,null,10,null,"OBC",null,null,"GOVT. SENIOR SECONDARY SCHOOL ALNIYAWAS (219445)",8140200308,null,null,8619654499,"ALNIYAWAS,RIYAN BARI,ALNIYAWAS,341867",0,"N","N","No",15,"None",1]
[9,"A",4775,null,"Aakash Suwasiya",null,"Kailash","Seema Devi","M","2017-03-28",901,null,24,null,"OBC",null,null,"GOVT. SENIOR SECONDARY SCHOOL ALNIYAWAS (219445)",8140200308,null,null,8619654499,"ALNIYAWAS,RIYAN BARI,ALNIYAWAS,341868",50000,"N","N","No",14,"None",1]
[9,"A",4775,null,"AASIF ALI",null,"Kailash","Seema Devi","M","2017-03-29",902,null,24,null,"OBC",null,null,"GOVT. SENIOR SECONDARY SCHOOL ALNIYAWAS (219445)",8140200308,null,null,8619654499,"ALNIYAWAS,RIYAN BARI,ALNIYAWAS,341869",0,"N","N","Yes",14,"None",1]
[9,"A",4775,null,"Abdul Hameed",null,"Kailash","Seema Devi","M","2017-03-30",903,null,24,null,"OBC",null,null,"GOVT. SENIOR SECONDARY SCHOOL ALNIYAWAS (219445)",8140200308,null,null,8619654499,"ALNIYAWAS,RIYAN BARI,ALNIYAWAS,341870",80000,"N","N","Yes",13,"None",2]
[9,"A",4775,null,"AJAY",null,"Kailash","Seema Devi","M","2017-03-31",904,null,24,null,"OBC",null,null,"GOVT. SENIOR SECONDARY SCHOOL ALNIYAWAS (219445)",8140200308,null,null,8619654499,"ALNIYAWAS,RIYAN BARI,ALNIYAWAS,341871",50000,"N","N","No",15,"None",0]
[9,"A",4775,null,"Alkesh Dagdi",null,"Kailash","Seema Devi","M","2017-04-01",905,null,24,null,"OBC",null,null,"GOVT. SENIOR SECONDARY SCHOOL ALNIYAWAS (219445)",8140200308,null,null,8619654499,"ALNIYAWAS,RIYAN BARI,ALNIYAWAS,341872",null,"N","Y",null,15,null,8]
[9,"A",4775,null,"Anil Kumar",null,"Kailash","Seema Devi","M","2017-04-02",606,null,24,null,"OBC",null,null,"GOVT. SENIOR SECONDARY SCHOOL ALNIYAWAS (219445)",8140200308,null,null,8619654499,"ALNIYAWAS,RIYAN BARI,ALNIYAWAS,341873",50000,"N","N","No",12,"None",1]
[9,"A",4775,null,"ANITA MALI",null,"Kailash","Seema Devi","F","2017-04-03",907,null,24,null,"OBC",null,null,"GOVT. SENIOR SECONDARY SCHOOL ALNIYAWAS (219445)",8140200308,null,null,8619654499,"ALNIYAWAS,RIYAN BARI,ALNIYAWAS,341874",40000,"N","N","No",12,"None",3]
[9,"A",4775,null,"Ankit Parihar",null,"Kailash","Seema Devi","M","2017-04-04",908,null,24,null,"OBC",null,null,"GOVT. SENIOR SECONDARY SCHOOL ALNIYAWAS (219445)",8140200308,null,null,8619654499,"ALNIYAWAS,RIYAN BARI,ALNIYAWAS,341875",null,"N","Y",null,15,null,1]
[9,"A",4775,null,"ASHOK CHOKIDAR",null,"Kailash","Seema Devi","M","2017-04-05",909,null,24,null,"OBC",null,null,"GOVT. SENIOR SECONDARY SCHOOL ALNIYAWAS (219445)",8140200308,null,null,8619654499,"ALNIYAWAS,RIYAN BARI,ALNIYAWAS,341876",36000,"N","N","No",14,"None",1]
[9,"A",4775,null,"DEEPAK KUMAWAT",null,"Kailash","Seema Devi","M","2017-04-06",911,null,24,null,"OBC",null,null,"GOVT. SENIOR SECONDARY SCHOOL ALNIYAWAS (219445)",8140200308,null,null,8619654499,"ALNIYAWAS,RIYAN BARI,ALNIYAWAS,341877",60000,"N","N","No",14,"None",2.5]
[9,"A",4775,null,"DEVENDRA KUDI",null,"Kailash","Seema Devi","M","2017-04-07",913,null,24,null,"OBC",null,null,"GOVT. SENIOR SECONDARY SCHOOL ALNIYAWAS (219445)",8140200308,null,null,8619654499,"ALNIYAWAS,RIYAN BARI,ALNIYAWAS,341878",65000,"N","N","No",13,"None",3]
[9,"A",4775,null,"Dilu Devi Gurjar",null,"Kailash","Seema Devi","F","2017-04-08",915,null,24,null,"OBC",null,null,"GOVT. SENIOR SECONDARY SCHOOL ALNIYAWAS (219445)",8140200308,null,null,8619654499,"ALNIYAWAS,RIYAN BARI,ALNIYAWAS,341879",null,"N","Y",null,13,null,1]
[9,"A",4775,null,"DINESH CHOKIDAR",null,"Kailash","Seema Devi","M","2017-04-09",916,null,24,null,"OBC",null,null,"GOVT. SENIOR SECONDARY SCHOOL ALNIYAWAS (219445)",8140200308,null,null,8619654499,"ALNIYAWAS,RIYAN BARI,ALNIYAWAS,341880",0,"N","N","No",16,"None",1]
[9,"A",4775,null,"Gopal Saini",null,"Kailash","Seema Devi","M","2017-04-10",917,null,24,null,"OBC",null,null,"GOVT. SENIOR SECONDARY SCHOOL ALNIYAWAS (219445)",8140200308,null,null,8619654499,"ALNIYAWAS,RIYAN BARI,ALNIYAWAS,341881",null,"N","Y",null,14,null,2]
[9,"A",4775,null,"Jatin Jorawal",null,"Kailash","Seema Devi","M","2017-04-11",920,null,24,null,"OBC",null,null,"GOVT. SENIOR SECONDARY SCHOOL ALNIYAWAS (219445)",8140200308,null,null,8619654499,"ALNIYAWAS,RIYAN BARI,ALNIYAWAS,341882",null,"N","Y",null,14,null,1]
[9,"A",4775,null,"KAILASH",null,"Kailash","Seema Devi","M","2017-04-12",921,null,24,null,"OBC",null,null,"GOVT. SENIOR SECONDARY SCHOOL ALNIYAWAS (219445)",8140200308,null,null,8619654499,"ALNIYAWAS,RIYAN BARI,ALNIYAWAS,341883",40000,"N","N","No",13,"None",1]
[9,"A",4775,null,"KAVITA SAINI",null,"Kailash","Seema Devi","F","2017-04-13",922,null,24,null,"OBC",null,null,"GOVT. SENIOR SECONDARY SCHOOL ALNIYAWAS (219445)",8140200308,null,null,8619654499,"ALNIYAWAS,RIYAN BARI,ALNIYAWAS,341884",0,"N","N","No",15,"None",2]
[9,"A",4775,null,"KHALID MOHAMMAD RANGREJ",null,"Kailash","Seema Devi","M","2017-04-14",923,null,24,null,"OBC",null,null,"GOVT. SENIOR SECONDARY SCHOOL ALNIYAWAS (219445)",8140200308,null,null,8619654499,"ALNIYAWAS,RIYAN BARI,ALNIYAWAS,341885",85000,"N","N","Yes",13,"None",0]
[9,"A",4775,null,"KHUSHBOO KANWAR",null,"Kailash","Seema Devi","F","2017-04-15",924,null,24,null,"OBC",null,null,"GOVT. SENIOR SECONDARY SCHOOL ALNIYAWAS (219445)",8140200308,null,null,8619654499,"ALNIYAWAS,RIYAN BARI,ALNIYAWAS,341886",60000,"N","N","No",12,"None",7]
[9,"A",4775,null,"KULDEEP SINGH",null,"Kailash","Seema Devi","M","2017-04-16",925,null,24,null,"OBC",null,null,"GOVT. SENIOR SECONDARY SCHOOL ALNIYAWAS (219445)",8140200308,null,null,8619654499,"ALNIYAWAS,RIYAN BARI,ALNIYAWAS,341887",0,"N","N","No",15,"None",1]
[9,"A",4775,null,"KULDEEP SINGH",null,"Kailash","Seema Devi","M","2017-04-17",926,null,24,null,"OBC",null,null,"GOVT. SENIOR SECONDARY SCHOOL ALNIYAWAS (219445)",8140200308,null,null,8619654499,"ALNIYAWAS,RIYAN BARI,ALNIYAWAS,341888",400000,"N","N","No",14,"None",6]
[9,"A",4775,null,"Laki Ali",null,"Kailash","Seema Devi","M","2017-04-18",927,null,24,null,"OBC",null,null,"GOVT. SENIOR SECONDARY SCHOOL ALNIYAWAS (219445)",8140200308,null,null,8619654499,"ALNIYAWAS,RIYAN BARI,ALNIYAWAS,341889",40000,"N","N","Yes",14,"None",7]
[9,"A",4775,null,"Mukesh Nath",null,"Kailash","Seema Devi","M","2017-04-19",930,null,24,null,"OBC",null,null,"GOVT. SENIOR SECONDARY SCHOOL ALNIYAWAS (219445)",8140200308,null,null,8619654499,"ALNIYAWAS,RIYAN BARI,ALNIYAWAS,341890",null,"N","Y",null,12,null,6]
[9,"A",4775,null,"MUSKAN BANOO",null,"Kailash","Seema Devi","F","2017-04-20",932,null,24,null,"OBC",null,null,"GOVT. SENIOR SECONDARY SCHOOL ALNIYAWAS (219445)",8140200308,null,null,8619654499,"ALNIYAWAS,RIYAN BARI,ALNIYAWAS,341891",72000,"N","N","Yes",14,"None",1]
[9,"A",4775,null,"MUSKAN MIRASHI",null,"Kailash","Seema Devi","F","2017-04-21",933,null,24,null,"OBC",null,null,"GOVT. SENIOR SECONDARY SCHOOL ALNIYAWAS (219445)",8140200308,null,null,8619654499,"ALNIYAWAS,RIYAN BARI,ALNIYAWAS,341892",0,"N","N","Yes",14,"None",1]
[9,"A",4775,null,"PRAKASH CHAND MALI",null,"Kailash","Seema Devi","M","2017-04-22",935,null,24,null,"OBC",null,null,"GOVT. SENIOR SECONDARY SCHOOL ALNIYAWAS (219445)",8140200308,null,null,8619654499,"ALNIYAWAS,RIYAN BARI,ALNIYAWAS,341893",40000,"N","N","No",13,"None",1]
[9,"A",4775,null,"Pushpendra Singh",null,"Kailash","Seema Devi","M","2017-04-23",936,null,24,null,"OBC",null,null,"GOVT. SENIOR SECONDARY SCHOOL ALNIYAWAS (219445)",8140200308,null,null,8619654499,"ALNIYAWAS,RIYAN BARI,ALNIYAWAS,341894",60000,"N","N","No",13,"None",5]
[9,"A",4775,null,"Ravi Choudhary",null,"Kailash","Seema Devi","M","2017-04-24",938,null,24,null,"OBC",null,null,"GOVT. SENIOR SECONDARY SCHOOL ALNIYAWAS (219445)",8140200308,null,null,8619654499,"ALNIYAWAS,RIYAN BARI,ALNIYAWAS,341895",0,"N","N","No",12,"None",0]
[9,"A",4775,null,"Rinku Vaishnav",null,"Kailash","Seema Devi","F","2017-04-25",939,null,24,null,"OBC",null,null,"GOVT. SENIOR SECONDARY SCHOOL ALNIYAWAS (219445)",8140200308,null,null,8619654499,"ALNIYAWAS,RIYAN BARI,ALNIYAWAS,341896",null,"N","Y",null,14,null,1]
[9,"A",4775,null,"RUBINA",null,"Kailash","Seema Devi","F","2017-04-26",940,null,24,null,"OBC",null,null,"GOVT. SENIOR SECONDARY SCHOOL ALNIYAWAS (219445)",8140200308,null,null,8619654499,"ALNIYAWAS,RIYAN BARI,ALNIYAWAS,341897",80000,"N","N","Yes",14,"None",0]
[9,"A",4775,null,"RUKHSAR",null,"Kailash","Seema Devi","F","2017-04-27",941,null,24,null,"OBC",null,null,"GOVT. SENIOR SECONDARY SCHOOL ALNIYAWAS (219445)",8140200308,null,null,8619654499,"ALNIYAWAS,RIYAN BARI,ALNIYAWAS,341898",80000,"N","N","Yes",13,"None",0]
[9,"A",4775,null,"Sahina Banu",null,"Kailash","Seema Devi","F","2017-04-28",942,null,24,null,"OBC",null,null,"GOVT. SENIOR SECONDARY SCHOOL ALNIYAWAS (219445)",8140200308,null,null,8619654499,"ALNIYAWAS,RIYAN BARI,ALNIYAWAS,341899",42000,"N","N","Yes",13,"None",1]
[9,"A",4775,null,"SAMEER MIRASHI",null,"Kailash","Seema Devi","M","2017-04-29",944,null,24,null,"OBC",null,null,"GOVT. SENIOR SECONDARY SCHOOL ALNIYAWAS (219445)",8140200308,null,null,8619654499,"ALNIYAWAS,RIYAN BARI,ALNIYAWAS,341900",0,"N","N","Yes",14,"None",1]
[9,"A",4775,null,"SAROJ",null,"Kailash","Seema Devi","F","2017-04-30",945,null,24,null,"OBC",null,null,"GOVT. SENIOR SECONDARY SCHOOL ALNIYAWAS (219445)",8140200308,null,null,8619654499,"ALNIYAWAS,RIYAN BARI,ALNIYAWAS,341901",30000,"N","N","No",14,"None",0]
[9,"A",4775,null,"SATYANARAYAN",null,"Kailash","Seema Devi","M","2017-05-01",946,null,24,null,"OBC",null,null,"GOVT. SENIOR SECONDARY SCHOOL ALNIYAWAS (219445)",8140200308,null,null,8619654499,"ALNIYAWAS,RIYAN BARI,ALNIYAWAS,341902",45000,"N","N","No",14,"None",4]
[9,"A",4775,null,"SHOHIL HUSAIN",null,"Kailash","Seema Devi","M","2017-05-02",947,null,24,null,"OBC",null,null,"GOVT. SENIOR SECONDARY SCHOOL ALNIYAWAS (219445)",8140200308,null,null,8619654499,"ALNIYAWAS,RIYAN BARI,ALNIYAWAS,341903",0,"N","N","Yes",14,"None",1]
[9,"A",4775,null,"SUMAN",null,"Kailash","Seema Devi","F","2017-05-03",948,null,24,null,"OBC",null,null,"GOVT. SENIOR SECONDARY SCHOOL ALNIYAWAS (219445)",8140200308,null,null,8619654499,"ALNIYAWAS,RIYAN BARI,ALNIYAWAS,341904",50000,"N","N","No",14,"None",3]
[9,"A",4775,null,"SUMITRA DEVI",null,"Kailash","Seema Devi","F","2017-05-04",949,null,24,null,"OBC",null,null,"GOVT. SENIOR SECONDARY SCHOOL ALNIYAWAS (219445)",8140200308,null,null,8619654499,"ALNIYAWAS,RIYAN BARI,ALNIYAWAS,341905",36000,"N","N","No",13,"None",1]
[9,"A",4775,null,"SUNIL MEGHWAL",null,"Kailash","Seema Devi","M","2017-05-05",952,null,24,null,"OBC",null,null,"GOVT. SENIOR SECONDARY SCHOOL ALNIYAWAS (219445)",8140200308,null,null,8619654499,"ALNIYAWAS,RIYAN BARI,ALNIYAWAS,341906",36000,"N","N","No",12,"None",6]
[9,"A",4775,null,"SUNIL MEHRA",null,"Kailash","Seema Devi","M","2017-05-06",953,null,24,null,"OBC",null,null,"GOVT. SENIOR SECONDARY SCHOOL ALNIYAWAS (219445)",8140200308,null,null,8619654499,"ALNIYAWAS,RIYAN BARI,ALNIYAWAS,341907",50000,"N","N","No",16,"None",1]
[9,"A",4775,null,"SUNIL RAWAL",null,"Kailash","Seema Devi","M","2017-05-07",954,null,24,null,"OBC",null,null,"GOVT. SENIOR SECONDARY SCHOOL ALNIYAWAS (219445)",8140200308,null,null,8619654499,"ALNIYAWAS,RIYAN BARI,ALNIYAWAS,341908",60000,"N","N","No",13,"None",1]
[9,"A",4775,null,"SUNIL SAINI",null,"Kailash","Seema Devi","M","2017-05-08",955,null,24,null,"OBC",null,null,"GOVT. SENIOR SECONDARY SCHOOL ALNIYAWAS (219445)",8140200308,null,null,8619654499,"ALNIYAWAS,RIYAN BARI,ALNIYAWAS,341909",38000,"N","N","No",13,"None",2]
[9,"A",4775,null,"SUSHIL SINGODIYA",null,"Kailash","Seema Devi","M","2017-05-09",956,null,24,null,"OBC",null,null,"GOVT. SENIOR SECONDARY SCHOOL ALNIYAWAS (219445)",8140200308,null,null,8619654499,"ALNIYAWAS,RIYAN BARI,ALNIYAWAS,341910",60000,"N","N","No",14,"None",2]
[9,"A",4775,null,"TARA CHAND",null,"Kailash","Seema Devi","M","2017-05-10",957,null,24,null,"OBC",null,null,"GOVT. SENIOR SECONDARY SCHOOL ALNIYAWAS (219445)",8140200308,null,null,8619654499,"ALNIYAWAS,RIYAN BARI,ALNIYAWAS,341911",0,"N","N","No",16,"None",1]
[9,"A",4775,null,"VASEEM",null,"Kailash","Seema Devi","M","2017-05-11",959,null,24,null,"OBC",null,null,"GOVT. SENIOR SECONDARY SCHOOL ALNIYAWAS (219445)",8140200308,null,null,8619654499,"ALNIYAWAS,RIYAN BARI,ALNIYAWAS,341912",0,"N","N","Yes",15,"None",1]
[9,"A",4775,null,"Vikas Tamboli",null,"Kailash","Seema Devi","M","2017-05-12",960,null,24,null,"OBC",null,null,"GOVT. SENIOR SECONDARY SCHOOL ALNIYAWAS (219445)",8140200308,null,null,8619654499,"ALNIYAWAS,RIYAN BARI,ALNIYAWAS,341913",72000,"N","N","No",14,"None",1]
[9,"A",4775,null,"VIKRAM",null,"Kailash","Seema Devi","M","2017-05-13",961,null,24,null,"OBC",null,null,"GOVT. SENIOR SECONDARY SCHOOL ALNIYAWAS (219445)",8140200308,null,null,8619654499,"ALNIYAWAS,RIYAN BARI,ALNIYAWAS,341914",0,"N","N","No",15,"None",1]
[9,"A",4775,null,"VIMALA KUMAWAT",null,"Kailash","Seema Devi","F","2017-05-14",962,null,24,null,"OBC",null,null,"GOVT. SENIOR SECONDARY SCHOOL ALNIYAWAS (219445)",8140200308,null,null,8619654499,"ALNIYAWAS,RIYAN BARI,ALNIYAWAS,341915",0,"N","N","No",15,"None",2]
[9,"A",4775,null,"VIRENDRA CHOKIDAR",null,"Kailash","Seema Devi","M","2017-05-15",963,null,24,null,"OBC",null,null,"GOVT. SENIOR SECONDARY SCHOOL ALNIYAWAS (219445)",8140200308,null,null,8619654499,"ALNIYAWAS,RIYAN BARI,ALNIYAWAS,341916",0,"N","N","No",15,"None",0]
[9,"B",4775,null,"AFROJ BANU",null,"Kailash","Seema Devi","F","2017-05-16",1001,null,24,null,"OBC",null,null,"GOVT. SENIOR SECONDARY SCHOOL ALNIYAWAS (219445)",8140200308,null,null,8619654499,"ALNIYAWAS,RIYAN BARI,ALNIYAWAS,341917",40000,"N","N","Yes",14,"None",4]
[9,"B",4775,null,"ALTAF MOHAMMAD",null,"Kailash","Seema Devi","M","2017-05-17",1002,null,24,null,"OBC",null,null,"GOVT. SENIOR SECONDARY SCHOOL ALNIYAWAS (219445)",8140200308,null,null,8619654499,"ALNIYAWAS,RIYAN BARI,ALNIYAWAS,341918",72000,"N","N","Yes",14,"None",0]
[9,"B",4775,null,"ANNU KANWAR",null,"Kailash","Seema Devi","F","2017-05-18",1003,null,24,null,"OBC",null,null,"GOVT. SENIOR SECONDARY SCHOOL ALNIYAWAS (219445)",8140200308,null,null,8619654499,"ALNIYAWAS,RIYAN BARI,ALNIYAWAS,341919",36000,"N","N","No",13,"None",5]
[9,"B",4775,null,"Arpit Tailor",null,"Kailash","Seema Devi","M","2017-05-19",1004,null,24,null,"OBC",null,null,"GOVT. SENIOR SECONDARY SCHOOL ALNIYAWAS (219445)",8140200308,null,null,8619654499,"ALNIYAWAS,RIYAN BARI,ALNIYAWAS,341920",null,"N","Y",null,13,null,1]
[9,"B",4775,null,"Ashraf Ali",null,"Kailash","Seema Devi","M","2017-05-20",1005,null,24,null,"OBC",null,null,"GOVT. SENIOR SECONDARY SCHOOL ALNIYAWAS (219445)",8140200308,null,null,8619654499,"ALNIYAWAS,RIYAN BARI,ALNIYAWAS,341921",null,"N","Y",null,15,null,1]
[9,"B",4775,null,"BALRAM GURJAR",null,"Kailash","Seema Devi","M","2017-05-21",1006,null,24,null,"OBC",null,null,"GOVT. SENIOR SECONDARY SCHOOL ALNIYAWAS (219445)",8140200308,null,null,8619654499,"ALNIYAWAS,RIYAN BARI,ALNIYAWAS,341922",0,"N","N","No",13,"None",1]
[9,"B",4775,null,"BASANTI",null,"Kailash","Seema Devi","F","2017-05-22",1007,null,24,null,"OBC",null,null,"GOVT. SENIOR SECONDARY SCHOOL ALNIYAWAS (219445)",8140200308,null,null,8619654499,"ALNIYAWAS,RIYAN BARI,ALNIYAWAS,341923",50000,"N","N","No",14,"None",0]
[9,"B",4775,null,"Chanchal Saini",null,"Kailash","Seema Devi","F","2017-05-23",1008,null,24,null,"OBC",null,null,"GOVT. SENIOR SECONDARY SCHOOL ALNIYAWAS (219445)",8140200308,null,null,8619654499,"ALNIYAWAS,RIYAN BARI,ALNIYAWAS,341924",1400000,"N","N","No",13,"None",1]
[9,"B",4775,null,"CHANCHAL KUMAWAT",null,"Kailash","Seema Devi","F","2017-05-24",1009,null,24,null,"OBC",null,null,"GOVT. SENIOR SECONDARY SCHOOL ALNIYAWAS (219445)",8140200308,null,null,8619654499,"ALNIYAWAS,RIYAN BARI,ALNIYAWAS,341925",65000,"N","N","No",14,"None",2.5]
[9,"B",4775,null,"Cheteswar Jhala",null,"Kailash","Seema Devi","M","2017-05-25",1010,null,24,null,"OBC",null,null,"GOVT. SENIOR SECONDARY SCHOOL ALNIYAWAS (219445)",8140200308,null,null,8619654499,"ALNIYAWAS,RIYAN BARI,ALNIYAWAS,341926",80000,"N","N","No",13,"None",1]
[9,"B",4775,null,"Deepika Prajapat",null,"Kailash","Seema Devi","F","2017-05-26",1011,null,24,null,"OBC",null,null,"GOVT. SENIOR SECONDARY SCHOOL ALNIYAWAS (219445)",8140200308,null,null,8619654499,"ALNIYAWAS,RIYAN BARI,ALNIYAWAS,341927",80000,"N","N","No",13,"None",1]
[9,"B",4775,null,"Devendra Singh",null,"Kailash","Seema Devi","M","2017-05-27",1012,null,24,null,"OBC",null,null,"GOVT. SENIOR SECONDARY SCHOOL ALNIYAWAS (219445)",8140200308,null,null,8619654499,"ALNIYAWAS,RIYAN BARI,ALNIYAWAS,341928",80000,"N","N","No",14,"None",1]
[9,"B",4775,null,"Dinesh Saini",null,"Kailash","Seema Devi","M","2017-05-28",1013,null,24,null,"OBC",null,null,"GOVT. SENIOR SECONDARY SCHOOL ALNIYAWAS (219445)",8140200308,null,null,8619654499,"ALNIYAWAS,RIYAN BARI,ALNIYAWAS,341929",80000,"N","N","No",13,"None",3]
[9,"B",4775,null,"GHANSHYAM RAVAL",null,"Kailash","Seema Devi","M","2017-05-29",1014,null,24,null,"OBC",null,null,"GOVT. SENIOR SECONDARY SCHOOL ALNIYAWAS (219445)",8140200308,null,null,8619654499,"ALNIYAWAS,RIYAN BARI,ALNIYAWAS,341930",0,"N","N","No",13,"None",1]
[9,"B",4775,null,"GUDDI",null,"Kailash","Seema Devi","F","2017-05-30",1015,null,24,null,"OBC",null,null,"GOVT. SENIOR SECONDARY SCHOOL ALNIYAWAS (219445)",8140200308,null,null,8619654499,"ALNIYAWAS,RIYAN BARI,ALNIYAWAS,341931",40000,"N","N","No",12,"None",3]
[9,"B",4775,null,"GULBAR BANU",null,"Kailash","Seema Devi","F","2017-05-31",915,null,24,null,"OBC",null,null,"GOVT. SENIOR SECONDARY SCHOOL ALNIYAWAS (219445)",8140200308,null,null,8619654499,"ALNIYAWAS,RIYAN BARI,ALNIYAWAS,341932",65000,"N","N","Yes",15,"None",0]
[9,"B",4775,null,"Hansa Devi",null,"Kailash","Seema Devi","F","2017-06-01",1016,null,24,null,"OBC",null,null,"GOVT. SENIOR SECONDARY SCHOOL ALNIYAWAS (219445)",8140200308,null,null,8619654499,"ALNIYAWAS,RIYAN BARI,ALNIYAWAS,341933",null,"N","Y",null,13,null,6]
[9,"B",4775,null,"Hanuman Ram",null,"Kailash","Seema Devi","M","2017-06-02",1017,null,24,null,"OBC",null,null,"GOVT. SENIOR SECONDARY SCHOOL ALNIYAWAS (219445)",8140200308,null,null,8619654499,"ALNIYAWAS,RIYAN BARI,ALNIYAWAS,341934",50000,"N","N","No",12,"None",3]
[9,"B",4775,null,"Harendra Saini",null,"Kailash","Seema Devi","M","2017-06-03",1018,null,24,null,"OBC",null,null,"GOVT. SENIOR SECONDARY SCHOOL ALNIYAWAS (219445)",8140200308,null,null,8619654499,"ALNIYAWAS,RIYAN BARI,ALNIYAWAS,341935",null,"N","Y",null,14,null,1]
[9,"B",4775,null,"Hari Ram",null,"Kailash","Seema Devi","M","2017-06-04",1019,null,24,null,"OBC",null,null,"GOVT. SENIOR SECONDARY SCHOOL ALNIYAWAS (219445)",8140200308,null,null,8619654499,"ALNIYAWAS,RIYAN BARI,ALNIYAWAS,341936",100000,"N","N","No",14,"None",4]
[9,"B",4775,null,"HASMATI BANO",null,"Kailash","Seema Devi","F","2017-06-05",1020,null,24,null,"OBC",null,null,"GOVT. SENIOR SECONDARY SCHOOL ALNIYAWAS (219445)",8140200308,null,null,8619654499,"ALNIYAWAS,RIYAN BARI,ALNIYAWAS,341937",30000,"N","N","Yes",15,"None",0]
[9,"B",4775,null,"JAIPAL SINGH",null,"Kailash","Seema Devi","M","2017-06-06",1021,null,24,null,"OBC",null,null,"GOVT. SENIOR SECONDARY SCHOOL ALNIYAWAS (219445)",8140200308,null,null,8619654499,"ALNIYAWAS,RIYAN BARI,ALNIYAWAS,341938",36000,"N","N","No",14,"None",5]
[9,"B",4775,null,"Jay Shree Prajapat",null,"Kailash","Seema Devi","F","2017-06-07",1022,null,24,null,"OBC",null,null,"GOVT. SENIOR SECONDARY SCHOOL ALNIYAWAS (219445)",8140200308,null,null,8619654499,"ALNIYAWAS,RIYAN BARI,ALNIYAWAS,341939",793012,"N","N","No",13,"None",1]
[9,"B",4775,null,"KAJOO DEVI",null,"Kailash","Seema Devi","F","2017-06-08",1023,null,24,null,"OBC",null,null,"GOVT. SENIOR SECONDARY SCHOOL ALNIYAWAS (219445)",8140200308,null,null,8619654499,"ALNIYAWAS,RIYAN BARI,ALNIYAWAS,341940",0,"N","N","No",14,"None",1]
[9,"B",4775,null,"KANCHAN DEVI",null,"Kailash","Seema Devi","F","2017-06-09",1024,null,24,null,"OBC",null,null,"GOVT. SENIOR SECONDARY SCHOOL ALNIYAWAS (219445)",8140200308,null,null,8619654499,"ALNIYAWAS,RIYAN BARI,ALNIYAWAS,341941",40000,"N","N","No",17,"None",3]
[9,"B",4775,null,"KAVITA KUMAWAT",null,"Kailash","Seema Devi","F","2017-06-10",1025,null,24,null,"OBC",null,null,"GOVT. SENIOR SECONDARY SCHOOL ALNIYAWAS (219445)",8140200308,null,null,8619654499,"ALNIYAWAS,RIYAN BARI,ALNIYAWAS,341942",65000,"N","N","No",14,"None",2]
[9,"B",4775,null,"KOMAL",null,"Kailash","Seema Devi","F","2017-06-11",1026,null,24,null,"OBC",null,null,"GOVT. SENIOR SECONDARY SCHOOL ALNIYAWAS (219445)",8140200308,null,null,8619654499,"ALNIYAWAS,RIYAN BARI,ALNIYAWAS,341943",40000,"N","N","No",14,"None",2]
[9,"B",4775,null,"Komal Kanwar",null,"Kailash","Seema Devi","F","2017-06-12",1027,null,24,null,"OBC",null,null,"GOVT. SENIOR SECONDARY SCHOOL ALNIYAWAS (219445)",8140200308,null,null,8619654499,"ALNIYAWAS,RIYAN BARI,ALNIYAWAS,341944",null,"N","Y",null,16,null,1]
[9,"B",4775,null,"KOMAL MALI",null,"Kailash","Seema Devi","F","2017-06-13",1028,null,24,null,"OBC",null,null,"GOVT. SENIOR SECONDARY SCHOOL ALNIYAWAS (219445)",8140200308,null,null,8619654499,"ALNIYAWAS,RIYAN BARI,ALNIYAWAS,341945",72000,"N","N","No",14,"None",3]
[9,"B",4775,null,"Laxmi",null,"Kailash","Seema Devi","F","2017-06-14",1029,null,24,null,"OBC",null,null,"GOVT. SENIOR SECONDARY SCHOOL ALNIYAWAS (219445)",8140200308,null,null,8619654499,"ALNIYAWAS,RIYAN BARI,ALNIYAWAS,341946",null,"N","Y",null,14,null,3]
[9,"B",4775,null,"LAXMI KUMARI",null,"Kailash","Seema Devi","F","2017-06-15",1030,null,24,null,"OBC",null,null,"GOVT. SENIOR SECONDARY SCHOOL ALNIYAWAS (219445)",8140200308,null,null,8619654499,"ALNIYAWAS,RIYAN BARI,ALNIYAWAS,341947",60000,"N","N","No",15,"None",0]
[9,"B",4775,null,"MAMTA",null,"Kailash","Seema Devi","F","2017-06-16",1031,null,24,null,"OBC",null,null,"GOVT. SENIOR SECONDARY SCHOOL ALNIYAWAS (219445)",8140200308,null,null,8619654499,"ALNIYAWAS,RIYAN BARI,ALNIYAWAS,341948",100000,"N","N","No",14,"None",4]
[9,"B",4775,null,"MANISHA SAINI",null,"Kailash","Seema Devi","F","2017-06-17",1032,null,24,null,"OBC",null,null,"GOVT. SENIOR SECONDARY SCHOOL ALNIYAWAS (219445)",8140200308,null,null,8619654499,"ALNIYAWAS,RIYAN BARI,ALNIYAWAS,341949",45000,"N","N","No",14,"None",3]
[9,"B",4775,null,"MAYA RAIDAS",null,"Kailash","Seema Devi","F","2017-06-18",1033,null,24,null,"OBC",null,null,"GOVT. SENIOR SECONDARY SCHOOL ALNIYAWAS (219445)",8140200308,null,null,8619654499,"ALNIYAWAS,RIYAN BARI,ALNIYAWAS,341950",45000,"N","N","No",14,"None",0]
[9,"B",4775,null,"MITALI KUMAWAT",null,"Kailash","Seema Devi","F","2017-06-19",1034,null,24,null,"OBC",null,null,"GOVT. SENIOR SECONDARY SCHOOL ALNIYAWAS (219445)",8140200308,null,null,8619654499,"ALNIYAWAS,RIYAN BARI,ALNIYAWAS,341951",65000,"N","N","No",13,"None",2]
[9,"B",4775,null,"Mohit Saini",null,"Kailash","Seema Devi","M","2017-06-20",1035,null,24,null,"OBC",null,null,"GOVT. SENIOR SECONDARY SCHOOL ALNIYAWAS (219445)",8140200308,null,null,8619654499,"ALNIYAWAS,RIYAN BARI,ALNIYAWAS,341952",null,"N","Y",null,14,null,1]
[9,"B",4775,null,"MONIKA BANU",null,"Kailash","Seema Devi","F","2017-06-21",1036,null,24,null,"OBC",null,null,"GOVT. SENIOR SECONDARY SCHOOL ALNIYAWAS (219445)",8140200308,null,null,8619654499,"ALNIYAWAS,RIYAN BARI,ALNIYAWAS,341953",0,"N","N","Yes",14,"None",1]
[9,"B",4775,null,"MONIKA CHOUDHARY",null,"Kailash","Seema Devi","F","2017-06-22",1037,null,24,null,"OBC",null,null,"GOVT. SENIOR SECONDARY SCHOOL ALNIYAWAS (219445)",8140200308,null,null,8619654499,"ALNIYAWAS,RIYAN BARI,ALNIYAWAS,341954",60000,"N","N","No",14,"None",3]
[9,"B",4775,null,"MUMAL KANWAR",null,"Kailash","Seema Devi","F","2017-06-23",1038,null,24,null,"OBC",null,null,"GOVT. SENIOR SECONDARY SCHOOL ALNIYAWAS (219445)",8140200308,null,null,8619654499,"ALNIYAWAS,RIYAN BARI,ALNIYAWAS,341955",45000,"N","N","No",14,"None",5]
[9,"B",4775,null,"MUSKAN QURAISHI",null,"Kailash","Seema Devi","F","2017-06-24",1039,null,24,null,"OBC",null,null,"GOVT. SENIOR SECONDARY SCHOOL ALNIYAWAS (219445)",8140200308,null,null,8619654499,"ALNIYAWAS,RIYAN BARI,ALNIYAWAS,341956",47000,"N","N","Yes",15,"None",0]
[9,"B",4775,null,"Nabab Ali",null,"Kailash","Seema Devi","M","2017-06-25",1040,null,24,null,"OBC",null,null,"GOVT. SENIOR SECONDARY SCHOOL ALNIYAWAS (219445)",8140200308,null,null,8619654499,"ALNIYAWAS,RIYAN BARI,ALNIYAWAS,341957",60000,"N","N","Yes",15,"None",0]
[9,"B",4775,null,"NAJMEEN",null,"Kailash","Seema Devi","F","2017-06-26",1041,null,24,null,"OBC",null,null,"GOVT. SENIOR SECONDARY SCHOOL ALNIYAWAS (219445)",8140200308,null,null,8619654499,"ALNIYAWAS,RIYAN BARI,ALNIYAWAS,341958",60000,"N","N","Yes",13,"None",1]
[9,"B",4775,null,"Narendra Singh","Late","Kailash","Seema Devi","M","2017-06-27",1042,null,24,null,"OBC",null,null,"GOVT. SENIOR SECONDARY SCHOOL ALNIYAWAS (219445)",8140200308,null,null,8619654499,"ALNIYAWAS,RIYAN BARI,ALNIYAWAS,341959",50000,"N","N","No",14,"None",6]
[9,"B",4775,null,"Pradeep Sharma",null,"Kailash","Seema Devi","M","2017-06-28",1043,null,24,null,"OBC",null,null,"GOVT. SENIOR SECONDARY SCHOOL ALNIYAWAS (219445)",8140200308,null,null,8619654499,"ALNIYAWAS,RIYAN BARI,ALNIYAWAS,341960",null,"N","Y",null,14,null,1]
[9,"B",4775,null,"PRAFUL VYAS",null,"Kailash","Seema Devi","M","2017-06-29",1044,null,24,null,"OBC",null,null,"GOVT. SENIOR SECONDARY SCHOOL ALNIYAWAS (219445)",8140200308,null,null,8619654499,"ALNIYAWAS,RIYAN BARI,ALNIYAWAS,341961",75000,"N","N","No",14,"None",1]
[9,"B",4775,null,"Praveen Samariya",null,"Kailash","Seema Devi","M","2017-06-30",1045,null,24,null,"OBC",null,null,"GOVT. SENIOR SECONDARY SCHOOL ALNIYAWAS (219445)",8140200308,null,null,8619654499,"ALNIYAWAS,RIYAN BARI,ALNIYAWAS,341962",null,"N","Y",null,13,null,5]
[9,"B",4775,null,"RAHMAT",null,"Kailash","Seema Devi","F","2017-07-01",1046,null,24,null,"OBC",null,null,"GOVT. SENIOR SECONDARY SCHOOL ALNIYAWAS (219445)",8140200308,null,null,8619654499,"ALNIYAWAS,RIYAN BARI,ALNIYAWAS,341963",80000,"N","N","Yes",15,"None",0]
[9,"B",4775,null,"RAJBA KOSAR",null,"Kailash","Seema Devi","F","2017-07-02",1047,null,24,null,"OBC",null,null,"GOVT. SENIOR SECONDARY SCHOOL ALNIYAWAS (219445)",8140200308,null,null,8619654499,"ALNIYAWAS,RIYAN BARI,ALNIYAWAS,341964",60000,"N","N","Yes",13,"None",0]
[9,"B",4775,null,"RAVINDRA BHATI",null,"Kailash","Seema Devi","M","2017-07-03",1048,null,24,null,"OBC",null,null,"GOVT. SENIOR SECONDARY SCHOOL ALNIYAWAS (219445)",8140200308,null,null,8619654499,"ALNIYAWAS,RIYAN BARI,ALNIYAWAS,341965",44000,"N","N",null,13,"None",0]
[9,"B",4775,null,"SANDEEP SAINI",null,"Kailash","Seema Devi","M","2017-07-04",1049,null,24,null,"OBC",null,null,"GOVT. SENIOR SECONDARY SCHOOL ALNIYAWAS (219445)",8140200308,null,null,8619654499,"ALNIYAWAS,RIYAN BARI,ALNIYAWAS,341966",45000,"N","N","No",14,"None",2]
[9,"B",4775,null,"SHILPA KUDI",null,"Kailash","Seema Devi","F","2017-07-05",1051,null,24,null,"OBC",null,null,"GOVT. SENIOR SECONDARY SCHOOL ALNIYAWAS (219445)",8140200308,null,null,8619654499,"ALNIYAWAS,RIYAN BARI,ALNIYAWAS,341967",65000,"N","N","No",13,"None",3]
[9,"B",4775,null,"SONAM KUMAWAT",null,"Kailash","Seema Devi","F","2017-07-06",1053,null,24,null,"OBC",null,null,"GOVT. SENIOR SECONDARY SCHOOL ALNIYAWAS (219445)",8140200308,null,null,8619654499,"ALNIYAWAS,RIYAN BARI,ALNIYAWAS,341968",65000,"N","N","No",14,"None",2.5]
[9,"B",4775,null,"SONU DEVI",null,"Kailash","Seema Devi","F","2017-07-07",1054,null,24,null,"OBC",null,null,"GOVT. SENIOR SECONDARY SCHOOL ALNIYAWAS (219445)",8140200308,null,null,8619654499,"ALNIYAWAS,RIYAN BARI,ALNIYAWAS,341969",36000,"N","N","No",15,"None",3]
[9,"B",4775,null,"SUMAN KANWAR",null,"Kailash","Seema Devi","F","2017-07-08",1056,null,24,null,"OBC",null,null,"GOVT. SENIOR SECONDARY SCHOOL ALNIYAWAS (219445)",8140200308,null,null,8619654499,"ALNIYAWAS,RIYAN BARI,ALNIYAWAS,341970",0,"N","N","No",14,"None",5]
[9,"B",4775,null,"Sumit Saini",null,"Kailash","Seema Devi","M","2017-07-09",1057,null,24,null,"OBC",null,null,"GOVT. SENIOR SECONDARY SCHOOL ALNIYAWAS (219445)",8140200308,null,null,8619654499,"ALNIYAWAS,RIYAN BARI,ALNIYAWAS,341971",80000,"N","N","No",13,"None",1]
[9,"B",4775,null,"SUMITA",null,"Kailash","Seema Devi","F","2017-07-10",1058,null,24,null,"OBC",null,null,"GOVT. SENIOR SECONDARY SCHOOL ALNIYAWAS (219445)",8140200308,null,null,8619654499,"ALNIYAWAS,RIYAN BARI,ALNIYAWAS,341972",30000,"N","N","No",14,"None",1]
[9,"B",4775,null,"Sunil Saini",null,"Kailash","Seema Devi","M","2017-07-11",1059,null,24,null,"OBC",null,null,"GOVT. SENIOR SECONDARY SCHOOL ALNIYAWAS (219445)",8140200308,null,null,8619654499,"ALNIYAWAS,RIYAN BARI,ALNIYAWAS,341973",50000,"N","N","No",15,"None",1]
[9,"B",4775,null,"SUNITA PANWAR",null,"Kailash","Seema Devi","F","2017-07-12",1060,null,24,null,"OBC",null,null,"GOVT. SENIOR SECONDARY SCHOOL ALNIYAWAS (219445)",8140200308,null,null,8619654499,"ALNIYAWAS,RIYAN BARI,ALNIYAWAS,341974",52000,"N","N","No",14,"None",1]
[9,"B",4775,null,"SURENDRA KUMAWAT",null,"Kailash","Seema Devi","M","2017-07-13",1061,null,24,null,"OBC",null,null,"GOVT. SENIOR SECONDARY SCHOOL ALNIYAWAS (219445)",8140200308,null,null,8619654499,"ALNIYAWAS,RIYAN BARI,ALNIYAWAS,341975",65000,"N","N","No",14,"None",2.5]
[9,"B",4775,null,"Tija Devi",null,"Kailash","Seema Devi","F","2017-07-14",1062,null,24,null,"OBC",null,null,"GOVT. SENIOR SECONDARY SCHOOL ALNIYAWAS (219445)",8140200308,null,null,8619654499,"ALNIYAWAS,RIYAN BARI,ALNIYAWAS,341976",null,"N","Y",null,13,null,3]
[9,"B",4775,null,"URMILA",null,"Kailash","Seema Devi","F","2017-07-15",1063,null,24,null,"OBC",null,null,"GOVT. SENIOR SECONDARY SCHOOL ALNIYAWAS (219445)",8140200308,null,null,8619654499,"ALNIYAWAS,RIYAN BARI,ALNIYAWAS,341977",30000,"N","N","No",14,"None",1]
[9,"B",4775,null,"Varsha Kanwar",null,"Kailash","Seema Devi","F","2017-07-16",1064,null,24,null,"OBC",null,null,"GOVT. SENIOR SECONDARY SCHOOL ALNIYAWAS (219445)",8140200308,null,null,8619654499,"ALNIYAWAS,RIYAN BARI,ALNIYAWAS,341978",null,"N","Y",null,13,null,1]
[9,"B",4775,null,"Vikas Barara",null,"Kailash","Seema Devi","M","2017-07-17",1065,null,24,null,"OBC",null,null,"GOVT. SENIOR SECONDARY SCHOOL ALNIYAWAS (219445)",8140200308,null,null,8619654499,"ALNIYAWAS,RIYAN BARI,ALNIYAWAS,341979",null,"N","Y",null,13,null,6]
[9,"B",4775,null,"Vrishty Malakar",null,"Kailash","Seema Devi","F","2017-07-18",1066,null,24,null,"OBC",null,null,"GOVT. SENIOR SECONDARY SCHOOL ALNIYAWAS (219445)",8140200308,null,null,8619654499,"ALNIYAWAS,RIYAN BARI,ALNIYAWAS,341980",null,"N","Y",null,14,null,1]
[9,"B",4775,null,"Yogendra Singh",null,"Kailash","Seema Devi","M","2017-07-19",1067,null,24,null,"OBC",null,null,"GOVT. SENIOR SECONDARY SCHOOL ALNIYAWAS (219445)",8140200308,null,null,8619654499,"ALNIYAWAS,RIYAN BARI,ALNIYAWAS,341981",null,"N","Y",null,13,null,1]
[9,"B",4775,null,"Yogesh Kumar Prajapat",null,"Kailash","Seema Devi","M","2017-07-20",1068,null,24,null,"OBC",null,null,"GOVT. SENIOR SECONDARY SCHOOL ALNIYAWAS (219445)",8140200308,null,null,8619654499,"ALNIYAWAS,RIYAN BARI,ALNIYAWAS,341982",null,"N","Y",null,13,null,1]
[9,"B",4775,null,"Yogesh Vaishnav",null,"Kailash","Seema Devi","M","2017-07-21",1069,null,24,null,"OBC",null,null,"GOVT. SENIOR SECONDARY SCHOOL ALNIYAWAS (219445)",8140200308,null,null,8619654499,"ALNIYAWAS,RIYAN BARI,ALNIYAWAS,341983",null,"N","Y",null,14,null,1]
[9,"B",4775,null,"Yuvraj Singh",null,"Kailash","Seema Devi","M","2017-07-22",1070,null,24,null,"OBC",null,null,"GOVT. SENIOR SECONDARY SCHOOL ALNIYAWAS (219445)",8140200308,null,null,8619654499,"ALNIYAWAS,RIYAN BARI,ALNIYAWAS,341984",null,"N","Y",null,13,null,1]
[10,"A",4775,null,"AARTI SAINI",null,"Kailash","Seema Devi","F","2017-07-23",1101,null,24,null,"OBC",null,null,"GOVT. SENIOR SECONDARY SCHOOL ALNIYAWAS (219445)",8140200308,null,null,8619654499,"ALNIYAWAS,RIYAN BARI,ALNIYAWAS,341985",0,"N","N","No",16,"None",3]
[10,"A",4775,null,"ANIL SAINI",null,"Kailash","Seema Devi","M","2017-07-24",1104,null,24,null,"OBC",null,null,"GOVT. SENIOR SECONDARY SCHOOL ALNIYAWAS (219445)",8140200308,null,null,8619654499,"ALNIYAWAS,RIYAN BARI,ALNIYAWAS,341986",50000,"N","N","No",15,"None",0]
[10,"A",4775,null,"ANITA",null,"Kailash","Seema Devi","F","2017-07-25",1105,null,24,null,"OBC",null,null,"GOVT. SENIOR SECONDARY SCHOOL ALNIYAWAS (219445)",8140200308,null,null,8619654499,"ALNIYAWAS,RIYAN BARI,ALNIYAWAS,341987",60000,"N","N","No",15,"None",3]
[10,"A",4775,null,"Ashish Vaishnav",null,"Kailash","Seema Devi","M","2017-07-26",1106,null,24,null,"OBC",null,null,"GOVT. SENIOR SECONDARY SCHOOL ALNIYAWAS (219445)",8140200308,null,null,8619654499,"ALNIYAWAS,RIYAN BARI,ALNIYAWAS,341988",null,"N","Y",null,14,null,1]
[10,"A",4775,null,"BHARAT RAIDAS",null,"Kailash","Seema Devi","M","2017-07-27",1108,null,24,null,"OBC",null,null,"GOVT. SENIOR SECONDARY SCHOOL ALNIYAWAS (219445)",8140200308,null,null,8619654499,"ALNIYAWAS,RIYAN BARI,ALNIYAWAS,341989",60000,"N","N","No",16,"None",1]
[10,"A",4775,null,"JAY SHREE RAIDAS",null,"Kailash","Seema Devi","F","2017-07-28",1111,null,24,null,"OBC",null,null,"GOVT. SENIOR SECONDARY SCHOOL ALNIYAWAS (219445)",8140200308,null,null,8619654499,"ALNIYAWAS,RIYAN BARI,ALNIYAWAS,341990",50000,"N","N","No",16,"None",0]
[10,"A",4775,null,"KAVITA NATH",null,"Kailash","Seema Devi","F","2017-07-29",1112,null,24,null,"OBC",null,null,"GOVT. SENIOR SECONDARY SCHOOL ALNIYAWAS (219445)",8140200308,null,null,8619654499,"ALNIYAWAS,RIYAN BARI,ALNIYAWAS,341991",0,"N","N","No",15,"None",5]
[10,"A",4775,null,"KHUSHI RAIDAS",null,"Kailash","Seema Devi","F","2017-07-30",1113,null,24,null,"OBC",null,null,"GOVT. SENIOR SECONDARY SCHOOL ALNIYAWAS (219445)",8140200308,null,null,8619654499,"ALNIYAWAS,RIYAN BARI,ALNIYAWAS,341992",120000,"N","N","No",15,"None",1]
[10,"A",4775,null,"KISHOR BAWARI",null,"Kailash","Seema Devi","M","2017-07-31",1114,null,24,null,"OBC",null,null,"GOVT. SENIOR SECONDARY SCHOOL ALNIYAWAS (219445)",8140200308,null,null,8619654499,"ALNIYAWAS,RIYAN BARI,ALNIYAWAS,341993",50000,"N","N","No",15,"None",5]
[10,"A",4775,null,"Lokesh Saini",null,"Kailash","Seema Devi","M","2017-08-01",1115,null,24,null,"OBC",null,null,"GOVT. SENIOR SECONDARY SCHOOL ALNIYAWAS (219445)",8140200308,null,null,8619654499,"ALNIYAWAS,RIYAN BARI,ALNIYAWAS,341994",null,"N","Y",null,17,null,3]
[10,"A",4775,null,"MANISH CHAUKIDAR",null,"Kailash","Seema Devi","M","2017-08-02",1116,null,24,null,"OBC",null,null,"GOVT. SENIOR SECONDARY SCHOOL ALNIYAWAS (219445)",8140200308,null,null,8619654499,"ALNIYAWAS,RIYAN BARI,ALNIYAWAS,341995",0,"N","N","No",15,"None",1]
[10,"A",4775,null,"MANISH KUMAWAT",null,"Kailash","Seema Devi","M","2017-08-03",1117,null,24,null,"OBC",null,null,"GOVT. SENIOR SECONDARY SCHOOL ALNIYAWAS (219445)",8140200308,null,null,8619654499,"ALNIYAWAS,RIYAN BARI,ALNIYAWAS,341996",0,"N","N","No",16,"None",3]
[10,"A",4775,null,"Manish Marotiya",null,"Kailash","Seema Devi","M","2017-08-04",1118,null,24,null,"OBC",null,null,"GOVT. SENIOR SECONDARY SCHOOL ALNIYAWAS (219445)",8140200308,null,null,8619654499,"ALNIYAWAS,RIYAN BARI,ALNIYAWAS,341997",null,"N","Y",null,14,null,1]
[10,"A",4775,null,"MANJU DEVI",null,"Kailash","Seema Devi","F","2017-08-05",1119,null,24,null,"OBC",null,null,"GOVT. SENIOR SECONDARY SCHOOL ALNIYAWAS (219445)",8140200308,null,null,8619654499,"ALNIYAWAS,RIYAN BARI,ALNIYAWAS,341998",0,"N","N","No",15,"None",3]
[10,"A",4775,null,"Manohar Nath",null,"Kailash","Seema Devi","M","2017-08-06",1120,null,24,null,"OBC",null,null,"GOVT. SENIOR SECONDARY SCHOOL ALNIYAWAS (219445)",8140200308,null,null,8619654499,"ALNIYAWAS,RIYAN BARI,ALNIYAWAS,341999",null,"N","Y",null,14,null,1]
[10,"A",4775,null,"MANOJ SAINI",null,"Kailash","Seema Devi","M","2017-08-07",1121,null,24,null,"OBC",null,null,"GOVT. SENIOR SECONDARY SCHOOL ALNIYAWAS (219445)",8140200308,null,null,8619654499,"ALNIYAWAS,RIYAN BARI,ALNIYAWAS,342000",100000,"N","N","No",13,"None",3]
[10,"A",4775,null,"Mohammad Ismail",null,"Kailash","Seema Devi","M","2017-08-08",1122,null,24,null,"OBC",null,null,"GOVT. SENIOR SECONDARY SCHOOL ALNIYAWAS (219445)",8140200308,null,null,8619654499,"ALNIYAWAS,RIYAN BARI,ALNIYAWAS,342001",null,"N","Y",null,15,null,1]
[10,"A",4775,null,"Monika Nath",null,"Kailash","Seema Devi","F","2017-08-09",1123,null,24,null,"OBC",null,null,"GOVT. SENIOR SECONDARY SCHOOL ALNIYAWAS (219445)",8140200308,null,null,8619654499,"ALNIYAWAS,RIYAN BARI,ALNIYAWAS,342002",null,"N","Y",null,12,null,1]
[10,"A",4775,null,"NEETU",null,"Kailash","Seema Devi","F","2017-08-10",1125,null,24,null,"OBC",null,null,"GOVT. SENIOR SECONDARY SCHOOL ALNIYAWAS (219445)",8140200308,null,null,8619654499,"ALNIYAWAS,RIYAN BARI,ALNIYAWAS,342003",50000,"N","N","No",16,"None",3]
[10,"A",4775,null,"NOOR JAHAN",null,"Kailash","Seema Devi","F","2017-08-11",1126,null,24,null,"OBC",null,null,"GOVT. SENIOR SECONDARY SCHOOL ALNIYAWAS (219445)",8140200308,null,null,8619654499,"ALNIYAWAS,RIYAN BARI,ALNIYAWAS,342004",100000,"N","N","Yes",15,"None",1]
[10,"A",4775,null,"NOSAR DEVI",null,"Kailash","Seema Devi","F","2017-08-12",1127,null,24,null,"OBC",null,null,"GOVT. SENIOR SECONDARY SCHOOL ALNIYAWAS (219445)",8140200308,null,null,8619654499,"ALNIYAWAS,RIYAN BARI,ALNIYAWAS,342005",0,"N","N","No",16,"None",1]
[10,"A",4775,null,"POOJA DEVI CHOKIDAR",null,"Kailash","Seema Devi","F","2017-08-13",1128,null,24,null,"OBC",null,null,"GOVT. SENIOR SECONDARY SCHOOL ALNIYAWAS (219445)",8140200308,null,null,8619654499,"ALNIYAWAS,RIYAN BARI,ALNIYAWAS,342006",0,"N","N","No",15,"None",0]
[10,"A",4775,null,"POOJA KUMAWAT",null,"Kailash","Seema Devi","F","2017-08-14",1129,null,24,null,"OBC",null,null,"GOVT. SENIOR SECONDARY SCHOOL ALNIYAWAS (219445)",8140200308,null,null,8619654499,"ALNIYAWAS,RIYAN BARI,ALNIYAWAS,342007",105000,"N","N","No",16,"None",3]
[10,"A",4775,null,"POOJA RAIDAS",null,"Kailash","Seema Devi","F","2017-08-15",1130,null,24,null,"OBC",null,null,"GOVT. SENIOR SECONDARY SCHOOL ALNIYAWAS (219445)",8140200308,null,null,8619654499,"ALNIYAWAS,RIYAN BARI,ALNIYAWAS,342008",60000,"N","N","No",16,"None",3]
[10,"A",4775,null,"POOJA SAINI",null,"Kailash","Seema Devi","F","2017-08-16",1131,null,24,null,"OBC",null,null,"GOVT. SENIOR SECONDARY SCHOOL ALNIYAWAS (219445)",8140200308,null,null,8619654499,"ALNIYAWAS,RIYAN BARI,ALNIYAWAS,342009",50000,"N","N","No",16,"None",3]
[10,"A",4775,null,"PREM CHAND",null,"Kailash","Seema Devi","M","2017-08-17",1132,null,24,null,"OBC",null,null,"GOVT. SENIOR SECONDARY SCHOOL ALNIYAWAS (219445)",8140200308,null,null,8619654499,"ALNIYAWAS,RIYAN BARI,ALNIYAWAS,342010",0,"N","N","No",16,"None",3]
[10,"A",4775,null,"RAJENDRA KUDI",null,"Kailash","Seema Devi","M","2017-08-18",1134,null,24,null,"OBC",null,null,"GOVT. SENIOR SECONDARY SCHOOL ALNIYAWAS (219445)",8140200308,null,null,8619654499,"ALNIYAWAS,RIYAN BARI,ALNIYAWAS,342011",65000,"N","N","No",15,"None",3]
[10,"A",4775,null,"Rakesh Dagdi",null,"Kailash","Seema Devi","M","2017-08-19",1135,null,24,null,"OBC",null,null,"GOVT. SENIOR SECONDARY SCHOOL ALNIYAWAS (219445)",8140200308,null,null,8619654499,"ALNIYAWAS,RIYAN BARI,ALNIYAWAS,342012",null,"N","Y",null,14,null,1]
[10,"A",4775,null,"Ram Lal Kumawat",null,"Kailash","Seema Devi","M","2017-08-20",1136,null,24,null,"OBC",null,null,"GOVT. SENIOR SECONDARY SCHOOL ALNIYAWAS (219445)",8140200308,null,null,8619654499,"ALNIYAWAS,RIYAN BARI,ALNIYAWAS,342013",60000,"N","N","No",15,"None",2]
[10,"A",4775,null,"RAMESHCHAND KUMAWAT",null,"Kailash","Seema Devi","M","2017-08-21",1137,null,24,null,"OBC",null,null,"GOVT. SENIOR SECONDARY SCHOOL ALNIYAWAS (219445)",8140200308,null,null,8619654499,"ALNIYAWAS,RIYAN BARI,ALNIYAWAS,342014",60000,"N","N","No",15,"None",2.5]
[10,"A",4775,null,"RAMZAN",null,"Kailash","Seema Devi","M","2017-08-22",1138,null,24,null,"OBC",null,null,"GOVT. SENIOR SECONDARY SCHOOL ALNIYAWAS (219445)",8140200308,null,null,8619654499,"ALNIYAWAS,RIYAN BARI,ALNIYAWAS,342015",0,"N","N","Yes",15,"None",1]
[10,"A",4775,null,"RENU PANWAR",null,"Kailash","Seema Devi","F","2017-08-23",1139,null,24,null,"OBC",null,null,"GOVT. SENIOR SECONDARY SCHOOL ALNIYAWAS (219445)",8140200308,null,null,8619654499,"ALNIYAWAS,RIYAN BARI,ALNIYAWAS,342016",0,"N","N",null,17,"None",0]
[10,"A",4775,null,"SAJJAN KUMAWAT",null,"Kailash","Seema Devi","M","2017-08-24",1140,null,24,null,"OBC",null,null,"GOVT. SENIOR SECONDARY SCHOOL ALNIYAWAS (219445)",8140200308,null,null,8619654499,"ALNIYAWAS,RIYAN BARI,ALNIYAWAS,342017",60000,"N","N","No",17,"None",2.5]
[10,"A",4775,null,"SANJU DEVI",null,"Kailash","Seema Devi","F","2017-08-25",1141,null,24,null,"OBC",null,null,"GOVT. SENIOR SECONDARY SCHOOL ALNIYAWAS (219445)",8140200308,null,null,8619654499,"ALNIYAWAS,RIYAN BARI,ALNIYAWAS,342018",0,"N","N","No",15,"None",3]
[10,"A",4775,null,"SUMAN SAINI",null,"Kailash","Seema Devi","F","2017-08-26",1143,null,24,null,"OBC",null,null,"GOVT. SENIOR SECONDARY SCHOOL ALNIYAWAS (219445)",8140200308,null,null,8619654499,"ALNIYAWAS,RIYAN BARI,ALNIYAWAS,342019",50000,"N","N","No",16,"None",3]
[10,"A",4775,null,"SUMIT NATH",null,"Kailash","Seema Devi","M","2017-08-27",1144,null,24,null,"OBC",null,null,"GOVT. SENIOR SECONDARY SCHOOL ALNIYAWAS (219445)",8140200308,null,null,8619654499,"ALNIYAWAS,RIYAN BARI,ALNIYAWAS,342020",0,"N","N","No",15,"None",5]
[10,"A",4775,null,"Sunil Jat",null,"Kailash","Seema Devi","M","2017-08-28",1145,null,24,null,"OBC",null,null,"GOVT. SENIOR SECONDARY SCHOOL ALNIYAWAS (219445)",8140200308,null,null,8619654499,"ALNIYAWAS,RIYAN BARI,ALNIYAWAS,342021",null,"N","Y",null,14,null,6]
[10,"A",4775,null,"Surendra Nath",null,"Kailash","Seema Devi","M","2017-08-29",1146,null,24,null,"OBC",null,null,"GOVT. SENIOR SECONDARY SCHOOL ALNIYAWAS (219445)",8140200308,null,null,8619654499,"ALNIYAWAS,RIYAN BARI,ALNIYAWAS,342022",null,"N","Y",null,14,null,1]
[10,"A",4775,null,"SURMA MALI",null,"Kailash","Seema Devi","F","2017-08-30",1148,null,24,null,"OBC",null,null,"GOVT. SENIOR SECONDARY SCHOOL ALNIYAWAS (219445)",8140200308,null,null,8619654499,"ALNIYAWAS,RIYAN BARI,ALNIYAWAS,342023",72000,"N","N","No",16,"None",5]
[10,"A",4775,null,"SUSHIL NATH",null,"Kailash","Seema Devi","M","2017-08-31",1149,null,24,null,"OBC",null,null,"GOVT. SENIOR SECONDARY SCHOOL ALNIYAWAS (219445)",8140200308,null,null,8619654499,"ALNIYAWAS,RIYAN BARI,ALNIYAWAS,342024",60000,"N","N","No",15,"None",5]
[10,"A",4775,null,"Vikram Singh",null,"Kailash","Seema Devi","M","2017-09-01",1150,null,24,null,"OBC",null,null,"GOVT. SENIOR SECONDARY SCHOOL ALNIYAWAS (219445)",8140200308,null,null,8619654499,"ALNIYAWAS,RIYAN BARI,ALNIYAWAS,342025",null,"N","Y",null,14,null,5]
[10,"A",4775,null,"VINOD ACHARYA",null,"Kailash","Seema Devi","M","2017-09-02",1151,null,24,null,"OBC",null,null,"GOVT. SENIOR SECONDARY SCHOOL ALNIYAWAS (219445)",8140200308,null,null,8619654499,"ALNIYAWAS,RIYAN BARI,ALNIYAWAS,342026",0,"N","N","No",16,"None",3]
[10,"A",4775,null,"Yashoda Kanwar",null,"Kailash","Seema Devi","F","2017-09-03",1152,null,24,null,"OBC",null,null,"GOVT. SENIOR SECONDARY SCHOOL ALNIYAWAS (219445)",8140200308,null,null,8619654499,"ALNIYAWAS,RIYAN BARI,ALNIYAWAS,342027",0,"N","N",null,15,"None",5]
[10,"A",4775,null,"YOGENDRA",null,"Kailash","Seema Devi","M","2017-09-04",1153,null,24,null,"OBC",null,null,"GOVT. SENIOR SECONDARY SCHOOL ALNIYAWAS (219445)",8140200308,null,null,8619654499,"ALNIYAWAS,RIYAN BARI,ALNIYAWAS,342028",0,"N","N","No",15,"None",1]
[10,"B",4775,null,"ABDUL RAHMAN",null,"Kailash","Seema Devi","M","2017-09-05",1201,null,24,null,"OBC",null,null,"GOVT. SENIOR SECONDARY SCHOOL ALNIYAWAS (219445)",8140200308,null,null,8619654499,"ALNIYAWAS,RIYAN BARI,ALNIYAWAS,342029",0,"N","N","Yes",15,"None",0]
[10,"B",4775,null,"ANIL GURJAR",null,"Kailash","Seema Devi","M","2017-09-06",1202,null,24,null,"OBC",null,null,"GOVT. SENIOR SECONDARY SCHOOL ALNIYAWAS (219445)",8140200308,null,null,8619654499,"ALNIYAWAS,RIYAN BARI,ALNIYAWAS,342030",0,"N","N","No",14,"None",1]
[10,"B",4775,null,"Arti Saini",null,"Kailash","Seema Devi","F","2017-09-07",1203,null,24,null,"OBC",null,null,"GOVT. SENIOR SECONDARY SCHOOL ALNIYAWAS (219445)",8140200308,null,null,8619654499,"ALNIYAWAS,RIYAN BARI,ALNIYAWAS,342031",null,"N","Y",null,15,null,3]
[10,"B",4775,null,"BHANU PRATAP SINGH",null,"Kailash","Seema Devi","M","2017-09-08",1204,null,24,null,"OBC",null,null,"GOVT. SENIOR SECONDARY SCHOOL ALNIYAWAS (219445)",8140200308,null,null,8619654499,"ALNIYAWAS,RIYAN BARI,ALNIYAWAS,342032",0,"N","N","No",14,"None",1]
[10,"B",4775,null,"BISMILLAH",null,"Kailash","Seema Devi","F","2017-09-09",1205,null,24,null,"OBC",null,null,"GOVT. SENIOR SECONDARY SCHOOL ALNIYAWAS (219445)",8140200308,null,null,8619654499,"ALNIYAWAS,RIYAN BARI,ALNIYAWAS,342033",36000,"N","N","Yes",16,"None",1]
[10,"B",4775,null,"DILEEP",null,"Kailash","Seema Devi","M","2017-09-10",1206,null,24,null,"OBC",null,null,"GOVT. SENIOR SECONDARY SCHOOL ALNIYAWAS (219445)",8140200308,null,null,8619654499,"ALNIYAWAS,RIYAN BARI,ALNIYAWAS,342034",40000,"N","N","No",15,"None",0]
[10,"B",4775,null,"DIVYA ACHARYA",null,"Kailash","Seema Devi","F","2017-09-11",1207,null,24,null,"OBC",null,null,"GOVT. SENIOR SECONDARY SCHOOL ALNIYAWAS (219445)",8140200308,null,null,8619654499,"ALNIYAWAS,RIYAN BARI,ALNIYAWAS,342035",60000,"N","N","No",16,"None",0]
[10,"B",4775,null,"FIROJ KHAN",null,"Kailash","Seema Devi","M","2017-09-12",1208,null,24,null,"OBC",null,null,"GOVT. SENIOR SECONDARY SCHOOL ALNIYAWAS (219445)",8140200308,null,null,8619654499,"ALNIYAWAS,RIYAN BARI,ALNIYAWAS,342036",60000,"N","N","Yes",14,"None",0]
[10,"B",4775,null,"GANESH SINGODIYA",null,"Kailash","Seema Devi","M","2017-09-13",1209,null,24,null,"OBC",null,null,"GOVT. SENIOR SECONDARY SCHOOL ALNIYAWAS (219445)",8140200308,null,null,8619654499,"ALNIYAWAS,RIYAN BARI,ALNIYAWAS,342037",60000,"N","N","No",16,"None",3]
[10,"B",4775,null,"GEETA MEGHWAL",null,"Kailash","Seema Devi","F","2017-09-14",1210,null,24,null,"OBC",null,null,"GOVT. SENIOR SECONDARY SCHOOL ALNIYAWAS (219445)",8140200308,null,null,8619654499,"ALNIYAWAS,RIYAN BARI,ALNIYAWAS,342038",60000,"N","N","No",15,"None",0]
[10,"B",4775,null,"GOUTAM PRAJAPAT",null,"Kailash","Seema Devi","M","2017-09-15",1211,null,24,null,"OBC",null,null,"GOVT. SENIOR SECONDARY SCHOOL ALNIYAWAS (219445)",8140200308,null,null,8619654499,"ALNIYAWAS,RIYAN BARI,ALNIYAWAS,342039",50000,"N","N","No",14,"None",2]
[10,"B",4775,null,"GOVIND DARAK",null,"Kailash","Seema Devi","M","2017-09-16",1212,null,24,null,"OBC",null,null,"GOVT. SENIOR SECONDARY SCHOOL ALNIYAWAS (219445)",8140200308,null,null,8619654499,"ALNIYAWAS,RIYAN BARI,ALNIYAWAS,342040",50000,"N","N","No",14,"None",1]
[10,"B",4775,null,"Harshit Sharma",null,"Kailash","Seema Devi","M","2017-09-17",1213,null,24,null,"OBC",null,null,"GOVT. SENIOR SECONDARY SCHOOL ALNIYAWAS (219445)",8140200308,null,null,8619654499,"ALNIYAWAS,RIYAN BARI,ALNIYAWAS,342041",null,"N","Y",null,13,null,1]
[10,"B",4775,null,"HEMLATA GURJAR",null,"Kailash","Seema Devi","F","2017-09-18",1214,null,24,null,"OBC",null,null,"GOVT. SENIOR SECONDARY SCHOOL ALNIYAWAS (219445)",8140200308,null,null,8619654499,"ALNIYAWAS,RIYAN BARI,ALNIYAWAS,342042",60000,"N","N","No",14,"None",1]
[10,"B",4775,null,"IBRAHIM",null,"Kailash","Seema Devi","M","2017-09-19",1215,null,24,null,"OBC",null,null,"GOVT. SENIOR SECONDARY SCHOOL ALNIYAWAS (219445)",8140200308,null,null,8619654499,"ALNIYAWAS,RIYAN BARI,ALNIYAWAS,342043",0,"N","N","Yes",15,"None",1]
[10,"B",4775,null,"Jagriti",null,"Kailash","Seema Devi","F","2017-09-20",1216,null,24,null,"OBC",null,null,"GOVT. SENIOR SECONDARY SCHOOL ALNIYAWAS (219445)",8140200308,null,null,8619654499,"ALNIYAWAS,RIYAN BARI,ALNIYAWAS,342044",null,"N","Y",null,15,null,2]
[10,"B",4775,null,"Jay Shree",null,"Kailash","Seema Devi","F","2017-09-21",1217,null,24,null,"OBC",null,null,"GOVT. SENIOR SECONDARY SCHOOL ALNIYAWAS (219445)",8140200308,null,null,8619654499,"ALNIYAWAS,RIYAN BARI,ALNIYAWAS,342045",null,"N","Y",null,17,null,2]
[10,"B",4775,null,"JEEVRAJ",null,"Kailash","Seema Devi","M","2017-09-22",1218,null,24,null,"OBC",null,null,"GOVT. SENIOR SECONDARY SCHOOL ALNIYAWAS (219445)",8140200308,null,null,8619654499,"ALNIYAWAS,RIYAN BARI,ALNIYAWAS,342046",0,"N","N","No",17,"None",3]
[10,"B",4775,null,"KHADIZA BANO",null,"Kailash","Seema Devi","F","2017-09-23",1219,null,24,null,"OBC",null,null,"GOVT. SENIOR SECONDARY SCHOOL ALNIYAWAS (219445)",8140200308,null,null,8619654499,"ALNIYAWAS,RIYAN BARI,ALNIYAWAS,342047",0,"N","N","Yes",15,"None",1]
[10,"B",4775,null,"KHALIL SHAH",null,"Kailash","Seema Devi","M","2017-09-24",1220,null,24,null,"OBC",null,null,"GOVT. SENIOR SECONDARY SCHOOL ALNIYAWAS (219445)",8140200308,null,null,8619654499,"ALNIYAWAS,RIYAN BARI,ALNIYAWAS,342048",0,"N","N","Yes",16,"None",0]
[10,"B",4775,null,"Khurshida Bano",null,"Kailash","Seema Devi","F","2017-09-25",1221,null,24,null,"OBC",null,null,"GOVT. SENIOR SECONDARY SCHOOL ALNIYAWAS (219445)",8140200308,null,null,8619654499,"ALNIYAWAS,RIYAN BARI,ALNIYAWAS,342049",null,"N","Y",null,16,null,0]
[10,"B",4775,null,"Khushab Vaishnav",null,"Kailash","Seema Devi","M","2017-09-26",1222,null,24,null,"OBC",null,null,"GOVT. SENIOR SECONDARY SCHOOL ALNIYAWAS (219445)",8140200308,null,null,8619654499,"ALNIYAWAS,RIYAN BARI,ALNIYAWAS,342050",null,"N","Y",null,14,null,1]
[10,"B",4775,null,"KOMAL KANWAR",null,"Kailash","Seema Devi","F","2017-09-27",1223,null,24,null,"OBC",null,null,"GOVT. SENIOR SECONDARY SCHOOL ALNIYAWAS (219445)",8140200308,null,null,8619654499,"ALNIYAWAS,RIYAN BARI,ALNIYAWAS,342051",0,"N","N","No",15,"None",5]
[10,"B",4775,null,"Lokesh Saini",null,"Kailash","Seema Devi","M","2017-09-28",1224,null,24,null,"OBC",null,null,"GOVT. SENIOR SECONDARY SCHOOL ALNIYAWAS (219445)",8140200308,null,null,8619654499,"ALNIYAWAS,RIYAN BARI,ALNIYAWAS,342052",null,"N","Y",null,16,null,2]
[10,"B",4775,null,"Mahendra Gurjar",null,"Kailash","Seema Devi","M","2017-09-29",1225,null,24,null,"OBC",null,null,"GOVT. SENIOR SECONDARY SCHOOL ALNIYAWAS (219445)",8140200308,null,null,8619654499,"ALNIYAWAS,RIYAN BARI,ALNIYAWAS,342053",null,"N","Y",null,12,null,5]
[10,"B",4775,null,"MAHENDRA KUMAWAT",null,"Kailash","Seema Devi","M","2017-09-30",1226,null,24,null,"OBC",null,null,"GOVT. SENIOR SECONDARY SCHOOL ALNIYAWAS (219445)",8140200308,null,null,8619654499,"ALNIYAWAS,RIYAN BARI,ALNIYAWAS,342054",65000,"N","N","No",17,"None",2.5]
[10,"B",4775,null,"MO.GULFAM",null,"Kailash","Seema Devi","M","2017-10-01",1227,null,24,null,"OBC",null,null,"GOVT. SENIOR SECONDARY SCHOOL ALNIYAWAS (219445)",8140200308,null,null,8619654499,"ALNIYAWAS,RIYAN BARI,ALNIYAWAS,342055",120000,"N","N","Yes",14,"None",0]
[10,"B",4775,null,"MUKESH",null,"Kailash","Seema Devi","M","2017-10-02",1228,null,24,null,"OBC",null,null,"GOVT. SENIOR SECONDARY SCHOOL ALNIYAWAS (219445)",8140200308,null,null,8619654499,"ALNIYAWAS,RIYAN BARI,ALNIYAWAS,342056",60000,"N","N","No",15,"None",0]
[10,"B",4775,null,"MUKESH SHARMA",null,"Kailash","Seema Devi","M","2017-10-03",1229,null,24,null,"OBC",null,null,"GOVT. SENIOR SECONDARY SCHOOL ALNIYAWAS (219445)",8140200308,null,null,8619654499,"ALNIYAWAS,RIYAN BARI,ALNIYAWAS,342057",60000,"N","N","No",13,"None",0]
[10,"B",4775,null,"MUSKAN",null,"Kailash","Seema Devi","F","2017-10-04",1230,null,24,null,"OBC",null,null,"GOVT. SENIOR SECONDARY SCHOOL ALNIYAWAS (219445)",8140200308,null,null,8619654499,"ALNIYAWAS,RIYAN BARI,ALNIYAWAS,342058",0,"N","N","Yes",15,"None",1]
[10,"B",4775,null,"MUSKAN BANOO",null,"Kailash","Seema Devi","F","2017-10-05",1231,null,24,null,"OBC",null,null,"GOVT. SENIOR SECONDARY SCHOOL ALNIYAWAS (219445)",8140200308,null,null,8619654499,"ALNIYAWAS,RIYAN BARI,ALNIYAWAS,342059",36000,"N","N","Yes",16,"None",1]
[10,"B",4775,null,"Naitik Sharma",null,"Kailash","Seema Devi","M","2017-10-06",1232,null,24,null,"OBC",null,null,"GOVT. SENIOR SECONDARY SCHOOL ALNIYAWAS (219445)",8140200308,null,null,8619654499,"ALNIYAWAS,RIYAN BARI,ALNIYAWAS,342060",null,"N","Y",null,14,null,1]
[10,"B",4775,null,"Nikita Jhala",null,"Kailash","Seema Devi","F","2017-10-07",1233,null,24,null,"OBC",null,null,"GOVT. SENIOR SECONDARY SCHOOL ALNIYAWAS (219445)",8140200308,null,null,8619654499,"ALNIYAWAS,RIYAN BARI,ALNIYAWAS,342061",80000,"N","N","No",15,"None",1]
[10,"B",4775,null,"NIRMALA RAIDAS",null,"Kailash","Seema Devi","F","2017-10-08",1234,null,24,null,"OBC",null,null,"GOVT. SENIOR SECONDARY SCHOOL ALNIYAWAS (219445)",8140200308,null,null,8619654499,"ALNIYAWAS,RIYAN BARI,ALNIYAWAS,342062",36000,"N","N","No",15,"None",0]
[10,"B",4775,null,"NIRMALA SOLANKI",null,"Kailash","Seema Devi","F","2017-10-09",1235,null,24,null,"OBC",null,null,"GOVT. SENIOR SECONDARY SCHOOL ALNIYAWAS (219445)",8140200308,null,null,8619654499,"ALNIYAWAS,RIYAN BARI,ALNIYAWAS,342063",170000,"N","N","No",15,"None",3]
[10,"B",4775,null,"PALAK JANGID",null,"Kailash","Seema Devi","F","2017-10-10",1236,null,24,null,"OBC",null,null,"GOVT. SENIOR SECONDARY SCHOOL ALNIYAWAS (219445)",8140200308,null,null,8619654499,"ALNIYAWAS,RIYAN BARI,ALNIYAWAS,342064",0,"N","N","No",13,"None",1]
[10,"B",4775,null,"PAREENA BANOO",null,"Kailash","Seema Devi","F","2017-10-11",1237,null,24,null,"OBC",null,null,"GOVT. SENIOR SECONDARY SCHOOL ALNIYAWAS (219445)",8140200308,null,null,8619654499,"ALNIYAWAS,RIYAN BARI,ALNIYAWAS,342065",0,"N","N","Yes",15,"None",1]
[10,"B",4775,null,"Pawan Singh",null,"Kailash","Seema Devi","M","2017-10-12",1238,null,24,null,"OBC",null,null,"GOVT. SENIOR SECONDARY SCHOOL ALNIYAWAS (219445)",8140200308,null,null,8619654499,"ALNIYAWAS,RIYAN BARI,ALNIYAWAS,342066",null,"N","Y",null,16,null,1]
[10,"B",4775,null,"Pooja Kanwar",null,"Kailash","Seema Devi","F","2017-10-13",1239,null,24,null,"OBC",null,null,"GOVT. SENIOR SECONDARY SCHOOL ALNIYAWAS (219445)",8140200308,null,null,8619654499,"ALNIYAWAS,RIYAN BARI,ALNIYAWAS,342067",null,"N","Y",null,16,null,5]
[10,"B",4775,null,"PRIYANKA SAIN",null,"Kailash","Seema Devi","F","2017-10-14",1240,null,24,null,"OBC",null,null,"GOVT. SENIOR SECONDARY SCHOOL ALNIYAWAS (219445)",8140200308,null,null,8619654499,"ALNIYAWAS,RIYAN BARI,ALNIYAWAS,342068",120000,"N","N","No",16,"None",0]
[10,"B",4775,null,"Radhika Saini",null,"Kailash","Seema Devi","F","2017-10-15",1241,null,24,null,"OBC",null,null,"GOVT. SENIOR SECONDARY SCHOOL ALNIYAWAS (219445)",8140200308,null,null,8619654499,"ALNIYAWAS,RIYAN BARI,ALNIYAWAS,342069",null,"N","Y",null,16,null,3]
[10,"B",4775,null,"RANI SHARMA",null,"Kailash","Seema Devi","F","2017-10-16",1242,null,24,null,"OBC",null,null,"GOVT. SENIOR SECONDARY SCHOOL ALNIYAWAS (219445)",8140200308,null,null,8619654499,"ALNIYAWAS,RIYAN BARI,ALNIYAWAS,342070",120000,"N","N","No",15,"None",1]
[10,"B",4775,null,"RESHMA BANU",null,"Kailash","Seema Devi","F","2017-10-17",1243,null,24,null,"OBC",null,null,"GOVT. SENIOR SECONDARY SCHOOL ALNIYAWAS (219445)",8140200308,null,null,8619654499,"ALNIYAWAS,RIYAN BARI,ALNIYAWAS,342071",50000,"N","N","Yes",15,"None",0]
[10,"B",4775,null,"RIYANA BANU",null,"Kailash","Seema Devi","F","2017-10-18",1244,null,24,null,"OBC",null,null,"GOVT. SENIOR SECONDARY SCHOOL ALNIYAWAS (219445)",8140200308,null,null,8619654499,"ALNIYAWAS,RIYAN BARI,ALNIYAWAS,342072",0,"N","N","Yes",16,"None",1]
[10,"B",4775,null,"RUKHSANA BANOO",null,"Kailash","Seema Devi","F","2017-10-19",1245,null,24,null,"OBC",null,null,"GOVT. SENIOR SECONDARY SCHOOL ALNIYAWAS (219445)",8140200308,null,null,8619654499,"ALNIYAWAS,RIYAN BARI,ALNIYAWAS,342073",100000,"N","N","Yes",16,"None",0]
[10,"B",4775,null,"SAKEENA",null,"Kailash","Seema Devi","F","2017-10-20",1246,null,24,null,"OBC",null,null,"GOVT. SENIOR SECONDARY SCHOOL ALNIYAWAS (219445)",8140200308,null,null,8619654499,"ALNIYAWAS,RIYAN BARI,ALNIYAWAS,342074",0,"N","N","Yes",15,"None",1]
[10,"B",4775,null,"SAROJ",null,"Kailash","Seema Devi","F","2017-10-21",1247,null,24,null,"OBC",null,null,"GOVT. SENIOR SECONDARY SCHOOL ALNIYAWAS (219445)",8140200308,null,null,8619654499,"ALNIYAWAS,RIYAN BARI,ALNIYAWAS,342075",0,"N","N","No",15,"None",5]
[10,"B",4775,null,"SEEMA MACHARA",null,"Kailash","Seema Devi","F","2017-10-22",1248,null,24,null,"OBC",null,null,"GOVT. SENIOR SECONDARY SCHOOL ALNIYAWAS (219445)",8140200308,null,null,8619654499,"ALNIYAWAS,RIYAN BARI,ALNIYAWAS,342076",36000,"N","N","No",13,"None",0]
[10,"B",4775,null,"SEEMA MEGHWAL",null,"Kailash","Seema Devi","F","2017-10-23",1249,null,24,null,"OBC",null,null,"GOVT. SENIOR SECONDARY SCHOOL ALNIYAWAS (219445)",8140200308,null,null,8619654499,"ALNIYAWAS,RIYAN BARI,ALNIYAWAS,342077",60000,"N","N","No",16,"None",0]
[10,"B",4775,null,"SEEMA SAINI",null,"Kailash","Seema Devi","F","2017-10-24",1250,null,24,null,"OBC",null,null,"GOVT. SENIOR SECONDARY SCHOOL ALNIYAWAS (219445)",8140200308,null,null,8619654499,"ALNIYAWAS,RIYAN BARI,ALNIYAWAS,342078",60000,"N","N","No",15,"None",2]
[10,"B",4775,null,"Soniya Mali",null,"Kailash","Seema Devi","F","2017-10-25",1251,null,24,null,"OBC",null,null,"GOVT. SENIOR SECONDARY SCHOOL ALNIYAWAS (219445)",8140200308,null,null,8619654499,"ALNIYAWAS,RIYAN BARI,ALNIYAWAS,342079",null,"N","Y",null,16,null,2]
[10,"B",4775,null,"SUMAN DEVI",null,"Kailash","Seema Devi","F","2017-10-26",1252,null,24,null,"OBC",null,null,"GOVT. SENIOR SECONDARY SCHOOL ALNIYAWAS (219445)",8140200308,null,null,8619654499,"ALNIYAWAS,RIYAN BARI,ALNIYAWAS,342080",50000,"N","N","No",14,"None",0]
[10,"B",4775,null,"TINA GURJAR",null,"Kailash","Seema Devi","F","2017-10-27",1253,null,24,null,"OBC",null,null,"GOVT. SENIOR SECONDARY SCHOOL ALNIYAWAS (219445)",8140200308,null,null,8619654499,"ALNIYAWAS,RIYAN BARI,ALNIYAWAS,342081",50000,"N","N","No",15,"None",1]
[10,"B",4775,null,"Umesh Nath",null,"Kailash","Seema Devi","M","2017-10-28",1254,null,24,null,"OBC",null,null,"GOVT. SENIOR SECONDARY SCHOOL ALNIYAWAS (219445)",8140200308,null,null,8619654499,"ALNIYAWAS,RIYAN BARI,ALNIYAWAS,342082",null,"N","Y",null,14,null,1]
[10,"B",4775,null,"VIJAY RAJ KUMAWAT",null,"Kailash","Seema Devi","M","2017-10-29",1255,null,24,null,"OBC",null,null,"GOVT. SENIOR SECONDARY SCHOOL ALNIYAWAS (219445)",8140200308,null,null,8619654499,"ALNIYAWAS,RIYAN BARI,ALNIYAWAS,342083",65000,"N","N","No",14,"None",2]
[10,"B",4775,null,"YOGESH KUMAWAT",null,"Kailash","Seema Devi","M","2017-10-30",1256,null,24,null,"OBC",null,null,"GOVT. SENIOR SECONDARY SCHOOL ALNIYAWAS (219445)",8140200308,null,null,8619654499,"ALNIYAWAS,RIYAN BARI,ALNIYAWAS,342084",65000,"N","N","No",15,"None",2]
[11,"A",4775,null,"Aadil Husen",null,"Kailash","Seema Devi","M","2017-10-31",1301,null,24,null,"OBC",null,null,"GOVT. SENIOR SECONDARY SCHOOL ALNIYAWAS (219445)",8140200308,null,null,8619654499,"ALNIYAWAS,RIYAN BARI,ALNIYAWAS,342085",null,"N","Y",null,16,null,1]
[11,"A",4775,null,"ABHISHEK",null,"Kailash","Seema Devi","M","2017-11-01",1302,null,24,null,"OBC",null,null,"GOVT. SENIOR SECONDARY SCHOOL ALNIYAWAS (219445)",8140200308,null,null,8619654499,"ALNIYAWAS,RIYAN BARI,ALNIYAWAS,342086",0,"N","N","No",15,"None",1]
[11,"A",4775,null,"ADIL AHMAD",null,"Kailash","Seema Devi","M","2017-11-02",1303,null,24,null,"OBC",null,null,"GOVT. SENIOR SECONDARY SCHOOL ALNIYAWAS (219445)",8140200308,null,null,8619654499,"ALNIYAWAS,RIYAN BARI,ALNIYAWAS,342087",0,"N","N","Yes",16,"None",1]
[11,"A",4775,null,"Afsar Alam",null,"Kailash","Seema Devi","M","2017-11-03",1304,null,24,null,"OBC",null,null,"GOVT. SENIOR SECONDARY SCHOOL ALNIYAWAS (219445)",8140200308,null,null,8619654499,"ALNIYAWAS,RIYAN BARI,ALNIYAWAS,342088",null,"N","Y",null,16,null,1]
[11,"A",4775,null,"Ameen",null,"Kailash","Seema Devi","M","2017-11-04",1305,null,24,null,"OBC",null,null,"GOVT. SENIOR SECONDARY SCHOOL ALNIYAWAS (219445)",8140200308,null,null,8619654499,"ALNIYAWAS,RIYAN BARI,ALNIYAWAS,342089",null,"N","Y",null,15,null,1]
[11,"A",4775,null,"ANAND SINGH",null,"Kailash","Seema Devi","M","2017-11-05",1306,null,24,null,"OBC",null,null,"GOVT. SENIOR SECONDARY SCHOOL ALNIYAWAS (219445)",8140200308,null,null,8619654499,"ALNIYAWAS,RIYAN BARI,ALNIYAWAS,342090",45000,"N","N","No",15,"None",1]
[11,"A",4775,null,"ANITA",null,"Kailash","Seema Devi","F","2017-11-06",1307,null,24,null,"OBC",null,null,"GOVT. SENIOR SECONDARY SCHOOL ALNIYAWAS (219445)",8140200308,null,null,8619654499,"ALNIYAWAS,RIYAN BARI,ALNIYAWAS,342091",0,"N","N","No",18,"None",2.5]
[11,"A",4775,null,"ANITA DEVI",null,"Kailash","Seema Devi","F","2017-11-07",1308,null,24,null,"OBC",null,null,"GOVT. SENIOR SECONDARY SCHOOL ALNIYAWAS (219445)",8140200308,null,null,8619654499,"ALNIYAWAS,RIYAN BARI,ALNIYAWAS,342092",36000,"N","N","No",18,"None",1]
[11,"A",4775,null,"ANJALI SUWASIYA",null,"Kailash","Seema Devi","F","2017-11-08",1309,null,24,null,"OBC",null,null,"GOVT. SENIOR SECONDARY SCHOOL ALNIYAWAS (219445)",8140200308,null,null,8619654499,"ALNIYAWAS,RIYAN BARI,ALNIYAWAS,342093",100000,"N","N","No",19,"None",1]
[11,"A",4775,null,"ANKIT",null,"Kailash","Seema Devi","M","2017-11-09",1310,null,24,null,"OBC",null,null,"GOVT. SENIOR SECONDARY SCHOOL ALNIYAWAS (219445)",8140200308,null,null,8619654499,"ALNIYAWAS,RIYAN BARI,ALNIYAWAS,342094",0,"N","N",null,18,"None",1]
[11,"A",4775,null,"ANKITA SHARMA",null,"Kailash","Seema Devi","F","2017-11-10",1311,null,24,null,"OBC",null,null,"GOVT. SENIOR SECONDARY SCHOOL ALNIYAWAS (219445)",8140200308,null,null,8619654499,"ALNIYAWAS,RIYAN BARI,ALNIYAWAS,342095",60000,"N","N","No",16,"None",0]
[11,"A",4775,null,"ANKU DEVI",null,"Kailash","Seema Devi","F","2017-11-11",1312,null,24,null,"OBC",null,null,"GOVT. SENIOR SECONDARY SCHOOL ALNIYAWAS (219445)",8140200308,null,null,8619654499,"ALNIYAWAS,RIYAN BARI,ALNIYAWAS,342096",40000,"N","N","No",15,"None",4]
[11,"A",4775,null,"Annu",null,"Kailash","Seema Devi","F","2017-11-12",1313,null,24,null,"OBC",null,null,"GOVT. SENIOR SECONDARY SCHOOL ALNIYAWAS (219445)",8140200308,null,null,8619654499,"ALNIYAWAS,RIYAN BARI,ALNIYAWAS,342097",null,"N","Y",null,15,null,2]
[11,"A",4775,null,"Ashok Kumawat",null,"Kailash","Seema Devi","M","2017-11-13",1314,null,24,null,"OBC",null,null,"GOVT. SENIOR SECONDARY SCHOOL ALNIYAWAS (219445)",8140200308,null,null,8619654499,"ALNIYAWAS,RIYAN BARI,ALNIYAWAS,342098",null,"N","Y",null,16,null,5]
[11,"A",4775,null,"BANWARI NATH",null,"Kailash","Seema Devi","M","2017-11-14",1316,null,24,null,"OBC",null,null,"GOVT. SENIOR SECONDARY SCHOOL ALNIYAWAS (219445)",8140200308,null,null,8619654499,"ALNIYAWAS,RIYAN BARI,ALNIYAWAS,342099",80000,"N","N","No",16,"None",2]
[11,"A",4775,null,"BHARAT MEGHWAL",null,"Kailash","Seema Devi","M","2017-11-15",1317,null,24,null,"OBC",null,null,"GOVT. SENIOR SECONDARY SCHOOL ALNIYAWAS (219445)",8140200308,null,null,8619654499,"ALNIYAWAS,RIYAN BARI,ALNIYAWAS,342100",0,"N","N","No",16,"None",1]
[11,"A",4775,null,"Bismilla Banu",null,"Kailash","Seema Devi","F","2017-11-16",1318,null,24,null,"OBC",null,null,"GOVT. SENIOR SECONDARY SCHOOL ALNIYAWAS (219445)",8140200308,null,null,8619654499,"ALNIYAWAS,RIYAN BARI,ALNIYAWAS,342101",null,"N","Y",null,16,null,1]
[11,"A",4775,null,"Chena Ram",null,"Kailash","Seema Devi","M","2017-11-17",1320,null,24,null,"OBC",null,null,"GOVT. SENIOR SECONDARY SCHOOL ALNIYAWAS (219445)",8140200308,null,null,8619654499,"ALNIYAWAS,RIYAN BARI,ALNIYAWAS,342102",50000,"N","N","No",15,"None",4]
[11,"A",4775,null,"CHETAN SOLANKI",null,"Kailash","Seema Devi","M","2017-11-18",1321,null,24,null,"OBC",null,null,"GOVT. SENIOR SECONDARY SCHOOL ALNIYAWAS (219445)",8140200308,null,null,8619654499,"ALNIYAWAS,RIYAN BARI,ALNIYAWAS,342103",80000,"N","N","No",17,"None",0]
[11,"A",4775,null,"DASHARATH KUMAWAT",null,"Kailash","Seema Devi","M","2017-11-19",1322,null,24,null,"OBC",null,null,"GOVT. SENIOR SECONDARY SCHOOL ALNIYAWAS (219445)",8140200308,null,null,8619654499,"ALNIYAWAS,RIYAN BARI,ALNIYAWAS,342104",50000,"N","N","No",17,"None",5]
[11,"A",4775,null,"DEVRAJ",null,"Kailash","Seema Devi","M","2017-11-20",1324,null,24,null,"OBC",null,null,"GOVT. SENIOR SECONDARY SCHOOL ALNIYAWAS (219445)",8140200308,null,null,8619654499,"ALNIYAWAS,RIYAN BARI,ALNIYAWAS,342105",35000,"N","N","No",15,"None",1]
[11,"A",4775,null,"DILEEP SINGH",null,"Kailash","Seema Devi","M","2017-11-21",1325,null,24,null,"OBC",null,null,"GOVT. SENIOR SECONDARY SCHOOL ALNIYAWAS (219445)",8140200308,null,null,8619654499,"ALNIYAWAS,RIYAN BARI,ALNIYAWAS,342106",45000,"N","N","No",19,"None",1]
[11,"A",4775,null,"Dinesh Choudhary",null,"Kailash","Seema Devi","M","2017-11-22",1327,null,24,null,"OBC",null,null,"GOVT. SENIOR SECONDARY SCHOOL ALNIYAWAS (219445)",8140200308,null,null,8619654499,"ALNIYAWAS,RIYAN BARI,ALNIYAWAS,342107",null,"N","Y",null,16,null,6]
[11,"A",4775,null,"DINESH PANWAR",null,"Kailash","Seema Devi","M","2017-11-23",1328,null,24,null,"OBC",null,null,"GOVT. SENIOR SECONDARY SCHOOL ALNIYAWAS (219445)",8140200308,null,null,8619654499,"ALNIYAWAS,RIYAN BARI,ALNIYAWAS,342108",40000,"N","N","No",16,"None",1]
[11,"A",4775,null,"GUNGUN KANWAR",null,"Kailash","Seema Devi","F","2017-11-24",1331,null,24,null,"OBC",null,null,"GOVT. SENIOR SECONDARY SCHOOL ALNIYAWAS (219445)",8140200308,null,null,8619654499,"ALNIYAWAS,RIYAN BARI,ALNIYAWAS,342109",50000,"N","N","No",15,"None",1]
[11,"A",4775,null,"HARI RAM PRAJAPAT",null,"Kailash","Seema Devi","M","2017-11-25",1332,null,24,null,"OBC",null,null,"GOVT. SENIOR SECONDARY SCHOOL ALNIYAWAS (219445)",8140200308,null,null,8619654499,"ALNIYAWAS,RIYAN BARI,ALNIYAWAS,342110",60000,"N","N","No",15,"None",1]
[11,"A",4775,null,"JAISHRI",null,"Kailash","Seema Devi","F","2017-11-26",1333,null,24,null,"OBC",null,null,"GOVT. SENIOR SECONDARY SCHOOL ALNIYAWAS (219445)",8140200308,null,null,8619654499,"ALNIYAWAS,RIYAN BARI,ALNIYAWAS,342111",42000,"N","N","No",15,"None",1]
[11,"A",4775,null,"JITENDRA SINGH",null,"Kailash","Seema Devi","M","2017-11-27",1334,null,24,null,"OBC",null,null,"GOVT. SENIOR SECONDARY SCHOOL ALNIYAWAS (219445)",8140200308,null,null,8619654499,"ALNIYAWAS,RIYAN BARI,ALNIYAWAS,342112",40000,"Y","N","No",18,"None",3]
[11,"A",4775,null,"KALIM KURESHI",null,"Kailash","Seema Devi","M","2017-11-28",1336,null,24,null,"OBC",null,null,"GOVT. SENIOR SECONDARY SCHOOL ALNIYAWAS (219445)",8140200308,null,null,8619654499,"ALNIYAWAS,RIYAN BARI,ALNIYAWAS,342113",0,"N","N","Yes",15,"None",1]
[11,"A",4775,null,"KIRAN DEVI",null,"Kailash","Seema Devi","F","2017-11-29",1341,null,24,null,"OBC",null,null,"GOVT. SENIOR SECONDARY SCHOOL ALNIYAWAS (219445)",8140200308,null,null,8619654499,"ALNIYAWAS,RIYAN BARI,ALNIYAWAS,342114",45000,"N","N","No",16,"None",1]
[11,"A",4775,null,"KISHAN SINGODIYA",null,"Kailash","Seema Devi","M","2017-11-30",1342,null,24,null,"OBC",null,null,"GOVT. SENIOR SECONDARY SCHOOL ALNIYAWAS (219445)",8140200308,null,null,8619654499,"ALNIYAWAS,RIYAN BARI,ALNIYAWAS,342115",0,"N","N",null,13,"None",2]
[11,"A",4775,null,"Lal Chand",null,"Kailash","Seema Devi","M","2017-12-01",1343,null,24,null,"OBC",null,null,"GOVT. SENIOR SECONDARY SCHOOL ALNIYAWAS (219445)",8140200308,null,null,8619654499,"ALNIYAWAS,RIYAN BARI,ALNIYAWAS,342116",null,"N","Y",null,16,null,2]
[11,"A",4775,null,"LAXMI DEVI",null,"Kailash","Seema Devi","F","2017-12-02",1344,null,24,null,"OBC",null,null,"GOVT. SENIOR SECONDARY SCHOOL ALNIYAWAS (219445)",8140200308,null,null,8619654499,"ALNIYAWAS,RIYAN BARI,ALNIYAWAS,342117",80000,"N","N","No",15,"None",1]
[11,"A",4775,null,"MADHURI",null,"Kailash","Seema Devi","F","2017-12-03",1345,null,24,null,"OBC",null,null,"GOVT. SENIOR SECONDARY SCHOOL ALNIYAWAS (219445)",8140200308,null,null,8619654499,"ALNIYAWAS,RIYAN BARI,ALNIYAWAS,342118",0,"N","N","No",17,"None",1]
[11,"A",4775,null,"MAHADEV MALI",null,"Kailash","Seema Devi","M","2017-12-04",1346,null,24,null,"OBC",null,null,"GOVT. SENIOR SECONDARY SCHOOL ALNIYAWAS (219445)",8140200308,null,null,8619654499,"ALNIYAWAS,RIYAN BARI,ALNIYAWAS,342119",80000,"N","N","No",15,"None",1]
[11,"A",4775,null,"Mamta Vaishnav",null,"Kailash","Seema Devi","F","2017-12-05",1348,null,24,null,"OBC",null,null,"GOVT. SENIOR SECONDARY SCHOOL ALNIYAWAS (219445)",8140200308,null,null,8619654499,"ALNIYAWAS,RIYAN BARI,ALNIYAWAS,342120",null,"N","Y",null,16,null,1]
[11,"A",4775,null,"MANISH",null,"Kailash","Seema Devi","M","2017-12-06",1349,null,24,null,"OBC",null,null,"GOVT. SENIOR SECONDARY SCHOOL ALNIYAWAS (219445)",8140200308,null,null,8619654499,"ALNIYAWAS,RIYAN BARI,ALNIYAWAS,342121",60000,"N","N","No",16,"None",0]
[11,"A",4775,null,"Manisha",null,"Kailash","Seema Devi","F","2017-12-07",1350,null,24,null,"OBC",null,null,"GOVT. SENIOR SECONDARY SCHOOL ALNIYAWAS (219445)",8140200308,null,null,8619654499,"ALNIYAWAS,RIYAN BARI,ALNIYAWAS,342122",null,"N","Y",null,15,null,1]
[11,"A",4775,null,"Manisha",null,"Kailash","Seema Devi","F","2017-12-08",1351,null,24,null,"OBC",null,null,"GOVT. SENIOR SECONDARY SCHOOL ALNIYAWAS (219445)",8140200308,null,null,8619654499,"ALNIYAWAS,RIYAN BARI,ALNIYAWAS,342123",null,"N","Y",null,15,null,6]
[11,"A",4775,null,"MAYA GURJAR",null,"Kailash","Seema Devi","F","2017-12-09",1352,null,24,null,"OBC",null,null,"GOVT. SENIOR SECONDARY SCHOOL ALNIYAWAS (219445)",8140200308,null,null,8619654499,"ALNIYAWAS,RIYAN BARI,ALNIYAWAS,342124",80000,"N","N","No",16,"None",5]
[11,"A",4775,null,"MEENU DEVI",null,"Kailash","Seema Devi","F","2017-12-10",1353,null,24,null,"OBC",null,null,"GOVT. SENIOR SECONDARY SCHOOL ALNIYAWAS (219445)",8140200308,null,null,8619654499,"ALNIYAWAS,RIYAN BARI,ALNIYAWAS,342125",60000,"N","N","No",16,"None",1]
[11,"A",4775,null,"MOHAMMAD ARSHAD",null,"Kailash","Seema Devi","M","2017-12-11",1354,null,24,null,"OBC",null,null,"GOVT. SENIOR SECONDARY SCHOOL ALNIYAWAS (219445)",8140200308,null,null,8619654499,"ALNIYAWAS,RIYAN BARI,ALNIYAWAS,342126",0,"N","N","Yes",16,"None",1]
[11,"A",4775,null,"MOHAMMAD KAIF",null,"Kailash","Seema Devi","M","2017-12-12",1355,null,24,null,"OBC",null,null,"GOVT. SENIOR SECONDARY SCHOOL ALNIYAWAS (219445)",8140200308,null,null,8619654499,"ALNIYAWAS,RIYAN BARI,ALNIYAWAS,342127",0,"N","N","Yes",15,"None",1]
[11,"A",4775,null,"MONIKA",null,"Kailash","Seema Devi","F","2017-12-13",1357,null,24,null,"OBC",null,null,"GOVT. SENIOR SECONDARY SCHOOL ALNIYAWAS (219445)",8140200308,null,null,8619654499,"ALNIYAWAS,RIYAN BARI,ALNIYAWAS,342128",100000,"N","N","No",15,"None",1]
[11,"A",4775,null,"MONIKA SHARMA",null,"Kailash","Seema Devi","F","2017-12-14",1358,null,24,null,"OBC",null,null,"GOVT. SENIOR SECONDARY SCHOOL ALNIYAWAS (219445)",8140200308,null,null,8619654499,"ALNIYAWAS,RIYAN BARI,ALNIYAWAS,342129",60000,"N","N","No",15,"None",2]
[11,"A",4775,null,"MUKESH KUMAWAT",null,"Kailash","Seema Devi","M","2017-12-15",1360,null,24,null,"OBC",null,null,"GOVT. SENIOR SECONDARY SCHOOL ALNIYAWAS (219445)",8140200308,null,null,8619654499,"ALNIYAWAS,RIYAN BARI,ALNIYAWAS,342130",65000,"N","N","No",16,"None",2]
[11,"A",4775,null,"MUSKAN",null,"Kailash","Seema Devi","F","2017-12-16",1361,null,24,null,"OBC",null,null,"GOVT. SENIOR SECONDARY SCHOOL ALNIYAWAS (219445)",8140200308,null,null,8619654499,"ALNIYAWAS,RIYAN BARI,ALNIYAWAS,342131",60000,"N","N","Yes",15,"None",0]
[11,"A",4775,null,"NEETU",null,"Kailash","Seema Devi","F","2017-12-17",1363,null,24,null,"OBC",null,null,"GOVT. SENIOR SECONDARY SCHOOL ALNIYAWAS (219445)",8140200308,null,null,8619654499,"ALNIYAWAS,RIYAN BARI,ALNIYAWAS,342132",60000,"N","N","No",15,"None",3]
[11,"A",4775,null,"Nikita",null,"Kailash","Seema Devi","F","2017-12-18",1365,null,24,null,"OBC",null,null,"GOVT. SENIOR SECONDARY SCHOOL ALNIYAWAS (219445)",8140200308,null,null,8619654499,"ALNIYAWAS,RIYAN BARI,ALNIYAWAS,342133",null,"N","Y",null,16,null,1]
[11,"A",4775,null,"NIRMA",null,"Kailash","Seema Devi","F","2017-12-19",1366,null,24,null,"OBC",null,null,"GOVT. SENIOR SECONDARY SCHOOL ALNIYAWAS (219445)",8140200308,null,null,8619654499,"ALNIYAWAS,RIYAN BARI,ALNIYAWAS,342134",40000,"N","N","No",17,"None",1]
[11,"A",4775,null,"NITIN SHRINATH",null,"Kailash","Seema Devi","M","2017-12-20",1367,null,24,null,"OBC",null,null,"GOVT. SENIOR SECONDARY SCHOOL ALNIYAWAS (219445)",8140200308,null,null,8619654499,"ALNIYAWAS,RIYAN BARI,ALNIYAWAS,342135",60000,"N","N","No",16,"None",1]
[11,"A",4775,null,"OM NATH",null,"Kailash","Seema Devi","M","2017-12-21",1368,null,24,null,"OBC",null,null,"GOVT. SENIOR SECONDARY SCHOOL ALNIYAWAS (219445)",8140200308,null,null,8619654499,"ALNIYAWAS,RIYAN BARI,ALNIYAWAS,342136",60000,"N","N","No",16,"None",1]
[11,"A",4775,null,"OM PRAKASH",null,"Kailash","Seema Devi","M","2017-12-22",1369,null,24,null,"OBC",null,null,"GOVT. SENIOR SECONDARY SCHOOL ALNIYAWAS (219445)",8140200308,null,null,8619654499,"ALNIYAWAS,RIYAN BARI,ALNIYAWAS,342137",0,"N","N","No",16,"None",1]
[11,"A",4775,null,"PAREENA",null,"Kailash","Seema Devi","F","2017-12-23",1371,null,24,null,"OBC",null,null,"GOVT. SENIOR SECONDARY SCHOOL ALNIYAWAS (219445)",8140200308,null,null,8619654499,"ALNIYAWAS,RIYAN BARI,ALNIYAWAS,342138",60000,"N","N","Yes",16,"None",0]
[11,"A",4775,null,"Pawan Puri",null,"Kailash","Seema Devi","M","2017-12-24",1372,null,24,null,"OBC",null,null,"GOVT. SENIOR SECONDARY SCHOOL ALNIYAWAS (219445)",8140200308,null,null,8619654499,"ALNIYAWAS,RIYAN BARI,ALNIYAWAS,342139",null,"N","Y",null,16,null,4]
[11,"A",4775,null,"POOJA JANGID",null,"Kailash","Seema Devi","F","2017-12-25",1373,null,24,null,"OBC",null,null,"GOVT. SENIOR SECONDARY SCHOOL ALNIYAWAS (219445)",8140200308,null,null,8619654499,"ALNIYAWAS,RIYAN BARI,ALNIYAWAS,342140",0,"N","N","No",17,"None",1]
[11,"A",4775,null,"POOJA KACHCHHAWA",null,"Kailash","Seema Devi","F","2017-12-26",1374,null,24,null,"OBC",null,null,"GOVT. SENIOR SECONDARY SCHOOL ALNIYAWAS (219445)",8140200308,null,null,8619654499,"ALNIYAWAS,RIYAN BARI,ALNIYAWAS,342141",26000,"N","N","No",16,"None",3]
[11,"A",4775,null,"POONAM CHAND SAINI",null,"Kailash","Seema Devi","M","2017-12-27",1376,null,24,null,"OBC",null,null,"GOVT. SENIOR SECONDARY SCHOOL ALNIYAWAS (219445)",8140200308,null,null,8619654499,"ALNIYAWAS,RIYAN BARI,ALNIYAWAS,342142",45000,"N","N","No",16,"None",1]
[11,"A",4775,null,"PRERNA SHARMA",null,"Kailash","Seema Devi","F","2017-12-28",1378,null,24,null,"OBC",null,null,"GOVT. SENIOR SECONDARY SCHOOL ALNIYAWAS (219445)",8140200308,null,null,8619654499,"ALNIYAWAS,RIYAN BARI,ALNIYAWAS,342143",0,"N","N","No",16,"None",2]
[11,"A",4775,null,"Priyanka Chawda",null,"Kailash","Seema Devi","F","2017-12-29",1379,null,24,null,"OBC",null,null,"GOVT. SENIOR SECONDARY SCHOOL ALNIYAWAS (219445)",8140200308,null,null,8619654499,"ALNIYAWAS,RIYAN BARI,ALNIYAWAS,342144",null,"N","Y",null,17,null,1]
[11,"A",4775,null,"PRIYANKA DEVI",null,"Kailash","Seema Devi","F","2017-12-30",1380,null,24,null,"OBC",null,null,"GOVT. SENIOR SECONDARY SCHOOL ALNIYAWAS (219445)",8140200308,null,null,8619654499,"ALNIYAWAS,RIYAN BARI,ALNIYAWAS,342145",80000,"N","N","No",16,"None",3]
[11,"A",4775,null,"RAKESH KACHCHHAVA",null,"Kailash","Seema Devi","M","2017-12-31",1385,null,24,null,"OBC",null,null,"GOVT. SENIOR SECONDARY SCHOOL ALNIYAWAS (219445)",8140200308,null,null,8619654499,"ALNIYAWAS,RIYAN BARI,ALNIYAWAS,342146",0,"N","N","No",15,"None",1]
[11,"A",4775,null,"RAM AVTAR SAINI",null,"Kailash","Seema Devi","M","2018-01-01",1386,null,24,null,"OBC",null,null,"GOVT. SENIOR SECONDARY SCHOOL ALNIYAWAS (219445)",8140200308,null,null,8619654499,"ALNIYAWAS,RIYAN BARI,ALNIYAWAS,342147",80000,"N","N","No",16,"None",1]
[11,"A",4775,null,"RAMJANA BANOO",null,"Kailash","Seema Devi","F","2018-01-02",1387,null,24,null,"OBC",null,null,"GOVT. SENIOR SECONDARY SCHOOL ALNIYAWAS (219445)",8140200308,null,null,8619654499,"ALNIYAWAS,RIYAN BARI,ALNIYAWAS,342148",0,"N","N","Yes",16,"None",1]
[11,"A",4775,null,"RAMNIWAS KUMAWAT",null,"Kailash","Seema Devi","M","2018-01-03",1389,null,24,null,"OBC",null,null,"GOVT. SENIOR SECONDARY SCHOOL ALNIYAWAS (219445)",8140200308,null,null,8619654499,"ALNIYAWAS,RIYAN BARI,ALNIYAWAS,342149",60000,"N","N","No",16,"None",0]
[11,"A",4775,null,"RAVI KUMAR ACHARYA",null,"Kailash","Seema Devi","M","2018-01-04",1390,null,24,null,"OBC",null,null,"GOVT. SENIOR SECONDARY SCHOOL ALNIYAWAS (219445)",8140200308,null,null,8619654499,"ALNIYAWAS,RIYAN BARI,ALNIYAWAS,342150",80000,"N","N","No",17,"None",0]
[11,"A",4775,null,"RAVINDRA SINGH",null,"Kailash","Seema Devi","M","2018-01-05",1392,null,24,null,"OBC",null,null,"GOVT. SENIOR SECONDARY SCHOOL ALNIYAWAS (219445)",8140200308,null,null,8619654499,"ALNIYAWAS,RIYAN BARI,ALNIYAWAS,342151",0,"N","N","No",14,"None",1]
[11,"A",4775,null,"RAVINDRA SINGH",null,"Kailash","Seema Devi","M","2018-01-06",1391,null,24,null,"OBC",null,null,"GOVT. SENIOR SECONDARY SCHOOL ALNIYAWAS (219445)",8140200308,null,null,8619654499,"ALNIYAWAS,RIYAN BARI,ALNIYAWAS,342152",45000,"N","N","No",16,"None",3]
[11,"A",4775,null,"REKHA JANGID",null,"Kailash","Seema Devi","F","2018-01-07",1393,null,24,null,"OBC",null,null,"GOVT. SENIOR SECONDARY SCHOOL ALNIYAWAS (219445)",8140200308,null,null,8619654499,"ALNIYAWAS,RIYAN BARI,ALNIYAWAS,342153",100000,"N","N","No",16,"None",1]
[11,"A",4775,null,"RINKU KUMAWAT",null,"Kailash","Seema Devi","F","2018-01-08",1394,null,24,null,"OBC",null,null,"GOVT. SENIOR SECONDARY SCHOOL ALNIYAWAS (219445)",8140200308,null,null,8619654499,"ALNIYAWAS,RIYAN BARI,ALNIYAWAS,342154",36000,"N","N","No",18,"None",5]
[11,"A",4775,null,"RIYANA BANU",null,"Kailash","Seema Devi","F","2018-01-09",1395,null,24,null,"OBC",null,null,"GOVT. SENIOR SECONDARY SCHOOL ALNIYAWAS (219445)",8140200308,null,null,8619654499,"ALNIYAWAS,RIYAN BARI,ALNIYAWAS,342155",60000,"Y","N","Yes",17,"None",0]
[11,"A",4775,null,"ROHIT",null,"Kailash","Seema Devi","M","2018-01-10",1396,null,24,null,"OBC",null,null,"GOVT. SENIOR SECONDARY SCHOOL ALNIYAWAS (219445)",8140200308,null,null,8619654499,"ALNIYAWAS,RIYAN BARI,ALNIYAWAS,342156",36000,"N","N","No",14,"None",1]
[11,"A",4775,null,"ROHIT SOLANKI",null,"Kailash","Seema Devi","M","2018-01-11",1397,null,24,null,"OBC",null,null,"GOVT. SENIOR SECONDARY SCHOOL ALNIYAWAS (219445)",8140200308,null,null,8619654499,"ALNIYAWAS,RIYAN BARI,ALNIYAWAS,342157",45000,"N","N","No",17,"None",1]
[11,"A",4775,null,"SALAUDIN",null,"Kailash","Seema Devi","M","2018-01-12",1399,null,24,null,"OBC",null,null,"GOVT. SENIOR SECONDARY SCHOOL ALNIYAWAS (219445)",8140200308,null,null,8619654499,"ALNIYAWAS,RIYAN BARI,ALNIYAWAS,342158",0,"N","N","Yes",16,"None",1]
[11,"A",4775,null,"SALMAN",null,"Kailash","Seema Devi","M","2018-01-13",1400,null,24,null,"OBC",null,null,"GOVT. SENIOR SECONDARY SCHOOL ALNIYAWAS (219445)",8140200308,null,null,8619654499,"ALNIYAWAS,RIYAN BARI,ALNIYAWAS,342159",0,"N","N","Yes",16,"None",1]
[11,"A",4775,null,"SANIYA BANOO",null,"Kailash","Seema Devi","F","2018-01-14",1401,null,24,null,"OBC",null,null,"GOVT. SENIOR SECONDARY SCHOOL ALNIYAWAS (219445)",8140200308,null,null,8619654499,"ALNIYAWAS,RIYAN BARI,ALNIYAWAS,342160",80000,"N","N","Yes",16,"None",1]
[11,"A",4775,null,"SARITA BAWARI",null,"Kailash","Seema Devi","F","2018-01-15",1403,null,24,null,"OBC",null,null,"GOVT. SENIOR SECONDARY SCHOOL ALNIYAWAS (219445)",8140200308,null,null,8619654499,"ALNIYAWAS,RIYAN BARI,ALNIYAWAS,342161",36000,"N","N","No",15,"None",2]
[11,"A",4775,null,"Seema Choukidar",null,"Kailash","Seema Devi","F","2018-01-16",1405,null,24,null,"OBC",null,null,"GOVT. SENIOR SECONDARY SCHOOL ALNIYAWAS (219445)",8140200308,null,null,8619654499,"ALNIYAWAS,RIYAN BARI,ALNIYAWAS,342162",null,"N","Y",null,16,null,1]
[11,"A",4775,null,"SHABANA",null,"Kailash","Seema Devi","F","2018-01-17",1406,null,24,null,"OBC",null,null,"GOVT. SENIOR SECONDARY SCHOOL ALNIYAWAS (219445)",8140200308,null,null,8619654499,"ALNIYAWAS,RIYAN BARI,ALNIYAWAS,342163",72000,"N","N","Yes",16,"None",1]
[11,"A",4775,null,"SHAKTI SINGH",null,"Kailash","Seema Devi","M","2018-01-18",1407,null,24,null,"OBC",null,null,"GOVT. SENIOR SECONDARY SCHOOL ALNIYAWAS (219445)",8140200308,null,null,8619654499,"ALNIYAWAS,RIYAN BARI,ALNIYAWAS,342164",45000,"N","N","No",14,"None",1]
[11,"A",4775,null,"Shankar Gurjar",null,"Kailash","Seema Devi","M","2018-01-19",1408,null,24,null,"OBC",null,null,"GOVT. SENIOR SECONDARY SCHOOL ALNIYAWAS (219445)",8140200308,null,null,8619654499,"ALNIYAWAS,RIYAN BARI,ALNIYAWAS,342165",null,"N","Y",null,15,null,1]
[11,"A",4775,null,"Shreeram Saini",null,"Kailash","Seema Devi","M","2018-01-20",1409,null,24,null,"OBC",null,null,"GOVT. SENIOR SECONDARY SCHOOL ALNIYAWAS (219445)",8140200308,null,null,8619654499,"ALNIYAWAS,RIYAN BARI,ALNIYAWAS,342166",null,"N","Y",null,16,null,3]
[11,"A",4775,null,"Sonika",null,"Kailash","Seema Devi","F","2018-01-21",1410,null,24,null,"OBC",null,null,"GOVT. SENIOR SECONDARY SCHOOL ALNIYAWAS (219445)",8140200308,null,null,8619654499,"ALNIYAWAS,RIYAN BARI,ALNIYAWAS,342167",null,"N","Y",null,15,null,6]
[11,"A",4775,null,"Sumer Barada",null,"Kailash","Seema Devi","M","2018-01-22",1414,null,24,null,"OBC",null,null,"GOVT. SENIOR SECONDARY SCHOOL ALNIYAWAS (219445)",8140200308,null,null,8619654499,"ALNIYAWAS,RIYAN BARI,ALNIYAWAS,342168",null,"N","Y",null,17,null,6]
[11,"A",4775,null,"SUNIL",null,"Kailash","Seema Devi","M","2018-01-23",1415,null,24,null,"OBC",null,null,"GOVT. SENIOR SECONDARY SCHOOL ALNIYAWAS (219445)",8140200308,null,null,8619654499,"ALNIYAWAS,RIYAN BARI,ALNIYAWAS,342169",0,"N","N","No",15,"None",2]
[11,"A",4775,null,"Sunil Boraniya",null,"Kailash","Seema Devi","M","2018-01-24",1417,null,24,null,"OBC",null,null,"GOVT. SENIOR SECONDARY SCHOOL ALNIYAWAS (219445)",8140200308,null,null,8619654499,"ALNIYAWAS,RIYAN BARI,ALNIYAWAS,342170",60000,"N","N","No",16,"None",1]
[11,"A",4775,null,"SUNIL NATH",null,"Kailash","Seema Devi","M","2018-01-25",1418,null,24,null,"OBC",null,null,"GOVT. SENIOR SECONDARY SCHOOL ALNIYAWAS (219445)",8140200308,null,null,8619654499,"ALNIYAWAS,RIYAN BARI,ALNIYAWAS,342171",45000,"N","N","No",14,"None",5]
[11,"A",4775,null,"SUNIL SAINI",null,"Kailash","Seema Devi","M","2018-01-26",1419,null,24,null,"OBC",null,null,"GOVT. SENIOR SECONDARY SCHOOL ALNIYAWAS (219445)",8140200308,null,null,8619654499,"ALNIYAWAS,RIYAN BARI,ALNIYAWAS,342172",60000,"N","N","No",16,"None",1]
[11,"A",4775,null,"TARUN SAINI",null,"Kailash","Seema Devi","M","2018-01-27",1421,null,24,null,"OBC",null,null,"GOVT. SENIOR SECONDARY SCHOOL ALNIYAWAS (219445)",8140200308,null,null,8619654499,"ALNIYAWAS,RIYAN BARI,ALNIYAWAS,342173",80000,"N","N","No",13,"None",1]
[11,"A",4775,null,"VIKRAM SINGH",null,"Kailash","Seema Devi","M","2018-01-28",1422,null,24,null,"OBC",null,null,"GOVT. SENIOR SECONDARY SCHOOL ALNIYAWAS (219445)",8140200308,null,null,8619654499,"ALNIYAWAS,RIYAN BARI,ALNIYAWAS,342174",0,"N","N","No",17,"None",1]
[11,"A",4775,null,"VISHNU CHOKIDAR",null,"Kailash","Seema Devi","M","2018-01-29",1423,null,24,null,"OBC",null,null,"GOVT. SENIOR SECONDARY SCHOOL ALNIYAWAS (219445)",8140200308,null,null,8619654499,"ALNIYAWAS,RIYAN BARI,ALNIYAWAS,342175",0,"N","N","No",17,"None",2]
[11,"A",4775,null,"YAGHYANARAYAN SINGH",null,"Kailash","Seema Devi","M","2018-01-30",1424,null,24,null,"OBC",null,null,"GOVT. SENIOR SECONDARY SCHOOL ALNIYAWAS (219445)",8140200308,null,null,8619654499,"ALNIYAWAS,RIYAN BARI,ALNIYAWAS,342176",60000,"N","N","No",15,"None",3]
[11,"B",4775,null,"Ankit",null,"Kailash","Seema Devi","M","2018-01-31",1501,null,24,null,"OBC",null,null,"GOVT. SENIOR SECONDARY SCHOOL ALNIYAWAS (219445)",8140200308,null,null,8619654499,"ALNIYAWAS,RIYAN BARI,ALNIYAWAS,342177",null,"N","Y",null,14,null,1]
[11,"B",4775,null,"ARPIT SHARMA",null,"Kailash","Seema Devi","M","2018-02-01",1502,null,24,null,"OBC",null,null,"GOVT. SENIOR SECONDARY SCHOOL ALNIYAWAS (219445)",8140200308,null,null,8619654499,"ALNIYAWAS,RIYAN BARI,ALNIYAWAS,342178",60000,"N","N","No",15,"None",0]
[11,"B",4775,null,"Barkat Ali",null,"Kailash","Seema Devi","M","2018-02-02",1503,null,24,null,"OBC",null,null,"GOVT. SENIOR SECONDARY SCHOOL ALNIYAWAS (219445)",8140200308,null,null,8619654499,"ALNIYAWAS,RIYAN BARI,ALNIYAWAS,342179",null,"N","Y",null,15,null,1]
[11,"B",4775,null,"Bhavna Vaishnav",null,"Kailash","Seema Devi","F","2018-02-03",1504,null,24,null,"OBC",null,null,"GOVT. SENIOR SECONDARY SCHOOL ALNIYAWAS (219445)",8140200308,null,null,8619654499,"ALNIYAWAS,RIYAN BARI,ALNIYAWAS,342180",null,"N","Y",null,17,null,1]
[11,"B",4775,null,"DEEKSHA PARIHAR",null,"Kailash","Seema Devi","F","2018-02-04",1505,null,24,null,"OBC",null,null,"GOVT. SENIOR SECONDARY SCHOOL ALNIYAWAS (219445)",8140200308,null,null,8619654499,"ALNIYAWAS,RIYAN BARI,ALNIYAWAS,342181",100000,"N","N","No",15,"None",1]
[11,"B",4775,null,"DEEPIKA SHARMA",null,"Kailash","Seema Devi","F","2018-02-05",1506,null,24,null,"OBC",null,null,"GOVT. SENIOR SECONDARY SCHOOL ALNIYAWAS (219445)",8140200308,null,null,8619654499,"ALNIYAWAS,RIYAN BARI,ALNIYAWAS,342182",80000,"N","N","No",15,"None",1]
[11,"B",4775,null,"FIROJA BANU",null,"Kailash","Seema Devi","F","2018-02-06",1507,null,24,null,"OBC",null,null,"GOVT. SENIOR SECONDARY SCHOOL ALNIYAWAS (219445)",8140200308,null,null,8619654499,"ALNIYAWAS,RIYAN BARI,ALNIYAWAS,342183",100000,"N","N","No",15,"None",1]
[11,"B",4775,null,"GARIMA PARIHAR",null,"Kailash","Seema Devi","F","2018-02-07",1508,null,24,null,"OBC",null,null,"GOVT. SENIOR SECONDARY SCHOOL ALNIYAWAS (219445)",8140200308,null,null,8619654499,"ALNIYAWAS,RIYAN BARI,ALNIYAWAS,342184",72000,"N","N","No",15,"None",1]
[11,"B",4775,null,"Govind Ram",null,"Kailash","Seema Devi","M","2018-02-08",1509,null,24,null,"OBC",null,null,"GOVT. SENIOR SECONDARY SCHOOL ALNIYAWAS (219445)",8140200308,null,null,8619654499,"ALNIYAWAS,RIYAN BARI,ALNIYAWAS,342185",null,"N","Y",null,16,null,5]
[11,"B",4775,null,"GUDDI DEVI",null,"Kailash","Seema Devi","F","2018-02-09",1510,null,24,null,"OBC",null,null,"GOVT. SENIOR SECONDARY SCHOOL ALNIYAWAS (219445)",8140200308,null,null,8619654499,"ALNIYAWAS,RIYAN BARI,ALNIYAWAS,342186",50000,"N","N","No",16,"None",0]
[11,"B",4775,null,"HAIDER ALI",null,"Kailash","Seema Devi","M","2018-02-10",1511,null,24,null,"OBC",null,null,"GOVT. SENIOR SECONDARY SCHOOL ALNIYAWAS (219445)",8140200308,null,null,8619654499,"ALNIYAWAS,RIYAN BARI,ALNIYAWAS,342187",80000,"N","N","Yes",16,"None",1]
[11,"B",4775,null,"HEMLATA",null,"Kailash","Seema Devi","F","2018-02-11",1512,null,24,null,"OBC",null,null,"GOVT. SENIOR SECONDARY SCHOOL ALNIYAWAS (219445)",8140200308,null,null,8619654499,"ALNIYAWAS,RIYAN BARI,ALNIYAWAS,342188",0,"N","N","No",15,"None",2]
[11,"B",4775,null,"KARAN KUMAR ACHARYA",null,"Kailash","Seema Devi","M","2018-02-12",1513,null,24,null,"OBC",null,null,"GOVT. SENIOR SECONDARY SCHOOL ALNIYAWAS (219445)",8140200308,null,null,8619654499,"ALNIYAWAS,RIYAN BARI,ALNIYAWAS,342189",60000,"N","N","No",15,"None",0]
[11,"B",4775,null,"KAVITA PRAJAPAT",null,"Kailash","Seema Devi","F","2018-02-13",1514,null,24,null,"OBC",null,null,"GOVT. SENIOR SECONDARY SCHOOL ALNIYAWAS (219445)",8140200308,null,null,8619654499,"ALNIYAWAS,RIYAN BARI,ALNIYAWAS,342190",80000,"N","N","No",15,"None",1]
[11,"B",4775,null,"Komal",null,"Kailash","Seema Devi","F","2018-02-14",1515,null,24,null,"OBC",null,null,"GOVT. SENIOR SECONDARY SCHOOL ALNIYAWAS (219445)",8140200308,null,null,8619654499,"ALNIYAWAS,RIYAN BARI,ALNIYAWAS,342191",null,"N","Y",null,14,null,1]
[11,"B",4775,null,"KOMAL PRAJAPAT",null,"Kailash","Seema Devi","F","2018-02-15",1516,null,24,null,"OBC",null,null,"GOVT. SENIOR SECONDARY SCHOOL ALNIYAWAS (219445)",8140200308,null,null,8619654499,"ALNIYAWAS,RIYAN BARI,ALNIYAWAS,342192",40000,"N","N","No",15,"None",0]
[11,"B",4775,null,"Krishna Saini",null,"Kailash","Seema Devi","F","2018-02-16",1517,null,24,null,"OBC",null,null,"GOVT. SENIOR SECONDARY SCHOOL ALNIYAWAS (219445)",8140200308,null,null,8619654499,"ALNIYAWAS,RIYAN BARI,ALNIYAWAS,342193",null,"N","Y",null,16,null,1]
[11,"B",4775,null,"MANISH KUMAR",null,"Kailash","Seema Devi","M","2018-02-17",1518,null,24,null,"OBC",null,null,"GOVT. SENIOR SECONDARY SCHOOL ALNIYAWAS (219445)",8140200308,null,null,8619654499,"ALNIYAWAS,RIYAN BARI,ALNIYAWAS,342194",80000,"N","N","No",16,"None",1]
[11,"B",4775,null,"MANISH KUMAR SAINI",null,"Kailash","Seema Devi","M","2018-02-18",1519,null,24,null,"OBC",null,null,"GOVT. SENIOR SECONDARY SCHOOL ALNIYAWAS (219445)",8140200308,null,null,8619654499,"ALNIYAWAS,RIYAN BARI,ALNIYAWAS,342195",60000,"N","N","No",17,"None",0]
[11,"B",4775,null,"Manjeet Singh Shekhawat",null,"Kailash","Seema Devi","M","2018-02-19",1520,null,24,null,"OBC",null,null,"GOVT. SENIOR SECONDARY SCHOOL ALNIYAWAS (219445)",8140200308,null,null,8619654499,"ALNIYAWAS,RIYAN BARI,ALNIYAWAS,342196",null,"N","Y",null,15,null,5]
[11,"B",4775,null,"MOHAMMAD SHAHROOKH",null,"Kailash","Seema Devi","M","2018-02-20",1521,null,24,null,"OBC",null,null,"GOVT. SENIOR SECONDARY SCHOOL ALNIYAWAS (219445)",8140200308,null,null,8619654499,"ALNIYAWAS,RIYAN BARI,ALNIYAWAS,342197",100000,"N","N","Yes",16,"None",1]
[11,"B",4775,null,"MOHIT VAISHNAV",null,"Kailash","Seema Devi","M","2018-02-21",1522,null,24,null,"OBC",null,null,"GOVT. SENIOR SECONDARY SCHOOL ALNIYAWAS (219445)",8140200308,null,null,8619654499,"ALNIYAWAS,RIYAN BARI,ALNIYAWAS,342198",60000,"N","N","No",15,"None",1]
[11,"B",4775,null,"Mukesh Dagdi",null,"Kailash","Seema Devi","M","2018-02-22",1523,null,24,null,"OBC",null,null,"GOVT. SENIOR SECONDARY SCHOOL ALNIYAWAS (219445)",8140200308,null,null,8619654499,"ALNIYAWAS,RIYAN BARI,ALNIYAWAS,342199",null,"N","Y",null,16,null,7]
[11,"B",4775,null,"MUSHRAT BANO",null,"Kailash","Seema Devi","F","2018-02-23",1524,null,24,null,"OBC",null,null,"GOVT. SENIOR SECONDARY SCHOOL ALNIYAWAS (219445)",8140200308,null,null,8619654499,"ALNIYAWAS,RIYAN BARI,ALNIYAWAS,342200",0,"N","N","Yes",16,"None",1]
[11,"B",4775,null,"NEERU SAINI",null,"Kailash","Seema Devi","F","2018-02-24",1525,null,24,null,"OBC",null,null,"GOVT. SENIOR SECONDARY SCHOOL ALNIYAWAS (219445)",8140200308,null,null,8619654499,"ALNIYAWAS,RIYAN BARI,ALNIYAWAS,342201",60000,"N","N","No",16,"None",1]
[11,"B",4775,null,"PINKI",null,"Kailash","Seema Devi","F","2018-02-25",1526,null,24,null,"OBC",null,null,"GOVT. SENIOR SECONDARY SCHOOL ALNIYAWAS (219445)",8140200308,null,null,8619654499,"ALNIYAWAS,RIYAN BARI,ALNIYAWAS,342202",45000,"N","N",null,16,"None",0]
[11,"B",4775,null,"POOJA",null,"Kailash","Seema Devi","F","2018-02-26",1527,null,24,null,"OBC",null,null,"GOVT. SENIOR SECONDARY SCHOOL ALNIYAWAS (219445)",8140200308,null,null,8619654499,"ALNIYAWAS,RIYAN BARI,ALNIYAWAS,342203",60000,"N","N","No",16,"None",0]
[11,"B",4775,null,"POONAM JHUNJHADIYA",null,"Kailash","Seema Devi","F","2018-02-27",1528,null,24,null,"OBC",null,null,"GOVT. SENIOR SECONDARY SCHOOL ALNIYAWAS (219445)",8140200308,null,null,8619654499,"ALNIYAWAS,RIYAN BARI,ALNIYAWAS,342204",36000,"N","N","No",15,"None",4]
[11,"B",4775,null,"Pradeep Faroda",null,"Kailash","Seema Devi","M","2018-02-28",1529,null,24,null,"OBC",null,null,"GOVT. SENIOR SECONDARY SCHOOL ALNIYAWAS (219445)",8140200308,null,null,8619654499,"ALNIYAWAS,RIYAN BARI,ALNIYAWAS,342205",null,"N","Y",null,13,null,5]
[11,"B",4775,null,"Priyanka Sharma",null,"Kailash","Seema Devi","F","2018-03-01",1530,null,24,null,"OBC",null,null,"GOVT. SENIOR SECONDARY SCHOOL ALNIYAWAS (219445)",8140200308,null,null,8619654499,"ALNIYAWAS,RIYAN BARI,ALNIYAWAS,342206",null,"N","Y",null,15,null,1]
[11,"B",4775,null,"PUKHRAJ BORANIYA",null,"Kailash","Seema Devi","M","2018-03-02",1531,null,24,null,"OBC",null,null,"GOVT. SENIOR SECONDARY SCHOOL ALNIYAWAS (219445)",8140200308,null,null,8619654499,"ALNIYAWAS,RIYAN BARI,ALNIYAWAS,342207",60000,"N","N","No",18,"None",2]
[11,"B",4775,null,"PURAN",null,"Kailash","Seema Devi","M","2018-03-03",1532,null,24,null,"OBC",null,null,"GOVT. SENIOR SECONDARY SCHOOL ALNIYAWAS (219445)",8140200308,null,null,8619654499,"ALNIYAWAS,RIYAN BARI,ALNIYAWAS,342208",45000,"N","N","No",16,"None",1]
[11,"B",4775,null,"RICHHPAL RAIKA",null,"Kailash","Seema Devi","M","2018-03-04",1533,null,24,null,"OBC",null,null,"GOVT. SENIOR SECONDARY SCHOOL ALNIYAWAS (219445)",8140200308,null,null,8619654499,"ALNIYAWAS,RIYAN BARI,ALNIYAWAS,342209",60000,"N","N","No",18,"None",3]
[11,"B",4775,null,"SABIR HUSAIN",null,"Kailash","Seema Devi","M","2018-03-05",1534,null,24,null,"OBC",null,null,"GOVT. SENIOR SECONDARY SCHOOL ALNIYAWAS (219445)",8140200308,null,null,8619654499,"ALNIYAWAS,RIYAN BARI,ALNIYAWAS,342210",0,"N","N","Yes",16,"None",1]
[11,"B",4775,null,"SEEMA",null,"Kailash","Seema Devi","F","2018-03-06",1535,null,24,null,"OBC",null,null,"GOVT. SENIOR SECONDARY SCHOOL ALNIYAWAS (219445)",8140200308,null,null,8619654499,"ALNIYAWAS,RIYAN BARI,ALNIYAWAS,342211",36000,"N","N","No",15,"None",4]
[11,"B",4775,null,"SEEMA DEVI",null,"Kailash","Seema Devi","F","2018-03-07",1536,null,24,null,"OBC",null,null,"GOVT. SENIOR SECONDARY SCHOOL ALNIYAWAS (219445)",8140200308,null,null,8619654499,"ALNIYAWAS,RIYAN BARI,ALNIYAWAS,342212",60000,"N","N","No",17,"None",0]
[11,"B",4775,null,"Sunil",null,"Kailash","Seema Devi","M","2018-03-08",1537,null,24,null,"OBC",null,null,"GOVT. SENIOR SECONDARY SCHOOL ALNIYAWAS (219445)",8140200308,null,null,8619654499,"ALNIYAWAS,RIYAN BARI,ALNIYAWAS,342213",null,"N","Y",null,15,null,5]
[11,"B",4775,null,"SUNITA MEGHWAL",null,"Kailash","Seema Devi","F","2018-03-09",1538,null,24,null,"OBC",null,null,"GOVT. SENIOR SECONDARY SCHOOL ALNIYAWAS (219445)",8140200308,null,null,8619654499,"ALNIYAWAS,RIYAN BARI,ALNIYAWAS,342214",60000,"N","N","No",15,"None",1]
[11,"B",4775,null,"TEENA VAISHNAV",null,"Kailash","Seema Devi","F","2018-03-10",1539,null,24,null,"OBC",null,null,"GOVT. SENIOR SECONDARY SCHOOL ALNIYAWAS (219445)",8140200308,null,null,8619654499,"ALNIYAWAS,RIYAN BARI,ALNIYAWAS,342215",225000,"N","N","No",16,"None",0]
[11,"B",4775,null,"Vidhya Chand",null,"Kailash","Seema Devi","M","2018-03-11",1540,null,24,null,"OBC",null,null,"GOVT. SENIOR SECONDARY SCHOOL ALNIYAWAS (219445)",8140200308,null,null,8619654499,"ALNIYAWAS,RIYAN BARI,ALNIYAWAS,342216",null,"N","N","No",15,"None",1]
[11,"B",4775,null,"VIKAS KUMAWAT",null,"Kailash","Seema Devi","M","2018-03-12",1541,null,24,null,"OBC",null,null,"GOVT. SENIOR SECONDARY SCHOOL ALNIYAWAS (219445)",8140200308,null,null,8619654499,"ALNIYAWAS,RIYAN BARI,ALNIYAWAS,342217",60000,"N","N","No",16,"None",0.5]
[11,"B",4775,null,"YASIN MOHAMMAD",null,"Kailash","Seema Devi","M","2018-03-13",1542,null,24,null,"OBC",null,null,"GOVT. SENIOR SECONDARY SCHOOL ALNIYAWAS (219445)",8140200308,null,null,8619654499,"ALNIYAWAS,RIYAN BARI,ALNIYAWAS,342218",0,"N","N","No",18,"None",1]
[12,"A",4775,null,"ABDUL RAHMAN",null,"Kailash","Seema Devi","M","2018-03-14",1601,null,24,null,"OBC",null,null,"GOVT. SENIOR SECONDARY SCHOOL ALNIYAWAS (219445)",8140200308,null,null,8619654499,"ALNIYAWAS,RIYAN BARI,ALNIYAWAS,342219",80000,"N","N","Yes",17,"None",0]
[12,"A",4775,null,"ALAUDIN",null,"Kailash","Seema Devi","M","2018-03-15",1603,null,24,null,"OBC",null,null,"GOVT. SENIOR SECONDARY SCHOOL ALNIYAWAS (219445)",8140200308,null,null,8619654499,"ALNIYAWAS,RIYAN BARI,ALNIYAWAS,342220",36000,"N","N","Yes",14,"None",2]
[12,"A",4775,null,"Anita Saini",null,"Kailash","Seema Devi","F","2018-03-16",1604,null,24,null,"OBC",null,null,"GOVT. SENIOR SECONDARY SCHOOL ALNIYAWAS (219445)",8140200308,null,null,8619654499,"ALNIYAWAS,RIYAN BARI,ALNIYAWAS,342221",null,"N","Y",null,17,null,3]
[12,"A",4775,null,"ANKIT KACHCHHAVA",null,"Kailash","Seema Devi","M","2018-03-17",1605,null,24,null,"OBC",null,null,"GOVT. SENIOR SECONDARY SCHOOL ALNIYAWAS (219445)",8140200308,null,null,8619654499,"ALNIYAWAS,RIYAN BARI,ALNIYAWAS,342222",0,"N","N","No",18,"None",1]
[12,"A",4775,null,"BANSHI LAL",null,"Kailash","Seema Devi","M","2018-03-18",1606,null,24,null,"OBC",null,null,"GOVT. SENIOR SECONDARY SCHOOL ALNIYAWAS (219445)",8140200308,null,null,8619654499,"ALNIYAWAS,RIYAN BARI,ALNIYAWAS,342223",40000,"N","N","No",18,"None",1]
[12,"A",4775,null,"BARKAT ALI",null,"Kailash","Seema Devi","M","2018-03-19",1607,null,24,null,"OBC",null,null,"GOVT. SENIOR SECONDARY SCHOOL ALNIYAWAS (219445)",8140200308,null,null,8619654499,"ALNIYAWAS,RIYAN BARI,ALNIYAWAS,342224",0,"N","N",null,17,"None",1]
[12,"A",4775,null,"Dashrath Vaishnav",null,"Kailash","Seema Devi","M","2018-03-20",1608,null,24,null,"OBC",null,null,"GOVT. SENIOR SECONDARY SCHOOL ALNIYAWAS (219445)",8140200308,null,null,8619654499,"ALNIYAWAS,RIYAN BARI,ALNIYAWAS,342225",null,"N","Y",null,16,null,1]
[12,"A",4775,null,"DINESH KUMAR",null,"Kailash","Seema Devi","M","2018-03-21",1609,null,24,null,"OBC",null,null,"GOVT. SENIOR SECONDARY SCHOOL ALNIYAWAS (219445)",8140200308,null,null,8619654499,"ALNIYAWAS,RIYAN BARI,ALNIYAWAS,342226",42000,"N","N","No",16,"None",2]
[12,"A",4775,null,"Dinesh Soda",null,"Kailash","Seema Devi","M","2018-03-22",1610,null,24,null,"OBC",null,null,"GOVT. SENIOR SECONDARY SCHOOL ALNIYAWAS (219445)",8140200308,null,null,8619654499,"ALNIYAWAS,RIYAN BARI,ALNIYAWAS,342227",null,"N","Y",null,16,null,6]
[12,"A",4775,null,"GAUTAM SINGH",null,"Kailash","Seema Devi","M","2018-03-23",1611,null,24,null,"OBC",null,null,"GOVT. SENIOR SECONDARY SCHOOL ALNIYAWAS (219445)",8140200308,null,null,8619654499,"ALNIYAWAS,RIYAN BARI,ALNIYAWAS,342228",50000,"N","N","No",16,"None",1]
[12,"A",4775,null,"GUMAN NATH",null,"Kailash","Seema Devi","M","2018-03-24",1612,null,24,null,"OBC",null,null,"GOVT. SENIOR SECONDARY SCHOOL ALNIYAWAS (219445)",8140200308,null,null,8619654499,"ALNIYAWAS,RIYAN BARI,ALNIYAWAS,342229",0,"N","N","No",17,"None",1]
[12,"A",4775,null,"HASEENA BANO",null,"Kailash","Seema Devi","F","2018-03-25",1613,null,24,null,"OBC",null,null,"GOVT. SENIOR SECONDARY SCHOOL ALNIYAWAS (219445)",8140200308,null,null,8619654499,"ALNIYAWAS,RIYAN BARI,ALNIYAWAS,342230",36000,"N","N","Yes",18,"None",5]
[12,"A",4775,null,"HEENA BANOO",null,"Kailash","Seema Devi","F","2018-03-26",1614,null,24,null,"OBC",null,null,"GOVT. SENIOR SECONDARY SCHOOL ALNIYAWAS (219445)",8140200308,null,null,8619654499,"ALNIYAWAS,RIYAN BARI,ALNIYAWAS,342231",0,"N","N","Yes",16,"None",1]
[12,"A",4775,null,"HINA BANU",null,"Kailash","Seema Devi","F","2018-03-27",1615,null,24,null,"OBC",null,null,"GOVT. SENIOR SECONDARY SCHOOL ALNIYAWAS (219445)",8140200308,null,null,8619654499,"ALNIYAWAS,RIYAN BARI,ALNIYAWAS,342232",0,"N","N","Yes",16,"None",2]
[12,"A",4775,null,"IKBAL MOHAMMAD",null,"Kailash","Seema Devi","M","2018-03-28",1616,null,24,null,"OBC",null,null,"GOVT. SENIOR SECONDARY SCHOOL ALNIYAWAS (219445)",8140200308,null,null,8619654499,"ALNIYAWAS,RIYAN BARI,ALNIYAWAS,342233",60000,"N","N","Yes",18,"None",1]
[12,"A",4775,null,"KAVITA TAMBOLI",null,"Kailash","Seema Devi","F","2018-03-29",1617,null,24,null,"OBC",null,null,"GOVT. SENIOR SECONDARY SCHOOL ALNIYAWAS (219445)",8140200308,null,null,8619654499,"ALNIYAWAS,RIYAN BARI,ALNIYAWAS,342234",38000,"N","N","No",16,"None",7]
[12,"A",4775,null,"KUDRAT BANO",null,"Kailash","Seema Devi","F","2018-03-30",1618,null,24,null,"OBC",null,null,"GOVT. SENIOR SECONDARY SCHOOL ALNIYAWAS (219445)",8140200308,null,null,8619654499,"ALNIYAWAS,RIYAN BARI,ALNIYAWAS,342235",0,"N","N","Yes",17,"None",1]
[12,"A",4775,null,"KULDEEP ACHARYA",null,"Kailash","Seema Devi","M","2018-03-31",1619,null,24,null,"OBC",null,null,"GOVT. SENIOR SECONDARY SCHOOL ALNIYAWAS (219445)",8140200308,null,null,8619654499,"ALNIYAWAS,RIYAN BARI,ALNIYAWAS,342236",0,"N","N","No",17,"None",2]
[12,"A",4775,null,"LAXMI GURJAR",null,"Kailash","Seema Devi","F","2018-04-01",1620,null,24,null,"OBC",null,null,"GOVT. SENIOR SECONDARY SCHOOL ALNIYAWAS (219445)",8140200308,null,null,8619654499,"ALNIYAWAS,RIYAN BARI,ALNIYAWAS,342237",60000,"N","N","No",17,"None",1]
[12,"A",4775,null,"MAMTA",null,"Kailash","Seema Devi","F","2018-04-02",1621,null,24,null,"OBC",null,null,"GOVT. SENIOR SECONDARY SCHOOL ALNIYAWAS (219445)",8140200308,null,null,8619654499,"ALNIYAWAS,RIYAN BARI,ALNIYAWAS,342238",60000,"N","N","No",16,"None",0]
[12,"A",4775,null,"MAMTA GURJAR",null,"Kailash","Seema Devi","F","2018-04-03",1622,null,24,null,"OBC",null,null,"GOVT. SENIOR SECONDARY SCHOOL ALNIYAWAS (219445)",8140200308,null,null,8619654499,"ALNIYAWAS,RIYAN BARI,ALNIYAWAS,342239",60000,"N","N","No",18,"None",1]
[12,"A",4775,null,"MANISH MALI",null,"Kailash","Seema Devi","M","2018-04-04",1623,null,24,null,"OBC",null,null,"GOVT. SENIOR SECONDARY SCHOOL ALNIYAWAS (219445)",8140200308,null,null,8619654499,"ALNIYAWAS,RIYAN BARI,ALNIYAWAS,342240",40000,"N","N","No",15,"None",1]
[12,"A",4775,null,"MONIKA KANWAR",null,"Kailash","Seema Devi","F","2018-04-05",1624,null,24,null,"OBC",null,null,"GOVT. SENIOR SECONDARY SCHOOL ALNIYAWAS (219445)",8140200308,null,null,8619654499,"ALNIYAWAS,RIYAN BARI,ALNIYAWAS,342241",0,"N","N","No",17,"None",2]
[12,"A",4775,null,"NAZIYA",null,"Kailash","Seema Devi","F","2018-04-06",1625,null,24,null,"OBC",null,null,"GOVT. SENIOR SECONDARY SCHOOL ALNIYAWAS (219445)",8140200308,null,null,8619654499,"ALNIYAWAS,RIYAN BARI,ALNIYAWAS,342242",0,"N","N","Yes",17,"None",2]
[12,"A",4775,null,"NOSHAD SHYA",null,"Kailash","Seema Devi","M","2018-04-07",1626,null,24,null,"OBC",null,null,"GOVT. SENIOR SECONDARY SCHOOL ALNIYAWAS (219445)",8140200308,null,null,8619654499,"ALNIYAWAS,RIYAN BARI,ALNIYAWAS,342243",0,"N","N","Yes",17,"None",1]
[12,"A",4775,null,"POOJA",null,"Kailash","Seema Devi","F","2018-04-08",1627,null,24,null,"OBC",null,null,"GOVT. SENIOR SECONDARY SCHOOL ALNIYAWAS (219445)",8140200308,null,null,8619654499,"ALNIYAWAS,RIYAN BARI,ALNIYAWAS,342244",0,"N","N","No",18,"None",1]
[12,"A",4775,null,"POOJA DEVI",null,"Kailash","Seema Devi","F","2018-04-09",1628,null,24,null,"OBC",null,null,"GOVT. SENIOR SECONDARY SCHOOL ALNIYAWAS (219445)",8140200308,null,null,8619654499,"ALNIYAWAS,RIYAN BARI,ALNIYAWAS,342245",36000,"N","N","No",17,"None",2]
[12,"A",4775,null,"POOJA MAROTHIYA",null,"Kailash","Seema Devi","F","2018-04-10",1629,null,24,null,"OBC",null,null,"GOVT. SENIOR SECONDARY SCHOOL ALNIYAWAS (219445)",8140200308,null,null,8619654499,"ALNIYAWAS,RIYAN BARI,ALNIYAWAS,342246",0,"N","N","No",19,"None",1]
[12,"A",4775,null,"POOJA NATH",null,"Kailash","Seema Devi","F","2018-04-11",1630,null,24,null,"OBC",null,null,"GOVT. SENIOR SECONDARY SCHOOL ALNIYAWAS (219445)",8140200308,null,null,8619654499,"ALNIYAWAS,RIYAN BARI,ALNIYAWAS,342247",36000,"N","N","No",18,"None",2]
[12,"A",4775,null,"Priyanka Tak",null,"Kailash","Seema Devi","F","2018-04-12",1631,null,24,null,"OBC",null,null,"GOVT. SENIOR SECONDARY SCHOOL ALNIYAWAS (219445)",8140200308,null,null,8619654499,"ALNIYAWAS,RIYAN BARI,ALNIYAWAS,342248",null,"N","Y",null,16,null,1]
[12,"A",4775,null,"Rahul Raidas",null,"Kailash","Seema Devi","M","2018-04-13",1633,null,24,null,"OBC",null,null,"GOVT. SENIOR SECONDARY SCHOOL ALNIYAWAS (219445)",8140200308,null,null,8619654499,"ALNIYAWAS,RIYAN BARI,ALNIYAWAS,342249",null,"N","Y",null,16,null,1]
[12,"A",4775,null,"RAHUL SAINI",null,"Kailash","Seema Devi","M","2018-04-14",1634,null,24,null,"OBC",null,null,"GOVT. SENIOR SECONDARY SCHOOL ALNIYAWAS (219445)",8140200308,null,null,8619654499,"ALNIYAWAS,RIYAN BARI,ALNIYAWAS,342250",0,"N","N","No",17,"None",1]
[12,"A",4775,null,"RAJENDRA MAROTHIYA",null,"Kailash","Seema Devi","M","2018-04-15",1635,null,24,null,"OBC",null,null,"GOVT. SENIOR SECONDARY SCHOOL ALNIYAWAS (219445)",8140200308,null,null,8619654499,"ALNIYAWAS,RIYAN BARI,ALNIYAWAS,342251",0,"N","N","No",17,"None",1]
[12,"A",4775,null,"RAKESH KACHCHHAVA",null,"Kailash","Seema Devi","M","2018-04-16",1636,null,24,null,"OBC",null,null,"GOVT. SENIOR SECONDARY SCHOOL ALNIYAWAS (219445)",8140200308,null,null,8619654499,"ALNIYAWAS,RIYAN BARI,ALNIYAWAS,342252",0,"N","N","No",17,"None",1]
[12,"A",4775,null,"RAVI",null,"Kailash","Seema Devi","M","2018-04-17",1637,null,24,null,"OBC",null,null,"GOVT. SENIOR SECONDARY SCHOOL ALNIYAWAS (219445)",8140200308,null,null,8619654499,"ALNIYAWAS,RIYAN BARI,ALNIYAWAS,342253",0,"N","N","No",19,"None",0]
[12,"A",4775,null,"RUBINA",null,"Kailash","Seema Devi","F","2018-04-18",1638,null,24,null,"OBC",null,null,"GOVT. SENIOR SECONDARY SCHOOL ALNIYAWAS (219445)",8140200308,null,null,8619654499,"ALNIYAWAS,RIYAN BARI,ALNIYAWAS,342254",60000,"N","N","Yes",16,"None",2]
[12,"A",4775,null,"SAMPAT LAL",null,"Kailash","Seema Devi","M","2018-04-19",1640,null,24,null,"OBC",null,null,"GOVT. SENIOR SECONDARY SCHOOL ALNIYAWAS (219445)",8140200308,null,null,8619654499,"ALNIYAWAS,RIYAN BARI,ALNIYAWAS,342255",42000,"N","N","No",20,"None",1]
[12,"A",4775,null,"SAPNA MEGHWAL",null,"Kailash","Seema Devi","F","2018-04-20",1641,null,24,null,"OBC",null,null,"GOVT. SENIOR SECONDARY SCHOOL ALNIYAWAS (219445)",8140200308,null,null,8619654499,"ALNIYAWAS,RIYAN BARI,ALNIYAWAS,342256",36000,"N","N","No",17,"None",3]
[12,"A",4775,null,"SARLA SAINI",null,"Kailash","Seema Devi","F","2018-04-21",1642,null,24,null,"OBC",null,null,"GOVT. SENIOR SECONDARY SCHOOL ALNIYAWAS (219445)",8140200308,null,null,8619654499,"ALNIYAWAS,RIYAN BARI,ALNIYAWAS,342257",0,"N","N","No",16,"None",1]
[12,"A",4775,null,"SEEMA TAMBOLI",null,"Kailash","Seema Devi","F","2018-04-22",1643,null,24,null,"OBC",null,null,"GOVT. SENIOR SECONDARY SCHOOL ALNIYAWAS (219445)",8140200308,null,null,8619654499,"ALNIYAWAS,RIYAN BARI,ALNIYAWAS,342258",94800,"N","N","No",16,"None",7]
[12,"A",4775,null,"SHAMEENA BANO",null,"Kailash","Seema Devi","F","2018-04-23",1644,null,24,null,"OBC",null,null,"GOVT. SENIOR SECONDARY SCHOOL ALNIYAWAS (219445)",8140200308,null,null,8619654499,"ALNIYAWAS,RIYAN BARI,ALNIYAWAS,342259",0,"N","N","Yes",19,"None",1]
[12,"A",4775,null,"Shivraj Bhati",null,"Kailash","Seema Devi","M","2018-04-24",1645,null,24,null,"OBC",null,null,"GOVT. SENIOR SECONDARY SCHOOL ALNIYAWAS (219445)",8140200308,null,null,8619654499,"ALNIYAWAS,RIYAN BARI,ALNIYAWAS,342260",null,"N","Y",null,16,null,7]
[12,"A",4775,null,"SUMAN DEVI",null,"Kailash","Seema Devi","F","2018-04-25",1646,null,24,null,"OBC",null,null,"GOVT. SENIOR SECONDARY SCHOOL ALNIYAWAS (219445)",8140200308,null,null,8619654499,"ALNIYAWAS,RIYAN BARI,ALNIYAWAS,342261",36000,"N","N","No",16,"None",5]
[12,"A",4775,null,"SUMAN NATH",null,"Kailash","Seema Devi","F","2018-04-26",1648,null,24,null,"OBC",null,null,"GOVT. SENIOR SECONDARY SCHOOL ALNIYAWAS (219445)",8140200308,null,null,8619654499,"ALNIYAWAS,RIYAN BARI,ALNIYAWAS,342262",40000,"N","N","No",17,"None",1]
[12,"A",4775,null,"SUNITA DEVI",null,"Kailash","Seema Devi","F","2018-04-27",1650,null,24,null,"OBC",null,null,"GOVT. SENIOR SECONDARY SCHOOL ALNIYAWAS (219445)",8140200308,null,null,8619654499,"ALNIYAWAS,RIYAN BARI,ALNIYAWAS,342263",36000,"N","N","No",18,"None",1]
[12,"A",4775,null,"SURENDRA NATH",null,"Kailash","Seema Devi","M","2018-04-28",1651,null,24,null,"OBC",null,null,"GOVT. SENIOR SECONDARY SCHOOL ALNIYAWAS (219445)",8140200308,null,null,8619654499,"ALNIYAWAS,RIYAN BARI,ALNIYAWAS,342264",36000,"N","N","No",17,"None",2]
[12,"A",4775,null,"TEENA",null,"Kailash","Seema Devi","F","2018-04-29",1652,null,24,null,"OBC",null,null,"GOVT. SENIOR SECONDARY SCHOOL ALNIYAWAS (219445)",8140200308,null,null,8619654499,"ALNIYAWAS,RIYAN BARI,ALNIYAWAS,342265",40000,"N","N","Yes",17,"None",2]
[12,"A",4775,null,"Udayprakash Gaur",null,"Kailash","Seema Devi","M","2018-04-30",1653,null,24,null,"OBC",null,null,"GOVT. SENIOR SECONDARY SCHOOL ALNIYAWAS (219445)",8140200308,null,null,8619654499,"ALNIYAWAS,RIYAN BARI,ALNIYAWAS,342266",0,"N","N","No",16,"None",1]
[12,"A",4775,null,"VIKASH",null,"Kailash","Seema Devi","M","2018-05-01",1654,null,24,null,"OBC",null,null,"GOVT. SENIOR SECONDARY SCHOOL ALNIYAWAS (219445)",8140200308,null,null,8619654499,"ALNIYAWAS,RIYAN BARI,ALNIYAWAS,342267",46000,"N","N","No",16,"None",2]
[12,"A",4775,null,"YASHODA KUMAWAT",null,"Kailash","Seema Devi","F","2018-05-02",1655,null,24,null,"OBC",null,null,"GOVT. SENIOR SECONDARY SCHOOL ALNIYAWAS (219445)",8140200308,null,null,8619654499,"ALNIYAWAS,RIYAN BARI,ALNIYAWAS,342268",36000,"N","N","No",16,"None",5]
[12,"A",4775,null,"YOGENDRA SAINI",null,"Kailash","Seema Devi","M","2018-05-03",1656,null,24,null,"OBC",null,null,"GOVT. SENIOR SECONDARY SCHOOL ALNIYAWAS (219445)",8140200308,null,null,8619654499,"ALNIYAWAS,RIYAN BARI,ALNIYAWAS,342269",0,"N","N","No",18,"None",2]
[12,"A",4775,null,"ZAKIR HUSAIN",null,"Kailash","Seema Devi","M","2018-05-04",1657,null,24,null,"OBC",null,null,"GOVT. SENIOR SECONDARY SCHOOL ALNIYAWAS (219445)",8140200308,null,null,8619654499,"ALNIYAWAS,RIYAN BARI,ALNIYAWAS,342270",0,"N","N","Yes",17,"None",2]
[12,"B",4775,null,"AKRAM",null,"Kailash","Seema Devi","M","2018-05-05",1701,null,24,null,"OBC",null,null,"GOVT. SENIOR SECONDARY SCHOOL ALNIYAWAS (219445)",8140200308,null,null,8619654499,"ALNIYAWAS,RIYAN BARI,ALNIYAWAS,342271",0,"N","N","Yes",16,"None",1]
[12,"B",4775,null,"ANURADHA",null,"Kailash","Seema Devi","F","2018-05-06",1702,null,24,null,"OBC",null,null,"GOVT. SENIOR SECONDARY SCHOOL ALNIYAWAS (219445)",8140200308,null,null,8619654499,"ALNIYAWAS,RIYAN BARI,ALNIYAWAS,342272",48000,"N","N","No",16,"None",3]
[12,"B",4775,null,"AVINASH",null,"Kailash","Seema Devi","M","2018-05-07",1703,null,24,null,"OBC",null,null,"GOVT. SENIOR SECONDARY SCHOOL ALNIYAWAS (219445)",8140200308,null,null,8619654499,"ALNIYAWAS,RIYAN BARI,ALNIYAWAS,342273",36000,"N","N","No",17,"None",1]
[12,"B",4775,null,"BASANTI",null,"Kailash","Seema Devi","F","2018-05-08",1704,null,24,null,"OBC",null,null,"GOVT. SENIOR SECONDARY SCHOOL ALNIYAWAS (219445)",8140200308,null,null,8619654499,"ALNIYAWAS,RIYAN BARI,ALNIYAWAS,342274",40000,"N","N","No",17,"None",1]
[12,"B",4775,null,"BRIJPAL SINGH",null,"Kailash","Seema Devi","M","2018-05-09",1705,null,24,null,"OBC",null,null,"GOVT. SENIOR SECONDARY SCHOOL ALNIYAWAS (219445)",8140200308,null,null,8619654499,"ALNIYAWAS,RIYAN BARI,ALNIYAWAS,342275",35000,"N","N","No",17,"None",0]
[12,"B",4775,null,"Govind Puri",null,"Kailash","Seema Devi","M","2018-05-10",1706,null,24,null,"OBC",null,null,"GOVT. SENIOR SECONDARY SCHOOL ALNIYAWAS (219445)",8140200308,null,null,8619654499,"ALNIYAWAS,RIYAN BARI,ALNIYAWAS,342276",60000,"N","N","No",17,"None",6]
[12,"B",4775,null,"JITENDRA PURI",null,"Kailash","Seema Devi","M","2018-05-11",1707,null,24,null,"OBC",null,null,"GOVT. SENIOR SECONDARY SCHOOL ALNIYAWAS (219445)",8140200308,null,null,8619654499,"ALNIYAWAS,RIYAN BARI,ALNIYAWAS,342277",40000,"N","N","No",18,"None",5]
[12,"B",4775,null,"Kamal Meghwal",null,"Kailash","Seema Devi","M","2018-05-12",1708,null,24,null,"OBC",null,null,"GOVT. SENIOR SECONDARY SCHOOL ALNIYAWAS (219445)",8140200308,null,null,8619654499,"ALNIYAWAS,RIYAN BARI,ALNIYAWAS,342278",50000,"N","N","No",17,"None",0]
[12,"B",4775,null,"KAMLESH KUMAWAT",null,"Kailash","Seema Devi","M","2018-05-13",1709,null,24,null,"OBC",null,null,"GOVT. SENIOR SECONDARY SCHOOL ALNIYAWAS (219445)",8140200308,null,null,8619654499,"ALNIYAWAS,RIYAN BARI,ALNIYAWAS,342279",40000,"N","N","No",18,"None",6]
[12,"B",4775,null,"KSHITIJ VAISHNAV",null,"Kailash","Seema Devi","M","2018-05-14",1710,null,24,null,"OBC",null,null,"GOVT. SENIOR SECONDARY SCHOOL ALNIYAWAS (219445)",8140200308,null,null,8619654499,"ALNIYAWAS,RIYAN BARI,ALNIYAWAS,342280",0,"N","N","No",16,"None",1]
[12,"B",4775,null,"MANISH ACHARYA",null,"Kailash","Seema Devi","M","2018-05-15",1711,null,24,null,"OBC",null,null,"GOVT. SENIOR SECONDARY SCHOOL ALNIYAWAS (219445)",8140200308,null,null,8619654499,"ALNIYAWAS,RIYAN BARI,ALNIYAWAS,342281",36000,"N","Y","No",15,"None",1]
[12,"B",4775,null,"MILAN VAISHNAV",null,"Kailash","Seema Devi","M","2018-05-16",1712,null,24,null,"OBC",null,null,"GOVT. SENIOR SECONDARY SCHOOL ALNIYAWAS (219445)",8140200308,null,null,8619654499,"ALNIYAWAS,RIYAN BARI,ALNIYAWAS,342282",36000,"N","N","No",16,"None",2]
[12,"B",4775,null,"MUSKAN BANU",null,"Kailash","Seema Devi","F","2018-05-17",1713,null,24,null,"OBC",null,null,"GOVT. SENIOR SECONDARY SCHOOL ALNIYAWAS (219445)",8140200308,null,null,8619654499,"ALNIYAWAS,RIYAN BARI,ALNIYAWAS,342283",50000,"N","N","Yes",16,"None",1]
[12,"B",4775,null,"NARENDRA KUMAR",null,"Kailash","Seema Devi","M","2018-05-18",1714,null,24,null,"OBC",null,null,"GOVT. SENIOR SECONDARY SCHOOL ALNIYAWAS (219445)",8140200308,null,null,8619654499,"ALNIYAWAS,RIYAN BARI,ALNIYAWAS,342284",60000,"N","N","No",14,"None",2]
[12,"B",4775,null,"POOJA MEGHWAL",null,"Kailash","Seema Devi","F","2018-05-19",1715,null,24,null,"OBC",null,null,"GOVT. SENIOR SECONDARY SCHOOL ALNIYAWAS (219445)",8140200308,null,null,8619654499,"ALNIYAWAS,RIYAN BARI,ALNIYAWAS,342285",42000,"N","N","No",16,"None",1]
[12,"B",4775,null,"PRADEEP SINGH",null,"Kailash","Seema Devi","M","2018-05-20",1716,null,24,null,"OBC",null,null,"GOVT. SENIOR SECONDARY SCHOOL ALNIYAWAS (219445)",8140200308,null,null,8619654499,"ALNIYAWAS,RIYAN BARI,ALNIYAWAS,342286",36000,"N","N","No",16,"None",1]
[12,"B",4775,null,"RAHUL SAINI",null,"Kailash","Seema Devi","M","2018-05-21",1717,null,24,null,"OBC",null,null,"GOVT. SENIOR SECONDARY SCHOOL ALNIYAWAS (219445)",8140200308,null,null,8619654499,"ALNIYAWAS,RIYAN BARI,ALNIYAWAS,342287",40000,"N","N","No",16,"None",1]
[12,"B",4775,null,"RAHUL SINGH",null,"Kailash","Seema Devi","M","2018-05-22",1718,null,24,null,"OBC",null,null,"GOVT. SENIOR SECONDARY SCHOOL ALNIYAWAS (219445)",8140200308,null,null,8619654499,"ALNIYAWAS,RIYAN BARI,ALNIYAWAS,342288",35000,"N","N","No",16,"None",3]
[12,"B",4775,null,"RAM RATAN DUDI",null,"Kailash","Seema Devi","M","2018-05-23",1719,null,24,null,"OBC",null,null,"GOVT. SENIOR SECONDARY SCHOOL ALNIYAWAS (219445)",8140200308,null,null,8619654499,"ALNIYAWAS,RIYAN BARI,ALNIYAWAS,342289",75000,"N","N","No",18,"None",16]
[12,"B",4775,null,"Ravindra Barada",null,"Kailash","Seema Devi","M","2018-05-24",1720,null,24,null,"OBC",null,null,"GOVT. SENIOR SECONDARY SCHOOL ALNIYAWAS (219445)",8140200308,null,null,8619654499,"ALNIYAWAS,RIYAN BARI,ALNIYAWAS,342290",null,"N","N","No",15,"None",10]
[12,"B",4775,null,"RIZWANA",null,"Kailash","Seema Devi","F","2018-05-25",1721,null,24,null,"OBC",null,null,"GOVT. SENIOR SECONDARY SCHOOL ALNIYAWAS (219445)",8140200308,null,null,8619654499,"ALNIYAWAS,RIYAN BARI,ALNIYAWAS,342291",0,"N","N","Yes",17,"None",1]
[12,"B",4775,null,"SONIYA RAIDAS",null,"Kailash","Seema Devi","F","2018-05-26",1722,null,24,null,"OBC",null,null,"GOVT. SENIOR SECONDARY SCHOOL ALNIYAWAS (219445)",8140200308,null,null,8619654499,"ALNIYAWAS,RIYAN BARI,ALNIYAWAS,342292",36000,"N","N","No",17,"None",0]

{"sheet":"MARK SLIP(6-8)","index":2,"n_rows":997,"n_cols":27,"rows_kept":997,"merged":[[0,1,0,25],[1,3,1,6],[2,5,2,6],[2,7,2,11],[3,5,3,11],[3,12,3,26],[4,5,4,7],[4,8,4,10],[4,11,4,13],[4,14,4,16],[4,23,4,25],[4,26,6,26],[5,1,6,1],[5,2,6,2],[5,3,6,3],[5,4,6,4],[5,5,6,5],[5,6,6,6],[5,7,6,7],[5,8,6,8],[5,9,6,9],[5,10,6,10],[5,11,6,11],[5,12,6,12],[5,13,6,13],[5,14,6,14],[5,15,6,15],[5,16,6,16],[5,23,6,23],[5,24,6,24],[5,25,6,25]]}
[null,"कार्यालय राजकीय उच्च माध्यमिक विद्यालय आलनियावास नागौर"]
[{"$nulls":3},"MARK SLIP 2022-2023"]
[null,null,"कक्षा","वर्ग",null,"विषय",null,"सामाजिक विज्ञान"]
[null,null,6,"A",null,"विषयाध्यापक"]
[{"$nulls":5},"प्रथम परख",null,null,"द्वितीय परख",null,null,"तृतीय परख",null,null,"अर्द्ध वार्षिक ",{"$nulls":8}," वार्षिक परीक्षा",null,null,"सर्वयोग"]
[null,"क्र.सं.","रोल नम्बर","विद्यार्थी का नाम","पिता का नाम","लिखित","गतिविधि  मौखिक, प्रोजेक्ट,प्रायोगिक","योग","लिखित","गतिविधि मौखिक, प्रोजेक्ट,प्रायोगिक","योग","लिखित","गतिविधि मौखिक, प्रोजेक्ट,प्रायोगिक","योग","लिखित","गतिविधि मौखिक, प्रोजेक्ट,प्रायोगिक","योग",{"$nulls":6},"लिखित","गतिविधि मौखिक, प्रोजेक्ट,प्रायोगिक","योग"]
[]
[null,null,"रोल नम्बर","विद्यार्थी का नाम","पिता का नाम",5,5,10,5,5,10,5,5,10,50,20,70,null,"कक्षा","वर्ग","रोल नम्बर","विद्यार्थी का नाम","पिता का नाम",60,40,100,200]
[null,{"$f":"IF(D9=\"\",\"\",ROWS($D$9:D9))","v":1},601,"Abid Husain","Kailash"]
[null,{"$f":"IF(D10=\"\",\"\",ROWS($D$9:D10))","v":2},602,"ALVEERA BANU","Kailash"]
[null,{"$f":"IF(D11=\"\",\"\",ROWS($D$9:D11))","v":3},603,"AMIT SHARMA","Kailash"]
[null,{"$f":"IF(D12=\"\",\"\",ROWS($D$9:D12))","v":4},604,"ANIL SAINI","Kailash"]
[null,{"$f":"IF(D13=\"\",\"\",ROWS($D$9:D13))","v":5},605,"ARBAZ AHMAD","Kailash"]
[null,{"$f":"IF(D14=\"\",\"\",ROWS($D$9:D14))","v":6},606,"Arjun Shingh","Kailash"]
[null,{"$f":"IF(D15=\"\",\"\",ROWS($D$9:D15))","v":7},607,"ARMAN","Kailash"]
[null,{"$f":"IF(D16=\"\",\"\",ROWS($D$9:D16))","v":8},608,"Asraf Ali","Kailash"]
[null,{"$f":"IF(D17=\"\",\"\",ROWS($D$9:D17))","v":9},609,"AYCHUKI","Kailash"]
[null,{"$f":"IF(D18=\"\",\"\",ROWS($D$9:D18))","v":10},610,"BABLU","Kailash"]
[null,{"$f":"IF(D19=\"\",\"\",ROWS($D$9:D19))","v":11},611,"BABY KANWAR","Kailash"]
[null,{"$f":"IF(D20=\"\",\"\",ROWS($D$9:D20))","v":12},612,"BURHAN","Kailash"]
[null,{"$f":"IF(D21=\"\",\"\",ROWS($D$9:D21))","v":13},613,"CHANCHAL DEVI","Kailash"]
[null,{"$f":"IF(D22=\"\",\"\",ROWS($D$9:D22))","v":14},614,"CHETAN NAT","Kailash"]
[null,{"$f":"IF(D23=\"\",\"\",ROWS($D$9:D23))","v":15},615,"HAIDAR ALI","Kailash"]
[null,{"$f":"IF(D24=\"\",\"\",ROWS($D$9:D24))","v":16},616,"HEENA BANU","Kailash"]
[null,{"$f":"IF(D25=\"\",\"\",ROWS($D$9:D25))","v":17},617,"Hemant Tank","Kailash"]
[null,{"$f":"IF(D26=\"\",\"\",ROWS($D$9:D26))","v":18},618,"IMRAN","Kailash"]
[null,{"$f":"IF(D27=\"\",\"\",ROWS($D$9:D27))","v":19},619,"INSAF ALI","Kailash"]
[null,{"$f":"IF(D28=\"\",\"\",ROWS($D$9:D28))","v":20},620,"IRFAN","Kailash"]
[null,{"$f":"IF(D29=\"\",\"\",ROWS($D$9:D29))","v":21},621,"KADIR","Kailash"]
[null,{"$f":"IF(D30=\"\",\"\",ROWS($D$9:D30))","v":22},622,"KALPANA","Kailash"]
[null,{"$f":"IF(D31=\"\",\"\",ROWS($D$9:D31))","v":23},623,"Khushi Kanwar","Kailash"]
[null,{"$f":"IF(D32=\"\",\"\",ROWS($D$9:D32))","v":24},624,"KIRAN","Kailash"]
[null,{"$f":"IF(D33=\"\",\"\",ROWS($D$9:D33))","v":25},625,"LAL SINGH","Kailash"]
[null,{"$f":"IF(D34=\"\",\"\",ROWS($D$9:D34))","v":26},626,"Liladhar Vaishnav","Kailash"]
[null,{"$f":"IF(D35=\"\",\"\",ROWS($D$9:D35))","v":27},627,"LOKESH NATH","Kailash"]
[null,{"$f":"IF(D36=\"\",\"\",ROWS($D$9:D36))","v":28},628,"Lokesh Nimbawat","Kailash"]
[null,{"$f":"IF(D37=\"\",\"\",ROWS($D$9:D37))","v":29},629,"MAHENDRA","Kailash"]
[null,{"$f":"IF(D38=\"\",\"\",ROWS($D$9:D38))","v":30},630,"MAHENDRA CHOKIDAR","Kailash"]
[null,{"$f":"IF(D39=\"\",\"\",ROWS($D$9:D39))","v":31},631,"Mahendra Dagdi","Kailash"]
[null,{"$f":"IF(D40=\"\",\"\",ROWS($D$9:D40))","v":32},632,"MAYA","Kailash"]
[null,{"$f":"IF(D41=\"\",\"\",ROWS($D$9:D41))","v":33},633,"Mohammad Imran","Kailash"]
[null,{"$f":"IF(D42=\"\",\"\",ROWS($D$9:D42))","v":34},634,"Mohammed Rahil","Kailash"]
[null,{"$f":"IF(D43=\"\",\"\",ROWS($D$9:D43))","v":35},635,"MOHASIN","Kailash"]
[null,{"$f":"IF(D44=\"\",\"\",ROWS($D$9:D44))","v":36},636,"MOHMMAD BILAL","Kailash"]
[null,{"$f":"IF(D45=\"\",\"\",ROWS($D$9:D45))","v":37},637,"MUSKAN","Kailash"]
[null,{"$f":"IF(D46=\"\",\"\",ROWS($D$9:D46))","v":38},638,"MUSSA PAHALWAN","Kailash"]
[null,{"$f":"IF(D47=\"\",\"\",ROWS($D$9:D47))","v":39},639,"NASIM BANO","Kailash"]
[null,{"$f":"IF(D48=\"\",\"\",ROWS($D$9:D48))","v":40},640,"PAYAL SAINI","Kailash"]
[null,{"$f":"IF(D49=\"\",\"\",ROWS($D$9:D49))","v":41},641,"PINTU PARJAPAT","Kailash"]
[null,{"$f":"IF(D50=\"\",\"\",ROWS($D$9:D50))","v":42},642,"POOJA DEVI","Kailash"]
[null,{"$f":"IF(D51=\"\",\"\",ROWS($D$9:D51))","v":43},643,"Ramawtar","Kailash"]
[null,{"$f":"IF(D52=\"\",\"\",ROWS($D$9:D52))","v":44},644,"RAMDEV","Kailash"]
[null,{"$f":"IF(D53=\"\",\"\",ROWS($D$9:D53))","v":45},645,"RAVI RAJ BAWARI","Kailash"]
[null,{"$f":"IF(D54=\"\",\"\",ROWS($D$9:D54))","v":46},646,"RAVINDRA KUMAWAT","Kailash"]
[null,{"$f":"IF(D55=\"\",\"\",ROWS($D$9:D55))","v":47},647,"REKHA DEVI","Kailash"]
[null,{"$f":"IF(D56=\"\",\"\",ROWS($D$9:D56))","v":48},648,"RINKU KANWAR","Kailash"]
[null,{"$f":"IF(D57=\"\",\"\",ROWS($D$9:D57))","v":49},649,"RITIKA","Kailash"]
[null,{"$f":"IF(D58=\"\",\"\",ROWS($D$9:D58))","v":50},650,"RUSTAM ALI PAHALWAN","Kailash"]
[null,{"$f":"IF(D59=\"\",\"\",ROWS($D$9:D59))","v":51},651,"SALMA BANU","Kailash"]
[null,{"$f":"IF(D60=\"\",\"\",ROWS($D$9:D60))","v":52},652,"SAMEER","Kailash"]
[null,{"$f":"IF(D61=\"\",\"\",ROWS($D$9:D61))","v":53},653,"SANGEETA","Kailash"]
[null,{"$f":"IF(D62=\"\",\"\",ROWS($D$9:D62))","v":54},654,"SARITA NATH","Kailash"]
[null,{"$f":"IF(D63=\"\",\"\",ROWS($D$9:D63))","v":55},655,"SAROJ DEVI","Kailash"]
[null,{"$f":"IF(D64=\"\",\"\",ROWS($D$9:D64))","v":56},656,"SHAHINA","Kailash"]
[null,{"$f":"IF(D65=\"\",\"\",ROWS($D$9:D65))","v":57},657,"SHIMBHU SINGH","Kailash"]
[null,{"$f":"IF(D66=\"\",\"\",ROWS($D$9:D66))","v":58},658,"SHOHIL","Kailash"]
[null,{"$f":"IF(D67=\"\",\"\",ROWS($D$9:D67))","v":59},659,"SOHIL","Kailash"]
[null,{"$f":"IF(D68=\"\",\"\",ROWS($D$9:D68))","v":60},660,"SUMAN DEVI CHAUKIDAR","Kailash"]
[null,{"$f":"IF(D69=\"\",\"\",ROWS($D$9:D69))","v":61},661,"SUNIL","Kailash"]
[null,{"$f":"IF(D70=\"\",\"\",ROWS($D$9:D70))","v":62},662,"TANU DEVI","Kailash"]
[null,{"$f":"IF(D71=\"\",\"\",ROWS($D$9:D71))","v":63},663,"Teena","Kailash"]
[null,{"$f":"IF(D72=\"\",\"\",ROWS($D$9:D72))","v":64},664,"TULCHHI RAM","Kailash"]
[null,{"$f":"IF(D73=\"\",\"\",ROWS($D$9:D73))","v":""}]
[null,{"$f":"IF(D74=\"\",\"\",ROWS($D$9:D74))","v":""}]
[null,{"$f":"IF(D75=\"\",\"\",ROWS($D$9:D75))","v":""}]
[null,{"$f":"IF(D76=\"\",\"\",ROWS($D$9:D76))","v":""}]
[null,{"$f":"IF(D77=\"\",\"\",ROWS($D$9:D77))","v":""}]
[null,{"$f":"IF(D78=\"\",\"\",ROWS($D$9:D78))","v":""}]
[null,{"$f":"IF(D79=\"\",\"\",ROWS($D$9:D79))","v":""}]
[null,{"$f":"IF(D80=\"\",\"\",ROWS($D$9:D80))","v":""}]
[null,{"$f":"IF(D81=\"\",\"\",ROWS($D$9:D81))","v":""}]
[null,{"$f":"IF(D82=\"\",\"\",ROWS($D$9:D82))","v":""}]
[null,{"$f":"IF(D83=\"\",\"\",ROWS($D$9:D83))","v":""}]
[null,{"$f":"IF(D84=\"\",\"\",ROWS($D$9:D84))","v":""}]
[null,{"$f":"IF(D85=\"\",\"\",ROWS($D$9:D85))","v":""}]
[null,{"$f":"IF(D86=\"\",\"\",ROWS($D$9:D86))","v":""}]
[null,{"$f":"IF(D87=\"\",\"\",ROWS($D$9:D87))","v":""}]
[null,{"$f":"IF(D88=\"\",\"\",ROWS($D$9:D88))","v":""}]
[null,{"$f":"IF(D89=\"\",\"\",ROWS($D$9:D89))","v":""}]
[null,{"$f":"IF(D90=\"\",\"\",ROWS($D$9:D90))","v":""}]
[null,{"$f":"IF(D91=\"\",\"\",ROWS($D$9:D91))","v":""}]
[null,{"$f":"IF(D92=\"\",\"\",ROWS($D$9:D92))","v":""}]
[null,{"$f":"IF(D93=\"\",\"\",ROWS($D$9:D93))","v":""}]
[null,{"$f":"IF(D94=\"\",\"\",ROWS($D$9:D94))","v":""}]
[null,{"$f":"IF(D95=\"\",\"\",ROWS($D$9:D95))","v":""}]
[null,{"$f":"IF(D96=\"\",\"\",ROWS($D$9:D96))","v":""}]
[null,{"$f":"IF(D97=\"\",\"\",ROWS($D$9:D97))","v":""}]
[null,{"$f":"IF(D98=\"\",\"\",ROWS($D$9:D98))","v":""}]
[null,{"$f":"IF(D99=\"\",\"\",ROWS($D$9:D99))","v":""}]
[null,{"$f":"IF(D100=\"\",\"\",ROWS($D$9:D100))","v":""}]
[null,{"$f":"IF(D101=\"\",\"\",ROWS($D$9:D101))","v":""}]
[null,{"$f":"IF(D102=\"\",\"\",ROWS($D$9:D102))","v":""}]
[null,{"$f":"IF(D103=\"\",\"\",ROWS($D$9:D103))","v":""}]
[null,{"$f":"IF(D104=\"\",\"\",ROWS($D$9:D104))","v":""}]
[null,{"$f":"IF(D105=\"\",\"\",ROWS($D$9:D105))","v":""}]
[null,{"$f":"IF(D106=\"\",\"\",ROWS($D$9:D106))","v":""}]
[null,{"$f":"IF(D107=\"\",\"\",ROWS($D$9:D107))","v":""}]
[null,{"$f":"IF(D108=\"\",\"\",ROWS($D$9:D108))","v":""}]
[null,{"$f":"IF(D109=\"\",\"\",ROWS($D$9:D109))","v":""}]
[null,{"$f":"IF(D110=\"\",\"\",ROWS($D$9:D110))","v":""}]
[null,{"$f":"IF(D111=\"\",\"\",ROWS($D$9:D111))","v":""}]
[null,{"$f":"IF(D112=\"\",\"\",ROWS($D$9:D112))","v":""}]
[null,{"$f":"IF(D113=\"\",\"\",ROWS($D$9:D113))","v":""}]
[null,{"$f":"IF(D114=\"\",\"\",ROWS($D$9:D114))","v":""}]
[null,{"$f":"IF(D115=\"\",\"\",ROWS($D$9:D115))","v":""}]
[null,{"$f":"IF(D116=\"\",\"\",ROWS($D$9:D116))","v":""},{"$nulls":16},{"$f":"SHALADARPAN!A109","v":4},{"$f":"SHALADARPAN!B109","v":"A"},{"$f":"SHALADARPAN!K109","v":0},{"$f":"SHALADARPAN!E109","v":"RUSTAM"},{"$f":"SHALADARPAN!G109","v":"Kailash"}]
[null,{"$f":"IF(D117=\"\",\"\",ROWS($D$9:D117))","v":""},{"$nulls":16},{"$f":"SHALADARPAN!A110","v":4},{"$f":"SHALADARPAN!B110","v":"A"},{"$f":"SHALADARPAN!K110","v":0},{"$f":"SHALADARPAN!E110","v":"SAJEEDA BANU"},{"$f":"SHALADARPAN!G110","v":"Kailash"}]
[null,{"$f":"IF(D118=\"\",\"\",ROWS($D$9:D118))","v":""},{"$nulls":16},{"$f":"SHALADARPAN!A111","v":4},{"$f":"SHALADARPAN!B111","v":"A"},{"$f":"SHALADARPAN!K111","v":0},{"$f":"SHALADARPAN!E111","v":"SHABEENA"},{"$f":"SHALADARPAN!G111","v":"Kailash"}]
[null,{"$f":"IF(D119=\"\",\"\",ROWS($D$9:D119))","v":""},{"$nulls":16},{"$f":"SHALADARPAN!A112","v":4},{"$f":"SHALADARPAN!B112","v":"A"},{"$f":"SHALADARPAN!K112","v":0},{"$f":"SHALADARPAN!E112","v":"SHAHNVAJ"},{"$f":"SHALADARPAN!G112","v":"Kailash"}]
[null,{"$f":"IF(D120=\"\",\"\",ROWS($D$9:D120))","v":""},{"$nulls":16},{"$f":"SHALADARPAN!A113","v":4},{"$f":"SHALADARPAN!B113","v":"A"},{"$f":"SHALADARPAN!K113","v":0},{"$f":"SHALADARPAN!E113","v":"SHAKIL"},{"$f":"SHALADARPAN!G113","v":"Kailash"}]
[null,{"$f":"IF(D121=\"\",\"\",ROWS($D$9:D121))","v":""},{"$nulls":16},{"$f":"SHALADARPAN!A114","v":4},{"$f":"SHALADARPAN!B114","v":"A"},{"$f":"SHALADARPAN!K114","v":0},{"$f":"SHALADARPAN!E114","v":"SHYAMLAL"},{"$f":"SHALADARPAN!G114","v":"Kailash"}]
[null,{"$f":"IF(D122=\"\",\"\",ROWS($D$9:D122))","v":""},{"$nulls":16},{"$f":"SHALADARPAN!A115","v":4},{"$f":"SHALADARPAN!B115","v":"A"},{"$f":"SHALADARPAN!K115","v":0},{"$f":"SHALADARPAN!E115","v":"SIMARAN"},{"$f":"SHALADARPAN!G115","v":"Kailash"}]
[null,{"$f":"IF(D123=\"\",\"\",ROWS($D$9:D123))","v":""},{"$nulls":16},{"$f":"SHALADARPAN!A116","v":4},{"$f":"SHALADARPAN!B116","v":"A"},{"$f":"SHALADARPAN!K116","v":0},{"$f":"SHALADARPAN!E116","v":"SUKHDEV BAWARI"},{"$f":"SHALADARPAN!G116","v":"Kailash"}]
[null,{"$f":"IF(D124=\"\",\"\",ROWS($D$9:D124))","v":""},{"$nulls":16},{"$f":"SHALADARPAN!A117","v":4},{"$f":"SHALADARPAN!B117","v":"A"},{"$f":"SHALADARPAN!K117","v":0},{"$f":"SHALADARPAN!E117","v":"SUMAN"},{"$f":"SHALADARPAN!G117","v":"Kailash"}]
[null,{"$f":"IF(D125=\"\",\"\",ROWS($D$9:D125))","v":""},{"$nulls":16},{"$f":"SHALADARPAN!A118","v":4},{"$f":"SHALADARPAN!B118","v":"A"},{"$f":"SHALADARPAN!K118","v":0},{"$f":"SHALADARPAN!E118","v":"USRA"},{"$f":"SHALADARPAN!G118","v":"Kailash"}]
[null,{"$f":"IF(D126=\"\",\"\",ROWS($D$9:D126))","v":""},{"$nulls":16},{"$f":"SHALADARPAN!A119","v":4},{"$f":"SHALADARPAN!B119","v":"A"},{"$f":"SHALADARPAN!K119","v":0},{"$f":"SHALADARPAN!E119","v":"VINOD"},{"$f":"SHALADARPAN!G119","v":"Kailash"}]
[null,{"$f":"IF(D127=\"\",\"\",ROWS($D$9:D127))","v":""},{"$nulls":16},{"$f":"SHALADARPAN!A120","v":4},{"$f":"SHALADARPAN!B120","v":"A"},{"$f":"SHALADARPAN!K120","v":0},{"$f":"SHALADARPAN!E120","v":"VINOD RAVAL"},{"$f":"SHALADARPAN!G120","v":"Kailash"}]
[null,{"$f":"IF(D128=\"\",\"\",ROWS($D$9:D128))","v":""},{"$nulls":16},{"$f":"SHALADARPAN!A121","v":5},{"$f":"SHALADARPAN!B121","v":"A"},{"$f":"SHALADARPAN!K121","v":0},{"$f":"SHALADARPAN!E121","v":"ANILA"},{"$f":"SHALADARPAN!G121","v":"Kailash"}]
[null,{"$f":"IF(D129=\"\",\"\",ROWS($D$9:D129))","v":""},{"$nulls":16},{"$f":"SHALADARPAN!A122","v":5},{"$f":"SHALADARPAN!B122","v":"A"},{"$f":"SHALADARPAN!K122","v":0},{"$f":"SHALADARPAN!E122","v":"ANNU"},{"$f":"SHALADARPAN!G122","v":"Kailash"}]
[null,{"$f":"IF(D130=\"\",\"\",ROWS($D$9:D130))","v":""},{"$nulls":16},{"$f":"SHALADARPAN!A123","v":5},{"$f":"SHALADARPAN!B123","v":"A"},{"$f":"SHALADARPAN!K123","v":0},{"$f":"SHALADARPAN!E123","v":"ARMAN"},{"$f":"SHALADARPAN!G123","v":"Kailash"}]
[{"$nulls":18},{"$f":"SHALADARPAN!A124","v":5},{"$f":"SHALADARPAN!B124","v":"A"},{"$f":"SHALADARPAN!K124","v":0},{"$f":"SHALADARPAN!E124","v":"BULBUL JANGLIYA"},{"$f":"SHALADARPAN!G124","v":"Kailash"}]
[{"$nulls":18},{"$f":"SHALADARPAN!A125","v":5},{"$f":"SHALADARPAN!B125","v":"A"},{"$f":"SHALADARPAN!K125","v":0},{"$f":"SHALADARPAN!E125","v":"FARUKH"},{"$f":"SHALADARPAN!G125","v":"Kailash"}]
[{"$nulls":18},{"$f":"SHALADARPAN!A126","v":5},{"$f":"SHALADARPAN!B126","v":"A"},{"$f":"SHALADARPAN!K126","v":0},{"$f":"SHALADARPAN!E126","v":"FATMA BANU"},{"$f":"SHALADARPAN!G126","v":"Kailash"}]
[{"$nulls":18},{"$f":"SHALADARPAN!A127","v":5},{"$f":"SHALADARPAN!B127","v":"A"},{"$f":"SHALADARPAN!K127","v":0},{"$f":"SHALADARPAN!E127","v":"GOPAL"},{"$f":"SHALADARPAN!G127","v":"Kailash"}]
[{"$nulls":18},{"$f":"SHALADARPAN!A128","v":5},{"$f":"SHALADARPAN!B128","v":"A"},{"$f":"SHALADARPAN!K128","v":0},{"$f":"SHALADARPAN!E128","v":"KAUSHAR BANU"},{"$f":"SHALADARPAN!G128","v":"Kailash"}]
[{"$nulls":18},{"$f":"SHALADARPAN!A129","v":5},{"$f":"SHALADARPAN!B129","v":"A"},{"$f":"SHALADARPAN!K129","v":0},{"$f":"SHALADARPAN!E129","v":"Khushi Kanwar"},{"$f":"SHALADARPAN!G129","v":"Kailash"}]
[{"$nulls":18},{"$f":"SHALADARPAN!A130","v":5},{"$f":"SHALADARPAN!B130","v":"A"},{"$f":"SHALADARPAN!K130","v":0},{"$f":"SHALADARPAN!E130","v":"Krishna Vaishnav"},{"$f":"SHALADARPAN!G130","v":"Kailash"}]
[{"$nulls":18},{"$f":"SHALADARPAN!A131","v":5},{"$f":"SHALADARPAN!B131","v":"A"},{"$f":"SHALADARPAN!K131","v":0},{"$f":"SHALADARPAN!E131","v":"LAKHI RAM"},{"$f":"SHALADARPAN!G131","v":"Kailash"}]
[{"$nulls":18},{"$f":"SHALADARPAN!A132","v":5},{"$f":"SHALADARPAN!B132","v":"A"},{"$f":"SHALADARPAN!K132","v":0},{"$f":"SHALADARPAN!E132","v":"LALITA"},{"$f":"SHALADARPAN!G132","v":"Kailash"}]
[{"$nulls":18},{"$f":"SHALADARPAN!A133","v":5},{"$f":"SHALADARPAN!B133","v":"A"},{"$f":"SHALADARPAN!K133","v":0},{"$f":"SHALADARPAN!E133","v":"MAMTA"},{"$f":"SHALADARPAN!G133","v":"Kailash"}]
[{"$nulls":18},{"$f":"SHALADARPAN!A134","v":5},{"$f":"SHALADARPAN!B134","v":"A"},{"$f":"SHALADARPAN!K134","v":0},{"$f":"SHALADARPAN!E134","v":"MANAVI"},{"$f":"SHALADARPAN!G134","v":"Kailash"}]
[{"$nulls":18},{"$f":"SHALADARPAN!A135","v":5},{"$f":"SHALADARPAN!B135","v":"A"},{"$f":"SHALADARPAN!K135","v":0},{"$f":"SHALADARPAN!E135","v":"MARIYAM"},{"$f":"SHALADARPAN!G135","v":"Kailash"}]
[{"$nulls":18},{"$f":"SHALADARPAN!A136","v":5},{"$f":"SHALADARPAN!B136","v":"A"},{"$f":"SHALADARPAN!K136","v":0},{"$f":"SHALADARPAN!E136","v":"MATIYA DEVI"},{"$f":"SHALADARPAN!G136","v":"Kailash"}]
[{"$nulls":18},{"$f":"SHALADARPAN!A137","v":5},{"$f":"SHALADARPAN!B137","v":"A"},{"$f":"SHALADARPAN!K137","v":0},{"$f":"SHALADARPAN!E137","v":"Mohammad Bilala"},{"$f":"SHALADARPAN!G137","v":"Kailash"}]
[{"$nulls":18},{"$f":"SHALADARPAN!A138","v":5},{"$f":"SHALADARPAN!B138","v":"A"},{"$f":"SHALADARPAN!K138","v":0},{"$f":"SHALADARPAN!E138","v":"Nafish Razza"},{"$f":"SHALADARPAN!G138","v":"Kailash"}]
[{"$nulls":18},{"$f":"SHALADARPAN!A139","v":5},{"$f":"SHALADARPAN!B139","v":"A"},{"$f":"SHALADARPAN!K139","v":0},{"$f":"SHALADARPAN!E139","v":"NASEEM BANU"},{"$f":"SHALADARPAN!G139","v":"Kailash"}]
[{"$nulls":18},{"$f":"SHALADARPAN!A140","v":5},{"$f":"SHALADARPAN!B140","v":"A"},{"$f":"SHALADARPAN!K140","v":0},{"$f":"SHALADARPAN!E140","v":"NAVEEN JANGLIYA"},{"$f":"SHALADARPAN!G140","v":"Kailash"}]
[{"$nulls":18},{"$f":"SHALADARPAN!A141","v":5},{"$f":"SHALADARPAN!B141","v":"A"},{"$f":"SHALADARPAN!K141","v":0},{"$f":"SHALADARPAN!E141","v":"Navya Vaishnav"},{"$f":"SHALADARPAN!G141","v":"Kailash"}]
[{"$nulls":18},{"$f":"SHALADARPAN!A142","v":5},{"$f":"SHALADARPAN!B142","v":"A"},{"$f":"SHALADARPAN!K142","v":0},{"$f":"SHALADARPAN!E142","v":"Naziya"},{"$f":"SHALADARPAN!G142","v":"Kailash"}]
[{"$nulls":18},{"$f":"SHALADARPAN!A143","v":5},{"$f":"SHALADARPAN!B143","v":"A"},{"$f":"SHALADARPAN!K143","v":0},{"$f":"SHALADARPAN!E143","v":"NISHA"},{"$f":"SHALADARPAN!G143","v":"Kailash"}]
[{"$nulls":18},{"$f":"SHALADARPAN!A144","v":5},{"$f":"SHALADARPAN!B144","v":"A"},{"$f":"SHALADARPAN!K144","v":0},{"$f":"SHALADARPAN!E144","v":"Nitesh Acharya"},{"$f":"SHALADARPAN!G144","v":"Kailash"}]
[{"$nulls":18},{"$f":"SHALADARPAN!A145","v":5},{"$f":"SHALADARPAN!B145","v":"A"},{"$f":"SHALADARPAN!K145","v":0},{"$f":"SHALADARPAN!E145","v":"OMARAM"},{"$f":"SHALADARPAN!G145","v":"Kailash"}]
[{"$nulls":18},{"$f":"SHALADARPAN!A146","v":5},{"$f":"SHALADARPAN!B146","v":"A"},{"$f":"SHALADARPAN!K146","v":0},{"$f":"SHALADARPAN!E146","v":"RAKESH BAWARI"},{"$f":"SHALADARPAN!G146","v":"Kailash"}]
[{"$nulls":18},{"$f":"SHALADARPAN!A147","v":5},{"$f":"SHALADARPAN!B147","v":"A"},{"$f":"SHALADARPAN!K147","v":0},{"$f":"SHALADARPAN!E147","v":"Rashika Vaishnav"},{"$f":"SHALADARPAN!G147","v":"Kailash"}]
[{"$nulls":18},{"$f":"SHALADARPAN!A148","v":5},{"$f":"SHALADARPAN!B148","v":"A"},{"$f":"SHALADARPAN!K148","v":0},{"$f":"SHALADARPAN!E148","v":"RESHAMA BANU"},{"$f":"SHALADARPAN!G148","v":"Kailash"}]
[{"$nulls":18},{"$f":"SHALADARPAN!A149","v":5},{"$f":"SHALADARPAN!B149","v":"A"},{"$f":"SHALADARPAN!K149","v":0},{"$f":"SHALADARPAN!E149","v":"ROHIT TAMBOLI"},{"$f":"SHALADARPAN!G149","v":"Kailash"}]
[{"$nulls":18},{"$f":"SHALADARPAN!A150","v":5},{"$f":"SHALADARPAN!B150","v":"A"},{"$f":"SHALADARPAN!K150","v":0},{"$f":"SHALADARPAN!E150","v":"RUKSANA MIRASI"},{"$f":"SHALADARPAN!G150","v":"Kailash"}]
[{"$nulls":18},{"$f":"SHALADARPAN!A151","v":5},{"$f":"SHALADARPAN!B151","v":"A"},{"$f":"SHALADARPAN!K151","v":0},{"$f":"SHALADARPAN!E151","v":"Sahil"},{"$f":"SHALADARPAN!G151","v":"Kailash"}]
[{"$nulls":18},{"$f":"SHALADARPAN!A152","v":5},{"$f":"SHALADARPAN!B152","v":"A"},{"$f":"SHALADARPAN!K152","v":0},{"$f":"SHALADARPAN!E152","v":"SAMEER ALI"},{"$f":"SHALADARPAN!G152","v":"Kailash"}]
[{"$nulls":18},{"$f":"SHALADARPAN!A153","v":5},{"$f":"SHALADARPAN!B153","v":"A"},{"$f":"SHALADARPAN!K153","v":0},{"$f":"SHALADARPAN!E153","v":"SANJU DEVI"},{"$f":"SHALADARPAN!G153","v":"Kailash"}]
[{"$nulls":18},{"$f":"SHALADARPAN!A154","v":5},{"$f":"SHALADARPAN!B154","v":"A"},{"$f":"SHALADARPAN!K154","v":0},{"$f":"SHALADARPAN!E154","v":"SHABANA"},{"$f":"SHALADARPAN!G154","v":"Kailash"}]
[{"$nulls":18},{"$f":"SHALADARPAN!A155","v":5},{"$f":"SHALADARPAN!B155","v":"A"},{"$f":"SHALADARPAN!K155","v":0},{"$f":"SHALADARPAN!E155","v":"SHAHILSYA"},{"$f":"SHALADARPAN!G155","v":"Kailash"}]
[{"$nulls":18},{"$f":"SHALADARPAN!A156","v":5},{"$f":"SHALADARPAN!B156","v":"A"},{"$f":"SHALADARPAN!K156","v":0},{"$f":"SHALADARPAN!E156","v":"SHAHNAWAZ"},{"$f":"SHALADARPAN!G156","v":"Kailash"}]
[{"$nulls":18},{"$f":"SHALADARPAN!A157","v":5},{"$f":"SHALADARPAN!B157","v":"A"},{"$f":"SHALADARPAN!K157","v":0},{"$f":"SHALADARPAN!E157","v":"SHAKIL"},{"$f":"SHALADARPAN!G157","v":"Kailash"}]
[{"$nulls":18},{"$f":"SHALADARPAN!A158","v":5},{"$f":"SHALADARPAN!B158","v":"A"},{"$f":"SHALADARPAN!K158","v":0},{"$f":"SHALADARPAN!E158","v":"SHALIGRAM"},{"$f":"SHALADARPAN!G158","v":"Kailash"}]
[{"$nulls":18},{"$f":"SHALADARPAN!A159","v":5},{"$f":"SHALADARPAN!B159","v":"A"},{"$f":"SHALADARPAN!K159","v":0},{"$f":"SHALADARPAN!E159","v":"SIMRAN"},{"$f":"SHALADARPAN!G159","v":"Kailash"}]
[{"$nulls":18},{"$f":"SHALADARPAN!A160","v":5},{"$f":"SHALADARPAN!B160","v":"A"},{"$f":"SHALADARPAN!K160","v":0},{"$f":"SHALADARPAN!E160","v":"SUFIYA BANU"},{"$f":"SHALADARPAN!G160","v":"Kailash"}]
[{"$nulls":18},{"$f":"SHALADARPAN!A161","v":5},{"$f":"SHALADARPAN!B161","v":"A"},{"$f":"SHALADARPAN!K161","v":0},{"$f":"SHALADARPAN!E161","v":"Sumitra Jangliya"},{"$f":"SHALADARPAN!G161","v":"Kailash"}]
[{"$nulls":18},{"$f":"SHALADARPAN!A162","v":5},{"$f":"SHALADARPAN!B162","v":"A"},{"$f":"SHALADARPAN!K162","v":0},{"$f":"SHALADARPAN!E162","v":"Sushil Acharya"},{"$f":"SHALADARPAN!G162","v":"Kailash"}]
[{"$nulls":18},{"$f":"SHALADARPAN!A163","v":5},{"$f":"SHALADARPAN!B163","v":"A"},{"$f":"SHALADARPAN!K163","v":0},{"$f":"SHALADARPAN!E163","v":"Tamanna"},{"$f":"SHALADARPAN!G163","v":"Kailash"}]
[{"$nulls":18},{"$f":"SHALADARPAN!A164","v":5},{"$f":"SHALADARPAN!B164","v":"A"},{"$f":"SHALADARPAN!K164","v":0},{"$f":"SHALADARPAN!E164","v":"TAMNNA"},{"$f":"SHALADARPAN!G164","v":"Kailash"}]
[{"$nulls":18},{"$f":"SHALADARPAN!A165","v":5},{"$f":"SHALADARPAN!B165","v":"A"},{"$f":"SHALADARPAN!K165","v":0},{"$f":"SHALADARPAN!E165","v":"TASLIMA"},{"$f":"SHALADARPAN!G165","v":"Kailash"}]
[{"$nulls":18},{"$f":"SHALADARPAN!A166","v":5},{"$f":"SHALADARPAN!B166","v":"A"},{"$f":"SHALADARPAN!K166","v":0},{"$f":"SHALADARPAN!E166","v":"TIKAM"},{"$f":"SHALADARPAN!G166","v":"Kailash"}]
[{"$nulls":18},{"$f":"SHALADARPAN!A167","v":5},{"$f":"SHALADARPAN!B167","v":"A"},{"$f":"SHALADARPAN!K167","v":0},{"$f":"SHALADARPAN!E167","v":"VASEEM"},{"$f":"SHALADARPAN!G167","v":"Kailash"}]
[{"$nulls":18},{"$f":"SHALADARPAN!A168","v":5},{"$f":"SHALADARPAN!B168","v":"A"},{"$f":"SHALADARPAN!K168","v":0},{"$f":"SHALADARPAN!E168","v":"Vikas Acharya"},{"$f":"SHALADARPAN!G168","v":"Kailash"}]
[{"$nulls":18},{"$f":"SHALADARPAN!A169","v":6},{"$f":"SHALADARPAN!B169","v":"A"},{"$f":"SHALADARPAN!K169","v":601},{"$f":"SHALADARPAN!E169","v":"Abid Husain"},{"$f":"SHALADARPAN!G169","v":"Kailash"}]
[{"$nulls":18},{"$f":"SHALADARPAN!A170","v":6},{"$f":"SHALADARPAN!B170","v":"A"},{"$f":"SHALADARPAN!K170","v":602},{"$f":"SHALADARPAN!E170","v":"ALVEERA BANU"},{"$f":"SHALADARPAN!G170","v":"Kailash"}]
[{"$nulls":18},{"$f":"SHALADARPAN!A171","v":6},{"$f":"SHALADARPAN!B171","v":"A"},{"$f":"SHALADARPAN!K171","v":603},{"$f":"SHALADARPAN!E171","v":"AMIT SHARMA"},{"$f":"SHALADARPAN!G171","v":"Kailash"}]
[{"$nulls":18},{"$f":"SHALADARPAN!A172","v":6},{"$f":"SHALADARPAN!B172","v":"A"},{"$f":"SHALADARPAN!K172","v":604},{"$f":"SHALADARPAN!E172","v":"ANIL SAINI"},{"$f":"SHALADARPAN!G172","v":"Kailash"}]
[{"$nulls":18},{"$f":"SHALADARPAN!A173","v":6},{"$f":"SHALADARPAN!B173","v":"A"},{"$f":"SHALADARPAN!K173","v":605},{"$f":"SHALADARPAN!E173","v":"ARBAZ AHMAD"},{"$f":"SHALADARPAN!G173","v":"Kailash"}]
[{"$nulls":18},{"$f":"SHALADARPAN!A174","v":6},{"$f":"SHALADARPAN!B174","v":"A"},{"$f":"SHALADARPAN!K174","v":606},{"$f":"SHALADARPAN!E174","v":"Arjun Shingh"},{"$f":"SHALADARPAN!G174","v":"Kailash"}]
[{"$nulls":18},{"$f":"SHALADARPAN!A175","v":6},{"$f":"SHALADARPAN!B175","v":"A"},{"$f":"SHALADARPAN!K175","v":607},{"$f":"SHALADARPAN!E175","v":"ARMAN"},{"$f":"SHALADARPAN!G175","v":"Kailash"}]
[{"$nulls":18},{"$f":"SHALADARPAN!A176","v":6},{"$f":"SHALADARPAN!B176","v":"A"},{"$f":"SHALADARPAN!K176","v":608},{"$f":"SHALADARPAN!E176","v":"Asraf Ali"},{"$f":"SHALADARPAN!G176","v":"Kailash"}]
[{"$nulls":18},{"$f":"SHALADARPAN!A177","v":6},{"$f":"SHALADARPAN!B177","v":"A"},{"$f":"SHALADARPAN!K177","v":609},{"$f":"SHALADARPAN!E177","v":"AYCHUKI"},{"$f":"SHALADARPAN!G177","v":"Kailash"}]
[{"$nulls":18},{"$f":"SHALADARPAN!A178","v":6},{"$f":"SHALADARPAN!B178","v":"A"},{"$f":"SHALADARPAN!K178","v":610},{"$f":"SHALADARPAN!E178","v":"BABLU"},{"$f":"SHALADARPAN!G178","v":"Kailash"}]
[{"$nulls":18},{"$f":"SHALADARPAN!A179","v":6},{"$f":"SHALADARPAN!B179","v":"A"},{"$f":"SHALADARPAN!K179","v":611},{"$f":"SHALADARPAN!E179","v":"BABY KANWAR"},{"$f":"SHALADARPAN!G179","v":"Kailash"}]
[{"$nulls":18},{"$f":"SHALADARPAN!A180","v":6},{"$f":"SHALADARPAN!B180","v":"A"},{"$f":"SHALADARPAN!K180","v":612},{"$f":"SHALADARPAN!E180","v":"BURHAN"},{"$f":"SHALADARPAN!G180","v":"Kailash"}]
[{"$nulls":18},{"$f":"SHALADARPAN!A181","v":6},{"$f":"SHALADARPAN!B181","v":"A"},{"$f":"SHALADARPAN!K181","v":613},{"$f":"SHALADARPAN!E181","v":"CHANCHAL DEVI"},{"$f":"SHALADARPAN!G181","v":"Kailash"}]
[{"$nulls":18},{"$f":"SHALADARPAN!A182","v":6},{"$f":"SHALADARPAN!B182","v":"A"},{"$f":"SHALADARPAN!K182","v":614},{"$f":"SHALADARPAN!E182","v":"CHETAN NAT"},{"$f":"SHALADARPAN!G182","v":"Kailash"}]
[{"$nulls":18},{"$f":"SHALADARPAN!A183","v":6},{"$f":"SHALADARPAN!B183","v":"A"},{"$f":"SHALADARPAN!K183","v":615},{"$f":"SHALADARPAN!E183","v":"HAIDAR ALI"},{"$f":"SHALADARPAN!G183","v":"Kailash"}]
[{"$nulls":18},{"$f":"SHALADARPAN!A184","v":6},{"$f":"SHALADARPAN!B184","v":"A"},{"$f":"SHALADARPAN!K184","v":616},{"$f":"SHALADARPAN!E184","v":"HEENA BANU"},{"$f":"SHALADARPAN!G184","v":"Kailash"}]
[{"$nulls":18},{"$f":"SHALADARPAN!A185","v":6},{"$f":"SHALADARPAN!B185","v":"A"},{"$f":"SHALADARPAN!K185","v":617},{"$f":"SHALADARPAN!E185","v":"Hemant Tank"},{"$f":"SHALADARPAN!G185","v":"Kailash"}]
[{"$nulls":18},{"$f":"SHALADARPAN!A186","v":6},{"$f":"SHALADARPAN!B186","v":"A"},{"$f":"SHALADARPAN!K186","v":618},{"$f":"SHALADARPAN!E186","v":"IMRAN"},{"$f":"SHALADARPAN!G186","v":"Kailash"}]
[{"$nulls":18},{"$f":"SHALADARPAN!A187","v":6},{"$f":"SHALADARPAN!B187","v":"A"},{"$f":"SHALADARPAN!K187","v":619},{"$f":"SHALADARPAN!E187","v":"INSAF ALI"},{"$f":"SHALADARPAN!G187","v":"Kailash"}]
[{"$nulls":18},{"$f":"SHALADARPAN!A188","v":6},{"$f":"SHALADARPAN!B188","v":"A"},{"$f":"SHALADARPAN!K188","v":620},{"$f":"SHALADARPAN!E188","v":"IRFAN"},{"$f":"SHALADARPAN!G188","v":"Kailash"}]
[{"$nulls":18},{"$f":"SHALADARPAN!A189","v":6},{"$f":"SHALADARPAN!B189","v":"A"},{"$f":"SHALADARPAN!K189","v":621},{"$f":"SHALADARPAN!E189","v":"KADIR"},{"$f":"SHALADARPAN!G189","v":"Kailash"}]
[{"$nulls":18},{"$f":"SHALADARPAN!A190","v":6},{"$f":"SHALADARPAN!B190","v":"A"},{"$f":"SHALADARPAN!K190","v":622},{"$f":"SHALADARPAN!E190","v":"KALPANA"},{"$f":"SHALADARPAN!G190","v":"Kailash"}]
[{"$nulls":18},{"$f":"SHALADARPAN!A191","v":6},{"$f":"SHALADARPAN!B191","v":"A"},{"$f":"SHALADARPAN!K191","v":623},{"$f":"SHALADARPAN!E191","v":"Khushi Kanwar"},{"$f":"SHALADARPAN!G191","v":"Kailash"}]
[{"$nulls":18},{"$f":"SHALADARPAN!A192","v":6},{"$f":"SHALADARPAN!B192","v":"A"},{"$f":"SHALADARPAN!K192","v":624},{"$f":"SHALADARPAN!E192","v":"KIRAN"},{"$f":"SHALADARPAN!G192","v":"Kailash"}]
[{"$nulls":18},{"$f":"SHALADARPAN!A193","v":6},{"$f":"SHALADARPAN!B193","v":"A"},{"$f":"SHALADARPAN!K193","v":625},{"$f":"SHALADARPAN!E193","v":"LAL SINGH"},{"$f":"SHALADARPAN!G193","v":"Kailash"}]
[{"$nulls":18},{"$f":"SHALADARPAN!A194","v":6},{"$f":"SHALADARPAN!B194","v":"A"},{"$f":"SHALADARPAN!K194","v":626},{"$f":"SHALADARPAN!E194","v":"Liladhar Vaishnav"},{"$f":"SHALADARPAN!G194","v":"Kailash"}]
[{"$nulls":18},{"$f":"SHALADARPAN!A195","v":6},{"$f":"SHALADARPAN!B195","v":"A"},{"$f":"SHALADARPAN!K195","v":627},{"$f":"SHALADARPAN!E195","v":"LOKESH NATH"},{"$f":"SHALADARPAN!G195","v":"Kailash"}]
[{"$nulls":18},{"$f":"SHALADARPAN!A196","v":6},{"$f":"SHALADARPAN!B196","v":"A"},{"$f":"SHALADARPAN!K196","v":628},{"$f":"SHALADARPAN!E196","v":"Lokesh Nimbawat"},{"$f":"SHALADARPAN!G196","v":"Kailash"}]
[{"$nulls":18},{"$f":"SHALADARPAN!A197","v":6},{"$f":"SHALADARPAN!B197","v":"A"},{"$f":"SHALADARPAN!K197","v":629},{"$f":"SHALADARPAN!E197","v":"MAHENDRA"},{"$f":"SHALADARPAN!G197","v":"Kailash"}]
[{"$nulls":18},{"$f":"SHALADARPAN!A198","v":6},{"$f":"SHALADARPAN!B198","v":"A"},{"$f":"SHALADARPAN!K198","v":630},{"$f":"SHALADARPAN!E198","v":"MAHENDRA CHOKIDAR"},{"$f":"SHALADARPAN!G198","v":"Kailash"}]
[{"$nulls":18},{"$f":"SHALADARPAN!A199","v":6},{"$f":"SHALADARPAN!B199","v":"A"},{"$f":"SHALADARPAN!K199","v":631},{"$f":"SHALADARPAN!E199","v":"Mahendra Dagdi"},{"$f":"SHALADARPAN!G199","v":"Kailash"}]
[{"$nulls":18},{"$f":"SHALADARPAN!A200","v":6},{"$f":"SHALADARPAN!B200","v":"A"},{"$f":"SHALADARPAN!K200","v":632},{"$f":"SHALADARPAN!E200","v":"MAYA"},{"$f":"SHALADARPAN!G200","v":"Kailash"}]
[{"$nulls":18},{"$f":"SHALADARPAN!A201","v":6},{"$f":"SHALADARPAN!B201","v":"A"},{"$f":"SHALADARPAN!K201","v":633},{"$f":"SHALADARPAN!E201","v":"Mohammad Imran"},{"$f":"SHALADARPAN!G201","v":"Kailash"}]
[{"$nulls":18},{"$f":"SHALADARPAN!A202","v":6},{"$f":"SHALADARPAN!B202","v":"A"},{"$f":"SHALADARPAN!K202","v":634},{"$f":"SHALADARPAN!E202","v":"Mohammed Rahil"},{"$f":"SHALADARPAN!G202","v":"Kailash"}]
[{"$nulls":18},{"$f":"SHALADARPAN!A203","v":6},{"$f":"SHALADARPAN!B203","v":"A"},{"$f":"SHALADARPAN!K203","v":635},{"$f":"SHALADARPAN!E203","v":"MOHASIN"},{"$f":"SHALADARPAN!G203","v":"Kailash"}]
[{"$nulls":18},{"$f":"SHALADARPAN!A204","v":6},{"$f":"SHALADARPAN!B204","v":"A"},{"$f":"SHALADARPAN!K204","v":636},{"$f":"SHALADARPAN!E204","v":"MOHMMAD BILAL"},{"$f":"SHALADARPAN!G204","v":"Kailash"}]
[{"$nulls":18},{"$f":"SHALADARPAN!A205","v":6},{"$f":"SHALADARPAN!B205","v":"A"},{"$f":"SHALADARPAN!K205","v":637},{"$f":"SHALADARPAN!E205","v":"MUSKAN"},{"$f":"SHALADARPAN!G205","v":"Kailash"}]
[{"$nulls":18},{"$f":"SHALADARPAN!A206","v":6},{"$f":"SHALADARPAN!B206","v":"A"},{"$f":"SHALADARPAN!K206","v":638},{"$f":"SHALADARPAN!E206","v":"MUSSA PAHALWAN"},{"$f":"SHALADARPAN!G206","v":"Kailash"}]
[{"$nulls":18},{"$f":"SHALADARPAN!A207","v":6},{"$f":"SHALADARPAN!B207","v":"A"},{"$f":"SHALADARPAN!K207","v":639},{"$f":"SHALADARPAN!E207","v":"NASIM BANO"},{"$f":"SHALADARPAN!G207","v":"Kailash"}]
[{"$nulls":18},{"$f":"SHALADARPAN!A208","v":6},{"$f":"SHALADARPAN!B208","v":"A"},{"$f":"SHALADARPAN!K208","v":640},{"$f":"SHALADARPAN!E208","v":"PAYAL SAINI"},{"$f":"SHALADARPAN!G208","v":"Kailash"}]
[{"$nulls":18},{"$f":"SHALADARPAN!A209","v":6},{"$f":"SHALADARPAN!B209","v":"A"},{"$f":"SHALADARPAN!K209","v":641},{"$f":"SHALADARPAN!E209","v":"PINTU PARJAPAT"},{"$f":"SHALADARPAN!G209","v":"Kailash"}]
[{"$nulls":18},{"$f":"SHALADARPAN!A210","v":6},{"$f":"SHALADARPAN!B210","v":"A"},{"$f":"SHALADARPAN!K210","v":642},{"$f":"SHALADARPAN!E210","v":"POOJA DEVI"},{"$f":"SHALADARPAN!G210","v":"Kailash"}]
[{"$nulls":18},{"$f":"SHALADARPAN!A211","v":6},{"$f":"SHALADARPAN!B211","v":"A"},{"$f":"SHALADARPAN!K211","v":643},{"$f":"SHALADARPAN!E211","v":"Ramawtar"},{"$f":"SHALADARPAN!G211","v":"Kailash"}]
[{"$nulls":18},{"$f":"SHALADARPAN!A212","v":6},{"$f":"SHALADARPAN!B212","v":"A"},{"$f":"SHALADARPAN!K212","v":644},{"$f":"SHALADARPAN!E212","v":"RAMDEV"},{"$f":"SHALADARPAN!G212","v":"Kailash"}]
[{"$nulls":18},{"$f":"SHALADARPAN!A213","v":6},{"$f":"SHALADARPAN!B213","v":"A"},{"$f":"SHALADARPAN!K213","v":645},{"$f":"SHALADARPAN!E213","v":"RAVI RAJ BAWARI"},{"$f":"SHALADARPAN!G213","v":"Kailash"}]
[{"$nulls":18},{"$f":"SHALADARPAN!A214","v":6},{"$f":"SHALADARPAN!B214","v":"A"},{"$f":"SHALADARPAN!K214","v":646},{"$f":"SHALADARPAN!E214","v":"RAVINDRA KUMAWAT"},{"$f":"SHALADARPAN!G214","v":"Kailash"}]
[{"$nulls":18},{"$f":"SHALADARPAN!A215","v":6},{"$f":"SHALADARPAN!B215","v":"A"},{"$f":"SHALADARPAN!K215","v":647},{"$f":"SHALADARPAN!E215","v":"REKHA DEVI"},{"$f":"SHALADARPAN!G215","v":"Kailash"}]
[{"$nulls":18},{"$f":"SHALADARPAN!A216","v":6},{"$f":"SHALADARPAN!B216","v":"A"},{"$f":"SHALADARPAN!K216","v":648},{"$f":"SHALADARPAN!E216","v":"RINKU KANWAR"},{"$f":"SHALADARPAN!G216","v":"Kailash"}]
[{"$nulls":18},{"$f":"SHALADARPAN!A217","v":6},{"$f":"SHALADARPAN!B217","v":"A"},{"$f":"SHALADARPAN!K217","v":649},{"$f":"SHALADARPAN!E217","v":"RITIKA"},{"$f":"SHALADARPAN!G217","v":"Kailash"}]
[{"$nulls":18},{"$f":"SHALADARPAN!A218","v":6},{"$f":"SHALADARPAN!B218","v":"A"},{"$f":"SHALADARPAN!K218","v":650},{"$f":"SHALADARPAN!E218","v":"RUSTAM ALI PAHALWAN"},{"$f":"SHALADARPAN!G218","v":"Kailash"}]
[{"$nulls":18},{"$f":"SHALADARPAN!A219","v":6},{"$f":"SHALADARPAN!B219","v":"A"},{"$f":"SHALADARPAN!K219","v":651},{"$f":"SHALADARPAN!E219","v":"SALMA BANU"},{"$f":"SHALADARPAN!G219","v":"Kailash"}]
[{"$nulls":18},{"$f":"SHALADARPAN!A220","v":6},{"$f":"SHALADARPAN!B220","v":"A"},{"$f":"SHALADARPAN!K220","v":652},{"$f":"SHALADARPAN!E220","v":"SAMEER"},{"$f":"SHALADARPAN!G220","v":"Kailash"}]
[{"$nulls":18},{"$f":"SHALADARPAN!A221","v":6},{"$f":"SHALADARPAN!B221","v":"A"},{"$f":"SHALADARPAN!K221","v":653},{"$f":"SHALADARPAN!E221","v":"SANGEETA"},{"$f":"SHALADARPAN!G221","v":"Kailash"}]
[{"$nulls":18},{"$f":"SHALADARPAN!A222","v":6},{"$f":"SHALADARPAN!B222","v":"A"},{"$f":"SHALADARPAN!K222","v":654},{"$f":"SHALADARPAN!E222","v":"SARITA NATH"},{"$f":"SHALADARPAN!G222","v":"Kailash"}]
[{"$nulls":18},{"$f":"SHALADARPAN!A223","v":6},{"$f":"SHALADARPAN!B223","v":"A"},{"$f":"SHALADARPAN!K223","v":655},{"$f":"SHALADARPAN!E223","v":"SAROJ DEVI"},{"$f":"SHALADARPAN!G223","v":"Kailash"}]
[{"$nulls":18},{"$f":"SHALADARPAN!A224","v":6},{"$f":"SHALADARPAN!B224","v":"A"},{"$f":"SHALADARPAN!K224","v":656},{"$f":"SHALADARPAN!E224","v":"SHAHINA"},{"$f":"SHALADARPAN!G224","v":"Kailash"}]
[{"$nulls":18},{"$f":"SHALADARPAN!A225","v":6},{"$f":"SHALADARPAN!B225","v":"A"},{"$f":"SHALADARPAN!K225","v":657},{"$f":"SHALADARPAN!E225","v":"SHIMBHU SINGH"},{"$f":"SHALADARPAN!G225","v":"Kailash"}]
[{"$nulls":18},{"$f":"SHALADARPAN!A226","v":6},{"$f":"SHALADARPAN!B226","v":"A"},{"$f":"SHALADARPAN!K226","v":658},{"$f":"SHALADARPAN!E226","v":"SHOHIL"},{"$f":"SHALADARPAN!G226","v":"Kailash"}]
[{"$nulls":18},{"$f":"SHALADARPAN!A227","v":6},{"$f":"SHALADARPAN!B227","v":"A"},{"$f":"SHALADARPAN!K227","v":659},{"$f":"SHALADARPAN!E227","v":"SOHIL"},{"$f":"SHALADARPAN!G227","v":"Kailash"}]
[{"$nulls":18},{"$f":"SHALADARPAN!A228","v":6},{"$f":"SHALADARPAN!B228","v":"A"},{"$f":"SHALADARPAN!K228","v":660},{"$f":"SHALADARPAN!E228","v":"SUMAN DEVI CHAUKIDAR"},{"$f":"SHALADARPAN!G228","v":"Kailash"}]
[{"$nulls":18},{"$f":"SHALADARPAN!A229","v":6},{"$f":"SHALADARPAN!B229","v":"A"},{"$f":"SHALADARPAN!K229","v":661},{"$f":"SHALADARPAN!E229","v":"SUNIL"},{"$f":"SHALADARPAN!G229","v":"Kailash"}]
[{"$nulls":18},{"$f":"SHALADARPAN!A230","v":6},{"$f":"SHALADARPAN!B230","v":"A"},{"$f":"SHALADARPAN!K230","v":662},{"$f":"SHALADARPAN!E230","v":"TANU DEVI"},{"$f":"SHALADARPAN!G230","v":"Kailash"}]
[{"$nulls":18},{"$f":"SHALADARPAN!A231","v":6},{"$f":"SHALADARPAN!B231","v":"A"},{"$f":"SHALADARPAN!K231","v":663},{"$f":"SHALADARPAN!E231","v":"Teena"},{"$f":"SHALADARPAN!G231","v":"Kailash"}]
[{"$nulls":18},{"$f":"SHALADARPAN!A232","v":6},{"$f":"SHALADARPAN!B232","v":"A"},{"$f":"SHALADARPAN!K232","v":664},{"$f":"SHALADARPAN!E232","v":"TULCHHI RAM"},{"$f":"SHALADARPAN!G232","v":"Kailash"}]
[{"$nulls":18},{"$f":"SHALADARPAN!A233","v":7},{"$f":"SHALADARPAN!B233","v":"A"},{"$f":"SHALADARPAN!K233","v":723},{"$f":"SHALADARPAN!E233","v":"KAVITA"},{"$f":"SHALADARPAN!G233","v":"Kailash"}]
[{"$nulls":18},{"$f":"SHALADARPAN!A234","v":7},{"$f":"SHALADARPAN!B234","v":"A"},{"$f":"SHALADARPAN!K234","v":701},{"$f":"SHALADARPAN!E234","v":"AADIL"},{"$f":"SHALADARPAN!G234","v":"Kailash"}]
[{"$nulls":18},{"$f":"SHALADARPAN!A235","v":7},{"$f":"SHALADARPAN!B235","v":"A"},{"$f":"SHALADARPAN!K235","v":702},{"$f":"SHALADARPAN!E235","v":"AASHIYA BANU"},{"$f":"SHALADARPAN!G235","v":"Kailash"}]
[{"$nulls":18},{"$f":"SHALADARPAN!A236","v":7},{"$f":"SHALADARPAN!B236","v":"A"},{"$f":"SHALADARPAN!K236","v":703},{"$f":"SHALADARPAN!E236","v":"Afzal Ali"},{"$f":"SHALADARPAN!G236","v":"Kailash"}]
[{"$nulls":18},{"$f":"SHALADARPAN!A237","v":7},{"$f":"SHALADARPAN!B237","v":"A"},{"$f":"SHALADARPAN!K237","v":704},{"$f":"SHALADARPAN!E237","v":"Ajay Raghvendra"},{"$f":"SHALADARPAN!G237","v":"Kailash"}]
[{"$nulls":18},{"$f":"SHALADARPAN!A238","v":7},{"$f":"SHALADARPAN!B238","v":"A"},{"$f":"SHALADARPAN!K238","v":705},{"$f":"SHALADARPAN!E238","v":"ALEESA BANO"},{"$f":"SHALADARPAN!G238","v":"Kailash"}]
[{"$nulls":18},{"$f":"SHALADARPAN!A239","v":7},{"$f":"SHALADARPAN!B239","v":"A"},{"$f":"SHALADARPAN!K239","v":706},{"$f":"SHALADARPAN!E239","v":"Altaf Raza"},{"$f":"SHALADARPAN!G239","v":"Kailash"}]
[{"$nulls":18},{"$f":"SHALADARPAN!A240","v":7},{"$f":"SHALADARPAN!B240","v":"A"},{"$f":"SHALADARPAN!K240","v":707},{"$f":"SHALADARPAN!E240","v":"Anil Saini"},{"$f":"SHALADARPAN!G240","v":"Kailash"}]
[{"$nulls":18},{"$f":"SHALADARPAN!A241","v":7},{"$f":"SHALADARPAN!B241","v":"A"},{"$f":"SHALADARPAN!K241","v":708},{"$f":"SHALADARPAN!E241","v":"ANSHITA CHOUDHARY"},{"$f":"SHALADARPAN!G241","v":"Kailash"}]
[{"$nulls":18},{"$f":"SHALADARPAN!A242","v":7},{"$f":"SHALADARPAN!B242","v":"A"},{"$f":"SHALADARPAN!K242","v":709},{"$f":"SHALADARPAN!E242","v":"ARFAN"},{"$f":"SHALADARPAN!G242","v":"Kailash"}]
[{"$nulls":18},{"$f":"SHALADARPAN!A243","v":7},{"$f":"SHALADARPAN!B243","v":"A"},{"$f":"SHALADARPAN!K243","v":710},{"$f":"SHALADARPAN!E243","v":"ASHA KANWAR"},{"$f":"SHALADARPAN!G243","v":"Kailash"}]
[{"$nulls":18},{"$f":"SHALADARPAN!A244","v":7},{"$f":"SHALADARPAN!B244","v":"A"},{"$f":"SHALADARPAN!K244","v":711},{"$f":"SHALADARPAN!E244","v":"ASLAM ALI"},{"$f":"SHALADARPAN!G244","v":"Kailash"}]
[{"$nulls":18},{"$f":"SHALADARPAN!A245","v":7},{"$f":"SHALADARPAN!B245","v":"A"},{"$f":"SHALADARPAN!K245","v":712},{"$f":"SHALADARPAN!E245","v":"BHARAT MALI"},{"$f":"SHALADARPAN!G245","v":"Kailash"}]
[{"$nulls":18},{"$f":"SHALADARPAN!A246","v":7},{"$f":"SHALADARPAN!B246","v":"A"},{"$f":"SHALADARPAN!K246","v":713},{"$f":"SHALADARPAN!E246","v":"BHAWANI RAWAL"},{"$f":"SHALADARPAN!G246","v":"Kailash"}]
[{"$nulls":18},{"$f":"SHALADARPAN!A247","v":7},{"$f":"SHALADARPAN!B247","v":"A"},{"$f":"SHALADARPAN!K247","v":714},{"$f":"SHALADARPAN!E247","v":"DEEPAK"},{"$f":"SHALADARPAN!G247","v":"Kailash"}]
[{"$nulls":18},{"$f":"SHALADARPAN!A248","v":7},{"$f":"SHALADARPAN!B248","v":"A"},{"$f":"SHALADARPAN!K248","v":715},{"$f":"SHALADARPAN!E248","v":"Devendra Saini"},{"$f":"SHALADARPAN!G248","v":"Kailash"}]
[{"$nulls":18},{"$f":"SHALADARPAN!A249","v":7},{"$f":"SHALADARPAN!B249","v":"A"},{"$f":"SHALADARPAN!K249","v":716},{"$f":"SHALADARPAN!E249","v":"Dinesh Latiyal"},{"$f":"SHALADARPAN!G249","v":"Kailash"}]
[{"$nulls":18},{"$f":"SHALADARPAN!A250","v":7},{"$f":"SHALADARPAN!B250","v":"A"},{"$f":"SHALADARPAN!K250","v":717},{"$f":"SHALADARPAN!E250","v":"FAIJAN MOHMMAD"},{"$f":"SHALADARPAN!G250","v":"Kailash"}]
[{"$nulls":18},{"$f":"SHALADARPAN!A251","v":7},{"$f":"SHALADARPAN!B251","v":"A"},{"$f":"SHALADARPAN!K251","v":718},{"$f":"SHALADARPAN!E251","v":"GAJENDAR SHINGH"},{"$f":"SHALADARPAN!G251","v":"Kailash"}]
[{"$nulls":18},{"$f":"SHALADARPAN!A252","v":7},{"$f":"SHALADARPAN!B252","v":"A"},{"$f":"SHALADARPAN!K252","v":719},{"$f":"SHALADARPAN!E252","v":"GANESH VAISHNAV"},{"$f":"SHALADARPAN!G252","v":"Kailash"}]
[{"$nulls":18},{"$f":"SHALADARPAN!A253","v":7},{"$f":"SHALADARPAN!B253","v":"A"},{"$f":"SHALADARPAN!K253","v":720},{"$f":"SHALADARPAN!E253","v":"Harshita Jangid"},{"$f":"SHALADARPAN!G253","v":"Kailash"}]
[{"$nulls":18},{"$f":"SHALADARPAN!A254","v":7},{"$f":"SHALADARPAN!B254","v":"A"},{"$f":"SHALADARPAN!K254","v":721},{"$f":"SHALADARPAN!E254","v":"Hemraj"},{"$f":"SHALADARPAN!G254","v":"Kailash"}]
[{"$nulls":18},{"$f":"SHALADARPAN!A255","v":7},{"$f":"SHALADARPAN!B255","v":"A"},{"$f":"SHALADARPAN!K255","v":722},{"$f":"SHALADARPAN!E255","v":"Irfan"},{"$f":"SHALADARPAN!G255","v":"Kailash"}]
[{"$nulls":18},{"$f":"SHALADARPAN!A256","v":7},{"$f":"SHALADARPAN!B256","v":"A"},{"$f":"SHALADARPAN!K256","v":724},{"$f":"SHALADARPAN!E256","v":"KHUSHBOO"},{"$f":"SHALADARPAN!G256","v":"Kailash"}]
[{"$nulls":18},{"$f":"SHALADARPAN!A257","v":7},{"$f":"SHALADARPAN!B257","v":"A"},{"$f":"SHALADARPAN!K257","v":725},{"$f":"SHALADARPAN!E257","v":"KHUSHBOO"},{"$f":"SHALADARPAN!G257","v":"Kailash"}]
[{"$nulls":18},{"$f":"SHALADARPAN!A258","v":7},{"$f":"SHALADARPAN!B258","v":"A"},{"$f":"SHALADARPAN!K258","v":726},{"$f":"SHALADARPAN!E258","v":"Khushi Vaishnav"},{"$f":"SHALADARPAN!G258","v":"Kailash"}]
[{"$nulls":18},{"$f":"SHALADARPAN!A259","v":7},{"$f":"SHALADARPAN!B259","v":"A"},{"$f":"SHALADARPAN!K259","v":727},{"$f":"SHALADARPAN!E259","v":"KOMAL"},{"$f":"SHALADARPAN!G259","v":"Kailash"}]
[{"$nulls":18},{"$f":"SHALADARPAN!A260","v":7},{"$f":"SHALADARPAN!B260","v":"A"},{"$f":"SHALADARPAN!K260","v":728},{"$f":"SHALADARPAN!E260","v":"LALI NATH"},{"$f":"SHALADARPAN!G260","v":"Kailash"}]
[{"$nulls":18},{"$f":"SHALADARPAN!A261","v":7},{"$f":"SHALADARPAN!B261","v":"A"},{"$f":"SHALADARPAN!K261","v":729},{"$f":"SHALADARPAN!E261","v":"Mohammad Irfan"},{"$f":"SHALADARPAN!G261","v":"Kailash"}]
[{"$nulls":18},{"$f":"SHALADARPAN!A262","v":7},{"$f":"SHALADARPAN!B262","v":"A"},{"$f":"SHALADARPAN!K262","v":730},{"$f":"SHALADARPAN!E262","v":"MOSEEM"},{"$f":"SHALADARPAN!G262","v":"Kailash"}]
[{"$nulls":18},{"$f":"SHALADARPAN!A263","v":7},{"$f":"SHALADARPAN!B263","v":"A"},{"$f":"SHALADARPAN!K263","v":731},{"$f":"SHALADARPAN!E263","v":"MUNNI"},{"$f":"SHALADARPAN!G263","v":"Kailash"}]
[{"$nulls":18},{"$f":"SHALADARPAN!A264","v":7},{"$f":"SHALADARPAN!B264","v":"A"},{"$f":"SHALADARPAN!K264","v":732},{"$f":"SHALADARPAN!E264","v":"MUSKAN"},{"$f":"SHALADARPAN!G264","v":"Kailash"}]
[{"$nulls":18},{"$f":"SHALADARPAN!A265","v":7},{"$f":"SHALADARPAN!B265","v":"A"},{"$f":"SHALADARPAN!K265","v":733},{"$f":"SHALADARPAN!E265","v":"NASREEN"},{"$f":"SHALADARPAN!G265","v":"Kailash"}]
[{"$nulls":18},{"$f":"SHALADARPAN!A266","v":7},{"$f":"SHALADARPAN!B266","v":"A"},{"$f":"SHALADARPAN!K266","v":734},{"$f":"SHALADARPAN!E266","v":"NAZMEEN"},{"$f":"SHALADARPAN!G266","v":"Kailash"}]
[{"$nulls":18},{"$f":"SHALADARPAN!A267","v":7},{"$f":"SHALADARPAN!B267","v":"A"},{"$f":"SHALADARPAN!K267","v":735},{"$f":"SHALADARPAN!E267","v":"NISHA"},{"$f":"SHALADARPAN!G267","v":"Kailash"}]
[{"$nulls":18},{"$f":"SHALADARPAN!A268","v":7},{"$f":"SHALADARPAN!B268","v":"A"},{"$f":"SHALADARPAN!K268","v":736},{"$f":"SHALADARPAN!E268","v":"Nitin Saini"},{"$f":"SHALADARPAN!G268","v":"Kailash"}]
[{"$nulls":18},{"$f":"SHALADARPAN!A269","v":7},{"$f":"SHALADARPAN!B269","v":"A"},{"$f":"SHALADARPAN!K269","v":737},{"$f":"SHALADARPAN!E269","v":"Nitu Gurjar"},{"$f":"SHALADARPAN!G269","v":"Kailash"}]
[{"$nulls":18},{"$f":"SHALADARPAN!A270","v":7},{"$f":"SHALADARPAN!B270","v":"A"},{"$f":"SHALADARPAN!K270","v":738},{"$f":"SHALADARPAN!E270","v":"NORAT LAL"},{"$f":"SHALADARPAN!G270","v":"Kailash"}]
[{"$nulls":18},{"$f":"SHALADARPAN!A271","v":7},{"$f":"SHALADARPAN!B271","v":"A"},{"$f":"SHALADARPAN!K271","v":739},{"$f":"SHALADARPAN!E271","v":"PAWAN JUNJADIYA"},{"$f":"SHALADARPAN!G271","v":"Kailash"}]
[{"$nulls":18},{"$f":"SHALADARPAN!A272","v":7},{"$f":"SHALADARPAN!B272","v":"A"},{"$f":"SHALADARPAN!K272","v":740},{"$f":"SHALADARPAN!E272","v":"PINTU SAINI"},{"$f":"SHALADARPAN!G272","v":"Kailash"}]
[{"$nulls":18},{"$f":"SHALADARPAN!A273","v":7},{"$f":"SHALADARPAN!B273","v":"A"},{"$f":"SHALADARPAN!K273","v":741},{"$f":"SHALADARPAN!E273","v":"PRIYANKA"},{"$f":"SHALADARPAN!G273","v":"Kailash"}]
[{"$nulls":18},{"$f":"SHALADARPAN!A274","v":7},{"$f":"SHALADARPAN!B274","v":"A"},{"$f":"SHALADARPAN!K274","v":742},{"$f":"SHALADARPAN!E274","v":"RAJU RAM"},{"$f":"SHALADARPAN!G274","v":"Kailash"}]
[{"$nulls":18},{"$f":"SHALADARPAN!A275","v":7},{"$f":"SHALADARPAN!B275","v":"A"},{"$f":"SHALADARPAN!K275","v":743},{"$f":"SHALADARPAN!E275","v":"RAVI BAVARI"},{"$f":"SHALADARPAN!G275","v":"Kailash"}]
[{"$nulls":18},{"$f":"SHALADARPAN!A276","v":7},{"$f":"SHALADARPAN!B276","v":"A"},{"$f":"SHALADARPAN!K276","v":744},{"$f":"SHALADARPAN!E276","v":"RIJVAN"},{"$f":"SHALADARPAN!G276","v":"Kailash"}]
[{"$nulls":18},{"$f":"SHALADARPAN!A277","v":7},{"$f":"SHALADARPAN!B277","v":"A"},{"$f":"SHALADARPAN!K277","v":745},{"$f":"SHALADARPAN!E277","v":"RIYAN"},{"$f":"SHALADARPAN!G277","v":"Kailash"}]
[{"$nulls":18},{"$f":"SHALADARPAN!A278","v":7},{"$f":"SHALADARPAN!B278","v":"A"},{"$f":"SHALADARPAN!K278","v":746},{"$f":"SHALADARPAN!E278","v":"RUKEEIA"},{"$f":"SHALADARPAN!G278","v":"Kailash"}]
[{"$nulls":18},{"$f":"SHALADARPAN!A279","v":7},{"$f":"SHALADARPAN!B279","v":"A"},{"$f":"SHALADARPAN!K279","v":747},{"$f":"SHALADARPAN!E279","v":"SAMEER"},{"$f":"SHALADARPAN!G279","v":"Kailash"}]
[{"$nulls":18},{"$f":"SHALADARPAN!A280","v":7},{"$f":"SHALADARPAN!B280","v":"A"},{"$f":"SHALADARPAN!K280","v":748},{"$f":"SHALADARPAN!E280","v":"SANIYA"},{"$f":"SHALADARPAN!G280","v":"Kailash"}]
[{"$nulls":18},{"$f":"SHALADARPAN!A281","v":7},{"$f":"SHALADARPAN!B281","v":"A"},{"$f":"SHALADARPAN!K281","v":749},{"$f":"SHALADARPAN!E281","v":"SHABANA BANU"},{"$f":"SHALADARPAN!G281","v":"Kailash"}]
[{"$nulls":18},{"$f":"SHALADARPAN!A282","v":7},{"$f":"SHALADARPAN!B282","v":"A"},{"$f":"SHALADARPAN!K282","v":750},{"$f":"SHALADARPAN!E282","v":"SHARIF MOHD."},{"$f":"SHALADARPAN!G282","v":"Kailash"}]
[{"$nulls":18},{"$f":"SHALADARPAN!A283","v":7},{"$f":"SHALADARPAN!B283","v":"A"},{"$f":"SHALADARPAN!K283","v":752},{"$f":"SHALADARPAN!E283","v":"SHOHIL"},{"$f":"SHALADARPAN!G283","v":"Kailash"}]
[{"$nulls":18},{"$f":"SHALADARPAN!A284","v":7},{"$f":"SHALADARPAN!B284","v":"A"},{"$f":"SHALADARPAN!K284","v":751},{"$f":"SHALADARPAN!E284","v":"SHOHIL"},{"$f":"SHALADARPAN!G284","v":"Kailash"}]
[{"$nulls":18},{"$f":"SHALADARPAN!A285","v":7},{"$f":"SHALADARPAN!B285","v":"A"},{"$f":"SHALADARPAN!K285","v":753},{"$f":"SHALADARPAN!E285","v":"SIMARAN"},{"$f":"SHALADARPAN!G285","v":"Kailash"}]
[{"$nulls":18},{"$f":"SHALADARPAN!A286","v":7},{"$f":"SHALADARPAN!B286","v":"A"},{"$f":"SHALADARPAN!K286","v":754},{"$f":"SHALADARPAN!E286","v":"Sonu Saini"},{"$f":"SHALADARPAN!G286","v":"Kailash"}]
[{"$nulls":18},{"$f":"SHALADARPAN!A287","v":7},{"$f":"SHALADARPAN!B287","v":"A"},{"$f":"SHALADARPAN!K287","v":755},{"$f":"SHALADARPAN!E287","v":"TEENA"},{"$f":"SHALADARPAN!G287","v":"Kailash"}]
[{"$nulls":18},{"$f":"SHALADARPAN!A288","v":8},{"$f":"SHALADARPAN!B288","v":"A"},{"$f":"SHALADARPAN!K288","v":801},{"$f":"SHALADARPAN!E288","v":"Aadil Mohammad"},{"$f":"SHALADARPAN!G288","v":"Kailash"}]
[{"$nulls":18},{"$f":"SHALADARPAN!A289","v":8},{"$f":"SHALADARPAN!B289","v":"A"},{"$f":"SHALADARPAN!K289","v":802},{"$f":"SHALADARPAN!E289","v":"AAFREEN BANOO"},{"$f":"SHALADARPAN!G289","v":"Kailash"}]
[{"$nulls":18},{"$f":"SHALADARPAN!A290","v":8},{"$f":"SHALADARPAN!B290","v":"A"},{"$f":"SHALADARPAN!K290","v":803},{"$f":"SHALADARPAN!E290","v":"AASIK"},{"$f":"SHALADARPAN!G290","v":"Kailash"}]
[{"$nulls":18},{"$f":"SHALADARPAN!A291","v":8},{"$f":"SHALADARPAN!B291","v":"A"},{"$f":"SHALADARPAN!K291","v":804},{"$f":"SHALADARPAN!E291","v":"ADITI GURJAR"},{"$f":"SHALADARPAN!G291","v":"Kailash"}]
[{"$nulls":18},{"$f":"SHALADARPAN!A292","v":8},{"$f":"SHALADARPAN!B292","v":"A"},{"$f":"SHALADARPAN!K292","v":805},{"$f":"SHALADARPAN!E292","v":"ALTAPH"},{"$f":"SHALADARPAN!G292","v":"Kailash"}]
[{"$nulls":18},{"$f":"SHALADARPAN!A293","v":8},{"$f":"SHALADARPAN!B293","v":"A"},{"$f":"SHALADARPAN!K293","v":807},{"$f":"SHALADARPAN!E293","v":"ANIL"},{"$f":"SHALADARPAN!G293","v":"Kailash"}]
[{"$nulls":18},{"$f":"SHALADARPAN!A294","v":8},{"$f":"SHALADARPAN!B294","v":"A"},{"$f":"SHALADARPAN!K294","v":808},{"$f":"SHALADARPAN!E294","v":"ANIL"},{"$f":"SHALADARPAN!G294","v":"Kailash"}]
[{"$nulls":18},{"$f":"SHALADARPAN!A295","v":8},{"$f":"SHALADARPAN!B295","v":"A"},{"$f":"SHALADARPAN!K295","v":806},{"$f":"SHALADARPAN!E295","v":"ANIL"},{"$f":"SHALADARPAN!G295","v":"Kailash"}]
[{"$nulls":18},{"$f":"SHALADARPAN!A296","v":8},{"$f":"SHALADARPAN!B296","v":"A"},{"$f":"SHALADARPAN!K296","v":809},{"$f":"SHALADARPAN!E296","v":"ANIL ACHARYA"},{"$f":"SHALADARPAN!G296","v":"Kailash"}]
[{"$nulls":18},{"$f":"SHALADARPAN!A297","v":8},{"$f":"SHALADARPAN!B297","v":"A"},{"$f":"SHALADARPAN!K297","v":810},{"$f":"SHALADARPAN!E297","v":"ANKIT"},{"$f":"SHALADARPAN!G297","v":"Kailash"}]
[{"$nulls":18},{"$f":"SHALADARPAN!A298","v":8},{"$f":"SHALADARPAN!B298","v":"A"},{"$f":"SHALADARPAN!K298","v":811},{"$f":"SHALADARPAN!E298","v":"ANWAR"},{"$f":"SHALADARPAN!G298","v":"Kailash"}]
[{"$nulls":18},{"$f":"SHALADARPAN!A299","v":8},{"$f":"SHALADARPAN!B299","v":"A"},{"$f":"SHALADARPAN!K299","v":812},{"$f":"SHALADARPAN!E299","v":"ARBAJ"},{"$f":"SHALADARPAN!G299","v":"Kailash"}]
[{"$nulls":18},{"$f":"SHALADARPAN!A300","v":8},{"$f":"SHALADARPAN!B300","v":"A"},{"$f":"SHALADARPAN!K300","v":813},{"$f":"SHALADARPAN!E300","v":"ASHISH JANGID"},{"$f":"SHALADARPAN!G300","v":"Kailash"}]
[{"$nulls":18},{"$f":"SHALADARPAN!A301","v":8},{"$f":"SHALADARPAN!B301","v":"A"},{"$f":"SHALADARPAN!K301","v":814},{"$f":"SHALADARPAN!E301","v":"BHARAT CHOKIDAR"},{"$f":"SHALADARPAN!G301","v":"Kailash"}]
[{"$nulls":18},{"$f":"SHALADARPAN!A302","v":8},{"$f":"SHALADARPAN!B302","v":"A"},{"$f":"SHALADARPAN!K302","v":815},{"$f":"SHALADARPAN!E302","v":"DHAN RAJ"},{"$f":"SHALADARPAN!G302","v":"Kailash"}]
[{"$nulls":18},{"$f":"SHALADARPAN!A303","v":8},{"$f":"SHALADARPAN!B303","v":"A"},{"$f":"SHALADARPAN!K303","v":816},{"$f":"SHALADARPAN!E303","v":"DILEEP KUMAWAT"},{"$f":"SHALADARPAN!G303","v":"Kailash"}]
[{"$nulls":18},{"$f":"SHALADARPAN!A304","v":8},{"$f":"SHALADARPAN!B304","v":"A"},{"$f":"SHALADARPAN!K304","v":817},{"$f":"SHALADARPAN!E304","v":"DILIP CHOKIDAR"},{"$f":"SHALADARPAN!G304","v":"Kailash"}]
[{"$nulls":18},{"$f":"SHALADARPAN!A305","v":8},{"$f":"SHALADARPAN!B305","v":"A"},{"$f":"SHALADARPAN!K305","v":818},{"$f":"SHALADARPAN!E305","v":"DIVYA"},{"$f":"SHALADARPAN!G305","v":"Kailash"}]
[{"$nulls":18},{"$f":"SHALADARPAN!A306","v":8},{"$f":"SHALADARPAN!B306","v":"A"},{"$f":"SHALADARPAN!K306","v":819},{"$f":"SHALADARPAN!E306","v":"GUNGUN SAINI"},{"$f":"SHALADARPAN!G306","v":"Kailash"}]
[{"$nulls":18},{"$f":"SHALADARPAN!A307","v":8},{"$f":"SHALADARPAN!B307","v":"A"},{"$f":"SHALADARPAN!K307","v":820},{"$f":"SHALADARPAN!E307","v":"HANUMAN NATH"},{"$f":"SHALADARPAN!G307","v":"Kailash"}]
[{"$nulls":18},{"$f":"SHALADARPAN!A308","v":8},{"$f":"SHALADARPAN!B308","v":"A"},{"$f":"SHALADARPAN!K308","v":821},{"$f":"SHALADARPAN!E308","v":"HEENA BANOO"},{"$f":"SHALADARPAN!G308","v":"Kailash"}]
[{"$nulls":18},{"$f":"SHALADARPAN!A309","v":8},{"$f":"SHALADARPAN!B309","v":"A"},{"$f":"SHALADARPAN!K309","v":822},{"$f":"SHALADARPAN!E309","v":"Heena Banu"},{"$f":"SHALADARPAN!G309","v":"Kailash"}]
[{"$nulls":18},{"$f":"SHALADARPAN!A310","v":8},{"$f":"SHALADARPAN!B310","v":"A"},{"$f":"SHALADARPAN!K310","v":823},{"$f":"SHALADARPAN!E310","v":"HUSAIN MOH."},{"$f":"SHALADARPAN!G310","v":"Kailash"}]
[{"$nulls":18},{"$f":"SHALADARPAN!A311","v":8},{"$f":"SHALADARPAN!B311","v":"A"},{"$f":"SHALADARPAN!K311","v":824},{"$f":"SHALADARPAN!E311","v":"ISHRAT BANOO"},{"$f":"SHALADARPAN!G311","v":"Kailash"}]
[{"$nulls":18},{"$f":"SHALADARPAN!A312","v":8},{"$f":"SHALADARPAN!B312","v":"A"},{"$f":"SHALADARPAN!K312","v":825},{"$f":"SHALADARPAN!E312","v":"Jabid Husain"},{"$f":"SHALADARPAN!G312","v":"Kailash"}]
[{"$nulls":18},{"$f":"SHALADARPAN!A313","v":8},{"$f":"SHALADARPAN!B313","v":"A"},{"$f":"SHALADARPAN!K313","v":826},{"$f":"SHALADARPAN!E313","v":"JITENDRA AACHARYA"},{"$f":"SHALADARPAN!G313","v":"Kailash"}]
[{"$nulls":18},{"$f":"SHALADARPAN!A314","v":8},{"$f":"SHALADARPAN!B314","v":"A"},{"$f":"SHALADARPAN!K314","v":827},{"$f":"SHALADARPAN!E314","v":"KANHIYALAL"},{"$f":"SHALADARPAN!G314","v":"Kailash"}]
[{"$nulls":18},{"$f":"SHALADARPAN!A315","v":8},{"$f":"SHALADARPAN!B315","v":"A"},{"$f":"SHALADARPAN!K315","v":828},{"$f":"SHALADARPAN!E315","v":"KHEMRAJ SAINI"},{"$f":"SHALADARPAN!G315","v":"Kailash"}]
[{"$nulls":18},{"$f":"SHALADARPAN!A316","v":8},{"$f":"SHALADARPAN!B316","v":"A"},{"$f":"SHALADARPAN!K316","v":830},{"$f":"SHALADARPAN!E316","v":"KIRAN BAWARI"},{"$f":"SHALADARPAN!G316","v":"Kailash"}]
[{"$nulls":18},{"$f":"SHALADARPAN!A317","v":8},{"$f":"SHALADARPAN!B317","v":"A"},{"$f":"SHALADARPAN!K317","v":829},{"$f":"SHALADARPAN!E317","v":"KIRAN BAWARI"},{"$f":"SHALADARPAN!G317","v":"Kailash"}]
[{"$nulls":18},{"$f":"SHALADARPAN!A318","v":8},{"$f":"SHALADARPAN!B318","v":"A"},{"$f":"SHALADARPAN!K318","v":831},{"$f":"SHALADARPAN!E318","v":"MAMTA"},{"$f":"SHALADARPAN!G318","v":"Kailash"}]
[{"$nulls":18},{"$f":"SHALADARPAN!A319","v":8},{"$f":"SHALADARPAN!B319","v":"A"},{"$f":"SHALADARPAN!K319","v":832},{"$f":"SHALADARPAN!E319","v":"MANISH GURJAR"},{"$f":"SHALADARPAN!G319","v":"Kailash"}]
[{"$nulls":18},{"$f":"SHALADARPAN!A320","v":8},{"$f":"SHALADARPAN!B320","v":"A"},{"$f":"SHALADARPAN!K320","v":833},{"$f":"SHALADARPAN!E320","v":"MANOHAR LAL"},{"$f":"SHALADARPAN!G320","v":"Kailash"}]
[{"$nulls":18},{"$f":"SHALADARPAN!A321","v":8},{"$f":"SHALADARPAN!B321","v":"A"},{"$f":"SHALADARPAN!K321","v":834},{"$f":"SHALADARPAN!E321","v":"Manoj"},{"$f":"SHALADARPAN!G321","v":"Kailash"}]
[{"$nulls":18},{"$f":"SHALADARPAN!A322","v":8},{"$f":"SHALADARPAN!B322","v":"A"},{"$f":"SHALADARPAN!K322","v":835},{"$f":"SHALADARPAN!E322","v":"MANU KANWAR"},{"$f":"SHALADARPAN!G322","v":"Kailash"}]
[{"$nulls":18},{"$f":"SHALADARPAN!A323","v":8},{"$f":"SHALADARPAN!B323","v":"A"},{"$f":"SHALADARPAN!K323","v":836},{"$f":"SHALADARPAN!E323","v":"MAYA DEVI"},{"$f":"SHALADARPAN!G323","v":"Kailash"}]
[{"$nulls":18},{"$f":"SHALADARPAN!A324","v":8},{"$f":"SHALADARPAN!B324","v":"A"},{"$f":"SHALADARPAN!K324","v":837},{"$f":"SHALADARPAN!E324","v":"MOHD.KHALEEL"},{"$f":"SHALADARPAN!G324","v":"Kailash"}]
[{"$nulls":18},{"$f":"SHALADARPAN!A325","v":8},{"$f":"SHALADARPAN!B325","v":"A"},{"$f":"SHALADARPAN!K325","v":838},{"$f":"SHALADARPAN!E325","v":"MOHIT ACHARYA"},{"$f":"SHALADARPAN!G325","v":"Kailash"}]
[{"$nulls":18},{"$f":"SHALADARPAN!A326","v":8},{"$f":"SHALADARPAN!B326","v":"A"},{"$f":"SHALADARPAN!K326","v":839},{"$f":"SHALADARPAN!E326","v":"MONIKA"},{"$f":"SHALADARPAN!G326","v":"Kailash"}]
[{"$nulls":18},{"$f":"SHALADARPAN!A327","v":8},{"$f":"SHALADARPAN!B327","v":"A"},{"$f":"SHALADARPAN!K327","v":840},{"$f":"SHALADARPAN!E327","v":"MONIKA"},{"$f":"SHALADARPAN!G327","v":"Kailash"}]
[{"$nulls":18},{"$f":"SHALADARPAN!A328","v":8},{"$f":"SHALADARPAN!B328","v":"A"},{"$f":"SHALADARPAN!K328","v":841},{"$f":"SHALADARPAN!E328","v":"NASEEM BANOO"},{"$f":"SHALADARPAN!G328","v":"Kailash"}]
[{"$nulls":18},{"$f":"SHALADARPAN!A329","v":8},{"$f":"SHALADARPAN!B329","v":"A"},{"$f":"SHALADARPAN!K329","v":842},{"$f":"SHALADARPAN!E329","v":"NISHA NATH"},{"$f":"SHALADARPAN!G329","v":"Kailash"}]
[{"$nulls":18},{"$f":"SHALADARPAN!A330","v":8},{"$f":"SHALADARPAN!B330","v":"A"},{"$f":"SHALADARPAN!K330","v":843},{"$f":"SHALADARPAN!E330","v":"Nitesh Saini"},{"$f":"SHALADARPAN!G330","v":"Kailash"}]
[{"$nulls":18},{"$f":"SHALADARPAN!A331","v":8},{"$f":"SHALADARPAN!B331","v":"A"},{"$f":"SHALADARPAN!K331","v":844},{"$f":"SHALADARPAN!E331","v":"PALAK KANWAR"},{"$f":"SHALADARPAN!G331","v":"Kailash"}]
[{"$nulls":18},{"$f":"SHALADARPAN!A332","v":8},{"$f":"SHALADARPAN!B332","v":"A"},{"$f":"SHALADARPAN!K332","v":845},{"$f":"SHALADARPAN!E332","v":"Pankaj Puri"},{"$f":"SHALADARPAN!G332","v":"Kailash"}]
[{"$nulls":18},{"$f":"SHALADARPAN!A333","v":8},{"$f":"SHALADARPAN!B333","v":"A"},{"$f":"SHALADARPAN!K333","v":846},{"$f":"SHALADARPAN!E333","v":"POOJA"},{"$f":"SHALADARPAN!G333","v":"Kailash"}]
[{"$nulls":18},{"$f":"SHALADARPAN!A334","v":8},{"$f":"SHALADARPAN!B334","v":"A"},{"$f":"SHALADARPAN!K334","v":847},{"$f":"SHALADARPAN!E334","v":"POOJA BAWARI"},{"$f":"SHALADARPAN!G334","v":"Kailash"}]
[{"$nulls":18},{"$f":"SHALADARPAN!A335","v":8},{"$f":"SHALADARPAN!B335","v":"A"},{"$f":"SHALADARPAN!K335","v":848},{"$f":"SHALADARPAN!E335","v":"PRAKASH"},{"$f":"SHALADARPAN!G335","v":"Kailash"}]
[{"$nulls":18},{"$f":"SHALADARPAN!A336","v":8},{"$f":"SHALADARPAN!B336","v":"A"},{"$f":"SHALADARPAN!K336","v":849},{"$f":"SHALADARPAN!E336","v":"Radhika Vaishnav"},{"$f":"SHALADARPAN!G336","v":"Kailash"}]
[{"$nulls":18},{"$f":"SHALADARPAN!A337","v":8},{"$f":"SHALADARPAN!B337","v":"A"},{"$f":"SHALADARPAN!K337","v":850},{"$f":"SHALADARPAN!E337","v":"Rajdeep"},{"$f":"SHALADARPAN!G337","v":"Kailash"}]
[{"$nulls":18},{"$f":"SHALADARPAN!A338","v":8},{"$f":"SHALADARPAN!B338","v":"A"},{"$f":"SHALADARPAN!K338","v":851},{"$f":"SHALADARPAN!E338","v":"RAKESH BAVARI"},{"$f":"SHALADARPAN!G338","v":"Kailash"}]
[{"$nulls":18},{"$f":"SHALADARPAN!A339","v":8},{"$f":"SHALADARPAN!B339","v":"A"},{"$f":"SHALADARPAN!K339","v":852},{"$f":"SHALADARPAN!E339","v":"RAKHI KANWAR"},{"$f":"SHALADARPAN!G339","v":"Kailash"}]
[{"$nulls":18},{"$f":"SHALADARPAN!A340","v":8},{"$f":"SHALADARPAN!B340","v":"A"},{"$f":"SHALADARPAN!K340","v":853},{"$f":"SHALADARPAN!E340","v":"RESHMA BANOO"},{"$f":"SHALADARPAN!G340","v":"Kailash"}]
[{"$nulls":18},{"$f":"SHALADARPAN!A341","v":8},{"$f":"SHALADARPAN!B341","v":"A"},{"$f":"SHALADARPAN!K341","v":854},{"$f":"SHALADARPAN!E341","v":"RUBANA BANU"},{"$f":"SHALADARPAN!G341","v":"Kailash"}]
[{"$nulls":18},{"$f":"SHALADARPAN!A342","v":8},{"$f":"SHALADARPAN!B342","v":"A"},{"$f":"SHALADARPAN!K342","v":855},{"$f":"SHALADARPAN!E342","v":"Sabir Ali"},{"$f":"SHALADARPAN!G342","v":"Kailash"}]
[{"$nulls":18},{"$f":"SHALADARPAN!A343","v":8},{"$f":"SHALADARPAN!B343","v":"A"},{"$f":"SHALADARPAN!K343","v":856},{"$f":"SHALADARPAN!E343","v":"SAHUKAR"},{"$f":"SHALADARPAN!G343","v":"Kailash"}]
[{"$nulls":18},{"$f":"SHALADARPAN!A344","v":8},{"$f":"SHALADARPAN!B344","v":"A"},{"$f":"SHALADARPAN!K344","v":857},{"$f":"SHALADARPAN!E344","v":"SALMA BANOO"},{"$f":"SHALADARPAN!G344","v":"Kailash"}]
[{"$nulls":18},{"$f":"SHALADARPAN!A345","v":8},{"$f":"SHALADARPAN!B345","v":"A"},{"$f":"SHALADARPAN!K345","v":858},{"$f":"SHALADARPAN!E345","v":"SANIYA BANOO"},{"$f":"SHALADARPAN!G345","v":"Kailash"}]
[{"$nulls":18},{"$f":"SHALADARPAN!A346","v":8},{"$f":"SHALADARPAN!B346","v":"A"},{"$f":"SHALADARPAN!K346","v":859},{"$f":"SHALADARPAN!E346","v":"SANJAY KHAN"},{"$f":"SHALADARPAN!G346","v":"Kailash"}]
[{"$nulls":18},{"$f":"SHALADARPAN!A347","v":8},{"$f":"SHALADARPAN!B347","v":"A"},{"$f":"SHALADARPAN!K347","v":860},{"$f":"SHALADARPAN!E347","v":"SAPNA GURJAR"},{"$f":"SHALADARPAN!G347","v":"Kailash"}]
[{"$nulls":18},{"$f":"SHALADARPAN!A348","v":8},{"$f":"SHALADARPAN!B348","v":"A"},{"$f":"SHALADARPAN!K348","v":861},{"$f":"SHALADARPAN!E348","v":"SEEMA DEVI"},{"$f":"SHALADARPAN!G348","v":"Kailash"}]
[{"$nulls":18},{"$f":"SHALADARPAN!A349","v":8},{"$f":"SHALADARPAN!B349","v":"A"},{"$f":"SHALADARPAN!K349","v":862},{"$f":"SHALADARPAN!E349","v":"SHOHIL"},{"$f":"SHALADARPAN!G349","v":"Kailash"}]
[{"$nulls":18},{"$f":"SHALADARPAN!A350","v":8},{"$f":"SHALADARPAN!B350","v":"A"},{"$f":"SHALADARPAN!K350","v":863},{"$f":"SHALADARPAN!E350","v":"Shubham Acharya"},{"$f":"SHALADARPAN!G350","v":"Kailash"}]
[{"$nulls":18},{"$f":"SHALADARPAN!A351","v":8},{"$f":"SHALADARPAN!B351","v":"A"},{"$f":"SHALADARPAN!K351","v":864},{"$f":"SHALADARPAN!E351","v":"SUJITA"},{"$f":"SHALADARPAN!G351","v":"Kailash"}]
[{"$nulls":18},{"$f":"SHALADARPAN!A352","v":8},{"$f":"SHALADARPAN!B352","v":"A"},{"$f":"SHALADARPAN!K352","v":865},{"$f":"SHALADARPAN!E352","v":"Sunil Saini"},{"$f":"SHALADARPAN!G352","v":"Kailash"}]
[{"$nulls":18},{"$f":"SHALADARPAN!A353","v":8},{"$f":"SHALADARPAN!B353","v":"A"},{"$f":"SHALADARPAN!K353","v":866},{"$f":"SHALADARPAN!E353","v":"SUNIL SAINI"},{"$f":"SHALADARPAN!G353","v":"Kailash"}]
[{"$nulls":18},{"$f":"SHALADARPAN!A354","v":8},{"$f":"SHALADARPAN!B354","v":"A"},{"$f":"SHALADARPAN!K354","v":867},{"$f":"SHALADARPAN!E354","v":"Sushil Kumar"},{"$f":"SHALADARPAN!G354","v":"Kailash"}]
[{"$nulls":18},{"$f":"SHALADARPAN!A355","v":8},{"$f":"SHALADARPAN!B355","v":"A"},{"$f":"SHALADARPAN!K355","v":868},{"$f":"SHALADARPAN!E355","v":"Tanvi Singh"},{"$f":"SHALADARPAN!G355","v":"Kailash"}]
[{"$nulls":18},{"$f":"SHALADARPAN!A356","v":8},{"$f":"SHALADARPAN!B356","v":"A"},{"$f":"SHALADARPAN!K356","v":869},{"$f":"SHALADARPAN!E356","v":"TEENA AACHARYA"},{"$f":"SHALADARPAN!G356","v":"Kailash"}]
[{"$nulls":18},{"$f":"SHALADARPAN!A357","v":9},{"$f":"SHALADARPAN!B357","v":"A"},{"$f":"SHALADARPAN!K357","v":901},{"$f":"SHALADARPAN!E357","v":"Aakash Suwasiya"},{"$f":"SHALADARPAN!G357","v":"Kailash"}]
[{"$nulls":18},{"$f":"SHALADARPAN!A358","v":9},{"$f":"SHALADARPAN!B358","v":"A"},{"$f":"SHALADARPAN!K358","v":902},{"$f":"SHALADARPAN!E358","v":"AASIF ALI"},{"$f":"SHALADARPAN!G358","v":"Kailash"}]
[{"$nulls":18},{"$f":"SHALADARPAN!A359","v":9},{"$f":"SHALADARPAN!B359","v":"A"},{"$f":"SHALADARPAN!K359","v":903},{"$f":"SHALADARPAN!E359","v":"Abdul Hameed"},{"$f":"SHALADARPAN!G359","v":"Kailash"}]
[{"$nulls":18},{"$f":"SHALADARPAN!A360","v":9},{"$f":"SHALADARPAN!B360","v":"A"},{"$f":"SHALADARPAN!K360","v":904},{"$f":"SHALADARPAN!E360","v":"AJAY"},{"$f":"SHALADARPAN!G360","v":"Kailash"}]
[{"$nulls":18},{"$f":"SHALADARPAN!A361","v":9},{"$f":"SHALADARPAN!B361","v":"A"},{"$f":"SHALADARPAN!K361","v":905},{"$f":"SHALADARPAN!E361","v":"Alkesh Dagdi"},{"$f":"SHALADARPAN!G361","v":"Kailash"}]
[{"$nulls":18},{"$f":"SHALADARPAN!A362","v":9},{"$f":"SHALADARPAN!B362","v":"A"},{"$f":"SHALADARPAN!K362","v":606},{"$f":"SHALADARPAN!E362","v":"Anil Kumar"},{"$f":"SHALADARPAN!G362","v":"Kailash"}]
[{"$nulls":18},{"$f":"SHALADARPAN!A363","v":9},{"$f":"SHALADARPAN!B363","v":"A"},{"$f":"SHALADARPAN!K363","v":907},{"$f":"SHALADARPAN!E363","v":"ANITA MALI"},{"$f":"SHALADARPAN!G363","v":"Kailash"}]
[{"$nulls":18},{"$f":"SHALADARPAN!A364","v":9},{"$f":"SHALADARPAN!B364","v":"A"},{"$f":"SHALADARPAN!K364","v":908},{"$f":"SHALADARPAN!E364","v":"Ankit Parihar"},{"$f":"SHALADARPAN!G364","v":"Kailash"}]
[{"$nulls":18},{"$f":"SHALADARPAN!A365","v":9},{"$f":"SHALADARPAN!B365","v":"A"},{"$f":"SHALADARPAN!K365","v":909},{"$f":"SHALADARPAN!E365","v":"ASHOK CHOKIDAR"},{"$f":"SHALADARPAN!G365","v":"Kailash"}]
[{"$nulls":18},{"$f":"SHALADARPAN!A366","v":9},{"$f":"SHALADARPAN!B366","v":"A"},{"$f":"SHALADARPAN!K366","v":911},{"$f":"SHALADARPAN!E366","v":"DEEPAK KUMAWAT"},{"$f":"SHALADARPAN!G366","v":"Kailash"}]
[{"$nulls":18},{"$f":"SHALADARPAN!A367","v":9},{"$f":"SHALADARPAN!B367","v":"A"},{"$f":"SHALADARPAN!K367","v":913},{"$f":"SHALADARPAN!E367","v":"DEVENDRA KUDI"},{"$f":"SHALADARPAN!G367","v":"Kailash"}]
[{"$nulls":18},{"$f":"SHALADARPAN!A368","v":9},{"$f":"SHALADARPAN!B368","v":"A"},{"$f":"SHALADARPAN!K368","v":915},{"$f":"SHALADARPAN!E368","v":"Dilu Devi Gurjar"},{"$f":"SHALADARPAN!G368","v":"Kailash"}]
[{"$nulls":18},{"$f":"SHALADARPAN!A369","v":9},{"$f":"SHALADARPAN!B369","v":"A"},{"$f":"SHALADARPAN!K369","v":916},{"$f":"SHALADARPAN!E369","v":"DINESH CHOKIDAR"},{"$f":"SHALADARPAN!G369","v":"Kailash"}]
[{"$nulls":18},{"$f":"SHALADARPAN!A370","v":9},{"$f":"SHALADARPAN!B370","v":"A"},{"$f":"SHALADARPAN!K370","v":917},{"$f":"SHALADARPAN!E370","v":"Gopal Saini"},{"$f":"SHALADARPAN!G370","v":"Kailash"}]
[{"$nulls":18},{"$f":"SHALADARPAN!A371","v":9},{"$f":"SHALADARPAN!B371","v":"A"},{"$f":"SHALADARPAN!K371","v":920},{"$f":"SHALADARPAN!E371","v":"Jatin Jorawal"},{"$f":"SHALADARPAN!G371","v":"Kailash"}]
[{"$nulls":18},{"$f":"SHALADARPAN!A372","v":9},{"$f":"SHALADARPAN!B372","v":"A"},{"$f":"SHALADARPAN!K372","v":921},{"$f":"SHALADARPAN!E372","v":"KAILASH"},{"$f":"SHALADARPAN!G372","v":"Kailash"}]
[{"$nulls":18},{"$f":"SHALADARPAN!A373","v":9},{"$f":"SHALADARPAN!B373","v":"A"},{"$f":"SHALADARPAN!K373","v":922},{"$f":"SHALADARPAN!E373","v":"KAVITA SAINI"},{"$f":"SHALADARPAN!G373","v":"Kailash"}]
[{"$nulls":18},{"$f":"SHALADARPAN!A374","v":9},{"$f":"SHALADARPAN!B374","v":"A"},{"$f":"SHALADARPAN!K374","v":923},{"$f":"SHALADARPAN!E374","v":"KHALID MOHAMMAD RANGREJ"},{"$f":"SHALADARPAN!G374","v":"Kailash"}]
[{"$nulls":18},{"$f":"SHALADARPAN!A375","v":9},{"$f":"SHALADARPAN!B375","v":"A"},{"$f":"SHALADARPAN!K375","v":924},{"$f":"SHALADARPAN!E375","v":"KHUSHBOO KANWAR"},{"$f":"SHALADARPAN!G375","v":"Kailash"}]
[{"$nulls":18},{"$f":"SHALADARPAN!A376","v":9},{"$f":"SHALADARPAN!B376","v":"A"},{"$f":"SHALADARPAN!K376","v":925},{"$f":"SHALADARPAN!E376","v":"KULDEEP SINGH"},{"$f":"SHALADARPAN!G376","v":"Kailash"}]
[{"$nulls":18},{"$f":"SHALADARPAN!A377","v":9},{"$f":"SHALADARPAN!B377","v":"A"},{"$f":"SHALADARPAN!K377","v":926},{"$f":"SHALADARPAN!E377","v":"KULDEEP SINGH"},{"$f":"SHALADARPAN!G377","v":"Kailash"}]
[{"$nulls":18},{"$f":"SHALADARPAN!A378","v":9},{"$f":"SHALADARPAN!B378","v":"A"},{"$f":"SHALADARPAN!K378","v":927},{"$f":"SHALADARPAN!E378","v":"Laki Ali"},{"$f":"SHALADARPAN!G378","v":"Kailash"}]
[{"$nulls":18},{"$f":"SHALADARPAN!A379","v":9},{"$f":"SHALADARPAN!B379","v":"A"},{"$f":"SHALADARPAN!K379","v":930},{"$f":"SHALADARPAN!E379","v":"Mukesh Nath"},{"$f":"SHALADARPAN!G379","v":"Kailash"}]
[{"$nulls":18},{"$f":"SHALADARPAN!A380","v":9},{"$f":"SHALADARPAN!B380","v":"A"},{"$f":"SHALADARPAN!K380","v":932},{"$f":"SHALADARPAN!E380","v":"MUSKAN BANOO"},{"$f":"SHALADARPAN!G380","v":"Kailash"}]
[{"$nulls":18},{"$f":"SHALADARPAN!A381","v":9},{"$f":"SHALADARPAN!B381","v":"A"},{"$f":"SHALADARPAN!K381","v":933},{"$f":"SHALADARPAN!E381","v":"MUSKAN MIRASHI"},{"$f":"SHALADARPAN!G381","v":"Kailash"}]
[{"$nulls":18},{"$f":"SHALADARPAN!A382","v":9},{"$f":"SHALADARPAN!B382","v":"A"},{"$f":"SHALADARPAN!K382","v":935},{"$f":"SHALADARPAN!E382","v":"PRAKASH CHAND MALI"},{"$f":"SHALADARPAN!G382","v":"Kailash"}]
[{"$nulls":18},{"$f":"SHALADARPAN!A383","v":9},{"$f":"SHALADARPAN!B383","v":"A"},{"$f":"SHALADARPAN!K383","v":936},{"$f":"SHALADARPAN!E383","v":"Pushpendra Singh"},{"$f":"SHALADARPAN!G383","v":"Kailash"}]
[{"$nulls":18},{"$f":"SHALADARPAN!A384","v":9},{"$f":"SHALADARPAN!B384","v":"A"},{"$f":"SHALADARPAN!K384","v":938},{"$f":"SHALADARPAN!E384","v":"Ravi Choudhary"},{"$f":"SHALADARPAN!G384","v":"Kailash"}]
[{"$nulls":18},{"$f":"SHALADARPAN!A385","v":9},{"$f":"SHALADARPAN!B385","v":"A"},{"$f":"SHALADARPAN!K385","v":939},{"$f":"SHALADARPAN!E385","v":"Rinku Vaishnav"},{"$f":"SHALADARPAN!G385","v":"Kailash"}]
[{"$nulls":18},{"$f":"SHALADARPAN!A386","v":9},{"$f":"SHALADARPAN!B386","v":"A"},{"$f":"SHALADARPAN!K386","v":940},{"$f":"SHALADARPAN!E386","v":"RUBINA"},{"$f":"SHALADARPAN!G386","v":"Kailash"}]
[{"$nulls":18},{"$f":"SHALADARPAN!A387","v":9},{"$f":"SHALADARPAN!B387","v":"A"},{"$f":"SHALADARPAN!K387","v":941},{"$f":"SHALADARPAN!E387","v":"RUKHSAR"},{"$f":"SHALADARPAN!G387","v":"Kailash"}]
[{"$nulls":18},{"$f":"SHALADARPAN!A388","v":9},{"$f":"SHALADARPAN!B388","v":"A"},{"$f":"SHALADARPAN!K388","v":942},{"$f":"SHALADARPAN!E388","v":"Sahina Banu"},{"$f":"SHALADARPAN!G388","v":"Kailash"}]
[{"$nulls":18},{"$f":"SHALADARPAN!A389","v":9},{"$f":"SHALADARPAN!B389","v":"A"},{"$f":"SHALADARPAN!K389","v":944},{"$f":"SHALADARPAN!E389","v":"SAMEER MIRASHI"},{"$f":"SHALADARPAN!G389","v":"Kailash"}]
[{"$nulls":18},{"$f":"SHALADARPAN!A390","v":9},{"$f":"SHALADARPAN!B390","v":"A"},{"$f":"SHALADARPAN!K390","v":945},{"$f":"SHALADARPAN!E390","v":"SAROJ"},{"$f":"SHALADARPAN!G390","v":"Kailash"}]
[{"$nulls":18},{"$f":"SHALADARPAN!A391","v":9},{"$f":"SHALADARPAN!B391","v":"A"},{"$f":"SHALADARPAN!K391","v":946},{"$f":"SHALADARPAN!E391","v":"SATYANARAYAN"},{"$f":"SHALADARPAN!G391","v":"Kailash"}]
[{"$nulls":18},{"$f":"SHALADARPAN!A392","v":9},{"$f":"SHALADARPAN!B392","v":"A"},{"$f":"SHALADARPAN!K392","v":947},{"$f":"SHALADARPAN!E392","v":"SHOHIL HUSAIN"},{"$f":"SHALADARPAN!G392","v":"Kailash"}]
[{"$nulls":18},{"$f":"SHALADARPAN!A393","v":9},{"$f":"SHALADARPAN!B393","v":"A"},{"$f":"SHALADARPAN!K393","v":948},{"$f":"SHALADARPAN!E393","v":"SUMAN"},{"$f":"SHALADARPAN!G393","v":"Kailash"}]
[{"$nulls":18},{"$f":"SHALADARPAN!A394","v":9},{"$f":"SHALADARPAN!B394","v":"A"},{"$f":"SHALADARPAN!K394","v":949},{"$f":"SHALADARPAN!E394","v":"SUMITRA DEVI"},{"$f":"SHALADARPAN!G394","v":"Kailash"}]
[{"$nulls":18},{"$f":"SHALADARPAN!A395","v":9},{"$f":"SHALADARPAN!B395","v":"A"},{"$f":"SHALADARPAN!K395","v":952},{"$f":"SHALADARPAN!E395","v":"SUNIL MEGHWAL"},{"$f":"SHALADARPAN!G395","v":"Kailash"}]
[{"$nulls":18},{"$f":"SHALADARPAN!A396","v":9},{"$f":"SHALADARPAN!B396","v":"A"},{"$f":"SHALADARPAN!K396","v":953},{"$f":"SHALADARPAN!E396","v":"SUNIL MEHRA"},{"$f":"SHALADARPAN!G396","v":"Kailash"}]
[{"$nulls":18},{"$f":"SHALADARPAN!A397","v":9},{"$f":"SHALADARPAN!B397","v":"A"},{"$f":"SHALADARPAN!K397","v":954},{"$f":"SHALADARPAN!E397","v":"SUNIL RAWAL"},{"$f":"SHALADARPAN!G397","v":"Kailash"}]
[{"$nulls":18},{"$f":"SHALADARPAN!A398","v":9},{"$f":"SHALADARPAN!B398","v":"A"},{"$f":"SHALADARPAN!K398","v":955},{"$f":"SHALADARPAN!E398","v":"SUNIL SAINI"},{"$f":"SHALADARPAN!G398","v":"Kailash"}]
[{"$nulls":18},{"$f":"SHALADARPAN!A399","v":9},{"$f":"SHALADARPAN!B399","v":"A"},{"$f":"SHALADARPAN!K399","v":956},{"$f":"SHALADARPAN!E399","v":"SUSHIL SINGODIYA"},{"$f":"SHALADARPAN!G399","v":"Kailash"}]
[{"$nulls":18},{"$f":"SHALADARPAN!A400","v":9},{"$f":"SHALADARPAN!B400","v":"A"},{"$f":"SHALADARPAN!K400","v":957},{"$f":"SHALADARPAN!E400","v":"TARA CHAND"},{"$f":"SHALADARPAN!G400","v":"Kailash"}]
[{"$nulls":18},{"$f":"SHALADARPAN!A401","v":9},{"$f":"SHALADARPAN!B401","v":"A"},{"$f":"SHALADARPAN!K401","v":959},{"$f":"SHALADARPAN!E401","v":"VASEEM"},{"$f":"SHALADARPAN!G401","v":"Kailash"}]
[{"$nulls":18},{"$f":"SHALADARPAN!A402","v":9},{"$f":"SHALADARPAN!B402","v":"A"},{"$f":"SHALADARPAN!K402","v":960},{"$f":"SHALADARPAN!E402","v":"Vikas Tamboli"},{"$f":"SHALADARPAN!G402","v":"Kailash"}]
[{"$nulls":18},{"$f":"SHALADARPAN!A403","v":9},{"$f":"SHALADARPAN!B403","v":"A"},{"$f":"SHALADARPAN!K403","v":961},{"$f":"SHALADARPAN!E403","v":"VIKRAM"},{"$f":"SHALADARPAN!G403","v":"Kailash"}]
[{"$nulls":18},{"$f":"SHALADARPAN!A404","v":9},{"$f":"SHALADARPAN!B404","v":"A"},{"$f":"SHALADARPAN!K404","v":962},{"$f":"SHALADARPAN!E404","v":"VIMALA KUMAWAT"},{"$f":"SHALADARPAN!G404","v":"Kailash"}]
[{"$nulls":18},{"$f":"SHALADARPAN!A405","v":9},{"$f":"SHALADARPAN!B405","v":"A"},{"$f":"SHALADARPAN!K405","v":963},{"$f":"SHALADARPAN!E405","v":"VIRENDRA CHOKIDAR"},{"$f":"SHALADARPAN!G405","v":"Kailash"}]
[{"$nulls":18},{"$f":"SHALADARPAN!A406","v":9},{"$f":"SHALADARPAN!B406","v":"B"},{"$f":"SHALADARPAN!K406","v":1001},{"$f":"SHALADARPAN!E406","v":"AFROJ BANU"},{"$f":"SHALADARPAN!G406","v":"Kailash"}]
[{"$nulls":18},{"$f":"SHALADARPAN!A407","v":9},{"$f":"SHALADARPAN!B407","v":"B"},{"$f":"SHALADARPAN!K407","v":1002},{"$f":"SHALADARPAN!E407","v":"ALTAF MOHAMMAD"},{"$f":"SHALADARPAN!G407","v":"Kailash"}]
[{"$nulls":18},{"$f":"SHALADARPAN!A408","v":9},{"$f":"SHALADARPAN!B408","v":"B"},{"$f":"SHALADARPAN!K408","v":1003},{"$f":"SHALADARPAN!E408","v":"ANNU KANWAR"},{"$f":"SHALADARPAN!G408","v":"Kailash"}]
[{"$nulls":18},{"$f":"SHALADARPAN!A409","v":9},{"$f":"SHALADARPAN!B409","v":"B"},{"$f":"SHALADARPAN!K409","v":1004},{"$f":"SHALADARPAN!E409","v":"Arpit Tailor"},{"$f":"SHALADARPAN!G409","v":"Kailash"}]
[{"$nulls":18},{"$f":"SHALADARPAN!A410","v":9},{"$f":"SHALADARPAN!B410","v":"B"},{"$f":"SHALADARPAN!K410","v":1005},{"$f":"SHALADARPAN!E410","v":"Ashraf Ali"},{"$f":"SHALADARPAN!G410","v":"Kailash"}]
[{"$nulls":18},{"$f":"SHALADARPAN!A411","v":9},{"$f":"SHALADARPAN!B411","v":"B"},{"$f":"SHALADARPAN!K411","v":1006},{"$f":"SHALADARPAN!E411","v":"BALRAM GURJAR"},{"$f":"SHALADARPAN!G411","v":"Kailash"}]
[{"$nulls":18},{"$f":"SHALADARPAN!A412","v":9},{"$f":"SHALADARPAN!B412","v":"B"},{"$f":"SHALADARPAN!K412","v":1007},{"$f":"SHALADARPAN!E412","v":"BASANTI"},{"$f":"SHALADARPAN!G412","v":"Kailash"}]
[{"$nulls":18},{"$f":"SHALADARPAN!A413","v":9},{"$f":"SHALADARPAN!B413","v":"B"},{"$f":"SHALADARPAN!K413","v":1008},{"$f":"SHALADARPAN!E413","v":"Chanchal Saini"},{"$f":"SHALADARPAN!G413","v":"Kailash"}]
[{"$nulls":18},{"$f":"SHALADARPAN!A414","v":9},{"$f":"SHALADARPAN!B414","v":"B"},{"$f":"SHALADARPAN!K414","v":1009},{"$f":"SHALADARPAN!E414","v":"CHANCHAL KUMAWAT"},{"$f":"SHALADARPAN!G414","v":"Kailash"}]
[{"$nulls":18},{"$f":"SHALADARPAN!A415","v":9},{"$f":"SHALADARPAN!B415","v":"B"},{"$f":"SHALADARPAN!K415","v":1010},{"$f":"SHALADARPAN!E415","v":"Cheteswar Jhala"},{"$f":"SHALADARPAN!G415","v":"Kailash"}]
[{"$nulls":18},{"$f":"SHALADARPAN!A416","v":9},{"$f":"SHALADARPAN!B416","v":"B"},{"$f":"SHALADARPAN!K416","v":1011},{"$f":"SHALADARPAN!E416","v":"Deepika Prajapat"},{"$f":"SHALADARPAN!G416","v":"Kailash"}]
[{"$nulls":18},{"$f":"SHALADARPAN!A417","v":9},{"$f":"SHALADARPAN!B417","v":"B"},{"$f":"SHALADARPAN!K417","v":1012},{"$f":"SHALADARPAN!E417","v":"Devendra Singh"},{"$f":"SHALADARPAN!G417","v":"Kailash"}]
[{"$nulls":18},{"$f":"SHALADARPAN!A418","v":9},{"$f":"SHALADARPAN!B418","v":"B"},{"$f":"SHALADARPAN!K418","v":1013},{"$f":"SHALADARPAN!E418","v":"Dinesh Saini"},{"$f":"SHALADARPAN!G418","v":"Kailash"}]
[{"$nulls":18},{"$f":"SHALADARPAN!A419","v":9},{"$f":"SHALADARPAN!B419","v":"B"},{"$f":"SHALADARPAN!K419","v":1014},{"$f":"SHALADARPAN!E419","v":"GHANSHYAM RAVAL"},{"$f":"SHALADARPAN!G419","v":"Kailash"}]
[{"$nulls":18},{"$f":"SHALADARPAN!A420","v":9},{"$f":"SHALADARPAN!B420","v":"B"},{"$f":"SHALADARPAN!K420","v":1015},{"$f":"SHALADARPAN!E420","v":"GUDDI"},{"$f":"SHALADARPAN!G420","v":"Kailash"}]
[{"$nulls":18},{"$f":"SHALADARPAN!A421","v":9},{"$f":"SHALADARPAN!B421","v":"B"},{"$f":"SHALADARPAN!K421","v":915},{"$f":"SHALADARPAN!E421","v":"GULBAR BANU"},{"$f":"SHALADARPAN!G421","v":"Kailash"}]
[{"$nulls":18},{"$f":"SHALADARPAN!A422","v":9},{"$f":"SHALADARPAN!B422","v":"B"},{"$f":"SHALADARPAN!K422","v":1016},{"$f":"SHALADARPAN!E422","v":"Hansa Devi"},{"$f":"SHALADARPAN!G422","v":"Kailash"}]
[{"$nulls":18},{"$f":"SHALADARPAN!A423","v":9},{"$f":"SHALADARPAN!B423","v":"B"},{"$f":"SHALADARPAN!K423","v":1017},{"$f":"SHALADARPAN!E423","v":"Hanuman Ram"},{"$f":"SHALADARPAN!G423","v":"Kailash"}]
[{"$nulls":18},{"$f":"SHALADARPAN!A424","v":9},{"$f":"SHALADARPAN!B424","v":"B"},{"$f":"SHALADARPAN!K424","v":1018},{"$f":"SHALADARPAN!E424","v":"Harendra Saini"},{"$f":"SHALADARPAN!G424","v":"Kailash"}]
[{"$nulls":18},{"$f":"SHALADARPAN!A425","v":9},{"$f":"SHALADARPAN!B425","v":"B"},{"$f":"SHALADARPAN!K425","v":1019},{"$f":"SHALADARPAN!E425","v":"Hari Ram"},{"$f":"SHALADARPAN!G425","v":"Kailash"}]
[{"$nulls":18},{"$f":"SHALADARPAN!A426","v":9},{"$f":"SHALADARPAN!B426","v":"B"},{"$f":"SHALADARPAN!K426","v":1020},{"$f":"SHALADARPAN!E426","v":"HASMATI BANO"},{"$f":"SHALADARPAN!G426","v":"Kailash"}]
[{"$nulls":18},{"$f":"SHALADARPAN!A427","v":9},{"$f":"SHALADARPAN!B427","v":"B"},{"$f":"SHALADARPAN!K427","v":1021},{"$f":"SHALADARPAN!E427","v":"JAIPAL SINGH"},{"$f":"SHALADARPAN!G427","v":"Kailash"}]
[{"$nulls":18},{"$f":"SHALADARPAN!A428","v":9},{"$f":"SHALADARPAN!B428","v":"B"},{"$f":"SHALADARPAN!K428","v":1022},{"$f":"SHALADARPAN!E428","v":"Jay Shree Prajapat"},{"$f":"SHALADARPAN!G428","v":"Kailash"}]
[{"$nulls":18},{"$f":"SHALADARPAN!A429","v":9},{"$f":"SHALADARPAN!B429","v":"B"},{"$f":"SHALADARPAN!K429","v":1023},{"$f":"SHALADARPAN!E429","v":"KAJOO DEVI"},{"$f":"SHALADARPAN!G429","v":"Kailash"}]
[{"$nulls":18},{"$f":"SHALADARPAN!A430","v":9},{"$f":"SHALADARPAN!B430","v":"B"},{"$f":"SHALADARPAN!K430","v":1024},{"$f":"SHALADARPAN!E430","v":"KANCHAN DEVI"},{"$f":"SHALADARPAN!G430","v":"Kailash"}]
[{"$nulls":18},{"$f":"SHALADARPAN!A431","v":9},{"$f":"SHALADARPAN!B431","v":"B"},{"$f":"SHALADARPAN!K431","v":1025},{"$f":"SHALADARPAN!E431","v":"KAVITA KUMAWAT"},{"$f":"SHALADARPAN!G431","v":"Kailash"}]
[{"$nulls":18},{"$f":"SHALADARPAN!A432","v":9},{"$f":"SHALADARPAN!B432","v":"B"},{"$f":"SHALADARPAN!K432","v":1026},{"$f":"SHALADARPAN!E432","v":"KOMAL"},{"$f":"SHALADARPAN!G432","v":"Kailash"}]
[{"$nulls":18},{"$f":"SHALADARPAN!A433","v":9},{"$f":"SHALADARPAN!B433","v":"B"},{"$f":"SHALADARPAN!K433","v":1027},{"$f":"SHALADARPAN!E433","v":"Komal Kanwar"},{"$f":"SHALADARPAN!G433","v":"Kailash"}]
[{"$nulls":18},{"$f":"SHALADARPAN!A434","v":9},{"$f":"SHALADARPAN!B434","v":"B"},{"$f":"SHALADARPAN!K434","v":1028},{"$f":"SHALADARPAN!E434","v":"KOMAL MALI"},{"$f":"SHALADARPAN!G434","v":"Kailash"}]
[{"$nulls":18},{"$f":"SHALADARPAN!A435","v":9},{"$f":"SHALADARPAN!B435","v":"B"},{"$f":"SHALADARPAN!K435","v":1029},{"$f":"SHALADARPAN!E435","v":"Laxmi"},{"$f":"SHALADARPAN!G435","v":"Kailash"}]
[{"$nulls":18},{"$f":"SHALADARPAN!A436","v":9},{"$f":"SHALADARPAN!B436","v":"B"},{"$f":"SHALADARPAN!K436","v":1030},{"$f":"SHALADARPAN!E436","v":"LAXMI KUMARI"},{"$f":"SHALADARPAN!G436","v":"Kailash"}]
[{"$nulls":18},{"$f":"SHALADARPAN!A437","v":9},{"$f":"SHALADARPAN!B437","v":"B"},{"$f":"SHALADARPAN!K437","v":1031},{"$f":"SHALADARPAN!E437","v":"MAMTA"},{"$f":"SHALADARPAN!G437","v":"Kailash"}]
[{"$nulls":18},{"$f":"SHALADARPAN!A438","v":9},{"$f":"SHALADARPAN!B438","v":"B"},{"$f":"SHALADARPAN!K438","v":1032},{"$f":"SHALADARPAN!E438","v":"MANISHA SAINI"},{"$f":"SHALADARPAN!G438","v":"Kailash"}]
[{"$nulls":18},{"$f":"SHALADARPAN!A439","v":9},{"$f":"SHALADARPAN!B439","v":"B"},{"$f":"SHALADARPAN!K439","v":1033},{"$f":"SHALADARPAN!E439","v":"MAYA RAIDAS"},{"$f":"SHALADARPAN!G439","v":"Kailash"}]
[{"$nulls":18},{"$f":"SHALADARPAN!A440","v":9},{"$f":"SHALADARPAN!B440","v":"B"},{"$f":"SHALADARPAN!K440","v":1034},{"$f":"SHALADARPAN!E440","v":"MITALI KUMAWAT"},{"$f":"SHALADARPAN!G440","v":"Kailash"}]
[{"$nulls":18},{"$f":"SHALADARPAN!A441","v":9},{"$f":"SHALADARPAN!B441","v":"B"},{"$f":"SHALADARPAN!K441","v":1035},{"$f":"SHALADARPAN!E441","v":"Mohit Saini"},{"$f":"SHALADARPAN!G441","v":"Kailash"}]
[{"$nulls":18},{"$f":"SHALADARPAN!A442","v":9},{"$f":"SHALADARPAN!B442","v":"B"},{"$f":"SHALADARPAN!K442","v":1036},{"$f":"SHALADARPAN!E442","v":"MONIKA BANU"},{"$f":"SHALADARPAN!G442","v":"Kailash"}]
[{"$nulls":18},{"$f":"SHALADARPAN!A443","v":9},{"$f":"SHALADARPAN!B443","v":"B"},{"$f":"SHALADARPAN!K443","v":1037},{"$f":"SHALADARPAN!E443","v":"MONIKA CHOUDHARY"},{"$f":"SHALADARPAN!G443","v":"Kailash"}]
[{"$nulls":18},{"$f":"SHALADARPAN!A444","v":9},{"$f":"SHALADARPAN!B444","v":"B"},{"$f":"SHALADARPAN!K444","v":1038},{"$f":"SHALADARPAN!E444","v":"MUMAL KANWAR"},{"$f":"SHALADARPAN!G444","v":"Kailash"}]
[{"$nulls":18},{"$f":"SHALADARPAN!A445","v":9},{"$f":"SHALADARPAN!B445","v":"B"},{"$f":"SHALADARPAN!K445","v":1039},{"$f":"SHALADARPAN!E445","v":"MUSKAN QURAISHI"},{"$f":"SHALADARPAN!G445","v":"Kailash"}]
[{"$nulls":18},{"$f":"SHALADARPAN!A446","v":9},{"$f":"SHALADARPAN!B446","v":"B"},{"$f":"SHALADARPAN!K446","v":1040},{"$f":"SHALADARPAN!E446","v":"Nabab Ali"},{"$f":"SHALADARPAN!G446","v":"Kailash"}]
[{"$nulls":18},{"$f":"SHALADARPAN!A447","v":9},{"$f":"SHALADARPAN!B447","v":"B"},{"$f":"SHALADARPAN!K447","v":1041},{"$f":"SHALADARPAN!E447","v":"NAJMEEN"},{"$f":"SHALADARPAN!G447","v":"Kailash"}]
[{"$nulls":18},{"$f":"SHALADARPAN!A448","v":9},{"$f":"SHALADARPAN!B448","v":"B"},{"$f":"SHALADARPAN!K448","v":1042},{"$f":"SHALADARPAN!E448","v":"Narendra Singh"},{"$f":"SHALADARPAN!G448","v":"Kailash"}]
[{"$nulls":18},{"$f":"SHALADARPAN!A449","v":9},{"$f":"SHALADARPAN!B449","v":"B"},{"$f":"SHALADARPAN!K449","v":1043},{"$f":"SHALADARPAN!E449","v":"Pradeep Sharma"},{"$f":"SHALADARPAN!G449","v":"Kailash"}]
[{"$nulls":18},{"$f":"SHALADARPAN!A450","v":9},{"$f":"SHALADARPAN!B450","v":"B"},{"$f":"SHALADARPAN!K450","v":1044},{"$f":"SHALADARPAN!E450","v":"PRAFUL VYAS"},{"$f":"SHALADARPAN!G450","v":"Kailash"}]
[{"$nulls":18},{"$f":"SHALADARPAN!A451","v":9},{"$f":"SHALADARPAN!B451","v":"B"},{"$f":"SHALADARPAN!K451","v":1045},{"$f":"SHALADARPAN!E451","v":"Praveen Samariya"},{"$f":"SHALADARPAN!G451","v":"Kailash"}]
[{"$nulls":18},{"$f":"SHALADARPAN!A452","v":9},{"$f":"SHALADARPAN!B452","v":"B"},{"$f":"SHALADARPAN!K452","v":1046},{"$f":"SHALADARPAN!E452","v":"RAHMAT"},{"$f":"SHALADARPAN!G452","v":"Kailash"}]
[{"$nulls":18},{"$f":"SHALADARPAN!A453","v":9},{"$f":"SHALADARPAN!B453","v":"B"},{"$f":"SHALADARPAN!K453","v":1047},{"$f":"SHALADARPAN!E453","v":"RAJBA KOSAR"},{"$f":"SHALADARPAN!G453","v":"Kailash"}]
[{"$nulls":18},{"$f":"SHALADARPAN!A454","v":9},{"$f":"SHALADARPAN!B454","v":"B"},{"$f":"SHALADARPAN!K454","v":1048},{"$f":"SHALADARPAN!E454","v":"RAVINDRA BHATI"},{"$f":"SHALADARPAN!G454","v":"Kailash"}]
[{"$nulls":18},{"$f":"SHALADARPAN!A455","v":9},{"$f":"SHALADARPAN!B455","v":"B"},{"$f":"SHALADARPAN!K455","v":1049},{"$f":"SHALADARPAN!E455","v":"SANDEEP SAINI"},{"$f":"SHALADARPAN!G455","v":"Kailash"}]
[{"$nulls":18},{"$f":"SHALADARPAN!A456","v":9},{"$f":"SHALADARPAN!B456","v":"B"},{"$f":"SHALADARPAN!K456","v":1051},{"$f":"SHALADARPAN!E456","v":"SHILPA KUDI"},{"$f":"SHALADARPAN!G456","v":"Kailash"}]
[{"$nulls":18},{"$f":"SHALADARPAN!A457","v":9},{"$f":"SHALADARPAN!B457","v":"B"},{"$f":"SHALADARPAN!K457","v":1053},{"$f":"SHALADARPAN!E457","v":"SONAM KUMAWAT"},{"$f":"SHALADARPAN!G457","v":"Kailash"}]
[{"$nulls":18},{"$f":"SHALADARPAN!A458","v":9},{"$f":"SHALADARPAN!B458","v":"B"},{"$f":"SHALADARPAN!K458","v":1054},{"$f":"SHALADARPAN!E458","v":"SONU DEVI"},{"$f":"SHALADARPAN!G458","v":"Kailash"}]
[{"$nulls":18},{"$f":"SHALADARPAN!A459","v":9},{"$f":"SHALADARPAN!B459","v":"B"},{"$f":"SHALADARPAN!K459","v":1056},{"$f":"SHALADARPAN!E459","v":"SUMAN KANWAR"},{"$f":"SHALADARPAN!G459","v":"Kailash"}]
[{"$nulls":18},{"$f":"SHALADARPAN!A460","v":9},{"$f":"SHALADARPAN!B460","v":"B"},{"$f":"SHALADARPAN!K460","v":1057},{"$f":"SHALADARPAN!E460","v":"Sumit Saini"},{"$f":"SHALADARPAN!G460","v":"Kailash"}]
[{"$nulls":18},{"$f":"SHALADARPAN!A461","v":9},{"$f":"SHALADARPAN!B461","v":"B"},{"$f":"SHALADARPAN!K461","v":1058},{"$f":"SHALADARPAN!E461","v":"SUMITA"},{"$f":"SHALADARPAN!G461","v":"Kailash"}]
[{"$nulls":18},{"$f":"SHALADARPAN!A462","v":9},{"$f":"SHALADARPAN!B462","v":"B"},{"$f":"SHALADARPAN!K462","v":1059},{"$f":"SHALADARPAN!E462","v":"Sunil Saini"},{"$f":"SHALADARPAN!G462","v":"Kailash"}]
[{"$nulls":18},{"$f":"SHALADARPAN!A463","v":9},{"$f":"SHALADARPAN!B463","v":"B"},{"$f":"SHALADARPAN!K463","v":1060},{"$f":"SHALADARPAN!E463","v":"SUNITA PANWAR"},{"$f":"SHALADARPAN!G463","v":"Kailash"}]
[{"$nulls":18},{"$f":"SHALADARPAN!A464","v":9},{"$f":"SHALADARPAN!B464","v":"B"},{"$f":"SHALADARPAN!K464","v":1061},{"$f":"SHALADARPAN!E464","v":"SURENDRA KUMAWAT"},{"$f":"SHALADARPAN!G464","v":"Kailash"}]
[{"$nulls":18},{"$f":"SHALADARPAN!A465","v":9},{"$f":"SHALADARPAN!B465","v":"B"},{"$f":"SHALADARPAN!K465","v":1062},{"$f":"SHALADARPAN!E465","v":"Tija Devi"},{"$f":"SHALADARPAN!G465","v":"Kailash"}]
[{"$nulls":18},{"$f":"SHALADARPAN!A466","v":9},{"$f":"SHALADARPAN!B466","v":"B"},{"$f":"SHALADARPAN!K466","v":1063},{"$f":"SHALADARPAN!E466","v":"URMILA"},{"$f":"SHALADARPAN!G466","v":"Kailash"}]
[{"$nulls":18},{"$f":"SHALADARPAN!A467","v":9},{"$f":"SHALADARPAN!B467","v":"B"},{"$f":"SHALADARPAN!K467","v":1064},{"$f":"SHALADARPAN!E467","v":"Varsha Kanwar"},{"$f":"SHALADARPAN!G467","v":"Kailash"}]
[{"$nulls":18},{"$f":"SHALADARPAN!A468","v":9},{"$f":"SHALADARPAN!B468","v":"B"},{"$f":"SHALADARPAN!K468","v":1065},{"$f":"SHALADARPAN!E468","v":"Vikas Barara"},{"$f":"SHALADARPAN!G468","v":"Kailash"}]
[{"$nulls":18},{"$f":"SHALADARPAN!A469","v":9},{"$f":"SHALADARPAN!B469","v":"B"},{"$f":"SHALADARPAN!K469","v":1066},{"$f":"SHALADARPAN!E469","v":"Vrishty Malakar"},{"$f":"SHALADARPAN!G469","v":"Kailash"}]
[{"$nulls":18},{"$f":"SHALADARPAN!A470","v":9},{"$f":"SHALADARPAN!B470","v":"B"},{"$f":"SHALADARPAN!K470","v":1067},{"$f":"SHALADARPAN!E470","v":"Yogendra Singh"},{"$f":"SHALADARPAN!G470","v":"Kailash"}]
[{"$nulls":18},{"$f":"SHALADARPAN!A471","v":9},{"$f":"SHALADARPAN!B471","v":"B"},{"$f":"SHALADARPAN!K471","v":1068},{"$f":"SHALADARPAN!E471","v":"Yogesh Kumar Prajapat"},{"$f":"SHALADARPAN!G471","v":"Kailash"}]
[{"$nulls":18},{"$f":"SHALADARPAN!A472","v":9},{"$f":"SHALADARPAN!B472","v":"B"},{"$f":"SHALADARPAN!K472","v":1069},{"$f":"SHALADARPAN!E472","v":"Yogesh Vaishnav"},{"$f":"SHALADARPAN!G472","v":"Kailash"}]
[{"$nulls":18},{"$f":"SHALADARPAN!A473","v":9},{"$f":"SHALADARPAN!B473","v":"B"},{"$f":"SHALADARPAN!K473","v":1070},{"$f":"SHALADARPAN!E473","v":"Yuvraj Singh"},{"$f":"SHALADARPAN!G473","v":"Kailash"}]
[{"$nulls":18},{"$f":"SHALADARPAN!A474","v":10},{"$f":"SHALADARPAN!B474","v":"A"},{"$f":"SHALADARPAN!K474","v":1101},{"$f":"SHALADARPAN!E474","v":"AARTI SAINI"},{"$f":"SHALADARPAN!G474","v":"Kailash"}]
[{"$nulls":18},{"$f":"SHALADARPAN!A475","v":10},{"$f":"SHALADARPAN!B475","v":"A"},{"$f":"SHALADARPAN!K475","v":1104},{"$f":"SHALADARPAN!E475","v":"ANIL SAINI"},{"$f":"SHALADARPAN!G475","v":"Kailash"}]
[{"$nulls":18},{"$f":"SHALADARPAN!A476","v":10},{"$f":"SHALADARPAN!B476","v":"A"},{"$f":"SHALADARPAN!K476","v":1105},{"$f":"SHALADARPAN!E476","v":"ANITA"},{"$f":"SHALADARPAN!G476","v":"Kailash"}]
[{"$nulls":18},{"$f":"SHALADARPAN!A477","v":10},{"$f":"SHALADARPAN!B477","v":"A"},{"$f":"SHALADARPAN!K477","v":1106},{"$f":"SHALADARPAN!E477","v":"Ashish Vaishnav"},{"$f":"SHALADARPAN!G477","v":"Kailash"}]
[{"$nulls":18},{"$f":"SHALADARPAN!A478","v":10},{"$f":"SHALADARPAN!B478","v":"A"},{"$f":"SHALADARPAN!K478","v":1108},{"$f":"SHALADARPAN!E478","v":"BHARAT RAIDAS"},{"$f":"SHALADARPAN!G478","v":"Kailash"}]
[{"$nulls":18},{"$f":"SHALADARPAN!A479","v":10},{"$f":"SHALADARPAN!B479","v":"A"},{"$f":"SHALADARPAN!K479","v":1111},{"$f":"SHALADARPAN!E479","v":"JAY SHREE RAIDAS"},{"$f":"SHALADARPAN!G479","v":"Kailash"}]
[{"$nulls":18},{"$f":"SHALADARPAN!A480","v":10},{"$f":"SHALADARPAN!B480","v":"A"},{"$f":"SHALADARPAN!K480","v":1112},{"$f":"SHALADARPAN!E480","v":"KAVITA NATH"},{"$f":"SHALADARPAN!G480","v":"Kailash"}]
[{"$nulls":18},{"$f":"SHALADARPAN!A481","v":10},{"$f":"SHALADARPAN!B481","v":"A"},{"$f":"SHALADARPAN!K481","v":1113},{"$f":"SHALADARPAN!E481","v":"KHUSHI RAIDAS"},{"$f":"SHALADARPAN!G481","v":"Kailash"}]
[{"$nulls":18},{"$f":"SHALADARPAN!A482","v":10},{"$f":"SHALADARPAN!B482","v":"A"},{"$f":"SHALADARPAN!K482","v":1114},{"$f":"SHALADARPAN!E482","v":"KISHOR BAWARI"},{"$f":"SHALADARPAN!G482","v":"Kailash"}]
[{"$nulls":18},{"$f":"SHALADARPAN!A483","v":10},{"$f":"SHALADARPAN!B483","v":"A"},{"$f":"SHALADARPAN!K483","v":1115},{"$f":"SHALADARPAN!E483","v":"Lokesh Saini"},{"$f":"SHALADARPAN!G483","v":"Kailash"}]
[{"$nulls":18},{"$f":"SHALADARPAN!A484","v":10},{"$f":"SHALADARPAN!B484","v":"A"},{"$f":"SHALADARPAN!K484","v":1116},{"$f":"SHALADARPAN!E484","v":"MANISH CHAUKIDAR"},{"$f":"SHALADARPAN!G484","v":"Kailash"}]
[{"$nulls":18},{"$f":"SHALADARPAN!A485","v":10},{"$f":"SHALADARPAN!B485","v":"A"},{"$f":"SHALADARPAN!K485","v":1117},{"$f":"SHALADARPAN!E485","v":"MANISH KUMAWAT"},{"$f":"SHALADARPAN!G485","v":"Kailash"}]
[{"$nulls":18},{"$f":"SHALADARPAN!A486","v":10},{"$f":"SHALADARPAN!B486","v":"A"},{"$f":"SHALADARPAN!K486","v":1118},{"$f":"SHALADARPAN!E486","v":"Manish Marotiya"},{"$f":"SHALADARPAN!G486","v":"Kailash"}]
[{"$nulls":18},{"$f":"SHALADARPAN!A487","v":10},{"$f":"SHALADARPAN!B487","v":"A"},{"$f":"SHALADARPAN!K487","v":1119},{"$f":"SHALADARPAN!E487","v":"MANJU DEVI"},{"$f":"SHALADARPAN!G487","v":"Kailash"}]
[{"$nulls":18},{"$f":"SHALADARPAN!A488","v":10},{"$f":"SHALADARPAN!B488","v":"A"},{"$f":"SHALADARPAN!K488","v":1120},{"$f":"SHALADARPAN!E488","v":"Manohar Nath"},{"$f":"SHALADARPAN!G488","v":"Kailash"}]
[{"$nulls":18},{"$f":"SHALADARPAN!A489","v":10},{"$f":"SHALADARPAN!B489","v":"A"},{"$f":"SHALADARPAN!K489","v":1121},{"$f":"SHALADARPAN!E489","v":"MANOJ SAINI"},{"$f":"SHALADARPAN!G489","v":"Kailash"}]
[{"$nulls":18},{"$f":"SHALADARPAN!A490","v":10},{"$f":"SHALADARPAN!B490","v":"A"},{"$f":"SHALADARPAN!K490","v":1122},{"$f":"SHALADARPAN!E490","v":"Mohammad Ismail"},{"$f":"SHALADARPAN!G490","v":"Kailash"}]
[{"$nulls":18},{"$f":"SHALADARPAN!A491","v":10},{"$f":"SHALADARPAN!B491","v":"A"},{"$f":"SHALADARPAN!K491","v":1123},{"$f":"SHALADARPAN!E491","v":"Monika Nath"},{"$f":"SHALADARPAN!G491","v":"Kailash"}]
[{"$nulls":18},{"$f":"SHALADARPAN!A492","v":10},{"$f":"SHALADARPAN!B492","v":"A"},{"$f":"SHALADARPAN!K492","v":1125},{"$f":"SHALADARPAN!E492","v":"NEETU"},{"$f":"SHALADARPAN!G492","v":"Kailash"}]
[{"$nulls":18},{"$f":"SHALADARPAN!A493","v":10},{"$f":"SHALADARPAN!B493","v":"A"},{"$f":"SHALADARPAN!K493","v":1126},{"$f":"SHALADARPAN!E493","v":"NOOR JAHAN"},{"$f":"SHALADARPAN!G493","v":"Kailash"}]
[{"$nulls":18},{"$f":"SHALADARPAN!A494","v":10},{"$f":"SHALADARPAN!B494","v":"A"},{"$f":"SHALADARPAN!K494","v":1127},{"$f":"SHALADARPAN!E494","v":"NOSAR DEVI"},{"$f":"SHALADARPAN!G494","v":"Kailash"}]
[{"$nulls":18},{"$f":"SHALADARPAN!A495","v":10},{"$f":"SHALADARPAN!B495","v":"A"},{"$f":"SHALADARPAN!K495","v":1128},{"$f":"SHALADARPAN!E495","v":"POOJA DEVI CHOKIDAR"},{"$f":"SHALADARPAN!G495","v":"Kailash"}]
[{"$nulls":18},{"$f":"SHALADARPAN!A496","v":10},{"$f":"SHALADARPAN!B496","v":"A"},{"$f":"SHALADARPAN!K496","v":1129},{"$f":"SHALADARPAN!E496","v":"POOJA KUMAWAT"},{"$f":"SHALADARPAN!G496","v":"Kailash"}]
[{"$nulls":18},{"$f":"SHALADARPAN!A497","v":10},{"$f":"SHALADARPAN!B497","v":"A"},{"$f":"SHALADARPAN!K497","v":1130},{"$f":"SHALADARPAN!E497","v":"POOJA RAIDAS"},{"$f":"SHALADARPAN!G497","v":"Kailash"}]
[{"$nulls":18},{"$f":"SHALADARPAN!A498","v":10},{"$f":"SHALADARPAN!B498","v":"A"},{"$f":"SHALADARPAN!K498","v":1131},{"$f":"SHALADARPAN!E498","v":"POOJA SAINI"},{"$f":"SHALADARPAN!G498","v":"Kailash"}]
[{"$nulls":18},{"$f":"SHALADARPAN!A499","v":10},{"$f":"SHALADARPAN!B499","v":"A"},{"$f":"SHALADARPAN!K499","v":1132},{"$f":"SHALADARPAN!E499","v":"PREM CHAND"},{"$f":"SHALADARPAN!G499","v":"Kailash"}]
[{"$nulls":18},{"$f":"SHALADARPAN!A500","v":10},{"$f":"SHALADARPAN!B500","v":"A"},{"$f":"SHALADARPAN!K500","v":1134},{"$f":"SHALADARPAN!E500","v":"RAJENDRA KUDI"},{"$f":"SHALADARPAN!G500","v":"Kailash"}]
[{"$nulls":18},{"$f":"SHALADARPAN!A501","v":10},{"$f":"SHALADARPAN!B501","v":"A"},{"$f":"SHALADARPAN!K501","v":1135},{"$f":"SHALADARPAN!E501","v":"Rakesh Dagdi"},{"$f":"SHALADARPAN!G501","v":"Kailash"}]
[{"$nulls":18},{"$f":"SHALADARPAN!A502","v":10},{"$f":"SHALADARPAN!B502","v":"A"},{"$f":"SHALADARPAN!K502","v":1136},{"$f":"SHALADARPAN!E502","v":"Ram Lal Kumawat"},{"$f":"SHALADARPAN!G502","v":"Kailash"}]
[{"$nulls":18},{"$f":"SHALADARPAN!A503","v":10},{"$f":"SHALADARPAN!B503","v":"A"},{"$f":"SHALADARPAN!K503","v":1137},{"$f":"SHALADARPAN!E503","v":"RAMESHCHAND KUMAWAT"},{"$f":"SHALADARPAN!G503","v":"Kailash"}]
[{"$nulls":18},{"$f":"SHALADARPAN!A504","v":10},{"$f":"SHALADARPAN!B504","v":"A"},{"$f":"SHALADARPAN!K504","v":1138},{"$f":"SHALADARPAN!E504","v":"RAMZAN"},{"$f":"SHALADARPAN!G504","v":"Kailash"}]
[{"$nulls":18},{"$f":"SHALADARPAN!A505","v":10},{"$f":"SHALADARPAN!B505","v":"A"},{"$f":"SHALADARPAN!K505","v":1139},{"$f":"SHALADARPAN!E505","v":"RENU PANWAR"},{"$f":"SHALADARPAN!G505","v":"Kailash"}]
[{"$nulls":18},{"$f":"SHALADARPAN!A506","v":10},{"$f":"SHALADARPAN!B506","v":"A"},{"$f":"SHALADARPAN!K506","v":1140},{"$f":"SHALADARPAN!E506","v":"SAJJAN KUMAWAT"},{"$f":"SHALADARPAN!G506","v":"Kailash"}]
[{"$nulls":18},{"$f":"SHALADARPAN!A507","v":10},{"$f":"SHALADARPAN!B507","v":"A"},{"$f":"SHALADARPAN!K507","v":1141},{"$f":"SHALADARPAN!E507","v":"SANJU DEVI"},{"$f":"SHALADARPAN!G507","v":"Kailash"}]
[{"$nulls":18},{"$f":"SHALADARPAN!A508","v":10},{"$f":"SHALADARPAN!B508","v":"A"},{"$f":"SHALADARPAN!K508","v":1143},{"$f":"SHALADARPAN!E508","v":"SUMAN SAINI"},{"$f":"SHALADARPAN!G508","v":"Kailash"}]
[{"$nulls":18},{"$f":"SHALADARPAN!A509","v":10},{"$f":"SHALADARPAN!B509","v":"A"},{"$f":"SHALADARPAN!K509","v":1144},{"$f":"SHALADARPAN!E509","v":"SUMIT NATH"},{"$f":"SHALADARPAN!G509","v":"Kailash"}]
[{"$nulls":18},{"$f":"SHALADARPAN!A510","v":10},{"$f":"SHALADARPAN!B510","v":"A"},{"$f":"SHALADARPAN!K510","v":1145},{"$f":"SHALADARPAN!E510","v":"Sunil Jat"},{"$f":"SHALADARPAN!G510","v":"Kailash"}]
[{"$nulls":18},{"$f":"SHALADARPAN!A511","v":10},{"$f":"SHALADARPAN!B511","v":"A"},{"$f":"SHALADARPAN!K511","v":1146},{"$f":"SHALADARPAN!E511","v":"Surendra Nath"},{"$f":"SHALADARPAN!G511","v":"Kailash"}]
[{"$nulls":18},{"$f":"SHALADARPAN!A512","v":10},{"$f":"SHALADARPAN!B512","v":"A"},{"$f":"SHALADARPAN!K512","v":1148},{"$f":"SHALADARPAN!E512","v":"SURMA MALI"},{"$f":"SHALADARPAN!G512","v":"Kailash"}]
[{"$nulls":18},{"$f":"SHALADARPAN!A513","v":10},{"$f":"SHALADARPAN!B513","v":"A"},{"$f":"SHALADARPAN!K513","v":1149},{"$f":"SHALADARPAN!E513","v":"SUSHIL NATH"},{"$f":"SHALADARPAN!G513","v":"Kailash"}]
[{"$nulls":18},{"$f":"SHALADARPAN!A514","v":10},{"$f":"SHALADARPAN!B514","v":"A"},{"$f":"SHALADARPAN!K514","v":1150},{"$f":"SHALADARPAN!E514","v":"Vikram Singh"},{"$f":"SHALADARPAN!G514","v":"Kailash"}]
[{"$nulls":18},{"$f":"SHALADARPAN!A515","v":10},{"$f":"SHALADARPAN!B515","v":"A"},{"$f":"SHALADARPAN!K515","v":1151},{"$f":"SHALADARPAN!E515","v":"VINOD ACHARYA"},{"$f":"SHALADARPAN!G515","v":"Kailash"}]
[{"$nulls":18},{"$f":"SHALADARPAN!A516","v":10},{"$f":"SHALADARPAN!B516","v":"A"},{"$f":"SHALADARPAN!K516","v":1152},{"$f":"SHALADARPAN!E516","v":"Yashoda Kanwar"},{"$f":"SHALADARPAN!G516","v":"Kailash"}]
[{"$nulls":18},{"$f":"SHALADARPAN!A517","v":10},{"$f":"SHALADARPAN!B517","v":"A"},{"$f":"SHALADARPAN!K517","v":1153},{"$f":"SHALADARPAN!E517","v":"YOGENDRA"},{"$f":"SHALADARPAN!G517","v":"Kailash"}]
[{"$nulls":18},{"$f":"SHALADARPAN!A518","v":10},{"$f":"SHALADARPAN!B518","v":"B"},{"$f":"SHALADARPAN!K518","v":1201},{"$f":"SHALADARPAN!E518","v":"ABDUL RAHMAN"},{"$f":"SHALADARPAN!G518","v":"Kailash"}]
[{"$nulls":18},{"$f":"SHALADARPAN!A519","v":10},{"$f":"SHALADARPAN!B519","v":"B"},{"$f":"SHALADARPAN!K519","v":1202},{"$f":"SHALADARPAN!E519","v":"ANIL GURJAR"},{"$f":"SHALADARPAN!G519","v":"Kailash"}]
[{"$nulls":18},{"$f":"SHALADARPAN!A520","v":10},{"$f":"SHALADARPAN!B520","v":"B"},{"$f":"SHALADARPAN!K520","v":1203},{"$f":"SHALADARPAN!E520","v":"Arti Saini"},{"$f":"SHALADARPAN!G520","v":"Kailash"}]
[{"$nulls":18},{"$f":"SHALADARPAN!A521","v":10},{"$f":"SHALADARPAN!B521","v":"B"},{"$f":"SHALADARPAN!K521","v":1204},{"$f":"SHALADARPAN!E521","v":"BHANU PRATAP SINGH"},{"$f":"SHALADARPAN!G521","v":"Kailash"}]
[{"$nulls":18},{"$f":"SHALADARPAN!A522","v":10},{"$f":"SHALADARPAN!B522","v":"B"},{"$f":"SHALADARPAN!K522","v":1205},{"$f":"SHALADARPAN!E522","v":"BISMILLAH"},{"$f":"SHALADARPAN!G522","v":"Kailash"}]
[{"$nulls":18},{"$f":"SHALADARPAN!A523","v":10},{"$f":"SHALADARPAN!B523","v":"B"},{"$f":"SHALADARPAN!K523","v":1206},{"$f":"SHALADARPAN!E523","v":"DILEEP"},{"$f":"SHALADARPAN!G523","v":"Kailash"}]
[{"$nulls":18},{"$f":"SHALADARPAN!A524","v":10},{"$f":"SHALADARPAN!B524","v":"B"},{"$f":"SHALADARPAN!K524","v":1207},{"$f":"SHALADARPAN!E524","v":"DIVYA ACHARYA"},{"$f":"SHALADARPAN!G524","v":"Kailash"}]
[{"$nulls":18},{"$f":"SHALADARPAN!A525","v":10},{"$f":"SHALADARPAN!B525","v":"B"},{"$f":"SHALADARPAN!K525","v":1208},{"$f":"SHALADARPAN!E525","v":"FIROJ KHAN"},{"$f":"SHALADARPAN!G525","v":"Kailash"}]
[{"$nulls":18},{"$f":"SHALADARPAN!A526","v":10},{"$f":"SHALADARPAN!B526","v":"B"},{"$f":"SHALADARPAN!K526","v":1209},{"$f":"SHALADARPAN!E526","v":"GANESH SINGODIYA"},{"$f":"SHALADARPAN!G526","v":"Kailash"}]
[{"$nulls":18},{"$f":"SHALADARPAN!A527","v":10},{"$f":"SHALADARPAN!B527","v":"B"},{"$f":"SHALADARPAN!K527","v":1210},{"$f":"SHALADARPAN!E527","v":"GEETA MEGHWAL"},{"$f":"SHALADARPAN!G527","v":"Kailash"}]
[{"$nulls":18},{"$f":"SHALADARPAN!A528","v":10},{"$f":"SHALADARPAN!B528","v":"B"},{"$f":"SHALADARPAN!K528","v":1211},{"$f":"SHALADARPAN!E528","v":"GOUTAM PRAJAPAT"},{"$f":"SHALADARPAN!G528","v":"Kailash"}]
[{"$nulls":18},{"$f":"SHALADARPAN!A529","v":10},{"$f":"SHALADARPAN!B529","v":"B"},{"$f":"SHALADARPAN!K529","v":1212},{"$f":"SHALADARPAN!E529","v":"GOVIND DARAK"},{"$f":"SHALADARPAN!G529","v":"Kailash"}]
[{"$nulls":18},{"$f":"SHALADARPAN!A530","v":10},{"$f":"SHALADARPAN!B530","v":"B"},{"$f":"SHALADARPAN!K530","v":1213},{"$f":"SHALADARPAN!E530","v":"Harshit Sharma"},{"$f":"SHALADARPAN!G530","v":"Kailash"}]
[{"$nulls":18},{"$f":"SHALADARPAN!A531","v":10},{"$f":"SHALADARPAN!B531","v":"B"},{"$f":"SHALADARPAN!K531","v":1214},{"$f":"SHALADARPAN!E531","v":"HEMLATA GURJAR"},{"$f":"SHALADARPAN!G531","v":"Kailash"}]
[{"$nulls":18},{"$f":"SHALADARPAN!A532","v":10},{"$f":"SHALADARPAN!B532","v":"B"},{"$f":"SHALADARPAN!K532","v":1215},{"$f":"SHALADARPAN!E532","v":"IBRAHIM"},{"$f":"SHALADARPAN!G532","v":"Kailash"}]
[{"$nulls":18},{"$f":"SHALADARPAN!A533","v":10},{"$f":"SHALADARPAN!B533","v":"B"},{"$f":"SHALADARPAN!K533","v":1216},{"$f":"SHALADARPAN!E533","v":"Jagriti"},{"$f":"SHALADARPAN!G533","v":"Kailash"}]
[{"$nulls":18},{"$f":"SHALADARPAN!A534","v":10},{"$f":"SHALADARPAN!B534","v":"B"},{"$f":"SHALADARPAN!K534","v":1217},{"$f":"SHALADARPAN!E534","v":"Jay Shree"},{"$f":"SHALADARPAN!G534","v":"Kailash"}]
[{"$nulls":18},{"$f":"SHALADARPAN!A535","v":10},{"$f":"SHALADARPAN!B535","v":"B"},{"$f":"SHALADARPAN!K535","v":1218},{"$f":"SHALADARPAN!E535","v":"JEEVRAJ"},{"$f":"SHALADARPAN!G535","v":"Kailash"}]
[{"$nulls":18},{"$f":"SHALADARPAN!A536","v":10},{"$f":"SHALADARPAN!B536","v":"B"},{"$f":"SHALADARPAN!K536","v":1219},{"$f":"SHALADARPAN!E536","v":"KHADIZA BANO"},{"$f":"SHALADARPAN!G536","v":"Kailash"}]
[{"$nulls":18},{"$f":"SHALADARPAN!A537","v":10},{"$f":"SHALADARPAN!B537","v":"B"},{"$f":"SHALADARPAN!K537","v":1220},{"$f":"SHALADARPAN!E537","v":"KHALIL SHAH"},{"$f":"SHALADARPAN!G537","v":"Kailash"}]
[{"$nulls":18},{"$f":"SHALADARPAN!A538","v":10},{"$f":"SHALADARPAN!B538","v":"B"},{"$f":"SHALADARPAN!K538","v":1221},{"$f":"SHALADARPAN!E538","v":"Khurshida Bano"},{"$f":"SHALADARPAN!G538","v":"Kailash"}]
[{"$nulls":18},{"$f":"SHALADARPAN!A539","v":10},{"$f":"SHALADARPAN!B539","v":"B"},{"$f":"SHALADARPAN!K539","v":1222},{"$f":"SHALADARPAN!E539","v":"Khushab Vaishnav"},{"$f":"SHALADARPAN!G539","v":"Kailash"}]
[{"$nulls":18},{"$f":"SHALADARPAN!A540","v":10},{"$f":"SHALADARPAN!B540","v":"B"},{"$f":"SHALADARPAN!K540","v":1223},{"$f":"SHALADARPAN!E540","v":"KOMAL KANWAR"},{"$f":"SHALADARPAN!G540","v":"Kailash"}]
[{"$nulls":18},{"$f":"SHALADARPAN!A541","v":10},{"$f":"SHALADARPAN!B541","v":"B"},{"$f":"SHALADARPAN!K541","v":1224},{"$f":"SHALADARPAN!E541","v":"Lokesh Saini"},{"$f":"SHALADARPAN!G541","v":"Kailash"}]
[{"$nulls":18},{"$f":"SHALADARPAN!A542","v":10},{"$f":"SHALADARPAN!B542","v":"B"},{"$f":"SHALADARPAN!K542","v":1225},{"$f":"SHALADARPAN!E542","v":"Mahendra Gurjar"},{"$f":"SHALADARPAN!G542","v":"Kailash"}]
[{"$nulls":18},{"$f":"SHALADARPAN!A543","v":10},{"$f":"SHALADARPAN!B543","v":"B"},{"$f":"SHALADARPAN!K543","v":1226},{"$f":"SHALADARPAN!E543","v":"MAHENDRA KUMAWAT"},{"$f":"SHALADARPAN!G543","v":"Kailash"}]
[{"$nulls":18},{"$f":"SHALADARPAN!A544","v":10},{"$f":"SHALADARPAN!B544","v":"B"},{"$f":"SHALADARPAN!K544","v":1227},{"$f":"SHALADARPAN!E544","v":"MO.GULFAM"},{"$f":"SHALADARPAN!G544","v":"Kailash"}]
[{"$nulls":18},{"$f":"SHALADARPAN!A545","v":10},{"$f":"SHALADARPAN!B545","v":"B"},{"$f":"SHALADARPAN!K545","v":1228},{"$f":"SHALADARPAN!E545","v":"MUKESH"},{"$f":"SHALADARPAN!G545","v":"Kailash"}]
[{"$nulls":18},{"$f":"SHALADARPAN!A546","v":10},{"$f":"SHALADARPAN!B546","v":"B"},{"$f":"SHALADARPAN!K546","v":1229},{"$f":"SHALADARPAN!E546","v":"MUKESH SHARMA"},{"$f":"SHALADARPAN!G546","v":"Kailash"}]
[{"$nulls":18},{"$f":"SHALADARPAN!A547","v":10},{"$f":"SHALADARPAN!B547","v":"B"},{"$f":"SHALADARPAN!K547","v":1230},{"$f":"SHALADARPAN!E547","v":"MUSKAN"},{"$f":"SHALADARPAN!G547","v":"Kailash"}]
[{"$nulls":18},{"$f":"SHALADARPAN!A548","v":10},{"$f":"SHALADARPAN!B548","v":"B"},{"$f":"SHALADARPAN!K548","v":1231},{"$f":"SHALADARPAN!E548","v":"MUSKAN BANOO"},{"$f":"SHALADARPAN!G548","v":"Kailash"}]
[{"$nulls":18},{"$f":"SHALADARPAN!A549","v":10},{"$f":"SHALADARPAN!B549","v":"B"},{"$f":"SHALADARPAN!K549","v":1232},{"$f":"SHALADARPAN!E549","v":"Naitik Sharma"},{"$f":"SHALADARPAN!G549","v":"Kailash"}]
[{"$nulls":18},{"$f":"SHALADARPAN!A550","v":10},{"$f":"SHALADARPAN!B550","v":"B"},{"$f":"SHALADARPAN!K550","v":1233},{"$f":"SHALADARPAN!E550","v":"Nikita Jhala"},{"$f":"SHALADARPAN!G550","v":"Kailash"}]
[{"$nulls":18},{"$f":"SHALADARPAN!A551","v":10},{"$f":"SHALADARPAN!B551","v":"B"},{"$f":"SHALADARPAN!K551","v":1234},{"$f":"SHALADARPAN!E551","v":"NIRMALA RAIDAS"},{"$f":"SHALADARPAN!G551","v":"Kailash"}]
[{"$nulls":18},{"$f":"SHALADARPAN!A552","v":10},{"$f":"SHALADARPAN!B552","v":"B"},{"$f":"SHALADARPAN!K552","v":1235},{"$f":"SHALADARPAN!E552","v":"NIRMALA SOLANKI"},{"$f":"SHALADARPAN!G552","v":"Kailash"}]
[{"$nulls":18},{"$f":"SHALADARPAN!A553","v":10},{"$f":"SHALADARPAN!B553","v":"B"},{"$f":"SHALADARPAN!K553","v":1236},{"$f":"SHALADARPAN!E553","v":"PALAK JANGID"},{"$f":"SHALADARPAN!G553","v":"Kailash"}]
[{"$nulls":18},{"$f":"SHALADARPAN!A554","v":10},{"$f":"SHALADARPAN!B554","v":"B"},{"$f":"SHALADARPAN!K554","v":1237},{"$f":"SHALADARPAN!E554","v":"PAREENA BANOO"},{"$f":"SHALADARPAN!G554","v":"Kailash"}]
[{"$nulls":18},{"$f":"SHALADARPAN!A555","v":10},{"$f":"SHALADARPAN!B555","v":"B"},{"$f":"SHALADARPAN!K555","v":1238},{"$f":"SHALADARPAN!E555","v":"Pawan Singh"},{"$f":"SHALADARPAN!G555","v":"Kailash"}]
[{"$nulls":18},{"$f":"SHALADARPAN!A556","v":10},{"$f":"SHALADARPAN!B556","v":"B"},{"$f":"SHALADARPAN!K556","v":1239},{"$f":"SHALADARPAN!E556","v":"Pooja Kanwar"},{"$f":"SHALADARPAN!G556","v":"Kailash"}]
[{"$nulls":18},{"$f":"SHALADARPAN!A557","v":10},{"$f":"SHALADARPAN!B557","v":"B"},{"$f":"SHALADARPAN!K557","v":1240},{"$f":"SHALADARPAN!E557","v":"PRIYANKA SAIN"},{"$f":"SHALADARPAN!G557","v":"Kailash"}]
[{"$nulls":18},{"$f":"SHALADARPAN!A558","v":10},{"$f":"SHALADARPAN!B558","v":"B"},{"$f":"SHALADARPAN!K558","v":1241},{"$f":"SHALADARPAN!E558","v":"Radhika Saini"},{"$f":"SHALADARPAN!G558","v":"Kailash"}]
[{"$nulls":18},{"$f":"SHALADARPAN!A559","v":10},{"$f":"SHALADARPAN!B559","v":"B"},{"$f":"SHALADARPAN!K559","v":1242},{"$f":"SHALADARPAN!E559","v":"RANI SHARMA"},{"$f":"SHALADARPAN!G559","v":"Kailash"}]
[{"$nulls":18},{"$f":"SHALADARPAN!A560","v":10},{"$f":"SHALADARPAN!B560","v":"B"},{"$f":"SHALADARPAN!K560","v":1243},{"$f":"SHALADARPAN!E560","v":"RESHMA BANU"},{"$f":"SHALADARPAN!G560","v":"Kailash"}]
[{"$nulls":18},{"$f":"SHALADARPAN!A561","v":10},{"$f":"SHALADARPAN!B561","v":"B"},{"$f":"SHALADARPAN!K561","v":1244},{"$f":"SHALADARPAN!E561","v":"RIYANA BANU"},{"$f":"SHALADARPAN!G561","v":"Kailash"}]
[{"$nulls":18},{"$f":"SHALADARPAN!A562","v":10},{"$f":"SHALADARPAN!B562","v":"B"},{"$f":"SHALADARPAN!K562","v":1245},{"$f":"SHALADARPAN!E562","v":"RUKHSANA BANOO"},{"$f":"SHALADARPAN!G562","v":"Kailash"}]
[{"$nulls":18},{"$f":"SHALADARPAN!A563","v":10},{"$f":"SHALADARPAN!B563","v":"B"},{"$f":"SHALADARPAN!K563","v":1246},{"$f":"SHALADARPAN!E563","v":"SAKEENA"},{"$f":"SHALADARPAN!G563","v":"Kailash"}]
[{"$nulls":18},{"$f":"SHALADARPAN!A564","v":10},{"$f":"SHALADARPAN!B564","v":"B"},{"$f":"SHALADARPAN!K564","v":1247},{"$f":"SHALADARPAN!E564","v":"SAROJ"},{"$f":"SHALADARPAN!G564","v":"Kailash"}]
[{"$nulls":18},{"$f":"SHALADARPAN!A565","v":10},{"$f":"SHALADARPAN!B565","v":"B"},{"$f":"SHALADARPAN!K565","v":1248},{"$f":"SHALADARPAN!E565","v":"SEEMA MACHARA"},{"$f":"SHALADARPAN!G565","v":"Kailash"}]
[{"$nulls":18},{"$f":"SHALADARPAN!A566","v":10},{"$f":"SHALADARPAN!B566","v":"B"},{"$f":"SHALADARPAN!K566","v":1249},{"$f":"SHALADARPAN!E566","v":"SEEMA MEGHWAL"},{"$f":"SHALADARPAN!G566","v":"Kailash"}]
[{"$nulls":18},{"$f":"SHALADARPAN!A567","v":10},{"$f":"SHALADARPAN!B567","v":"B"},{"$f":"SHALADARPAN!K567","v":1250},{"$f":"SHALADARPAN!E567","v":"SEEMA SAINI"},{"$f":"SHALADARPAN!G567","v":"Kailash"}]
[{"$nulls":18},{"$f":"SHALADARPAN!A568","v":10},{"$f":"SHALADARPAN!B568","v":"B"},{"$f":"SHALADARPAN!K568","v":1251},{"$f":"SHALADARPAN!E568","v":"Soniya Mali"},{"$f":"SHALADARPAN!G568","v":"Kailash"}]
[{"$nulls":18},{"$f":"SHALADARPAN!A569","v":10},{"$f":"SHALADARPAN!B569","v":"B"},{"$f":"SHALADARPAN!K569","v":1252},{"$f":"SHALADARPAN!E569","v":"SUMAN DEVI"},{"$f":"SHALADARPAN!G569","v":"Kailash"}]
[{"$nulls":18},{"$f":"SHALADARPAN!A570","v":10},{"$f":"SHALADARPAN!B570","v":"B"},{"$f":"SHALADARPAN!K570","v":1253},{"$f":"SHALADARPAN!E570","v":"TINA GURJAR"},{"$f":"SHALADARPAN!G570","v":"Kailash"}]
[{"$nulls":18},{"$f":"SHALADARPAN!A571","v":10},{"$f":"SHALADARPAN!B571","v":"B"},{"$f":"SHALADARPAN!K571","v":1254},{"$f":"SHALADARPAN!E571","v":"Umesh Nath"},{"$f":"SHALADARPAN!G571","v":"Kailash"}]
[{"$nulls":18},{"$f":"SHALADARPAN!A572","v":10},{"$f":"SHALADARPAN!B572","v":"B"},{"$f":"SHALADARPAN!K572","v":1255},{"$f":"SHALADARPAN!E572","v":"VIJAY RAJ KUMAWAT"},{"$f":"SHALADARPAN!G572","v":"Kailash"}]
[{"$nulls":18},{"$f":"SHALADARPAN!A573","v":10},{"$f":"SHALADARPAN!B573","v":"B"},{"$f":"SHALADARPAN!K573","v":1256},{"$f":"SHALADARPAN!E573","v":"YOGESH KUMAWAT"},{"$f":"SHALADARPAN!G573","v":"Kailash"}]
[{"$nulls":18},{"$f":"SHALADARPAN!A574","v":11},{"$f":"SHALADARPAN!B574","v":"A"},{"$f":"SHALADARPAN!K574","v":1301},{"$f":"SHALADARPAN!E574","v":"Aadil Husen"},{"$f":"SHALADARPAN!G574","v":"Kailash"}]
[{"$nulls":18},{"$f":"SHALADARPAN!A575","v":11},{"$f":"SHALADARPAN!B575","v":"A"},{"$f":"SHALADARPAN!K575","v":1302},{"$f":"SHALADARPAN!E575","v":"ABHISHEK"},{"$f":"SHALADARPAN!G575","v":"Kailash"}]
[{"$nulls":18},{"$f":"SHALADARPAN!A576","v":11},{"$f":"SHALADARPAN!B576","v":"A"},{"$f":"SHALADARPAN!K576","v":1303},{"$f":"SHALADARPAN!E576","v":"ADIL AHMAD"},{"$f":"SHALADARPAN!G576","v":"Kailash"}]
[{"$nulls":18},{"$f":"SHALADARPAN!A577","v":11},{"$f":"SHALADARPAN!B577","v":"A"},{"$f":"SHALADARPAN!K577","v":1304},{"$f":"SHALADARPAN!E577","v":"Afsar Alam"},{"$f":"SHALADARPAN!G577","v":"Kailash"}]
[{"$nulls":18},{"$f":"SHALADARPAN!A578","v":11},{"$f":"SHALADARPAN!B578","v":"A"},{"$f":"SHALADARPAN!K578","v":1305},{"$f":"SHALADARPAN!E578","v":"Ameen"},{"$f":"SHALADARPAN!G578","v":"Kailash"}]
[{"$nulls":18},{"$f":"SHALADARPAN!A579","v":11},{"$f":"SHALADARPAN!B579","v":"A"},{"$f":"SHALADARPAN!K579","v":1306},{"$f":"SHALADARPAN!E579","v":"ANAND SINGH"},{"$f":"SHALADARPAN!G579","v":"Kailash"}]
[{"$nulls":18},{"$f":"SHALADARPAN!A580","v":11},{"$f":"SHALADARPAN!B580","v":"A"},{"$f":"SHALADARPAN!K580","v":1307},{"$f":"SHALADARPAN!E580","v":"ANITA"},{"$f":"SHALADARPAN!G580","v":"Kailash"}]
[{"$nulls":18},{"$f":"SHALADARPAN!A581","v":11},{"$f":"SHALADARPAN!B581","v":"A"},{"$f":"SHALADARPAN!K581","v":1308},{"$f":"SHALADARPAN!E581","v":"ANITA DEVI"},{"$f":"SHALADARPAN!G581","v":"Kailash"}]
[{"$nulls":18},{"$f":"SHALADARPAN!A582","v":11},{"$f":"SHALADARPAN!B582","v":"A"},{"$f":"SHALADARPAN!K582","v":1309},{"$f":"SHALADARPAN!E582","v":"ANJALI SUWASIYA"},{"$f":"SHALADARPAN!G582","v":"Kailash"}]
[{"$nulls":18},{"$f":"SHALADARPAN!A583","v":11},{"$f":"SHALADARPAN!B583","v":"A"},{"$f":"SHALADARPAN!K583","v":1310},{"$f":"SHALADARPAN!E583","v":"ANKIT"},{"$f":"SHALADARPAN!G583","v":"Kailash"}]
[{"$nulls":18},{"$f":"SHALADARPAN!A584","v":11},{"$f":"SHALADARPAN!B584","v":"A"},{"$f":"SHALADARPAN!K584","v":1311},{"$f":"SHALADARPAN!E584","v":"ANKITA SHARMA"},{"$f":"SHALADARPAN!G584","v":"Kailash"}]
[{"$nulls":18},{"$f":"SHALADARPAN!A585","v":11},{"$f":"SHALADARPAN!B585","v":"A"},{"$f":"SHALADARPAN!K585","v":1312},{"$f":"SHALADARPAN!E585","v":"ANKU DEVI"},{"$f":"SHALADARPAN!G585","v":"Kailash"}]
[{"$nulls":18},{"$f":"SHALADARPAN!A586","v":11},{"$f":"SHALADARPAN!B586","v":"A"},{"$f":"SHALADARPAN!K586","v":1313},{"$f":"SHALADARPAN!E586","v":"Annu"},{"$f":"SHALADARPAN!G586","v":"Kailash"}]
[{"$nulls":18},{"$f":"SHALADARPAN!A587","v":11},{"$f":"SHALADARPAN!B587","v":"A"},{"$f":"SHALADARPAN!K587","v":1314},{"$f":"SHALADARPAN!E587","v":"Ashok Kumawat"},{"$f":"SHALADARPAN!G587","v":"Kailash"}]
[{"$nulls":18},{"$f":"SHALADARPAN!A588","v":11},{"$f":"SHALADARPAN!B588","v":"A"},{"$f":"SHALADARPAN!K588","v":1316},{"$f":"SHALADARPAN!E588","v":"BANWARI NATH"},{"$f":"SHALADARPAN!G588","v":"Kailash"}]
[{"$nulls":18},{"$f":"SHALADARPAN!A589","v":11},{"$f":"SHALADARPAN!B589","v":"A"},{"$f":"SHALADARPAN!K589","v":1317},{"$f":"SHALADARPAN!E589","v":"BHARAT MEGHWAL"},{"$f":"SHALADARPAN!G589","v":"Kailash"}]
[{"$nulls":18},{"$f":"SHALADARPAN!A590","v":11},{"$f":"SHALADARPAN!B590","v":"A"},{"$f":"SHALADARPAN!K590","v":1318},{"$f":"SHALADARPAN!E590","v":"Bismilla Banu"},{"$f":"SHALADARPAN!G590","v":"Kailash"}]
[{"$nulls":18},{"$f":"SHALADARPAN!A591","v":11},{"$f":"SHALADARPAN!B591","v":"A"},{"$f":"SHALADARPAN!K591","v":1320},{"$f":"SHALADARPAN!E591","v":"Chena Ram"},{"$f":"SHALADARPAN!G591","v":"Kailash"}]
[{"$nulls":18},{"$f":"SHALADARPAN!A592","v":11},{"$f":"SHALADARPAN!B592","v":"A"},{"$f":"SHALADARPAN!K592","v":1321},{"$f":"SHALADARPAN!E592","v":"CHETAN SOLANKI"},{"$f":"SHALADARPAN!G592","v":"Kailash"}]
[{"$nulls":18},{"$f":"SHALADARPAN!A593","v":11},{"$f":"SHALADARPAN!B593","v":"A"},{"$f":"SHALADARPAN!K593","v":1322},{"$f":"SHALADARPAN!E593","v":"DASHARATH KUMAWAT"},{"$f":"SHALADARPAN!G593","v":"Kailash"}]
[{"$nulls":18},{"$f":"SHALADARPAN!A594","v":11},{"$f":"SHALADARPAN!B594","v":"A"},{"$f":"SHALADARPAN!K594","v":1324},{"$f":"SHALADARPAN!E594","v":"DEVRAJ"},{"$f":"SHALADARPAN!G594","v":"Kailash"}]
[{"$nulls":18},{"$f":"SHALADARPAN!A595","v":11},{"$f":"SHALADARPAN!B595","v":"A"},{"$f":"SHALADARPAN!K595","v":1325},{"$f":"SHALADARPAN!E595","v":"DILEEP SINGH"},{"$f":"SHALADARPAN!G595","v":"Kailash"}]
[{"$nulls":18},{"$f":"SHALADARPAN!A596","v":11},{"$f":"SHALADARPAN!B596","v":"A"},{"$f":"SHALADARPAN!K596","v":1327},{"$f":"SHALADARPAN!E596","v":"Dinesh Choudhary"},{"$f":"SHALADARPAN!G596","v":"Kailash"}]
[{"$nulls":18},{"$f":"SHALADARPAN!A597","v":11},{"$f":"SHALADARPAN!B597","v":"A"},{"$f":"SHALADARPAN!K597","v":1328},{"$f":"SHALADARPAN!E597","v":"DINESH PANWAR"},{"$f":"SHALADARPAN!G597","v":"Kailash"}]
[{"$nulls":18},{"$f":"SHALADARPAN!A598","v":11},{"$f":"SHALADARPAN!B598","v":"A"},{"$f":"SHALADARPAN!K598","v":1331},{"$f":"SHALADARPAN!E598","v":"GUNGUN KANWAR"},{"$f":"SHALADARPAN!G598","v":"Kailash"}]
[{"$nulls":18},{"$f":"SHALADARPAN!A599","v":11},{"$f":"SHALADARPAN!B599","v":"A"},{"$f":"SHALADARPAN!K599","v":1332},{"$f":"SHALADARPAN!E599","v":"HARI RAM PRAJAPAT"},{"$f":"SHALADARPAN!G599","v":"Kailash"}]
[{"$nulls":18},{"$f":"SHALADARPAN!A600","v":11},{"$f":"SHALADARPAN!B600","v":"A"},{"$f":"SHALADARPAN!K600","v":1333},{"$f":"SHALADARPAN!E600","v":"JAISHRI"},{"$f":"SHALADARPAN!G600","v":"Kailash"}]
[{"$nulls":18},{"$f":"SHALADARPAN!A601","v":11},{"$f":"SHALADARPAN!B601","v":"A"},{"$f":"SHALADARPAN!K601","v":1334},{"$f":"SHALADARPAN!E601","v":"JITENDRA SINGH"},{"$f":"SHALADARPAN!G601","v":"Kailash"}]
[{"$nulls":18},{"$f":"SHALADARPAN!A602","v":11},{"$f":"SHALADARPAN!B602","v":"A"},{"$f":"SHALADARPAN!K602","v":1336},{"$f":"SHALADARPAN!E602","v":"KALIM KURESHI"},{"$f":"SHALADARPAN!G602","v":"Kailash"}]
[{"$nulls":18},{"$f":"SHALADARPAN!A603","v":11},{"$f":"SHALADARPAN!B603","v":"A"},{"$f":"SHALADARPAN!K603","v":1341},{"$f":"SHALADARPAN!E603","v":"KIRAN DEVI"},{"$f":"SHALADARPAN!G603","v":"Kailash"}]
[{"$nulls":18},{"$f":"SHALADARPAN!A604","v":11},{"$f":"SHALADARPAN!B604","v":"A"},{"$f":"SHALADARPAN!K604","v":1342},{"$f":"SHALADARPAN!E604","v":"KISHAN SINGODIYA"},{"$f":"SHALADARPAN!G604","v":"Kailash"}]
[{"$nulls":18},{"$f":"SHALADARPAN!A605","v":11},{"$f":"SHALADARPAN!B605","v":"A"},{"$f":"SHALADARPAN!K605","v":1343},{"$f":"SHALADARPAN!E605","v":"Lal Chand"},{"$f":"SHALADARPAN!G605","v":"Kailash"}]
[{"$nulls":18},{"$f":"SHALADARPAN!A606","v":11},{"$f":"SHALADARPAN!B606","v":"A"},{"$f":"SHALADARPAN!K606","v":1344},{"$f":"SHALADARPAN!E606","v":"LAXMI DEVI"},{"$f":"SHALADARPAN!G606","v":"Kailash"}]
[{"$nulls":18},{"$f":"SHALADARPAN!A607","v":11},{"$f":"SHALADARPAN!B607","v":"A"},{"$f":"SHALADARPAN!K607","v":1345},{"$f":"SHALADARPAN!E607","v":"MADHURI"},{"$f":"SHALADARPAN!G607","v":"Kailash"}]
[{"$nulls":18},{"$f":"SHALADARPAN!A608","v":11},{"$f":"SHALADARPAN!B608","v":"A"},{"$f":"SHALADARPAN!K608","v":1346},{"$f":"SHALADARPAN!E608","v":"MAHADEV MALI"},{"$f":"SHALADARPAN!G608","v":"Kailash"}]
[{"$nulls":18},{"$f":"SHALADARPAN!A609","v":11},{"$f":"SHALADARPAN!B609","v":"A"},{"$f":"SHALADARPAN!K609","v":1348},{"$f":"SHALADARPAN!E609","v":"Mamta Vaishnav"},{"$f":"SHALADARPAN!G609","v":"Kailash"}]
[{"$nulls":18},{"$f":"SHALADARPAN!A610","v":11},{"$f":"SHALADARPAN!B610","v":"A"},{"$f":"SHALADARPAN!K610","v":1349},{"$f":"SHALADARPAN!E610","v":"MANISH"},{"$f":"SHALADARPAN!G610","v":"Kailash"}]
[{"$nulls":18},{"$f":"SHALADARPAN!A611","v":11},{"$f":"SHALADARPAN!B611","v":"A"},{"$f":"SHALADARPAN!K611","v":1350},{"$f":"SHALADARPAN!E611","v":"Manisha"},{"$f":"SHALADARPAN!G611","v":"Kailash"}]
[{"$nulls":18},{"$f":"SHALADARPAN!A612","v":11},{"$f":"SHALADARPAN!B612","v":"A"},{"$f":"SHALADARPAN!K612","v":1351},{"$f":"SHALADARPAN!E612","v":"Manisha"},{"$f":"SHALADARPAN!G612","v":"Kailash"}]
[{"$nulls":18},{"$f":"SHALADARPAN!A613","v":11},{"$f":"SHALADARPAN!B613","v":"A"},{"$f":"SHALADARPAN!K613","v":1352},{"$f":"SHALADARPAN!E613","v":"MAYA GURJAR"},{"$f":"SHALADARPAN!G613","v":"Kailash"}]
[{"$nulls":18},{"$f":"SHALADARPAN!A614","v":11},{"$f":"SHALADARPAN!B614","v":"A"},{"$f":"SHALADARPAN!K614","v":1353},{"$f":"SHALADARPAN!E614","v":"MEENU DEVI"},{"$f":"SHALADARPAN!G614","v":"Kailash"}]
[{"$nulls":18},{"$f":"SHALADARPAN!A615","v":11},{"$f":"SHALADARPAN!B615","v":"A"},{"$f":"SHALADARPAN!K615","v":1354},{"$f":"SHALADARPAN!E615","v":"MOHAMMAD ARSHAD"},{"$f":"SHALADARPAN!G615","v":"Kailash"}]
[{"$nulls":18},{"$f":"SHALADARPAN!A616","v":11},{"$f":"SHALADARPAN!B616","v":"A"},{"$f":"SHALADARPAN!K616","v":1355},{"$f":"SHALADARPAN!E616","v":"MOHAMMAD KAIF"},{"$f":"SHALADARPAN!G616","v":"Kailash"}]
[{"$nulls":18},{"$f":"SHALADARPAN!A617","v":11},{"$f":"SHALADARPAN!B617","v":"A"},{"$f":"SHALADARPAN!K617","v":1357},{"$f":"SHALADARPAN!E617","v":"MONIKA"},{"$f":"SHALADARPAN!G617","v":"Kailash"}]
[{"$nulls":18},{"$f":"SHALADARPAN!A618","v":11},{"$f":"SHALADARPAN!B618","v":"A"},{"$f":"SHALADARPAN!K618","v":1358},{"$f":"SHALADARPAN!E618","v":"MONIKA SHARMA"},{"$f":"SHALADARPAN!G618","v":"Kailash"}]
[{"$nulls":18},{"$f":"SHALADARPAN!A619","v":11},{"$f":"SHALADARPAN!B619","v":"A"},{"$f":"SHALADARPAN!K619","v":1360},{"$f":"SHALADARPAN!E619","v":"MUKESH KUMAWAT"},{"$f":"SHALADARPAN!G619","v":"Kailash"}]
[{"$nulls":18},{"$f":"SHALADARPAN!A620","v":11},{"$f":"SHALADARPAN!B620","v":"A"},{"$f":"SHALADARPAN!K620","v":1361},{"$f":"SHALADARPAN!E620","v":"MUSKAN"},{"$f":"SHALADARPAN!G620","v":"Kailash"}]
[{"$nulls":18},{"$f":"SHALADARPAN!A621","v":11},{"$f":"SHALADARPAN!B621","v":"A"},{"$f":"SHALADARPAN!K621","v":1363},{"$f":"SHALADARPAN!E621","v":"NEETU"},{"$f":"SHALADARPAN!G621","v":"Kailash"}]
[{"$nulls":18},{"$f":"SHALADARPAN!A622","v":11},{"$f":"SHALADARPAN!B622","v":"A"},{"$f":"SHALADARPAN!K622","v":1365},{"$f":"SHALADARPAN!E622","v":"Nikita"},{"$f":"SHALADARPAN!G622","v":"Kailash"}]
[{"$nulls":18},{"$f":"SHALADARPAN!A623","v":11},{"$f":"SHALADARPAN!B623","v":"A"},{"$f":"SHALADARPAN!K623","v":1366},{"$f":"SHALADARPAN!E623","v":"NIRMA"},{"$f":"SHALADARPAN!G623","v":"Kailash"}]
[{"$nulls":18},{"$f":"SHALADARPAN!A624","v":11},{"$f":"SHALADARPAN!B624","v":"A"},{"$f":"SHALADARPAN!K624","v":1367},{"$f":"SHALADARPAN!E624","v":"NITIN SHRINATH"},{"$f":"SHALADARPAN!G624","v":"Kailash"}]
[{"$nulls":18},{"$f":"SHALADARPAN!A625","v":11},{"$f":"SHALADARPAN!B625","v":"A"},{"$f":"SHALADARPAN!K625","v":1368},{"$f":"SHALADARPAN!E625","v":"OM NATH"},{"$f":"SHALADARPAN!G625","v":"Kailash"}]
[{"$nulls":18},{"$f":"SHALADARPAN!A626","v":11},{"$f":"SHALADARPAN!B626","v":"A"},{"$f":"SHALADARPAN!K626","v":1369},{"$f":"SHALADARPAN!E626","v":"OM PRAKASH"},{"$f":"SHALADARPAN!G626","v":"Kailash"}]
[{"$nulls":18},{"$f":"SHALADARPAN!A627","v":11},{"$f":"SHALADARPAN!B627","v":"A"},{"$f":"SHALADARPAN!K627","v":1371},{"$f":"SHALADARPAN!E627","v":"PAREENA"},{"$f":"SHALADARPAN!G627","v":"Kailash"}]
[{"$nulls":18},{"$f":"SHALADARPAN!A628","v":11},{"$f":"SHALADARPAN!B628","v":"A"},{"$f":"SHALADARPAN!K628","v":1372},{"$f":"SHALADARPAN!E628","v":"Pawan Puri"},{"$f":"SHALADARPAN!G628","v":"Kailash"}]
[{"$nulls":18},{"$f":"SHALADARPAN!A629","v":11},{"$f":"SHALADARPAN!B629","v":"A"},{"$f":"SHALADARPAN!K629","v":1373},{"$f":"SHALADARPAN!E629","v":"POOJA JANGID"},{"$f":"SHALADARPAN!G629","v":"Kailash"}]
[{"$nulls":18},{"$f":"SHALADARPAN!A630","v":11},{"$f":"SHALADARPAN!B630","v":"A"},{"$f":"SHALADARPAN!K630","v":1374},{"$f":"SHALADARPAN!E630","v":"POOJA KACHCHHAWA"},{"$f":"SHALADARPAN!G630","v":"Kailash"}]
[{"$nulls":18},{"$f":"SHALADARPAN!A631","v":11},{"$f":"SHALADARPAN!B631","v":"A"},{"$f":"SHALADARPAN!K631","v":1376},{"$f":"SHALADARPAN!E631","v":"POONAM CHAND SAINI"},{"$f":"SHALADARPAN!G631","v":"Kailash"}]
[{"$nulls":18},{"$f":"SHALADARPAN!A632","v":11},{"$f":"SHALADARPAN!B632","v":"A"},{"$f":"SHALADARPAN!K632","v":1378},{"$f":"SHALADARPAN!E632","v":"PRERNA SHARMA"},{"$f":"SHALADARPAN!G632","v":"Kailash"}]
[{"$nulls":18},{"$f":"SHALADARPAN!A633","v":11},{"$f":"SHALADARPAN!B633","v":"A"},{"$f":"SHALADARPAN!K633","v":1379},{"$f":"SHALADARPAN!E633","v":"Priyanka Chawda"},{"$f":"SHALADARPAN!G633","v":"Kailash"}]
[{"$nulls":18},{"$f":"SHALADARPAN!A634","v":11},{"$f":"SHALADARPAN!B634","v":"A"},{"$f":"SHALADARPAN!K634","v":1380},{"$f":"SHALADARPAN!E634","v":"PRIYANKA DEVI"},{"$f":"SHALADARPAN!G634","v":"Kailash"}]
[{"$nulls":18},{"$f":"SHALADARPAN!A635","v":11},{"$f":"SHALADARPAN!B635","v":"A"},{"$f":"SHALADARPAN!K635","v":1385},{"$f":"SHALADARPAN!E635","v":"RAKESH KACHCHHAVA"},{"$f":"SHALADARPAN!G635","v":"Kailash"}]
[{"$nulls":18},{"$f":"SHALADARPAN!A636","v":11},{"$f":"SHALADARPAN!B636","v":"A"},{"$f":"SHALADARPAN!K636","v":1386},{"$f":"SHALADARPAN!E636","v":"RAM AVTAR SAINI"},{"$f":"SHALADARPAN!G636","v":"Kailash"}]
[{"$nulls":18},{"$f":"SHALADARPAN!A637","v":11},{"$f":"SHALADARPAN!B637","v":"A"},{"$f":"SHALADARPAN!K637","v":1387},{"$f":"SHALADARPAN!E637","v":"RAMJANA BANOO"},{"$f":"SHALADARPAN!G637","v":"Kailash"}]
[{"$nulls":18},{"$f":"SHALADARPAN!A638","v":11},{"$f":"SHALADARPAN!B638","v":"A"},{"$f":"SHALADARPAN!K638","v":1389},{"$f":"SHALADARPAN!E638","v":"RAMNIWAS KUMAWAT"},{"$f":"SHALADARPAN!G638","v":"Kailash"}]
[{"$nulls":18},{"$f":"SHALADARPAN!A639","v":11},{"$f":"SHALADARPAN!B639","v":"A"},{"$f":"SHALADARPAN!K639","v":1390},{"$f":"SHALADARPAN!E639","v":"RAVI KUMAR ACHARYA"},{"$f":"SHALADARPAN!G639","v":"Kailash"}]
[{"$nulls":18},{"$f":"SHALADARPAN!A640","v":11},{"$f":"SHALADARPAN!B640","v":"A"},{"$f":"SHALADARPAN!K640","v":1392},{"$f":"SHALADARPAN!E640","v":"RAVINDRA SINGH"},{"$f":"SHALADARPAN!G640","v":"Kailash"}]
[{"$nulls":18},{"$f":"SHALADARPAN!A641","v":11},{"$f":"SHALADARPAN!B641","v":"A"},{"$f":"SHALADARPAN!K641","v":1391},{"$f":"SHALADARPAN!E641","v":"RAVINDRA SINGH"},{"$f":"SHALADARPAN!G641","v":"Kailash"}]
[{"$nulls":18},{"$f":"SHALADARPAN!A642","v":11},{"$f":"SHALADARPAN!B642","v":"A"},{"$f":"SHALADARPAN!K642","v":1393},{"$f":"SHALADARPAN!E642","v":"REKHA JANGID"},{"$f":"SHALADARPAN!G642","v":"Kailash"}]
[{"$nulls":18},{"$f":"SHALADARPAN!A643","v":11},{"$f":"SHALADARPAN!B643","v":"A"},{"$f":"SHALADARPAN!K643","v":1394},{"$f":"SHALADARPAN!E643","v":"RINKU KUMAWAT"},{"$f":"SHALADARPAN!G643","v":"Kailash"}]
[{"$nulls":18},{"$f":"SHALADARPAN!A644","v":11},{"$f":"SHALADARPAN!B644","v":"A"},{"$f":"SHALADARPAN!K644","v":1395},{"$f":"SHALADARPAN!E644","v":"RIYANA BANU"},{"$f":"SHALADARPAN!G644","v":"Kailash"}]
[{"$nulls":18},{"$f":"SHALADARPAN!A645","v":11},{"$f":"SHALADARPAN!B645","v":"A"},{"$f":"SHALADARPAN!K645","v":1396},{"$f":"SHALADARPAN!E645","v":"ROHIT"},{"$f":"SHALADARPAN!G645","v":"Kailash"}]
[{"$nulls":18},{"$f":"SHALADARPAN!A646","v":11},{"$f":"SHALADARPAN!B646","v":"A"},{"$f":"SHALADARPAN!K646","v":1397},{"$f":"SHALADARPAN!E646","v":"ROHIT SOLANKI"},{"$f":"SHALADARPAN!G646","v":"Kailash"}]
[{"$nulls":18},{"$f":"SHALADARPAN!A647","v":11},{"$f":"SHALADARPAN!B647","v":"A"},{"$f":"SHALADARPAN!K647","v":1399},{"$f":"SHALADARPAN!E647","v":"SALAUDIN"},{"$f":"SHALADARPAN!G647","v":"Kailash"}]
[{"$nulls":18},{"$f":"SHALADARPAN!A648","v":11},{"$f":"SHALADARPAN!B648","v":"A"},{"$f":"SHALADARPAN!K648","v":1400},{"$f":"SHALADARPAN!E648","v":"SALMAN"},{"$f":"SHALADARPAN!G648","v":"Kailash"}]
[{"$nulls":18},{"$f":"SHALADARPAN!A649","v":11},{"$f":"SHALADARPAN!B649","v":"A"},{"$f":"SHALADARPAN!K649","v":1401},{"$f":"SHALADARPAN!E649","v":"SANIYA BANOO"},{"$f":"SHALADARPAN!G649","v":"Kailash"}]
[{"$nulls":18},{"$f":"SHALADARPAN!A650","v":11},{"$f":"SHALADARPAN!B650","v":"A"},{"$f":"SHALADARPAN!K650","v":1403},{"$f":"SHALADARPAN!E650","v":"SARITA BAWARI"},{"$f":"SHALADARPAN!G650","v":"Kailash"}]
[{"$nulls":18},{"$f":"SHALADARPAN!A651","v":11},{"$f":"SHALADARPAN!B651","v":"A"},{"$f":"SHALADARPAN!K651","v":1405},{"$f":"SHALADARPAN!E651","v":"Seema Choukidar"},{"$f":"SHALADARPAN!G651","v":"Kailash"}]
[{"$nulls":18},{"$f":"SHALADARPAN!A652","v":11},{"$f":"SHALADARPAN!B652","v":"A"},{"$f":"SHALADARPAN!K652","v":1406},{"$f":"SHALADARPAN!E652","v":"SHABANA"},{"$f":"SHALADARPAN!G652","v":"Kailash"}]
[{"$nulls":18},{"$f":"SHALADARPAN!A653","v":11},{"$f":"SHALADARPAN!B653","v":"A"},{"$f":"SHALADARPAN!K653","v":1407},{"$f":"SHALADARPAN!E653","v":"SHAKTI SINGH"},{"$f":"SHALADARPAN!G653","v":"Kailash"}]
[{"$nulls":18},{"$f":"SHALADARPAN!A654","v":11},{"$f":"SHALADARPAN!B654","v":"A"},{"$f":"SHALADARPAN!K654","v":1408},{"$f":"SHALADARPAN!E654","v":"Shankar Gurjar"},{"$f":"SHALADARPAN!G654","v":"Kailash"}]
[{"$nulls":18},{"$f":"SHALADARPAN!A655","v":11},{"$f":"SHALADARPAN!B655","v":"A"},{"$f":"SHALADARPAN!K655","v":1409},{"$f":"SHALADARPAN!E655","v":"Shreeram Saini"},{"$f":"SHALADARPAN!G655","v":"Kailash"}]
[{"$nulls":18},{"$f":"SHALADARPAN!A656","v":11},{"$f":"SHALADARPAN!B656","v":"A"},{"$f":"SHALADARPAN!K656","v":1410},{"$f":"SHALADARPAN!E656","v":"Sonika"},{"$f":"SHALADARPAN!G656","v":"Kailash"}]
[{"$nulls":18},{"$f":"SHALADARPAN!A657","v":11},{"$f":"SHALADARPAN!B657","v":"A"},{"$f":"SHALADARPAN!K657","v":1414},{"$f":"SHALADARPAN!E657","v":"Sumer Barada"},{"$f":"SHALADARPAN!G657","v":"Kailash"}]
[{"$nulls":18},{"$f":"SHALADARPAN!A658","v":11},{"$f":"SHALADARPAN!B658","v":"A"},{"$f":"SHALADARPAN!K658","v":1415},{"$f":"SHALADARPAN!E658","v":"SUNIL"},{"$f":"SHALADARPAN!G658","v":"Kailash"}]
[{"$nulls":18},{"$f":"SHALADARPAN!A659","v":11},{"$f":"SHALADARPAN!B659","v":"A"},{"$f":"SHALADARPAN!K659","v":1417},{"$f":"SHALADARPAN!E659","v":"Sunil Boraniya"},{"$f":"SHALADARPAN!G659","v":"Kailash"}]
[{"$nulls":18},{"$f":"SHALADARPAN!A660","v":11},{"$f":"SHALADARPAN!B660","v":"A"},{"$f":"SHALADARPAN!K660","v":1418},{"$f":"SHALADARPAN!E660","v":"SUNIL NATH"},{"$f":"SHALADARPAN!G660","v":"Kailash"}]
[{"$nulls":18},{"$f":"SHALADARPAN!A661","v":11},{"$f":"SHALADARPAN!B661","v":"A"},{"$f":"SHALADARPAN!K661","v":1419},{"$f":"SHALADARPAN!E661","v":"SUNIL SAINI"},{"$f":"SHALADARPAN!G661","v":"Kailash"}]
[{"$nulls":18},{"$f":"SHALADARPAN!A662","v":11},{"$f":"SHALADARPAN!B662","v":"A"},{"$f":"SHALADARPAN!K662","v":1421},{"$f":"SHALADARPAN!E662","v":"TARUN SAINI"},{"$f":"SHALADARPAN!G662","v":"Kailash"}]
[{"$nulls":18},{"$f":"SHALADARPAN!A663","v":11},{"$f":"SHALADARPAN!B663","v":"A"},{"$f":"SHALADARPAN!K663","v":1422},{"$f":"SHALADARPAN!E663","v":"VIKRAM SINGH"},{"$f":"SHALADARPAN!G663","v":"Kailash"}]
[{"$nulls":18},{"$f":"SHALADARPAN!A664","v":11},{"$f":"SHALADARPAN!B664","v":"A"},{"$f":"SHALADARPAN!K664","v":1423},{"$f":"SHALADARPAN!E664","v":"VISHNU CHOKIDAR"},{"$f":"SHALADARPAN!G664","v":"Kailash"}]
[{"$nulls":18},{"$f":"SHALADARPAN!A665","v":11},{"$f":"SHALADARPAN!B665","v":"A"},{"$f":"SHALADARPAN!K665","v":1424},{"$f":"SHALADARPAN!E665","v":"YAGHYANARAYAN SINGH"},{"$f":"SHALADARPAN!G665","v":"Kailash"}]
[{"$nulls":18},{"$f":"SHALADARPAN!A666","v":11},{"$f":"SHALADARPAN!B666","v":"B"},{"$f":"SHALADARPAN!K666","v":1501},{"$f":"SHALADARPAN!E666","v":"Ankit"},{"$f":"SHALADARPAN!G666","v":"Kailash"}]
[{"$nulls":18},{"$f":"SHALADARPAN!A667","v":11},{"$f":"SHALADARPAN!B667","v":"B"},{"$f":"SHALADARPAN!K667","v":1502},{"$f":"SHALADARPAN!E667","v":"ARPIT SHARMA"},{"$f":"SHALADARPAN!G667","v":"Kailash"}]
[{"$nulls":18},{"$f":"SHALADARPAN!A668","v":11},{"$f":"SHALADARPAN!B668","v":"B"},{"$f":"SHALADARPAN!K668","v":1503},{"$f":"SHALADARPAN!E668","v":"Barkat Ali"},{"$f":"SHALADARPAN!G668","v":"Kailash"}]
[{"$nulls":18},{"$f":"SHALADARPAN!A669","v":11},{"$f":"SHALADARPAN!B669","v":"B"},{"$f":"SHALADARPAN!K669","v":1504},{"$f":"SHALADARPAN!E669","v":"Bhavna Vaishnav"},{"$f":"SHALADARPAN!G669","v":"Kailash"}]
[{"$nulls":18},{"$f":"SHALADARPAN!A670","v":11},{"$f":"SHALADARPAN!B670","v":"B"},{"$f":"SHALADARPAN!K670","v":1505},{"$f":"SHALADARPAN!E670","v":"DEEKSHA PARIHAR"},{"$f":"SHALADARPAN!G670","v":"Kailash"}]
[{"$nulls":18},{"$f":"SHALADARPAN!A671","v":11},{"$f":"SHALADARPAN!B671","v":"B"},{"$f":"SHALADARPAN!K671","v":1506},{"$f":"SHALADARPAN!E671","v":"DEEPIKA SHARMA"},{"$f":"SHALADARPAN!G671","v":"Kailash"}]
[{"$nulls":18},{"$f":"SHALADARPAN!A672","v":11},{"$f":"SHALADARPAN!B672","v":"B"},{"$f":"SHALADARPAN!K672","v":1507},{"$f":"SHALADARPAN!E672","v":"FIROJA BANU"},{"$f":"SHALADARPAN!G672","v":"Kailash"}]
[{"$nulls":18},{"$f":"SHALADARPAN!A673","v":11},{"$f":"SHALADARPAN!B673","v":"B"},{"$f":"SHALADARPAN!K673","v":1508},{"$f":"SHALADARPAN!E673","v":"GARIMA PARIHAR"},{"$f":"SHALADARPAN!G673","v":"Kailash"}]
[{"$nulls":18},{"$f":"SHALADARPAN!A674","v":11},{"$f":"SHALADARPAN!B674","v":"B"},{"$f":"SHALADARPAN!K674","v":1509},{"$f":"SHALADARPAN!E674","v":"Govind Ram"},{"$f":"SHALADARPAN!G674","v":"Kailash"}]
[{"$nulls":18},{"$f":"SHALADARPAN!A675","v":11},{"$f":"SHALADARPAN!B675","v":"B"},{"$f":"SHALADARPAN!K675","v":1510},{"$f":"SHALADARPAN!E675","v":"GUDDI DEVI"},{"$f":"SHALADARPAN!G675","v":"Kailash"}]
[{"$nulls":18},{"$f":"SHALADARPAN!A676","v":11},{"$f":"SHALADARPAN!B676","v":"B"},{"$f":"SHALADARPAN!K676","v":1511},{"$f":"SHALADARPAN!E676","v":"HAIDER ALI"},{"$f":"SHALADARPAN!G676","v":"Kailash"}]
[{"$nulls":18},{"$f":"SHALADARPAN!A677","v":11},{"$f":"SHALADARPAN!B677","v":"B"},{"$f":"SHALADARPAN!K677","v":1512},{"$f":"SHALADARPAN!E677","v":"HEMLATA"},{"$f":"SHALADARPAN!G677","v":"Kailash"}]
[{"$nulls":18},{"$f":"SHALADARPAN!A678","v":11},{"$f":"SHALADARPAN!B678","v":"B"},{"$f":"SHALADARPAN!K678","v":1513},{"$f":"SHALADARPAN!E678","v":"KARAN KUMAR ACHARYA"},{"$f":"SHALADARPAN!G678","v":"Kailash"}]
[{"$nulls":18},{"$f":"SHALADARPAN!A679","v":11},{"$f":"SHALADARPAN!B679","v":"B"},{"$f":"SHALADARPAN!K679","v":1514},{"$f":"SHALADARPAN!E679","v":"KAVITA PRAJAPAT"},{"$f":"SHALADARPAN!G679","v":"Kailash"}]
[{"$nulls":18},{"$f":"SHALADARPAN!A680","v":11},{"$f":"SHALADARPAN!B680","v":"B"},{"$f":"SHALADARPAN!K680","v":1515},{"$f":"SHALADARPAN!E680","v":"Komal"},{"$f":"SHALADARPAN!G680","v":"Kailash"}]
[{"$nulls":18},{"$f":"SHALADARPAN!A681","v":11},{"$f":"SHALADARPAN!B681","v":"B"},{"$f":"SHALADARPAN!K681","v":1516},{"$f":"SHALADARPAN!E681","v":"KOMAL PRAJAPAT"},{"$f":"SHALADARPAN!G681","v":"Kailash"}]
[{"$nulls":18},{"$f":"SHALADARPAN!A682","v":11},{"$f":"SHALADARPAN!B682","v":"B"},{"$f":"SHALADARPAN!K682","v":1517},{"$f":"SHALADARPAN!E682","v":"Krishna Saini"},{"$f":"SHALADARPAN!G682","v":"Kailash"}]
[{"$nulls":18},{"$f":"SHALADARPAN!A683","v":11},{"$f":"SHALADARPAN!B683","v":"B"},{"$f":"SHALADARPAN!K683","v":1518},{"$f":"SHALADARPAN!E683","v":"MANISH KUMAR"},{"$f":"SHALADARPAN!G683","v":"Kailash"}]
[{"$nulls":18},{"$f":"SHALADARPAN!A684","v":11},{"$f":"SHALADARPAN!B684","v":"B"},{"$f":"SHALADARPAN!K684","v":1519},{"$f":"SHALADARPAN!E684","v":"MANISH KUMAR SAINI"},{"$f":"SHALADARPAN!G684","v":"Kailash"}]
[{"$nulls":18},{"$f":"SHALADARPAN!A685","v":11},{"$f":"SHALADARPAN!B685","v":"B"},{"$f":"SHALADARPAN!K685","v":1520},{"$f":"SHALADARPAN!E685","v":"Manjeet Singh Shekhawat"},{"$f":"SHALADARPAN!G685","v":"Kailash"}]
[{"$nulls":18},{"$f":"SHALADARPAN!A686","v":11},{"$f":"SHALADARPAN!B686","v":"B"},{"$f":"SHALADARPAN!K686","v":1521},{"$f":"SHALADARPAN!E686","v":"MOHAMMAD SHAHROOKH"},{"$f":"SHALADARPAN!G686","v":"Kailash"}]
[{"$nulls":18},{"$f":"SHALADARPAN!A687","v":11},{"$f":"SHALADARPAN!B687","v":"B"},{"$f":"SHALADARPAN!K687","v":1522},{"$f":"SHALADARPAN!E687","v":"MOHIT VAISHNAV"},{"$f":"SHALADARPAN!G687","v":"Kailash"}]
[{"$nulls":18},{"$f":"SHALADARPAN!A688","v":11},{"$f":"SHALADARPAN!B688","v":"B"},{"$f":"SHALADARPAN!K688","v":1523},{"$f":"SHALADARPAN!E688","v":"Mukesh Dagdi"},{"$f":"SHALADARPAN!G688","v":"Kailash"}]
[{"$nulls":18},{"$f":"SHALADARPAN!A689","v":11},{"$f":"SHALADARPAN!B689","v":"B"},{"$f":"SHALADARPAN!K689","v":1524},{"$f":"SHALADARPAN!E689","v":"MUSHRAT BANO"},{"$f":"SHALADARPAN!G689","v":"Kailash"}]
[{"$nulls":18},{"$f":"SHALADARPAN!A690","v":11},{"$f":"SHALADARPAN!B690","v":"B"},{"$f":"SHALADARPAN!K690","v":1525},{"$f":"SHALADARPAN!E690","v":"NEERU SAINI"},{"$f":"SHALADARPAN!G690","v":"Kailash"}]
[{"$nulls":18},{"$f":"SHALADARPAN!A691","v":11},{"$f":"SHALADARPAN!B691","v":"B"},{"$f":"SHALADARPAN!K691","v":1526},{"$f":"SHALADARPAN!E691","v":"PINKI"},{"$f":"SHALADARPAN!G691","v":"Kailash"}]
[{"$nulls":18},{"$f":"SHALADARPAN!A692","v":11},{"$f":"SHALADARPAN!B692","v":"B"},{"$f":"SHALADARPAN!K692","v":1527},{"$f":"SHALADARPAN!E692","v":"POOJA"},{"$f":"SHALADARPAN!G692","v":"Kailash"}]
[{"$nulls":18},{"$f":"SHALADARPAN!A693","v":11},{"$f":"SHALADARPAN!B693","v":"B"},{"$f":"SHALADARPAN!K693","v":1528},{"$f":"SHALADARPAN!E693","v":"POONAM JHUNJHADIYA"},{"$f":"SHALADARPAN!G693","v":"Kailash"}]
[{"$nulls":18},{"$f":"SHALADARPAN!A694","v":11},{"$f":"SHALADARPAN!B694","v":"B"},{"$f":"SHALADARPAN!K694","v":1529},{"$f":"SHALADARPAN!E694","v":"Pradeep Faroda"},{"$f":"SHALADARPAN!G694","v":"Kailash"}]
[{"$nulls":18},{"$f":"SHALADARPAN!A695","v":11},{"$f":"SHALADARPAN!B695","v":"B"},{"$f":"SHALADARPAN!K695","v":1530},{"$f":"SHALADARPAN!E695","v":"Priyanka Sharma"},{"$f":"SHALADARPAN!G695","v":"Kailash"}]
[{"$nulls":18},{"$f":"SHALADARPAN!A696","v":11},{"$f":"SHALADARPAN!B696","v":"B"},{"$f":"SHALADARPAN!K696","v":1531},{"$f":"SHALADARPAN!E696","v":"PUKHRAJ BORANIYA"},{"$f":"SHALADARPAN!G696","v":"Kailash"}]
[{"$nulls":18},{"$f":"SHALADARPAN!A697","v":11},{"$f":"SHALADARPAN!B697","v":"B"},{"$f":"SHALADARPAN!K697","v":1532},{"$f":"SHALADARPAN!E697","v":"PURAN"},{"$f":"SHALADARPAN!G697","v":"Kailash"}]
[{"$nulls":18},{"$f":"SHALADARPAN!A698","v":11},{"$f":"SHALADARPAN!B698","v":"B"},{"$f":"SHALADARPAN!K698","v":1533},{"$f":"SHALADARPAN!E698","v":"RICHHPAL RAIKA"},{"$f":"SHALADARPAN!G698","v":"Kailash"}]
[{"$nulls":18},{"$f":"SHALADARPAN!A699","v":11},{"$f":"SHALADARPAN!B699","v":"B"},{"$f":"SHALADARPAN!K699","v":1534},{"$f":"SHALADARPAN!E699","v":"SABIR HUSAIN"},{"$f":"SHALADARPAN!G699","v":"Kailash"}]
[{"$nulls":18},{"$f":"SHALADARPAN!A700","v":11},{"$f":"SHALADARPAN!B700","v":"B"},{"$f":"SHALADARPAN!K700","v":1535},{"$f":"SHALADARPAN!E700","v":"SEEMA"},{"$f":"SHALADARPAN!G700","v":"Kailash"}]
[{"$nulls":18},{"$f":"SHALADARPAN!A701","v":11},{"$f":"SHALADARPAN!B701","v":"B"},{"$f":"SHALADARPAN!K701","v":1536},{"$f":"SHALADARPAN!E701","v":"SEEMA DEVI"},{"$f":"SHALADARPAN!G701","v":"Kailash"}]
[{"$nulls":18},{"$f":"SHALADARPAN!A702","v":11},{"$f":"SHALADARPAN!B702","v":"B"},{"$f":"SHALADARPAN!K702","v":1537},{"$f":"SHALADARPAN!E702","v":"Sunil"},{"$f":"SHALADARPAN!G702","v":"Kailash"}]
[{"$nulls":18},{"$f":"SHALADARPAN!A703","v":11},{"$f":"SHALADARPAN!B703","v":"B"},{"$f":"SHALADARPAN!K703","v":1538},{"$f":"SHALADARPAN!E703","v":"SUNITA MEGHWAL"},{"$f":"SHALADARPAN!G703","v":"Kailash"}]
[{"$nulls":18},{"$f":"SHALADARPAN!A704","v":11},{"$f":"SHALADARPAN!B704","v":"B"},{"$f":"SHALADARPAN!K704","v":1539},{"$f":"SHALADARPAN!E704","v":"TEENA VAISHNAV"},{"$f":"SHALADARPAN!G704","v":"Kailash"}]
[{"$nulls":18},{"$f":"SHALADARPAN!A705","v":11},{"$f":"SHALADARPAN!B705","v":"B"},{"$f":"SHALADARPAN!K705","v":1540},{"$f":"SHALADARPAN!E705","v":"Vidhya Chand"},{"$f":"SHALADARPAN!G705","v":"Kailash"}]
[{"$nulls":18},{"$f":"SHALADARPAN!A706","v":11},{"$f":"SHALADARPAN!B706","v":"B"},{"$f":"SHALADARPAN!K706","v":1541},{"$f":"SHALADARPAN!E706","v":"VIKAS KUMAWAT"},{"$f":"SHALADARPAN!G706","v":"Kailash"}]
[{"$nulls":18},{"$f":"SHALADARPAN!A707","v":11},{"$f":"SHALADARPAN!B707","v":"B"},{"$f":"SHALADARPAN!K707","v":1542},{"$f":"SHALADARPAN!E707","v":"YASIN MOHAMMAD"},{"$f":"SHALADARPAN!G707","v":"Kailash"}]
[{"$nulls":18},{"$f":"SHALADARPAN!A708","v":12},{"$f":"SHALADARPAN!B708","v":"A"},{"$f":"SHALADARPAN!K708","v":1601},{"$f":"SHALADARPAN!E708","v":"ABDUL RAHMAN"},{"$f":"SHALADARPAN!G708","v":"Kailash"}]
[{"$nulls":18},{"$f":"SHALADARPAN!A709","v":12},{"$f":"SHALADARPAN!B709","v":"A"},{"$f":"SHALADARPAN!K709","v":1603},{"$f":"SHALADARPAN!E709","v":"ALAUDIN"},{"$f":"SHALADARPAN!G709","v":"Kailash"}]
[{"$nulls":18},{"$f":"SHALADARPAN!A710","v":12},{"$f":"SHALADARPAN!B710","v":"A"},{"$f":"SHALADARPAN!K710","v":1604},{"$f":"SHALADARPAN!E710","v":"Anita Saini"},{"$f":"SHALADARPAN!G710","v":"Kailash"}]
[{"$nulls":18},{"$f":"SHALADARPAN!A711","v":12},{"$f":"SHALADARPAN!B711","v":"A"},{"$f":"SHALADARPAN!K711","v":1605},{"$f":"SHALADARPAN!E711","v":"ANKIT KACHCHHAVA"},{"$f":"SHALADARPAN!G711","v":"Kailash"}]
[{"$nulls":18},{"$f":"SHALADARPAN!A712","v":12},{"$f":"SHALADARPAN!B712","v":"A"},{"$f":"SHALADARPAN!K712","v":1606},{"$f":"SHALADARPAN!E712","v":"BANSHI LAL"},{"$f":"SHALADARPAN!G712","v":"Kailash"}]
[{"$nulls":18},{"$f":"SHALADARPAN!A713","v":12},{"$f":"SHALADARPAN!B713","v":"A"},{"$f":"SHALADARPAN!K713","v":1607},{"$f":"SHALADARPAN!E713","v":"BARKAT ALI"},{"$f":"SHALADARPAN!G713","v":"Kailash"}]
[{"$nulls":18},{"$f":"SHALADARPAN!A714","v":12},{"$f":"SHALADARPAN!B714","v":"A"},{"$f":"SHALADARPAN!K714","v":1608},{"$f":"SHALADARPAN!E714","v":"Dashrath Vaishnav"},{"$f":"SHALADARPAN!G714","v":"Kailash"}]
[{"$nulls":18},{"$f":"SHALADARPAN!A715","v":12},{"$f":"SHALADARPAN!B715","v":"A"},{"$f":"SHALADARPAN!K715","v":1609},{"$f":"SHALADARPAN!E715","v":"DINESH KUMAR"},{"$f":"SHALADARPAN!G715","v":"Kailash"}]
[{"$nulls":18},{"$f":"SHALADARPAN!A716","v":12},{"$f":"SHALADARPAN!B716","v":"A"},{"$f":"SHALADARPAN!K716","v":1610},{"$f":"SHALADARPAN!E716","v":"Dinesh Soda"},{"$f":"SHALADARPAN!G716","v":"Kailash"}]
[{"$nulls":18},{"$f":"SHALADARPAN!A717","v":12},{"$f":"SHALADARPAN!B717","v":"A"},{"$f":"SHALADARPAN!K717","v":1611},{"$f":"SHALADARPAN!E717","v":"GAUTAM SINGH"},{"$f":"SHALADARPAN!G717","v":"Kailash"}]
[{"$nulls":18},{"$f":"SHALADARPAN!A718","v":12},{"$f":"SHALADARPAN!B718","v":"A"},{"$f":"SHALADARPAN!K718","v":1612},{"$f":"SHALADARPAN!E718","v":"GUMAN NATH"},{"$f":"SHALADARPAN!G718","v":"Kailash"}]
[{"$nulls":18},{"$f":"SHALADARPAN!A719","v":12},{"$f":"SHALADARPAN!B719","v":"A"},{"$f":"SHALADARPAN!K719","v":1613},{"$f":"SHALADARPAN!E719","v":"HASEENA BANO"},{"$f":"SHALADARPAN!G719","v":"Kailash"}]
[{"$nulls":18},{"$f":"SHALADARPAN!A720","v":12},{"$f":"SHALADARPAN!B720","v":"A"},{"$f":"SHALADARPAN!K720","v":1614},{"$f":"SHALADARPAN!E720","v":"HEENA BANOO"},{"$f":"SHALADARPAN!G720","v":"Kailash"}]
[{"$nulls":18},{"$f":"SHALADARPAN!A721","v":12},{"$f":"SHALADARPAN!B721","v":"A"},{"$f":"SHALADARPAN!K721","v":1615},{"$f":"SHALADARPAN!E721","v":"HINA BANU"},{"$f":"SHALADARPAN!G721","v":"Kailash"}]
[{"$nulls":18},{"$f":"SHALADARPAN!A722","v":12},{"$f":"SHALADARPAN!B722","v":"A"},{"$f":"SHALADARPAN!K722","v":1616},{"$f":"SHALADARPAN!E722","v":"IKBAL MOHAMMAD"},{"$f":"SHALADARPAN!G722","v":"Kailash"}]
[{"$nulls":18},{"$f":"SHALADARPAN!A723","v":12},{"$f":"SHALADARPAN!B723","v":"A"},{"$f":"SHALADARPAN!K723","v":1617},{"$f":"SHALADARPAN!E723","v":"KAVITA TAMBOLI"},{"$f":"SHALADARPAN!G723","v":"Kailash"}]
[{"$nulls":18},{"$f":"SHALADARPAN!A724","v":12},{"$f":"SHALADARPAN!B724","v":"A"},{"$f":"SHALADARPAN!K724","v":1618},{"$f":"SHALADARPAN!E724","v":"KUDRAT BANO"},{"$f":"SHALADARPAN!G724","v":"Kailash"}]
[{"$nulls":18},{"$f":"SHALADARPAN!A725","v":12},{"$f":"SHALADARPAN!B725","v":"A"},{"$f":"SHALADARPAN!K725","v":1619},{"$f":"SHALADARPAN!E725","v":"KULDEEP ACHARYA"},{"$f":"SHALADARPAN!G725","v":"Kailash"}]
[{"$nulls":18},{"$f":"SHALADARPAN!A726","v":12},{"$f":"SHALADARPAN!B726","v":"A"},{"$f":"SHALADARPAN!K726","v":1620},{"$f":"SHALADARPAN!E726","v":"LAXMI GURJAR"},{"$f":"SHALADARPAN!G726","v":"Kailash"}]
[{"$nulls":18},{"$f":"SHALADARPAN!A727","v":12},{"$f":"SHALADARPAN!B727","v":"A"},{"$f":"SHALADARPAN!K727","v":1621},{"$f":"SHALADARPAN!E727","v":"MAMTA"},{"$f":"SHALADARPAN!G727","v":"Kailash"}]
[{"$nulls":18},{"$f":"SHALADARPAN!A728","v":12},{"$f":"SHALADARPAN!B728","v":"A"},{"$f":"SHALADARPAN!K728","v":1622},{"$f":"SHALADARPAN!E728","v":"MAMTA GURJAR"},{"$f":"SHALADARPAN!G728","v":"Kailash"}]
[{"$nulls":18},{"$f":"SHALADARPAN!A729","v":12},{"$f":"SHALADARPAN!B729","v":"A"},{"$f":"SHALADARPAN!K729","v":1623},{"$f":"SHALADARPAN!E729","v":"MANISH MALI"},{"$f":"SHALADARPAN!G729","v":"Kailash"}]
[{"$nulls":18},{"$f":"SHALADARPAN!A730","v":12},{"$f":"SHALADARPAN!B730","v":"A"},{"$f":"SHALADARPAN!K730","v":1624},{"$f":"SHALADARPAN!E730","v":"MONIKA KANWAR"},{"$f":"SHALADARPAN!G730","v":"Kailash"}]
[{"$nulls":18},{"$f":"SHALADARPAN!A731","v":12},{"$f":"SHALADARPAN!B731","v":"A"},{"$f":"SHALADARPAN!K731","v":1625},{"$f":"SHALADARPAN!E731","v":"NAZIYA"},{"$f":"SHALADARPAN!G731","v":"Kailash"}]
[{"$nulls":18},{"$f":"SHALADARPAN!A732","v":12},{"$f":"SHALADARPAN!B732","v":"A"},{"$f":"SHALADARPAN!K732","v":1626},{"$f":"SHALADARPAN!E732","v":"NOSHAD SHYA"},{"$f":"SHALADARPAN!G732","v":"Kailash"}]
[{"$nulls":18},{"$f":"SHALADARPAN!A733","v":12},{"$f":"SHALADARPAN!B733","v":"A"},{"$f":"SHALADARPAN!K733","v":1627},{"$f":"SHALADARPAN!E733","v":"POOJA"},{"$f":"SHALADARPAN!G733","v":"Kailash"}]
[{"$nulls":18},{"$f":"SHALADARPAN!A734","v":12},{"$f":"SHALADARPAN!B734","v":"A"},{"$f":"SHALADARPAN!K734","v":1628},{"$f":"SHALADARPAN!E734","v":"POOJA DEVI"},{"$f":"SHALADARPAN!G734","v":"Kailash"}]
[{"$nulls":18},{"$f":"SHALADARPAN!A735","v":12},{"$f":"SHALADARPAN!B735","v":"A"},{"$f":"SHALADARPAN!K735","v":1629},{"$f":"SHALADARPAN!E735","v":"POOJA MAROTHIYA"},{"$f":"SHALADARPAN!G735","v":"Kailash"}]
[{"$nulls":18},{"$f":"SHALADARPAN!A736","v":12},{"$f":"SHALADARPAN!B736","v":"A"},{"$f":"SHALADARPAN!K736","v":1630},{"$f":"SHALADARPAN!E736","v":"POOJA NATH"},{"$f":"SHALADARPAN!G736","v":"Kailash"}]
[{"$nulls":18},{"$f":"SHALADARPAN!A737","v":12},{"$f":"SHALADARPAN!B737","v":"A"},{"$f":"SHALADARPAN!K737","v":1631},{"$f":"SHALADARPAN!E737","v":"Priyanka Tak"},{"$f":"SHALADARPAN!G737","v":"Kailash"}]
[{"$nulls":18},{"$f":"SHALADARPAN!A738","v":12},{"$f":"SHALADARPAN!B738","v":"A"},{"$f":"SHALADARPAN!K738","v":1633},{"$f":"SHALADARPAN!E738","v":"Rahul Raidas"},{"$f":"SHALADARPAN!G738","v":"Kailash"}]
[{"$nulls":18},{"$f":"SHALADARPAN!A739","v":12},{"$f":"SHALADARPAN!B739","v":"A"},{"$f":"SHALADARPAN!K739","v":1634},{"$f":"SHALADARPAN!E739","v":"RAHUL SAINI"},{"$f":"SHALADARPAN!G739","v":"Kailash"}]
[{"$nulls":18},{"$f":"SHALADARPAN!A740","v":12},{"$f":"SHALADARPAN!B740","v":"A"},{"$f":"SHALADARPAN!K740","v":1635},{"$f":"SHALADARPAN!E740","v":"RAJENDRA MAROTHIYA"},{"$f":"SHALADARPAN!G740","v":"Kailash"}]
[{"$nulls":18},{"$f":"SHALADARPAN!A741","v":12},{"$f":"SHALADARPAN!B741","v":"A"},{"$f":"SHALADARPAN!K741","v":1636},{"$f":"SHALADARPAN!E741","v":"RAKESH KACHCHHAVA"},{"$f":"SHALADARPAN!G741","v":"Kailash"}]
[{"$nulls":18},{"$f":"SHALADARPAN!A742","v":12},{"$f":"SHALADARPAN!B742","v":"A"},{"$f":"SHALADARPAN!K742","v":1637},{"$f":"SHALADARPAN!E742","v":"RAVI"},{"$f":"SHALADARPAN!G742","v":"Kailash"}]
[{"$nulls":18},{"$f":"SHALADARPAN!A743","v":12},{"$f":"SHALADARPAN!B743","v":"A"},{"$f":"SHALADARPAN!K743","v":1638},{"$f":"SHALADARPAN!E743","v":"RUBINA"},{"$f":"SHALADARPAN!G743","v":"Kailash"}]
[{"$nulls":18},{"$f":"SHALADARPAN!A744","v":12},{"$f":"SHALADARPAN!B744","v":"A"},{"$f":"SHALADARPAN!K744","v":1640},{"$f":"SHALADARPAN!E744","v":"SAMPAT LAL"},{"$f":"SHALADARPAN!G744","v":"Kailash"}]
[{"$nulls":18},{"$f":"SHALADARPAN!A745","v":12},{"$f":"SHALADARPAN!B745","v":"A"},{"$f":"SHALADARPAN!K745","v":1641},{"$f":"SHALADARPAN!E745","v":"SAPNA MEGHWAL"},{"$f":"SHALADARPAN!G745","v":"Kailash"}]
[{"$nulls":18},{"$f":"SHALADARPAN!A746","v":12},{"$f":"SHALADARPAN!B746","v":"A"},{"$f":"SHALADARPAN!K746","v":1642},{"$f":"SHALADARPAN!E746","v":"SARLA SAINI"},{"$f":"SHALADARPAN!G746","v":"Kailash"}]
[{"$nulls":18},{"$f":"SHALADARPAN!A747","v":12},{"$f":"SHALADARPAN!B747","v":"A"},{"$f":"SHALADARPAN!K747","v":1643},{"$f":"SHALADARPAN!E747","v":"SEEMA TAMBOLI"},{"$f":"SHALADARPAN!G747","v":"Kailash"}]
[{"$nulls":18},{"$f":"SHALADARPAN!A748","v":12},{"$f":"SHALADARPAN!B748","v":"A"},{"$f":"SHALADARPAN!K748","v":1644},{"$f":"SHALADARPAN!E748","v":"SHAMEENA BANO"},{"$f":"SHALADARPAN!G748","v":"Kailash"}]
[{"$nulls":18},{"$f":"SHALADARPAN!A749","v":12},{"$f":"SHALADARPAN!B749","v":"A"},{"$f":"SHALADARPAN!K749","v":1645},{"$f":"SHALADARPAN!E749","v":"Shivraj Bhati"},{"$f":"SHALADARPAN!G749","v":"Kailash"}]
[{"$nulls":18},{"$f":"SHALADARPAN!A750","v":12},{"$f":"SHALADARPAN!B750","v":"A"},{"$f":"SHALADARPAN!K750","v":1646},{"$f":"SHALADARPAN!E750","v":"SUMAN DEVI"},{"$f":"SHALADARPAN!G750","v":"Kailash"}]
[{"$nulls":18},{"$f":"SHALADARPAN!A751","v":12},{"$f":"SHALADARPAN!B751","v":"A"},{"$f":"SHALADARPAN!K751","v":1648},{"$f":"SHALADARPAN!E751","v":"SUMAN NATH"},{"$f":"SHALADARPAN!G751","v":"Kailash"}]
[{"$nulls":18},{"$f":"SHALADARPAN!A752","v":12},{"$f":"SHALADARPAN!B752","v":"A"},{"$f":"SHALADARPAN!K752","v":1650},{"$f":"SHALADARPAN!E752","v":"SUNITA DEVI"},{"$f":"SHALADARPAN!G752","v":"Kailash"}]
[{"$nulls":18},{"$f":"SHALADARPAN!A753","v":12},{"$f":"SHALADARPAN!B753","v":"A"},{"$f":"SHALADARPAN!K753","v":1651},{"$f":"SHALADARPAN!E753","v":"SURENDRA NATH"},{"$f":"SHALADARPAN!G753","v":"Kailash"}]
[{"$nulls":18},{"$f":"SHALADARPAN!A754","v":12},{"$f":"SHALADARPAN!B754","v":"A"},{"$f":"SHALADARPAN!K754","v":1652},{"$f":"SHALADARPAN!E754","v":"TEENA"},{"$f":"SHALADARPAN!G754","v":"Kailash"}]
[{"$nulls":18},{"$f":"SHALADARPAN!A755","v":12},{"$f":"SHALADARPAN!B755","v":"A"},{"$f":"SHALADARPAN!K755","v":1653},{"$f":"SHALADARPAN!E755","v":"Udayprakash Gaur"},{"$f":"SHALADARPAN!G755","v":"Kailash"}]
[{"$nulls":18},{"$f":"SHALADARPAN!A756","v":12},{"$f":"SHALADARPAN!B756","v":"A"},{"$f":"SHALADARPAN!K756","v":1654},{"$f":"SHALADARPAN!E756","v":"VIKASH"},{"$f":"SHALADARPAN!G756","v":"Kailash"}]
[{"$nulls":18},{"$f":"SHALADARPAN!A757","v":12},{"$f":"SHALADARPAN!B757","v":"A"},{"$f":"SHALADARPAN!K757","v":1655},{"$f":"SHALADARPAN!E757","v":"YASHODA KUMAWAT"},{"$f":"SHALADARPAN!G757","v":"Kailash"}]
[{"$nulls":18},{"$f":"SHALADARPAN!A758","v":12},{"$f":"SHALADARPAN!B758","v":"A"},{"$f":"SHALADARPAN!K758","v":1656},{"$f":"SHALADARPAN!E758","v":"YOGENDRA SAINI"},{"$f":"SHALADARPAN!G758","v":"Kailash"}]
[{"$nulls":18},{"$f":"SHALADARPAN!A759","v":12},{"$f":"SHALADARPAN!B759","v":"A"},{"$f":"SHALADARPAN!K759","v":1657},{"$f":"SHALADARPAN!E759","v":"ZAKIR HUSAIN"},{"$f":"SHALADARPAN!G759","v":"Kailash"}]
[{"$nulls":18},{"$f":"SHALADARPAN!A760","v":12},{"$f":"SHALADARPAN!B760","v":"B"},{"$f":"SHALADARPAN!K760","v":1701},{"$f":"SHALADARPAN!E760","v":"AKRAM"},{"$f":"SHALADARPAN!G760","v":"Kailash"}]
[{"$nulls":18},{"$f":"SHALADARPAN!A761","v":12},{"$f":"SHALADARPAN!B761","v":"B"},{"$f":"SHALADARPAN!K761","v":1702},{"$f":"SHALADARPAN!E761","v":"ANURADHA"},{"$f":"SHALADARPAN!G761","v":"Kailash"}]
[{"$nulls":18},{"$f":"SHALADARPAN!A762","v":12},{"$f":"SHALADARPAN!B762","v":"B"},{"$f":"SHALADARPAN!K762","v":1703},{"$f":"SHALADARPAN!E762","v":"AVINASH"},{"$f":"SHALADARPAN!G762","v":"Kailash"}]
[{"$nulls":18},{"$f":"SHALADARPAN!A763","v":12},{"$f":"SHALADARPAN!B763","v":"B"},{"$f":"SHALADARPAN!K763","v":1704},{"$f":"SHALADARPAN!E763","v":"BASANTI"},{"$f":"SHALADARPAN!G763","v":"Kailash"}]
[{"$nulls":18},{"$f":"SHALADARPAN!A764","v":12},{"$f":"SHALADARPAN!B764","v":"B"},{"$f":"SHALADARPAN!K764","v":1705},{"$f":"SHALADARPAN!E764","v":"BRIJPAL SINGH"},{"$f":"SHALADARPAN!G764","v":"Kailash"}]
[{"$nulls":18},{"$f":"SHALADARPAN!A765","v":12},{"$f":"SHALADARPAN!B765","v":"B"},{"$f":"SHALADARPAN!K765","v":1706},{"$f":"SHALADARPAN!E765","v":"Govind Puri"},{"$f":"SHALADARPAN!G765","v":"Kailash"}]
[{"$nulls":18},{"$f":"SHALADARPAN!A766","v":12},{"$f":"SHALADARPAN!B766","v":"B"},{"$f":"SHALADARPAN!K766","v":1707},{"$f":"SHALADARPAN!E766","v":"JITENDRA PURI"},{"$f":"SHALADARPAN!G766","v":"Kailash"}]
[{"$nulls":18},{"$f":"SHALADARPAN!A767","v":12},{"$f":"SHALADARPAN!B767","v":"B"},{"$f":"SHALADARPAN!K767","v":1708},{"$f":"SHALADARPAN!E767","v":"Kamal Meghwal"},{"$f":"SHALADARPAN!G767","v":"Kailash"}]
[{"$nulls":18},{"$f":"SHALADARPAN!A768","v":12},{"$f":"SHALADARPAN!B768","v":"B"},{"$f":"SHALADARPAN!K768","v":1709},{"$f":"SHALADARPAN!E768","v":"KAMLESH KUMAWAT"},{"$f":"SHALADARPAN!G768","v":"Kailash"}]
[{"$nulls":18},{"$f":"SHALADARPAN!A769","v":12},{"$f":"SHALADARPAN!B769","v":"B"},{"$f":"SHALADARPAN!K769","v":1710},{"$f":"SHALADARPAN!E769","v":"KSHITIJ VAISHNAV"},{"$f":"SHALADARPAN!G769","v":"Kailash"}]
[{"$nulls":18},{"$f":"SHALADARPAN!A770","v":12},{"$f":"SHALADARPAN!B770","v":"B"},{"$f":"SHALADARPAN!K770","v":1711},{"$f":"SHALADARPAN!E770","v":"MANISH ACHARYA"},{"$f":"SHALADARPAN!G770","v":"Kailash"}]
[{"$nulls":18},{"$f":"SHALADARPAN!A771","v":12},{"$f":"SHALADARPAN!B771","v":"B"},{"$f":"SHALADARPAN!K771","v":1712},{"$f":"SHALADARPAN!E771","v":"MILAN VAISHNAV"},{"$f":"SHALADARPAN!G771","v":"Kailash"}]
[{"$nulls":18},{"$f":"SHALADARPAN!A772","v":12},{"$f":"SHALADARPAN!B772","v":"B"},{"$f":"SHALADARPAN!K772","v":1713},{"$f":"SHALADARPAN!E772","v":"MUSKAN BANU"},{"$f":"SHALADARPAN!G772","v":"Kailash"}]
[{"$nulls":18},{"$f":"SHALADARPAN!A773","v":12},{"$f":"SHALADARPAN!B773","v":"B"},{"$f":"SHALADARPAN!K773","v":1714},{"$f":"SHALADARPAN!E773","v":"NARENDRA KUMAR"},{"$f":"SHALADARPAN!G773","v":"Kailash"}]
[{"$nulls":18},{"$f":"SHALADARPAN!A774","v":12},{"$f":"SHALADARPAN!B774","v":"B"},{"$f":"SHALADARPAN!K774","v":1715},{"$f":"SHALADARPAN!E774","v":"POOJA MEGHWAL"},{"$f":"SHALADARPAN!G774","v":"Kailash"}]
[{"$nulls":18},{"$f":"SHALADARPAN!A775","v":12},{"$f":"SHALADARPAN!B775","v":"B"},{"$f":"SHALADARPAN!K775","v":1716},{"$f":"SHALADARPAN!E775","v":"PRADEEP SINGH"},{"$f":"SHALADARPAN!G775","v":"Kailash"}]
[{"$nulls":18},{"$f":"SHALADARPAN!A776","v":12},{"$f":"SHALADARPAN!B776","v":"B"},{"$f":"SHALADARPAN!K776","v":1717},{"$f":"SHALADARPAN!E776","v":"RAHUL SAINI"},{"$f":"SHALADARPAN!G776","v":"Kailash"}]
[{"$nulls":18},{"$f":"SHALADARPAN!A777","v":12},{"$f":"SHALADARPAN!B777","v":"B"},{"$f":"SHALADARPAN!K777","v":1718},{"$f":"SHALADARPAN!E777","v":"RAHUL SINGH"},{"$f":"SHALADARPAN!G777","v":"Kailash"}]
[{"$nulls":18},{"$f":"SHALADARPAN!A778","v":12},{"$f":"SHALADARPAN!B778","v":"B"},{"$f":"SHALADARPAN!K778","v":1719},{"$f":"SHALADARPAN!E778","v":"RAM RATAN DUDI"},{"$f":"SHALADARPAN!G778","v":"Kailash"}]
[{"$nulls":18},{"$f":"SHALADARPAN!A779","v":12},{"$f":"SHALADARPAN!B779","v":"B"},{"$f":"SHALADARPAN!K779","v":1720},{"$f":"SHALADARPAN!E779","v":"Ravindra Barada"},{"$f":"SHALADARPAN!G779","v":"Kailash"}]
[{"$nulls":18},{"$f":"SHALADARPAN!A780","v":12},{"$f":"SHALADARPAN!B780","v":"B"},{"$f":"SHALADARPAN!K780","v":1721},{"$f":"SHALADARPAN!E780","v":"RIZWANA"},{"$f":"SHALADARPAN!G780","v":"Kailash"}]
[{"$nulls":18},{"$f":"SHALADARPAN!A781","v":12},{"$f":"SHALADARPAN!B781","v":"B"},{"$f":"SHALADARPAN!K781","v":1722},{"$f":"SHALADARPAN!E781","v":"SONIYA RAIDAS"},{"$f":"SHALADARPAN!G781","v":"Kailash"}]
[{"$nulls":18},{"$f":"SHALADARPAN!A782","v":0},{"$f":"SHALADARPAN!B782","v":0},{"$f":"SHALADARPAN!K782","v":0},{"$f":"SHALADARPAN!E782","v":0},{"$f":"SHALADARPAN!G782","v":0}]
[{"$nulls":18},{"$f":"SHALADARPAN!A783","v":0},{"$f":"SHALADARPAN!B783","v":0},{"$f":"SHALADARPAN!K783","v":0},{"$f":"SHALADARPAN!E783","v":0},{"$f":"SHALADARPAN!G783","v":0}]
[{"$nulls":18},{"$f":"SHALADARPAN!A784","v":0},{"$f":"SHALADARPAN!B784","v":0},{"$f":"SHALADARPAN!K784","v":0},{"$f":"SHALADARPAN!E784","v":0},{"$f":"SHALADARPAN!G784","v":0}]
[{"$nulls":18},{"$f":"SHALADARPAN!A785","v":0},{"$f":"SHALADARPAN!B785","v":0},{"$f":"SHALADARPAN!K785","v":0},{"$f":"SHALADARPAN!E785","v":0},{"$f":"SHALADARPAN!G785","v":0}]
[{"$nulls":18},{"$f":"SHALADARPAN!A786","v":0},{"$f":"SHALADARPAN!B786","v":0},{"$f":"SHALADARPAN!K786","v":0},{"$f":"SHALADARPAN!E786","v":0},{"$f":"SHALADARPAN!G786","v":0}]
[{"$nulls":18},{"$f":"SHALADARPAN!A787","v":0},{"$f":"SHALADARPAN!B787","v":0},{"$f":"SHALADARPAN!K787","v":0},{"$f":"SHALADARPAN!E787","v":0},{"$f":"SHALADARPAN!G787","v":0}]
[{"$nulls":18},{"$f":"SHALADARPAN!A788","v":0},{"$f":"SHALADARPAN!B788","v":0},{"$f":"SHALADARPAN!K788","v":0},{"$f":"SHALADARPAN!E788","v":0},{"$f":"SHALADARPAN!G788","v":0}]
[{"$nulls":18},{"$f":"SHALADARPAN!A789","v":0},{"$f":"SHALADARPAN!B789","v":0},{"$f":"SHALADARPAN!K789","v":0},{"$f":"SHALADARPAN!E789","v":0},{"$f":"SHALADARPAN!G789","v":0}]
[{"$nulls":18},{"$f":"SHALADARPAN!A790","v":0},{"$f":"SHALADARPAN!B790","v":0},{"$f":"SHALADARPAN!K790","v":0},{"$f":"SHALADARPAN!E790","v":0},{"$f":"SHALADARPAN!G790","v":0}]
[{"$nulls":18},{"$f":"SHALADARPAN!A791","v":0},{"$f":"SHALADARPAN!B791","v":0},{"$f":"SHALADARPAN!K791","v":0},{"$f":"SHALADARPAN!E791","v":0},{"$f":"SHALADARPAN!G791","v":0}]
[{"$nulls":18},{"$f":"SHALADARPAN!A792","v":0},{"$f":"SHALADARPAN!B792","v":0},{"$f":"SHALADARPAN!K792","v":0},{"$f":"SHALADARPAN!E792","v":0},{"$f":"SHALADARPAN!G792","v":0}]
[{"$nulls":18},{"$f":"SHALADARPAN!A793","v":0},{"$f":"SHALADARPAN!B793","v":0},{"$f":"SHALADARPAN!K793","v":0},{"$f":"SHALADARPAN!E793","v":0},{"$f":"SHALADARPAN!G793","v":0}]
[{"$nulls":18},{"$f":"SHALADARPAN!A794","v":0},{"$f":"SHALADARPAN!B794","v":0},{"$f":"SHALADARPAN!K794","v":0},{"$f":"SHALADARPAN!E794","v":0},{"$f":"SHALADARPAN!G794","v":0}]
[{"$nulls":18},{"$f":"SHALADARPAN!A795","v":0},{"$f":"SHALADARPAN!B795","v":0},{"$f":"SHALADARPAN!K795","v":0},{"$f":"SHALADARPAN!E795","v":0},{"$f":"SHALADARPAN!G795","v":0}]
[{"$nulls":18},{"$f":"SHALADARPAN!A796","v":0},{"$f":"SHALADARPAN!B796","v":0},{"$f":"SHALADARPAN!K796","v":0},{"$f":"SHALADARPAN!E796","v":0},{"$f":"SHALADARPAN!G796","v":0}]
[{"$nulls":18},{"$f":"SHALADARPAN!A797","v":0},{"$f":"SHALADARPAN!B797","v":0},{"$f":"SHALADARPAN!K797","v":0},{"$f":"SHALADARPAN!E797","v":0},{"$f":"SHALADARPAN!G797","v":0}]
[{"$nulls":18},{"$f":"SHALADARPAN!A798","v":0},{"$f":"SHALADARPAN!B798","v":0},{"$f":"SHALADARPAN!K798","v":0},{"$f":"SHALADARPAN!E798","v":0},{"$f":"SHALADARPAN!G798","v":0}]
[{"$nulls":18},{"$f":"SHALADARPAN!A799","v":0},{"$f":"SHALADARPAN!B799","v":0},{"$f":"SHALADARPAN!K799","v":0},{"$f":"SHALADARPAN!E799","v":0},{"$f":"SHALADARPAN!G799","v":0}]
[{"$nulls":18},{"$f":"SHALADARPAN!A800","v":0},{"$f":"SHALADARPAN!B800","v":0},{"$f":"SHALADARPAN!K800","v":0},{"$f":"SHALADARPAN!E800","v":0},{"$f":"SHALADARPAN!G800","v":0}]
[{"$nulls":18},{"$f":"SHALADARPAN!A801","v":0},{"$f":"SHALADARPAN!B801","v":0},{"$f":"SHALADARPAN!K801","v":0},{"$f":"SHALADARPAN!E801","v":0},{"$f":"SHALADARPAN!G801","v":0}]
[{"$nulls":18},{"$f":"SHALADARPAN!A802","v":0},{"$f":"SHALADARPAN!B802","v":0},{"$f":"SHALADARPAN!K802","v":0},{"$f":"SHALADARPAN!E802","v":0},{"$f":"SHALADARPAN!G802","v":0}]
[{"$nulls":18},{"$f":"SHALADARPAN!A803","v":0},{"$f":"SHALADARPAN!B803","v":0},{"$f":"SHALADARPAN!K803","v":0},{"$f":"SHALADARPAN!E803","v":0},{"$f":"SHALADARPAN!G803","v":0}]
[{"$nulls":18},{"$f":"SHALADARPAN!A804","v":0},{"$f":"SHALADARPAN!B804","v":0},{"$f":"SHALADARPAN!K804","v":0},{"$f":"SHALADARPAN!E804","v":0},{"$f":"SHALADARPAN!G804","v":0}]
[{"$nulls":18},{"$f":"SHALADARPAN!A805","v":0},{"$f":"SHALADARPAN!B805","v":0},{"$f":"SHALADARPAN!K805","v":0},{"$f":"SHALADARPAN!E805","v":0},{"$f":"SHALADARPAN!G805","v":0}]
[{"$nulls":18},{"$f":"SHALADARPAN!A806","v":0},{"$f":"SHALADARPAN!B806","v":0},{"$f":"SHALADARPAN!K806","v":0},{"$f":"SHALADARPAN!E806","v":0},{"$f":"SHALADARPAN!G806","v":0}]
[{"$nulls":18},{"$f":"SHALADARPAN!A807","v":0},{"$f":"SHALADARPAN!B807","v":0},{"$f":"SHALADARPAN!K807","v":0},{"$f":"SHALADARPAN!E807","v":0},{"$f":"SHALADARPAN!G807","v":0}]
[{"$nulls":18},{"$f":"SHALADARPAN!A808","v":0},{"$f":"SHALADARPAN!B808","v":0},{"$f":"SHALADARPAN!K808","v":0},{"$f":"SHALADARPAN!E808","v":0},{"$f":"SHALADARPAN!G808","v":0}]
[{"$nulls":18},{"$f":"SHALADARPAN!A809","v":0},{"$f":"SHALADARPAN!B809","v":0},{"$f":"SHALADARPAN!K809","v":0},{"$f":"SHALADARPAN!E809","v":0},{"$f":"SHALADARPAN!G809","v":0}]
[{"$nulls":18},{"$f":"SHALADARPAN!A810","v":0},{"$f":"SHALADARPAN!B810","v":0},{"$f":"SHALADARPAN!K810","v":0},{"$f":"SHALADARPAN!E810","v":0},{"$f":"SHALADARPAN!G810","v":0}]
[{"$nulls":18},{"$f":"SHALADARPAN!A811","v":0},{"$f":"SHALADARPAN!B811","v":0},{"$f":"SHALADARPAN!K811","v":0},{"$f":"SHALADARPAN!E811","v":0},{"$f":"SHALADARPAN!G811","v":0}]
[{"$nulls":18},{"$f":"SHALADARPAN!A812","v":0},{"$f":"SHALADARPAN!B812","v":0},{"$f":"SHALADARPAN!K812","v":0},{"$f":"SHALADARPAN!E812","v":0},{"$f":"SHALADARPAN!G812","v":0}]
[{"$nulls":18},{"$f":"SHALADARPAN!A813","v":0},{"$f":"SHALADARPAN!B813","v":0},{"$f":"SHALADARPAN!K813","v":0},{"$f":"SHALADARPAN!E813","v":0},{"$f":"SHALADARPAN!G813","v":0}]
[{"$nulls":18},{"$f":"SHALADARPAN!A814","v":0},{"$f":"SHALADARPAN!B814","v":0},{"$f":"SHALADARPAN!K814","v":0},{"$f":"SHALADARPAN!E814","v":0},{"$f":"SHALADARPAN!G814","v":0}]
[{"$nulls":18},{"$f":"SHALADARPAN!A815","v":0},{"$f":"SHALADARPAN!B815","v":0},{"$f":"SHALADARPAN!K815","v":0},{"$f":"SHALADARPAN!E815","v":0},{"$f":"SHALADARPAN!G815","v":0}]
[{"$nulls":18},{"$f":"SHALADARPAN!A816","v":0},{"$f":"SHALADARPAN!B816","v":0},{"$f":"SHALADARPAN!K816","v":0},{"$f":"SHALADARPAN!E816","v":0},{"$f":"SHALADARPAN!G816","v":0}]
[{"$nulls":18},{"$f":"SHALADARPAN!A817","v":0},{"$f":"SHALADARPAN!B817","v":0},{"$f":"SHALADARPAN!K817","v":0},{"$f":"SHALADARPAN!E817","v":0},{"$f":"SHALADARPAN!G817","v":0}]
[{"$nulls":18},{"$f":"SHALADARPAN!A818","v":0},{"$f":"SHALADARPAN!B818","v":0},{"$f":"SHALADARPAN!K818","v":0},{"$f":"SHALADARPAN!E818","v":0},{"$f":"SHALADARPAN!G818","v":0}]
[{"$nulls":18},{"$f":"SHALADARPAN!A819","v":0},{"$f":"SHALADARPAN!B819","v":0},{"$f":"SHALADARPAN!K819","v":0},{"$f":"SHALADARPAN!E819","v":0},{"$f":"SHALADARPAN!G819","v":0}]
[{"$nulls":18},{"$f":"SHALADARPAN!A820","v":0},{"$f":"SHALADARPAN!B820","v":0},{"$f":"SHALADARPAN!K820","v":0},{"$f":"SHALADARPAN!E820","v":0},{"$f":"SHALADARPAN!G820","v":0}]
[{"$nulls":18},{"$f":"SHALADARPAN!A821","v":0},{"$f":"SHALADARPAN!B821","v":0},{"$f":"SHALADARPAN!K821","v":0},{"$f":"SHALADARPAN!E821","v":0},{"$f":"SHALADARPAN!G821","v":0}]
[{"$nulls":18},{"$f":"SHALADARPAN!A822","v":0},{"$f":"SHALADARPAN!B822","v":0},{"$f":"SHALADARPAN!K822","v":0},{"$f":"SHALADARPAN!E822","v":0},{"$f":"SHALADARPAN!G822","v":0}]
[{"$nulls":18},{"$f":"SHALADARPAN!A823","v":0},{"$f":"SHALADARPAN!B823","v":0},{"$f":"SHALADARPAN!K823","v":0},{"$f":"SHALADARPAN!E823","v":0},{"$f":"SHALADARPAN!G823","v":0}]
[{"$nulls":18},{"$f":"SHALADARPAN!A824","v":0},{"$f":"SHALADARPAN!B824","v":0},{"$f":"SHALADARPAN!K824","v":0},{"$f":"SHALADARPAN!E824","v":0},{"$f":"SHALADARPAN!G824","v":0}]
[{"$nulls":18},{"$f":"SHALADARPAN!A825","v":0},{"$f":"SHALADARPAN!B825","v":0},{"$f":"SHALADARPAN!K825","v":0},{"$f":"SHALADARPAN!E825","v":0},{"$f":"SHALADARPAN!G825","v":0}]
[{"$nulls":18},{"$f":"SHALADARPAN!A826","v":0},{"$f":"SHALADARPAN!B826","v":0},{"$f":"SHALADARPAN!K826","v":0},{"$f":"SHALADARPAN!E826","v":0},{"$f":"SHALADARPAN!G826","v":0}]
[{"$nulls":18},{"$f":"SHALADARPAN!A827","v":0},{"$f":"SHALADARPAN!B827","v":0},{"$f":"SHALADARPAN!K827","v":0},{"$f":"SHALADARPAN!E827","v":0},{"$f":"SHALADARPAN!G827","v":0}]
[{"$nulls":18},{"$f":"SHALADARPAN!A828","v":0},{"$f":"SHALADARPAN!B828","v":0},{"$f":"SHALADARPAN!K828","v":0},{"$f":"SHALADARPAN!E828","v":0},{"$f":"SHALADARPAN!G828","v":0}]
[{"$nulls":18},{"$f":"SHALADARPAN!A829","v":0},{"$f":"SHALADARPAN!B829","v":0},{"$f":"SHALADARPAN!K829","v":0},{"$f":"SHALADARPAN!E829","v":0},{"$f":"SHALADARPAN!G829","v":0}]
[{"$nulls":18},{"$f":"SHALADARPAN!A830","v":0},{"$f":"SHALADARPAN!B830","v":0},{"$f":"SHALADARPAN!K830","v":0},{"$f":"SHALADARPAN!E830","v":0},{"$f":"SHALADARPAN!G830","v":0}]
[{"$nulls":18},{"$f":"SHALADARPAN!A831","v":0},{"$f":"SHALADARPAN!B831","v":0},{"$f":"SHALADARPAN!K831","v":0},{"$f":"SHALADARPAN!E831","v":0},{"$f":"SHALADARPAN!G831","v":0}]
[{"$nulls":18},{"$f":"SHALADARPAN!A832","v":0},{"$f":"SHALADARPAN!B832","v":0},{"$f":"SHALADARPAN!K832","v":0},{"$f":"SHALADARPAN!E832","v":0},{"$f":"SHALADARPAN!G832","v":0}]
[{"$nulls":18},{"$f":"SHALADARPAN!A833","v":0},{"$f":"SHALADARPAN!B833","v":0},{"$f":"SHALADARPAN!K833","v":0},{"$f":"SHALADARPAN!E833","v":0},{"$f":"SHALADARPAN!G833","v":0}]
[{"$nulls":18},{"$f":"SHALADARPAN!A834","v":0},{"$f":"SHALADARPAN!B834","v":0},{"$f":"SHALADARPAN!K834","v":0},{"$f":"SHALADARPAN!E834","v":0},{"$f":"SHALADARPAN!G834","v":0}]
[{"$nulls":18},{"$f":"SHALADARPAN!A835","v":0},{"$f":"SHALADARPAN!B835","v":0},{"$f":"SHALADARPAN!K835","v":0},{"$f":"SHALADARPAN!E835","v":0},{"$f":"SHALADARPAN!G835","v":0}]
[{"$nulls":18},{"$f":"SHALADARPAN!A836","v":0},{"$f":"SHALADARPAN!B836","v":0},{"$f":"SHALADARPAN!K836","v":0},{"$f":"SHALADARPAN!E836","v":0},{"$f":"SHALADARPAN!G836","v":0}]
[{"$nulls":18},{"$f":"SHALADARPAN!A837","v":0},{"$f":"SHALADARPAN!B837","v":0},{"$f":"SHALADARPAN!K837","v":0},{"$f":"SHALADARPAN!E837","v":0},{"$f":"SHALADARPAN!G837","v":0}]
[{"$nulls":18},{"$f":"SHALADARPAN!A838","v":0},{"$f":"SHALADARPAN!B838","v":0},{"$f":"SHALADARPAN!K838","v":0},{"$f":"SHALADARPAN!E838","v":0},{"$f":"SHALADARPAN!G838","v":0}]
[{"$nulls":18},{"$f":"SHALADARPAN!A839","v":0},{"$f":"SHALADARPAN!B839","v":0},{"$f":"SHALADARPAN!K839","v":0},{"$f":"SHALADARPAN!E839","v":0},{"$f":"SHALADARPAN!G839","v":0}]
[{"$nulls":18},{"$f":"SHALADARPAN!A840","v":0},{"$f":"SHALADARPAN!B840","v":0},{"$f":"SHALADARPAN!K840","v":0},{"$f":"SHALADARPAN!E840","v":0},{"$f":"SHALADARPAN!G840","v":0}]
[{"$nulls":18},{"$f":"SHALADARPAN!A841","v":0},{"$f":"SHALADARPAN!B841","v":0},{"$f":"SHALADARPAN!K841","v":0},{"$f":"SHALADARPAN!E841","v":0},{"$f":"SHALADARPAN!G841","v":0}]
[{"$nulls":18},{"$f":"SHALADARPAN!A842","v":0},{"$f":"SHALADARPAN!B842","v":0},{"$f":"SHALADARPAN!K842","v":0},{"$f":"SHALADARPAN!E842","v":0},{"$f":"SHALADARPAN!G842","v":0}]
[{"$nulls":18},{"$f":"SHALADARPAN!A843","v":0},{"$f":"SHALADARPAN!B843","v":0},{"$f":"SHALADARPAN!K843","v":0},{"$f":"SHALADARPAN!E843","v":0},{"$f":"SHALADARPAN!G843","v":0}]
[{"$nulls":18},{"$f":"SHALADARPAN!A844","v":0},{"$f":"SHALADARPAN!B844","v":0},{"$f":"SHALADARPAN!K844","v":0},{"$f":"SHALADARPAN!E844","v":0},{"$f":"SHALADARPAN!G844","v":0}]
[{"$nulls":18},{"$f":"SHALADARPAN!A845","v":0},{"$f":"SHALADARPAN!B845","v":0},{"$f":"SHALADARPAN!K845","v":0},{"$f":"SHALADARPAN!E845","v":0},{"$f":"SHALADARPAN!G845","v":0}]
[{"$nulls":18},{"$f":"SHALADARPAN!A846","v":0},{"$f":"SHALADARPAN!B846","v":0},{"$f":"SHALADARPAN!K846","v":0},{"$f":"SHALADARPAN!E846","v":0},{"$f":"SHALADARPAN!G846","v":0}]
[{"$nulls":18},{"$f":"SHALADARPAN!A847","v":0},{"$f":"SHALADARPAN!B847","v":0},{"$f":"SHALADARPAN!K847","v":0},{"$f":"SHALADARPAN!E847","v":0},{"$f":"SHALADARPAN!G847","v":0}]
[{"$nulls":18},{"$f":"SHALADARPAN!A848","v":0},{"$f":"SHALADARPAN!B848","v":0},{"$f":"SHALADARPAN!K848","v":0},{"$f":"SHALADARPAN!E848","v":0},{"$f":"SHALADARPAN!G848","v":0}]
[{"$nulls":18},{"$f":"SHALADARPAN!A849","v":0},{"$f":"SHALADARPAN!B849","v":0},{"$f":"SHALADARPAN!K849","v":0},{"$f":"SHALADARPAN!E849","v":0},{"$f":"SHALADARPAN!G849","v":0}]
[{"$nulls":18},{"$f":"SHALADARPAN!A850","v":0},{"$f":"SHALADARPAN!B850","v":0},{"$f":"SHALADARPAN!K850","v":0},{"$f":"SHALADARPAN!E850","v":0},{"$f":"SHALADARPAN!G850","v":0}]
[{"$nulls":18},{"$f":"SHALADARPAN!A851","v":0},{"$f":"SHALADARPAN!B851","v":0},{"$f":"SHALADARPAN!K851","v":0},{"$f":"SHALADARPAN!E851","v":0},{"$f":"SHALADARPAN!G851","v":0}]
[{"$nulls":18},{"$f":"SHALADARPAN!A852","v":0},{"$f":"SHALADARPAN!B852","v":0},{"$f":"SHALADARPAN!K852","v":0},{"$f":"SHALADARPAN!E852","v":0},{"$f":"SHALADARPAN!G852","v":0}]
[{"$nulls":18},{"$f":"SHALADARPAN!A853","v":0},{"$f":"SHALADARPAN!B853","v":0},{"$f":"SHALADARPAN!K853","v":0},{"$f":"SHALADARPAN!E853","v":0},{"$f":"SHALADARPAN!G853","v":0}]
[{"$nulls":18},{"$f":"SHALADARPAN!A854","v":0},{"$f":"SHALADARPAN!B854","v":0},{"$f":"SHALADARPAN!K854","v":0},{"$f":"SHALADARPAN!E854","v":0},{"$f":"SHALADARPAN!G854","v":0}]
[{"$nulls":18},{"$f":"SHALADARPAN!A855","v":0},{"$f":"SHALADARPAN!B855","v":0},{"$f":"SHALADARPAN!K855","v":0},{"$f":"SHALADARPAN!E855","v":0},{"$f":"SHALADARPAN!G855","v":0}]
[{"$nulls":18},{"$f":"SHALADARPAN!A856","v":0},{"$f":"SHALADARPAN!B856","v":0},{"$f":"SHALADARPAN!K856","v":0},{"$f":"SHALADARPAN!E856","v":0},{"$f":"SHALADARPAN!G856","v":0}]
[{"$nulls":18},{"$f":"SHALADARPAN!A857","v":0},{"$f":"SHALADARPAN!B857","v":0},{"$f":"SHALADARPAN!K857","v":0},{"$f":"SHALADARPAN!E857","v":0},{"$f":"SHALADARPAN!G857","v":0}]
[{"$nulls":18},{"$f":"SHALADARPAN!A858","v":0},{"$f":"SHALADARPAN!B858","v":0},{"$f":"SHALADARPAN!K858","v":0},{"$f":"SHALADARPAN!E858","v":0},{"$f":"SHALADARPAN!G858","v":0}]
[{"$nulls":18},{"$f":"SHALADARPAN!A859","v":0},{"$f":"SHALADARPAN!B859","v":0},{"$f":"SHALADARPAN!K859","v":0},{"$f":"SHALADARPAN!E859","v":0},{"$f":"SHALADARPAN!G859","v":0}]
[{"$nulls":18},{"$f":"SHALADARPAN!A860","v":0},{"$f":"SHALADARPAN!B860","v":0},{"$f":"SHALADARPAN!K860","v":0},{"$f":"SHALADARPAN!E860","v":0},{"$f":"SHALADARPAN!G860","v":0}]
[{"$nulls":18},{"$f":"SHALADARPAN!A861","v":0},{"$f":"SHALADARPAN!B861","v":0},{"$f":"SHALADARPAN!K861","v":0},{"$f":"SHALADARPAN!E861","v":0},{"$f":"SHALADARPAN!G861","v":0}]
[{"$nulls":18},{"$f":"SHALADARPAN!A862","v":0},{"$f":"SHALADARPAN!B862","v":0},{"$f":"SHALADARPAN!K862","v":0},{"$f":"SHALADARPAN!E862","v":0},{"$f":"SHALADARPAN!G862","v":0}]
[{"$nulls":18},{"$f":"SHALADARPAN!A863","v":0},{"$f":"SHALADARPAN!B863","v":0},{"$f":"SHALADARPAN!K863","v":0},{"$f":"SHALADARPAN!E863","v":0},{"$f":"SHALADARPAN!G863","v":0}]
[{"$nulls":18},{"$f":"SHALADARPAN!A864","v":0},{"$f":"SHALADARPAN!B864","v":0},{"$f":"SHALADARPAN!K864","v":0},{"$f":"SHALADARPAN!E864","v":0},{"$f":"SHALADARPAN!G864","v":0}]
[{"$nulls":18},{"$f":"SHALADARPAN!A865","v":0},{"$f":"SHALADARPAN!B865","v":0},{"$f":"SHALADARPAN!K865","v":0},{"$f":"SHALADARPAN!E865","v":0},{"$f":"SHALADARPAN!G865","v":0}]
[{"$nulls":18},{"$f":"SHALADARPAN!A866","v":0},{"$f":"SHALADARPAN!B866","v":0},{"$f":"SHALADARPAN!K866","v":0},{"$f":"SHALADARPAN!E866","v":0},{"$f":"SHALADARPAN!G866","v":0}]
[{"$nulls":18},{"$f":"SHALADARPAN!A867","v":0},{"$f":"SHALADARPAN!B867","v":0},{"$f":"SHALADARPAN!K867","v":0},{"$f":"SHALADARPAN!E867","v":0},{"$f":"SHALADARPAN!G867","v":0}]
[{"$nulls":18},{"$f":"SHALADARPAN!A868","v":0},{"$f":"SHALADARPAN!B868","v":0},{"$f":"SHALADARPAN!K868","v":0},{"$f":"SHALADARPAN!E868","v":0},{"$f":"SHALADARPAN!G868","v":0}]
[{"$nulls":18},{"$f":"SHALADARPAN!A869","v":0},{"$f":"SHALADARPAN!B869","v":0},{"$f":"SHALADARPAN!K869","v":0},{"$f":"SHALADARPAN!E869","v":0},{"$f":"SHALADARPAN!G869","v":0}]
[{"$nulls":18},{"$f":"SHALADARPAN!A870","v":0},{"$f":"SHALADARPAN!B870","v":0},{"$f":"SHALADARPAN!K870","v":0},{"$f":"SHALADARPAN!E870","v":0},{"$f":"SHALADARPAN!G870","v":0}]
[{"$nulls":18},{"$f":"SHALADARPAN!A871","v":0},{"$f":"SHALADARPAN!B871","v":0},{"$f":"SHALADARPAN!K871","v":0},{"$f":"SHALADARPAN!E871","v":0},{"$f":"SHALADARPAN!G871","v":0}]
[{"$nulls":18},{"$f":"SHALADARPAN!A872","v":0},{"$f":"SHALADARPAN!B872","v":0},{"$f":"SHALADARPAN!K872","v":0},{"$f":"SHALADARPAN!E872","v":0},{"$f":"SHALADARPAN!G872","v":0}]
[{"$nulls":18},{"$f":"SHALADARPAN!A873","v":0},{"$f":"SHALADARPAN!B873","v":0},{"$f":"SHALADARPAN!K873","v":0},{"$f":"SHALADARPAN!E873","v":0},{"$f":"SHALADARPAN!G873","v":0}]
[{"$nulls":18},{"$f":"SHALADARPAN!A874","v":0},{"$f":"SHALADARPAN!B874","v":0},{"$f":"SHALADARPAN!K874","v":0},{"$f":"SHALADARPAN!E874","v":0},{"$f":"SHALADARPAN!G874","v":0}]
[{"$nulls":18},{"$f":"SHALADARPAN!A875","v":0},{"$f":"SHALADARPAN!B875","v":0},{"$f":"SHALADARPAN!K875","v":0},{"$f":"SHALADARPAN!E875","v":0},{"$f":"SHALADARPAN!G875","v":0}]
[{"$nulls":18},{"$f":"SHALADARPAN!A876","v":0},{"$f":"SHALADARPAN!B876","v":0},{"$f":"SHALADARPAN!K876","v":0},{"$f":"SHALADARPAN!E876","v":0},{"$f":"SHALADARPAN!G876","v":0}]
[{"$nulls":18},{"$f":"SHALADARPAN!A877","v":0},{"$f":"SHALADARPAN!B877","v":0},{"$f":"SHALADARPAN!K877","v":0},{"$f":"SHALADARPAN!E877","v":0},{"$f":"SHALADARPAN!G877","v":0}]
[{"$nulls":18},{"$f":"SHALADARPAN!A878","v":0},{"$f":"SHALADARPAN!B878","v":0},{"$f":"SHALADARPAN!K878","v":0},{"$f":"SHALADARPAN!E878","v":0},{"$f":"SHALADARPAN!G878","v":0}]
[{"$nulls":18},{"$f":"SHALADARPAN!A879","v":0},{"$f":"SHALADARPAN!B879","v":0},{"$f":"SHALADARPAN!K879","v":0},{"$f":"SHALADARPAN!E879","v":0},{"$f":"SHALADARPAN!G879","v":0}]
[{"$nulls":18},{"$f":"SHALADARPAN!A880","v":0},{"$f":"SHALADARPAN!B880","v":0},{"$f":"SHALADARPAN!K880","v":0},{"$f":"SHALADARPAN!E880","v":0},{"$f":"SHALADARPAN!G880","v":0}]
[{"$nulls":18},{"$f":"SHALADARPAN!A881","v":0},{"$f":"SHALADARPAN!B881","v":0},{"$f":"SHALADARPAN!K881","v":0},{"$f":"SHALADARPAN!E881","v":0},{"$f":"SHALADARPAN!G881","v":0}]
[{"$nulls":18},{"$f":"SHALADARPAN!A882","v":0},{"$f":"SHALADARPAN!B882","v":0},{"$f":"SHALADARPAN!K882","v":0},{"$f":"SHALADARPAN!E882","v":0},{"$f":"SHALADARPAN!G882","v":0}]
[{"$nulls":18},{"$f":"SHALADARPAN!A883","v":0},{"$f":"SHALADARPAN!B883","v":0},{"$f":"SHALADARPAN!K883","v":0},{"$f":"SHALADARPAN!E883","v":0},{"$f":"SHALADARPAN!G883","v":0}]
[{"$nulls":18},{"$f":"SHALADARPAN!A884","v":0},{"$f":"SHALADARPAN!B884","v":0},{"$f":"SHALADARPAN!K884","v":0},{"$f":"SHALADARPAN!E884","v":0},{"$f":"SHALADARPAN!G884","v":0}]
[{"$nulls":18},{"$f":"SHALADARPAN!A885","v":0},{"$f":"SHALADARPAN!B885","v":0},{"$f":"SHALADARPAN!K885","v":0},{"$f":"SHALADARPAN!E885","v":0},{"$f":"SHALADARPAN!G885","v":0}]
[{"$nulls":18},{"$f":"SHALADARPAN!A886","v":0},{"$f":"SHALADARPAN!B886","v":0},{"$f":"SHALADARPAN!K886","v":0},{"$f":"SHALADARPAN!E886","v":0},{"$f":"SHALADARPAN!G886","v":0}]
[{"$nulls":18},{"$f":"SHALADARPAN!A887","v":0},{"$f":"SHALADARPAN!B887","v":0},{"$f":"SHALADARPAN!K887","v":0},{"$f":"SHALADARPAN!E887","v":0},{"$f":"SHALADARPAN!G887","v":0}]
[{"$nulls":18},{"$f":"SHALADARPAN!A888","v":0},{"$f":"SHALADARPAN!B888","v":0},{"$f":"SHALADARPAN!K888","v":0},{"$f":"SHALADARPAN!E888","v":0},{"$f":"SHALADARPAN!G888","v":0}]
[{"$nulls":18},{"$f":"SHALADARPAN!A889","v":0},{"$f":"SHALADARPAN!B889","v":0},{"$f":"SHALADARPAN!K889","v":0},{"$f":"SHALADARPAN!E889","v":0},{"$f":"SHALADARPAN!G889","v":0}]
[{"$nulls":18},{"$f":"SHALADARPAN!A890","v":0},{"$f":"SHALADARPAN!B890","v":0},{"$f":"SHALADARPAN!K890","v":0},{"$f":"SHALADARPAN!E890","v":0},{"$f":"SHALADARPAN!G890","v":0}]
[{"$nulls":18},{"$f":"SHALADARPAN!A891","v":0},{"$f":"SHALADARPAN!B891","v":0},{"$f":"SHALADARPAN!K891","v":0},{"$f":"SHALADARPAN!E891","v":0},{"$f":"SHALADARPAN!G891","v":0}]
[{"$nulls":18},{"$f":"SHALADARPAN!A892","v":0},{"$f":"SHALADARPAN!B892","v":0},{"$f":"SHALADARPAN!K892","v":0},{"$f":"SHALADARPAN!E892","v":0},{"$f":"SHALADARPAN!G892","v":0}]
[{"$nulls":18},{"$f":"SHALADARPAN!A893","v":0},{"$f":"SHALADARPAN!B893","v":0},{"$f":"SHALADARPAN!K893","v":0},{"$f":"SHALADARPAN!E893","v":0},{"$f":"SHALADARPAN!G893","v":0}]
[{"$nulls":18},{"$f":"SHALADARPAN!A894","v":0},{"$f":"SHALADARPAN!B894","v":0},{"$f":"SHALADARPAN!K894","v":0},{"$f":"SHALADARPAN!E894","v":0},{"$f":"SHALADARPAN!G894","v":0}]
[{"$nulls":18},{"$f":"SHALADARPAN!A895","v":0},{"$f":"SHALADARPAN!B895","v":0},{"$f":"SHALADARPAN!K895","v":0},{"$f":"SHALADARPAN!E895","v":0},{"$f":"SHALADARPAN!G895","v":0}]
[{"$nulls":18},{"$f":"SHALADARPAN!A896","v":0},{"$f":"SHALADARPAN!B896","v":0},{"$f":"SHALADARPAN!K896","v":0},{"$f":"SHALADARPAN!E896","v":0},{"$f":"SHALADARPAN!G896","v":0}]
[{"$nulls":18},{"$f":"SHALADARPAN!A897","v":0},{"$f":"SHALADARPAN!B897","v":0},{"$f":"SHALADARPAN!K897","v":0},{"$f":"SHALADARPAN!E897","v":0},{"$f":"SHALADARPAN!G897","v":0}]
[{"$nulls":18},{"$f":"SHALADARPAN!A898","v":0},{"$f":"SHALADARPAN!B898","v":0},{"$f":"SHALADARPAN!K898","v":0},{"$f":"SHALADARPAN!E898","v":0},{"$f":"SHALADARPAN!G898","v":0}]
[{"$nulls":18},{"$f":"SHALADARPAN!A899","v":0},{"$f":"SHALADARPAN!B899","v":0},{"$f":"SHALADARPAN!K899","v":0},{"$f":"SHALADARPAN!E899","v":0},{"$f":"SHALADARPAN!G899","v":0}]
[{"$nulls":18},{"$f":"SHALADARPAN!A900","v":0},{"$f":"SHALADARPAN!B900","v":0},{"$f":"SHALADARPAN!K900","v":0},{"$f":"SHALADARPAN!E900","v":0},{"$f":"SHALADARPAN!G900","v":0}]
[{"$nulls":18},{"$f":"SHALADARPAN!A901","v":0},{"$f":"SHALADARPAN!B901","v":0},{"$f":"SHALADARPAN!K901","v":0},{"$f":"SHALADARPAN!E901","v":0},{"$f":"SHALADARPAN!G901","v":0}]
[{"$nulls":18},{"$f":"SHALADARPAN!A902","v":0},{"$f":"SHALADARPAN!B902","v":0},{"$f":"SHALADARPAN!K902","v":0},{"$f":"SHALADARPAN!E902","v":0},{"$f":"SHALADARPAN!G902","v":0}]
[{"$nulls":18},{"$f":"SHALADARPAN!A903","v":0},{"$f":"SHALADARPAN!B903","v":0},{"$f":"SHALADARPAN!K903","v":0},{"$f":"SHALADARPAN!E903","v":0},{"$f":"SHALADARPAN!G903","v":0}]
[{"$nulls":18},{"$f":"SHALADARPAN!A904","v":0},{"$f":"SHALADARPAN!B904","v":0},{"$f":"SHALADARPAN!K904","v":0},{"$f":"SHALADARPAN!E904","v":0},{"$f":"SHALADARPAN!G904","v":0}]
[{"$nulls":18},{"$f":"SHALADARPAN!A905","v":0},{"$f":"SHALADARPAN!B905","v":0},{"$f":"SHALADARPAN!K905","v":0},{"$f":"SHALADARPAN!E905","v":0},{"$f":"SHALADARPAN!G905","v":0}]
[{"$nulls":18},{"$f":"SHALADARPAN!A906","v":0},{"$f":"SHALADARPAN!B906","v":0},{"$f":"SHALADARPAN!K906","v":0},{"$f":"SHALADARPAN!E906","v":0},{"$f":"SHALADARPAN!G906","v":0}]
[{"$nulls":18},{"$f":"SHALADARPAN!A907","v":0},{"$f":"SHALADARPAN!B907","v":0},{"$f":"SHALADARPAN!K907","v":0},{"$f":"SHALADARPAN!E907","v":0},{"$f":"SHALADARPAN!G907","v":0}]
[{"$nulls":18},{"$f":"SHALADARPAN!A908","v":0},{"$f":"SHALADARPAN!B908","v":0},{"$f":"SHALADARPAN!K908","v":0},{"$f":"SHALADARPAN!E908","v":0},{"$f":"SHALADARPAN!G908","v":0}]
[{"$nulls":18},{"$f":"SHALADARPAN!A909","v":0},{"$f":"SHALADARPAN!B909","v":0},{"$f":"SHALADARPAN!K909","v":0},{"$f":"SHALADARPAN!E909","v":0},{"$f":"SHALADARPAN!G909","v":0}]
[{"$nulls":18},{"$f":"SHALADARPAN!A910","v":0},{"$f":"SHALADARPAN!B910","v":0},{"$f":"SHALADARPAN!K910","v":0},{"$f":"SHALADARPAN!E910","v":0},{"$f":"SHALADARPAN!G910","v":0}]
[{"$nulls":18},{"$f":"SHALADARPAN!A911","v":0},{"$f":"SHALADARPAN!B911","v":0},{"$f":"SHALADARPAN!K911","v":0},{"$f":"SHALADARPAN!E911","v":0},{"$f":"SHALADARPAN!G911","v":0}]
[{"$nulls":18},{"$f":"SHALADARPAN!A912","v":0},{"$f":"SHALADARPAN!B912","v":0},{"$f":"SHALADARPAN!K912","v":0},{"$f":"SHALADARPAN!E912","v":0},{"$f":"SHALADARPAN!G912","v":0}]
[{"$nulls":18},{"$f":"SHALADARPAN!A913","v":0},{"$f":"SHALADARPAN!B913","v":0},{"$f":"SHALADARPAN!K913","v":0},{"$f":"SHALADARPAN!E913","v":0},{"$f":"SHALADARPAN!G913","v":0}]
[{"$nulls":18},{"$f":"SHALADARPAN!A914","v":0},{"$f":"SHALADARPAN!B914","v":0},{"$f":"SHALADARPAN!K914","v":0},{"$f":"SHALADARPAN!E914","v":0},{"$f":"SHALADARPAN!G914","v":0}]
[{"$nulls":18},{"$f":"SHALADARPAN!A915","v":0},{"$f":"SHALADARPAN!B915","v":0},{"$f":"SHALADARPAN!K915","v":0},{"$f":"SHALADARPAN!E915","v":0},{"$f":"SHALADARPAN!G915","v":0}]
[{"$nulls":18},{"$f":"SHALADARPAN!A916","v":0},{"$f":"SHALADARPAN!B916","v":0},{"$f":"SHALADARPAN!K916","v":0},{"$f":"SHALADARPAN!E916","v":0},{"$f":"SHALADARPAN!G916","v":0}]
[{"$nulls":18},{"$f":"SHALADARPAN!A917","v":0},{"$f":"SHALADARPAN!B917","v":0},{"$f":"SHALADARPAN!K917","v":0},{"$f":"SHALADARPAN!E917","v":0},{"$f":"SHALADARPAN!G917","v":0}]
[{"$nulls":18},{"$f":"SHALADARPAN!A918","v":0},{"$f":"SHALADARPAN!B918","v":0},{"$f":"SHALADARPAN!K918","v":0},{"$f":"SHALADARPAN!E918","v":0},{"$f":"SHALADARPAN!G918","v":0}]
[{"$nulls":18},{"$f":"SHALADARPAN!A919","v":0},{"$f":"SHALADARPAN!B919","v":0},{"$f":"SHALADARPAN!K919","v":0},{"$f":"SHALADARPAN!E919","v":0},{"$f":"SHALADARPAN!G919","v":0}]
[{"$nulls":18},{"$f":"SHALADARPAN!A920","v":0},{"$f":"SHALADARPAN!B920","v":0},{"$f":"SHALADARPAN!K920","v":0},{"$f":"SHALADARPAN!E920","v":0},{"$f":"SHALADARPAN!G920","v":0}]
[{"$nulls":18},{"$f":"SHALADARPAN!A921","v":0},{"$f":"SHALADARPAN!B921","v":0},{"$f":"SHALADARPAN!K921","v":0},{"$f":"SHALADARPAN!E921","v":0},{"$f":"SHALADARPAN!G921","v":0}]
[{"$nulls":18},{"$f":"SHALADARPAN!A922","v":0},{"$f":"SHALADARPAN!B922","v":0},{"$f":"SHALADARPAN!K922","v":0},{"$f":"SHALADARPAN!E922","v":0},{"$f":"SHALADARPAN!G922","v":0}]
[{"$nulls":18},{"$f":"SHALADARPAN!A923","v":0},{"$f":"SHALADARPAN!B923","v":0},{"$f":"SHALADARPAN!K923","v":0},{"$f":"SHALADARPAN!E923","v":0},{"$f":"SHALADARPAN!G923","v":0}]
[{"$nulls":18},{"$f":"SHALADARPAN!A924","v":0},{"$f":"SHALADARPAN!B924","v":0},{"$f":"SHALADARPAN!K924","v":0},{"$f":"SHALADARPAN!E924","v":0},{"$f":"SHALADARPAN!G924","v":0}]
[{"$nulls":18},{"$f":"SHALADARPAN!A925","v":0},{"$f":"SHALADARPAN!B925","v":0},{"$f":"SHALADARPAN!K925","v":0},{"$f":"SHALADARPAN!E925","v":0},{"$f":"SHALADARPAN!G925","v":0}]
[{"$nulls":18},{"$f":"SHALADARPAN!A926","v":0},{"$f":"SHALADARPAN!B926","v":0},{"$f":"SHALADARPAN!K926","v":0},{"$f":"SHALADARPAN!E926","v":0},{"$f":"SHALADARPAN!G926","v":0}]
[{"$nulls":18},{"$f":"SHALADARPAN!A927","v":0},{"$f":"SHALADARPAN!B927","v":0},{"$f":"SHALADARPAN!K927","v":0},{"$f":"SHALADARPAN!E927","v":0},{"$f":"SHALADARPAN!G927","v":0}]
[{"$nulls":18},{"$f":"SHALADARPAN!A928","v":0},{"$f":"SHALADARPAN!B928","v":0},{"$f":"SHALADARPAN!K928","v":0},{"$f":"SHALADARPAN!E928","v":0},{"$f":"SHALADARPAN!G928","v":0}]
[{"$nulls":18},{"$f":"SHALADARPAN!A929","v":0},{"$f":"SHALADARPAN!B929","v":0},{"$f":"SHALADARPAN!K929","v":0},{"$f":"SHALADARPAN!E929","v":0},{"$f":"SHALADARPAN!G929","v":0}]
[{"$nulls":18},{"$f":"SHALADARPAN!A930","v":0},{"$f":"SHALADARPAN!B930","v":0},{"$f":"SHALADARPAN!K930","v":0},{"$f":"SHALADARPAN!E930","v":0},{"$f":"SHALADARPAN!G930","v":0}]
[{"$nulls":18},{"$f":"SHALADARPAN!A931","v":0},{"$f":"SHALADARPAN!B931","v":0},{"$f":"SHALADARPAN!K931","v":0},{"$f":"SHALADARPAN!E931","v":0},{"$f":"SHALADARPAN!G931","v":0}]
[{"$nulls":18},{"$f":"SHALADARPAN!A932","v":0},{"$f":"SHALADARPAN!B932","v":0},{"$f":"SHALADARPAN!K932","v":0},{"$f":"SHALADARPAN!E932","v":0},{"$f":"SHALADARPAN!G932","v":0}]
[{"$nulls":18},{"$f":"SHALADARPAN!A933","v":0},{"$f":"SHALADARPAN!B933","v":0},{"$f":"SHALADARPAN!K933","v":0},{"$f":"SHALADARPAN!E933","v":0},{"$f":"SHALADARPAN!G933","v":0}]
[{"$nulls":18},{"$f":"SHALADARPAN!A934","v":0},{"$f":"SHALADARPAN!B934","v":0},{"$f":"SHALADARPAN!K934","v":0},{"$f":"SHALADARPAN!E934","v":0},{"$f":"SHALADARPAN!G934","v":0}]
[{"$nulls":18},{"$f":"SHALADARPAN!A935","v":0},{"$f":"SHALADARPAN!B935","v":0},{"$f":"SHALADARPAN!K935","v":0},{"$f":"SHALADARPAN!E935","v":0},{"$f":"SHALADARPAN!G935","v":0}]
[{"$nulls":18},{"$f":"SHALADARPAN!A936","v":0},{"$f":"SHALADARPAN!B936","v":0},{"$f":"SHALADARPAN!K936","v":0},{"$f":"SHALADARPAN!E936","v":0},{"$f":"SHALADARPAN!G936","v":0}]
[{"$nulls":18},{"$f":"SHALADARPAN!A937","v":0},{"$f":"SHALADARPAN!B937","v":0},{"$f":"SHALADARPAN!K937","v":0},{"$f":"SHALADARPAN!E937","v":0},{"$f":"SHALADARPAN!G937","v":0}]
[{"$nulls":18},{"$f":"SHALADARPAN!A938","v":0},{"$f":"SHALADARPAN!B938","v":0},{"$f":"SHALADARPAN!K938","v":0},{"$f":"SHALADARPAN!E938","v":0},{"$f":"SHALADARPAN!G938","v":0}]
[{"$nulls":18},{"$f":"SHALADARPAN!A939","v":0},{"$f":"SHALADARPAN!B939","v":0},{"$f":"SHALADARPAN!K939","v":0},{"$f":"SHALADARPAN!E939","v":0},{"$f":"SHALADARPAN!G939","v":0}]
[{"$nulls":18},{"$f":"SHALADARPAN!A940","v":0},{"$f":"SHALADARPAN!B940","v":0},{"$f":"SHALADARPAN!K940","v":0},{"$f":"SHALADARPAN!E940","v":0},{"$f":"SHALADARPAN!G940","v":0}]
[{"$nulls":18},{"$f":"SHALADARPAN!A941","v":0},{"$f":"SHALADARPAN!B941","v":0},{"$f":"SHALADARPAN!K941","v":0},{"$f":"SHALADARPAN!E941","v":0},{"$f":"SHALADARPAN!G941","v":0}]
[{"$nulls":18},{"$f":"SHALADARPAN!A942","v":0},{"$f":"SHALADARPAN!B942","v":0},{"$f":"SHALADARPAN!K942","v":0},{"$f":"SHALADARPAN!E942","v":0},{"$f":"SHALADARPAN!G942","v":0}]
[{"$nulls":18},{"$f":"SHALADARPAN!A943","v":0},{"$f":"SHALADARPAN!B943","v":0},{"$f":"SHALADARPAN!K943","v":0},{"$f":"SHALADARPAN!E943","v":0},{"$f":"SHALADARPAN!G943","v":0}]
[{"$nulls":18},{"$f":"SHALADARPAN!A944","v":0},{"$f":"SHALADARPAN!B944","v":0},{"$f":"SHALADARPAN!K944","v":0},{"$f":"SHALADARPAN!E944","v":0},{"$f":"SHALADARPAN!G944","v":0}]
[{"$nulls":18},{"$f":"SHALADARPAN!A945","v":0},{"$f":"SHALADARPAN!B945","v":0},{"$f":"SHALADARPAN!K945","v":0},{"$f":"SHALADARPAN!E945","v":0},{"$f":"SHALADARPAN!G945","v":0}]
[{"$nulls":18},{"$f":"SHALADARPAN!A946","v":0},{"$f":"SHALADARPAN!B946","v":0},{"$f":"SHALADARPAN!K946","v":0},{"$f":"SHALADARPAN!E946","v":0},{"$f":"SHALADARPAN!G946","v":0}]
[{"$nulls":18},{"$f":"SHALADARPAN!A947","v":0},{"$f":"SHALADARPAN!B947","v":0},{"$f":"SHALADARPAN!K947","v":0},{"$f":"SHALADARPAN!E947","v":0},{"$f":"SHALADARPAN!G947","v":0}]
[{"$nulls":18},{"$f":"SHALADARPAN!A948","v":0},{"$f":"SHALADARPAN!B948","v":0},{"$f":"SHALADARPAN!K948","v":0},{"$f":"SHALADARPAN!E948","v":0},{"$f":"SHALADARPAN!G948","v":0}]
[{"$nulls":18},{"$f":"SHALADARPAN!A949","v":0},{"$f":"SHALADARPAN!B949","v":0},{"$f":"SHALADARPAN!K949","v":0},{"$f":"SHALADARPAN!E949","v":0},{"$f":"SHALADARPAN!G949","v":0}]
[{"$nulls":18},{"$f":"SHALADARPAN!A950","v":0},{"$f":"SHALADARPAN!B950","v":0},{"$f":"SHALADARPAN!K950","v":0},{"$f":"SHALADARPAN!E950","v":0},{"$f":"SHALADARPAN!G950","v":0}]
[{"$nulls":18},{"$f":"SHALADARPAN!A951","v":0},{"$f":"SHALADARPAN!B951","v":0},{"$f":"SHALADARPAN!K951","v":0},{"$f":"SHALADARPAN!E951","v":0},{"$f":"SHALADARPAN!G951","v":0}]
[{"$nulls":18},{"$f":"SHALADARPAN!A952","v":0},{"$f":"SHALADARPAN!B952","v":0},{"$f":"SHALADARPAN!K952","v":0},{"$f":"SHALADARPAN!E952","v":0},{"$f":"SHALADARPAN!G952","v":0}]
[{"$nulls":18},{"$f":"SHALADARPAN!A953","v":0},{"$f":"SHALADARPAN!B953","v":0},{"$f":"SHALADARPAN!K953","v":0},{"$f":"SHALADARPAN!E953","v":0},{"$f":"SHALADARPAN!G953","v":0}]
[{"$nulls":18},{"$f":"SHALADARPAN!A954","v":0},{"$f":"SHALADARPAN!B954","v":0},{"$f":"SHALADARPAN!K954","v":0},{"$f":"SHALADARPAN!E954","v":0},{"$f":"SHALADARPAN!G954","v":0}]
[{"$nulls":18},{"$f":"SHALADARPAN!A955","v":0},{"$f":"SHALADARPAN!B955","v":0},{"$f":"SHALADARPAN!K955","v":0},{"$f":"SHALADARPAN!E955","v":0},{"$f":"SHALADARPAN!G955","v":0}]
[{"$nulls":18},{"$f":"SHALADARPAN!A956","v":0},{"$f":"SHALADARPAN!B956","v":0},{"$f":"SHALADARPAN!K956","v":0},{"$f":"SHALADARPAN!E956","v":0},{"$f":"SHALADARPAN!G956","v":0}]
[{"$nulls":18},{"$f":"SHALADARPAN!A957","v":0},{"$f":"SHALADARPAN!B957","v":0},{"$f":"SHALADARPAN!K957","v":0},{"$f":"SHALADARPAN!E957","v":0},{"$f":"SHALADARPAN!G957","v":0}]
[{"$nulls":18},{"$f":"SHALADARPAN!A958","v":0},{"$f":"SHALADARPAN!B958","v":0},{"$f":"SHALADARPAN!K958","v":0},{"$f":"SHALADARPAN!E958","v":0},{"$f":"SHALADARPAN!G958","v":0}]
[{"$nulls":18},{"$f":"SHALADARPAN!A959","v":0},{"$f":"SHALADARPAN!B959","v":0},{"$f":"SHALADARPAN!K959","v":0},{"$f":"SHALADARPAN!E959","v":0},{"$f":"SHALADARPAN!G959","v":0}]
[{"$nulls":18},{"$f":"SHALADARPAN!A960","v":0},{"$f":"SHALADARPAN!B960","v":0},{"$f":"SHALADARPAN!K960","v":0},{"$f":"SHALADARPAN!E960","v":0},{"$f":"SHALADARPAN!G960","v":0}]
[{"$nulls":18},{"$f":"SHALADARPAN!A961","v":0},{"$f":"SHALADARPAN!B961","v":0},{"$f":"SHALADARPAN!K961","v":0},{"$f":"SHALADARPAN!E961","v":0},{"$f":"SHALADARPAN!G961","v":0}]
[{"$nulls":18},{"$f":"SHALADARPAN!A962","v":0},{"$f":"SHALADARPAN!B962","v":0},{"$f":"SHALADARPAN!K962","v":0},{"$f":"SHALADARPAN!E962","v":0},{"$f":"SHALADARPAN!G962","v":0}]
[{"$nulls":18},{"$f":"SHALADARPAN!A963","v":0},{"$f":"SHALADARPAN!B963","v":0},{"$f":"SHALADARPAN!K963","v":0},{"$f":"SHALADARPAN!E963","v":0},{"$f":"SHALADARPAN!G963","v":0}]
[{"$nulls":18},{"$f":"SHALADARPAN!A964","v":0},{"$f":"SHALADARPAN!B964","v":0},{"$f":"SHALADARPAN!K964","v":0},{"$f":"SHALADARPAN!E964","v":0},{"$f":"SHALADARPAN!G964","v":0}]
[{"$nulls":18},{"$f":"SHALADARPAN!A965","v":0},{"$f":"SHALADARPAN!B965","v":0},{"$f":"SHALADARPAN!K965","v":0},{"$f":"SHALADARPAN!E965","v":0},{"$f":"SHALADARPAN!G965","v":0}]
[{"$nulls":18},{"$f":"SHALADARPAN!A966","v":0},{"$f":"SHALADARPAN!B966","v":0},{"$f":"SHALADARPAN!K966","v":0},{"$f":"SHALADARPAN!E966","v":0},{"$f":"SHALADARPAN!G966","v":0}]
[{"$nulls":18},{"$f":"SHALADARPAN!A967","v":0},{"$f":"SHALADARPAN!B967","v":0},{"$f":"SHALADARPAN!K967","v":0},{"$f":"SHALADARPAN!E967","v":0},{"$f":"SHALADARPAN!G967","v":0}]
[{"$nulls":18},{"$f":"SHALADARPAN!A968","v":0},{"$f":"SHALADARPAN!B968","v":0},{"$f":"SHALADARPAN!K968","v":0},{"$f":"SHALADARPAN!E968","v":0},{"$f":"SHALADARPAN!G968","v":0}]
[{"$nulls":18},{"$f":"SHALADARPAN!A969","v":0},{"$f":"SHALADARPAN!B969","v":0},{"$f":"SHALADARPAN!K969","v":0},{"$f":"SHALADARPAN!E969","v":0},{"$f":"SHALADARPAN!G969","v":0}]
[{"$nulls":18},{"$f":"SHALADARPAN!A970","v":0},{"$f":"SHALADARPAN!B970","v":0},{"$f":"SHALADARPAN!K970","v":0},{"$f":"SHALADARPAN!E970","v":0},{"$f":"SHALADARPAN!G970","v":0}]
[{"$nulls":18},{"$f":"SHALADARPAN!A971","v":0},{"$f":"SHALADARPAN!B971","v":0},{"$f":"SHALADARPAN!K971","v":0},{"$f":"SHALADARPAN!E971","v":0},{"$f":"SHALADARPAN!G971","v":0}]
[{"$nulls":18},{"$f":"SHALADARPAN!A972","v":0},{"$f":"SHALADARPAN!B972","v":0},{"$f":"SHALADARPAN!K972","v":0},{"$f":"SHALADARPAN!E972","v":0},{"$f":"SHALADARPAN!G972","v":0}]
[{"$nulls":18},{"$f":"SHALADARPAN!A973","v":0},{"$f":"SHALADARPAN!B973","v":0},{"$f":"SHALADARPAN!K973","v":0},{"$f":"SHALADARPAN!E973","v":0},{"$f":"SHALADARPAN!G973","v":0}]
[{"$nulls":18},{"$f":"SHALADARPAN!A974","v":0},{"$f":"SHALADARPAN!B974","v":0},{"$f":"SHALADARPAN!K974","v":0},{"$f":"SHALADARPAN!E974","v":0},{"$f":"SHALADARPAN!G974","v":0}]
[{"$nulls":18},{"$f":"SHALADARPAN!A975","v":0},{"$f":"SHALADARPAN!B975","v":0},{"$f":"SHALADARPAN!K975","v":0},{"$f":"SHALADARPAN!E975","v":0},{"$f":"SHALADARPAN!G975","v":0}]
[{"$nulls":18},{"$f":"SHALADARPAN!A976","v":0},{"$f":"SHALADARPAN!B976","v":0},{"$f":"SHALADARPAN!K976","v":0},{"$f":"SHALADARPAN!E976","v":0},{"$f":"SHALADARPAN!G976","v":0}]
[{"$nulls":18},{"$f":"SHALADARPAN!A977","v":0},{"$f":"SHALADARPAN!B977","v":0},{"$f":"SHALADARPAN!K977","v":0},{"$f":"SHALADARPAN!E977","v":0},{"$f":"SHALADARPAN!G977","v":0}]
[{"$nulls":18},{"$f":"SHALADARPAN!A978","v":0},{"$f":"SHALADARPAN!B978","v":0},{"$f":"SHALADARPAN!K978","v":0},{"$f":"SHALADARPAN!E978","v":0},{"$f":"SHALADARPAN!G978","v":0}]
[{"$nulls":18},{"$f":"SHALADARPAN!A979","v":0},{"$f":"SHALADARPAN!B979","v":0},{"$f":"SHALADARPAN!K979","v":0},{"$f":"SHALADARPAN!E979","v":0},{"$f":"SHALADARPAN!G979","v":0}]
[{"$nulls":18},{"$f":"SHALADARPAN!A980","v":0},{"$f":"SHALADARPAN!B980","v":0},{"$f":"SHALADARPAN!K980","v":0},{"$f":"SHALADARPAN!E980","v":0},{"$f":"SHALADARPAN!G980","v":0}]
[{"$nulls":18},{"$f":"SHALADARPAN!A981","v":0},{"$f":"SHALADARPAN!B981","v":0},{"$f":"SHALADARPAN!K981","v":0},{"$f":"SHALADARPAN!E981","v":0},{"$f":"SHALADARPAN!G981","v":0}]
[{"$nulls":18},{"$f":"SHALADARPAN!A982","v":0},{"$f":"SHALADARPAN!B982","v":0},{"$f":"SHALADARPAN!K982","v":0},{"$f":"SHALADARPAN!E982","v":0},{"$f":"SHALADARPAN!G982","v":0}]
[{"$nulls":18},{"$f":"SHALADARPAN!A983","v":0},{"$f":"SHALADARPAN!B983","v":0},{"$f":"SHALADARPAN!K983","v":0},{"$f":"SHALADARPAN!E983","v":0},{"$f":"SHALADARPAN!G983","v":0}]
[{"$nulls":18},{"$f":"SHALADARPAN!A984","v":0},{"$f":"SHALADARPAN!B984","v":0},{"$f":"SHALADARPAN!K984","v":0},{"$f":"SHALADARPAN!E984","v":0},{"$f":"SHALADARPAN!G984","v":0}]
[{"$nulls":18},{"$f":"SHALADARPAN!A985","v":0},{"$f":"SHALADARPAN!B985","v":0},{"$f":"SHALADARPAN!K985","v":0},{"$f":"SHALADARPAN!E985","v":0},{"$f":"SHALADARPAN!G985","v":0}]
[{"$nulls":18},{"$f":"SHALADARPAN!A986","v":0},{"$f":"SHALADARPAN!B986","v":0},{"$f":"SHALADARPAN!K986","v":0},{"$f":"SHALADARPAN!E986","v":0},{"$f":"SHALADARPAN!G986","v":0}]
[{"$nulls":18},{"$f":"SHALADARPAN!A987","v":0},{"$f":"SHALADARPAN!B987","v":0},{"$f":"SHALADARPAN!K987","v":0},{"$f":"SHALADARPAN!E987","v":0},{"$f":"SHALADARPAN!G987","v":0}]
[{"$nulls":18},{"$f":"SHALADARPAN!A988","v":0},{"$f":"SHALADARPAN!B988","v":0},{"$f":"SHALADARPAN!K988","v":0},{"$f":"SHALADARPAN!E988","v":0},{"$f":"SHALADARPAN!G988","v":0}]
[{"$nulls":18},{"$f":"SHALADARPAN!A989","v":0},{"$f":"SHALADARPAN!B989","v":0},{"$f":"SHALADARPAN!K989","v":0},{"$f":"SHALADARPAN!E989","v":0},{"$f":"SHALADARPAN!G989","v":0}]
[{"$nulls":18},{"$f":"SHALADARPAN!A990","v":0},{"$f":"SHALADARPAN!B990","v":0},{"$f":"SHALADARPAN!K990","v":0},{"$f":"SHALADARPAN!E990","v":0},{"$f":"SHALADARPAN!G990","v":0}]

{"sheet":"SLIP(9-10)","index":3,"n_rows":997,"n_cols":23,"rows_kept":997,"merged":[[0,1,0,10],[1,3,1,6],[2,5,2,6],[2,7,2,10],[3,5,3,8],[3,9,3,13],[4,5,4,8],[4,9,4,10],[4,11,4,12],[5,1,6,1],[5,2,6,2],[5,3,6,3],[5,4,6,4],[5,5,6,5],[5,6,6,6],[5,7,6,7],[5,8,6,8],[5,9,6,9],[5,10,6,10],[5,11,6,11],[5,12,6,12],[5,13,6,13],[5,14,6,14]]}
[null,{"$f":"'MARK SLIP(6-8)'!B1:L1","v":"कार्यालय राजकीय उच्च माध्यमिक विद्यालय आलनियावास नागौर"}]
[{"$nulls":3},"MARK SLIP 2022-2023"]
[null,null,"कक्षा","वर्ग",null,"विषय",null,"हिंदी"]
[null,null,9,"B",null,"विषयाध्यापक"]
[{"$nulls":5},"सामयिक परख",{"$nulls":3},"वार्षिक परीक्षा",null,"वार्षिक परीक्षा"]
[null,"क्र.सं.","रोल नम्बर","विद्यार्थी का नाम","पिता का नाम","प्रथम परख","द्वितीय परख","तृतीय परख","योग","प्रश्न पत्र","योग","प्रश्न पत्र","योग","सर्वयोग","ग्रेड"]
[]
[null,null,"रोल नम्बर","विद्यार्थी का नाम","पिता का नाम",10,10,10,30,70,70,100,100,200,{"$nulls":4},"कक्षा","वर्ग","रोल नम्बर","विद्यार्थी का नाम","पिता का नाम"]
[null,{"$f":"IF(D9=\"\",\"\",ROWS($D$9:D9))","v":1},1001,"AFROJ BANU","Kailash",{"$nulls":13},{"$f":"SHALADARPAN!A2","v":1},{"$f":"SHALADARPAN!B2","v":"A"},{"$f":"SHALADARPAN!K2","v":0},{"$f":"SHALADARPAN!E2","v":"Aaliya"},{"$f":"SHALADARPAN!G2","v":"Kailash"}]
[null,{"$f":"IF(D10=\"\",\"\",ROWS($D$9:D10))","v":2},1002,"ALTAF MOHAMMAD","Kailash",{"$nulls":12},1,{"$f":"SHALADARPAN!A3","v":1},{"$f":"SHALADARPAN!B3","v":"A"},{"$f":"SHALADARPAN!K3","v":0},{"$f":"SHALADARPAN!E3","v":"Aarju"},{"$f":"SHALADARPAN!G3","v":"Kailash"}]
[null,{"$f":"IF(D11=\"\",\"\",ROWS($D$9:D11))","v":3},1003,"ANNU KANWAR","Kailash",{"$nulls":12},2,{"$f":"SHALADARPAN!A4","v":1},{"$f":"SHALADARPAN!B4","v":"A"},{"$f":"SHALADARPAN!K4","v":0},{"$f":"SHALADARPAN!E4","v":"Aarmin"},{"$f":"SHALADARPAN!G4","v":"Kailash"}]
[null,{"$f":"IF(D12=\"\",\"\",ROWS($D$9:D12))","v":4},1004,"Arpit Tailor","Kailash",{"$nulls":12},3,{"$f":"SHALADARPAN!A5","v":1},{"$f":"SHALADARPAN!B5","v":"A"},{"$f":"SHALADARPAN!K5","v":0},{"$f":"SHALADARPAN!E5","v":"Aashmen"},{"$f":"SHALADARPAN!G5","v":"Kailash"}]
[null,{"$f":"IF(D13=\"\",\"\",ROWS($D$9:D13))","v":5},1005,"Ashraf Ali","Kailash",{"$nulls":12},4,{"$f":"SHALADARPAN!A6","v":1},{"$f":"SHALADARPAN!B6","v":"A"},{"$f":"SHALADARPAN!K6","v":0},{"$f":"SHALADARPAN!E6","v":"Aliya"},{"$f":"SHALADARPAN!G6","v":"Kailash"}]
[null,{"$f":"IF(D14=\"\",\"\",ROWS($D$9:D14))","v":6},1006,"BALRAM GURJAR","Kailash",{"$nulls":12},5,{"$f":"SHALADARPAN!A7","v":1},{"$f":"SHALADARPAN!B7","v":"A"},{"$f":"SHALADARPAN!K7","v":0},{"$f":"SHALADARPAN!E7","v":"Bheemraj"},{"$f":"SHALADARPAN!G7","v":"Kailash"}]
[null,{"$f":"IF(D15=\"\",\"\",ROWS($D$9:D15))","v":7},1007,"BASANTI","Kailash",{"$nulls":12},6,{"$f":"SHALADARPAN!A8","v":1},{"$f":"SHALADARPAN!B8","v":"A"},{"$f":"SHALADARPAN!K8","v":0},{"$f":"SHALADARPAN!E8","v":"Bilal"},{"$f":"SHALADARPAN!G8","v":"Kailash"}]
[null,{"$f":"IF(D16=\"\",\"\",ROWS($D$9:D16))","v":8},1008,"Chanchal Saini","Kailash",{"$nulls":12},7,{"$f":"SHALADARPAN!A9","v":1},{"$f":"SHALADARPAN!B9","v":"A"},{"$f":"SHALADARPAN!K9","v":0},{"$f":"SHALADARPAN!E9","v":"Gulnaj Banu"},{"$f":"SHALADARPAN!G9","v":"Kailash"}]
[null,{"$f":"IF(D17=\"\",\"\",ROWS($D$9:D17))","v":9},1009,"CHANCHAL KUMAWAT","Kailash",{"$nulls":12},8,{"$f":"SHALADARPAN!A10","v":1},{"$f":"SHALADARPAN!B10","v":"A"},{"$f":"SHALADARPAN!K10","v":0},{"$f":"SHALADARPAN!E10","v":"Gunjan"},{"$f":"SHALADARPAN!G10","v":"Kailash"}]
[null,{"$f":"IF(D18=\"\",\"\",ROWS($D$9:D18))","v":10},1010,"Cheteswar Jhala","Kailash",{"$nulls":13},{"$f":"SHALADARPAN!A11","v":1},{"$f":"SHALADARPAN!B11","v":"A"},{"$f":"SHALADARPAN!K11","v":0},{"$f":"SHALADARPAN!E11","v":"Jasmim"},{"$f":"SHALADARPAN!G11","v":"Kailash"}]
[null,{"$f":"IF(D19=\"\",\"\",ROWS($D$9:D19))","v":11},1011,"Deepika Prajapat","Kailash",{"$nulls":13},{"$f":"SHALADARPAN!A12","v":1},{"$f":"SHALADARPAN!B12","v":"A"},{"$f":"SHALADARPAN!K12","v":0},{"$f":"SHALADARPAN!E12","v":"Jyoti Dagdi"},{"$f":"SHALADARPAN!G12","v":"Kailash"}]
[null,{"$f":"IF(D20=\"\",\"\",ROWS($D$9:D20))","v":12},1012,"Devendra Singh","Kailash",{"$nulls":13},{"$f":"SHALADARPAN!A13","v":1},{"$f":"SHALADARPAN!B13","v":"A"},{"$f":"SHALADARPAN!K13","v":0},{"$f":"SHALADARPAN!E13","v":"Kalu Dagdi"},{"$f":"SHALADARPAN!G13","v":"Kailash"}]
[null,{"$f":"IF(D21=\"\",\"\",ROWS($D$9:D21))","v":13},1013,"Dinesh Saini","Kailash",{"$nulls":13},{"$f":"SHALADARPAN!A14","v":1},{"$f":"SHALADARPAN!B14","v":"A"},{"$f":"SHALADARPAN!K14","v":0},{"$f":"SHALADARPAN!E14","v":"Khushanur Bano"},{"$f":"SHALADARPAN!G14","v":"Kailash"}]
[null,{"$f":"IF(D22=\"\",\"\",ROWS($D$9:D22))","v":14},1014,"GHANSHYAM RAVAL","Kailash",{"$nulls":13},{"$f":"SHALADARPAN!A15","v":1},{"$f":"SHALADARPAN!B15","v":"A"},{"$f":"SHALADARPAN!K15","v":0},{"$f":"SHALADARPAN!E15","v":"Komal Gurjar"},{"$f":"SHALADARPAN!G15","v":"Kailash"}]
[null,{"$f":"IF(D23=\"\",\"\",ROWS($D$9:D23))","v":15},1015,"GUDDI","Kailash",{"$nulls":13},{"$f":"SHALADARPAN!A16","v":1},{"$f":"SHALADARPAN!B16","v":"A"},{"$f":"SHALADARPAN!K16","v":0},{"$f":"SHALADARPAN!E16","v":"Lal Chand"},{"$f":"SHALADARPAN!G16","v":"Kailash"}]
[null,{"$f":"IF(D24=\"\",\"\",ROWS($D$9:D24))","v":16},915,"GULBAR BANU","Kailash",{"$nulls":13},{"$f":"SHALADARPAN!A17","v":1},{"$f":"SHALADARPAN!B17","v":"A"},{"$f":"SHALADARPAN!K17","v":0},{"$f":"SHALADARPAN!E17","v":"Mamtaj"},{"$f":"SHALADARPAN!G17","v":"Kailash"}]
[null,{"$f":"IF(D25=\"\",\"\",ROWS($D$9:D25))","v":17},1016,"Hansa Devi","Kailash",{"$nulls":13},{"$f":"SHALADARPAN!A18","v":1},{"$f":"SHALADARPAN!B18","v":"A"},{"$f":"SHALADARPAN!K18","v":0},{"$f":"SHALADARPAN!E18","v":"Mohammad Abbas"},{"$f":"SHALADARPAN!G18","v":"Kailash"}]
[null,{"$f":"IF(D26=\"\",\"\",ROWS($D$9:D26))","v":18},1017,"Hanuman Ram","Kailash",{"$nulls":13},{"$f":"SHALADARPAN!A19","v":1},{"$f":"SHALADARPAN!B19","v":"A"},{"$f":"SHALADARPAN!K19","v":0},{"$f":"SHALADARPAN!E19","v":"Mohammad Aman"},{"$f":"SHALADARPAN!G19","v":"Kailash"}]
[null,{"$f":"IF(D27=\"\",\"\",ROWS($D$9:D27))","v":19},1018,"Harendra Saini","Kailash",{"$nulls":13},{"$f":"SHALADARPAN!A20","v":1},{"$f":"SHALADARPAN!B20","v":"A"},{"$f":"SHALADARPAN!K20","v":0},{"$f":"SHALADARPAN!E20","v":"Mohammad Arphin"},{"$f":"SHALADARPAN!G20","v":"Kailash"}]
[null,{"$f":"IF(D28=\"\",\"\",ROWS($D$9:D28))","v":20},1019,"Hari Ram","Kailash",{"$nulls":13},{"$f":"SHALADARPAN!A21","v":1},{"$f":"SHALADARPAN!B21","v":"A"},{"$f":"SHALADARPAN!K21","v":0},{"$f":"SHALADARPAN!E21","v":"Mustafa"},{"$f":"SHALADARPAN!G21","v":"Kailash"}]
[null,{"$f":"IF(D29=\"\",\"\",ROWS($D$9:D29))","v":21},1020,"HASMATI BANO","Kailash",{"$nulls":13},{"$f":"SHALADARPAN!A22","v":1},{"$f":"SHALADARPAN!B22","v":"A"},{"$f":"SHALADARPAN!K22","v":0},{"$f":"SHALADARPAN!E22","v":"Nenu Ram"},{"$f":"SHALADARPAN!G22","v":"Kailash"}]
[null,{"$f":"IF(D30=\"\",\"\",ROWS($D$9:D30))","v":22},1021,"JAIPAL SINGH","Kailash",{"$nulls":13},{"$f":"SHALADARPAN!A23","v":1},{"$f":"SHALADARPAN!B23","v":"A"},{"$f":"SHALADARPAN!K23","v":0},{"$f":"SHALADARPAN!E23","v":"Raju"},{"$f":"SHALADARPAN!G23","v":"Kailash"}]
[null,{"$f":"IF(D31=\"\",\"\",ROWS($D$9:D31))","v":23},1022,"Jay Shree Prajapat","Kailash",{"$nulls":13},{"$f":"SHALADARPAN!A24","v":1},{"$f":"SHALADARPAN!B24","v":"A"},{"$f":"SHALADARPAN!K24","v":0},{"$f":"SHALADARPAN!E24","v":"Rehana Banu"},{"$f":"SHALADARPAN!G24","v":"Kailash"}]
[null,{"$f":"IF(D32=\"\",\"\",ROWS($D$9:D32))","v":24},1023,"KAJOO DEVI","Kailash",{"$nulls":13},{"$f":"SHALADARPAN!A25","v":1},{"$f":"SHALADARPAN!B25","v":"A"},{"$f":"SHALADARPAN!K25","v":0},{"$f":"SHALADARPAN!E25","v":"Saina"},{"$f":"SHALADARPAN!G25","v":"Kailash"}]
[null,{"$f":"IF(D33=\"\",\"\",ROWS($D$9:D33))","v":25},1024,"KANCHAN DEVI","Kailash",{"$nulls":13},{"$f":"SHALADARPAN!A26","v":1},{"$f":"SHALADARPAN!B26","v":"A"},{"$f":"SHALADARPAN!K26","v":0},{"$f":"SHALADARPAN!E26","v":"Sangeeta"},{"$f":"SHALADARPAN!G26","v":"Kailash"}]
[null,{"$f":"IF(D34=\"\",\"\",ROWS($D$9:D34))","v":26},1025,"KAVITA KUMAWAT","Kailash",{"$nulls":13},{"$f":"SHALADARPAN!A27","v":1},{"$f":"SHALADARPAN!B27","v":"A"},{"$f":"SHALADARPAN!K27","v":0},{"$f":"SHALADARPAN!E27","v":"Sayna Banu"},{"$f":"SHALADARPAN!G27","v":"Kailash"}]
[null,{"$f":"IF(D35=\"\",\"\",ROWS($D$9:D35))","v":27},1026,"KOMAL","Kailash",{"$nulls":13},{"$f":"SHALADARPAN!A28","v":1},{"$f":"SHALADARPAN!B28","v":"A"},{"$f":"SHALADARPAN!K28","v":0},{"$f":"SHALADARPAN!E28","v":"Shahid"},{"$f":"SHALADARPAN!G28","v":"Kailash"}]
[null,{"$f":"IF(D36=\"\",\"\",ROWS($D$9:D36))","v":28},1027,"Komal Kanwar","Kailash",{"$nulls":13},{"$f":"SHALADARPAN!A29","v":1},{"$f":"SHALADARPAN!B29","v":"A"},{"$f":"SHALADARPAN!K29","v":0},{"$f":"SHALADARPAN!E29","v":"Sivani"},{"$f":"SHALADARPAN!G29","v":"Kailash"}]
[null,{"$f":"IF(D37=\"\",\"\",ROWS($D$9:D37))","v":29},1028,"KOMAL MALI","Kailash",{"$nulls":13},{"$f":"SHALADARPAN!A30","v":1},{"$f":"SHALADARPAN!B30","v":"A"},{"$f":"SHALADARPAN!K30","v":0},{"$f":"SHALADARPAN!E30","v":"Surta"},{"$f":"SHALADARPAN!G30","v":"Kailash"}]
[null,{"$f":"IF(D38=\"\",\"\",ROWS($D$9:D38))","v":30},1029,"Laxmi","Kailash",{"$nulls":13},{"$f":"SHALADARPAN!A31","v":1},{"$f":"SHALADARPAN!B31","v":"A"},{"$f":"SHALADARPAN!K31","v":0},{"$f":"SHALADARPAN!E31","v":"Tammna Aacharya"},{"$f":"SHALADARPAN!G31","v":"Kailash"}]
[null,{"$f":"IF(D39=\"\",\"\",ROWS($D$9:D39))","v":31},1030,"LAXMI KUMARI","Kailash",{"$nulls":13},{"$f":"SHALADARPAN!A32","v":1},{"$f":"SHALADARPAN!B32","v":"A"},{"$f":"SHALADARPAN!K32","v":0},{"$f":"SHALADARPAN!E32","v":"Tanu"},{"$f":"SHALADARPAN!G32","v":"Kailash"}]
[null,{"$f":"IF(D40=\"\",\"\",ROWS($D$9:D40))","v":32},1031,"MAMTA","Kailash",{"$nulls":13},{"$f":"SHALADARPAN!A33","v":1},{"$f":"SHALADARPAN!B33","v":"A"},{"$f":"SHALADARPAN!K33","v":0},{"$f":"SHALADARPAN!E33","v":"Yuvraj Acharya"},{"$f":"SHALADARPAN!G33","v":"Kailash"}]
[null,{"$f":"IF(D41=\"\",\"\",ROWS($D$9:D41))","v":33},1032,"MANISHA SAINI","Kailash",{"$nulls":13},{"$f":"SHALADARPAN!A34","v":2},{"$f":"SHALADARPAN!B34","v":"A"},{"$f":"SHALADARPAN!K34","v":0},{"$f":"SHALADARPAN!E34","v":"Aaliya Bano"},{"$f":"SHALADARPAN!G34","v":"Kailash"}]
[null,{"$f":"IF(D42=\"\",\"\",ROWS($D$9:D42))","v":34},1033,"MAYA RAIDAS","Kailash",{"$nulls":13},{"$f":"SHALADARPAN!A35","v":2},{"$f":"SHALADARPAN!B35","v":"A"},{"$f":"SHALADARPAN!K35","v":0},{"$f":"SHALADARPAN!E35","v":"Abbas"},{"$f":"SHALADARPAN!G35","v":"Kailash"}]
[null,{"$f":"IF(D43=\"\",\"\",ROWS($D$9:D43))","v":35},1034,"MITALI KUMAWAT","Kailash",{"$nulls":13},{"$f":"SHALADARPAN!A36","v":2},{"$f":"SHALADARPAN!B36","v":"A"},{"$f":"SHALADARPAN!K36","v":0},{"$f":"SHALADARPAN!E36","v":"Abhishek"},{"$f":"SHALADARPAN!G36","v":"Kailash"}]
[null,{"$f":"IF(D44=\"\",\"\",ROWS($D$9:D44))","v":36},1035,"Mohit Saini","Kailash",{"$nulls":13},{"$f":"SHALADARPAN!A37","v":2},{"$f":"SHALADARPAN!B37","v":"A"},{"$f":"SHALADARPAN!K37","v":0},{"$f":"SHALADARPAN!E37","v":"Anita"},{"$f":"SHALADARPAN!G37","v":"Kailash"}]
[null,{"$f":"IF(D45=\"\",\"\",ROWS($D$9:D45))","v":37},1036,"MONIKA BANU","Kailash",{"$nulls":13},{"$f":"SHALADARPAN!A38","v":2},{"$f":"SHALADARPAN!B38","v":"A"},{"$f":"SHALADARPAN!K38","v":0},{"$f":"SHALADARPAN!E38","v":"Asad Rajja"},{"$f":"SHALADARPAN!G38","v":"Kailash"}]
[null,{"$f":"IF(D46=\"\",\"\",ROWS($D$9:D46))","v":38},1037,"MONIKA CHOUDHARY","Kailash",{"$nulls":13},{"$f":"SHALADARPAN!A39","v":2},{"$f":"SHALADARPAN!B39","v":"A"},{"$f":"SHALADARPAN!K39","v":0},{"$f":"SHALADARPAN!E39","v":"Aslam"},{"$f":"SHALADARPAN!G39","v":"Kailash"}]
[null,{"$f":"IF(D47=\"\",\"\",ROWS($D$9:D47))","v":39},1038,"MUMAL KANWAR","Kailash",{"$nulls":13},{"$f":"SHALADARPAN!A40","v":2},{"$f":"SHALADARPAN!B40","v":"A"},{"$f":"SHALADARPAN!K40","v":0},{"$f":"SHALADARPAN!E40","v":"Bushra"},{"$f":"SHALADARPAN!G40","v":"Kailash"}]
[null,{"$f":"IF(D48=\"\",\"\",ROWS($D$9:D48))","v":40},1039,"MUSKAN QURAISHI","Kailash",{"$nulls":13},{"$f":"SHALADARPAN!A41","v":2},{"$f":"SHALADARPAN!B41","v":"A"},{"$f":"SHALADARPAN!K41","v":0},{"$f":"SHALADARPAN!E41","v":"Harshita"},{"$f":"SHALADARPAN!G41","v":"Kailash"}]
[null,{"$f":"IF(D49=\"\",\"\",ROWS($D$9:D49))","v":41},1040,"Nabab Ali","Kailash",{"$nulls":13},{"$f":"SHALADARPAN!A42","v":2},{"$f":"SHALADARPAN!B42","v":"A"},{"$f":"SHALADARPAN!K42","v":0},{"$f":"SHALADARPAN!E42","v":"Imran"},{"$f":"SHALADARPAN!G42","v":"Kailash"}]
[null,{"$f":"IF(D50=\"\",\"\",ROWS($D$9:D50))","v":42},1041,"NAJMEEN","Kailash",{"$nulls":13},{"$f":"SHALADARPAN!A43","v":2},{"$f":"SHALADARPAN!B43","v":"A"},{"$f":"SHALADARPAN!K43","v":0},{"$f":"SHALADARPAN!E43","v":"Javed"},{"$f":"SHALADARPAN!G43","v":"Kailash"}]
[null,{"$f":"IF(D51=\"\",\"\",ROWS($D$9:D51))","v":43},1042,"Narendra Singh","Kailash",{"$nulls":13},{"$f":"SHALADARPAN!A44","v":2},{"$f":"SHALADARPAN!B44","v":"A"},{"$f":"SHALADARPAN!K44","v":0},{"$f":"SHALADARPAN!E44","v":"Kamal"},{"$f":"SHALADARPAN!G44","v":"Kailash"}]
[null,{"$f":"IF(D52=\"\",\"\",ROWS($D$9:D52))","v":44},1043,"Pradeep Sharma","Kailash",{"$nulls":13},{"$f":"SHALADARPAN!A45","v":2},{"$f":"SHALADARPAN!B45","v":"A"},{"$f":"SHALADARPAN!K45","v":0},{"$f":"SHALADARPAN!E45","v":"Kuldeep"},{"$f":"SHALADARPAN!G45","v":"Kailash"}]
[null,{"$f":"IF(D53=\"\",\"\",ROWS($D$9:D53))","v":45},1044,"PRAFUL VYAS","Kailash",{"$nulls":13},{"$f":"SHALADARPAN!A46","v":2},{"$f":"SHALADARPAN!B46","v":"A"},{"$f":"SHALADARPAN!K46","v":0},{"$f":"SHALADARPAN!E46","v":"Mohit Nath"},{"$f":"SHALADARPAN!G46","v":"Kailash"}]
[null,{"$f":"IF(D54=\"\",\"\",ROWS($D$9:D54))","v":46},1045,"Praveen Samariya","Kailash",{"$nulls":13},{"$f":"SHALADARPAN!A47","v":2},{"$f":"SHALADARPAN!B47","v":"A"},{"$f":"SHALADARPAN!K47","v":0},{"$f":"SHALADARPAN!E47","v":"Naveen Jangliya"},{"$f":"SHALADARPAN!G47","v":"Kailash"}]
[null,{"$f":"IF(D55=\"\",\"\",ROWS($D$9:D55))","v":47},1046,"RAHMAT","Kailash",{"$nulls":13},{"$f":"SHALADARPAN!A48","v":2},{"$f":"SHALADARPAN!B48","v":"A"},{"$f":"SHALADARPAN!K48","v":0},{"$f":"SHALADARPAN!E48","v":"Om Prakash"},{"$f":"SHALADARPAN!G48","v":"Kailash"}]
[null,{"$f":"IF(D56=\"\",\"\",ROWS($D$9:D56))","v":48},1047,"RAJBA KOSAR","Kailash",{"$nulls":13},{"$f":"SHALADARPAN!A49","v":2},{"$f":"SHALADARPAN!B49","v":"A"},{"$f":"SHALADARPAN!K49","v":0},{"$f":"SHALADARPAN!E49","v":"Parina"},{"$f":"SHALADARPAN!G49","v":"Kailash"}]
[null,{"$f":"IF(D57=\"\",\"\",ROWS($D$9:D57))","v":49},1048,"RAVINDRA BHATI","Kailash",{"$nulls":13},{"$f":"SHALADARPAN!A50","v":2},{"$f":"SHALADARPAN!B50","v":"A"},{"$f":"SHALADARPAN!K50","v":0},{"$f":"SHALADARPAN!E50","v":"Rahul"},{"$f":"SHALADARPAN!G50","v":"Kailash"}]
[null,{"$f":"IF(D58=\"\",\"\",ROWS($D$9:D58))","v":50},1049,"SANDEEP SAINI","Kailash",{"$nulls":13},{"$f":"SHALADARPAN!A51","v":2},{"$f":"SHALADARPAN!B51","v":"A"},{"$f":"SHALADARPAN!K51","v":0},{"$f":"SHALADARPAN!E51","v":"Samina"},{"$f":"SHALADARPAN!G51","v":"Kailash"}]
[null,{"$f":"IF(D59=\"\",\"\",ROWS($D$9:D59))","v":51},1051,"SHILPA KUDI","Kailash",{"$nulls":13},{"$f":"SHALADARPAN!A52","v":2},{"$f":"SHALADARPAN!B52","v":"A"},{"$f":"SHALADARPAN!K52","v":0},{"$f":"SHALADARPAN!E52","v":"Sayaba"},{"$f":"SHALADARPAN!G52","v":"Kailash"}]
[null,{"$f":"IF(D60=\"\",\"\",ROWS($D$9:D60))","v":52},1053,"SONAM KUMAWAT","Kailash",{"$nulls":13},{"$f":"SHALADARPAN!A53","v":2},{"$f":"SHALADARPAN!B53","v":"A"},{"$f":"SHALADARPAN!K53","v":0},{"$f":"SHALADARPAN!E53","v":"Sayana"},{"$f":"SHALADARPAN!G53","v":"Kailash"}]
[null,{"$f":"IF(D61=\"\",\"\",ROWS($D$9:D61))","v":53},1054,"SONU DEVI","Kailash",{"$nulls":13},{"$f":"SHALADARPAN!A54","v":2},{"$f":"SHALADARPAN!B54","v":"A"},{"$f":"SHALADARPAN!K54","v":0},{"$f":"SHALADARPAN!E54","v":"Seema Devi"},{"$f":"SHALADARPAN!G54","v":"Kailash"}]
[null,{"$f":"IF(D62=\"\",\"\",ROWS($D$9:D62))","v":54},1056,"SUMAN KANWAR","Kailash",{"$nulls":13},{"$f":"SHALADARPAN!A55","v":2},{"$f":"SHALADARPAN!B55","v":"A"},{"$f":"SHALADARPAN!K55","v":0},{"$f":"SHALADARPAN!E55","v":"Shabana"},{"$f":"SHALADARPAN!G55","v":"Kailash"}]
[null,{"$f":"IF(D63=\"\",\"\",ROWS($D$9:D63))","v":55},1057,"Sumit Saini","Kailash",{"$nulls":13},{"$f":"SHALADARPAN!A56","v":2},{"$f":"SHALADARPAN!B56","v":"A"},{"$f":"SHALADARPAN!K56","v":0},{"$f":"SHALADARPAN!E56","v":"Shabir Huhain"},{"$f":"SHALADARPAN!G56","v":"Kailash"}]
[null,{"$f":"IF(D64=\"\",\"\",ROWS($D$9:D64))","v":56},1058,"SUMITA","Kailash",{"$nulls":13},{"$f":"SHALADARPAN!A57","v":2},{"$f":"SHALADARPAN!B57","v":"A"},{"$f":"SHALADARPAN!K57","v":0},{"$f":"SHALADARPAN!E57","v":"Shahiba Banu"},{"$f":"SHALADARPAN!G57","v":"Kailash"}]
[null,{"$f":"IF(D65=\"\",\"\",ROWS($D$9:D65))","v":57},1059,"Sunil Saini","Kailash",{"$nulls":13},{"$f":"SHALADARPAN!A58","v":2},{"$f":"SHALADARPAN!B58","v":"A"},{"$f":"SHALADARPAN!K58","v":0},{"$f":"SHALADARPAN!E58","v":"Shahnaz"},{"$f":"SHALADARPAN!G58","v":"Kailash"}]
[null,{"$f":"IF(D66=\"\",\"\",ROWS($D$9:D66))","v":58},1060,"SUNITA PANWAR","Kailash",{"$nulls":13},{"$f":"SHALADARPAN!A59","v":2},{"$f":"SHALADARPAN!B59","v":"A"},{"$f":"SHALADARPAN!K59","v":0},{"$f":"SHALADARPAN!E59","v":"Shalu Kanwar"},{"$f":"SHALADARPAN!G59","v":"Kailash"}]
[null,{"$f":"IF(D67=\"\",\"\",ROWS($D$9:D67))","v":59},1061,"SURENDRA KUMAWAT","Kailash",{"$nulls":13},{"$f":"SHALADARPAN!A60","v":2},{"$f":"SHALADARPAN!B60","v":"A"},{"$f":"SHALADARPAN!K60","v":0},{"$f":"SHALADARPAN!E60","v":"Shalu Kanwar"},{"$f":"SHALADARPAN!G60","v":"Kailash"}]
[null,{"$f":"IF(D68=\"\",\"\",ROWS($D$9:D68))","v":60},1062,"Tija Devi","Kailash",{"$nulls":13},{"$f":"SHALADARPAN!A61","v":2},{"$f":"SHALADARPAN!B61","v":"A"},{"$f":"SHALADARPAN!K61","v":0},{"$f":"SHALADARPAN!E61","v":"Sharif Mohmmed"},{"$f":"SHALADARPAN!G61","v":"Kailash"}]
[null,{"$f":"IF(D69=\"\",\"\",ROWS($D$9:D69))","v":61},1063,"URMILA","Kailash",{"$nulls":13},{"$f":"SHALADARPAN!A62","v":2},{"$f":"SHALADARPAN!B62","v":"A"},{"$f":"SHALADARPAN!K62","v":0},{"$f":"SHALADARPAN!E62","v":"Sidarth Mali"},{"$f":"SHALADARPAN!G62","v":"Kailash"}]
[null,{"$f":"IF(D70=\"\",\"\",ROWS($D$9:D70))","v":62},1064,"Varsha Kanwar","Kailash",{"$nulls":13},{"$f":"SHALADARPAN!A63","v":2},{"$f":"SHALADARPAN!B63","v":"A"},{"$f":"SHALADARPAN!K63","v":0},{"$f":"SHALADARPAN!E63","v":"Soni"},{"$f":"SHALADARPAN!G63","v":"Kailash"}]
[null,{"$f":"IF(D71=\"\",\"\",ROWS($D$9:D71))","v":63},1065,"Vikas Barara","Kailash",{"$nulls":13},{"$f":"SHALADARPAN!A64","v":3},{"$f":"SHALADARPAN!B64","v":"A"},{"$f":"SHALADARPAN!K64","v":0},{"$f":"SHALADARPAN!E64","v":"AAISHA BANO"},{"$f":"SHALADARPAN!G64","v":"Kailash"}]
[null,{"$f":"IF(D72=\"\",\"\",ROWS($D$9:D72))","v":64},1066,"Vrishty Malakar","Kailash",{"$nulls":13},{"$f":"SHALADARPAN!A65","v":3},{"$f":"SHALADARPAN!B65","v":"A"},{"$f":"SHALADARPAN!K65","v":0},{"$f":"SHALADARPAN!E65","v":"AARIF"},{"$f":"SHALADARPAN!G65","v":"Kailash"}]
[null,{"$f":"IF(D73=\"\",\"\",ROWS($D$9:D73))","v":65},1067,"Yogendra Singh","Kailash",{"$nulls":13},{"$f":"SHALADARPAN!A66","v":3},{"$f":"SHALADARPAN!B66","v":"A"},{"$f":"SHALADARPAN!K66","v":0},{"$f":"SHALADARPAN!E66","v":"ALFIDA"},{"$f":"SHALADARPAN!G66","v":"Kailash"}]
[null,{"$f":"IF(D74=\"\",\"\",ROWS($D$9:D74))","v":66},1068,"Yogesh Kumar Prajapat","Kailash",{"$nulls":13},{"$f":"SHALADARPAN!A67","v":3},{"$f":"SHALADARPAN!B67","v":"A"},{"$f":"SHALADARPAN!K67","v":0},{"$f":"SHALADARPAN!E67","v":"ALVEERA"},{"$f":"SHALADARPAN!G67","v":"Kailash"}]
[null,{"$f":"IF(D75=\"\",\"\",ROWS($D$9:D75))","v":67},1069,"Yogesh Vaishnav","Kailash",{"$nulls":13},{"$f":"SHALADARPAN!A68","v":3},{"$f":"SHALADARPAN!B68","v":"A"},{"$f":"SHALADARPAN!K68","v":0},{"$f":"SHALADARPAN!E68","v":"ANJALEE"},{"$f":"SHALADARPAN!G68","v":"Kailash"}]
[null,{"$f":"IF(D76=\"\",\"\",ROWS($D$9:D76))","v":68},1070,"Yuvraj Singh","Kailash",{"$nulls":13},{"$f":"SHALADARPAN!A69","v":3},{"$f":"SHALADARPAN!B69","v":"A"},{"$f":"SHALADARPAN!K69","v":0},{"$f":"SHALADARPAN!E69","v":"CHANCHAL"},{"$f":"SHALADARPAN!G69","v":"Kailash"}]
[null,{"$f":"IF(D77=\"\",\"\",ROWS($D$9:D77))","v":""},{"$nulls":16},{"$f":"SHALADARPAN!A70","v":3},{"$f":"SHALADARPAN!B70","v":"A"},{"$f":"SHALADARPAN!K70","v":0},{"$f":"SHALADARPAN!E70","v":"Danish"},{"$f":"SHALADARPAN!G70","v":"Kailash"}]
[null,{"$f":"IF(D78=\"\",\"\",ROWS($D$9:D78))","v":""},{"$nulls":16},{"$f":"SHALADARPAN!A71","v":3},{"$f":"SHALADARPAN!B71","v":"A"},{"$f":"SHALADARPAN!K71","v":0},{"$f":"SHALADARPAN!E71","v":"GOVIND"},{"$f":"SHALADARPAN!G71","v":"Kailash"}]
[null,{"$f":"IF(D79=\"\",\"\",ROWS($D$9:D79))","v":""},{"$nulls":16},{"$f":"SHALADARPAN!A72","v":3},{"$f":"SHALADARPAN!B72","v":"A"},{"$f":"SHALADARPAN!K72","v":0},{"$f":"SHALADARPAN!E72","v":"HAIDAR ALI"},{"$f":"SHALADARPAN!G72","v":"Kailash"}]
[null,{"$f":"IF(D80=\"\",\"\",ROWS($D$9:D80))","v":""},{"$nulls":16},{"$f":"SHALADARPAN!A73","v":3},{"$f":"SHALADARPAN!B73","v":"A"},{"$f":"SHALADARPAN!K73","v":0},{"$f":"SHALADARPAN!E73","v":"KAVITA"},{"$f":"SHALADARPAN!G73","v":"Kailash"}]
[null,{"$f":"IF(D81=\"\",\"\",ROWS($D$9:D81))","v":""},{"$nulls":16},{"$f":"SHALADARPAN!A74","v":3},{"$f":"SHALADARPAN!B74","v":"A"},{"$f":"SHALADARPAN!K74","v":0},{"$f":"SHALADARPAN!E74","v":"KHUSBU"},{"$f":"SHALADARPAN!G74","v":"Kailash"}]
[null,{"$f":"IF(D82=\"\",\"\",ROWS($D$9:D82))","v":""},{"$nulls":16},{"$f":"SHALADARPAN!A75","v":3},{"$f":"SHALADARPAN!B75","v":"A"},{"$f":"SHALADARPAN!K75","v":0},{"$f":"SHALADARPAN!E75","v":"Komal"},{"$f":"SHALADARPAN!G75","v":"Kailash"}]
[null,{"$f":"IF(D83=\"\",\"\",ROWS($D$9:D83))","v":""},{"$nulls":16},{"$f":"SHALADARPAN!A76","v":3},{"$f":"SHALADARPAN!B76","v":"A"},{"$f":"SHALADARPAN!K76","v":0},{"$f":"SHALADARPAN!E76","v":"Monika Saini"},{"$f":"SHALADARPAN!G76","v":"Kailash"}]
[null,{"$f":"IF(D84=\"\",\"\",ROWS($D$9:D84))","v":""},{"$nulls":16},{"$f":"SHALADARPAN!A77","v":3},{"$f":"SHALADARPAN!B77","v":"A"},{"$f":"SHALADARPAN!K77","v":0},{"$f":"SHALADARPAN!E77","v":"Mukesh Vaishnav"},{"$f":"SHALADARPAN!G77","v":"Kailash"}]
[null,{"$f":"IF(D85=\"\",\"\",ROWS($D$9:D85))","v":""},{"$nulls":16},{"$f":"SHALADARPAN!A78","v":3},{"$f":"SHALADARPAN!B78","v":"A"},{"$f":"SHALADARPAN!K78","v":0},{"$f":"SHALADARPAN!E78","v":"NIKIT BANU"},{"$f":"SHALADARPAN!G78","v":"Kailash"}]
[null,{"$f":"IF(D86=\"\",\"\",ROWS($D$9:D86))","v":""},{"$nulls":16},{"$f":"SHALADARPAN!A79","v":3},{"$f":"SHALADARPAN!B79","v":"A"},{"$f":"SHALADARPAN!K79","v":0},{"$f":"SHALADARPAN!E79","v":"NISHA TAMBOLI"},{"$f":"SHALADARPAN!G79","v":"Kailash"}]
[null,{"$f":"IF(D87=\"\",\"\",ROWS($D$9:D87))","v":""},{"$nulls":16},{"$f":"SHALADARPAN!A80","v":3},{"$f":"SHALADARPAN!B80","v":"A"},{"$f":"SHALADARPAN!K80","v":0},{"$f":"SHALADARPAN!E80","v":"RAJESH"},{"$f":"SHALADARPAN!G80","v":"Kailash"}]
[null,{"$f":"IF(D88=\"\",\"\",ROWS($D$9:D88))","v":""},{"$nulls":16},{"$f":"SHALADARPAN!A81","v":3},{"$f":"SHALADARPAN!B81","v":"A"},{"$f":"SHALADARPAN!K81","v":0},{"$f":"SHALADARPAN!E81","v":"Ranveer Acharya"},{"$f":"SHALADARPAN!G81","v":"Kailash"}]
[null,{"$f":"IF(D89=\"\",\"\",ROWS($D$9:D89))","v":""},{"$nulls":16},{"$f":"SHALADARPAN!A82","v":3},{"$f":"SHALADARPAN!B82","v":"A"},{"$f":"SHALADARPAN!K82","v":0},{"$f":"SHALADARPAN!E82","v":"Ravindra Saini"},{"$f":"SHALADARPAN!G82","v":"Kailash"}]
[null,{"$f":"IF(D90=\"\",\"\",ROWS($D$9:D90))","v":""},{"$nulls":16},{"$f":"SHALADARPAN!A83","v":3},{"$f":"SHALADARPAN!B83","v":"A"},{"$f":"SHALADARPAN!K83","v":0},{"$f":"SHALADARPAN!E83","v":"Sachi Nath"},{"$f":"SHALADARPAN!G83","v":"Kailash"}]
[null,{"$f":"IF(D91=\"\",\"\",ROWS($D$9:D91))","v":""},{"$nulls":16},{"$f":"SHALADARPAN!A84","v":3},{"$f":"SHALADARPAN!B84","v":"A"},{"$f":"SHALADARPAN!K84","v":0},{"$f":"SHALADARPAN!E84","v":"SAHEENA BANU"},{"$f":"SHALADARPAN!G84","v":"Kailash"}]
[null,{"$f":"IF(D92=\"\",\"\",ROWS($D$9:D92))","v":""},{"$nulls":16},{"$f":"SHALADARPAN!A85","v":3},{"$f":"SHALADARPAN!B85","v":"A"},{"$f":"SHALADARPAN!K85","v":0},{"$f":"SHALADARPAN!E85","v":"SHEHJAD"},{"$f":"SHALADARPAN!G85","v":"Kailash"}]
[null,{"$f":"IF(D93=\"\",\"\",ROWS($D$9:D93))","v":""},{"$nulls":16},{"$f":"SHALADARPAN!A86","v":3},{"$f":"SHALADARPAN!B86","v":"A"},{"$f":"SHALADARPAN!K86","v":0},{"$f":"SHALADARPAN!E86","v":"SIMRAN"},{"$f":"SHALADARPAN!G86","v":"Kailash"}]
[null,{"$f":"IF(D94=\"\",\"\",ROWS($D$9:D94))","v":""},{"$nulls":16},{"$f":"SHALADARPAN!A87","v":3},{"$f":"SHALADARPAN!B87","v":"A"},{"$f":"SHALADARPAN!K87","v":0},{"$f":"SHALADARPAN!E87","v":"Sufiyan"},{"$f":"SHALADARPAN!G87","v":"Kailash"}]
[null,{"$f":"IF(D95=\"\",\"\",ROWS($D$9:D95))","v":""},{"$nulls":16},{"$f":"SHALADARPAN!A88","v":3},{"$f":"SHALADARPAN!B88","v":"A"},{"$f":"SHALADARPAN!K88","v":0},{"$f":"SHALADARPAN!E88","v":"Viki"},{"$f":"SHALADARPAN!G88","v":"Kailash"}]
[null,{"$f":"IF(D96=\"\",\"\",ROWS($D$9:D96))","v":""},{"$nulls":16},{"$f":"SHALADARPAN!A89","v":4},{"$f":"SHALADARPAN!B89","v":"A"},{"$f":"SHALADARPAN!K89","v":0},{"$f":"SHALADARPAN!E89","v":"Aasma"},{"$f":"SHALADARPAN!G89","v":"Kailash"}]
[null,{"$f":"IF(D97=\"\",\"\",ROWS($D$9:D97))","v":""},{"$nulls":16},{"$f":"SHALADARPAN!A90","v":4},{"$f":"SHALADARPAN!B90","v":"A"},{"$f":"SHALADARPAN!K90","v":0},{"$f":"SHALADARPAN!E90","v":"ALIYA BANO"},{"$f":"SHALADARPAN!G90","v":"Kailash"}]
[null,{"$f":"IF(D98=\"\",\"\",ROWS($D$9:D98))","v":""},{"$nulls":16},{"$f":"SHALADARPAN!A91","v":4},{"$f":"SHALADARPAN!B91","v":"A"},{"$f":"SHALADARPAN!K91","v":0},{"$f":"SHALADARPAN!E91","v":"ASGAR"},{"$f":"SHALADARPAN!G91","v":"Kailash"}]
[null,{"$f":"IF(D99=\"\",\"\",ROWS($D$9:D99))","v":""},{"$nulls":16},{"$f":"SHALADARPAN!A92","v":4},{"$f":"SHALADARPAN!B92","v":"A"},{"$f":"SHALADARPAN!K92","v":0},{"$f":"SHALADARPAN!E92","v":"Balotiya Naresh"},{"$f":"SHALADARPAN!G92","v":"Kailash"}]
[null,{"$f":"IF(D100=\"\",\"\",ROWS($D$9:D100))","v":""},{"$nulls":16},{"$f":"SHALADARPAN!A93","v":4},{"$f":"SHALADARPAN!B93","v":"A"},{"$f":"SHALADARPAN!K93","v":0},{"$f":"SHALADARPAN!E93","v":"BHRAT PARJAPAT"},{"$f":"SHALADARPAN!G93","v":"Kailash"}]
[null,{"$f":"IF(D101=\"\",\"\",ROWS($D$9:D101))","v":""},{"$nulls":16},{"$f":"SHALADARPAN!A94","v":4},{"$f":"SHALADARPAN!B94","v":"A"},{"$f":"SHALADARPAN!K94","v":0},{"$f":"SHALADARPAN!E94","v":"HINA MIRASI"},{"$f":"SHALADARPAN!G94","v":"Kailash"}]
[null,{"$f":"IF(D102=\"\",\"\",ROWS($D$9:D102))","v":""},{"$nulls":16},{"$f":"SHALADARPAN!A95","v":4},{"$f":"SHALADARPAN!B95","v":"A"},{"$f":"SHALADARPAN!K95","v":0},{"$f":"SHALADARPAN!E95","v":"ISANA"},{"$f":"SHALADARPAN!G95","v":"Kailash"}]
[null,{"$f":"IF(D103=\"\",\"\",ROWS($D$9:D103))","v":""},{"$nulls":16},{"$f":"SHALADARPAN!A96","v":4},{"$f":"SHALADARPAN!B96","v":"A"},{"$f":"SHALADARPAN!K96","v":0},{"$f":"SHALADARPAN!E96","v":"JASMIN"},{"$f":"SHALADARPAN!G96","v":"Kailash"}]
[null,{"$f":"IF(D104=\"\",\"\",ROWS($D$9:D104))","v":""},{"$nulls":16},{"$f":"SHALADARPAN!A97","v":4},{"$f":"SHALADARPAN!B97","v":"A"},{"$f":"SHALADARPAN!K97","v":0},{"$f":"SHALADARPAN!E97","v":"JOYA"},{"$f":"SHALADARPAN!G97","v":"Kailash"}]
[null,{"$f":"IF(D105=\"\",\"\",ROWS($D$9:D105))","v":""},{"$nulls":16},{"$f":"SHALADARPAN!A98","v":4},{"$f":"SHALADARPAN!B98","v":"A"},{"$f":"SHALADARPAN!K98","v":0},{"$f":"SHALADARPAN!E98","v":"KOMAL"},{"$f":"SHALADARPAN!G98","v":"Kailash"}]
[null,{"$f":"IF(D106=\"\",\"\",ROWS($D$9:D106))","v":""},{"$nulls":16},{"$f":"SHALADARPAN!A99","v":4},{"$f":"SHALADARPAN!B99","v":"A"},{"$f":"SHALADARPAN!K99","v":0},{"$f":"SHALADARPAN!E99","v":"Lakshay"},{"$f":"SHALADARPAN!G99","v":"Kailash"}]
[null,{"$f":"IF(D107=\"\",\"\",ROWS($D$9:D107))","v":""},{"$nulls":16},{"$f":"SHALADARPAN!A100","v":4},{"$f":"SHALADARPAN!B100","v":"A"},{"$f":"SHALADARPAN!K100","v":0},{"$f":"SHALADARPAN!E100","v":"MOH. BILAL"},{"$f":"SHALADARPAN!G100","v":"Kailash"}]
[null,{"$f":"IF(D108=\"\",\"\",ROWS($D$9:D108))","v":""},{"$nulls":16},{"$f":"SHALADARPAN!A101","v":4},{"$f":"SHALADARPAN!B101","v":"A"},{"$f":"SHALADARPAN!K101","v":0},{"$f":"SHALADARPAN!E101","v":"MUBARAK"},{"$f":"SHALADARPAN!G101","v":"Kailash"}]
[null,{"$f":"IF(D109=\"\",\"\",ROWS($D$9:D109))","v":""},{"$nulls":16},{"$f":"SHALADARPAN!A102","v":4},{"$f":"SHALADARPAN!B102","v":"A"},{"$f":"SHALADARPAN!K102","v":0},{"$f":"SHALADARPAN!E102","v":"NENOO RAM"},{"$f":"SHALADARPAN!G102","v":"Kailash"}]
[null,{"$f":"IF(D110=\"\",\"\",ROWS($D$9:D110))","v":""},{"$nulls":16},{"$f":"SHALADARPAN!A103","v":4},{"$f":"SHALADARPAN!B103","v":"A"},{"$f":"SHALADARPAN!K103","v":0},{"$f":"SHALADARPAN!E103","v":"NIKUL RAIDAS"},{"$f":"SHALADARPAN!G103","v":"Kailash"}]
[null,{"$f":"IF(D111=\"\",\"\",ROWS($D$9:D111))","v":""},{"$nulls":16},{"$f":"SHALADARPAN!A104","v":4},{"$f":"SHALADARPAN!B104","v":"A"},{"$f":"SHALADARPAN!K104","v":0},{"$f":"SHALADARPAN!E104","v":"PARVEENA BANO"},{"$f":"SHALADARPAN!G104","v":"Kailash"}]
[null,{"$f":"IF(D112=\"\",\"\",ROWS($D$9:D112))","v":""},{"$nulls":16},{"$f":"SHALADARPAN!A105","v":4},{"$f":"SHALADARPAN!B105","v":"A"},{"$f":"SHALADARPAN!K105","v":0},{"$f":"SHALADARPAN!E105","v":"PAYAL ACHARY"},{"$f":"SHALADARPAN!G105","v":"Kailash"}]
[null,{"$f":"IF(D113=\"\",\"\",ROWS($D$9:D113))","v":""},{"$nulls":16},{"$f":"SHALADARPAN!A106","v":4},{"$f":"SHALADARPAN!B106","v":"A"},{"$f":"SHALADARPAN!K106","v":0},{"$f":"SHALADARPAN!E106","v":"RINKU MALI"},{"$f":"SHALADARPAN!G106","v":"Kailash"}]
[null,{"$f":"IF(D114=\"\",\"\",ROWS($D$9:D114))","v":""},{"$nulls":16},{"$f":"SHALADARPAN!A107","v":4},{"$f":"SHALADARPAN!B107","v":"A"},{"$f":"SHALADARPAN!K107","v":0},{"$f":"SHALADARPAN!E107","v":"RITU"},{"$f":"SHALADARPAN!G107","v":"Kailash"}]
[null,{"$f":"IF(D115=\"\",\"\",ROWS($D$9:D115))","v":""},{"$nulls":16},{"$f":"SHALADARPAN!A108","v":4},{"$f":"SHALADARPAN!B108","v":"A"},{"$f":"SHALADARPAN!K108","v":0},{"$f":"SHALADARPAN!E108","v":"RIYAN ALI"},{"$f":"SHALADARPAN!G108","v":"Kailash"}]
[null,{"$f":"IF(D116=\"\",\"\",ROWS($D$9:D116))","v":""},{"$nulls":16},{"$f":"SHALADARPAN!A109","v":4},{"$f":"SHALADARPAN!B109","v":"A"},{"$f":"SHALADARPAN!K109","v":0},{"$f":"SHALADARPAN!E109","v":"RUSTAM"},{"$f":"SHALADARPAN!G109","v":"Kailash"}]
[null,{"$f":"IF(D117=\"\",\"\",ROWS($D$9:D117))","v":""},{"$nulls":16},{"$f":"SHALADARPAN!A110","v":4},{"$f":"SHALADARPAN!B110","v":"A"},{"$f":"SHALADARPAN!K110","v":0},{"$f":"SHALADARPAN!E110","v":"SAJEEDA BANU"},{"$f":"SHALADARPAN!G110","v":"Kailash"}]
[null,{"$f":"IF(D118=\"\",\"\",ROWS($D$9:D118))","v":""},{"$nulls":16},{"$f":"SHALADARPAN!A111","v":4},{"$f":"SHALADARPAN!B111","v":"A"},{"$f":"SHALADARPAN!K111","v":0},{"$f":"SHALADARPAN!E111","v":"SHABEENA"},{"$f":"SHALADARPAN!G111","v":"Kailash"}]
[null,{"$f":"IF(D119=\"\",\"\",ROWS($D$9:D119))","v":""},{"$nulls":16},{"$f":"SHALADARPAN!A112","v":4},{"$f":"SHALADARPAN!B112","v":"A"},{"$f":"SHALADARPAN!K112","v":0},{"$f":"SHALADARPAN!E112","v":"SHAHNVAJ"},{"$f":"SHALADARPAN!G112","v":"Kailash"}]
[null,{"$f":"IF(D120=\"\",\"\",ROWS($D$9:D120))","v":""},{"$nulls":16},{"$f":"SHALADARPAN!A113","v":4},{"$f":"SHALADARPAN!B113","v":"A"},{"$f":"SHALADARPAN!K113","v":0},{"$f":"SHALADARPAN!E113","v":"SHAKIL"},{"$f":"SHALADARPAN!G113","v":"Kailash"}]
[null,{"$f":"IF(D121=\"\",\"\",ROWS($D$9:D121))","v":""},{"$nulls":16},{"$f":"SHALADARPAN!A114","v":4},{"$f":"SHALADARPAN!B114","v":"A"},{"$f":"SHALADARPAN!K114","v":0},{"$f":"SHALADARPAN!E114","v":"SHYAMLAL"},{"$f":"SHALADARPAN!G114","v":"Kailash"}]
[null,{"$f":"IF(D122=\"\",\"\",ROWS($D$9:D122))","v":""},{"$nulls":16},{"$f":"SHALADARPAN!A115","v":4},{"$f":"SHALADARPAN!B115","v":"A"},{"$f":"SHALADARPAN!K115","v":0},{"$f":"SHALADARPAN!E115","v":"SIMARAN"},{"$f":"SHALADARPAN!G115","v":"Kailash"}]
[null,{"$f":"IF(D123=\"\",\"\",ROWS($D$9:D123))","v":""},{"$nulls":16},{"$f":"SHALADARPAN!A116","v":4},{"$f":"SHALADARPAN!B116","v":"A"},{"$f":"SHALADARPAN!K116","v":0},{"$f":"SHALADARPAN!E116","v":"SUKHDEV BAWARI"},{"$f":"SHALADARPAN!G116","v":"Kailash"}]
[null,{"$f":"IF(D124=\"\",\"\",ROWS($D$9:D124))","v":""},{"$nulls":16},{"$f":"SHALADARPAN!A117","v":4},{"$f":"SHALADARPAN!B117","v":"A"},{"$f":"SHALADARPAN!K117","v":0},{"$f":"SHALADARPAN!E117","v":"SUMAN"},{"$f":"SHALADARPAN!G117","v":"Kailash"}]
[null,{"$f":"IF(D125=\"\",\"\",ROWS($D$9:D125))","v":""},{"$nulls":16},{"$f":"SHALADARPAN!A118","v":4},{"$f":"SHALADARPAN!B118","v":"A"},{"$f":"SHALADARPAN!K118","v":0},{"$f":"SHALADARPAN!E118","v":"USRA"},{"$f":"SHALADARPAN!G118","v":"Kailash"}]
[null,{"$f":"IF(D126=\"\",\"\",ROWS($D$9:D126))","v":""},{"$nulls":16},{"$f":"SHALADARPAN!A119","v":4},{"$f":"SHALADARPAN!B119","v":"A"},{"$f":"SHALADARPAN!K119","v":0},{"$f":"SHALADARPAN!E119","v":"VINOD"},{"$f":"SHALADARPAN!G119","v":"Kailash"}]
[null,{"$f":"IF(D127=\"\",\"\",ROWS($D$9:D127))","v":""},{"$nulls":16},{"$f":"SHALADARPAN!A120","v":4},{"$f":"SHALADARPAN!B120","v":"A"},{"$f":"SHALADARPAN!K120","v":0},{"$f":"SHALADARPAN!E120","v":"VINOD RAVAL"},{"$f":"SHALADARPAN!G120","v":"Kailash"}]
[null,{"$f":"IF(D128=\"\",\"\",ROWS($D$9:D128))","v":""},{"$nulls":16},{"$f":"SHALADARPAN!A121","v":5},{"$f":"SHALADARPAN!B121","v":"A"},{"$f":"SHALADARPAN!K121","v":0},{"$f":"SHALADARPAN!E121","v":"ANILA"},{"$f":"SHALADARPAN!G121","v":"Kailash"}]
[null,{"$f":"IF(D129=\"\",\"\",ROWS($D$9:D129))","v":""},{"$nulls":16},{"$f":"SHALADARPAN!A122","v":5},{"$f":"SHALADARPAN!B122","v":"A"},{"$f":"SHALADARPAN!K122","v":0},{"$f":"SHALADARPAN!E122","v":"ANNU"},{"$f":"SHALADARPAN!G122","v":"Kailash"}]
[null,{"$f":"IF(D130=\"\",\"\",ROWS($D$9:D130))","v":""},{"$nulls":16},{"$f":"SHALADARPAN!A123","v":5},{"$f":"SHALADARPAN!B123","v":"A"},{"$f":"SHALADARPAN!K123","v":0},{"$f":"SHALADARPAN!E123","v":"ARMAN"},{"$f":"SHALADARPAN!G123","v":"Kailash"}]
[null,{"$f":"IF(D131=\"\",\"\",ROWS($D$9:D131))","v":""},{"$nulls":16},{"$f":"SHALADARPAN!A124","v":5},{"$f":"SHALADARPAN!B124","v":"A"},{"$f":"SHALADARPAN!K124","v":0},{"$f":"SHALADARPAN!E124","v":"BULBUL JANGLIYA"},{"$f":"SHALADARPAN!G124","v":"Kailash"}]
[null,{"$f":"IF(D132=\"\",\"\",ROWS($D$9:D132))","v":""},{"$nulls":16},{"$f":"SHALADARPAN!A125","v":5},{"$f":"SHALADARPAN!B125","v":"A"},{"$f":"SHALADARPAN!K125","v":0},{"$f":"SHALADARPAN!E125","v":"FARUKH"},{"$f":"SHALADARPAN!G125","v":"Kailash"}]
[null,{"$f":"IF(D133=\"\",\"\",ROWS($D$9:D133))","v":""},{"$nulls":16},{"$f":"SHALADARPAN!A126","v":5},{"$f":"SHALADARPAN!B126","v":"A"},{"$f":"SHALADARPAN!K126","v":0},{"$f":"SHALADARPAN!E126","v":"FATMA BANU"},{"$f":"SHALADARPAN!G126","v":"Kailash"}]
[null,{"$f":"IF(D134=\"\",\"\",ROWS($D$9:D134))","v":""},{"$nulls":16},{"$f":"SHALADARPAN!A127","v":5},{"$f":"SHALADARPAN!B127","v":"A"},{"$f":"SHALADARPAN!K127","v":0},{"$f":"SHALADARPAN!E127","v":"GOPAL"},{"$f":"SHALADARPAN!G127","v":"Kailash"}]
[null,{"$f":"IF(D135=\"\",\"\",ROWS($D$9:D135))","v":""},{"$nulls":16},{"$f":"SHALADARPAN!A128","v":5},{"$f":"SHALADARPAN!B128","v":"A"},{"$f":"SHALADARPAN!K128","v":0},{"$f":"SHALADARPAN!E128","v":"KAUSHAR BANU"},{"$f":"SHALADARPAN!G128","v":"Kailash"}]
[null,{"$f":"IF(D136=\"\",\"\",ROWS($D$9:D136))","v":""},{"$nulls":16},{"$f":"SHALADARPAN!A129","v":5},{"$f":"SHALADARPAN!B129","v":"A"},{"$f":"SHALADARPAN!K129","v":0},{"$f":"SHALADARPAN!E129","v":"Khushi Kanwar"},{"$f":"SHALADARPAN!G129","v":"Kailash"}]
[null,{"$f":"IF(D137=\"\",\"\",ROWS($D$9:D137))","v":""},{"$nulls":16},{"$f":"SHALADARPAN!A130","v":5},{"$f":"SHALADARPAN!B130","v":"A"},{"$f":"SHALADARPAN!K130","v":0},{"$f":"SHALADARPAN!E130","v":"Krishna Vaishnav"},{"$f":"SHALADARPAN!G130","v":"Kailash"}]
[null,{"$f":"IF(D138=\"\",\"\",ROWS($D$9:D138))","v":""},{"$nulls":16},{"$f":"SHALADARPAN!A131","v":5},{"$f":"SHALADARPAN!B131","v":"A"},{"$f":"SHALADARPAN!K131","v":0},{"$f":"SHALADARPAN!E131","v":"LAKHI RAM"},{"$f":"SHALADARPAN!G131","v":"Kailash"}]
[null,{"$f":"IF(D139=\"\",\"\",ROWS($D$9:D139))","v":""},{"$nulls":16},{"$f":"SHALADARPAN!A132","v":5},{"$f":"SHALADARPAN!B132","v":"A"},{"$f":"SHALADARPAN!K132","v":0},{"$f":"SHALADARPAN!E132","v":"LALITA"},{"$f":"SHALADARPAN!G132","v":"Kailash"}]
[null,{"$f":"IF(D140=\"\",\"\",ROWS($D$9:D140))","v":""},{"$nulls":16},{"$f":"SHALADARPAN!A133","v":5},{"$f":"SHALADARPAN!B133","v":"A"},{"$f":"SHALADARPAN!K133","v":0},{"$f":"SHALADARPAN!E133","v":"MAMTA"},{"$f":"SHALADARPAN!G133","v":"Kailash"}]
[null,{"$f":"IF(D141=\"\",\"\",ROWS($D$9:D141))","v":""},{"$nulls":16},{"$f":"SHALADARPAN!A134","v":5},{"$f":"SHALADARPAN!B134","v":"A"},{"$f":"SHALADARPAN!K134","v":0},{"$f":"SHALADARPAN!E134","v":"MANAVI"},{"$f":"SHALADARPAN!G134","v":"Kailash"}]
[null,{"$f":"IF(D142=\"\",\"\",ROWS($D$9:D142))","v":""},{"$nulls":16},{"$f":"SHALADARPAN!A135","v":5},{"$f":"SHALADARPAN!B135","v":"A"},{"$f":"SHALADARPAN!K135","v":0},{"$f":"SHALADARPAN!E135","v":"MARIYAM"},{"$f":"SHALADARPAN!G135","v":"Kailash"}]
[null,{"$f":"IF(D143=\"\",\"\",ROWS($D$9:D143))","v":""},{"$nulls":16},{"$f":"SHALADARPAN!A136","v":5},{"$f":"SHALADARPAN!B136","v":"A"},{"$f":"SHALADARPAN!K136","v":0},{"$f":"SHALADARPAN!E136","v":"MATIYA DEVI"},{"$f":"SHALADARPAN!G136","v":"Kailash"}]
[null,{"$f":"IF(D144=\"\",\"\",ROWS($D$9:D144))","v":""},{"$nulls":16},{"$f":"SHALADARPAN!A137","v":5},{"$f":"SHALADARPAN!B137","v":"A"},{"$f":"SHALADARPAN!K137","v":0},{"$f":"SHALADARPAN!E137","v":"Mohammad Bilala"},{"$f":"SHALADARPAN!G137","v":"Kailash"}]
[null,{"$f":"IF(D145=\"\",\"\",ROWS($D$9:D145))","v":""},{"$nulls":16},{"$f":"SHALADARPAN!A138","v":5},{"$f":"SHALADARPAN!B138","v":"A"},{"$f":"SHALADARPAN!K138","v":0},{"$f":"SHALADARPAN!E138","v":"Nafish Razza"},{"$f":"SHALADARPAN!G138","v":"Kailash"}]
[null,{"$f":"IF(D146=\"\",\"\",ROWS($D$9:D146))","v":""},{"$nulls":16},{"$f":"SHALADARPAN!A139","v":5},{"$f":"SHALADARPAN!B139","v":"A"},{"$f":"SHALADARPAN!K139","v":0},{"$f":"SHALADARPAN!E139","v":"NASEEM BANU"},{"$f":"SHALADARPAN!G139","v":"Kailash"}]
[null,{"$f":"IF(D147=\"\",\"\",ROWS($D$9:D147))","v":""},{"$nulls":16},{"$f":"SHALADARPAN!A140","v":5},{"$f":"SHALADARPAN!B140","v":"A"},{"$f":"SHALADARPAN!K140","v":0},{"$f":"SHALADARPAN!E140","v":"NAVEEN JANGLIYA"},{"$f":"SHALADARPAN!G140","v":"Kailash"}]
[null,{"$f":"IF(D148=\"\",\"\",ROWS($D$9:D148))","v":""},{"$nulls":16},{"$f":"SHALADARPAN!A141","v":5},{"$f":"SHALADARPAN!B141","v":"A"},{"$f":"SHALADARPAN!K141","v":0},{"$f":"SHALADARPAN!E141","v":"Navya Vaishnav"},{"$f":"SHALADARPAN!G141","v":"Kailash"}]
[null,{"$f":"IF(D149=\"\",\"\",ROWS($D$9:D149))","v":""},{"$nulls":16},{"$f":"SHALADARPAN!A142","v":5},{"$f":"SHALADARPAN!B142","v":"A"},{"$f":"SHALADARPAN!K142","v":0},{"$f":"SHALADARPAN!E142","v":"Naziya"},{"$f":"SHALADARPAN!G142","v":"Kailash"}]
[null,{"$f":"IF(D150=\"\",\"\",ROWS($D$9:D150))","v":""},{"$nulls":16},{"$f":"SHALADARPAN!A143","v":5},{"$f":"SHALADARPAN!B143","v":"A"},{"$f":"SHALADARPAN!K143","v":0},{"$f":"SHALADARPAN!E143","v":"NISHA"},{"$f":"SHALADARPAN!G143","v":"Kailash"}]
[null,{"$f":"IF(D151=\"\",\"\",ROWS($D$9:D151))","v":""},{"$nulls":16},{"$f":"SHALADARPAN!A144","v":5},{"$f":"SHALADARPAN!B144","v":"A"},{"$f":"SHALADARPAN!K144","v":0},{"$f":"SHALADARPAN!E144","v":"Nitesh Acharya"},{"$f":"SHALADARPAN!G144","v":"Kailash"}]
[null,{"$f":"IF(D152=\"\",\"\",ROWS($D$9:D152))","v":""},{"$nulls":16},{"$f":"SHALADARPAN!A145","v":5},{"$f":"SHALADARPAN!B145","v":"A"},{"$f":"SHALADARPAN!K145","v":0},{"$f":"SHALADARPAN!E145","v":"OMARAM"},{"$f":"SHALADARPAN!G145","v":"Kailash"}]
[null,{"$f":"IF(D153=\"\",\"\",ROWS($D$9:D153))","v":""},{"$nulls":16},{"$f":"SHALADARPAN!A146","v":5},{"$f":"SHALADARPAN!B146","v":"A"},{"$f":"SHALADARPAN!K146","v":0},{"$f":"SHALADARPAN!E146","v":"RAKESH BAWARI"},{"$f":"SHALADARPAN!G146","v":"Kailash"}]
[null,{"$f":"IF(D154=\"\",\"\",ROWS($D$9:D154))","v":""},{"$nulls":16},{"$f":"SHALADARPAN!A147","v":5},{"$f":"SHALADARPAN!B147","v":"A"},{"$f":"SHALADARPAN!K147","v":0},{"$f":"SHALADARPAN!E147","v":"Rashika Vaishnav"},{"$f":"SHALADARPAN!G147","v":"Kailash"}]
[null,{"$f":"IF(D155=\"\",\"\",ROWS($D$9:D155))","v":""},{"$nulls":16},{"$f":"SHALADARPAN!A148","v":5},{"$f":"SHALADARPAN!B148","v":"A"},{"$f":"SHALADARPAN!K148","v":0},{"$f":"SHALADARPAN!E148","v":"RESHAMA BANU"},{"$f":"SHALADARPAN!G148","v":"Kailash"}]
[null,{"$f":"IF(D156=\"\",\"\",ROWS($D$9:D156))","v":""},{"$nulls":16},{"$f":"SHALADARPAN!A149","v":5},{"$f":"SHALADARPAN!B149","v":"A"},{"$f":"SHALADARPAN!K149","v":0},{"$f":"SHALADARPAN!E149","v":"ROHIT TAMBOLI"},{"$f":"SHALADARPAN!G149","v":"Kailash"}]
[null,{"$f":"IF(D157=\"\",\"\",ROWS($D$9:D157))","v":""},{"$nulls":16},{"$f":"SHALADARPAN!A150","v":5},{"$f":"SHALADARPAN!B150","v":"A"},{"$f":"SHALADARPAN!K150","v":0},{"$f":"SHALADARPAN!E150","v":"RUKSANA MIRASI"},{"$f":"SHALADARPAN!G150","v":"Kailash"}]
[null,{"$f":"IF(D158=\"\",\"\",ROWS($D$9:D158))","v":""},{"$nulls":16},{"$f":"SHALADARPAN!A151","v":5},{"$f":"SHALADARPAN!B151","v":"A"},{"$f":"SHALADARPAN!K151","v":0},{"$f":"SHALADARPAN!E151","v":"Sahil"},{"$f":"SHALADARPAN!G151","v":"Kailash"}]
[null,{"$f":"IF(D159=\"\",\"\",ROWS($D$9:D159))","v":""},{"$nulls":16},{"$f":"SHALADARPAN!A152","v":5},{"$f":"SHALADARPAN!B152","v":"A"},{"$f":"SHALADARPAN!K152","v":0},{"$f":"SHALADARPAN!E152","v":"SAMEER ALI"},{"$f":"SHALADARPAN!G152","v":"Kailash"}]
[null,{"$f":"IF(D160=\"\",\"\",ROWS($D$9:D160))","v":""},{"$nulls":16},{"$f":"SHALADARPAN!A153","v":5},{"$f":"SHALADARPAN!B153","v":"A"},{"$f":"SHALADARPAN!K153","v":0},{"$f":"SHALADARPAN!E153","v":"SANJU DEVI"},{"$f":"SHALADARPAN!G153","v":"Kailash"}]
[null,{"$f":"IF(D161=\"\",\"\",ROWS($D$9:D161))","v":""},{"$nulls":16},{"$f":"SHALADARPAN!A154","v":5},{"$f":"SHALADARPAN!B154","v":"A"},{"$f":"SHALADARPAN!K154","v":0},{"$f":"SHALADARPAN!E154","v":"SHABANA"},{"$f":"SHALADARPAN!G154","v":"Kailash"}]
[null,{"$f":"IF(D162=\"\",\"\",ROWS($D$9:D162))","v":""},{"$nulls":16},{"$f":"SHALADARPAN!A155","v":5},{"$f":"SHALADARPAN!B155","v":"A"},{"$f":"SHALADARPAN!K155","v":0},{"$f":"SHALADARPAN!E155","v":"SHAHILSYA"},{"$f":"SHALADARPAN!G155","v":"Kailash"}]
[null,{"$f":"IF(D163=\"\",\"\",ROWS($D$9:D163))","v":""},{"$nulls":16},{"$f":"SHALADARPAN!A156","v":5},{"$f":"SHALADARPAN!B156","v":"A"},{"$f":"SHALADARPAN!K156","v":0},{"$f":"SHALADARPAN!E156","v":"SHAHNAWAZ"},{"$f":"SHALADARPAN!G156","v":"Kailash"}]
[null,{"$f":"IF(D164=\"\",\"\",ROWS($D$9:D164))","v":""},{"$nulls":16},{"$f":"SHALADARPAN!A157","v":5},{"$f":"SHALADARPAN!B157","v":"A"},{"$f":"SHALADARPAN!K157","v":0},{"$f":"SHALADARPAN!E157","v":"SHAKIL"},{"$f":"SHALADARPAN!G157","v":"Kailash"}]
[null,{"$f":"IF(D165=\"\",\"\",ROWS($D$9:D165))","v":""},{"$nulls":16},{"$f":"SHALADARPAN!A158","v":5},{"$f":"SHALADARPAN!B158","v":"A"},{"$f":"SHALADARPAN!K158","v":0},{"$f":"SHALADARPAN!E158","v":"SHALIGRAM"},{"$f":"SHALADARPAN!G158","v":"Kailash"}]
[null,{"$f":"IF(D166=\"\",\"\",ROWS($D$9:D166))","v":""},{"$nulls":16},{"$f":"SHALADARPAN!A159","v":5},{"$f":"SHALADARPAN!B159","v":"A"},{"$f":"SHALADARPAN!K159","v":0},{"$f":"SHALADARPAN!E159","v":"SIMRAN"},{"$f":"SHALADARPAN!G159","v":"Kailash"}]
[null,{"$f":"IF(D167=\"\",\"\",ROWS($D$9:D167))","v":""},{"$nulls":16},{"$f":"SHALADARPAN!A160","v":5},{"$f":"SHALADARPAN!B160","v":"A"},{"$f":"SHALADARPAN!K160","v":0},{"$f":"SHALADARPAN!E160","v":"SUFIYA BANU"},{"$f":"SHALADARPAN!G160","v":"Kailash"}]
[null,{"$f":"IF(D168=\"\",\"\",ROWS($D$9:D168))","v":""},{"$nulls":16},{"$f":"SHALADARPAN!A161","v":5},{"$f":"SHALADARPAN!B161","v":"A"},{"$f":"SHALADARPAN!K161","v":0},{"$f":"SHALADARPAN!E161","v":"Sumitra Jangliya"},{"$f":"SHALADARPAN!G161","v":"Kailash"}]
[null,{"$f":"IF(D169=\"\",\"\",ROWS($D$9:D169))","v":""},{"$nulls":16},{"$f":"SHALADARPAN!A162","v":5},{"$f":"SHALADARPAN!B162","v":"A"},{"$f":"SHALADARPAN!K162","v":0},{"$f":"SHALADARPAN!E162","v":"Sushil Acharya"},{"$f":"SHALADARPAN!G162","v":"Kailash"}]
[null,{"$f":"IF(D170=\"\",\"\",ROWS($D$9:D170))","v":""},{"$nulls":16},{"$f":"SHALADARPAN!A163","v":5},{"$f":"SHALADARPAN!B163","v":"A"},{"$f":"SHALADARPAN!K163","v":0},{"$f":"SHALADARPAN!E163","v":"Tamanna"},{"$f":"SHALADARPAN!G163","v":"Kailash"}]
[null,{"$f":"IF(D171=\"\",\"\",ROWS($D$9:D171))","v":""},{"$nulls":16},{"$f":"SHALADARPAN!A164","v":5},{"$f":"SHALADARPAN!B164","v":"A"},{"$f":"SHALADARPAN!K164","v":0},{"$f":"SHALADARPAN!E164","v":"TAMNNA"},{"$f":"SHALADARPAN!G164","v":"Kailash"}]
[null,{"$f":"IF(D172=\"\",\"\",ROWS($D$9:D172))","v":""},{"$nulls":16},{"$f":"SHALADARPAN!A165","v":5},{"$f":"SHALADARPAN!B165","v":"A"},{"$f":"SHALADARPAN!K165","v":0},{"$f":"SHALADARPAN!E165","v":"TASLIMA"},{"$f":"SHALADARPAN!G165","v":"Kailash"}]
[null,{"$f":"IF(D173=\"\",\"\",ROWS($D$9:D173))","v":""},{"$nulls":16},{"$f":"SHALADARPAN!A166","v":5},{"$f":"SHALADARPAN!B166","v":"A"},{"$f":"SHALADARPAN!K166","v":0},{"$f":"SHALADARPAN!E166","v":"TIKAM"},{"$f":"SHALADARPAN!G166","v":"Kailash"}]
[null,{"$f":"IF(D174=\"\",\"\",ROWS($D$9:D174))","v":""},{"$nulls":16},{"$f":"SHALADARPAN!A167","v":5},{"$f":"SHALADARPAN!B167","v":"A"},{"$f":"SHALADARPAN!K167","v":0},{"$f":"SHALADARPAN!E167","v":"VASEEM"},{"$f":"SHALADARPAN!G167","v":"Kailash"}]
[null,{"$f":"IF(D175=\"\",\"\",ROWS($D$9:D175))","v":""},{"$nulls":16},{"$f":"SHALADARPAN!A168","v":5},{"$f":"SHALADARPAN!B168","v":"A"},{"$f":"SHALADARPAN!K168","v":0},{"$f":"SHALADARPAN!E168","v":"Vikas Acharya"},{"$f":"SHALADARPAN!G168","v":"Kailash"}]
[null,{"$f":"IF(D176=\"\",\"\",ROWS($D$9:D176))","v":""},{"$nulls":16},{"$f":"SHALADARPAN!A169","v":6},{"$f":"SHALADARPAN!B169","v":"A"},{"$f":"SHALADARPAN!K169","v":601},{"$f":"SHALADARPAN!E169","v":"Abid Husain"},{"$f":"SHALADARPAN!G169","v":"Kailash"}]
[null,{"$f":"IF(D177=\"\",\"\",ROWS($D$9:D177))","v":""},{"$nulls":16},{"$f":"SHALADARPAN!A170","v":6},{"$f":"SHALADARPAN!B170","v":"A"},{"$f":"SHALADARPAN!K170","v":602},{"$f":"SHALADARPAN!E170","v":"ALVEERA BANU"},{"$f":"SHALADARPAN!G170","v":"Kailash"}]
[null,{"$f":"IF(D178=\"\",\"\",ROWS($D$9:D178))","v":""},{"$nulls":16},{"$f":"SHALADARPAN!A171","v":6},{"$f":"SHALADARPAN!B171","v":"A"},{"$f":"SHALADARPAN!K171","v":603},{"$f":"SHALADARPAN!E171","v":"AMIT SHARMA"},{"$f":"SHALADARPAN!G171","v":"Kailash"}]
[null,{"$f":"IF(D179=\"\",\"\",ROWS($D$9:D179))","v":""},{"$nulls":16},{"$f":"SHALADARPAN!A172","v":6},{"$f":"SHALADARPAN!B172","v":"A"},{"$f":"SHALADARPAN!K172","v":604},{"$f":"SHALADARPAN!E172","v":"ANIL SAINI"},{"$f":"SHALADARPAN!G172","v":"Kailash"}]
[null,{"$f":"IF(D180=\"\",\"\",ROWS($D$9:D180))","v":""},{"$nulls":16},{"$f":"SHALADARPAN!A173","v":6},{"$f":"SHALADARPAN!B173","v":"A"},{"$f":"SHALADARPAN!K173","v":605},{"$f":"SHALADARPAN!E173","v":"ARBAZ AHMAD"},{"$f":"SHALADARPAN!G173","v":"Kailash"}]
[null,{"$f":"IF(D181=\"\",\"\",ROWS($D$9:D181))","v":""},{"$nulls":16},{"$f":"SHALADARPAN!A174","v":6},{"$f":"SHALADARPAN!B174","v":"A"},{"$f":"SHALADARPAN!K174","v":606},{"$f":"SHALADARPAN!E174","v":"Arjun Shingh"},{"$f":"SHALADARPAN!G174","v":"Kailash"}]
[null,{"$f":"IF(D182=\"\",\"\",ROWS($D$9:D182))","v":""},{"$nulls":16},{"$f":"SHALADARPAN!A175","v":6},{"$f":"SHALADARPAN!B175","v":"A"},{"$f":"SHALADARPAN!K175","v":607},{"$f":"SHALADARPAN!E175","v":"ARMAN"},{"$f":"SHALADARPAN!G175","v":"Kailash"}]
[null,{"$f":"IF(D183=\"\",\"\",ROWS($D$9:D183))","v":""},{"$nulls":16},{"$f":"SHALADARPAN!A176","v":6},{"$f":"SHALADARPAN!B176","v":"A"},{"$f":"SHALADARPAN!K176","v":608},{"$f":"SHALADARPAN!E176","v":"Asraf Ali"},{"$f":"SHALADARPAN!G176","v":"Kailash"}]
[null,{"$f":"IF(D184=\"\",\"\",ROWS($D$9:D184))","v":""},{"$nulls":16},{"$f":"SHALADARPAN!A177","v":6},{"$f":"SHALADARPAN!B177","v":"A"},{"$f":"SHALADARPAN!K177","v":609},{"$f":"SHALADARPAN!E177","v":"AYCHUKI"},{"$f":"SHALADARPAN!G177","v":"Kailash"}]
[null,{"$f":"IF(D185=\"\",\"\",ROWS($D$9:D185))","v":""},{"$nulls":16},{"$f":"SHALADARPAN!A178","v":6},{"$f":"SHALADARPAN!B178","v":"A"},{"$f":"SHALADARPAN!K178","v":610},{"$f":"SHALADARPAN!E178","v":"BABLU"},{"$f":"SHALADARPAN!G178","v":"Kailash"}]
[null,{"$f":"IF(D186=\"\",\"\",ROWS($D$9:D186))","v":""},{"$nulls":16},{"$f":"SHALADARPAN!A179","v":6},{"$f":"SHALADARPAN!B179","v":"A"},{"$f":"SHALADARPAN!K179","v":611},{"$f":"SHALADARPAN!E179","v":"BABY KANWAR"},{"$f":"SHALADARPAN!G179","v":"Kailash"}]
[null,{"$f":"IF(D187=\"\",\"\",ROWS($D$9:D187))","v":""},{"$nulls":16},{"$f":"SHALADARPAN!A180","v":6},{"$f":"SHALADARPAN!B180","v":"A"},{"$f":"SHALADARPAN!K180","v":612},{"$f":"SHALADARPAN!E180","v":"BURHAN"},{"$f":"SHALADARPAN!G180","v":"Kailash"}]
[null,{"$f":"IF(D188=\"\",\"\",ROWS($D$9:D188))","v":""},{"$nulls":16},{"$f":"SHALADARPAN!A181","v":6},{"$f":"SHALADARPAN!B181","v":"A"},{"$f":"SHALADARPAN!K181","v":613},{"$f":"SHALADARPAN!E181","v":"CHANCHAL DEVI"},{"$f":"SHALADARPAN!G181","v":"Kailash"}]
[null,{"$f":"IF(D189=\"\",\"\",ROWS($D$9:D189))","v":""},{"$nulls":16},{"$f":"SHALADARPAN!A182","v":6},{"$f":"SHALADARPAN!B182","v":"A"},{"$f":"SHALADARPAN!K182","v":614},{"$f":"SHALADARPAN!E182","v":"CHETAN NAT"},{"$f":"SHALADARPAN!G182","v":"Kailash"}]
[{"$nulls":18},{"$f":"SHALADARPAN!A183","v":6},{"$f":"SHALADARPAN!B183","v":"A"},{"$f":"SHALADARPAN!K183","v":615},{"$f":"SHALADARPAN!E183","v":"HAIDAR ALI"},{"$f":"SHALADARPAN!G183","v":"Kailash"}]
[{"$nulls":18},{"$f":"SHALADARPAN!A184","v":6},{"$f":"SHALADARPAN!B184","v":"A"},{"$f":"SHALADARPAN!K184","v":616},{"$f":"SHALADARPAN!E184","v":"HEENA BANU"},{"$f":"SHALADARPAN!G184","v":"Kailash"}]
[{"$nulls":18},{"$f":"SHALADARPAN!A185","v":6},{"$f":"SHALADARPAN!B185","v":"A"},{"$f":"SHALADARPAN!K185","v":617},{"$f":"SHALADARPAN!E185","v":"Hemant Tank"},{"$f":"SHALADARPAN!G185","v":"Kailash"}]
[{"$nulls":18},{"$f":"SHALADARPAN!A186","v":6},{"$f":"SHALADARPAN!B186","v":"A"},{"$f":"SHALADARPAN!K186","v":618},{"$f":"SHALADARPAN!E186","v":"IMRAN"},{"$f":"SHALADARPAN!G186","v":"Kailash"}]
[{"$nulls":18},{"$f":"SHALADARPAN!A187","v":6},{"$f":"SHALADARPAN!B187","v":"A"},{"$f":"SHALADARPAN!K187","v":619},{"$f":"SHALADARPAN!E187","v":"INSAF ALI"},{"$f":"SHALADARPAN!G187","v":"Kailash"}]
[{"$nulls":18},{"$f":"SHALADARPAN!A188","v":6},{"$f":"SHALADARPAN!B188","v":"A"},{"$f":"SHALADARPAN!K188","v":620},{"$f":"SHALADARPAN!E188","v":"IRFAN"},{"$f":"SHALADARPAN!G188","v":"Kailash"}]
[{"$nulls":18},{"$f":"SHALADARPAN!A189","v":6},{"$f":"SHALADARPAN!B189","v":"A"},{"$f":"SHALADARPAN!K189","v":621},{"$f":"SHALADARPAN!E189","v":"KADIR"},{"$f":"SHALADARPAN!G189","v":"Kailash"}]
[{"$nulls":18},{"$f":"SHALADARPAN!A190","v":6},{"$f":"SHALADARPAN!B190","v":"A"},{"$f":"SHALADARPAN!K190","v":622},{"$f":"SHALADARPAN!E190","v":"KALPANA"},{"$f":"SHALADARPAN!G190","v":"Kailash"}]
[{"$nulls":18},{"$f":"SHALADARPAN!A191","v":6},{"$f":"SHALADARPAN!B191","v":"A"},{"$f":"SHALADARPAN!K191","v":623},{"$f":"SHALADARPAN!E191","v":"Khushi Kanwar"},{"$f":"SHALADARPAN!G191","v":"Kailash"}]
[{"$nulls":18},{"$f":"SHALADARPAN!A192","v":6},{"$f":"SHALADARPAN!B192","v":"A"},{"$f":"SHALADARPAN!K192","v":624},{"$f":"SHALADARPAN!E192","v":"KIRAN"},{"$f":"SHALADARPAN!G192","v":"Kailash"}]
[{"$nulls":18},{"$f":"SHALADARPAN!A193","v":6},{"$f":"SHALADARPAN!B193","v":"A"},{"$f":"SHALADARPAN!K193","v":625},{"$f":"SHALADARPAN!E193","v":"LAL SINGH"},{"$f":"SHALADARPAN!G193","v":"Kailash"}]
[{"$nulls":18},{"$f":"SHALADARPAN!A194","v":6},{"$f":"SHALADARPAN!B194","v":"A"},{"$f":"SHALADARPAN!K194","v":626},{"$f":"SHALADARPAN!E194","v":"Liladhar Vaishnav"},{"$f":"SHALADARPAN!G194","v":"Kailash"}]
[{"$nulls":18},{"$f":"SHALADARPAN!A195","v":6},{"$f":"SHALADARPAN!B195","v":"A"},{"$f":"SHALADARPAN!K195","v":627},{"$f":"SHALADARPAN!E195","v":"LOKESH NATH"},{"$f":"SHALADARPAN!G195","v":"Kailash"}]
[{"$nulls":18},{"$f":"SHALADARPAN!A196","v":6},{"$f":"SHALADARPAN!B196","v":"A"},{"$f":"SHALADARPAN!K196","v":628},{"$f":"SHALADARPAN!E196","v":"Lokesh Nimbawat"},{"$f":"SHALADARPAN!G196","v":"Kailash"}]
[{"$nulls":18},{"$f":"SHALADARPAN!A197","v":6},{"$f":"SHALADARPAN!B197","v":"A"},{"$f":"SHALADARPAN!K197","v":629},{"$f":"SHALADARPAN!E197","v":"MAHENDRA"},{"$f":"SHALADARPAN!G197","v":"Kailash"}]
[{"$nulls":18},{"$f":"SHALADARPAN!A198","v":6},{"$f":"SHALADARPAN!B198","v":"A"},{"$f":"SHALADARPAN!K198","v":630},{"$f":"SHALADARPAN!E198","v":"MAHENDRA CHOKIDAR"},{"$f":"SHALADARPAN!G198","v":"Kailash"}]
[{"$nulls":18},{"$f":"SHALADARPAN!A199","v":6},{"$f":"SHALADARPAN!B199","v":"A"},{"$f":"SHALADARPAN!K199","v":631},{"$f":"SHALADARPAN!E199","v":"Mahendra Dagdi"},{"$f":"SHALADARPAN!G199","v":"Kailash"}]
[{"$nulls":18},{"$f":"SHALADARPAN!A200","v":6},{"$f":"SHALADARPAN!B200","v":"A"},{"$f":"SHALADARPAN!K200","v":632},{"$f":"SHALADARPAN!E200","v":"MAYA"},{"$f":"SHALADARPAN!G200","v":"Kailash"}]
[{"$nulls":18},{"$f":"SHALADARPAN!A201","v":6},{"$f":"SHALADARPAN!B201","v":"A"},{"$f":"SHALADARPAN!K201","v":633},{"$f":"SHALADARPAN!E201","v":"Mohammad Imran"},{"$f":"SHALADARPAN!G201","v":"Kailash"}]
[{"$nulls":18},{"$f":"SHALADARPAN!A202","v":6},{"$f":"SHALADARPAN!B202","v":"A"},{"$f":"SHALADARPAN!K202","v":634},{"$f":"SHALADARPAN!E202","v":"Mohammed Rahil"},{"$f":"SHALADARPAN!G202","v":"Kailash"}]
[{"$nulls":18},{"$f":"SHALADARPAN!A203","v":6},{"$f":"SHALADARPAN!B203","v":"A"},{"$f":"SHALADARPAN!K203","v":635},{"$f":"SHALADARPAN!E203","v":"MOHASIN"},{"$f":"SHALADARPAN!G203","v":"Kailash"}]
[{"$nulls":18},{"$f":"SHALADARPAN!A204","v":6},{"$f":"SHALADARPAN!B204","v":"A"},{"$f":"SHALADARPAN!K204","v":636},{"$f":"SHALADARPAN!E204","v":"MOHMMAD BILAL"},{"$f":"SHALADARPAN!G204","v":"Kailash"}]
[{"$nulls":18},{"$f":"SHALADARPAN!A205","v":6},{"$f":"SHALADARPAN!B205","v":"A"},{"$f":"SHALADARPAN!K205","v":637},{"$f":"SHALADARPAN!E205","v":"MUSKAN"},{"$f":"SHALADARPAN!G205","v":"Kailash"}]
[{"$nulls":18},{"$f":"SHALADARPAN!A206","v":6},{"$f":"SHALADARPAN!B206","v":"A"},{"$f":"SHALADARPAN!K206","v":638},{"$f":"SHALADARPAN!E206","v":"MUSSA PAHALWAN"},{"$f":"SHALADARPAN!G206","v":"Kailash"}]
[{"$nulls":18},{"$f":"SHALADARPAN!A207","v":6},{"$f":"SHALADARPAN!B207","v":"A"},{"$f":"SHALADARPAN!K207","v":639},{"$f":"SHALADARPAN!E207","v":"NASIM BANO"},{"$f":"SHALADARPAN!G207","v":"Kailash"}]
[{"$nulls":18},{"$f":"SHALADARPAN!A208","v":6},{"$f":"SHALADARPAN!B208","v":"A"},{"$f":"SHALADARPAN!K208","v":640},{"$f":"SHALADARPAN!E208","v":"PAYAL SAINI"},{"$f":"SHALADARPAN!G208","v":"Kailash"}]
[{"$nulls":18},{"$f":"SHALADARPAN!A209","v":6},{"$f":"SHALADARPAN!B209","v":"A"},{"$f":"SHALADARPAN!K209","v":641},{"$f":"SHALADARPAN!E209","v":"PINTU PARJAPAT"},{"$f":"SHALADARPAN!G209","v":"Kailash"}]
[{"$nulls":18},{"$f":"SHALADARPAN!A210","v":6},{"$f":"SHALADARPAN!B210","v":"A"},{"$f":"SHALADARPAN!K210","v":642},{"$f":"SHALADARPAN!E210","v":"POOJA DEVI"},{"$f":"SHALADARPAN!G210","v":"Kailash"}]
[{"$nulls":18},{"$f":"SHALADARPAN!A211","v":6},{"$f":"SHALADARPAN!B211","v":"A"},{"$f":"SHALADARPAN!K211","v":643},{"$f":"SHALADARPAN!E211","v":"Ramawtar"},{"$f":"SHALADARPAN!G211","v":"Kailash"}]
[{"$nulls":18},{"$f":"SHALADARPAN!A212","v":6},{"$f":"SHALADARPAN!B212","v":"A"},{"$f":"SHALADARPAN!K212","v":644},{"$f":"SHALADARPAN!E212","v":"RAMDEV"},{"$f":"SHALADARPAN!G212","v":"Kailash"}]
[{"$nulls":18},{"$f":"SHALADARPAN!A213","v":6},{"$f":"SHALADARPAN!B213","v":"A"},{"$f":"SHALADARPAN!K213","v":645},{"$f":"SHALADARPAN!E213","v":"RAVI RAJ BAWARI"},{"$f":"SHALADARPAN!G213","v":"Kailash"}]
[{"$nulls":18},{"$f":"SHALADARPAN!A214","v":6},{"$f":"SHALADARPAN!B214","v":"A"},{"$f":"SHALADARPAN!K214","v":646},{"$f":"SHALADARPAN!E214","v":"RAVINDRA KUMAWAT"},{"$f":"SHALADARPAN!G214","v":"Kailash"}]
[{"$nulls":18},{"$f":"SHALADARPAN!A215","v":6},{"$f":"SHALADARPAN!B215","v":"A"},{"$f":"SHALADARPAN!K215","v":647},{"$f":"SHALADARPAN!E215","v":"REKHA DEVI"},{"$f":"SHALADARPAN!G215","v":"Kailash"}]
[{"$nulls":18},{"$f":"SHALADARPAN!A216","v":6},{"$f":"SHALADARPAN!B216","v":"A"},{"$f":"SHALADARPAN!K216","v":648},{"$f":"SHALADARPAN!E216","v":"RINKU KANWAR"},{"$f":"SHALADARPAN!G216","v":"Kailash"}]
[{"$nulls":18},{"$f":"SHALADARPAN!A217","v":6},{"$f":"SHALADARPAN!B217","v":"A"},{"$f":"SHALADARPAN!K217","v":649},{"$f":"SHALADARPAN!E217","v":"RITIKA"},{"$f":"SHALADARPAN!G217","v":"Kailash"}]
[{"$nulls":18},{"$f":"SHALADARPAN!A218","v":6},{"$f":"SHALADARPAN!B218","v":"A"},{"$f":"SHALADARPAN!K218","v":650},{"$f":"SHALADARPAN!E218","v":"RUSTAM ALI PAHALWAN"},{"$f":"SHALADARPAN!G218","v":"Kailash"}]
[{"$nulls":18},{"$f":"SHALADARPAN!A219","v":6},{"$f":"SHALADARPAN!B219","v":"A"},{"$f":"SHALADARPAN!K219","v":651},{"$f":"SHALADARPAN!E219","v":"SALMA BANU"},{"$f":"SHALADARPAN!G219","v":"Kailash"}]
[{"$nulls":18},{"$f":"SHALADARPAN!A220","v":6},{"$f":"SHALADARPAN!B220","v":"A"},{"$f":"SHALADARPAN!K220","v":652},{"$f":"SHALADARPAN!E220","v":"SAMEER"},{"$f":"SHALADARPAN!G220","v":"Kailash"}]
[{"$nulls":18},{"$f":"SHALADARPAN!A221","v":6},{"$f":"SHALADARPAN!B221","v":"A"},{"$f":"SHALADARPAN!K221","v":653},{"$f":"SHALADARPAN!E221","v":"SANGEETA"},{"$f":"SHALADARPAN!G221","v":"Kailash"}]
[{"$nulls":18},{"$f":"SHALADARPAN!A222","v":6},{"$f":"SHALADARPAN!B222","v":"A"},{"$f":"SHALADARPAN!K222","v":654},{"$f":"SHALADARPAN!E222","v":"SARITA NATH"},{"$f":"SHALADARPAN!G222","v":"Kailash"}]
[{"$nulls":18},{"$f":"SHALADARPAN!A223","v":6},{"$f":"SHALADARPAN!B223","v":"A"},{"$f":"SHALADARPAN!K223","v":655},{"$f":"SHALADARPAN!E223","v":"SAROJ DEVI"},{"$f":"SHALADARPAN!G223","v":"Kailash"}]
[{"$nulls":18},{"$f":"SHALADARPAN!A224","v":6},{"$f":"SHALADARPAN!B224","v":"A"},{"$f":"SHALADARPAN!K224","v":656},{"$f":"SHALADARPAN!E224","v":"SHAHINA"},{"$f":"SHALADARPAN!G224","v":"Kailash"}]
[{"$nulls":18},{"$f":"SHALADARPAN!A225","v":6},{"$f":"SHALADARPAN!B225","v":"A"},{"$f":"SHALADARPAN!K225","v":657},{"$f":"SHALADARPAN!E225","v":"SHIMBHU SINGH"},{"$f":"SHALADARPAN!G225","v":"Kailash"}]
[{"$nulls":18},{"$f":"SHALADARPAN!A226","v":6},{"$f":"SHALADARPAN!B226","v":"A"},{"$f":"SHALADARPAN!K226","v":658},{"$f":"SHALADARPAN!E226","v":"SHOHIL"},{"$f":"SHALADARPAN!G226","v":"Kailash"}]
[{"$nulls":18},{"$f":"SHALADARPAN!A227","v":6},{"$f":"SHALADARPAN!B227","v":"A"},{"$f":"SHALADARPAN!K227","v":659},{"$f":"SHALADARPAN!E227","v":"SOHIL"},{"$f":"SHALADARPAN!G227","v":"Kailash"}]
[{"$nulls":18},{"$f":"SHALADARPAN!A228","v":6},{"$f":"SHALADARPAN!B228","v":"A"},{"$f":"SHALADARPAN!K228","v":660},{"$f":"SHALADARPAN!E228","v":"SUMAN DEVI CHAUKIDAR"},{"$f":"SHALADARPAN!G228","v":"Kailash"}]
[{"$nulls":18},{"$f":"SHALADARPAN!A229","v":6},{"$f":"SHALADARPAN!B229","v":"A"},{"$f":"SHALADARPAN!K229","v":661},{"$f":"SHALADARPAN!E229","v":"SUNIL"},{"$f":"SHALADARPAN!G229","v":"Kailash"}]
[{"$nulls":18},{"$f":"SHALADARPAN!A230","v":6},{"$f":"SHALADARPAN!B230","v":"A"},{"$f":"SHALADARPAN!K230","v":662},{"$f":"SHALADARPAN!E230","v":"TANU DEVI"},{"$f":"SHALADARPAN!G230","v":"Kailash"}]
[{"$nulls":18},{"$f":"SHALADARPAN!A231","v":6},{"$f":"SHALADARPAN!B231","v":"A"},{"$f":"SHALADARPAN!K231","v":663},{"$f":"SHALADARPAN!E231","v":"Teena"},{"$f":"SHALADARPAN!G231","v":"Kailash"}]
[{"$nulls":18},{"$f":"SHALADARPAN!A232","v":6},{"$f":"SHALADARPAN!B232","v":"A"},{"$f":"SHALADARPAN!K232","v":664},{"$f":"SHALADARPAN!E232","v":"TULCHHI RAM"},{"$f":"SHALADARPAN!G232","v":"Kailash"}]
[{"$nulls":18},{"$f":"SHALADARPAN!A233","v":7},{"$f":"SHALADARPAN!B233","v":"A"},{"$f":"SHALADARPAN!K233","v":723},{"$f":"SHALADARPAN!E233","v":"KAVITA"},{"$f":"SHALADARPAN!G233","v":"Kailash"}]
[{"$nulls":18},{"$f":"SHALADARPAN!A234","v":7},{"$f":"SHALADARPAN!B234","v":"A"},{"$f":"SHALADARPAN!K234","v":701},{"$f":"SHALADARPAN!E234","v":"AADIL"},{"$f":"SHALADARPAN!G234","v":"Kailash"}]
[{"$nulls":18},{"$f":"SHALADARPAN!A235","v":7},{"$f":"SHALADARPAN!B235","v":"A"},{"$f":"SHALADARPAN!K235","v":702},{"$f":"SHALADARPAN!E235","v":"AASHIYA BANU"},{"$f":"SHALADARPAN!G235","v":"Kailash"}]
[{"$nulls":18},{"$f":"SHALADARPAN!A236","v":7},{"$f":"SHALADARPAN!B236","v":"A"},{"$f":"SHALADARPAN!K236","v":703},{"$f":"SHALADARPAN!E236","v":"Afzal Ali"},{"$f":"SHALADARPAN!G236","v":"Kailash"}]
[{"$nulls":18},{"$f":"SHALADARPAN!A237","v":7},{"$f":"SHALADARPAN!B237","v":"A"},{"$f":"SHALADARPAN!K237","v":704},{"$f":"SHALADARPAN!E237","v":"Ajay Raghvendra"},{"$f":"SHALADARPAN!G237","v":"Kailash"}]
[{"$nulls":18},{"$f":"SHALADARPAN!A238","v":7},{"$f":"SHALADARPAN!B238","v":"A"},{"$f":"SHALADARPAN!K238","v":705},{"$f":"SHALADARPAN!E238","v":"ALEESA BANO"},{"$f":"SHALADARPAN!G238","v":"Kailash"}]
[{"$nulls":18},{"$f":"SHALADARPAN!A239","v":7},{"$f":"SHALADARPAN!B239","v":"A"},{"$f":"SHALADARPAN!K239","v":706},{"$f":"SHALADARPAN!E239","v":"Altaf Raza"},{"$f":"SHALADARPAN!G239","v":"Kailash"}]
[{"$nulls":18},{"$f":"SHALADARPAN!A240","v":7},{"$f":"SHALADARPAN!B240","v":"A"},{"$f":"SHALADARPAN!K240","v":707},{"$f":"SHALADARPAN!E240","v":"Anil Saini"},{"$f":"SHALADARPAN!G240","v":"Kailash"}]
[{"$nulls":18},{"$f":"SHALADARPAN!A241","v":7},{"$f":"SHALADARPAN!B241","v":"A"},{"$f":"SHALADARPAN!K241","v":708},{"$f":"SHALADARPAN!E241","v":"ANSHITA CHOUDHARY"},{"$f":"SHALADARPAN!G241","v":"Kailash"}]
[{"$nulls":18},{"$f":"SHALADARPAN!A242","v":7},{"$f":"SHALADARPAN!B242","v":"A"},{"$f":"SHALADARPAN!K242","v":709},{"$f":"SHALADARPAN!E242","v":"ARFAN"},{"$f":"SHALADARPAN!G242","v":"Kailash"}]
[{"$nulls":18},{"$f":"SHALADARPAN!A243","v":7},{"$f":"SHALADARPAN!B243","v":"A"},{"$f":"SHALADARPAN!K243","v":710},{"$f":"SHALADARPAN!E243","v":"ASHA KANWAR"},{"$f":"SHALADARPAN!G243","v":"Kailash"}]
[{"$nulls":18},{"$f":"SHALADARPAN!A244","v":7},{"$f":"SHALADARPAN!B244","v":"A"},{"$f":"SHALADARPAN!K244","v":711},{"$f":"SHALADARPAN!E244","v":"ASLAM ALI"},{"$f":"SHALADARPAN!G244","v":"Kailash"}]
[{"$nulls":18},{"$f":"SHALADARPAN!A245","v":7},{"$f":"SHALADARPAN!B245","v":"A"},{"$f":"SHALADARPAN!K245","v":712},{"$f":"SHALADARPAN!E245","v":"BHARAT MALI"},{"$f":"SHALADARPAN!G245","v":"Kailash"}]
[{"$nulls":18},{"$f":"SHALADARPAN!A246","v":7},{"$f":"SHALADARPAN!B246","v":"A"},{"$f":"SHALADARPAN!K246","v":713},{"$f":"SHALADARPAN!E246","v":"BHAWANI RAWAL"},{"$f":"SHALADARPAN!G246","v":"Kailash"}]
[{"$nulls":18},{"$f":"SHALADARPAN!A247","v":7},{"$f":"SHALADARPAN!B247","v":"A"},{"$f":"SHALADARPAN!K247","v":714},{"$f":"SHALADARPAN!E247","v":"DEEPAK"},{"$f":"SHALADARPAN!G247","v":"Kailash"}]
[{"$nulls":18},{"$f":"SHALADARPAN!A248","v":7},{"$f":"SHALADARPAN!B248","v":"A"},{"$f":"SHALADARPAN!K248","v":715},{"$f":"SHALADARPAN!E248","v":"Devendra Saini"},{"$f":"SHALADARPAN!G248","v":"Kailash"}]
[{"$nulls":18},{"$f":"SHALADARPAN!A249","v":7},{"$f":"SHALADARPAN!B249","v":"A"},{"$f":"SHALADARPAN!K249","v":716},{"$f":"SHALADARPAN!E249","v":"Dinesh Latiyal"},{"$f":"SHALADARPAN!G249","v":"Kailash"}]
[{"$nulls":18},{"$f":"SHALADARPAN!A250","v":7},{"$f":"SHALADARPAN!B250","v":"A"},{"$f":"SHALADARPAN!K250","v":717},{"$f":"SHALADARPAN!E250","v":"FAIJAN MOHMMAD"},{"$f":"SHALADARPAN!G250","v":"Kailash"}]
[{"$nulls":18},{"$f":"SHALADARPAN!A251","v":7},{"$f":"SHALADARPAN!B251","v":"A"},{"$f":"SHALADARPAN!K251","v":718},{"$f":"SHALADARPAN!E251","v":"GAJENDAR SHINGH"},{"$f":"SHALADARPAN!G251","v":"Kailash"}]
[{"$nulls":18},{"$f":"SHALADARPAN!A252","v":7},{"$f":"SHALADARPAN!B252","v":"A"},{"$f":"SHALADARPAN!K252","v":719},{"$f":"SHALADARPAN!E252","v":"GANESH VAISHNAV"},{"$f":"SHALADARPAN!G252","v":"Kailash"}]
[{"$nulls":18},{"$f":"SHALADARPAN!A253","v":7},{"$f":"SHALADARPAN!B253","v":"A"},{"$f":"SHALADARPAN!K253","v":720},{"$f":"SHALADARPAN!E253","v":"Harshita Jangid"},{"$f":"SHALADARPAN!G253","v":"Kailash"}]
[{"$nulls":18},{"$f":"SHALADARPAN!A254","v":7},{"$f":"SHALADARPAN!B254","v":"A"},{"$f":"SHALADARPAN!K254","v":721},{"$f":"SHALADARPAN!E254","v":"Hemraj"},{"$f":"SHALADARPAN!G254","v":"Kailash"}]
[{"$nulls":18},{"$f":"SHALADARPAN!A255","v":7},{"$f":"SHALADARPAN!B255","v":"A"},{"$f":"SHALADARPAN!K255","v":722},{"$f":"SHALADARPAN!E255","v":"Irfan"},{"$f":"SHALADARPAN!G255","v":"Kailash"}]
[{"$nulls":18},{"$f":"SHALADARPAN!A256","v":7},{"$f":"SHALADARPAN!B256","v":"A"},{"$f":"SHALADARPAN!K256","v":724},{"$f":"SHALADARPAN!E256","v":"KHUSHBOO"},{"$f":"SHALADARPAN!G256","v":"Kailash"}]
[{"$nulls":18},{"$f":"SHALADARPAN!A257","v":7},{"$f":"SHALADARPAN!B257","v":"A"},{"$f":"SHALADARPAN!K257","v":725},{"$f":"SHALADARPAN!E257","v":"KHUSHBOO"},{"$f":"SHALADARPAN!G257","v":"Kailash"}]
[{"$nulls":18},{"$f":"SHALADARPAN!A258","v":7},{"$f":"SHALADARPAN!B258","v":"A"},{"$f":"SHALADARPAN!K258","v":726},{"$f":"SHALADARPAN!E258","v":"Khushi Vaishnav"},{"$f":"SHALADARPAN!G258","v":"Kailash"}]
[{"$nulls":18},{"$f":"SHALADARPAN!A259","v":7},{"$f":"SHALADARPAN!B259","v":"A"},{"$f":"SHALADARPAN!K259","v":727},{"$f":"SHALADARPAN!E259","v":"KOMAL"},{"$f":"SHALADARPAN!G259","v":"Kailash"}]
[{"$nulls":18},{"$f":"SHALADARPAN!A260","v":7},{"$f":"SHALADARPAN!B260","v":"A"},{"$f":"SHALADARPAN!K260","v":728},{"$f":"SHALADARPAN!E260","v":"LALI NATH"},{"$f":"SHALADARPAN!G260","v":"Kailash"}]
[{"$nulls":18},{"$f":"SHALADARPAN!A261","v":7},{"$f":"SHALADARPAN!B261","v":"A"},{"$f":"SHALADARPAN!K261","v":729},{"$f":"SHALADARPAN!E261","v":"Mohammad Irfan"},{"$f":"SHALADARPAN!G261","v":"Kailash"}]
[{"$nulls":18},{"$f":"SHALADARPAN!A262","v":7},{"$f":"SHALADARPAN!B262","v":"A"},{"$f":"SHALADARPAN!K262","v":730},{"$f":"SHALADARPAN!E262","v":"MOSEEM"},{"$f":"SHALADARPAN!G262","v":"Kailash"}]
[{"$nulls":18},{"$f":"SHALADARPAN!A263","v":7},{"$f":"SHALADARPAN!B263","v":"A"},{"$f":"SHALADARPAN!K263","v":731},{"$f":"SHALADARPAN!E263","v":"MUNNI"},{"$f":"SHALADARPAN!G263","v":"Kailash"}]
[{"$nulls":18},{"$f":"SHALADARPAN!A264","v":7},{"$f":"SHALADARPAN!B264","v":"A"},{"$f":"SHALADARPAN!K264","v":732},{"$f":"SHALADARPAN!E264","v":"MUSKAN"},{"$f":"SHALADARPAN!G264","v":"Kailash"}]
[{"$nulls":18},{"$f":"SHALADARPAN!A265","v":7},{"$f":"SHALADARPAN!B265","v":"A"},{"$f":"SHALADARPAN!K265","v":733},{"$f":"SHALADARPAN!E265","v":"NASREEN"},{"$f":"SHALADARPAN!G265","v":"Kailash"}]
[{"$nulls":18},{"$f":"SHALADARPAN!A266","v":7},{"$f":"SHALADARPAN!B266","v":"A"},{"$f":"SHALADARPAN!K266","v":734},{"$f":"SHALADARPAN!E266","v":"NAZMEEN"},{"$f":"SHALADARPAN!G266","v":"Kailash"}]
[{"$nulls":18},{"$f":"SHALADARPAN!A267","v":7},{"$f":"SHALADARPAN!B267","v":"A"},{"$f":"SHALADARPAN!K267","v":735},{"$f":"SHALADARPAN!E267","v":"NISHA"},{"$f":"SHALADARPAN!G267","v":"Kailash"}]
[{"$nulls":18},{"$f":"SHALADARPAN!A268","v":7},{"$f":"SHALADARPAN!B268","v":"A"},{"$f":"SHALADARPAN!K268","v":736},{"$f":"SHALADARPAN!E268","v":"Nitin Saini"},{"$f":"SHALADARPAN!G268","v":"Kailash"}]
[{"$nulls":18},{"$f":"SHALADARPAN!A269","v":7},{"$f":"SHALADARPAN!B269","v":"A"},{"$f":"SHALADARPAN!K269","v":737},{"$f":"SHALADARPAN!E269","v":"Nitu Gurjar"},{"$f":"SHALADARPAN!G269","v":"Kailash"}]
[{"$nulls":18},{"$f":"SHALADARPAN!A270","v":7},{"$f":"SHALADARPAN!B270","v":"A"},{"$f":"SHALADARPAN!K270","v":738},{"$f":"SHALADARPAN!E270","v":"NORAT LAL"},{"$f":"SHALADARPAN!G270","v":"Kailash"}]
[{"$nulls":18},{"$f":"SHALADARPAN!A271","v":7},{"$f":"SHALADARPAN!B271","v":"A"},{"$f":"SHALADARPAN!K271","v":739},{"$f":"SHALADARPAN!E271","v":"PAWAN JUNJADIYA"},{"$f":"SHALADARPAN!G271","v":"Kailash"}]
[{"$nulls":18},{"$f":"SHALADARPAN!A272","v":7},{"$f":"SHALADARPAN!B272","v":"A"},{"$f":"SHALADARPAN!K272","v":740},{"$f":"SHALADARPAN!E272","v":"PINTU SAINI"},{"$f":"SHALADARPAN!G272","v":"Kailash"}]
[{"$nulls":18},{"$f":"SHALADARPAN!A273","v":7},{"$f":"SHALADARPAN!B273","v":"A"},{"$f":"SHALADARPAN!K273","v":741},{"$f":"SHALADARPAN!E273","v":"PRIYANKA"},{"$f":"SHALADARPAN!G273","v":"Kailash"}]
[{"$nulls":18},{"$f":"SHALADARPAN!A274","v":7},{"$f":"SHALADARPAN!B274","v":"A"},{"$f":"SHALADARPAN!K274","v":742},{"$f":"SHALADARPAN!E274","v":"RAJU RAM"},{"$f":"SHALADARPAN!G274","v":"Kailash"}]
[{"$nulls":18},{"$f":"SHALADARPAN!A275","v":7},{"$f":"SHALADARPAN!B275","v":"A"},{"$f":"SHALADARPAN!K275","v":743},{"$f":"SHALADARPAN!E275","v":"RAVI BAVARI"},{"$f":"SHALADARPAN!G275","v":"Kailash"}]
[{"$nulls":18},{"$f":"SHALADARPAN!A276","v":7},{"$f":"SHALADARPAN!B276","v":"A"},{"$f":"SHALADARPAN!K276","v":744},{"$f":"SHALADARPAN!E276","v":"RIJVAN"},{"$f":"SHALADARPAN!G276","v":"Kailash"}]
[{"$nulls":18},{"$f":"SHALADARPAN!A277","v":7},{"$f":"SHALADARPAN!B277","v":"A"},{"$f":"SHALADARPAN!K277","v":745},{"$f":"SHALADARPAN!E277","v":"RIYAN"},{"$f":"SHALADARPAN!G277","v":"Kailash"}]
[{"$nulls":18},{"$f":"SHALADARPAN!A278","v":7},{"$f":"SHALADARPAN!B278","v":"A"},{"$f":"SHALADARPAN!K278","v":746},{"$f":"SHALADARPAN!E278","v":"RUKEEIA"},{"$f":"SHALADARPAN!G278","v":"Kailash"}]
[{"$nulls":18},{"$f":"SHALADARPAN!A279","v":7},{"$f":"SHALADARPAN!B279","v":"A"},{"$f":"SHALADARPAN!K279","v":747},{"$f":"SHALADARPAN!E279","v":"SAMEER"},{"$f":"SHALADARPAN!G279","v":"Kailash"}]
[{"$nulls":18},{"$f":"SHALADARPAN!A280","v":7},{"$f":"SHALADARPAN!B280","v":"A"},{"$f":"SHALADARPAN!K280","v":748},{"$f":"SHALADARPAN!E280","v":"SANIYA"},{"$f":"SHALADARPAN!G280","v":"Kailash"}]
[{"$nulls":18},{"$f":"SHALADARPAN!A281","v":7},{"$f":"SHALADARPAN!B281","v":"A"},{"$f":"SHALADARPAN!K281","v":749},{"$f":"SHALADARPAN!E281","v":"SHABANA BANU"},{"$f":"SHALADARPAN!G281","v":"Kailash"}]
[{"$nulls":18},{"$f":"SHALADARPAN!A282","v":7},{"$f":"SHALADARPAN!B282","v":"A"},{"$f":"SHALADARPAN!K282","v":750},{"$f":"SHALADARPAN!E282","v":"SHARIF MOHD."},{"$f":"SHALADARPAN!G282","v":"Kailash"}]
[{"$nulls":18},{"$f":"SHALADARPAN!A283","v":7},{"$f":"SHALADARPAN!B283","v":"A"},{"$f":"SHALADARPAN!K283","v":752},{"$f":"SHALADARPAN!E283","v":"SHOHIL"},{"$f":"SHALADARPAN!G283","v":"Kailash"}]
[{"$nulls":18},{"$f":"SHALADARPAN!A284","v":7},{"$f":"SHALADARPAN!B284","v":"A"},{"$f":"SHALADARPAN!K284","v":751},{"$f":"SHALADARPAN!E284","v":"SHOHIL"},{"$f":"SHALADARPAN!G284","v":"Kailash"}]
[{"$nulls":18},{"$f":"SHALADARPAN!A285","v":7},{"$f":"SHALADARPAN!B285","v":"A"},{"$f":"SHALADARPAN!K285","v":753},{"$f":"SHALADARPAN!E285","v":"SIMARAN"},{"$f":"SHALADARPAN!G285","v":"Kailash"}]
[{"$nulls":18},{"$f":"SHALADARPAN!A286","v":7},{"$f":"SHALADARPAN!B286","v":"A"},{"$f":"SHALADARPAN!K286","v":754},{"$f":"SHALADARPAN!E286","v":"Sonu Saini"},{"$f":"SHALADARPAN!G286","v":"Kailash"}]
[{"$nulls":18},{"$f":"SHALADARPAN!A287","v":7},{"$f":"SHALADARPAN!B287","v":"A"},{"$f":"SHALADARPAN!K287","v":755},{"$f":"SHALADARPAN!E287","v":"TEENA"},{"$f":"SHALADARPAN!G287","v":"Kailash"}]
[{"$nulls":18},{"$f":"SHALADARPAN!A288","v":8},{"$f":"SHALADARPAN!B288","v":"A"},{"$f":"SHALADARPAN!K288","v":801},{"$f":"SHALADARPAN!E288","v":"Aadil Mohammad"},{"$f":"SHALADARPAN!G288","v":"Kailash"}]
[{"$nulls":18},{"$f":"SHALADARPAN!A289","v":8},{"$f":"SHALADARPAN!B289","v":"A"},{"$f":"SHALADARPAN!K289","v":802},{"$f":"SHALADARPAN!E289","v":"AAFREEN BANOO"},{"$f":"SHALADARPAN!G289","v":"Kailash"}]
[{"$nulls":18},{"$f":"SHALADARPAN!A290","v":8},{"$f":"SHALADARPAN!B290","v":"A"},{"$f":"SHALADARPAN!K290","v":803},{"$f":"SHALADARPAN!E290","v":"AASIK"},{"$f":"SHALADARPAN!G290","v":"Kailash"}]
[{"$nulls":18},{"$f":"SHALADARPAN!A291","v":8},{"$f":"SHALADARPAN!B291","v":"A"},{"$f":"SHALADARPAN!K291","v":804},{"$f":"SHALADARPAN!E291","v":"ADITI GURJAR"},{"$f":"SHALADARPAN!G291","v":"Kailash"}]
[{"$nulls":18},{"$f":"SHALADARPAN!A292","v":8},{"$f":"SHALADARPAN!B292","v":"A"},{"$f":"SHALADARPAN!K292","v":805},{"$f":"SHALADARPAN!E292","v":"ALTAPH"},{"$f":"SHALADARPAN!G292","v":"Kailash"}]
[{"$nulls":18},{"$f":"SHALADARPAN!A293","v":8},{"$f":"SHALADARPAN!B293","v":"A"},{"$f":"SHALADARPAN!K293","v":807},{"$f":"SHALADARPAN!E293","v":"ANIL"},{"$f":"SHALADARPAN!G293","v":"Kailash"}]
[{"$nulls":18},{"$f":"SHALADARPAN!A294","v":8},{"$f":"SHALADARPAN!B294","v":"A"},{"$f":"SHALADARPAN!K294","v":808},{"$f":"SHALADARPAN!E294","v":"ANIL"},{"$f":"SHALADARPAN!G294","v":"Kailash"}]
[{"$nulls":18},{"$f":"SHALADARPAN!A295","v":8},{"$f":"SHALADARPAN!B295","v":"A"},{"$f":"SHALADARPAN!K295","v":806},{"$f":"SHALADARPAN!E295","v":"ANIL"},{"$f":"SHALADARPAN!G295","v":"Kailash"}]
[{"$nulls":18},{"$f":"SHALADARPAN!A296","v":8},{"$f":"SHALADARPAN!B296","v":"A"},{"$f":"SHALADARPAN!K296","v":809},{"$f":"SHALADARPAN!E296","v":"ANIL ACHARYA"},{"$f":"SHALADARPAN!G296","v":"Kailash"}]
[{"$nulls":18},{"$f":"SHALADARPAN!A297","v":8},{"$f":"SHALADARPAN!B297","v":"A"},{"$f":"SHALADARPAN!K297","v":810},{"$f":"SHALADARPAN!E297","v":"ANKIT"},{"$f":"SHALADARPAN!G297","v":"Kailash"}]
[{"$nulls":18},{"$f":"SHALADARPAN!A298","v":8},{"$f":"SHALADARPAN!B298","v":"A"},{"$f":"SHALADARPAN!K298","v":811},{"$f":"SHALADARPAN!E298","v":"ANWAR"},{"$f":"SHALADARPAN!G298","v":"Kailash"}]
[{"$nulls":18},{"$f":"SHALADARPAN!A299","v":8},{"$f":"SHALADARPAN!B299","v":"A"},{"$f":"SHALADARPAN!K299","v":812},{"$f":"SHALADARPAN!E299","v":"ARBAJ"},{"$f":"SHALADARPAN!G299","v":"Kailash"}]
[{"$nulls":18},{"$f":"SHALADARPAN!A300","v":8},{"$f":"SHALADARPAN!B300","v":"A"},{"$f":"SHALADARPAN!K300","v":813},{"$f":"SHALADARPAN!E300","v":"ASHISH JANGID"},{"$f":"SHALADARPAN!G300","v":"Kailash"}]
[{"$nulls":18},{"$f":"SHALADARPAN!A301","v":8},{"$f":"SHALADARPAN!B301","v":"A"},{"$f":"SHALADARPAN!K301","v":814},{"$f":"SHALADARPAN!E301","v":"BHARAT CHOKIDAR"},{"$f":"SHALADARPAN!G301","v":"Kailash"}]
[{"$nulls":18},{"$f":"SHALADARPAN!A302","v":8},{"$f":"SHALADARPAN!B302","v":"A"},{"$f":"SHALADARPAN!K302","v":815},{"$f":"SHALADARPAN!E302","v":"DHAN RAJ"},{"$f":"SHALADARPAN!G302","v":"Kailash"}]
[{"$nulls":18},{"$f":"SHALADARPAN!A303","v":8},{"$f":"SHALADARPAN!B303","v":"A"},{"$f":"SHALADARPAN!K303","v":816},{"$f":"SHALADARPAN!E303","v":"DILEEP KUMAWAT"},{"$f":"SHALADARPAN!G303","v":"Kailash"}]
[{"$nulls":18},{"$f":"SHALADARPAN!A304","v":8},{"$f":"SHALADARPAN!B304","v":"A"},{"$f":"SHALADARPAN!K304","v":817},{"$f":"SHALADARPAN!E304","v":"DILIP CHOKIDAR"},{"$f":"SHALADARPAN!G304","v":"Kailash"}]
[{"$nulls":18},{"$f":"SHALADARPAN!A305","v":8},{"$f":"SHALADARPAN!B305","v":"A"},{"$f":"SHALADARPAN!K305","v":818},{"$f":"SHALADARPAN!E305","v":"DIVYA"},{"$f":"SHALADARPAN!G305","v":"Kailash"}]
[{"$nulls":18},{"$f":"SHALADARPAN!A306","v":8},{"$f":"SHALADARPAN!B306","v":"A"},{"$f":"SHALADARPAN!K306","v":819},{"$f":"SHALADARPAN!E306","v":"GUNGUN SAINI"},{"$f":"SHALADARPAN!G306","v":"Kailash"}]
[{"$nulls":18},{"$f":"SHALADARPAN!A307","v":8},{"$f":"SHALADARPAN!B307","v":"A"},{"$f":"SHALADARPAN!K307","v":820},{"$f":"SHALADARPAN!E307","v":"HANUMAN NATH"},{"$f":"SHALADARPAN!G307","v":"Kailash"}]
[{"$nulls":18},{"$f":"SHALADARPAN!A308","v":8},{"$f":"SHALADARPAN!B308","v":"A"},{"$f":"SHALADARPAN!K308","v":821},{"$f":"SHALADARPAN!E308","v":"HEENA BANOO"},{"$f":"SHALADARPAN!G308","v":"Kailash"}]
[{"$nulls":18},{"$f":"SHALADARPAN!A309","v":8},{"$f":"SHALADARPAN!B309","v":"A"},{"$f":"SHALADARPAN!K309","v":822},{"$f":"SHALADARPAN!E309","v":"Heena Banu"},{"$f":"SHALADARPAN!G309","v":"Kailash"}]
[{"$nulls":18},{"$f":"SHALADARPAN!A310","v":8},{"$f":"SHALADARPAN!B310","v":"A"},{"$f":"SHALADARPAN!K310","v":823},{"$f":"SHALADARPAN!E310","v":"HUSAIN MOH."},{"$f":"SHALADARPAN!G310","v":"Kailash"}]
[{"$nulls":18},{"$f":"SHALADARPAN!A311","v":8},{"$f":"SHALADARPAN!B311","v":"A"},{"$f":"SHALADARPAN!K311","v":824},{"$f":"SHALADARPAN!E311","v":"ISHRAT BANOO"},{"$f":"SHALADARPAN!G311","v":"Kailash"}]
[{"$nulls":18},{"$f":"SHALADARPAN!A312","v":8},{"$f":"SHALADARPAN!B312","v":"A"},{"$f":"SHALADARPAN!K312","v":825},{"$f":"SHALADARPAN!E312","v":"Jabid Husain"},{"$f":"SHALADARPAN!G312","v":"Kailash"}]
[{"$nulls":18},{"$f":"SHALADARPAN!A313","v":8},{"$f":"SHALADARPAN!B313","v":"A"},{"$f":"SHALADARPAN!K313","v":826},{"$f":"SHALADARPAN!E313","v":"JITENDRA AACHARYA"},{"$f":"SHALADARPAN!G313","v":"Kailash"}]
[{"$nulls":18},{"$f":"SHALADARPAN!A314","v":8},{"$f":"SHALADARPAN!B314","v":"A"},{"$f":"SHALADARPAN!K314","v":827},{"$f":"SHALADARPAN!E314","v":"KANHIYALAL"},{"$f":"SHALADARPAN!G314","v":"Kailash"}]
[{"$nulls":18},{"$f":"SHALADARPAN!A315","v":8},{"$f":"SHALADARPAN!B315","v":"A"},{"$f":"SHALADARPAN!K315","v":828},{"$f":"SHALADARPAN!E315","v":"KHEMRAJ SAINI"},{"$f":"SHALADARPAN!G315","v":"Kailash"}]
[{"$nulls":18},{"$f":"SHALADARPAN!A316","v":8},{"$f":"SHALADARPAN!B316","v":"A"},{"$f":"SHALADARPAN!K316","v":830},{"$f":"SHALADARPAN!E316","v":"KIRAN BAWARI"},{"$f":"SHALADARPAN!G316","v":"Kailash"}]
[{"$nulls":18},{"$f":"SHALADARPAN!A317","v":8},{"$f":"SHALADARPAN!B317","v":"A"},{"$f":"SHALADARPAN!K317","v":829},{"$f":"SHALADARPAN!E317","v":"KIRAN BAWARI"},{"$f":"SHALADARPAN!G317","v":"Kailash"}]
[{"$nulls":18},{"$f":"SHALADARPAN!A318","v":8},{"$f":"SHALADARPAN!B318","v":"A"},{"$f":"SHALADARPAN!K318","v":831},{"$f":"SHALADARPAN!E318","v":"MAMTA"},{"$f":"SHALADARPAN!G318","v":"Kailash"}]
[{"$nulls":18},{"$f":"SHALADARPAN!A319","v":8},{"$f":"SHALADARPAN!B319","v":"A"},{"$f":"SHALADARPAN!K319","v":832},{"$f":"SHALADARPAN!E319","v":"MANISH GURJAR"},{"$f":"SHALADARPAN!G319","v":"Kailash"}]
[{"$nulls":18},{"$f":"SHALADARPAN!A320","v":8},{"$f":"SHALADARPAN!B320","v":"A"},{"$f":"SHALADARPAN!K320","v":833},{"$f":"SHALADARPAN!E320","v":"MANOHAR LAL"},{"$f":"SHALADARPAN!G320","v":"Kailash"}]
[{"$nulls":18},{"$f":"SHALADARPAN!A321","v":8},{"$f":"SHALADARPAN!B321","v":"A"},{"$f":"SHALADARPAN!K321","v":834},{"$f":"SHALADARPAN!E321","v":"Manoj"},{"$f":"SHALADARPAN!G321","v":"Kailash"}]
[{"$nulls":18},{"$f":"SHALADARPAN!A322","v":8},{"$f":"SHALADARPAN!B322","v":"A"},{"$f":"SHALADARPAN!K322","v":835},{"$f":"SHALADARPAN!E322","v":"MANU KANWAR"},{"$f":"SHALADARPAN!G322","v":"Kailash"}]
[{"$nulls":18},{"$f":"SHALADARPAN!A323","v":8},{"$f":"SHALADARPAN!B323","v":"A"},{"$f":"SHALADARPAN!K323","v":836},{"$f":"SHALADARPAN!E323","v":"MAYA DEVI"},{"$f":"SHALADARPAN!G323","v":"Kailash"}]
[{"$nulls":18},{"$f":"SHALADARPAN!A324","v":8},{"$f":"SHALADARPAN!B324","v":"A"},{"$f":"SHALADARPAN!K324","v":837},{"$f":"SHALADARPAN!E324","v":"MOHD.KHALEEL"},{"$f":"SHALADARPAN!G324","v":"Kailash"}]
[{"$nulls":18},{"$f":"SHALADARPAN!A325","v":8},{"$f":"SHALADARPAN!B325","v":"A"},{"$f":"SHALADARPAN!K325","v":838},{"$f":"SHALADARPAN!E325","v":"MOHIT ACHARYA"},{"$f":"SHALADARPAN!G325","v":"Kailash"}]
[{"$nulls":18},{"$f":"SHALADARPAN!A326","v":8},{"$f":"SHALADARPAN!B326","v":"A"},{"$f":"SHALADARPAN!K326","v":839},{"$f":"SHALADARPAN!E326","v":"MONIKA"},{"$f":"SHALADARPAN!G326","v":"Kailash"}]
[{"$nulls":18},{"$f":"SHALADARPAN!A327","v":8},{"$f":"SHALADARPAN!B327","v":"A"},{"$f":"SHALADARPAN!K327","v":840},{"$f":"SHALADARPAN!E327","v":"MONIKA"},{"$f":"SHALADARPAN!G327","v":"Kailash"}]
[{"$nulls":18},{"$f":"SHALADARPAN!A328","v":8},{"$f":"SHALADARPAN!B328","v":"A"},{"$f":"SHALADARPAN!K328","v":841},{"$f":"SHALADARPAN!E328","v":"NASEEM BANOO"},{"$f":"SHALADARPAN!G328","v":"Kailash"}]
[{"$nulls":18},{"$f":"SHALADARPAN!A329","v":8},{"$f":"SHALADARPAN!B329","v":"A"},{"$f":"SHALADARPAN!K329","v":842},{"$f":"SHALADARPAN!E329","v":"NISHA NATH"},{"$f":"SHALADARPAN!G329","v":"Kailash"}]
[{"$nulls":18},{"$f":"SHALADARPAN!A330","v":8},{"$f":"SHALADARPAN!B330","v":"A"},{"$f":"SHALADARPAN!K330","v":843},{"$f":"SHALADARPAN!E330","v":"Nitesh Saini"},{"$f":"SHALADARPAN!G330","v":"Kailash"}]
[{"$nulls":18},{"$f":"SHALADARPAN!A331","v":8},{"$f":"SHALADARPAN!B331","v":"A"},{"$f":"SHALADARPAN!K331","v":844},{"$f":"SHALADARPAN!E331","v":"PALAK KANWAR"},{"$f":"SHALADARPAN!G331","v":"Kailash"}]
[{"$nulls":18},{"$f":"SHALADARPAN!A332","v":8},{"$f":"SHALADARPAN!B332","v":"A"},{"$f":"SHALADARPAN!K332","v":845},{"$f":"SHALADARPAN!E332","v":"Pankaj Puri"},{"$f":"SHALADARPAN!G332","v":"Kailash"}]
[{"$nulls":18},{"$f":"SHALADARPAN!A333","v":8},{"$f":"SHALADARPAN!B333","v":"A"},{"$f":"SHALADARPAN!K333","v":846},{"$f":"SHALADARPAN!E333","v":"POOJA"},{"$f":"SHALADARPAN!G333","v":"Kailash"}]
[{"$nulls":18},{"$f":"SHALADARPAN!A334","v":8},{"$f":"SHALADARPAN!B334","v":"A"},{"$f":"SHALADARPAN!K334","v":847},{"$f":"SHALADARPAN!E334","v":"POOJA BAWARI"},{"$f":"SHALADARPAN!G334","v":"Kailash"}]
[{"$nulls":18},{"$f":"SHALADARPAN!A335","v":8},{"$f":"SHALADARPAN!B335","v":"A"},{"$f":"SHALADARPAN!K335","v":848},{"$f":"SHALADARPAN!E335","v":"PRAKASH"},{"$f":"SHALADARPAN!G335","v":"Kailash"}]
[{"$nulls":18},{"$f":"SHALADARPAN!A336","v":8},{"$f":"SHALADARPAN!B336","v":"A"},{"$f":"SHALADARPAN!K336","v":849},{"$f":"SHALADARPAN!E336","v":"Radhika Vaishnav"},{"$f":"SHALADARPAN!G336","v":"Kailash"}]
[{"$nulls":18},{"$f":"SHALADARPAN!A337","v":8},{"$f":"SHALADARPAN!B337","v":"A"},{"$f":"SHALADARPAN!K337","v":850},{"$f":"SHALADARPAN!E337","v":"Rajdeep"},{"$f":"SHALADARPAN!G337","v":"Kailash"}]
[{"$nulls":18},{"$f":"SHALADARPAN!A338","v":8},{"$f":"SHALADARPAN!B338","v":"A"},{"$f":"SHALADARPAN!K338","v":851},{"$f":"SHALADARPAN!E338","v":"RAKESH BAVARI"},{"$f":"SHALADARPAN!G338","v":"Kailash"}]
[{"$nulls":18},{"$f":"SHALADARPAN!A339","v":8},{"$f":"SHALADARPAN!B339","v":"A"},{"$f":"SHALADARPAN!K339","v":852},{"$f":"SHALADARPAN!E339","v":"RAKHI KANWAR"},{"$f":"SHALADARPAN!G339","v":"Kailash"}]
[{"$nulls":18},{"$f":"SHALADARPAN!A340","v":8},{"$f":"SHALADARPAN!B340","v":"A"},{"$f":"SHALADARPAN!K340","v":853},{"$f":"SHALADARPAN!E340","v":"RESHMA BANOO"},{"$f":"SHALADARPAN!G340","v":"Kailash"}]
[{"$nulls":18},{"$f":"SHALADARPAN!A341","v":8},{"$f":"SHALADARPAN!B341","v":"A"},{"$f":"SHALADARPAN!K341","v":854},{"$f":"SHALADARPAN!E341","v":"RUBANA BANU"},{"$f":"SHALADARPAN!G341","v":"Kailash"}]
[{"$nulls":18},{"$f":"SHALADARPAN!A342","v":8},{"$f":"SHALADARPAN!B342","v":"A"},{"$f":"SHALADARPAN!K342","v":855},{"$f":"SHALADARPAN!E342","v":"Sabir Ali"},{"$f":"SHALADARPAN!G342","v":"Kailash"}]
[{"$nulls":18},{"$f":"SHALADARPAN!A343","v":8},{"$f":"SHALADARPAN!B343","v":"A"},{"$f":"SHALADARPAN!K343","v":856},{"$f":"SHALADARPAN!E343","v":"SAHUKAR"},{"$f":"SHALADARPAN!G343","v":"Kailash"}]
[{"$nulls":18},{"$f":"SHALADARPAN!A344","v":8},{"$f":"SHALADARPAN!B344","v":"A"},{"$f":"SHALADARPAN!K344","v":857},{"$f":"SHALADARPAN!E344","v":"SALMA BANOO"},{"$f":"SHALADARPAN!G344","v":"Kailash"}]
[{"$nulls":18},{"$f":"SHALADARPAN!A345","v":8},{"$f":"SHALADARPAN!B345","v":"A"},{"$f":"SHALADARPAN!K345","v":858},{"$f":"SHALADARPAN!E345","v":"SANIYA BANOO"},{"$f":"SHALADARPAN!G345","v":"Kailash"}]
[{"$nulls":18},{"$f":"SHALADARPAN!A346","v":8},{"$f":"SHALADARPAN!B346","v":"A"},{"$f":"SHALADARPAN!K346","v":859},{"$f":"SHALADARPAN!E346","v":"SANJAY KHAN"},{"$f":"SHALADARPAN!G346","v":"Kailash"}]
[{"$nulls":18},{"$f":"SHALADARPAN!A347","v":8},{"$f":"SHALADARPAN!B347","v":"A"},{"$f":"SHALADARPAN!K347","v":860},{"$f":"SHALADARPAN!E347","v":"SAPNA GURJAR"},{"$f":"SHALADARPAN!G347","v":"Kailash"}]
[{"$nulls":18},{"$f":"SHALADARPAN!A348","v":8},{"$f":"SHALADARPAN!B348","v":"A"},{"$f":"SHALADARPAN!K348","v":861},{"$f":"SHALADARPAN!E348","v":"SEEMA DEVI"},{"$f":"SHALADARPAN!G348","v":"Kailash"}]
[{"$nulls":18},{"$f":"SHALADARPAN!A349","v":8},{"$f":"SHALADARPAN!B349","v":"A"},{"$f":"SHALADARPAN!K349","v":862},{"$f":"SHALADARPAN!E349","v":"SHOHIL"},{"$f":"SHALADARPAN!G349","v":"Kailash"}]
[{"$nulls":18},{"$f":"SHALADARPAN!A350","v":8},{"$f":"SHALADARPAN!B350","v":"A"},{"$f":"SHALADARPAN!K350","v":863},{"$f":"SHALADARPAN!E350","v":"Shubham Acharya"},{"$f":"SHALADARPAN!G350","v":"Kailash"}]
[{"$nulls":18},{"$f":"SHALADARPAN!A351","v":8},{"$f":"SHALADARPAN!B351","v":"A"},{"$f":"SHALADARPAN!K351","v":864},{"$f":"SHALADARPAN!E351","v":"SUJITA"},{"$f":"SHALADARPAN!G351","v":"Kailash"}]
[{"$nulls":18},{"$f":"SHALADARPAN!A352","v":8},{"$f":"SHALADARPAN!B352","v":"A"},{"$f":"SHALADARPAN!K352","v":865},{"$f":"SHALADARPAN!E352","v":"Sunil Saini"},{"$f":"SHALADARPAN!G352","v":"Kailash"}]
[{"$nulls":18},{"$f":"SHALADARPAN!A353","v":8},{"$f":"SHALADARPAN!B353","v":"A"},{"$f":"SHALADARPAN!K353","v":866},{"$f":"SHALADARPAN!E353","v":"SUNIL SAINI"},{"$f":"SHALADARPAN!G353","v":"Kailash"}]
[{"$nulls":18},{"$f":"SHALADARPAN!A354","v":8},{"$f":"SHALADARPAN!B354","v":"A"},{"$f":"SHALADARPAN!K354","v":867},{"$f":"SHALADARPAN!E354","v":"Sushil Kumar"},{"$f":"SHALADARPAN!G354","v":"Kailash"}]
[{"$nulls":18},{"$f":"SHALADARPAN!A355","v":8},{"$f":"SHALADARPAN!B355","v":"A"},{"$f":"SHALADARPAN!K355","v":868},{"$f":"SHALADARPAN!E355","v":"Tanvi Singh"},{"$f":"SHALADARPAN!G355","v":"Kailash"}]
[{"$nulls":18},{"$f":"SHALADARPAN!A356","v":8},{"$f":"SHALADARPAN!B356","v":"A"},{"$f":"SHALADARPAN!K356","v":869},{"$f":"SHALADARPAN!E356","v":"TEENA AACHARYA"},{"$f":"SHALADARPAN!G356","v":"Kailash"}]
[{"$nulls":18},{"$f":"SHALADARPAN!A357","v":9},{"$f":"SHALADARPAN!B357","v":"A"},{"$f":"SHALADARPAN!K357","v":901},{"$f":"SHALADARPAN!E357","v":"Aakash Suwasiya"},{"$f":"SHALADARPAN!G357","v":"Kailash"}]
[{"$nulls":18},{"$f":"SHALADARPAN!A358","v":9},{"$f":"SHALADARPAN!B358","v":"A"},{"$f":"SHALADARPAN!K358","v":902},{"$f":"SHALADARPAN!E358","v":"AASIF ALI"},{"$f":"SHALADARPAN!G358","v":"Kailash"}]
[{"$nulls":18},{"$f":"SHALADARPAN!A359","v":9},{"$f":"SHALADARPAN!B359","v":"A"},{"$f":"SHALADARPAN!K359","v":903},{"$f":"SHALADARPAN!E359","v":"Abdul Hameed"},{"$f":"SHALADARPAN!G359","v":"Kailash"}]
[{"$nulls":18},{"$f":"SHALADARPAN!A360","v":9},{"$f":"SHALADARPAN!B360","v":"A"},{"$f":"SHALADARPAN!K360","v":904},{"$f":"SHALADARPAN!E360","v":"AJAY"},{"$f":"SHALADARPAN!G360","v":"Kailash"}]
[{"$nulls":18},{"$f":"SHALADARPAN!A361","v":9},{"$f":"SHALADARPAN!B361","v":"A"},{"$f":"SHALADARPAN!K361","v":905},{"$f":"SHALADARPAN!E361","v":"Alkesh Dagdi"},{"$f":"SHALADARPAN!G361","v":"Kailash"}]
[{"$nulls":18},{"$f":"SHALADARPAN!A362","v":9},{"$f":"SHALADARPAN!B362","v":"A"},{"$f":"SHALADARPAN!K362","v":606},{"$f":"SHALADARPAN!E362","v":"Anil Kumar"},{"$f":"SHALADARPAN!G362","v":"Kailash"}]
[{"$nulls":18},{"$f":"SHALADARPAN!A363","v":9},{"$f":"SHALADARPAN!B363","v":"A"},{"$f":"SHALADARPAN!K363","v":907},{"$f":"SHALADARPAN!E363","v":"ANITA MALI"},{"$f":"SHALADARPAN!G363","v":"Kailash"}]
[{"$nulls":18},{"$f":"SHALADARPAN!A364","v":9},{"$f":"SHALADARPAN!B364","v":"A"},{"$f":"SHALADARPAN!K364","v":908},{"$f":"SHALADARPAN!E364","v":"Ankit Parihar"},{"$f":"SHALADARPAN!G364","v":"Kailash"}]
[{"$nulls":18},{"$f":"SHALADARPAN!A365","v":9},{"$f":"SHALADARPAN!B365","v":"A"},{"$f":"SHALADARPAN!K365","v":909},{"$f":"SHALADARPAN!E365","v":"ASHOK CHOKIDAR"},{"$f":"SHALADARPAN!G365","v":"Kailash"}]
[{"$nulls":18},{"$f":"SHALADARPAN!A366","v":9},{"$f":"SHALADARPAN!B366","v":"A"},{"$f":"SHALADARPAN!K366","v":911},{"$f":"SHALADARPAN!E366","v":"DEEPAK KUMAWAT"},{"$f":"SHALADARPAN!G366","v":"Kailash"}]
[{"$nulls":18},{"$f":"SHALADARPAN!A367","v":9},{"$f":"SHALADARPAN!B367","v":"A"},{"$f":"SHALADARPAN!K367","v":913},{"$f":"SHALADARPAN!E367","v":"DEVENDRA KUDI"},{"$f":"SHALADARPAN!G367","v":"Kailash"}]
[{"$nulls":18},{"$f":"SHALADARPAN!A368","v":9},{"$f":"SHALADARPAN!B368","v":"A"},{"$f":"SHALADARPAN!K368","v":915},{"$f":"SHALADARPAN!E368","v":"Dilu Devi Gurjar"},{"$f":"SHALADARPAN!G368","v":"Kailash"}]
[{"$nulls":18},{"$f":"SHALADARPAN!A369","v":9},{"$f":"SHALADARPAN!B369","v":"A"},{"$f":"SHALADARPAN!K369","v":916},{"$f":"SHALADARPAN!E369","v":"DINESH CHOKIDAR"},{"$f":"SHALADARPAN!G369","v":"Kailash"}]
[{"$nulls":18},{"$f":"SHALADARPAN!A370","v":9},{"$f":"SHALADARPAN!B370","v":"A"},{"$f":"SHALADARPAN!K370","v":917},{"$f":"SHALADARPAN!E370","v":"Gopal Saini"},{"$f":"SHALADARPAN!G370","v":"Kailash"}]
[{"$nulls":18},{"$f":"SHALADARPAN!A371","v":9},{"$f":"SHALADARPAN!B371","v":"A"},{"$f":"SHALADARPAN!K371","v":920},{"$f":"SHALADARPAN!E371","v":"Jatin Jorawal"},{"$f":"SHALADARPAN!G371","v":"Kailash"}]
[{"$nulls":18},{"$f":"SHALADARPAN!A372","v":9},{"$f":"SHALADARPAN!B372","v":"A"},{"$f":"SHALADARPAN!K372","v":921},{"$f":"SHALADARPAN!E372","v":"KAILASH"},{"$f":"SHALADARPAN!G372","v":"Kailash"}]
[{"$nulls":18},{"$f":"SHALADARPAN!A373","v":9},{"$f":"SHALADARPAN!B373","v":"A"},{"$f":"SHALADARPAN!K373","v":922},{"$f":"SHALADARPAN!E373","v":"KAVITA SAINI"},{"$f":"SHALADARPAN!G373","v":"Kailash"}]
[{"$nulls":18},{"$f":"SHALADARPAN!A374","v":9},{"$f":"SHALADARPAN!B374","v":"A"},{"$f":"SHALADARPAN!K374","v":923},{"$f":"SHALADARPAN!E374","v":"KHALID MOHAMMAD RANGREJ"},{"$f":"SHALADARPAN!G374","v":"Kailash"}]
[{"$nulls":18},{"$f":"SHALADARPAN!A375","v":9},{"$f":"SHALADARPAN!B375","v":"A"},{"$f":"SHALADARPAN!K375","v":924},{"$f":"SHALADARPAN!E375","v":"KHUSHBOO KANWAR"},{"$f":"SHALADARPAN!G375","v":"Kailash"}]
[{"$nulls":18},{"$f":"SHALADARPAN!A376","v":9},{"$f":"SHALADARPAN!B376","v":"A"},{"$f":"SHALADARPAN!K376","v":925},{"$f":"SHALADARPAN!E376","v":"KULDEEP SINGH"},{"$f":"SHALADARPAN!G376","v":"Kailash"}]
[{"$nulls":18},{"$f":"SHALADARPAN!A377","v":9},{"$f":"SHALADARPAN!B377","v":"A"},{"$f":"SHALADARPAN!K377","v":926},{"$f":"SHALADARPAN!E377","v":"KULDEEP SINGH"},{"$f":"SHALADARPAN!G377","v":"Kailash"}]
[{"$nulls":18},{"$f":"SHALADARPAN!A378","v":9},{"$f":"SHALADARPAN!B378","v":"A"},{"$f":"SHALADARPAN!K378","v":927},{"$f":"SHALADARPAN!E378","v":"Laki Ali"},{"$f":"SHALADARPAN!G378","v":"Kailash"}]
[{"$nulls":18},{"$f":"SHALADARPAN!A379","v":9},{"$f":"SHALADARPAN!B379","v":"A"},{"$f":"SHALADARPAN!K379","v":930},{"$f":"SHALADARPAN!E379","v":"Mukesh Nath"},{"$f":"SHALADARPAN!G379","v":"Kailash"}]
[{"$nulls":18},{"$f":"SHALADARPAN!A380","v":9},{"$f":"SHALADARPAN!B380","v":"A"},{"$f":"SHALADARPAN!K380","v":932},{"$f":"SHALADARPAN!E380","v":"MUSKAN BANOO"},{"$f":"SHALADARPAN!G380","v":"Kailash"}]
[{"$nulls":18},{"$f":"SHALADARPAN!A381","v":9},{"$f":"SHALADARPAN!B381","v":"A"},{"$f":"SHALADARPAN!K381","v":933},{"$f":"SHALADARPAN!E381","v":"MUSKAN MIRASHI"},{"$f":"SHALADARPAN!G381","v":"Kailash"}]
[{"$nulls":18},{"$f":"SHALADARPAN!A382","v":9},{"$f":"SHALADARPAN!B382","v":"A"},{"$f":"SHALADARPAN!K382","v":935},{"$f":"SHALADARPAN!E382","v":"PRAKASH CHAND MALI"},{"$f":"SHALADARPAN!G382","v":"Kailash"}]
[{"$nulls":18},{"$f":"SHALADARPAN!A383","v":9},{"$f":"SHALADARPAN!B383","v":"A"},{"$f":"SHALADARPAN!K383","v":936},{"$f":"SHALADARPAN!E383","v":"Pushpendra Singh"},{"$f":"SHALADARPAN!G383","v":"Kailash"}]
[{"$nulls":18},{"$f":"SHALADARPAN!A384","v":9},{"$f":"SHALADARPAN!B384","v":"A"},{"$f":"SHALADARPAN!K384","v":938},{"$f":"SHALADARPAN!E384","v":"Ravi Choudhary"},{"$f":"SHALADARPAN!G384","v":"Kailash"}]
[{"$nulls":18},{"$f":"SHALADARPAN!A385","v":9},{"$f":"SHALADARPAN!B385","v":"A"},{"$f":"SHALADARPAN!K385","v":939},{"$f":"SHALADARPAN!E385","v":"Rinku Vaishnav"},{"$f":"SHALADARPAN!G385","v":"Kailash"}]
[{"$nulls":18},{"$f":"SHALADARPAN!A386","v":9},{"$f":"SHALADARPAN!B386","v":"A"},{"$f":"SHALADARPAN!K386","v":940},{"$f":"SHALADARPAN!E386","v":"RUBINA"},{"$f":"SHALADARPAN!G386","v":"Kailash"}]
[{"$nulls":18},{"$f":"SHALADARPAN!A387","v":9},{"$f":"SHALADARPAN!B387","v":"A"},{"$f":"SHALADARPAN!K387","v":941},{"$f":"SHALADARPAN!E387","v":"RUKHSAR"},{"$f":"SHALADARPAN!G387","v":"Kailash"}]
[{"$nulls":18},{"$f":"SHALADARPAN!A388","v":9},{"$f":"SHALADARPAN!B388","v":"A"},{"$f":"SHALADARPAN!K388","v":942},{"$f":"SHALADARPAN!E388","v":"Sahina Banu"},{"$f":"SHALADARPAN!G388","v":"Kailash"}]
[{"$nulls":18},{"$f":"SHALADARPAN!A389","v":9},{"$f":"SHALADARPAN!B389","v":"A"},{"$f":"SHALADARPAN!K389","v":944},{"$f":"SHALADARPAN!E389","v":"SAMEER MIRASHI"},{"$f":"SHALADARPAN!G389","v":"Kailash"}]
[{"$nulls":18},{"$f":"SHALADARPAN!A390","v":9},{"$f":"SHALADARPAN!B390","v":"A"},{"$f":"SHALADARPAN!K390","v":945},{"$f":"SHALADARPAN!E390","v":"SAROJ"},{"$f":"SHALADARPAN!G390","v":"Kailash"}]
[{"$nulls":18},{"$f":"SHALADARPAN!A391","v":9},{"$f":"SHALADARPAN!B391","v":"A"},{"$f":"SHALADARPAN!K391","v":946},{"$f":"SHALADARPAN!E391","v":"SATYANARAYAN"},{"$f":"SHALADARPAN!G391","v":"Kailash"}]
[{"$nulls":18},{"$f":"SHALADARPAN!A392","v":9},{"$f":"SHALADARPAN!B392","v":"A"},{"$f":"SHALADARPAN!K392","v":947},{"$f":"SHALADARPAN!E392","v":"SHOHIL HUSAIN"},{"$f":"SHALADARPAN!G392","v":"Kailash"}]
[{"$nulls":18},{"$f":"SHALADARPAN!A393","v":9},{"$f":"SHALADARPAN!B393","v":"A"},{"$f":"SHALADARPAN!K393","v":948},{"$f":"SHALADARPAN!E393","v":"SUMAN"},{"$f":"SHALADARPAN!G393","v":"Kailash"}]
[{"$nulls":18},{"$f":"SHALADARPAN!A394","v":9},{"$f":"SHALADARPAN!B394","v":"A"},{"$f":"SHALADARPAN!K394","v":949},{"$f":"SHALADARPAN!E394","v":"SUMITRA DEVI"},{"$f":"SHALADARPAN!G394","v":"Kailash"}]
[{"$nulls":18},{"$f":"SHALADARPAN!A395","v":9},{"$f":"SHALADARPAN!B395","v":"A"},{"$f":"SHALADARPAN!K395","v":952},{"$f":"SHALADARPAN!E395","v":"SUNIL MEGHWAL"},{"$f":"SHALADARPAN!G395","v":"Kailash"}]
[{"$nulls":18},{"$f":"SHALADARPAN!A396","v":9},{"$f":"SHALADARPAN!B396","v":"A"},{"$f":"SHALADARPAN!K396","v":953},{"$f":"SHALADARPAN!E396","v":"SUNIL MEHRA"},{"$f":"SHALADARPAN!G396","v":"Kailash"}]
[{"$nulls":18},{"$f":"SHALADARPAN!A397","v":9},{"$f":"SHALADARPAN!B397","v":"A"},{"$f":"SHALADARPAN!K397","v":954},{"$f":"SHALADARPAN!E397","v":"SUNIL RAWAL"},{"$f":"SHALADARPAN!G397","v":"Kailash"}]
[{"$nulls":18},{"$f":"SHALADARPAN!A398","v":9},{"$f":"SHALADARPAN!B398","v":"A"},{"$f":"SHALADARPAN!K398","v":955},{"$f":"SHALADARPAN!E398","v":"SUNIL SAINI"},{"$f":"SHALADARPAN!G398","v":"Kailash"}]
[{"$nulls":18},{"$f":"SHALADARPAN!A399","v":9},{"$f":"SHALADARPAN!B399","v":"A"},{"$f":"SHALADARPAN!K399","v":956},{"$f":"SHALADARPAN!E399","v":"SUSHIL SINGODIYA"},{"$f":"SHALADARPAN!G399","v":"Kailash"}]
[{"$nulls":18},{"$f":"SHALADARPAN!A400","v":9},{"$f":"SHALADARPAN!B400","v":"A"},{"$f":"SHALADARPAN!K400","v":957},{"$f":"SHALADARPAN!E400","v":"TARA CHAND"},{"$f":"SHALADARPAN!G400","v":"Kailash"}]
[{"$nulls":18},{"$f":"SHALADARPAN!A401","v":9},{"$f":"SHALADARPAN!B401","v":"A"},{"$f":"SHALADARPAN!K401","v":959},{"$f":"SHALADARPAN!E401","v":"VASEEM"},{"$f":"SHALADARPAN!G401","v":"Kailash"}]
[{"$nulls":18},{"$f":"SHALADARPAN!A402","v":9},{"$f":"SHALADARPAN!B402","v":"A"},{"$f":"SHALADARPAN!K402","v":960},{"$f":"SHALADARPAN!E402","v":"Vikas Tamboli"},{"$f":"SHALADARPAN!G402","v":"Kailash"}]
[{"$nulls":18},{"$f":"SHALADARPAN!A403","v":9},{"$f":"SHALADARPAN!B403","v":"A"},{"$f":"SHALADARPAN!K403","v":961},{"$f":"SHALADARPAN!E403","v":"VIKRAM"},{"$f":"SHALADARPAN!G403","v":"Kailash"}]
[{"$nulls":18},{"$f":"SHALADARPAN!A404","v":9},{"$f":"SHALADARPAN!B404","v":"A"},{"$f":"SHALADARPAN!K404","v":962},{"$f":"SHALADARPAN!E404","v":"VIMALA KUMAWAT"},{"$f":"SHALADARPAN!G404","v":"Kailash"}]
[{"$nulls":18},{"$f":"SHALADARPAN!A405","v":9},{"$f":"SHALADARPAN!B405","v":"A"},{"$f":"SHALADARPAN!K405","v":963},{"$f":"SHALADARPAN!E405","v":"VIRENDRA CHOKIDAR"},{"$f":"SHALADARPAN!G405","v":"Kailash"}]
[{"$nulls":18},{"$f":"SHALADARPAN!A406","v":9},{"$f":"SHALADARPAN!B406","v":"B"},{"$f":"SHALADARPAN!K406","v":1001},{"$f":"SHALADARPAN!E406","v":"AFROJ BANU"},{"$f":"SHALADARPAN!G406","v":"Kailash"}]
[{"$nulls":18},{"$f":"SHALADARPAN!A407","v":9},{"$f":"SHALADARPAN!B407","v":"B"},{"$f":"SHALADARPAN!K407","v":1002},{"$f":"SHALADARPAN!E407","v":"ALTAF MOHAMMAD"},{"$f":"SHALADARPAN!G407","v":"Kailash"}]
[{"$nulls":18},{"$f":"SHALADARPAN!A408","v":9},{"$f":"SHALADARPAN!B408","v":"B"},{"$f":"SHALADARPAN!K408","v":1003},{"$f":"SHALADARPAN!E408","v":"ANNU KANWAR"},{"$f":"SHALADARPAN!G408","v":"Kailash"}]
[{"$nulls":18},{"$f":"SHALADARPAN!A409","v":9},{"$f":"SHALADARPAN!B409","v":"B"},{"$f":"SHALADARPAN!K409","v":1004},{"$f":"SHALADARPAN!E409","v":"Arpit Tailor"},{"$f":"SHALADARPAN!G409","v":"Kailash"}]
[{"$nulls":18},{"$f":"SHALADARPAN!A410","v":9},{"$f":"SHALADARPAN!B410","v":"B"},{"$f":"SHALADARPAN!K410","v":1005},{"$f":"SHALADARPAN!E410","v":"Ashraf Ali"},{"$f":"SHALADARPAN!G410","v":"Kailash"}]
[{"$nulls":18},{"$f":"SHALADARPAN!A411","v":9},{"$f":"SHALADARPAN!B411","v":"B"},{"$f":"SHALADARPAN!K411","v":1006},{"$f":"SHALADARPAN!E411","v":"BALRAM GURJAR"},{"$f":"SHALADARPAN!G411","v":"Kailash"}]
[{"$nulls":18},{"$f":"SHALADARPAN!A412","v":9},{"$f":"SHALADARPAN!B412","v":"B"},{"$f":"SHALADARPAN!K412","v":1007},{"$f":"SHALADARPAN!E412","v":"BASANTI"},{"$f":"SHALADARPAN!G412","v":"Kailash"}]
[{"$nulls":18},{"$f":"SHALADARPAN!A413","v":9},{"$f":"SHALADARPAN!B413","v":"B"},{"$f":"SHALADARPAN!K413","v":1008},{"$f":"SHALADARPAN!E413","v":"Chanchal Saini"},{"$f":"SHALADARPAN!G413","v":"Kailash"}]
[{"$nulls":18},{"$f":"SHALADARPAN!A414","v":9},{"$f":"SHALADARPAN!B414","v":"B"},{"$f":"SHALADARPAN!K414","v":1009},{"$f":"SHALADARPAN!E414","v":"CHANCHAL KUMAWAT"},{"$f":"SHALADARPAN!G414","v":"Kailash"}]
[{"$nulls":18},{"$f":"SHALADARPAN!A415","v":9},{"$f":"SHALADARPAN!B415","v":"B"},{"$f":"SHALADARPAN!K415","v":1010},{"$f":"SHALADARPAN!E415","v":"Cheteswar Jhala"},{"$f":"SHALADARPAN!G415","v":"Kailash"}]
[{"$nulls":18},{"$f":"SHALADARPAN!A416","v":9},{"$f":"SHALADARPAN!B416","v":"B"},{"$f":"SHALADARPAN!K416","v":1011},{"$f":"SHALADARPAN!E416","v":"Deepika Prajapat"},{"$f":"SHALADARPAN!G416","v":"Kailash"}]
[{"$nulls":18},{"$f":"SHALADARPAN!A417","v":9},{"$f":"SHALADARPAN!B417","v":"B"},{"$f":"SHALADARPAN!K417","v":1012},{"$f":"SHALADARPAN!E417","v":"Devendra Singh"},{"$f":"SHALADARPAN!G417","v":"Kailash"}]
[{"$nulls":18},{"$f":"SHALADARPAN!A418","v":9},{"$f":"SHALADARPAN!B418","v":"B"},{"$f":"SHALADARPAN!K418","v":1013},{"$f":"SHALADARPAN!E418","v":"Dinesh Saini"},{"$f":"SHALADARPAN!G418","v":"Kailash"}]
[{"$nulls":18},{"$f":"SHALADARPAN!A419","v":9},{"$f":"SHALADARPAN!B419","v":"B"},{"$f":"SHALADARPAN!K419","v":1014},{"$f":"SHALADARPAN!E419","v":"GHANSHYAM RAVAL"},{"$f":"SHALADARPAN!G419","v":"Kailash"}]
[{"$nulls":18},{"$f":"SHALADARPAN!A420","v":9},{"$f":"SHALADARPAN!B420","v":"B"},{"$f":"SHALADARPAN!K420","v":1015},{"$f":"SHALADARPAN!E420","v":"GUDDI"},{"$f":"SHALADARPAN!G420","v":"Kailash"}]
[{"$nulls":18},{"$f":"SHALADARPAN!A421","v":9},{"$f":"SHALADARPAN!B421","v":"B"},{"$f":"SHALADARPAN!K421","v":915},{"$f":"SHALADARPAN!E421","v":"GULBAR BANU"},{"$f":"SHALADARPAN!G421","v":"Kailash"}]
[{"$nulls":18},{"$f":"SHALADARPAN!A422","v":9},{"$f":"SHALADARPAN!B422","v":"B"},{"$f":"SHALADARPAN!K422","v":1016},{"$f":"SHALADARPAN!E422","v":"Hansa Devi"},{"$f":"SHALADARPAN!G422","v":"Kailash"}]
[{"$nulls":18},{"$f":"SHALADARPAN!A423","v":9},{"$f":"SHALADARPAN!B423","v":"B"},{"$f":"SHALADARPAN!K423","v":1017},{"$f":"SHALADARPAN!E423","v":"Hanuman Ram"},{"$f":"SHALADARPAN!G423","v":"Kailash"}]
[{"$nulls":18},{"$f":"SHALADARPAN!A424","v":9},{"$f":"SHALADARPAN!B424","v":"B"},{"$f":"SHALADARPAN!K424","v":1018},{"$f":"SHALADARPAN!E424","v":"Harendra Saini"},{"$f":"SHALADARPAN!G424","v":"Kailash"}]
[{"$nulls":18},{"$f":"SHALADARPAN!A425","v":9},{"$f":"SHALADARPAN!B425","v":"B"},{"$f":"SHALADARPAN!K425","v":1019},{"$f":"SHALADARPAN!E425","v":"Hari Ram"},{"$f":"SHALADARPAN!G425","v":"Kailash"}]
[{"$nulls":18},{"$f":"SHALADARPAN!A426","v":9},{"$f":"SHALADARPAN!B426","v":"B"},{"$f":"SHALADARPAN!K426","v":1020},{"$f":"SHALADARPAN!E426","v":"HASMATI BANO"},{"$f":"SHALADARPAN!G426","v":"Kailash"}]
[{"$nulls":18},{"$f":"SHALADARPAN!A427","v":9},{"$f":"SHALADARPAN!B427","v":"B"},{"$f":"SHALADARPAN!K427","v":1021},{"$f":"SHALADARPAN!E427","v":"JAIPAL SINGH"},{"$f":"SHALADARPAN!G427","v":"Kailash"}]
[{"$nulls":18},{"$f":"SHALADARPAN!A428","v":9},{"$f":"SHALADARPAN!B428","v":"B"},{"$f":"SHALADARPAN!K428","v":1022},{"$f":"SHALADARPAN!E428","v":"Jay Shree Prajapat"},{"$f":"SHALADARPAN!G428","v":"Kailash"}]
[{"$nulls":18},{"$f":"SHALADARPAN!A429","v":9},{"$f":"SHALADARPAN!B429","v":"B"},{"$f":"SHALADARPAN!K429","v":1023},{"$f":"SHALADARPAN!E429","v":"KAJOO DEVI"},{"$f":"SHALADARPAN!G429","v":"Kailash"}]
[{"$nulls":18},{"$f":"SHALADARPAN!A430","v":9},{"$f":"SHALADARPAN!B430","v":"B"},{"$f":"SHALADARPAN!K430","v":1024},{"$f":"SHALADARPAN!E430","v":"KANCHAN DEVI"},{"$f":"SHALADARPAN!G430","v":"Kailash"}]
[{"$nulls":18},{"$f":"SHALADARPAN!A431","v":9},{"$f":"SHALADARPAN!B431","v":"B"},{"$f":"SHALADARPAN!K431","v":1025},{"$f":"SHALADARPAN!E431","v":"KAVITA KUMAWAT"},{"$f":"SHALADARPAN!G431","v":"Kailash"}]
[{"$nulls":18},{"$f":"SHALADARPAN!A432","v":9},{"$f":"SHALADARPAN!B432","v":"B"},{"$f":"SHALADARPAN!K432","v":1026},{"$f":"SHALADARPAN!E432","v":"KOMAL"},{"$f":"SHALADARPAN!G432","v":"Kailash"}]
[{"$nulls":18},{"$f":"SHALADARPAN!A433","v":9},{"$f":"SHALADARPAN!B433","v":"B"},{"$f":"SHALADARPAN!K433","v":1027},{"$f":"SHALADARPAN!E433","v":"Komal Kanwar"},{"$f":"SHALADARPAN!G433","v":"Kailash"}]
[{"$nulls":18},{"$f":"SHALADARPAN!A434","v":9},{"$f":"SHALADARPAN!B434","v":"B"},{"$f":"SHALADARPAN!K434","v":1028},{"$f":"SHALADARPAN!E434","v":"KOMAL MALI"},{"$f":"SHALADARPAN!G434","v":"Kailash"}]
[{"$nulls":18},{"$f":"SHALADARPAN!A435","v":9},{"$f":"SHALADARPAN!B435","v":"B"},{"$f":"SHALADARPAN!K435","v":1029},{"$f":"SHALADARPAN!E435","v":"Laxmi"},{"$f":"SHALADARPAN!G435","v":"Kailash"}]
[{"$nulls":18},{"$f":"SHALADARPAN!A436","v":9},{"$f":"SHALADARPAN!B436","v":"B"},{"$f":"SHALADARPAN!K436","v":1030},{"$f":"SHALADARPAN!E436","v":"LAXMI KUMARI"},{"$f":"SHALADARPAN!G436","v":"Kailash"}]
[{"$nulls":18},{"$f":"SHALADARPAN!A437","v":9},{"$f":"SHALADARPAN!B437","v":"B"},{"$f":"SHALADARPAN!K437","v":1031},{"$f":"SHALADARPAN!E437","v":"MAMTA"},{"$f":"SHALADARPAN!G437","v":"Kailash"}]
[{"$nulls":18},{"$f":"SHALADARPAN!A438","v":9},{"$f":"SHALADARPAN!B438","v":"B"},{"$f":"SHALADARPAN!K438","v":1032},{"$f":"SHALADARPAN!E438","v":"MANISHA SAINI"},{"$f":"SHALADARPAN!G438","v":"Kailash"}]
[{"$nulls":18},{"$f":"SHALADARPAN!A439","v":9},{"$f":"SHALADARPAN!B439","v":"B"},{"$f":"SHALADARPAN!K439","v":1033},{"$f":"SHALADARPAN!E439","v":"MAYA RAIDAS"},{"$f":"SHALADARPAN!G439","v":"Kailash"}]
[{"$nulls":18},{"$f":"SHALADARPAN!A440","v":9},{"$f":"SHALADARPAN!B440","v":"B"},{"$f":"SHALADARPAN!K440","v":1034},{"$f":"SHALADARPAN!E440","v":"MITALI KUMAWAT"},{"$f":"SHALADARPAN!G440","v":"Kailash"}]
[{"$nulls":18},{"$f":"SHALADARPAN!A441","v":9},{"$f":"SHALADARPAN!B441","v":"B"},{"$f":"SHALADARPAN!K441","v":1035},{"$f":"SHALADARPAN!E441","v":"Mohit Saini"},{"$f":"SHALADARPAN!G441","v":"Kailash"}]
[{"$nulls":18},{"$f":"SHALADARPAN!A442","v":9},{"$f":"SHALADARPAN!B442","v":"B"},{"$f":"SHALADARPAN!K442","v":1036},{"$f":"SHALADARPAN!E442","v":"MONIKA BANU"},{"$f":"SHALADARPAN!G442","v":"Kailash"}]
[{"$nulls":18},{"$f":"SHALADARPAN!A443","v":9},{"$f":"SHALADARPAN!B443","v":"B"},{"$f":"SHALADARPAN!K443","v":1037},{"$f":"SHALADARPAN!E443","v":"MONIKA CHOUDHARY"},{"$f":"SHALADARPAN!G443","v":"Kailash"}]
[{"$nulls":18},{"$f":"SHALADARPAN!A444","v":9},{"$f":"SHALADARPAN!B444","v":"B"},{"$f":"SHALADARPAN!K444","v":1038},{"$f":"SHALADARPAN!E444","v":"MUMAL KANWAR"},{"$f":"SHALADARPAN!G444","v":"Kailash"}]
[{"$nulls":18},{"$f":"SHALADARPAN!A445","v":9},{"$f":"SHALADARPAN!B445","v":"B"},{"$f":"SHALADARPAN!K445","v":1039},{"$f":"SHALADARPAN!E445","v":"MUSKAN QURAISHI"},{"$f":"SHALADARPAN!G445","v":"Kailash"}]
[{"$nulls":18},{"$f":"SHALADARPAN!A446","v":9},{"$f":"SHALADARPAN!B446","v":"B"},{"$f":"SHALADARPAN!K446","v":1040},{"$f":"SHALADARPAN!E446","v":"Nabab Ali"},{"$f":"SHALADARPAN!G446","v":"Kailash"}]
[{"$nulls":18},{"$f":"SHALADARPAN!A447","v":9},{"$f":"SHALADARPAN!B447","v":"B"},{"$f":"SHALADARPAN!K447","v":1041},{"$f":"SHALADARPAN!E447","v":"NAJMEEN"},{"$f":"SHALADARPAN!G447","v":"Kailash"}]
[{"$nulls":18},{"$f":"SHALADARPAN!A448","v":9},{"$f":"SHALADARPAN!B448","v":"B"},{"$f":"SHALADARPAN!K448","v":1042},{"$f":"SHALADARPAN!E448","v":"Narendra Singh"},{"$f":"SHALADARPAN!G448","v":"Kailash"}]
[{"$nulls":18},{"$f":"SHALADARPAN!A449","v":9},{"$f":"SHALADARPAN!B449","v":"B"},{"$f":"SHALADARPAN!K449","v":1043},{"$f":"SHALADARPAN!E449","v":"Pradeep Sharma"},{"$f":"SHALADARPAN!G449","v":"Kailash"}]
[{"$nulls":18},{"$f":"SHALADARPAN!A450","v":9},{"$f":"SHALADARPAN!B450","v":"B"},{"$f":"SHALADARPAN!K450","v":1044},{"$f":"SHALADARPAN!E450","v":"PRAFUL VYAS"},{"$f":"SHALADARPAN!G450","v":"Kailash"}]
[{"$nulls":18},{"$f":"SHALADARPAN!A451","v":9},{"$f":"SHALADARPAN!B451","v":"B"},{"$f":"SHALADARPAN!K451","v":1045},{"$f":"SHALADARPAN!E451","v":"Praveen Samariya"},{"$f":"SHALADARPAN!G451","v":"Kailash"}]
[{"$nulls":18},{"$f":"SHALADARPAN!A452","v":9},{"$f":"SHALADARPAN!B452","v":"B"},{"$f":"SHALADARPAN!K452","v":1046},{"$f":"SHALADARPAN!E452","v":"RAHMAT"},{"$f":"SHALADARPAN!G452","v":"Kailash"}]
[{"$nulls":18},{"$f":"SHALADARPAN!A453","v":9},{"$f":"SHALADARPAN!B453","v":"B"},{"$f":"SHALADARPAN!K453","v":1047},{"$f":"SHALADARPAN!E453","v":"RAJBA KOSAR"},{"$f":"SHALADARPAN!G453","v":"Kailash"}]
[{"$nulls":18},{"$f":"SHALADARPAN!A454","v":9},{"$f":"SHALADARPAN!B454","v":"B"},{"$f":"SHALADARPAN!K454","v":1048},{"$f":"SHALADARPAN!E454","v":"RAVINDRA BHATI"},{"$f":"SHALADARPAN!G454","v":"Kailash"}]
[{"$nulls":18},{"$f":"SHALADARPAN!A455","v":9},{"$f":"SHALADARPAN!B455","v":"B"},{"$f":"SHALADARPAN!K455","v":1049},{"$f":"SHALADARPAN!E455","v":"SANDEEP SAINI"},{"$f":"SHALADARPAN!G455","v":"Kailash"}]
[{"$nulls":18},{"$f":"SHALADARPAN!A456","v":9},{"$f":"SHALADARPAN!B456","v":"B"},{"$f":"SHALADARPAN!K456","v":1051},{"$f":"SHALADARPAN!E456","v":"SHILPA KUDI"},{"$f":"SHALADARPAN!G456","v":"Kailash"}]
[{"$nulls":18},{"$f":"SHALADARPAN!A457","v":9},{"$f":"SHALADARPAN!B457","v":"B"},{"$f":"SHALADARPAN!K457","v":1053},{"$f":"SHALADARPAN!E457","v":"SONAM KUMAWAT"},{"$f":"SHALADARPAN!G457","v":"Kailash"}]
[{"$nulls":18},{"$f":"SHALADARPAN!A458","v":9},{"$f":"SHALADARPAN!B458","v":"B"},{"$f":"SHALADARPAN!K458","v":1054},{"$f":"SHALADARPAN!E458","v":"SONU DEVI"},{"$f":"SHALADARPAN!G458","v":"Kailash"}]
[{"$nulls":18},{"$f":"SHALADARPAN!A459","v":9},{"$f":"SHALADARPAN!B459","v":"B"},{"$f":"SHALADARPAN!K459","v":1056},{"$f":"SHALADARPAN!E459","v":"SUMAN KANWAR"},{"$f":"SHALADARPAN!G459","v":"Kailash"}]
[{"$nulls":18},{"$f":"SHALADARPAN!A460","v":9},{"$f":"SHALADARPAN!B460","v":"B"},{"$f":"SHALADARPAN!K460","v":1057},{"$f":"SHALADARPAN!E460","v":"Sumit Saini"},{"$f":"SHALADARPAN!G460","v":"Kailash"}]
[{"$nulls":18},{"$f":"SHALADARPAN!A461","v":9},{"$f":"SHALADARPAN!B461","v":"B"},{"$f":"SHALADARPAN!K461","v":1058},{"$f":"SHALADARPAN!E461","v":"SUMITA"},{"$f":"SHALADARPAN!G461","v":"Kailash"}]
[{"$nulls":18},{"$f":"SHALADARPAN!A462","v":9},{"$f":"SHALADARPAN!B462","v":"B"},{"$f":"SHALADARPAN!K462","v":1059},{"$f":"SHALADARPAN!E462","v":"Sunil Saini"},{"$f":"SHALADARPAN!G462","v":"Kailash"}]
[{"$nulls":18},{"$f":"SHALADARPAN!A463","v":9},{"$f":"SHALADARPAN!B463","v":"B"},{"$f":"SHALADARPAN!K463","v":1060},{"$f":"SHALADARPAN!E463","v":"SUNITA PANWAR"},{"$f":"SHALADARPAN!G463","v":"Kailash"}]
[{"$nulls":18},{"$f":"SHALADARPAN!A464","v":9},{"$f":"SHALADARPAN!B464","v":"B"},{"$f":"SHALADARPAN!K464","v":1061},{"$f":"SHALADARPAN!E464","v":"SURENDRA KUMAWAT"},{"$f":"SHALADARPAN!G464","v":"Kailash"}]
[{"$nulls":18},{"$f":"SHALADARPAN!A465","v":9},{"$f":"SHALADARPAN!B465","v":"B"},{"$f":"SHALADARPAN!K465","v":1062},{"$f":"SHALADARPAN!E465","v":"Tija Devi"},{"$f":"SHALADARPAN!G465","v":"Kailash"}]
[{"$nulls":18},{"$f":"SHALADARPAN!A466","v":9},{"$f":"SHALADARPAN!B466","v":"B"},{"$f":"SHALADARPAN!K466","v":1063},{"$f":"SHALADARPAN!E466","v":"URMILA"},{"$f":"SHALADARPAN!G466","v":"Kailash"}]
[{"$nulls":18},{"$f":"SHALADARPAN!A467","v":9},{"$f":"SHALADARPAN!B467","v":"B"},{"$f":"SHALADARPAN!K467","v":1064},{"$f":"SHALADARPAN!E467","v":"Varsha Kanwar"},{"$f":"SHALADARPAN!G467","v":"Kailash"}]
[{"$nulls":18},{"$f":"SHALADARPAN!A468","v":9},{"$f":"SHALADARPAN!B468","v":"B"},{"$f":"SHALADARPAN!K468","v":1065},{"$f":"SHALADARPAN!E468","v":"Vikas Barara"},{"$f":"SHALADARPAN!G468","v":"Kailash"}]
[{"$nulls":18},{"$f":"SHALADARPAN!A469","v":9},{"$f":"SHALADARPAN!B469","v":"B"},{"$f":"SHALADARPAN!K469","v":1066},{"$f":"SHALADARPAN!E469","v":"Vrishty Malakar"},{"$f":"SHALADARPAN!G469","v":"Kailash"}]
[{"$nulls":18},{"$f":"SHALADARPAN!A470","v":9},{"$f":"SHALADARPAN!B470","v":"B"},{"$f":"SHALADARPAN!K470","v":1067},{"$f":"SHALADARPAN!E470","v":"Yogendra Singh"},{"$f":"SHALADARPAN!G470","v":"Kailash"}]
[{"$nulls":18},{"$f":"SHALADARPAN!A471","v":9},{"$f":"SHALADARPAN!B471","v":"B"},{"$f":"SHALADARPAN!K471","v":1068},{"$f":"SHALADARPAN!E471","v":"Yogesh Kumar Prajapat"},{"$f":"SHALADARPAN!G471","v":"Kailash"}]
[{"$nulls":18},{"$f":"SHALADARPAN!A472","v":9},{"$f":"SHALADARPAN!B472","v":"B"},{"$f":"SHALADARPAN!K472","v":1069},{"$f":"SHALADARPAN!E472","v":"Yogesh Vaishnav"},{"$f":"SHALADARPAN!G472","v":"Kailash"}]
[{"$nulls":18},{"$f":"SHALADARPAN!A473","v":9},{"$f":"SHALADARPAN!B473","v":"B"},{"$f":"SHALADARPAN!K473","v":1070},{"$f":"SHALADARPAN!E473","v":"Yuvraj Singh"},{"$f":"SHALADARPAN!G473","v":"Kailash"}]
[{"$nulls":18},{"$f":"SHALADARPAN!A474","v":10},{"$f":"SHALADARPAN!B474","v":"A"},{"$f":"SHALADARPAN!K474","v":1101},{"$f":"SHALADARPAN!E474","v":"AARTI SAINI"},{"$f":"SHALADARPAN!G474","v":"Kailash"}]
[{"$nulls":18},{"$f":"SHALADARPAN!A475","v":10},{"$f":"SHALADARPAN!B475","v":"A"},{"$f":"SHALADARPAN!K475","v":1104},{"$f":"SHALADARPAN!E475","v":"ANIL SAINI"},{"$f":"SHALADARPAN!G475","v":"Kailash"}]
[{"$nulls":18},{"$f":"SHALADARPAN!A476","v":10},{"$f":"SHALADARPAN!B476","v":"A"},{"$f":"SHALADARPAN!K476","v":1105},{"$f":"SHALADARPAN!E476","v":"ANITA"},{"$f":"SHALADARPAN!G476","v":"Kailash"}]
[{"$nulls":18},{"$f":"SHALADARPAN!A477","v":10},{"$f":"SHALADARPAN!B477","v":"A"},{"$f":"SHALADARPAN!K477","v":1106},{"$f":"SHALADARPAN!E477","v":"Ashish Vaishnav"},{"$f":"SHALADARPAN!G477","v":"Kailash"}]
[{"$nulls":18},{"$f":"SHALADARPAN!A478","v":10},{"$f":"SHALADARPAN!B478","v":"A"},{"$f":"SHALADARPAN!K478","v":1108},{"$f":"SHALADARPAN!E478","v":"BHARAT RAIDAS"},{"$f":"SHALADARPAN!G478","v":"Kailash"}]
[{"$nulls":18},{"$f":"SHALADARPAN!A479","v":10},{"$f":"SHALADARPAN!B479","v":"A"},{"$f":"SHALADARPAN!K479","v":1111},{"$f":"SHALADARPAN!E479","v":"JAY SHREE RAIDAS"},{"$f":"SHALADARPAN!G479","v":"Kailash"}]
[{"$nulls":18},{"$f":"SHALADARPAN!A480","v":10},{"$f":"SHALADARPAN!B480","v":"A"},{"$f":"SHALADARPAN!K480","v":1112},{"$f":"SHALADARPAN!E480","v":"KAVITA NATH"},{"$f":"SHALADARPAN!G480","v":"Kailash"}]
[{"$nulls":18},{"$f":"SHALADARPAN!A481","v":10},{"$f":"SHALADARPAN!B481","v":"A"},{"$f":"SHALADARPAN!K481","v":1113},{"$f":"SHALADARPAN!E481","v":"KHUSHI RAIDAS"},{"$f":"SHALADARPAN!G481","v":"Kailash"}]
[{"$nulls":18},{"$f":"SHALADARPAN!A482","v":10},{"$f":"SHALADARPAN!B482","v":"A"},{"$f":"SHALADARPAN!K482","v":1114},{"$f":"SHALADARPAN!E482","v":"KISHOR BAWARI"},{"$f":"SHALADARPAN!G482","v":"Kailash"}]
[{"$nulls":18},{"$f":"SHALADARPAN!A483","v":10},{"$f":"SHALADARPAN!B483","v":"A"},{"$f":"SHALADARPAN!K483","v":1115},{"$f":"SHALADARPAN!E483","v":"Lokesh Saini"},{"$f":"SHALADARPAN!G483","v":"Kailash"}]
[{"$nulls":18},{"$f":"SHALADARPAN!A484","v":10},{"$f":"SHALADARPAN!B484","v":"A"},{"$f":"SHALADARPAN!K484","v":1116},{"$f":"SHALADARPAN!E484","v":"MANISH CHAUKIDAR"},{"$f":"SHALADARPAN!G484","v":"Kailash"}]
[{"$nulls":18},{"$f":"SHALADARPAN!A485","v":10},{"$f":"SHALADARPAN!B485","v":"A"},{"$f":"SHALADARPAN!K485","v":1117},{"$f":"SHALADARPAN!E485","v":"MANISH KUMAWAT"},{"$f":"SHALADARPAN!G485","v":"Kailash"}]
[{"$nulls":18},{"$f":"SHALADARPAN!A486","v":10},{"$f":"SHALADARPAN!B486","v":"A"},{"$f":"SHALADARPAN!K486","v":1118},{"$f":"SHALADARPAN!E486","v":"Manish Marotiya"},{"$f":"SHALADARPAN!G486","v":"Kailash"}]
[{"$nulls":18},{"$f":"SHALADARPAN!A487","v":10},{"$f":"SHALADARPAN!B487","v":"A"},{"$f":"SHALADARPAN!K487","v":1119},{"$f":"SHALADARPAN!E487","v":"MANJU DEVI"},{"$f":"SHALADARPAN!G487","v":"Kailash"}]
[{"$nulls":18},{"$f":"SHALADARPAN!A488","v":10},{"$f":"SHALADARPAN!B488","v":"A"},{"$f":"SHALADARPAN!K488","v":1120},{"$f":"SHALADARPAN!E488","v":"Manohar Nath"},{"$f":"SHALADARPAN!G488","v":"Kailash"}]
[{"$nulls":18},{"$f":"SHALADARPAN!A489","v":10},{"$f":"SHALADARPAN!B489","v":"A"},{"$f":"SHALADARPAN!K489","v":1121},{"$f":"SHALADARPAN!E489","v":"MANOJ SAINI"},{"$f":"SHALADARPAN!G489","v":"Kailash"}]
[{"$nulls":18},{"$f":"SHALADARPAN!A490","v":10},{"$f":"SHALADARPAN!B490","v":"A"},{"$f":"SHALADARPAN!K490","v":1122},{"$f":"SHALADARPAN!E490","v":"Mohammad Ismail"},{"$f":"SHALADARPAN!G490","v":"Kailash"}]
[{"$nulls":18},{"$f":"SHALADARPAN!A491","v":10},{"$f":"SHALADARPAN!B491","v":"A"},{"$f":"SHALADARPAN!K491","v":1123},{"$f":"SHALADARPAN!E491","v":"Monika Nath"},{"$f":"SHALADARPAN!G491","v":"Kailash"}]
[{"$nulls":18},{"$f":"SHALADARPAN!A492","v":10},{"$f":"SHALADARPAN!B492","v":"A"},{"$f":"SHALADARPAN!K492","v":1125},{"$f":"SHALADARPAN!E492","v":"NEETU"},{"$f":"SHALADARPAN!G492","v":"Kailash"}]
[{"$nulls":18},{"$f":"SHALADARPAN!A493","v":10},{"$f":"SHALADARPAN!B493","v":"A"},{"$f":"SHALADARPAN!K493","v":1126},{"$f":"SHALADARPAN!E493","v":"NOOR JAHAN"},{"$f":"SHALADARPAN!G493","v":"Kailash"}]
[{"$nulls":18},{"$f":"SHALADARPAN!A494","v":10},{"$f":"SHALADARPAN!B494","v":"A"},{"$f":"SHALADARPAN!K494","v":1127},{"$f":"SHALADARPAN!E494","v":"NOSAR DEVI"},{"$f":"SHALADARPAN!G494","v":"Kailash"}]
[{"$nulls":18},{"$f":"SHALADARPAN!A495","v":10},{"$f":"SHALADARPAN!B495","v":"A"},{"$f":"SHALADARPAN!K495","v":1128},{"$f":"SHALADARPAN!E495","v":"POOJA DEVI CHOKIDAR"},{"$f":"SHALADARPAN!G495","v":"Kailash"}]
[{"$nulls":18},{"$f":"SHALADARPAN!A496","v":10},{"$f":"SHALADARPAN!B496","v":"A"},{"$f":"SHALADARPAN!K496","v":1129},{"$f":"SHALADARPAN!E496","v":"POOJA KUMAWAT"},{"$f":"SHALADARPAN!G496","v":"Kailash"}]
[{"$nulls":18},{"$f":"SHALADARPAN!A497","v":10},{"$f":"SHALADARPAN!B497","v":"A"},{"$f":"SHALADARPAN!K497","v":1130},{"$f":"SHALADARPAN!E497","v":"POOJA RAIDAS"},{"$f":"SHALADARPAN!G497","v":"Kailash"}]
[{"$nulls":18},{"$f":"SHALADARPAN!A498","v":10},{"$f":"SHALADARPAN!B498","v":"A"},{"$f":"SHALADARPAN!K498","v":1131},{"$f":"SHALADARPAN!E498","v":"POOJA SAINI"},{"$f":"SHALADARPAN!G498","v":"Kailash"}]
[{"$nulls":18},{"$f":"SHALADARPAN!A499","v":10},{"$f":"SHALADARPAN!B499","v":"A"},{"$f":"SHALADARPAN!K499","v":1132},{"$f":"SHALADARPAN!E499","v":"PREM CHAND"},{"$f":"SHALADARPAN!G499","v":"Kailash"}]
[{"$nulls":18},{"$f":"SHALADARPAN!A500","v":10},{"$f":"SHALADARPAN!B500","v":"A"},{"$f":"SHALADARPAN!K500","v":1134},{"$f":"SHALADARPAN!E500","v":"RAJENDRA KUDI"},{"$f":"SHALADARPAN!G500","v":"Kailash"}]
[{"$nulls":18},{"$f":"SHALADARPAN!A501","v":10},{"$f":"SHALADARPAN!B501","v":"A"},{"$f":"SHALADARPAN!K501","v":1135},{"$f":"SHALADARPAN!E501","v":"Rakesh Dagdi"},{"$f":"SHALADARPAN!G501","v":"Kailash"}]
[{"$nulls":18},{"$f":"SHALADARPAN!A502","v":10},{"$f":"SHALADARPAN!B502","v":"A"},{"$f":"SHALADARPAN!K502","v":1136},{"$f":"SHALADARPAN!E502","v":"Ram Lal Kumawat"},{"$f":"SHALADARPAN!G502","v":"Kailash"}]
[{"$nulls":18},{"$f":"SHALADARPAN!A503","v":10},{"$f":"SHALADARPAN!B503","v":"A"},{"$f":"SHALADARPAN!K503","v":1137},{"$f":"SHALADARPAN!E503","v":"RAMESHCHAND KUMAWAT"},{"$f":"SHALADARPAN!G503","v":"Kailash"}]
[{"$nulls":18},{"$f":"SHALADARPAN!A504","v":10},{"$f":"SHALADARPAN!B504","v":"A"},{"$f":"SHALADARPAN!K504","v":1138},{"$f":"SHALADARPAN!E504","v":"RAMZAN"},{"$f":"SHALADARPAN!G504","v":"Kailash"}]
[{"$nulls":18},{"$f":"SHALADARPAN!A505","v":10},{"$f":"SHALADARPAN!B505","v":"A"},{"$f":"SHALADARPAN!K505","v":1139},{"$f":"SHALADARPAN!E505","v":"RENU PANWAR"},{"$f":"SHALADARPAN!G505","v":"Kailash"}]
[{"$nulls":18},{"$f":"SHALADARPAN!A506","v":10},{"$f":"SHALADARPAN!B506","v":"A"},{"$f":"SHALADARPAN!K506","v":1140},{"$f":"SHALADARPAN!E506","v":"SAJJAN KUMAWAT"},{"$f":"SHALADARPAN!G506","v":"Kailash"}]
[{"$nulls":18},{"$f":"SHALADARPAN!A507","v":10},{"$f":"SHALADARPAN!B507","v":"A"},{"$f":"SHALADARPAN!K507","v":1141},{"$f":"SHALADARPAN!E507","v":"SANJU DEVI"},{"$f":"SHALADARPAN!G507","v":"Kailash"}]
[{"$nulls":18},{"$f":"SHALADARPAN!A508","v":10},{"$f":"SHALADARPAN!B508","v":"A"},{"$f":"SHALADARPAN!K508","v":1143},{"$f":"SHALADARPAN!E508","v":"SUMAN SAINI"},{"$f":"SHALADARPAN!G508","v":"Kailash"}]
[{"$nulls":18},{"$f":"SHALADARPAN!A509","v":10},{"$f":"SHALADARPAN!B509","v":"A"},{"$f":"SHALADARPAN!K509","v":1144},{"$f":"SHALADARPAN!E509","v":"SUMIT NATH"},{"$f":"SHALADARPAN!G509","v":"Kailash"}]
[{"$nulls":18},{"$f":"SHALADARPAN!A510","v":10},{"$f":"SHALADARPAN!B510","v":"A"},{"$f":"SHALADARPAN!K510","v":1145},{"$f":"SHALADARPAN!E510","v":"Sunil Jat"},{"$f":"SHALADARPAN!G510","v":"Kailash"}]
[{"$nulls":18},{"$f":"SHALADARPAN!A511","v":10},{"$f":"SHALADARPAN!B511","v":"A"},{"$f":"SHALADARPAN!K511","v":1146},{"$f":"SHALADARPAN!E511","v":"Surendra Nath"},{"$f":"SHALADARPAN!G511","v":"Kailash"}]
[{"$nulls":18},{"$f":"SHALADARPAN!A512","v":10},{"$f":"SHALADARPAN!B512","v":"A"},{"$f":"SHALADARPAN!K512","v":1148},{"$f":"SHALADARPAN!E512","v":"SURMA MALI"},{"$f":"SHALADARPAN!G512","v":"Kailash"}]
[{"$nulls":18},{"$f":"SHALADARPAN!A513","v":10},{"$f":"SHALADARPAN!B513","v":"A"},{"$f":"SHALADARPAN!K513","v":1149},{"$f":"SHALADARPAN!E513","v":"SUSHIL NATH"},{"$f":"SHALADARPAN!G513","v":"Kailash"}]
[{"$nulls":18},{"$f":"SHALADARPAN!A514","v":10},{"$f":"SHALADARPAN!B514","v":"A"},{"$f":"SHALADARPAN!K514","v":1150},{"$f":"SHALADARPAN!E514","v":"Vikram Singh"},{"$f":"SHALADARPAN!G514","v":"Kailash"}]
[{"$nulls":18},{"$f":"SHALADARPAN!A515","v":10},{"$f":"SHALADARPAN!B515","v":"A"},{"$f":"SHALADARPAN!K515","v":1151},{"$f":"SHALADARPAN!E515","v":"VINOD ACHARYA"},{"$f":"SHALADARPAN!G515","v":"Kailash"}]
[{"$nulls":18},{"$f":"SHALADARPAN!A516","v":10},{"$f":"SHALADARPAN!B516","v":"A"},{"$f":"SHALADARPAN!K516","v":1152},{"$f":"SHALADARPAN!E516","v":"Yashoda Kanwar"},{"$f":"SHALADARPAN!G516","v":"Kailash"}]
[{"$nulls":18},{"$f":"SHALADARPAN!A517","v":10},{"$f":"SHALADARPAN!B517","v":"A"},{"$f":"SHALADARPAN!K517","v":1153},{"$f":"SHALADARPAN!E517","v":"YOGENDRA"},{"$f":"SHALADARPAN!G517","v":"Kailash"}]
[{"$nulls":18},{"$f":"SHALADARPAN!A518","v":10},{"$f":"SHALADARPAN!B518","v":"B"},{"$f":"SHALADARPAN!K518","v":1201},{"$f":"SHALADARPAN!E518","v":"ABDUL RAHMAN"},{"$f":"SHALADARPAN!G518","v":"Kailash"}]
[{"$nulls":18},{"$f":"SHALADARPAN!A519","v":10},{"$f":"SHALADARPAN!B519","v":"B"},{"$f":"SHALADARPAN!K519","v":1202},{"$f":"SHALADARPAN!E519","v":"ANIL GURJAR"},{"$f":"SHALADARPAN!G519","v":"Kailash"}]
[{"$nulls":18},{"$f":"SHALADARPAN!A520","v":10},{"$f":"SHALADARPAN!B520","v":"B"},{"$f":"SHALADARPAN!K520","v":1203},{"$f":"SHALADARPAN!E520","v":"Arti Saini"},{"$f":"SHALADARPAN!G520","v":"Kailash"}]
[{"$nulls":18},{"$f":"SHALADARPAN!A521","v":10},{"$f":"SHALADARPAN!B521","v":"B"},{"$f":"SHALADARPAN!K521","v":1204},{"$f":"SHALADARPAN!E521","v":"BHANU PRATAP SINGH"},{"$f":"SHALADARPAN!G521","v":"Kailash"}]
[{"$nulls":18},{"$f":"SHALADARPAN!A522","v":10},{"$f":"SHALADARPAN!B522","v":"B"},{"$f":"SHALADARPAN!K522","v":1205},{"$f":"SHALADARPAN!E522","v":"BISMILLAH"},{"$f":"SHALADARPAN!G522","v":"Kailash"}]
[{"$nulls":18},{"$f":"SHALADARPAN!A523","v":10},{"$f":"SHALADARPAN!B523","v":"B"},{"$f":"SHALADARPAN!K523","v":1206},{"$f":"SHALADARPAN!E523","v":"DILEEP"},{"$f":"SHALADARPAN!G523","v":"Kailash"}]
[{"$nulls":18},{"$f":"SHALADARPAN!A524","v":10},{"$f":"SHALADARPAN!B524","v":"B"},{"$f":"SHALADARPAN!K524","v":1207},{"$f":"SHALADARPAN!E524","v":"DIVYA ACHARYA"},{"$f":"SHALADARPAN!G524","v":"Kailash"}]
[{"$nulls":18},{"$f":"SHALADARPAN!A525","v":10},{"$f":"SHALADARPAN!B525","v":"B"},{"$f":"SHALADARPAN!K525","v":1208},{"$f":"SHALADARPAN!E525","v":"FIROJ KHAN"},{"$f":"SHALADARPAN!G525","v":"Kailash"}]
[{"$nulls":18},{"$f":"SHALADARPAN!A526","v":10},{"$f":"SHALADARPAN!B526","v":"B"},{"$f":"SHALADARPAN!K526","v":1209},{"$f":"SHALADARPAN!E526","v":"GANESH SINGODIYA"},{"$f":"SHALADARPAN!G526","v":"Kailash"}]
[{"$nulls":18},{"$f":"SHALADARPAN!A527","v":10},{"$f":"SHALADARPAN!B527","v":"B"},{"$f":"SHALADARPAN!K527","v":1210},{"$f":"SHALADARPAN!E527","v":"GEETA MEGHWAL"},{"$f":"SHALADARPAN!G527","v":"Kailash"}]
[{"$nulls":18},{"$f":"SHALADARPAN!A528","v":10},{"$f":"SHALADARPAN!B528","v":"B"},{"$f":"SHALADARPAN!K528","v":1211},{"$f":"SHALADARPAN!E528","v":"GOUTAM PRAJAPAT"},{"$f":"SHALADARPAN!G528","v":"Kailash"}]
[{"$nulls":18},{"$f":"SHALADARPAN!A529","v":10},{"$f":"SHALADARPAN!B529","v":"B"},{"$f":"SHALADARPAN!K529","v":1212},{"$f":"SHALADARPAN!E529","v":"GOVIND DARAK"},{"$f":"SHALADARPAN!G529","v":"Kailash"}]
[{"$nulls":18},{"$f":"SHALADARPAN!A530","v":10},{"$f":"SHALADARPAN!B530","v":"B"},{"$f":"SHALADARPAN!K530","v":1213},{"$f":"SHALADARPAN!E530","v":"Harshit Sharma"},{"$f":"SHALADARPAN!G530","v":"Kailash"}]
[{"$nulls":18},{"$f":"SHALADARPAN!A531","v":10},{"$f":"SHALADARPAN!B531","v":"B"},{"$f":"SHALADARPAN!K531","v":1214},{"$f":"SHALADARPAN!E531","v":"HEMLATA GURJAR"},{"$f":"SHALADARPAN!G531","v":"Kailash"}]
[{"$nulls":18},{"$f":"SHALADARPAN!A532","v":10},{"$f":"SHALADARPAN!B532","v":"B"},{"$f":"SHALADARPAN!K532","v":1215},{"$f":"SHALADARPAN!E532","v":"IBRAHIM"},{"$f":"SHALADARPAN!G532","v":"Kailash"}]
[{"$nulls":18},{"$f":"SHALADARPAN!A533","v":10},{"$f":"SHALADARPAN!B533","v":"B"},{"$f":"SHALADARPAN!K533","v":1216},{"$f":"SHALADARPAN!E533","v":"Jagriti"},{"$f":"SHALADARPAN!G533","v":"Kailash"}]
[{"$nulls":18},{"$f":"SHALADARPAN!A534","v":10},{"$f":"SHALADARPAN!B534","v":"B"},{"$f":"SHALADARPAN!K534","v":1217},{"$f":"SHALADARPAN!E534","v":"Jay Shree"},{"$f":"SHALADARPAN!G534","v":"Kailash"}]
[{"$nulls":18},{"$f":"SHALADARPAN!A535","v":10},{"$f":"SHALADARPAN!B535","v":"B"},{"$f":"SHALADARPAN!K535","v":1218},{"$f":"SHALADARPAN!E535","v":"JEEVRAJ"},{"$f":"SHALADARPAN!G535","v":"Kailash"}]
[{"$nulls":18},{"$f":"SHALADARPAN!A536","v":10},{"$f":"SHALADARPAN!B536","v":"B"},{"$f":"SHALADARPAN!K536","v":1219},{"$f":"SHALADARPAN!E536","v":"KHADIZA BANO"},{"$f":"SHALADARPAN!G536","v":"Kailash"}]
[{"$nulls":18},{"$f":"SHALADARPAN!A537","v":10},{"$f":"SHALADARPAN!B537","v":"B"},{"$f":"SHALADARPAN!K537","v":1220},{"$f":"SHALADARPAN!E537","v":"KHALIL SHAH"},{"$f":"SHALADARPAN!G537","v":"Kailash"}]
[{"$nulls":18},{"$f":"SHALADARPAN!A538","v":10},{"$f":"SHALADARPAN!B538","v":"B"},{"$f":"SHALADARPAN!K538","v":1221},{"$f":"SHALADARPAN!E538","v":"Khurshida Bano"},{"$f":"SHALADARPAN!G538","v":"Kailash"}]
[{"$nulls":18},{"$f":"SHALADARPAN!A539","v":10},{"$f":"SHALADARPAN!B539","v":"B"},{"$f":"SHALADARPAN!K539","v":1222},{"$f":"SHALADARPAN!E539","v":"Khushab Vaishnav"},{"$f":"SHALADARPAN!G539","v":"Kailash"}]
[{"$nulls":18},{"$f":"SHALADARPAN!A540","v":10},{"$f":"SHALADARPAN!B540","v":"B"},{"$f":"SHALADARPAN!K540","v":1223},{"$f":"SHALADARPAN!E540","v":"KOMAL KANWAR"},{"$f":"SHALADARPAN!G540","v":"Kailash"}]
[{"$nulls":18},{"$f":"SHALADARPAN!A541","v":10},{"$f":"SHALADARPAN!B541","v":"B"},{"$f":"SHALADARPAN!K541","v":1224},{"$f":"SHALADARPAN!E541","v":"Lokesh Saini"},{"$f":"SHALADARPAN!G541","v":"Kailash"}]
[{"$nulls":18},{"$f":"SHALADARPAN!A542","v":10},{"$f":"SHALADARPAN!B542","v":"B"},{"$f":"SHALADARPAN!K542","v":1225},{"$f":"SHALADARPAN!E542","v":"Mahendra Gurjar"},{"$f":"SHALADARPAN!G542","v":"Kailash"}]
[{"$nulls":18},{"$f":"SHALADARPAN!A543","v":10},{"$f":"SHALADARPAN!B543","v":"B"},{"$f":"SHALADARPAN!K543","v":1226},{"$f":"SHALADARPAN!E543","v":"MAHENDRA KUMAWAT"},{"$f":"SHALADARPAN!G543","v":"Kailash"}]
[{"$nulls":18},{"$f":"SHALADARPAN!A544","v":10},{"$f":"SHALADARPAN!B544","v":"B"},{"$f":"SHALADARPAN!K544","v":1227},{"$f":"SHALADARPAN!E544","v":"MO.GULFAM"},{"$f":"SHALADARPAN!G544","v":"Kailash"}]
[{"$nulls":18},{"$f":"SHALADARPAN!A545","v":10},{"$f":"SHALADARPAN!B545","v":"B"},{"$f":"SHALADARPAN!K545","v":1228},{"$f":"SHALADARPAN!E545","v":"MUKESH"},{"$f":"SHALADARPAN!G545","v":"Kailash"}]
[{"$nulls":18},{"$f":"SHALADARPAN!A546","v":10},{"$f":"SHALADARPAN!B546","v":"B"},{"$f":"SHALADARPAN!K546","v":1229},{"$f":"SHALADARPAN!E546","v":"MUKESH SHARMA"},{"$f":"SHALADARPAN!G546","v":"Kailash"}]
[{"$nulls":18},{"$f":"SHALADARPAN!A547","v":10},{"$f":"SHALADARPAN!B547","v":"B"},{"$f":"SHALADARPAN!K547","v":1230},{"$f":"SHALADARPAN!E547","v":"MUSKAN"},{"$f":"SHALADARPAN!G547","v":"Kailash"}]
[{"$nulls":18},{"$f":"SHALADARPAN!A548","v":10},{"$f":"SHALADARPAN!B548","v":"B"},{"$f":"SHALADARPAN!K548","v":1231},{"$f":"SHALADARPAN!E548","v":"MUSKAN BANOO"},{"$f":"SHALADARPAN!G548","v":"Kailash"}]
[{"$nulls":18},{"$f":"SHALADARPAN!A549","v":10},{"$f":"SHALADARPAN!B549","v":"B"},{"$f":"SHALADARPAN!K549","v":1232},{"$f":"SHALADARPAN!E549","v":"Naitik Sharma"},{"$f":"SHALADARPAN!G549","v":"Kailash"}]
[{"$nulls":18},{"$f":"SHALADARPAN!A550","v":10},{"$f":"SHALADARPAN!B550","v":"B"},{"$f":"SHALADARPAN!K550","v":1233},{"$f":"SHALADARPAN!E550","v":"Nikita Jhala"},{"$f":"SHALADARPAN!G550","v":"Kailash"}]
[{"$nulls":18},{"$f":"SHALADARPAN!A551","v":10},{"$f":"SHALADARPAN!B551","v":"B"},{"$f":"SHALADARPAN!K551","v":1234},{"$f":"SHALADARPAN!E551","v":"NIRMALA RAIDAS"},{"$f":"SHALADARPAN!G551","v":"Kailash"}]
[{"$nulls":18},{"$f":"SHALADARPAN!A552","v":10},{"$f":"SHALADARPAN!B552","v":"B"},{"$f":"SHALADARPAN!K552","v":1235},{"$f":"SHALADARPAN!E552","v":"NIRMALA SOLANKI"},{"$f":"SHALADARPAN!G552","v":"Kailash"}]
[{"$nulls":18},{"$f":"SHALADARPAN!A553","v":10},{"$f":"SHALADARPAN!B553","v":"B"},{"$f":"SHALADARPAN!K553","v":1236},{"$f":"SHALADARPAN!E553","v":"PALAK JANGID"},{"$f":"SHALADARPAN!G553","v":"Kailash"}]
[{"$nulls":18},{"$f":"SHALADARPAN!A554","v":10},{"$f":"SHALADARPAN!B554","v":"B"},{"$f":"SHALADARPAN!K554","v":1237},{"$f":"SHALADARPAN!E554","v":"PAREENA BANOO"},{"$f":"SHALADARPAN!G554","v":"Kailash"}]
[{"$nulls":18},{"$f":"SHALADARPAN!A555","v":10},{"$f":"SHALADARPAN!B555","v":"B"},{"$f":"SHALADARPAN!K555","v":1238},{"$f":"SHALADARPAN!E555","v":"Pawan Singh"},{"$f":"SHALADARPAN!G555","v":"Kailash"}]
[{"$nulls":18},{"$f":"SHALADARPAN!A556","v":10},{"$f":"SHALADARPAN!B556","v":"B"},{"$f":"SHALADARPAN!K556","v":1239},{"$f":"SHALADARPAN!E556","v":"Pooja Kanwar"},{"$f":"SHALADARPAN!G556","v":"Kailash"}]
[{"$nulls":18},{"$f":"SHALADARPAN!A557","v":10},{"$f":"SHALADARPAN!B557","v":"B"},{"$f":"SHALADARPAN!K557","v":1240},{"$f":"SHALADARPAN!E557","v":"PRIYANKA SAIN"},{"$f":"SHALADARPAN!G557","v":"Kailash"}]
[{"$nulls":18},{"$f":"SHALADARPAN!A558","v":10},{"$f":"SHALADARPAN!B558","v":"B"},{"$f":"SHALADARPAN!K558","v":1241},{"$f":"SHALADARPAN!E558","v":"Radhika Saini"},{"$f":"SHALADARPAN!G558","v":"Kailash"}]
[{"$nulls":18},{"$f":"SHALADARPAN!A559","v":10},{"$f":"SHALADARPAN!B559","v":"B"},{"$f":"SHALADARPAN!K559","v":1242},{"$f":"SHALADARPAN!E559","v":"RANI SHARMA"},{"$f":"SHALADARPAN!G559","v":"Kailash"}]
[{"$nulls":18},{"$f":"SHALADARPAN!A560","v":10},{"$f":"SHALADARPAN!B560","v":"B"},{"$f":"SHALADARPAN!K560","v":1243},{"$f":"SHALADARPAN!E560","v":"RESHMA BANU"},{"$f":"SHALADARPAN!G560","v":"Kailash"}]
[{"$nulls":18},{"$f":"SHALADARPAN!A561","v":10},{"$f":"SHALADARPAN!B561","v":"B"},{"$f":"SHALADARPAN!K561","v":1244},{"$f":"SHALADARPAN!E561","v":"RIYANA BANU"},{"$f":"SHALADARPAN!G561","v":"Kailash"}]
[{"$nulls":18},{"$f":"SHALADARPAN!A562","v":10},{"$f":"SHALADARPAN!B562","v":"B"},{"$f":"SHALADARPAN!K562","v":1245},{"$f":"SHALADARPAN!E562","v":"RUKHSANA BANOO"},{"$f":"SHALADARPAN!G562","v":"Kailash"}]
[{"$nulls":18},{"$f":"SHALADARPAN!A563","v":10},{"$f":"SHALADARPAN!B563","v":"B"},{"$f":"SHALADARPAN!K563","v":1246},{"$f":"SHALADARPAN!E563","v":"SAKEENA"},{"$f":"SHALADARPAN!G563","v":"Kailash"}]
[{"$nulls":18},{"$f":"SHALADARPAN!A564","v":10},{"$f":"SHALADARPAN!B564","v":"B"},{"$f":"SHALADARPAN!K564","v":1247},{"$f":"SHALADARPAN!E564","v":"SAROJ"},{"$f":"SHALADARPAN!G564","v":"Kailash"}]
[{"$nulls":18},{"$f":"SHALADARPAN!A565","v":10},{"$f":"SHALADARPAN!B565","v":"B"},{"$f":"SHALADARPAN!K565","v":1248},{"$f":"SHALADARPAN!E565","v":"SEEMA MACHARA"},{"$f":"SHALADARPAN!G565","v":"Kailash"}]
[{"$nulls":18},{"$f":"SHALADARPAN!A566","v":10},{"$f":"SHALADARPAN!B566","v":"B"},{"$f":"SHALADARPAN!K566","v":1249},{"$f":"SHALADARPAN!E566","v":"SEEMA MEGHWAL"},{"$f":"SHALADARPAN!G566","v":"Kailash"}]
[{"$nulls":18},{"$f":"SHALADARPAN!A567","v":10},{"$f":"SHALADARPAN!B567","v":"B"},{"$f":"SHALADARPAN!K567","v":1250},{"$f":"SHALADARPAN!E567","v":"SEEMA SAINI"},{"$f":"SHALADARPAN!G567","v":"Kailash"}]
[{"$nulls":18},{"$f":"SHALADARPAN!A568","v":10},{"$f":"SHALADARPAN!B568","v":"B"},{"$f":"SHALADARPAN!K568","v":1251},{"$f":"SHALADARPAN!E568","v":"Soniya Mali"},{"$f":"SHALADARPAN!G568","v":"Kailash"}]
[{"$nulls":18},{"$f":"SHALADARPAN!A569","v":10},{"$f":"SHALADARPAN!B569","v":"B"},{"$f":"SHALADARPAN!K569","v":1252},{"$f":"SHALADARPAN!E569","v":"SUMAN DEVI"},{"$f":"SHALADARPAN!G569","v":"Kailash"}]
[{"$nulls":18},{"$f":"SHALADARPAN!A570","v":10},{"$f":"SHALADARPAN!B570","v":"B"},{"$f":"SHALADARPAN!K570","v":1253},{"$f":"SHALADARPAN!E570","v":"TINA GURJAR"},{"$f":"SHALADARPAN!G570","v":"Kailash"}]
[{"$nulls":18},{"$f":"SHALADARPAN!A571","v":10},{"$f":"SHALADARPAN!B571","v":"B"},{"$f":"SHALADARPAN!K571","v":1254},{"$f":"SHALADARPAN!E571","v":"Umesh Nath"},{"$f":"SHALADARPAN!G571","v":"Kailash"}]
[{"$nulls":18},{"$f":"SHALADARPAN!A572","v":10},{"$f":"SHALADARPAN!B572","v":"B"},{"$f":"SHALADARPAN!K572","v":1255},{"$f":"SHALADARPAN!E572","v":"VIJAY RAJ KUMAWAT"},{"$f":"SHALADARPAN!G572","v":"Kailash"}]
[{"$nulls":18},{"$f":"SHALADARPAN!A573","v":10},{"$f":"SHALADARPAN!B573","v":"B"},{"$f":"SHALADARPAN!K573","v":1256},{"$f":"SHALADARPAN!E573","v":"YOGESH KUMAWAT"},{"$f":"SHALADARPAN!G573","v":"Kailash"}]
[{"$nulls":18},{"$f":"SHALADARPAN!A574","v":11},{"$f":"SHALADARPAN!B574","v":"A"},{"$f":"SHALADARPAN!K574","v":1301},{"$f":"SHALADARPAN!E574","v":"Aadil Husen"},{"$f":"SHALADARPAN!G574","v":"Kailash"}]
[{"$nulls":18},{"$f":"SHALADARPAN!A575","v":11},{"$f":"SHALADARPAN!B575","v":"A"},{"$f":"SHALADARPAN!K575","v":1302},{"$f":"SHALADARPAN!E575","v":"ABHISHEK"},{"$f":"SHALADARPAN!G575","v":"Kailash"}]
[{"$nulls":18},{"$f":"SHALADARPAN!A576","v":11},{"$f":"SHALADARPAN!B576","v":"A"},{"$f":"SHALADARPAN!K576","v":1303},{"$f":"SHALADARPAN!E576","v":"ADIL AHMAD"},{"$f":"SHALADARPAN!G576","v":"Kailash"}]
[{"$nulls":18},{"$f":"SHALADARPAN!A577","v":11},{"$f":"SHALADARPAN!B577","v":"A"},{"$f":"SHALADARPAN!K577","v":1304},{"$f":"SHALADARPAN!E577","v":"Afsar Alam"},{"$f":"SHALADARPAN!G577","v":"Kailash"}]
[{"$nulls":18},{"$f":"SHALADARPAN!A578","v":11},{"$f":"SHALADARPAN!B578","v":"A"},{"$f":"SHALADARPAN!K578","v":1305},{"$f":"SHALADARPAN!E578","v":"Ameen"},{"$f":"SHALADARPAN!G578","v":"Kailash"}]
[{"$nulls":18},{"$f":"SHALADARPAN!A579","v":11},{"$f":"SHALADARPAN!B579","v":"A"},{"$f":"SHALADARPAN!K579","v":1306},{"$f":"SHALADARPAN!E579","v":"ANAND SINGH"},{"$f":"SHALADARPAN!G579","v":"Kailash"}]
[{"$nulls":18},{"$f":"SHALADARPAN!A580","v":11},{"$f":"SHALADARPAN!B580","v":"A"},{"$f":"SHALADARPAN!K580","v":1307},{"$f":"SHALADARPAN!E580","v":"ANITA"},{"$f":"SHALADARPAN!G580","v":"Kailash"}]
[{"$nulls":18},{"$f":"SHALADARPAN!A581","v":11},{"$f":"SHALADARPAN!B581","v":"A"},{"$f":"SHALADARPAN!K581","v":1308},{"$f":"SHALADARPAN!E581","v":"ANITA DEVI"},{"$f":"SHALADARPAN!G581","v":"Kailash"}]
[{"$nulls":18},{"$f":"SHALADARPAN!A582","v":11},{"$f":"SHALADARPAN!B582","v":"A"},{"$f":"SHALADARPAN!K582","v":1309},{"$f":"SHALADARPAN!E582","v":"ANJALI SUWASIYA"},{"$f":"SHALADARPAN!G582","v":"Kailash"}]
[{"$nulls":18},{"$f":"SHALADARPAN!A583","v":11},{"$f":"SHALADARPAN!B583","v":"A"},{"$f":"SHALADARPAN!K583","v":1310},{"$f":"SHALADARPAN!E583","v":"ANKIT"},{"$f":"SHALADARPAN!G583","v":"Kailash"}]
[{"$nulls":18},{"$f":"SHALADARPAN!A584","v":11},{"$f":"SHALADARPAN!B584","v":"A"},{"$f":"SHALADARPAN!K584","v":1311},{"$f":"SHALADARPAN!E584","v":"ANKITA SHARMA"},{"$f":"SHALADARPAN!G584","v":"Kailash"}]
[{"$nulls":18},{"$f":"SHALADARPAN!A585","v":11},{"$f":"SHALADARPAN!B585","v":"A"},{"$f":"SHALADARPAN!K585","v":1312},{"$f":"SHALADARPAN!E585","v":"ANKU DEVI"},{"$f":"SHALADARPAN!G585","v":"Kailash"}]
[{"$nulls":18},{"$f":"SHALADARPAN!A586","v":11},{"$f":"SHALADARPAN!B586","v":"A"},{"$f":"SHALADARPAN!K586","v":1313},{"$f":"SHALADARPAN!E586","v":"Annu"},{"$f":"SHALADARPAN!G586","v":"Kailash"}]
[{"$nulls":18},{"$f":"SHALADARPAN!A587","v":11},{"$f":"SHALADARPAN!B587","v":"A"},{"$f":"SHALADARPAN!K587","v":1314},{"$f":"SHALADARPAN!E587","v":"Ashok Kumawat"},{"$f":"SHALADARPAN!G587","v":"Kailash"}]
[{"$nulls":18},{"$f":"SHALADARPAN!A588","v":11},{"$f":"SHALADARPAN!B588","v":"A"},{"$f":"SHALADARPAN!K588","v":1316},{"$f":"SHALADARPAN!E588","v":"BANWARI NATH"},{"$f":"SHALADARPAN!G588","v":"Kailash"}]
[{"$nulls":18},{"$f":"SHALADARPAN!A589","v":11},{"$f":"SHALADARPAN!B589","v":"A"},{"$f":"SHALADARPAN!K589","v":1317},{"$f":"SHALADARPAN!E589","v":"BHARAT MEGHWAL"},{"$f":"SHALADARPAN!G589","v":"Kailash"}]
[{"$nulls":18},{"$f":"SHALADARPAN!A590","v":11},{"$f":"SHALADARPAN!B590","v":"A"},{"$f":"SHALADARPAN!K590","v":1318},{"$f":"SHALADARPAN!E590","v":"Bismilla Banu"},{"$f":"SHALADARPAN!G590","v":"Kailash"}]
[{"$nulls":18},{"$f":"SHALADARPAN!A591","v":11},{"$f":"SHALADARPAN!B591","v":"A"},{"$f":"SHALADARPAN!K591","v":1320},{"$f":"SHALADARPAN!E591","v":"Chena Ram"},{"$f":"SHALADARPAN!G591","v":"Kailash"}]
[{"$nulls":18},{"$f":"SHALADARPAN!A592","v":11},{"$f":"SHALADARPAN!B592","v":"A"},{"$f":"SHALADARPAN!K592","v":1321},{"$f":"SHALADARPAN!E592","v":"CHETAN SOLANKI"},{"$f":"SHALADARPAN!G592","v":"Kailash"}]
[{"$nulls":18},{"$f":"SHALADARPAN!A593","v":11},{"$f":"SHALADARPAN!B593","v":"A"},{"$f":"SHALADARPAN!K593","v":1322},{"$f":"SHALADARPAN!E593","v":"DASHARATH KUMAWAT"},{"$f":"SHALADARPAN!G593","v":"Kailash"}]
[{"$nulls":18},{"$f":"SHALADARPAN!A594","v":11},{"$f":"SHALADARPAN!B594","v":"A"},{"$f":"SHALADARPAN!K594","v":1324},{"$f":"SHALADARPAN!E594","v":"DEVRAJ"},{"$f":"SHALADARPAN!G594","v":"Kailash"}]
[{"$nulls":18},{"$f":"SHALADARPAN!A595","v":11},{"$f":"SHALADARPAN!B595","v":"A"},{"$f":"SHALADARPAN!K595","v":1325},{"$f":"SHALADARPAN!E595","v":"DILEEP SINGH"},{"$f":"SHALADARPAN!G595","v":"Kailash"}]
[{"$nulls":18},{"$f":"SHALADARPAN!A596","v":11},{"$f":"SHALADARPAN!B596","v":"A"},{"$f":"SHALADARPAN!K596","v":1327},{"$f":"SHALADARPAN!E596","v":"Dinesh Choudhary"},{"$f":"SHALADARPAN!G596","v":"Kailash"}]
[{"$nulls":18},{"$f":"SHALADARPAN!A597","v":11},{"$f":"SHALADARPAN!B597","v":"A"},{"$f":"SHALADARPAN!K597","v":1328},{"$f":"SHALADARPAN!E597","v":"DINESH PANWAR"},{"$f":"SHALADARPAN!G597","v":"Kailash"}]
[{"$nulls":18},{"$f":"SHALADARPAN!A598","v":11},{"$f":"SHALADARPAN!B598","v":"A"},{"$f":"SHALADARPAN!K598","v":1331},{"$f":"SHALADARPAN!E598","v":"GUNGUN KANWAR"},{"$f":"SHALADARPAN!G598","v":"Kailash"}]
[{"$nulls":18},{"$f":"SHALADARPAN!A599","v":11},{"$f":"SHALADARPAN!B599","v":"A"},{"$f":"SHALADARPAN!K599","v":1332},{"$f":"SHALADARPAN!E599","v":"HARI RAM PRAJAPAT"},{"$f":"SHALADARPAN!G599","v":"Kailash"}]
[{"$nulls":18},{"$f":"SHALADARPAN!A600","v":11},{"$f":"SHALADARPAN!B600","v":"A"},{"$f":"SHALADARPAN!K600","v":1333},{"$f":"SHALADARPAN!E600","v":"JAISHRI"},{"$f":"SHALADARPAN!G600","v":"Kailash"}]
[{"$nulls":18},{"$f":"SHALADARPAN!A601","v":11},{"$f":"SHALADARPAN!B601","v":"A"},{"$f":"SHALADARPAN!K601","v":1334},{"$f":"SHALADARPAN!E601","v":"JITENDRA SINGH"},{"$f":"SHALADARPAN!G601","v":"Kailash"}]
[{"$nulls":18},{"$f":"SHALADARPAN!A602","v":11},{"$f":"SHALADARPAN!B602","v":"A"},{"$f":"SHALADARPAN!K602","v":1336},{"$f":"SHALADARPAN!E602","v":"KALIM KURESHI"},{"$f":"SHALADARPAN!G602","v":"Kailash"}]
[{"$nulls":18},{"$f":"SHALADARPAN!A603","v":11},{"$f":"SHALADARPAN!B603","v":"A"},{"$f":"SHALADARPAN!K603","v":1341},{"$f":"SHALADARPAN!E603","v":"KIRAN DEVI"},{"$f":"SHALADARPAN!G603","v":"Kailash"}]
[{"$nulls":18},{"$f":"SHALADARPAN!A604","v":11},{"$f":"SHALADARPAN!B604","v":"A"},{"$f":"SHALADARPAN!K604","v":1342},{"$f":"SHALADARPAN!E604","v":"KISHAN SINGODIYA"},{"$f":"SHALADARPAN!G604","v":"Kailash"}]
[{"$nulls":18},{"$f":"SHALADARPAN!A605","v":11},{"$f":"SHALADARPAN!B605","v":"A"},{"$f":"SHALADARPAN!K605","v":1343},{"$f":"SHALADARPAN!E605","v":"Lal Chand"},{"$f":"SHALADARPAN!G605","v":"Kailash"}]
[{"$nulls":18},{"$f":"SHALADARPAN!A606","v":11},{"$f":"SHALADARPAN!B606","v":"A"},{"$f":"SHALADARPAN!K606","v":1344},{"$f":"SHALADARPAN!E606","v":"LAXMI DEVI"},{"$f":"SHALADARPAN!G606","v":"Kailash"}]
[{"$nulls":18},{"$f":"SHALADARPAN!A607","v":11},{"$f":"SHALADARPAN!B607","v":"A"},{"$f":"SHALADARPAN!K607","v":1345},{"$f":"SHALADARPAN!E607","v":"MADHURI"},{"$f":"SHALADARPAN!G607","v":"Kailash"}]
[{"$nulls":18},{"$f":"SHALADARPAN!A608","v":11},{"$f":"SHALADARPAN!B608","v":"A"},{"$f":"SHALADARPAN!K608","v":1346},{"$f":"SHALADARPAN!E608","v":"MAHADEV MALI"},{"$f":"SHALADARPAN!G608","v":"Kailash"}]
[{"$nulls":18},{"$f":"SHALADARPAN!A609","v":11},{"$f":"SHALADARPAN!B609","v":"A"},{"$f":"SHALADARPAN!K609","v":1348},{"$f":"SHALADARPAN!E609","v":"Mamta Vaishnav"},{"$f":"SHALADARPAN!G609","v":"Kailash"}]
[{"$nulls":18},{"$f":"SHALADARPAN!A610","v":11},{"$f":"SHALADARPAN!B610","v":"A"},{"$f":"SHALADARPAN!K610","v":1349},{"$f":"SHALADARPAN!E610","v":"MANISH"},{"$f":"SHALADARPAN!G610","v":"Kailash"}]
[{"$nulls":18},{"$f":"SHALADARPAN!A611","v":11},{"$f":"SHALADARPAN!B611","v":"A"},{"$f":"SHALADARPAN!K611","v":1350},{"$f":"SHALADARPAN!E611","v":"Manisha"},{"$f":"SHALADARPAN!G611","v":"Kailash"}]
[{"$nulls":18},{"$f":"SHALADARPAN!A612","v":11},{"$f":"SHALADARPAN!B612","v":"A"},{"$f":"SHALADARPAN!K612","v":1351},{"$f":"SHALADARPAN!E612","v":"Manisha"},{"$f":"SHALADARPAN!G612","v":"Kailash"}]
[{"$nulls":18},{"$f":"SHALADARPAN!A613","v":11},{"$f":"SHALADARPAN!B613","v":"A"},{"$f":"SHALADARPAN!K613","v":1352},{"$f":"SHALADARPAN!E613","v":"MAYA GURJAR"},{"$f":"SHALADARPAN!G613","v":"Kailash"}]
[{"$nulls":18},{"$f":"SHALADARPAN!A614","v":11},{"$f":"SHALADARPAN!B614","v":"A"},{"$f":"SHALADARPAN!K614","v":1353},{"$f":"SHALADARPAN!E614","v":"MEENU DEVI"},{"$f":"SHALADARPAN!G614","v":"Kailash"}]
[{"$nulls":18},{"$f":"SHALADARPAN!A615","v":11},{"$f":"SHALADARPAN!B615","v":"A"},{"$f":"SHALADARPAN!K615","v":1354},{"$f":"SHALADARPAN!E615","v":"MOHAMMAD ARSHAD"},{"$f":"SHALADARPAN!G615","v":"Kailash"}]
[{"$nulls":18},{"$f":"SHALADARPAN!A616","v":11},{"$f":"SHALADARPAN!B616","v":"A"},{"$f":"SHALADARPAN!K616","v":1355},{"$f":"SHALADARPAN!E616","v":"MOHAMMAD KAIF"},{"$f":"SHALADARPAN!G616","v":"Kailash"}]
[{"$nulls":18},{"$f":"SHALADARPAN!A617","v":11},{"$f":"SHALADARPAN!B617","v":"A"},{"$f":"SHALADARPAN!K617","v":1357},{"$f":"SHALADARPAN!E617","v":"MONIKA"},{"$f":"SHALADARPAN!G617","v":"Kailash"}]
[{"$nulls":18},{"$f":"SHALADARPAN!A618","v":11},{"$f":"SHALADARPAN!B618","v":"A"},{"$f":"SHALADARPAN!K618","v":1358},{"$f":"SHALADARPAN!E618","v":"MONIKA SHARMA"},{"$f":"SHALADARPAN!G618","v":"Kailash"}]
[{"$nulls":18},{"$f":"SHALADARPAN!A619","v":11},{"$f":"SHALADARPAN!B619","v":"A"},{"$f":"SHALADARPAN!K619","v":1360},{"$f":"SHALADARPAN!E619","v":"MUKESH KUMAWAT"},{"$f":"SHALADARPAN!G619","v":"Kailash"}]
[{"$nulls":18},{"$f":"SHALADARPAN!A620","v":11},{"$f":"SHALADARPAN!B620","v":"A"},{"$f":"SHALADARPAN!K620","v":1361},{"$f":"SHALADARPAN!E620","v":"MUSKAN"},{"$f":"SHALADARPAN!G620","v":"Kailash"}]
[{"$nulls":18},{"$f":"SHALADARPAN!A621","v":11},{"$f":"SHALADARPAN!B621","v":"A"},{"$f":"SHALADARPAN!K621","v":1363},{"$f":"SHALADARPAN!E621","v":"NEETU"},{"$f":"SHALADARPAN!G621","v":"Kailash"}]
[{"$nulls":18},{"$f":"SHALADARPAN!A622","v":11},{"$f":"SHALADARPAN!B622","v":"A"},{"$f":"SHALADARPAN!K622","v":1365},{"$f":"SHALADARPAN!E622","v":"Nikita"},{"$f":"SHALADARPAN!G622","v":"Kailash"}]
[{"$nulls":18},{"$f":"SHALADARPAN!A623","v":11},{"$f":"SHALADARPAN!B623","v":"A"},{"$f":"SHALADARPAN!K623","v":1366},{"$f":"SHALADARPAN!E623","v":"NIRMA"},{"$f":"SHALADARPAN!G623","v":"Kailash"}]
[{"$nulls":18},{"$f":"SHALADARPAN!A624","v":11},{"$f":"SHALADARPAN!B624","v":"A"},{"$f":"SHALADARPAN!K624","v":1367},{"$f":"SHALADARPAN!E624","v":"NITIN SHRINATH"},{"$f":"SHALADARPAN!G624","v":"Kailash"}]
[{"$nulls":18},{"$f":"SHALADARPAN!A625","v":11},{"$f":"SHALADARPAN!B625","v":"A"},{"$f":"SHALADARPAN!K625","v":1368},{"$f":"SHALADARPAN!E625","v":"OM NATH"},{"$f":"SHALADARPAN!G625","v":"Kailash"}]
[{"$nulls":18},{"$f":"SHALADARPAN!A626","v":11},{"$f":"SHALADARPAN!B626","v":"A"},{"$f":"SHALADARPAN!K626","v":1369},{"$f":"SHALADARPAN!E626","v":"OM PRAKASH"},{"$f":"SHALADARPAN!G626","v":"Kailash"}]
[{"$nulls":18},{"$f":"SHALADARPAN!A627","v":11},{"$f":"SHALADARPAN!B627","v":"A"},{"$f":"SHALADARPAN!K627","v":1371},{"$f":"SHALADARPAN!E627","v":"PAREENA"},{"$f":"SHALADARPAN!G627","v":"Kailash"}]
[{"$nulls":18},{"$f":"SHALADARPAN!A628","v":11},{"$f":"SHALADARPAN!B628","v":"A"},{"$f":"SHALADARPAN!K628","v":1372},{"$f":"SHALADARPAN!E628","v":"Pawan Puri"},{"$f":"SHALADARPAN!G628","v":"Kailash"}]
[{"$nulls":18},{"$f":"SHALADARPAN!A629","v":11},{"$f":"SHALADARPAN!B629","v":"A"},{"$f":"SHALADARPAN!K629","v":1373},{"$f":"SHALADARPAN!E629","v":"POOJA JANGID"},{"$f":"SHALADARPAN!G629","v":"Kailash"}]
[{"$nulls":18},{"$f":"SHALADARPAN!A630","v":11},{"$f":"SHALADARPAN!B630","v":"A"},{"$f":"SHALADARPAN!K630","v":1374},{"$f":"SHALADARPAN!E630","v":"POOJA KACHCHHAWA"},{"$f":"SHALADARPAN!G630","v":"Kailash"}]
[{"$nulls":18},{"$f":"SHALADARPAN!A631","v":11},{"$f":"SHALADARPAN!B631","v":"A"},{"$f":"SHALADARPAN!K631","v":1376},{"$f":"SHALADARPAN!E631","v":"POONAM CHAND SAINI"},{"$f":"SHALADARPAN!G631","v":"Kailash"}]
[{"$nulls":18},{"$f":"SHALADARPAN!A632","v":11},{"$f":"SHALADARPAN!B632","v":"A"},{"$f":"SHALADARPAN!K632","v":1378},{"$f":"SHALADARPAN!E632","v":"PRERNA SHARMA"},{"$f":"SHALADARPAN!G632","v":"Kailash"}]
[{"$nulls":18},{"$f":"SHALADARPAN!A633","v":11},{"$f":"SHALADARPAN!B633","v":"A"},{"$f":"SHALADARPAN!K633","v":1379},{"$f":"SHALADARPAN!E633","v":"Priyanka Chawda"},{"$f":"SHALADARPAN!G633","v":"Kailash"}]
[{"$nulls":18},{"$f":"SHALADARPAN!A634","v":11},{"$f":"SHALADARPAN!B634","v":"A"},{"$f":"SHALADARPAN!K634","v":1380},{"$f":"SHALADARPAN!E634","v":"PRIYANKA DEVI"},{"$f":"SHALADARPAN!G634","v":"Kailash"}]
[{"$nulls":18},{"$f":"SHALADARPAN!A635","v":11},{"$f":"SHALADARPAN!B635","v":"A"},{"$f":"SHALADARPAN!K635","v":1385},{"$f":"SHALADARPAN!E635","v":"RAKESH KACHCHHAVA"},{"$f":"SHALADARPAN!G635","v":"Kailash"}]
[{"$nulls":18},{"$f":"SHALADARPAN!A636","v":11},{"$f":"SHALADARPAN!B636","v":"A"},{"$f":"SHALADARPAN!K636","v":1386},{"$f":"SHALADARPAN!E636","v":"RAM AVTAR SAINI"},{"$f":"SHALADARPAN!G636","v":"Kailash"}]
[{"$nulls":18},{"$f":"SHALADARPAN!A637","v":11},{"$f":"SHALADARPAN!B637","v":"A"},{"$f":"SHALADARPAN!K637","v":1387},{"$f":"SHALADARPAN!E637","v":"RAMJANA BANOO"},{"$f":"SHALADARPAN!G637","v":"Kailash"}]
[{"$nulls":18},{"$f":"SHALADARPAN!A638","v":11},{"$f":"SHALADARPAN!B638","v":"A"},{"$f":"SHALADARPAN!K638","v":1389},{"$f":"SHALADARPAN!E638","v":"RAMNIWAS KUMAWAT"},{"$f":"SHALADARPAN!G638","v":"Kailash"}]
[{"$nulls":18},{"$f":"SHALADARPAN!A639","v":11},{"$f":"SHALADARPAN!B639","v":"A"},{"$f":"SHALADARPAN!K639","v":1390},{"$f":"SHALADARPAN!E639","v":"RAVI KUMAR ACHARYA"},{"$f":"SHALADARPAN!G639","v":"Kailash"}]
[{"$nulls":18},{"$f":"SHALADARPAN!A640","v":11},{"$f":"SHALADARPAN!B640","v":"A"},{"$f":"SHALADARPAN!K640","v":1392},{"$f":"SHALADARPAN!E640","v":"RAVINDRA SINGH"},{"$f":"SHALADARPAN!G640","v":"Kailash"}]
[{"$nulls":18},{"$f":"SHALADARPAN!A641","v":11},{"$f":"SHALADARPAN!B641","v":"A"},{"$f":"SHALADARPAN!K641","v":1391},{"$f":"SHALADARPAN!E641","v":"RAVINDRA SINGH"},{"$f":"SHALADARPAN!G641","v":"Kailash"}]
[{"$nulls":18},{"$f":"SHALADARPAN!A642","v":11},{"$f":"SHALADARPAN!B642","v":"A"},{"$f":"SHALADARPAN!K642","v":1393},{"$f":"SHALADARPAN!E642","v":"REKHA JANGID"},{"$f":"SHALADARPAN!G642","v":"Kailash"}]
[{"$nulls":18},{"$f":"SHALADARPAN!A643","v":11},{"$f":"SHALADARPAN!B643","v":"A"},{"$f":"SHALADARPAN!K643","v":1394},{"$f":"SHALADARPAN!E643","v":"RINKU KUMAWAT"},{"$f":"SHALADARPAN!G643","v":"Kailash"}]
[{"$nulls":18},{"$f":"SHALADARPAN!A644","v":11},{"$f":"SHALADARPAN!B644","v":"A"},{"$f":"SHALADARPAN!K644","v":1395},{"$f":"SHALADARPAN!E644","v":"RIYANA BANU"},{"$f":"SHALADARPAN!G644","v":"Kailash"}]
[{"$nulls":18},{"$f":"SHALADARPAN!A645","v":11},{"$f":"SHALADARPAN!B645","v":"A"},{"$f":"SHALADARPAN!K645","v":1396},{"$f":"SHALADARPAN!E645","v":"ROHIT"},{"$f":"SHALADARPAN!G645","v":"Kailash"}]
[{"$nulls":18},{"$f":"SHALADARPAN!A646","v":11},{"$f":"SHALADARPAN!B646","v":"A"},{"$f":"SHALADARPAN!K646","v":1397},{"$f":"SHALADARPAN!E646","v":"ROHIT SOLANKI"},{"$f":"SHALADARPAN!G646","v":"Kailash"}]
[{"$nulls":18},{"$f":"SHALADARPAN!A647","v":11},{"$f":"SHALADARPAN!B647","v":"A"},{"$f":"SHALADARPAN!K647","v":1399},{"$f":"SHALADARPAN!E647","v":"SALAUDIN"},{"$f":"SHALADARPAN!G647","v":"Kailash"}]
[{"$nulls":18},{"$f":"SHALADARPAN!A648","v":11},{"$f":"SHALADARPAN!B648","v":"A"},{"$f":"SHALADARPAN!K648","v":1400},{"$f":"SHALADARPAN!E648","v":"SALMAN"},{"$f":"SHALADARPAN!G648","v":"Kailash"}]
[{"$nulls":18},{"$f":"SHALADARPAN!A649","v":11},{"$f":"SHALADARPAN!B649","v":"A"},{"$f":"SHALADARPAN!K649","v":1401},{"$f":"SHALADARPAN!E649","v":"SANIYA BANOO"},{"$f":"SHALADARPAN!G649","v":"Kailash"}]
[{"$nulls":18},{"$f":"SHALADARPAN!A650","v":11},{"$f":"SHALADARPAN!B650","v":"A"},{"$f":"SHALADARPAN!K650","v":1403},{"$f":"SHALADARPAN!E650","v":"SARITA BAWARI"},{"$f":"SHALADARPAN!G650","v":"Kailash"}]
[{"$nulls":18},{"$f":"SHALADARPAN!A651","v":11},{"$f":"SHALADARPAN!B651","v":"A"},{"$f":"SHALADARPAN!K651","v":1405},{"$f":"SHALADARPAN!E651","v":"Seema Choukidar"},{"$f":"SHALADARPAN!G651","v":"Kailash"}]
[{"$nulls":18},{"$f":"SHALADARPAN!A652","v":11},{"$f":"SHALADARPAN!B652","v":"A"},{"$f":"SHALADARPAN!K652","v":1406},{"$f":"SHALADARPAN!E652","v":"SHABANA"},{"$f":"SHALADARPAN!G652","v":"Kailash"}]
[{"$nulls":18},{"$f":"SHALADARPAN!A653","v":11},{"$f":"SHALADARPAN!B653","v":"A"},{"$f":"SHALADARPAN!K653","v":1407},{"$f":"SHALADARPAN!E653","v":"SHAKTI SINGH"},{"$f":"SHALADARPAN!G653","v":"Kailash"}]
[{"$nulls":18},{"$f":"SHALADARPAN!A654","v":11},{"$f":"SHALADARPAN!B654","v":"A"},{"$f":"SHALADARPAN!K654","v":1408},{"$f":"SHALADARPAN!E654","v":"Shankar Gurjar"},{"$f":"SHALADARPAN!G654","v":"Kailash"}]
[{"$nulls":18},{"$f":"SHALADARPAN!A655","v":11},{"$f":"SHALADARPAN!B655","v":"A"},{"$f":"SHALADARPAN!K655","v":1409},{"$f":"SHALADARPAN!E655","v":"Shreeram Saini"},{"$f":"SHALADARPAN!G655","v":"Kailash"}]
[{"$nulls":18},{"$f":"SHALADARPAN!A656","v":11},{"$f":"SHALADARPAN!B656","v":"A"},{"$f":"SHALADARPAN!K656","v":1410},{"$f":"SHALADARPAN!E656","v":"Sonika"},{"$f":"SHALADARPAN!G656","v":"Kailash"}]
[{"$nulls":18},{"$f":"SHALADARPAN!A657","v":11},{"$f":"SHALADARPAN!B657","v":"A"},{"$f":"SHALADARPAN!K657","v":1414},{"$f":"SHALADARPAN!E657","v":"Sumer Barada"},{"$f":"SHALADARPAN!G657","v":"Kailash"}]
[{"$nulls":18},{"$f":"SHALADARPAN!A658","v":11},{"$f":"SHALADARPAN!B658","v":"A"},{"$f":"SHALADARPAN!K658","v":1415},{"$f":"SHALADARPAN!E658","v":"SUNIL"},{"$f":"SHALADARPAN!G658","v":"Kailash"}]
[{"$nulls":18},{"$f":"SHALADARPAN!A659","v":11},{"$f":"SHALADARPAN!B659","v":"A"},{"$f":"SHALADARPAN!K659","v":1417},{"$f":"SHALADARPAN!E659","v":"Sunil Boraniya"},{"$f":"SHALADARPAN!G659","v":"Kailash"}]
[{"$nulls":18},{"$f":"SHALADARPAN!A660","v":11},{"$f":"SHALADARPAN!B660","v":"A"},{"$f":"SHALADARPAN!K660","v":1418},{"$f":"SHALADARPAN!E660","v":"SUNIL NATH"},{"$f":"SHALADARPAN!G660","v":"Kailash"}]
[{"$nulls":18},{"$f":"SHALADARPAN!A661","v":11},{"$f":"SHALADARPAN!B661","v":"A"},{"$f":"SHALADARPAN!K661","v":1419},{"$f":"SHALADARPAN!E661","v":"SUNIL SAINI"},{"$f":"SHALADARPAN!G661","v":"Kailash"}]
[{"$nulls":18},{"$f":"SHALADARPAN!A662","v":11},{"$f":"SHALADARPAN!B662","v":"A"},{"$f":"SHALADARPAN!K662","v":1421},{"$f":"SHALADARPAN!E662","v":"TARUN SAINI"},{"$f":"SHALADARPAN!G662","v":"Kailash"}]
[{"$nulls":18},{"$f":"SHALADARPAN!A663","v":11},{"$f":"SHALADARPAN!B663","v":"A"},{"$f":"SHALADARPAN!K663","v":1422},{"$f":"SHALADARPAN!E663","v":"VIKRAM SINGH"},{"$f":"SHALADARPAN!G663","v":"Kailash"}]
[{"$nulls":18},{"$f":"SHALADARPAN!A664","v":11},{"$f":"SHALADARPAN!B664","v":"A"},{"$f":"SHALADARPAN!K664","v":1423},{"$f":"SHALADARPAN!E664","v":"VISHNU CHOKIDAR"},{"$f":"SHALADARPAN!G664","v":"Kailash"}]
[{"$nulls":18},{"$f":"SHALADARPAN!A665","v":11},{"$f":"SHALADARPAN!B665","v":"A"},{"$f":"SHALADARPAN!K665","v":1424},{"$f":"SHALADARPAN!E665","v":"YAGHYANARAYAN SINGH"},{"$f":"SHALADARPAN!G665","v":"Kailash"}]
[{"$nulls":18},{"$f":"SHALADARPAN!A666","v":11},{"$f":"SHALADARPAN!B666","v":"B"},{"$f":"SHALADARPAN!K666","v":1501},{"$f":"SHALADARPAN!E666","v":"Ankit"},{"$f":"SHALADARPAN!G666","v":"Kailash"}]
[{"$nulls":18},{"$f":"SHALADARPAN!A667","v":11},{"$f":"SHALADARPAN!B667","v":"B"},{"$f":"SHALADARPAN!K667","v":1502},{"$f":"SHALADARPAN!E667","v":"ARPIT SHARMA"},{"$f":"SHALADARPAN!G667","v":"Kailash"}]
[{"$nulls":18},{"$f":"SHALADARPAN!A668","v":11},{"$f":"SHALADARPAN!B668","v":"B"},{"$f":"SHALADARPAN!K668","v":1503},{"$f":"SHALADARPAN!E668","v":"Barkat Ali"},{"$f":"SHALADARPAN!G668","v":"Kailash"}]
[{"$nulls":18},{"$f":"SHALADARPAN!A669","v":11},{"$f":"SHALADARPAN!B669","v":"B"},{"$f":"SHALADARPAN!K669","v":1504},{"$f":"SHALADARPAN!E669","v":"Bhavna Vaishnav"},{"$f":"SHALADARPAN!G669","v":"Kailash"}]
[{"$nulls":18},{"$f":"SHALADARPAN!A670","v":11},{"$f":"SHALADARPAN!B670","v":"B"},{"$f":"SHALADARPAN!K670","v":1505},{"$f":"SHALADARPAN!E670","v":"DEEKSHA PARIHAR"},{"$f":"SHALADARPAN!G670","v":"Kailash"}]
[{"$nulls":18},{"$f":"SHALADARPAN!A671","v":11},{"$f":"SHALADARPAN!B671","v":"B"},{"$f":"SHALADARPAN!K671","v":1506},{"$f":"SHALADARPAN!E671","v":"DEEPIKA SHARMA"},{"$f":"SHALADARPAN!G671","v":"Kailash"}]
[{"$nulls":18},{"$f":"SHALADARPAN!A672","v":11},{"$f":"SHALADARPAN!B672","v":"B"},{"$f":"SHALADARPAN!K672","v":1507},{"$f":"SHALADARPAN!E672","v":"FIROJA BANU"},{"$f":"SHALADARPAN!G672","v":"Kailash"}]
[{"$nulls":18},{"$f":"SHALADARPAN!A673","v":11},{"$f":"SHALADARPAN!B673","v":"B"},{"$f":"SHALADARPAN!K673","v":1508},{"$f":"SHALADARPAN!E673","v":"GARIMA PARIHAR"},{"$f":"SHALADARPAN!G673","v":"Kailash"}]
[{"$nulls":18},{"$f":"SHALADARPAN!A674","v":11},{"$f":"SHALADARPAN!B674","v":"B"},{"$f":"SHALADARPAN!K674","v":1509},{"$f":"SHALADARPAN!E674","v":"Govind Ram"},{"$f":"SHALADARPAN!G674","v":"Kailash"}]
[{"$nulls":18},{"$f":"SHALADARPAN!A675","v":11},{"$f":"SHALADARPAN!B675","v":"B"},{"$f":"SHALADARPAN!K675","v":1510},{"$f":"SHALADARPAN!E675","v":"GUDDI DEVI"},{"$f":"SHALADARPAN!G675","v":"Kailash"}]
[{"$nulls":18},{"$f":"SHALADARPAN!A676","v":11},{"$f":"SHALADARPAN!B676","v":"B"},{"$f":"SHALADARPAN!K676","v":1511},{"$f":"SHALADARPAN!E676","v":"HAIDER ALI"},{"$f":"SHALADARPAN!G676","v":"Kailash"}]
[{"$nulls":18},{"$f":"SHALADARPAN!A677","v":11},{"$f":"SHALADARPAN!B677","v":"B"},{"$f":"SHALADARPAN!K677","v":1512},{"$f":"SHALADARPAN!E677","v":"HEMLATA"},{"$f":"SHALADARPAN!G677","v":"Kailash"}]
[{"$nulls":18},{"$f":"SHALADARPAN!A678","v":11},{"$f":"SHALADARPAN!B678","v":"B"},{"$f":"SHALADARPAN!K678","v":1513},{"$f":"SHALADARPAN!E678","v":"KARAN KUMAR ACHARYA"},{"$f":"SHALADARPAN!G678","v":"Kailash"}]
[{"$nulls":18},{"$f":"SHALADARPAN!A679","v":11},{"$f":"SHALADARPAN!B679","v":"B"},{"$f":"SHALADARPAN!K679","v":1514},{"$f":"SHALADARPAN!E679","v":"KAVITA PRAJAPAT"},{"$f":"SHALADARPAN!G679","v":"Kailash"}]
[{"$nulls":18},{"$f":"SHALADARPAN!A680","v":11},{"$f":"SHALADARPAN!B680","v":"B"},{"$f":"SHALADARPAN!K680","v":1515},{"$f":"SHALADARPAN!E680","v":"Komal"},{"$f":"SHALADARPAN!G680","v":"Kailash"}]
[{"$nulls":18},{"$f":"SHALADARPAN!A681","v":11},{"$f":"SHALADARPAN!B681","v":"B"},{"$f":"SHALADARPAN!K681","v":1516},{"$f":"SHALADARPAN!E681","v":"KOMAL PRAJAPAT"},{"$f":"SHALADARPAN!G681","v":"Kailash"}]
[{"$nulls":18},{"$f":"SHALADARPAN!A682","v":11},{"$f":"SHALADARPAN!B682","v":"B"},{"$f":"SHALADARPAN!K682","v":1517},{"$f":"SHALADARPAN!E682","v":"Krishna Saini"},{"$f":"SHALADARPAN!G682","v":"Kailash"}]
[{"$nulls":18},{"$f":"SHALADARPAN!A683","v":11},{"$f":"SHALADARPAN!B683","v":"B"},{"$f":"SHALADARPAN!K683","v":1518},{"$f":"SHALADARPAN!E683","v":"MANISH KUMAR"},{"$f":"SHALADARPAN!G683","v":"Kailash"}]
[{"$nulls":18},{"$f":"SHALADARPAN!A684","v":11},{"$f":"SHALADARPAN!B684","v":"B"},{"$f":"SHALADARPAN!K684","v":1519},{"$f":"SHALADARPAN!E684","v":"MANISH KUMAR SAINI"},{"$f":"SHALADARPAN!G684","v":"Kailash"}]
[{"$nulls":18},{"$f":"SHALADARPAN!A685","v":11},{"$f":"SHALADARPAN!B685","v":"B"},{"$f":"SHALADARPAN!K685","v":1520},{"$f":"SHALADARPAN!E685","v":"Manjeet Singh Shekhawat"},{"$f":"SHALADARPAN!G685","v":"Kailash"}]
[{"$nulls":18},{"$f":"SHALADARPAN!A686","v":11},{"$f":"SHALADARPAN!B686","v":"B"},{"$f":"SHALADARPAN!K686","v":1521},{"$f":"SHALADARPAN!E686","v":"MOHAMMAD SHAHROOKH"},{"$f":"SHALADARPAN!G686","v":"Kailash"}]
[{"$nulls":18},{"$f":"SHALADARPAN!A687","v":11},{"$f":"SHALADARPAN!B687","v":"B"},{"$f":"SHALADARPAN!K687","v":1522},{"$f":"SHALADARPAN!E687","v":"MOHIT VAISHNAV"},{"$f":"SHALADARPAN!G687","v":"Kailash"}]
[{"$nulls":18},{"$f":"SHALADARPAN!A688","v":11},{"$f":"SHALADARPAN!B688","v":"B"},{"$f":"SHALADARPAN!K688","v":1523},{"$f":"SHALADARPAN!E688","v":"Mukesh Dagdi"},{"$f":"SHALADARPAN!G688","v":"Kailash"}]
[{"$nulls":18},{"$f":"SHALADARPAN!A689","v":11},{"$f":"SHALADARPAN!B689","v":"B"},{"$f":"SHALADARPAN!K689","v":1524},{"$f":"SHALADARPAN!E689","v":"MUSHRAT BANO"},{"$f":"SHALADARPAN!G689","v":"Kailash"}]
[{"$nulls":18},{"$f":"SHALADARPAN!A690","v":11},{"$f":"SHALADARPAN!B690","v":"B"},{"$f":"SHALADARPAN!K690","v":1525},{"$f":"SHALADARPAN!E690","v":"NEERU SAINI"},{"$f":"SHALADARPAN!G690","v":"Kailash"}]
[{"$nulls":18},{"$f":"SHALADARPAN!A691","v":11},{"$f":"SHALADARPAN!B691","v":"B"},{"$f":"SHALADARPAN!K691","v":1526},{"$f":"SHALADARPAN!E691","v":"PINKI"},{"$f":"SHALADARPAN!G691","v":"Kailash"}]
[{"$nulls":18},{"$f":"SHALADARPAN!A692","v":11},{"$f":"SHALADARPAN!B692","v":"B"},{"$f":"SHALADARPAN!K692","v":1527},{"$f":"SHALADARPAN!E692","v":"POOJA"},{"$f":"SHALADARPAN!G692","v":"Kailash"}]
[{"$nulls":18},{"$f":"SHALADARPAN!A693","v":11},{"$f":"SHALADARPAN!B693","v":"B"},{"$f":"SHALADARPAN!K693","v":1528},{"$f":"SHALADARPAN!E693","v":"POONAM JHUNJHADIYA"},{"$f":"SHALADARPAN!G693","v":"Kailash"}]
[{"$nulls":18},{"$f":"SHALADARPAN!A694","v":11},{"$f":"SHALADARPAN!B694","v":"B"},{"$f":"SHALADARPAN!K694","v":1529},{"$f":"SHALADARPAN!E694","v":"Pradeep Faroda"},{"$f":"SHALADARPAN!G694","v":"Kailash"}]
[{"$nulls":18},{"$f":"SHALADARPAN!A695","v":11},{"$f":"SHALADARPAN!B695","v":"B"},{"$f":"SHALADARPAN!K695","v":1530},{"$f":"SHALADARPAN!E695","v":"Priyanka Sharma"},{"$f":"SHALADARPAN!G695","v":"Kailash"}]
[{"$nulls":18},{"$f":"SHALADARPAN!A696","v":11},{"$f":"SHALADARPAN!B696","v":"B"},{"$f":"SHALADARPAN!K696","v":1531},{"$f":"SHALADARPAN!E696","v":"PUKHRAJ BORANIYA"},{"$f":"SHALADARPAN!G696","v":"Kailash"}]
[{"$nulls":18},{"$f":"SHALADARPAN!A697","v":11},{"$f":"SHALADARPAN!B697","v":"B"},{"$f":"SHALADARPAN!K697","v":1532},{"$f":"SHALADARPAN!E697","v":"PURAN"},{"$f":"SHALADARPAN!G697","v":"Kailash"}]
[{"$nulls":18},{"$f":"SHALADARPAN!A698","v":11},{"$f":"SHALADARPAN!B698","v":"B"},{"$f":"SHALADARPAN!K698","v":1533},{"$f":"SHALADARPAN!E698","v":"RICHHPAL RAIKA"},{"$f":"SHALADARPAN!G698","v":"Kailash"}]
[{"$nulls":18},{"$f":"SHALADARPAN!A699","v":11},{"$f":"SHALADARPAN!B699","v":"B"},{"$f":"SHALADARPAN!K699","v":1534},{"$f":"SHALADARPAN!E699","v":"SABIR HUSAIN"},{"$f":"SHALADARPAN!G699","v":"Kailash"}]
[{"$nulls":18},{"$f":"SHALADARPAN!A700","v":11},{"$f":"SHALADARPAN!B700","v":"B"},{"$f":"SHALADARPAN!K700","v":1535},{"$f":"SHALADARPAN!E700","v":"SEEMA"},{"$f":"SHALADARPAN!G700","v":"Kailash"}]
[{"$nulls":18},{"$f":"SHALADARPAN!A701","v":11},{"$f":"SHALADARPAN!B701","v":"B"},{"$f":"SHALADARPAN!K701","v":1536},{"$f":"SHALADARPAN!E701","v":"SEEMA DEVI"},{"$f":"SHALADARPAN!G701","v":"Kailash"}]
[{"$nulls":18},{"$f":"SHALADARPAN!A702","v":11},{"$f":"SHALADARPAN!B702","v":"B"},{"$f":"SHALADARPAN!K702","v":1537},{"$f":"SHALADARPAN!E702","v":"Sunil"},{"$f":"SHALADARPAN!G702","v":"Kailash"}]
[{"$nulls":18},{"$f":"SHALADARPAN!A703","v":11},{"$f":"SHALADARPAN!B703","v":"B"},{"$f":"SHALADARPAN!K703","v":1538},{"$f":"SHALADARPAN!E703","v":"SUNITA MEGHWAL"},{"$f":"SHALADARPAN!G703","v":"Kailash"}]
[{"$nulls":18},{"$f":"SHALADARPAN!A704","v":11},{"$f":"SHALADARPAN!B704","v":"B"},{"$f":"SHALADARPAN!K704","v":1539},{"$f":"SHALADARPAN!E704","v":"TEENA VAISHNAV"},{"$f":"SHALADARPAN!G704","v":"Kailash"}]
[{"$nulls":18},{"$f":"SHALADARPAN!A705","v":11},{"$f":"SHALADARPAN!B705","v":"B"},{"$f":"SHALADARPAN!K705","v":1540},{"$f":"SHALADARPAN!E705","v":"Vidhya Chand"},{"$f":"SHALADARPAN!G705","v":"Kailash"}]
[{"$nulls":18},{"$f":"SHALADARPAN!A706","v":11},{"$f":"SHALADARPAN!B706","v":"B"},{"$f":"SHALADARPAN!K706","v":1541},{"$f":"SHALADARPAN!E706","v":"VIKAS KUMAWAT"},{"$f":"SHALADARPAN!G706","v":"Kailash"}]
[{"$nulls":18},{"$f":"SHALADARPAN!A707","v":11},{"$f":"SHALADARPAN!B707","v":"B"},{"$f":"SHALADARPAN!K707","v":1542},{"$f":"SHALADARPAN!E707","v":"YASIN MOHAMMAD"},{"$f":"SHALADARPAN!G707","v":"Kailash"}]
[{"$nulls":18},{"$f":"SHALADARPAN!A708","v":12},{"$f":"SHALADARPAN!B708","v":"A"},{"$f":"SHALADARPAN!K708","v":1601},{"$f":"SHALADARPAN!E708","v":"ABDUL RAHMAN"},{"$f":"SHALADARPAN!G708","v":"Kailash"}]
[{"$nulls":18},{"$f":"SHALADARPAN!A709","v":12},{"$f":"SHALADARPAN!B709","v":"A"},{"$f":"SHALADARPAN!K709","v":1603},{"$f":"SHALADARPAN!E709","v":"ALAUDIN"},{"$f":"SHALADARPAN!G709","v":"Kailash"}]
[{"$nulls":18},{"$f":"SHALADARPAN!A710","v":12},{"$f":"SHALADARPAN!B710","v":"A"},{"$f":"SHALADARPAN!K710","v":1604},{"$f":"SHALADARPAN!E710","v":"Anita Saini"},{"$f":"SHALADARPAN!G710","v":"Kailash"}]
[{"$nulls":18},{"$f":"SHALADARPAN!A711","v":12},{"$f":"SHALADARPAN!B711","v":"A"},{"$f":"SHALADARPAN!K711","v":1605},{"$f":"SHALADARPAN!E711","v":"ANKIT KACHCHHAVA"},{"$f":"SHALADARPAN!G711","v":"Kailash"}]
[{"$nulls":18},{"$f":"SHALADARPAN!A712","v":12},{"$f":"SHALADARPAN!B712","v":"A"},{"$f":"SHALADARPAN!K712","v":1606},{"$f":"SHALADARPAN!E712","v":"BANSHI LAL"},{"$f":"SHALADARPAN!G712","v":"Kailash"}]
[{"$nulls":18},{"$f":"SHALADARPAN!A713","v":12},{"$f":"SHALADARPAN!B713","v":"A"},{"$f":"SHALADARPAN!K713","v":1607},{"$f":"SHALADARPAN!E713","v":"BARKAT ALI"},{"$f":"SHALADARPAN!G713","v":"Kailash"}]
[{"$nulls":18},{"$f":"SHALADARPAN!A714","v":12},{"$f":"SHALADARPAN!B714","v":"A"},{"$f":"SHALADARPAN!K714","v":1608},{"$f":"SHALADARPAN!E714","v":"Dashrath Vaishnav"},{"$f":"SHALADARPAN!G714","v":"Kailash"}]
[{"$nulls":18},{"$f":"SHALADARPAN!A715","v":12},{"$f":"SHALADARPAN!B715","v":"A"},{"$f":"SHALADARPAN!K715","v":1609},{"$f":"SHALADARPAN!E715","v":"DINESH KUMAR"},{"$f":"SHALADARPAN!G715","v":"Kailash"}]
[{"$nulls":18},{"$f":"SHALADARPAN!A716","v":12},{"$f":"SHALADARPAN!B716","v":"A"},{"$f":"SHALADARPAN!K716","v":1610},{"$f":"SHALADARPAN!E716","v":"Dinesh Soda"},{"$f":"SHALADARPAN!G716","v":"Kailash"}]
[{"$nulls":18},{"$f":"SHALADARPAN!A717","v":12},{"$f":"SHALADARPAN!B717","v":"A"},{"$f":"SHALADARPAN!K717","v":1611},{"$f":"SHALADARPAN!E717","v":"GAUTAM SINGH"},{"$f":"SHALADARPAN!G717","v":"Kailash"}]
[{"$nulls":18},{"$f":"SHALADARPAN!A718","v":12},{"$f":"SHALADARPAN!B718","v":"A"},{"$f":"SHALADARPAN!K718","v":1612},{"$f":"SHALADARPAN!E718","v":"GUMAN NATH"},{"$f":"SHALADARPAN!G718","v":"Kailash"}]
[{"$nulls":18},{"$f":"SHALADARPAN!A719","v":12},{"$f":"SHALADARPAN!B719","v":"A"},{"$f":"SHALADARPAN!K719","v":1613},{"$f":"SHALADARPAN!E719","v":"HASEENA BANO"},{"$f":"SHALADARPAN!G719","v":"Kailash"}]
[{"$nulls":18},{"$f":"SHALADARPAN!A720","v":12},{"$f":"SHALADARPAN!B720","v":"A"},{"$f":"SHALADARPAN!K720","v":1614},{"$f":"SHALADARPAN!E720","v":"HEENA BANOO"},{"$f":"SHALADARPAN!G720","v":"Kailash"}]
[{"$nulls":18},{"$f":"SHALADARPAN!A721","v":12},{"$f":"SHALADARPAN!B721","v":"A"},{"$f":"SHALADARPAN!K721","v":1615},{"$f":"SHALADARPAN!E721","v":"HINA BANU"},{"$f":"SHALADARPAN!G721","v":"Kailash"}]
[{"$nulls":18},{"$f":"SHALADARPAN!A722","v":12},{"$f":"SHALADARPAN!B722","v":"A"},{"$f":"SHALADARPAN!K722","v":1616},{"$f":"SHALADARPAN!E722","v":"IKBAL MOHAMMAD"},{"$f":"SHALADARPAN!G722","v":"Kailash"}]
[{"$nulls":18},{"$f":"SHALADARPAN!A723","v":12},{"$f":"SHALADARPAN!B723","v":"A"},{"$f":"SHALADARPAN!K723","v":1617},{"$f":"SHALADARPAN!E723","v":"KAVITA TAMBOLI"},{"$f":"SHALADARPAN!G723","v":"Kailash"}]
[{"$nulls":18},{"$f":"SHALADARPAN!A724","v":12},{"$f":"SHALADARPAN!B724","v":"A"},{"$f":"SHALADARPAN!K724","v":1618},{"$f":"SHALADARPAN!E724","v":"KUDRAT BANO"},{"$f":"SHALADARPAN!G724","v":"Kailash"}]
[{"$nulls":18},{"$f":"SHALADARPAN!A725","v":12},{"$f":"SHALADARPAN!B725","v":"A"},{"$f":"SHALADARPAN!K725","v":1619},{"$f":"SHALADARPAN!E725","v":"KULDEEP ACHARYA"},{"$f":"SHALADARPAN!G725","v":"Kailash"}]
[{"$nulls":18},{"$f":"SHALADARPAN!A726","v":12},{"$f":"SHALADARPAN!B726","v":"A"},{"$f":"SHALADARPAN!K726","v":1620},{"$f":"SHALADARPAN!E726","v":"LAXMI GURJAR"},{"$f":"SHALADARPAN!G726","v":"Kailash"}]
[{"$nulls":18},{"$f":"SHALADARPAN!A727","v":12},{"$f":"SHALADARPAN!B727","v":"A"},{"$f":"SHALADARPAN!K727","v":1621},{"$f":"SHALADARPAN!E727","v":"MAMTA"},{"$f":"SHALADARPAN!G727","v":"Kailash"}]
[{"$nulls":18},{"$f":"SHALADARPAN!A728","v":12},{"$f":"SHALADARPAN!B728","v":"A"},{"$f":"SHALADARPAN!K728","v":1622},{"$f":"SHALADARPAN!E728","v":"MAMTA GURJAR"},{"$f":"SHALADARPAN!G728","v":"Kailash"}]
[{"$nulls":18},{"$f":"SHALADARPAN!A729","v":12},{"$f":"SHALADARPAN!B729","v":"A"},{"$f":"SHALADARPAN!K729","v":1623},{"$f":"SHALADARPAN!E729","v":"MANISH MALI"},{"$f":"SHALADARPAN!G729","v":"Kailash"}]
[{"$nulls":18},{"$f":"SHALADARPAN!A730","v":12},{"$f":"SHALADARPAN!B730","v":"A"},{"$f":"SHALADARPAN!K730","v":1624},{"$f":"SHALADARPAN!E730","v":"MONIKA KANWAR"},{"$f":"SHALADARPAN!G730","v":"Kailash"}]
[{"$nulls":18},{"$f":"SHALADARPAN!A731","v":12},{"$f":"SHALADARPAN!B731","v":"A"},{"$f":"SHALADARPAN!K731","v":1625},{"$f":"SHALADARPAN!E731","v":"NAZIYA"},{"$f":"SHALADARPAN!G731","v":"Kailash"}]
[{"$nulls":18},{"$f":"SHALADARPAN!A732","v":12},{"$f":"SHALADARPAN!B732","v":"A"},{"$f":"SHALADARPAN!K732","v":1626},{"$f":"SHALADARPAN!E732","v":"NOSHAD SHYA"},{"$f":"SHALADARPAN!G732","v":"Kailash"}]
[{"$nulls":18},{"$f":"SHALADARPAN!A733","v":12},{"$f":"SHALADARPAN!B733","v":"A"},{"$f":"SHALADARPAN!K733","v":1627},{"$f":"SHALADARPAN!E733","v":"POOJA"},{"$f":"SHALADARPAN!G733","v":"Kailash"}]
[{"$nulls":18},{"$f":"SHALADARPAN!A734","v":12},{"$f":"SHALADARPAN!B734","v":"A"},{"$f":"SHALADARPAN!K734","v":1628},{"$f":"SHALADARPAN!E734","v":"POOJA DEVI"},{"$f":"SHALADARPAN!G734","v":"Kailash"}]
[{"$nulls":18},{"$f":"SHALADARPAN!A735","v":12},{"$f":"SHALADARPAN!B735","v":"A"},{"$f":"SHALADARPAN!K735","v":1629},{"$f":"SHALADARPAN!E735","v":"POOJA MAROTHIYA"},{"$f":"SHALADARPAN!G735","v":"Kailash"}]
[{"$nulls":18},{"$f":"SHALADARPAN!A736","v":12},{"$f":"SHALADARPAN!B736","v":"A"},{"$f":"SHALADARPAN!K736","v":1630},{"$f":"SHALADARPAN!E736","v":"POOJA NATH"},{"$f":"SHALADARPAN!G736","v":"Kailash"}]
[{"$nulls":18},{"$f":"SHALADARPAN!A737","v":12},{"$f":"SHALADARPAN!B737","v":"A"},{"$f":"SHALADARPAN!K737","v":1631},{"$f":"SHALADARPAN!E737","v":"Priyanka Tak"},{"$f":"SHALADARPAN!G737","v":"Kailash"}]
[{"$nulls":18},{"$f":"SHALADARPAN!A738","v":12},{"$f":"SHALADARPAN!B738","v":"A"},{"$f":"SHALADARPAN!K738","v":1633},{"$f":"SHALADARPAN!E738","v":"Rahul Raidas"},{"$f":"SHALADARPAN!G738","v":"Kailash"}]
[{"$nulls":18},{"$f":"SHALADARPAN!A739","v":12},{"$f":"SHALADARPAN!B739","v":"A"},{"$f":"SHALADARPAN!K739","v":1634},{"$f":"SHALADARPAN!E739","v":"RAHUL SAINI"},{"$f":"SHALADARPAN!G739","v":"Kailash"}]
[{"$nulls":18},{"$f":"SHALADARPAN!A740","v":12},{"$f":"SHALADARPAN!B740","v":"A"},{"$f":"SHALADARPAN!K740","v":1635},{"$f":"SHALADARPAN!E740","v":"RAJENDRA MAROTHIYA"},{"$f":"SHALADARPAN!G740","v":"Kailash"}]
[{"$nulls":18},{"$f":"SHALADARPAN!A741","v":12},{"$f":"SHALADARPAN!B741","v":"A"},{"$f":"SHALADARPAN!K741","v":1636},{"$f":"SHALADARPAN!E741","v":"RAKESH KACHCHHAVA"},{"$f":"SHALADARPAN!G741","v":"Kailash"}]
[{"$nulls":18},{"$f":"SHALADARPAN!A742","v":12},{"$f":"SHALADARPAN!B742","v":"A"},{"$f":"SHALADARPAN!K742","v":1637},{"$f":"SHALADARPAN!E742","v":"RAVI"},{"$f":"SHALADARPAN!G742","v":"Kailash"}]
[{"$nulls":18},{"$f":"SHALADARPAN!A743","v":12},{"$f":"SHALADARPAN!B743","v":"A"},{"$f":"SHALADARPAN!K743","v":1638},{"$f":"SHALADARPAN!E743","v":"RUBINA"},{"$f":"SHALADARPAN!G743","v":"Kailash"}]
[{"$nulls":18},{"$f":"SHALADARPAN!A744","v":12},{"$f":"SHALADARPAN!B744","v":"A"},{"$f":"SHALADARPAN!K744","v":1640},{"$f":"SHALADARPAN!E744","v":"SAMPAT LAL"},{"$f":"SHALADARPAN!G744","v":"Kailash"}]
[{"$nulls":18},{"$f":"SHALADARPAN!A745","v":12},{"$f":"SHALADARPAN!B745","v":"A"},{"$f":"SHALADARPAN!K745","v":1641},{"$f":"SHALADARPAN!E745","v":"SAPNA MEGHWAL"},{"$f":"SHALADARPAN!G745","v":"Kailash"}]
[{"$nulls":18},{"$f":"SHALADARPAN!A746","v":12},{"$f":"SHALADARPAN!B746","v":"A"},{"$f":"SHALADARPAN!K746","v":1642},{"$f":"SHALADARPAN!E746","v":"SARLA SAINI"},{"$f":"SHALADARPAN!G746","v":"Kailash"}]
[{"$nulls":18},{"$f":"SHALADARPAN!A747","v":12},{"$f":"SHALADARPAN!B747","v":"A"},{"$f":"SHALADARPAN!K747","v":1643},{"$f":"SHALADARPAN!E747","v":"SEEMA TAMBOLI"},{"$f":"SHALADARPAN!G747","v":"Kailash"}]
[{"$nulls":18},{"$f":"SHALADARPAN!A748","v":12},{"$f":"SHALADARPAN!B748","v":"A"},{"$f":"SHALADARPAN!K748","v":1644},{"$f":"SHALADARPAN!E748","v":"SHAMEENA BANO"},{"$f":"SHALADARPAN!G748","v":"Kailash"}]
[{"$nulls":18},{"$f":"SHALADARPAN!A749","v":12},{"$f":"SHALADARPAN!B749","v":"A"},{"$f":"SHALADARPAN!K749","v":1645},{"$f":"SHALADARPAN!E749","v":"Shivraj Bhati"},{"$f":"SHALADARPAN!G749","v":"Kailash"}]
[{"$nulls":18},{"$f":"SHALADARPAN!A750","v":12},{"$f":"SHALADARPAN!B750","v":"A"},{"$f":"SHALADARPAN!K750","v":1646},{"$f":"SHALADARPAN!E750","v":"SUMAN DEVI"},{"$f":"SHALADARPAN!G750","v":"Kailash"}]
[{"$nulls":18},{"$f":"SHALADARPAN!A751","v":12},{"$f":"SHALADARPAN!B751","v":"A"},{"$f":"SHALADARPAN!K751","v":1648},{"$f":"SHALADARPAN!E751","v":"SUMAN NATH"},{"$f":"SHALADARPAN!G751","v":"Kailash"}]
[{"$nulls":18},{"$f":"SHALADARPAN!A752","v":12},{"$f":"SHALADARPAN!B752","v":"A"},{"$f":"SHALADARPAN!K752","v":1650},{"$f":"SHALADARPAN!E752","v":"SUNITA DEVI"},{"$f":"SHALADARPAN!G752","v":"Kailash"}]
[{"$nulls":18},{"$f":"SHALADARPAN!A753","v":12},{"$f":"SHALADARPAN!B753","v":"A"},{"$f":"SHALADARPAN!K753","v":1651},{"$f":"SHALADARPAN!E753","v":"SURENDRA NATH"},{"$f":"SHALADARPAN!G753","v":"Kailash"}]
[{"$nulls":18},{"$f":"SHALADARPAN!A754","v":12},{"$f":"SHALADARPAN!B754","v":"A"},{"$f":"SHALADARPAN!K754","v":1652},{"$f":"SHALADARPAN!E754","v":"TEENA"},{"$f":"SHALADARPAN!G754","v":"Kailash"}]
[{"$nulls":18},{"$f":"SHALADARPAN!A755","v":12},{"$f":"SHALADARPAN!B755","v":"A"},{"$f":"SHALADARPAN!K755","v":1653},{"$f":"SHALADARPAN!E755","v":"Udayprakash Gaur"},{"$f":"SHALADARPAN!G755","v":"Kailash"}]
[{"$nulls":18},{"$f":"SHALADARPAN!A756","v":12},{"$f":"SHALADARPAN!B756","v":"A"},{"$f":"SHALADARPAN!K756","v":1654},{"$f":"SHALADARPAN!E756","v":"VIKASH"},{"$f":"SHALADARPAN!G756","v":"Kailash"}]
[{"$nulls":18},{"$f":"SHALADARPAN!A757","v":12},{"$f":"SHALADARPAN!B757","v":"A"},{"$f":"SHALADARPAN!K757","v":1655},{"$f":"SHALADARPAN!E757","v":"YASHODA KUMAWAT"},{"$f":"SHALADARPAN!G757","v":"Kailash"}]
[{"$nulls":18},{"$f":"SHALADARPAN!A758","v":12},{"$f":"SHALADARPAN!B758","v":"A"},{"$f":"SHALADARPAN!K758","v":1656},{"$f":"SHALADARPAN!E758","v":"YOGENDRA SAINI"},{"$f":"SHALADARPAN!G758","v":"Kailash"}]
[{"$nulls":18},{"$f":"SHALADARPAN!A759","v":12},{"$f":"SHALADARPAN!B759","v":"A"},{"$f":"SHALADARPAN!K759","v":1657},{"$f":"SHALADARPAN!E759","v":"ZAKIR HUSAIN"},{"$f":"SHALADARPAN!G759","v":"Kailash"}]
[{"$nulls":18},{"$f":"SHALADARPAN!A760","v":12},{"$f":"SHALADARPAN!B760","v":"B"},{"$f":"SHALADARPAN!K760","v":1701},{"$f":"SHALADARPAN!E760","v":"AKRAM"},{"$f":"SHALADARPAN!G760","v":"Kailash"}]
[{"$nulls":18},{"$f":"SHALADARPAN!A761","v":12},{"$f":"SHALADARPAN!B761","v":"B"},{"$f":"SHALADARPAN!K761","v":1702},{"$f":"SHALADARPAN!E761","v":"ANURADHA"},{"$f":"SHALADARPAN!G761","v":"Kailash"}]
[{"$nulls":18},{"$f":"SHALADARPAN!A762","v":12},{"$f":"SHALADARPAN!B762","v":"B"},{"$f":"SHALADARPAN!K762","v":1703},{"$f":"SHALADARPAN!E762","v":"AVINASH"},{"$f":"SHALADARPAN!G762","v":"Kailash"}]
[{"$nulls":18},{"$f":"SHALADARPAN!A763","v":12},{"$f":"SHALADARPAN!B763","v":"B"},{"$f":"SHALADARPAN!K763","v":1704},{"$f":"SHALADARPAN!E763","v":"BASANTI"},{"$f":"SHALADARPAN!G763","v":"Kailash"}]
[{"$nulls":18},{"$f":"SHALADARPAN!A764","v":12},{"$f":"SHALADARPAN!B764","v":"B"},{"$f":"SHALADARPAN!K764","v":1705},{"$f":"SHALADARPAN!E764","v":"BRIJPAL SINGH"},{"$f":"SHALADARPAN!G764","v":"Kailash"}]
[{"$nulls":18},{"$f":"SHALADARPAN!A765","v":12},{"$f":"SHALADARPAN!B765","v":"B"},{"$f":"SHALADARPAN!K765","v":1706},{"$f":"SHALADARPAN!E765","v":"Govind Puri"},{"$f":"SHALADARPAN!G765","v":"Kailash"}]
[{"$nulls":18},{"$f":"SHALADARPAN!A766","v":12},{"$f":"SHALADARPAN!B766","v":"B"},{"$f":"SHALADARPAN!K766","v":1707},{"$f":"SHALADARPAN!E766","v":"JITENDRA PURI"},{"$f":"SHALADARPAN!G766","v":"Kailash"}]
[{"$nulls":18},{"$f":"SHALADARPAN!A767","v":12},{"$f":"SHALADARPAN!B767","v":"B"},{"$f":"SHALADARPAN!K767","v":1708},{"$f":"SHALADARPAN!E767","v":"Kamal Meghwal"},{"$f":"SHALADARPAN!G767","v":"Kailash"}]
[{"$nulls":18},{"$f":"SHALADARPAN!A768","v":12},{"$f":"SHALADARPAN!B768","v":"B"},{"$f":"SHALADARPAN!K768","v":1709},{"$f":"SHALADARPAN!E768","v":"KAMLESH KUMAWAT"},{"$f":"SHALADARPAN!G768","v":"Kailash"}]
[{"$nulls":18},{"$f":"SHALADARPAN!A769","v":12},{"$f":"SHALADARPAN!B769","v":"B"},{"$f":"SHALADARPAN!K769","v":1710},{"$f":"SHALADARPAN!E769","v":"KSHITIJ VAISHNAV"},{"$f":"SHALADARPAN!G769","v":"Kailash"}]
[{"$nulls":18},{"$f":"SHALADARPAN!A770","v":12},{"$f":"SHALADARPAN!B770","v":"B"},{"$f":"SHALADARPAN!K770","v":1711},{"$f":"SHALADARPAN!E770","v":"MANISH ACHARYA"},{"$f":"SHALADARPAN!G770","v":"Kailash"}]
[{"$nulls":18},{"$f":"SHALADARPAN!A771","v":12},{"$f":"SHALADARPAN!B771","v":"B"},{"$f":"SHALADARPAN!K771","v":1712},{"$f":"SHALADARPAN!E771","v":"MILAN VAISHNAV"},{"$f":"SHALADARPAN!G771","v":"Kailash"}]
[{"$nulls":18},{"$f":"SHALADARPAN!A772","v":12},{"$f":"SHALADARPAN!B772","v":"B"},{"$f":"SHALADARPAN!K772","v":1713},{"$f":"SHALADARPAN!E772","v":"MUSKAN BANU"},{"$f":"SHALADARPAN!G772","v":"Kailash"}]
[{"$nulls":18},{"$f":"SHALADARPAN!A773","v":12},{"$f":"SHALADARPAN!B773","v":"B"},{"$f":"SHALADARPAN!K773","v":1714},{"$f":"SHALADARPAN!E773","v":"NARENDRA KUMAR"},{"$f":"SHALADARPAN!G773","v":"Kailash"}]
[{"$nulls":18},{"$f":"SHALADARPAN!A774","v":12},{"$f":"SHALADARPAN!B774","v":"B"},{"$f":"SHALADARPAN!K774","v":1715},{"$f":"SHALADARPAN!E774","v":"POOJA MEGHWAL"},{"$f":"SHALADARPAN!G774","v":"Kailash"}]
[{"$nulls":18},{"$f":"SHALADARPAN!A775","v":12},{"$f":"SHALADARPAN!B775","v":"B"},{"$f":"SHALADARPAN!K775","v":1716},{"$f":"SHALADARPAN!E775","v":"PRADEEP SINGH"},{"$f":"SHALADARPAN!G775","v":"Kailash"}]
[{"$nulls":18},{"$f":"SHALADARPAN!A776","v":12},{"$f":"SHALADARPAN!B776","v":"B"},{"$f":"SHALADARPAN!K776","v":1717},{"$f":"SHALADARPAN!E776","v":"RAHUL SAINI"},{"$f":"SHALADARPAN!G776","v":"Kailash"}]
[{"$nulls":18},{"$f":"SHALADARPAN!A777","v":12},{"$f":"SHALADARPAN!B777","v":"B"},{"$f":"SHALADARPAN!K777","v":1718},{"$f":"SHALADARPAN!E777","v":"RAHUL SINGH"},{"$f":"SHALADARPAN!G777","v":"Kailash"}]
[{"$nulls":18},{"$f":"SHALADARPAN!A778","v":12},{"$f":"SHALADARPAN!B778","v":"B"},{"$f":"SHALADARPAN!K778","v":1719},{"$f":"SHALADARPAN!E778","v":"RAM RATAN DUDI"},{"$f":"SHALADARPAN!G778","v":"Kailash"}]
[{"$nulls":18},{"$f":"SHALADARPAN!A779","v":12},{"$f":"SHALADARPAN!B779","v":"B"},{"$f":"SHALADARPAN!K779","v":1720},{"$f":"SHALADARPAN!E779","v":"Ravindra Barada"},{"$f":"SHALADARPAN!G779","v":"Kailash"}]
[{"$nulls":18},{"$f":"SHALADARPAN!A780","v":12},{"$f":"SHALADARPAN!B780","v":"B"},{"$f":"SHALADARPAN!K780","v":1721},{"$f":"SHALADARPAN!E780","v":"RIZWANA"},{"$f":"SHALADARPAN!G780","v":"Kailash"}]
[{"$nulls":18},{"$f":"SHALADARPAN!A781","v":12},{"$f":"SHALADARPAN!B781","v":"B"},{"$f":"SHALADARPAN!K781","v":1722},{"$f":"SHALADARPAN!E781","v":"SONIYA RAIDAS"},{"$f":"SHALADARPAN!G781","v":"Kailash"}]
[{"$nulls":18},{"$f":"SHALADARPAN!A782","v":0},{"$f":"SHALADARPAN!B782","v":0},{"$f":"SHALADARPAN!K782","v":0},{"$f":"SHALADARPAN!E782","v":0},{"$f":"SHALADARPAN!G782","v":0}]
[{"$nulls":18},{"$f":"SHALADARPAN!A783","v":0},{"$f":"SHALADARPAN!B783","v":0},{"$f":"SHALADARPAN!K783","v":0},{"$f":"SHALADARPAN!E783","v":0},{"$f":"SHALADARPAN!G783","v":0}]
[{"$nulls":18},{"$f":"SHALADARPAN!A784","v":0},{"$f":"SHALADARPAN!B784","v":0},{"$f":"SHALADARPAN!K784","v":0},{"$f":"SHALADARPAN!E784","v":0},{"$f":"SHALADARPAN!G784","v":0}]
[{"$nulls":18},{"$f":"SHALADARPAN!A785","v":0},{"$f":"SHALADARPAN!B785","v":0},{"$f":"SHALADARPAN!K785","v":0},{"$f":"SHALADARPAN!E785","v":0},{"$f":"SHALADARPAN!G785","v":0}]
[{"$nulls":18},{"$f":"SHALADARPAN!A786","v":0},{"$f":"SHALADARPAN!B786","v":0},{"$f":"SHALADARPAN!K786","v":0},{"$f":"SHALADARPAN!E786","v":0},{"$f":"SHALADARPAN!G786","v":0}]
[{"$nulls":18},{"$f":"SHALADARPAN!A787","v":0},{"$f":"SHALADARPAN!B787","v":0},{"$f":"SHALADARPAN!K787","v":0},{"$f":"SHALADARPAN!E787","v":0},{"$f":"SHALADARPAN!G787","v":0}]
[{"$nulls":18},{"$f":"SHALADARPAN!A788","v":0},{"$f":"SHALADARPAN!B788","v":0},{"$f":"SHALADARPAN!K788","v":0},{"$f":"SHALADARPAN!E788","v":0},{"$f":"SHALADARPAN!G788","v":0}]
[{"$nulls":18},{"$f":"SHALADARPAN!A789","v":0},{"$f":"SHALADARPAN!B789","v":0},{"$f":"SHALADARPAN!K789","v":0},{"$f":"SHALADARPAN!E789","v":0},{"$f":"SHALADARPAN!G789","v":0}]
[{"$nulls":18},{"$f":"SHALADARPAN!A790","v":0},{"$f":"SHALADARPAN!B790","v":0},{"$f":"SHALADARPAN!K790","v":0},{"$f":"SHALADARPAN!E790","v":0},{"$f":"SHALADARPAN!G790","v":0}]
[{"$nulls":18},{"$f":"SHALADARPAN!A791","v":0},{"$f":"SHALADARPAN!B791","v":0},{"$f":"SHALADARPAN!K791","v":0},{"$f":"SHALADARPAN!E791","v":0},{"$f":"SHALADARPAN!G791","v":0}]
[{"$nulls":18},{"$f":"SHALADARPAN!A792","v":0},{"$f":"SHALADARPAN!B792","v":0},{"$f":"SHALADARPAN!K792","v":0},{"$f":"SHALADARPAN!E792","v":0},{"$f":"SHALADARPAN!G792","v":0}]
[{"$nulls":18},{"$f":"SHALADARPAN!A793","v":0},{"$f":"SHALADARPAN!B793","v":0},{"$f":"SHALADARPAN!K793","v":0},{"$f":"SHALADARPAN!E793","v":0},{"$f":"SHALADARPAN!G793","v":0}]
[{"$nulls":18},{"$f":"SHALADARPAN!A794","v":0},{"$f":"SHALADARPAN!B794","v":0},{"$f":"SHALADARPAN!K794","v":0},{"$f":"SHALADARPAN!E794","v":0},{"$f":"SHALADARPAN!G794","v":0}]
[{"$nulls":18},{"$f":"SHALADARPAN!A795","v":0},{"$f":"SHALADARPAN!B795","v":0},{"$f":"SHALADARPAN!K795","v":0},{"$f":"SHALADARPAN!E795","v":0},{"$f":"SHALADARPAN!G795","v":0}]
[{"$nulls":18},{"$f":"SHALADARPAN!A796","v":0},{"$f":"SHALADARPAN!B796","v":0},{"$f":"SHALADARPAN!K796","v":0},{"$f":"SHALADARPAN!E796","v":0},{"$f":"SHALADARPAN!G796","v":0}]
[{"$nulls":18},{"$f":"SHALADARPAN!A797","v":0},{"$f":"SHALADARPAN!B797","v":0},{"$f":"SHALADARPAN!K797","v":0},{"$f":"SHALADARPAN!E797","v":0},{"$f":"SHALADARPAN!G797","v":0}]
[{"$nulls":18},{"$f":"SHALADARPAN!A798","v":0},{"$f":"SHALADARPAN!B798","v":0},{"$f":"SHALADARPAN!K798","v":0},{"$f":"SHALADARPAN!E798","v":0},{"$f":"SHALADARPAN!G798","v":0}]
[{"$nulls":18},{"$f":"SHALADARPAN!A799","v":0},{"$f":"SHALADARPAN!B799","v":0},{"$f":"SHALADARPAN!K799","v":0},{"$f":"SHALADARPAN!E799","v":0},{"$f":"SHALADARPAN!G799","v":0}]
[{"$nulls":18},{"$f":"SHALADARPAN!A800","v":0},{"$f":"SHALADARPAN!B800","v":0},{"$f":"SHALADARPAN!K800","v":0},{"$f":"SHALADARPAN!E800","v":0},{"$f":"SHALADARPAN!G800","v":0}]
[{"$nulls":18},{"$f":"SHALADARPAN!A801","v":0},{"$f":"SHALADARPAN!B801","v":0},{"$f":"SHALADARPAN!K801","v":0},{"$f":"SHALADARPAN!E801","v":0},{"$f":"SHALADARPAN!G801","v":0}]
[{"$nulls":18},{"$f":"SHALADARPAN!A802","v":0},{"$f":"SHALADARPAN!B802","v":0},{"$f":"SHALADARPAN!K802","v":0},{"$f":"SHALADARPAN!E802","v":0},{"$f":"SHALADARPAN!G802","v":0}]
[{"$nulls":18},{"$f":"SHALADARPAN!A803","v":0},{"$f":"SHALADARPAN!B803","v":0},{"$f":"SHALADARPAN!K803","v":0},{"$f":"SHALADARPAN!E803","v":0},{"$f":"SHALADARPAN!G803","v":0}]
[{"$nulls":18},{"$f":"SHALADARPAN!A804","v":0},{"$f":"SHALADARPAN!B804","v":0},{"$f":"SHALADARPAN!K804","v":0},{"$f":"SHALADARPAN!E804","v":0},{"$f":"SHALADARPAN!G804","v":0}]
[{"$nulls":18},{"$f":"SHALADARPAN!A805","v":0},{"$f":"SHALADARPAN!B805","v":0},{"$f":"SHALADARPAN!K805","v":0},{"$f":"SHALADARPAN!E805","v":0},{"$f":"SHALADARPAN!G805","v":0}]
[{"$nulls":18},{"$f":"SHALADARPAN!A806","v":0},{"$f":"SHALADARPAN!B806","v":0},{"$f":"SHALADARPAN!K806","v":0},{"$f":"SHALADARPAN!E806","v":0},{"$f":"SHALADARPAN!G806","v":0}]
[{"$nulls":18},{"$f":"SHALADARPAN!A807","v":0},{"$f":"SHALADARPAN!B807","v":0},{"$f":"SHALADARPAN!K807","v":0},{"$f":"SHALADARPAN!E807","v":0},{"$f":"SHALADARPAN!G807","v":0}]
[{"$nulls":18},{"$f":"SHALADARPAN!A808","v":0},{"$f":"SHALADARPAN!B808","v":0},{"$f":"SHALADARPAN!K808","v":0},{"$f":"SHALADARPAN!E808","v":0},{"$f":"SHALADARPAN!G808","v":0}]
[{"$nulls":18},{"$f":"SHALADARPAN!A809","v":0},{"$f":"SHALADARPAN!B809","v":0},{"$f":"SHALADARPAN!K809","v":0},{"$f":"SHALADARPAN!E809","v":0},{"$f":"SHALADARPAN!G809","v":0}]
[{"$nulls":18},{"$f":"SHALADARPAN!A810","v":0},{"$f":"SHALADARPAN!B810","v":0},{"$f":"SHALADARPAN!K810","v":0},{"$f":"SHALADARPAN!E810","v":0},{"$f":"SHALADARPAN!G810","v":0}]
[{"$nulls":18},{"$f":"SHALADARPAN!A811","v":0},{"$f":"SHALADARPAN!B811","v":0},{"$f":"SHALADARPAN!K811","v":0},{"$f":"SHALADARPAN!E811","v":0},{"$f":"SHALADARPAN!G811","v":0}]
[{"$nulls":18},{"$f":"SHALADARPAN!A812","v":0},{"$f":"SHALADARPAN!B812","v":0},{"$f":"SHALADARPAN!K812","v":0},{"$f":"SHALADARPAN!E812","v":0},{"$f":"SHALADARPAN!G812","v":0}]
[{"$nulls":18},{"$f":"SHALADARPAN!A813","v":0},{"$f":"SHALADARPAN!B813","v":0},{"$f":"SHALADARPAN!K813","v":0},{"$f":"SHALADARPAN!E813","v":0},{"$f":"SHALADARPAN!G813","v":0}]
[{"$nulls":18},{"$f":"SHALADARPAN!A814","v":0},{"$f":"SHALADARPAN!B814","v":0},{"$f":"SHALADARPAN!K814","v":0},{"$f":"SHALADARPAN!E814","v":0},{"$f":"SHALADARPAN!G814","v":0}]
[{"$nulls":18},{"$f":"SHALADARPAN!A815","v":0},{"$f":"SHALADARPAN!B815","v":0},{"$f":"SHALADARPAN!K815","v":0},{"$f":"SHALADARPAN!E815","v":0},{"$f":"SHALADARPAN!G815","v":0}]
[{"$nulls":18},{"$f":"SHALADARPAN!A816","v":0},{"$f":"SHALADARPAN!B816","v":0},{"$f":"SHALADARPAN!K816","v":0},{"$f":"SHALADARPAN!E816","v":0},{"$f":"SHALADARPAN!G816","v":0}]
[{"$nulls":18},{"$f":"SHALADARPAN!A817","v":0},{"$f":"SHALADARPAN!B817","v":0},{"$f":"SHALADARPAN!K817","v":0},{"$f":"SHALADARPAN!E817","v":0},{"$f":"SHALADARPAN!G817","v":0}]
[{"$nulls":18},{"$f":"SHALADARPAN!A818","v":0},{"$f":"SHALADARPAN!B818","v":0},{"$f":"SHALADARPAN!K818","v":0},{"$f":"SHALADARPAN!E818","v":0},{"$f":"SHALADARPAN!G818","v":0}]
[{"$nulls":18},{"$f":"SHALADARPAN!A819","v":0},{"$f":"SHALADARPAN!B819","v":0},{"$f":"SHALADARPAN!K819","v":0},{"$f":"SHALADARPAN!E819","v":0},{"$f":"SHALADARPAN!G819","v":0}]
[{"$nulls":18},{"$f":"SHALADARPAN!A820","v":0},{"$f":"SHALADARPAN!B820","v":0},{"$f":"SHALADARPAN!K820","v":0},{"$f":"SHALADARPAN!E820","v":0},{"$f":"SHALADARPAN!G820","v":0}]
[{"$nulls":18},{"$f":"SHALADARPAN!A821","v":0},{"$f":"SHALADARPAN!B821","v":0},{"$f":"SHALADARPAN!K821","v":0},{"$f":"SHALADARPAN!E821","v":0},{"$f":"SHALADARPAN!G821","v":0}]
[{"$nulls":18},{"$f":"SHALADARPAN!A822","v":0},{"$f":"SHALADARPAN!B822","v":0},{"$f":"SHALADARPAN!K822","v":0},{"$f":"SHALADARPAN!E822","v":0},{"$f":"SHALADARPAN!G822","v":0}]
[{"$nulls":18},{"$f":"SHALADARPAN!A823","v":0},{"$f":"SHALADARPAN!B823","v":0},{"$f":"SHALADARPAN!K823","v":0},{"$f":"SHALADARPAN!E823","v":0},{"$f":"SHALADARPAN!G823","v":0}]
[{"$nulls":18},{"$f":"SHALADARPAN!A824","v":0},{"$f":"SHALADARPAN!B824","v":0},{"$f":"SHALADARPAN!K824","v":0},{"$f":"SHALADARPAN!E824","v":0},{"$f":"SHALADARPAN!G824","v":0}]
[{"$nulls":18},{"$f":"SHALADARPAN!A825","v":0},{"$f":"SHALADARPAN!B825","v":0},{"$f":"SHALADARPAN!K825","v":0},{"$f":"SHALADARPAN!E825","v":0},{"$f":"SHALADARPAN!G825","v":0}]
[{"$nulls":18},{"$f":"SHALADARPAN!A826","v":0},{"$f":"SHALADARPAN!B826","v":0},{"$f":"SHALADARPAN!K826","v":0},{"$f":"SHALADARPAN!E826","v":0},{"$f":"SHALADARPAN!G826","v":0}]
[{"$nulls":18},{"$f":"SHALADARPAN!A827","v":0},{"$f":"SHALADARPAN!B827","v":0},{"$f":"SHALADARPAN!K827","v":0},{"$f":"SHALADARPAN!E827","v":0},{"$f":"SHALADARPAN!G827","v":0}]
[{"$nulls":18},{"$f":"SHALADARPAN!A828","v":0},{"$f":"SHALADARPAN!B828","v":0},{"$f":"SHALADARPAN!K828","v":0},{"$f":"SHALADARPAN!E828","v":0},{"$f":"SHALADARPAN!G828","v":0}]
[{"$nulls":18},{"$f":"SHALADARPAN!A829","v":0},{"$f":"SHALADARPAN!B829","v":0},{"$f":"SHALADARPAN!K829","v":0},{"$f":"SHALADARPAN!E829","v":0},{"$f":"SHALADARPAN!G829","v":0}]
[{"$nulls":18},{"$f":"SHALADARPAN!A830","v":0},{"$f":"SHALADARPAN!B830","v":0},{"$f":"SHALADARPAN!K830","v":0},{"$f":"SHALADARPAN!E830","v":0},{"$f":"SHALADARPAN!G830","v":0}]
[{"$nulls":18},{"$f":"SHALADARPAN!A831","v":0},{"$f":"SHALADARPAN!B831","v":0},{"$f":"SHALADARPAN!K831","v":0},{"$f":"SHALADARPAN!E831","v":0},{"$f":"SHALADARPAN!G831","v":0}]
[{"$nulls":18},{"$f":"SHALADARPAN!A832","v":0},{"$f":"SHALADARPAN!B832","v":0},{"$f":"SHALADARPAN!K832","v":0},{"$f":"SHALADARPAN!E832","v":0},{"$f":"SHALADARPAN!G832","v":0}]
[{"$nulls":18},{"$f":"SHALADARPAN!A833","v":0},{"$f":"SHALADARPAN!B833","v":0},{"$f":"SHALADARPAN!K833","v":0},{"$f":"SHALADARPAN!E833","v":0},{"$f":"SHALADARPAN!G833","v":0}]
[{"$nulls":18},{"$f":"SHALADARPAN!A834","v":0},{"$f":"SHALADARPAN!B834","v":0},{"$f":"SHALADARPAN!K834","v":0},{"$f":"SHALADARPAN!E834","v":0},{"$f":"SHALADARPAN!G834","v":0}]
[{"$nulls":18},{"$f":"SHALADARPAN!A835","v":0},{"$f":"SHALADARPAN!B835","v":0},{"$f":"SHALADARPAN!K835","v":0},{"$f":"SHALADARPAN!E835","v":0},{"$f":"SHALADARPAN!G835","v":0}]
[{"$nulls":18},{"$f":"SHALADARPAN!A836","v":0},{"$f":"SHALADARPAN!B836","v":0},{"$f":"SHALADARPAN!K836","v":0},{"$f":"SHALADARPAN!E836","v":0},{"$f":"SHALADARPAN!G836","v":0}]
[{"$nulls":18},{"$f":"SHALADARPAN!A837","v":0},{"$f":"SHALADARPAN!B837","v":0},{"$f":"SHALADARPAN!K837","v":0},{"$f":"SHALADARPAN!E837","v":0},{"$f":"SHALADARPAN!G837","v":0}]
[{"$nulls":18},{"$f":"SHALADARPAN!A838","v":0},{"$f":"SHALADARPAN!B838","v":0},{"$f":"SHALADARPAN!K838","v":0},{"$f":"SHALADARPAN!E838","v":0},{"$f":"SHALADARPAN!G838","v":0}]
[{"$nulls":18},{"$f":"SHALADARPAN!A839","v":0},{"$f":"SHALADARPAN!B839","v":0},{"$f":"SHALADARPAN!K839","v":0},{"$f":"SHALADARPAN!E839","v":0},{"$f":"SHALADARPAN!G839","v":0}]
[{"$nulls":18},{"$f":"SHALADARPAN!A840","v":0},{"$f":"SHALADARPAN!B840","v":0},{"$f":"SHALADARPAN!K840","v":0},{"$f":"SHALADARPAN!E840","v":0},{"$f":"SHALADARPAN!G840","v":0}]
[{"$nulls":18},{"$f":"SHALADARPAN!A841","v":0},{"$f":"SHALADARPAN!B841","v":0},{"$f":"SHALADARPAN!K841","v":0},{"$f":"SHALADARPAN!E841","v":0},{"$f":"SHALADARPAN!G841","v":0}]
[{"$nulls":18},{"$f":"SHALADARPAN!A842","v":0},{"$f":"SHALADARPAN!B842","v":0},{"$f":"SHALADARPAN!K842","v":0},{"$f":"SHALADARPAN!E842","v":0},{"$f":"SHALADARPAN!G842","v":0}]
[{"$nulls":18},{"$f":"SHALADARPAN!A843","v":0},{"$f":"SHALADARPAN!B843","v":0},{"$f":"SHALADARPAN!K843","v":0},{"$f":"SHALADARPAN!E843","v":0},{"$f":"SHALADARPAN!G843","v":0}]
[{"$nulls":18},{"$f":"SHALADARPAN!A844","v":0},{"$f":"SHALADARPAN!B844","v":0},{"$f":"SHALADARPAN!K844","v":0},{"$f":"SHALADARPAN!E844","v":0},{"$f":"SHALADARPAN!G844","v":0}]
[{"$nulls":18},{"$f":"SHALADARPAN!A845","v":0},{"$f":"SHALADARPAN!B845","v":0},{"$f":"SHALADARPAN!K845","v":0},{"$f":"SHALADARPAN!E845","v":0},{"$f":"SHALADARPAN!G845","v":0}]
[{"$nulls":18},{"$f":"SHALADARPAN!A846","v":0},{"$f":"SHALADARPAN!B846","v":0},{"$f":"SHALADARPAN!K846","v":0},{"$f":"SHALADARPAN!E846","v":0},{"$f":"SHALADARPAN!G846","v":0}]
[{"$nulls":18},{"$f":"SHALADARPAN!A847","v":0},{"$f":"SHALADARPAN!B847","v":0},{"$f":"SHALADARPAN!K847","v":0},{"$f":"SHALADARPAN!E847","v":0},{"$f":"SHALADARPAN!G847","v":0}]
[{"$nulls":18},{"$f":"SHALADARPAN!A848","v":0},{"$f":"SHALADARPAN!B848","v":0},{"$f":"SHALADARPAN!K848","v":0},{"$f":"SHALADARPAN!E848","v":0},{"$f":"SHALADARPAN!G848","v":0}]
[{"$nulls":18},{"$f":"SHALADARPAN!A849","v":0},{"$f":"SHALADARPAN!B849","v":0},{"$f":"SHALADARPAN!K849","v":0},{"$f":"SHALADARPAN!E849","v":0},{"$f":"SHALADARPAN!G849","v":0}]
[{"$nulls":18},{"$f":"SHALADARPAN!A850","v":0},{"$f":"SHALADARPAN!B850","v":0},{"$f":"SHALADARPAN!K850","v":0},{"$f":"SHALADARPAN!E850","v":0},{"$f":"SHALADARPAN!G850","v":0}]
[{"$nulls":18},{"$f":"SHALADARPAN!A851","v":0},{"$f":"SHALADARPAN!B851","v":0},{"$f":"SHALADARPAN!K851","v":0},{"$f":"SHALADARPAN!E851","v":0},{"$f":"SHALADARPAN!G851","v":0}]
[{"$nulls":18},{"$f":"SHALADARPAN!A852","v":0},{"$f":"SHALADARPAN!B852","v":0},{"$f":"SHALADARPAN!K852","v":0},{"$f":"SHALADARPAN!E852","v":0},{"$f":"SHALADARPAN!G852","v":0}]
[{"$nulls":18},{"$f":"SHALADARPAN!A853","v":0},{"$f":"SHALADARPAN!B853","v":0},{"$f":"SHALADARPAN!K853","v":0},{"$f":"SHALADARPAN!E853","v":0},{"$f":"SHALADARPAN!G853","v":0}]
[{"$nulls":18},{"$f":"SHALADARPAN!A854","v":0},{"$f":"SHALADARPAN!B854","v":0},{"$f":"SHALADARPAN!K854","v":0},{"$f":"SHALADARPAN!E854","v":0},{"$f":"SHALADARPAN!G854","v":0}]
[{"$nulls":18},{"$f":"SHALADARPAN!A855","v":0},{"$f":"SHALADARPAN!B855","v":0},{"$f":"SHALADARPAN!K855","v":0},{"$f":"SHALADARPAN!E855","v":0},{"$f":"SHALADARPAN!G855","v":0}]
[{"$nulls":18},{"$f":"SHALADARPAN!A856","v":0},{"$f":"SHALADARPAN!B856","v":0},{"$f":"SHALADARPAN!K856","v":0},{"$f":"SHALADARPAN!E856","v":0},{"$f":"SHALADARPAN!G856","v":0}]
[{"$nulls":18},{"$f":"SHALADARPAN!A857","v":0},{"$f":"SHALADARPAN!B857","v":0},{"$f":"SHALADARPAN!K857","v":0},{"$f":"SHALADARPAN!E857","v":0},{"$f":"SHALADARPAN!G857","v":0}]
[{"$nulls":18},{"$f":"SHALADARPAN!A858","v":0},{"$f":"SHALADARPAN!B858","v":0},{"$f":"SHALADARPAN!K858","v":0},{"$f":"SHALADARPAN!E858","v":0},{"$f":"SHALADARPAN!G858","v":0}]
[{"$nulls":18},{"$f":"SHALADARPAN!A859","v":0},{"$f":"SHALADARPAN!B859","v":0},{"$f":"SHALADARPAN!K859","v":0},{"$f":"SHALADARPAN!E859","v":0},{"$f":"SHALADARPAN!G859","v":0}]
[{"$nulls":18},{"$f":"SHALADARPAN!A860","v":0},{"$f":"SHALADARPAN!B860","v":0},{"$f":"SHALADARPAN!K860","v":0},{"$f":"SHALADARPAN!E860","v":0},{"$f":"SHALADARPAN!G860","v":0}]
[{"$nulls":18},{"$f":"SHALADARPAN!A861","v":0},{"$f":"SHALADARPAN!B861","v":0},{"$f":"SHALADARPAN!K861","v":0},{"$f":"SHALADARPAN!E861","v":0},{"$f":"SHALADARPAN!G861","v":0}]
[{"$nulls":18},{"$f":"SHALADARPAN!A862","v":0},{"$f":"SHALADARPAN!B862","v":0},{"$f":"SHALADARPAN!K862","v":0},{"$f":"SHALADARPAN!E862","v":0},{"$f":"SHALADARPAN!G862","v":0}]
[{"$nulls":18},{"$f":"SHALADARPAN!A863","v":0},{"$f":"SHALADARPAN!B863","v":0},{"$f":"SHALADARPAN!K863","v":0},{"$f":"SHALADARPAN!E863","v":0},{"$f":"SHALADARPAN!G863","v":0}]
[{"$nulls":18},{"$f":"SHALADARPAN!A864","v":0},{"$f":"SHALADARPAN!B864","v":0},{"$f":"SHALADARPAN!K864","v":0},{"$f":"SHALADARPAN!E864","v":0},{"$f":"SHALADARPAN!G864","v":0}]
[{"$nulls":18},{"$f":"SHALADARPAN!A865","v":0},{"$f":"SHALADARPAN!B865","v":0},{"$f":"SHALADARPAN!K865","v":0},{"$f":"SHALADARPAN!E865","v":0},{"$f":"SHALADARPAN!G865","v":0}]
[{"$nulls":18},{"$f":"SHALADARPAN!A866","v":0},{"$f":"SHALADARPAN!B866","v":0},{"$f":"SHALADARPAN!K866","v":0},{"$f":"SHALADARPAN!E866","v":0},{"$f":"SHALADARPAN!G866","v":0}]
[{"$nulls":18},{"$f":"SHALADARPAN!A867","v":0},{"$f":"SHALADARPAN!B867","v":0},{"$f":"SHALADARPAN!K867","v":0},{"$f":"SHALADARPAN!E867","v":0},{"$f":"SHALADARPAN!G867","v":0}]
[{"$nulls":18},{"$f":"SHALADARPAN!A868","v":0},{"$f":"SHALADARPAN!B868","v":0},{"$f":"SHALADARPAN!K868","v":0},{"$f":"SHALADARPAN!E868","v":0},{"$f":"SHALADARPAN!G868","v":0}]
[{"$nulls":18},{"$f":"SHALADARPAN!A869","v":0},{"$f":"SHALADARPAN!B869","v":0},{"$f":"SHALADARPAN!K869","v":0},{"$f":"SHALADARPAN!E869","v":0},{"$f":"SHALADARPAN!G869","v":0}]
[{"$nulls":18},{"$f":"SHALADARPAN!A870","v":0},{"$f":"SHALADARPAN!B870","v":0},{"$f":"SHALADARPAN!K870","v":0},{"$f":"SHALADARPAN!E870","v":0},{"$f":"SHALADARPAN!G870","v":0}]
[{"$nulls":18},{"$f":"SHALADARPAN!A871","v":0},{"$f":"SHALADARPAN!B871","v":0},{"$f":"SHALADARPAN!K871","v":0},{"$f":"SHALADARPAN!E871","v":0},{"$f":"SHALADARPAN!G871","v":0}]
[{"$nulls":18},{"$f":"SHALADARPAN!A872","v":0},{"$f":"SHALADARPAN!B872","v":0},{"$f":"SHALADARPAN!K872","v":0},{"$f":"SHALADARPAN!E872","v":0},{"$f":"SHALADARPAN!G872","v":0}]
[{"$nulls":18},{"$f":"SHALADARPAN!A873","v":0},{"$f":"SHALADARPAN!B873","v":0},{"$f":"SHALADARPAN!K873","v":0},{"$f":"SHALADARPAN!E873","v":0},{"$f":"SHALADARPAN!G873","v":0}]
[{"$nulls":18},{"$f":"SHALADARPAN!A874","v":0},{"$f":"SHALADARPAN!B874","v":0},{"$f":"SHALADARPAN!K874","v":0},{"$f":"SHALADARPAN!E874","v":0},{"$f":"SHALADARPAN!G874","v":0}]
[{"$nulls":18},{"$f":"SHALADARPAN!A875","v":0},{"$f":"SHALADARPAN!B875","v":0},{"$f":"SHALADARPAN!K875","v":0},{"$f":"SHALADARPAN!E875","v":0},{"$f":"SHALADARPAN!G875","v":0}]
[{"$nulls":18},{"$f":"SHALADARPAN!A876","v":0},{"$f":"SHALADARPAN!B876","v":0},{"$f":"SHALADARPAN!K876","v":0},{"$f":"SHALADARPAN!E876","v":0},{"$f":"SHALADARPAN!G876","v":0}]
[{"$nulls":18},{"$f":"SHALADARPAN!A877","v":0},{"$f":"SHALADARPAN!B877","v":0},{"$f":"SHALADARPAN!K877","v":0},{"$f":"SHALADARPAN!E877","v":0},{"$f":"SHALADARPAN!G877","v":0}]
[{"$nulls":18},{"$f":"SHALADARPAN!A878","v":0},{"$f":"SHALADARPAN!B878","v":0},{"$f":"SHALADARPAN!K878","v":0},{"$f":"SHALADARPAN!E878","v":0},{"$f":"SHALADARPAN!G878","v":0}]
[{"$nulls":18},{"$f":"SHALADARPAN!A879","v":0},{"$f":"SHALADARPAN!B879","v":0},{"$f":"SHALADARPAN!K879","v":0},{"$f":"SHALADARPAN!E879","v":0},{"$f":"SHALADARPAN!G879","v":0}]
[{"$nulls":18},{"$f":"SHALADARPAN!A880","v":0},{"$f":"SHALADARPAN!B880","v":0},{"$f":"SHALADARPAN!K880","v":0},{"$f":"SHALADARPAN!E880","v":0},{"$f":"SHALADARPAN!G880","v":0}]
[{"$nulls":18},{"$f":"SHALADARPAN!A881","v":0},{"$f":"SHALADARPAN!B881","v":0},{"$f":"SHALADARPAN!K881","v":0},{"$f":"SHALADARPAN!E881","v":0},{"$f":"SHALADARPAN!G881","v":0}]
[{"$nulls":18},{"$f":"SHALADARPAN!A882","v":0},{"$f":"SHALADARPAN!B882","v":0},{"$f":"SHALADARPAN!K882","v":0},{"$f":"SHALADARPAN!E882","v":0},{"$f":"SHALADARPAN!G882","v":0}]
[{"$nulls":18},{"$f":"SHALADARPAN!A883","v":0},{"$f":"SHALADARPAN!B883","v":0},{"$f":"SHALADARPAN!K883","v":0},{"$f":"SHALADARPAN!E883","v":0},{"$f":"SHALADARPAN!G883","v":0}]
[{"$nulls":18},{"$f":"SHALADARPAN!A884","v":0},{"$f":"SHALADARPAN!B884","v":0},{"$f":"SHALADARPAN!K884","v":0},{"$f":"SHALADARPAN!E884","v":0},{"$f":"SHALADARPAN!G884","v":0}]
[{"$nulls":18},{"$f":"SHALADARPAN!A885","v":0},{"$f":"SHALADARPAN!B885","v":0},{"$f":"SHALADARPAN!K885","v":0},{"$f":"SHALADARPAN!E885","v":0},{"$f":"SHALADARPAN!G885","v":0}]
[{"$nulls":18},{"$f":"SHALADARPAN!A886","v":0},{"$f":"SHALADARPAN!B886","v":0},{"$f":"SHALADARPAN!K886","v":0},{"$f":"SHALADARPAN!E886","v":0},{"$f":"SHALADARPAN!G886","v":0}]
[{"$nulls":18},{"$f":"SHALADARPAN!A887","v":0},{"$f":"SHALADARPAN!B887","v":0},{"$f":"SHALADARPAN!K887","v":0},{"$f":"SHALADARPAN!E887","v":0},{"$f":"SHALADARPAN!G887","v":0}]
[{"$nulls":18},{"$f":"SHALADARPAN!A888","v":0},{"$f":"SHALADARPAN!B888","v":0},{"$f":"SHALADARPAN!K888","v":0},{"$f":"SHALADARPAN!E888","v":0},{"$f":"SHALADARPAN!G888","v":0}]
[{"$nulls":18},{"$f":"SHALADARPAN!A889","v":0},{"$f":"SHALADARPAN!B889","v":0},{"$f":"SHALADARPAN!K889","v":0},{"$f":"SHALADARPAN!E889","v":0},{"$f":"SHALADARPAN!G889","v":0}]
[{"$nulls":18},{"$f":"SHALADARPAN!A890","v":0},{"$f":"SHALADARPAN!B890","v":0},{"$f":"SHALADARPAN!K890","v":0},{"$f":"SHALADARPAN!E890","v":0},{"$f":"SHALADARPAN!G890","v":0}]
[{"$nulls":18},{"$f":"SHALADARPAN!A891","v":0},{"$f":"SHALADARPAN!B891","v":0},{"$f":"SHALADARPAN!K891","v":0},{"$f":"SHALADARPAN!E891","v":0},{"$f":"SHALADARPAN!G891","v":0}]
[{"$nulls":18},{"$f":"SHALADARPAN!A892","v":0},{"$f":"SHALADARPAN!B892","v":0},{"$f":"SHALADARPAN!K892","v":0},{"$f":"SHALADARPAN!E892","v":0},{"$f":"SHALADARPAN!G892","v":0}]
[{"$nulls":18},{"$f":"SHALADARPAN!A893","v":0},{"$f":"SHALADARPAN!B893","v":0},{"$f":"SHALADARPAN!K893","v":0},{"$f":"SHALADARPAN!E893","v":0},{"$f":"SHALADARPAN!G893","v":0}]
[{"$nulls":18},{"$f":"SHALADARPAN!A894","v":0},{"$f":"SHALADARPAN!B894","v":0},{"$f":"SHALADARPAN!K894","v":0},{"$f":"SHALADARPAN!E894","v":0},{"$f":"SHALADARPAN!G894","v":0}]
[{"$nulls":18},{"$f":"SHALADARPAN!A895","v":0},{"$f":"SHALADARPAN!B895","v":0},{"$f":"SHALADARPAN!K895","v":0},{"$f":"SHALADARPAN!E895","v":0},{"$f":"SHALADARPAN!G895","v":0}]
[{"$nulls":18},{"$f":"SHALADARPAN!A896","v":0},{"$f":"SHALADARPAN!B896","v":0},{"$f":"SHALADARPAN!K896","v":0},{"$f":"SHALADARPAN!E896","v":0},{"$f":"SHALADARPAN!G896","v":0}]
[{"$nulls":18},{"$f":"SHALADARPAN!A897","v":0},{"$f":"SHALADARPAN!B897","v":0},{"$f":"SHALADARPAN!K897","v":0},{"$f":"SHALADARPAN!E897","v":0},{"$f":"SHALADARPAN!G897","v":0}]
[{"$nulls":18},{"$f":"SHALADARPAN!A898","v":0},{"$f":"SHALADARPAN!B898","v":0},{"$f":"SHALADARPAN!K898","v":0},{"$f":"SHALADARPAN!E898","v":0},{"$f":"SHALADARPAN!G898","v":0}]
[{"$nulls":18},{"$f":"SHALADARPAN!A899","v":0},{"$f":"SHALADARPAN!B899","v":0},{"$f":"SHALADARPAN!K899","v":0},{"$f":"SHALADARPAN!E899","v":0},{"$f":"SHALADARPAN!G899","v":0}]
[{"$nulls":18},{"$f":"SHALADARPAN!A900","v":0},{"$f":"SHALADARPAN!B900","v":0},{"$f":"SHALADARPAN!K900","v":0},{"$f":"SHALADARPAN!E900","v":0},{"$f":"SHALADARPAN!G900","v":0}]
[{"$nulls":18},{"$f":"SHALADARPAN!A901","v":0},{"$f":"SHALADARPAN!B901","v":0},{"$f":"SHALADARPAN!K901","v":0},{"$f":"SHALADARPAN!E901","v":0},{"$f":"SHALADARPAN!G901","v":0}]
[{"$nulls":18},{"$f":"SHALADARPAN!A902","v":0},{"$f":"SHALADARPAN!B902","v":0},{"$f":"SHALADARPAN!K902","v":0},{"$f":"SHALADARPAN!E902","v":0},{"$f":"SHALADARPAN!G902","v":0}]
[{"$nulls":18},{"$f":"SHALADARPAN!A903","v":0},{"$f":"SHALADARPAN!B903","v":0},{"$f":"SHALADARPAN!K903","v":0},{"$f":"SHALADARPAN!E903","v":0},{"$f":"SHALADARPAN!G903","v":0}]
[{"$nulls":18},{"$f":"SHALADARPAN!A904","v":0},{"$f":"SHALADARPAN!B904","v":0},{"$f":"SHALADARPAN!K904","v":0},{"$f":"SHALADARPAN!E904","v":0},{"$f":"SHALADARPAN!G904","v":0}]
[{"$nulls":18},{"$f":"SHALADARPAN!A905","v":0},{"$f":"SHALADARPAN!B905","v":0},{"$f":"SHALADARPAN!K905","v":0},{"$f":"SHALADARPAN!E905","v":0},{"$f":"SHALADARPAN!G905","v":0}]
[{"$nulls":18},{"$f":"SHALADARPAN!A906","v":0},{"$f":"SHALADARPAN!B906","v":0},{"$f":"SHALADARPAN!K906","v":0},{"$f":"SHALADARPAN!E906","v":0},{"$f":"SHALADARPAN!G906","v":0}]
[{"$nulls":18},{"$f":"SHALADARPAN!A907","v":0},{"$f":"SHALADARPAN!B907","v":0},{"$f":"SHALADARPAN!K907","v":0},{"$f":"SHALADARPAN!E907","v":0},{"$f":"SHALADARPAN!G907","v":0}]
[{"$nulls":18},{"$f":"SHALADARPAN!A908","v":0},{"$f":"SHALADARPAN!B908","v":0},{"$f":"SHALADARPAN!K908","v":0},{"$f":"SHALADARPAN!E908","v":0},{"$f":"SHALADARPAN!G908","v":0}]
[{"$nulls":18},{"$f":"SHALADARPAN!A909","v":0},{"$f":"SHALADARPAN!B909","v":0},{"$f":"SHALADARPAN!K909","v":0},{"$f":"SHALADARPAN!E909","v":0},{"$f":"SHALADARPAN!G909","v":0}]
[{"$nulls":18},{"$f":"SHALADARPAN!A910","v":0},{"$f":"SHALADARPAN!B910","v":0},{"$f":"SHALADARPAN!K910","v":0},{"$f":"SHALADARPAN!E910","v":0},{"$f":"SHALADARPAN!G910","v":0}]
[{"$nulls":18},{"$f":"SHALADARPAN!A911","v":0},{"$f":"SHALADARPAN!B911","v":0},{"$f":"SHALADARPAN!K911","v":0},{"$f":"SHALADARPAN!E911","v":0},{"$f":"SHALADARPAN!G911","v":0}]
[{"$nulls":18},{"$f":"SHALADARPAN!A912","v":0},{"$f":"SHALADARPAN!B912","v":0},{"$f":"SHALADARPAN!K912","v":0},{"$f":"SHALADARPAN!E912","v":0},{"$f":"SHALADARPAN!G912","v":0}]
[{"$nulls":18},{"$f":"SHALADARPAN!A913","v":0},{"$f":"SHALADARPAN!B913","v":0},{"$f":"SHALADARPAN!K913","v":0},{"$f":"SHALADARPAN!E913","v":0},{"$f":"SHALADARPAN!G913","v":0}]
[{"$nulls":18},{"$f":"SHALADARPAN!A914","v":0},{"$f":"SHALADARPAN!B914","v":0},{"$f":"SHALADARPAN!K914","v":0},{"$f":"SHALADARPAN!E914","v":0},{"$f":"SHALADARPAN!G914","v":0}]
[{"$nulls":18},{"$f":"SHALADARPAN!A915","v":0},{"$f":"SHALADARPAN!B915","v":0},{"$f":"SHALADARPAN!K915","v":0},{"$f":"SHALADARPAN!E915","v":0},{"$f":"SHALADARPAN!G915","v":0}]
[{"$nulls":18},{"$f":"SHALADARPAN!A916","v":0},{"$f":"SHALADARPAN!B916","v":0},{"$f":"SHALADARPAN!K916","v":0},{"$f":"SHALADARPAN!E916","v":0},{"$f":"SHALADARPAN!G916","v":0}]
[{"$nulls":18},{"$f":"SHALADARPAN!A917","v":0},{"$f":"SHALADARPAN!B917","v":0},{"$f":"SHALADARPAN!K917","v":0},{"$f":"SHALADARPAN!E917","v":0},{"$f":"SHALADARPAN!G917","v":0}]
[{"$nulls":18},{"$f":"SHALADARPAN!A918","v":0},{"$f":"SHALADARPAN!B918","v":0},{"$f":"SHALADARPAN!K918","v":0},{"$f":"SHALADARPAN!E918","v":0},{"$f":"SHALADARPAN!G918","v":0}]
[{"$nulls":18},{"$f":"SHALADARPAN!A919","v":0},{"$f":"SHALADARPAN!B919","v":0},{"$f":"SHALADARPAN!K919","v":0},{"$f":"SHALADARPAN!E919","v":0},{"$f":"SHALADARPAN!G919","v":0}]
[{"$nulls":18},{"$f":"SHALADARPAN!A920","v":0},{"$f":"SHALADARPAN!B920","v":0},{"$f":"SHALADARPAN!K920","v":0},{"$f":"SHALADARPAN!E920","v":0},{"$f":"SHALADARPAN!G920","v":0}]
[{"$nulls":18},{"$f":"SHALADARPAN!A921","v":0},{"$f":"SHALADARPAN!B921","v":0},{"$f":"SHALADARPAN!K921","v":0},{"$f":"SHALADARPAN!E921","v":0},{"$f":"SHALADARPAN!G921","v":0}]
[{"$nulls":18},{"$f":"SHALADARPAN!A922","v":0},{"$f":"SHALADARPAN!B922","v":0},{"$f":"SHALADARPAN!K922","v":0},{"$f":"SHALADARPAN!E922","v":0},{"$f":"SHALADARPAN!G922","v":0}]
[{"$nulls":18},{"$f":"SHALADARPAN!A923","v":0},{"$f":"SHALADARPAN!B923","v":0},{"$f":"SHALADARPAN!K923","v":0},{"$f":"SHALADARPAN!E923","v":0},{"$f":"SHALADARPAN!G923","v":0}]
[{"$nulls":18},{"$f":"SHALADARPAN!A924","v":0},{"$f":"SHALADARPAN!B924","v":0},{"$f":"SHALADARPAN!K924","v":0},{"$f":"SHALADARPAN!E924","v":0},{"$f":"SHALADARPAN!G924","v":0}]
[{"$nulls":18},{"$f":"SHALADARPAN!A925","v":0},{"$f":"SHALADARPAN!B925","v":0},{"$f":"SHALADARPAN!K925","v":0},{"$f":"SHALADARPAN!E925","v":0},{"$f":"SHALADARPAN!G925","v":0}]
[{"$nulls":18},{"$f":"SHALADARPAN!A926","v":0},{"$f":"SHALADARPAN!B926","v":0},{"$f":"SHALADARPAN!K926","v":0},{"$f":"SHALADARPAN!E926","v":0},{"$f":"SHALADARPAN!G926","v":0}]
[{"$nulls":18},{"$f":"SHALADARPAN!A927","v":0},{"$f":"SHALADARPAN!B927","v":0},{"$f":"SHALADARPAN!K927","v":0},{"$f":"SHALADARPAN!E927","v":0},{"$f":"SHALADARPAN!G927","v":0}]
[{"$nulls":18},{"$f":"SHALADARPAN!A928","v":0},{"$f":"SHALADARPAN!B928","v":0},{"$f":"SHALADARPAN!K928","v":0},{"$f":"SHALADARPAN!E928","v":0},{"$f":"SHALADARPAN!G928","v":0}]
[{"$nulls":18},{"$f":"SHALADARPAN!A929","v":0},{"$f":"SHALADARPAN!B929","v":0},{"$f":"SHALADARPAN!K929","v":0},{"$f":"SHALADARPAN!E929","v":0},{"$f":"SHALADARPAN!G929","v":0}]
[{"$nulls":18},{"$f":"SHALADARPAN!A930","v":0},{"$f":"SHALADARPAN!B930","v":0},{"$f":"SHALADARPAN!K930","v":0},{"$f":"SHALADARPAN!E930","v":0},{"$f":"SHALADARPAN!G930","v":0}]
[{"$nulls":18},{"$f":"SHALADARPAN!A931","v":0},{"$f":"SHALADARPAN!B931","v":0},{"$f":"SHALADARPAN!K931","v":0},{"$f":"SHALADARPAN!E931","v":0},{"$f":"SHALADARPAN!G931","v":0}]
[{"$nulls":18},{"$f":"SHALADARPAN!A932","v":0},{"$f":"SHALADARPAN!B932","v":0},{"$f":"SHALADARPAN!K932","v":0},{"$f":"SHALADARPAN!E932","v":0},{"$f":"SHALADARPAN!G932","v":0}]
[{"$nulls":18},{"$f":"SHALADARPAN!A933","v":0},{"$f":"SHALADARPAN!B933","v":0},{"$f":"SHALADARPAN!K933","v":0},{"$f":"SHALADARPAN!E933","v":0},{"$f":"SHALADARPAN!G933","v":0}]
[{"$nulls":18},{"$f":"SHALADARPAN!A934","v":0},{"$f":"SHALADARPAN!B934","v":0},{"$f":"SHALADARPAN!K934","v":0},{"$f":"SHALADARPAN!E934","v":0},{"$f":"SHALADARPAN!G934","v":0}]
[{"$nulls":18},{"$f":"SHALADARPAN!A935","v":0},{"$f":"SHALADARPAN!B935","v":0},{"$f":"SHALADARPAN!K935","v":0},{"$f":"SHALADARPAN!E935","v":0},{"$f":"SHALADARPAN!G935","v":0}]
[{"$nulls":18},{"$f":"SHALADARPAN!A936","v":0},{"$f":"SHALADARPAN!B936","v":0},{"$f":"SHALADARPAN!K936","v":0},{"$f":"SHALADARPAN!E936","v":0},{"$f":"SHALADARPAN!G936","v":0}]
[{"$nulls":18},{"$f":"SHALADARPAN!A937","v":0},{"$f":"SHALADARPAN!B937","v":0},{"$f":"SHALADARPAN!K937","v":0},{"$f":"SHALADARPAN!E937","v":0},{"$f":"SHALADARPAN!G937","v":0}]
[{"$nulls":18},{"$f":"SHALADARPAN!A938","v":0},{"$f":"SHALADARPAN!B938","v":0},{"$f":"SHALADARPAN!K938","v":0},{"$f":"SHALADARPAN!E938","v":0},{"$f":"SHALADARPAN!G938","v":0}]
[{"$nulls":18},{"$f":"SHALADARPAN!A939","v":0},{"$f":"SHALADARPAN!B939","v":0},{"$f":"SHALADARPAN!K939","v":0},{"$f":"SHALADARPAN!E939","v":0},{"$f":"SHALADARPAN!G939","v":0}]
[{"$nulls":18},{"$f":"SHALADARPAN!A940","v":0},{"$f":"SHALADARPAN!B940","v":0},{"$f":"SHALADARPAN!K940","v":0},{"$f":"SHALADARPAN!E940","v":0},{"$f":"SHALADARPAN!G940","v":0}]
[{"$nulls":18},{"$f":"SHALADARPAN!A941","v":0},{"$f":"SHALADARPAN!B941","v":0},{"$f":"SHALADARPAN!K941","v":0},{"$f":"SHALADARPAN!E941","v":0},{"$f":"SHALADARPAN!G941","v":0}]
[{"$nulls":18},{"$f":"SHALADARPAN!A942","v":0},{"$f":"SHALADARPAN!B942","v":0},{"$f":"SHALADARPAN!K942","v":0},{"$f":"SHALADARPAN!E942","v":0},{"$f":"SHALADARPAN!G942","v":0}]
[{"$nulls":18},{"$f":"SHALADARPAN!A943","v":0},{"$f":"SHALADARPAN!B943","v":0},{"$f":"SHALADARPAN!K943","v":0},{"$f":"SHALADARPAN!E943","v":0},{"$f":"SHALADARPAN!G943","v":0}]
[{"$nulls":18},{"$f":"SHALADARPAN!A944","v":0},{"$f":"SHALADARPAN!B944","v":0},{"$f":"SHALADARPAN!K944","v":0},{"$f":"SHALADARPAN!E944","v":0},{"$f":"SHALADARPAN!G944","v":0}]
[{"$nulls":18},{"$f":"SHALADARPAN!A945","v":0},{"$f":"SHALADARPAN!B945","v":0},{"$f":"SHALADARPAN!K945","v":0},{"$f":"SHALADARPAN!E945","v":0},{"$f":"SHALADARPAN!G945","v":0}]
[{"$nulls":18},{"$f":"SHALADARPAN!A946","v":0},{"$f":"SHALADARPAN!B946","v":0},{"$f":"SHALADARPAN!K946","v":0},{"$f":"SHALADARPAN!E946","v":0},{"$f":"SHALADARPAN!G946","v":0}]
[{"$nulls":18},{"$f":"SHALADARPAN!A947","v":0},{"$f":"SHALADARPAN!B947","v":0},{"$f":"SHALADARPAN!K947","v":0},{"$f":"SHALADARPAN!E947","v":0},{"$f":"SHALADARPAN!G947","v":0}]
[{"$nulls":18},{"$f":"SHALADARPAN!A948","v":0},{"$f":"SHALADARPAN!B948","v":0},{"$f":"SHALADARPAN!K948","v":0},{"$f":"SHALADARPAN!E948","v":0},{"$f":"SHALADARPAN!G948","v":0}]
[{"$nulls":18},{"$f":"SHALADARPAN!A949","v":0},{"$f":"SHALADARPAN!B949","v":0},{"$f":"SHALADARPAN!K949","v":0},{"$f":"SHALADARPAN!E949","v":0},{"$f":"SHALADARPAN!G949","v":0}]
[{"$nulls":18},{"$f":"SHALADARPAN!A950","v":0},{"$f":"SHALADARPAN!B950","v":0},{"$f":"SHALADARPAN!K950","v":0},{"$f":"SHALADARPAN!E950","v":0},{"$f":"SHALADARPAN!G950","v":0}]
[{"$nulls":18},{"$f":"SHALADARPAN!A951","v":0},{"$f":"SHALADARPAN!B951","v":0},{"$f":"SHALADARPAN!K951","v":0},{"$f":"SHALADARPAN!E951","v":0},{"$f":"SHALADARPAN!G951","v":0}]
[{"$nulls":18},{"$f":"SHALADARPAN!A952","v":0},{"$f":"SHALADARPAN!B952","v":0},{"$f":"SHALADARPAN!K952","v":0},{"$f":"SHALADARPAN!E952","v":0},{"$f":"SHALADARPAN!G952","v":0}]
[{"$nulls":18},{"$f":"SHALADARPAN!A953","v":0},{"$f":"SHALADARPAN!B953","v":0},{"$f":"SHALADARPAN!K953","v":0},{"$f":"SHALADARPAN!E953","v":0},{"$f":"SHALADARPAN!G953","v":0}]
[{"$nulls":18},{"$f":"SHALADARPAN!A954","v":0},{"$f":"SHALADARPAN!B954","v":0},{"$f":"SHALADARPAN!K954","v":0},{"$f":"SHALADARPAN!E954","v":0},{"$f":"SHALADARPAN!G954","v":0}]
[{"$nulls":18},{"$f":"SHALADARPAN!A955","v":0},{"$f":"SHALADARPAN!B955","v":0},{"$f":"SHALADARPAN!K955","v":0},{"$f":"SHALADARPAN!E955","v":0},{"$f":"SHALADARPAN!G955","v":0}]
[{"$nulls":18},{"$f":"SHALADARPAN!A956","v":0},{"$f":"SHALADARPAN!B956","v":0},{"$f":"SHALADARPAN!K956","v":0},{"$f":"SHALADARPAN!E956","v":0},{"$f":"SHALADARPAN!G956","v":0}]
[{"$nulls":18},{"$f":"SHALADARPAN!A957","v":0},{"$f":"SHALADARPAN!B957","v":0},{"$f":"SHALADARPAN!K957","v":0},{"$f":"SHALADARPAN!E957","v":0},{"$f":"SHALADARPAN!G957","v":0}]
[{"$nulls":18},{"$f":"SHALADARPAN!A958","v":0},{"$f":"SHALADARPAN!B958","v":0},{"$f":"SHALADARPAN!K958","v":0},{"$f":"SHALADARPAN!E958","v":0},{"$f":"SHALADARPAN!G958","v":0}]
[{"$nulls":18},{"$f":"SHALADARPAN!A959","v":0},{"$f":"SHALADARPAN!B959","v":0},{"$f":"SHALADARPAN!K959","v":0},{"$f":"SHALADARPAN!E959","v":0},{"$f":"SHALADARPAN!G959","v":0}]
[{"$nulls":18},{"$f":"SHALADARPAN!A960","v":0},{"$f":"SHALADARPAN!B960","v":0},{"$f":"SHALADARPAN!K960","v":0},{"$f":"SHALADARPAN!E960","v":0},{"$f":"SHALADARPAN!G960","v":0}]
[{"$nulls":18},{"$f":"SHALADARPAN!A961","v":0},{"$f":"SHALADARPAN!B961","v":0},{"$f":"SHALADARPAN!K961","v":0},{"$f":"SHALADARPAN!E961","v":0},{"$f":"SHALADARPAN!G961","v":0}]
[{"$nulls":18},{"$f":"SHALADARPAN!A962","v":0},{"$f":"SHALADARPAN!B962","v":0},{"$f":"SHALADARPAN!K962","v":0},{"$f":"SHALADARPAN!E962","v":0},{"$f":"SHALADARPAN!G962","v":0}]
[{"$nulls":18},{"$f":"SHALADARPAN!A963","v":0},{"$f":"SHALADARPAN!B963","v":0},{"$f":"SHALADARPAN!K963","v":0},{"$f":"SHALADARPAN!E963","v":0},{"$f":"SHALADARPAN!G963","v":0}]
[{"$nulls":18},{"$f":"SHALADARPAN!A964","v":0},{"$f":"SHALADARPAN!B964","v":0},{"$f":"SHALADARPAN!K964","v":0},{"$f":"SHALADARPAN!E964","v":0},{"$f":"SHALADARPAN!G964","v":0}]
[{"$nulls":18},{"$f":"SHALADARPAN!A965","v":0},{"$f":"SHALADARPAN!B965","v":0},{"$f":"SHALADARPAN!K965","v":0},{"$f":"SHALADARPAN!E965","v":0},{"$f":"SHALADARPAN!G965","v":0}]
[{"$nulls":18},{"$f":"SHALADARPAN!A966","v":0},{"$f":"SHALADARPAN!B966","v":0},{"$f":"SHALADARPAN!K966","v":0},{"$f":"SHALADARPAN!E966","v":0},{"$f":"SHALADARPAN!G966","v":0}]
[{"$nulls":18},{"$f":"SHALADARPAN!A967","v":0},{"$f":"SHALADARPAN!B967","v":0},{"$f":"SHALADARPAN!K967","v":0},{"$f":"SHALADARPAN!E967","v":0},{"$f":"SHALADARPAN!G967","v":0}]
[{"$nulls":18},{"$f":"SHALADARPAN!A968","v":0},{"$f":"SHALADARPAN!B968","v":0},{"$f":"SHALADARPAN!K968","v":0},{"$f":"SHALADARPAN!E968","v":0},{"$f":"SHALADARPAN!G968","v":0}]
[{"$nulls":18},{"$f":"SHALADARPAN!A969","v":0},{"$f":"SHALADARPAN!B969","v":0},{"$f":"SHALADARPAN!K969","v":0},{"$f":"SHALADARPAN!E969","v":0},{"$f":"SHALADARPAN!G969","v":0}]
[{"$nulls":18},{"$f":"SHALADARPAN!A970","v":0},{"$f":"SHALADARPAN!B970","v":0},{"$f":"SHALADARPAN!K970","v":0},{"$f":"SHALADARPAN!E970","v":0},{"$f":"SHALADARPAN!G970","v":0}]
[{"$nulls":18},{"$f":"SHALADARPAN!A971","v":0},{"$f":"SHALADARPAN!B971","v":0},{"$f":"SHALADARPAN!K971","v":0},{"$f":"SHALADARPAN!E971","v":0},{"$f":"SHALADARPAN!G971","v":0}]
[{"$nulls":18},{"$f":"SHALADARPAN!A972","v":0},{"$f":"SHALADARPAN!B972","v":0},{"$f":"SHALADARPAN!K972","v":0},{"$f":"SHALADARPAN!E972","v":0},{"$f":"SHALADARPAN!G972","v":0}]
[{"$nulls":18},{"$f":"SHALADARPAN!A973","v":0},{"$f":"SHALADARPAN!B973","v":0},{"$f":"SHALADARPAN!K973","v":0},{"$f":"SHALADARPAN!E973","v":0},{"$f":"SHALADARPAN!G973","v":0}]
[{"$nulls":18},{"$f":"SHALADARPAN!A974","v":0},{"$f":"SHALADARPAN!B974","v":0},{"$f":"SHALADARPAN!K974","v":0},{"$f":"SHALADARPAN!E974","v":0},{"$f":"SHALADARPAN!G974","v":0}]
[{"$nulls":18},{"$f":"SHALADARPAN!A975","v":0},{"$f":"SHALADARPAN!B975","v":0},{"$f":"SHALADARPAN!K975","v":0},{"$f":"SHALADARPAN!E975","v":0},{"$f":"SHALADARPAN!G975","v":0}]
[{"$nulls":18},{"$f":"SHALADARPAN!A976","v":0},{"$f":"SHALADARPAN!B976","v":0},{"$f":"SHALADARPAN!K976","v":0},{"$f":"SHALADARPAN!E976","v":0},{"$f":"SHALADARPAN!G976","v":0}]
[{"$nulls":18},{"$f":"SHALADARPAN!A977","v":0},{"$f":"SHALADARPAN!B977","v":0},{"$f":"SHALADARPAN!K977","v":0},{"$f":"SHALADARPAN!E977","v":0},{"$f":"SHALADARPAN!G977","v":0}]
[{"$nulls":18},{"$f":"SHALADARPAN!A978","v":0},{"$f":"SHALADARPAN!B978","v":0},{"$f":"SHALADARPAN!K978","v":0},{"$f":"SHALADARPAN!E978","v":0},{"$f":"SHALADARPAN!G978","v":0}]
[{"$nulls":18},{"$f":"SHALADARPAN!A979","v":0},{"$f":"SHALADARPAN!B979","v":0},{"$f":"SHALADARPAN!K979","v":0},{"$f":"SHALADARPAN!E979","v":0},{"$f":"SHALADARPAN!G979","v":0}]
[{"$nulls":18},{"$f":"SHALADARPAN!A980","v":0},{"$f":"SHALADARPAN!B980","v":0},{"$f":"SHALADARPAN!K980","v":0},{"$f":"SHALADARPAN!E980","v":0},{"$f":"SHALADARPAN!G980","v":0}]
[{"$nulls":18},{"$f":"SHALADARPAN!A981","v":0},{"$f":"SHALADARPAN!B981","v":0},{"$f":"SHALADARPAN!K981","v":0},{"$f":"SHALADARPAN!E981","v":0},{"$f":"SHALADARPAN!G981","v":0}]
[{"$nulls":18},{"$f":"SHALADARPAN!A982","v":0},{"$f":"SHALADARPAN!B982","v":0},{"$f":"SHALADARPAN!K982","v":0},{"$f":"SHALADARPAN!E982","v":0},{"$f":"SHALADARPAN!G982","v":0}]
[{"$nulls":18},{"$f":"SHALADARPAN!A983","v":0},{"$f":"SHALADARPAN!B983","v":0},{"$f":"SHALADARPAN!K983","v":0},{"$f":"SHALADARPAN!E983","v":0},{"$f":"SHALADARPAN!G983","v":0}]
[{"$nulls":18},{"$f":"SHALADARPAN!A984","v":0},{"$f":"SHALADARPAN!B984","v":0},{"$f":"SHALADARPAN!K984","v":0},{"$f":"SHALADARPAN!E984","v":0},{"$f":"SHALADARPAN!G984","v":0}]
[{"$nulls":18},{"$f":"SHALADARPAN!A985","v":0},{"$f":"SHALADARPAN!B985","v":0},{"$f":"SHALADARPAN!K985","v":0},{"$f":"SHALADARPAN!E985","v":0},{"$f":"SHALADARPAN!G985","v":0}]
[{"$nulls":18},{"$f":"SHALADARPAN!A986","v":0},{"$f":"SHALADARPAN!B986","v":0},{"$f":"SHALADARPAN!K986","v":0},{"$f":"SHALADARPAN!E986","v":0},{"$f":"SHALADARPAN!G986","v":0}]
[{"$nulls":18},{"$f":"SHALADARPAN!A987","v":0},{"$f":"SHALADARPAN!B987","v":0},{"$f":"SHALADARPAN!K987","v":0},{"$f":"SHALADARPAN!E987","v":0},{"$f":"SHALADARPAN!G987","v":0}]
[{"$nulls":18},{"$f":"SHALADARPAN!A988","v":0},{"$f":"SHALADARPAN!B988","v":0},{"$f":"SHALADARPAN!K988","v":0},{"$f":"SHALADARPAN!E988","v":0},{"$f":"SHALADARPAN!G988","v":0}]
[{"$nulls":18},{"$f":"SHALADARPAN!A989","v":0},{"$f":"SHALADARPAN!B989","v":0},{"$f":"SHALADARPAN!K989","v":0},{"$f":"SHALADARPAN!E989","v":0},{"$f":"SHALADARPAN!G989","v":0}]
[{"$nulls":18},{"$f":"SHALADARPAN!A990","v":0},{"$f":"SHALADARPAN!B990","v":0},{"$f":"SHALADARPAN!K990","v":0},{"$f":"SHALADARPAN!E990","v":0},{"$f":"SHALADARPAN!G990","v":0}]

{"sheet":"SLIP(11-12)","index":4,"n_rows":997,"n_cols":27,"rows_kept":997,"merged":[[0,1,0,12],[1,3,1,6],[2,5,2,6],[2,7,2,12],[4,5,4,8],[4,9,4,11],[4,12,4,14],[5,1,6,1],[5,2,6,2],[5,3,6,3],[5,4,6,4],[5,5,6,5],[5,6,6,6],[5,7,6,7],[5,8,6,8],[5,9,6,9],[5,10,6,10],[5,11,6,11],[5,12,6,12],[5,13,6,13],[5,14,6,14],[5,15,6,15],[5,16,6,16],[5,17,6,17],[5,18,6,18]]}
[null,{"$f":"'MARK SLIP(6-8)'!B1:L1","v":"कार्यालय राजकीय उच्च माध्यमिक विद्यालय आलनियावास नागौर"}]
[{"$nulls":3},"MARK SLIP 2022-2023"]
[null,null,"कक्षा","वर्ग",null,"विषय"]
[null,null,12,"B",null,"विषयाध्यापक"]
[{"$nulls":5},"सामयिक परख",{"$nulls":3},"अर्द्धवार्षिक ",null,null,"वार्षिक परीक्षा"]
[null,"क्र.सं.","रोल नम्बर","विद्यार्थी का नाम","पिता का नाम","प्रथम परख","द्वितीय परख","तृतीय परख","योग","प्रश्न पत्र","प्रायोगिक","योग","प्रश्न पत्र","प्रायोगिक","योग","सर्वयोग"]
[]
[null,null,"रोल नम्बर","विद्यार्थी का नाम","पिता का नाम",10,10,10,30,70,null,70,100,null,100,200,{"$nulls":6},"कक्षा","वर्ग","रोल नम्बर","विद्यार्थी का नाम","पिता का नाम"]
[null,{"$f":"IF(D9=\"\",\"\",ROWS($D$9:D9))","v":1},1701,"AKRAM","Kailash",{"$nulls":17},{"$f":"SHALADARPAN!A2","v":1},{"$f":"SHALADARPAN!B2","v":"A"},{"$f":"SHALADARPAN!K2","v":0},{"$f":"SHALADARPAN!E2","v":"Aaliya"},{"$f":"SHALADARPAN!G2","v":"Kailash"}]
[null,{"$f":"IF(D10=\"\",\"\",ROWS($D$9:D10))","v":2},1702,"ANURADHA","Kailash",{"$nulls":16},1,{"$f":"SHALADARPAN!A3","v":1},{"$f":"SHALADARPAN!B3","v":"A"},{"$f":"SHALADARPAN!K3","v":0},{"$f":"SHALADARPAN!E3","v":"Aarju"},{"$f":"SHALADARPAN!G3","v":"Kailash"}]
[null,{"$f":"IF(D11=\"\",\"\",ROWS($D$9:D11))","v":3},1703,"AVINASH","Kailash",{"$nulls":16},2,{"$f":"SHALADARPAN!A4","v":1},{"$f":"SHALADARPAN!B4","v":"A"},{"$f":"SHALADARPAN!K4","v":0},{"$f":"SHALADARPAN!E4","v":"Aarmin"},{"$f":"SHALADARPAN!G4","v":"Kailash"}]
[null,{"$f":"IF(D12=\"\",\"\",ROWS($D$9:D12))","v":4},1704,"BASANTI","Kailash",{"$nulls":16},3,{"$f":"SHALADARPAN!A5","v":1},{"$f":"SHALADARPAN!B5","v":"A"},{"$f":"SHALADARPAN!K5","v":0},{"$f":"SHALADARPAN!E5","v":"Aashmen"},{"$f":"SHALADARPAN!G5","v":"Kailash"}]
[null,{"$f":"IF(D13=\"\",\"\",ROWS($D$9:D13))","v":5},1705,"BRIJPAL SINGH","Kailash",{"$nulls":16},4,{"$f":"SHALADARPAN!A6","v":1},{"$f":"SHALADARPAN!B6","v":"A"},{"$f":"SHALADARPAN!K6","v":0},{"$f":"SHALADARPAN!E6","v":"Aliya"},{"$f":"SHALADARPAN!G6","v":"Kailash"}]
[null,{"$f":"IF(D14=\"\",\"\",ROWS($D$9:D14))","v":6},1706,"Govind Puri","Kailash",{"$nulls":16},5,{"$f":"SHALADARPAN!A7","v":1},{"$f":"SHALADARPAN!B7","v":"A"},{"$f":"SHALADARPAN!K7","v":0},{"$f":"SHALADARPAN!E7","v":"Bheemraj"},{"$f":"SHALADARPAN!G7","v":"Kailash"}]
[null,{"$f":"IF(D15=\"\",\"\",ROWS($D$9:D15))","v":7},1707,"JITENDRA PURI","Kailash",{"$nulls":16},6,{"$f":"SHALADARPAN!A8","v":1},{"$f":"SHALADARPAN!B8","v":"A"},{"$f":"SHALADARPAN!K8","v":0},{"$f":"SHALADARPAN!E8","v":"Bilal"},{"$f":"SHALADARPAN!G8","v":"Kailash"}]
[null,{"$f":"IF(D16=\"\",\"\",ROWS($D$9:D16))","v":8},1708,"Kamal Meghwal","Kailash",{"$nulls":16},7,{"$f":"SHALADARPAN!A9","v":1},{"$f":"SHALADARPAN!B9","v":"A"},{"$f":"SHALADARPAN!K9","v":0},{"$f":"SHALADARPAN!E9","v":"Gulnaj Banu"},{"$f":"SHALADARPAN!G9","v":"Kailash"}]
[null,{"$f":"IF(D17=\"\",\"\",ROWS($D$9:D17))","v":9},1709,"KAMLESH KUMAWAT","Kailash",{"$nulls":16},8,{"$f":"SHALADARPAN!A10","v":1},{"$f":"SHALADARPAN!B10","v":"A"},{"$f":"SHALADARPAN!K10","v":0},{"$f":"SHALADARPAN!E10","v":"Gunjan"},{"$f":"SHALADARPAN!G10","v":"Kailash"}]
[null,{"$f":"IF(D18=\"\",\"\",ROWS($D$9:D18))","v":10},1710,"KSHITIJ VAISHNAV","Kailash",{"$nulls":17},{"$f":"SHALADARPAN!A11","v":1},{"$f":"SHALADARPAN!B11","v":"A"},{"$f":"SHALADARPAN!K11","v":0},{"$f":"SHALADARPAN!E11","v":"Jasmim"},{"$f":"SHALADARPAN!G11","v":"Kailash"}]
[null,{"$f":"IF(D19=\"\",\"\",ROWS($D$9:D19))","v":11},1711,"MANISH ACHARYA","Kailash",{"$nulls":17},{"$f":"SHALADARPAN!A12","v":1},{"$f":"SHALADARPAN!B12","v":"A"},{"$f":"SHALADARPAN!K12","v":0},{"$f":"SHALADARPAN!E12","v":"Jyoti Dagdi"},{"$f":"SHALADARPAN!G12","v":"Kailash"}]
[null,{"$f":"IF(D20=\"\",\"\",ROWS($D$9:D20))","v":12},1712,"MILAN VAISHNAV","Kailash",{"$nulls":17},{"$f":"SHALADARPAN!A13","v":1},{"$f":"SHALADARPAN!B13","v":"A"},{"$f":"SHALADARPAN!K13","v":0},{"$f":"SHALADARPAN!E13","v":"Kalu Dagdi"},{"$f":"SHALADARPAN!G13","v":"Kailash"}]
[null,{"$f":"IF(D21=\"\",\"\",ROWS($D$9:D21))","v":13},1713,"MUSKAN BANU","Kailash",{"$nulls":17},{"$f":"SHALADARPAN!A14","v":1},{"$f":"SHALADARPAN!B14","v":"A"},{"$f":"SHALADARPAN!K14","v":0},{"$f":"SHALADARPAN!E14","v":"Khushanur Bano"},{"$f":"SHALADARPAN!G14","v":"Kailash"}]
[null,{"$f":"IF(D22=\"\",\"\",ROWS($D$9:D22))","v":14},1714,"NARENDRA KUMAR","Kailash",{"$nulls":17},{"$f":"SHALADARPAN!A15","v":1},{"$f":"SHALADARPAN!B15","v":"A"},{"$f":"SHALADARPAN!K15","v":0},{"$f":"SHALADARPAN!E15","v":"Komal Gurjar"},{"$f":"SHALADARPAN!G15","v":"Kailash"}]
[null,{"$f":"IF(D23=\"\",\"\",ROWS($D$9:D23))","v":15},1715,"POOJA MEGHWAL","Kailash",{"$nulls":17},{"$f":"SHALADARPAN!A16","v":1},{"$f":"SHALADARPAN!B16","v":"A"},{"$f":"SHALADARPAN!K16","v":0},{"$f":"SHALADARPAN!E16","v":"Lal Chand"},{"$f":"SHALADARPAN!G16","v":"Kailash"}]
[null,{"$f":"IF(D24=\"\",\"\",ROWS($D$9:D24))","v":16},1716,"PRADEEP SINGH","Kailash",{"$nulls":17},{"$f":"SHALADARPAN!A17","v":1},{"$f":"SHALADARPAN!B17","v":"A"},{"$f":"SHALADARPAN!K17","v":0},{"$f":"SHALADARPAN!E17","v":"Mamtaj"},{"$f":"SHALADARPAN!G17","v":"Kailash"}]
[null,{"$f":"IF(D25=\"\",\"\",ROWS($D$9:D25))","v":17},1717,"RAHUL SAINI","Kailash",{"$nulls":17},{"$f":"SHALADARPAN!A18","v":1},{"$f":"SHALADARPAN!B18","v":"A"},{"$f":"SHALADARPAN!K18","v":0},{"$f":"SHALADARPAN!E18","v":"Mohammad Abbas"},{"$f":"SHALADARPAN!G18","v":"Kailash"}]
[null,{"$f":"IF(D26=\"\",\"\",ROWS($D$9:D26))","v":18},1718,"RAHUL SINGH","Kailash",{"$nulls":17},{"$f":"SHALADARPAN!A19","v":1},{"$f":"SHALADARPAN!B19","v":"A"},{"$f":"SHALADARPAN!K19","v":0},{"$f":"SHALADARPAN!E19","v":"Mohammad Aman"},{"$f":"SHALADARPAN!G19","v":"Kailash"}]
[null,{"$f":"IF(D27=\"\",\"\",ROWS($D$9:D27))","v":19},1719,"RAM RATAN DUDI","Kailash",{"$nulls":17},{"$f":"SHALADARPAN!A20","v":1},{"$f":"SHALADARPAN!B20","v":"A"},{"$f":"SHALADARPAN!K20","v":0},{"$f":"SHALADARPAN!E20","v":"Mohammad Arphin"},{"$f":"SHALADARPAN!G20","v":"Kailash"}]
[null,{"$f":"IF(D28=\"\",\"\",ROWS($D$9:D28))","v":20},1720,"Ravindra Barada","Kailash",{"$nulls":17},{"$f":"SHALADARPAN!A21","v":1},{"$f":"SHALADARPAN!B21","v":"A"},{"$f":"SHALADARPAN!K21","v":0},{"$f":"SHALADARPAN!E21","v":"Mustafa"},{"$f":"SHALADARPAN!G21","v":"Kailash"}]
[null,{"$f":"IF(D29=\"\",\"\",ROWS($D$9:D29))","v":21},1721,"RIZWANA","Kailash",{"$nulls":17},{"$f":"SHALADARPAN!A22","v":1},{"$f":"SHALADARPAN!B22","v":"A"},{"$f":"SHALADARPAN!K22","v":0},{"$f":"SHALADARPAN!E22","v":"Nenu Ram"},{"$f":"SHALADARPAN!G22","v":"Kailash"}]
[null,{"$f":"IF(D30=\"\",\"\",ROWS($D$9:D30))","v":22},1722,"SONIYA RAIDAS","Kailash",{"$nulls":17},{"$f":"SHALADARPAN!A23","v":1},{"$f":"SHALADARPAN!B23","v":"A"},{"$f":"SHALADARPAN!K23","v":0},{"$f":"SHALADARPAN!E23","v":"Raju"},{"$f":"SHALADARPAN!G23","v":"Kailash"}]
[null,{"$f":"IF(D31=\"\",\"\",ROWS($D$9:D31))","v":""},{"$nulls":20},{"$f":"SHALADARPAN!A24","v":1},{"$f":"SHALADARPAN!B24","v":"A"},{"$f":"SHALADARPAN!K24","v":0},{"$f":"SHALADARPAN!E24","v":"Rehana Banu"},{"$f":"SHALADARPAN!G24","v":"Kailash"}]
[null,{"$f":"IF(D32=\"\",\"\",ROWS($D$9:D32))","v":""},{"$nulls":20},{"$f":"SHALADARPAN!A25","v":1},{"$f":"SHALADARPAN!B25","v":"A"},{"$f":"SHALADARPAN!K25","v":0},{"$f":"SHALADARPAN!E25","v":"Saina"},{"$f":"SHALADARPAN!G25","v":"Kailash"}]
[null,{"$f":"IF(D33=\"\",\"\",ROWS($D$9:D33))","v":""},{"$nulls":20},{"$f":"SHALADARPAN!A26","v":1},{"$f":"SHALADARPAN!B26","v":"A"},{"$f":"SHALADARPAN!K26","v":0},{"$f":"SHALADARPAN!E26","v":"Sangeeta"},{"$f":"SHALADARPAN!G26","v":"Kailash"}]
[null,{"$f":"IF(D34=\"\",\"\",ROWS($D$9:D34))","v":""},{"$nulls":20},{"$f":"SHALADARPAN!A27","v":1},{"$f":"SHALADARPAN!B27","v":"A"},{"$f":"SHALADARPAN!K27","v":0},{"$f":"SHALADARPAN!E27","v":"Sayna Banu"},{"$f":"SHALADARPAN!G27","v":"Kailash"}]
[null,{"$f":"IF(D35=\"\",\"\",ROWS($D$9:D35))","v":""},{"$nulls":20},{"$f":"SHALADARPAN!A28","v":1},{"$f":"SHALADARPAN!B28","v":"A"},{"$f":"SHALADARPAN!K28","v":0},{"$f":"SHALADARPAN!E28","v":"Shahid"},{"$f":"SHALADARPAN!G28","v":"Kailash"}]
[null,{"$f":"IF(D36=\"\",\"\",ROWS($D$9:D36))","v":""},{"$nulls":20},{"$f":"SHALADARPAN!A29","v":1},{"$f":"SHALADARPAN!B29","v":"A"},{"$f":"SHALADARPAN!K29","v":0},{"$f":"SHALADARPAN!E29","v":"Sivani"},{"$f":"SHALADARPAN!G29","v":"Kailash"}]
[null,{"$f":"IF(D37=\"\",\"\",ROWS($D$9:D37))","v":""},{"$nulls":20},{"$f":"SHALADARPAN!A30","v":1},{"$f":"SHALADARPAN!B30","v":"A"},{"$f":"SHALADARPAN!K30","v":0},{"$f":"SHALADARPAN!E30","v":"Surta"},{"$f":"SHALADARPAN!G30","v":"Kailash"}]
[null,{"$f":"IF(D38=\"\",\"\",ROWS($D$9:D38))","v":""},{"$nulls":20},{"$f":"SHALADARPAN!A31","v":1},{"$f":"SHALADARPAN!B31","v":"A"},{"$f":"SHALADARPAN!K31","v":0},{"$f":"SHALADARPAN!E31","v":"Tammna Aacharya"},{"$f":"SHALADARPAN!G31","v":"Kailash"}]
[null,{"$f":"IF(D39=\"\",\"\",ROWS($D$9:D39))","v":""},{"$nulls":20},{"$f":"SHALADARPAN!A32","v":1},{"$f":"SHALADARPAN!B32","v":"A"},{"$f":"SHALADARPAN!K32","v":0},{"$f":"SHALADARPAN!E32","v":"Tanu"},{"$f":"SHALADARPAN!G32","v":"Kailash"}]
[null,{"$f":"IF(D40=\"\",\"\",ROWS($D$9:D40))","v":""},{"$nulls":20},{"$f":"SHALADARPAN!A33","v":1},{"$f":"SHALADARPAN!B33","v":"A"},{"$f":"SHALADARPAN!K33","v":0},{"$f":"SHALADARPAN!E33","v":"Yuvraj Acharya"},{"$f":"SHALADARPAN!G33","v":"Kailash"}]
[null,{"$f":"IF(D41=\"\",\"\",ROWS($D$9:D41))","v":""},{"$nulls":20},{"$f":"SHALADARPAN!A34","v":2},{"$f":"SHALADARPAN!B34","v":"A"},{"$f":"SHALADARPAN!K34","v":0},{"$f":"SHALADARPAN!E34","v":"Aaliya Bano"},{"$f":"SHALADARPAN!G34","v":"Kailash"}]
[null,{"$f":"IF(D42=\"\",\"\",ROWS($D$9:D42))","v":""},{"$nulls":20},{"$f":"SHALADARPAN!A35","v":2},{"$f":"SHALADARPAN!B35","v":"A"},{"$f":"SHALADARPAN!K35","v":0},{"$f":"SHALADARPAN!E35","v":"Abbas"},{"$f":"SHALADARPAN!G35","v":"Kailash"}]
[null,{"$f":"IF(D43=\"\",\"\",ROWS($D$9:D43))","v":""},{"$nulls":20},{"$f":"SHALADARPAN!A36","v":2},{"$f":"SHALADARPAN!B36","v":"A"},{"$f":"SHALADARPAN!K36","v":0},{"$f":"SHALADARPAN!E36","v":"Abhishek"},{"$f":"SHALADARPAN!G36","v":"Kailash"}]
[null,{"$f":"IF(D44=\"\",\"\",ROWS($D$9:D44))","v":""},{"$nulls":20},{"$f":"SHALADARPAN!A37","v":2},{"$f":"SHALADARPAN!B37","v":"A"},{"$f":"SHALADARPAN!K37","v":0},{"$f":"SHALADARPAN!E37","v":"Anita"},{"$f":"SHALADARPAN!G37","v":"Kailash"}]
[null,{"$f":"IF(D45=\"\",\"\",ROWS($D$9:D45))","v":""},{"$nulls":20},{"$f":"SHALADARPAN!A38","v":2},{"$f":"SHALADARPAN!B38","v":"A"},{"$f":"SHALADARPAN!K38","v":0},{"$f":"SHALADARPAN!E38","v":"Asad Rajja"},{"$f":"SHALADARPAN!G38","v":"Kailash"}]
[null,{"$f":"IF(D46=\"\",\"\",ROWS($D$9:D46))","v":""},{"$nulls":20},{"$f":"SHALADARPAN!A39","v":2},{"$f":"SHALADARPAN!B39","v":"A"},{"$f":"SHALADARPAN!K39","v":0},{"$f":"SHALADARPAN!E39","v":"Aslam"},{"$f":"SHALADARPAN!G39","v":"Kailash"}]
[null,{"$f":"IF(D47=\"\",\"\",ROWS($D$9:D47))","v":""},{"$nulls":20},{"$f":"SHALADARPAN!A40","v":2},{"$f":"SHALADARPAN!B40","v":"A"},{"$f":"SHALADARPAN!K40","v":0},{"$f":"SHALADARPAN!E40","v":"Bushra"},{"$f":"SHALADARPAN!G40","v":"Kailash"}]
[null,{"$f":"IF(D48=\"\",\"\",ROWS($D$9:D48))","v":""},{"$nulls":20},{"$f":"SHALADARPAN!A41","v":2},{"$f":"SHALADARPAN!B41","v":"A"},{"$f":"SHALADARPAN!K41","v":0},{"$f":"SHALADARPAN!E41","v":"Harshita"},{"$f":"SHALADARPAN!G41","v":"Kailash"}]
[null,{"$f":"IF(D49=\"\",\"\",ROWS($D$9:D49))","v":""},{"$nulls":20},{"$f":"SHALADARPAN!A42","v":2},{"$f":"SHALADARPAN!B42","v":"A"},{"$f":"SHALADARPAN!K42","v":0},{"$f":"SHALADARPAN!E42","v":"Imran"},{"$f":"SHALADARPAN!G42","v":"Kailash"}]
[null,{"$f":"IF(D50=\"\",\"\",ROWS($D$9:D50))","v":""},{"$nulls":20},{"$f":"SHALADARPAN!A43","v":2},{"$f":"SHALADARPAN!B43","v":"A"},{"$f":"SHALADARPAN!K43","v":0},{"$f":"SHALADARPAN!E43","v":"Javed"},{"$f":"SHALADARPAN!G43","v":"Kailash"}]
[null,{"$f":"IF(D51=\"\",\"\",ROWS($D$9:D51))","v":""},{"$nulls":20},{"$f":"SHALADARPAN!A44","v":2},{"$f":"SHALADARPAN!B44","v":"A"},{"$f":"SHALADARPAN!K44","v":0},{"$f":"SHALADARPAN!E44","v":"Kamal"},{"$f":"SHALADARPAN!G44","v":"Kailash"}]
[null,{"$f":"IF(D52=\"\",\"\",ROWS($D$9:D52))","v":""},{"$nulls":20},{"$f":"SHALADARPAN!A45","v":2},{"$f":"SHALADARPAN!B45","v":"A"},{"$f":"SHALADARPAN!K45","v":0},{"$f":"SHALADARPAN!E45","v":"Kuldeep"},{"$f":"SHALADARPAN!G45","v":"Kailash"}]
[null,{"$f":"IF(D53=\"\",\"\",ROWS($D$9:D53))","v":""},{"$nulls":20},{"$f":"SHALADARPAN!A46","v":2},{"$f":"SHALADARPAN!B46","v":"A"},{"$f":"SHALADARPAN!K46","v":0},{"$f":"SHALADARPAN!E46","v":"Mohit Nath"},{"$f":"SHALADARPAN!G46","v":"Kailash"}]
[null,{"$f":"IF(D54=\"\",\"\",ROWS($D$9:D54))","v":""},{"$nulls":20},{"$f":"SHALADARPAN!A47","v":2},{"$f":"SHALADARPAN!B47","v":"A"},{"$f":"SHALADARPAN!K47","v":0},{"$f":"SHALADARPAN!E47","v":"Naveen Jangliya"},{"$f":"SHALADARPAN!G47","v":"Kailash"}]
[null,{"$f":"IF(D55=\"\",\"\",ROWS($D$9:D55))","v":""},{"$nulls":20},{"$f":"SHALADARPAN!A48","v":2},{"$f":"SHALADARPAN!B48","v":"A"},{"$f":"SHALADARPAN!K48","v":0},{"$f":"SHALADARPAN!E48","v":"Om Prakash"},{"$f":"SHALADARPAN!G48","v":"Kailash"}]
[null,{"$f":"IF(D56=\"\",\"\",ROWS($D$9:D56))","v":""},{"$nulls":20},{"$f":"SHALADARPAN!A49","v":2},{"$f":"SHALADARPAN!B49","v":"A"},{"$f":"SHALADARPAN!K49","v":0},{"$f":"SHALADARPAN!E49","v":"Parina"},{"$f":"SHALADARPAN!G49","v":"Kailash"}]
[null,{"$f":"IF(D57=\"\",\"\",ROWS($D$9:D57))","v":""},{"$nulls":20},{"$f":"SHALADARPAN!A50","v":2},{"$f":"SHALADARPAN!B50","v":"A"},{"$f":"SHALADARPAN!K50","v":0},{"$f":"SHALADARPAN!E50","v":"Rahul"},{"$f":"SHALADARPAN!G50","v":"Kailash"}]
[null,{"$f":"IF(D58=\"\",\"\",ROWS($D$9:D58))","v":""},{"$nulls":20},{"$f":"SHALADARPAN!A51","v":2},{"$f":"SHALADARPAN!B51","v":"A"},{"$f":"SHALADARPAN!K51","v":0},{"$f":"SHALADARPAN!E51","v":"Samina"},{"$f":"SHALADARPAN!G51","v":"Kailash"}]
[null,{"$f":"IF(D59=\"\",\"\",ROWS($D$9:D59))","v":""},{"$nulls":20},{"$f":"SHALADARPAN!A52","v":2},{"$f":"SHALADARPAN!B52","v":"A"},{"$f":"SHALADARPAN!K52","v":0},{"$f":"SHALADARPAN!E52","v":"Sayaba"},{"$f":"SHALADARPAN!G52","v":"Kailash"}]
[null,{"$f":"IF(D60=\"\",\"\",ROWS($D$9:D60))","v":""},{"$nulls":20},{"$f":"SHALADARPAN!A53","v":2},{"$f":"SHALADARPAN!B53","v":"A"},{"$f":"SHALADARPAN!K53","v":0},{"$f":"SHALADARPAN!E53","v":"Sayana"},{"$f":"SHALADARPAN!G53","v":"Kailash"}]
[null,{"$f":"IF(D61=\"\",\"\",ROWS($D$9:D61))","v":""},{"$nulls":20},{"$f":"SHALADARPAN!A54","v":2},{"$f":"SHALADARPAN!B54","v":"A"},{"$f":"SHALADARPAN!K54","v":0},{"$f":"SHALADARPAN!E54","v":"Seema Devi"},{"$f":"SHALADARPAN!G54","v":"Kailash"}]
[null,{"$f":"IF(D62=\"\",\"\",ROWS($D$9:D62))","v":""},{"$nulls":20},{"$f":"SHALADARPAN!A55","v":2},{"$f":"SHALADARPAN!B55","v":"A"},{"$f":"SHALADARPAN!K55","v":0},{"$f":"SHALADARPAN!E55","v":"Shabana"},{"$f":"SHALADARPAN!G55","v":"Kailash"}]
[null,{"$f":"IF(D63=\"\",\"\",ROWS($D$9:D63))","v":""},{"$nulls":20},{"$f":"SHALADARPAN!A56","v":2},{"$f":"SHALADARPAN!B56","v":"A"},{"$f":"SHALADARPAN!K56","v":0},{"$f":"SHALADARPAN!E56","v":"Shabir Huhain"},{"$f":"SHALADARPAN!G56","v":"Kailash"}]
[null,{"$f":"IF(D64=\"\",\"\",ROWS($D$9:D64))","v":""},{"$nulls":20},{"$f":"SHALADARPAN!A57","v":2},{"$f":"SHALADARPAN!B57","v":"A"},{"$f":"SHALADARPAN!K57","v":0},{"$f":"SHALADARPAN!E57","v":"Shahiba Banu"},{"$f":"SHALADARPAN!G57","v":"Kailash"}]
[null,{"$f":"IF(D65=\"\",\"\",ROWS($D$9:D65))","v":""},{"$nulls":20},{"$f":"SHALADARPAN!A58","v":2},{"$f":"SHALADARPAN!B58","v":"A"},{"$f":"SHALADARPAN!K58","v":0},{"$f":"SHALADARPAN!E58","v":"Shahnaz"},{"$f":"SHALADARPAN!G58","v":"Kailash"}]
[null,{"$f":"IF(D66=\"\",\"\",ROWS($D$9:D66))","v":""},{"$nulls":20},{"$f":"SHALADARPAN!A59","v":2},{"$f":"SHALADARPAN!B59","v":"A"},{"$f":"SHALADARPAN!K59","v":0},{"$f":"SHALADARPAN!E59","v":"Shalu Kanwar"},{"$f":"SHALADARPAN!G59","v":"Kailash"}]
[null,{"$f":"IF(D67=\"\",\"\",ROWS($D$9:D67))","v":""},{"$nulls":20},{"$f":"SHALADARPAN!A60","v":2},{"$f":"SHALADARPAN!B60","v":"A"},{"$f":"SHALADARPAN!K60","v":0},{"$f":"SHALADARPAN!E60","v":"Shalu Kanwar"},{"$f":"SHALADARPAN!G60","v":"Kailash"}]
[null,{"$f":"IF(D68=\"\",\"\",ROWS($D$9:D68))","v":""},{"$nulls":20},{"$f":"SHALADARPAN!A61","v":2},{"$f":"SHALADARPAN!B61","v":"A"},{"$f":"SHALADARPAN!K61","v":0},{"$f":"SHALADARPAN!E61","v":"Sharif Mohmmed"},{"$f":"SHALADARPAN!G61","v":"Kailash"}]
[null,{"$f":"IF(D69=\"\",\"\",ROWS($D$9:D69))","v":""},{"$nulls":20},{"$f":"SHALADARPAN!A62","v":2},{"$f":"SHALADARPAN!B62","v":"A"},{"$f":"SHALADARPAN!K62","v":0},{"$f":"SHALADARPAN!E62","v":"Sidarth Mali"},{"$f":"SHALADARPAN!G62","v":"Kailash"}]
[null,{"$f":"IF(D70=\"\",\"\",ROWS($D$9:D70))","v":""},{"$nulls":20},{"$f":"SHALADARPAN!A63","v":2},{"$f":"SHALADARPAN!B63","v":"A"},{"$f":"SHALADARPAN!K63","v":0},{"$f":"SHALADARPAN!E63","v":"Soni"},{"$f":"SHALADARPAN!G63","v":"Kailash"}]
[null,{"$f":"IF(D71=\"\",\"\",ROWS($D$9:D71))","v":""},{"$nulls":20},{"$f":"SHALADARPAN!A64","v":3},{"$f":"SHALADARPAN!B64","v":"A"},{"$f":"SHALADARPAN!K64","v":0},{"$f":"SHALADARPAN!E64","v":"AAISHA BANO"},{"$f":"SHALADARPAN!G64","v":"Kailash"}]
[null,{"$f":"IF(D72=\"\",\"\",ROWS($D$9:D72))","v":""},{"$nulls":20},{"$f":"SHALADARPAN!A65","v":3},{"$f":"SHALADARPAN!B65","v":"A"},{"$f":"SHALADARPAN!K65","v":0},{"$f":"SHALADARPAN!E65","v":"AARIF"},{"$f":"SHALADARPAN!G65","v":"Kailash"}]
[null,{"$f":"IF(D73=\"\",\"\",ROWS($D$9:D73))","v":""},{"$nulls":20},{"$f":"SHALADARPAN!A66","v":3},{"$f":"SHALADARPAN!B66","v":"A"},{"$f":"SHALADARPAN!K66","v":0},{"$f":"SHALADARPAN!E66","v":"ALFIDA"},{"$f":"SHALADARPAN!G66","v":"Kailash"}]
[null,{"$f":"IF(D74=\"\",\"\",ROWS($D$9:D74))","v":""},{"$nulls":20},{"$f":"SHALADARPAN!A67","v":3},{"$f":"SHALADARPAN!B67","v":"A"},{"$f":"SHALADARPAN!K67","v":0},{"$f":"SHALADARPAN!E67","v":"ALVEERA"},{"$f":"SHALADARPAN!G67","v":"Kailash"}]
[null,{"$f":"IF(D75=\"\",\"\",ROWS($D$9:D75))","v":""},{"$nulls":20},{"$f":"SHALADARPAN!A68","v":3},{"$f":"SHALADARPAN!B68","v":"A"},{"$f":"SHALADARPAN!K68","v":0},{"$f":"SHALADARPAN!E68","v":"ANJALEE"},{"$f":"SHALADARPAN!G68","v":"Kailash"}]
[null,{"$f":"IF(D76=\"\",\"\",ROWS($D$9:D76))","v":""},{"$nulls":20},{"$f":"SHALADARPAN!A69","v":3},{"$f":"SHALADARPAN!B69","v":"A"},{"$f":"SHALADARPAN!K69","v":0},{"$f":"SHALADARPAN!E69","v":"CHANCHAL"},{"$f":"SHALADARPAN!G69","v":"Kailash"}]
[null,{"$f":"IF(D77=\"\",\"\",ROWS($D$9:D77))","v":""},{"$nulls":20},{"$f":"SHALADARPAN!A70","v":3},{"$f":"SHALADARPAN!B70","v":"A"},{"$f":"SHALADARPAN!K70","v":0},{"$f":"SHALADARPAN!E70","v":"Danish"},{"$f":"SHALADARPAN!G70","v":"Kailash"}]
[null,{"$f":"IF(D78=\"\",\"\",ROWS($D$9:D78))","v":""},{"$nulls":20},{"$f":"SHALADARPAN!A71","v":3},{"$f":"SHALADARPAN!B71","v":"A"},{"$f":"SHALADARPAN!K71","v":0},{"$f":"SHALADARPAN!E71","v":"GOVIND"},{"$f":"SHALADARPAN!G71","v":"Kailash"}]
[null,{"$f":"IF(D79=\"\",\"\",ROWS($D$9:D79))","v":""},{"$nulls":20},{"$f":"SHALADARPAN!A72","v":3},{"$f":"SHALADARPAN!B72","v":"A"},{"$f":"SHALADARPAN!K72","v":0},{"$f":"SHALADARPAN!E72","v":"HAIDAR ALI"},{"$f":"SHALADARPAN!G72","v":"Kailash"}]
[null,{"$f":"IF(D80=\"\",\"\",ROWS($D$9:D80))","v":""},{"$nulls":20},{"$f":"SHALADARPAN!A73","v":3},{"$f":"SHALADARPAN!B73","v":"A"},{"$f":"SHALADARPAN!K73","v":0},{"$f":"SHALADARPAN!E73","v":"KAVITA"},{"$f":"SHALADARPAN!G73","v":"Kailash"}]
[null,{"$f":"IF(D81=\"\",\"\",ROWS($D$9:D81))","v":""},{"$nulls":20},{"$f":"SHALADARPAN!A74","v":3},{"$f":"SHALADARPAN!B74","v":"A"},{"$f":"SHALADARPAN!K74","v":0},{"$f":"SHALADARPAN!E74","v":"KHUSBU"},{"$f":"SHALADARPAN!G74","v":"Kailash"}]
[null,{"$f":"IF(D82=\"\",\"\",ROWS($D$9:D82))","v":""},{"$nulls":20},{"$f":"SHALADARPAN!A75","v":3},{"$f":"SHALADARPAN!B75","v":"A"},{"$f":"SHALADARPAN!K75","v":0},{"$f":"SHALADARPAN!E75","v":"Komal"},{"$f":"SHALADARPAN!G75","v":"Kailash"}]
[null,{"$f":"IF(D83=\"\",\"\",ROWS($D$9:D83))","v":""},{"$nulls":20},{"$f":"SHALADARPAN!A76","v":3},{"$f":"SHALADARPAN!B76","v":"A"},{"$f":"SHALADARPAN!K76","v":0},{"$f":"SHALADARPAN!E76","v":"Monika Saini"},{"$f":"SHALADARPAN!G76","v":"Kailash"}]
[null,{"$f":"IF(D84=\"\",\"\",ROWS($D$9:D84))","v":""},{"$nulls":20},{"$f":"SHALADARPAN!A77","v":3},{"$f":"SHALADARPAN!B77","v":"A"},{"$f":"SHALADARPAN!K77","v":0},{"$f":"SHALADARPAN!E77","v":"Mukesh Vaishnav"},{"$f":"SHALADARPAN!G77","v":"Kailash"}]
[null,{"$f":"IF(D85=\"\",\"\",ROWS($D$9:D85))","v":""},{"$nulls":20},{"$f":"SHALADARPAN!A78","v":3},{"$f":"SHALADARPAN!B78","v":"A"},{"$f":"SHALADARPAN!K78","v":0},{"$f":"SHALADARPAN!E78","v":"NIKIT BANU"},{"$f":"SHALADARPAN!G78","v":"Kailash"}]
[null,{"$f":"IF(D86=\"\",\"\",ROWS($D$9:D86))","v":""},{"$nulls":20},{"$f":"SHALADARPAN!A79","v":3},{"$f":"SHALADARPAN!B79","v":"A"},{"$f":"SHALADARPAN!K79","v":0},{"$f":"SHALADARPAN!E79","v":"NISHA TAMBOLI"},{"$f":"SHALADARPAN!G79","v":"Kailash"}]
[null,{"$f":"IF(D87=\"\",\"\",ROWS($D$9:D87))","v":""},{"$nulls":20},{"$f":"SHALADARPAN!A80","v":3},{"$f":"SHALADARPAN!B80","v":"A"},{"$f":"SHALADARPAN!K80","v":0},{"$f":"SHALADARPAN!E80","v":"RAJESH"},{"$f":"SHALADARPAN!G80","v":"Kailash"}]
[null,{"$f":"IF(D88=\"\",\"\",ROWS($D$9:D88))","v":""},{"$nulls":20},{"$f":"SHALADARPAN!A81","v":3},{"$f":"SHALADARPAN!B81","v":"A"},{"$f":"SHALADARPAN!K81","v":0},{"$f":"SHALADARPAN!E81","v":"Ranveer Acharya"},{"$f":"SHALADARPAN!G81","v":"Kailash"}]
[null,{"$f":"IF(D89=\"\",\"\",ROWS($D$9:D89))","v":""},{"$nulls":20},{"$f":"SHALADARPAN!A82","v":3},{"$f":"SHALADARPAN!B82","v":"A"},{"$f":"SHALADARPAN!K82","v":0},{"$f":"SHALADARPAN!E82","v":"Ravindra Saini"},{"$f":"SHALADARPAN!G82","v":"Kailash"}]
[null,{"$f":"IF(D90=\"\",\"\",ROWS($D$9:D90))","v":""},{"$nulls":20},{"$f":"SHALADARPAN!A83","v":3},{"$f":"SHALADARPAN!B83","v":"A"},{"$f":"SHALADARPAN!K83","v":0},{"$f":"SHALADARPAN!E83","v":"Sachi Nath"},{"$f":"SHALADARPAN!G83","v":"Kailash"}]
[null,{"$f":"IF(D91=\"\",\"\",ROWS($D$9:D91))","v":""},{"$nulls":20},{"$f":"SHALADARPAN!A84","v":3},{"$f":"SHALADARPAN!B84","v":"A"},{"$f":"SHALADARPAN!K84","v":0},{"$f":"SHALADARPAN!E84","v":"SAHEENA BANU"},{"$f":"SHALADARPAN!G84","v":"Kailash"}]
[null,{"$f":"IF(D92=\"\",\"\",ROWS($D$9:D92))","v":""},{"$nulls":20},{"$f":"SHALADARPAN!A85","v":3},{"$f":"SHALADARPAN!B85","v":"A"},{"$f":"SHALADARPAN!K85","v":0},{"$f":"SHALADARPAN!E85","v":"SHEHJAD"},{"$f":"SHALADARPAN!G85","v":"Kailash"}]
[null,{"$f":"IF(D93=\"\",\"\",ROWS($D$9:D93))","v":""},{"$nulls":20},{"$f":"SHALADARPAN!A86","v":3},{"$f":"SHALADARPAN!B86","v":"A"},{"$f":"SHALADARPAN!K86","v":0},{"$f":"SHALADARPAN!E86","v":"SIMRAN"},{"$f":"SHALADARPAN!G86","v":"Kailash"}]
[null,{"$f":"IF(D94=\"\",\"\",ROWS($D$9:D94))","v":""},{"$nulls":20},{"$f":"SHALADARPAN!A87","v":3},{"$f":"SHALADARPAN!B87","v":"A"},{"$f":"SHALADARPAN!K87","v":0},{"$f":"SHALADARPAN!E87","v":"Sufiyan"},{"$f":"SHALADARPAN!G87","v":"Kailash"}]
[null,{"$f":"IF(D95=\"\",\"\",ROWS($D$9:D95))","v":""},{"$nulls":20},{"$f":"SHALADARPAN!A88","v":3},{"$f":"SHALADARPAN!B88","v":"A"},{"$f":"SHALADARPAN!K88","v":0},{"$f":"SHALADARPAN!E88","v":"Viki"},{"$f":"SHALADARPAN!G88","v":"Kailash"}]
[null,{"$f":"IF(D96=\"\",\"\",ROWS($D$9:D96))","v":""},{"$nulls":20},{"$f":"SHALADARPAN!A89","v":4},{"$f":"SHALADARPAN!B89","v":"A"},{"$f":"SHALADARPAN!K89","v":0},{"$f":"SHALADARPAN!E89","v":"Aasma"},{"$f":"SHALADARPAN!G89","v":"Kailash"}]
[null,{"$f":"IF(D97=\"\",\"\",ROWS($D$9:D97))","v":""},{"$nulls":20},{"$f":"SHALADARPAN!A90","v":4},{"$f":"SHALADARPAN!B90","v":"A"},{"$f":"SHALADARPAN!K90","v":0},{"$f":"SHALADARPAN!E90","v":"ALIYA BANO"},{"$f":"SHALADARPAN!G90","v":"Kailash"}]
[null,{"$f":"IF(D98=\"\",\"\",ROWS($D$9:D98))","v":""},{"$nulls":20},{"$f":"SHALADARPAN!A91","v":4},{"$f":"SHALADARPAN!B91","v":"A"},{"$f":"SHALADARPAN!K91","v":0},{"$f":"SHALADARPAN!E91","v":"ASGAR"},{"$f":"SHALADARPAN!G91","v":"Kailash"}]
[null,{"$f":"IF(D99=\"\",\"\",ROWS($D$9:D99))","v":""},{"$nulls":20},{"$f":"SHALADARPAN!A92","v":4},{"$f":"SHALADARPAN!B92","v":"A"},{"$f":"SHALADARPAN!K92","v":0},{"$f":"SHALADARPAN!E92","v":"Balotiya Naresh"},{"$f":"SHALADARPAN!G92","v":"Kailash"}]
[null,{"$f":"IF(D100=\"\",\"\",ROWS($D$9:D100))","v":""},{"$nulls":20},{"$f":"SHALADARPAN!A93","v":4},{"$f":"SHALADARPAN!B93","v":"A"},{"$f":"SHALADARPAN!K93","v":0},{"$f":"SHALADARPAN!E93","v":"BHRAT PARJAPAT"},{"$f":"SHALADARPAN!G93","v":"Kailash"}]
[null,{"$f":"IF(D101=\"\",\"\",ROWS($D$9:D101))","v":""},{"$nulls":20},{"$f":"SHALADARPAN!A94","v":4},{"$f":"SHALADARPAN!B94","v":"A"},{"$f":"SHALADARPAN!K94","v":0},{"$f":"SHALADARPAN!E94","v":"HINA MIRASI"},{"$f":"SHALADARPAN!G94","v":"Kailash"}]
[null,{"$f":"IF(D102=\"\",\"\",ROWS($D$9:D102))","v":""},{"$nulls":20},{"$f":"SHALADARPAN!A95","v":4},{"$f":"SHALADARPAN!B95","v":"A"},{"$f":"SHALADARPAN!K95","v":0},{"$f":"SHALADARPAN!E95","v":"ISANA"},{"$f":"SHALADARPAN!G95","v":"Kailash"}]
[null,{"$f":"IF(D103=\"\",\"\",ROWS($D$9:D103))","v":""},{"$nulls":20},{"$f":"SHALADARPAN!A96","v":4},{"$f":"SHALADARPAN!B96","v":"A"},{"$f":"SHALADARPAN!K96","v":0},{"$f":"SHALADARPAN!E96","v":"JASMIN"},{"$f":"SHALADARPAN!G96","v":"Kailash"}]
[null,{"$f":"IF(D104=\"\",\"\",ROWS($D$9:D104))","v":""},{"$nulls":20},{"$f":"SHALADARPAN!A97","v":4},{"$f":"SHALADARPAN!B97","v":"A"},{"$f":"SHALADARPAN!K97","v":0},{"$f":"SHALADARPAN!E97","v":"JOYA"},{"$f":"SHALADARPAN!G97","v":"Kailash"}]
[null,{"$f":"IF(D105=\"\",\"\",ROWS($D$9:D105))","v":""},{"$nulls":20},{"$f":"SHALADARPAN!A98","v":4},{"$f":"SHALADARPAN!B98","v":"A"},{"$f":"SHALADARPAN!K98","v":0},{"$f":"SHALADARPAN!E98","v":"KOMAL"},{"$f":"SHALADARPAN!G98","v":"Kailash"}]
[null,{"$f":"IF(D106=\"\",\"\",ROWS($D$9:D106))","v":""},{"$nulls":20},{"$f":"SHALADARPAN!A99","v":4},{"$f":"SHALADARPAN!B99","v":"A"},{"$f":"SHALADARPAN!K99","v":0},{"$f":"SHALADARPAN!E99","v":"Lakshay"},{"$f":"SHALADARPAN!G99","v":"Kailash"}]
[null,{"$f":"IF(D107=\"\",\"\",ROWS($D$9:D107))","v":""},{"$nulls":20},{"$f":"SHALADARPAN!A100","v":4},{"$f":"SHALADARPAN!B100","v":"A"},{"$f":"SHALADARPAN!K100","v":0},{"$f":"SHALADARPAN!E100","v":"MOH. BILAL"},{"$f":"SHALADARPAN!G100","v":"Kailash"}]
[null,{"$f":"IF(D108=\"\",\"\",ROWS($D$9:D108))","v":""},{"$nulls":20},{"$f":"SHALADARPAN!A101","v":4},{"$f":"SHALADARPAN!B101","v":"A"},{"$f":"SHALADARPAN!K101","v":0},{"$f":"SHALADARPAN!E101","v":"MUBARAK"},{"$f":"SHALADARPAN!G101","v":"Kailash"}]
[null,{"$f":"IF(D109=\"\",\"\",ROWS($D$9:D109))","v":""},{"$nulls":20},{"$f":"SHALADARPAN!A102","v":4},{"$f":"SHALADARPAN!B102","v":"A"},{"$f":"SHALADARPAN!K102","v":0},{"$f":"SHALADARPAN!E102","v":"NENOO RAM"},{"$f":"SHALADARPAN!G102","v":"Kailash"}]
[null,{"$f":"IF(D110=\"\",\"\",ROWS($D$9:D110))","v":""},{"$nulls":20},{"$f":"SHALADARPAN!A103","v":4},{"$f":"SHALADARPAN!B103","v":"A"},{"$f":"SHALADARPAN!K103","v":0},{"$f":"SHALADARPAN!E103","v":"NIKUL RAIDAS"},{"$f":"SHALADARPAN!G103","v":"Kailash"}]
[null,{"$f":"IF(D111=\"\",\"\",ROWS($D$9:D111))","v":""},{"$nulls":20},{"$f":"SHALADARPAN!A104","v":4},{"$f":"SHALADARPAN!B104","v":"A"},{"$f":"SHALADARPAN!K104","v":0},{"$f":"SHALADARPAN!E104","v":"PARVEENA BANO"},{"$f":"SHALADARPAN!G104","v":"Kailash"}]
[null,{"$f":"IF(D112=\"\",\"\",ROWS($D$9:D112))","v":""},{"$nulls":20},{"$f":"SHALADARPAN!A105","v":4},{"$f":"SHALADARPAN!B105","v":"A"},{"$f":"SHALADARPAN!K105","v":0},{"$f":"SHALADARPAN!E105","v":"PAYAL ACHARY"},{"$f":"SHALADARPAN!G105","v":"Kailash"}]
[null,{"$f":"IF(D113=\"\",\"\",ROWS($D$9:D113))","v":""},{"$nulls":20},{"$f":"SHALADARPAN!A106","v":4},{"$f":"SHALADARPAN!B106","v":"A"},{"$f":"SHALADARPAN!K106","v":0},{"$f":"SHALADARPAN!E106","v":"RINKU MALI"},{"$f":"SHALADARPAN!G106","v":"Kailash"}]
[null,{"$f":"IF(D114=\"\",\"\",ROWS($D$9:D114))","v":""},{"$nulls":20},{"$f":"SHALADARPAN!A107","v":4},{"$f":"SHALADARPAN!B107","v":"A"},{"$f":"SHALADARPAN!K107","v":0},{"$f":"SHALADARPAN!E107","v":"RITU"},{"$f":"SHALADARPAN!G107","v":"Kailash"}]
[null,{"$f":"IF(D115=\"\",\"\",ROWS($D$9:D115))","v":""},{"$nulls":20},{"$f":"SHALADARPAN!A108","v":4},{"$f":"SHALADARPAN!B108","v":"A"},{"$f":"SHALADARPAN!K108","v":0},{"$f":"SHALADARPAN!E108","v":"RIYAN ALI"},{"$f":"SHALADARPAN!G108","v":"Kailash"}]
[null,{"$f":"IF(D116=\"\",\"\",ROWS($D$9:D116))","v":""},{"$nulls":20},{"$f":"SHALADARPAN!A109","v":4},{"$f":"SHALADARPAN!B109","v":"A"},{"$f":"SHALADARPAN!K109","v":0},{"$f":"SHALADARPAN!E109","v":"RUSTAM"},{"$f":"SHALADARPAN!G109","v":"Kailash"}]
[null,{"$f":"IF(D117=\"\",\"\",ROWS($D$9:D117))","v":""},{"$nulls":20},{"$f":"SHALADARPAN!A110","v":4},{"$f":"SHALADARPAN!B110","v":"A"},{"$f":"SHALADARPAN!K110","v":0},{"$f":"SHALADARPAN!E110","v":"SAJEEDA BANU"},{"$f":"SHALADARPAN!G110","v":"Kailash"}]
[null,{"$f":"IF(D118=\"\",\"\",ROWS($D$9:D118))","v":""},{"$nulls":20},{"$f":"SHALADARPAN!A111","v":4},{"$f":"SHALADARPAN!B111","v":"A"},{"$f":"SHALADARPAN!K111","v":0},{"$f":"SHALADARPAN!E111","v":"SHABEENA"},{"$f":"SHALADARPAN!G111","v":"Kailash"}]
[null,{"$f":"IF(D119=\"\",\"\",ROWS($D$9:D119))","v":""},{"$nulls":20},{"$f":"SHALADARPAN!A112","v":4},{"$f":"SHALADARPAN!B112","v":"A"},{"$f":"SHALADARPAN!K112","v":0},{"$f":"SHALADARPAN!E112","v":"SHAHNVAJ"},{"$f":"SHALADARPAN!G112","v":"Kailash"}]
[null,{"$f":"IF(D120=\"\",\"\",ROWS($D$9:D120))","v":""},{"$nulls":20},{"$f":"SHALADARPAN!A113","v":4},{"$f":"SHALADARPAN!B113","v":"A"},{"$f":"SHALADARPAN!K113","v":0},{"$f":"SHALADARPAN!E113","v":"SHAKIL"},{"$f":"SHALADARPAN!G113","v":"Kailash"}]
[null,{"$f":"IF(D121=\"\",\"\",ROWS($D$9:D121))","v":""},{"$nulls":20},{"$f":"SHALADARPAN!A114","v":4},{"$f":"SHALADARPAN!B114","v":"A"},{"$f":"SHALADARPAN!K114","v":0},{"$f":"SHALADARPAN!E114","v":"SHYAMLAL"},{"$f":"SHALADARPAN!G114","v":"Kailash"}]
[null,{"$f":"IF(D122=\"\",\"\",ROWS($D$9:D122))","v":""},{"$nulls":20},{"$f":"SHALADARPAN!A115","v":4},{"$f":"SHALADARPAN!B115","v":"A"},{"$f":"SHALADARPAN!K115","v":0},{"$f":"SHALADARPAN!E115","v":"SIMARAN"},{"$f":"SHALADARPAN!G115","v":"Kailash"}]
[null,{"$f":"IF(D123=\"\",\"\",ROWS($D$9:D123))","v":""},{"$nulls":20},{"$f":"SHALADARPAN!A116","v":4},{"$f":"SHALADARPAN!B116","v":"A"},{"$f":"SHALADARPAN!K116","v":0},{"$f":"SHALADARPAN!E116","v":"SUKHDEV BAWARI"},{"$f":"SHALADARPAN!G116","v":"Kailash"}]
[null,{"$f":"IF(D124=\"\",\"\",ROWS($D$9:D124))","v":""},{"$nulls":20},{"$f":"SHALADARPAN!A117","v":4},{"$f":"SHALADARPAN!B117","v":"A"},{"$f":"SHALADARPAN!K117","v":0},{"$f":"SHALADARPAN!E117","v":"SUMAN"},{"$f":"SHALADARPAN!G117","v":"Kailash"}]
[null,{"$f":"IF(D125=\"\",\"\",ROWS($D$9:D125))","v":""},{"$nulls":20},{"$f":"SHALADARPAN!A118","v":4},{"$f":"SHALADARPAN!B118","v":"A"},{"$f":"SHALADARPAN!K118","v":0},{"$f":"SHALADARPAN!E118","v":"USRA"},{"$f":"SHALADARPAN!G118","v":"Kailash"}]
[null,{"$f":"IF(D126=\"\",\"\",ROWS($D$9:D126))","v":""},{"$nulls":20},{"$f":"SHALADARPAN!A119","v":4},{"$f":"SHALADARPAN!B119","v":"A"},{"$f":"SHALADARPAN!K119","v":0},{"$f":"SHALADARPAN!E119","v":"VINOD"},{"$f":"SHALADARPAN!G119","v":"Kailash"}]
[null,{"$f":"IF(D127=\"\",\"\",ROWS($D$9:D127))","v":""},{"$nulls":20},{"$f":"SHALADARPAN!A120","v":4},{"$f":"SHALADARPAN!B120","v":"A"},{"$f":"SHALADARPAN!K120","v":0},{"$f":"SHALADARPAN!E120","v":"VINOD RAVAL"},{"$f":"SHALADARPAN!G120","v":"Kailash"}]
[null,{"$f":"IF(D128=\"\",\"\",ROWS($D$9:D128))","v":""},{"$nulls":20},{"$f":"SHALADARPAN!A121","v":5},{"$f":"SHALADARPAN!B121","v":"A"},{"$f":"SHALADARPAN!K121","v":0},{"$f":"SHALADARPAN!E121","v":"ANILA"},{"$f":"SHALADARPAN!G121","v":"Kailash"}]
[null,{"$f":"IF(D129=\"\",\"\",ROWS($D$9:D129))","v":""},{"$nulls":20},{"$f":"SHALADARPAN!A122","v":5},{"$f":"SHALADARPAN!B122","v":"A"},{"$f":"SHALADARPAN!K122","v":0},{"$f":"SHALADARPAN!E122","v":"ANNU"},{"$f":"SHALADARPAN!G122","v":"Kailash"}]
[null,{"$f":"IF(D130=\"\",\"\",ROWS($D$9:D130))","v":""},{"$nulls":20},{"$f":"SHALADARPAN!A123","v":5},{"$f":"SHALADARPAN!B123","v":"A"},{"$f":"SHALADARPAN!K123","v":0},{"$f":"SHALADARPAN!E123","v":"ARMAN"},{"$f":"SHALADARPAN!G123","v":"Kailash"}]
[null,{"$f":"IF(D131=\"\",\"\",ROWS($D$9:D131))","v":""},{"$nulls":20},{"$f":"SHALADARPAN!A124","v":5},{"$f":"SHALADARPAN!B124","v":"A"},{"$f":"SHALADARPAN!K124","v":0},{"$f":"SHALADARPAN!E124","v":"BULBUL JANGLIYA"},{"$f":"SHALADARPAN!G124","v":"Kailash"}]
[null,{"$f":"IF(D132=\"\",\"\",ROWS($D$9:D132))","v":""},{"$nulls":20},{"$f":"SHALADARPAN!A125","v":5},{"$f":"SHALADARPAN!B125","v":"A"},{"$f":"SHALADARPAN!K125","v":0},{"$f":"SHALADARPAN!E125","v":"FARUKH"},{"$f":"SHALADARPAN!G125","v":"Kailash"}]
[null,{"$f":"IF(D133=\"\",\"\",ROWS($D$9:D133))","v":""},{"$nulls":20},{"$f":"SHALADARPAN!A126","v":5},{"$f":"SHALADARPAN!B126","v":"A"},{"$f":"SHALADARPAN!K126","v":0},{"$f":"SHALADARPAN!E126","v":"FATMA BANU"},{"$f":"SHALADARPAN!G126","v":"Kailash"}]
[null,{"$f":"IF(D134=\"\",\"\",ROWS($D$9:D134))","v":""},{"$nulls":20},{"$f":"SHALADARPAN!A127","v":5},{"$f":"SHALADARPAN!B127","v":"A"},{"$f":"SHALADARPAN!K127","v":0},{"$f":"SHALADARPAN!E127","v":"GOPAL"},{"$f":"SHALADARPAN!G127","v":"Kailash"}]
[null,{"$f":"IF(D135=\"\",\"\",ROWS($D$9:D135))","v":""},{"$nulls":20},{"$f":"SHALADARPAN!A128","v":5},{"$f":"SHALADARPAN!B128","v":"A"},{"$f":"SHALADARPAN!K128","v":0},{"$f":"SHALADARPAN!E128","v":"KAUSHAR BANU"},{"$f":"SHALADARPAN!G128","v":"Kailash"}]
[null,{"$f":"IF(D136=\"\",\"\",ROWS($D$9:D136))","v":""},{"$nulls":20},{"$f":"SHALADARPAN!A129","v":5},{"$f":"SHALADARPAN!B129","v":"A"},{"$f":"SHALADARPAN!K129","v":0},{"$f":"SHALADARPAN!E129","v":"Khushi Kanwar"},{"$f":"SHALADARPAN!G129","v":"Kailash"}]
[{"$nulls":22},{"$f":"SHALADARPAN!A130","v":5},{"$f":"SHALADARPAN!B130","v":"A"},{"$f":"SHALADARPAN!K130","v":0},{"$f":"SHALADARPAN!E130","v":"Krishna Vaishnav"},{"$f":"SHALADARPAN!G130","v":"Kailash"}]
[{"$nulls":22},{"$f":"SHALADARPAN!A131","v":5},{"$f":"SHALADARPAN!B131","v":"A"},{"$f":"SHALADARPAN!K131","v":0},{"$f":"SHALADARPAN!E131","v":"LAKHI RAM"},{"$f":"SHALADARPAN!G131","v":"Kailash"}]
[{"$nulls":22},{"$f":"SHALADARPAN!A132","v":5},{"$f":"SHALADARPAN!B132","v":"A"},{"$f":"SHALADARPAN!K132","v":0},{"$f":"SHALADARPAN!E132","v":"LALITA"},{"$f":"SHALADARPAN!G132","v":"Kailash"}]
[{"$nulls":22},{"$f":"SHALADARPAN!A133","v":5},{"$f":"SHALADARPAN!B133","v":"A"},{"$f":"SHALADARPAN!K133","v":0},{"$f":"SHALADARPAN!E133","v":"MAMTA"},{"$f":"SHALADARPAN!G133","v":"Kailash"}]
[{"$nulls":22},{"$f":"SHALADARPAN!A134","v":5},{"$f":"SHALADARPAN!B134","v":"A"},{"$f":"SHALADARPAN!K134","v":0},{"$f":"SHALADARPAN!E134","v":"MANAVI"},{"$f":"SHALADARPAN!G134","v":"Kailash"}]
[{"$nulls":22},{"$f":"SHALADARPAN!A135","v":5},{"$f":"SHALADARPAN!B135","v":"A"},{"$f":"SHALADARPAN!K135","v":0},{"$f":"SHALADARPAN!E135","v":"MARIYAM"},{"$f":"SHALADARPAN!G135","v":"Kailash"}]
[{"$nulls":22},{"$f":"SHALADARPAN!A136","v":5},{"$f":"SHALADARPAN!B136","v":"A"},{"$f":"SHALADARPAN!K136","v":0},{"$f":"SHALADARPAN!E136","v":"MATIYA DEVI"},{"$f":"SHALADARPAN!G136","v":"Kailash"}]
[{"$nulls":22},{"$f":"SHALADARPAN!A137","v":5},{"$f":"SHALADARPAN!B137","v":"A"},{"$f":"SHALADARPAN!K137","v":0},{"$f":"SHALADARPAN!E137","v":"Mohammad Bilala"},{"$f":"SHALADARPAN!G137","v":"Kailash"}]
[{"$nulls":22},{"$f":"SHALADARPAN!A138","v":5},{"$f":"SHALADARPAN!B138","v":"A"},{"$f":"SHALADARPAN!K138","v":0},{"$f":"SHALADARPAN!E138","v":"Nafish Razza"},{"$f":"SHALADARPAN!G138","v":"Kailash"}]
[{"$nulls":22},{"$f":"SHALADARPAN!A139","v":5},{"$f":"SHALADARPAN!B139","v":"A"},{"$f":"SHALADARPAN!K139","v":0},{"$f":"SHALADARPAN!E139","v":"NASEEM BANU"},{"$f":"SHALADARPAN!G139","v":"Kailash"}]
[{"$nulls":22},{"$f":"SHALADARPAN!A140","v":5},{"$f":"SHALADARPAN!B140","v":"A"},{"$f":"SHALADARPAN!K140","v":0},{"$f":"SHALADARPAN!E140","v":"NAVEEN JANGLIYA"},{"$f":"SHALADARPAN!G140","v":"Kailash"}]
[{"$nulls":22},{"$f":"SHALADARPAN!A141","v":5},{"$f":"SHALADARPAN!B141","v":"A"},{"$f":"SHALADARPAN!K141","v":0},{"$f":"SHALADARPAN!E141","v":"Navya Vaishnav"},{"$f":"SHALADARPAN!G141","v":"Kailash"}]
[{"$nulls":22},{"$f":"SHALADARPAN!A142","v":5},{"$f":"SHALADARPAN!B142","v":"A"},{"$f":"SHALADARPAN!K142","v":0},{"$f":"SHALADARPAN!E142","v":"Naziya"},{"$f":"SHALADARPAN!G142","v":"Kailash"}]
[{"$nulls":22},{"$f":"SHALADARPAN!A143","v":5},{"$f":"SHALADARPAN!B143","v":"A"},{"$f":"SHALADARPAN!K143","v":0},{"$f":"SHALADARPAN!E143","v":"NISHA"},{"$f":"SHALADARPAN!G143","v":"Kailash"}]
[{"$nulls":22},{"$f":"SHALADARPAN!A144","v":5},{"$f":"SHALADARPAN!B144","v":"A"},{"$f":"SHALADARPAN!K144","v":0},{"$f":"SHALADARPAN!E144","v":"Nitesh Acharya"},{"$f":"SHALADARPAN!G144","v":"Kailash"}]
[{"$nulls":22},{"$f":"SHALADARPAN!A145","v":5},{"$f":"SHALADARPAN!B145","v":"A"},{"$f":"SHALADARPAN!K145","v":0},{"$f":"SHALADARPAN!E145","v":"OMARAM"},{"$f":"SHALADARPAN!G145","v":"Kailash"}]
[{"$nulls":22},{"$f":"SHALADARPAN!A146","v":5},{"$f":"SHALADARPAN!B146","v":"A"},{"$f":"SHALADARPAN!K146","v":0},{"$f":"SHALADARPAN!E146","v":"RAKESH BAWARI"},{"$f":"SHALADARPAN!G146","v":"Kailash"}]
[{"$nulls":22},{"$f":"SHALADARPAN!A147","v":5},{"$f":"SHALADARPAN!B147","v":"A"},{"$f":"SHALADARPAN!K147","v":0},{"$f":"SHALADARPAN!E147","v":"Rashika Vaishnav"},{"$f":"SHALADARPAN!G147","v":"Kailash"}]
[{"$nulls":22},{"$f":"SHALADARPAN!A148","v":5},{"$f":"SHALADARPAN!B148","v":"A"},{"$f":"SHALADARPAN!K148","v":0},{"$f":"SHALADARPAN!E148","v":"RESHAMA BANU"},{"$f":"SHALADARPAN!G148","v":"Kailash"}]
[{"$nulls":22},{"$f":"SHALADARPAN!A149","v":5},{"$f":"SHALADARPAN!B149","v":"A"},{"$f":"SHALADARPAN!K149","v":0},{"$f":"SHALADARPAN!E149","v":"ROHIT TAMBOLI"},{"$f":"SHALADARPAN!G149","v":"Kailash"}]
[{"$nulls":22},{"$f":"SHALADARPAN!A150","v":5},{"$f":"SHALADARPAN!B150","v":"A"},{"$f":"SHALADARPAN!K150","v":0},{"$f":"SHALADARPAN!E150","v":"RUKSANA MIRASI"},{"$f":"SHALADARPAN!G150","v":"Kailash"}]
[{"$nulls":22},{"$f":"SHALADARPAN!A151","v":5},{"$f":"SHALADARPAN!B151","v":"A"},{"$f":"SHALADARPAN!K151","v":0},{"$f":"SHALADARPAN!E151","v":"Sahil"},{"$f":"SHALADARPAN!G151","v":"Kailash"}]
[{"$nulls":22},{"$f":"SHALADARPAN!A152","v":5},{"$f":"SHALADARPAN!B152","v":"A"},{"$f":"SHALADARPAN!K152","v":0},{"$f":"SHALADARPAN!E152","v":"SAMEER ALI"},{"$f":"SHALADARPAN!G152","v":"Kailash"}]
[{"$nulls":22},{"$f":"SHALADARPAN!A153","v":5},{"$f":"SHALADARPAN!B153","v":"A"},{"$f":"SHALADARPAN!K153","v":0},{"$f":"SHALADARPAN!E153","v":"SANJU DEVI"},{"$f":"SHALADARPAN!G153","v":"Kailash"}]
[{"$nulls":22},{"$f":"SHALADARPAN!A154","v":5},{"$f":"SHALADARPAN!B154","v":"A"},{"$f":"SHALADARPAN!K154","v":0},{"$f":"SHALADARPAN!E154","v":"SHABANA"},{"$f":"SHALADARPAN!G154","v":"Kailash"}]
[{"$nulls":22},{"$f":"SHALADARPAN!A155","v":5},{"$f":"SHALADARPAN!B155","v":"A"},{"$f":"SHALADARPAN!K155","v":0},{"$f":"SHALADARPAN!E155","v":"SHAHILSYA"},{"$f":"SHALADARPAN!G155","v":"Kailash"}]
[{"$nulls":22},{"$f":"SHALADARPAN!A156","v":5},{"$f":"SHALADARPAN!B156","v":"A"},{"$f":"SHALADARPAN!K156","v":0},{"$f":"SHALADARPAN!E156","v":"SHAHNAWAZ"},{"$f":"SHALADARPAN!G156","v":"Kailash"}]
[{"$nulls":22},{"$f":"SHALADARPAN!A157","v":5},{"$f":"SHALADARPAN!B157","v":"A"},{"$f":"SHALADARPAN!K157","v":0},{"$f":"SHALADARPAN!E157","v":"SHAKIL"},{"$f":"SHALADARPAN!G157","v":"Kailash"}]
[{"$nulls":22},{"$f":"SHALADARPAN!A158","v":5},{"$f":"SHALADARPAN!B158","v":"A"},{"$f":"SHALADARPAN!K158","v":0},{"$f":"SHALADARPAN!E158","v":"SHALIGRAM"},{"$f":"SHALADARPAN!G158","v":"Kailash"}]
[{"$nulls":22},{"$f":"SHALADARPAN!A159","v":5},{"$f":"SHALADARPAN!B159","v":"A"},{"$f":"SHALADARPAN!K159","v":0},{"$f":"SHALADARPAN!E159","v":"SIMRAN"},{"$f":"SHALADARPAN!G159","v":"Kailash"}]
[{"$nulls":22},{"$f":"SHALADARPAN!A160","v":5},{"$f":"SHALADARPAN!B160","v":"A"},{"$f":"SHALADARPAN!K160","v":0},{"$f":"SHALADARPAN!E160","v":"SUFIYA BANU"},{"$f":"SHALADARPAN!G160","v":"Kailash"}]
[{"$nulls":22},{"$f":"SHALADARPAN!A161","v":5},{"$f":"SHALADARPAN!B161","v":"A"},{"$f":"SHALADARPAN!K161","v":0},{"$f":"SHALADARPAN!E161","v":"Sumitra Jangliya"},{"$f":"SHALADARPAN!G161","v":"Kailash"}]
[{"$nulls":22},{"$f":"SHALADARPAN!A162","v":5},{"$f":"SHALADARPAN!B162","v":"A"},{"$f":"SHALADARPAN!K162","v":0},{"$f":"SHALADARPAN!E162","v":"Sushil Acharya"},{"$f":"SHALADARPAN!G162","v":"Kailash"}]
[{"$nulls":22},{"$f":"SHALADARPAN!A163","v":5},{"$f":"SHALADARPAN!B163","v":"A"},{"$f":"SHALADARPAN!K163","v":0},{"$f":"SHALADARPAN!E163","v":"Tamanna"},{"$f":"SHALADARPAN!G163","v":"Kailash"}]
[{"$nulls":22},{"$f":"SHALADARPAN!A164","v":5},{"$f":"SHALADARPAN!B164","v":"A"},{"$f":"SHALADARPAN!K164","v":0},{"$f":"SHALADARPAN!E164","v":"TAMNNA"},{"$f":"SHALADARPAN!G164","v":"Kailash"}]
[{"$nulls":22},{"$f":"SHALADARPAN!A165","v":5},{"$f":"SHALADARPAN!B165","v":"A"},{"$f":"SHALADARPAN!K165","v":0},{"$f":"SHALADARPAN!E165","v":"TASLIMA"},{"$f":"SHALADARPAN!G165","v":"Kailash"}]
[{"$nulls":22},{"$f":"SHALADARPAN!A166","v":5},{"$f":"SHALADARPAN!B166","v":"A"},{"$f":"SHALADARPAN!K166","v":0},{"$f":"SHALADARPAN!E166","v":"TIKAM"},{"$f":"SHALADARPAN!G166","v":"Kailash"}]
[{"$nulls":22},{"$f":"SHALADARPAN!A167","v":5},{"$f":"SHALADARPAN!B167","v":"A"},{"$f":"SHALADARPAN!K167","v":0},{"$f":"SHALADARPAN!E167","v":"VASEEM"},{"$f":"SHALADARPAN!G167","v":"Kailash"}]
[{"$nulls":22},{"$f":"SHALADARPAN!A168","v":5},{"$f":"SHALADARPAN!B168","v":"A"},{"$f":"SHALADARPAN!K168","v":0},{"$f":"SHALADARPAN!E168","v":"Vikas Acharya"},{"$f":"SHALADARPAN!G168","v":"Kailash"}]
[{"$nulls":22},{"$f":"SHALADARPAN!A169","v":6},{"$f":"SHALADARPAN!B169","v":"A"},{"$f":"SHALADARPAN!K169","v":601},{"$f":"SHALADARPAN!E169","v":"Abid Husain"},{"$f":"SHALADARPAN!G169","v":"Kailash"}]
[{"$nulls":22},{"$f":"SHALADARPAN!A170","v":6},{"$f":"SHALADARPAN!B170","v":"A"},{"$f":"SHALADARPAN!K170","v":602},{"$f":"SHALADARPAN!E170","v":"ALVEERA BANU"},{"$f":"SHALADARPAN!G170","v":"Kailash"}]
[{"$nulls":22},{"$f":"SHALADARPAN!A171","v":6},{"$f":"SHALADARPAN!B171","v":"A"},{"$f":"SHALADARPAN!K171","v":603},{"$f":"SHALADARPAN!E171","v":"AMIT SHARMA"},{"$f":"SHALADARPAN!G171","v":"Kailash"}]
[{"$nulls":22},{"$f":"SHALADARPAN!A172","v":6},{"$f":"SHALADARPAN!B172","v":"A"},{"$f":"SHALADARPAN!K172","v":604},{"$f":"SHALADARPAN!E172","v":"ANIL SAINI"},{"$f":"SHALADARPAN!G172","v":"Kailash"}]
[{"$nulls":22},{"$f":"SHALADARPAN!A173","v":6},{"$f":"SHALADARPAN!B173","v":"A"},{"$f":"SHALADARPAN!K173","v":605},{"$f":"SHALADARPAN!E173","v":"ARBAZ AHMAD"},{"$f":"SHALADARPAN!G173","v":"Kailash"}]
[{"$nulls":22},{"$f":"SHALADARPAN!A174","v":6},{"$f":"SHALADARPAN!B174","v":"A"},{"$f":"SHALADARPAN!K174","v":606},{"$f":"SHALADARPAN!E174","v":"Arjun Shingh"},{"$f":"SHALADARPAN!G174","v":"Kailash"}]
[{"$nulls":22},{"$f":"SHALADARPAN!A175","v":6},{"$f":"SHALADARPAN!B175","v":"A"},{"$f":"SHALADARPAN!K175","v":607},{"$f":"SHALADARPAN!E175","v":"ARMAN"},{"$f":"SHALADARPAN!G175","v":"Kailash"}]
[{"$nulls":22},{"$f":"SHALADARPAN!A176","v":6},{"$f":"SHALADARPAN!B176","v":"A"},{"$f":"SHALADARPAN!K176","v":608},{"$f":"SHALADARPAN!E176","v":"Asraf Ali"},{"$f":"SHALADARPAN!G176","v":"Kailash"}]
[{"$nulls":22},{"$f":"SHALADARPAN!A177","v":6},{"$f":"SHALADARPAN!B177","v":"A"},{"$f":"SHALADARPAN!K177","v":609},{"$f":"SHALADARPAN!E177","v":"AYCHUKI"},{"$f":"SHALADARPAN!G177","v":"Kailash"}]
[{"$nulls":22},{"$f":"SHALADARPAN!A178","v":6},{"$f":"SHALADARPAN!B178","v":"A"},{"$f":"SHALADARPAN!K178","v":610},{"$f":"SHALADARPAN!E178","v":"BABLU"},{"$f":"SHALADARPAN!G178","v":"Kailash"}]
[{"$nulls":22},{"$f":"SHALADARPAN!A179","v":6},{"$f":"SHALADARPAN!B179","v":"A"},{"$f":"SHALADARPAN!K179","v":611},{"$f":"SHALADARPAN!E179","v":"BABY KANWAR"},{"$f":"SHALADARPAN!G179","v":"Kailash"}]
[{"$nulls":22},{"$f":"SHALADARPAN!A180","v":6},{"$f":"SHALADARPAN!B180","v":"A"},{"$f":"SHALADARPAN!K180","v":612},{"$f":"SHALADARPAN!E180","v":"BURHAN"},{"$f":"SHALADARPAN!G180","v":"Kailash"}]
[{"$nulls":22},{"$f":"SHALADARPAN!A181","v":6},{"$f":"SHALADARPAN!B181","v":"A"},{"$f":"SHALADARPAN!K181","v":613},{"$f":"SHALADARPAN!E181","v":"CHANCHAL DEVI"},{"$f":"SHALADARPAN!G181","v":"Kailash"}]
[{"$nulls":22},{"$f":"SHALADARPAN!A182","v":6},{"$f":"SHALADARPAN!B182","v":"A"},{"$f":"SHALADARPAN!K182","v":614},{"$f":"SHALADARPAN!E182","v":"CHETAN NAT"},{"$f":"SHALADARPAN!G182","v":"Kailash"}]
[{"$nulls":22},{"$f":"SHALADARPAN!A183","v":6},{"$f":"SHALADARPAN!B183","v":"A"},{"$f":"SHALADARPAN!K183","v":615},{"$f":"SHALADARPAN!E183","v":"HAIDAR ALI"},{"$f":"SHALADARPAN!G183","v":"Kailash"}]
[{"$nulls":22},{"$f":"SHALADARPAN!A184","v":6},{"$f":"SHALADARPAN!B184","v":"A"},{"$f":"SHALADARPAN!K184","v":616},{"$f":"SHALADARPAN!E184","v":"HEENA BANU"},{"$f":"SHALADARPAN!G184","v":"Kailash"}]
[{"$nulls":22},{"$f":"SHALADARPAN!A185","v":6},{"$f":"SHALADARPAN!B185","v":"A"},{"$f":"SHALADARPAN!K185","v":617},{"$f":"SHALADARPAN!E185","v":"Hemant Tank"},{"$f":"SHALADARPAN!G185","v":"Kailash"}]
[{"$nulls":22},{"$f":"SHALADARPAN!A186","v":6},{"$f":"SHALADARPAN!B186","v":"A"},{"$f":"SHALADARPAN!K186","v":618},{"$f":"SHALADARPAN!E186","v":"IMRAN"},{"$f":"SHALADARPAN!G186","v":"Kailash"}]
[{"$nulls":22},{"$f":"SHALADARPAN!A187","v":6},{"$f":"SHALADARPAN!B187","v":"A"},{"$f":"SHALADARPAN!K187","v":619},{"$f":"SHALADARPAN!E187","v":"INSAF ALI"},{"$f":"SHALADARPAN!G187","v":"Kailash"}]
[{"$nulls":22},{"$f":"SHALADARPAN!A188","v":6},{"$f":"SHALADARPAN!B188","v":"A"},{"$f":"SHALADARPAN!K188","v":620},{"$f":"SHALADARPAN!E188","v":"IRFAN"},{"$f":"SHALADARPAN!G188","v":"Kailash"}]
[{"$nulls":22},{"$f":"SHALADARPAN!A189","v":6},{"$f":"SHALADARPAN!B189","v":"A"},{"$f":"SHALADARPAN!K189","v":621},{"$f":"SHALADARPAN!E189","v":"KADIR"},{"$f":"SHALADARPAN!G189","v":"Kailash"}]
[{"$nulls":22},{"$f":"SHALADARPAN!A190","v":6},{"$f":"SHALADARPAN!B190","v":"A"},{"$f":"SHALADARPAN!K190","v":622},{"$f":"SHALADARPAN!E190","v":"KALPANA"},{"$f":"SHALADARPAN!G190","v":"Kailash"}]
[{"$nulls":22},{"$f":"SHALADARPAN!A191","v":6},{"$f":"SHALADARPAN!B191","v":"A"},{"$f":"SHALADARPAN!K191","v":623},{"$f":"SHALADARPAN!E191","v":"Khushi Kanwar"},{"$f":"SHALADARPAN!G191","v":"Kailash"}]
[{"$nulls":22},{"$f":"SHALADARPAN!A192","v":6},{"$f":"SHALADARPAN!B192","v":"A"},{"$f":"SHALADARPAN!K192","v":624},{"$f":"SHALADARPAN!E192","v":"KIRAN"},{"$f":"SHALADARPAN!G192","v":"Kailash"}]
[{"$nulls":22},{"$f":"SHALADARPAN!A193","v":6},{"$f":"SHALADARPAN!B193","v":"A"},{"$f":"SHALADARPAN!K193","v":625},{"$f":"SHALADARPAN!E193","v":"LAL SINGH"},{"$f":"SHALADARPAN!G193","v":"Kailash"}]
[{"$nulls":22},{"$f":"SHALADARPAN!A194","v":6},{"$f":"SHALADARPAN!B194","v":"A"},{"$f":"SHALADARPAN!K194","v":626},{"$f":"SHALADARPAN!E194","v":"Liladhar Vaishnav"},{"$f":"SHALADARPAN!G194","v":"Kailash"}]
[{"$nulls":22},{"$f":"SHALADARPAN!A195","v":6},{"$f":"SHALADARPAN!B195","v":"A"},{"$f":"SHALADARPAN!K195","v":627},{"$f":"SHALADARPAN!E195","v":"LOKESH NATH"},{"$f":"SHALADARPAN!G195","v":"Kailash"}]
[{"$nulls":22},{"$f":"SHALADARPAN!A196","v":6},{"$f":"SHALADARPAN!B196","v":"A"},{"$f":"SHALADARPAN!K196","v":628},{"$f":"SHALADARPAN!E196","v":"Lokesh Nimbawat"},{"$f":"SHALADARPAN!G196","v":"Kailash"}]
[{"$nulls":22},{"$f":"SHALADARPAN!A197","v":6},{"$f":"SHALADARPAN!B197","v":"A"},{"$f":"SHALADARPAN!K197","v":629},{"$f":"SHALADARPAN!E197","v":"MAHENDRA"},{"$f":"SHALADARPAN!G197","v":"Kailash"}]
[{"$nulls":22},{"$f":"SHALADARPAN!A198","v":6},{"$f":"SHALADARPAN!B198","v":"A"},{"$f":"SHALADARPAN!K198","v":630},{"$f":"SHALADARPAN!E198","v":"MAHENDRA CHOKIDAR"},{"$f":"SHALADARPAN!G198","v":"Kailash"}]
[{"$nulls":22},{"$f":"SHALADARPAN!A199","v":6},{"$f":"SHALADARPAN!B199","v":"A"},{"$f":"SHALADARPAN!K199","v":631},{"$f":"SHALADARPAN!E199","v":"Mahendra Dagdi"},{"$f":"SHALADARPAN!G199","v":"Kailash"}]
[{"$nulls":22},{"$f":"SHALADARPAN!A200","v":6},{"$f":"SHALADARPAN!B200","v":"A"},{"$f":"SHALADARPAN!K200","v":632},{"$f":"SHALADARPAN!E200","v":"MAYA"},{"$f":"SHALADARPAN!G200","v":"Kailash"}]
[{"$nulls":22},{"$f":"SHALADARPAN!A201","v":6},{"$f":"SHALADARPAN!B201","v":"A"},{"$f":"SHALADARPAN!K201","v":633},{"$f":"SHALADARPAN!E201","v":"Mohammad Imran"},{"$f":"SHALADARPAN!G201","v":"Kailash"}]
[{"$nulls":22},{"$f":"SHALADARPAN!A202","v":6},{"$f":"SHALADARPAN!B202","v":"A"},{"$f":"SHALADARPAN!K202","v":634},{"$f":"SHALADARPAN!E202","v":"Mohammed Rahil"},{"$f":"SHALADARPAN!G202","v":"Kailash"}]
[{"$nulls":22},{"$f":"SHALADARPAN!A203","v":6},{"$f":"SHALADARPAN!B203","v":"A"},{"$f":"SHALADARPAN!K203","v":635},{"$f":"SHALADARPAN!E203","v":"MOHASIN"},{"$f":"SHALADARPAN!G203","v":"Kailash"}]
[{"$nulls":22},{"$f":"SHALADARPAN!A204","v":6},{"$f":"SHALADARPAN!B204","v":"A"},{"$f":"SHALADARPAN!K204","v":636},{"$f":"SHALADARPAN!E204","v":"MOHMMAD BILAL"},{"$f":"SHALADARPAN!G204","v":"Kailash"}]
[{"$nulls":22},{"$f":"SHALADARPAN!A205","v":6},{"$f":"SHALADARPAN!B205","v":"A"},{"$f":"SHALADARPAN!K205","v":637},{"$f":"SHALADARPAN!E205","v":"MUSKAN"},{"$f":"SHALADARPAN!G205","v":"Kailash"}]
[{"$nulls":22},{"$f":"SHALADARPAN!A206","v":6},{"$f":"SHALADARPAN!B206","v":"A"},{"$f":"SHALADARPAN!K206","v":638},{"$f":"SHALADARPAN!E206","v":"MUSSA PAHALWAN"},{"$f":"SHALADARPAN!G206","v":"Kailash"}]
[{"$nulls":22},{"$f":"SHALADARPAN!A207","v":6},{"$f":"SHALADARPAN!B207","v":"A"},{"$f":"SHALADARPAN!K207","v":639},{"$f":"SHALADARPAN!E207","v":"NASIM BANO"},{"$f":"SHALADARPAN!G207","v":"Kailash"}]
[{"$nulls":22},{"$f":"SHALADARPAN!A208","v":6},{"$f":"SHALADARPAN!B208","v":"A"},{"$f":"SHALADARPAN!K208","v":640},{"$f":"SHALADARPAN!E208","v":"PAYAL SAINI"},{"$f":"SHALADARPAN!G208","v":"Kailash"}]
[{"$nulls":22},{"$f":"SHALADARPAN!A209","v":6},{"$f":"SHALADARPAN!B209","v":"A"},{"$f":"SHALADARPAN!K209","v":641},{"$f":"SHALADARPAN!E209","v":"PINTU PARJAPAT"},{"$f":"SHALADARPAN!G209","v":"Kailash"}]
[{"$nulls":22},{"$f":"SHALADARPAN!A210","v":6},{"$f":"SHALADARPAN!B210","v":"A"},{"$f":"SHALADARPAN!K210","v":642},{"$f":"SHALADARPAN!E210","v":"POOJA DEVI"},{"$f":"SHALADARPAN!G210","v":"Kailash"}]
[{"$nulls":22},{"$f":"SHALADARPAN!A211","v":6},{"$f":"SHALADARPAN!B211","v":"A"},{"$f":"SHALADARPAN!K211","v":643},{"$f":"SHALADARPAN!E211","v":"Ramawtar"},{"$f":"SHALADARPAN!G211","v":"Kailash"}]
[{"$nulls":22},{"$f":"SHALADARPAN!A212","v":6},{"$f":"SHALADARPAN!B212","v":"A"},{"$f":"SHALADARPAN!K212","v":644},{"$f":"SHALADARPAN!E212","v":"RAMDEV"},{"$f":"SHALADARPAN!G212","v":"Kailash"}]
[{"$nulls":22},{"$f":"SHALADARPAN!A213","v":6},{"$f":"SHALADARPAN!B213","v":"A"},{"$f":"SHALADARPAN!K213","v":645},{"$f":"SHALADARPAN!E213","v":"RAVI RAJ BAWARI"},{"$f":"SHALADARPAN!G213","v":"Kailash"}]
[{"$nulls":22},{"$f":"SHALADARPAN!A214","v":6},{"$f":"SHALADARPAN!B214","v":"A"},{"$f":"SHALADARPAN!K214","v":646},{"$f":"SHALADARPAN!E214","v":"RAVINDRA KUMAWAT"},{"$f":"SHALADARPAN!G214","v":"Kailash"}]
[{"$nulls":22},{"$f":"SHALADARPAN!A215","v":6},{"$f":"SHALADARPAN!B215","v":"A"},{"$f":"SHALADARPAN!K215","v":647},{"$f":"SHALADARPAN!E215","v":"REKHA DEVI"},{"$f":"SHALADARPAN!G215","v":"Kailash"}]
[{"$nulls":22},{"$f":"SHALADARPAN!A216","v":6},{"$f":"SHALADARPAN!B216","v":"A"},{"$f":"SHALADARPAN!K216","v":648},{"$f":"SHALADARPAN!E216","v":"RINKU KANWAR"},{"$f":"SHALADARPAN!G216","v":"Kailash"}]
[{"$nulls":22},{"$f":"SHALADARPAN!A217","v":6},{"$f":"SHALADARPAN!B217","v":"A"},{"$f":"SHALADARPAN!K217","v":649},{"$f":"SHALADARPAN!E217","v":"RITIKA"},{"$f":"SHALADARPAN!G217","v":"Kailash"}]
[{"$nulls":22},{"$f":"SHALADARPAN!A218","v":6},{"$f":"SHALADARPAN!B218","v":"A"},{"$f":"SHALADARPAN!K218","v":650},{"$f":"SHALADARPAN!E218","v":"RUSTAM ALI PAHALWAN"},{"$f":"SHALADARPAN!G218","v":"Kailash"}]
[{"$nulls":22},{"$f":"SHALADARPAN!A219","v":6},{"$f":"SHALADARPAN!B219","v":"A"},{"$f":"SHALADARPAN!K219","v":651},{"$f":"SHALADARPAN!E219","v":"SALMA BANU"},{"$f":"SHALADARPAN!G219","v":"Kailash"}]
[{"$nulls":22},{"$f":"SHALADARPAN!A220","v":6},{"$f":"SHALADARPAN!B220","v":"A"},{"$f":"SHALADARPAN!K220","v":652},{"$f":"SHALADARPAN!E220","v":"SAMEER"},{"$f":"SHALADARPAN!G220","v":"Kailash"}]
[{"$nulls":22},{"$f":"SHALADARPAN!A221","v":6},{"$f":"SHALADARPAN!B221","v":"A"},{"$f":"SHALADARPAN!K221","v":653},{"$f":"SHALADARPAN!E221","v":"SANGEETA"},{"$f":"SHALADARPAN!G221","v":"Kailash"}]
[{"$nulls":22},{"$f":"SHALADARPAN!A222","v":6},{"$f":"SHALADARPAN!B222","v":"A"},{"$f":"SHALADARPAN!K222","v":654},{"$f":"SHALADARPAN!E222","v":"SARITA NATH"},{"$f":"SHALADARPAN!G222","v":"Kailash"}]
[{"$nulls":22},{"$f":"SHALADARPAN!A223","v":6},{"$f":"SHALADARPAN!B223","v":"A"},{"$f":"SHALADARPAN!K223","v":655},{"$f":"SHALADARPAN!E223","v":"SAROJ DEVI"},{"$f":"SHALADARPAN!G223","v":"Kailash"}]
[{"$nulls":22},{"$f":"SHALADARPAN!A224","v":6},{"$f":"SHALADARPAN!B224","v":"A"},{"$f":"SHALADARPAN!K224","v":656},{"$f":"SHALADARPAN!E224","v":"SHAHINA"},{"$f":"SHALADARPAN!G224","v":"Kailash"}]
[{"$nulls":22},{"$f":"SHALADARPAN!A225","v":6},{"$f":"SHALADARPAN!B225","v":"A"},{"$f":"SHALADARPAN!K225","v":657},{"$f":"SHALADARPAN!E225","v":"SHIMBHU SINGH"},{"$f":"SHALADARPAN!G225","v":"Kailash"}]
[{"$nulls":22},{"$f":"SHALADARPAN!A226","v":6},{"$f":"SHALADARPAN!B226","v":"A"},{"$f":"SHALADARPAN!K226","v":658},{"$f":"SHALADARPAN!E226","v":"SHOHIL"},{"$f":"SHALADARPAN!G226","v":"Kailash"}]
[{"$nulls":22},{"$f":"SHALADARPAN!A227","v":6},{"$f":"SHALADARPAN!B227","v":"A"},{"$f":"SHALADARPAN!K227","v":659},{"$f":"SHALADARPAN!E227","v":"SOHIL"},{"$f":"SHALADARPAN!G227","v":"Kailash"}]
[{"$nulls":22},{"$f":"SHALADARPAN!A228","v":6},{"$f":"SHALADARPAN!B228","v":"A"},{"$f":"SHALADARPAN!K228","v":660},{"$f":"SHALADARPAN!E228","v":"SUMAN DEVI CHAUKIDAR"},{"$f":"SHALADARPAN!G228","v":"Kailash"}]
[{"$nulls":22},{"$f":"SHALADARPAN!A229","v":6},{"$f":"SHALADARPAN!B229","v":"A"},{"$f":"SHALADARPAN!K229","v":661},{"$f":"SHALADARPAN!E229","v":"SUNIL"},{"$f":"SHALADARPAN!G229","v":"Kailash"}]
[{"$nulls":22},{"$f":"SHALADARPAN!A230","v":6},{"$f":"SHALADARPAN!B230","v":"A"},{"$f":"SHALADARPAN!K230","v":662},{"$f":"SHALADARPAN!E230","v":"TANU DEVI"},{"$f":"SHALADARPAN!G230","v":"Kailash"}]
[{"$nulls":22},{"$f":"SHALADARPAN!A231","v":6},{"$f":"SHALADARPAN!B231","v":"A"},{"$f":"SHALADARPAN!K231","v":663},{"$f":"SHALADARPAN!E231","v":"Teena"},{"$f":"SHALADARPAN!G231","v":"Kailash"}]
[{"$nulls":22},{"$f":"SHALADARPAN!A232","v":6},{"$f":"SHALADARPAN!B232","v":"A"},{"$f":"SHALADARPAN!K232","v":664},{"$f":"SHALADARPAN!E232","v":"TULCHHI RAM"},{"$f":"SHALADARPAN!G232","v":"Kailash"}]
[{"$nulls":22},{"$f":"SHALADARPAN!A233","v":7},{"$f":"SHALADARPAN!B233","v":"A"},{"$f":"SHALADARPAN!K233","v":723},{"$f":"SHALADARPAN!E233","v":"KAVITA"},{"$f":"SHALADARPAN!G233","v":"Kailash"}]
[{"$nulls":22},{"$f":"SHALADARPAN!A234","v":7},{"$f":"SHALADARPAN!B234","v":"A"},{"$f":"SHALADARPAN!K234","v":701},{"$f":"SHALADARPAN!E234","v":"AADIL"},{"$f":"SHALADARPAN!G234","v":"Kailash"}]
[{"$nulls":22},{"$f":"SHALADARPAN!A235","v":7},{"$f":"SHALADARPAN!B235","v":"A"},{"$f":"SHALADARPAN!K235","v":702},{"$f":"SHALADARPAN!E235","v":"AASHIYA BANU"},{"$f":"SHALADARPAN!G235","v":"Kailash"}]
[{"$nulls":22},{"$f":"SHALADARPAN!A236","v":7},{"$f":"SHALADARPAN!B236","v":"A"},{"$f":"SHALADARPAN!K236","v":703},{"$f":"SHALADARPAN!E236","v":"Afzal Ali"},{"$f":"SHALADARPAN!G236","v":"Kailash"}]
[{"$nulls":22},{"$f":"SHALADARPAN!A237","v":7},{"$f":"SHALADARPAN!B237","v":"A"},{"$f":"SHALADARPAN!K237","v":704},{"$f":"SHALADARPAN!E237","v":"Ajay Raghvendra"},{"$f":"SHALADARPAN!G237","v":"Kailash"}]
[{"$nulls":22},{"$f":"SHALADARPAN!A238","v":7},{"$f":"SHALADARPAN!B238","v":"A"},{"$f":"SHALADARPAN!K238","v":705},{"$f":"SHALADARPAN!E238","v":"ALEESA BANO"},{"$f":"SHALADARPAN!G238","v":"Kailash"}]
[{"$nulls":22},{"$f":"SHALADARPAN!A239","v":7},{"$f":"SHALADARPAN!B239","v":"A"},{"$f":"SHALADARPAN!K239","v":706},{"$f":"SHALADARPAN!E239","v":"Altaf Raza"},{"$f":"SHALADARPAN!G239","v":"Kailash"}]
[{"$nulls":22},{"$f":"SHALADARPAN!A240","v":7},{"$f":"SHALADARPAN!B240","v":"A"},{"$f":"SHALADARPAN!K240","v":707},{"$f":"SHALADARPAN!E240","v":"Anil Saini"},{"$f":"SHALADARPAN!G240","v":"Kailash"}]
[{"$nulls":22},{"$f":"SHALADARPAN!A241","v":7},{"$f":"SHALADARPAN!B241","v":"A"},{"$f":"SHALADARPAN!K241","v":708},{"$f":"SHALADARPAN!E241","v":"ANSHITA CHOUDHARY"},{"$f":"SHALADARPAN!G241","v":"Kailash"}]
[{"$nulls":22},{"$f":"SHALADARPAN!A242","v":7},{"$f":"SHALADARPAN!B242","v":"A"},{"$f":"SHALADARPAN!K242","v":709},{"$f":"SHALADARPAN!E242","v":"ARFAN"},{"$f":"SHALADARPAN!G242","v":"Kailash"}]
[{"$nulls":22},{"$f":"SHALADARPAN!A243","v":7},{"$f":"SHALADARPAN!B243","v":"A"},{"$f":"SHALADARPAN!K243","v":710},{"$f":"SHALADARPAN!E243","v":"ASHA KANWAR"},{"$f":"SHALADARPAN!G243","v":"Kailash"}]
[{"$nulls":22},{"$f":"SHALADARPAN!A244","v":7},{"$f":"SHALADARPAN!B244","v":"A"},{"$f":"SHALADARPAN!K244","v":711},{"$f":"SHALADARPAN!E244","v":"ASLAM ALI"},{"$f":"SHALADARPAN!G244","v":"Kailash"}]
[{"$nulls":22},{"$f":"SHALADARPAN!A245","v":7},{"$f":"SHALADARPAN!B245","v":"A"},{"$f":"SHALADARPAN!K245","v":712},{"$f":"SHALADARPAN!E245","v":"BHARAT MALI"},{"$f":"SHALADARPAN!G245","v":"Kailash"}]
[{"$nulls":22},{"$f":"SHALADARPAN!A246","v":7},{"$f":"SHALADARPAN!B246","v":"A"},{"$f":"SHALADARPAN!K246","v":713},{"$f":"SHALADARPAN!E246","v":"BHAWANI RAWAL"},{"$f":"SHALADARPAN!G246","v":"Kailash"}]
[{"$nulls":22},{"$f":"SHALADARPAN!A247","v":7},{"$f":"SHALADARPAN!B247","v":"A"},{"$f":"SHALADARPAN!K247","v":714},{"$f":"SHALADARPAN!E247","v":"DEEPAK"},{"$f":"SHALADARPAN!G247","v":"Kailash"}]
[{"$nulls":22},{"$f":"SHALADARPAN!A248","v":7},{"$f":"SHALADARPAN!B248","v":"A"},{"$f":"SHALADARPAN!K248","v":715},{"$f":"SHALADARPAN!E248","v":"Devendra Saini"},{"$f":"SHALADARPAN!G248","v":"Kailash"}]
[{"$nulls":22},{"$f":"SHALADARPAN!A249","v":7},{"$f":"SHALADARPAN!B249","v":"A"},{"$f":"SHALADARPAN!K249","v":716},{"$f":"SHALADARPAN!E249","v":"Dinesh Latiyal"},{"$f":"SHALADARPAN!G249","v":"Kailash"}]
[{"$nulls":22},{"$f":"SHALADARPAN!A250","v":7},{"$f":"SHALADARPAN!B250","v":"A"},{"$f":"SHALADARPAN!K250","v":717},{"$f":"SHALADARPAN!E250","v":"FAIJAN MOHMMAD"},{"$f":"SHALADARPAN!G250","v":"Kailash"}]
[{"$nulls":22},{"$f":"SHALADARPAN!A251","v":7},{"$f":"SHALADARPAN!B251","v":"A"},{"$f":"SHALADARPAN!K251","v":718},{"$f":"SHALADARPAN!E251","v":"GAJENDAR SHINGH"},{"$f":"SHALADARPAN!G251","v":"Kailash"}]
[{"$nulls":22},{"$f":"SHALADARPAN!A252","v":7},{"$f":"SHALADARPAN!B252","v":"A"},{"$f":"SHALADARPAN!K252","v":719},{"$f":"SHALADARPAN!E252","v":"GANESH VAISHNAV"},{"$f":"SHALADARPAN!G252","v":"Kailash"}]
[{"$nulls":22},{"$f":"SHALADARPAN!A253","v":7},{"$f":"SHALADARPAN!B253","v":"A"},{"$f":"SHALADARPAN!K253","v":720},{"$f":"SHALADARPAN!E253","v":"Harshita Jangid"},{"$f":"SHALADARPAN!G253","v":"Kailash"}]
[{"$nulls":22},{"$f":"SHALADARPAN!A254","v":7},{"$f":"SHALADARPAN!B254","v":"A"},{"$f":"SHALADARPAN!K254","v":721},{"$f":"SHALADARPAN!E254","v":"Hemraj"},{"$f":"SHALADARPAN!G254","v":"Kailash"}]
[{"$nulls":22},{"$f":"SHALADARPAN!A255","v":7},{"$f":"SHALADARPAN!B255","v":"A"},{"$f":"SHALADARPAN!K255","v":722},{"$f":"SHALADARPAN!E255","v":"Irfan"},{"$f":"SHALADARPAN!G255","v":"Kailash"}]
[{"$nulls":22},{"$f":"SHALADARPAN!A256","v":7},{"$f":"SHALADARPAN!B256","v":"A"},{"$f":"SHALADARPAN!K256","v":724},{"$f":"SHALADARPAN!E256","v":"KHUSHBOO"},{"$f":"SHALADARPAN!G256","v":"Kailash"}]
[{"$nulls":22},{"$f":"SHALADARPAN!A257","v":7},{"$f":"SHALADARPAN!B257","v":"A"},{"$f":"SHALADARPAN!K257","v":725},{"$f":"SHALADARPAN!E257","v":"KHUSHBOO"},{"$f":"SHALADARPAN!G257","v":"Kailash"}]
[{"$nulls":22},{"$f":"SHALADARPAN!A258","v":7},{"$f":"SHALADARPAN!B258","v":"A"},{"$f":"SHALADARPAN!K258","v":726},{"$f":"SHALADARPAN!E258","v":"Khushi Vaishnav"},{"$f":"SHALADARPAN!G258","v":"Kailash"}]
[{"$nulls":22},{"$f":"SHALADARPAN!A259","v":7},{"$f":"SHALADARPAN!B259","v":"A"},{"$f":"SHALADARPAN!K259","v":727},{"$f":"SHALADARPAN!E259","v":"KOMAL"},{"$f":"SHALADARPAN!G259","v":"Kailash"}]
[{"$nulls":22},{"$f":"SHALADARPAN!A260","v":7},{"$f":"SHALADARPAN!B260","v":"A"},{"$f":"SHALADARPAN!K260","v":728},{"$f":"SHALADARPAN!E260","v":"LALI NATH"},{"$f":"SHALADARPAN!G260","v":"Kailash"}]
[{"$nulls":22},{"$f":"SHALADARPAN!A261","v":7},{"$f":"SHALADARPAN!B261","v":"A"},{"$f":"SHALADARPAN!K261","v":729},{"$f":"SHALADARPAN!E261","v":"Mohammad Irfan"},{"$f":"SHALADARPAN!G261","v":"Kailash"}]
[{"$nulls":22},{"$f":"SHALADARPAN!A262","v":7},{"$f":"SHALADARPAN!B262","v":"A"},{"$f":"SHALADARPAN!K262","v":730},{"$f":"SHALADARPAN!E262","v":"MOSEEM"},{"$f":"SHALADARPAN!G262","v":"Kailash"}]
[{"$nulls":22},{"$f":"SHALADARPAN!A263","v":7},{"$f":"SHALADARPAN!B263","v":"A"},{"$f":"SHALADARPAN!K263","v":731},{"$f":"SHALADARPAN!E263","v":"MUNNI"},{"$f":"SHALADARPAN!G263","v":"Kailash"}]
[{"$nulls":22},{"$f":"SHALADARPAN!A264","v":7},{"$f":"SHALADARPAN!B264","v":"A"},{"$f":"SHALADARPAN!K264","v":732},{"$f":"SHALADARPAN!E264","v":"MUSKAN"},{"$f":"SHALADARPAN!G264","v":"Kailash"}]
[{"$nulls":22},{"$f":"SHALADARPAN!A265","v":7},{"$f":"SHALADARPAN!B265","v":"A"},{"$f":"SHALADARPAN!K265","v":733},{"$f":"SHALADARPAN!E265","v":"NASREEN"},{"$f":"SHALADARPAN!G265","v":"Kailash"}]
[{"$nulls":22},{"$f":"SHALADARPAN!A266","v":7},{"$f":"SHALADARPAN!B266","v":"A"},{"$f":"SHALADARPAN!K266","v":734},{"$f":"SHALADARPAN!E266","v":"NAZMEEN"},{"$f":"SHALADARPAN!G266","v":"Kailash"}]
[{"$nulls":22},{"$f":"SHALADARPAN!A267","v":7},{"$f":"SHALADARPAN!B267","v":"A"},{"$f":"SHALADARPAN!K267","v":735},{"$f":"SHALADARPAN!E267","v":"NISHA"},{"$f":"SHALADARPAN!G267","v":"Kailash"}]
[{"$nulls":22},{"$f":"SHALADARPAN!A268","v":7},{"$f":"SHALADARPAN!B268","v":"A"},{"$f":"SHALADARPAN!K268","v":736},{"$f":"SHALADARPAN!E268","v":"Nitin Saini"},{"$f":"SHALADARPAN!G268","v":"Kailash"}]
[{"$nulls":22},{"$f":"SHALADARPAN!A269","v":7},{"$f":"SHALADARPAN!B269","v":"A"},{"$f":"SHALADARPAN!K269","v":737},{"$f":"SHALADARPAN!E269","v":"Nitu Gurjar"},{"$f":"SHALADARPAN!G269","v":"Kailash"}]
[{"$nulls":22},{"$f":"SHALADARPAN!A270","v":7},{"$f":"SHALADARPAN!B270","v":"A"},{"$f":"SHALADARPAN!K270","v":738},{"$f":"SHALADARPAN!E270","v":"NORAT LAL"},{"$f":"SHALADARPAN!G270","v":"Kailash"}]
[{"$nulls":22},{"$f":"SHALADARPAN!A271","v":7},{"$f":"SHALADARPAN!B271","v":"A"},{"$f":"SHALADARPAN!K271","v":739},{"$f":"SHALADARPAN!E271","v":"PAWAN JUNJADIYA"},{"$f":"SHALADARPAN!G271","v":"Kailash"}]
[{"$nulls":22},{"$f":"SHALADARPAN!A272","v":7},{"$f":"SHALADARPAN!B272","v":"A"},{"$f":"SHALADARPAN!K272","v":740},{"$f":"SHALADARPAN!E272","v":"PINTU SAINI"},{"$f":"SHALADARPAN!G272","v":"Kailash"}]
[{"$nulls":22},{"$f":"SHALADARPAN!A273","v":7},{"$f":"SHALADARPAN!B273","v":"A"},{"$f":"SHALADARPAN!K273","v":741},{"$f":"SHALADARPAN!E273","v":"PRIYANKA"},{"$f":"SHALADARPAN!G273","v":"Kailash"}]
[{"$nulls":22},{"$f":"SHALADARPAN!A274","v":7},{"$f":"SHALADARPAN!B274","v":"A"},{"$f":"SHALADARPAN!K274","v":742},{"$f":"SHALADARPAN!E274","v":"RAJU RAM"},{"$f":"SHALADARPAN!G274","v":"Kailash"}]
[{"$nulls":22},{"$f":"SHALADARPAN!A275","v":7},{"$f":"SHALADARPAN!B275","v":"A"},{"$f":"SHALADARPAN!K275","v":743},{"$f":"SHALADARPAN!E275","v":"RAVI BAVARI"},{"$f":"SHALADARPAN!G275","v":"Kailash"}]
[{"$nulls":22},{"$f":"SHALADARPAN!A276","v":7},{"$f":"SHALADARPAN!B276","v":"A"},{"$f":"SHALADARPAN!K276","v":744},{"$f":"SHALADARPAN!E276","v":"RIJVAN"},{"$f":"SHALADARPAN!G276","v":"Kailash"}]
[{"$nulls":22},{"$f":"SHALADARPAN!A277","v":7},{"$f":"SHALADARPAN!B277","v":"A"},{"$f":"SHALADARPAN!K277","v":745},{"$f":"SHALADARPAN!E277","v":"RIYAN"},{"$f":"SHALADARPAN!G277","v":"Kailash"}]
[{"$nulls":22},{"$f":"SHALADARPAN!A278","v":7},{"$f":"SHALADARPAN!B278","v":"A"},{"$f":"SHALADARPAN!K278","v":746},{"$f":"SHALADARPAN!E278","v":"RUKEEIA"},{"$f":"SHALADARPAN!G278","v":"Kailash"}]
[{"$nulls":22},{"$f":"SHALADARPAN!A279","v":7},{"$f":"SHALADARPAN!B279","v":"A"},{"$f":"SHALADARPAN!K279","v":747},{"$f":"SHALADARPAN!E279","v":"SAMEER"},{"$f":"SHALADARPAN!G279","v":"Kailash"}]
[{"$nulls":22},{"$f":"SHALADARPAN!A280","v":7},{"$f":"SHALADARPAN!B280","v":"A"},{"$f":"SHALADARPAN!K280","v":748},{"$f":"SHALADARPAN!E280","v":"SANIYA"},{"$f":"SHALADARPAN!G280","v":"Kailash"}]
[{"$nulls":22},{"$f":"SHALADARPAN!A281","v":7},{"$f":"SHALADARPAN!B281","v":"A"},{"$f":"SHALADARPAN!K281","v":749},{"$f":"SHALADARPAN!E281","v":"SHABANA BANU"},{"$f":"SHALADARPAN!G281","v":"Kailash"}]
[{"$nulls":22},{"$f":"SHALADARPAN!A282","v":7},{"$f":"SHALADARPAN!B282","v":"A"},{"$f":"SHALADARPAN!K282","v":750},{"$f":"SHALADARPAN!E282","v":"SHARIF MOHD."},{"$f":"SHALADARPAN!G282","v":"Kailash"}]
[{"$nulls":22},{"$f":"SHALADARPAN!A283","v":7},{"$f":"SHALADARPAN!B283","v":"A"},{"$f":"SHALADARPAN!K283","v":752},{"$f":"SHALADARPAN!E283","v":"SHOHIL"},{"$f":"SHALADARPAN!G283","v":"Kailash"}]
[{"$nulls":22},{"$f":"SHALADARPAN!A284","v":7},{"$f":"SHALADARPAN!B284","v":"A"},{"$f":"SHALADARPAN!K284","v":751},{"$f":"SHALADARPAN!E284","v":"SHOHIL"},{"$f":"SHALADARPAN!G284","v":"Kailash"}]
[{"$nulls":22},{"$f":"SHALADARPAN!A285","v":7},{"$f":"SHALADARPAN!B285","v":"A"},{"$f":"SHALADARPAN!K285","v":753},{"$f":"SHALADARPAN!E285","v":"SIMARAN"},{"$f":"SHALADARPAN!G285","v":"Kailash"}]
[{"$nulls":22},{"$f":"SHALADARPAN!A286","v":7},{"$f":"SHALADARPAN!B286","v":"A"},{"$f":"SHALADARPAN!K286","v":754},{"$f":"SHALADARPAN!E286","v":"Sonu Saini"},{"$f":"SHALADARPAN!G286","v":"Kailash"}]
[{"$nulls":22},{"$f":"SHALADARPAN!A287","v":7},{"$f":"SHALADARPAN!B287","v":"A"},{"$f":"SHALADARPAN!K287","v":755},{"$f":"SHALADARPAN!E287","v":"TEENA"},{"$f":"SHALADARPAN!G287","v":"Kailash"}]
[{"$nulls":22},{"$f":"SHALADARPAN!A288","v":8},{"$f":"SHALADARPAN!B288","v":"A"},{"$f":"SHALADARPAN!K288","v":801},{"$f":"SHALADARPAN!E288","v":"Aadil Mohammad"},{"$f":"SHALADARPAN!G288","v":"Kailash"}]
[{"$nulls":22},{"$f":"SHALADARPAN!A289","v":8},{"$f":"SHALADARPAN!B289","v":"A"},{"$f":"SHALADARPAN!K289","v":802},{"$f":"SHALADARPAN!E289","v":"AAFREEN BANOO"},{"$f":"SHALADARPAN!G289","v":"Kailash"}]
[{"$nulls":22},{"$f":"SHALADARPAN!A290","v":8},{"$f":"SHALADARPAN!B290","v":"A"},{"$f":"SHALADARPAN!K290","v":803},{"$f":"SHALADARPAN!E290","v":"AASIK"},{"$f":"SHALADARPAN!G290","v":"Kailash"}]
[{"$nulls":22},{"$f":"SHALADARPAN!A291","v":8},{"$f":"SHALADARPAN!B291","v":"A"},{"$f":"SHALADARPAN!K291","v":804},{"$f":"SHALADARPAN!E291","v":"ADITI GURJAR"},{"$f":"SHALADARPAN!G291","v":"Kailash"}]
[{"$nulls":22},{"$f":"SHALADARPAN!A292","v":8},{"$f":"SHALADARPAN!B292","v":"A"},{"$f":"SHALADARPAN!K292","v":805},{"$f":"SHALADARPAN!E292","v":"ALTAPH"},{"$f":"SHALADARPAN!G292","v":"Kailash"}]
[{"$nulls":22},{"$f":"SHALADARPAN!A293","v":8},{"$f":"SHALADARPAN!B293","v":"A"},{"$f":"SHALADARPAN!K293","v":807},{"$f":"SHALADARPAN!E293","v":"ANIL"},{"$f":"SHALADARPAN!G293","v":"Kailash"}]
[{"$nulls":22},{"$f":"SHALADARPAN!A294","v":8},{"$f":"SHALADARPAN!B294","v":"A"},{"$f":"SHALADARPAN!K294","v":808},{"$f":"SHALADARPAN!E294","v":"ANIL"},{"$f":"SHALADARPAN!G294","v":"Kailash"}]
[{"$nulls":22},{"$f":"SHALADARPAN!A295","v":8},{"$f":"SHALADARPAN!B295","v":"A"},{"$f":"SHALADARPAN!K295","v":806},{"$f":"SHALADARPAN!E295","v":"ANIL"},{"$f":"SHALADARPAN!G295","v":"Kailash"}]
[{"$nulls":22},{"$f":"SHALADARPAN!A296","v":8},{"$f":"SHALADARPAN!B296","v":"A"},{"$f":"SHALADARPAN!K296","v":809},{"$f":"SHALADARPAN!E296","v":"ANIL ACHARYA"},{"$f":"SHALADARPAN!G296","v":"Kailash"}]
[{"$nulls":22},{"$f":"SHALADARPAN!A297","v":8},{"$f":"SHALADARPAN!B297","v":"A"},{"$f":"SHALADARPAN!K297","v":810},{"$f":"SHALADARPAN!E297","v":"ANKIT"},{"$f":"SHALADARPAN!G297","v":"Kailash"}]
[{"$nulls":22},{"$f":"SHALADARPAN!A298","v":8},{"$f":"SHALADARPAN!B298","v":"A"},{"$f":"SHALADARPAN!K298","v":811},{"$f":"SHALADARPAN!E298","v":"ANWAR"},{"$f":"SHALADARPAN!G298","v":"Kailash"}]
[{"$nulls":22},{"$f":"SHALADARPAN!A299","v":8},{"$f":"SHALADARPAN!B299","v":"A"},{"$f":"SHALADARPAN!K299","v":812},{"$f":"SHALADARPAN!E299","v":"ARBAJ"},{"$f":"SHALADARPAN!G299","v":"Kailash"}]
[{"$nulls":22},{"$f":"SHALADARPAN!A300","v":8},{"$f":"SHALADARPAN!B300","v":"A"},{"$f":"SHALADARPAN!K300","v":813},{"$f":"SHALADARPAN!E300","v":"ASHISH JANGID"},{"$f":"SHALADARPAN!G300","v":"Kailash"}]
[{"$nulls":22},{"$f":"SHALADARPAN!A301","v":8},{"$f":"SHALADARPAN!B301","v":"A"},{"$f":"SHALADARPAN!K301","v":814},{"$f":"SHALADARPAN!E301","v":"BHARAT CHOKIDAR"},{"$f":"SHALADARPAN!G301","v":"Kailash"}]
[{"$nulls":22},{"$f":"SHALADARPAN!A302","v":8},{"$f":"SHALADARPAN!B302","v":"A"},{"$f":"SHALADARPAN!K302","v":815},{"$f":"SHALADARPAN!E302","v":"DHAN RAJ"},{"$f":"SHALADARPAN!G302","v":"Kailash"}]
[{"$nulls":22},{"$f":"SHALADARPAN!A303","v":8},{"$f":"SHALADARPAN!B303","v":"A"},{"$f":"SHALADARPAN!K303","v":816},{"$f":"SHALADARPAN!E303","v":"DILEEP KUMAWAT"},{"$f":"SHALADARPAN!G303","v":"Kailash"}]
[{"$nulls":22},{"$f":"SHALADARPAN!A304","v":8},{"$f":"SHALADARPAN!B304","v":"A"},{"$f":"SHALADARPAN!K304","v":817},{"$f":"SHALADARPAN!E304","v":"DILIP CHOKIDAR"},{"$f":"SHALADARPAN!G304","v":"Kailash"}]
[{"$nulls":22},{"$f":"SHALADARPAN!A305","v":8},{"$f":"SHALADARPAN!B305","v":"A"},{"$f":"SHALADARPAN!K305","v":818},{"$f":"SHALADARPAN!E305","v":"DIVYA"},{"$f":"SHALADARPAN!G305","v":"Kailash"}]
[{"$nulls":22},{"$f":"SHALADARPAN!A306","v":8},{"$f":"SHALADARPAN!B306","v":"A"},{"$f":"SHALADARPAN!K306","v":819},{"$f":"SHALADARPAN!E306","v":"GUNGUN SAINI"},{"$f":"SHALADARPAN!G306","v":"Kailash"}]
[{"$nulls":22},{"$f":"SHALADARPAN!A307","v":8},{"$f":"SHALADARPAN!B307","v":"A"},{"$f":"SHALADARPAN!K307","v":820},{"$f":"SHALADARPAN!E307","v":"HANUMAN NATH"},{"$f":"SHALADARPAN!G307","v":"Kailash"}]
[{"$nulls":22},{"$f":"SHALADARPAN!A308","v":8},{"$f":"SHALADARPAN!B308","v":"A"},{"$f":"SHALADARPAN!K308","v":821},{"$f":"SHALADARPAN!E308","v":"HEENA BANOO"},{"$f":"SHALADARPAN!G308","v":"Kailash"}]
[{"$nulls":22},{"$f":"SHALADARPAN!A309","v":8},{"$f":"SHALADARPAN!B309","v":"A"},{"$f":"SHALADARPAN!K309","v":822},{"$f":"SHALADARPAN!E309","v":"Heena Banu"},{"$f":"SHALADARPAN!G309","v":"Kailash"}]
[{"$nulls":22},{"$f":"SHALADARPAN!A310","v":8},{"$f":"SHALADARPAN!B310","v":"A"},{"$f":"SHALADARPAN!K310","v":823},{"$f":"SHALADARPAN!E310","v":"HUSAIN MOH."},{"$f":"SHALADARPAN!G310","v":"Kailash"}]
[{"$nulls":22},{"$f":"SHALADARPAN!A311","v":8},{"$f":"SHALADARPAN!B311","v":"A"},{"$f":"SHALADARPAN!K311","v":824},{"$f":"SHALADARPAN!E311","v":"ISHRAT BANOO"},{"$f":"SHALADARPAN!G311","v":"Kailash"}]
[{"$nulls":22},{"$f":"SHALADARPAN!A312","v":8},{"$f":"SHALADARPAN!B312","v":"A"},{"$f":"SHALADARPAN!K312","v":825},{"$f":"SHALADARPAN!E312","v":"Jabid Husain"},{"$f":"SHALADARPAN!G312","v":"Kailash"}]
[{"$nulls":22},{"$f":"SHALADARPAN!A313","v":8},{"$f":"SHALADARPAN!B313","v":"A"},{"$f":"SHALADARPAN!K313","v":826},{"$f":"SHALADARPAN!E313","v":"JITENDRA AACHARYA"},{"$f":"SHALADARPAN!G313","v":"Kailash"}]
[{"$nulls":22},{"$f":"SHALADARPAN!A314","v":8},{"$f":"SHALADARPAN!B314","v":"A"},{"$f":"SHALADARPAN!K314","v":827},{"$f":"SHALADARPAN!E314","v":"KANHIYALAL"},{"$f":"SHALADARPAN!G314","v":"Kailash"}]
[{"$nulls":22},{"$f":"SHALADARPAN!A315","v":8},{"$f":"SHALADARPAN!B315","v":"A"},{"$f":"SHALADARPAN!K315","v":828},{"$f":"SHALADARPAN!E315","v":"KHEMRAJ SAINI"},{"$f":"SHALADARPAN!G315","v":"Kailash"}]
[{"$nulls":22},{"$f":"SHALADARPAN!A316","v":8},{"$f":"SHALADARPAN!B316","v":"A"},{"$f":"SHALADARPAN!K316","v":830},{"$f":"SHALADARPAN!E316","v":"KIRAN BAWARI"},{"$f":"SHALADARPAN!G316","v":"Kailash"}]
[{"$nulls":22},{"$f":"SHALADARPAN!A317","v":8},{"$f":"SHALADARPAN!B317","v":"A"},{"$f":"SHALADARPAN!K317","v":829},{"$f":"SHALADARPAN!E317","v":"KIRAN BAWARI"},{"$f":"SHALADARPAN!G317","v":"Kailash"}]
[{"$nulls":22},{"$f":"SHALADARPAN!A318","v":8},{"$f":"SHALADARPAN!B318","v":"A"},{"$f":"SHALADARPAN!K318","v":831},{"$f":"SHALADARPAN!E318","v":"MAMTA"},{"$f":"SHALADARPAN!G318","v":"Kailash"}]
[{"$nulls":22},{"$f":"SHALADARPAN!A319","v":8},{"$f":"SHALADARPAN!B319","v":"A"},{"$f":"SHALADARPAN!K319","v":832},{"$f":"SHALADARPAN!E319","v":"MANISH GURJAR"},{"$f":"SHALADARPAN!G319","v":"Kailash"}]
[{"$nulls":22},{"$f":"SHALADARPAN!A320","v":8},{"$f":"SHALADARPAN!B320","v":"A"},{"$f":"SHALADARPAN!K320","v":833},{"$f":"SHALADARPAN!E320","v":"MANOHAR LAL"},{"$f":"SHALADARPAN!G320","v":"Kailash"}]
[{"$nulls":22},{"$f":"SHALADARPAN!A321","v":8},{"$f":"SHALADARPAN!B321","v":"A"},{"$f":"SHALADARPAN!K321","v":834},{"$f":"SHALADARPAN!E321","v":"Manoj"},{"$f":"SHALADARPAN!G321","v":"Kailash"}]
[{"$nulls":22},{"$f":"SHALADARPAN!A322","v":8},{"$f":"SHALADARPAN!B322","v":"A"},{"$f":"SHALADARPAN!K322","v":835},{"$f":"SHALADARPAN!E322","v":"MANU KANWAR"},{"$f":"SHALADARPAN!G322","v":"Kailash"}]
[{"$nulls":22},{"$f":"SHALADARPAN!A323","v":8},{"$f":"SHALADARPAN!B323","v":"A"},{"$f":"SHALADARPAN!K323","v":836},{"$f":"SHALADARPAN!E323","v":"MAYA DEVI"},{"$f":"SHALADARPAN!G323","v":"Kailash"}]
[{"$nulls":22},{"$f":"SHALADARPAN!A324","v":8},{"$f":"SHALADARPAN!B324","v":"A"},{"$f":"SHALADARPAN!K324","v":837},{"$f":"SHALADARPAN!E324","v":"MOHD.KHALEEL"},{"$f":"SHALADARPAN!G324","v":"Kailash"}]
[{"$nulls":22},{"$f":"SHALADARPAN!A325","v":8},{"$f":"SHALADARPAN!B325","v":"A"},{"$f":"SHALADARPAN!K325","v":838},{"$f":"SHALADARPAN!E325","v":"MOHIT ACHARYA"},{"$f":"SHALADARPAN!G325","v":"Kailash"}]
[{"$nulls":22},{"$f":"SHALADARPAN!A326","v":8},{"$f":"SHALADARPAN!B326","v":"A"},{"$f":"SHALADARPAN!K326","v":839},{"$f":"SHALADARPAN!E326","v":"MONIKA"},{"$f":"SHALADARPAN!G326","v":"Kailash"}]
[{"$nulls":22},{"$f":"SHALADARPAN!A327","v":8},{"$f":"SHALADARPAN!B327","v":"A"},{"$f":"SHALADARPAN!K327","v":840},{"$f":"SHALADARPAN!E327","v":"MONIKA"},{"$f":"SHALADARPAN!G327","v":"Kailash"}]
[{"$nulls":22},{"$f":"SHALADARPAN!A328","v":8},{"$f":"SHALADARPAN!B328","v":"A"},{"$f":"SHALADARPAN!K328","v":841},{"$f":"SHALADARPAN!E328","v":"NASEEM BANOO"},{"$f":"SHALADARPAN!G328","v":"Kailash"}]
[{"$nulls":22},{"$f":"SHALADARPAN!A329","v":8},{"$f":"SHALADARPAN!B329","v":"A"},{"$f":"SHALADARPAN!K329","v":842},{"$f":"SHALADARPAN!E329","v":"NISHA NATH"},{"$f":"SHALADARPAN!G329","v":"Kailash"}]
[{"$nulls":22},{"$f":"SHALADARPAN!A330","v":8},{"$f":"SHALADARPAN!B330","v":"A"},{"$f":"SHALADARPAN!K330","v":843},{"$f":"SHALADARPAN!E330","v":"Nitesh Saini"},{"$f":"SHALADARPAN!G330","v":"Kailash"}]
[{"$nulls":22},{"$f":"SHALADARPAN!A331","v":8},{"$f":"SHALADARPAN!B331","v":"A"},{"$f":"SHALADARPAN!K331","v":844},{"$f":"SHALADARPAN!E331","v":"PALAK KANWAR"},{"$f":"SHALADARPAN!G331","v":"Kailash"}]
[{"$nulls":22},{"$f":"SHALADARPAN!A332","v":8},{"$f":"SHALADARPAN!B332","v":"A"},{"$f":"SHALADARPAN!K332","v":845},{"$f":"SHALADARPAN!E332","v":"Pankaj Puri"},{"$f":"SHALADARPAN!G332","v":"Kailash"}]
[{"$nulls":22},{"$f":"SHALADARPAN!A333","v":8},{"$f":"SHALADARPAN!B333","v":"A"},{"$f":"SHALADARPAN!K333","v":846},{"$f":"SHALADARPAN!E333","v":"POOJA"},{"$f":"SHALADARPAN!G333","v":"Kailash"}]
[{"$nulls":22},{"$f":"SHALADARPAN!A334","v":8},{"$f":"SHALADARPAN!B334","v":"A"},{"$f":"SHALADARPAN!K334","v":847},{"$f":"SHALADARPAN!E334","v":"POOJA BAWARI"},{"$f":"SHALADARPAN!G334","v":"Kailash"}]
[{"$nulls":22},{"$f":"SHALADARPAN!A335","v":8},{"$f":"SHALADARPAN!B335","v":"A"},{"$f":"SHALADARPAN!K335","v":848},{"$f":"SHALADARPAN!E335","v":"PRAKASH"},{"$f":"SHALADARPAN!G335","v":"Kailash"}]
[{"$nulls":22},{"$f":"SHALADARPAN!A336","v":8},{"$f":"SHALADARPAN!B336","v":"A"},{"$f":"SHALADARPAN!K336","v":849},{"$f":"SHALADARPAN!E336","v":"Radhika Vaishnav"},{"$f":"SHALADARPAN!G336","v":"Kailash"}]
[{"$nulls":22},{"$f":"SHALADARPAN!A337","v":8},{"$f":"SHALADARPAN!B337","v":"A"},{"$f":"SHALADARPAN!K337","v":850},{"$f":"SHALADARPAN!E337","v":"Rajdeep"},{"$f":"SHALADARPAN!G337","v":"Kailash"}]
[{"$nulls":22},{"$f":"SHALADARPAN!A338","v":8},{"$f":"SHALADARPAN!B338","v":"A"},{"$f":"SHALADARPAN!K338","v":851},{"$f":"SHALADARPAN!E338","v":"RAKESH BAVARI"},{"$f":"SHALADARPAN!G338","v":"Kailash"}]
[{"$nulls":22},{"$f":"SHALADARPAN!A339","v":8},{"$f":"SHALADARPAN!B339","v":"A"},{"$f":"SHALADARPAN!K339","v":852},{"$f":"SHALADARPAN!E339","v":"RAKHI KANWAR"},{"$f":"SHALADARPAN!G339","v":"Kailash"}]
[{"$nulls":22},{"$f":"SHALADARPAN!A340","v":8},{"$f":"SHALADARPAN!B340","v":"A"},{"$f":"SHALADARPAN!K340","v":853},{"$f":"SHALADARPAN!E340","v":"RESHMA BANOO"},{"$f":"SHALADARPAN!G340","v":"Kailash"}]
[{"$nulls":22},{"$f":"SHALADARPAN!A341","v":8},{"$f":"SHALADARPAN!B341","v":"A"},{"$f":"SHALADARPAN!K341","v":854},{"$f":"SHALADARPAN!E341","v":"RUBANA BANU"},{"$f":"SHALADARPAN!G341","v":"Kailash"}]
[{"$nulls":22},{"$f":"SHALADARPAN!A342","v":8},{"$f":"SHALADARPAN!B342","v":"A"},{"$f":"SHALADARPAN!K342","v":855},{"$f":"SHALADARPAN!E342","v":"Sabir Ali"},{"$f":"SHALADARPAN!G342","v":"Kailash"}]
[{"$nulls":22},{"$f":"SHALADARPAN!A343","v":8},{"$f":"SHALADARPAN!B343","v":"A"},{"$f":"SHALADARPAN!K343","v":856},{"$f":"SHALADARPAN!E343","v":"SAHUKAR"},{"$f":"SHALADARPAN!G343","v":"Kailash"}]
[{"$nulls":22},{"$f":"SHALADARPAN!A344","v":8},{"$f":"SHALADARPAN!B344","v":"A"},{"$f":"SHALADARPAN!K344","v":857},{"$f":"SHALADARPAN!E344","v":"SALMA BANOO"},{"$f":"SHALADARPAN!G344","v":"Kailash"}]
[{"$nulls":22},{"$f":"SHALADARPAN!A345","v":8},{"$f":"SHALADARPAN!B345","v":"A"},{"$f":"SHALADARPAN!K345","v":858},{"$f":"SHALADARPAN!E345","v":"SANIYA BANOO"},{"$f":"SHALADARPAN!G345","v":"Kailash"}]
[{"$nulls":22},{"$f":"SHALADARPAN!A346","v":8},{"$f":"SHALADARPAN!B346","v":"A"},{"$f":"SHALADARPAN!K346","v":859},{"$f":"SHALADARPAN!E346","v":"SANJAY KHAN"},{"$f":"SHALADARPAN!G346","v":"Kailash"}]
[{"$nulls":22},{"$f":"SHALADARPAN!A347","v":8},{"$f":"SHALADARPAN!B347","v":"A"},{"$f":"SHALADARPAN!K347","v":860},{"$f":"SHALADARPAN!E347","v":"SAPNA GURJAR"},{"$f":"SHALADARPAN!G347","v":"Kailash"}]
[{"$nulls":22},{"$f":"SHALADARPAN!A348","v":8},{"$f":"SHALADARPAN!B348","v":"A"},{"$f":"SHALADARPAN!K348","v":861},{"$f":"SHALADARPAN!E348","v":"SEEMA DEVI"},{"$f":"SHALADARPAN!G348","v":"Kailash"}]
[{"$nulls":22},{"$f":"SHALADARPAN!A349","v":8},{"$f":"SHALADARPAN!B349","v":"A"},{"$f":"SHALADARPAN!K349","v":862},{"$f":"SHALADARPAN!E349","v":"SHOHIL"},{"$f":"SHALADARPAN!G349","v":"Kailash"}]
[{"$nulls":22},{"$f":"SHALADARPAN!A350","v":8},{"$f":"SHALADARPAN!B350","v":"A"},{"$f":"SHALADARPAN!K350","v":863},{"$f":"SHALADARPAN!E350","v":"Shubham Acharya"},{"$f":"SHALADARPAN!G350","v":"Kailash"}]
[{"$nulls":22},{"$f":"SHALADARPAN!A351","v":8},{"$f":"SHALADARPAN!B351","v":"A"},{"$f":"SHALADARPAN!K351","v":864},{"$f":"SHALADARPAN!E351","v":"SUJITA"},{"$f":"SHALADARPAN!G351","v":"Kailash"}]
[{"$nulls":22},{"$f":"SHALADARPAN!A352","v":8},{"$f":"SHALADARPAN!B352","v":"A"},{"$f":"SHALADARPAN!K352","v":865},{"$f":"SHALADARPAN!E352","v":"Sunil Saini"},{"$f":"SHALADARPAN!G352","v":"Kailash"}]
[{"$nulls":22},{"$f":"SHALADARPAN!A353","v":8},{"$f":"SHALADARPAN!B353","v":"A"},{"$f":"SHALADARPAN!K353","v":866},{"$f":"SHALADARPAN!E353","v":"SUNIL SAINI"},{"$f":"SHALADARPAN!G353","v":"Kailash"}]
[{"$nulls":22},{"$f":"SHALADARPAN!A354","v":8},{"$f":"SHALADARPAN!B354","v":"A"},{"$f":"SHALADARPAN!K354","v":867},{"$f":"SHALADARPAN!E354","v":"Sushil Kumar"},{"$f":"SHALADARPAN!G354","v":"Kailash"}]
[{"$nulls":22},{"$f":"SHALADARPAN!A355","v":8},{"$f":"SHALADARPAN!B355","v":"A"},{"$f":"SHALADARPAN!K355","v":868},{"$f":"SHALADARPAN!E355","v":"Tanvi Singh"},{"$f":"SHALADARPAN!G355","v":"Kailash"}]
[{"$nulls":22},{"$f":"SHALADARPAN!A356","v":8},{"$f":"SHALADARPAN!B356","v":"A"},{"$f":"SHALADARPAN!K356","v":869},{"$f":"SHALADARPAN!E356","v":"TEENA AACHARYA"},{"$f":"SHALADARPAN!G356","v":"Kailash"}]
[{"$nulls":22},{"$f":"SHALADARPAN!A357","v":9},{"$f":"SHALADARPAN!B357","v":"A"},{"$f":"SHALADARPAN!K357","v":901},{"$f":"SHALADARPAN!E357","v":"Aakash Suwasiya"},{"$f":"SHALADARPAN!G357","v":"Kailash"}]
[{"$nulls":22},{"$f":"SHALADARPAN!A358","v":9},{"$f":"SHALADARPAN!B358","v":"A"},{"$f":"SHALADARPAN!K358","v":902},{"$f":"SHALADARPAN!E358","v":"AASIF ALI"},{"$f":"SHALADARPAN!G358","v":"Kailash"}]
[{"$nulls":22},{"$f":"SHALADARPAN!A359","v":9},{"$f":"SHALADARPAN!B359","v":"A"},{"$f":"SHALADARPAN!K359","v":903},{"$f":"SHALADARPAN!E359","v":"Abdul Hameed"},{"$f":"SHALADARPAN!G359","v":"Kailash"}]
[{"$nulls":22},{"$f":"SHALADARPAN!A360","v":9},{"$f":"SHALADARPAN!B360","v":"A"},{"$f":"SHALADARPAN!K360","v":904},{"$f":"SHALADARPAN!E360","v":"AJAY"},{"$f":"SHALADARPAN!G360","v":"Kailash"}]
[{"$nulls":22},{"$f":"SHALADARPAN!A361","v":9},{"$f":"SHALADARPAN!B361","v":"A"},{"$f":"SHALADARPAN!K361","v":905},{"$f":"SHALADARPAN!E361","v":"Alkesh Dagdi"},{"$f":"SHALADARPAN!G361","v":"Kailash"}]
[{"$nulls":22},{"$f":"SHALADARPAN!A362","v":9},{"$f":"SHALADARPAN!B362","v":"A"},{"$f":"SHALADARPAN!K362","v":606},{"$f":"SHALADARPAN!E362","v":"Anil Kumar"},{"$f":"SHALADARPAN!G362","v":"Kailash"}]
[{"$nulls":22},{"$f":"SHALADARPAN!A363","v":9},{"$f":"SHALADARPAN!B363","v":"A"},{"$f":"SHALADARPAN!K363","v":907},{"$f":"SHALADARPAN!E363","v":"ANITA MALI"},{"$f":"SHALADARPAN!G363","v":"Kailash"}]
[{"$nulls":22},{"$f":"SHALADARPAN!A364","v":9},{"$f":"SHALADARPAN!B364","v":"A"},{"$f":"SHALADARPAN!K364","v":908},{"$f":"SHALADARPAN!E364","v":"Ankit Parihar"},{"$f":"SHALADARPAN!G364","v":"Kailash"}]
[{"$nulls":22},{"$f":"SHALADARPAN!A365","v":9},{"$f":"SHALADARPAN!B365","v":"A"},{"$f":"SHALADARPAN!K365","v":909},{"$f":"SHALADARPAN!E365","v":"ASHOK CHOKIDAR"},{"$f":"SHALADARPAN!G365","v":"Kailash"}]
[{"$nulls":22},{"$f":"SHALADARPAN!A366","v":9},{"$f":"SHALADARPAN!B366","v":"A"},{"$f":"SHALADARPAN!K366","v":911},{"$f":"SHALADARPAN!E366","v":"DEEPAK KUMAWAT"},{"$f":"SHALADARPAN!G366","v":"Kailash"}]
[{"$nulls":22},{"$f":"SHALADARPAN!A367","v":9},{"$f":"SHALADARPAN!B367","v":"A"},{"$f":"SHALADARPAN!K367","v":913},{"$f":"SHALADARPAN!E367","v":"DEVENDRA KUDI"},{"$f":"SHALADARPAN!G367","v":"Kailash"}]
[{"$nulls":22},{"$f":"SHALADARPAN!A368","v":9},{"$f":"SHALADARPAN!B368","v":"A"},{"$f":"SHALADARPAN!K368","v":915},{"$f":"SHALADARPAN!E368","v":"Dilu Devi Gurjar"},{"$f":"SHALADARPAN!G368","v":"Kailash"}]
[{"$nulls":22},{"$f":"SHALADARPAN!A369","v":9},{"$f":"SHALADARPAN!B369","v":"A"},{"$f":"SHALADARPAN!K369","v":916},{"$f":"SHALADARPAN!E369","v":"DINESH CHOKIDAR"},{"$f":"SHALADARPAN!G369","v":"Kailash"}]
[{"$nulls":22},{"$f":"SHALADARPAN!A370","v":9},{"$f":"SHALADARPAN!B370","v":"A"},{"$f":"SHALADARPAN!K370","v":917},{"$f":"SHALADARPAN!E370","v":"Gopal Saini"},{"$f":"SHALADARPAN!G370","v":"Kailash"}]
[{"$nulls":22},{"$f":"SHALADARPAN!A371","v":9},{"$f":"SHALADARPAN!B371","v":"A"},{"$f":"SHALADARPAN!K371","v":920},{"$f":"SHALADARPAN!E371","v":"Jatin Jorawal"},{"$f":"SHALADARPAN!G371","v":"Kailash"}]
[{"$nulls":22},{"$f":"SHALADARPAN!A372","v":9},{"$f":"SHALADARPAN!B372","v":"A"},{"$f":"SHALADARPAN!K372","v":921},{"$f":"SHALADARPAN!E372","v":"KAILASH"},{"$f":"SHALADARPAN!G372","v":"Kailash"}]
[{"$nulls":22},{"$f":"SHALADARPAN!A373","v":9},{"$f":"SHALADARPAN!B373","v":"A"},{"$f":"SHALADARPAN!K373","v":922},{"$f":"SHALADARPAN!E373","v":"KAVITA SAINI"},{"$f":"SHALADARPAN!G373","v":"Kailash"}]
[{"$nulls":22},{"$f":"SHALADARPAN!A374","v":9},{"$f":"SHALADARPAN!B374","v":"A"},{"$f":"SHALADARPAN!K374","v":923},{"$f":"SHALADARPAN!E374","v":"KHALID MOHAMMAD RANGREJ"},{"$f":"SHALADARPAN!G374","v":"Kailash"}]
[{"$nulls":22},{"$f":"SHALADARPAN!A375","v":9},{"$f":"SHALADARPAN!B375","v":"A"},{"$f":"SHALADARPAN!K375","v":924},{"$f":"SHALADARPAN!E375","v":"KHUSHBOO KANWAR"},{"$f":"SHALADARPAN!G375","v":"Kailash"}]
[{"$nulls":22},{"$f":"SHALADARPAN!A376","v":9},{"$f":"SHALADARPAN!B376","v":"A"},{"$f":"SHALADARPAN!K376","v":925},{"$f":"SHALADARPAN!E376","v":"KULDEEP SINGH"},{"$f":"SHALADARPAN!G376","v":"Kailash"}]
[{"$nulls":22},{"$f":"SHALADARPAN!A377","v":9},{"$f":"SHALADARPAN!B377","v":"A"},{"$f":"SHALADARPAN!K377","v":926},{"$f":"SHALADARPAN!E377","v":"KULDEEP SINGH"},{"$f":"SHALADARPAN!G377","v":"Kailash"}]
[{"$nulls":22},{"$f":"SHALADARPAN!A378","v":9},{"$f":"SHALADARPAN!B378","v":"A"},{"$f":"SHALADARPAN!K378","v":927},{"$f":"SHALADARPAN!E378","v":"Laki Ali"},{"$f":"SHALADARPAN!G378","v":"Kailash"}]
[{"$nulls":22},{"$f":"SHALADARPAN!A379","v":9},{"$f":"SHALADARPAN!B379","v":"A"},{"$f":"SHALADARPAN!K379","v":930},{"$f":"SHALADARPAN!E379","v":"Mukesh Nath"},{"$f":"SHALADARPAN!G379","v":"Kailash"}]
[{"$nulls":22},{"$f":"SHALADARPAN!A380","v":9},{"$f":"SHALADARPAN!B380","v":"A"},{"$f":"SHALADARPAN!K380","v":932},{"$f":"SHALADARPAN!E380","v":"MUSKAN BANOO"},{"$f":"SHALADARPAN!G380","v":"Kailash"}]
[{"$nulls":22},{"$f":"SHALADARPAN!A381","v":9},{"$f":"SHALADARPAN!B381","v":"A"},{"$f":"SHALADARPAN!K381","v":933},{"$f":"SHALADARPAN!E381","v":"MUSKAN MIRASHI"},{"$f":"SHALADARPAN!G381","v":"Kailash"}]
[{"$nulls":22},{"$f":"SHALADARPAN!A382","v":9},{"$f":"SHALADARPAN!B382","v":"A"},{"$f":"SHALADARPAN!K382","v":935},{"$f":"SHALADARPAN!E382","v":"PRAKASH CHAND MALI"},{"$f":"SHALADARPAN!G382","v":"Kailash"}]
[{"$nulls":22},{"$f":"SHALADARPAN!A383","v":9},{"$f":"SHALADARPAN!B383","v":"A"},{"$f":"SHALADARPAN!K383","v":936},{"$f":"SHALADARPAN!E383","v":"Pushpendra Singh"},{"$f":"SHALADARPAN!G383","v":"Kailash"}]
[{"$nulls":22},{"$f":"SHALADARPAN!A384","v":9},{"$f":"SHALADARPAN!B384","v":"A"},{"$f":"SHALADARPAN!K384","v":938},{"$f":"SHALADARPAN!E384","v":"Ravi Choudhary"},{"$f":"SHALADARPAN!G384","v":"Kailash"}]
[{"$nulls":22},{"$f":"SHALADARPAN!A385","v":9},{"$f":"SHALADARPAN!B385","v":"A"},{"$f":"SHALADARPAN!K385","v":939},{"$f":"SHALADARPAN!E385","v":"Rinku Vaishnav"},{"$f":"SHALADARPAN!G385","v":"Kailash"}]
[{"$nulls":22},{"$f":"SHALADARPAN!A386","v":9},{"$f":"SHALADARPAN!B386","v":"A"},{"$f":"SHALADARPAN!K386","v":940},{"$f":"SHALADARPAN!E386","v":"RUBINA"},{"$f":"SHALADARPAN!G386","v":"Kailash"}]
[{"$nulls":22},{"$f":"SHALADARPAN!A387","v":9},{"$f":"SHALADARPAN!B387","v":"A"},{"$f":"SHALADARPAN!K387","v":941},{"$f":"SHALADARPAN!E387","v":"RUKHSAR"},{"$f":"SHALADARPAN!G387","v":"Kailash"}]
[{"$nulls":22},{"$f":"SHALADARPAN!A388","v":9},{"$f":"SHALADARPAN!B388","v":"A"},{"$f":"SHALADARPAN!K388","v":942},{"$f":"SHALADARPAN!E388","v":"Sahina Banu"},{"$f":"SHALADARPAN!G388","v":"Kailash"}]
[{"$nulls":22},{"$f":"SHALADARPAN!A389","v":9},{"$f":"SHALADARPAN!B389","v":"A"},{"$f":"SHALADARPAN!K389","v":944},{"$f":"SHALADARPAN!E389","v":"SAMEER MIRASHI"},{"$f":"SHALADARPAN!G389","v":"Kailash"}]
[{"$nulls":22},{"$f":"SHALADARPAN!A390","v":9},{"$f":"SHALADARPAN!B390","v":"A"},{"$f":"SHALADARPAN!K390","v":945},{"$f":"SHALADARPAN!E390","v":"SAROJ"},{"$f":"SHALADARPAN!G390","v":"Kailash"}]
[{"$nulls":22},{"$f":"SHALADARPAN!A391","v":9},{"$f":"SHALADARPAN!B391","v":"A"},{"$f":"SHALADARPAN!K391","v":946},{"$f":"SHALADARPAN!E391","v":"SATYANARAYAN"},{"$f":"SHALADARPAN!G391","v":"Kailash"}]
[{"$nulls":22},{"$f":"SHALADARPAN!A392","v":9},{"$f":"SHALADARPAN!B392","v":"A"},{"$f":"SHALADARPAN!K392","v":947},{"$f":"SHALADARPAN!E392","v":"SHOHIL HUSAIN"},{"$f":"SHALADARPAN!G392","v":"Kailash"}]
[{"$nulls":22},{"$f":"SHALADARPAN!A393","v":9},{"$f":"SHALADARPAN!B393","v":"A"},{"$f":"SHALADARPAN!K393","v":948},{"$f":"SHALADARPAN!E393","v":"SUMAN"},{"$f":"SHALADARPAN!G393","v":"Kailash"}]
[{"$nulls":22},{"$f":"SHALADARPAN!A394","v":9},{"$f":"SHALADARPAN!B394","v":"A"},{"$f":"SHALADARPAN!K394","v":949},{"$f":"SHALADARPAN!E394","v":"SUMITRA DEVI"},{"$f":"SHALADARPAN!G394","v":"Kailash"}]
[{"$nulls":22},{"$f":"SHALADARPAN!A395","v":9},{"$f":"SHALADARPAN!B395","v":"A"},{"$f":"SHALADARPAN!K395","v":952},{"$f":"SHALADARPAN!E395","v":"SUNIL MEGHWAL"},{"$f":"SHALADARPAN!G395","v":"Kailash"}]
[{"$nulls":22},{"$f":"SHALADARPAN!A396","v":9},{"$f":"SHALADARPAN!B396","v":"A"},{"$f":"SHALADARPAN!K396","v":953},{"$f":"SHALADARPAN!E396","v":"SUNIL MEHRA"},{"$f":"SHALADARPAN!G396","v":"Kailash"}]
[{"$nulls":22},{"$f":"SHALADARPAN!A397","v":9},{"$f":"SHALADARPAN!B397","v":"A"},{"$f":"SHALADARPAN!K397","v":954},{"$f":"SHALADARPAN!E397","v":"SUNIL RAWAL"},{"$f":"SHALADARPAN!G397","v":"Kailash"}]
[{"$nulls":22},{"$f":"SHALADARPAN!A398","v":9},{"$f":"SHALADARPAN!B398","v":"A"},{"$f":"SHALADARPAN!K398","v":955},{"$f":"SHALADARPAN!E398","v":"SUNIL SAINI"},{"$f":"SHALADARPAN!G398","v":"Kailash"}]
[{"$nulls":22},{"$f":"SHALADARPAN!A399","v":9},{"$f":"SHALADARPAN!B399","v":"A"},{"$f":"SHALADARPAN!K399","v":956},{"$f":"SHALADARPAN!E399","v":"SUSHIL SINGODIYA"},{"$f":"SHALADARPAN!G399","v":"Kailash"}]
[{"$nulls":22},{"$f":"SHALADARPAN!A400","v":9},{"$f":"SHALADARPAN!B400","v":"A"},{"$f":"SHALADARPAN!K400","v":957},{"$f":"SHALADARPAN!E400","v":"TARA CHAND"},{"$f":"SHALADARPAN!G400","v":"Kailash"}]
[{"$nulls":22},{"$f":"SHALADARPAN!A401","v":9},{"$f":"SHALADARPAN!B401","v":"A"},{"$f":"SHALADARPAN!K401","v":959},{"$f":"SHALADARPAN!E401","v":"VASEEM"},{"$f":"SHALADARPAN!G401","v":"Kailash"}]
[{"$nulls":22},{"$f":"SHALADARPAN!A402","v":9},{"$f":"SHALADARPAN!B402","v":"A"},{"$f":"SHALADARPAN!K402","v":960},{"$f":"SHALADARPAN!E402","v":"Vikas Tamboli"},{"$f":"SHALADARPAN!G402","v":"Kailash"}]
[{"$nulls":22},{"$f":"SHALADARPAN!A403","v":9},{"$f":"SHALADARPAN!B403","v":"A"},{"$f":"SHALADARPAN!K403","v":961},{"$f":"SHALADARPAN!E403","v":"VIKRAM"},{"$f":"SHALADARPAN!G403","v":"Kailash"}]
[{"$nulls":22},{"$f":"SHALADARPAN!A404","v":9},{"$f":"SHALADARPAN!B404","v":"A"},{"$f":"SHALADARPAN!K404","v":962},{"$f":"SHALADARPAN!E404","v":"VIMALA KUMAWAT"},{"$f":"SHALADARPAN!G404","v":"Kailash"}]
[{"$nulls":22},{"$f":"SHALADARPAN!A405","v":9},{"$f":"SHALADARPAN!B405","v":"A"},{"$f":"SHALADARPAN!K405","v":963},{"$f":"SHALADARPAN!E405","v":"VIRENDRA CHOKIDAR"},{"$f":"SHALADARPAN!G405","v":"Kailash"}]
[{"$nulls":22},{"$f":"SHALADARPAN!A406","v":9},{"$f":"SHALADARPAN!B406","v":"B"},{"$f":"SHALADARPAN!K406","v":1001},{"$f":"SHALADARPAN!E406","v":"AFROJ BANU"},{"$f":"SHALADARPAN!G406","v":"Kailash"}]
[{"$nulls":22},{"$f":"SHALADARPAN!A407","v":9},{"$f":"SHALADARPAN!B407","v":"B"},{"$f":"SHALADARPAN!K407","v":1002},{"$f":"SHALADARPAN!E407","v":"ALTAF MOHAMMAD"},{"$f":"SHALADARPAN!G407","v":"Kailash"}]
[{"$nulls":22},{"$f":"SHALADARPAN!A408","v":9},{"$f":"SHALADARPAN!B408","v":"B"},{"$f":"SHALADARPAN!K408","v":1003},{"$f":"SHALADARPAN!E408","v":"ANNU KANWAR"},{"$f":"SHALADARPAN!G408","v":"Kailash"}]
[{"$nulls":22},{"$f":"SHALADARPAN!A409","v":9},{"$f":"SHALADARPAN!B409","v":"B"},{"$f":"SHALADARPAN!K409","v":1004},{"$f":"SHALADARPAN!E409","v":"Arpit Tailor"},{"$f":"SHALADARPAN!G409","v":"Kailash"}]
[{"$nulls":22},{"$f":"SHALADARPAN!A410","v":9},{"$f":"SHALADARPAN!B410","v":"B"},{"$f":"SHALADARPAN!K410","v":1005},{"$f":"SHALADARPAN!E410","v":"Ashraf Ali"},{"$f":"SHALADARPAN!G410","v":"Kailash"}]
[{"$nulls":22},{"$f":"SHALADARPAN!A411","v":9},{"$f":"SHALADARPAN!B411","v":"B"},{"$f":"SHALADARPAN!K411","v":1006},{"$f":"SHALADARPAN!E411","v":"BALRAM GURJAR"},{"$f":"SHALADARPAN!G411","v":"Kailash"}]
[{"$nulls":22},{"$f":"SHALADARPAN!A412","v":9},{"$f":"SHALADARPAN!B412","v":"B"},{"$f":"SHALADARPAN!K412","v":1007},{"$f":"SHALADARPAN!E412","v":"BASANTI"},{"$f":"SHALADARPAN!G412","v":"Kailash"}]
[{"$nulls":22},{"$f":"SHALADARPAN!A413","v":9},{"$f":"SHALADARPAN!B413","v":"B"},{"$f":"SHALADARPAN!K413","v":1008},{"$f":"SHALADARPAN!E413","v":"Chanchal Saini"},{"$f":"SHALADARPAN!G413","v":"Kailash"}]
[{"$nulls":22},{"$f":"SHALADARPAN!A414","v":9},{"$f":"SHALADARPAN!B414","v":"B"},{"$f":"SHALADARPAN!K414","v":1009},{"$f":"SHALADARPAN!E414","v":"CHANCHAL KUMAWAT"},{"$f":"SHALADARPAN!G414","v":"Kailash"}]
[{"$nulls":22},{"$f":"SHALADARPAN!A415","v":9},{"$f":"SHALADARPAN!B415","v":"B"},{"$f":"SHALADARPAN!K415","v":1010},{"$f":"SHALADARPAN!E415","v":"Cheteswar Jhala"},{"$f":"SHALADARPAN!G415","v":"Kailash"}]
[{"$nulls":22},{"$f":"SHALADARPAN!A416","v":9},{"$f":"SHALADARPAN!B416","v":"B"},{"$f":"SHALADARPAN!K416","v":1011},{"$f":"SHALADARPAN!E416","v":"Deepika Prajapat"},{"$f":"SHALADARPAN!G416","v":"Kailash"}]
[{"$nulls":22},{"$f":"SHALADARPAN!A417","v":9},{"$f":"SHALADARPAN!B417","v":"B"},{"$f":"SHALADARPAN!K417","v":1012},{"$f":"SHALADARPAN!E417","v":"Devendra Singh"},{"$f":"SHALADARPAN!G417","v":"Kailash"}]
[{"$nulls":22},{"$f":"SHALADARPAN!A418","v":9},{"$f":"SHALADARPAN!B418","v":"B"},{"$f":"SHALADARPAN!K418","v":1013},{"$f":"SHALADARPAN!E418","v":"Dinesh Saini"},{"$f":"SHALADARPAN!G418","v":"Kailash"}]
[{"$nulls":22},{"$f":"SHALADARPAN!A419","v":9},{"$f":"SHALADARPAN!B419","v":"B"},{"$f":"SHALADARPAN!K419","v":1014},{"$f":"SHALADARPAN!E419","v":"GHANSHYAM RAVAL"},{"$f":"SHALADARPAN!G419","v":"Kailash"}]
[{"$nulls":22},{"$f":"SHALADARPAN!A420","v":9},{"$f":"SHALADARPAN!B420","v":"B"},{"$f":"SHALADARPAN!K420","v":1015},{"$f":"SHALADARPAN!E420","v":"GUDDI"},{"$f":"SHALADARPAN!G420","v":"Kailash"}]
[{"$nulls":22},{"$f":"SHALADARPAN!A421","v":9},{"$f":"SHALADARPAN!B421","v":"B"},{"$f":"SHALADARPAN!K421","v":915},{"$f":"SHALADARPAN!E421","v":"GULBAR BANU"},{"$f":"SHALADARPAN!G421","v":"Kailash"}]
[{"$nulls":22},{"$f":"SHALADARPAN!A422","v":9},{"$f":"SHALADARPAN!B422","v":"B"},{"$f":"SHALADARPAN!K422","v":1016},{"$f":"SHALADARPAN!E422","v":"Hansa Devi"},{"$f":"SHALADARPAN!G422","v":"Kailash"}]
[{"$nulls":22},{"$f":"SHALADARPAN!A423","v":9},{"$f":"SHALADARPAN!B423","v":"B"},{"$f":"SHALADARPAN!K423","v":1017},{"$f":"SHALADARPAN!E423","v":"Hanuman Ram"},{"$f":"SHALADARPAN!G423","v":"Kailash"}]
[{"$nulls":22},{"$f":"SHALADARPAN!A424","v":9},{"$f":"SHALADARPAN!B424","v":"B"},{"$f":"SHALADARPAN!K424","v":1018},{"$f":"SHALADARPAN!E424","v":"Harendra Saini"},{"$f":"SHALADARPAN!G424","v":"Kailash"}]
[{"$nulls":22},{"$f":"SHALADARPAN!A425","v":9},{"$f":"SHALADARPAN!B425","v":"B"},{"$f":"SHALADARPAN!K425","v":1019},{"$f":"SHALADARPAN!E425","v":"Hari Ram"},{"$f":"SHALADARPAN!G425","v":"Kailash"}]
[{"$nulls":22},{"$f":"SHALADARPAN!A426","v":9},{"$f":"SHALADARPAN!B426","v":"B"},{"$f":"SHALADARPAN!K426","v":1020},{"$f":"SHALADARPAN!E426","v":"HASMATI BANO"},{"$f":"SHALADARPAN!G426","v":"Kailash"}]
[{"$nulls":22},{"$f":"SHALADARPAN!A427","v":9},{"$f":"SHALADARPAN!B427","v":"B"},{"$f":"SHALADARPAN!K427","v":1021},{"$f":"SHALADARPAN!E427","v":"JAIPAL SINGH"},{"$f":"SHALADARPAN!G427","v":"Kailash"}]
[{"$nulls":22},{"$f":"SHALADARPAN!A428","v":9},{"$f":"SHALADARPAN!B428","v":"B"},{"$f":"SHALADARPAN!K428","v":1022},{"$f":"SHALADARPAN!E428","v":"Jay Shree Prajapat"},{"$f":"SHALADARPAN!G428","v":"Kailash"}]
[{"$nulls":22},{"$f":"SHALADARPAN!A429","v":9},{"$f":"SHALADARPAN!B429","v":"B"},{"$f":"SHALADARPAN!K429","v":1023},{"$f":"SHALADARPAN!E429","v":"KAJOO DEVI"},{"$f":"SHALADARPAN!G429","v":"Kailash"}]
[{"$nulls":22},{"$f":"SHALADARPAN!A430","v":9},{"$f":"SHALADARPAN!B430","v":"B"},{"$f":"SHALADARPAN!K430","v":1024},{"$f":"SHALADARPAN!E430","v":"KANCHAN DEVI"},{"$f":"SHALADARPAN!G430","v":"Kailash"}]
[{"$nulls":22},{"$f":"SHALADARPAN!A431","v":9},{"$f":"SHALADARPAN!B431","v":"B"},{"$f":"SHALADARPAN!K431","v":1025},{"$f":"SHALADARPAN!E431","v":"KAVITA KUMAWAT"},{"$f":"SHALADARPAN!G431","v":"Kailash"}]
[{"$nulls":22},{"$f":"SHALADARPAN!A432","v":9},{"$f":"SHALADARPAN!B432","v":"B"},{"$f":"SHALADARPAN!K432","v":1026},{"$f":"SHALADARPAN!E432","v":"KOMAL"},{"$f":"SHALADARPAN!G432","v":"Kailash"}]
[{"$nulls":22},{"$f":"SHALADARPAN!A433","v":9},{"$f":"SHALADARPAN!B433","v":"B"},{"$f":"SHALADARPAN!K433","v":1027},{"$f":"SHALADARPAN!E433","v":"Komal Kanwar"},{"$f":"SHALADARPAN!G433","v":"Kailash"}]
[{"$nulls":22},{"$f":"SHALADARPAN!A434","v":9},{"$f":"SHALADARPAN!B434","v":"B"},{"$f":"SHALADARPAN!K434","v":1028},{"$f":"SHALADARPAN!E434","v":"KOMAL MALI"},{"$f":"SHALADARPAN!G434","v":"Kailash"}]
[{"$nulls":22},{"$f":"SHALADARPAN!A435","v":9},{"$f":"SHALADARPAN!B435","v":"B"},{"$f":"SHALADARPAN!K435","v":1029},{"$f":"SHALADARPAN!E435","v":"Laxmi"},{"$f":"SHALADARPAN!G435","v":"Kailash"}]
[{"$nulls":22},{"$f":"SHALADARPAN!A436","v":9},{"$f":"SHALADARPAN!B436","v":"B"},{"$f":"SHALADARPAN!K436","v":1030},{"$f":"SHALADARPAN!E436","v":"LAXMI KUMARI"},{"$f":"SHALADARPAN!G436","v":"Kailash"}]
[{"$nulls":22},{"$f":"SHALADARPAN!A437","v":9},{"$f":"SHALADARPAN!B437","v":"B"},{"$f":"SHALADARPAN!K437","v":1031},{"$f":"SHALADARPAN!E437","v":"MAMTA"},{"$f":"SHALADARPAN!G437","v":"Kailash"}]
[{"$nulls":22},{"$f":"SHALADARPAN!A438","v":9},{"$f":"SHALADARPAN!B438","v":"B"},{"$f":"SHALADARPAN!K438","v":1032},{"$f":"SHALADARPAN!E438","v":"MANISHA SAINI"},{"$f":"SHALADARPAN!G438","v":"Kailash"}]
[{"$nulls":22},{"$f":"SHALADARPAN!A439","v":9},{"$f":"SHALADARPAN!B439","v":"B"},{"$f":"SHALADARPAN!K439","v":1033},{"$f":"SHALADARPAN!E439","v":"MAYA RAIDAS"},{"$f":"SHALADARPAN!G439","v":"Kailash"}]
[{"$nulls":22},{"$f":"SHALADARPAN!A440","v":9},{"$f":"SHALADARPAN!B440","v":"B"},{"$f":"SHALADARPAN!K440","v":1034},{"$f":"SHALADARPAN!E440","v":"MITALI KUMAWAT"},{"$f":"SHALADARPAN!G440","v":"Kailash"}]
[{"$nulls":22},{"$f":"SHALADARPAN!A441","v":9},{"$f":"SHALADARPAN!B441","v":"B"},{"$f":"SHALADARPAN!K441","v":1035},{"$f":"SHALADARPAN!E441","v":"Mohit Saini"},{"$f":"SHALADARPAN!G441","v":"Kailash"}]
[{"$nulls":22},{"$f":"SHALADARPAN!A442","v":9},{"$f":"SHALADARPAN!B442","v":"B"},{"$f":"SHALADARPAN!K442","v":1036},{"$f":"SHALADARPAN!E442","v":"MONIKA BANU"},{"$f":"SHALADARPAN!G442","v":"Kailash"}]
[{"$nulls":22},{"$f":"SHALADARPAN!A443","v":9},{"$f":"SHALADARPAN!B443","v":"B"},{"$f":"SHALADARPAN!K443","v":1037},{"$f":"SHALADARPAN!E443","v":"MONIKA CHOUDHARY"},{"$f":"SHALADARPAN!G443","v":"Kailash"}]
[{"$nulls":22},{"$f":"SHALADARPAN!A444","v":9},{"$f":"SHALADARPAN!B444","v":"B"},{"$f":"SHALADARPAN!K444","v":1038},{"$f":"SHALADARPAN!E444","v":"MUMAL KANWAR"},{"$f":"SHALADARPAN!G444","v":"Kailash"}]
[{"$nulls":22},{"$f":"SHALADARPAN!A445","v":9},{"$f":"SHALADARPAN!B445","v":"B"},{"$f":"SHALADARPAN!K445","v":1039},{"$f":"SHALADARPAN!E445","v":"MUSKAN QURAISHI"},{"$f":"SHALADARPAN!G445","v":"Kailash"}]
[{"$nulls":22},{"$f":"SHALADARPAN!A446","v":9},{"$f":"SHALADARPAN!B446","v":"B"},{"$f":"SHALADARPAN!K446","v":1040},{"$f":"SHALADARPAN!E446","v":"Nabab Ali"},{"$f":"SHALADARPAN!G446","v":"Kailash"}]
[{"$nulls":22},{"$f":"SHALADARPAN!A447","v":9},{"$f":"SHALADARPAN!B447","v":"B"},{"$f":"SHALADARPAN!K447","v":1041},{"$f":"SHALADARPAN!E447","v":"NAJMEEN"},{"$f":"SHALADARPAN!G447","v":"Kailash"}]
[{"$nulls":22},{"$f":"SHALADARPAN!A448","v":9},{"$f":"SHALADARPAN!B448","v":"B"},{"$f":"SHALADARPAN!K448","v":1042},{"$f":"SHALADARPAN!E448","v":"Narendra Singh"},{"$f":"SHALADARPAN!G448","v":"Kailash"}]
[{"$nulls":22},{"$f":"SHALADARPAN!A449","v":9},{"$f":"SHALADARPAN!B449","v":"B"},{"$f":"SHALADARPAN!K449","v":1043},{"$f":"SHALADARPAN!E449","v":"Pradeep Sharma"},{"$f":"SHALADARPAN!G449","v":"Kailash"}]
[{"$nulls":22},{"$f":"SHALADARPAN!A450","v":9},{"$f":"SHALADARPAN!B450","v":"B"},{"$f":"SHALADARPAN!K450","v":1044},{"$f":"SHALADARPAN!E450","v":"PRAFUL VYAS"},{"$f":"SHALADARPAN!G450","v":"Kailash"}]
[{"$nulls":22},{"$f":"SHALADARPAN!A451","v":9},{"$f":"SHALADARPAN!B451","v":"B"},{"$f":"SHALADARPAN!K451","v":1045},{"$f":"SHALADARPAN!E451","v":"Praveen Samariya"},{"$f":"SHALADARPAN!G451","v":"Kailash"}]
[{"$nulls":22},{"$f":"SHALADARPAN!A452","v":9},{"$f":"SHALADARPAN!B452","v":"B"},{"$f":"SHALADARPAN!K452","v":1046},{"$f":"SHALADARPAN!E452","v":"RAHMAT"},{"$f":"SHALADARPAN!G452","v":"Kailash"}]
[{"$nulls":22},{"$f":"SHALADARPAN!A453","v":9},{"$f":"SHALADARPAN!B453","v":"B"},{"$f":"SHALADARPAN!K453","v":1047},{"$f":"SHALADARPAN!E453","v":"RAJBA KOSAR"},{"$f":"SHALADARPAN!G453","v":"Kailash"}]
[{"$nulls":22},{"$f":"SHALADARPAN!A454","v":9},{"$f":"SHALADARPAN!B454","v":"B"},{"$f":"SHALADARPAN!K454","v":1048},{"$f":"SHALADARPAN!E454","v":"RAVINDRA BHATI"},{"$f":"SHALADARPAN!G454","v":"Kailash"}]
[{"$nulls":22},{"$f":"SHALADARPAN!A455","v":9},{"$f":"SHALADARPAN!B455","v":"B"},{"$f":"SHALADARPAN!K455","v":1049},{"$f":"SHALADARPAN!E455","v":"SANDEEP SAINI"},{"$f":"SHALADARPAN!G455","v":"Kailash"}]
[{"$nulls":22},{"$f":"SHALADARPAN!A456","v":9},{"$f":"SHALADARPAN!B456","v":"B"},{"$f":"SHALADARPAN!K456","v":1051},{"$f":"SHALADARPAN!E456","v":"SHILPA KUDI"},{"$f":"SHALADARPAN!G456","v":"Kailash"}]
[{"$nulls":22},{"$f":"SHALADARPAN!A457","v":9},{"$f":"SHALADARPAN!B457","v":"B"},{"$f":"SHALADARPAN!K457","v":1053},{"$f":"SHALADARPAN!E457","v":"SONAM KUMAWAT"},{"$f":"SHALADARPAN!G457","v":"Kailash"}]
[{"$nulls":22},{"$f":"SHALADARPAN!A458","v":9},{"$f":"SHALADARPAN!B458","v":"B"},{"$f":"SHALADARPAN!K458","v":1054},{"$f":"SHALADARPAN!E458","v":"SONU DEVI"},{"$f":"SHALADARPAN!G458","v":"Kailash"}]
[{"$nulls":22},{"$f":"SHALADARPAN!A459","v":9},{"$f":"SHALADARPAN!B459","v":"B"},{"$f":"SHALADARPAN!K459","v":1056},{"$f":"SHALADARPAN!E459","v":"SUMAN KANWAR"},{"$f":"SHALADARPAN!G459","v":"Kailash"}]
[{"$nulls":22},{"$f":"SHALADARPAN!A460","v":9},{"$f":"SHALADARPAN!B460","v":"B"},{"$f":"SHALADARPAN!K460","v":1057},{"$f":"SHALADARPAN!E460","v":"Sumit Saini"},{"$f":"SHALADARPAN!G460","v":"Kailash"}]
[{"$nulls":22},{"$f":"SHALADARPAN!A461","v":9},{"$f":"SHALADARPAN!B461","v":"B"},{"$f":"SHALADARPAN!K461","v":1058},{"$f":"SHALADARPAN!E461","v":"SUMITA"},{"$f":"SHALADARPAN!G461","v":"Kailash"}]
[{"$nulls":22},{"$f":"SHALADARPAN!A462","v":9},{"$f":"SHALADARPAN!B462","v":"B"},{"$f":"SHALADARPAN!K462","v":1059},{"$f":"SHALADARPAN!E462","v":"Sunil Saini"},{"$f":"SHALADARPAN!G462","v":"Kailash"}]
[{"$nulls":22},{"$f":"SHALADARPAN!A463","v":9},{"$f":"SHALADARPAN!B463","v":"B"},{"$f":"SHALADARPAN!K463","v":1060},{"$f":"SHALADARPAN!E463","v":"SUNITA PANWAR"},{"$f":"SHALADARPAN!G463","v":"Kailash"}]
[{"$nulls":22},{"$f":"SHALADARPAN!A464","v":9},{"$f":"SHALADARPAN!B464","v":"B"},{"$f":"SHALADARPAN!K464","v":1061},{"$f":"SHALADARPAN!E464","v":"SURENDRA KUMAWAT"},{"$f":"SHALADARPAN!G464","v":"Kailash"}]
[{"$nulls":22},{"$f":"SHALADARPAN!A465","v":9},{"$f":"SHALADARPAN!B465","v":"B"},{"$f":"SHALADARPAN!K465","v":1062},{"$f":"SHALADARPAN!E465","v":"Tija Devi"},{"$f":"SHALADARPAN!G465","v":"Kailash"}]
[{"$nulls":22},{"$f":"SHALADARPAN!A466","v":9},{"$f":"SHALADARPAN!B466","v":"B"},{"$f":"SHALADARPAN!K466","v":1063},{"$f":"SHALADARPAN!E466","v":"URMILA"},{"$f":"SHALADARPAN!G466","v":"Kailash"}]
[{"$nulls":22},{"$f":"SHALADARPAN!A467","v":9},{"$f":"SHALADARPAN!B467","v":"B"},{"$f":"SHALADARPAN!K467","v":1064},{"$f":"SHALADARPAN!E467","v":"Varsha Kanwar"},{"$f":"SHALADARPAN!G467","v":"Kailash"}]
[{"$nulls":22},{"$f":"SHALADARPAN!A468","v":9},{"$f":"SHALADARPAN!B468","v":"B"},{"$f":"SHALADARPAN!K468","v":1065},{"$f":"SHALADARPAN!E468","v":"Vikas Barara"},{"$f":"SHALADARPAN!G468","v":"Kailash"}]
[{"$nulls":22},{"$f":"SHALADARPAN!A469","v":9},{"$f":"SHALADARPAN!B469","v":"B"},{"$f":"SHALADARPAN!K469","v":1066},{"$f":"SHALADARPAN!E469","v":"Vrishty Malakar"},{"$f":"SHALADARPAN!G469","v":"Kailash"}]
[{"$nulls":22},{"$f":"SHALADARPAN!A470","v":9},{"$f":"SHALADARPAN!B470","v":"B"},{"$f":"SHALADARPAN!K470","v":1067},{"$f":"SHALADARPAN!E470","v":"Yogendra Singh"},{"$f":"SHALADARPAN!G470","v":"Kailash"}]
[{"$nulls":22},{"$f":"SHALADARPAN!A471","v":9},{"$f":"SHALADARPAN!B471","v":"B"},{"$f":"SHALADARPAN!K471","v":1068},{"$f":"SHALADARPAN!E471","v":"Yogesh Kumar Prajapat"},{"$f":"SHALADARPAN!G471","v":"Kailash"}]
[{"$nulls":22},{"$f":"SHALADARPAN!A472","v":9},{"$f":"SHALADARPAN!B472","v":"B"},{"$f":"SHALADARPAN!K472","v":1069},{"$f":"SHALADARPAN!E472","v":"Yogesh Vaishnav"},{"$f":"SHALADARPAN!G472","v":"Kailash"}]
[{"$nulls":22},{"$f":"SHALADARPAN!A473","v":9},{"$f":"SHALADARPAN!B473","v":"B"},{"$f":"SHALADARPAN!K473","v":1070},{"$f":"SHALADARPAN!E473","v":"Yuvraj Singh"},{"$f":"SHALADARPAN!G473","v":"Kailash"}]
[{"$nulls":22},{"$f":"SHALADARPAN!A474","v":10},{"$f":"SHALADARPAN!B474","v":"A"},{"$f":"SHALADARPAN!K474","v":1101},{"$f":"SHALADARPAN!E474","v":"AARTI SAINI"},{"$f":"SHALADARPAN!G474","v":"Kailash"}]
[{"$nulls":22},{"$f":"SHALADARPAN!A475","v":10},{"$f":"SHALADARPAN!B475","v":"A"},{"$f":"SHALADARPAN!K475","v":1104},{"$f":"SHALADARPAN!E475","v":"ANIL SAINI"},{"$f":"SHALADARPAN!G475","v":"Kailash"}]
[{"$nulls":22},{"$f":"SHALADARPAN!A476","v":10},{"$f":"SHALADARPAN!B476","v":"A"},{"$f":"SHALADARPAN!K476","v":1105},{"$f":"SHALADARPAN!E476","v":"ANITA"},{"$f":"SHALADARPAN!G476","v":"Kailash"}]
[{"$nulls":22},{"$f":"SHALADARPAN!A477","v":10},{"$f":"SHALADARPAN!B477","v":"A"},{"$f":"SHALADARPAN!K477","v":1106},{"$f":"SHALADARPAN!E477","v":"Ashish Vaishnav"},{"$f":"SHALADARPAN!G477","v":"Kailash"}]
[{"$nulls":22},{"$f":"SHALADARPAN!A478","v":10},{"$f":"SHALADARPAN!B478","v":"A"},{"$f":"SHALADARPAN!K478","v":1108},{"$f":"SHALADARPAN!E478","v":"BHARAT RAIDAS"},{"$f":"SHALADARPAN!G478","v":"Kailash"}]
[{"$nulls":22},{"$f":"SHALADARPAN!A479","v":10},{"$f":"SHALADARPAN!B479","v":"A"},{"$f":"SHALADARPAN!K479","v":1111},{"$f":"SHALADARPAN!E479","v":"JAY SHREE RAIDAS"},{"$f":"SHALADARPAN!G479","v":"Kailash"}]
[{"$nulls":22},{"$f":"SHALADARPAN!A480","v":10},{"$f":"SHALADARPAN!B480","v":"A"},{"$f":"SHALADARPAN!K480","v":1112},{"$f":"SHALADARPAN!E480","v":"KAVITA NATH"},{"$f":"SHALADARPAN!G480","v":"Kailash"}]
[{"$nulls":22},{"$f":"SHALADARPAN!A481","v":10},{"$f":"SHALADARPAN!B481","v":"A"},{"$f":"SHALADARPAN!K481","v":1113},{"$f":"SHALADARPAN!E481","v":"KHUSHI RAIDAS"},{"$f":"SHALADARPAN!G481","v":"Kailash"}]
[{"$nulls":22},{"$f":"SHALADARPAN!A482","v":10},{"$f":"SHALADARPAN!B482","v":"A"},{"$f":"SHALADARPAN!K482","v":1114},{"$f":"SHALADARPAN!E482","v":"KISHOR BAWARI"},{"$f":"SHALADARPAN!G482","v":"Kailash"}]
[{"$nulls":22},{"$f":"SHALADARPAN!A483","v":10},{"$f":"SHALADARPAN!B483","v":"A"},{"$f":"SHALADARPAN!K483","v":1115},{"$f":"SHALADARPAN!E483","v":"Lokesh Saini"},{"$f":"SHALADARPAN!G483","v":"Kailash"}]
[{"$nulls":22},{"$f":"SHALADARPAN!A484","v":10},{"$f":"SHALADARPAN!B484","v":"A"},{"$f":"SHALADARPAN!K484","v":1116},{"$f":"SHALADARPAN!E484","v":"MANISH CHAUKIDAR"},{"$f":"SHALADARPAN!G484","v":"Kailash"}]
[{"$nulls":22},{"$f":"SHALADARPAN!A485","v":10},{"$f":"SHALADARPAN!B485","v":"A"},{"$f":"SHALADARPAN!K485","v":1117},{"$f":"SHALADARPAN!E485","v":"MANISH KUMAWAT"},{"$f":"SHALADARPAN!G485","v":"Kailash"}]
[{"$nulls":22},{"$f":"SHALADARPAN!A486","v":10},{"$f":"SHALADARPAN!B486","v":"A"},{"$f":"SHALADARPAN!K486","v":1118},{"$f":"SHALADARPAN!E486","v":"Manish Marotiya"},{"$f":"SHALADARPAN!G486","v":"Kailash"}]
[{"$nulls":22},{"$f":"SHALADARPAN!A487","v":10},{"$f":"SHALADARPAN!B487","v":"A"},{"$f":"SHALADARPAN!K487","v":1119},{"$f":"SHALADARPAN!E487","v":"MANJU DEVI"},{"$f":"SHALADARPAN!G487","v":"Kailash"}]
[{"$nulls":22},{"$f":"SHALADARPAN!A488","v":10},{"$f":"SHALADARPAN!B488","v":"A"},{"$f":"SHALADARPAN!K488","v":1120},{"$f":"SHALADARPAN!E488","v":"Manohar Nath"},{"$f":"SHALADARPAN!G488","v":"Kailash"}]
[{"$nulls":22},{"$f":"SHALADARPAN!A489","v":10},{"$f":"SHALADARPAN!B489","v":"A"},{"$f":"SHALADARPAN!K489","v":1121},{"$f":"SHALADARPAN!E489","v":"MANOJ SAINI"},{"$f":"SHALADARPAN!G489","v":"Kailash"}]
[{"$nulls":22},{"$f":"SHALADARPAN!A490","v":10},{"$f":"SHALADARPAN!B490","v":"A"},{"$f":"SHALADARPAN!K490","v":1122},{"$f":"SHALADARPAN!E490","v":"Mohammad Ismail"},{"$f":"SHALADARPAN!G490","v":"Kailash"}]
[{"$nulls":22},{"$f":"SHALADARPAN!A491","v":10},{"$f":"SHALADARPAN!B491","v":"A"},{"$f":"SHALADARPAN!K491","v":1123},{"$f":"SHALADARPAN!E491","v":"Monika Nath"},{"$f":"SHALADARPAN!G491","v":"Kailash"}]
[{"$nulls":22},{"$f":"SHALADARPAN!A492","v":10},{"$f":"SHALADARPAN!B492","v":"A"},{"$f":"SHALADARPAN!K492","v":1125},{"$f":"SHALADARPAN!E492","v":"NEETU"},{"$f":"SHALADARPAN!G492","v":"Kailash"}]
[{"$nulls":22},{"$f":"SHALADARPAN!A493","v":10},{"$f":"SHALADARPAN!B493","v":"A"},{"$f":"SHALADARPAN!K493","v":1126},{"$f":"SHALADARPAN!E493","v":"NOOR JAHAN"},{"$f":"SHALADARPAN!G493","v":"Kailash"}]
[{"$nulls":22},{"$f":"SHALADARPAN!A494","v":10},{"$f":"SHALADARPAN!B494","v":"A"},{"$f":"SHALADARPAN!K494","v":1127},{"$f":"SHALADARPAN!E494","v":"NOSAR DEVI"},{"$f":"SHALADARPAN!G494","v":"Kailash"}]
[{"$nulls":22},{"$f":"SHALADARPAN!A495","v":10},{"$f":"SHALADARPAN!B495","v":"A"},{"$f":"SHALADARPAN!K495","v":1128},{"$f":"SHALADARPAN!E495","v":"POOJA DEVI CHOKIDAR"},{"$f":"SHALADARPAN!G495","v":"Kailash"}]
[{"$nulls":22},{"$f":"SHALADARPAN!A496","v":10},{"$f":"SHALADARPAN!B496","v":"A"},{"$f":"SHALADARPAN!K496","v":1129},{"$f":"SHALADARPAN!E496","v":"POOJA KUMAWAT"},{"$f":"SHALADARPAN!G496","v":"Kailash"}]
[{"$nulls":22},{"$f":"SHALADARPAN!A497","v":10},{"$f":"SHALADARPAN!B497","v":"A"},{"$f":"SHALADARPAN!K497","v":1130},{"$f":"SHALADARPAN!E497","v":"POOJA RAIDAS"},{"$f":"SHALADARPAN!G497","v":"Kailash"}]
[{"$nulls":22},{"$f":"SHALADARPAN!A498","v":10},{"$f":"SHALADARPAN!B498","v":"A"},{"$f":"SHALADARPAN!K498","v":1131},{"$f":"SHALADARPAN!E498","v":"POOJA SAINI"},{"$f":"SHALADARPAN!G498","v":"Kailash"}]
[{"$nulls":22},{"$f":"SHALADARPAN!A499","v":10},{"$f":"SHALADARPAN!B499","v":"A"},{"$f":"SHALADARPAN!K499","v":1132},{"$f":"SHALADARPAN!E499","v":"PREM CHAND"},{"$f":"SHALADARPAN!G499","v":"Kailash"}]
[{"$nulls":22},{"$f":"SHALADARPAN!A500","v":10},{"$f":"SHALADARPAN!B500","v":"A"},{"$f":"SHALADARPAN!K500","v":1134},{"$f":"SHALADARPAN!E500","v":"RAJENDRA KUDI"},{"$f":"SHALADARPAN!G500","v":"Kailash"}]
[{"$nulls":22},{"$f":"SHALADARPAN!A501","v":10},{"$f":"SHALADARPAN!B501","v":"A"},{"$f":"SHALADARPAN!K501","v":1135},{"$f":"SHALADARPAN!E501","v":"Rakesh Dagdi"},{"$f":"SHALADARPAN!G501","v":"Kailash"}]
[{"$nulls":22},{"$f":"SHALADARPAN!A502","v":10},{"$f":"SHALADARPAN!B502","v":"A"},{"$f":"SHALADARPAN!K502","v":1136},{"$f":"SHALADARPAN!E502","v":"Ram Lal Kumawat"},{"$f":"SHALADARPAN!G502","v":"Kailash"}]
[{"$nulls":22},{"$f":"SHALADARPAN!A503","v":10},{"$f":"SHALADARPAN!B503","v":"A"},{"$f":"SHALADARPAN!K503","v":1137},{"$f":"SHALADARPAN!E503","v":"RAMESHCHAND KUMAWAT"},{"$f":"SHALADARPAN!G503","v":"Kailash"}]
[{"$nulls":22},{"$f":"SHALADARPAN!A504","v":10},{"$f":"SHALADARPAN!B504","v":"A"},{"$f":"SHALADARPAN!K504","v":1138},{"$f":"SHALADARPAN!E504","v":"RAMZAN"},{"$f":"SHALADARPAN!G504","v":"Kailash"}]
[{"$nulls":22},{"$f":"SHALADARPAN!A505","v":10},{"$f":"SHALADARPAN!B505","v":"A"},{"$f":"SHALADARPAN!K505","v":1139},{"$f":"SHALADARPAN!E505","v":"RENU PANWAR"},{"$f":"SHALADARPAN!G505","v":"Kailash"}]
[{"$nulls":22},{"$f":"SHALADARPAN!A506","v":10},{"$f":"SHALADARPAN!B506","v":"A"},{"$f":"SHALADARPAN!K506","v":1140},{"$f":"SHALADARPAN!E506","v":"SAJJAN KUMAWAT"},{"$f":"SHALADARPAN!G506","v":"Kailash"}]
[{"$nulls":22},{"$f":"SHALADARPAN!A507","v":10},{"$f":"SHALADARPAN!B507","v":"A"},{"$f":"SHALADARPAN!K507","v":1141},{"$f":"SHALADARPAN!E507","v":"SANJU DEVI"},{"$f":"SHALADARPAN!G507","v":"Kailash"}]
[{"$nulls":22},{"$f":"SHALADARPAN!A508","v":10},{"$f":"SHALADARPAN!B508","v":"A"},{"$f":"SHALADARPAN!K508","v":1143},{"$f":"SHALADARPAN!E508","v":"SUMAN SAINI"},{"$f":"SHALADARPAN!G508","v":"Kailash"}]
[{"$nulls":22},{"$f":"SHALADARPAN!A509","v":10},{"$f":"SHALADARPAN!B509","v":"A"},{"$f":"SHALADARPAN!K509","v":1144},{"$f":"SHALADARPAN!E509","v":"SUMIT NATH"},{"$f":"SHALADARPAN!G509","v":"Kailash"}]
[{"$nulls":22},{"$f":"SHALADARPAN!A510","v":10},{"$f":"SHALADARPAN!B510","v":"A"},{"$f":"SHALADARPAN!K510","v":1145},{"$f":"SHALADARPAN!E510","v":"Sunil Jat"},{"$f":"SHALADARPAN!G510","v":"Kailash"}]
[{"$nulls":22},{"$f":"SHALADARPAN!A511","v":10},{"$f":"SHALADARPAN!B511","v":"A"},{"$f":"SHALADARPAN!K511","v":1146},{"$f":"SHALADARPAN!E511","v":"Surendra Nath"},{"$f":"SHALADARPAN!G511","v":"Kailash"}]
[{"$nulls":22},{"$f":"SHALADARPAN!A512","v":10},{"$f":"SHALADARPAN!B512","v":"A"},{"$f":"SHALADARPAN!K512","v":1148},{"$f":"SHALADARPAN!E512","v":"SURMA MALI"},{"$f":"SHALADARPAN!G512","v":"Kailash"}]
[{"$nulls":22},{"$f":"SHALADARPAN!A513","v":10},{"$f":"SHALADARPAN!B513","v":"A"},{"$f":"SHALADARPAN!K513","v":1149},{"$f":"SHALADARPAN!E513","v":"SUSHIL NATH"},{"$f":"SHALADARPAN!G513","v":"Kailash"}]
[{"$nulls":22},{"$f":"SHALADARPAN!A514","v":10},{"$f":"SHALADARPAN!B514","v":"A"},{"$f":"SHALADARPAN!K514","v":1150},{"$f":"SHALADARPAN!E514","v":"Vikram Singh"},{"$f":"SHALADARPAN!G514","v":"Kailash"}]
[{"$nulls":22},{"$f":"SHALADARPAN!A515","v":10},{"$f":"SHALADARPAN!B515","v":"A"},{"$f":"SHALADARPAN!K515","v":1151},{"$f":"SHALADARPAN!E515","v":"VINOD ACHARYA"},{"$f":"SHALADARPAN!G515","v":"Kailash"}]
[{"$nulls":22},{"$f":"SHALADARPAN!A516","v":10},{"$f":"SHALADARPAN!B516","v":"A"},{"$f":"SHALADARPAN!K516","v":1152},{"$f":"SHALADARPAN!E516","v":"Yashoda Kanwar"},{"$f":"SHALADARPAN!G516","v":"Kailash"}]
[{"$nulls":22},{"$f":"SHALADARPAN!A517","v":10},{"$f":"SHALADARPAN!B517","v":"A"},{"$f":"SHALADARPAN!K517","v":1153},{"$f":"SHALADARPAN!E517","v":"YOGENDRA"},{"$f":"SHALADARPAN!G517","v":"Kailash"}]
[{"$nulls":22},{"$f":"SHALADARPAN!A518","v":10},{"$f":"SHALADARPAN!B518","v":"B"},{"$f":"SHALADARPAN!K518","v":1201},{"$f":"SHALADARPAN!E518","v":"ABDUL RAHMAN"},{"$f":"SHALADARPAN!G518","v":"Kailash"}]
[{"$nulls":22},{"$f":"SHALADARPAN!A519","v":10},{"$f":"SHALADARPAN!B519","v":"B"},{"$f":"SHALADARPAN!K519","v":1202},{"$f":"SHALADARPAN!E519","v":"ANIL GURJAR"},{"$f":"SHALADARPAN!G519","v":"Kailash"}]
[{"$nulls":22},{"$f":"SHALADARPAN!A520","v":10},{"$f":"SHALADARPAN!B520","v":"B"},{"$f":"SHALADARPAN!K520","v":1203},{"$f":"SHALADARPAN!E520","v":"Arti Saini"},{"$f":"SHALADARPAN!G520","v":"Kailash"}]
[{"$nulls":22},{"$f":"SHALADARPAN!A521","v":10},{"$f":"SHALADARPAN!B521","v":"B"},{"$f":"SHALADARPAN!K521","v":1204},{"$f":"SHALADARPAN!E521","v":"BHANU PRATAP SINGH"},{"$f":"SHALADARPAN!G521","v":"Kailash"}]
[{"$nulls":22},{"$f":"SHALADARPAN!A522","v":10},{"$f":"SHALADARPAN!B522","v":"B"},{"$f":"SHALADARPAN!K522","v":1205},{"$f":"SHALADARPAN!E522","v":"BISMILLAH"},{"$f":"SHALADARPAN!G522","v":"Kailash"}]
[{"$nulls":22},{"$f":"SHALADARPAN!A523","v":10},{"$f":"SHALADARPAN!B523","v":"B"},{"$f":"SHALADARPAN!K523","v":1206},{"$f":"SHALADARPAN!E523","v":"DILEEP"},{"$f":"SHALADARPAN!G523","v":"Kailash"}]
[{"$nulls":22},{"$f":"SHALADARPAN!A524","v":10},{"$f":"SHALADARPAN!B524","v":"B"},{"$f":"SHALADARPAN!K524","v":1207},{"$f":"SHALADARPAN!E524","v":"DIVYA ACHARYA"},{"$f":"SHALADARPAN!G524","v":"Kailash"}]
[{"$nulls":22},{"$f":"SHALADARPAN!A525","v":10},{"$f":"SHALADARPAN!B525","v":"B"},{"$f":"SHALADARPAN!K525","v":1208},{"$f":"SHALADARPAN!E525","v":"FIROJ KHAN"},{"$f":"SHALADARPAN!G525","v":"Kailash"}]
[{"$nulls":22},{"$f":"SHALADARPAN!A526","v":10},{"$f":"SHALADARPAN!B526","v":"B"},{"$f":"SHALADARPAN!K526","v":1209},{"$f":"SHALADARPAN!E526","v":"GANESH SINGODIYA"},{"$f":"SHALADARPAN!G526","v":"Kailash"}]
[{"$nulls":22},{"$f":"SHALADARPAN!A527","v":10},{"$f":"SHALADARPAN!B527","v":"B"},{"$f":"SHALADARPAN!K527","v":1210},{"$f":"SHALADARPAN!E527","v":"GEETA MEGHWAL"},{"$f":"SHALADARPAN!G527","v":"Kailash"}]
[{"$nulls":22},{"$f":"SHALADARPAN!A528","v":10},{"$f":"SHALADARPAN!B528","v":"B"},{"$f":"SHALADARPAN!K528","v":1211},{"$f":"SHALADARPAN!E528","v":"GOUTAM PRAJAPAT"},{"$f":"SHALADARPAN!G528","v":"Kailash"}]
[{"$nulls":22},{"$f":"SHALADARPAN!A529","v":10},{"$f":"SHALADARPAN!B529","v":"B"},{"$f":"SHALADARPAN!K529","v":1212},{"$f":"SHALADARPAN!E529","v":"GOVIND DARAK"},{"$f":"SHALADARPAN!G529","v":"Kailash"}]
[{"$nulls":22},{"$f":"SHALADARPAN!A530","v":10},{"$f":"SHALADARPAN!B530","v":"B"},{"$f":"SHALADARPAN!K530","v":1213},{"$f":"SHALADARPAN!E530","v":"Harshit Sharma"},{"$f":"SHALADARPAN!G530","v":"Kailash"}]
[{"$nulls":22},{"$f":"SHALADARPAN!A531","v":10},{"$f":"SHALADARPAN!B531","v":"B"},{"$f":"SHALADARPAN!K531","v":1214},{"$f":"SHALADARPAN!E531","v":"HEMLATA GURJAR"},{"$f":"SHALADARPAN!G531","v":"Kailash"}]
[{"$nulls":22},{"$f":"SHALADARPAN!A532","v":10},{"$f":"SHALADARPAN!B532","v":"B"},{"$f":"SHALADARPAN!K532","v":1215},{"$f":"SHALADARPAN!E532","v":"IBRAHIM"},{"$f":"SHALADARPAN!G532","v":"Kailash"}]
[{"$nulls":22},{"$f":"SHALADARPAN!A533","v":10},{"$f":"SHALADARPAN!B533","v":"B"},{"$f":"SHALADARPAN!K533","v":1216},{"$f":"SHALADARPAN!E533","v":"Jagriti"},{"$f":"SHALADARPAN!G533","v":"Kailash"}]
[{"$nulls":22},{"$f":"SHALADARPAN!A534","v":10},{"$f":"SHALADARPAN!B534","v":"B"},{"$f":"SHALADARPAN!K534","v":1217},{"$f":"SHALADARPAN!E534","v":"Jay Shree"},{"$f":"SHALADARPAN!G534","v":"Kailash"}]
[{"$nulls":22},{"$f":"SHALADARPAN!A535","v":10},{"$f":"SHALADARPAN!B535","v":"B"},{"$f":"SHALADARPAN!K535","v":1218},{"$f":"SHALADARPAN!E535","v":"JEEVRAJ"},{"$f":"SHALADARPAN!G535","v":"Kailash"}]
[{"$nulls":22},{"$f":"SHALADARPAN!A536","v":10},{"$f":"SHALADARPAN!B536","v":"B"},{"$f":"SHALADARPAN!K536","v":1219},{"$f":"SHALADARPAN!E536","v":"KHADIZA BANO"},{"$f":"SHALADARPAN!G536","v":"Kailash"}]
[{"$nulls":22},{"$f":"SHALADARPAN!A537","v":10},{"$f":"SHALADARPAN!B537","v":"B"},{"$f":"SHALADARPAN!K537","v":1220},{"$f":"SHALADARPAN!E537","v":"KHALIL SHAH"},{"$f":"SHALADARPAN!G537","v":"Kailash"}]
[{"$nulls":22},{"$f":"SHALADARPAN!A538","v":10},{"$f":"SHALADARPAN!B538","v":"B"},{"$f":"SHALADARPAN!K538","v":1221},{"$f":"SHALADARPAN!E538","v":"Khurshida Bano"},{"$f":"SHALADARPAN!G538","v":"Kailash"}]
[{"$nulls":22},{"$f":"SHALADARPAN!A539","v":10},{"$f":"SHALADARPAN!B539","v":"B"},{"$f":"SHALADARPAN!K539","v":1222},{"$f":"SHALADARPAN!E539","v":"Khushab Vaishnav"},{"$f":"SHALADARPAN!G539","v":"Kailash"}]
[{"$nulls":22},{"$f":"SHALADARPAN!A540","v":10},{"$f":"SHALADARPAN!B540","v":"B"},{"$f":"SHALADARPAN!K540","v":1223},{"$f":"SHALADARPAN!E540","v":"KOMAL KANWAR"},{"$f":"SHALADARPAN!G540","v":"Kailash"}]
[{"$nulls":22},{"$f":"SHALADARPAN!A541","v":10},{"$f":"SHALADARPAN!B541","v":"B"},{"$f":"SHALADARPAN!K541","v":1224},{"$f":"SHALADARPAN!E541","v":"Lokesh Saini"},{"$f":"SHALADARPAN!G541","v":"Kailash"}]
[{"$nulls":22},{"$f":"SHALADARPAN!A542","v":10},{"$f":"SHALADARPAN!B542","v":"B"},{"$f":"SHALADARPAN!K542","v":1225},{"$f":"SHALADARPAN!E542","v":"Mahendra Gurjar"},{"$f":"SHALADARPAN!G542","v":"Kailash"}]
[{"$nulls":22},{"$f":"SHALADARPAN!A543","v":10},{"$f":"SHALADARPAN!B543","v":"B"},{"$f":"SHALADARPAN!K543","v":1226},{"$f":"SHALADARPAN!E543","v":"MAHENDRA KUMAWAT"},{"$f":"SHALADARPAN!G543","v":"Kailash"}]
[{"$nulls":22},{"$f":"SHALADARPAN!A544","v":10},{"$f":"SHALADARPAN!B544","v":"B"},{"$f":"SHALADARPAN!K544","v":1227},{"$f":"SHALADARPAN!E544","v":"MO.GULFAM"},{"$f":"SHALADARPAN!G544","v":"Kailash"}]
[{"$nulls":22},{"$f":"SHALADARPAN!A545","v":10},{"$f":"SHALADARPAN!B545","v":"B"},{"$f":"SHALADARPAN!K545","v":1228},{"$f":"SHALADARPAN!E545","v":"MUKESH"},{"$f":"SHALADARPAN!G545","v":"Kailash"}]
[{"$nulls":22},{"$f":"SHALADARPAN!A546","v":10},{"$f":"SHALADARPAN!B546","v":"B"},{"$f":"SHALADARPAN!K546","v":1229},{"$f":"SHALADARPAN!E546","v":"MUKESH SHARMA"},{"$f":"SHALADARPAN!G546","v":"Kailash"}]
[{"$nulls":22},{"$f":"SHALADARPAN!A547","v":10},{"$f":"SHALADARPAN!B547","v":"B"},{"$f":"SHALADARPAN!K547","v":1230},{"$f":"SHALADARPAN!E547","v":"MUSKAN"},{"$f":"SHALADARPAN!G547","v":"Kailash"}]
[{"$nulls":22},{"$f":"SHALADARPAN!A548","v":10},{"$f":"SHALADARPAN!B548","v":"B"},{"$f":"SHALADARPAN!K548","v":1231},{"$f":"SHALADARPAN!E548","v":"MUSKAN BANOO"},{"$f":"SHALADARPAN!G548","v":"Kailash"}]
[{"$nulls":22},{"$f":"SHALADARPAN!A549","v":10},{"$f":"SHALADARPAN!B549","v":"B"},{"$f":"SHALADARPAN!K549","v":1232},{"$f":"SHALADARPAN!E549","v":"Naitik Sharma"},{"$f":"SHALADARPAN!G549","v":"Kailash"}]
[{"$nulls":22},{"$f":"SHALADARPAN!A550","v":10},{"$f":"SHALADARPAN!B550","v":"B"},{"$f":"SHALADARPAN!K550","v":1233},{"$f":"SHALADARPAN!E550","v":"Nikita Jhala"},{"$f":"SHALADARPAN!G550","v":"Kailash"}]
[{"$nulls":22},{"$f":"SHALADARPAN!A551","v":10},{"$f":"SHALADARPAN!B551","v":"B"},{"$f":"SHALADARPAN!K551","v":1234},{"$f":"SHALADARPAN!E551","v":"NIRMALA RAIDAS"},{"$f":"SHALADARPAN!G551","v":"Kailash"}]
[{"$nulls":22},{"$f":"SHALADARPAN!A552","v":10},{"$f":"SHALADARPAN!B552","v":"B"},{"$f":"SHALADARPAN!K552","v":1235},{"$f":"SHALADARPAN!E552","v":"NIRMALA SOLANKI"},{"$f":"SHALADARPAN!G552","v":"Kailash"}]
[{"$nulls":22},{"$f":"SHALADARPAN!A553","v":10},{"$f":"SHALADARPAN!B553","v":"B"},{"$f":"SHALADARPAN!K553","v":1236},{"$f":"SHALADARPAN!E553","v":"PALAK JANGID"},{"$f":"SHALADARPAN!G553","v":"Kailash"}]
[{"$nulls":22},{"$f":"SHALADARPAN!A554","v":10},{"$f":"SHALADARPAN!B554","v":"B"},{"$f":"SHALADARPAN!K554","v":1237},{"$f":"SHALADARPAN!E554","v":"PAREENA BANOO"},{"$f":"SHALADARPAN!G554","v":"Kailash"}]
[{"$nulls":22},{"$f":"SHALADARPAN!A555","v":10},{"$f":"SHALADARPAN!B555","v":"B"},{"$f":"SHALADARPAN!K555","v":1238},{"$f":"SHALADARPAN!E555","v":"Pawan Singh"},{"$f":"SHALADARPAN!G555","v":"Kailash"}]
[{"$nulls":22},{"$f":"SHALADARPAN!A556","v":10},{"$f":"SHALADARPAN!B556","v":"B"},{"$f":"SHALADARPAN!K556","v":1239},{"$f":"SHALADARPAN!E556","v":"Pooja Kanwar"},{"$f":"SHALADARPAN!G556","v":"Kailash"}]
[{"$nulls":22},{"$f":"SHALADARPAN!A557","v":10},{"$f":"SHALADARPAN!B557","v":"B"},{"$f":"SHALADARPAN!K557","v":1240},{"$f":"SHALADARPAN!E557","v":"PRIYANKA SAIN"},{"$f":"SHALADARPAN!G557","v":"Kailash"}]
[{"$nulls":22},{"$f":"SHALADARPAN!A558","v":10},{"$f":"SHALADARPAN!B558","v":"B"},{"$f":"SHALADARPAN!K558","v":1241},{"$f":"SHALADARPAN!E558","v":"Radhika Saini"},{"$f":"SHALADARPAN!G558","v":"Kailash"}]
[{"$nulls":22},{"$f":"SHALADARPAN!A559","v":10},{"$f":"SHALADARPAN!B559","v":"B"},{"$f":"SHALADARPAN!K559","v":1242},{"$f":"SHALADARPAN!E559","v":"RANI SHARMA"},{"$f":"SHALADARPAN!G559","v":"Kailash"}]
[{"$nulls":22},{"$f":"SHALADARPAN!A560","v":10},{"$f":"SHALADARPAN!B560","v":"B"},{"$f":"SHALADARPAN!K560","v":1243},{"$f":"SHALADARPAN!E560","v":"RESHMA BANU"},{"$f":"SHALADARPAN!G560","v":"Kailash"}]
[{"$nulls":22},{"$f":"SHALADARPAN!A561","v":10},{"$f":"SHALADARPAN!B561","v":"B"},{"$f":"SHALADARPAN!K561","v":1244},{"$f":"SHALADARPAN!E561","v":"RIYANA BANU"},{"$f":"SHALADARPAN!G561","v":"Kailash"}]
[{"$nulls":22},{"$f":"SHALADARPAN!A562","v":10},{"$f":"SHALADARPAN!B562","v":"B"},{"$f":"SHALADARPAN!K562","v":1245},{"$f":"SHALADARPAN!E562","v":"RUKHSANA BANOO"},{"$f":"SHALADARPAN!G562","v":"Kailash"}]
[{"$nulls":22},{"$f":"SHALADARPAN!A563","v":10},{"$f":"SHALADARPAN!B563","v":"B"},{"$f":"SHALADARPAN!K563","v":1246},{"$f":"SHALADARPAN!E563","v":"SAKEENA"},{"$f":"SHALADARPAN!G563","v":"Kailash"}]
[{"$nulls":22},{"$f":"SHALADARPAN!A564","v":10},{"$f":"SHALADARPAN!B564","v":"B"},{"$f":"SHALADARPAN!K564","v":1247},{"$f":"SHALADARPAN!E564","v":"SAROJ"},{"$f":"SHALADARPAN!G564","v":"Kailash"}]
[{"$nulls":22},{"$f":"SHALADARPAN!A565","v":10},{"$f":"SHALADARPAN!B565","v":"B"},{"$f":"SHALADARPAN!K565","v":1248},{"$f":"SHALADARPAN!E565","v":"SEEMA MACHARA"},{"$f":"SHALADARPAN!G565","v":"Kailash"}]
[{"$nulls":22},{"$f":"SHALADARPAN!A566","v":10},{"$f":"SHALADARPAN!B566","v":"B"},{"$f":"SHALADARPAN!K566","v":1249},{"$f":"SHALADARPAN!E566","v":"SEEMA MEGHWAL"},{"$f":"SHALADARPAN!G566","v":"Kailash"}]
[{"$nulls":22},{"$f":"SHALADARPAN!A567","v":10},{"$f":"SHALADARPAN!B567","v":"B"},{"$f":"SHALADARPAN!K567","v":1250},{"$f":"SHALADARPAN!E567","v":"SEEMA SAINI"},{"$f":"SHALADARPAN!G567","v":"Kailash"}]
[{"$nulls":22},{"$f":"SHALADARPAN!A568","v":10},{"$f":"SHALADARPAN!B568","v":"B"},{"$f":"SHALADARPAN!K568","v":1251},{"$f":"SHALADARPAN!E568","v":"Soniya Mali"},{"$f":"SHALADARPAN!G568","v":"Kailash"}]
[{"$nulls":22},{"$f":"SHALADARPAN!A569","v":10},{"$f":"SHALADARPAN!B569","v":"B"},{"$f":"SHALADARPAN!K569","v":1252},{"$f":"SHALADARPAN!E569","v":"SUMAN DEVI"},{"$f":"SHALADARPAN!G569","v":"Kailash"}]
[{"$nulls":22},{"$f":"SHALADARPAN!A570","v":10},{"$f":"SHALADARPAN!B570","v":"B"},{"$f":"SHALADARPAN!K570","v":1253},{"$f":"SHALADARPAN!E570","v":"TINA GURJAR"},{"$f":"SHALADARPAN!G570","v":"Kailash"}]
[{"$nulls":22},{"$f":"SHALADARPAN!A571","v":10},{"$f":"SHALADARPAN!B571","v":"B"},{"$f":"SHALADARPAN!K571","v":1254},{"$f":"SHALADARPAN!E571","v":"Umesh Nath"},{"$f":"SHALADARPAN!G571","v":"Kailash"}]
[{"$nulls":22},{"$f":"SHALADARPAN!A572","v":10},{"$f":"SHALADARPAN!B572","v":"B"},{"$f":"SHALADARPAN!K572","v":1255},{"$f":"SHALADARPAN!E572","v":"VIJAY RAJ KUMAWAT"},{"$f":"SHALADARPAN!G572","v":"Kailash"}]
[{"$nulls":22},{"$f":"SHALADARPAN!A573","v":10},{"$f":"SHALADARPAN!B573","v":"B"},{"$f":"SHALADARPAN!K573","v":1256},{"$f":"SHALADARPAN!E573","v":"YOGESH KUMAWAT"},{"$f":"SHALADARPAN!G573","v":"Kailash"}]
[{"$nulls":22},{"$f":"SHALADARPAN!A574","v":11},{"$f":"SHALADARPAN!B574","v":"A"},{"$f":"SHALADARPAN!K574","v":1301},{"$f":"SHALADARPAN!E574","v":"Aadil Husen"},{"$f":"SHALADARPAN!G574","v":"Kailash"}]
[{"$nulls":22},{"$f":"SHALADARPAN!A575","v":11},{"$f":"SHALADARPAN!B575","v":"A"},{"$f":"SHALADARPAN!K575","v":1302},{"$f":"SHALADARPAN!E575","v":"ABHISHEK"},{"$f":"SHALADARPAN!G575","v":"Kailash"}]
[{"$nulls":22},{"$f":"SHALADARPAN!A576","v":11},{"$f":"SHALADARPAN!B576","v":"A"},{"$f":"SHALADARPAN!K576","v":1303},{"$f":"SHALADARPAN!E576","v":"ADIL AHMAD"},{"$f":"SHALADARPAN!G576","v":"Kailash"}]
[{"$nulls":22},{"$f":"SHALADARPAN!A577","v":11},{"$f":"SHALADARPAN!B577","v":"A"},{"$f":"SHALADARPAN!K577","v":1304},{"$f":"SHALADARPAN!E577","v":"Afsar Alam"},{"$f":"SHALADARPAN!G577","v":"Kailash"}]
[{"$nulls":22},{"$f":"SHALADARPAN!A578","v":11},{"$f":"SHALADARPAN!B578","v":"A"},{"$f":"SHALADARPAN!K578","v":1305},{"$f":"SHALADARPAN!E578","v":"Ameen"},{"$f":"SHALADARPAN!G578","v":"Kailash"}]
[{"$nulls":22},{"$f":"SHALADARPAN!A579","v":11},{"$f":"SHALADARPAN!B579","v":"A"},{"$f":"SHALADARPAN!K579","v":1306},{"$f":"SHALADARPAN!E579","v":"ANAND SINGH"},{"$f":"SHALADARPAN!G579","v":"Kailash"}]
[{"$nulls":22},{"$f":"SHALADARPAN!A580","v":11},{"$f":"SHALADARPAN!B580","v":"A"},{"$f":"SHALADARPAN!K580","v":1307},{"$f":"SHALADARPAN!E580","v":"ANITA"},{"$f":"SHALADARPAN!G580","v":"Kailash"}]
[{"$nulls":22},{"$f":"SHALADARPAN!A581","v":11},{"$f":"SHALADARPAN!B581","v":"A"},{"$f":"SHALADARPAN!K581","v":1308},{"$f":"SHALADARPAN!E581","v":"ANITA DEVI"},{"$f":"SHALADARPAN!G581","v":"Kailash"}]
[{"$nulls":22},{"$f":"SHALADARPAN!A582","v":11},{"$f":"SHALADARPAN!B582","v":"A"},{"$f":"SHALADARPAN!K582","v":1309},{"$f":"SHALADARPAN!E582","v":"ANJALI SUWASIYA"},{"$f":"SHALADARPAN!G582","v":"Kailash"}]
[{"$nulls":22},{"$f":"SHALADARPAN!A583","v":11},{"$f":"SHALADARPAN!B583","v":"A"},{"$f":"SHALADARPAN!K583","v":1310},{"$f":"SHALADARPAN!E583","v":"ANKIT"},{"$f":"SHALADARPAN!G583","v":"Kailash"}]
[{"$nulls":22},{"$f":"SHALADARPAN!A584","v":11},{"$f":"SHALADARPAN!B584","v":"A"},{"$f":"SHALADARPAN!K584","v":1311},{"$f":"SHALADARPAN!E584","v":"ANKITA SHARMA"},{"$f":"SHALADARPAN!G584","v":"Kailash"}]
[{"$nulls":22},{"$f":"SHALADARPAN!A585","v":11},{"$f":"SHALADARPAN!B585","v":"A"},{"$f":"SHALADARPAN!K585","v":1312},{"$f":"SHALADARPAN!E585","v":"ANKU DEVI"},{"$f":"SHALADARPAN!G585","v":"Kailash"}]
[{"$nulls":22},{"$f":"SHALADARPAN!A586","v":11},{"$f":"SHALADARPAN!B586","v":"A"},{"$f":"SHALADARPAN!K586","v":1313},{"$f":"SHALADARPAN!E586","v":"Annu"},{"$f":"SHALADARPAN!G586","v":"Kailash"}]
[{"$nulls":22},{"$f":"SHALADARPAN!A587","v":11},{"$f":"SHALADARPAN!B587","v":"A"},{"$f":"SHALADARPAN!K587","v":1314},{"$f":"SHALADARPAN!E587","v":"Ashok Kumawat"},{"$f":"SHALADARPAN!G587","v":"Kailash"}]
[{"$nulls":22},{"$f":"SHALADARPAN!A588","v":11},{"$f":"SHALADARPAN!B588","v":"A"},{"$f":"SHALADARPAN!K588","v":1316},{"$f":"SHALADARPAN!E588","v":"BANWARI NATH"},{"$f":"SHALADARPAN!G588","v":"Kailash"}]
[{"$nulls":22},{"$f":"SHALADARPAN!A589","v":11},{"$f":"SHALADARPAN!B589","v":"A"},{"$f":"SHALADARPAN!K589","v":1317},{"$f":"SHALADARPAN!E589","v":"BHARAT MEGHWAL"},{"$f":"SHALADARPAN!G589","v":"Kailash"}]
[{"$nulls":22},{"$f":"SHALADARPAN!A590","v":11},{"$f":"SHALADARPAN!B590","v":"A"},{"$f":"SHALADARPAN!K590","v":1318},{"$f":"SHALADARPAN!E590","v":"Bismilla Banu"},{"$f":"SHALADARPAN!G590","v":"Kailash"}]
[{"$nulls":22},{"$f":"SHALADARPAN!A591","v":11},{"$f":"SHALADARPAN!B591","v":"A"},{"$f":"SHALADARPAN!K591","v":1320},{"$f":"SHALADARPAN!E591","v":"Chena Ram"},{"$f":"SHALADARPAN!G591","v":"Kailash"}]
[{"$nulls":22},{"$f":"SHALADARPAN!A592","v":11},{"$f":"SHALADARPAN!B592","v":"A"},{"$f":"SHALADARPAN!K592","v":1321},{"$f":"SHALADARPAN!E592","v":"CHETAN SOLANKI"},{"$f":"SHALADARPAN!G592","v":"Kailash"}]
[{"$nulls":22},{"$f":"SHALADARPAN!A593","v":11},{"$f":"SHALADARPAN!B593","v":"A"},{"$f":"SHALADARPAN!K593","v":1322},{"$f":"SHALADARPAN!E593","v":"DASHARATH KUMAWAT"},{"$f":"SHALADARPAN!G593","v":"Kailash"}]
[{"$nulls":22},{"$f":"SHALADARPAN!A594","v":11},{"$f":"SHALADARPAN!B594","v":"A"},{"$f":"SHALADARPAN!K594","v":1324},{"$f":"SHALADARPAN!E594","v":"DEVRAJ"},{"$f":"SHALADARPAN!G594","v":"Kailash"}]
[{"$nulls":22},{"$f":"SHALADARPAN!A595","v":11},{"$f":"SHALADARPAN!B595","v":"A"},{"$f":"SHALADARPAN!K595","v":1325},{"$f":"SHALADARPAN!E595","v":"DILEEP SINGH"},{"$f":"SHALADARPAN!G595","v":"Kailash"}]
[{"$nulls":22},{"$f":"SHALADARPAN!A596","v":11},{"$f":"SHALADARPAN!B596","v":"A"},{"$f":"SHALADARPAN!K596","v":1327},{"$f":"SHALADARPAN!E596","v":"Dinesh Choudhary"},{"$f":"SHALADARPAN!G596","v":"Kailash"}]
[{"$nulls":22},{"$f":"SHALADARPAN!A597","v":11},{"$f":"SHALADARPAN!B597","v":"A"},{"$f":"SHALADARPAN!K597","v":1328},{"$f":"SHALADARPAN!E597","v":"DINESH PANWAR"},{"$f":"SHALADARPAN!G597","v":"Kailash"}]
[{"$nulls":22},{"$f":"SHALADARPAN!A598","v":11},{"$f":"SHALADARPAN!B598","v":"A"},{"$f":"SHALADARPAN!K598","v":1331},{"$f":"SHALADARPAN!E598","v":"GUNGUN KANWAR"},{"$f":"SHALADARPAN!G598","v":"Kailash"}]
[{"$nulls":22},{"$f":"SHALADARPAN!A599","v":11},{"$f":"SHALADARPAN!B599","v":"A"},{"$f":"SHALADARPAN!K599","v":1332},{"$f":"SHALADARPAN!E599","v":"HARI RAM PRAJAPAT"},{"$f":"SHALADARPAN!G599","v":"Kailash"}]
[{"$nulls":22},{"$f":"SHALADARPAN!A600","v":11},{"$f":"SHALADARPAN!B600","v":"A"},{"$f":"SHALADARPAN!K600","v":1333},{"$f":"SHALADARPAN!E600","v":"JAISHRI"},{"$f":"SHALADARPAN!G600","v":"Kailash"}]
[{"$nulls":22},{"$f":"SHALADARPAN!A601","v":11},{"$f":"SHALADARPAN!B601","v":"A"},{"$f":"SHALADARPAN!K601","v":1334},{"$f":"SHALADARPAN!E601","v":"JITENDRA SINGH"},{"$f":"SHALADARPAN!G601","v":"Kailash"}]
[{"$nulls":22},{"$f":"SHALADARPAN!A602","v":11},{"$f":"SHALADARPAN!B602","v":"A"},{"$f":"SHALADARPAN!K602","v":1336},{"$f":"SHALADARPAN!E602","v":"KALIM KURESHI"},{"$f":"SHALADARPAN!G602","v":"Kailash"}]
[{"$nulls":22},{"$f":"SHALADARPAN!A603","v":11},{"$f":"SHALADARPAN!B603","v":"A"},{"$f":"SHALADARPAN!K603","v":1341},{"$f":"SHALADARPAN!E603","v":"KIRAN DEVI"},{"$f":"SHALADARPAN!G603","v":"Kailash"}]
[{"$nulls":22},{"$f":"SHALADARPAN!A604","v":11},{"$f":"SHALADARPAN!B604","v":"A"},{"$f":"SHALADARPAN!K604","v":1342},{"$f":"SHALADARPAN!E604","v":"KISHAN SINGODIYA"},{"$f":"SHALADARPAN!G604","v":"Kailash"}]
[{"$nulls":22},{"$f":"SHALADARPAN!A605","v":11},{"$f":"SHALADARPAN!B605","v":"A"},{"$f":"SHALADARPAN!K605","v":1343},{"$f":"SHALADARPAN!E605","v":"Lal Chand"},{"$f":"SHALADARPAN!G605","v":"Kailash"}]
[{"$nulls":22},{"$f":"SHALADARPAN!A606","v":11},{"$f":"SHALADARPAN!B606","v":"A"},{"$f":"SHALADARPAN!K606","v":1344},{"$f":"SHALADARPAN!E606","v":"LAXMI DEVI"},{"$f":"SHALADARPAN!G606","v":"Kailash"}]
[{"$nulls":22},{"$f":"SHALADARPAN!A607","v":11},{"$f":"SHALADARPAN!B607","v":"A"},{"$f":"SHALADARPAN!K607","v":1345},{"$f":"SHALADARPAN!E607","v":"MADHURI"},{"$f":"SHALADARPAN!G607","v":"Kailash"}]
[{"$nulls":22},{"$f":"SHALADARPAN!A608","v":11},{"$f":"SHALADARPAN!B608","v":"A"},{"$f":"SHALADARPAN!K608","v":1346},{"$f":"SHALADARPAN!E608","v":"MAHADEV MALI"},{"$f":"SHALADARPAN!G608","v":"Kailash"}]
[{"$nulls":22},{"$f":"SHALADARPAN!A609","v":11},{"$f":"SHALADARPAN!B609","v":"A"},{"$f":"SHALADARPAN!K609","v":1348},{"$f":"SHALADARPAN!E609","v":"Mamta Vaishnav"},{"$f":"SHALADARPAN!G609","v":"Kailash"}]
[{"$nulls":22},{"$f":"SHALADARPAN!A610","v":11},{"$f":"SHALADARPAN!B610","v":"A"},{"$f":"SHALADARPAN!K610","v":1349},{"$f":"SHALADARPAN!E610","v":"MANISH"},{"$f":"SHALADARPAN!G610","v":"Kailash"}]
[{"$nulls":22},{"$f":"SHALADARPAN!A611","v":11},{"$f":"SHALADARPAN!B611","v":"A"},{"$f":"SHALADARPAN!K611","v":1350},{"$f":"SHALADARPAN!E611","v":"Manisha"},{"$f":"SHALADARPAN!G611","v":"Kailash"}]
[{"$nulls":22},{"$f":"SHALADARPAN!A612","v":11},{"$f":"SHALADARPAN!B612","v":"A"},{"$f":"SHALADARPAN!K612","v":1351},{"$f":"SHALADARPAN!E612","v":"Manisha"},{"$f":"SHALADARPAN!G612","v":"Kailash"}]
[{"$nulls":22},{"$f":"SHALADARPAN!A613","v":11},{"$f":"SHALADARPAN!B613","v":"A"},{"$f":"SHALADARPAN!K613","v":1352},{"$f":"SHALADARPAN!E613","v":"MAYA GURJAR"},{"$f":"SHALADARPAN!G613","v":"Kailash"}]
[{"$nulls":22},{"$f":"SHALADARPAN!A614","v":11},{"$f":"SHALADARPAN!B614","v":"A"},{"$f":"SHALADARPAN!K614","v":1353},{"$f":"SHALADARPAN!E614","v":"MEENU DEVI"},{"$f":"SHALADARPAN!G614","v":"Kailash"}]
[{"$nulls":22},{"$f":"SHALADARPAN!A615","v":11},{"$f":"SHALADARPAN!B615","v":"A"},{"$f":"SHALADARPAN!K615","v":1354},{"$f":"SHALADARPAN!E615","v":"MOHAMMAD ARSHAD"},{"$f":"SHALADARPAN!G615","v":"Kailash"}]
[{"$nulls":22},{"$f":"SHALADARPAN!A616","v":11},{"$f":"SHALADARPAN!B616","v":"A"},{"$f":"SHALADARPAN!K616","v":1355},{"$f":"SHALADARPAN!E616","v":"MOHAMMAD KAIF"},{"$f":"SHALADARPAN!G616","v":"Kailash"}]
[{"$nulls":22},{"$f":"SHALADARPAN!A617","v":11},{"$f":"SHALADARPAN!B617","v":"A"},{"$f":"SHALADARPAN!K617","v":1357},{"$f":"SHALADARPAN!E617","v":"MONIKA"},{"$f":"SHALADARPAN!G617","v":"Kailash"}]
[{"$nulls":22},{"$f":"SHALADARPAN!A618","v":11},{"$f":"SHALADARPAN!B618","v":"A"},{"$f":"SHALADARPAN!K618","v":1358},{"$f":"SHALADARPAN!E618","v":"MONIKA SHARMA"},{"$f":"SHALADARPAN!G618","v":"Kailash"}]
[{"$nulls":22},{"$f":"SHALADARPAN!A619","v":11},{"$f":"SHALADARPAN!B619","v":"A"},{"$f":"SHALADARPAN!K619","v":1360},{"$f":"SHALADARPAN!E619","v":"MUKESH KUMAWAT"},{"$f":"SHALADARPAN!G619","v":"Kailash"}]
[{"$nulls":22},{"$f":"SHALADARPAN!A620","v":11},{"$f":"SHALADARPAN!B620","v":"A"},{"$f":"SHALADARPAN!K620","v":1361},{"$f":"SHALADARPAN!E620","v":"MUSKAN"},{"$f":"SHALADARPAN!G620","v":"Kailash"}]
[{"$nulls":22},{"$f":"SHALADARPAN!A621","v":11},{"$f":"SHALADARPAN!B621","v":"A"},{"$f":"SHALADARPAN!K621","v":1363},{"$f":"SHALADARPAN!E621","v":"NEETU"},{"$f":"SHALADARPAN!G621","v":"Kailash"}]
[{"$nulls":22},{"$f":"SHALADARPAN!A622","v":11},{"$f":"SHALADARPAN!B622","v":"A"},{"$f":"SHALADARPAN!K622","v":1365},{"$f":"SHALADARPAN!E622","v":"Nikita"},{"$f":"SHALADARPAN!G622","v":"Kailash"}]
[{"$nulls":22},{"$f":"SHALADARPAN!A623","v":11},{"$f":"SHALADARPAN!B623","v":"A"},{"$f":"SHALADARPAN!K623","v":1366},{"$f":"SHALADARPAN!E623","v":"NIRMA"},{"$f":"SHALADARPAN!G623","v":"Kailash"}]
[{"$nulls":22},{"$f":"SHALADARPAN!A624","v":11},{"$f":"SHALADARPAN!B624","v":"A"},{"$f":"SHALADARPAN!K624","v":1367},{"$f":"SHALADARPAN!E624","v":"NITIN SHRINATH"},{"$f":"SHALADARPAN!G624","v":"Kailash"}]
[{"$nulls":22},{"$f":"SHALADARPAN!A625","v":11},{"$f":"SHALADARPAN!B625","v":"A"},{"$f":"SHALADARPAN!K625","v":1368},{"$f":"SHALADARPAN!E625","v":"OM NATH"},{"$f":"SHALADARPAN!G625","v":"Kailash"}]
[{"$nulls":22},{"$f":"SHALADARPAN!A626","v":11},{"$f":"SHALADARPAN!B626","v":"A"},{"$f":"SHALADARPAN!K626","v":1369},{"$f":"SHALADARPAN!E626","v":"OM PRAKASH"},{"$f":"SHALADARPAN!G626","v":"Kailash"}]
[{"$nulls":22},{"$f":"SHALADARPAN!A627","v":11},{"$f":"SHALADARPAN!B627","v":"A"},{"$f":"SHALADARPAN!K627","v":1371},{"$f":"SHALADARPAN!E627","v":"PAREENA"},{"$f":"SHALADARPAN!G627","v":"Kailash"}]
[{"$nulls":22},{"$f":"SHALADARPAN!A628","v":11},{"$f":"SHALADARPAN!B628","v":"A"},{"$f":"SHALADARPAN!K628","v":1372},{"$f":"SHALADARPAN!E628","v":"Pawan Puri"},{"$f":"SHALADARPAN!G628","v":"Kailash"}]
[{"$nulls":22},{"$f":"SHALADARPAN!A629","v":11},{"$f":"SHALADARPAN!B629","v":"A"},{"$f":"SHALADARPAN!K629","v":1373},{"$f":"SHALADARPAN!E629","v":"POOJA JANGID"},{"$f":"SHALADARPAN!G629","v":"Kailash"}]
[{"$nulls":22},{"$f":"SHALADARPAN!A630","v":11},{"$f":"SHALADARPAN!B630","v":"A"},{"$f":"SHALADARPAN!K630","v":1374},{"$f":"SHALADARPAN!E630","v":"POOJA KACHCHHAWA"},{"$f":"SHALADARPAN!G630","v":"Kailash"}]
[{"$nulls":22},{"$f":"SHALADARPAN!A631","v":11},{"$f":"SHALADARPAN!B631","v":"A"},{"$f":"SHALADARPAN!K631","v":1376},{"$f":"SHALADARPAN!E631","v":"POONAM CHAND SAINI"},{"$f":"SHALADARPAN!G631","v":"Kailash"}]
[{"$nulls":22},{"$f":"SHALADARPAN!A632","v":11},{"$f":"SHALADARPAN!B632","v":"A"},{"$f":"SHALADARPAN!K632","v":1378},{"$f":"SHALADARPAN!E632","v":"PRERNA SHARMA"},{"$f":"SHALADARPAN!G632","v":"Kailash"}]
[{"$nulls":22},{"$f":"SHALADARPAN!A633","v":11},{"$f":"SHALADARPAN!B633","v":"A"},{"$f":"SHALADARPAN!K633","v":1379},{"$f":"SHALADARPAN!E633","v":"Priyanka Chawda"},{"$f":"SHALADARPAN!G633","v":"Kailash"}]
[{"$nulls":22},{"$f":"SHALADARPAN!A634","v":11},{"$f":"SHALADARPAN!B634","v":"A"},{"$f":"SHALADARPAN!K634","v":1380},{"$f":"SHALADARPAN!E634","v":"PRIYANKA DEVI"},{"$f":"SHALADARPAN!G634","v":"Kailash"}]
[{"$nulls":22},{"$f":"SHALADARPAN!A635","v":11},{"$f":"SHALADARPAN!B635","v":"A"},{"$f":"SHALADARPAN!K635","v":1385},{"$f":"SHALADARPAN!E635","v":"RAKESH KACHCHHAVA"},{"$f":"SHALADARPAN!G635","v":"Kailash"}]
[{"$nulls":22},{"$f":"SHALADARPAN!A636","v":11},{"$f":"SHALADARPAN!B636","v":"A"},{"$f":"SHALADARPAN!K636","v":1386},{"$f":"SHALADARPAN!E636","v":"RAM AVTAR SAINI"},{"$f":"SHALADARPAN!G636","v":"Kailash"}]
[{"$nulls":22},{"$f":"SHALADARPAN!A637","v":11},{"$f":"SHALADARPAN!B637","v":"A"},{"$f":"SHALADARPAN!K637","v":1387},{"$f":"SHALADARPAN!E637","v":"RAMJANA BANOO"},{"$f":"SHALADARPAN!G637","v":"Kailash"}]
[{"$nulls":22},{"$f":"SHALADARPAN!A638","v":11},{"$f":"SHALADARPAN!B638","v":"A"},{"$f":"SHALADARPAN!K638","v":1389},{"$f":"SHALADARPAN!E638","v":"RAMNIWAS KUMAWAT"},{"$f":"SHALADARPAN!G638","v":"Kailash"}]
[{"$nulls":22},{"$f":"SHALADARPAN!A639","v":11},{"$f":"SHALADARPAN!B639","v":"A"},{"$f":"SHALADARPAN!K639","v":1390},{"$f":"SHALADARPAN!E639","v":"RAVI KUMAR ACHARYA"},{"$f":"SHALADARPAN!G639","v":"Kailash"}]
[{"$nulls":22},{"$f":"SHALADARPAN!A640","v":11},{"$f":"SHALADARPAN!B640","v":"A"},{"$f":"SHALADARPAN!K640","v":1392},{"$f":"SHALADARPAN!E640","v":"RAVINDRA SINGH"},{"$f":"SHALADARPAN!G640","v":"Kailash"}]
[{"$nulls":22},{"$f":"SHALADARPAN!A641","v":11},{"$f":"SHALADARPAN!B641","v":"A"},{"$f":"SHALADARPAN!K641","v":1391},{"$f":"SHALADARPAN!E641","v":"RAVINDRA SINGH"},{"$f":"SHALADARPAN!G641","v":"Kailash"}]
[{"$nulls":22},{"$f":"SHALADARPAN!A642","v":11},{"$f":"SHALADARPAN!B642","v":"A"},{"$f":"SHALADARPAN!K642","v":1393},{"$f":"SHALADARPAN!E642","v":"REKHA JANGID"},{"$f":"SHALADARPAN!G642","v":"Kailash"}]
[{"$nulls":22},{"$f":"SHALADARPAN!A643","v":11},{"$f":"SHALADARPAN!B643","v":"A"},{"$f":"SHALADARPAN!K643","v":1394},{"$f":"SHALADARPAN!E643","v":"RINKU KUMAWAT"},{"$f":"SHALADARPAN!G643","v":"Kailash"}]
[{"$nulls":22},{"$f":"SHALADARPAN!A644","v":11},{"$f":"SHALADARPAN!B644","v":"A"},{"$f":"SHALADARPAN!K644","v":1395},{"$f":"SHALADARPAN!E644","v":"RIYANA BANU"},{"$f":"SHALADARPAN!G644","v":"Kailash"}]
[{"$nulls":22},{"$f":"SHALADARPAN!A645","v":11},{"$f":"SHALADARPAN!B645","v":"A"},{"$f":"SHALADARPAN!K645","v":1396},{"$f":"SHALADARPAN!E645","v":"ROHIT"},{"$f":"SHALADARPAN!G645","v":"Kailash"}]
[{"$nulls":22},{"$f":"SHALADARPAN!A646","v":11},{"$f":"SHALADARPAN!B646","v":"A"},{"$f":"SHALADARPAN!K646","v":1397},{"$f":"SHALADARPAN!E646","v":"ROHIT SOLANKI"},{"$f":"SHALADARPAN!G646","v":"Kailash"}]
[{"$nulls":22},{"$f":"SHALADARPAN!A647","v":11},{"$f":"SHALADARPAN!B647","v":"A"},{"$f":"SHALADARPAN!K647","v":1399},{"$f":"SHALADARPAN!E647","v":"SALAUDIN"},{"$f":"SHALADARPAN!G647","v":"Kailash"}]
[{"$nulls":22},{"$f":"SHALADARPAN!A648","v":11},{"$f":"SHALADARPAN!B648","v":"A"},{"$f":"SHALADARPAN!K648","v":1400},{"$f":"SHALADARPAN!E648","v":"SALMAN"},{"$f":"SHALADARPAN!G648","v":"Kailash"}]
[{"$nulls":22},{"$f":"SHALADARPAN!A649","v":11},{"$f":"SHALADARPAN!B649","v":"A"},{"$f":"SHALADARPAN!K649","v":1401},{"$f":"SHALADARPAN!E649","v":"SANIYA BANOO"},{"$f":"SHALADARPAN!G649","v":"Kailash"}]
[{"$nulls":22},{"$f":"SHALADARPAN!A650","v":11},{"$f":"SHALADARPAN!B650","v":"A"},{"$f":"SHALADARPAN!K650","v":1403},{"$f":"SHALADARPAN!E650","v":"SARITA BAWARI"},{"$f":"SHALADARPAN!G650","v":"Kailash"}]
[{"$nulls":22},{"$f":"SHALADARPAN!A651","v":11},{"$f":"SHALADARPAN!B651","v":"A"},{"$f":"SHALADARPAN!K651","v":1405},{"$f":"SHALADARPAN!E651","v":"Seema Choukidar"},{"$f":"SHALADARPAN!G651","v":"Kailash"}]
[{"$nulls":22},{"$f":"SHALADARPAN!A652","v":11},{"$f":"SHALADARPAN!B652","v":"A"},{"$f":"SHALADARPAN!K652","v":1406},{"$f":"SHALADARPAN!E652","v":"SHABANA"},{"$f":"SHALADARPAN!G652","v":"Kailash"}]
[{"$nulls":22},{"$f":"SHALADARPAN!A653","v":11},{"$f":"SHALADARPAN!B653","v":"A"},{"$f":"SHALADARPAN!K653","v":1407},{"$f":"SHALADARPAN!E653","v":"SHAKTI SINGH"},{"$f":"SHALADARPAN!G653","v":"Kailash"}]
[{"$nulls":22},{"$f":"SHALADARPAN!A654","v":11},{"$f":"SHALADARPAN!B654","v":"A"},{"$f":"SHALADARPAN!K654","v":1408},{"$f":"SHALADARPAN!E654","v":"Shankar Gurjar"},{"$f":"SHALADARPAN!G654","v":"Kailash"}]
[{"$nulls":22},{"$f":"SHALADARPAN!A655","v":11},{"$f":"SHALADARPAN!B655","v":"A"},{"$f":"SHALADARPAN!K655","v":1409},{"$f":"SHALADARPAN!E655","v":"Shreeram Saini"},{"$f":"SHALADARPAN!G655","v":"Kailash"}]
[{"$nulls":22},{"$f":"SHALADARPAN!A656","v":11},{"$f":"SHALADARPAN!B656","v":"A"},{"$f":"SHALADARPAN!K656","v":1410},{"$f":"SHALADARPAN!E656","v":"Sonika"},{"$f":"SHALADARPAN!G656","v":"Kailash"}]
[{"$nulls":22},{"$f":"SHALADARPAN!A657","v":11},{"$f":"SHALADARPAN!B657","v":"A"},{"$f":"SHALADARPAN!K657","v":1414},{"$f":"SHALADARPAN!E657","v":"Sumer Barada"},{"$f":"SHALADARPAN!G657","v":"Kailash"}]
[{"$nulls":22},{"$f":"SHALADARPAN!A658","v":11},{"$f":"SHALADARPAN!B658","v":"A"},{"$f":"SHALADARPAN!K658","v":1415},{"$f":"SHALADARPAN!E658","v":"SUNIL"},{"$f":"SHALADARPAN!G658","v":"Kailash"}]
[{"$nulls":22},{"$f":"SHALADARPAN!A659","v":11},{"$f":"SHALADARPAN!B659","v":"A"},{"$f":"SHALADARPAN!K659","v":1417},{"$f":"SHALADARPAN!E659","v":"Sunil Boraniya"},{"$f":"SHALADARPAN!G659","v":"Kailash"}]
[{"$nulls":22},{"$f":"SHALADARPAN!A660","v":11},{"$f":"SHALADARPAN!B660","v":"A"},{"$f":"SHALADARPAN!K660","v":1418},{"$f":"SHALADARPAN!E660","v":"SUNIL NATH"},{"$f":"SHALADARPAN!G660","v":"Kailash"}]
[{"$nulls":22},{"$f":"SHALADARPAN!A661","v":11},{"$f":"SHALADARPAN!B661","v":"A"},{"$f":"SHALADARPAN!K661","v":1419},{"$f":"SHALADARPAN!E661","v":"SUNIL SAINI"},{"$f":"SHALADARPAN!G661","v":"Kailash"}]
[{"$nulls":22},{"$f":"SHALADARPAN!A662","v":11},{"$f":"SHALADARPAN!B662","v":"A"},{"$f":"SHALADARPAN!K662","v":1421},{"$f":"SHALADARPAN!E662","v":"TARUN SAINI"},{"$f":"SHALADARPAN!G662","v":"Kailash"}]
[{"$nulls":22},{"$f":"SHALADARPAN!A663","v":11},{"$f":"SHALADARPAN!B663","v":"A"},{"$f":"SHALADARPAN!K663","v":1422},{"$f":"SHALADARPAN!E663","v":"VIKRAM SINGH"},{"$f":"SHALADARPAN!G663","v":"Kailash"}]
[{"$nulls":22},{"$f":"SHALADARPAN!A664","v":11},{"$f":"SHALADARPAN!B664","v":"A"},{"$f":"SHALADARPAN!K664","v":1423},{"$f":"SHALADARPAN!E664","v":"VISHNU CHOKIDAR"},{"$f":"SHALADARPAN!G664","v":"Kailash"}]
[{"$nulls":22},{"$f":"SHALADARPAN!A665","v":11},{"$f":"SHALADARPAN!B665","v":"A"},{"$f":"SHALADARPAN!K665","v":1424},{"$f":"SHALADARPAN!E665","v":"YAGHYANARAYAN SINGH"},{"$f":"SHALADARPAN!G665","v":"Kailash"}]
[{"$nulls":22},{"$f":"SHALADARPAN!A666","v":11},{"$f":"SHALADARPAN!B666","v":"B"},{"$f":"SHALADARPAN!K666","v":1501},{"$f":"SHALADARPAN!E666","v":"Ankit"},{"$f":"SHALADARPAN!G666","v":"Kailash"}]
[{"$nulls":22},{"$f":"SHALADARPAN!A667","v":11},{"$f":"SHALADARPAN!B667","v":"B"},{"$f":"SHALADARPAN!K667","v":1502},{"$f":"SHALADARPAN!E667","v":"ARPIT SHARMA"},{"$f":"SHALADARPAN!G667","v":"Kailash"}]
[{"$nulls":22},{"$f":"SHALADARPAN!A668","v":11},{"$f":"SHALADARPAN!B668","v":"B"},{"$f":"SHALADARPAN!K668","v":1503},{"$f":"SHALADARPAN!E668","v":"Barkat Ali"},{"$f":"SHALADARPAN!G668","v":"Kailash"}]
[{"$nulls":22},{"$f":"SHALADARPAN!A669","v":11},{"$f":"SHALADARPAN!B669","v":"B"},{"$f":"SHALADARPAN!K669","v":1504},{"$f":"SHALADARPAN!E669","v":"Bhavna Vaishnav"},{"$f":"SHALADARPAN!G669","v":"Kailash"}]
[{"$nulls":22},{"$f":"SHALADARPAN!A670","v":11},{"$f":"SHALADARPAN!B670","v":"B"},{"$f":"SHALADARPAN!K670","v":1505},{"$f":"SHALADARPAN!E670","v":"DEEKSHA PARIHAR"},{"$f":"SHALADARPAN!G670","v":"Kailash"}]
[{"$nulls":22},{"$f":"SHALADARPAN!A671","v":11},{"$f":"SHALADARPAN!B671","v":"B"},{"$f":"SHALADARPAN!K671","v":1506},{"$f":"SHALADARPAN!E671","v":"DEEPIKA SHARMA"},{"$f":"SHALADARPAN!G671","v":"Kailash"}]
[{"$nulls":22},{"$f":"SHALADARPAN!A672","v":11},{"$f":"SHALADARPAN!B672","v":"B"},{"$f":"SHALADARPAN!K672","v":1507},{"$f":"SHALADARPAN!E672","v":"FIROJA BANU"},{"$f":"SHALADARPAN!G672","v":"Kailash"}]
[{"$nulls":22},{"$f":"SHALADARPAN!A673","v":11},{"$f":"SHALADARPAN!B673","v":"B"},{"$f":"SHALADARPAN!K673","v":1508},{"$f":"SHALADARPAN!E673","v":"GARIMA PARIHAR"},{"$f":"SHALADARPAN!G673","v":"Kailash"}]
[{"$nulls":22},{"$f":"SHALADARPAN!A674","v":11},{"$f":"SHALADARPAN!B674","v":"B"},{"$f":"SHALADARPAN!K674","v":1509},{"$f":"SHALADARPAN!E674","v":"Govind Ram"},{"$f":"SHALADARPAN!G674","v":"Kailash"}]
[{"$nulls":22},{"$f":"SHALADARPAN!A675","v":11},{"$f":"SHALADARPAN!B675","v":"B"},{"$f":"SHALADARPAN!K675","v":1510},{"$f":"SHALADARPAN!E675","v":"GUDDI DEVI"},{"$f":"SHALADARPAN!G675","v":"Kailash"}]
[{"$nulls":22},{"$f":"SHALADARPAN!A676","v":11},{"$f":"SHALADARPAN!B676","v":"B"},{"$f":"SHALADARPAN!K676","v":1511},{"$f":"SHALADARPAN!E676","v":"HAIDER ALI"},{"$f":"SHALADARPAN!G676","v":"Kailash"}]
[{"$nulls":22},{"$f":"SHALADARPAN!A677","v":11},{"$f":"SHALADARPAN!B677","v":"B"},{"$f":"SHALADARPAN!K677","v":1512},{"$f":"SHALADARPAN!E677","v":"HEMLATA"},{"$f":"SHALADARPAN!G677","v":"Kailash"}]
[{"$nulls":22},{"$f":"SHALADARPAN!A678","v":11},{"$f":"SHALADARPAN!B678","v":"B"},{"$f":"SHALADARPAN!K678","v":1513},{"$f":"SHALADARPAN!E678","v":"KARAN KUMAR ACHARYA"},{"$f":"SHALADARPAN!G678","v":"Kailash"}]
[{"$nulls":22},{"$f":"SHALADARPAN!A679","v":11},{"$f":"SHALADARPAN!B679","v":"B"},{"$f":"SHALADARPAN!K679","v":1514},{"$f":"SHALADARPAN!E679","v":"KAVITA PRAJAPAT"},{"$f":"SHALADARPAN!G679","v":"Kailash"}]
[{"$nulls":22},{"$f":"SHALADARPAN!A680","v":11},{"$f":"SHALADARPAN!B680","v":"B"},{"$f":"SHALADARPAN!K680","v":1515},{"$f":"SHALADARPAN!E680","v":"Komal"},{"$f":"SHALADARPAN!G680","v":"Kailash"}]
[{"$nulls":22},{"$f":"SHALADARPAN!A681","v":11},{"$f":"SHALADARPAN!B681","v":"B"},{"$f":"SHALADARPAN!K681","v":1516},{"$f":"SHALADARPAN!E681","v":"KOMAL PRAJAPAT"},{"$f":"SHALADARPAN!G681","v":"Kailash"}]
[{"$nulls":22},{"$f":"SHALADARPAN!A682","v":11},{"$f":"SHALADARPAN!B682","v":"B"},{"$f":"SHALADARPAN!K682","v":1517},{"$f":"SHALADARPAN!E682","v":"Krishna Saini"},{"$f":"SHALADARPAN!G682","v":"Kailash"}]
[{"$nulls":22},{"$f":"SHALADARPAN!A683","v":11},{"$f":"SHALADARPAN!B683","v":"B"},{"$f":"SHALADARPAN!K683","v":1518},{"$f":"SHALADARPAN!E683","v":"MANISH KUMAR"},{"$f":"SHALADARPAN!G683","v":"Kailash"}]
[{"$nulls":22},{"$f":"SHALADARPAN!A684","v":11},{"$f":"SHALADARPAN!B684","v":"B"},{"$f":"SHALADARPAN!K684","v":1519},{"$f":"SHALADARPAN!E684","v":"MANISH KUMAR SAINI"},{"$f":"SHALADARPAN!G684","v":"Kailash"}]
[{"$nulls":22},{"$f":"SHALADARPAN!A685","v":11},{"$f":"SHALADARPAN!B685","v":"B"},{"$f":"SHALADARPAN!K685","v":1520},{"$f":"SHALADARPAN!E685","v":"Manjeet Singh Shekhawat"},{"$f":"SHALADARPAN!G685","v":"Kailash"}]
[{"$nulls":22},{"$f":"SHALADARPAN!A686","v":11},{"$f":"SHALADARPAN!B686","v":"B"},{"$f":"SHALADARPAN!K686","v":1521},{"$f":"SHALADARPAN!E686","v":"MOHAMMAD SHAHROOKH"},{"$f":"SHALADARPAN!G686","v":"Kailash"}]
[{"$nulls":22},{"$f":"SHALADARPAN!A687","v":11},{"$f":"SHALADARPAN!B687","v":"B"},{"$f":"SHALADARPAN!K687","v":1522},{"$f":"SHALADARPAN!E687","v":"MOHIT VAISHNAV"},{"$f":"SHALADARPAN!G687","v":"Kailash"}]
[{"$nulls":22},{"$f":"SHALADARPAN!A688","v":11},{"$f":"SHALADARPAN!B688","v":"B"},{"$f":"SHALADARPAN!K688","v":1523},{"$f":"SHALADARPAN!E688","v":"Mukesh Dagdi"},{"$f":"SHALADARPAN!G688","v":"Kailash"}]
[{"$nulls":22},{"$f":"SHALADARPAN!A689","v":11},{"$f":"SHALADARPAN!B689","v":"B"},{"$f":"SHALADARPAN!K689","v":1524},{"$f":"SHALADARPAN!E689","v":"MUSHRAT BANO"},{"$f":"SHALADARPAN!G689","v":"Kailash"}]
[{"$nulls":22},{"$f":"SHALADARPAN!A690","v":11},{"$f":"SHALADARPAN!B690","v":"B"},{"$f":"SHALADARPAN!K690","v":1525},{"$f":"SHALADARPAN!E690","v":"NEERU SAINI"},{"$f":"SHALADARPAN!G690","v":"Kailash"}]
[{"$nulls":22},{"$f":"SHALADARPAN!A691","v":11},{"$f":"SHALADARPAN!B691","v":"B"},{"$f":"SHALADARPAN!K691","v":1526},{"$f":"SHALADARPAN!E691","v":"PINKI"},{"$f":"SHALADARPAN!G691","v":"Kailash"}]
[{"$nulls":22},{"$f":"SHALADARPAN!A692","v":11},{"$f":"SHALADARPAN!B692","v":"B"},{"$f":"SHALADARPAN!K692","v":1527},{"$f":"SHALADARPAN!E692","v":"POOJA"},{"$f":"SHALADARPAN!G692","v":"Kailash"}]
[{"$nulls":22},{"$f":"SHALADARPAN!A693","v":11},{"$f":"SHALADARPAN!B693","v":"B"},{"$f":"SHALADARPAN!K693","v":1528},{"$f":"SHALADARPAN!E693","v":"POONAM JHUNJHADIYA"},{"$f":"SHALADARPAN!G693","v":"Kailash"}]
[{"$nulls":22},{"$f":"SHALADARPAN!A694","v":11},{"$f":"SHALADARPAN!B694","v":"B"},{"$f":"SHALADARPAN!K694","v":1529},{"$f":"SHALADARPAN!E694","v":"Pradeep Faroda"},{"$f":"SHALADARPAN!G694","v":"Kailash"}]
[{"$nulls":22},{"$f":"SHALADARPAN!A695","v":11},{"$f":"SHALADARPAN!B695","v":"B"},{"$f":"SHALADARPAN!K695","v":1530},{"$f":"SHALADARPAN!E695","v":"Priyanka Sharma"},{"$f":"SHALADARPAN!G695","v":"Kailash"}]
[{"$nulls":22},{"$f":"SHALADARPAN!A696","v":11},{"$f":"SHALADARPAN!B696","v":"B"},{"$f":"SHALADARPAN!K696","v":1531},{"$f":"SHALADARPAN!E696","v":"PUKHRAJ BORANIYA"},{"$f":"SHALADARPAN!G696","v":"Kailash"}]
[{"$nulls":22},{"$f":"SHALADARPAN!A697","v":11},{"$f":"SHALADARPAN!B697","v":"B"},{"$f":"SHALADARPAN!K697","v":1532},{"$f":"SHALADARPAN!E697","v":"PURAN"},{"$f":"SHALADARPAN!G697","v":"Kailash"}]
[{"$nulls":22},{"$f":"SHALADARPAN!A698","v":11},{"$f":"SHALADARPAN!B698","v":"B"},{"$f":"SHALADARPAN!K698","v":1533},{"$f":"SHALADARPAN!E698","v":"RICHHPAL RAIKA"},{"$f":"SHALADARPAN!G698","v":"Kailash"}]
[{"$nulls":22},{"$f":"SHALADARPAN!A699","v":11},{"$f":"SHALADARPAN!B699","v":"B"},{"$f":"SHALADARPAN!K699","v":1534},{"$f":"SHALADARPAN!E699","v":"SABIR HUSAIN"},{"$f":"SHALADARPAN!G699","v":"Kailash"}]
[{"$nulls":22},{"$f":"SHALADARPAN!A700","v":11},{"$f":"SHALADARPAN!B700","v":"B"},{"$f":"SHALADARPAN!K700","v":1535},{"$f":"SHALADARPAN!E700","v":"SEEMA"},{"$f":"SHALADARPAN!G700","v":"Kailash"}]
[{"$nulls":22},{"$f":"SHALADARPAN!A701","v":11},{"$f":"SHALADARPAN!B701","v":"B"},{"$f":"SHALADARPAN!K701","v":1536},{"$f":"SHALADARPAN!E701","v":"SEEMA DEVI"},{"$f":"SHALADARPAN!G701","v":"Kailash"}]
[{"$nulls":22},{"$f":"SHALADARPAN!A702","v":11},{"$f":"SHALADARPAN!B702","v":"B"},{"$f":"SHALADARPAN!K702","v":1537},{"$f":"SHALADARPAN!E702","v":"Sunil"},{"$f":"SHALADARPAN!G702","v":"Kailash"}]
[{"$nulls":22},{"$f":"SHALADARPAN!A703","v":11},{"$f":"SHALADARPAN!B703","v":"B"},{"$f":"SHALADARPAN!K703","v":1538},{"$f":"SHALADARPAN!E703","v":"SUNITA MEGHWAL"},{"$f":"SHALADARPAN!G703","v":"Kailash"}]
[{"$nulls":22},{"$f":"SHALADARPAN!A704","v":11},{"$f":"SHALADARPAN!B704","v":"B"},{"$f":"SHALADARPAN!K704","v":1539},{"$f":"SHALADARPAN!E704","v":"TEENA VAISHNAV"},{"$f":"SHALADARPAN!G704","v":"Kailash"}]
[{"$nulls":22},{"$f":"SHALADARPAN!A705","v":11},{"$f":"SHALADARPAN!B705","v":"B"},{"$f":"SHALADARPAN!K705","v":1540},{"$f":"SHALADARPAN!E705","v":"Vidhya Chand"},{"$f":"SHALADARPAN!G705","v":"Kailash"}]
[{"$nulls":22},{"$f":"SHALADARPAN!A706","v":11},{"$f":"SHALADARPAN!B706","v":"B"},{"$f":"SHALADARPAN!K706","v":1541},{"$f":"SHALADARPAN!E706","v":"VIKAS KUMAWAT"},{"$f":"SHALADARPAN!G706","v":"Kailash"}]
[{"$nulls":22},{"$f":"SHALADARPAN!A707","v":11},{"$f":"SHALADARPAN!B707","v":"B"},{"$f":"SHALADARPAN!K707","v":1542},{"$f":"SHALADARPAN!E707","v":"YASIN MOHAMMAD"},{"$f":"SHALADARPAN!G707","v":"Kailash"}]
[{"$nulls":22},{"$f":"SHALADARPAN!A708","v":12},{"$f":"SHALADARPAN!B708","v":"A"},{"$f":"SHALADARPAN!K708","v":1601},{"$f":"SHALADARPAN!E708","v":"ABDUL RAHMAN"},{"$f":"SHALADARPAN!G708","v":"Kailash"}]
[{"$nulls":22},{"$f":"SHALADARPAN!A709","v":12},{"$f":"SHALADARPAN!B709","v":"A"},{"$f":"SHALADARPAN!K709","v":1603},{"$f":"SHALADARPAN!E709","v":"ALAUDIN"},{"$f":"SHALADARPAN!G709","v":"Kailash"}]
[{"$nulls":22},{"$f":"SHALADARPAN!A710","v":12},{"$f":"SHALADARPAN!B710","v":"A"},{"$f":"SHALADARPAN!K710","v":1604},{"$f":"SHALADARPAN!E710","v":"Anita Saini"},{"$f":"SHALADARPAN!G710","v":"Kailash"}]
[{"$nulls":22},{"$f":"SHALADARPAN!A711","v":12},{"$f":"SHALADARPAN!B711","v":"A"},{"$f":"SHALADARPAN!K711","v":1605},{"$f":"SHALADARPAN!E711","v":"ANKIT KACHCHHAVA"},{"$f":"SHALADARPAN!G711","v":"Kailash"}]
[{"$nulls":22},{"$f":"SHALADARPAN!A712","v":12},{"$f":"SHALADARPAN!B712","v":"A"},{"$f":"SHALADARPAN!K712","v":1606},{"$f":"SHALADARPAN!E712","v":"BANSHI LAL"},{"$f":"SHALADARPAN!G712","v":"Kailash"}]
[{"$nulls":22},{"$f":"SHALADARPAN!A713","v":12},{"$f":"SHALADARPAN!B713","v":"A"},{"$f":"SHALADARPAN!K713","v":1607},{"$f":"SHALADARPAN!E713","v":"BARKAT ALI"},{"$f":"SHALADARPAN!G713","v":"Kailash"}]
[{"$nulls":22},{"$f":"SHALADARPAN!A714","v":12},{"$f":"SHALADARPAN!B714","v":"A"},{"$f":"SHALADARPAN!K714","v":1608},{"$f":"SHALADARPAN!E714","v":"Dashrath Vaishnav"},{"$f":"SHALADARPAN!G714","v":"Kailash"}]
[{"$nulls":22},{"$f":"SHALADARPAN!A715","v":12},{"$f":"SHALADARPAN!B715","v":"A"},{"$f":"SHALADARPAN!K715","v":1609},{"$f":"SHALADARPAN!E715","v":"DINESH KUMAR"},{"$f":"SHALADARPAN!G715","v":"Kailash"}]
[{"$nulls":22},{"$f":"SHALADARPAN!A716","v":12},{"$f":"SHALADARPAN!B716","v":"A"},{"$f":"SHALADARPAN!K716","v":1610},{"$f":"SHALADARPAN!E716","v":"Dinesh Soda"},{"$f":"SHALADARPAN!G716","v":"Kailash"}]
[{"$nulls":22},{"$f":"SHALADARPAN!A717","v":12},{"$f":"SHALADARPAN!B717","v":"A"},{"$f":"SHALADARPAN!K717","v":1611},{"$f":"SHALADARPAN!E717","v":"GAUTAM SINGH"},{"$f":"SHALADARPAN!G717","v":"Kailash"}]
[{"$nulls":22},{"$f":"SHALADARPAN!A718","v":12},{"$f":"SHALADARPAN!B718","v":"A"},{"$f":"SHALADARPAN!K718","v":1612},{"$f":"SHALADARPAN!E718","v":"GUMAN NATH"},{"$f":"SHALADARPAN!G718","v":"Kailash"}]
[{"$nulls":22},{"$f":"SHALADARPAN!A719","v":12},{"$f":"SHALADARPAN!B719","v":"A"},{"$f":"SHALADARPAN!K719","v":1613},{"$f":"SHALADARPAN!E719","v":"HASEENA BANO"},{"$f":"SHALADARPAN!G719","v":"Kailash"}]
[{"$nulls":22},{"$f":"SHALADARPAN!A720","v":12},{"$f":"SHALADARPAN!B720","v":"A"},{"$f":"SHALADARPAN!K720","v":1614},{"$f":"SHALADARPAN!E720","v":"HEENA BANOO"},{"$f":"SHALADARPAN!G720","v":"Kailash"}]
[{"$nulls":22},{"$f":"SHALADARPAN!A721","v":12},{"$f":"SHALADARPAN!B721","v":"A"},{"$f":"SHALADARPAN!K721","v":1615},{"$f":"SHALADARPAN!E721","v":"HINA BANU"},{"$f":"SHALADARPAN!G721","v":"Kailash"}]
[{"$nulls":22},{"$f":"SHALADARPAN!A722","v":12},{"$f":"SHALADARPAN!B722","v":"A"},{"$f":"SHALADARPAN!K722","v":1616},{"$f":"SHALADARPAN!E722","v":"IKBAL MOHAMMAD"},{"$f":"SHALADARPAN!G722","v":"Kailash"}]
[{"$nulls":22},{"$f":"SHALADARPAN!A723","v":12},{"$f":"SHALADARPAN!B723","v":"A"},{"$f":"SHALADARPAN!K723","v":1617},{"$f":"SHALADARPAN!E723","v":"KAVITA TAMBOLI"},{"$f":"SHALADARPAN!G723","v":"Kailash"}]
[{"$nulls":22},{"$f":"SHALADARPAN!A724","v":12},{"$f":"SHALADARPAN!B724","v":"A"},{"$f":"SHALADARPAN!K724","v":1618},{"$f":"SHALADARPAN!E724","v":"KUDRAT BANO"},{"$f":"SHALADARPAN!G724","v":"Kailash"}]
[{"$nulls":22},{"$f":"SHALADARPAN!A725","v":12},{"$f":"SHALADARPAN!B725","v":"A"},{"$f":"SHALADARPAN!K725","v":1619},{"$f":"SHALADARPAN!E725","v":"KULDEEP ACHARYA"},{"$f":"SHALADARPAN!G725","v":"Kailash"}]
[{"$nulls":22},{"$f":"SHALADARPAN!A726","v":12},{"$f":"SHALADARPAN!B726","v":"A"},{"$f":"SHALADARPAN!K726","v":1620},{"$f":"SHALADARPAN!E726","v":"LAXMI GURJAR"},{"$f":"SHALADARPAN!G726","v":"Kailash"}]
[{"$nulls":22},{"$f":"SHALADARPAN!A727","v":12},{"$f":"SHALADARPAN!B727","v":"A"},{"$f":"SHALADARPAN!K727","v":1621},{"$f":"SHALADARPAN!E727","v":"MAMTA"},{"$f":"SHALADARPAN!G727","v":"Kailash"}]
[{"$nulls":22},{"$f":"SHALADARPAN!A728","v":12},{"$f":"SHALADARPAN!B728","v":"A"},{"$f":"SHALADARPAN!K728","v":1622},{"$f":"SHALADARPAN!E728","v":"MAMTA GURJAR"},{"$f":"SHALADARPAN!G728","v":"Kailash"}]
[{"$nulls":22},{"$f":"SHALADARPAN!A729","v":12},{"$f":"SHALADARPAN!B729","v":"A"},{"$f":"SHALADARPAN!K729","v":1623},{"$f":"SHALADARPAN!E729","v":"MANISH MALI"},{"$f":"SHALADARPAN!G729","v":"Kailash"}]
[{"$nulls":22},{"$f":"SHALADARPAN!A730","v":12},{"$f":"SHALADARPAN!B730","v":"A"},{"$f":"SHALADARPAN!K730","v":1624},{"$f":"SHALADARPAN!E730","v":"MONIKA KANWAR"},{"$f":"SHALADARPAN!G730","v":"Kailash"}]
[{"$nulls":22},{"$f":"SHALADARPAN!A731","v":12},{"$f":"SHALADARPAN!B731","v":"A"},{"$f":"SHALADARPAN!K731","v":1625},{"$f":"SHALADARPAN!E731","v":"NAZIYA"},{"$f":"SHALADARPAN!G731","v":"Kailash"}]
[{"$nulls":22},{"$f":"SHALADARPAN!A732","v":12},{"$f":"SHALADARPAN!B732","v":"A"},{"$f":"SHALADARPAN!K732","v":1626},{"$f":"SHALADARPAN!E732","v":"NOSHAD SHYA"},{"$f":"SHALADARPAN!G732","v":"Kailash"}]
[{"$nulls":22},{"$f":"SHALADARPAN!A733","v":12},{"$f":"SHALADARPAN!B733","v":"A"},{"$f":"SHALADARPAN!K733","v":1627},{"$f":"SHALADARPAN!E733","v":"POOJA"},{"$f":"SHALADARPAN!G733","v":"Kailash"}]
[{"$nulls":22},{"$f":"SHALADARPAN!A734","v":12},{"$f":"SHALADARPAN!B734","v":"A"},{"$f":"SHALADARPAN!K734","v":1628},{"$f":"SHALADARPAN!E734","v":"POOJA DEVI"},{"$f":"SHALADARPAN!G734","v":"Kailash"}]
[{"$nulls":22},{"$f":"SHALADARPAN!A735","v":12},{"$f":"SHALADARPAN!B735","v":"A"},{"$f":"SHALADARPAN!K735","v":1629},{"$f":"SHALADARPAN!E735","v":"POOJA MAROTHIYA"},{"$f":"SHALADARPAN!G735","v":"Kailash"}]
[{"$nulls":22},{"$f":"SHALADARPAN!A736","v":12},{"$f":"SHALADARPAN!B736","v":"A"},{"$f":"SHALADARPAN!K736","v":1630},{"$f":"SHALADARPAN!E736","v":"POOJA NATH"},{"$f":"SHALADARPAN!G736","v":"Kailash"}]
[{"$nulls":22},{"$f":"SHALADARPAN!A737","v":12},{"$f":"SHALADARPAN!B737","v":"A"},{"$f":"SHALADARPAN!K737","v":1631},{"$f":"SHALADARPAN!E737","v":"Priyanka Tak"},{"$f":"SHALADARPAN!G737","v":"Kailash"}]
[{"$nulls":22},{"$f":"SHALADARPAN!A738","v":12},{"$f":"SHALADARPAN!B738","v":"A"},{"$f":"SHALADARPAN!K738","v":1633},{"$f":"SHALADARPAN!E738","v":"Rahul Raidas"},{"$f":"SHALADARPAN!G738","v":"Kailash"}]
[{"$nulls":22},{"$f":"SHALADARPAN!A739","v":12},{"$f":"SHALADARPAN!B739","v":"A"},{"$f":"SHALADARPAN!K739","v":1634},{"$f":"SHALADARPAN!E739","v":"RAHUL SAINI"},{"$f":"SHALADARPAN!G739","v":"Kailash"}]
[{"$nulls":22},{"$f":"SHALADARPAN!A740","v":12},{"$f":"SHALADARPAN!B740","v":"A"},{"$f":"SHALADARPAN!K740","v":1635},{"$f":"SHALADARPAN!E740","v":"RAJENDRA MAROTHIYA"},{"$f":"SHALADARPAN!G740","v":"Kailash"}]
[{"$nulls":22},{"$f":"SHALADARPAN!A741","v":12},{"$f":"SHALADARPAN!B741","v":"A"},{"$f":"SHALADARPAN!K741","v":1636},{"$f":"SHALADARPAN!E741","v":"RAKESH KACHCHHAVA"},{"$f":"SHALADARPAN!G741","v":"Kailash"}]
[{"$nulls":22},{"$f":"SHALADARPAN!A742","v":12},{"$f":"SHALADARPAN!B742","v":"A"},{"$f":"SHALADARPAN!K742","v":1637},{"$f":"SHALADARPAN!E742","v":"RAVI"},{"$f":"SHALADARPAN!G742","v":"Kailash"}]
[{"$nulls":22},{"$f":"SHALADARPAN!A743","v":12},{"$f":"SHALADARPAN!B743","v":"A"},{"$f":"SHALADARPAN!K743","v":1638},{"$f":"SHALADARPAN!E743","v":"RUBINA"},{"$f":"SHALADARPAN!G743","v":"Kailash"}]
[{"$nulls":22},{"$f":"SHALADARPAN!A744","v":12},{"$f":"SHALADARPAN!B744","v":"A"},{"$f":"SHALADARPAN!K744","v":1640},{"$f":"SHALADARPAN!E744","v":"SAMPAT LAL"},{"$f":"SHALADARPAN!G744","v":"Kailash"}]
[{"$nulls":22},{"$f":"SHALADARPAN!A745","v":12},{"$f":"SHALADARPAN!B745","v":"A"},{"$f":"SHALADARPAN!K745","v":1641},{"$f":"SHALADARPAN!E745","v":"SAPNA MEGHWAL"},{"$f":"SHALADARPAN!G745","v":"Kailash"}]
[{"$nulls":22},{"$f":"SHALADARPAN!A746","v":12},{"$f":"SHALADARPAN!B746","v":"A"},{"$f":"SHALADARPAN!K746","v":1642},{"$f":"SHALADARPAN!E746","v":"SARLA SAINI"},{"$f":"SHALADARPAN!G746","v":"Kailash"}]
[{"$nulls":22},{"$f":"SHALADARPAN!A747","v":12},{"$f":"SHALADARPAN!B747","v":"A"},{"$f":"SHALADARPAN!K747","v":1643},{"$f":"SHALADARPAN!E747","v":"SEEMA TAMBOLI"},{"$f":"SHALADARPAN!G747","v":"Kailash"}]
[{"$nulls":22},{"$f":"SHALADARPAN!A748","v":12},{"$f":"SHALADARPAN!B748","v":"A"},{"$f":"SHALADARPAN!K748","v":1644},{"$f":"SHALADARPAN!E748","v":"SHAMEENA BANO"},{"$f":"SHALADARPAN!G748","v":"Kailash"}]
[{"$nulls":22},{"$f":"SHALADARPAN!A749","v":12},{"$f":"SHALADARPAN!B749","v":"A"},{"$f":"SHALADARPAN!K749","v":1645},{"$f":"SHALADARPAN!E749","v":"Shivraj Bhati"},{"$f":"SHALADARPAN!G749","v":"Kailash"}]
[{"$nulls":22},{"$f":"SHALADARPAN!A750","v":12},{"$f":"SHALADARPAN!B750","v":"A"},{"$f":"SHALADARPAN!K750","v":1646},{"$f":"SHALADARPAN!E750","v":"SUMAN DEVI"},{"$f":"SHALADARPAN!G750","v":"Kailash"}]
[{"$nulls":22},{"$f":"SHALADARPAN!A751","v":12},{"$f":"SHALADARPAN!B751","v":"A"},{"$f":"SHALADARPAN!K751","v":1648},{"$f":"SHALADARPAN!E751","v":"SUMAN NATH"},{"$f":"SHALADARPAN!G751","v":"Kailash"}]
[{"$nulls":22},{"$f":"SHALADARPAN!A752","v":12},{"$f":"SHALADARPAN!B752","v":"A"},{"$f":"SHALADARPAN!K752","v":1650},{"$f":"SHALADARPAN!E752","v":"SUNITA DEVI"},{"$f":"SHALADARPAN!G752","v":"Kailash"}]
[{"$nulls":22},{"$f":"SHALADARPAN!A753","v":12},{"$f":"SHALADARPAN!B753","v":"A"},{"$f":"SHALADARPAN!K753","v":1651},{"$f":"SHALADARPAN!E753","v":"SURENDRA NATH"},{"$f":"SHALADARPAN!G753","v":"Kailash"}]
[{"$nulls":22},{"$f":"SHALADARPAN!A754","v":12},{"$f":"SHALADARPAN!B754","v":"A"},{"$f":"SHALADARPAN!K754","v":1652},{"$f":"SHALADARPAN!E754","v":"TEENA"},{"$f":"SHALADARPAN!G754","v":"Kailash"}]
[{"$nulls":22},{"$f":"SHALADARPAN!A755","v":12},{"$f":"SHALADARPAN!B755","v":"A"},{"$f":"SHALADARPAN!K755","v":1653},{"$f":"SHALADARPAN!E755","v":"Udayprakash Gaur"},{"$f":"SHALADARPAN!G755","v":"Kailash"}]
[{"$nulls":22},{"$f":"SHALADARPAN!A756","v":12},{"$f":"SHALADARPAN!B756","v":"A"},{"$f":"SHALADARPAN!K756","v":1654},{"$f":"SHALADARPAN!E756","v":"VIKASH"},{"$f":"SHALADARPAN!G756","v":"Kailash"}]
[{"$nulls":22},{"$f":"SHALADARPAN!A757","v":12},{"$f":"SHALADARPAN!B757","v":"A"},{"$f":"SHALADARPAN!K757","v":1655},{"$f":"SHALADARPAN!E757","v":"YASHODA KUMAWAT"},{"$f":"SHALADARPAN!G757","v":"Kailash"}]
[{"$nulls":22},{"$f":"SHALADARPAN!A758","v":12},{"$f":"SHALADARPAN!B758","v":"A"},{"$f":"SHALADARPAN!K758","v":1656},{"$f":"SHALADARPAN!E758","v":"YOGENDRA SAINI"},{"$f":"SHALADARPAN!G758","v":"Kailash"}]
[{"$nulls":22},{"$f":"SHALADARPAN!A759","v":12},{"$f":"SHALADARPAN!B759","v":"A"},{"$f":"SHALADARPAN!K759","v":1657},{"$f":"SHALADARPAN!E759","v":"ZAKIR HUSAIN"},{"$f":"SHALADARPAN!G759","v":"Kailash"}]
[{"$nulls":22},{"$f":"SHALADARPAN!A760","v":12},{"$f":"SHALADARPAN!B760","v":"B"},{"$f":"SHALADARPAN!K760","v":1701},{"$f":"SHALADARPAN!E760","v":"AKRAM"},{"$f":"SHALADARPAN!G760","v":"Kailash"}]
[{"$nulls":22},{"$f":"SHALADARPAN!A761","v":12},{"$f":"SHALADARPAN!B761","v":"B"},{"$f":"SHALADARPAN!K761","v":1702},{"$f":"SHALADARPAN!E761","v":"ANURADHA"},{"$f":"SHALADARPAN!G761","v":"Kailash"}]
[{"$nulls":22},{"$f":"SHALADARPAN!A762","v":12},{"$f":"SHALADARPAN!B762","v":"B"},{"$f":"SHALADARPAN!K762","v":1703},{"$f":"SHALADARPAN!E762","v":"AVINASH"},{"$f":"SHALADARPAN!G762","v":"Kailash"}]
[{"$nulls":22},{"$f":"SHALADARPAN!A763","v":12},{"$f":"SHALADARPAN!B763","v":"B"},{"$f":"SHALADARPAN!K763","v":1704},{"$f":"SHALADARPAN!E763","v":"BASANTI"},{"$f":"SHALADARPAN!G763","v":"Kailash"}]
[{"$nulls":22},{"$f":"SHALADARPAN!A764","v":12},{"$f":"SHALADARPAN!B764","v":"B"},{"$f":"SHALADARPAN!K764","v":1705},{"$f":"SHALADARPAN!E764","v":"BRIJPAL SINGH"},{"$f":"SHALADARPAN!G764","v":"Kailash"}]
[{"$nulls":22},{"$f":"SHALADARPAN!A765","v":12},{"$f":"SHALADARPAN!B765","v":"B"},{"$f":"SHALADARPAN!K765","v":1706},{"$f":"SHALADARPAN!E765","v":"Govind Puri"},{"$f":"SHALADARPAN!G765","v":"Kailash"}]
[{"$nulls":22},{"$f":"SHALADARPAN!A766","v":12},{"$f":"SHALADARPAN!B766","v":"B"},{"$f":"SHALADARPAN!K766","v":1707},{"$f":"SHALADARPAN!E766","v":"JITENDRA PURI"},{"$f":"SHALADARPAN!G766","v":"Kailash"}]
[{"$nulls":22},{"$f":"SHALADARPAN!A767","v":12},{"$f":"SHALADARPAN!B767","v":"B"},{"$f":"SHALADARPAN!K767","v":1708},{"$f":"SHALADARPAN!E767","v":"Kamal Meghwal"},{"$f":"SHALADARPAN!G767","v":"Kailash"}]
[{"$nulls":22},{"$f":"SHALADARPAN!A768","v":12},{"$f":"SHALADARPAN!B768","v":"B"},{"$f":"SHALADARPAN!K768","v":1709},{"$f":"SHALADARPAN!E768","v":"KAMLESH KUMAWAT"},{"$f":"SHALADARPAN!G768","v":"Kailash"}]
[{"$nulls":22},{"$f":"SHALADARPAN!A769","v":12},{"$f":"SHALADARPAN!B769","v":"B"},{"$f":"SHALADARPAN!K769","v":1710},{"$f":"SHALADARPAN!E769","v":"KSHITIJ VAISHNAV"},{"$f":"SHALADARPAN!G769","v":"Kailash"}]
[{"$nulls":22},{"$f":"SHALADARPAN!A770","v":12},{"$f":"SHALADARPAN!B770","v":"B"},{"$f":"SHALADARPAN!K770","v":1711},{"$f":"SHALADARPAN!E770","v":"MANISH ACHARYA"},{"$f":"SHALADARPAN!G770","v":"Kailash"}]
[{"$nulls":22},{"$f":"SHALADARPAN!A771","v":12},{"$f":"SHALADARPAN!B771","v":"B"},{"$f":"SHALADARPAN!K771","v":1712},{"$f":"SHALADARPAN!E771","v":"MILAN VAISHNAV"},{"$f":"SHALADARPAN!G771","v":"Kailash"}]
[{"$nulls":22},{"$f":"SHALADARPAN!A772","v":12},{"$f":"SHALADARPAN!B772","v":"B"},{"$f":"SHALADARPAN!K772","v":1713},{"$f":"SHALADARPAN!E772","v":"MUSKAN BANU"},{"$f":"SHALADARPAN!G772","v":"Kailash"}]
[{"$nulls":22},{"$f":"SHALADARPAN!A773","v":12},{"$f":"SHALADARPAN!B773","v":"B"},{"$f":"SHALADARPAN!K773","v":1714},{"$f":"SHALADARPAN!E773","v":"NARENDRA KUMAR"},{"$f":"SHALADARPAN!G773","v":"Kailash"}]
[{"$nulls":22},{"$f":"SHALADARPAN!A774","v":12},{"$f":"SHALADARPAN!B774","v":"B"},{"$f":"SHALADARPAN!K774","v":1715},{"$f":"SHALADARPAN!E774","v":"POOJA MEGHWAL"},{"$f":"SHALADARPAN!G774","v":"Kailash"}]
[{"$nulls":22},{"$f":"SHALADARPAN!A775","v":12},{"$f":"SHALADARPAN!B775","v":"B"},{"$f":"SHALADARPAN!K775","v":1716},{"$f":"SHALADARPAN!E775","v":"PRADEEP SINGH"},{"$f":"SHALADARPAN!G775","v":"Kailash"}]
[{"$nulls":22},{"$f":"SHALADARPAN!A776","v":12},{"$f":"SHALADARPAN!B776","v":"B"},{"$f":"SHALADARPAN!K776","v":1717},{"$f":"SHALADARPAN!E776","v":"RAHUL SAINI"},{"$f":"SHALADARPAN!G776","v":"Kailash"}]
[{"$nulls":22},{"$f":"SHALADARPAN!A777","v":12},{"$f":"SHALADARPAN!B777","v":"B"},{"$f":"SHALADARPAN!K777","v":1718},{"$f":"SHALADARPAN!E777","v":"RAHUL SINGH"},{"$f":"SHALADARPAN!G777","v":"Kailash"}]
[{"$nulls":22},{"$f":"SHALADARPAN!A778","v":12},{"$f":"SHALADARPAN!B778","v":"B"},{"$f":"SHALADARPAN!K778","v":1719},{"$f":"SHALADARPAN!E778","v":"RAM RATAN DUDI"},{"$f":"SHALADARPAN!G778","v":"Kailash"}]
[{"$nulls":22},{"$f":"SHALADARPAN!A779","v":12},{"$f":"SHALADARPAN!B779","v":"B"},{"$f":"SHALADARPAN!K779","v":1720},{"$f":"SHALADARPAN!E779","v":"Ravindra Barada"},{"$f":"SHALADARPAN!G779","v":"Kailash"}]
[{"$nulls":22},{"$f":"SHALADARPAN!A780","v":12},{"$f":"SHALADARPAN!B780","v":"B"},{"$f":"SHALADARPAN!K780","v":1721},{"$f":"SHALADARPAN!E780","v":"RIZWANA"},{"$f":"SHALADARPAN!G780","v":"Kailash"}]
[{"$nulls":22},{"$f":"SHALADARPAN!A781","v":12},{"$f":"SHALADARPAN!B781","v":"B"},{"$f":"SHALADARPAN!K781","v":1722},{"$f":"SHALADARPAN!E781","v":"SONIYA RAIDAS"},{"$f":"SHALADARPAN!G781","v":"Kailash"}]
[{"$nulls":22},{"$f":"SHALADARPAN!A782","v":0},{"$f":"SHALADARPAN!B782","v":0},{"$f":"SHALADARPAN!K782","v":0},{"$f":"SHALADARPAN!E782","v":0},{"$f":"SHALADARPAN!G782","v":0}]
[{"$nulls":22},{"$f":"SHALADARPAN!A783","v":0},{"$f":"SHALADARPAN!B783","v":0},{"$f":"SHALADARPAN!K783","v":0},{"$f":"SHALADARPAN!E783","v":0},{"$f":"SHALADARPAN!G783","v":0}]
[{"$nulls":22},{"$f":"SHALADARPAN!A784","v":0},{"$f":"SHALADARPAN!B784","v":0},{"$f":"SHALADARPAN!K784","v":0},{"$f":"SHALADARPAN!E784","v":0},{"$f":"SHALADARPAN!G784","v":0}]
[{"$nulls":22},{"$f":"SHALADARPAN!A785","v":0},{"$f":"SHALADARPAN!B785","v":0},{"$f":"SHALADARPAN!K785","v":0},{"$f":"SHALADARPAN!E785","v":0},{"$f":"SHALADARPAN!G785","v":0}]
[{"$nulls":22},{"$f":"SHALADARPAN!A786","v":0},{"$f":"SHALADARPAN!B786","v":0},{"$f":"SHALADARPAN!K786","v":0},{"$f":"SHALADARPAN!E786","v":0},{"$f":"SHALADARPAN!G786","v":0}]
[{"$nulls":22},{"$f":"SHALADARPAN!A787","v":0},{"$f":"SHALADARPAN!B787","v":0},{"$f":"SHALADARPAN!K787","v":0},{"$f":"SHALADARPAN!E787","v":0},{"$f":"SHALADARPAN!G787","v":0}]
[{"$nulls":22},{"$f":"SHALADARPAN!A788","v":0},{"$f":"SHALADARPAN!B788","v":0},{"$f":"SHALADARPAN!K788","v":0},{"$f":"SHALADARPAN!E788","v":0},{"$f":"SHALADARPAN!G788","v":0}]
[{"$nulls":22},{"$f":"SHALADARPAN!A789","v":0},{"$f":"SHALADARPAN!B789","v":0},{"$f":"SHALADARPAN!K789","v":0},{"$f":"SHALADARPAN!E789","v":0},{"$f":"SHALADARPAN!G789","v":0}]
[{"$nulls":22},{"$f":"SHALADARPAN!A790","v":0},{"$f":"SHALADARPAN!B790","v":0},{"$f":"SHALADARPAN!K790","v":0},{"$f":"SHALADARPAN!E790","v":0},{"$f":"SHALADARPAN!G790","v":0}]
[{"$nulls":22},{"$f":"SHALADARPAN!A791","v":0},{"$f":"SHALADARPAN!B791","v":0},{"$f":"SHALADARPAN!K791","v":0},{"$f":"SHALADARPAN!E791","v":0},{"$f":"SHALADARPAN!G791","v":0}]
[{"$nulls":22},{"$f":"SHALADARPAN!A792","v":0},{"$f":"SHALADARPAN!B792","v":0},{"$f":"SHALADARPAN!K792","v":0},{"$f":"SHALADARPAN!E792","v":0},{"$f":"SHALADARPAN!G792","v":0}]
[{"$nulls":22},{"$f":"SHALADARPAN!A793","v":0},{"$f":"SHALADARPAN!B793","v":0},{"$f":"SHALADARPAN!K793","v":0},{"$f":"SHALADARPAN!E793","v":0},{"$f":"SHALADARPAN!G793","v":0}]
[{"$nulls":22},{"$f":"SHALADARPAN!A794","v":0},{"$f":"SHALADARPAN!B794","v":0},{"$f":"SHALADARPAN!K794","v":0},{"$f":"SHALADARPAN!E794","v":0},{"$f":"SHALADARPAN!G794","v":0}]
[{"$nulls":22},{"$f":"SHALADARPAN!A795","v":0},{"$f":"SHALADARPAN!B795","v":0},{"$f":"SHALADARPAN!K795","v":0},{"$f":"SHALADARPAN!E795","v":0},{"$f":"SHALADARPAN!G795","v":0}]
[{"$nulls":22},{"$f":"SHALADARPAN!A796","v":0},{"$f":"SHALADARPAN!B796","v":0},{"$f":"SHALADARPAN!K796","v":0},{"$f":"SHALADARPAN!E796","v":0},{"$f":"SHALADARPAN!G796","v":0}]
[{"$nulls":22},{"$f":"SHALADARPAN!A797","v":0},{"$f":"SHALADARPAN!B797","v":0},{"$f":"SHALADARPAN!K797","v":0},{"$f":"SHALADARPAN!E797","v":0},{"$f":"SHALADARPAN!G797","v":0}]
[{"$nulls":22},{"$f":"SHALADARPAN!A798","v":0},{"$f":"SHALADARPAN!B798","v":0},{"$f":"SHALADARPAN!K798","v":0},{"$f":"SHALADARPAN!E798","v":0},{"$f":"SHALADARPAN!G798","v":0}]
[{"$nulls":22},{"$f":"SHALADARPAN!A799","v":0},{"$f":"SHALADARPAN!B799","v":0},{"$f":"SHALADARPAN!K799","v":0},{"$f":"SHALADARPAN!E799","v":0},{"$f":"SHALADARPAN!G799","v":0}]
[{"$nulls":22},{"$f":"SHALADARPAN!A800","v":0},{"$f":"SHALADARPAN!B800","v":0},{"$f":"SHALADARPAN!K800","v":0},{"$f":"SHALADARPAN!E800","v":0},{"$f":"SHALADARPAN!G800","v":0}]
[{"$nulls":22},{"$f":"SHALADARPAN!A801","v":0},{"$f":"SHALADARPAN!B801","v":0},{"$f":"SHALADARPAN!K801","v":0},{"$f":"SHALADARPAN!E801","v":0},{"$f":"SHALADARPAN!G801","v":0}]
[{"$nulls":22},{"$f":"SHALADARPAN!A802","v":0},{"$f":"SHALADARPAN!B802","v":0},{"$f":"SHALADARPAN!K802","v":0},{"$f":"SHALADARPAN!E802","v":0},{"$f":"SHALADARPAN!G802","v":0}]
[{"$nulls":22},{"$f":"SHALADARPAN!A803","v":0},{"$f":"SHALADARPAN!B803","v":0},{"$f":"SHALADARPAN!K803","v":0},{"$f":"SHALADARPAN!E803","v":0},{"$f":"SHALADARPAN!G803","v":0}]
[{"$nulls":22},{"$f":"SHALADARPAN!A804","v":0},{"$f":"SHALADARPAN!B804","v":0},{"$f":"SHALADARPAN!K804","v":0},{"$f":"SHALADARPAN!E804","v":0},{"$f":"SHALADARPAN!G804","v":0}]
[{"$nulls":22},{"$f":"SHALADARPAN!A805","v":0},{"$f":"SHALADARPAN!B805","v":0},{"$f":"SHALADARPAN!K805","v":0},{"$f":"SHALADARPAN!E805","v":0},{"$f":"SHALADARPAN!G805","v":0}]
[{"$nulls":22},{"$f":"SHALADARPAN!A806","v":0},{"$f":"SHALADARPAN!B806","v":0},{"$f":"SHALADARPAN!K806","v":0},{"$f":"SHALADARPAN!E806","v":0},{"$f":"SHALADARPAN!G806","v":0}]
[{"$nulls":22},{"$f":"SHALADARPAN!A807","v":0},{"$f":"SHALADARPAN!B807","v":0},{"$f":"SHALADARPAN!K807","v":0},{"$f":"SHALADARPAN!E807","v":0},{"$f":"SHALADARPAN!G807","v":0}]
[{"$nulls":22},{"$f":"SHALADARPAN!A808","v":0},{"$f":"SHALADARPAN!B808","v":0},{"$f":"SHALADARPAN!K808","v":0},{"$f":"SHALADARPAN!E808","v":0},{"$f":"SHALADARPAN!G808","v":0}]
[{"$nulls":22},{"$f":"SHALADARPAN!A809","v":0},{"$f":"SHALADARPAN!B809","v":0},{"$f":"SHALADARPAN!K809","v":0},{"$f":"SHALADARPAN!E809","v":0},{"$f":"SHALADARPAN!G809","v":0}]
[{"$nulls":22},{"$f":"SHALADARPAN!A810","v":0},{"$f":"SHALADARPAN!B810","v":0},{"$f":"SHALADARPAN!K810","v":0},{"$f":"SHALADARPAN!E810","v":0},{"$f":"SHALADARPAN!G810","v":0}]
[{"$nulls":22},{"$f":"SHALADARPAN!A811","v":0},{"$f":"SHALADARPAN!B811","v":0},{"$f":"SHALADARPAN!K811","v":0},{"$f":"SHALADARPAN!E811","v":0},{"$f":"SHALADARPAN!G811","v":0}]
[{"$nulls":22},{"$f":"SHALADARPAN!A812","v":0},{"$f":"SHALADARPAN!B812","v":0},{"$f":"SHALADARPAN!K812","v":0},{"$f":"SHALADARPAN!E812","v":0},{"$f":"SHALADARPAN!G812","v":0}]
[{"$nulls":22},{"$f":"SHALADARPAN!A813","v":0},{"$f":"SHALADARPAN!B813","v":0},{"$f":"SHALADARPAN!K813","v":0},{"$f":"SHALADARPAN!E813","v":0},{"$f":"SHALADARPAN!G813","v":0}]
[{"$nulls":22},{"$f":"SHALADARPAN!A814","v":0},{"$f":"SHALADARPAN!B814","v":0},{"$f":"SHALADARPAN!K814","v":0},{"$f":"SHALADARPAN!E814","v":0},{"$f":"SHALADARPAN!G814","v":0}]
[{"$nulls":22},{"$f":"SHALADARPAN!A815","v":0},{"$f":"SHALADARPAN!B815","v":0},{"$f":"SHALADARPAN!K815","v":0},{"$f":"SHALADARPAN!E815","v":0},{"$f":"SHALADARPAN!G815","v":0}]
[{"$nulls":22},{"$f":"SHALADARPAN!A816","v":0},{"$f":"SHALADARPAN!B816","v":0},{"$f":"SHALADARPAN!K816","v":0},{"$f":"SHALADARPAN!E816","v":0},{"$f":"SHALADARPAN!G816","v":0}]
[{"$nulls":22},{"$f":"SHALADARPAN!A817","v":0},{"$f":"SHALADARPAN!B817","v":0},{"$f":"SHALADARPAN!K817","v":0},{"$f":"SHALADARPAN!E817","v":0},{"$f":"SHALADARPAN!G817","v":0}]
[{"$nulls":22},{"$f":"SHALADARPAN!A818","v":0},{"$f":"SHALADARPAN!B818","v":0},{"$f":"SHALADARPAN!K818","v":0},{"$f":"SHALADARPAN!E818","v":0},{"$f":"SHALADARPAN!G818","v":0}]
[{"$nulls":22},{"$f":"SHALADARPAN!A819","v":0},{"$f":"SHALADARPAN!B819","v":0},{"$f":"SHALADARPAN!K819","v":0},{"$f":"SHALADARPAN!E819","v":0},{"$f":"SHALADARPAN!G819","v":0}]
[{"$nulls":22},{"$f":"SHALADARPAN!A820","v":0},{"$f":"SHALADARPAN!B820","v":0},{"$f":"SHALADARPAN!K820","v":0},{"$f":"SHALADARPAN!E820","v":0},{"$f":"SHALADARPAN!G820","v":0}]
[{"$nulls":22},{"$f":"SHALADARPAN!A821","v":0},{"$f":"SHALADARPAN!B821","v":0},{"$f":"SHALADARPAN!K821","v":0},{"$f":"SHALADARPAN!E821","v":0},{"$f":"SHALADARPAN!G821","v":0}]
[{"$nulls":22},{"$f":"SHALADARPAN!A822","v":0},{"$f":"SHALADARPAN!B822","v":0},{"$f":"SHALADARPAN!K822","v":0},{"$f":"SHALADARPAN!E822","v":0},{"$f":"SHALADARPAN!G822","v":0}]
[{"$nulls":22},{"$f":"SHALADARPAN!A823","v":0},{"$f":"SHALADARPAN!B823","v":0},{"$f":"SHALADARPAN!K823","v":0},{"$f":"SHALADARPAN!E823","v":0},{"$f":"SHALADARPAN!G823","v":0}]
[{"$nulls":22},{"$f":"SHALADARPAN!A824","v":0},{"$f":"SHALADARPAN!B824","v":0},{"$f":"SHALADARPAN!K824","v":0},{"$f":"SHALADARPAN!E824","v":0},{"$f":"SHALADARPAN!G824","v":0}]
[{"$nulls":22},{"$f":"SHALADARPAN!A825","v":0},{"$f":"SHALADARPAN!B825","v":0},{"$f":"SHALADARPAN!K825","v":0},{"$f":"SHALADARPAN!E825","v":0},{"$f":"SHALADARPAN!G825","v":0}]
[{"$nulls":22},{"$f":"SHALADARPAN!A826","v":0},{"$f":"SHALADARPAN!B826","v":0},{"$f":"SHALADARPAN!K826","v":0},{"$f":"SHALADARPAN!E826","v":0},{"$f":"SHALADARPAN!G826","v":0}]
[{"$nulls":22},{"$f":"SHALADARPAN!A827","v":0},{"$f":"SHALADARPAN!B827","v":0},{"$f":"SHALADARPAN!K827","v":0},{"$f":"SHALADARPAN!E827","v":0},{"$f":"SHALADARPAN!G827","v":0}]
[{"$nulls":22},{"$f":"SHALADARPAN!A828","v":0},{"$f":"SHALADARPAN!B828","v":0},{"$f":"SHALADARPAN!K828","v":0},{"$f":"SHALADARPAN!E828","v":0},{"$f":"SHALADARPAN!G828","v":0}]
[{"$nulls":22},{"$f":"SHALADARPAN!A829","v":0},{"$f":"SHALADARPAN!B829","v":0},{"$f":"SHALADARPAN!K829","v":0},{"$f":"SHALADARPAN!E829","v":0},{"$f":"SHALADARPAN!G829","v":0}]
[{"$nulls":22},{"$f":"SHALADARPAN!A830","v":0},{"$f":"SHALADARPAN!B830","v":0},{"$f":"SHALADARPAN!K830","v":0},{"$f":"SHALADARPAN!E830","v":0},{"$f":"SHALADARPAN!G830","v":0}]
[{"$nulls":22},{"$f":"SHALADARPAN!A831","v":0},{"$f":"SHALADARPAN!B831","v":0},{"$f":"SHALADARPAN!K831","v":0},{"$f":"SHALADARPAN!E831","v":0},{"$f":"SHALADARPAN!G831","v":0}]
[{"$nulls":22},{"$f":"SHALADARPAN!A832","v":0},{"$f":"SHALADARPAN!B832","v":0},{"$f":"SHALADARPAN!K832","v":0},{"$f":"SHALADARPAN!E832","v":0},{"$f":"SHALADARPAN!G832","v":0}]
[{"$nulls":22},{"$f":"SHALADARPAN!A833","v":0},{"$f":"SHALADARPAN!B833","v":0},{"$f":"SHALADARPAN!K833","v":0},{"$f":"SHALADARPAN!E833","v":0},{"$f":"SHALADARPAN!G833","v":0}]
[{"$nulls":22},{"$f":"SHALADARPAN!A834","v":0},{"$f":"SHALADARPAN!B834","v":0},{"$f":"SHALADARPAN!K834","v":0},{"$f":"SHALADARPAN!E834","v":0},{"$f":"SHALADARPAN!G834","v":0}]
[{"$nulls":22},{"$f":"SHALADARPAN!A835","v":0},{"$f":"SHALADARPAN!B835","v":0},{"$f":"SHALADARPAN!K835","v":0},{"$f":"SHALADARPAN!E835","v":0},{"$f":"SHALADARPAN!G835","v":0}]
[{"$nulls":22},{"$f":"SHALADARPAN!A836","v":0},{"$f":"SHALADARPAN!B836","v":0},{"$f":"SHALADARPAN!K836","v":0},{"$f":"SHALADARPAN!E836","v":0},{"$f":"SHALADARPAN!G836","v":0}]
[{"$nulls":22},{"$f":"SHALADARPAN!A837","v":0},{"$f":"SHALADARPAN!B837","v":0},{"$f":"SHALADARPAN!K837","v":0},{"$f":"SHALADARPAN!E837","v":0},{"$f":"SHALADARPAN!G837","v":0}]
[{"$nulls":22},{"$f":"SHALADARPAN!A838","v":0},{"$f":"SHALADARPAN!B838","v":0},{"$f":"SHALADARPAN!K838","v":0},{"$f":"SHALADARPAN!E838","v":0},{"$f":"SHALADARPAN!G838","v":0}]
[{"$nulls":22},{"$f":"SHALADARPAN!A839","v":0},{"$f":"SHALADARPAN!B839","v":0},{"$f":"SHALADARPAN!K839","v":0},{"$f":"SHALADARPAN!E839","v":0},{"$f":"SHALADARPAN!G839","v":0}]
[{"$nulls":22},{"$f":"SHALADARPAN!A840","v":0},{"$f":"SHALADARPAN!B840","v":0},{"$f":"SHALADARPAN!K840","v":0},{"$f":"SHALADARPAN!E840","v":0},{"$f":"SHALADARPAN!G840","v":0}]
[{"$nulls":22},{"$f":"SHALADARPAN!A841","v":0},{"$f":"SHALADARPAN!B841","v":0},{"$f":"SHALADARPAN!K841","v":0},{"$f":"SHALADARPAN!E841","v":0},{"$f":"SHALADARPAN!G841","v":0}]
[{"$nulls":22},{"$f":"SHALADARPAN!A842","v":0},{"$f":"SHALADARPAN!B842","v":0},{"$f":"SHALADARPAN!K842","v":0},{"$f":"SHALADARPAN!E842","v":0},{"$f":"SHALADARPAN!G842","v":0}]
[{"$nulls":22},{"$f":"SHALADARPAN!A843","v":0},{"$f":"SHALADARPAN!B843","v":0},{"$f":"SHALADARPAN!K843","v":0},{"$f":"SHALADARPAN!E843","v":0},{"$f":"SHALADARPAN!G843","v":0}]
[{"$nulls":22},{"$f":"SHALADARPAN!A844","v":0},{"$f":"SHALADARPAN!B844","v":0},{"$f":"SHALADARPAN!K844","v":0},{"$f":"SHALADARPAN!E844","v":0},{"$f":"SHALADARPAN!G844","v":0}]
[{"$nulls":22},{"$f":"SHALADARPAN!A845","v":0},{"$f":"SHALADARPAN!B845","v":0},{"$f":"SHALADARPAN!K845","v":0},{"$f":"SHALADARPAN!E845","v":0},{"$f":"SHALADARPAN!G845","v":0}]
[{"$nulls":22},{"$f":"SHALADARPAN!A846","v":0},{"$f":"SHALADARPAN!B846","v":0},{"$f":"SHALADARPAN!K846","v":0},{"$f":"SHALADARPAN!E846","v":0},{"$f":"SHALADARPAN!G846","v":0}]
[{"$nulls":22},{"$f":"SHALADARPAN!A847","v":0},{"$f":"SHALADARPAN!B847","v":0},{"$f":"SHALADARPAN!K847","v":0},{"$f":"SHALADARPAN!E847","v":0},{"$f":"SHALADARPAN!G847","v":0}]
[{"$nulls":22},{"$f":"SHALADARPAN!A848","v":0},{"$f":"SHALADARPAN!B848","v":0},{"$f":"SHALADARPAN!K848","v":0},{"$f":"SHALADARPAN!E848","v":0},{"$f":"SHALADARPAN!G848","v":0}]
[{"$nulls":22},{"$f":"SHALADARPAN!A849","v":0},{"$f":"SHALADARPAN!B849","v":0},{"$f":"SHALADARPAN!K849","v":0},{"$f":"SHALADARPAN!E849","v":0},{"$f":"SHALADARPAN!G849","v":0}]
[{"$nulls":22},{"$f":"SHALADARPAN!A850","v":0},{"$f":"SHALADARPAN!B850","v":0},{"$f":"SHALADARPAN!K850","v":0},{"$f":"SHALADARPAN!E850","v":0},{"$f":"SHALADARPAN!G850","v":0}]
[{"$nulls":22},{"$f":"SHALADARPAN!A851","v":0},{"$f":"SHALADARPAN!B851","v":0},{"$f":"SHALADARPAN!K851","v":0},{"$f":"SHALADARPAN!E851","v":0},{"$f":"SHALADARPAN!G851","v":0}]
[{"$nulls":22},{"$f":"SHALADARPAN!A852","v":0},{"$f":"SHALADARPAN!B852","v":0},{"$f":"SHALADARPAN!K852","v":0},{"$f":"SHALADARPAN!E852","v":0},{"$f":"SHALADARPAN!G852","v":0}]
[{"$nulls":22},{"$f":"SHALADARPAN!A853","v":0},{"$f":"SHALADARPAN!B853","v":0},{"$f":"SHALADARPAN!K853","v":0},{"$f":"SHALADARPAN!E853","v":0},{"$f":"SHALADARPAN!G853","v":0}]
[{"$nulls":22},{"$f":"SHALADARPAN!A854","v":0},{"$f":"SHALADARPAN!B854","v":0},{"$f":"SHALADARPAN!K854","v":0},{"$f":"SHALADARPAN!E854","v":0},{"$f":"SHALADARPAN!G854","v":0}]
[{"$nulls":22},{"$f":"SHALADARPAN!A855","v":0},{"$f":"SHALADARPAN!B855","v":0},{"$f":"SHALADARPAN!K855","v":0},{"$f":"SHALADARPAN!E855","v":0},{"$f":"SHALADARPAN!G855","v":0}]
[{"$nulls":22},{"$f":"SHALADARPAN!A856","v":0},{"$f":"SHALADARPAN!B856","v":0},{"$f":"SHALADARPAN!K856","v":0},{"$f":"SHALADARPAN!E856","v":0},{"$f":"SHALADARPAN!G856","v":0}]
[{"$nulls":22},{"$f":"SHALADARPAN!A857","v":0},{"$f":"SHALADARPAN!B857","v":0},{"$f":"SHALADARPAN!K857","v":0},{"$f":"SHALADARPAN!E857","v":0},{"$f":"SHALADARPAN!G857","v":0}]
[{"$nulls":22},{"$f":"SHALADARPAN!A858","v":0},{"$f":"SHALADARPAN!B858","v":0},{"$f":"SHALADARPAN!K858","v":0},{"$f":"SHALADARPAN!E858","v":0},{"$f":"SHALADARPAN!G858","v":0}]
[{"$nulls":22},{"$f":"SHALADARPAN!A859","v":0},{"$f":"SHALADARPAN!B859","v":0},{"$f":"SHALADARPAN!K859","v":0},{"$f":"SHALADARPAN!E859","v":0},{"$f":"SHALADARPAN!G859","v":0}]
[{"$nulls":22},{"$f":"SHALADARPAN!A860","v":0},{"$f":"SHALADARPAN!B860","v":0},{"$f":"SHALADARPAN!K860","v":0},{"$f":"SHALADARPAN!E860","v":0},{"$f":"SHALADARPAN!G860","v":0}]
[{"$nulls":22},{"$f":"SHALADARPAN!A861","v":0},{"$f":"SHALADARPAN!B861","v":0},{"$f":"SHALADARPAN!K861","v":0},{"$f":"SHALADARPAN!E861","v":0},{"$f":"SHALADARPAN!G861","v":0}]
[{"$nulls":22},{"$f":"SHALADARPAN!A862","v":0},{"$f":"SHALADARPAN!B862","v":0},{"$f":"SHALADARPAN!K862","v":0},{"$f":"SHALADARPAN!E862","v":0},{"$f":"SHALADARPAN!G862","v":0}]
[{"$nulls":22},{"$f":"SHALADARPAN!A863","v":0},{"$f":"SHALADARPAN!B863","v":0},{"$f":"SHALADARPAN!K863","v":0},{"$f":"SHALADARPAN!E863","v":0},{"$f":"SHALADARPAN!G863","v":0}]
[{"$nulls":22},{"$f":"SHALADARPAN!A864","v":0},{"$f":"SHALADARPAN!B864","v":0},{"$f":"SHALADARPAN!K864","v":0},{"$f":"SHALADARPAN!E864","v":0},{"$f":"SHALADARPAN!G864","v":0}]
[{"$nulls":22},{"$f":"SHALADARPAN!A865","v":0},{"$f":"SHALADARPAN!B865","v":0},{"$f":"SHALADARPAN!K865","v":0},{"$f":"SHALADARPAN!E865","v":0},{"$f":"SHALADARPAN!G865","v":0}]
[{"$nulls":22},{"$f":"SHALADARPAN!A866","v":0},{"$f":"SHALADARPAN!B866","v":0},{"$f":"SHALADARPAN!K866","v":0},{"$f":"SHALADARPAN!E866","v":0},{"$f":"SHALADARPAN!G866","v":0}]
[{"$nulls":22},{"$f":"SHALADARPAN!A867","v":0},{"$f":"SHALADARPAN!B867","v":0},{"$f":"SHALADARPAN!K867","v":0},{"$f":"SHALADARPAN!E867","v":0},{"$f":"SHALADARPAN!G867","v":0}]
[{"$nulls":22},{"$f":"SHALADARPAN!A868","v":0},{"$f":"SHALADARPAN!B868","v":0},{"$f":"SHALADARPAN!K868","v":0},{"$f":"SHALADARPAN!E868","v":0},{"$f":"SHALADARPAN!G868","v":0}]
[{"$nulls":22},{"$f":"SHALADARPAN!A869","v":0},{"$f":"SHALADARPAN!B869","v":0},{"$f":"SHALADARPAN!K869","v":0},{"$f":"SHALADARPAN!E869","v":0},{"$f":"SHALADARPAN!G869","v":0}]
[{"$nulls":22},{"$f":"SHALADARPAN!A870","v":0},{"$f":"SHALADARPAN!B870","v":0},{"$f":"SHALADARPAN!K870","v":0},{"$f":"SHALADARPAN!E870","v":0},{"$f":"SHALADARPAN!G870","v":0}]
[{"$nulls":22},{"$f":"SHALADARPAN!A871","v":0},{"$f":"SHALADARPAN!B871","v":0},{"$f":"SHALADARPAN!K871","v":0},{"$f":"SHALADARPAN!E871","v":0},{"$f":"SHALADARPAN!G871","v":0}]
[{"$nulls":22},{"$f":"SHALADARPAN!A872","v":0},{"$f":"SHALADARPAN!B872","v":0},{"$f":"SHALADARPAN!K872","v":0},{"$f":"SHALADARPAN!E872","v":0},{"$f":"SHALADARPAN!G872","v":0}]
[{"$nulls":22},{"$f":"SHALADARPAN!A873","v":0},{"$f":"SHALADARPAN!B873","v":0},{"$f":"SHALADARPAN!K873","v":0},{"$f":"SHALADARPAN!E873","v":0},{"$f":"SHALADARPAN!G873","v":0}]
[{"$nulls":22},{"$f":"SHALADARPAN!A874","v":0},{"$f":"SHALADARPAN!B874","v":0},{"$f":"SHALADARPAN!K874","v":0},{"$f":"SHALADARPAN!E874","v":0},{"$f":"SHALADARPAN!G874","v":0}]
[{"$nulls":22},{"$f":"SHALADARPAN!A875","v":0},{"$f":"SHALADARPAN!B875","v":0},{"$f":"SHALADARPAN!K875","v":0},{"$f":"SHALADARPAN!E875","v":0},{"$f":"SHALADARPAN!G875","v":0}]
[{"$nulls":22},{"$f":"SHALADARPAN!A876","v":0},{"$f":"SHALADARPAN!B876","v":0},{"$f":"SHALADARPAN!K876","v":0},{"$f":"SHALADARPAN!E876","v":0},{"$f":"SHALADARPAN!G876","v":0}]
[{"$nulls":22},{"$f":"SHALADARPAN!A877","v":0},{"$f":"SHALADARPAN!B877","v":0},{"$f":"SHALADARPAN!K877","v":0},{"$f":"SHALADARPAN!E877","v":0},{"$f":"SHALADARPAN!G877","v":0}]
[{"$nulls":22},{"$f":"SHALADARPAN!A878","v":0},{"$f":"SHALADARPAN!B878","v":0},{"$f":"SHALADARPAN!K878","v":0},{"$f":"SHALADARPAN!E878","v":0},{"$f":"SHALADARPAN!G878","v":0}]
[{"$nulls":22},{"$f":"SHALADARPAN!A879","v":0},{"$f":"SHALADARPAN!B879","v":0},{"$f":"SHALADARPAN!K879","v":0},{"$f":"SHALADARPAN!E879","v":0},{"$f":"SHALADARPAN!G879","v":0}]
[{"$nulls":22},{"$f":"SHALADARPAN!A880","v":0},{"$f":"SHALADARPAN!B880","v":0},{"$f":"SHALADARPAN!K880","v":0},{"$f":"SHALADARPAN!E880","v":0},{"$f":"SHALADARPAN!G880","v":0}]
[{"$nulls":22},{"$f":"SHALADARPAN!A881","v":0},{"$f":"SHALADARPAN!B881","v":0},{"$f":"SHALADARPAN!K881","v":0},{"$f":"SHALADARPAN!E881","v":0},{"$f":"SHALADARPAN!G881","v":0}]
[{"$nulls":22},{"$f":"SHALADARPAN!A882","v":0},{"$f":"SHALADARPAN!B882","v":0},{"$f":"SHALADARPAN!K882","v":0},{"$f":"SHALADARPAN!E882","v":0},{"$f":"SHALADARPAN!G882","v":0}]
[{"$nulls":22},{"$f":"SHALADARPAN!A883","v":0},{"$f":"SHALADARPAN!B883","v":0},{"$f":"SHALADARPAN!K883","v":0},{"$f":"SHALADARPAN!E883","v":0},{"$f":"SHALADARPAN!G883","v":0}]
[{"$nulls":22},{"$f":"SHALADARPAN!A884","v":0},{"$f":"SHALADARPAN!B884","v":0},{"$f":"SHALADARPAN!K884","v":0},{"$f":"SHALADARPAN!E884","v":0},{"$f":"SHALADARPAN!G884","v":0}]
[{"$nulls":22},{"$f":"SHALADARPAN!A885","v":0},{"$f":"SHALADARPAN!B885","v":0},{"$f":"SHALADARPAN!K885","v":0},{"$f":"SHALADARPAN!E885","v":0},{"$f":"SHALADARPAN!G885","v":0}]
[{"$nulls":22},{"$f":"SHALADARPAN!A886","v":0},{"$f":"SHALADARPAN!B886","v":0},{"$f":"SHALADARPAN!K886","v":0},{"$f":"SHALADARPAN!E886","v":0},{"$f":"SHALADARPAN!G886","v":0}]
[{"$nulls":22},{"$f":"SHALADARPAN!A887","v":0},{"$f":"SHALADARPAN!B887","v":0},{"$f":"SHALADARPAN!K887","v":0},{"$f":"SHALADARPAN!E887","v":0},{"$f":"SHALADARPAN!G887","v":0}]
[{"$nulls":22},{"$f":"SHALADARPAN!A888","v":0},{"$f":"SHALADARPAN!B888","v":0},{"$f":"SHALADARPAN!K888","v":0},{"$f":"SHALADARPAN!E888","v":0},{"$f":"SHALADARPAN!G888","v":0}]
[{"$nulls":22},{"$f":"SHALADARPAN!A889","v":0},{"$f":"SHALADARPAN!B889","v":0},{"$f":"SHALADARPAN!K889","v":0},{"$f":"SHALADARPAN!E889","v":0},{"$f":"SHALADARPAN!G889","v":0}]
[{"$nulls":22},{"$f":"SHALADARPAN!A890","v":0},{"$f":"SHALADARPAN!B890","v":0},{"$f":"SHALADARPAN!K890","v":0},{"$f":"SHALADARPAN!E890","v":0},{"$f":"SHALADARPAN!G890","v":0}]
[{"$nulls":22},{"$f":"SHALADARPAN!A891","v":0},{"$f":"SHALADARPAN!B891","v":0},{"$f":"SHALADARPAN!K891","v":0},{"$f":"SHALADARPAN!E891","v":0},{"$f":"SHALADARPAN!G891","v":0}]
[{"$nulls":22},{"$f":"SHALADARPAN!A892","v":0},{"$f":"SHALADARPAN!B892","v":0},{"$f":"SHALADARPAN!K892","v":0},{"$f":"SHALADARPAN!E892","v":0},{"$f":"SHALADARPAN!G892","v":0}]
[{"$nulls":22},{"$f":"SHALADARPAN!A893","v":0},{"$f":"SHALADARPAN!B893","v":0},{"$f":"SHALADARPAN!K893","v":0},{"$f":"SHALADARPAN!E893","v":0},{"$f":"SHALADARPAN!G893","v":0}]
[{"$nulls":22},{"$f":"SHALADARPAN!A894","v":0},{"$f":"SHALADARPAN!B894","v":0},{"$f":"SHALADARPAN!K894","v":0},{"$f":"SHALADARPAN!E894","v":0},{"$f":"SHALADARPAN!G894","v":0}]
[{"$nulls":22},{"$f":"SHALADARPAN!A895","v":0},{"$f":"SHALADARPAN!B895","v":0},{"$f":"SHALADARPAN!K895","v":0},{"$f":"SHALADARPAN!E895","v":0},{"$f":"SHALADARPAN!G895","v":0}]
[{"$nulls":22},{"$f":"SHALADARPAN!A896","v":0},{"$f":"SHALADARPAN!B896","v":0},{"$f":"SHALADARPAN!K896","v":0},{"$f":"SHALADARPAN!E896","v":0},{"$f":"SHALADARPAN!G896","v":0}]
[{"$nulls":22},{"$f":"SHALADARPAN!A897","v":0},{"$f":"SHALADARPAN!B897","v":0},{"$f":"SHALADARPAN!K897","v":0},{"$f":"SHALADARPAN!E897","v":0},{"$f":"SHALADARPAN!G897","v":0}]
[{"$nulls":22},{"$f":"SHALADARPAN!A898","v":0},{"$f":"SHALADARPAN!B898","v":0},{"$f":"SHALADARPAN!K898","v":0},{"$f":"SHALADARPAN!E898","v":0},{"$f":"SHALADARPAN!G898","v":0}]
[{"$nulls":22},{"$f":"SHALADARPAN!A899","v":0},{"$f":"SHALADARPAN!B899","v":0},{"$f":"SHALADARPAN!K899","v":0},{"$f":"SHALADARPAN!E899","v":0},{"$f":"SHALADARPAN!G899","v":0}]
[{"$nulls":22},{"$f":"SHALADARPAN!A900","v":0},{"$f":"SHALADARPAN!B900","v":0},{"$f":"SHALADARPAN!K900","v":0},{"$f":"SHALADARPAN!E900","v":0},{"$f":"SHALADARPAN!G900","v":0}]
[{"$nulls":22},{"$f":"SHALADARPAN!A901","v":0},{"$f":"SHALADARPAN!B901","v":0},{"$f":"SHALADARPAN!K901","v":0},{"$f":"SHALADARPAN!E901","v":0},{"$f":"SHALADARPAN!G901","v":0}]
[{"$nulls":22},{"$f":"SHALADARPAN!A902","v":0},{"$f":"SHALADARPAN!B902","v":0},{"$f":"SHALADARPAN!K902","v":0},{"$f":"SHALADARPAN!E902","v":0},{"$f":"SHALADARPAN!G902","v":0}]
[{"$nulls":22},{"$f":"SHALADARPAN!A903","v":0},{"$f":"SHALADARPAN!B903","v":0},{"$f":"SHALADARPAN!K903","v":0},{"$f":"SHALADARPAN!E903","v":0},{"$f":"SHALADARPAN!G903","v":0}]
[{"$nulls":22},{"$f":"SHALADARPAN!A904","v":0},{"$f":"SHALADARPAN!B904","v":0},{"$f":"SHALADARPAN!K904","v":0},{"$f":"SHALADARPAN!E904","v":0},{"$f":"SHALADARPAN!G904","v":0}]
[{"$nulls":22},{"$f":"SHALADARPAN!A905","v":0},{"$f":"SHALADARPAN!B905","v":0},{"$f":"SHALADARPAN!K905","v":0},{"$f":"SHALADARPAN!E905","v":0},{"$f":"SHALADARPAN!G905","v":0}]
[{"$nulls":22},{"$f":"SHALADARPAN!A906","v":0},{"$f":"SHALADARPAN!B906","v":0},{"$f":"SHALADARPAN!K906","v":0},{"$f":"SHALADARPAN!E906","v":0},{"$f":"SHALADARPAN!G906","v":0}]
[{"$nulls":22},{"$f":"SHALADARPAN!A907","v":0},{"$f":"SHALADARPAN!B907","v":0},{"$f":"SHALADARPAN!K907","v":0},{"$f":"SHALADARPAN!E907","v":0},{"$f":"SHALADARPAN!G907","v":0}]
[{"$nulls":22},{"$f":"SHALADARPAN!A908","v":0},{"$f":"SHALADARPAN!B908","v":0},{"$f":"SHALADARPAN!K908","v":0},{"$f":"SHALADARPAN!E908","v":0},{"$f":"SHALADARPAN!G908","v":0}]
[{"$nulls":22},{"$f":"SHALADARPAN!A909","v":0},{"$f":"SHALADARPAN!B909","v":0},{"$f":"SHALADARPAN!K909","v":0},{"$f":"SHALADARPAN!E909","v":0},{"$f":"SHALADARPAN!G909","v":0}]
[{"$nulls":22},{"$f":"SHALADARPAN!A910","v":0},{"$f":"SHALADARPAN!B910","v":0},{"$f":"SHALADARPAN!K910","v":0},{"$f":"SHALADARPAN!E910","v":0},{"$f":"SHALADARPAN!G910","v":0}]
[{"$nulls":22},{"$f":"SHALADARPAN!A911","v":0},{"$f":"SHALADARPAN!B911","v":0},{"$f":"SHALADARPAN!K911","v":0},{"$f":"SHALADARPAN!E911","v":0},{"$f":"SHALADARPAN!G911","v":0}]
[{"$nulls":22},{"$f":"SHALADARPAN!A912","v":0},{"$f":"SHALADARPAN!B912","v":0},{"$f":"SHALADARPAN!K912","v":0},{"$f":"SHALADARPAN!E912","v":0},{"$f":"SHALADARPAN!G912","v":0}]
[{"$nulls":22},{"$f":"SHALADARPAN!A913","v":0},{"$f":"SHALADARPAN!B913","v":0},{"$f":"SHALADARPAN!K913","v":0},{"$f":"SHALADARPAN!E913","v":0},{"$f":"SHALADARPAN!G913","v":0}]
[{"$nulls":22},{"$f":"SHALADARPAN!A914","v":0},{"$f":"SHALADARPAN!B914","v":0},{"$f":"SHALADARPAN!K914","v":0},{"$f":"SHALADARPAN!E914","v":0},{"$f":"SHALADARPAN!G914","v":0}]
[{"$nulls":22},{"$f":"SHALADARPAN!A915","v":0},{"$f":"SHALADARPAN!B915","v":0},{"$f":"SHALADARPAN!K915","v":0},{"$f":"SHALADARPAN!E915","v":0},{"$f":"SHALADARPAN!G915","v":0}]
[{"$nulls":22},{"$f":"SHALADARPAN!A916","v":0},{"$f":"SHALADARPAN!B916","v":0},{"$f":"SHALADARPAN!K916","v":0},{"$f":"SHALADARPAN!E916","v":0},{"$f":"SHALADARPAN!G916","v":0}]
[{"$nulls":22},{"$f":"SHALADARPAN!A917","v":0},{"$f":"SHALADARPAN!B917","v":0},{"$f":"SHALADARPAN!K917","v":0},{"$f":"SHALADARPAN!E917","v":0},{"$f":"SHALADARPAN!G917","v":0}]
[{"$nulls":22},{"$f":"SHALADARPAN!A918","v":0},{"$f":"SHALADARPAN!B918","v":0},{"$f":"SHALADARPAN!K918","v":0},{"$f":"SHALADARPAN!E918","v":0},{"$f":"SHALADARPAN!G918","v":0}]
[{"$nulls":22},{"$f":"SHALADARPAN!A919","v":0},{"$f":"SHALADARPAN!B919","v":0},{"$f":"SHALADARPAN!K919","v":0},{"$f":"SHALADARPAN!E919","v":0},{"$f":"SHALADARPAN!G919","v":0}]
[{"$nulls":22},{"$f":"SHALADARPAN!A920","v":0},{"$f":"SHALADARPAN!B920","v":0},{"$f":"SHALADARPAN!K920","v":0},{"$f":"SHALADARPAN!E920","v":0},{"$f":"SHALADARPAN!G920","v":0}]
[{"$nulls":22},{"$f":"SHALADARPAN!A921","v":0},{"$f":"SHALADARPAN!B921","v":0},{"$f":"SHALADARPAN!K921","v":0},{"$f":"SHALADARPAN!E921","v":0},{"$f":"SHALADARPAN!G921","v":0}]
[{"$nulls":22},{"$f":"SHALADARPAN!A922","v":0},{"$f":"SHALADARPAN!B922","v":0},{"$f":"SHALADARPAN!K922","v":0},{"$f":"SHALADARPAN!E922","v":0},{"$f":"SHALADARPAN!G922","v":0}]
[{"$nulls":22},{"$f":"SHALADARPAN!A923","v":0},{"$f":"SHALADARPAN!B923","v":0},{"$f":"SHALADARPAN!K923","v":0},{"$f":"SHALADARPAN!E923","v":0},{"$f":"SHALADARPAN!G923","v":0}]
[{"$nulls":22},{"$f":"SHALADARPAN!A924","v":0},{"$f":"SHALADARPAN!B924","v":0},{"$f":"SHALADARPAN!K924","v":0},{"$f":"SHALADARPAN!E924","v":0},{"$f":"SHALADARPAN!G924","v":0}]
[{"$nulls":22},{"$f":"SHALADARPAN!A925","v":0},{"$f":"SHALADARPAN!B925","v":0},{"$f":"SHALADARPAN!K925","v":0},{"$f":"SHALADARPAN!E925","v":0},{"$f":"SHALADARPAN!G925","v":0}]
[{"$nulls":22},{"$f":"SHALADARPAN!A926","v":0},{"$f":"SHALADARPAN!B926","v":0},{"$f":"SHALADARPAN!K926","v":0},{"$f":"SHALADARPAN!E926","v":0},{"$f":"SHALADARPAN!G926","v":0}]
[{"$nulls":22},{"$f":"SHALADARPAN!A927","v":0},{"$f":"SHALADARPAN!B927","v":0},{"$f":"SHALADARPAN!K927","v":0},{"$f":"SHALADARPAN!E927","v":0},{"$f":"SHALADARPAN!G927","v":0}]
[{"$nulls":22},{"$f":"SHALADARPAN!A928","v":0},{"$f":"SHALADARPAN!B928","v":0},{"$f":"SHALADARPAN!K928","v":0},{"$f":"SHALADARPAN!E928","v":0},{"$f":"SHALADARPAN!G928","v":0}]
[{"$nulls":22},{"$f":"SHALADARPAN!A929","v":0},{"$f":"SHALADARPAN!B929","v":0},{"$f":"SHALADARPAN!K929","v":0},{"$f":"SHALADARPAN!E929","v":0},{"$f":"SHALADARPAN!G929","v":0}]
[{"$nulls":22},{"$f":"SHALADARPAN!A930","v":0},{"$f":"SHALADARPAN!B930","v":0},{"$f":"SHALADARPAN!K930","v":0},{"$f":"SHALADARPAN!E930","v":0},{"$f":"SHALADARPAN!G930","v":0}]
[{"$nulls":22},{"$f":"SHALADARPAN!A931","v":0},{"$f":"SHALADARPAN!B931","v":0},{"$f":"SHALADARPAN!K931","v":0},{"$f":"SHALADARPAN!E931","v":0},{"$f":"SHALADARPAN!G931","v":0}]
[{"$nulls":22},{"$f":"SHALADARPAN!A932","v":0},{"$f":"SHALADARPAN!B932","v":0},{"$f":"SHALADARPAN!K932","v":0},{"$f":"SHALADARPAN!E932","v":0},{"$f":"SHALADARPAN!G932","v":0}]
[{"$nulls":22},{"$f":"SHALADARPAN!A933","v":0},{"$f":"SHALADARPAN!B933","v":0},{"$f":"SHALADARPAN!K933","v":0},{"$f":"SHALADARPAN!E933","v":0},{"$f":"SHALADARPAN!G933","v":0}]
[{"$nulls":22},{"$f":"SHALADARPAN!A934","v":0},{"$f":"SHALADARPAN!B934","v":0},{"$f":"SHALADARPAN!K934","v":0},{"$f":"SHALADARPAN!E934","v":0},{"$f":"SHALADARPAN!G934","v":0}]
[{"$nulls":22},{"$f":"SHALADARPAN!A935","v":0},{"$f":"SHALADARPAN!B935","v":0},{"$f":"SHALADARPAN!K935","v":0},{"$f":"SHALADARPAN!E935","v":0},{"$f":"SHALADARPAN!G935","v":0}]
[{"$nulls":22},{"$f":"SHALADARPAN!A936","v":0},{"$f":"SHALADARPAN!B936","v":0},{"$f":"SHALADARPAN!K936","v":0},{"$f":"SHALADARPAN!E936","v":0},{"$f":"SHALADARPAN!G936","v":0}]
[{"$nulls":22},{"$f":"SHALADARPAN!A937","v":0},{"$f":"SHALADARPAN!B937","v":0},{"$f":"SHALADARPAN!K937","v":0},{"$f":"SHALADARPAN!E937","v":0},{"$f":"SHALADARPAN!G937","v":0}]
[{"$nulls":22},{"$f":"SHALADARPAN!A938","v":0},{"$f":"SHALADARPAN!B938","v":0},{"$f":"SHALADARPAN!K938","v":0},{"$f":"SHALADARPAN!E938","v":0},{"$f":"SHALADARPAN!G938","v":0}]
[{"$nulls":22},{"$f":"SHALADARPAN!A939","v":0},{"$f":"SHALADARPAN!B939","v":0},{"$f":"SHALADARPAN!K939","v":0},{"$f":"SHALADARPAN!E939","v":0},{"$f":"SHALADARPAN!G939","v":0}]
[{"$nulls":22},{"$f":"SHALADARPAN!A940","v":0},{"$f":"SHALADARPAN!B940","v":0},{"$f":"SHALADARPAN!K940","v":0},{"$f":"SHALADARPAN!E940","v":0},{"$f":"SHALADARPAN!G940","v":0}]
[{"$nulls":22},{"$f":"SHALADARPAN!A941","v":0},{"$f":"SHALADARPAN!B941","v":0},{"$f":"SHALADARPAN!K941","v":0},{"$f":"SHALADARPAN!E941","v":0},{"$f":"SHALADARPAN!G941","v":0}]
[{"$nulls":22},{"$f":"SHALADARPAN!A942","v":0},{"$f":"SHALADARPAN!B942","v":0},{"$f":"SHALADARPAN!K942","v":0},{"$f":"SHALADARPAN!E942","v":0},{"$f":"SHALADARPAN!G942","v":0}]
[{"$nulls":22},{"$f":"SHALADARPAN!A943","v":0},{"$f":"SHALADARPAN!B943","v":0},{"$f":"SHALADARPAN!K943","v":0},{"$f":"SHALADARPAN!E943","v":0},{"$f":"SHALADARPAN!G943","v":0}]
[{"$nulls":22},{"$f":"SHALADARPAN!A944","v":0},{"$f":"SHALADARPAN!B944","v":0},{"$f":"SHALADARPAN!K944","v":0},{"$f":"SHALADARPAN!E944","v":0},{"$f":"SHALADARPAN!G944","v":0}]
[{"$nulls":22},{"$f":"SHALADARPAN!A945","v":0},{"$f":"SHALADARPAN!B945","v":0},{"$f":"SHALADARPAN!K945","v":0},{"$f":"SHALADARPAN!E945","v":0},{"$f":"SHALADARPAN!G945","v":0}]
[{"$nulls":22},{"$f":"SHALADARPAN!A946","v":0},{"$f":"SHALADARPAN!B946","v":0},{"$f":"SHALADARPAN!K946","v":0},{"$f":"SHALADARPAN!E946","v":0},{"$f":"SHALADARPAN!G946","v":0}]
[{"$nulls":22},{"$f":"SHALADARPAN!A947","v":0},{"$f":"SHALADARPAN!B947","v":0},{"$f":"SHALADARPAN!K947","v":0},{"$f":"SHALADARPAN!E947","v":0},{"$f":"SHALADARPAN!G947","v":0}]
[{"$nulls":22},{"$f":"SHALADARPAN!A948","v":0},{"$f":"SHALADARPAN!B948","v":0},{"$f":"SHALADARPAN!K948","v":0},{"$f":"SHALADARPAN!E948","v":0},{"$f":"SHALADARPAN!G948","v":0}]
[{"$nulls":22},{"$f":"SHALADARPAN!A949","v":0},{"$f":"SHALADARPAN!B949","v":0},{"$f":"SHALADARPAN!K949","v":0},{"$f":"SHALADARPAN!E949","v":0},{"$f":"SHALADARPAN!G949","v":0}]
[{"$nulls":22},{"$f":"SHALADARPAN!A950","v":0},{"$f":"SHALADARPAN!B950","v":0},{"$f":"SHALADARPAN!K950","v":0},{"$f":"SHALADARPAN!E950","v":0},{"$f":"SHALADARPAN!G950","v":0}]
[{"$nulls":22},{"$f":"SHALADARPAN!A951","v":0},{"$f":"SHALADARPAN!B951","v":0},{"$f":"SHALADARPAN!K951","v":0},{"$f":"SHALADARPAN!E951","v":0},{"$f":"SHALADARPAN!G951","v":0}]
[{"$nulls":22},{"$f":"SHALADARPAN!A952","v":0},{"$f":"SHALADARPAN!B952","v":0},{"$f":"SHALADARPAN!K952","v":0},{"$f":"SHALADARPAN!E952","v":0},{"$f":"SHALADARPAN!G952","v":0}]
[{"$nulls":22},{"$f":"SHALADARPAN!A953","v":0},{"$f":"SHALADARPAN!B953","v":0},{"$f":"SHALADARPAN!K953","v":0},{"$f":"SHALADARPAN!E953","v":0},{"$f":"SHALADARPAN!G953","v":0}]
[{"$nulls":22},{"$f":"SHALADARPAN!A954","v":0},{"$f":"SHALADARPAN!B954","v":0},{"$f":"SHALADARPAN!K954","v":0},{"$f":"SHALADARPAN!E954","v":0},{"$f":"SHALADARPAN!G954","v":0}]
[{"$nulls":22},{"$f":"SHALADARPAN!A955","v":0},{"$f":"SHALADARPAN!B955","v":0},{"$f":"SHALADARPAN!K955","v":0},{"$f":"SHALADARPAN!E955","v":0},{"$f":"SHALADARPAN!G955","v":0}]
[{"$nulls":22},{"$f":"SHALADARPAN!A956","v":0},{"$f":"SHALADARPAN!B956","v":0},{"$f":"SHALADARPAN!K956","v":0},{"$f":"SHALADARPAN!E956","v":0},{"$f":"SHALADARPAN!G956","v":0}]
[{"$nulls":22},{"$f":"SHALADARPAN!A957","v":0},{"$f":"SHALADARPAN!B957","v":0},{"$f":"SHALADARPAN!K957","v":0},{"$f":"SHALADARPAN!E957","v":0},{"$f":"SHALADARPAN!G957","v":0}]
[{"$nulls":22},{"$f":"SHALADARPAN!A958","v":0},{"$f":"SHALADARPAN!B958","v":0},{"$f":"SHALADARPAN!K958","v":0},{"$f":"SHALADARPAN!E958","v":0},{"$f":"SHALADARPAN!G958","v":0}]
[{"$nulls":22},{"$f":"SHALADARPAN!A959","v":0},{"$f":"SHALADARPAN!B959","v":0},{"$f":"SHALADARPAN!K959","v":0},{"$f":"SHALADARPAN!E959","v":0},{"$f":"SHALADARPAN!G959","v":0}]
[{"$nulls":22},{"$f":"SHALADARPAN!A960","v":0},{"$f":"SHALADARPAN!B960","v":0},{"$f":"SHALADARPAN!K960","v":0},{"$f":"SHALADARPAN!E960","v":0},{"$f":"SHALADARPAN!G960","v":0}]
[{"$nulls":22},{"$f":"SHALADARPAN!A961","v":0},{"$f":"SHALADARPAN!B961","v":0},{"$f":"SHALADARPAN!K961","v":0},{"$f":"SHALADARPAN!E961","v":0},{"$f":"SHALADARPAN!G961","v":0}]
[{"$nulls":22},{"$f":"SHALADARPAN!A962","v":0},{"$f":"SHALADARPAN!B962","v":0},{"$f":"SHALADARPAN!K962","v":0},{"$f":"SHALADARPAN!E962","v":0},{"$f":"SHALADARPAN!G962","v":0}]
[{"$nulls":22},{"$f":"SHALADARPAN!A963","v":0},{"$f":"SHALADARPAN!B963","v":0},{"$f":"SHALADARPAN!K963","v":0},{"$f":"SHALADARPAN!E963","v":0},{"$f":"SHALADARPAN!G963","v":0}]
[{"$nulls":22},{"$f":"SHALADARPAN!A964","v":0},{"$f":"SHALADARPAN!B964","v":0},{"$f":"SHALADARPAN!K964","v":0},{"$f":"SHALADARPAN!E964","v":0},{"$f":"SHALADARPAN!G964","v":0}]
[{"$nulls":22},{"$f":"SHALADARPAN!A965","v":0},{"$f":"SHALADARPAN!B965","v":0},{"$f":"SHALADARPAN!K965","v":0},{"$f":"SHALADARPAN!E965","v":0},{"$f":"SHALADARPAN!G965","v":0}]
[{"$nulls":22},{"$f":"SHALADARPAN!A966","v":0},{"$f":"SHALADARPAN!B966","v":0},{"$f":"SHALADARPAN!K966","v":0},{"$f":"SHALADARPAN!E966","v":0},{"$f":"SHALADARPAN!G966","v":0}]
[{"$nulls":22},{"$f":"SHALADARPAN!A967","v":0},{"$f":"SHALADARPAN!B967","v":0},{"$f":"SHALADARPAN!K967","v":0},{"$f":"SHALADARPAN!E967","v":0},{"$f":"SHALADARPAN!G967","v":0}]
[{"$nulls":22},{"$f":"SHALADARPAN!A968","v":0},{"$f":"SHALADARPAN!B968","v":0},{"$f":"SHALADARPAN!K968","v":0},{"$f":"SHALADARPAN!E968","v":0},{"$f":"SHALADARPAN!G968","v":0}]
[{"$nulls":22},{"$f":"SHALADARPAN!A969","v":0},{"$f":"SHALADARPAN!B969","v":0},{"$f":"SHALADARPAN!K969","v":0},{"$f":"SHALADARPAN!E969","v":0},{"$f":"SHALADARPAN!G969","v":0}]
[{"$nulls":22},{"$f":"SHALADARPAN!A970","v":0},{"$f":"SHALADARPAN!B970","v":0},{"$f":"SHALADARPAN!K970","v":0},{"$f":"SHALADARPAN!E970","v":0},{"$f":"SHALADARPAN!G970","v":0}]
[{"$nulls":22},{"$f":"SHALADARPAN!A971","v":0},{"$f":"SHALADARPAN!B971","v":0},{"$f":"SHALADARPAN!K971","v":0},{"$f":"SHALADARPAN!E971","v":0},{"$f":"SHALADARPAN!G971","v":0}]
[{"$nulls":22},{"$f":"SHALADARPAN!A972","v":0},{"$f":"SHALADARPAN!B972","v":0},{"$f":"SHALADARPAN!K972","v":0},{"$f":"SHALADARPAN!E972","v":0},{"$f":"SHALADARPAN!G972","v":0}]
[{"$nulls":22},{"$f":"SHALADARPAN!A973","v":0},{"$f":"SHALADARPAN!B973","v":0},{"$f":"SHALADARPAN!K973","v":0},{"$f":"SHALADARPAN!E973","v":0},{"$f":"SHALADARPAN!G973","v":0}]
[{"$nulls":22},{"$f":"SHALADARPAN!A974","v":0},{"$f":"SHALADARPAN!B974","v":0},{"$f":"SHALADARPAN!K974","v":0},{"$f":"SHALADARPAN!E974","v":0},{"$f":"SHALADARPAN!G974","v":0}]
[{"$nulls":22},{"$f":"SHALADARPAN!A975","v":0},{"$f":"SHALADARPAN!B975","v":0},{"$f":"SHALADARPAN!K975","v":0},{"$f":"SHALADARPAN!E975","v":0},{"$f":"SHALADARPAN!G975","v":0}]
[{"$nulls":22},{"$f":"SHALADARPAN!A976","v":0},{"$f":"SHALADARPAN!B976","v":0},{"$f":"SHALADARPAN!K976","v":0},{"$f":"SHALADARPAN!E976","v":0},{"$f":"SHALADARPAN!G976","v":0}]
[{"$nulls":22},{"$f":"SHALADARPAN!A977","v":0},{"$f":"SHALADARPAN!B977","v":0},{"$f":"SHALADARPAN!K977","v":0},{"$f":"SHALADARPAN!E977","v":0},{"$f":"SHALADARPAN!G977","v":0}]
[{"$nulls":22},{"$f":"SHALADARPAN!A978","v":0},{"$f":"SHALADARPAN!B978","v":0},{"$f":"SHALADARPAN!K978","v":0},{"$f":"SHALADARPAN!E978","v":0},{"$f":"SHALADARPAN!G978","v":0}]
[{"$nulls":22},{"$f":"SHALADARPAN!A979","v":0},{"$f":"SHALADARPAN!B979","v":0},{"$f":"SHALADARPAN!K979","v":0},{"$f":"SHALADARPAN!E979","v":0},{"$f":"SHALADARPAN!G979","v":0}]
[{"$nulls":22},{"$f":"SHALADARPAN!A980","v":0},{"$f":"SHALADARPAN!B980","v":0},{"$f":"SHALADARPAN!K980","v":0},{"$f":"SHALADARPAN!E980","v":0},{"$f":"SHALADARPAN!G980","v":0}]
[{"$nulls":22},{"$f":"SHALADARPAN!A981","v":0},{"$f":"SHALADARPAN!B981","v":0},{"$f":"SHALADARPAN!K981","v":0},{"$f":"SHALADARPAN!E981","v":0},{"$f":"SHALADARPAN!G981","v":0}]
[{"$nulls":22},{"$f":"SHALADARPAN!A982","v":0},{"$f":"SHALADARPAN!B982","v":0},{"$f":"SHALADARPAN!K982","v":0},{"$f":"SHALADARPAN!E982","v":0},{"$f":"SHALADARPAN!G982","v":0}]
[{"$nulls":22},{"$f":"SHALADARPAN!A983","v":0},{"$f":"SHALADARPAN!B983","v":0},{"$f":"SHALADARPAN!K983","v":0},{"$f":"SHALADARPAN!E983","v":0},{"$f":"SHALADARPAN!G983","v":0}]
[{"$nulls":22},{"$f":"SHALADARPAN!A984","v":0},{"$f":"SHALADARPAN!B984","v":0},{"$f":"SHALADARPAN!K984","v":0},{"$f":"SHALADARPAN!E984","v":0},{"$f":"SHALADARPAN!G984","v":0}]
[{"$nulls":22},{"$f":"SHALADARPAN!A985","v":0},{"$f":"SHALADARPAN!B985","v":0},{"$f":"SHALADARPAN!K985","v":0},{"$f":"SHALADARPAN!E985","v":0},{"$f":"SHALADARPAN!G985","v":0}]
[{"$nulls":22},{"$f":"SHALADARPAN!A986","v":0},{"$f":"SHALADARPAN!B986","v":0},{"$f":"SHALADARPAN!K986","v":0},{"$f":"SHALADARPAN!E986","v":0},{"$f":"SHALADARPAN!G986","v":0}]
[{"$nulls":22},{"$f":"SHALADARPAN!A987","v":0},{"$f":"SHALADARPAN!B987","v":0},{"$f":"SHALADARPAN!K987","v":0},{"$f":"SHALADARPAN!E987","v":0},{"$f":"SHALADARPAN!G987","v":0}]
[{"$nulls":22},{"$f":"SHALADARPAN!A988","v":0},{"$f":"SHALADARPAN!B988","v":0},{"$f":"SHALADARPAN!K988","v":0},{"$f":"SHALADARPAN!E988","v":0},{"$f":"SHALADARPAN!G988","v":0}]
[{"$nulls":22},{"$f":"SHALADARPAN!A989","v":0},{"$f":"SHALADARPAN!B989","v":0},{"$f":"SHALADARPAN!K989","v":0},{"$f":"SHALADARPAN!E989","v":0},{"$f":"SHALADARPAN!G989","v":0}]
[{"$nulls":22},{"$f":"SHALADARPAN!A990","v":0},{"$f":"SHALADARPAN!B990","v":0},{"$f":"SHALADARPAN!K990","v":0},{"$f":"SHALADARPAN!E990","v":0},{"$f":"SHALADARPAN!G990","v":0}]

{"sheet":"SLIP(1-5)","index":5,"n_rows":997,"n_cols":25,"rows_kept":997,"merged":[[0,1,0,11],[1,3,1,6],[2,5,2,8],[2,9,2,15],[3,5,3,8],[3,9,3,15],[4,5,4,6],[4,7,4,10],[4,12,4,15],[5,1,6,1],[5,2,6,2],[5,3,6,3],[5,4,6,4],[5,5,6,5],[5,6,6,6],[5,7,6,7],[5,8,6,8],[5,9,6,9],[5,10,6,10],[5,11,6,11],[5,12,6,12],[5,13,6,13],[5,14,6,14],[5,15,6,15],[5,16,6,16]]}
[null,{"$f":"'MARK SLIP(6-8)'!B1:L1","v":"कार्यालय राजकीय उच्च माध्यमिक विद्यालय आलनियावास नागौर"}]
[{"$nulls":3},"MARK SLIP 2022-2023"]
[null,null,"कक्षा","वर्ग",null,"विषय",{"$nulls":3},"…………………………………………………"]
[null,null,5,"A",null,"विषयाध्यापक",{"$nulls":3},"………………………………………."]
[{"$nulls":5},"मूल्यांकन",null,"अर्द्धवार्षिक परीक्षा",{"$nulls":4},"वार्षिक परीक्षा"]
[null,"क्र.सं.","रोल नम्बर","विद्यार्थी का नाम","पिता का नाम","प्रथम मूल्यांकन","द्वितीय मूल्यांकन","आंतरिक पोर्ट.quiz","मौखिक","लिखित","योग","योग","आंतरिक पोर्ट.quiz","मौखिक","लिखित","योग","सर्वयोग"]
[]
[null,null,"रोल नम्बर","विद्यार्थी का नाम","पिता का नाम",{"$nulls":15},"कक्षा","वर्ग","रोल नम्बर","विद्यार्थी का नाम","पिता का नाम"]
[null,{"$f":"IF(D9=\"\",\"\",ROWS($D$9:D9))","v":1},0,"ANILA","Kailash",{"$nulls":15},{"$f":"SHALADARPAN!A2","v":1},{"$f":"SHALADARPAN!B2","v":"A"},{"$f":"SHALADARPAN!K2","v":0},{"$f":"SHALADARPAN!E2","v":"Aaliya"},{"$f":"SHALADARPAN!G2","v":"Kailash"}]
[null,{"$f":"IF(D10=\"\",\"\",ROWS($D$9:D10))","v":2},0,"ANNU","Kailash",{"$nulls":14},1,{"$f":"SHALADARPAN!A3","v":1},{"$f":"SHALADARPAN!B3","v":"A"},{"$f":"SHALADARPAN!K3","v":0},{"$f":"SHALADARPAN!E3","v":"Aarju"},{"$f":"SHALADARPAN!G3","v":"Kailash"}]
[null,{"$f":"IF(D11=\"\",\"\",ROWS($D$9:D11))","v":3},0,"ARMAN","Kailash",{"$nulls":14},2,{"$f":"SHALADARPAN!A4","v":1},{"$f":"SHALADARPAN!B4","v":"A"},{"$f":"SHALADARPAN!K4","v":0},{"$f":"SHALADARPAN!E4","v":"Aarmin"},{"$f":"SHALADARPAN!G4","v":"Kailash"}]
[null,{"$f":"IF(D12=\"\",\"\",ROWS($D$9:D12))","v":4},0,"BULBUL JANGLIYA","Kailash",{"$nulls":14},3,{"$f":"SHALADARPAN!A5","v":1},{"$f":"SHALADARPAN!B5","v":"A"},{"$f":"SHALADARPAN!K5","v":0},{"$f":"SHALADARPAN!E5","v":"Aashmen"},{"$f":"SHALADARPAN!G5","v":"Kailash"}]
[null,{"$f":"IF(D13=\"\",\"\",ROWS($D$9:D13))","v":5},0,"FARUKH","Kailash",{"$nulls":14},4,{"$f":"SHALADARPAN!A6","v":1},{"$f":"SHALADARPAN!B6","v":"A"},{"$f":"SHALADARPAN!K6","v":0},{"$f":"SHALADARPAN!E6","v":"Aliya"},{"$f":"SHALADARPAN!G6","v":"Kailash"}]
[null,{"$f":"IF(D14=\"\",\"\",ROWS($D$9:D14))","v":6},0,"FATMA BANU","Kailash",{"$nulls":14},5,{"$f":"SHALADARPAN!A7","v":1},{"$f":"SHALADARPAN!B7","v":"A"},{"$f":"SHALADARPAN!K7","v":0},{"$f":"SHALADARPAN!E7","v":"Bheemraj"},{"$f":"SHALADARPAN!G7","v":"Kailash"}]
[null,{"$f":"IF(D15=\"\",\"\",ROWS($D$9:D15))","v":7},0,"GOPAL","Kailash",{"$nulls":14},6,{"$f":"SHALADARPAN!A8","v":1},{"$f":"SHALADARPAN!B8","v":"A"},{"$f":"SHALADARPAN!K8","v":0},{"$f":"SHALADARPAN!E8","v":"Bilal"},{"$f":"SHALADARPAN!G8","v":"Kailash"}]
[null,{"$f":"IF(D16=\"\",\"\",ROWS($D$9:D16))","v":8},0,"KAUSHAR BANU","Kailash",{"$nulls":14},7,{"$f":"SHALADARPAN!A9","v":1},{"$f":"SHALADARPAN!B9","v":"A"},{"$f":"SHALADARPAN!K9","v":0},{"$f":"SHALADARPAN!E9","v":"Gulnaj Banu"},{"$f":"SHALADARPAN!G9","v":"Kailash"}]
[null,{"$f":"IF(D17=\"\",\"\",ROWS($D$9:D17))","v":9},0,"Khushi Kanwar","Kailash",{"$nulls":14},8,{"$f":"SHALADARPAN!A10","v":1},{"$f":"SHALADARPAN!B10","v":"A"},{"$f":"SHALADARPAN!K10","v":0},{"$f":"SHALADARPAN!E10","v":"Gunjan"},{"$f":"SHALADARPAN!G10","v":"Kailash"}]
[null,{"$f":"IF(D18=\"\",\"\",ROWS($D$9:D18))","v":10},0,"Krishna Vaishnav","Kailash",{"$nulls":15},{"$f":"SHALADARPAN!A11","v":1},{"$f":"SHALADARPAN!B11","v":"A"},{"$f":"SHALADARPAN!K11","v":0},{"$f":"SHALADARPAN!E11","v":"Jasmim"},{"$f":"SHALADARPAN!G11","v":"Kailash"}]
[null,{"$f":"IF(D19=\"\",\"\",ROWS($D$9:D19))","v":11},0,"LAKHI RAM","Kailash",{"$nulls":15},{"$f":"SHALADARPAN!A12","v":1},{"$f":"SHALADARPAN!B12","v":"A"},{"$f":"SHALADARPAN!K12","v":0},{"$f":"SHALADARPAN!E12","v":"Jyoti Dagdi"},{"$f":"SHALADARPAN!G12","v":"Kailash"}]
[null,{"$f":"IF(D20=\"\",\"\",ROWS($D$9:D20))","v":12},0,"LALITA","Kailash",{"$nulls":15},{"$f":"SHALADARPAN!A13","v":1},{"$f":"SHALADARPAN!B13","v":"A"},{"$f":"SHALADARPAN!K13","v":0},{"$f":"SHALADARPAN!E13","v":"Kalu Dagdi"},{"$f":"SHALADARPAN!G13","v":"Kailash"}]
[null,{"$f":"IF(D21=\"\",\"\",ROWS($D$9:D21))","v":13},0,"MAMTA","Kailash",{"$nulls":15},{"$f":"SHALADARPAN!A14","v":1},{"$f":"SHALADARPAN!B14","v":"A"},{"$f":"SHALADARPAN!K14","v":0},{"$f":"SHALADARPAN!E14","v":"Khushanur Bano"},{"$f":"SHALADARPAN!G14","v":"Kailash"}]
[null,{"$f":"IF(D22=\"\",\"\",ROWS($D$9:D22))","v":14},0,"MANAVI","Kailash",{"$nulls":15},{"$f":"SHALADARPAN!A15","v":1},{"$f":"SHALADARPAN!B15","v":"A"},{"$f":"SHALADARPAN!K15","v":0},{"$f":"SHALADARPAN!E15","v":"Komal Gurjar"},{"$f":"SHALADARPAN!G15","v":"Kailash"}]
[null,{"$f":"IF(D23=\"\",\"\",ROWS($D$9:D23))","v":15},0,"MARIYAM","Kailash",{"$nulls":15},{"$f":"SHALADARPAN!A16","v":1},{"$f":"SHALADARPAN!B16","v":"A"},{"$f":"SHALADARPAN!K16","v":0},{"$f":"SHALADARPAN!E16","v":"Lal Chand"},{"$f":"SHALADARPAN!G16","v":"Kailash"}]
[null,{"$f":"IF(D24=\"\",\"\",ROWS($D$9:D24))","v":16},0,"MATIYA DEVI","Kailash",{"$nulls":15},{"$f":"SHALADARPAN!A17","v":1},{"$f":"SHALADARPAN!B17","v":"A"},{"$f":"SHALADARPAN!K17","v":0},{"$f":"SHALADARPAN!E17","v":"Mamtaj"},{"$f":"SHALADARPAN!G17","v":"Kailash"}]
[null,{"$f":"IF(D25=\"\",\"\",ROWS($D$9:D25))","v":17},0,"Mohammad Bilala","Kailash",{"$nulls":15},{"$f":"SHALADARPAN!A18","v":1},{"$f":"SHALADARPAN!B18","v":"A"},{"$f":"SHALADARPAN!K18","v":0},{"$f":"SHALADARPAN!E18","v":"Mohammad Abbas"},{"$f":"SHALADARPAN!G18","v":"Kailash"}]
[null,{"$f":"IF(D26=\"\",\"\",ROWS($D$9:D26))","v":18},0,"Nafish Razza","Kailash",{"$nulls":15},{"$f":"SHALADARPAN!A19","v":1},{"$f":"SHALADARPAN!B19","v":"A"},{"$f":"SHALADARPAN!K19","v":0},{"$f":"SHALADARPAN!E19","v":"Mohammad Aman"},{"$f":"SHALADARPAN!G19","v":"Kailash"}]
[null,{"$f":"IF(D27=\"\",\"\",ROWS($D$9:D27))","v":19},0,"NASEEM BANU","Kailash",{"$nulls":15},{"$f":"SHALADARPAN!A20","v":1},{"$f":"SHALADARPAN!B20","v":"A"},{"$f":"SHALADARPAN!K20","v":0},{"$f":"SHALADARPAN!E20","v":"Mohammad Arphin"},{"$f":"SHALADARPAN!G20","v":"Kailash"}]
[null,{"$f":"IF(D28=\"\",\"\",ROWS($D$9:D28))","v":20},0,"NAVEEN JANGLIYA","Kailash",{"$nulls":15},{"$f":"SHALADARPAN!A21","v":1},{"$f":"SHALADARPAN!B21","v":"A"},{"$f":"SHALADARPAN!K21","v":0},{"$f":"SHALADARPAN!E21","v":"Mustafa"},{"$f":"SHALADARPAN!G21","v":"Kailash"}]
[null,{"$f":"IF(D29=\"\",\"\",ROWS($D$9:D29))","v":21},0,"Navya Vaishnav","Kailash",{"$nulls":15},{"$f":"SHALADARPAN!A22","v":1},{"$f":"SHALADARPAN!B22","v":"A"},{"$f":"SHALADARPAN!K22","v":0},{"$f":"SHALADARPAN!E22","v":"Nenu Ram"},{"$f":"SHALADARPAN!G22","v":"Kailash"}]
[null,{"$f":"IF(D30=\"\",\"\",ROWS($D$9:D30))","v":22},0,"Naziya","Kailash",{"$nulls":15},{"$f":"SHALADARPAN!A23","v":1},{"$f":"SHALADARPAN!B23","v":"A"},{"$f":"SHALADARPAN!K23","v":0},{"$f":"SHALADARPAN!E23","v":"Raju"},{"$f":"SHALADARPAN!G23","v":"Kailash"}]
[null,{"$f":"IF(D31=\"\",\"\",ROWS($D$9:D31))","v":23},0,"NISHA","Kailash",{"$nulls":15},{"$f":"SHALADARPAN!A24","v":1},{"$f":"SHALADARPAN!B24","v":"A"},{"$f":"SHALADARPAN!K24","v":0},{"$f":"SHALADARPAN!E24","v":"Rehana Banu"},{"$f":"SHALADARPAN!G24","v":"Kailash"}]
[null,{"$f":"IF(D32=\"\",\"\",ROWS($D$9:D32))","v":24},0,"Nitesh Acharya","Kailash",{"$nulls":15},{"$f":"SHALADARPAN!A25","v":1},{"$f":"SHALADARPAN!B25","v":"A"},{"$f":"SHALADARPAN!K25","v":0},{"$f":"SHALADARPAN!E25","v":"Saina"},{"$f":"SHALADARPAN!G25","v":"Kailash"}]
[null,{"$f":"IF(D33=\"\",\"\",ROWS($D$9:D33))","v":25},0,"OMARAM","Kailash",{"$nulls":15},{"$f":"SHALADARPAN!A26","v":1},{"$f":"SHALADARPAN!B26","v":"A"},{"$f":"SHALADARPAN!K26","v":0},{"$f":"SHALADARPAN!E26","v":"Sangeeta"},{"$f":"SHALADARPAN!G26","v":"Kailash"}]
[null,{"$f":"IF(D34=\"\",\"\",ROWS($D$9:D34))","v":26},0,"RAKESH BAWARI","Kailash",{"$nulls":15},{"$f":"SHALADARPAN!A27","v":1},{"$f":"SHALADARPAN!B27","v":"A"},{"$f":"SHALADARPAN!K27","v":0},{"$f":"SHALADARPAN!E27","v":"Sayna Banu"},{"$f":"SHALADARPAN!G27","v":"Kailash"}]
[null,{"$f":"IF(D35=\"\",\"\",ROWS($D$9:D35))","v":27},0,"Rashika Vaishnav","Kailash",{"$nulls":15},{"$f":"SHALADARPAN!A28","v":1},{"$f":"SHALADARPAN!B28","v":"A"},{"$f":"SHALADARPAN!K28","v":0},{"$f":"SHALADARPAN!E28","v":"Shahid"},{"$f":"SHALADARPAN!G28","v":"Kailash"}]
[null,{"$f":"IF(D36=\"\",\"\",ROWS($D$9:D36))","v":28},0,"RESHAMA BANU","Kailash",{"$nulls":15},{"$f":"SHALADARPAN!A29","v":1},{"$f":"SHALADARPAN!B29","v":"A"},{"$f":"SHALADARPAN!K29","v":0},{"$f":"SHALADARPAN!E29","v":"Sivani"},{"$f":"SHALADARPAN!G29","v":"Kailash"}]
[null,{"$f":"IF(D37=\"\",\"\",ROWS($D$9:D37))","v":29},0,"ROHIT TAMBOLI","Kailash",{"$nulls":15},{"$f":"SHALADARPAN!A30","v":1},{"$f":"SHALADARPAN!B30","v":"A"},{"$f":"SHALADARPAN!K30","v":0},{"$f":"SHALADARPAN!E30","v":"Surta"},{"$f":"SHALADARPAN!G30","v":"Kailash"}]
[null,{"$f":"IF(D38=\"\",\"\",ROWS($D$9:D38))","v":30},0,"RUKSANA MIRASI","Kailash",{"$nulls":15},{"$f":"SHALADARPAN!A31","v":1},{"$f":"SHALADARPAN!B31","v":"A"},{"$f":"SHALADARPAN!K31","v":0},{"$f":"SHALADARPAN!E31","v":"Tammna Aacharya"},{"$f":"SHALADARPAN!G31","v":"Kailash"}]
[null,{"$f":"IF(D39=\"\",\"\",ROWS($D$9:D39))","v":31},0,"Sahil","Kailash",{"$nulls":15},{"$f":"SHALADARPAN!A32","v":1},{"$f":"SHALADARPAN!B32","v":"A"},{"$f":"SHALADARPAN!K32","v":0},{"$f":"SHALADARPAN!E32","v":"Tanu"},{"$f":"SHALADARPAN!G32","v":"Kailash"}]
[null,{"$f":"IF(D40=\"\",\"\",ROWS($D$9:D40))","v":32},0,"SAMEER ALI","Kailash",{"$nulls":15},{"$f":"SHALADARPAN!A33","v":1},{"$f":"SHALADARPAN!B33","v":"A"},{"$f":"SHALADARPAN!K33","v":0},{"$f":"SHALADARPAN!E33","v":"Yuvraj Acharya"},{"$f":"SHALADARPAN!G33","v":"Kailash"}]
[null,{"$f":"IF(D41=\"\",\"\",ROWS($D$9:D41))","v":33},0,"SANJU DEVI","Kailash",{"$nulls":15},{"$f":"SHALADARPAN!A34","v":2},{"$f":"SHALADARPAN!B34","v":"A"},{"$f":"SHALADARPAN!K34","v":0},{"$f":"SHALADARPAN!E34","v":"Aaliya Bano"},{"$f":"SHALADARPAN!G34","v":"Kailash"}]
[null,{"$f":"IF(D42=\"\",\"\",ROWS($D$9:D42))","v":34},0,"SHABANA","Kailash",{"$nulls":15},{"$f":"SHALADARPAN!A35","v":2},{"$f":"SHALADARPAN!B35","v":"A"},{"$f":"SHALADARPAN!K35","v":0},{"$f":"SHALADARPAN!E35","v":"Abbas"},{"$f":"SHALADARPAN!G35","v":"Kailash"}]
[null,{"$f":"IF(D43=\"\",\"\",ROWS($D$9:D43))","v":35},0,"SHAHILSYA","Kailash",{"$nulls":15},{"$f":"SHALADARPAN!A36","v":2},{"$f":"SHALADARPAN!B36","v":"A"},{"$f":"SHALADARPAN!K36","v":0},{"$f":"SHALADARPAN!E36","v":"Abhishek"},{"$f":"SHALADARPAN!G36","v":"Kailash"}]
[null,{"$f":"IF(D44=\"\",\"\",ROWS($D$9:D44))","v":36},0,"SHAHNAWAZ","Kailash",{"$nulls":15},{"$f":"SHALADARPAN!A37","v":2},{"$f":"SHALADARPAN!B37","v":"A"},{"$f":"SHALADARPAN!K37","v":0},{"$f":"SHALADARPAN!E37","v":"Anita"},{"$f":"SHALADARPAN!G37","v":"Kailash"}]
[null,{"$f":"IF(D45=\"\",\"\",ROWS($D$9:D45))","v":37},0,"SHAKIL","Kailash",{"$nulls":15},{"$f":"SHALADARPAN!A38","v":2},{"$f":"SHALADARPAN!B38","v":"A"},{"$f":"SHALADARPAN!K38","v":0},{"$f":"SHALADARPAN!E38","v":"Asad Rajja"},{"$f":"SHALADARPAN!G38","v":"Kailash"}]
[null,{"$f":"IF(D46=\"\",\"\",ROWS($D$9:D46))","v":38},0,"SHALIGRAM","Kailash",{"$nulls":15},{"$f":"SHALADARPAN!A39","v":2},{"$f":"SHALADARPAN!B39","v":"A"},{"$f":"SHALADARPAN!K39","v":0},{"$f":"SHALADARPAN!E39","v":"Aslam"},{"$f":"SHALADARPAN!G39","v":"Kailash"}]
[null,{"$f":"IF(D47=\"\",\"\",ROWS($D$9:D47))","v":39},0,"SIMRAN","Kailash",{"$nulls":15},{"$f":"SHALADARPAN!A40","v":2},{"$f":"SHALADARPAN!B40","v":"A"},{"$f":"SHALADARPAN!K40","v":0},{"$f":"SHALADARPAN!E40","v":"Bushra"},{"$f":"SHALADARPAN!G40","v":"Kailash"}]
[null,{"$f":"IF(D48=\"\",\"\",ROWS($D$9:D48))","v":40},0,"SUFIYA BANU","Kailash",{"$nulls":15},{"$f":"SHALADARPAN!A41","v":2},{"$f":"SHALADARPAN!B41","v":"A"},{"$f":"SHALADARPAN!K41","v":0},{"$f":"SHALADARPAN!E41","v":"Harshita"},{"$f":"SHALADARPAN!G41","v":"Kailash"}]
[null,{"$f":"IF(D49=\"\",\"\",ROWS($D$9:D49))","v":41},0,"Sumitra Jangliya","Kailash",{"$nulls":15},{"$f":"SHALADARPAN!A42","v":2},{"$f":"SHALADARPAN!B42","v":"A"},{"$f":"SHALADARPAN!K42","v":0},{"$f":"SHALADARPAN!E42","v":"Imran"},{"$f":"SHALADARPAN!G42","v":"Kailash"}]
[null,{"$f":"IF(D50=\"\",\"\",ROWS($D$9:D50))","v":42},0,"Sushil Acharya","Kailash",{"$nulls":15},{"$f":"SHALADARPAN!A43","v":2},{"$f":"SHALADARPAN!B43","v":"A"},{"$f":"SHALADARPAN!K43","v":0},{"$f":"SHALADARPAN!E43","v":"Javed"},{"$f":"SHALADARPAN!G43","v":"Kailash"}]
[null,{"$f":"IF(D51=\"\",\"\",ROWS($D$9:D51))","v":43},0,"Tamanna","Kailash",{"$nulls":15},{"$f":"SHALADARPAN!A44","v":2},{"$f":"SHALADARPAN!B44","v":"A"},{"$f":"SHALADARPAN!K44","v":0},{"$f":"SHALADARPAN!E44","v":"Kamal"},{"$f":"SHALADARPAN!G44","v":"Kailash"}]
[null,{"$f":"IF(D52=\"\",\"\",ROWS($D$9:D52))","v":44},0,"TAMNNA","Kailash",{"$nulls":15},{"$f":"SHALADARPAN!A45","v":2},{"$f":"SHALADARPAN!B45","v":"A"},{"$f":"SHALADARPAN!K45","v":0},{"$f":"SHALADARPAN!E45","v":"Kuldeep"},{"$f":"SHALADARPAN!G45","v":"Kailash"}]
[null,{"$f":"IF(D53=\"\",\"\",ROWS($D$9:D53))","v":45},0,"TASLIMA","Kailash",{"$nulls":15},{"$f":"SHALADARPAN!A46","v":2},{"$f":"SHALADARPAN!B46","v":"A"},{"$f":"SHALADARPAN!K46","v":0},{"$f":"SHALADARPAN!E46","v":"Mohit Nath"},{"$f":"SHALADARPAN!G46","v":"Kailash"}]
[null,{"$f":"IF(D54=\"\",\"\",ROWS($D$9:D54))","v":46},0,"TIKAM","Kailash",{"$nulls":15},{"$f":"SHALADARPAN!A47","v":2},{"$f":"SHALADARPAN!B47","v":"A"},{"$f":"SHALADARPAN!K47","v":0},{"$f":"SHALADARPAN!E47","v":"Naveen Jangliya"},{"$f":"SHALADARPAN!G47","v":"Kailash"}]
[null,{"$f":"IF(D55=\"\",\"\",ROWS($D$9:D55))","v":47},0,"VASEEM","Kailash",{"$nulls":15},{"$f":"SHALADARPAN!A48","v":2},{"$f":"SHALADARPAN!B48","v":"A"},{"$f":"SHALADARPAN!K48","v":0},{"$f":"SHALADARPAN!E48","v":"Om Prakash"},{"$f":"SHALADARPAN!G48","v":"Kailash"}]
[null,{"$f":"IF(D56=\"\",\"\",ROWS($D$9:D56))","v":48},0,"Vikas Acharya","Kailash",{"$nulls":15},{"$f":"SHALADARPAN!A49","v":2},{"$f":"SHALADARPAN!B49","v":"A"},{"$f":"SHALADARPAN!K49","v":0},{"$f":"SHALADARPAN!E49","v":"Parina"},{"$f":"SHALADARPAN!G49","v":"Kailash"}]
[null,{"$f":"IF(D57=\"\",\"\",ROWS($D$9:D57))","v":""},{"$nulls":18},{"$f":"SHALADARPAN!A50","v":2},{"$f":"SHALADARPAN!B50","v":"A"},{"$f":"SHALADARPAN!K50","v":0},{"$f":"SHALADARPAN!E50","v":"Rahul"},{"$f":"SHALADARPAN!G50","v":"Kailash"}]
[null,{"$f":"IF(D58=\"\",\"\",ROWS($D$9:D58))","v":""},{"$nulls":18},{"$f":"SHALADARPAN!A51","v":2},{"$f":"SHALADARPAN!B51","v":"A"},{"$f":"SHALADARPAN!K51","v":0},{"$f":"SHALADARPAN!E51","v":"Samina"},{"$f":"SHALADARPAN!G51","v":"Kailash"}]
[null,{"$f":"IF(D59=\"\",\"\",ROWS($D$9:D59))","v":""},{"$nulls":18},{"$f":"SHALADARPAN!A52","v":2},{"$f":"SHALADARPAN!B52","v":"A"},{"$f":"SHALADARPAN!K52","v":0},{"$f":"SHALADARPAN!E52","v":"Sayaba"},{"$f":"SHALADARPAN!G52","v":"Kailash"}]
[null,{"$f":"IF(D60=\"\",\"\",ROWS($D$9:D60))","v":""},{"$nulls":18},{"$f":"SHALADARPAN!A53","v":2},{"$f":"SHALADARPAN!B53","v":"A"},{"$f":"SHALADARPAN!K53","v":0},{"$f":"SHALADARPAN!E53","v":"Sayana"},{"$f":"SHALADARPAN!G53","v":"Kailash"}]
[null,{"$f":"IF(D61=\"\",\"\",ROWS($D$9:D61))","v":""},{"$nulls":18},{"$f":"SHALADARPAN!A54","v":2},{"$f":"SHALADARPAN!B54","v":"A"},{"$f":"SHALADARPAN!K54","v":0},{"$f":"SHALADARPAN!E54","v":"Seema Devi"},{"$f":"SHALADARPAN!G54","v":"Kailash"}]
[null,{"$f":"IF(D62=\"\",\"\",ROWS($D$9:D62))","v":""},{"$nulls":18},{"$f":"SHALADARPAN!A55","v":2},{"$f":"SHALADARPAN!B55","v":"A"},{"$f":"SHALADARPAN!K55","v":0},{"$f":"SHALADARPAN!E55","v":"Shabana"},{"$f":"SHALADARPAN!G55","v":"Kailash"}]
[null,{"$f":"IF(D63=\"\",\"\",ROWS($D$9:D63))","v":""},{"$nulls":18},{"$f":"SHALADARPAN!A56","v":2},{"$f":"SHALADARPAN!B56","v":"A"},{"$f":"SHALADARPAN!K56","v":0},{"$f":"SHALADARPAN!E56","v":"Shabir Huhain"},{"$f":"SHALADARPAN!G56","v":"Kailash"}]
[null,{"$f":"IF(D64=\"\",\"\",ROWS($D$9:D64))","v":""},{"$nulls":18},{"$f":"SHALADARPAN!A57","v":2},{"$f":"SHALADARPAN!B57","v":"A"},{"$f":"SHALADARPAN!K57","v":0},{"$f":"SHALADARPAN!E57","v":"Shahiba Banu"},{"$f":"SHALADARPAN!G57","v":"Kailash"}]
[null,{"$f":"IF(D65=\"\",\"\",ROWS($D$9:D65))","v":""},{"$nulls":18},{"$f":"SHALADARPAN!A58","v":2},{"$f":"SHALADARPAN!B58","v":"A"},{"$f":"SHALADARPAN!K58","v":0},{"$f":"SHALADARPAN!E58","v":"Shahnaz"},{"$f":"SHALADARPAN!G58","v":"Kailash"}]
[null,{"$f":"IF(D66=\"\",\"\",ROWS($D$9:D66))","v":""},{"$nulls":18},{"$f":"SHALADARPAN!A59","v":2},{"$f":"SHALADARPAN!B59","v":"A"},{"$f":"SHALADARPAN!K59","v":0},{"$f":"SHALADARPAN!E59","v":"Shalu Kanwar"},{"$f":"SHALADARPAN!G59","v":"Kailash"}]
[null,{"$f":"IF(D67=\"\",\"\",ROWS($D$9:D67))","v":""},{"$nulls":18},{"$f":"SHALADARPAN!A60","v":2},{"$f":"SHALADARPAN!B60","v":"A"},{"$f":"SHALADARPAN!K60","v":0},{"$f":"SHALADARPAN!E60","v":"Shalu Kanwar"},{"$f":"SHALADARPAN!G60","v":"Kailash"}]
[null,{"$f":"IF(D68=\"\",\"\",ROWS($D$9:D68))","v":""},{"$nulls":18},{"$f":"SHALADARPAN!A61","v":2},{"$f":"SHALADARPAN!B61","v":"A"},{"$f":"SHALADARPAN!K61","v":0},{"$f":"SHALADARPAN!E61","v":"Sharif Mohmmed"},{"$f":"SHALADARPAN!G61","v":"Kailash"}]
[null,{"$f":"IF(D69=\"\",\"\",ROWS($D$9:D69))","v":""},{"$nulls":18},{"$f":"SHALADARPAN!A62","v":2},{"$f":"SHALADARPAN!B62","v":"A"},{"$f":"SHALADARPAN!K62","v":0},{"$f":"SHALADARPAN!E62","v":"Sidarth Mali"},{"$f":"SHALADARPAN!G62","v":"Kailash"}]
[null,{"$f":"IF(D70=\"\",\"\",ROWS($D$9:D70))","v":""},{"$nulls":18},{"$f":"SHALADARPAN!A63","v":2},{"$f":"SHALADARPAN!B63","v":"A"},{"$f":"SHALADARPAN!K63","v":0},{"$f":"SHALADARPAN!E63","v":"Soni"},{"$f":"SHALADARPAN!G63","v":"Kailash"}]
[null,{"$f":"IF(D71=\"\",\"\",ROWS($D$9:D71))","v":""},{"$nulls":18},{"$f":"SHALADARPAN!A64","v":3},{"$f":"SHALADARPAN!B64","v":"A"},{"$f":"SHALADARPAN!K64","v":0},{"$f":"SHALADARPAN!E64","v":"AAISHA BANO"},{"$f":"SHALADARPAN!G64","v":"Kailash"}]
[null,{"$f":"IF(D72=\"\",\"\",ROWS($D$9:D72))","v":""},{"$nulls":18},{"$f":"SHALADARPAN!A65","v":3},{"$f":"SHALADARPAN!B65","v":"A"},{"$f":"SHALADARPAN!K65","v":0},{"$f":"SHALADARPAN!E65","v":"AARIF"},{"$f":"SHALADARPAN!G65","v":"Kailash"}]
[null,{"$f":"IF(D73=\"\",\"\",ROWS($D$9:D73))","v":""},{"$nulls":18},{"$f":"SHALADARPAN!A66","v":3},{"$f":"SHALADARPAN!B66","v":"A"},{"$f":"SHALADARPAN!K66","v":0},{"$f":"SHALADARPAN!E66","v":"ALFIDA"},{"$f":"SHALADARPAN!G66","v":"Kailash"}]
[null,{"$f":"IF(D74=\"\",\"\",ROWS($D$9:D74))","v":""},{"$nulls":18},{"$f":"SHALADARPAN!A67","v":3},{"$f":"SHALADARPAN!B67","v":"A"},{"$f":"SHALADARPAN!K67","v":0},{"$f":"SHALADARPAN!E67","v":"ALVEERA"},{"$f":"SHALADARPAN!G67","v":"Kailash"}]
[null,{"$f":"IF(D75=\"\",\"\",ROWS($D$9:D75))","v":""},{"$nulls":18},{"$f":"SHALADARPAN!A68","v":3},{"$f":"SHALADARPAN!B68","v":"A"},{"$f":"SHALADARPAN!K68","v":0},{"$f":"SHALADARPAN!E68","v":"ANJALEE"},{"$f":"SHALADARPAN!G68","v":"Kailash"}]
[null,{"$f":"IF(D76=\"\",\"\",ROWS($D$9:D76))","v":""},{"$nulls":18},{"$f":"SHALADARPAN!A69","v":3},{"$f":"SHALADARPAN!B69","v":"A"},{"$f":"SHALADARPAN!K69","v":0},{"$f":"SHALADARPAN!E69","v":"CHANCHAL"},{"$f":"SHALADARPAN!G69","v":"Kailash"}]
[null,{"$f":"IF(D77=\"\",\"\",ROWS($D$9:D77))","v":""},{"$nulls":18},{"$f":"SHALADARPAN!A70","v":3},{"$f":"SHALADARPAN!B70","v":"A"},{"$f":"SHALADARPAN!K70","v":0},{"$f":"SHALADARPAN!E70","v":"Danish"},{"$f":"SHALADARPAN!G70","v":"Kailash"}]
[null,{"$f":"IF(D78=\"\",\"\",ROWS($D$9:D78))","v":""},{"$nulls":18},{"$f":"SHALADARPAN!A71","v":3},{"$f":"SHALADARPAN!B71","v":"A"},{"$f":"SHALADARPAN!K71","v":0},{"$f":"SHALADARPAN!E71","v":"GOVIND"},{"$f":"SHALADARPAN!G71","v":"Kailash"}]
[null,{"$f":"IF(D79=\"\",\"\",ROWS($D$9:D79))","v":""},{"$nulls":18},{"$f":"SHALADARPAN!A72","v":3},{"$f":"SHALADARPAN!B72","v":"A"},{"$f":"SHALADARPAN!K72","v":0},{"$f":"SHALADARPAN!E72","v":"HAIDAR ALI"},{"$f":"SHALADARPAN!G72","v":"Kailash"}]
[null,{"$f":"IF(D80=\"\",\"\",ROWS($D$9:D80))","v":""},{"$nulls":18},{"$f":"SHALADARPAN!A73","v":3},{"$f":"SHALADARPAN!B73","v":"A"},{"$f":"SHALADARPAN!K73","v":0},{"$f":"SHALADARPAN!E73","v":"KAVITA"},{"$f":"SHALADARPAN!G73","v":"Kailash"}]
[null,{"$f":"IF(D81=\"\",\"\",ROWS($D$9:D81))","v":""},{"$nulls":18},{"$f":"SHALADARPAN!A74","v":3},{"$f":"SHALADARPAN!B74","v":"A"},{"$f":"SHALADARPAN!K74","v":0},{"$f":"SHALADARPAN!E74","v":"KHUSBU"},{"$f":"SHALADARPAN!G74","v":"Kailash"}]
[null,{"$f":"IF(D82=\"\",\"\",ROWS($D$9:D82))","v":""},{"$nulls":18},{"$f":"SHALADARPAN!A75","v":3},{"$f":"SHALADARPAN!B75","v":"A"},{"$f":"SHALADARPAN!K75","v":0},{"$f":"SHALADARPAN!E75","v":"Komal"},{"$f":"SHALADARPAN!G75","v":"Kailash"}]
[null,{"$f":"IF(D83=\"\",\"\",ROWS($D$9:D83))","v":""},{"$nulls":18},{"$f":"SHALADARPAN!A76","v":3},{"$f":"SHALADARPAN!B76","v":"A"},{"$f":"SHALADARPAN!K76","v":0},{"$f":"SHALADARPAN!E76","v":"Monika Saini"},{"$f":"SHALADARPAN!G76","v":"Kailash"}]
[null,{"$f":"IF(D84=\"\",\"\",ROWS($D$9:D84))","v":""},{"$nulls":18},{"$f":"SHALADARPAN!A77","v":3},{"$f":"SHALADARPAN!B77","v":"A"},{"$f":"SHALADARPAN!K77","v":0},{"$f":"SHALADARPAN!E77","v":"Mukesh Vaishnav"},{"$f":"SHALADARPAN!G77","v":"Kailash"}]
[null,{"$f":"IF(D85=\"\",\"\",ROWS($D$9:D85))","v":""},{"$nulls":18},{"$f":"SHALADARPAN!A78","v":3},{"$f":"SHALADARPAN!B78","v":"A"},{"$f":"SHALADARPAN!K78","v":0},{"$f":"SHALADARPAN!E78","v":"NIKIT BANU"},{"$f":"SHALADARPAN!G78","v":"Kailash"}]
[null,{"$f":"IF(D86=\"\",\"\",ROWS($D$9:D86))","v":""},{"$nulls":18},{"$f":"SHALADARPAN!A79","v":3},{"$f":"SHALADARPAN!B79","v":"A"},{"$f":"SHALADARPAN!K79","v":0},{"$f":"SHALADARPAN!E79","v":"NISHA TAMBOLI"},{"$f":"SHALADARPAN!G79","v":"Kailash"}]
[null,{"$f":"IF(D87=\"\",\"\",ROWS($D$9:D87))","v":""},{"$nulls":18},{"$f":"SHALADARPAN!A80","v":3},{"$f":"SHALADARPAN!B80","v":"A"},{"$f":"SHALADARPAN!K80","v":0},{"$f":"SHALADARPAN!E80","v":"RAJESH"},{"$f":"SHALADARPAN!G80","v":"Kailash"}]
[null,{"$f":"IF(D88=\"\",\"\",ROWS($D$9:D88))","v":""},{"$nulls":18},{"$f":"SHALADARPAN!A81","v":3},{"$f":"SHALADARPAN!B81","v":"A"},{"$f":"SHALADARPAN!K81","v":0},{"$f":"SHALADARPAN!E81","v":"Ranveer Acharya"},{"$f":"SHALADARPAN!G81","v":"Kailash"}]
[null,{"$f":"IF(D89=\"\",\"\",ROWS($D$9:D89))","v":""},{"$nulls":18},{"$f":"SHALADARPAN!A82","v":3},{"$f":"SHALADARPAN!B82","v":"A"},{"$f":"SHALADARPAN!K82","v":0},{"$f":"SHALADARPAN!E82","v":"Ravindra Saini"},{"$f":"SHALADARPAN!G82","v":"Kailash"}]
[null,{"$f":"IF(D90=\"\",\"\",ROWS($D$9:D90))","v":""},{"$nulls":18},{"$f":"SHALADARPAN!A83","v":3},{"$f":"SHALADARPAN!B83","v":"A"},{"$f":"SHALADARPAN!K83","v":0},{"$f":"SHALADARPAN!E83","v":"Sachi Nath"},{"$f":"SHALADARPAN!G83","v":"Kailash"}]
[null,{"$f":"IF(D91=\"\",\"\",ROWS($D$9:D91))","v":""},{"$nulls":18},{"$f":"SHALADARPAN!A84","v":3},{"$f":"SHALADARPAN!B84","v":"A"},{"$f":"SHALADARPAN!K84","v":0},{"$f":"SHALADARPAN!E84","v":"SAHEENA BANU"},{"$f":"SHALADARPAN!G84","v":"Kailash"}]
[null,{"$f":"IF(D92=\"\",\"\",ROWS($D$9:D92))","v":""},{"$nulls":18},{"$f":"SHALADARPAN!A85","v":3},{"$f":"SHALADARPAN!B85","v":"A"},{"$f":"SHALADARPAN!K85","v":0},{"$f":"SHALADARPAN!E85","v":"SHEHJAD"},{"$f":"SHALADARPAN!G85","v":"Kailash"}]
[null,{"$f":"IF(D93=\"\",\"\",ROWS($D$9:D93))","v":""},{"$nulls":18},{"$f":"SHALADARPAN!A86","v":3},{"$f":"SHALADARPAN!B86","v":"A"},{"$f":"SHALADARPAN!K86","v":0},{"$f":"SHALADARPAN!E86","v":"SIMRAN"},{"$f":"SHALADARPAN!G86","v":"Kailash"}]
[null,{"$f":"IF(D94=\"\",\"\",ROWS($D$9:D94))","v":""},{"$nulls":18},{"$f":"SHALADARPAN!A87","v":3},{"$f":"SHALADARPAN!B87","v":"A"},{"$f":"SHALADARPAN!K87","v":0},{"$f":"SHALADARPAN!E87","v":"Sufiyan"},{"$f":"SHALADARPAN!G87","v":"Kailash"}]
[null,{"$f":"IF(D95=\"\",\"\",ROWS($D$9:D95))","v":""},{"$nulls":18},{"$f":"SHALADARPAN!A88","v":3},{"$f":"SHALADARPAN!B88","v":"A"},{"$f":"SHALADARPAN!K88","v":0},{"$f":"SHALADARPAN!E88","v":"Viki"},{"$f":"SHALADARPAN!G88","v":"Kailash"}]
[null,{"$f":"IF(D96=\"\",\"\",ROWS($D$9:D96))","v":""},{"$nulls":18},{"$f":"SHALADARPAN!A89","v":4},{"$f":"SHALADARPAN!B89","v":"A"},{"$f":"SHALADARPAN!K89","v":0},{"$f":"SHALADARPAN!E89","v":"Aasma"},{"$f":"SHALADARPAN!G89","v":"Kailash"}]
[null,{"$f":"IF(D97=\"\",\"\",ROWS($D$9:D97))","v":""},{"$nulls":18},{"$f":"SHALADARPAN!A90","v":4},{"$f":"SHALADARPAN!B90","v":"A"},{"$f":"SHALADARPAN!K90","v":0},{"$f":"SHALADARPAN!E90","v":"ALIYA BANO"},{"$f":"SHALADARPAN!G90","v":"Kailash"}]
[null,{"$f":"IF(D98=\"\",\"\",ROWS($D$9:D98))","v":""},{"$nulls":18},{"$f":"SHALADARPAN!A91","v":4},{"$f":"SHALADARPAN!B91","v":"A"},{"$f":"SHALADARPAN!K91","v":0},{"$f":"SHALADARPAN!E91","v":"ASGAR"},{"$f":"SHALADARPAN!G91","v":"Kailash"}]
[null,{"$f":"IF(D99=\"\",\"\",ROWS($D$9:D99))","v":""},{"$nulls":18},{"$f":"SHALADARPAN!A92","v":4},{"$f":"SHALADARPAN!B92","v":"A"},{"$f":"SHALADARPAN!K92","v":0},{"$f":"SHALADARPAN!E92","v":"Balotiya Naresh"},{"$f":"SHALADARPAN!G92","v":"Kailash"}]
[null,{"$f":"IF(D100=\"\",\"\",ROWS($D$9:D100))","v":""},{"$nulls":18},{"$f":"SHALADARPAN!A93","v":4},{"$f":"SHALADARPAN!B93","v":"A"},{"$f":"SHALADARPAN!K93","v":0},{"$f":"SHALADARPAN!E93","v":"BHRAT PARJAPAT"},{"$f":"SHALADARPAN!G93","v":"Kailash"}]
[null,{"$f":"IF(D101=\"\",\"\",ROWS($D$9:D101))","v":""},{"$nulls":18},{"$f":"SHALADARPAN!A94","v":4},{"$f":"SHALADARPAN!B94","v":"A"},{"$f":"SHALADARPAN!K94","v":0},{"$f":"SHALADARPAN!E94","v":"HINA MIRASI"},{"$f":"SHALADARPAN!G94","v":"Kailash"}]
[null,{"$f":"IF(D102=\"\",\"\",ROWS($D$9:D102))","v":""},{"$nulls":18},{"$f":"SHALADARPAN!A95","v":4},{"$f":"SHALADARPAN!B95","v":"A"},{"$f":"SHALADARPAN!K95","v":0},{"$f":"SHALADARPAN!E95","v":"ISANA"},{"$f":"SHALADARPAN!G95","v":"Kailash"}]
[null,{"$f":"IF(D103=\"\",\"\",ROWS($D$9:D103))","v":""},{"$nulls":18},{"$f":"SHALADARPAN!A96","v":4},{"$f":"SHALADARPAN!B96","v":"A"},{"$f":"SHALADARPAN!K96","v":0},{"$f":"SHALADARPAN!E96","v":"JASMIN"},{"$f":"SHALADARPAN!G96","v":"Kailash"}]
[null,{"$f":"IF(D104=\"\",\"\",ROWS($D$9:D104))","v":""},{"$nulls":18},{"$f":"SHALADARPAN!A97","v":4},{"$f":"SHALADARPAN!B97","v":"A"},{"$f":"SHALADARPAN!K97","v":0},{"$f":"SHALADARPAN!E97","v":"JOYA"},{"$f":"SHALADARPAN!G97","v":"Kailash"}]
[null,{"$f":"IF(D105=\"\",\"\",ROWS($D$9:D105))","v":""},{"$nulls":18},{"$f":"SHALADARPAN!A98","v":4},{"$f":"SHALADARPAN!B98","v":"A"},{"$f":"SHALADARPAN!K98","v":0},{"$f":"SHALADARPAN!E98","v":"KOMAL"},{"$f":"SHALADARPAN!G98","v":"Kailash"}]
[null,{"$f":"IF(D106=\"\",\"\",ROWS($D$9:D106))","v":""},{"$nulls":18},{"$f":"SHALADARPAN!A99","v":4},{"$f":"SHALADARPAN!B99","v":"A"},{"$f":"SHALADARPAN!K99","v":0},{"$f":"SHALADARPAN!E99","v":"Lakshay"},{"$f":"SHALADARPAN!G99","v":"Kailash"}]
[null,{"$f":"IF(D107=\"\",\"\",ROWS($D$9:D107))","v":""},{"$nulls":18},{"$f":"SHALADARPAN!A100","v":4},{"$f":"SHALADARPAN!B100","v":"A"},{"$f":"SHALADARPAN!K100","v":0},{"$f":"SHALADARPAN!E100","v":"MOH. BILAL"},{"$f":"SHALADARPAN!G100","v":"Kailash"}]
[null,{"$f":"IF(D108=\"\",\"\",ROWS($D$9:D108))","v":""},{"$nulls":18},{"$f":"SHALADARPAN!A101","v":4},{"$f":"SHALADARPAN!B101","v":"A"},{"$f":"SHALADARPAN!K101","v":0},{"$f":"SHALADARPAN!E101","v":"MUBARAK"},{"$f":"SHALADARPAN!G101","v":"Kailash"}]
[null,{"$f":"IF(D109=\"\",\"\",ROWS($D$9:D109))","v":""},{"$nulls":18},{"$f":"SHALADARPAN!A102","v":4},{"$f":"SHALADARPAN!B102","v":"A"},{"$f":"SHALADARPAN!K102","v":0},{"$f":"SHALADARPAN!E102","v":"NENOO RAM"},{"$f":"SHALADARPAN!G102","v":"Kailash"}]
[null,{"$f":"IF(D110=\"\",\"\",ROWS($D$9:D110))","v":""},{"$nulls":18},{"$f":"SHALADARPAN!A103","v":4},{"$f":"SHALADARPAN!B103","v":"A"},{"$f":"SHALADARPAN!K103","v":0},{"$f":"SHALADARPAN!E103","v":"NIKUL RAIDAS"},{"$f":"SHALADARPAN!G103","v":"Kailash"}]
[null,{"$f":"IF(D111=\"\",\"\",ROWS($D$9:D111))","v":""},{"$nulls":18},{"$f":"SHALADARPAN!A104","v":4},{"$f":"SHALADARPAN!B104","v":"A"},{"$f":"SHALADARPAN!K104","v":0},{"$f":"SHALADARPAN!E104","v":"PARVEENA BANO"},{"$f":"SHALADARPAN!G104","v":"Kailash"}]
[null,{"$f":"IF(D112=\"\",\"\",ROWS($D$9:D112))","v":""},{"$nulls":18},{"$f":"SHALADARPAN!A105","v":4},{"$f":"SHALADARPAN!B105","v":"A"},{"$f":"SHALADARPAN!K105","v":0},{"$f":"SHALADARPAN!E105","v":"PAYAL ACHARY"},{"$f":"SHALADARPAN!G105","v":"Kailash"}]
[null,{"$f":"IF(D113=\"\",\"\",ROWS($D$9:D113))","v":""},{"$nulls":18},{"$f":"SHALADARPAN!A106","v":4},{"$f":"SHALADARPAN!B106","v":"A"},{"$f":"SHALADARPAN!K106","v":0},{"$f":"SHALADARPAN!E106","v":"RINKU MALI"},{"$f":"SHALADARPAN!G106","v":"Kailash"}]
[null,{"$f":"IF(D114=\"\",\"\",ROWS($D$9:D114))","v":""},{"$nulls":18},{"$f":"SHALADARPAN!A107","v":4},{"$f":"SHALADARPAN!B107","v":"A"},{"$f":"SHALADARPAN!K107","v":0},{"$f":"SHALADARPAN!E107","v":"RITU"},{"$f":"SHALADARPAN!G107","v":"Kailash"}]
[null,{"$f":"IF(D115=\"\",\"\",ROWS($D$9:D115))","v":""},{"$nulls":18},{"$f":"SHALADARPAN!A108","v":4},{"$f":"SHALADARPAN!B108","v":"A"},{"$f":"SHALADARPAN!K108","v":0},{"$f":"SHALADARPAN!E108","v":"RIYAN ALI"},{"$f":"SHALADARPAN!G108","v":"Kailash"}]
[null,{"$f":"IF(D116=\"\",\"\",ROWS($D$9:D116))","v":""},{"$nulls":18},{"$f":"SHALADARPAN!A109","v":4},{"$f":"SHALADARPAN!B109","v":"A"},{"$f":"SHALADARPAN!K109","v":0},{"$f":"SHALADARPAN!E109","v":"RUSTAM"},{"$f":"SHALADARPAN!G109","v":"Kailash"}]
[null,{"$f":"IF(D117=\"\",\"\",ROWS($D$9:D117))","v":""},{"$nulls":18},{"$f":"SHALADARPAN!A110","v":4},{"$f":"SHALADARPAN!B110","v":"A"},{"$f":"SHALADARPAN!K110","v":0},{"$f":"SHALADARPAN!E110","v":"SAJEEDA BANU"},{"$f":"SHALADARPAN!G110","v":"Kailash"}]
[null,{"$f":"IF(D118=\"\",\"\",ROWS($D$9:D118))","v":""},{"$nulls":18},{"$f":"SHALADARPAN!A111","v":4},{"$f":"SHALADARPAN!B111","v":"A"},{"$f":"SHALADARPAN!K111","v":0},{"$f":"SHALADARPAN!E111","v":"SHABEENA"},{"$f":"SHALADARPAN!G111","v":"Kailash"}]
[null,{"$f":"IF(D119=\"\",\"\",ROWS($D$9:D119))","v":""},{"$nulls":18},{"$f":"SHALADARPAN!A112","v":4},{"$f":"SHALADARPAN!B112","v":"A"},{"$f":"SHALADARPAN!K112","v":0},{"$f":"SHALADARPAN!E112","v":"SHAHNVAJ"},{"$f":"SHALADARPAN!G112","v":"Kailash"}]
[null,{"$f":"IF(D120=\"\",\"\",ROWS($D$9:D120))","v":""},{"$nulls":18},{"$f":"SHALADARPAN!A113","v":4},{"$f":"SHALADARPAN!B113","v":"A"},{"$f":"SHALADARPAN!K113","v":0},{"$f":"SHALADARPAN!E113","v":"SHAKIL"},{"$f":"SHALADARPAN!G113","v":"Kailash"}]
[null,{"$f":"IF(D121=\"\",\"\",ROWS($D$9:D121))","v":""},{"$nulls":18},{"$f":"SHALADARPAN!A114","v":4},{"$f":"SHALADARPAN!B114","v":"A"},{"$f":"SHALADARPAN!K114","v":0},{"$f":"SHALADARPAN!E114","v":"SHYAMLAL"},{"$f":"SHALADARPAN!G114","v":"Kailash"}]
[null,{"$f":"IF(D122=\"\",\"\",ROWS($D$9:D122))","v":""},{"$nulls":18},{"$f":"SHALADARPAN!A115","v":4},{"$f":"SHALADARPAN!B115","v":"A"},{"$f":"SHALADARPAN!K115","v":0},{"$f":"SHALADARPAN!E115","v":"SIMARAN"},{"$f":"SHALADARPAN!G115","v":"Kailash"}]
[null,{"$f":"IF(D123=\"\",\"\",ROWS($D$9:D123))","v":""},{"$nulls":18},{"$f":"SHALADARPAN!A116","v":4},{"$f":"SHALADARPAN!B116","v":"A"},{"$f":"SHALADARPAN!K116","v":0},{"$f":"SHALADARPAN!E116","v":"SUKHDEV BAWARI"},{"$f":"SHALADARPAN!G116","v":"Kailash"}]
[null,{"$f":"IF(D124=\"\",\"\",ROWS($D$9:D124))","v":""},{"$nulls":18},{"$f":"SHALADARPAN!A117","v":4},{"$f":"SHALADARPAN!B117","v":"A"},{"$f":"SHALADARPAN!K117","v":0},{"$f":"SHALADARPAN!E117","v":"SUMAN"},{"$f":"SHALADARPAN!G117","v":"Kailash"}]
[null,{"$f":"IF(D125=\"\",\"\",ROWS($D$9:D125))","v":""},{"$nulls":18},{"$f":"SHALADARPAN!A118","v":4},{"$f":"SHALADARPAN!B118","v":"A"},{"$f":"SHALADARPAN!K118","v":0},{"$f":"SHALADARPAN!E118","v":"USRA"},{"$f":"SHALADARPAN!G118","v":"Kailash"}]
[null,{"$f":"IF(D126=\"\",\"\",ROWS($D$9:D126))","v":""},{"$nulls":18},{"$f":"SHALADARPAN!A119","v":4},{"$f":"SHALADARPAN!B119","v":"A"},{"$f":"SHALADARPAN!K119","v":0},{"$f":"SHALADARPAN!E119","v":"VINOD"},{"$f":"SHALADARPAN!G119","v":"Kailash"}]
[null,{"$f":"IF(D127=\"\",\"\",ROWS($D$9:D127))","v":""},{"$nulls":18},{"$f":"SHALADARPAN!A120","v":4},{"$f":"SHALADARPAN!B120","v":"A"},{"$f":"SHALADARPAN!K120","v":0},{"$f":"SHALADARPAN!E120","v":"VINOD RAVAL"},{"$f":"SHALADARPAN!G120","v":"Kailash"}]
[null,{"$f":"IF(D128=\"\",\"\",ROWS($D$9:D128))","v":""},{"$nulls":18},{"$f":"SHALADARPAN!A121","v":5},{"$f":"SHALADARPAN!B121","v":"A"},{"$f":"SHALADARPAN!K121","v":0},{"$f":"SHALADARPAN!E121","v":"ANILA"},{"$f":"SHALADARPAN!G121","v":"Kailash"}]
[null,{"$f":"IF(D129=\"\",\"\",ROWS($D$9:D129))","v":""},{"$nulls":18},{"$f":"SHALADARPAN!A122","v":5},{"$f":"SHALADARPAN!B122","v":"A"},{"$f":"SHALADARPAN!K122","v":0},{"$f":"SHALADARPAN!E122","v":"ANNU"},{"$f":"SHALADARPAN!G122","v":"Kailash"}]
[null,{"$f":"IF(D130=\"\",\"\",ROWS($D$9:D130))","v":""},{"$nulls":18},{"$f":"SHALADARPAN!A123","v":5},{"$f":"SHALADARPAN!B123","v":"A"},{"$f":"SHALADARPAN!K123","v":0},{"$f":"SHALADARPAN!E123","v":"ARMAN"},{"$f":"SHALADARPAN!G123","v":"Kailash"}]
[null,{"$f":"IF(D131=\"\",\"\",ROWS($D$9:D131))","v":""},{"$nulls":18},{"$f":"SHALADARPAN!A124","v":5},{"$f":"SHALADARPAN!B124","v":"A"},{"$f":"SHALADARPAN!K124","v":0},{"$f":"SHALADARPAN!E124","v":"BULBUL JANGLIYA"},{"$f":"SHALADARPAN!G124","v":"Kailash"}]
[null,{"$f":"IF(D132=\"\",\"\",ROWS($D$9:D132))","v":""},{"$nulls":18},{"$f":"SHALADARPAN!A125","v":5},{"$f":"SHALADARPAN!B125","v":"A"},{"$f":"SHALADARPAN!K125","v":0},{"$f":"SHALADARPAN!E125","v":"FARUKH"},{"$f":"SHALADARPAN!G125","v":"Kailash"}]
[null,{"$f":"IF(D133=\"\",\"\",ROWS($D$9:D133))","v":""},{"$nulls":18},{"$f":"SHALADARPAN!A126","v":5},{"$f":"SHALADARPAN!B126","v":"A"},{"$f":"SHALADARPAN!K126","v":0},{"$f":"SHALADARPAN!E126","v":"FATMA BANU"},{"$f":"SHALADARPAN!G126","v":"Kailash"}]
[null,{"$f":"IF(D134=\"\",\"\",ROWS($D$9:D134))","v":""},{"$nulls":18},{"$f":"SHALADARPAN!A127","v":5},{"$f":"SHALADARPAN!B127","v":"A"},{"$f":"SHALADARPAN!K127","v":0},{"$f":"SHALADARPAN!E127","v":"GOPAL"},{"$f":"SHALADARPAN!G127","v":"Kailash"}]
[null,{"$f":"IF(D135=\"\",\"\",ROWS($D$9:D135))","v":""},{"$nulls":18},{"$f":"SHALADARPAN!A128","v":5},{"$f":"SHALADARPAN!B128","v":"A"},{"$f":"SHALADARPAN!K128","v":0},{"$f":"SHALADARPAN!E128","v":"KAUSHAR BANU"},{"$f":"SHALADARPAN!G128","v":"Kailash"}]
[null,{"$f":"IF(D136=\"\",\"\",ROWS($D$9:D136))","v":""},{"$nulls":18},{"$f":"SHALADARPAN!A129","v":5},{"$f":"SHALADARPAN!B129","v":"A"},{"$f":"SHALADARPAN!K129","v":0},{"$f":"SHALADARPAN!E129","v":"Khushi Kanwar"},{"$f":"SHALADARPAN!G129","v":"Kailash"}]
[{"$nulls":20},{"$f":"SHALADARPAN!A130","v":5},{"$f":"SHALADARPAN!B130","v":"A"},{"$f":"SHALADARPAN!K130","v":0},{"$f":"SHALADARPAN!E130","v":"Krishna Vaishnav"},{"$f":"SHALADARPAN!G130","v":"Kailash"}]
[{"$nulls":20},{"$f":"SHALADARPAN!A131","v":5},{"$f":"SHALADARPAN!B131","v":"A"},{"$f":"SHALADARPAN!K131","v":0},{"$f":"SHALADARPAN!E131","v":"LAKHI RAM"},{"$f":"SHALADARPAN!G131","v":"Kailash"}]
[{"$nulls":20},{"$f":"SHALADARPAN!A132","v":5},{"$f":"SHALADARPAN!B132","v":"A"},{"$f":"SHALADARPAN!K132","v":0},{"$f":"SHALADARPAN!E132","v":"LALITA"},{"$f":"SHALADARPAN!G132","v":"Kailash"}]
[{"$nulls":20},{"$f":"SHALADARPAN!A133","v":5},{"$f":"SHALADARPAN!B133","v":"A"},{"$f":"SHALADARPAN!K133","v":0},{"$f":"SHALADARPAN!E133","v":"MAMTA"},{"$f":"SHALADARPAN!G133","v":"Kailash"}]
[{"$nulls":20},{"$f":"SHALADARPAN!A134","v":5},{"$f":"SHALADARPAN!B134","v":"A"},{"$f":"SHALADARPAN!K134","v":0},{"$f":"SHALADARPAN!E134","v":"MANAVI"},{"$f":"SHALADARPAN!G134","v":"Kailash"}]
[{"$nulls":20},{"$f":"SHALADARPAN!A135","v":5},{"$f":"SHALADARPAN!B135","v":"A"},{"$f":"SHALADARPAN!K135","v":0},{"$f":"SHALADARPAN!E135","v":"MARIYAM"},{"$f":"SHALADARPAN!G135","v":"Kailash"}]
[{"$nulls":20},{"$f":"SHALADARPAN!A136","v":5},{"$f":"SHALADARPAN!B136","v":"A"},{"$f":"SHALADARPAN!K136","v":0},{"$f":"SHALADARPAN!E136","v":"MATIYA DEVI"},{"$f":"SHALADARPAN!G136","v":"Kailash"}]
[{"$nulls":20},{"$f":"SHALADARPAN!A137","v":5},{"$f":"SHALADARPAN!B137","v":"A"},{"$f":"SHALADARPAN!K137","v":0},{"$f":"SHALADARPAN!E137","v":"Mohammad Bilala"},{"$f":"SHALADARPAN!G137","v":"Kailash"}]
[{"$nulls":20},{"$f":"SHALADARPAN!A138","v":5},{"$f":"SHALADARPAN!B138","v":"A"},{"$f":"SHALADARPAN!K138","v":0},{"$f":"SHALADARPAN!E138","v":"Nafish Razza"},{"$f":"SHALADARPAN!G138","v":"Kailash"}]
[{"$nulls":20},{"$f":"SHALADARPAN!A139","v":5},{"$f":"SHALADARPAN!B139","v":"A"},{"$f":"SHALADARPAN!K139","v":0},{"$f":"SHALADARPAN!E139","v":"NASEEM BANU"},{"$f":"SHALADARPAN!G139","v":"Kailash"}]
[{"$nulls":20},{"$f":"SHALADARPAN!A140","v":5},{"$f":"SHALADARPAN!B140","v":"A"},{"$f":"SHALADARPAN!K140","v":0},{"$f":"SHALADARPAN!E140","v":"NAVEEN JANGLIYA"},{"$f":"SHALADARPAN!G140","v":"Kailash"}]
[{"$nulls":20},{"$f":"SHALADARPAN!A141","v":5},{"$f":"SHALADARPAN!B141","v":"A"},{"$f":"SHALADARPAN!K141","v":0},{"$f":"SHALADARPAN!E141","v":"Navya Vaishnav"},{"$f":"SHALADARPAN!G141","v":"Kailash"}]
[{"$nulls":20},{"$f":"SHALADARPAN!A142","v":5},{"$f":"SHALADARPAN!B142","v":"A"},{"$f":"SHALADARPAN!K142","v":0},{"$f":"SHALADARPAN!E142","v":"Naziya"},{"$f":"SHALADARPAN!G142","v":"Kailash"}]
[{"$nulls":20},{"$f":"SHALADARPAN!A143","v":5},{"$f":"SHALADARPAN!B143","v":"A"},{"$f":"SHALADARPAN!K143","v":0},{"$f":"SHALADARPAN!E143","v":"NISHA"},{"$f":"SHALADARPAN!G143","v":"Kailash"}]
[{"$nulls":20},{"$f":"SHALADARPAN!A144","v":5},{"$f":"SHALADARPAN!B144","v":"A"},{"$f":"SHALADARPAN!K144","v":0},{"$f":"SHALADARPAN!E144","v":"Nitesh Acharya"},{"$f":"SHALADARPAN!G144","v":"Kailash"}]
[{"$nulls":20},{"$f":"SHALADARPAN!A145","v":5},{"$f":"SHALADARPAN!B145","v":"A"},{"$f":"SHALADARPAN!K145","v":0},{"$f":"SHALADARPAN!E145","v":"OMARAM"},{"$f":"SHALADARPAN!G145","v":"Kailash"}]
[{"$nulls":20},{"$f":"SHALADARPAN!A146","v":5},{"$f":"SHALADARPAN!B146","v":"A"},{"$f":"SHALADARPAN!K146","v":0},{"$f":"SHALADARPAN!E146","v":"RAKESH BAWARI"},{"$f":"SHALADARPAN!G146","v":"Kailash"}]
[{"$nulls":20},{"$f":"SHALADARPAN!A147","v":5},{"$f":"SHALADARPAN!B147","v":"A"},{"$f":"SHALADARPAN!K147","v":0},{"$f":"SHALADARPAN!E147","v":"Rashika Vaishnav"},{"$f":"SHALADARPAN!G147","v":"Kailash"}]
[{"$nulls":20},{"$f":"SHALADARPAN!A148","v":5},{"$f":"SHALADARPAN!B148","v":"A"},{"$f":"SHALADARPAN!K148","v":0},{"$f":"SHALADARPAN!E148","v":"RESHAMA BANU"},{"$f":"SHALADARPAN!G148","v":"Kailash"}]
[{"$nulls":20},{"$f":"SHALADARPAN!A149","v":5},{"$f":"SHALADARPAN!B149","v":"A"},{"$f":"SHALADARPAN!K149","v":0},{"$f":"SHALADARPAN!E149","v":"ROHIT TAMBOLI"},{"$f":"SHALADARPAN!G149","v":"Kailash"}]
[{"$nulls":20},{"$f":"SHALADARPAN!A150","v":5},{"$f":"SHALADARPAN!B150","v":"A"},{"$f":"SHALADARPAN!K150","v":0},{"$f":"SHALADARPAN!E150","v":"RUKSANA MIRASI"},{"$f":"SHALADARPAN!G150","v":"Kailash"}]
[{"$nulls":20},{"$f":"SHALADARPAN!A151","v":5},{"$f":"SHALADARPAN!B151","v":"A"},{"$f":"SHALADARPAN!K151","v":0},{"$f":"SHALADARPAN!E151","v":"Sahil"},{"$f":"SHALADARPAN!G151","v":"Kailash"}]
[{"$nulls":20},{"$f":"SHALADARPAN!A152","v":5},{"$f":"SHALADARPAN!B152","v":"A"},{"$f":"SHALADARPAN!K152","v":0},{"$f":"SHALADARPAN!E152","v":"SAMEER ALI"},{"$f":"SHALADARPAN!G152","v":"Kailash"}]
[{"$nulls":20},{"$f":"SHALADARPAN!A153","v":5},{"$f":"SHALADARPAN!B153","v":"A"},{"$f":"SHALADARPAN!K153","v":0},{"$f":"SHALADARPAN!E153","v":"SANJU DEVI"},{"$f":"SHALADARPAN!G153","v":"Kailash"}]
[{"$nulls":20},{"$f":"SHALADARPAN!A154","v":5},{"$f":"SHALADARPAN!B154","v":"A"},{"$f":"SHALADARPAN!K154","v":0},{"$f":"SHALADARPAN!E154","v":"SHABANA"},{"$f":"SHALADARPAN!G154","v":"Kailash"}]
[{"$nulls":20},{"$f":"SHALADARPAN!A155","v":5},{"$f":"SHALADARPAN!B155","v":"A"},{"$f":"SHALADARPAN!K155","v":0},{"$f":"SHALADARPAN!E155","v":"SHAHILSYA"},{"$f":"SHALADARPAN!G155","v":"Kailash"}]
[{"$nulls":20},{"$f":"SHALADARPAN!A156","v":5},{"$f":"SHALADARPAN!B156","v":"A"},{"$f":"SHALADARPAN!K156","v":0},{"$f":"SHALADARPAN!E156","v":"SHAHNAWAZ"},{"$f":"SHALADARPAN!G156","v":"Kailash"}]
[{"$nulls":20},{"$f":"SHALADARPAN!A157","v":5},{"$f":"SHALADARPAN!B157","v":"A"},{"$f":"SHALADARPAN!K157","v":0},{"$f":"SHALADARPAN!E157","v":"SHAKIL"},{"$f":"SHALADARPAN!G157","v":"Kailash"}]
[{"$nulls":20},{"$f":"SHALADARPAN!A158","v":5},{"$f":"SHALADARPAN!B158","v":"A"},{"$f":"SHALADARPAN!K158","v":0},{"$f":"SHALADARPAN!E158","v":"SHALIGRAM"},{"$f":"SHALADARPAN!G158","v":"Kailash"}]
[{"$nulls":20},{"$f":"SHALADARPAN!A159","v":5},{"$f":"SHALADARPAN!B159","v":"A"},{"$f":"SHALADARPAN!K159","v":0},{"$f":"SHALADARPAN!E159","v":"SIMRAN"},{"$f":"SHALADARPAN!G159","v":"Kailash"}]
[{"$nulls":20},{"$f":"SHALADARPAN!A160","v":5},{"$f":"SHALADARPAN!B160","v":"A"},{"$f":"SHALADARPAN!K160","v":0},{"$f":"SHALADARPAN!E160","v":"SUFIYA BANU"},{"$f":"SHALADARPAN!G160","v":"Kailash"}]
[{"$nulls":20},{"$f":"SHALADARPAN!A161","v":5},{"$f":"SHALADARPAN!B161","v":"A"},{"$f":"SHALADARPAN!K161","v":0},{"$f":"SHALADARPAN!E161","v":"Sumitra Jangliya"},{"$f":"SHALADARPAN!G161","v":"Kailash"}]
[{"$nulls":20},{"$f":"SHALADARPAN!A162","v":5},{"$f":"SHALADARPAN!B162","v":"A"},{"$f":"SHALADARPAN!K162","v":0},{"$f":"SHALADARPAN!E162","v":"Sushil Acharya"},{"$f":"SHALADARPAN!G162","v":"Kailash"}]
[{"$nulls":20},{"$f":"SHALADARPAN!A163","v":5},{"$f":"SHALADARPAN!B163","v":"A"},{"$f":"SHALADARPAN!K163","v":0},{"$f":"SHALADARPAN!E163","v":"Tamanna"},{"$f":"SHALADARPAN!G163","v":"Kailash"}]
[{"$nulls":20},{"$f":"SHALADARPAN!A164","v":5},{"$f":"SHALADARPAN!B164","v":"A"},{"$f":"SHALADARPAN!K164","v":0},{"$f":"SHALADARPAN!E164","v":"TAMNNA"},{"$f":"SHALADARPAN!G164","v":"Kailash"}]
[{"$nulls":20},{"$f":"SHALADARPAN!A165","v":5},{"$f":"SHALADARPAN!B165","v":"A"},{"$f":"SHALADARPAN!K165","v":0},{"$f":"SHALADARPAN!E165","v":"TASLIMA"},{"$f":"SHALADARPAN!G165","v":"Kailash"}]
[{"$nulls":20},{"$f":"SHALADARPAN!A166","v":5},{"$f":"SHALADARPAN!B166","v":"A"},{"$f":"SHALADARPAN!K166","v":0},{"$f":"SHALADARPAN!E166","v":"TIKAM"},{"$f":"SHALADARPAN!G166","v":"Kailash"}]
[{"$nulls":20},{"$f":"SHALADARPAN!A167","v":5},{"$f":"SHALADARPAN!B167","v":"A"},{"$f":"SHALADARPAN!K167","v":0},{"$f":"SHALADARPAN!E167","v":"VASEEM"},{"$f":"SHALADARPAN!G167","v":"Kailash"}]
[{"$nulls":20},{"$f":"SHALADARPAN!A168","v":5},{"$f":"SHALADARPAN!B168","v":"A"},{"$f":"SHALADARPAN!K168","v":0},{"$f":"SHALADARPAN!E168","v":"Vikas Acharya"},{"$f":"SHALADARPAN!G168","v":"Kailash"}]
[{"$nulls":20},{"$f":"SHALADARPAN!A169","v":6},{"$f":"SHALADARPAN!B169","v":"A"},{"$f":"SHALADARPAN!K169","v":601},{"$f":"SHALADARPAN!E169","v":"Abid Husain"},{"$f":"SHALADARPAN!G169","v":"Kailash"}]
[{"$nulls":20},{"$f":"SHALADARPAN!A170","v":6},{"$f":"SHALADARPAN!B170","v":"A"},{"$f":"SHALADARPAN!K170","v":602},{"$f":"SHALADARPAN!E170","v":"ALVEERA BANU"},{"$f":"SHALADARPAN!G170","v":"Kailash"}]
[{"$nulls":20},{"$f":"SHALADARPAN!A171","v":6},{"$f":"SHALADARPAN!B171","v":"A"},{"$f":"SHALADARPAN!K171","v":603},{"$f":"SHALADARPAN!E171","v":"AMIT SHARMA"},{"$f":"SHALADARPAN!G171","v":"Kailash"}]
[{"$nulls":20},{"$f":"SHALADARPAN!A172","v":6},{"$f":"SHALADARPAN!B172","v":"A"},{"$f":"SHALADARPAN!K172","v":604},{"$f":"SHALADARPAN!E172","v":"ANIL SAINI"},{"$f":"SHALADARPAN!G172","v":"Kailash"}]
[{"$nulls":20},{"$f":"SHALADARPAN!A173","v":6},{"$f":"SHALADARPAN!B173","v":"A"},{"$f":"SHALADARPAN!K173","v":605},{"$f":"SHALADARPAN!E173","v":"ARBAZ AHMAD"},{"$f":"SHALADARPAN!G173","v":"Kailash"}]
[{"$nulls":20},{"$f":"SHALADARPAN!A174","v":6},{"$f":"SHALADARPAN!B174","v":"A"},{"$f":"SHALADARPAN!K174","v":606},{"$f":"SHALADARPAN!E174","v":"Arjun Shingh"},{"$f":"SHALADARPAN!G174","v":"Kailash"}]
[{"$nulls":20},{"$f":"SHALADARPAN!A175","v":6},{"$f":"SHALADARPAN!B175","v":"A"},{"$f":"SHALADARPAN!K175","v":607},{"$f":"SHALADARPAN!E175","v":"ARMAN"},{"$f":"SHALADARPAN!G175","v":"Kailash"}]
[{"$nulls":20},{"$f":"SHALADARPAN!A176","v":6},{"$f":"SHALADARPAN!B176","v":"A"},{"$f":"SHALADARPAN!K176","v":608},{"$f":"SHALADARPAN!E176","v":"Asraf Ali"},{"$f":"SHALADARPAN!G176","v":"Kailash"}]
[{"$nulls":20},{"$f":"SHALADARPAN!A177","v":6},{"$f":"SHALADARPAN!B177","v":"A"},{"$f":"SHALADARPAN!K177","v":609},{"$f":"SHALADARPAN!E177","v":"AYCHUKI"},{"$f":"SHALADARPAN!G177","v":"Kailash"}]
[{"$nulls":20},{"$f":"SHALADARPAN!A178","v":6},{"$f":"SHALADARPAN!B178","v":"A"},{"$f":"SHALADARPAN!K178","v":610},{"$f":"SHALADARPAN!E178","v":"BABLU"},{"$f":"SHALADARPAN!G178","v":"Kailash"}]
[{"$nulls":20},{"$f":"SHALADARPAN!A179","v":6},{"$f":"SHALADARPAN!B179","v":"A"},{"$f":"SHALADARPAN!K179","v":611},{"$f":"SHALADARPAN!E179","v":"BABY KANWAR"},{"$f":"SHALADARPAN!G179","v":"Kailash"}]
[{"$nulls":20},{"$f":"SHALADARPAN!A180","v":6},{"$f":"SHALADARPAN!B180","v":"A"},{"$f":"SHALADARPAN!K180","v":612},{"$f":"SHALADARPAN!E180","v":"BURHAN"},{"$f":"SHALADARPAN!G180","v":"Kailash"}]
[{"$nulls":20},{"$f":"SHALADARPAN!A181","v":6},{"$f":"SHALADARPAN!B181","v":"A"},{"$f":"SHALADARPAN!K181","v":613},{"$f":"SHALADARPAN!E181","v":"CHANCHAL DEVI"},{"$f":"SHALADARPAN!G181","v":"Kailash"}]
[{"$nulls":20},{"$f":"SHALADARPAN!A182","v":6},{"$f":"SHALADARPAN!B182","v":"A"},{"$f":"SHALADARPAN!K182","v":614},{"$f":"SHALADARPAN!E182","v":"CHETAN NAT"},{"$f":"SHALADARPAN!G182","v":"Kailash"}]
[{"$nulls":20},{"$f":"SHALADARPAN!A183","v":6},{"$f":"SHALADARPAN!B183","v":"A"},{"$f":"SHALADARPAN!K183","v":615},{"$f":"SHALADARPAN!E183","v":"HAIDAR ALI"},{"$f":"SHALADARPAN!G183","v":"Kailash"}]
[{"$nulls":20},{"$f":"SHALADARPAN!A184","v":6},{"$f":"SHALADARPAN!B184","v":"A"},{"$f":"SHALADARPAN!K184","v":616},{"$f":"SHALADARPAN!E184","v":"HEENA BANU"},{"$f":"SHALADARPAN!G184","v":"Kailash"}]
[{"$nulls":20},{"$f":"SHALADARPAN!A185","v":6},{"$f":"SHALADARPAN!B185","v":"A"},{"$f":"SHALADARPAN!K185","v":617},{"$f":"SHALADARPAN!E185","v":"Hemant Tank"},{"$f":"SHALADARPAN!G185","v":"Kailash"}]
[{"$nulls":20},{"$f":"SHALADARPAN!A186","v":6},{"$f":"SHALADARPAN!B186","v":"A"},{"$f":"SHALADARPAN!K186","v":618},{"$f":"SHALADARPAN!E186","v":"IMRAN"},{"$f":"SHALADARPAN!G186","v":"Kailash"}]
[{"$nulls":20},{"$f":"SHALADARPAN!A187","v":6},{"$f":"SHALADARPAN!B187","v":"A"},{"$f":"SHALADARPAN!K187","v":619},{"$f":"SHALADARPAN!E187","v":"INSAF ALI"},{"$f":"SHALADARPAN!G187","v":"Kailash"}]
[{"$nulls":20},{"$f":"SHALADARPAN!A188","v":6},{"$f":"SHALADARPAN!B188","v":"A"},{"$f":"SHALADARPAN!K188","v":620},{"$f":"SHALADARPAN!E188","v":"IRFAN"},{"$f":"SHALADARPAN!G188","v":"Kailash"}]
[{"$nulls":20},{"$f":"SHALADARPAN!A189","v":6},{"$f":"SHALADARPAN!B189","v":"A"},{"$f":"SHALADARPAN!K189","v":621},{"$f":"SHALADARPAN!E189","v":"KADIR"},{"$f":"SHALADARPAN!G189","v":"Kailash"}]
[{"$nulls":20},{"$f":"SHALADARPAN!A190","v":6},{"$f":"SHALADARPAN!B190","v":"A"},{"$f":"SHALADARPAN!K190","v":622},{"$f":"SHALADARPAN!E190","v":"KALPANA"},{"$f":"SHALADARPAN!G190","v":"Kailash"}]
[{"$nulls":20},{"$f":"SHALADARPAN!A191","v":6},{"$f":"SHALADARPAN!B191","v":"A"},{"$f":"SHALADARPAN!K191","v":623},{"$f":"SHALADARPAN!E191","v":"Khushi Kanwar"},{"$f":"SHALADARPAN!G191","v":"Kailash"}]
[{"$nulls":20},{"$f":"SHALADARPAN!A192","v":6},{"$f":"SHALADARPAN!B192","v":"A"},{"$f":"SHALADARPAN!K192","v":624},{"$f":"SHALADARPAN!E192","v":"KIRAN"},{"$f":"SHALADARPAN!G192","v":"Kailash"}]
[{"$nulls":20},{"$f":"SHALADARPAN!A193","v":6},{"$f":"SHALADARPAN!B193","v":"A"},{"$f":"SHALADARPAN!K193","v":625},{"$f":"SHALADARPAN!E193","v":"LAL SINGH"},{"$f":"SHALADARPAN!G193","v":"Kailash"}]
[{"$nulls":20},{"$f":"SHALADARPAN!A194","v":6},{"$f":"SHALADARPAN!B194","v":"A"},{"$f":"SHALADARPAN!K194","v":626},{"$f":"SHALADARPAN!E194","v":"Liladhar Vaishnav"},{"$f":"SHALADARPAN!G194","v":"Kailash"}]
[{"$nulls":20},{"$f":"SHALADARPAN!A195","v":6},{"$f":"SHALADARPAN!B195","v":"A"},{"$f":"SHALADARPAN!K195","v":627},{"$f":"SHALADARPAN!E195","v":"LOKESH NATH"},{"$f":"SHALADARPAN!G195","v":"Kailash"}]
[{"$nulls":20},{"$f":"SHALADARPAN!A196","v":6},{"$f":"SHALADARPAN!B196","v":"A"},{"$f":"SHALADARPAN!K196","v":628},{"$f":"SHALADARPAN!E196","v":"Lokesh Nimbawat"},{"$f":"SHALADARPAN!G196","v":"Kailash"}]
[{"$nulls":20},{"$f":"SHALADARPAN!A197","v":6},{"$f":"SHALADARPAN!B197","v":"A"},{"$f":"SHALADARPAN!K197","v":629},{"$f":"SHALADARPAN!E197","v":"MAHENDRA"},{"$f":"SHALADARPAN!G197","v":"Kailash"}]
[{"$nulls":20},{"$f":"SHALADARPAN!A198","v":6},{"$f":"SHALADARPAN!B198","v":"A"},{"$f":"SHALADARPAN!K198","v":630},{"$f":"SHALADARPAN!E198","v":"MAHENDRA CHOKIDAR"},{"$f":"SHALADARPAN!G198","v":"Kailash"}]
[{"$nulls":20},{"$f":"SHALADARPAN!A199","v":6},{"$f":"SHALADARPAN!B199","v":"A"},{"$f":"SHALADARPAN!K199","v":631},{"$f":"SHALADARPAN!E199","v":"Mahendra Dagdi"},{"$f":"SHALADARPAN!G199","v":"Kailash"}]
[{"$nulls":20},{"$f":"SHALADARPAN!A200","v":6},{"$f":"SHALADARPAN!B200","v":"A"},{"$f":"SHALADARPAN!K200","v":632},{"$f":"SHALADARPAN!E200","v":"MAYA"},{"$f":"SHALADARPAN!G200","v":"Kailash"}]
[{"$nulls":20},{"$f":"SHALADARPAN!A201","v":6},{"$f":"SHALADARPAN!B201","v":"A"},{"$f":"SHALADARPAN!K201","v":633},{"$f":"SHALADARPAN!E201","v":"Mohammad Imran"},{"$f":"SHALADARPAN!G201","v":"Kailash"}]
[{"$nulls":20},{"$f":"SHALADARPAN!A202","v":6},{"$f":"SHALADARPAN!B202","v":"A"},{"$f":"SHALADARPAN!K202","v":634},{"$f":"SHALADARPAN!E202","v":"Mohammed Rahil"},{"$f":"SHALADARPAN!G202","v":"Kailash"}]
[{"$nulls":20},{"$f":"SHALADARPAN!A203","v":6},{"$f":"SHALADARPAN!B203","v":"A"},{"$f":"SHALADARPAN!K203","v":635},{"$f":"SHALADARPAN!E203","v":"MOHASIN"},{"$f":"SHALADARPAN!G203","v":"Kailash"}]
[{"$nulls":20},{"$f":"SHALADARPAN!A204","v":6},{"$f":"SHALADARPAN!B204","v":"A"},{"$f":"SHALADARPAN!K204","v":636},{"$f":"SHALADARPAN!E204","v":"MOHMMAD BILAL"},{"$f":"SHALADARPAN!G204","v":"Kailash"}]
[{"$nulls":20},{"$f":"SHALADARPAN!A205","v":6},{"$f":"SHALADARPAN!B205","v":"A"},{"$f":"SHALADARPAN!K205","v":637},{"$f":"SHALADARPAN!E205","v":"MUSKAN"},{"$f":"SHALADARPAN!G205","v":"Kailash"}]
[{"$nulls":20},{"$f":"SHALADARPAN!A206","v":6},{"$f":"SHALADARPAN!B206","v":"A"},{"$f":"SHALADARPAN!K206","v":638},{"$f":"SHALADARPAN!E206","v":"MUSSA PAHALWAN"},{"$f":"SHALADARPAN!G206","v":"Kailash"}]
[{"$nulls":20},{"$f":"SHALADARPAN!A207","v":6},{"$f":"SHALADARPAN!B207","v":"A"},{"$f":"SHALADARPAN!K207","v":639},{"$f":"SHALADARPAN!E207","v":"NASIM BANO"},{"$f":"SHALADARPAN!G207","v":"Kailash"}]
[{"$nulls":20},{"$f":"SHALADARPAN!A208","v":6},{"$f":"SHALADARPAN!B208","v":"A"},{"$f":"SHALADARPAN!K208","v":640},{"$f":"SHALADARPAN!E208","v":"PAYAL SAINI"},{"$f":"SHALADARPAN!G208","v":"Kailash"}]
[{"$nulls":20},{"$f":"SHALADARPAN!A209","v":6},{"$f":"SHALADARPAN!B209","v":"A"},{"$f":"SHALADARPAN!K209","v":641},{"$f":"SHALADARPAN!E209","v":"PINTU PARJAPAT"},{"$f":"SHALADARPAN!G209","v":"Kailash"}]
[{"$nulls":20},{"$f":"SHALADARPAN!A210","v":6},{"$f":"SHALADARPAN!B210","v":"A"},{"$f":"SHALADARPAN!K210","v":642},{"$f":"SHALADARPAN!E210","v":"POOJA DEVI"},{"$f":"SHALADARPAN!G210","v":"Kailash"}]
[{"$nulls":20},{"$f":"SHALADARPAN!A211","v":6},{"$f":"SHALADARPAN!B211","v":"A"},{"$f":"SHALADARPAN!K211","v":643},{"$f":"SHALADARPAN!E211","v":"Ramawtar"},{"$f":"SHALADARPAN!G211","v":"Kailash"}]
[{"$nulls":20},{"$f":"SHALADARPAN!A212","v":6},{"$f":"SHALADARPAN!B212","v":"A"},{"$f":"SHALADARPAN!K212","v":644},{"$f":"SHALADARPAN!E212","v":"RAMDEV"},{"$f":"SHALADARPAN!G212","v":"Kailash"}]
[{"$nulls":20},{"$f":"SHALADARPAN!A213","v":6},{"$f":"SHALADARPAN!B213","v":"A"},{"$f":"SHALADARPAN!K213","v":645},{"$f":"SHALADARPAN!E213","v":"RAVI RAJ BAWARI"},{"$f":"SHALADARPAN!G213","v":"Kailash"}]
[{"$nulls":20},{"$f":"SHALADARPAN!A214","v":6},{"$f":"SHALADARPAN!B214","v":"A"},{"$f":"SHALADARPAN!K214","v":646},{"$f":"SHALADARPAN!E214","v":"RAVINDRA KUMAWAT"},{"$f":"SHALADARPAN!G214","v":"Kailash"}]
[{"$nulls":20},{"$f":"SHALADARPAN!A215","v":6},{"$f":"SHALADARPAN!B215","v":"A"},{"$f":"SHALADARPAN!K215","v":647},{"$f":"SHALADARPAN!E215","v":"REKHA DEVI"},{"$f":"SHALADARPAN!G215","v":"Kailash"}]
[{"$nulls":20},{"$f":"SHALADARPAN!A216","v":6},{"$f":"SHALADARPAN!B216","v":"A"},{"$f":"SHALADARPAN!K216","v":648},{"$f":"SHALADARPAN!E216","v":"RINKU KANWAR"},{"$f":"SHALADARPAN!G216","v":"Kailash"}]
[{"$nulls":20},{"$f":"SHALADARPAN!A217","v":6},{"$f":"SHALADARPAN!B217","v":"A"},{"$f":"SHALADARPAN!K217","v":649},{"$f":"SHALADARPAN!E217","v":"RITIKA"},{"$f":"SHALADARPAN!G217","v":"Kailash"}]
[{"$nulls":20},{"$f":"SHALADARPAN!A218","v":6},{"$f":"SHALADARPAN!B218","v":"A"},{"$f":"SHALADARPAN!K218","v":650},{"$f":"SHALADARPAN!E218","v":"RUSTAM ALI PAHALWAN"},{"$f":"SHALADARPAN!G218","v":"Kailash"}]
[{"$nulls":20},{"$f":"SHALADARPAN!A219","v":6},{"$f":"SHALADARPAN!B219","v":"A"},{"$f":"SHALADARPAN!K219","v":651},{"$f":"SHALADARPAN!E219","v":"SALMA BANU"},{"$f":"SHALADARPAN!G219","v":"Kailash"}]
[{"$nulls":20},{"$f":"SHALADARPAN!A220","v":6},{"$f":"SHALADARPAN!B220","v":"A"},{"$f":"SHALADARPAN!K220","v":652},{"$f":"SHALADARPAN!E220","v":"SAMEER"},{"$f":"SHALADARPAN!G220","v":"Kailash"}]
[{"$nulls":20},{"$f":"SHALADARPAN!A221","v":6},{"$f":"SHALADARPAN!B221","v":"A"},{"$f":"SHALADARPAN!K221","v":653},{"$f":"SHALADARPAN!E221","v":"SANGEETA"},{"$f":"SHALADARPAN!G221","v":"Kailash"}]
[{"$nulls":20},{"$f":"SHALADARPAN!A222","v":6},{"$f":"SHALADARPAN!B222","v":"A"},{"$f":"SHALADARPAN!K222","v":654},{"$f":"SHALADARPAN!E222","v":"SARITA NATH"},{"$f":"SHALADARPAN!G222","v":"Kailash"}]
[{"$nulls":20},{"$f":"SHALADARPAN!A223","v":6},{"$f":"SHALADARPAN!B223","v":"A"},{"$f":"SHALADARPAN!K223","v":655},{"$f":"SHALADARPAN!E223","v":"SAROJ DEVI"},{"$f":"SHALADARPAN!G223","v":"Kailash"}]
[{"$nulls":20},{"$f":"SHALADARPAN!A224","v":6},{"$f":"SHALADARPAN!B224","v":"A"},{"$f":"SHALADARPAN!K224","v":656},{"$f":"SHALADARPAN!E224","v":"SHAHINA"},{"$f":"SHALADARPAN!G224","v":"Kailash"}]
[{"$nulls":20},{"$f":"SHALADARPAN!A225","v":6},{"$f":"SHALADARPAN!B225","v":"A"},{"$f":"SHALADARPAN!K225","v":657},{"$f":"SHALADARPAN!E225","v":"SHIMBHU SINGH"},{"$f":"SHALADARPAN!G225","v":"Kailash"}]
[{"$nulls":20},{"$f":"SHALADARPAN!A226","v":6},{"$f":"SHALADARPAN!B226","v":"A"},{"$f":"SHALADARPAN!K226","v":658},{"$f":"SHALADARPAN!E226","v":"SHOHIL"},{"$f":"SHALADARPAN!G226","v":"Kailash"}]
[{"$nulls":20},{"$f":"SHALADARPAN!A227","v":6},{"$f":"SHALADARPAN!B227","v":"A"},{"$f":"SHALADARPAN!K227","v":659},{"$f":"SHALADARPAN!E227","v":"SOHIL"},{"$f":"SHALADARPAN!G227","v":"Kailash"}]
[{"$nulls":20},{"$f":"SHALADARPAN!A228","v":6},{"$f":"SHALADARPAN!B228","v":"A"},{"$f":"SHALADARPAN!K228","v":660},{"$f":"SHALADARPAN!E228","v":"SUMAN DEVI CHAUKIDAR"},{"$f":"SHALADARPAN!G228","v":"Kailash"}]
[{"$nulls":20},{"$f":"SHALADARPAN!A229","v":6},{"$f":"SHALADARPAN!B229","v":"A"},{"$f":"SHALADARPAN!K229","v":661},{"$f":"SHALADARPAN!E229","v":"SUNIL"},{"$f":"SHALADARPAN!G229","v":"Kailash"}]
[{"$nulls":20},{"$f":"SHALADARPAN!A230","v":6},{"$f":"SHALADARPAN!B230","v":"A"},{"$f":"SHALADARPAN!K230","v":662},{"$f":"SHALADARPAN!E230","v":"TANU DEVI"},{"$f":"SHALADARPAN!G230","v":"Kailash"}]
[{"$nulls":20},{"$f":"SHALADARPAN!A231","v":6},{"$f":"SHALADARPAN!B231","v":"A"},{"$f":"SHALADARPAN!K231","v":663},{"$f":"SHALADARPAN!E231","v":"Teena"},{"$f":"SHALADARPAN!G231","v":"Kailash"}]
[{"$nulls":20},{"$f":"SHALADARPAN!A232","v":6},{"$f":"SHALADARPAN!B232","v":"A"},{"$f":"SHALADARPAN!K232","v":664},{"$f":"SHALADARPAN!E232","v":"TULCHHI RAM"},{"$f":"SHALADARPAN!G232","v":"Kailash"}]
[{"$nulls":20},{"$f":"SHALADARPAN!A233","v":7},{"$f":"SHALADARPAN!B233","v":"A"},{"$f":"SHALADARPAN!K233","v":723},{"$f":"SHALADARPAN!E233","v":"KAVITA"},{"$f":"SHALADARPAN!G233","v":"Kailash"}]
[{"$nulls":20},{"$f":"SHALADARPAN!A234","v":7},{"$f":"SHALADARPAN!B234","v":"A"},{"$f":"SHALADARPAN!K234","v":701},{"$f":"SHALADARPAN!E234","v":"AADIL"},{"$f":"SHALADARPAN!G234","v":"Kailash"}]
[{"$nulls":20},{"$f":"SHALADARPAN!A235","v":7},{"$f":"SHALADARPAN!B235","v":"A"},{"$f":"SHALADARPAN!K235","v":702},{"$f":"SHALADARPAN!E235","v":"AASHIYA BANU"},{"$f":"SHALADARPAN!G235","v":"Kailash"}]
[{"$nulls":20},{"$f":"SHALADARPAN!A236","v":7},{"$f":"SHALADARPAN!B236","v":"A"},{"$f":"SHALADARPAN!K236","v":703},{"$f":"SHALADARPAN!E236","v":"Afzal Ali"},{"$f":"SHALADARPAN!G236","v":"Kailash"}]
[{"$nulls":20},{"$f":"SHALADARPAN!A237","v":7},{"$f":"SHALADARPAN!B237","v":"A"},{"$f":"SHALADARPAN!K237","v":704},{"$f":"SHALADARPAN!E237","v":"Ajay Raghvendra"},{"$f":"SHALADARPAN!G237","v":"Kailash"}]
[{"$nulls":20},{"$f":"SHALADARPAN!A238","v":7},{"$f":"SHALADARPAN!B238","v":"A"},{"$f":"SHALADARPAN!K238","v":705},{"$f":"SHALADARPAN!E238","v":"ALEESA BANO"},{"$f":"SHALADARPAN!G238","v":"Kailash"}]
[{"$nulls":20},{"$f":"SHALADARPAN!A239","v":7},{"$f":"SHALADARPAN!B239","v":"A"},{"$f":"SHALADARPAN!K239","v":706},{"$f":"SHALADARPAN!E239","v":"Altaf Raza"},{"$f":"SHALADARPAN!G239","v":"Kailash"}]
[{"$nulls":20},{"$f":"SHALADARPAN!A240","v":7},{"$f":"SHALADARPAN!B240","v":"A"},{"$f":"SHALADARPAN!K240","v":707},{"$f":"SHALADARPAN!E240","v":"Anil Saini"},{"$f":"SHALADARPAN!G240","v":"Kailash"}]
[{"$nulls":20},{"$f":"SHALADARPAN!A241","v":7},{"$f":"SHALADARPAN!B241","v":"A"},{"$f":"SHALADARPAN!K241","v":708},{"$f":"SHALADARPAN!E241","v":"ANSHITA CHOUDHARY"},{"$f":"SHALADARPAN!G241","v":"Kailash"}]
[{"$nulls":20},{"$f":"SHALADARPAN!A242","v":7},{"$f":"SHALADARPAN!B242","v":"A"},{"$f":"SHALADARPAN!K242","v":709},{"$f":"SHALADARPAN!E242","v":"ARFAN"},{"$f":"SHALADARPAN!G242","v":"Kailash"}]
[{"$nulls":20},{"$f":"SHALADARPAN!A243","v":7},{"$f":"SHALADARPAN!B243","v":"A"},{"$f":"SHALADARPAN!K243","v":710},{"$f":"SHALADARPAN!E243","v":"ASHA KANWAR"},{"$f":"SHALADARPAN!G243","v":"Kailash"}]
[{"$nulls":20},{"$f":"SHALADARPAN!A244","v":7},{"$f":"SHALADARPAN!B244","v":"A"},{"$f":"SHALADARPAN!K244","v":711},{"$f":"SHALADARPAN!E244","v":"ASLAM ALI"},{"$f":"SHALADARPAN!G244","v":"Kailash"}]
[{"$nulls":20},{"$f":"SHALADARPAN!A245","v":7},{"$f":"SHALADARPAN!B245","v":"A"},{"$f":"SHALADARPAN!K245","v":712},{"$f":"SHALADARPAN!E245","v":"BHARAT MALI"},{"$f":"SHALADARPAN!G245","v":"Kailash"}]
[{"$nulls":20},{"$f":"SHALADARPAN!A246","v":7},{"$f":"SHALADARPAN!B246","v":"A"},{"$f":"SHALADARPAN!K246","v":713},{"$f":"SHALADARPAN!E246","v":"BHAWANI RAWAL"},{"$f":"SHALADARPAN!G246","v":"Kailash"}]
[{"$nulls":20},{"$f":"SHALADARPAN!A247","v":7},{"$f":"SHALADARPAN!B247","v":"A"},{"$f":"SHALADARPAN!K247","v":714},{"$f":"SHALADARPAN!E247","v":"DEEPAK"},{"$f":"SHALADARPAN!G247","v":"Kailash"}]
[{"$nulls":20},{"$f":"SHALADARPAN!A248","v":7},{"$f":"SHALADARPAN!B248","v":"A"},{"$f":"SHALADARPAN!K248","v":715},{"$f":"SHALADARPAN!E248","v":"Devendra Saini"},{"$f":"SHALADARPAN!G248","v":"Kailash"}]
[{"$nulls":20},{"$f":"SHALADARPAN!A249","v":7},{"$f":"SHALADARPAN!B249","v":"A"},{"$f":"SHALADARPAN!K249","v":716},{"$f":"SHALADARPAN!E249","v":"Dinesh Latiyal"},{"$f":"SHALADARPAN!G249","v":"Kailash"}]
[{"$nulls":20},{"$f":"SHALADARPAN!A250","v":7},{"$f":"SHALADARPAN!B250","v":"A"},{"$f":"SHALADARPAN!K250","v":717},{"$f":"SHALADARPAN!E250","v":"FAIJAN MOHMMAD"},{"$f":"SHALADARPAN!G250","v":"Kailash"}]
[{"$nulls":20},{"$f":"SHALADARPAN!A251","v":7},{"$f":"SHALADARPAN!B251","v":"A"},{"$f":"SHALADARPAN!K251","v":718},{"$f":"SHALADARPAN!E251","v":"GAJENDAR SHINGH"},{"$f":"SHALADARPAN!G251","v":"Kailash"}]
[{"$nulls":20},{"$f":"SHALADARPAN!A252","v":7},{"$f":"SHALADARPAN!B252","v":"A"},{"$f":"SHALADARPAN!K252","v":719},{"$f":"SHALADARPAN!E252","v":"GANESH VAISHNAV"},{"$f":"SHALADARPAN!G252","v":"Kailash"}]
[{"$nulls":20},{"$f":"SHALADARPAN!A253","v":7},{"$f":"SHALADARPAN!B253","v":"A"},{"$f":"SHALADARPAN!K253","v":720},{"$f":"SHALADARPAN!E253","v":"Harshita Jangid"},{"$f":"SHALADARPAN!G253","v":"Kailash"}]
[{"$nulls":20},{"$f":"SHALADARPAN!A254","v":7},{"$f":"SHALADARPAN!B254","v":"A"},{"$f":"SHALADARPAN!K254","v":721},{"$f":"SHALADARPAN!E254","v":"Hemraj"},{"$f":"SHALADARPAN!G254","v":"Kailash"}]
[{"$nulls":20},{"$f":"SHALADARPAN!A255","v":7},{"$f":"SHALADARPAN!B255","v":"A"},{"$f":"SHALADARPAN!K255","v":722},{"$f":"SHALADARPAN!E255","v":"Irfan"},{"$f":"SHALADARPAN!G255","v":"Kailash"}]
[{"$nulls":20},{"$f":"SHALADARPAN!A256","v":7},{"$f":"SHALADARPAN!B256","v":"A"},{"$f":"SHALADARPAN!K256","v":724},{"$f":"SHALADARPAN!E256","v":"KHUSHBOO"},{"$f":"SHALADARPAN!G256","v":"Kailash"}]
[{"$nulls":20},{"$f":"SHALADARPAN!A257","v":7},{"$f":"SHALADARPAN!B257","v":"A"},{"$f":"SHALADARPAN!K257","v":725},{"$f":"SHALADARPAN!E257","v":"KHUSHBOO"},{"$f":"SHALADARPAN!G257","v":"Kailash"}]
[{"$nulls":20},{"$f":"SHALADARPAN!A258","v":7},{"$f":"SHALADARPAN!B258","v":"A"},{"$f":"SHALADARPAN!K258","v":726},{"$f":"SHALADARPAN!E258","v":"Khushi Vaishnav"},{"$f":"SHALADARPAN!G258","v":"Kailash"}]
[{"$nulls":20},{"$f":"SHALADARPAN!A259","v":7},{"$f":"SHALADARPAN!B259","v":"A"},{"$f":"SHALADARPAN!K259","v":727},{"$f":"SHALADARPAN!E259","v":"KOMAL"},{"$f":"SHALADARPAN!G259","v":"Kailash"}]
[{"$nulls":20},{"$f":"SHALADARPAN!A260","v":7},{"$f":"SHALADARPAN!B260","v":"A"},{"$f":"SHALADARPAN!K260","v":728},{"$f":"SHALADARPAN!E260","v":"LALI NATH"},{"$f":"SHALADARPAN!G260","v":"Kailash"}]
[{"$nulls":20},{"$f":"SHALADARPAN!A261","v":7},{"$f":"SHALADARPAN!B261","v":"A"},{"$f":"SHALADARPAN!K261","v":729},{"$f":"SHALADARPAN!E261","v":"Mohammad Irfan"},{"$f":"SHALADARPAN!G261","v":"Kailash"}]
[{"$nulls":20},{"$f":"SHALADARPAN!A262","v":7},{"$f":"SHALADARPAN!B262","v":"A"},{"$f":"SHALADARPAN!K262","v":730},{"$f":"SHALADARPAN!E262","v":"MOSEEM"},{"$f":"SHALADARPAN!G262","v":"Kailash"}]
[{"$nulls":20},{"$f":"SHALADARPAN!A263","v":7},{"$f":"SHALADARPAN!B263","v":"A"},{"$f":"SHALADARPAN!K263","v":731},{"$f":"SHALADARPAN!E263","v":"MUNNI"},{"$f":"SHALADARPAN!G263","v":"Kailash"}]
[{"$nulls":20},{"$f":"SHALADARPAN!A264","v":7},{"$f":"SHALADARPAN!B264","v":"A"},{"$f":"SHALADARPAN!K264","v":732},{"$f":"SHALADARPAN!E264","v":"MUSKAN"},{"$f":"SHALADARPAN!G264","v":"Kailash"}]
[{"$nulls":20},{"$f":"SHALADARPAN!A265","v":7},{"$f":"SHALADARPAN!B265","v":"A"},{"$f":"SHALADARPAN!K265","v":733},{"$f":"SHALADARPAN!E265","v":"NASREEN"},{"$f":"SHALADARPAN!G265","v":"Kailash"}]
[{"$nulls":20},{"$f":"SHALADARPAN!A266","v":7},{"$f":"SHALADARPAN!B266","v":"A"},{"$f":"SHALADARPAN!K266","v":734},{"$f":"SHALADARPAN!E266","v":"NAZMEEN"},{"$f":"SHALADARPAN!G266","v":"Kailash"}]
[{"$nulls":20},{"$f":"SHALADARPAN!A267","v":7},{"$f":"SHALADARPAN!B267","v":"A"},{"$f":"SHALADARPAN!K267","v":735},{"$f":"SHALADARPAN!E267","v":"NISHA"},{"$f":"SHALADARPAN!G267","v":"Kailash"}]
[{"$nulls":20},{"$f":"SHALADARPAN!A268","v":7},{"$f":"SHALADARPAN!B268","v":"A"},{"$f":"SHALADARPAN!K268","v":736},{"$f":"SHALADARPAN!E268","v":"Nitin Saini"},{"$f":"SHALADARPAN!G268","v":"Kailash"}]
[{"$nulls":20},{"$f":"SHALADARPAN!A269","v":7},{"$f":"SHALADARPAN!B269","v":"A"},{"$f":"SHALADARPAN!K269","v":737},{"$f":"SHALADARPAN!E269","v":"Nitu Gurjar"},{"$f":"SHALADARPAN!G269","v":"Kailash"}]
[{"$nulls":20},{"$f":"SHALADARPAN!A270","v":7},{"$f":"SHALADARPAN!B270","v":"A"},{"$f":"SHALADARPAN!K270","v":738},{"$f":"SHALADARPAN!E270","v":"NORAT LAL"},{"$f":"SHALADARPAN!G270","v":"Kailash"}]
[{"$nulls":20},{"$f":"SHALADARPAN!A271","v":7},{"$f":"SHALADARPAN!B271","v":"A"},{"$f":"SHALADARPAN!K271","v":739},{"$f":"SHALADARPAN!E271","v":"PAWAN JUNJADIYA"},{"$f":"SHALADARPAN!G271","v":"Kailash"}]
[{"$nulls":20},{"$f":"SHALADARPAN!A272","v":7},{"$f":"SHALADARPAN!B272","v":"A"},{"$f":"SHALADARPAN!K272","v":740},{"$f":"SHALADARPAN!E272","v":"PINTU SAINI"},{"$f":"SHALADARPAN!G272","v":"Kailash"}]
[{"$nulls":20},{"$f":"SHALADARPAN!A273","v":7},{"$f":"SHALADARPAN!B273","v":"A"},{"$f":"SHALADARPAN!K273","v":741},{"$f":"SHALADARPAN!E273","v":"PRIYANKA"},{"$f":"SHALADARPAN!G273","v":"Kailash"}]
[{"$nulls":20},{"$f":"SHALADARPAN!A274","v":7},{"$f":"SHALADARPAN!B274","v":"A"},{"$f":"SHALADARPAN!K274","v":742},{"$f":"SHALADARPAN!E274","v":"RAJU RAM"},{"$f":"SHALADARPAN!G274","v":"Kailash"}]
[{"$nulls":20},{"$f":"SHALADARPAN!A275","v":7},{"$f":"SHALADARPAN!B275","v":"A"},{"$f":"SHALADARPAN!K275","v":743},{"$f":"SHALADARPAN!E275","v":"RAVI BAVARI"},{"$f":"SHALADARPAN!G275","v":"Kailash"}]
[{"$nulls":20},{"$f":"SHALADARPAN!A276","v":7},{"$f":"SHALADARPAN!B276","v":"A"},{"$f":"SHALADARPAN!K276","v":744},{"$f":"SHALADARPAN!E276","v":"RIJVAN"},{"$f":"SHALADARPAN!G276","v":"Kailash"}]
[{"$nulls":20},{"$f":"SHALADARPAN!A277","v":7},{"$f":"SHALADARPAN!B277","v":"A"},{"$f":"SHALADARPAN!K277","v":745},{"$f":"SHALADARPAN!E277","v":"RIYAN"},{"$f":"SHALADARPAN!G277","v":"Kailash"}]
[{"$nulls":20},{"$f":"SHALADARPAN!A278","v":7},{"$f":"SHALADARPAN!B278","v":"A"},{"$f":"SHALADARPAN!K278","v":746},{"$f":"SHALADARPAN!E278","v":"RUKEEIA"},{"$f":"SHALADARPAN!G278","v":"Kailash"}]
[{"$nulls":20},{"$f":"SHALADARPAN!A279","v":7},{"$f":"SHALADARPAN!B279","v":"A"},{"$f":"SHALADARPAN!K279","v":747},{"$f":"SHALADARPAN!E279","v":"SAMEER"},{"$f":"SHALADARPAN!G279","v":"Kailash"}]
[{"$nulls":20},{"$f":"SHALADARPAN!A280","v":7},{"$f":"SHALADARPAN!B280","v":"A"},{"$f":"SHALADARPAN!K280","v":748},{"$f":"SHALADARPAN!E280","v":"SANIYA"},{"$f":"SHALADARPAN!G280","v":"Kailash"}]
[{"$nulls":20},{"$f":"SHALADARPAN!A281","v":7},{"$f":"SHALADARPAN!B281","v":"A"},{"$f":"SHALADARPAN!K281","v":749},{"$f":"SHALADARPAN!E281","v":"SHABANA BANU"},{"$f":"SHALADARPAN!G281","v":"Kailash"}]
[{"$nulls":20},{"$f":"SHALADARPAN!A282","v":7},{"$f":"SHALADARPAN!B282","v":"A"},{"$f":"SHALADARPAN!K282","v":750},{"$f":"SHALADARPAN!E282","v":"SHARIF MOHD."},{"$f":"SHALADARPAN!G282","v":"Kailash"}]
[{"$nulls":20},{"$f":"SHALADARPAN!A283","v":7},{"$f":"SHALADARPAN!B283","v":"A"},{"$f":"SHALADARPAN!K283","v":752},{"$f":"SHALADARPAN!E283","v":"SHOHIL"},{"$f":"SHALADARPAN!G283","v":"Kailash"}]
[{"$nulls":20},{"$f":"SHALADARPAN!A284","v":7},{"$f":"SHALADARPAN!B284","v":"A"},{"$f":"SHALADARPAN!K284","v":751},{"$f":"SHALADARPAN!E284","v":"SHOHIL"},{"$f":"SHALADARPAN!G284","v":"Kailash"}]
[{"$nulls":20},{"$f":"SHALADARPAN!A285","v":7},{"$f":"SHALADARPAN!B285","v":"A"},{"$f":"SHALADARPAN!K285","v":753},{"$f":"SHALADARPAN!E285","v":"SIMARAN"},{"$f":"SHALADARPAN!G285","v":"Kailash"}]
[{"$nulls":20},{"$f":"SHALADARPAN!A286","v":7},{"$f":"SHALADARPAN!B286","v":"A"},{"$f":"SHALADARPAN!K286","v":754},{"$f":"SHALADARPAN!E286","v":"Sonu Saini"},{"$f":"SHALADARPAN!G286","v":"Kailash"}]
[{"$nulls":20},{"$f":"SHALADARPAN!A287","v":7},{"$f":"SHALADARPAN!B287","v":"A"},{"$f":"SHALADARPAN!K287","v":755},{"$f":"SHALADARPAN!E287","v":"TEENA"},{"$f":"SHALADARPAN!G287","v":"Kailash"}]
[{"$nulls":20},{"$f":"SHALADARPAN!A288","v":8},{"$f":"SHALADARPAN!B288","v":"A"},{"$f":"SHALADARPAN!K288","v":801},{"$f":"SHALADARPAN!E288","v":"Aadil Mohammad"},{"$f":"SHALADARPAN!G288","v":"Kailash"}]
[{"$nulls":20},{"$f":"SHALADARPAN!A289","v":8},{"$f":"SHALADARPAN!B289","v":"A"},{"$f":"SHALADARPAN!K289","v":802},{"$f":"SHALADARPAN!E289","v":"AAFREEN BANOO"},{"$f":"SHALADARPAN!G289","v":"Kailash"}]
[{"$nulls":20},{"$f":"SHALADARPAN!A290","v":8},{"$f":"SHALADARPAN!B290","v":"A"},{"$f":"SHALADARPAN!K290","v":803},{"$f":"SHALADARPAN!E290","v":"AASIK"},{"$f":"SHALADARPAN!G290","v":"Kailash"}]
[{"$nulls":20},{"$f":"SHALADARPAN!A291","v":8},{"$f":"SHALADARPAN!B291","v":"A"},{"$f":"SHALADARPAN!K291","v":804},{"$f":"SHALADARPAN!E291","v":"ADITI GURJAR"},{"$f":"SHALADARPAN!G291","v":"Kailash"}]
[{"$nulls":20},{"$f":"SHALADARPAN!A292","v":8},{"$f":"SHALADARPAN!B292","v":"A"},{"$f":"SHALADARPAN!K292","v":805},{"$f":"SHALADARPAN!E292","v":"ALTAPH"},{"$f":"SHALADARPAN!G292","v":"Kailash"}]
[{"$nulls":20},{"$f":"SHALADARPAN!A293","v":8},{"$f":"SHALADARPAN!B293","v":"A"},{"$f":"SHALADARPAN!K293","v":807},{"$f":"SHALADARPAN!E293","v":"ANIL"},{"$f":"SHALADARPAN!G293","v":"Kailash"}]
[{"$nulls":20},{"$f":"SHALADARPAN!A294","v":8},{"$f":"SHALADARPAN!B294","v":"A"},{"$f":"SHALADARPAN!K294","v":808},{"$f":"SHALADARPAN!E294","v":"ANIL"},{"$f":"SHALADARPAN!G294","v":"Kailash"}]
[{"$nulls":20},{"$f":"SHALADARPAN!A295","v":8},{"$f":"SHALADARPAN!B295","v":"A"},{"$f":"SHALADARPAN!K295","v":806},{"$f":"SHALADARPAN!E295","v":"ANIL"},{"$f":"SHALADARPAN!G295","v":"Kailash"}]
[{"$nulls":20},{"$f":"SHALADARPAN!A296","v":8},{"$f":"SHALADARPAN!B296","v":"A"},{"$f":"SHALADARPAN!K296","v":809},{"$f":"SHALADARPAN!E296","v":"ANIL ACHARYA"},{"$f":"SHALADARPAN!G296","v":"Kailash"}]
[{"$nulls":20},{"$f":"SHALADARPAN!A297","v":8},{"$f":"SHALADARPAN!B297","v":"A"},{"$f":"SHALADARPAN!K297","v":810},{"$f":"SHALADARPAN!E297","v":"ANKIT"},{"$f":"SHALADARPAN!G297","v":"Kailash"}]
[{"$nulls":20},{"$f":"SHALADARPAN!A298","v":8},{"$f":"SHALADARPAN!B298","v":"A"},{"$f":"SHALADARPAN!K298","v":811},{"$f":"SHALADARPAN!E298","v":"ANWAR"},{"$f":"SHALADARPAN!G298","v":"Kailash"}]
[{"$nulls":20},{"$f":"SHALADARPAN!A299","v":8},{"$f":"SHALADARPAN!B299","v":"A"},{"$f":"SHALADARPAN!K299","v":812},{"$f":"SHALADARPAN!E299","v":"ARBAJ"},{"$f":"SHALADARPAN!G299","v":"Kailash"}]
[{"$nulls":20},{"$f":"SHALADARPAN!A300","v":8},{"$f":"SHALADARPAN!B300","v":"A"},{"$f":"SHALADARPAN!K300","v":813},{"$f":"SHALADARPAN!E300","v":"ASHISH JANGID"},{"$f":"SHALADARPAN!G300","v":"Kailash"}]
[{"$nulls":20},{"$f":"SHALADARPAN!A301","v":8},{"$f":"SHALADARPAN!B301","v":"A"},{"$f":"SHALADARPAN!K301","v":814},{"$f":"SHALADARPAN!E301","v":"BHARAT CHOKIDAR"},{"$f":"SHALADARPAN!G301","v":"Kailash"}]
[{"$nulls":20},{"$f":"SHALADARPAN!A302","v":8},{"$f":"SHALADARPAN!B302","v":"A"},{"$f":"SHALADARPAN!K302","v":815},{"$f":"SHALADARPAN!E302","v":"DHAN RAJ"},{"$f":"SHALADARPAN!G302","v":"Kailash"}]
[{"$nulls":20},{"$f":"SHALADARPAN!A303","v":8},{"$f":"SHALADARPAN!B303","v":"A"},{"$f":"SHALADARPAN!K303","v":816},{"$f":"SHALADARPAN!E303","v":"DILEEP KUMAWAT"},{"$f":"SHALADARPAN!G303","v":"Kailash"}]
[{"$nulls":20},{"$f":"SHALADARPAN!A304","v":8},{"$f":"SHALADARPAN!B304","v":"A"},{"$f":"SHALADARPAN!K304","v":817},{"$f":"SHALADARPAN!E304","v":"DILIP CHOKIDAR"},{"$f":"SHALADARPAN!G304","v":"Kailash"}]
[{"$nulls":20},{"$f":"SHALADARPAN!A305","v":8},{"$f":"SHALADARPAN!B305","v":"A"},{"$f":"SHALADARPAN!K305","v":818},{"$f":"SHALADARPAN!E305","v":"DIVYA"},{"$f":"SHALADARPAN!G305","v":"Kailash"}]
[{"$nulls":20},{"$f":"SHALADARPAN!A306","v":8},{"$f":"SHALADARPAN!B306","v":"A"},{"$f":"SHALADARPAN!K306","v":819},{"$f":"SHALADARPAN!E306","v":"GUNGUN SAINI"},{"$f":"SHALADARPAN!G306","v":"Kailash"}]
[{"$nulls":20},{"$f":"SHALADARPAN!A307","v":8},{"$f":"SHALADARPAN!B307","v":"A"},{"$f":"SHALADARPAN!K307","v":820},{"$f":"SHALADARPAN!E307","v":"HANUMAN NATH"},{"$f":"SHALADARPAN!G307","v":"Kailash"}]
[{"$nulls":20},{"$f":"SHALADARPAN!A308","v":8},{"$f":"SHALADARPAN!B308","v":"A"},{"$f":"SHALADARPAN!K308","v":821},{"$f":"SHALADARPAN!E308","v":"HEENA BANOO"},{"$f":"SHALADARPAN!G308","v":"Kailash"}]
[{"$nulls":20},{"$f":"SHALADARPAN!A309","v":8},{"$f":"SHALADARPAN!B309","v":"A"},{"$f":"SHALADARPAN!K309","v":822},{"$f":"SHALADARPAN!E309","v":"Heena Banu"},{"$f":"SHALADARPAN!G309","v":"Kailash"}]
[{"$nulls":20},{"$f":"SHALADARPAN!A310","v":8},{"$f":"SHALADARPAN!B310","v":"A"},{"$f":"SHALADARPAN!K310","v":823},{"$f":"SHALADARPAN!E310","v":"HUSAIN MOH."},{"$f":"SHALADARPAN!G310","v":"Kailash"}]
[{"$nulls":20},{"$f":"SHALADARPAN!A311","v":8},{"$f":"SHALADARPAN!B311","v":"A"},{"$f":"SHALADARPAN!K311","v":824},{"$f":"SHALADARPAN!E311","v":"ISHRAT BANOO"},{"$f":"SHALADARPAN!G311","v":"Kailash"}]
[{"$nulls":20},{"$f":"SHALADARPAN!A312","v":8},{"$f":"SHALADARPAN!B312","v":"A"},{"$f":"SHALADARPAN!K312","v":825},{"$f":"SHALADARPAN!E312","v":"Jabid Husain"},{"$f":"SHALADARPAN!G312","v":"Kailash"}]
[{"$nulls":20},{"$f":"SHALADARPAN!A313","v":8},{"$f":"SHALADARPAN!B313","v":"A"},{"$f":"SHALADARPAN!K313","v":826},{"$f":"SHALADARPAN!E313","v":"JITENDRA AACHARYA"},{"$f":"SHALADARPAN!G313","v":"Kailash"}]
[{"$nulls":20},{"$f":"SHALADARPAN!A314","v":8},{"$f":"SHALADARPAN!B314","v":"A"},{"$f":"SHALADARPAN!K314","v":827},{"$f":"SHALADARPAN!E314","v":"KANHIYALAL"},{"$f":"SHALADARPAN!G314","v":"Kailash"}]
[{"$nulls":20},{"$f":"SHALADARPAN!A315","v":8},{"$f":"SHALADARPAN!B315","v":"A"},{"$f":"SHALADARPAN!K315","v":828},{"$f":"SHALADARPAN!E315","v":"KHEMRAJ SAINI"},{"$f":"SHALADARPAN!G315","v":"Kailash"}]
[{"$nulls":20},{"$f":"SHALADARPAN!A316","v":8},{"$f":"SHALADARPAN!B316","v":"A"},{"$f":"SHALADARPAN!K316","v":830},{"$f":"SHALADARPAN!E316","v":"KIRAN BAWARI"},{"$f":"SHALADARPAN!G316","v":"Kailash"}]
[{"$nulls":20},{"$f":"SHALADARPAN!A317","v":8},{"$f":"SHALADARPAN!B317","v":"A"},{"$f":"SHALADARPAN!K317","v":829},{"$f":"SHALADARPAN!E317","v":"KIRAN BAWARI"},{"$f":"SHALADARPAN!G317","v":"Kailash"}]
[{"$nulls":20},{"$f":"SHALADARPAN!A318","v":8},{"$f":"SHALADARPAN!B318","v":"A"},{"$f":"SHALADARPAN!K318","v":831},{"$f":"SHALADARPAN!E318","v":"MAMTA"},{"$f":"SHALADARPAN!G318","v":"Kailash"}]
[{"$nulls":20},{"$f":"SHALADARPAN!A319","v":8},{"$f":"SHALADARPAN!B319","v":"A"},{"$f":"SHALADARPAN!K319","v":832},{"$f":"SHALADARPAN!E319","v":"MANISH GURJAR"},{"$f":"SHALADARPAN!G319","v":"Kailash"}]
[{"$nulls":20},{"$f":"SHALADARPAN!A320","v":8},{"$f":"SHALADARPAN!B320","v":"A"},{"$f":"SHALADARPAN!K320","v":833},{"$f":"SHALADARPAN!E320","v":"MANOHAR LAL"},{"$f":"SHALADARPAN!G320","v":"Kailash"}]
[{"$nulls":20},{"$f":"SHALADARPAN!A321","v":8},{"$f":"SHALADARPAN!B321","v":"A"},{"$f":"SHALADARPAN!K321","v":834},{"$f":"SHALADARPAN!E321","v":"Manoj"},{"$f":"SHALADARPAN!G321","v":"Kailash"}]
[{"$nulls":20},{"$f":"SHALADARPAN!A322","v":8},{"$f":"SHALADARPAN!B322","v":"A"},{"$f":"SHALADARPAN!K322","v":835},{"$f":"SHALADARPAN!E322","v":"MANU KANWAR"},{"$f":"SHALADARPAN!G322","v":"Kailash"}]
[{"$nulls":20},{"$f":"SHALADARPAN!A323","v":8},{"$f":"SHALADARPAN!B323","v":"A"},{"$f":"SHALADARPAN!K323","v":836},{"$f":"SHALADARPAN!E323","v":"MAYA DEVI"},{"$f":"SHALADARPAN!G323","v":"Kailash"}]
[{"$nulls":20},{"$f":"SHALADARPAN!A324","v":8},{"$f":"SHALADARPAN!B324","v":"A"},{"$f":"SHALADARPAN!K324","v":837},{"$f":"SHALADARPAN!E324","v":"MOHD.KHALEEL"},{"$f":"SHALADARPAN!G324","v":"Kailash"}]
[{"$nulls":20},{"$f":"SHALADARPAN!A325","v":8},{"$f":"SHALADARPAN!B325","v":"A"},{"$f":"SHALADARPAN!K325","v":838},{"$f":"SHALADARPAN!E325","v":"MOHIT ACHARYA"},{"$f":"SHALADARPAN!G325","v":"Kailash"}]
[{"$nulls":20},{"$f":"SHALADARPAN!A326","v":8},{"$f":"SHALADARPAN!B326","v":"A"},{"$f":"SHALADARPAN!K326","v":839},{"$f":"SHALADARPAN!E326","v":"MONIKA"},{"$f":"SHALADARPAN!G326","v":"Kailash"}]
[{"$nulls":20},{"$f":"SHALADARPAN!A327","v":8},{"$f":"SHALADARPAN!B327","v":"A"},{"$f":"SHALADARPAN!K327","v":840},{"$f":"SHALADARPAN!E327","v":"MONIKA"},{"$f":"SHALADARPAN!G327","v":"Kailash"}]
[{"$nulls":20},{"$f":"SHALADARPAN!A328","v":8},{"$f":"SHALADARPAN!B328","v":"A"},{"$f":"SHALADARPAN!K328","v":841},{"$f":"SHALADARPAN!E328","v":"NASEEM BANOO"},{"$f":"SHALADARPAN!G328","v":"Kailash"}]
[{"$nulls":20},{"$f":"SHALADARPAN!A329","v":8},{"$f":"SHALADARPAN!B329","v":"A"},{"$f":"SHALADARPAN!K329","v":842},{"$f":"SHALADARPAN!E329","v":"NISHA NATH"},{"$f":"SHALADARPAN!G329","v":"Kailash"}]
[{"$nulls":20},{"$f":"SHALADARPAN!A330","v":8},{"$f":"SHALADARPAN!B330","v":"A"},{"$f":"SHALADARPAN!K330","v":843},{"$f":"SHALADARPAN!E330","v":"Nitesh Saini"},{"$f":"SHALADARPAN!G330","v":"Kailash"}]
[{"$nulls":20},{"$f":"SHALADARPAN!A331","v":8},{"$f":"SHALADARPAN!B331","v":"A"},{"$f":"SHALADARPAN!K331","v":844},{"$f":"SHALADARPAN!E331","v":"PALAK KANWAR"},{"$f":"SHALADARPAN!G331","v":"Kailash"}]
[{"$nulls":20},{"$f":"SHALADARPAN!A332","v":8},{"$f":"SHALADARPAN!B332","v":"A"},{"$f":"SHALADARPAN!K332","v":845},{"$f":"SHALADARPAN!E332","v":"Pankaj Puri"},{"$f":"SHALADARPAN!G332","v":"Kailash"}]
[{"$nulls":20},{"$f":"SHALADARPAN!A333","v":8},{"$f":"SHALADARPAN!B333","v":"A"},{"$f":"SHALADARPAN!K333","v":846},{"$f":"SHALADARPAN!E333","v":"POOJA"},{"$f":"SHALADARPAN!G333","v":"Kailash"}]
[{"$nulls":20},{"$f":"SHALADARPAN!A334","v":8},{"$f":"SHALADARPAN!B334","v":"A"},{"$f":"SHALADARPAN!K334","v":847},{"$f":"SHALADARPAN!E334","v":"POOJA BAWARI"},{"$f":"SHALADARPAN!G334","v":"Kailash"}]
[{"$nulls":20},{"$f":"SHALADARPAN!A335","v":8},{"$f":"SHALADARPAN!B335","v":"A"},{"$f":"SHALADARPAN!K335","v":848},{"$f":"SHALADARPAN!E335","v":"PRAKASH"},{"$f":"SHALADARPAN!G335","v":"Kailash"}]
[{"$nulls":20},{"$f":"SHALADARPAN!A336","v":8},{"$f":"SHALADARPAN!B336","v":"A"},{"$f":"SHALADARPAN!K336","v":849},{"$f":"SHALADARPAN!E336","v":"Radhika Vaishnav"},{"$f":"SHALADARPAN!G336","v":"Kailash"}]
[{"$nulls":20},{"$f":"SHALADARPAN!A337","v":8},{"$f":"SHALADARPAN!B337","v":"A"},{"$f":"SHALADARPAN!K337","v":850},{"$f":"SHALADARPAN!E337","v":"Rajdeep"},{"$f":"SHALADARPAN!G337","v":"Kailash"}]
[{"$nulls":20},{"$f":"SHALADARPAN!A338","v":8},{"$f":"SHALADARPAN!B338","v":"A"},{"$f":"SHALADARPAN!K338","v":851},{"$f":"SHALADARPAN!E338","v":"RAKESH BAVARI"},{"$f":"SHALADARPAN!G338","v":"Kailash"}]
[{"$nulls":20},{"$f":"SHALADARPAN!A339","v":8},{"$f":"SHALADARPAN!B339","v":"A"},{"$f":"SHALADARPAN!K339","v":852},{"$f":"SHALADARPAN!E339","v":"RAKHI KANWAR"},{"$f":"SHALADARPAN!G339","v":"Kailash"}]
[{"$nulls":20},{"$f":"SHALADARPAN!A340","v":8},{"$f":"SHALADARPAN!B340","v":"A"},{"$f":"SHALADARPAN!K340","v":853},{"$f":"SHALADARPAN!E340","v":"RESHMA BANOO"},{"$f":"SHALADARPAN!G340","v":"Kailash"}]
[{"$nulls":20},{"$f":"SHALADARPAN!A341","v":8},{"$f":"SHALADARPAN!B341","v":"A"},{"$f":"SHALADARPAN!K341","v":854},{"$f":"SHALADARPAN!E341","v":"RUBANA BANU"},{"$f":"SHALADARPAN!G341","v":"Kailash"}]
[{"$nulls":20},{"$f":"SHALADARPAN!A342","v":8},{"$f":"SHALADARPAN!B342","v":"A"},{"$f":"SHALADARPAN!K342","v":855},{"$f":"SHALADARPAN!E342","v":"Sabir Ali"},{"$f":"SHALADARPAN!G342","v":"Kailash"}]
[{"$nulls":20},{"$f":"SHALADARPAN!A343","v":8},{"$f":"SHALADARPAN!B343","v":"A"},{"$f":"SHALADARPAN!K343","v":856},{"$f":"SHALADARPAN!E343","v":"SAHUKAR"},{"$f":"SHALADARPAN!G343","v":"Kailash"}]
[{"$nulls":20},{"$f":"SHALADARPAN!A344","v":8},{"$f":"SHALADARPAN!B344","v":"A"},{"$f":"SHALADARPAN!K344","v":857},{"$f":"SHALADARPAN!E344","v":"SALMA BANOO"},{"$f":"SHALADARPAN!G344","v":"Kailash"}]
[{"$nulls":20},{"$f":"SHALADARPAN!A345","v":8},{"$f":"SHALADARPAN!B345","v":"A"},{"$f":"SHALADARPAN!K345","v":858},{"$f":"SHALADARPAN!E345","v":"SANIYA BANOO"},{"$f":"SHALADARPAN!G345","v":"Kailash"}]
[{"$nulls":20},{"$f":"SHALADARPAN!A346","v":8},{"$f":"SHALADARPAN!B346","v":"A"},{"$f":"SHALADARPAN!K346","v":859},{"$f":"SHALADARPAN!E346","v":"SANJAY KHAN"},{"$f":"SHALADARPAN!G346","v":"Kailash"}]
[{"$nulls":20},{"$f":"SHALADARPAN!A347","v":8},{"$f":"SHALADARPAN!B347","v":"A"},{"$f":"SHALADARPAN!K347","v":860},{"$f":"SHALADARPAN!E347","v":"SAPNA GURJAR"},{"$f":"SHALADARPAN!G347","v":"Kailash"}]
[{"$nulls":20},{"$f":"SHALADARPAN!A348","v":8},{"$f":"SHALADARPAN!B348","v":"A"},{"$f":"SHALADARPAN!K348","v":861},{"$f":"SHALADARPAN!E348","v":"SEEMA DEVI"},{"$f":"SHALADARPAN!G348","v":"Kailash"}]
[{"$nulls":20},{"$f":"SHALADARPAN!A349","v":8},{"$f":"SHALADARPAN!B349","v":"A"},{"$f":"SHALADARPAN!K349","v":862},{"$f":"SHALADARPAN!E349","v":"SHOHIL"},{"$f":"SHALADARPAN!G349","v":"Kailash"}]
[{"$nulls":20},{"$f":"SHALADARPAN!A350","v":8},{"$f":"SHALADARPAN!B350","v":"A"},{"$f":"SHALADARPAN!K350","v":863},{"$f":"SHALADARPAN!E350","v":"Shubham Acharya"},{"$f":"SHALADARPAN!G350","v":"Kailash"}]
[{"$nulls":20},{"$f":"SHALADARPAN!A351","v":8},{"$f":"SHALADARPAN!B351","v":"A"},{"$f":"SHALADARPAN!K351","v":864},{"$f":"SHALADARPAN!E351","v":"SUJITA"},{"$f":"SHALADARPAN!G351","v":"Kailash"}]
[{"$nulls":20},{"$f":"SHALADARPAN!A352","v":8},{"$f":"SHALADARPAN!B352","v":"A"},{"$f":"SHALADARPAN!K352","v":865},{"$f":"SHALADARPAN!E352","v":"Sunil Saini"},{"$f":"SHALADARPAN!G352","v":"Kailash"}]
[{"$nulls":20},{"$f":"SHALADARPAN!A353","v":8},{"$f":"SHALADARPAN!B353","v":"A"},{"$f":"SHALADARPAN!K353","v":866},{"$f":"SHALADARPAN!E353","v":"SUNIL SAINI"},{"$f":"SHALADARPAN!G353","v":"Kailash"}]
[{"$nulls":20},{"$f":"SHALADARPAN!A354","v":8},{"$f":"SHALADARPAN!B354","v":"A"},{"$f":"SHALADARPAN!K354","v":867},{"$f":"SHALADARPAN!E354","v":"Sushil Kumar"},{"$f":"SHALADARPAN!G354","v":"Kailash"}]
[{"$nulls":20},{"$f":"SHALADARPAN!A355","v":8},{"$f":"SHALADARPAN!B355","v":"A"},{"$f":"SHALADARPAN!K355","v":868},{"$f":"SHALADARPAN!E355","v":"Tanvi Singh"},{"$f":"SHALADARPAN!G355","v":"Kailash"}]
[{"$nulls":20},{"$f":"SHALADARPAN!A356","v":8},{"$f":"SHALADARPAN!B356","v":"A"},{"$f":"SHALADARPAN!K356","v":869},{"$f":"SHALADARPAN!E356","v":"TEENA AACHARYA"},{"$f":"SHALADARPAN!G356","v":"Kailash"}]
[{"$nulls":20},{"$f":"SHALADARPAN!A357","v":9},{"$f":"SHALADARPAN!B357","v":"A"},{"$f":"SHALADARPAN!K357","v":901},{"$f":"SHALADARPAN!E357","v":"Aakash Suwasiya"},{"$f":"SHALADARPAN!G357","v":"Kailash"}]
[{"$nulls":20},{"$f":"SHALADARPAN!A358","v":9},{"$f":"SHALADARPAN!B358","v":"A"},{"$f":"SHALADARPAN!K358","v":902},{"$f":"SHALADARPAN!E358","v":"AASIF ALI"},{"$f":"SHALADARPAN!G358","v":"Kailash"}]
[{"$nulls":20},{"$f":"SHALADARPAN!A359","v":9},{"$f":"SHALADARPAN!B359","v":"A"},{"$f":"SHALADARPAN!K359","v":903},{"$f":"SHALADARPAN!E359","v":"Abdul Hameed"},{"$f":"SHALADARPAN!G359","v":"Kailash"}]
[{"$nulls":20},{"$f":"SHALADARPAN!A360","v":9},{"$f":"SHALADARPAN!B360","v":"A"},{"$f":"SHALADARPAN!K360","v":904},{"$f":"SHALADARPAN!E360","v":"AJAY"},{"$f":"SHALADARPAN!G360","v":"Kailash"}]
[{"$nulls":20},{"$f":"SHALADARPAN!A361","v":9},{"$f":"SHALADARPAN!B361","v":"A"},{"$f":"SHALADARPAN!K361","v":905},{"$f":"SHALADARPAN!E361","v":"Alkesh Dagdi"},{"$f":"SHALADARPAN!G361","v":"Kailash"}]
[{"$nulls":20},{"$f":"SHALADARPAN!A362","v":9},{"$f":"SHALADARPAN!B362","v":"A"},{"$f":"SHALADARPAN!K362","v":606},{"$f":"SHALADARPAN!E362","v":"Anil Kumar"},{"$f":"SHALADARPAN!G362","v":"Kailash"}]
[{"$nulls":20},{"$f":"SHALADARPAN!A363","v":9},{"$f":"SHALADARPAN!B363","v":"A"},{"$f":"SHALADARPAN!K363","v":907},{"$f":"SHALADARPAN!E363","v":"ANITA MALI"},{"$f":"SHALADARPAN!G363","v":"Kailash"}]
[{"$nulls":20},{"$f":"SHALADARPAN!A364","v":9},{"$f":"SHALADARPAN!B364","v":"A"},{"$f":"SHALADARPAN!K364","v":908},{"$f":"SHALADARPAN!E364","v":"Ankit Parihar"},{"$f":"SHALADARPAN!G364","v":"Kailash"}]
[{"$nulls":20},{"$f":"SHALADARPAN!A365","v":9},{"$f":"SHALADARPAN!B365","v":"A"},{"$f":"SHALADARPAN!K365","v":909},{"$f":"SHALADARPAN!E365","v":"ASHOK CHOKIDAR"},{"$f":"SHALADARPAN!G365","v":"Kailash"}]
[{"$nulls":20},{"$f":"SHALADARPAN!A366","v":9},{"$f":"SHALADARPAN!B366","v":"A"},{"$f":"SHALADARPAN!K366","v":911},{"$f":"SHALADARPAN!E366","v":"DEEPAK KUMAWAT"},{"$f":"SHALADARPAN!G366","v":"Kailash"}]
[{"$nulls":20},{"$f":"SHALADARPAN!A367","v":9},{"$f":"SHALADARPAN!B367","v":"A"},{"$f":"SHALADARPAN!K367","v":913},{"$f":"SHALADARPAN!E367","v":"DEVENDRA KUDI"},{"$f":"SHALADARPAN!G367","v":"Kailash"}]
[{"$nulls":20},{"$f":"SHALADARPAN!A368","v":9},{"$f":"SHALADARPAN!B368","v":"A"},{"$f":"SHALADARPAN!K368","v":915},{"$f":"SHALADARPAN!E368","v":"Dilu Devi Gurjar"},{"$f":"SHALADARPAN!G368","v":"Kailash"}]
[{"$nulls":20},{"$f":"SHALADARPAN!A369","v":9},{"$f":"SHALADARPAN!B369","v":"A"},{"$f":"SHALADARPAN!K369","v":916},{"$f":"SHALADARPAN!E369","v":"DINESH CHOKIDAR"},{"$f":"SHALADARPAN!G369","v":"Kailash"}]
[{"$nulls":20},{"$f":"SHALADARPAN!A370","v":9},{"$f":"SHALADARPAN!B370","v":"A"},{"$f":"SHALADARPAN!K370","v":917},{"$f":"SHALADARPAN!E370","v":"Gopal Saini"},{"$f":"SHALADARPAN!G370","v":"Kailash"}]
[{"$nulls":20},{"$f":"SHALADARPAN!A371","v":9},{"$f":"SHALADARPAN!B371","v":"A"},{"$f":"SHALADARPAN!K371","v":920},{"$f":"SHALADARPAN!E371","v":"Jatin Jorawal"},{"$f":"SHALADARPAN!G371","v":"Kailash"}]
[{"$nulls":20},{"$f":"SHALADARPAN!A372","v":9},{"$f":"SHALADARPAN!B372","v":"A"},{"$f":"SHALADARPAN!K372","v":921},{"$f":"SHALADARPAN!E372","v":"KAILASH"},{"$f":"SHALADARPAN!G372","v":"Kailash"}]
[{"$nulls":20},{"$f":"SHALADARPAN!A373","v":9},{"$f":"SHALADARPAN!B373","v":"A"},{"$f":"SHALADARPAN!K373","v":922},{"$f":"SHALADARPAN!E373","v":"KAVITA SAINI"},{"$f":"SHALADARPAN!G373","v":"Kailash"}]
[{"$nulls":20},{"$f":"SHALADARPAN!A374","v":9},{"$f":"SHALADARPAN!B374","v":"A"},{"$f":"SHALADARPAN!K374","v":923},{"$f":"SHALADARPAN!E374","v":"KHALID MOHAMMAD RANGREJ"},{"$f":"SHALADARPAN!G374","v":"Kailash"}]
[{"$nulls":20},{"$f":"SHALADARPAN!A375","v":9},{"$f":"SHALADARPAN!B375","v":"A"},{"$f":"SHALADARPAN!K375","v":924},{"$f":"SHALADARPAN!E375","v":"KHUSHBOO KANWAR"},{"$f":"SHALADARPAN!G375","v":"Kailash"}]
[{"$nulls":20},{"$f":"SHALADARPAN!A376","v":9},{"$f":"SHALADARPAN!B376","v":"A"},{"$f":"SHALADARPAN!K376","v":925},{"$f":"SHALADARPAN!E376","v":"KULDEEP SINGH"},{"$f":"SHALADARPAN!G376","v":"Kailash"}]
[{"$nulls":20},{"$f":"SHALADARPAN!A377","v":9},{"$f":"SHALADARPAN!B377","v":"A"},{"$f":"SHALADARPAN!K377","v":926},{"$f":"SHALADARPAN!E377","v":"KULDEEP SINGH"},{"$f":"SHALADARPAN!G377","v":"Kailash"}]
[{"$nulls":20},{"$f":"SHALADARPAN!A378","v":9},{"$f":"SHALADARPAN!B378","v":"A"},{"$f":"SHALADARPAN!K378","v":927},{"$f":"SHALADARPAN!E378","v":"Laki Ali"},{"$f":"SHALADARPAN!G378","v":"Kailash"}]
[{"$nulls":20},{"$f":"SHALADARPAN!A379","v":9},{"$f":"SHALADARPAN!B379","v":"A"},{"$f":"SHALADARPAN!K379","v":930},{"$f":"SHALADARPAN!E379","v":"Mukesh Nath"},{"$f":"SHALADARPAN!G379","v":"Kailash"}]
[{"$nulls":20},{"$f":"SHALADARPAN!A380","v":9},{"$f":"SHALADARPAN!B380","v":"A"},{"$f":"SHALADARPAN!K380","v":932},{"$f":"SHALADARPAN!E380","v":"MUSKAN BANOO"},{"$f":"SHALADARPAN!G380","v":"Kailash"}]
[{"$nulls":20},{"$f":"SHALADARPAN!A381","v":9},{"$f":"SHALADARPAN!B381","v":"A"},{"$f":"SHALADARPAN!K381","v":933},{"$f":"SHALADARPAN!E381","v":"MUSKAN MIRASHI"},{"$f":"SHALADARPAN!G381","v":"Kailash"}]
[{"$nulls":20},{"$f":"SHALADARPAN!A382","v":9},{"$f":"SHALADARPAN!B382","v":"A"},{"$f":"SHALADARPAN!K382","v":935},{"$f":"SHALADARPAN!E382","v":"PRAKASH CHAND MALI"},{"$f":"SHALADARPAN!G382","v":"Kailash"}]
[{"$nulls":20},{"$f":"SHALADARPAN!A383","v":9},{"$f":"SHALADARPAN!B383","v":"A"},{"$f":"SHALADARPAN!K383","v":936},{"$f":"SHALADARPAN!E383","v":"Pushpendra Singh"},{"$f":"SHALADARPAN!G383","v":"Kailash"}]
[{"$nulls":20},{"$f":"SHALADARPAN!A384","v":9},{"$f":"SHALADARPAN!B384","v":"A"},{"$f":"SHALADARPAN!K384","v":938},{"$f":"SHALADARPAN!E384","v":"Ravi Choudhary"},{"$f":"SHALADARPAN!G384","v":"Kailash"}]
[{"$nulls":20},{"$f":"SHALADARPAN!A385","v":9},{"$f":"SHALADARPAN!B385","v":"A"},{"$f":"SHALADARPAN!K385","v":939},{"$f":"SHALADARPAN!E385","v":"Rinku Vaishnav"},{"$f":"SHALADARPAN!G385","v":"Kailash"}]
[{"$nulls":20},{"$f":"SHALADARPAN!A386","v":9},{"$f":"SHALADARPAN!B386","v":"A"},{"$f":"SHALADARPAN!K386","v":940},{"$f":"SHALADARPAN!E386","v":"RUBINA"},{"$f":"SHALADARPAN!G386","v":"Kailash"}]
[{"$nulls":20},{"$f":"SHALADARPAN!A387","v":9},{"$f":"SHALADARPAN!B387","v":"A"},{"$f":"SHALADARPAN!K387","v":941},{"$f":"SHALADARPAN!E387","v":"RUKHSAR"},{"$f":"SHALADARPAN!G387","v":"Kailash"}]
[{"$nulls":20},{"$f":"SHALADARPAN!A388","v":9},{"$f":"SHALADARPAN!B388","v":"A"},{"$f":"SHALADARPAN!K388","v":942},{"$f":"SHALADARPAN!E388","v":"Sahina Banu"},{"$f":"SHALADARPAN!G388","v":"Kailash"}]
[{"$nulls":20},{"$f":"SHALADARPAN!A389","v":9},{"$f":"SHALADARPAN!B389","v":"A"},{"$f":"SHALADARPAN!K389","v":944},{"$f":"SHALADARPAN!E389","v":"SAMEER MIRASHI"},{"$f":"SHALADARPAN!G389","v":"Kailash"}]
[{"$nulls":20},{"$f":"SHALADARPAN!A390","v":9},{"$f":"SHALADARPAN!B390","v":"A"},{"$f":"SHALADARPAN!K390","v":945},{"$f":"SHALADARPAN!E390","v":"SAROJ"},{"$f":"SHALADARPAN!G390","v":"Kailash"}]
[{"$nulls":20},{"$f":"SHALADARPAN!A391","v":9},{"$f":"SHALADARPAN!B391","v":"A"},{"$f":"SHALADARPAN!K391","v":946},{"$f":"SHALADARPAN!E391","v":"SATYANARAYAN"},{"$f":"SHALADARPAN!G391","v":"Kailash"}]
[{"$nulls":20},{"$f":"SHALADARPAN!A392","v":9},{"$f":"SHALADARPAN!B392","v":"A"},{"$f":"SHALADARPAN!K392","v":947},{"$f":"SHALADARPAN!E392","v":"SHOHIL HUSAIN"},{"$f":"SHALADARPAN!G392","v":"Kailash"}]
[{"$nulls":20},{"$f":"SHALADARPAN!A393","v":9},{"$f":"SHALADARPAN!B393","v":"A"},{"$f":"SHALADARPAN!K393","v":948},{"$f":"SHALADARPAN!E393","v":"SUMAN"},{"$f":"SHALADARPAN!G393","v":"Kailash"}]
[{"$nulls":20},{"$f":"SHALADARPAN!A394","v":9},{"$f":"SHALADARPAN!B394","v":"A"},{"$f":"SHALADARPAN!K394","v":949},{"$f":"SHALADARPAN!E394","v":"SUMITRA DEVI"},{"$f":"SHALADARPAN!G394","v":"Kailash"}]
[{"$nulls":20},{"$f":"SHALADARPAN!A395","v":9},{"$f":"SHALADARPAN!B395","v":"A"},{"$f":"SHALADARPAN!K395","v":952},{"$f":"SHALADARPAN!E395","v":"SUNIL MEGHWAL"},{"$f":"SHALADARPAN!G395","v":"Kailash"}]
[{"$nulls":20},{"$f":"SHALADARPAN!A396","v":9},{"$f":"SHALADARPAN!B396","v":"A"},{"$f":"SHALADARPAN!K396","v":953},{"$f":"SHALADARPAN!E396","v":"SUNIL MEHRA"},{"$f":"SHALADARPAN!G396","v":"Kailash"}]
[{"$nulls":20},{"$f":"SHALADARPAN!A397","v":9},{"$f":"SHALADARPAN!B397","v":"A"},{"$f":"SHALADARPAN!K397","v":954},{"$f":"SHALADARPAN!E397","v":"SUNIL RAWAL"},{"$f":"SHALADARPAN!G397","v":"Kailash"}]
[{"$nulls":20},{"$f":"SHALADARPAN!A398","v":9},{"$f":"SHALADARPAN!B398","v":"A"},{"$f":"SHALADARPAN!K398","v":955},{"$f":"SHALADARPAN!E398","v":"SUNIL SAINI"},{"$f":"SHALADARPAN!G398","v":"Kailash"}]
[{"$nulls":20},{"$f":"SHALADARPAN!A399","v":9},{"$f":"SHALADARPAN!B399","v":"A"},{"$f":"SHALADARPAN!K399","v":956},{"$f":"SHALADARPAN!E399","v":"SUSHIL SINGODIYA"},{"$f":"SHALADARPAN!G399","v":"Kailash"}]
[{"$nulls":20},{"$f":"SHALADARPAN!A400","v":9},{"$f":"SHALADARPAN!B400","v":"A"},{"$f":"SHALADARPAN!K400","v":957},{"$f":"SHALADARPAN!E400","v":"TARA CHAND"},{"$f":"SHALADARPAN!G400","v":"Kailash"}]
[{"$nulls":20},{"$f":"SHALADARPAN!A401","v":9},{"$f":"SHALADARPAN!B401","v":"A"},{"$f":"SHALADARPAN!K401","v":959},{"$f":"SHALADARPAN!E401","v":"VASEEM"},{"$f":"SHALADARPAN!G401","v":"Kailash"}]
[{"$nulls":20},{"$f":"SHALADARPAN!A402","v":9},{"$f":"SHALADARPAN!B402","v":"A"},{"$f":"SHALADARPAN!K402","v":960},{"$f":"SHALADARPAN!E402","v":"Vikas Tamboli"},{"$f":"SHALADARPAN!G402","v":"Kailash"}]
[{"$nulls":20},{"$f":"SHALADARPAN!A403","v":9},{"$f":"SHALADARPAN!B403","v":"A"},{"$f":"SHALADARPAN!K403","v":961},{"$f":"SHALADARPAN!E403","v":"VIKRAM"},{"$f":"SHALADARPAN!G403","v":"Kailash"}]
[{"$nulls":20},{"$f":"SHALADARPAN!A404","v":9},{"$f":"SHALADARPAN!B404","v":"A"},{"$f":"SHALADARPAN!K404","v":962},{"$f":"SHALADARPAN!E404","v":"VIMALA KUMAWAT"},{"$f":"SHALADARPAN!G404","v":"Kailash"}]
[{"$nulls":20},{"$f":"SHALADARPAN!A405","v":9},{"$f":"SHALADARPAN!B405","v":"A"},{"$f":"SHALADARPAN!K405","v":963},{"$f":"SHALADARPAN!E405","v":"VIRENDRA CHOKIDAR"},{"$f":"SHALADARPAN!G405","v":"Kailash"}]
[{"$nulls":20},{"$f":"SHALADARPAN!A406","v":9},{"$f":"SHALADARPAN!B406","v":"B"},{"$f":"SHALADARPAN!K406","v":1001},{"$f":"SHALADARPAN!E406","v":"AFROJ BANU"},{"$f":"SHALADARPAN!G406","v":"Kailash"}]
[{"$nulls":20},{"$f":"SHALADARPAN!A407","v":9},{"$f":"SHALADARPAN!B407","v":"B"},{"$f":"SHALADARPAN!K407","v":1002},{"$f":"SHALADARPAN!E407","v":"ALTAF MOHAMMAD"},{"$f":"SHALADARPAN!G407","v":"Kailash"}]
[{"$nulls":20},{"$f":"SHALADARPAN!A408","v":9},{"$f":"SHALADARPAN!B408","v":"B"},{"$f":"SHALADARPAN!K408","v":1003},{"$f":"SHALADARPAN!E408","v":"ANNU KANWAR"},{"$f":"SHALADARPAN!G408","v":"Kailash"}]
[{"$nulls":20},{"$f":"SHALADARPAN!A409","v":9},{"$f":"SHALADARPAN!B409","v":"B"},{"$f":"SHALADARPAN!K409","v":1004},{"$f":"SHALADARPAN!E409","v":"Arpit Tailor"},{"$f":"SHALADARPAN!G409","v":"Kailash"}]
[{"$nulls":20},{"$f":"SHALADARPAN!A410","v":9},{"$f":"SHALADARPAN!B410","v":"B"},{"$f":"SHALADARPAN!K410","v":1005},{"$f":"SHALADARPAN!E410","v":"Ashraf Ali"},{"$f":"SHALADARPAN!G410","v":"Kailash"}]
[{"$nulls":20},{"$f":"SHALADARPAN!A411","v":9},{"$f":"SHALADARPAN!B411","v":"B"},{"$f":"SHALADARPAN!K411","v":1006},{"$f":"SHALADARPAN!E411","v":"BALRAM GURJAR"},{"$f":"SHALADARPAN!G411","v":"Kailash"}]
[{"$nulls":20},{"$f":"SHALADARPAN!A412","v":9},{"$f":"SHALADARPAN!B412","v":"B"},{"$f":"SHALADARPAN!K412","v":1007},{"$f":"SHALADARPAN!E412","v":"BASANTI"},{"$f":"SHALADARPAN!G412","v":"Kailash"}]
[{"$nulls":20},{"$f":"SHALADARPAN!A413","v":9},{"$f":"SHALADARPAN!B413","v":"B"},{"$f":"SHALADARPAN!K413","v":1008},{"$f":"SHALADARPAN!E413","v":"Chanchal Saini"},{"$f":"SHALADARPAN!G413","v":"Kailash"}]
[{"$nulls":20},{"$f":"SHALADARPAN!A414","v":9},{"$f":"SHALADARPAN!B414","v":"B"},{"$f":"SHALADARPAN!K414","v":1009},{"$f":"SHALADARPAN!E414","v":"CHANCHAL KUMAWAT"},{"$f":"SHALADARPAN!G414","v":"Kailash"}]
[{"$nulls":20},{"$f":"SHALADARPAN!A415","v":9},{"$f":"SHALADARPAN!B415","v":"B"},{"$f":"SHALADARPAN!K415","v":1010},{"$f":"SHALADARPAN!E415","v":"Cheteswar Jhala"},{"$f":"SHALADARPAN!G415","v":"Kailash"}]
[{"$nulls":20},{"$f":"SHALADARPAN!A416","v":9},{"$f":"SHALADARPAN!B416","v":"B"},{"$f":"SHALADARPAN!K416","v":1011},{"$f":"SHALADARPAN!E416","v":"Deepika Prajapat"},{"$f":"SHALADARPAN!G416","v":"Kailash"}]
[{"$nulls":20},{"$f":"SHALADARPAN!A417","v":9},{"$f":"SHALADARPAN!B417","v":"B"},{"$f":"SHALADARPAN!K417","v":1012},{"$f":"SHALADARPAN!E417","v":"Devendra Singh"},{"$f":"SHALADARPAN!G417","v":"Kailash"}]
[{"$nulls":20},{"$f":"SHALADARPAN!A418","v":9},{"$f":"SHALADARPAN!B418","v":"B"},{"$f":"SHALADARPAN!K418","v":1013},{"$f":"SHALADARPAN!E418","v":"Dinesh Saini"},{"$f":"SHALADARPAN!G418","v":"Kailash"}]
[{"$nulls":20},{"$f":"SHALADARPAN!A419","v":9},{"$f":"SHALADARPAN!B419","v":"B"},{"$f":"SHALADARPAN!K419","v":1014},{"$f":"SHALADARPAN!E419","v":"GHANSHYAM RAVAL"},{"$f":"SHALADARPAN!G419","v":"Kailash"}]
[{"$nulls":20},{"$f":"SHALADARPAN!A420","v":9},{"$f":"SHALADARPAN!B420","v":"B"},{"$f":"SHALADARPAN!K420","v":1015},{"$f":"SHALADARPAN!E420","v":"GUDDI"},{"$f":"SHALADARPAN!G420","v":"Kailash"}]
[{"$nulls":20},{"$f":"SHALADARPAN!A421","v":9},{"$f":"SHALADARPAN!B421","v":"B"},{"$f":"SHALADARPAN!K421","v":915},{"$f":"SHALADARPAN!E421","v":"GULBAR BANU"},{"$f":"SHALADARPAN!G421","v":"Kailash"}]
[{"$nulls":20},{"$f":"SHALADARPAN!A422","v":9},{"$f":"SHALADARPAN!B422","v":"B"},{"$f":"SHALADARPAN!K422","v":1016},{"$f":"SHALADARPAN!E422","v":"Hansa Devi"},{"$f":"SHALADARPAN!G422","v":"Kailash"}]
[{"$nulls":20},{"$f":"SHALADARPAN!A423","v":9},{"$f":"SHALADARPAN!B423","v":"B"},{"$f":"SHALADARPAN!K423","v":1017},{"$f":"SHALADARPAN!E423","v":"Hanuman Ram"},{"$f":"SHALADARPAN!G423","v":"Kailash"}]
[{"$nulls":20},{"$f":"SHALADARPAN!A424","v":9},{"$f":"SHALADARPAN!B424","v":"B"},{"$f":"SHALADARPAN!K424","v":1018},{"$f":"SHALADARPAN!E424","v":"Harendra Saini"},{"$f":"SHALADARPAN!G424","v":"Kailash"}]
[{"$nulls":20},{"$f":"SHALADARPAN!A425","v":9},{"$f":"SHALADARPAN!B425","v":"B"},{"$f":"SHALADARPAN!K425","v":1019},{"$f":"SHALADARPAN!E425","v":"Hari Ram"},{"$f":"SHALADARPAN!G425","v":"Kailash"}]
[{"$nulls":20},{"$f":"SHALADARPAN!A426","v":9},{"$f":"SHALADARPAN!B426","v":"B"},{"$f":"SHALADARPAN!K426","v":1020},{"$f":"SHALADARPAN!E426","v":"HASMATI BANO"},{"$f":"SHALADARPAN!G426","v":"Kailash"}]
[{"$nulls":20},{"$f":"SHALADARPAN!A427","v":9},{"$f":"SHALADARPAN!B427","v":"B"},{"$f":"SHALADARPAN!K427","v":1021},{"$f":"SHALADARPAN!E427","v":"JAIPAL SINGH"},{"$f":"SHALADARPAN!G427","v":"Kailash"}]
[{"$nulls":20},{"$f":"SHALADARPAN!A428","v":9},{"$f":"SHALADARPAN!B428","v":"B"},{"$f":"SHALADARPAN!K428","v":1022},{"$f":"SHALADARPAN!E428","v":"Jay Shree Prajapat"},{"$f":"SHALADARPAN!G428","v":"Kailash"}]
[{"$nulls":20},{"$f":"SHALADARPAN!A429","v":9},{"$f":"SHALADARPAN!B429","v":"B"},{"$f":"SHALADARPAN!K429","v":1023},{"$f":"SHALADARPAN!E429","v":"KAJOO DEVI"},{"$f":"SHALADARPAN!G429","v":"Kailash"}]
[{"$nulls":20},{"$f":"SHALADARPAN!A430","v":9},{"$f":"SHALADARPAN!B430","v":"B"},{"$f":"SHALADARPAN!K430","v":1024},{"$f":"SHALADARPAN!E430","v":"KANCHAN DEVI"},{"$f":"SHALADARPAN!G430","v":"Kailash"}]
[{"$nulls":20},{"$f":"SHALADARPAN!A431","v":9},{"$f":"SHALADARPAN!B431","v":"B"},{"$f":"SHALADARPAN!K431","v":1025},{"$f":"SHALADARPAN!E431","v":"KAVITA KUMAWAT"},{"$f":"SHALADARPAN!G431","v":"Kailash"}]
[{"$nulls":20},{"$f":"SHALADARPAN!A432","v":9},{"$f":"SHALADARPAN!B432","v":"B"},{"$f":"SHALADARPAN!K432","v":1026},{"$f":"SHALADARPAN!E432","v":"KOMAL"},{"$f":"SHALADARPAN!G432","v":"Kailash"}]
[{"$nulls":20},{"$f":"SHALADARPAN!A433","v":9},{"$f":"SHALADARPAN!B433","v":"B"},{"$f":"SHALADARPAN!K433","v":1027},{"$f":"SHALADARPAN!E433","v":"Komal Kanwar"},{"$f":"SHALADARPAN!G433","v":"Kailash"}]
[{"$nulls":20},{"$f":"SHALADARPAN!A434","v":9},{"$f":"SHALADARPAN!B434","v":"B"},{"$f":"SHALADARPAN!K434","v":1028},{"$f":"SHALADARPAN!E434","v":"KOMAL MALI"},{"$f":"SHALADARPAN!G434","v":"Kailash"}]
[{"$nulls":20},{"$f":"SHALADARPAN!A435","v":9},{"$f":"SHALADARPAN!B435","v":"B"},{"$f":"SHALADARPAN!K435","v":1029},{"$f":"SHALADARPAN!E435","v":"Laxmi"},{"$f":"SHALADARPAN!G435","v":"Kailash"}]
[{"$nulls":20},{"$f":"SHALADARPAN!A436","v":9},{"$f":"SHALADARPAN!B436","v":"B"},{"$f":"SHALADARPAN!K436","v":1030},{"$f":"SHALADARPAN!E436","v":"LAXMI KUMARI"},{"$f":"SHALADARPAN!G436","v":"Kailash"}]
[{"$nulls":20},{"$f":"SHALADARPAN!A437","v":9},{"$f":"SHALADARPAN!B437","v":"B"},{"$f":"SHALADARPAN!K437","v":1031},{"$f":"SHALADARPAN!E437","v":"MAMTA"},{"$f":"SHALADARPAN!G437","v":"Kailash"}]
[{"$nulls":20},{"$f":"SHALADARPAN!A438","v":9},{"$f":"SHALADARPAN!B438","v":"B"},{"$f":"SHALADARPAN!K438","v":1032},{"$f":"SHALADARPAN!E438","v":"MANISHA SAINI"},{"$f":"SHALADARPAN!G438","v":"Kailash"}]
[{"$nulls":20},{"$f":"SHALADARPAN!A439","v":9},{"$f":"SHALADARPAN!B439","v":"B"},{"$f":"SHALADARPAN!K439","v":1033},{"$f":"SHALADARPAN!E439","v":"MAYA RAIDAS"},{"$f":"SHALADARPAN!G439","v":"Kailash"}]
[{"$nulls":20},{"$f":"SHALADARPAN!A440","v":9},{"$f":"SHALADARPAN!B440","v":"B"},{"$f":"SHALADARPAN!K440","v":1034},{"$f":"SHALADARPAN!E440","v":"MITALI KUMAWAT"},{"$f":"SHALADARPAN!G440","v":"Kailash"}]
[{"$nulls":20},{"$f":"SHALADARPAN!A441","v":9},{"$f":"SHALADARPAN!B441","v":"B"},{"$f":"SHALADARPAN!K441","v":1035},{"$f":"SHALADARPAN!E441","v":"Mohit Saini"},{"$f":"SHALADARPAN!G441","v":"Kailash"}]
[{"$nulls":20},{"$f":"SHALADARPAN!A442","v":9},{"$f":"SHALADARPAN!B442","v":"B"},{"$f":"SHALADARPAN!K442","v":1036},{"$f":"SHALADARPAN!E442","v":"MONIKA BANU"},{"$f":"SHALADARPAN!G442","v":"Kailash"}]
[{"$nulls":20},{"$f":"SHALADARPAN!A443","v":9},{"$f":"SHALADARPAN!B443","v":"B"},{"$f":"SHALADARPAN!K443","v":1037},{"$f":"SHALADARPAN!E443","v":"MONIKA CHOUDHARY"},{"$f":"SHALADARPAN!G443","v":"Kailash"}]
[{"$nulls":20},{"$f":"SHALADARPAN!A444","v":9},{"$f":"SHALADARPAN!B444","v":"B"},{"$f":"SHALADARPAN!K444","v":1038},{"$f":"SHALADARPAN!E444","v":"MUMAL KANWAR"},{"$f":"SHALADARPAN!G444","v":"Kailash"}]
[{"$nulls":20},{"$f":"SHALADARPAN!A445","v":9},{"$f":"SHALADARPAN!B445","v":"B"},{"$f":"SHALADARPAN!K445","v":1039},{"$f":"SHALADARPAN!E445","v":"MUSKAN QURAISHI"},{"$f":"SHALADARPAN!G445","v":"Kailash"}]
[{"$nulls":20},{"$f":"SHALADARPAN!A446","v":9},{"$f":"SHALADARPAN!B446","v":"B"},{"$f":"SHALADARPAN!K446","v":1040},{"$f":"SHALADARPAN!E446","v":"Nabab Ali"},{"$f":"SHALADARPAN!G446","v":"Kailash"}]
[{"$nulls":20},{"$f":"SHALADARPAN!A447","v":9},{"$f":"SHALADARPAN!B447","v":"B"},{"$f":"SHALADARPAN!K447","v":1041},{"$f":"SHALADARPAN!E447","v":"NAJMEEN"},{"$f":"SHALADARPAN!G447","v":"Kailash"}]
[{"$nulls":20},{"$f":"SHALADARPAN!A448","v":9},{"$f":"SHALADARPAN!B448","v":"B"},{"$f":"SHALADARPAN!K448","v":1042},{"$f":"SHALADARPAN!E448","v":"Narendra Singh"},{"$f":"SHALADARPAN!G448","v":"Kailash"}]
[{"$nulls":20},{"$f":"SHALADARPAN!A449","v":9},{"$f":"SHALADARPAN!B449","v":"B"},{"$f":"SHALADARPAN!K449","v":1043},{"$f":"SHALADARPAN!E449","v":"Pradeep Sharma"},{"$f":"SHALADARPAN!G449","v":"Kailash"}]
[{"$nulls":20},{"$f":"SHALADARPAN!A450","v":9},{"$f":"SHALADARPAN!B450","v":"B"},{"$f":"SHALADARPAN!K450","v":1044},{"$f":"SHALADARPAN!E450","v":"PRAFUL VYAS"},{"$f":"SHALADARPAN!G450","v":"Kailash"}]
[{"$nulls":20},{"$f":"SHALADARPAN!A451","v":9},{"$f":"SHALADARPAN!B451","v":"B"},{"$f":"SHALADARPAN!K451","v":1045},{"$f":"SHALADARPAN!E451","v":"Praveen Samariya"},{"$f":"SHALADARPAN!G451","v":"Kailash"}]
[{"$nulls":20},{"$f":"SHALADARPAN!A452","v":9},{"$f":"SHALADARPAN!B452","v":"B"},{"$f":"SHALADARPAN!K452","v":1046},{"$f":"SHALADARPAN!E452","v":"RAHMAT"},{"$f":"SHALADARPAN!G452","v":"Kailash"}]
[{"$nulls":20},{"$f":"SHALADARPAN!A453","v":9},{"$f":"SHALADARPAN!B453","v":"B"},{"$f":"SHALADARPAN!K453","v":1047},{"$f":"SHALADARPAN!E453","v":"RAJBA KOSAR"},{"$f":"SHALADARPAN!G453","v":"Kailash"}]
[{"$nulls":20},{"$f":"SHALADARPAN!A454","v":9},{"$f":"SHALADARPAN!B454","v":"B"},{"$f":"SHALADARPAN!K454","v":1048},{"$f":"SHALADARPAN!E454","v":"RAVINDRA BHATI"},{"$f":"SHALADARPAN!G454","v":"Kailash"}]
[{"$nulls":20},{"$f":"SHALADARPAN!A455","v":9},{"$f":"SHALADARPAN!B455","v":"B"},{"$f":"SHALADARPAN!K455","v":1049},{"$f":"SHALADARPAN!E455","v":"SANDEEP SAINI"},{"$f":"SHALADARPAN!G455","v":"Kailash"}]
[{"$nulls":20},{"$f":"SHALADARPAN!A456","v":9},{"$f":"SHALADARPAN!B456","v":"B"},{"$f":"SHALADARPAN!K456","v":1051},{"$f":"SHALADARPAN!E456","v":"SHILPA KUDI"},{"$f":"SHALADARPAN!G456","v":"Kailash"}]
[{"$nulls":20},{"$f":"SHALADARPAN!A457","v":9},{"$f":"SHALADARPAN!B457","v":"B"},{"$f":"SHALADARPAN!K457","v":1053},{"$f":"SHALADARPAN!E457","v":"SONAM KUMAWAT"},{"$f":"SHALADARPAN!G457","v":"Kailash"}]
[{"$nulls":20},{"$f":"SHALADARPAN!A458","v":9},{"$f":"SHALADARPAN!B458","v":"B"},{"$f":"SHALADARPAN!K458","v":1054},{"$f":"SHALADARPAN!E458","v":"SONU DEVI"},{"$f":"SHALADARPAN!G458","v":"Kailash"}]
[{"$nulls":20},{"$f":"SHALADARPAN!A459","v":9},{"$f":"SHALADARPAN!B459","v":"B"},{"$f":"SHALADARPAN!K459","v":1056},{"$f":"SHALADARPAN!E459","v":"SUMAN KANWAR"},{"$f":"SHALADARPAN!G459","v":"Kailash"}]
[{"$nulls":20},{"$f":"SHALADARPAN!A460","v":9},{"$f":"SHALADARPAN!B460","v":"B"},{"$f":"SHALADARPAN!K460","v":1057},{"$f":"SHALADARPAN!E460","v":"Sumit Saini"},{"$f":"SHALADARPAN!G460","v":"Kailash"}]
[{"$nulls":20},{"$f":"SHALADARPAN!A461","v":9},{"$f":"SHALADARPAN!B461","v":"B"},{"$f":"SHALADARPAN!K461","v":1058},{"$f":"SHALADARPAN!E461","v":"SUMITA"},{"$f":"SHALADARPAN!G461","v":"Kailash"}]
[{"$nulls":20},{"$f":"SHALADARPAN!A462","v":9},{"$f":"SHALADARPAN!B462","v":"B"},{"$f":"SHALADARPAN!K462","v":1059},{"$f":"SHALADARPAN!E462","v":"Sunil Saini"},{"$f":"SHALADARPAN!G462","v":"Kailash"}]
[{"$nulls":20},{"$f":"SHALADARPAN!A463","v":9},{"$f":"SHALADARPAN!B463","v":"B"},{"$f":"SHALADARPAN!K463","v":1060},{"$f":"SHALADARPAN!E463","v":"SUNITA PANWAR"},{"$f":"SHALADARPAN!G463","v":"Kailash"}]
[{"$nulls":20},{"$f":"SHALADARPAN!A464","v":9},{"$f":"SHALADARPAN!B464","v":"B"},{"$f":"SHALADARPAN!K464","v":1061},{"$f":"SHALADARPAN!E464","v":"SURENDRA KUMAWAT"},{"$f":"SHALADARPAN!G464","v":"Kailash"}]
[{"$nulls":20},{"$f":"SHALADARPAN!A465","v":9},{"$f":"SHALADARPAN!B465","v":"B"},{"$f":"SHALADARPAN!K465","v":1062},{"$f":"SHALADARPAN!E465","v":"Tija Devi"},{"$f":"SHALADARPAN!G465","v":"Kailash"}]
[{"$nulls":20},{"$f":"SHALADARPAN!A466","v":9},{"$f":"SHALADARPAN!B466","v":"B"},{"$f":"SHALADARPAN!K466","v":1063},{"$f":"SHALADARPAN!E466","v":"URMILA"},{"$f":"SHALADARPAN!G466","v":"Kailash"}]
[{"$nulls":20},{"$f":"SHALADARPAN!A467","v":9},{"$f":"SHALADARPAN!B467","v":"B"},{"$f":"SHALADARPAN!K467","v":1064},{"$f":"SHALADARPAN!E467","v":"Varsha Kanwar"},{"$f":"SHALADARPAN!G467","v":"Kailash"}]
[{"$nulls":20},{"$f":"SHALADARPAN!A468","v":9},{"$f":"SHALADARPAN!B468","v":"B"},{"$f":"SHALADARPAN!K468","v":1065},{"$f":"SHALADARPAN!E468","v":"Vikas Barara"},{"$f":"SHALADARPAN!G468","v":"Kailash"}]
[{"$nulls":20},{"$f":"SHALADARPAN!A469","v":9},{"$f":"SHALADARPAN!B469","v":"B"},{"$f":"SHALADARPAN!K469","v":1066},{"$f":"SHALADARPAN!E469","v":"Vrishty Malakar"},{"$f":"SHALADARPAN!G469","v":"Kailash"}]
[{"$nulls":20},{"$f":"SHALADARPAN!A470","v":9},{"$f":"SHALADARPAN!B470","v":"B"},{"$f":"SHALADARPAN!K470","v":1067},{"$f":"SHALADARPAN!E470","v":"Yogendra Singh"},{"$f":"SHALADARPAN!G470","v":"Kailash"}]
[{"$nulls":20},{"$f":"SHALADARPAN!A471","v":9},{"$f":"SHALADARPAN!B471","v":"B"},{"$f":"SHALADARPAN!K471","v":1068},{"$f":"SHALADARPAN!E471","v":"Yogesh Kumar Prajapat"},{"$f":"SHALADARPAN!G471","v":"Kailash"}]
[{"$nulls":20},{"$f":"SHALADARPAN!A472","v":9},{"$f":"SHALADARPAN!B472","v":"B"},{"$f":"SHALADARPAN!K472","v":1069},{"$f":"SHALADARPAN!E472","v":"Yogesh Vaishnav"},{"$f":"SHALADARPAN!G472","v":"Kailash"}]
[{"$nulls":20},{"$f":"SHALADARPAN!A473","v":9},{"$f":"SHALADARPAN!B473","v":"B"},{"$f":"SHALADARPAN!K473","v":1070},{"$f":"SHALADARPAN!E473","v":"Yuvraj Singh"},{"$f":"SHALADARPAN!G473","v":"Kailash"}]
[{"$nulls":20},{"$f":"SHALADARPAN!A474","v":10},{"$f":"SHALADARPAN!B474","v":"A"},{"$f":"SHALADARPAN!K474","v":1101},{"$f":"SHALADARPAN!E474","v":"AARTI SAINI"},{"$f":"SHALADARPAN!G474","v":"Kailash"}]
[{"$nulls":20},{"$f":"SHALADARPAN!A475","v":10},{"$f":"SHALADARPAN!B475","v":"A"},{"$f":"SHALADARPAN!K475","v":1104},{"$f":"SHALADARPAN!E475","v":"ANIL SAINI"},{"$f":"SHALADARPAN!G475","v":"Kailash"}]
[{"$nulls":20},{"$f":"SHALADARPAN!A476","v":10},{"$f":"SHALADARPAN!B476","v":"A"},{"$f":"SHALADARPAN!K476","v":1105},{"$f":"SHALADARPAN!E476","v":"ANITA"},{"$f":"SHALADARPAN!G476","v":"Kailash"}]
[{"$nulls":20},{"$f":"SHALADARPAN!A477","v":10},{"$f":"SHALADARPAN!B477","v":"A"},{"$f":"SHALADARPAN!K477","v":1106},{"$f":"SHALADARPAN!E477","v":"Ashish Vaishnav"},{"$f":"SHALADARPAN!G477","v":"Kailash"}]
[{"$nulls":20},{"$f":"SHALADARPAN!A478","v":10},{"$f":"SHALADARPAN!B478","v":"A"},{"$f":"SHALADARPAN!K478","v":1108},{"$f":"SHALADARPAN!E478","v":"BHARAT RAIDAS"},{"$f":"SHALADARPAN!G478","v":"Kailash"}]
[{"$nulls":20},{"$f":"SHALADARPAN!A479","v":10},{"$f":"SHALADARPAN!B479","v":"A"},{"$f":"SHALADARPAN!K479","v":1111},{"$f":"SHALADARPAN!E479","v":"JAY SHREE RAIDAS"},{"$f":"SHALADARPAN!G479","v":"Kailash"}]
[{"$nulls":20},{"$f":"SHALADARPAN!A480","v":10},{"$f":"SHALADARPAN!B480","v":"A"},{"$f":"SHALADARPAN!K480","v":1112},{"$f":"SHALADARPAN!E480","v":"KAVITA NATH"},{"$f":"SHALADARPAN!G480","v":"Kailash"}]
[{"$nulls":20},{"$f":"SHALADARPAN!A481","v":10},{"$f":"SHALADARPAN!B481","v":"A"},{"$f":"SHALADARPAN!K481","v":1113},{"$f":"SHALADARPAN!E481","v":"KHUSHI RAIDAS"},{"$f":"SHALADARPAN!G481","v":"Kailash"}]
[{"$nulls":20},{"$f":"SHALADARPAN!A482","v":10},{"$f":"SHALADARPAN!B482","v":"A"},{"$f":"SHALADARPAN!K482","v":1114},{"$f":"SHALADARPAN!E482","v":"KISHOR BAWARI"},{"$f":"SHALADARPAN!G482","v":"Kailash"}]
[{"$nulls":20},{"$f":"SHALADARPAN!A483","v":10},{"$f":"SHALADARPAN!B483","v":"A"},{"$f":"SHALADARPAN!K483","v":1115},{"$f":"SHALADARPAN!E483","v":"Lokesh Saini"},{"$f":"SHALADARPAN!G483","v":"Kailash"}]
[{"$nulls":20},{"$f":"SHALADARPAN!A484","v":10},{"$f":"SHALADARPAN!B484","v":"A"},{"$f":"SHALADARPAN!K484","v":1116},{"$f":"SHALADARPAN!E484","v":"MANISH CHAUKIDAR"},{"$f":"SHALADARPAN!G484","v":"Kailash"}]
[{"$nulls":20},{"$f":"SHALADARPAN!A485","v":10},{"$f":"SHALADARPAN!B485","v":"A"},{"$f":"SHALADARPAN!K485","v":1117},{"$f":"SHALADARPAN!E485","v":"MANISH KUMAWAT"},{"$f":"SHALADARPAN!G485","v":"Kailash"}]
[{"$nulls":20},{"$f":"SHALADARPAN!A486","v":10},{"$f":"SHALADARPAN!B486","v":"A"},{"$f":"SHALADARPAN!K486","v":1118},{"$f":"SHALADARPAN!E486","v":"Manish Marotiya"},{"$f":"SHALADARPAN!G486","v":"Kailash"}]
[{"$nulls":20},{"$f":"SHALADARPAN!A487","v":10},{"$f":"SHALADARPAN!B487","v":"A"},{"$f":"SHALADARPAN!K487","v":1119},{"$f":"SHALADARPAN!E487","v":"MANJU DEVI"},{"$f":"SHALADARPAN!G487","v":"Kailash"}]
[{"$nulls":20},{"$f":"SHALADARPAN!A488","v":10},{"$f":"SHALADARPAN!B488","v":"A"},{"$f":"SHALADARPAN!K488","v":1120},{"$f":"SHALADARPAN!E488","v":"Manohar Nath"},{"$f":"SHALADARPAN!G488","v":"Kailash"}]
[{"$nulls":20},{"$f":"SHALADARPAN!A489","v":10},{"$f":"SHALADARPAN!B489","v":"A"},{"$f":"SHALADARPAN!K489","v":1121},{"$f":"SHALADARPAN!E489","v":"MANOJ SAINI"},{"$f":"SHALADARPAN!G489","v":"Kailash"}]
[{"$nulls":20},{"$f":"SHALADARPAN!A490","v":10},{"$f":"SHALADARPAN!B490","v":"A"},{"$f":"SHALADARPAN!K490","v":1122},{"$f":"SHALADARPAN!E490","v":"Mohammad Ismail"},{"$f":"SHALADARPAN!G490","v":"Kailash"}]
[{"$nulls":20},{"$f":"SHALADARPAN!A491","v":10},{"$f":"SHALADARPAN!B491","v":"A"},{"$f":"SHALADARPAN!K491","v":1123},{"$f":"SHALADARPAN!E491","v":"Monika Nath"},{"$f":"SHALADARPAN!G491","v":"Kailash"}]
[{"$nulls":20},{"$f":"SHALADARPAN!A492","v":10},{"$f":"SHALADARPAN!B492","v":"A"},{"$f":"SHALADARPAN!K492","v":1125},{"$f":"SHALADARPAN!E492","v":"NEETU"},{"$f":"SHALADARPAN!G492","v":"Kailash"}]
[{"$nulls":20},{"$f":"SHALADARPAN!A493","v":10},{"$f":"SHALADARPAN!B493","v":"A"},{"$f":"SHALADARPAN!K493","v":1126},{"$f":"SHALADARPAN!E493","v":"NOOR JAHAN"},{"$f":"SHALADARPAN!G493","v":"Kailash"}]
[{"$nulls":20},{"$f":"SHALADARPAN!A494","v":10},{"$f":"SHALADARPAN!B494","v":"A"},{"$f":"SHALADARPAN!K494","v":1127},{"$f":"SHALADARPAN!E494","v":"NOSAR DEVI"},{"$f":"SHALADARPAN!G494","v":"Kailash"}]
[{"$nulls":20},{"$f":"SHALADARPAN!A495","v":10},{"$f":"SHALADARPAN!B495","v":"A"},{"$f":"SHALADARPAN!K495","v":1128},{"$f":"SHALADARPAN!E495","v":"POOJA DEVI CHOKIDAR"},{"$f":"SHALADARPAN!G495","v":"Kailash"}]
[{"$nulls":20},{"$f":"SHALADARPAN!A496","v":10},{"$f":"SHALADARPAN!B496","v":"A"},{"$f":"SHALADARPAN!K496","v":1129},{"$f":"SHALADARPAN!E496","v":"POOJA KUMAWAT"},{"$f":"SHALADARPAN!G496","v":"Kailash"}]
[{"$nulls":20},{"$f":"SHALADARPAN!A497","v":10},{"$f":"SHALADARPAN!B497","v":"A"},{"$f":"SHALADARPAN!K497","v":1130},{"$f":"SHALADARPAN!E497","v":"POOJA RAIDAS"},{"$f":"SHALADARPAN!G497","v":"Kailash"}]
[{"$nulls":20},{"$f":"SHALADARPAN!A498","v":10},{"$f":"SHALADARPAN!B498","v":"A"},{"$f":"SHALADARPAN!K498","v":1131},{"$f":"SHALADARPAN!E498","v":"POOJA SAINI"},{"$f":"SHALADARPAN!G498","v":"Kailash"}]
[{"$nulls":20},{"$f":"SHALADARPAN!A499","v":10},{"$f":"SHALADARPAN!B499","v":"A"},{"$f":"SHALADARPAN!K499","v":1132},{"$f":"SHALADARPAN!E499","v":"PREM CHAND"},{"$f":"SHALADARPAN!G499","v":"Kailash"}]
[{"$nulls":20},{"$f":"SHALADARPAN!A500","v":10},{"$f":"SHALADARPAN!B500","v":"A"},{"$f":"SHALADARPAN!K500","v":1134},{"$f":"SHALADARPAN!E500","v":"RAJENDRA KUDI"},{"$f":"SHALADARPAN!G500","v":"Kailash"}]
[{"$nulls":20},{"$f":"SHALADARPAN!A501","v":10},{"$f":"SHALADARPAN!B501","v":"A"},{"$f":"SHALADARPAN!K501","v":1135},{"$f":"SHALADARPAN!E501","v":"Rakesh Dagdi"},{"$f":"SHALADARPAN!G501","v":"Kailash"}]
[{"$nulls":20},{"$f":"SHALADARPAN!A502","v":10},{"$f":"SHALADARPAN!B502","v":"A"},{"$f":"SHALADARPAN!K502","v":1136},{"$f":"SHALADARPAN!E502","v":"Ram Lal Kumawat"},{"$f":"SHALADARPAN!G502","v":"Kailash"}]
[{"$nulls":20},{"$f":"SHALADARPAN!A503","v":10},{"$f":"SHALADARPAN!B503","v":"A"},{"$f":"SHALADARPAN!K503","v":1137},{"$f":"SHALADARPAN!E503","v":"RAMESHCHAND KUMAWAT"},{"$f":"SHALADARPAN!G503","v":"Kailash"}]
[{"$nulls":20},{"$f":"SHALADARPAN!A504","v":10},{"$f":"SHALADARPAN!B504","v":"A"},{"$f":"SHALADARPAN!K504","v":1138},{"$f":"SHALADARPAN!E504","v":"RAMZAN"},{"$f":"SHALADARPAN!G504","v":"Kailash"}]
[{"$nulls":20},{"$f":"SHALADARPAN!A505","v":10},{"$f":"SHALADARPAN!B505","v":"A"},{"$f":"SHALADARPAN!K505","v":1139},{"$f":"SHALADARPAN!E505","v":"RENU PANWAR"},{"$f":"SHALADARPAN!G505","v":"Kailash"}]
[{"$nulls":20},{"$f":"SHALADARPAN!A506","v":10},{"$f":"SHALADARPAN!B506","v":"A"},{"$f":"SHALADARPAN!K506","v":1140},{"$f":"SHALADARPAN!E506","v":"SAJJAN KUMAWAT"},{"$f":"SHALADARPAN!G506","v":"Kailash"}]
[{"$nulls":20},{"$f":"SHALADARPAN!A507","v":10},{"$f":"SHALADARPAN!B507","v":"A"},{"$f":"SHALADARPAN!K507","v":1141},{"$f":"SHALADARPAN!E507","v":"SANJU DEVI"},{"$f":"SHALADARPAN!G507","v":"Kailash"}]
[{"$nulls":20},{"$f":"SHALADARPAN!A508","v":10},{"$f":"SHALADARPAN!B508","v":"A"},{"$f":"SHALADARPAN!K508","v":1143},{"$f":"SHALADARPAN!E508","v":"SUMAN SAINI"},{"$f":"SHALADARPAN!G508","v":"Kailash"}]
[{"$nulls":20},{"$f":"SHALADARPAN!A509","v":10},{"$f":"SHALADARPAN!B509","v":"A"},{"$f":"SHALADARPAN!K509","v":1144},{"$f":"SHALADARPAN!E509","v":"SUMIT NATH"},{"$f":"SHALADARPAN!G509","v":"Kailash"}]
[{"$nulls":20},{"$f":"SHALADARPAN!A510","v":10},{"$f":"SHALADARPAN!B510","v":"A"},{"$f":"SHALADARPAN!K510","v":1145},{"$f":"SHALADARPAN!E510","v":"Sunil Jat"},{"$f":"SHALADARPAN!G510","v":"Kailash"}]
[{"$nulls":20},{"$f":"SHALADARPAN!A511","v":10},{"$f":"SHALADARPAN!B511","v":"A"},{"$f":"SHALADARPAN!K511","v":1146},{"$f":"SHALADARPAN!E511","v":"Surendra Nath"},{"$f":"SHALADARPAN!G511","v":"Kailash"}]
[{"$nulls":20},{"$f":"SHALADARPAN!A512","v":10},{"$f":"SHALADARPAN!B512","v":"A"},{"$f":"SHALADARPAN!K512","v":1148},{"$f":"SHALADARPAN!E512","v":"SURMA MALI"},{"$f":"SHALADARPAN!G512","v":"Kailash"}]
[{"$nulls":20},{"$f":"SHALADARPAN!A513","v":10},{"$f":"SHALADARPAN!B513","v":"A"},{"$f":"SHALADARPAN!K513","v":1149},{"$f":"SHALADARPAN!E513","v":"SUSHIL NATH"},{"$f":"SHALADARPAN!G513","v":"Kailash"}]
[{"$nulls":20},{"$f":"SHALADARPAN!A514","v":10},{"$f":"SHALADARPAN!B514","v":"A"},{"$f":"SHALADARPAN!K514","v":1150},{"$f":"SHALADARPAN!E514","v":"Vikram Singh"},{"$f":"SHALADARPAN!G514","v":"Kailash"}]
[{"$nulls":20},{"$f":"SHALADARPAN!A515","v":10},{"$f":"SHALADARPAN!B515","v":"A"},{"$f":"SHALADARPAN!K515","v":1151},{"$f":"SHALADARPAN!E515","v":"VINOD ACHARYA"},{"$f":"SHALADARPAN!G515","v":"Kailash"}]
[{"$nulls":20},{"$f":"SHALADARPAN!A516","v":10},{"$f":"SHALADARPAN!B516","v":"A"},{"$f":"SHALADARPAN!K516","v":1152},{"$f":"SHALADARPAN!E516","v":"Yashoda Kanwar"},{"$f":"SHALADARPAN!G516","v":"Kailash"}]
[{"$nulls":20},{"$f":"SHALADARPAN!A517","v":10},{"$f":"SHALADARPAN!B517","v":"A"},{"$f":"SHALADARPAN!K517","v":1153},{"$f":"SHALADARPAN!E517","v":"YOGENDRA"},{"$f":"SHALADARPAN!G517","v":"Kailash"}]
[{"$nulls":20},{"$f":"SHALADARPAN!A518","v":10},{"$f":"SHALADARPAN!B518","v":"B"},{"$f":"SHALADARPAN!K518","v":1201},{"$f":"SHALADARPAN!E518","v":"ABDUL RAHMAN"},{"$f":"SHALADARPAN!G518","v":"Kailash"}]
[{"$nulls":20},{"$f":"SHALADARPAN!A519","v":10},{"$f":"SHALADARPAN!B519","v":"B"},{"$f":"SHALADARPAN!K519","v":1202},{"$f":"SHALADARPAN!E519","v":"ANIL GURJAR"},{"$f":"SHALADARPAN!G519","v":"Kailash"}]
[{"$nulls":20},{"$f":"SHALADARPAN!A520","v":10},{"$f":"SHALADARPAN!B520","v":"B"},{"$f":"SHALADARPAN!K520","v":1203},{"$f":"SHALADARPAN!E520","v":"Arti Saini"},{"$f":"SHALADARPAN!G520","v":"Kailash"}]
[{"$nulls":20},{"$f":"SHALADARPAN!A521","v":10},{"$f":"SHALADARPAN!B521","v":"B"},{"$f":"SHALADARPAN!K521","v":1204},{"$f":"SHALADARPAN!E521","v":"BHANU PRATAP SINGH"},{"$f":"SHALADARPAN!G521","v":"Kailash"}]
[{"$nulls":20},{"$f":"SHALADARPAN!A522","v":10},{"$f":"SHALADARPAN!B522","v":"B"},{"$f":"SHALADARPAN!K522","v":1205},{"$f":"SHALADARPAN!E522","v":"BISMILLAH"},{"$f":"SHALADARPAN!G522","v":"Kailash"}]
[{"$nulls":20},{"$f":"SHALADARPAN!A523","v":10},{"$f":"SHALADARPAN!B523","v":"B"},{"$f":"SHALADARPAN!K523","v":1206},{"$f":"SHALADARPAN!E523","v":"DILEEP"},{"$f":"SHALADARPAN!G523","v":"Kailash"}]
[{"$nulls":20},{"$f":"SHALADARPAN!A524","v":10},{"$f":"SHALADARPAN!B524","v":"B"},{"$f":"SHALADARPAN!K524","v":1207},{"$f":"SHALADARPAN!E524","v":"DIVYA ACHARYA"},{"$f":"SHALADARPAN!G524","v":"Kailash"}]
[{"$nulls":20},{"$f":"SHALADARPAN!A525","v":10},{"$f":"SHALADARPAN!B525","v":"B"},{"$f":"SHALADARPAN!K525","v":1208},{"$f":"SHALADARPAN!E525","v":"FIROJ KHAN"},{"$f":"SHALADARPAN!G525","v":"Kailash"}]
[{"$nulls":20},{"$f":"SHALADARPAN!A526","v":10},{"$f":"SHALADARPAN!B526","v":"B"},{"$f":"SHALADARPAN!K526","v":1209},{"$f":"SHALADARPAN!E526","v":"GANESH SINGODIYA"},{"$f":"SHALADARPAN!G526","v":"Kailash"}]
[{"$nulls":20},{"$f":"SHALADARPAN!A527","v":10},{"$f":"SHALADARPAN!B527","v":"B"},{"$f":"SHALADARPAN!K527","v":1210},{"$f":"SHALADARPAN!E527","v":"GEETA MEGHWAL"},{"$f":"SHALADARPAN!G527","v":"Kailash"}]
[{"$nulls":20},{"$f":"SHALADARPAN!A528","v":10},{"$f":"SHALADARPAN!B528","v":"B"},{"$f":"SHALADARPAN!K528","v":1211},{"$f":"SHALADARPAN!E528","v":"GOUTAM PRAJAPAT"},{"$f":"SHALADARPAN!G528","v":"Kailash"}]
[{"$nulls":20},{"$f":"SHALADARPAN!A529","v":10},{"$f":"SHALADARPAN!B529","v":"B"},{"$f":"SHALADARPAN!K529","v":1212},{"$f":"SHALADARPAN!E529","v":"GOVIND DARAK"},{"$f":"SHALADARPAN!G529","v":"Kailash"}]
[{"$nulls":20},{"$f":"SHALADARPAN!A530","v":10},{"$f":"SHALADARPAN!B530","v":"B"},{"$f":"SHALADARPAN!K530","v":1213},{"$f":"SHALADARPAN!E530","v":"Harshit Sharma"},{"$f":"SHALADARPAN!G530","v":"Kailash"}]
[{"$nulls":20},{"$f":"SHALADARPAN!A531","v":10},{"$f":"SHALADARPAN!B531","v":"B"},{"$f":"SHALADARPAN!K531","v":1214},{"$f":"SHALADARPAN!E531","v":"HEMLATA GURJAR"},{"$f":"SHALADARPAN!G531","v":"Kailash"}]
[{"$nulls":20},{"$f":"SHALADARPAN!A532","v":10},{"$f":"SHALADARPAN!B532","v":"B"},{"$f":"SHALADARPAN!K532","v":1215},{"$f":"SHALADARPAN!E532","v":"IBRAHIM"},{"$f":"SHALADARPAN!G532","v":"Kailash"}]
[{"$nulls":20},{"$f":"SHALADARPAN!A533","v":10},{"$f":"SHALADARPAN!B533","v":"B"},{"$f":"SHALADARPAN!K533","v":1216},{"$f":"SHALADARPAN!E533","v":"Jagriti"},{"$f":"SHALADARPAN!G533","v":"Kailash"}]
[{"$nulls":20},{"$f":"SHALADARPAN!A534","v":10},{"$f":"SHALADARPAN!B534","v":"B"},{"$f":"SHALADARPAN!K534","v":1217},{"$f":"SHALADARPAN!E534","v":"Jay Shree"},{"$f":"SHALADARPAN!G534","v":"Kailash"}]
[{"$nulls":20},{"$f":"SHALADARPAN!A535","v":10},{"$f":"SHALADARPAN!B535","v":"B"},{"$f":"SHALADARPAN!K535","v":1218},{"$f":"SHALADARPAN!E535","v":"JEEVRAJ"},{"$f":"SHALADARPAN!G535","v":"Kailash"}]
[{"$nulls":20},{"$f":"SHALADARPAN!A536","v":10},{"$f":"SHALADARPAN!B536","v":"B"},{"$f":"SHALADARPAN!K536","v":1219},{"$f":"SHALADARPAN!E536","v":"KHADIZA BANO"},{"$f":"SHALADARPAN!G536","v":"Kailash"}]
[{"$nulls":20},{"$f":"SHALADARPAN!A537","v":10},{"$f":"SHALADARPAN!B537","v":"B"},{"$f":"SHALADARPAN!K537","v":1220},{"$f":"SHALADARPAN!E537","v":"KHALIL SHAH"},{"$f":"SHALADARPAN!G537","v":"Kailash"}]
[{"$nulls":20},{"$f":"SHALADARPAN!A538","v":10},{"$f":"SHALADARPAN!B538","v":"B"},{"$f":"SHALADARPAN!K538","v":1221},{"$f":"SHALADARPAN!E538","v":"Khurshida Bano"},{"$f":"SHALADARPAN!G538","v":"Kailash"}]
[{"$nulls":20},{"$f":"SHALADARPAN!A539","v":10},{"$f":"SHALADARPAN!B539","v":"B"},{"$f":"SHALADARPAN!K539","v":1222},{"$f":"SHALADARPAN!E539","v":"Khushab Vaishnav"},{"$f":"SHALADARPAN!G539","v":"Kailash"}]
[{"$nulls":20},{"$f":"SHALADARPAN!A540","v":10},{"$f":"SHALADARPAN!B540","v":"B"},{"$f":"SHALADARPAN!K540","v":1223},{"$f":"SHALADARPAN!E540","v":"KOMAL KANWAR"},{"$f":"SHALADARPAN!G540","v":"Kailash"}]
[{"$nulls":20},{"$f":"SHALADARPAN!A541","v":10},{"$f":"SHALADARPAN!B541","v":"B"},{"$f":"SHALADARPAN!K541","v":1224},{"$f":"SHALADARPAN!E541","v":"Lokesh Saini"},{"$f":"SHALADARPAN!G541","v":"Kailash"}]
[{"$nulls":20},{"$f":"SHALADARPAN!A542","v":10},{"$f":"SHALADARPAN!B542","v":"B"},{"$f":"SHALADARPAN!K542","v":1225},{"$f":"SHALADARPAN!E542","v":"Mahendra Gurjar"},{"$f":"SHALADARPAN!G542","v":"Kailash"}]
[{"$nulls":20},{"$f":"SHALADARPAN!A543","v":10},{"$f":"SHALADARPAN!B543","v":"B"},{"$f":"SHALADARPAN!K543","v":1226},{"$f":"SHALADARPAN!E543","v":"MAHENDRA KUMAWAT"},{"$f":"SHALADARPAN!G543","v":"Kailash"}]
[{"$nulls":20},{"$f":"SHALADARPAN!A544","v":10},{"$f":"SHALADARPAN!B544","v":"B"},{"$f":"SHALADARPAN!K544","v":1227},{"$f":"SHALADARPAN!E544","v":"MO.GULFAM"},{"$f":"SHALADARPAN!G544","v":"Kailash"}]
[{"$nulls":20},{"$f":"SHALADARPAN!A545","v":10},{"$f":"SHALADARPAN!B545","v":"B"},{"$f":"SHALADARPAN!K545","v":1228},{"$f":"SHALADARPAN!E545","v":"MUKESH"},{"$f":"SHALADARPAN!G545","v":"Kailash"}]
[{"$nulls":20},{"$f":"SHALADARPAN!A546","v":10},{"$f":"SHALADARPAN!B546","v":"B"},{"$f":"SHALADARPAN!K546","v":1229},{"$f":"SHALADARPAN!E546","v":"MUKESH SHARMA"},{"$f":"SHALADARPAN!G546","v":"Kailash"}]
[{"$nulls":20},{"$f":"SHALADARPAN!A547","v":10},{"$f":"SHALADARPAN!B547","v":"B"},{"$f":"SHALADARPAN!K547","v":1230},{"$f":"SHALADARPAN!E547","v":"MUSKAN"},{"$f":"SHALADARPAN!G547","v":"Kailash"}]
[{"$nulls":20},{"$f":"SHALADARPAN!A548","v":10},{"$f":"SHALADARPAN!B548","v":"B"},{"$f":"SHALADARPAN!K548","v":1231},{"$f":"SHALADARPAN!E548","v":"MUSKAN BANOO"},{"$f":"SHALADARPAN!G548","v":"Kailash"}]
[{"$nulls":20},{"$f":"SHALADARPAN!A549","v":10},{"$f":"SHALADARPAN!B549","v":"B"},{"$f":"SHALADARPAN!K549","v":1232},{"$f":"SHALADARPAN!E549","v":"Naitik Sharma"},{"$f":"SHALADARPAN!G549","v":"Kailash"}]
[{"$nulls":20},{"$f":"SHALADARPAN!A550","v":10},{"$f":"SHALADARPAN!B550","v":"B"},{"$f":"SHALADARPAN!K550","v":1233},{"$f":"SHALADARPAN!E550","v":"Nikita Jhala"},{"$f":"SHALADARPAN!G550","v":"Kailash"}]
[{"$nulls":20},{"$f":"SHALADARPAN!A551","v":10},{"$f":"SHALADARPAN!B551","v":"B"},{"$f":"SHALADARPAN!K551","v":1234},{"$f":"SHALADARPAN!E551","v":"NIRMALA RAIDAS"},{"$f":"SHALADARPAN!G551","v":"Kailash"}]
[{"$nulls":20},{"$f":"SHALADARPAN!A552","v":10},{"$f":"SHALADARPAN!B552","v":"B"},{"$f":"SHALADARPAN!K552","v":1235},{"$f":"SHALADARPAN!E552","v":"NIRMALA SOLANKI"},{"$f":"SHALADARPAN!G552","v":"Kailash"}]
[{"$nulls":20},{"$f":"SHALADARPAN!A553","v":10},{"$f":"SHALADARPAN!B553","v":"B"},{"$f":"SHALADARPAN!K553","v":1236},{"$f":"SHALADARPAN!E553","v":"PALAK JANGID"},{"$f":"SHALADARPAN!G553","v":"Kailash"}]
[{"$nulls":20},{"$f":"SHALADARPAN!A554","v":10},{"$f":"SHALADARPAN!B554","v":"B"},{"$f":"SHALADARPAN!K554","v":1237},{"$f":"SHALADARPAN!E554","v":"PAREENA BANOO"},{"$f":"SHALADARPAN!G554","v":"Kailash"}]
[{"$nulls":20},{"$f":"SHALADARPAN!A555","v":10},{"$f":"SHALADARPAN!B555","v":"B"},{"$f":"SHALADARPAN!K555","v":1238},{"$f":"SHALADARPAN!E555","v":"Pawan Singh"},{"$f":"SHALADARPAN!G555","v":"Kailash"}]
[{"$nulls":20},{"$f":"SHALADARPAN!A556","v":10},{"$f":"SHALADARPAN!B556","v":"B"},{"$f":"SHALADARPAN!K556","v":1239},{"$f":"SHALADARPAN!E556","v":"Pooja Kanwar"},{"$f":"SHALADARPAN!G556","v":"Kailash"}]
[{"$nulls":20},{"$f":"SHALADARPAN!A557","v":10},{"$f":"SHALADARPAN!B557","v":"B"},{"$f":"SHALADARPAN!K557","v":1240},{"$f":"SHALADARPAN!E557","v":"PRIYANKA SAIN"},{"$f":"SHALADARPAN!G557","v":"Kailash"}]
[{"$nulls":20},{"$f":"SHALADARPAN!A558","v":10},{"$f":"SHALADARPAN!B558","v":"B"},{"$f":"SHALADARPAN!K558","v":1241},{"$f":"SHALADARPAN!E558","v":"Radhika Saini"},{"$f":"SHALADARPAN!G558","v":"Kailash"}]
[{"$nulls":20},{"$f":"SHALADARPAN!A559","v":10},{"$f":"SHALADARPAN!B559","v":"B"},{"$f":"SHALADARPAN!K559","v":1242},{"$f":"SHALADARPAN!E559","v":"RANI SHARMA"},{"$f":"SHALADARPAN!G559","v":"Kailash"}]
[{"$nulls":20},{"$f":"SHALADARPAN!A560","v":10},{"$f":"SHALADARPAN!B560","v":"B"},{"$f":"SHALADARPAN!K560","v":1243},{"$f":"SHALADARPAN!E560","v":"RESHMA BANU"},{"$f":"SHALADARPAN!G560","v":"Kailash"}]
[{"$nulls":20},{"$f":"SHALADARPAN!A561","v":10},{"$f":"SHALADARPAN!B561","v":"B"},{"$f":"SHALADARPAN!K561","v":1244},{"$f":"SHALADARPAN!E561","v":"RIYANA BANU"},{"$f":"SHALADARPAN!G561","v":"Kailash"}]
[{"$nulls":20},{"$f":"SHALADARPAN!A562","v":10},{"$f":"SHALADARPAN!B562","v":"B"},{"$f":"SHALADARPAN!K562","v":1245},{"$f":"SHALADARPAN!E562","v":"RUKHSANA BANOO"},{"$f":"SHALADARPAN!G562","v":"Kailash"}]
[{"$nulls":20},{"$f":"SHALADARPAN!A563","v":10},{"$f":"SHALADARPAN!B563","v":"B"},{"$f":"SHALADARPAN!K563","v":1246},{"$f":"SHALADARPAN!E563","v":"SAKEENA"},{"$f":"SHALADARPAN!G563","v":"Kailash"}]
[{"$nulls":20},{"$f":"SHALADARPAN!A564","v":10},{"$f":"SHALADARPAN!B564","v":"B"},{"$f":"SHALADARPAN!K564","v":1247},{"$f":"SHALADARPAN!E564","v":"SAROJ"},{"$f":"SHALADARPAN!G564","v":"Kailash"}]
[{"$nulls":20},{"$f":"SHALADARPAN!A565","v":10},{"$f":"SHALADARPAN!B565","v":"B"},{"$f":"SHALADARPAN!K565","v":1248},{"$f":"SHALADARPAN!E565","v":"SEEMA MACHARA"},{"$f":"SHALADARPAN!G565","v":"Kailash"}]
[{"$nulls":20},{"$f":"SHALADARPAN!A566","v":10},{"$f":"SHALADARPAN!B566","v":"B"},{"$f":"SHALADARPAN!K566","v":1249},{"$f":"SHALADARPAN!E566","v":"SEEMA MEGHWAL"},{"$f":"SHALADARPAN!G566","v":"Kailash"}]
[{"$nulls":20},{"$f":"SHALADARPAN!A567","v":10},{"$f":"SHALADARPAN!B567","v":"B"},{"$f":"SHALADARPAN!K567","v":1250},{"$f":"SHALADARPAN!E567","v":"SEEMA SAINI"},{"$f":"SHALADARPAN!G567","v":"Kailash"}]
[{"$nulls":20},{"$f":"SHALADARPAN!A568","v":10},{"$f":"SHALADARPAN!B568","v":"B"},{"$f":"SHALADARPAN!K568","v":1251},{"$f":"SHALADARPAN!E568","v":"Soniya Mali"},{"$f":"SHALADARPAN!G568","v":"Kailash"}]
[{"$nulls":20},{"$f":"SHALADARPAN!A569","v":10},{"$f":"SHALADARPAN!B569","v":"B"},{"$f":"SHALADARPAN!K569","v":1252},{"$f":"SHALADARPAN!E569","v":"SUMAN DEVI"},{"$f":"SHALADARPAN!G569","v":"Kailash"}]
[{"$nulls":20},{"$f":"SHALADARPAN!A570","v":10},{"$f":"SHALADARPAN!B570","v":"B"},{"$f":"SHALADARPAN!K570","v":1253},{"$f":"SHALADARPAN!E570","v":"TINA GURJAR"},{"$f":"SHALADARPAN!G570","v":"Kailash"}]
[{"$nulls":20},{"$f":"SHALADARPAN!A571","v":10},{"$f":"SHALADARPAN!B571","v":"B"},{"$f":"SHALADARPAN!K571","v":1254},{"$f":"SHALADARPAN!E571","v":"Umesh Nath"},{"$f":"SHALADARPAN!G571","v":"Kailash"}]
[{"$nulls":20},{"$f":"SHALADARPAN!A572","v":10},{"$f":"SHALADARPAN!B572","v":"B"},{"$f":"SHALADARPAN!K572","v":1255},{"$f":"SHALADARPAN!E572","v":"VIJAY RAJ KUMAWAT"},{"$f":"SHALADARPAN!G572","v":"Kailash"}]
[{"$nulls":20},{"$f":"SHALADARPAN!A573","v":10},{"$f":"SHALADARPAN!B573","v":"B"},{"$f":"SHALADARPAN!K573","v":1256},{"$f":"SHALADARPAN!E573","v":"YOGESH KUMAWAT"},{"$f":"SHALADARPAN!G573","v":"Kailash"}]
[{"$nulls":20},{"$f":"SHALADARPAN!A574","v":11},{"$f":"SHALADARPAN!B574","v":"A"},{"$f":"SHALADARPAN!K574","v":1301},{"$f":"SHALADARPAN!E574","v":"Aadil Husen"},{"$f":"SHALADARPAN!G574","v":"Kailash"}]
[{"$nulls":20},{"$f":"SHALADARPAN!A575","v":11},{"$f":"SHALADARPAN!B575","v":"A"},{"$f":"SHALADARPAN!K575","v":1302},{"$f":"SHALADARPAN!E575","v":"ABHISHEK"},{"$f":"SHALADARPAN!G575","v":"Kailash"}]
[{"$nulls":20},{"$f":"SHALADARPAN!A576","v":11},{"$f":"SHALADARPAN!B576","v":"A"},{"$f":"SHALADARPAN!K576","v":1303},{"$f":"SHALADARPAN!E576","v":"ADIL AHMAD"},{"$f":"SHALADARPAN!G576","v":"Kailash"}]
[{"$nulls":20},{"$f":"SHALADARPAN!A577","v":11},{"$f":"SHALADARPAN!B577","v":"A"},{"$f":"SHALADARPAN!K577","v":1304},{"$f":"SHALADARPAN!E577","v":"Afsar Alam"},{"$f":"SHALADARPAN!G577","v":"Kailash"}]
[{"$nulls":20},{"$f":"SHALADARPAN!A578","v":11},{"$f":"SHALADARPAN!B578","v":"A"},{"$f":"SHALADARPAN!K578","v":1305},{"$f":"SHALADARPAN!E578","v":"Ameen"},{"$f":"SHALADARPAN!G578","v":"Kailash"}]
[{"$nulls":20},{"$f":"SHALADARPAN!A579","v":11},{"$f":"SHALADARPAN!B579","v":"A"},{"$f":"SHALADARPAN!K579","v":1306},{"$f":"SHALADARPAN!E579","v":"ANAND SINGH"},{"$f":"SHALADARPAN!G579","v":"Kailash"}]
[{"$nulls":20},{"$f":"SHALADARPAN!A580","v":11},{"$f":"SHALADARPAN!B580","v":"A"},{"$f":"SHALADARPAN!K580","v":1307},{"$f":"SHALADARPAN!E580","v":"ANITA"},{"$f":"SHALADARPAN!G580","v":"Kailash"}]
[{"$nulls":20},{"$f":"SHALADARPAN!A581","v":11},{"$f":"SHALADARPAN!B581","v":"A"},{"$f":"SHALADARPAN!K581","v":1308},{"$f":"SHALADARPAN!E581","v":"ANITA DEVI"},{"$f":"SHALADARPAN!G581","v":"Kailash"}]
[{"$nulls":20},{"$f":"SHALADARPAN!A582","v":11},{"$f":"SHALADARPAN!B582","v":"A"},{"$f":"SHALADARPAN!K582","v":1309},{"$f":"SHALADARPAN!E582","v":"ANJALI SUWASIYA"},{"$f":"SHALADARPAN!G582","v":"Kailash"}]
[{"$nulls":20},{"$f":"SHALADARPAN!A583","v":11},{"$f":"SHALADARPAN!B583","v":"A"},{"$f":"SHALADARPAN!K583","v":1310},{"$f":"SHALADARPAN!E583","v":"ANKIT"},{"$f":"SHALADARPAN!G583","v":"Kailash"}]
[{"$nulls":20},{"$f":"SHALADARPAN!A584","v":11},{"$f":"SHALADARPAN!B584","v":"A"},{"$f":"SHALADARPAN!K584","v":1311},{"$f":"SHALADARPAN!E584","v":"ANKITA SHARMA"},{"$f":"SHALADARPAN!G584","v":"Kailash"}]
[{"$nulls":20},{"$f":"SHALADARPAN!A585","v":11},{"$f":"SHALADARPAN!B585","v":"A"},{"$f":"SHALADARPAN!K585","v":1312},{"$f":"SHALADARPAN!E585","v":"ANKU DEVI"},{"$f":"SHALADARPAN!G585","v":"Kailash"}]
[{"$nulls":20},{"$f":"SHALADARPAN!A586","v":11},{"$f":"SHALADARPAN!B586","v":"A"},{"$f":"SHALADARPAN!K586","v":1313},{"$f":"SHALADARPAN!E586","v":"Annu"},{"$f":"SHALADARPAN!G586","v":"Kailash"}]
[{"$nulls":20},{"$f":"SHALADARPAN!A587","v":11},{"$f":"SHALADARPAN!B587","v":"A"},{"$f":"SHALADARPAN!K587","v":1314},{"$f":"SHALADARPAN!E587","v":"Ashok Kumawat"},{"$f":"SHALADARPAN!G587","v":"Kailash"}]
[{"$nulls":20},{"$f":"SHALADARPAN!A588","v":11},{"$f":"SHALADARPAN!B588","v":"A"},{"$f":"SHALADARPAN!K588","v":1316},{"$f":"SHALADARPAN!E588","v":"BANWARI NATH"},{"$f":"SHALADARPAN!G588","v":"Kailash"}]
[{"$nulls":20},{"$f":"SHALADARPAN!A589","v":11},{"$f":"SHALADARPAN!B589","v":"A"},{"$f":"SHALADARPAN!K589","v":1317},{"$f":"SHALADARPAN!E589","v":"BHARAT MEGHWAL"},{"$f":"SHALADARPAN!G589","v":"Kailash"}]
[{"$nulls":20},{"$f":"SHALADARPAN!A590","v":11},{"$f":"SHALADARPAN!B590","v":"A"},{"$f":"SHALADARPAN!K590","v":1318},{"$f":"SHALADARPAN!E590","v":"Bismilla Banu"},{"$f":"SHALADARPAN!G590","v":"Kailash"}]
[{"$nulls":20},{"$f":"SHALADARPAN!A591","v":11},{"$f":"SHALADARPAN!B591","v":"A"},{"$f":"SHALADARPAN!K591","v":1320},{"$f":"SHALADARPAN!E591","v":"Chena Ram"},{"$f":"SHALADARPAN!G591","v":"Kailash"}]
[{"$nulls":20},{"$f":"SHALADARPAN!A592","v":11},{"$f":"SHALADARPAN!B592","v":"A"},{"$f":"SHALADARPAN!K592","v":1321},{"$f":"SHALADARPAN!E592","v":"CHETAN SOLANKI"},{"$f":"SHALADARPAN!G592","v":"Kailash"}]
[{"$nulls":20},{"$f":"SHALADARPAN!A593","v":11},{"$f":"SHALADARPAN!B593","v":"A"},{"$f":"SHALADARPAN!K593","v":1322},{"$f":"SHALADARPAN!E593","v":"DASHARATH KUMAWAT"},{"$f":"SHALADARPAN!G593","v":"Kailash"}]
[{"$nulls":20},{"$f":"SHALADARPAN!A594","v":11},{"$f":"SHALADARPAN!B594","v":"A"},{"$f":"SHALADARPAN!K594","v":1324},{"$f":"SHALADARPAN!E594","v":"DEVRAJ"},{"$f":"SHALADARPAN!G594","v":"Kailash"}]
[{"$nulls":20},{"$f":"SHALADARPAN!A595","v":11},{"$f":"SHALADARPAN!B595","v":"A"},{"$f":"SHALADARPAN!K595","v":1325},{"$f":"SHALADARPAN!E595","v":"DILEEP SINGH"},{"$f":"SHALADARPAN!G595","v":"Kailash"}]
[{"$nulls":20},{"$f":"SHALADARPAN!A596","v":11},{"$f":"SHALADARPAN!B596","v":"A"},{"$f":"SHALADARPAN!K596","v":1327},{"$f":"SHALADARPAN!E596","v":"Dinesh Choudhary"},{"$f":"SHALADARPAN!G596","v":"Kailash"}]
[{"$nulls":20},{"$f":"SHALADARPAN!A597","v":11},{"$f":"SHALADARPAN!B597","v":"A"},{"$f":"SHALADARPAN!K597","v":1328},{"$f":"SHALADARPAN!E597","v":"DINESH PANWAR"},{"$f":"SHALADARPAN!G597","v":"Kailash"}]
[{"$nulls":20},{"$f":"SHALADARPAN!A598","v":11},{"$f":"SHALADARPAN!B598","v":"A"},{"$f":"SHALADARPAN!K598","v":1331},{"$f":"SHALADARPAN!E598","v":"GUNGUN KANWAR"},{"$f":"SHALADARPAN!G598","v":"Kailash"}]
[{"$nulls":20},{"$f":"SHALADARPAN!A599","v":11},{"$f":"SHALADARPAN!B599","v":"A"},{"$f":"SHALADARPAN!K599","v":1332},{"$f":"SHALADARPAN!E599","v":"HARI RAM PRAJAPAT"},{"$f":"SHALADARPAN!G599","v":"Kailash"}]
[{"$nulls":20},{"$f":"SHALADARPAN!A600","v":11},{"$f":"SHALADARPAN!B600","v":"A"},{"$f":"SHALADARPAN!K600","v":1333},{"$f":"SHALADARPAN!E600","v":"JAISHRI"},{"$f":"SHALADARPAN!G600","v":"Kailash"}]
[{"$nulls":20},{"$f":"SHALADARPAN!A601","v":11},{"$f":"SHALADARPAN!B601","v":"A"},{"$f":"SHALADARPAN!K601","v":1334},{"$f":"SHALADARPAN!E601","v":"JITENDRA SINGH"},{"$f":"SHALADARPAN!G601","v":"Kailash"}]
[{"$nulls":20},{"$f":"SHALADARPAN!A602","v":11},{"$f":"SHALADARPAN!B602","v":"A"},{"$f":"SHALADARPAN!K602","v":1336},{"$f":"SHALADARPAN!E602","v":"KALIM KURESHI"},{"$f":"SHALADARPAN!G602","v":"Kailash"}]
[{"$nulls":20},{"$f":"SHALADARPAN!A603","v":11},{"$f":"SHALADARPAN!B603","v":"A"},{"$f":"SHALADARPAN!K603","v":1341},{"$f":"SHALADARPAN!E603","v":"KIRAN DEVI"},{"$f":"SHALADARPAN!G603","v":"Kailash"}]
[{"$nulls":20},{"$f":"SHALADARPAN!A604","v":11},{"$f":"SHALADARPAN!B604","v":"A"},{"$f":"SHALADARPAN!K604","v":1342},{"$f":"SHALADARPAN!E604","v":"KISHAN SINGODIYA"},{"$f":"SHALADARPAN!G604","v":"Kailash"}]
[{"$nulls":20},{"$f":"SHALADARPAN!A605","v":11},{"$f":"SHALADARPAN!B605","v":"A"},{"$f":"SHALADARPAN!K605","v":1343},{"$f":"SHALADARPAN!E605","v":"Lal Chand"},{"$f":"SHALADARPAN!G605","v":"Kailash"}]
[{"$nulls":20},{"$f":"SHALADARPAN!A606","v":11},{"$f":"SHALADARPAN!B606","v":"A"},{"$f":"SHALADARPAN!K606","v":1344},{"$f":"SHALADARPAN!E606","v":"LAXMI DEVI"},{"$f":"SHALADARPAN!G606","v":"Kailash"}]
[{"$nulls":20},{"$f":"SHALADARPAN!A607","v":11},{"$f":"SHALADARPAN!B607","v":"A"},{"$f":"SHALADARPAN!K607","v":1345},{"$f":"SHALADARPAN!E607","v":"MADHURI"},{"$f":"SHALADARPAN!G607","v":"Kailash"}]
[{"$nulls":20},{"$f":"SHALADARPAN!A608","v":11},{"$f":"SHALADARPAN!B608","v":"A"},{"$f":"SHALADARPAN!K608","v":1346},{"$f":"SHALADARPAN!E608","v":"MAHADEV MALI"},{"$f":"SHALADARPAN!G608","v":"Kailash"}]
[{"$nulls":20},{"$f":"SHALADARPAN!A609","v":11},{"$f":"SHALADARPAN!B609","v":"A"},{"$f":"SHALADARPAN!K609","v":1348},{"$f":"SHALADARPAN!E609","v":"Mamta Vaishnav"},{"$f":"SHALADARPAN!G609","v":"Kailash"}]
[{"$nulls":20},{"$f":"SHALADARPAN!A610","v":11},{"$f":"SHALADARPAN!B610","v":"A"},{"$f":"SHALADARPAN!K610","v":1349},{"$f":"SHALADARPAN!E610","v":"MANISH"},{"$f":"SHALADARPAN!G610","v":"Kailash"}]
[{"$nulls":20},{"$f":"SHALADARPAN!A611","v":11},{"$f":"SHALADARPAN!B611","v":"A"},{"$f":"SHALADARPAN!K611","v":1350},{"$f":"SHALADARPAN!E611","v":"Manisha"},{"$f":"SHALADARPAN!G611","v":"Kailash"}]
[{"$nulls":20},{"$f":"SHALADARPAN!A612","v":11},{"$f":"SHALADARPAN!B612","v":"A"},{"$f":"SHALADARPAN!K612","v":1351},{"$f":"SHALADARPAN!E612","v":"Manisha"},{"$f":"SHALADARPAN!G612","v":"Kailash"}]
[{"$nulls":20},{"$f":"SHALADARPAN!A613","v":11},{"$f":"SHALADARPAN!B613","v":"A"},{"$f":"SHALADARPAN!K613","v":1352},{"$f":"SHALADARPAN!E613","v":"MAYA GURJAR"},{"$f":"SHALADARPAN!G613","v":"Kailash"}]
[{"$nulls":20},{"$f":"SHALADARPAN!A614","v":11},{"$f":"SHALADARPAN!B614","v":"A"},{"$f":"SHALADARPAN!K614","v":1353},{"$f":"SHALADARPAN!E614","v":"MEENU DEVI"},{"$f":"SHALADARPAN!G614","v":"Kailash"}]
[{"$nulls":20},{"$f":"SHALADARPAN!A615","v":11},{"$f":"SHALADARPAN!B615","v":"A"},{"$f":"SHALADARPAN!K615","v":1354},{"$f":"SHALADARPAN!E615","v":"MOHAMMAD ARSHAD"},{"$f":"SHALADARPAN!G615","v":"Kailash"}]
[{"$nulls":20},{"$f":"SHALADARPAN!A616","v":11},{"$f":"SHALADARPAN!B616","v":"A"},{"$f":"SHALADARPAN!K616","v":1355},{"$f":"SHALADARPAN!E616","v":"MOHAMMAD KAIF"},{"$f":"SHALADARPAN!G616","v":"Kailash"}]
[{"$nulls":20},{"$f":"SHALADARPAN!A617","v":11},{"$f":"SHALADARPAN!B617","v":"A"},{"$f":"SHALADARPAN!K617","v":1357},{"$f":"SHALADARPAN!E617","v":"MONIKA"},{"$f":"SHALADARPAN!G617","v":"Kailash"}]
[{"$nulls":20},{"$f":"SHALADARPAN!A618","v":11},{"$f":"SHALADARPAN!B618","v":"A"},{"$f":"SHALADARPAN!K618","v":1358},{"$f":"SHALADARPAN!E618","v":"MONIKA SHARMA"},{"$f":"SHALADARPAN!G618","v":"Kailash"}]
[{"$nulls":20},{"$f":"SHALADARPAN!A619","v":11},{"$f":"SHALADARPAN!B619","v":"A"},{"$f":"SHALADARPAN!K619","v":1360},{"$f":"SHALADARPAN!E619","v":"MUKESH KUMAWAT"},{"$f":"SHALADARPAN!G619","v":"Kailash"}]
[{"$nulls":20},{"$f":"SHALADARPAN!A620","v":11},{"$f":"SHALADARPAN!B620","v":"A"},{"$f":"SHALADARPAN!K620","v":1361},{"$f":"SHALADARPAN!E620","v":"MUSKAN"},{"$f":"SHALADARPAN!G620","v":"Kailash"}]
[{"$nulls":20},{"$f":"SHALADARPAN!A621","v":11},{"$f":"SHALADARPAN!B621","v":"A"},{"$f":"SHALADARPAN!K621","v":1363},{"$f":"SHALADARPAN!E621","v":"NEETU"},{"$f":"SHALADARPAN!G621","v":"Kailash"}]
[{"$nulls":20},{"$f":"SHALADARPAN!A622","v":11},{"$f":"SHALADARPAN!B622","v":"A"},{"$f":"SHALADARPAN!K622","v":1365},{"$f":"SHALADARPAN!E622","v":"Nikita"},{"$f":"SHALADARPAN!G622","v":"Kailash"}]
[{"$nulls":20},{"$f":"SHALADARPAN!A623","v":11},{"$f":"SHALADARPAN!B623","v":"A"},{"$f":"SHALADARPAN!K623","v":1366},{"$f":"SHALADARPAN!E623","v":"NIRMA"},{"$f":"SHALADARPAN!G623","v":"Kailash"}]
[{"$nulls":20},{"$f":"SHALADARPAN!A624","v":11},{"$f":"SHALADARPAN!B624","v":"A"},{"$f":"SHALADARPAN!K624","v":1367},{"$f":"SHALADARPAN!E624","v":"NITIN SHRINATH"},{"$f":"SHALADARPAN!G624","v":"Kailash"}]
[{"$nulls":20},{"$f":"SHALADARPAN!A625","v":11},{"$f":"SHALADARPAN!B625","v":"A"},{"$f":"SHALADARPAN!K625","v":1368},{"$f":"SHALADARPAN!E625","v":"OM NATH"},{"$f":"SHALADARPAN!G625","v":"Kailash"}]
[{"$nulls":20},{"$f":"SHALADARPAN!A626","v":11},{"$f":"SHALADARPAN!B626","v":"A"},{"$f":"SHALADARPAN!K626","v":1369},{"$f":"SHALADARPAN!E626","v":"OM PRAKASH"},{"$f":"SHALADARPAN!G626","v":"Kailash"}]
[{"$nulls":20},{"$f":"SHALADARPAN!A627","v":11},{"$f":"SHALADARPAN!B627","v":"A"},{"$f":"SHALADARPAN!K627","v":1371},{"$f":"SHALADARPAN!E627","v":"PAREENA"},{"$f":"SHALADARPAN!G627","v":"Kailash"}]
[{"$nulls":20},{"$f":"SHALADARPAN!A628","v":11},{"$f":"SHALADARPAN!B628","v":"A"},{"$f":"SHALADARPAN!K628","v":1372},{"$f":"SHALADARPAN!E628","v":"Pawan Puri"},{"$f":"SHALADARPAN!G628","v":"Kailash"}]
[{"$nulls":20},{"$f":"SHALADARPAN!A629","v":11},{"$f":"SHALADARPAN!B629","v":"A"},{"$f":"SHALADARPAN!K629","v":1373},{"$f":"SHALADARPAN!E629","v":"POOJA JANGID"},{"$f":"SHALADARPAN!G629","v":"Kailash"}]
[{"$nulls":20},{"$f":"SHALADARPAN!A630","v":11},{"$f":"SHALADARPAN!B630","v":"A"},{"$f":"SHALADARPAN!K630","v":1374},{"$f":"SHALADARPAN!E630","v":"POOJA KACHCHHAWA"},{"$f":"SHALADARPAN!G630","v":"Kailash"}]
[{"$nulls":20},{"$f":"SHALADARPAN!A631","v":11},{"$f":"SHALADARPAN!B631","v":"A"},{"$f":"SHALADARPAN!K631","v":1376},{"$f":"SHALADARPAN!E631","v":"POONAM CHAND SAINI"},{"$f":"SHALADARPAN!G631","v":"Kailash"}]
[{"$nulls":20},{"$f":"SHALADARPAN!A632","v":11},{"$f":"SHALADARPAN!B632","v":"A"},{"$f":"SHALADARPAN!K632","v":1378},{"$f":"SHALADARPAN!E632","v":"PRERNA SHARMA"},{"$f":"SHALADARPAN!G632","v":"Kailash"}]
[{"$nulls":20},{"$f":"SHALADARPAN!A633","v":11},{"$f":"SHALADARPAN!B633","v":"A"},{"$f":"SHALADARPAN!K633","v":1379},{"$f":"SHALADARPAN!E633","v":"Priyanka Chawda"},{"$f":"SHALADARPAN!G633","v":"Kailash"}]
[{"$nulls":20},{"$f":"SHALADARPAN!A634","v":11},{"$f":"SHALADARPAN!B634","v":"A"},{"$f":"SHALADARPAN!K634","v":1380},{"$f":"SHALADARPAN!E634","v":"PRIYANKA DEVI"},{"$f":"SHALADARPAN!G634","v":"Kailash"}]
[{"$nulls":20},{"$f":"SHALADARPAN!A635","v":11},{"$f":"SHALADARPAN!B635","v":"A"},{"$f":"SHALADARPAN!K635","v":1385},{"$f":"SHALADARPAN!E635","v":"RAKESH KACHCHHAVA"},{"$f":"SHALADARPAN!G635","v":"Kailash"}]
[{"$nulls":20},{"$f":"SHALADARPAN!A636","v":11},{"$f":"SHALADARPAN!B636","v":"A"},{"$f":"SHALADARPAN!K636","v":1386},{"$f":"SHALADARPAN!E636","v":"RAM AVTAR SAINI"},{"$f":"SHALADARPAN!G636","v":"Kailash"}]
[{"$nulls":20},{"$f":"SHALADARPAN!A637","v":11},{"$f":"SHALADARPAN!B637","v":"A"},{"$f":"SHALADARPAN!K637","v":1387},{"$f":"SHALADARPAN!E637","v":"RAMJANA BANOO"},{"$f":"SHALADARPAN!G637","v":"Kailash"}]
[{"$nulls":20},{"$f":"SHALADARPAN!A638","v":11},{"$f":"SHALADARPAN!B638","v":"A"},{"$f":"SHALADARPAN!K638","v":1389},{"$f":"SHALADARPAN!E638","v":"RAMNIWAS KUMAWAT"},{"$f":"SHALADARPAN!G638","v":"Kailash"}]
[{"$nulls":20},{"$f":"SHALADARPAN!A639","v":11},{"$f":"SHALADARPAN!B639","v":"A"},{"$f":"SHALADARPAN!K639","v":1390},{"$f":"SHALADARPAN!E639","v":"RAVI KUMAR ACHARYA"},{"$f":"SHALADARPAN!G639","v":"Kailash"}]
[{"$nulls":20},{"$f":"SHALADARPAN!A640","v":11},{"$f":"SHALADARPAN!B640","v":"A"},{"$f":"SHALADARPAN!K640","v":1392},{"$f":"SHALADARPAN!E640","v":"RAVINDRA SINGH"},{"$f":"SHALADARPAN!G640","v":"Kailash"}]
[{"$nulls":20},{"$f":"SHALADARPAN!A641","v":11},{"$f":"SHALADARPAN!B641","v":"A"},{"$f":"SHALADARPAN!K641","v":1391},{"$f":"SHALADARPAN!E641","v":"RAVINDRA SINGH"},{"$f":"SHALADARPAN!G641","v":"Kailash"}]
[{"$nulls":20},{"$f":"SHALADARPAN!A642","v":11},{"$f":"SHALADARPAN!B642","v":"A"},{"$f":"SHALADARPAN!K642","v":1393},{"$f":"SHALADARPAN!E642","v":"REKHA JANGID"},{"$f":"SHALADARPAN!G642","v":"Kailash"}]
[{"$nulls":20},{"$f":"SHALADARPAN!A643","v":11},{"$f":"SHALADARPAN!B643","v":"A"},{"$f":"SHALADARPAN!K643","v":1394},{"$f":"SHALADARPAN!E643","v":"RINKU KUMAWAT"},{"$f":"SHALADARPAN!G643","v":"Kailash"}]
[{"$nulls":20},{"$f":"SHALADARPAN!A644","v":11},{"$f":"SHALADARPAN!B644","v":"A"},{"$f":"SHALADARPAN!K644","v":1395},{"$f":"SHALADARPAN!E644","v":"RIYANA BANU"},{"$f":"SHALADARPAN!G644","v":"Kailash"}]
[{"$nulls":20},{"$f":"SHALADARPAN!A645","v":11},{"$f":"SHALADARPAN!B645","v":"A"},{"$f":"SHALADARPAN!K645","v":1396},{"$f":"SHALADARPAN!E645","v":"ROHIT"},{"$f":"SHALADARPAN!G645","v":"Kailash"}]
[{"$nulls":20},{"$f":"SHALADARPAN!A646","v":11},{"$f":"SHALADARPAN!B646","v":"A"},{"$f":"SHALADARPAN!K646","v":1397},{"$f":"SHALADARPAN!E646","v":"ROHIT SOLANKI"},{"$f":"SHALADARPAN!G646","v":"Kailash"}]
[{"$nulls":20},{"$f":"SHALADARPAN!A647","v":11},{"$f":"SHALADARPAN!B647","v":"A"},{"$f":"SHALADARPAN!K647","v":1399},{"$f":"SHALADARPAN!E647","v":"SALAUDIN"},{"$f":"SHALADARPAN!G647","v":"Kailash"}]
[{"$nulls":20},{"$f":"SHALADARPAN!A648","v":11},{"$f":"SHALADARPAN!B648","v":"A"},{"$f":"SHALADARPAN!K648","v":1400},{"$f":"SHALADARPAN!E648","v":"SALMAN"},{"$f":"SHALADARPAN!G648","v":"Kailash"}]
[{"$nulls":20},{"$f":"SHALADARPAN!A649","v":11},{"$f":"SHALADARPAN!B649","v":"A"},{"$f":"SHALADARPAN!K649","v":1401},{"$f":"SHALADARPAN!E649","v":"SANIYA BANOO"},{"$f":"SHALADARPAN!G649","v":"Kailash"}]
[{"$nulls":20},{"$f":"SHALADARPAN!A650","v":11},{"$f":"SHALADARPAN!B650","v":"A"},{"$f":"SHALADARPAN!K650","v":1403},{"$f":"SHALADARPAN!E650","v":"SARITA BAWARI"},{"$f":"SHALADARPAN!G650","v":"Kailash"}]
[{"$nulls":20},{"$f":"SHALADARPAN!A651","v":11},{"$f":"SHALADARPAN!B651","v":"A"},{"$f":"SHALADARPAN!K651","v":1405},{"$f":"SHALADARPAN!E651","v":"Seema Choukidar"},{"$f":"SHALADARPAN!G651","v":"Kailash"}]
[{"$nulls":20},{"$f":"SHALADARPAN!A652","v":11},{"$f":"SHALADARPAN!B652","v":"A"},{"$f":"SHALADARPAN!K652","v":1406},{"$f":"SHALADARPAN!E652","v":"SHABANA"},{"$f":"SHALADARPAN!G652","v":"Kailash"}]
[{"$nulls":20},{"$f":"SHALADARPAN!A653","v":11},{"$f":"SHALADARPAN!B653","v":"A"},{"$f":"SHALADARPAN!K653","v":1407},{"$f":"SHALADARPAN!E653","v":"SHAKTI SINGH"},{"$f":"SHALADARPAN!G653","v":"Kailash"}]
[{"$nulls":20},{"$f":"SHALADARPAN!A654","v":11},{"$f":"SHALADARPAN!B654","v":"A"},{"$f":"SHALADARPAN!K654","v":1408},{"$f":"SHALADARPAN!E654","v":"Shankar Gurjar"},{"$f":"SHALADARPAN!G654","v":"Kailash"}]
[{"$nulls":20},{"$f":"SHALADARPAN!A655","v":11},{"$f":"SHALADARPAN!B655","v":"A"},{"$f":"SHALADARPAN!K655","v":1409},{"$f":"SHALADARPAN!E655","v":"Shreeram Saini"},{"$f":"SHALADARPAN!G655","v":"Kailash"}]
[{"$nulls":20},{"$f":"SHALADARPAN!A656","v":11},{"$f":"SHALADARPAN!B656","v":"A"},{"$f":"SHALADARPAN!K656","v":1410},{"$f":"SHALADARPAN!E656","v":"Sonika"},{"$f":"SHALADARPAN!G656","v":"Kailash"}]
[{"$nulls":20},{"$f":"SHALADARPAN!A657","v":11},{"$f":"SHALADARPAN!B657","v":"A"},{"$f":"SHALADARPAN!K657","v":1414},{"$f":"SHALADARPAN!E657","v":"Sumer Barada"},{"$f":"SHALADARPAN!G657","v":"Kailash"}]
[{"$nulls":20},{"$f":"SHALADARPAN!A658","v":11},{"$f":"SHALADARPAN!B658","v":"A"},{"$f":"SHALADARPAN!K658","v":1415},{"$f":"SHALADARPAN!E658","v":"SUNIL"},{"$f":"SHALADARPAN!G658","v":"Kailash"}]
[{"$nulls":20},{"$f":"SHALADARPAN!A659","v":11},{"$f":"SHALADARPAN!B659","v":"A"},{"$f":"SHALADARPAN!K659","v":1417},{"$f":"SHALADARPAN!E659","v":"Sunil Boraniya"},{"$f":"SHALADARPAN!G659","v":"Kailash"}]
[{"$nulls":20},{"$f":"SHALADARPAN!A660","v":11},{"$f":"SHALADARPAN!B660","v":"A"},{"$f":"SHALADARPAN!K660","v":1418},{"$f":"SHALADARPAN!E660","v":"SUNIL NATH"},{"$f":"SHALADARPAN!G660","v":"Kailash"}]
[{"$nulls":20},{"$f":"SHALADARPAN!A661","v":11},{"$f":"SHALADARPAN!B661","v":"A"},{"$f":"SHALADARPAN!K661","v":1419},{"$f":"SHALADARPAN!E661","v":"SUNIL SAINI"},{"$f":"SHALADARPAN!G661","v":"Kailash"}]
[{"$nulls":20},{"$f":"SHALADARPAN!A662","v":11},{"$f":"SHALADARPAN!B662","v":"A"},{"$f":"SHALADARPAN!K662","v":1421},{"$f":"SHALADARPAN!E662","v":"TARUN SAINI"},{"$f":"SHALADARPAN!G662","v":"Kailash"}]
[{"$nulls":20},{"$f":"SHALADARPAN!A663","v":11},{"$f":"SHALADARPAN!B663","v":"A"},{"$f":"SHALADARPAN!K663","v":1422},{"$f":"SHALADARPAN!E663","v":"VIKRAM SINGH"},{"$f":"SHALADARPAN!G663","v":"Kailash"}]
[{"$nulls":20},{"$f":"SHALADARPAN!A664","v":11},{"$f":"SHALADARPAN!B664","v":"A"},{"$f":"SHALADARPAN!K664","v":1423},{"$f":"SHALADARPAN!E664","v":"VISHNU CHOKIDAR"},{"$f":"SHALADARPAN!G664","v":"Kailash"}]
[{"$nulls":20},{"$f":"SHALADARPAN!A665","v":11},{"$f":"SHALADARPAN!B665","v":"A"},{"$f":"SHALADARPAN!K665","v":1424},{"$f":"SHALADARPAN!E665","v":"YAGHYANARAYAN SINGH"},{"$f":"SHALADARPAN!G665","v":"Kailash"}]
[{"$nulls":20},{"$f":"SHALADARPAN!A666","v":11},{"$f":"SHALADARPAN!B666","v":"B"},{"$f":"SHALADARPAN!K666","v":1501},{"$f":"SHALADARPAN!E666","v":"Ankit"},{"$f":"SHALADARPAN!G666","v":"Kailash"}]
[{"$nulls":20},{"$f":"SHALADARPAN!A667","v":11},{"$f":"SHALADARPAN!B667","v":"B"},{"$f":"SHALADARPAN!K667","v":1502},{"$f":"SHALADARPAN!E667","v":"ARPIT SHARMA"},{"$f":"SHALADARPAN!G667","v":"Kailash"}]
[{"$nulls":20},{"$f":"SHALADARPAN!A668","v":11},{"$f":"SHALADARPAN!B668","v":"B"},{"$f":"SHALADARPAN!K668","v":1503},{"$f":"SHALADARPAN!E668","v":"Barkat Ali"},{"$f":"SHALADARPAN!G668","v":"Kailash"}]
[{"$nulls":20},{"$f":"SHALADARPAN!A669","v":11},{"$f":"SHALADARPAN!B669","v":"B"},{"$f":"SHALADARPAN!K669","v":1504},{"$f":"SHALADARPAN!E669","v":"Bhavna Vaishnav"},{"$f":"SHALADARPAN!G669","v":"Kailash"}]
[{"$nulls":20},{"$f":"SHALADARPAN!A670","v":11},{"$f":"SHALADARPAN!B670","v":"B"},{"$f":"SHALADARPAN!K670","v":1505},{"$f":"SHALADARPAN!E670","v":"DEEKSHA PARIHAR"},{"$f":"SHALADARPAN!G670","v":"Kailash"}]
[{"$nulls":20},{"$f":"SHALADARPAN!A671","v":11},{"$f":"SHALADARPAN!B671","v":"B"},{"$f":"SHALADARPAN!K671","v":1506},{"$f":"SHALADARPAN!E671","v":"DEEPIKA SHARMA"},{"$f":"SHALADARPAN!G671","v":"Kailash"}]
[{"$nulls":20},{"$f":"SHALADARPAN!A672","v":11},{"$f":"SHALADARPAN!B672","v":"B"},{"$f":"SHALADARPAN!K672","v":1507},{"$f":"SHALADARPAN!E672","v":"FIROJA BANU"},{"$f":"SHALADARPAN!G672","v":"Kailash"}]
[{"$nulls":20},{"$f":"SHALADARPAN!A673","v":11},{"$f":"SHALADARPAN!B673","v":"B"},{"$f":"SHALADARPAN!K673","v":1508},{"$f":"SHALADARPAN!E673","v":"GARIMA PARIHAR"},{"$f":"SHALADARPAN!G673","v":"Kailash"}]
[{"$nulls":20},{"$f":"SHALADARPAN!A674","v":11},{"$f":"SHALADARPAN!B674","v":"B"},{"$f":"SHALADARPAN!K674","v":1509},{"$f":"SHALADARPAN!E674","v":"Govind Ram"},{"$f":"SHALADARPAN!G674","v":"Kailash"}]
[{"$nulls":20},{"$f":"SHALADARPAN!A675","v":11},{"$f":"SHALADARPAN!B675","v":"B"},{"$f":"SHALADARPAN!K675","v":1510},{"$f":"SHALADARPAN!E675","v":"GUDDI DEVI"},{"$f":"SHALADARPAN!G675","v":"Kailash"}]
[{"$nulls":20},{"$f":"SHALADARPAN!A676","v":11},{"$f":"SHALADARPAN!B676","v":"B"},{"$f":"SHALADARPAN!K676","v":1511},{"$f":"SHALADARPAN!E676","v":"HAIDER ALI"},{"$f":"SHALADARPAN!G676","v":"Kailash"}]
[{"$nulls":20},{"$f":"SHALADARPAN!A677","v":11},{"$f":"SHALADARPAN!B677","v":"B"},{"$f":"SHALADARPAN!K677","v":1512},{"$f":"SHALADARPAN!E677","v":"HEMLATA"},{"$f":"SHALADARPAN!G677","v":"Kailash"}]
[{"$nulls":20},{"$f":"SHALADARPAN!A678","v":11},{"$f":"SHALADARPAN!B678","v":"B"},{"$f":"SHALADARPAN!K678","v":1513},{"$f":"SHALADARPAN!E678","v":"KARAN KUMAR ACHARYA"},{"$f":"SHALADARPAN!G678","v":"Kailash"}]
[{"$nulls":20},{"$f":"SHALADARPAN!A679","v":11},{"$f":"SHALADARPAN!B679","v":"B"},{"$f":"SHALADARPAN!K679","v":1514},{"$f":"SHALADARPAN!E679","v":"KAVITA PRAJAPAT"},{"$f":"SHALADARPAN!G679","v":"Kailash"}]
[{"$nulls":20},{"$f":"SHALADARPAN!A680","v":11},{"$f":"SHALADARPAN!B680","v":"B"},{"$f":"SHALADARPAN!K680","v":1515},{"$f":"SHALADARPAN!E680","v":"Komal"},{"$f":"SHALADARPAN!G680","v":"Kailash"}]
[{"$nulls":20},{"$f":"SHALADARPAN!A681","v":11},{"$f":"SHALADARPAN!B681","v":"B"},{"$f":"SHALADARPAN!K681","v":1516},{"$f":"SHALADARPAN!E681","v":"KOMAL PRAJAPAT"},{"$f":"SHALADARPAN!G681","v":"Kailash"}]
[{"$nulls":20},{"$f":"SHALADARPAN!A682","v":11},{"$f":"SHALADARPAN!B682","v":"B"},{"$f":"SHALADARPAN!K682","v":1517},{"$f":"SHALADARPAN!E682","v":"Krishna Saini"},{"$f":"SHALADARPAN!G682","v":"Kailash"}]
[{"$nulls":20},{"$f":"SHALADARPAN!A683","v":11},{"$f":"SHALADARPAN!B683","v":"B"},{"$f":"SHALADARPAN!K683","v":1518},{"$f":"SHALADARPAN!E683","v":"MANISH KUMAR"},{"$f":"SHALADARPAN!G683","v":"Kailash"}]
[{"$nulls":20},{"$f":"SHALADARPAN!A684","v":11},{"$f":"SHALADARPAN!B684","v":"B"},{"$f":"SHALADARPAN!K684","v":1519},{"$f":"SHALADARPAN!E684","v":"MANISH KUMAR SAINI"},{"$f":"SHALADARPAN!G684","v":"Kailash"}]
[{"$nulls":20},{"$f":"SHALADARPAN!A685","v":11},{"$f":"SHALADARPAN!B685","v":"B"},{"$f":"SHALADARPAN!K685","v":1520},{"$f":"SHALADARPAN!E685","v":"Manjeet Singh Shekhawat"},{"$f":"SHALADARPAN!G685","v":"Kailash"}]
[{"$nulls":20},{"$f":"SHALADARPAN!A686","v":11},{"$f":"SHALADARPAN!B686","v":"B"},{"$f":"SHALADARPAN!K686","v":1521},{"$f":"SHALADARPAN!E686","v":"MOHAMMAD SHAHROOKH"},{"$f":"SHALADARPAN!G686","v":"Kailash"}]
[{"$nulls":20},{"$f":"SHALADARPAN!A687","v":11},{"$f":"SHALADARPAN!B687","v":"B"},{"$f":"SHALADARPAN!K687","v":1522},{"$f":"SHALADARPAN!E687","v":"MOHIT VAISHNAV"},{"$f":"SHALADARPAN!G687","v":"Kailash"}]
[{"$nulls":20},{"$f":"SHALADARPAN!A688","v":11},{"$f":"SHALADARPAN!B688","v":"B"},{"$f":"SHALADARPAN!K688","v":1523},{"$f":"SHALADARPAN!E688","v":"Mukesh Dagdi"},{"$f":"SHALADARPAN!G688","v":"Kailash"}]
[{"$nulls":20},{"$f":"SHALADARPAN!A689","v":11},{"$f":"SHALADARPAN!B689","v":"B"},{"$f":"SHALADARPAN!K689","v":1524},{"$f":"SHALADARPAN!E689","v":"MUSHRAT BANO"},{"$f":"SHALADARPAN!G689","v":"Kailash"}]
[{"$nulls":20},{"$f":"SHALADARPAN!A690","v":11},{"$f":"SHALADARPAN!B690","v":"B"},{"$f":"SHALADARPAN!K690","v":1525},{"$f":"SHALADARPAN!E690","v":"NEERU SAINI"},{"$f":"SHALADARPAN!G690","v":"Kailash"}]
[{"$nulls":20},{"$f":"SHALADARPAN!A691","v":11},{"$f":"SHALADARPAN!B691","v":"B"},{"$f":"SHALADARPAN!K691","v":1526},{"$f":"SHALADARPAN!E691","v":"PINKI"},{"$f":"SHALADARPAN!G691","v":"Kailash"}]
[{"$nulls":20},{"$f":"SHALADARPAN!A692","v":11},{"$f":"SHALADARPAN!B692","v":"B"},{"$f":"SHALADARPAN!K692","v":1527},{"$f":"SHALADARPAN!E692","v":"POOJA"},{"$f":"SHALADARPAN!G692","v":"Kailash"}]
[{"$nulls":20},{"$f":"SHALADARPAN!A693","v":11},{"$f":"SHALADARPAN!B693","v":"B"},{"$f":"SHALADARPAN!K693","v":1528},{"$f":"SHALADARPAN!E693","v":"POONAM JHUNJHADIYA"},{"$f":"SHALADARPAN!G693","v":"Kailash"}]
[{"$nulls":20},{"$f":"SHALADARPAN!A694","v":11},{"$f":"SHALADARPAN!B694","v":"B"},{"$f":"SHALADARPAN!K694","v":1529},{"$f":"SHALADARPAN!E694","v":"Pradeep Faroda"},{"$f":"SHALADARPAN!G694","v":"Kailash"}]
[{"$nulls":20},{"$f":"SHALADARPAN!A695","v":11},{"$f":"SHALADARPAN!B695","v":"B"},{"$f":"SHALADARPAN!K695","v":1530},{"$f":"SHALADARPAN!E695","v":"Priyanka Sharma"},{"$f":"SHALADARPAN!G695","v":"Kailash"}]
[{"$nulls":20},{"$f":"SHALADARPAN!A696","v":11},{"$f":"SHALADARPAN!B696","v":"B"},{"$f":"SHALADARPAN!K696","v":1531},{"$f":"SHALADARPAN!E696","v":"PUKHRAJ BORANIYA"},{"$f":"SHALADARPAN!G696","v":"Kailash"}]
[{"$nulls":20},{"$f":"SHALADARPAN!A697","v":11},{"$f":"SHALADARPAN!B697","v":"B"},{"$f":"SHALADARPAN!K697","v":1532},{"$f":"SHALADARPAN!E697","v":"PURAN"},{"$f":"SHALADARPAN!G697","v":"Kailash"}]
[{"$nulls":20},{"$f":"SHALADARPAN!A698","v":11},{"$f":"SHALADARPAN!B698","v":"B"},{"$f":"SHALADARPAN!K698","v":1533},{"$f":"SHALADARPAN!E698","v":"RICHHPAL RAIKA"},{"$f":"SHALADARPAN!G698","v":"Kailash"}]
[{"$nulls":20},{"$f":"SHALADARPAN!A699","v":11},{"$f":"SHALADARPAN!B699","v":"B"},{"$f":"SHALADARPAN!K699","v":1534},{"$f":"SHALADARPAN!E699","v":"SABIR HUSAIN"},{"$f":"SHALADARPAN!G699","v":"Kailash"}]
[{"$nulls":20},{"$f":"SHALADARPAN!A700","v":11},{"$f":"SHALADARPAN!B700","v":"B"},{"$f":"SHALADARPAN!K700","v":1535},{"$f":"SHALADARPAN!E700","v":"SEEMA"},{"$f":"SHALADARPAN!G700","v":"Kailash"}]
[{"$nulls":20},{"$f":"SHALADARPAN!A701","v":11},{"$f":"SHALADARPAN!B701","v":"B"},{"$f":"SHALADARPAN!K701","v":1536},{"$f":"SHALADARPAN!E701","v":"SEEMA DEVI"},{"$f":"SHALADARPAN!G701","v":"Kailash"}]
[{"$nulls":20},{"$f":"SHALADARPAN!A702","v":11},{"$f":"SHALADARPAN!B702","v":"B"},{"$f":"SHALADARPAN!K702","v":1537},{"$f":"SHALADARPAN!E702","v":"Sunil"},{"$f":"SHALADARPAN!G702","v":"Kailash"}]
[{"$nulls":20},{"$f":"SHALADARPAN!A703","v":11},{"$f":"SHALADARPAN!B703","v":"B"},{"$f":"SHALADARPAN!K703","v":1538},{"$f":"SHALADARPAN!E703","v":"SUNITA MEGHWAL"},{"$f":"SHALADARPAN!G703","v":"Kailash"}]
[{"$nulls":20},{"$f":"SHALADARPAN!A704","v":11},{"$f":"SHALADARPAN!B704","v":"B"},{"$f":"SHALADARPAN!K704","v":1539},{"$f":"SHALADARPAN!E704","v":"TEENA VAISHNAV"},{"$f":"SHALADARPAN!G704","v":"Kailash"}]
[{"$nulls":20},{"$f":"SHALADARPAN!A705","v":11},{"$f":"SHALADARPAN!B705","v":"B"},{"$f":"SHALADARPAN!K705","v":1540},{"$f":"SHALADARPAN!E705","v":"Vidhya Chand"},{"$f":"SHALADARPAN!G705","v":"Kailash"}]
[{"$nulls":20},{"$f":"SHALADARPAN!A706","v":11},{"$f":"SHALADARPAN!B706","v":"B"},{"$f":"SHALADARPAN!K706","v":1541},{"$f":"SHALADARPAN!E706","v":"VIKAS KUMAWAT"},{"$f":"SHALADARPAN!G706","v":"Kailash"}]
[{"$nulls":20},{"$f":"SHALADARPAN!A707","v":11},{"$f":"SHALADARPAN!B707","v":"B"},{"$f":"SHALADARPAN!K707","v":1542},{"$f":"SHALADARPAN!E707","v":"YASIN MOHAMMAD"},{"$f":"SHALADARPAN!G707","v":"Kailash"}]
[{"$nulls":20},{"$f":"SHALADARPAN!A708","v":12},{"$f":"SHALADARPAN!B708","v":"A"},{"$f":"SHALADARPAN!K708","v":1601},{"$f":"SHALADARPAN!E708","v":"ABDUL RAHMAN"},{"$f":"SHALADARPAN!G708","v":"Kailash"}]
[{"$nulls":20},{"$f":"SHALADARPAN!A709","v":12},{"$f":"SHALADARPAN!B709","v":"A"},{"$f":"SHALADARPAN!K709","v":1603},{"$f":"SHALADARPAN!E709","v":"ALAUDIN"},{"$f":"SHALADARPAN!G709","v":"Kailash"}]
[{"$nulls":20},{"$f":"SHALADARPAN!A710","v":12},{"$f":"SHALADARPAN!B710","v":"A"},{"$f":"SHALADARPAN!K710","v":1604},{"$f":"SHALADARPAN!E710","v":"Anita Saini"},{"$f":"SHALADARPAN!G710","v":"Kailash"}]
[{"$nulls":20},{"$f":"SHALADARPAN!A711","v":12},{"$f":"SHALADARPAN!B711","v":"A"},{"$f":"SHALADARPAN!K711","v":1605},{"$f":"SHALADARPAN!E711","v":"ANKIT KACHCHHAVA"},{"$f":"SHALADARPAN!G711","v":"Kailash"}]
[{"$nulls":20},{"$f":"SHALADARPAN!A712","v":12},{"$f":"SHALADARPAN!B712","v":"A"},{"$f":"SHALADARPAN!K712","v":1606},{"$f":"SHALADARPAN!E712","v":"BANSHI LAL"},{"$f":"SHALADARPAN!G712","v":"Kailash"}]
[{"$nulls":20},{"$f":"SHALADARPAN!A713","v":12},{"$f":"SHALADARPAN!B713","v":"A"},{"$f":"SHALADARPAN!K713","v":1607},{"$f":"SHALADARPAN!E713","v":"BARKAT ALI"},{"$f":"SHALADARPAN!G713","v":"Kailash"}]
[{"$nulls":20},{"$f":"SHALADARPAN!A714","v":12},{"$f":"SHALADARPAN!B714","v":"A"},{"$f":"SHALADARPAN!K714","v":1608},{"$f":"SHALADARPAN!E714","v":"Dashrath Vaishnav"},{"$f":"SHALADARPAN!G714","v":"Kailash"}]
[{"$nulls":20},{"$f":"SHALADARPAN!A715","v":12},{"$f":"SHALADARPAN!B715","v":"A"},{"$f":"SHALADARPAN!K715","v":1609},{"$f":"SHALADARPAN!E715","v":"DINESH KUMAR"},{"$f":"SHALADARPAN!G715","v":"Kailash"}]
[{"$nulls":20},{"$f":"SHALADARPAN!A716","v":12},{"$f":"SHALADARPAN!B716","v":"A"},{"$f":"SHALADARPAN!K716","v":1610},{"$f":"SHALADARPAN!E716","v":"Dinesh Soda"},{"$f":"SHALADARPAN!G716","v":"Kailash"}]
[{"$nulls":20},{"$f":"SHALADARPAN!A717","v":12},{"$f":"SHALADARPAN!B717","v":"A"},{"$f":"SHALADARPAN!K717","v":1611},{"$f":"SHALADARPAN!E717","v":"GAUTAM SINGH"},{"$f":"SHALADARPAN!G717","v":"Kailash"}]
[{"$nulls":20},{"$f":"SHALADARPAN!A718","v":12},{"$f":"SHALADARPAN!B718","v":"A"},{"$f":"SHALADARPAN!K718","v":1612},{"$f":"SHALADARPAN!E718","v":"GUMAN NATH"},{"$f":"SHALADARPAN!G718","v":"Kailash"}]
[{"$nulls":20},{"$f":"SHALADARPAN!A719","v":12},{"$f":"SHALADARPAN!B719","v":"A"},{"$f":"SHALADARPAN!K719","v":1613},{"$f":"SHALADARPAN!E719","v":"HASEENA BANO"},{"$f":"SHALADARPAN!G719","v":"Kailash"}]
[{"$nulls":20},{"$f":"SHALADARPAN!A720","v":12},{"$f":"SHALADARPAN!B720","v":"A"},{"$f":"SHALADARPAN!K720","v":1614},{"$f":"SHALADARPAN!E720","v":"HEENA BANOO"},{"$f":"SHALADARPAN!G720","v":"Kailash"}]
[{"$nulls":20},{"$f":"SHALADARPAN!A721","v":12},{"$f":"SHALADARPAN!B721","v":"A"},{"$f":"SHALADARPAN!K721","v":1615},{"$f":"SHALADARPAN!E721","v":"HINA BANU"},{"$f":"SHALADARPAN!G721","v":"Kailash"}]
[{"$nulls":20},{"$f":"SHALADARPAN!A722","v":12},{"$f":"SHALADARPAN!B722","v":"A"},{"$f":"SHALADARPAN!K722","v":1616},{"$f":"SHALADARPAN!E722","v":"IKBAL MOHAMMAD"},{"$f":"SHALADARPAN!G722","v":"Kailash"}]
[{"$nulls":20},{"$f":"SHALADARPAN!A723","v":12},{"$f":"SHALADARPAN!B723","v":"A"},{"$f":"SHALADARPAN!K723","v":1617},{"$f":"SHALADARPAN!E723","v":"KAVITA TAMBOLI"},{"$f":"SHALADARPAN!G723","v":"Kailash"}]
[{"$nulls":20},{"$f":"SHALADARPAN!A724","v":12},{"$f":"SHALADARPAN!B724","v":"A"},{"$f":"SHALADARPAN!K724","v":1618},{"$f":"SHALADARPAN!E724","v":"KUDRAT BANO"},{"$f":"SHALADARPAN!G724","v":"Kailash"}]
[{"$nulls":20},{"$f":"SHALADARPAN!A725","v":12},{"$f":"SHALADARPAN!B725","v":"A"},{"$f":"SHALADARPAN!K725","v":1619},{"$f":"SHALADARPAN!E725","v":"KULDEEP ACHARYA"},{"$f":"SHALADARPAN!G725","v":"Kailash"}]
[{"$nulls":20},{"$f":"SHALADARPAN!A726","v":12},{"$f":"SHALADARPAN!B726","v":"A"},{"$f":"SHALADARPAN!K726","v":1620},{"$f":"SHALADARPAN!E726","v":"LAXMI GURJAR"},{"$f":"SHALADARPAN!G726","v":"Kailash"}]
[{"$nulls":20},{"$f":"SHALADARPAN!A727","v":12},{"$f":"SHALADARPAN!B727","v":"A"},{"$f":"SHALADARPAN!K727","v":1621},{"$f":"SHALADARPAN!E727","v":"MAMTA"},{"$f":"SHALADARPAN!G727","v":"Kailash"}]
[{"$nulls":20},{"$f":"SHALADARPAN!A728","v":12},{"$f":"SHALADARPAN!B728","v":"A"},{"$f":"SHALADARPAN!K728","v":1622},{"$f":"SHALADARPAN!E728","v":"MAMTA GURJAR"},{"$f":"SHALADARPAN!G728","v":"Kailash"}]
[{"$nulls":20},{"$f":"SHALADARPAN!A729","v":12},{"$f":"SHALADARPAN!B729","v":"A"},{"$f":"SHALADARPAN!K729","v":1623},{"$f":"SHALADARPAN!E729","v":"MANISH MALI"},{"$f":"SHALADARPAN!G729","v":"Kailash"}]
[{"$nulls":20},{"$f":"SHALADARPAN!A730","v":12},{"$f":"SHALADARPAN!B730","v":"A"},{"$f":"SHALADARPAN!K730","v":1624},{"$f":"SHALADARPAN!E730","v":"MONIKA KANWAR"},{"$f":"SHALADARPAN!G730","v":"Kailash"}]
[{"$nulls":20},{"$f":"SHALADARPAN!A731","v":12},{"$f":"SHALADARPAN!B731","v":"A"},{"$f":"SHALADARPAN!K731","v":1625},{"$f":"SHALADARPAN!E731","v":"NAZIYA"},{"$f":"SHALADARPAN!G731","v":"Kailash"}]
[{"$nulls":20},{"$f":"SHALADARPAN!A732","v":12},{"$f":"SHALADARPAN!B732","v":"A"},{"$f":"SHALADARPAN!K732","v":1626},{"$f":"SHALADARPAN!E732","v":"NOSHAD SHYA"},{"$f":"SHALADARPAN!G732","v":"Kailash"}]
[{"$nulls":20},{"$f":"SHALADARPAN!A733","v":12},{"$f":"SHALADARPAN!B733","v":"A"},{"$f":"SHALADARPAN!K733","v":1627},{"$f":"SHALADARPAN!E733","v":"POOJA"},{"$f":"SHALADARPAN!G733","v":"Kailash"}]
[{"$nulls":20},{"$f":"SHALADARPAN!A734","v":12},{"$f":"SHALADARPAN!B734","v":"A"},{"$f":"SHALADARPAN!K734","v":1628},{"$f":"SHALADARPAN!E734","v":"POOJA DEVI"},{"$f":"SHALADARPAN!G734","v":"Kailash"}]
[{"$nulls":20},{"$f":"SHALADARPAN!A735","v":12},{"$f":"SHALADARPAN!B735","v":"A"},{"$f":"SHALADARPAN!K735","v":1629},{"$f":"SHALADARPAN!E735","v":"POOJA MAROTHIYA"},{"$f":"SHALADARPAN!G735","v":"Kailash"}]
[{"$nulls":20},{"$f":"SHALADARPAN!A736","v":12},{"$f":"SHALADARPAN!B736","v":"A"},{"$f":"SHALADARPAN!K736","v":1630},{"$f":"SHALADARPAN!E736","v":"POOJA NATH"},{"$f":"SHALADARPAN!G736","v":"Kailash"}]
[{"$nulls":20},{"$f":"SHALADARPAN!A737","v":12},{"$f":"SHALADARPAN!B737","v":"A"},{"$f":"SHALADARPAN!K737","v":1631},{"$f":"SHALADARPAN!E737","v":"Priyanka Tak"},{"$f":"SHALADARPAN!G737","v":"Kailash"}]
[{"$nulls":20},{"$f":"SHALADARPAN!A738","v":12},{"$f":"SHALADARPAN!B738","v":"A"},{"$f":"SHALADARPAN!K738","v":1633},{"$f":"SHALADARPAN!E738","v":"Rahul Raidas"},{"$f":"SHALADARPAN!G738","v":"Kailash"}]
[{"$nulls":20},{"$f":"SHALADARPAN!A739","v":12},{"$f":"SHALADARPAN!B739","v":"A"},{"$f":"SHALADARPAN!K739","v":1634},{"$f":"SHALADARPAN!E739","v":"RAHUL SAINI"},{"$f":"SHALADARPAN!G739","v":"Kailash"}]
[{"$nulls":20},{"$f":"SHALADARPAN!A740","v":12},{"$f":"SHALADARPAN!B740","v":"A"},{"$f":"SHALADARPAN!K740","v":1635},{"$f":"SHALADARPAN!E740","v":"RAJENDRA MAROTHIYA"},{"$f":"SHALADARPAN!G740","v":"Kailash"}]
[{"$nulls":20},{"$f":"SHALADARPAN!A741","v":12},{"$f":"SHALADARPAN!B741","v":"A"},{"$f":"SHALADARPAN!K741","v":1636},{"$f":"SHALADARPAN!E741","v":"RAKESH KACHCHHAVA"},{"$f":"SHALADARPAN!G741","v":"Kailash"}]
[{"$nulls":20},{"$f":"SHALADARPAN!A742","v":12},{"$f":"SHALADARPAN!B742","v":"A"},{"$f":"SHALADARPAN!K742","v":1637},{"$f":"SHALADARPAN!E742","v":"RAVI"},{"$f":"SHALADARPAN!G742","v":"Kailash"}]
[{"$nulls":20},{"$f":"SHALADARPAN!A743","v":12},{"$f":"SHALADARPAN!B743","v":"A"},{"$f":"SHALADARPAN!K743","v":1638},{"$f":"SHALADARPAN!E743","v":"RUBINA"},{"$f":"SHALADARPAN!G743","v":"Kailash"}]
[{"$nulls":20},{"$f":"SHALADARPAN!A744","v":12},{"$f":"SHALADARPAN!B744","v":"A"},{"$f":"SHALADARPAN!K744","v":1640},{"$f":"SHALADARPAN!E744","v":"SAMPAT LAL"},{"$f":"SHALADARPAN!G744","v":"Kailash"}]
[{"$nulls":20},{"$f":"SHALADARPAN!A745","v":12},{"$f":"SHALADARPAN!B745","v":"A"},{"$f":"SHALADARPAN!K745","v":1641},{"$f":"SHALADARPAN!E745","v":"SAPNA MEGHWAL"},{"$f":"SHALADARPAN!G745","v":"Kailash"}]
[{"$nulls":20},{"$f":"SHALADARPAN!A746","v":12},{"$f":"SHALADARPAN!B746","v":"A"},{"$f":"SHALADARPAN!K746","v":1642},{"$f":"SHALADARPAN!E746","v":"SARLA SAINI"},{"$f":"SHALADARPAN!G746","v":"Kailash"}]
[{"$nulls":20},{"$f":"SHALADARPAN!A747","v":12},{"$f":"SHALADARPAN!B747","v":"A"},{"$f":"SHALADARPAN!K747","v":1643},{"$f":"SHALADARPAN!E747","v":"SEEMA TAMBOLI"},{"$f":"SHALADARPAN!G747","v":"Kailash"}]
[{"$nulls":20},{"$f":"SHALADARPAN!A748","v":12},{"$f":"SHALADARPAN!B748","v":"A"},{"$f":"SHALADARPAN!K748","v":1644},{"$f":"SHALADARPAN!E748","v":"SHAMEENA BANO"},{"$f":"SHALADARPAN!G748","v":"Kailash"}]
[{"$nulls":20},{"$f":"SHALADARPAN!A749","v":12},{"$f":"SHALADARPAN!B749","v":"A"},{"$f":"SHALADARPAN!K749","v":1645},{"$f":"SHALADARPAN!E749","v":"Shivraj Bhati"},{"$f":"SHALADARPAN!G749","v":"Kailash"}]
[{"$nulls":20},{"$f":"SHALADARPAN!A750","v":12},{"$f":"SHALADARPAN!B750","v":"A"},{"$f":"SHALADARPAN!K750","v":1646},{"$f":"SHALADARPAN!E750","v":"SUMAN DEVI"},{"$f":"SHALADARPAN!G750","v":"Kailash"}]
[{"$nulls":20},{"$f":"SHALADARPAN!A751","v":12},{"$f":"SHALADARPAN!B751","v":"A"},{"$f":"SHALADARPAN!K751","v":1648},{"$f":"SHALADARPAN!E751","v":"SUMAN NATH"},{"$f":"SHALADARPAN!G751","v":"Kailash"}]
[{"$nulls":20},{"$f":"SHALADARPAN!A752","v":12},{"$f":"SHALADARPAN!B752","v":"A"},{"$f":"SHALADARPAN!K752","v":1650},{"$f":"SHALADARPAN!E752","v":"SUNITA DEVI"},{"$f":"SHALADARPAN!G752","v":"Kailash"}]
[{"$nulls":20},{"$f":"SHALADARPAN!A753","v":12},{"$f":"SHALADARPAN!B753","v":"A"},{"$f":"SHALADARPAN!K753","v":1651},{"$f":"SHALADARPAN!E753","v":"SURENDRA NATH"},{"$f":"SHALADARPAN!G753","v":"Kailash"}]
[{"$nulls":20},{"$f":"SHALADARPAN!A754","v":12},{"$f":"SHALADARPAN!B754","v":"A"},{"$f":"SHALADARPAN!K754","v":1652},{"$f":"SHALADARPAN!E754","v":"TEENA"},{"$f":"SHALADARPAN!G754","v":"Kailash"}]
[{"$nulls":20},{"$f":"SHALADARPAN!A755","v":12},{"$f":"SHALADARPAN!B755","v":"A"},{"$f":"SHALADARPAN!K755","v":1653},{"$f":"SHALADARPAN!E755","v":"Udayprakash Gaur"},{"$f":"SHALADARPAN!G755","v":"Kailash"}]
[{"$nulls":20},{"$f":"SHALADARPAN!A756","v":12},{"$f":"SHALADARPAN!B756","v":"A"},{"$f":"SHALADARPAN!K756","v":1654},{"$f":"SHALADARPAN!E756","v":"VIKASH"},{"$f":"SHALADARPAN!G756","v":"Kailash"}]
[{"$nulls":20},{"$f":"SHALADARPAN!A757","v":12},{"$f":"SHALADARPAN!B757","v":"A"},{"$f":"SHALADARPAN!K757","v":1655},{"$f":"SHALADARPAN!E757","v":"YASHODA KUMAWAT"},{"$f":"SHALADARPAN!G757","v":"Kailash"}]
[{"$nulls":20},{"$f":"SHALADARPAN!A758","v":12},{"$f":"SHALADARPAN!B758","v":"A"},{"$f":"SHALADARPAN!K758","v":1656},{"$f":"SHALADARPAN!E758","v":"YOGENDRA SAINI"},{"$f":"SHALADARPAN!G758","v":"Kailash"}]
[{"$nulls":20},{"$f":"SHALADARPAN!A759","v":12},{"$f":"SHALADARPAN!B759","v":"A"},{"$f":"SHALADARPAN!K759","v":1657},{"$f":"SHALADARPAN!E759","v":"ZAKIR HUSAIN"},{"$f":"SHALADARPAN!G759","v":"Kailash"}]
[{"$nulls":20},{"$f":"SHALADARPAN!A760","v":12},{"$f":"SHALADARPAN!B760","v":"B"},{"$f":"SHALADARPAN!K760","v":1701},{"$f":"SHALADARPAN!E760","v":"AKRAM"},{"$f":"SHALADARPAN!G760","v":"Kailash"}]
[{"$nulls":20},{"$f":"SHALADARPAN!A761","v":12},{"$f":"SHALADARPAN!B761","v":"B"},{"$f":"SHALADARPAN!K761","v":1702},{"$f":"SHALADARPAN!E761","v":"ANURADHA"},{"$f":"SHALADARPAN!G761","v":"Kailash"}]
[{"$nulls":20},{"$f":"SHALADARPAN!A762","v":12},{"$f":"SHALADARPAN!B762","v":"B"},{"$f":"SHALADARPAN!K762","v":1703},{"$f":"SHALADARPAN!E762","v":"AVINASH"},{"$f":"SHALADARPAN!G762","v":"Kailash"}]
[{"$nulls":20},{"$f":"SHALADARPAN!A763","v":12},{"$f":"SHALADARPAN!B763","v":"B"},{"$f":"SHALADARPAN!K763","v":1704},{"$f":"SHALADARPAN!E763","v":"BASANTI"},{"$f":"SHALADARPAN!G763","v":"Kailash"}]
[{"$nulls":20},{"$f":"SHALADARPAN!A764","v":12},{"$f":"SHALADARPAN!B764","v":"B"},{"$f":"SHALADARPAN!K764","v":1705},{"$f":"SHALADARPAN!E764","v":"BRIJPAL SINGH"},{"$f":"SHALADARPAN!G764","v":"Kailash"}]
[{"$nulls":20},{"$f":"SHALADARPAN!A765","v":12},{"$f":"SHALADARPAN!B765","v":"B"},{"$f":"SHALADARPAN!K765","v":1706},{"$f":"SHALADARPAN!E765","v":"Govind Puri"},{"$f":"SHALADARPAN!G765","v":"Kailash"}]
[{"$nulls":20},{"$f":"SHALADARPAN!A766","v":12},{"$f":"SHALADARPAN!B766","v":"B"},{"$f":"SHALADARPAN!K766","v":1707},{"$f":"SHALADARPAN!E766","v":"JITENDRA PURI"},{"$f":"SHALADARPAN!G766","v":"Kailash"}]
[{"$nulls":20},{"$f":"SHALADARPAN!A767","v":12},{"$f":"SHALADARPAN!B767","v":"B"},{"$f":"SHALADARPAN!K767","v":1708},{"$f":"SHALADARPAN!E767","v":"Kamal Meghwal"},{"$f":"SHALADARPAN!G767","v":"Kailash"}]
[{"$nulls":20},{"$f":"SHALADARPAN!A768","v":12},{"$f":"SHALADARPAN!B768","v":"B"},{"$f":"SHALADARPAN!K768","v":1709},{"$f":"SHALADARPAN!E768","v":"KAMLESH KUMAWAT"},{"$f":"SHALADARPAN!G768","v":"Kailash"}]
[{"$nulls":20},{"$f":"SHALADARPAN!A769","v":12},{"$f":"SHALADARPAN!B769","v":"B"},{"$f":"SHALADARPAN!K769","v":1710},{"$f":"SHALADARPAN!E769","v":"KSHITIJ VAISHNAV"},{"$f":"SHALADARPAN!G769","v":"Kailash"}]
[{"$nulls":20},{"$f":"SHALADARPAN!A770","v":12},{"$f":"SHALADARPAN!B770","v":"B"},{"$f":"SHALADARPAN!K770","v":1711},{"$f":"SHALADARPAN!E770","v":"MANISH ACHARYA"},{"$f":"SHALADARPAN!G770","v":"Kailash"}]
[{"$nulls":20},{"$f":"SHALADARPAN!A771","v":12},{"$f":"SHALADARPAN!B771","v":"B"},{"$f":"SHALADARPAN!K771","v":1712},{"$f":"SHALADARPAN!E771","v":"MILAN VAISHNAV"},{"$f":"SHALADARPAN!G771","v":"Kailash"}]
[{"$nulls":20},{"$f":"SHALADARPAN!A772","v":12},{"$f":"SHALADARPAN!B772","v":"B"},{"$f":"SHALADARPAN!K772","v":1713},{"$f":"SHALADARPAN!E772","v":"MUSKAN BANU"},{"$f":"SHALADARPAN!G772","v":"Kailash"}]
[{"$nulls":20},{"$f":"SHALADARPAN!A773","v":12},{"$f":"SHALADARPAN!B773","v":"B"},{"$f":"SHALADARPAN!K773","v":1714},{"$f":"SHALADARPAN!E773","v":"NARENDRA KUMAR"},{"$f":"SHALADARPAN!G773","v":"Kailash"}]
[{"$nulls":20},{"$f":"SHALADARPAN!A774","v":12},{"$f":"SHALADARPAN!B774","v":"B"},{"$f":"SHALADARPAN!K774","v":1715},{"$f":"SHALADARPAN!E774","v":"POOJA MEGHWAL"},{"$f":"SHALADARPAN!G774","v":"Kailash"}]
[{"$nulls":20},{"$f":"SHALADARPAN!A775","v":12},{"$f":"SHALADARPAN!B775","v":"B"},{"$f":"SHALADARPAN!K775","v":1716},{"$f":"SHALADARPAN!E775","v":"PRADEEP SINGH"},{"$f":"SHALADARPAN!G775","v":"Kailash"}]
[{"$nulls":20},{"$f":"SHALADARPAN!A776","v":12},{"$f":"SHALADARPAN!B776","v":"B"},{"$f":"SHALADARPAN!K776","v":1717},{"$f":"SHALADARPAN!E776","v":"RAHUL SAINI"},{"$f":"SHALADARPAN!G776","v":"Kailash"}]
[{"$nulls":20},{"$f":"SHALADARPAN!A777","v":12},{"$f":"SHALADARPAN!B777","v":"B"},{"$f":"SHALADARPAN!K777","v":1718},{"$f":"SHALADARPAN!E777","v":"RAHUL SINGH"},{"$f":"SHALADARPAN!G777","v":"Kailash"}]
[{"$nulls":20},{"$f":"SHALADARPAN!A778","v":12},{"$f":"SHALADARPAN!B778","v":"B"},{"$f":"SHALADARPAN!K778","v":1719},{"$f":"SHALADARPAN!E778","v":"RAM RATAN DUDI"},{"$f":"SHALADARPAN!G778","v":"Kailash"}]
[{"$nulls":20},{"$f":"SHALADARPAN!A779","v":12},{"$f":"SHALADARPAN!B779","v":"B"},{"$f":"SHALADARPAN!K779","v":1720},{"$f":"SHALADARPAN!E779","v":"Ravindra Barada"},{"$f":"SHALADARPAN!G779","v":"Kailash"}]
[{"$nulls":20},{"$f":"SHALADARPAN!A780","v":12},{"$f":"SHALADARPAN!B780","v":"B"},{"$f":"SHALADARPAN!K780","v":1721},{"$f":"SHALADARPAN!E780","v":"RIZWANA"},{"$f":"SHALADARPAN!G780","v":"Kailash"}]
[{"$nulls":20},{"$f":"SHALADARPAN!A781","v":12},{"$f":"SHALADARPAN!B781","v":"B"},{"$f":"SHALADARPAN!K781","v":1722},{"$f":"SHALADARPAN!E781","v":"SONIYA RAIDAS"},{"$f":"SHALADARPAN!G781","v":"Kailash"}]
[{"$nulls":20},{"$f":"SHALADARPAN!A782","v":0},{"$f":"SHALADARPAN!B782","v":0},{"$f":"SHALADARPAN!K782","v":0},{"$f":"SHALADARPAN!E782","v":0},{"$f":"SHALADARPAN!G782","v":0}]
[{"$nulls":20},{"$f":"SHALADARPAN!A783","v":0},{"$f":"SHALADARPAN!B783","v":0},{"$f":"SHALADARPAN!K783","v":0},{"$f":"SHALADARPAN!E783","v":0},{"$f":"SHALADARPAN!G783","v":0}]
[{"$nulls":20},{"$f":"SHALADARPAN!A784","v":0},{"$f":"SHALADARPAN!B784","v":0},{"$f":"SHALADARPAN!K784","v":0},{"$f":"SHALADARPAN!E784","v":0},{"$f":"SHALADARPAN!G784","v":0}]
[{"$nulls":20},{"$f":"SHALADARPAN!A785","v":0},{"$f":"SHALADARPAN!B785","v":0},{"$f":"SHALADARPAN!K785","v":0},{"$f":"SHALADARPAN!E785","v":0},{"$f":"SHALADARPAN!G785","v":0}]
[{"$nulls":20},{"$f":"SHALADARPAN!A786","v":0},{"$f":"SHALADARPAN!B786","v":0},{"$f":"SHALADARPAN!K786","v":0},{"$f":"SHALADARPAN!E786","v":0},{"$f":"SHALADARPAN!G786","v":0}]
[{"$nulls":20},{"$f":"SHALADARPAN!A787","v":0},{"$f":"SHALADARPAN!B787","v":0},{"$f":"SHALADARPAN!K787","v":0},{"$f":"SHALADARPAN!E787","v":0},{"$f":"SHALADARPAN!G787","v":0}]
[{"$nulls":20},{"$f":"SHALADARPAN!A788","v":0},{"$f":"SHALADARPAN!B788","v":0},{"$f":"SHALADARPAN!K788","v":0},{"$f":"SHALADARPAN!E788","v":0},{"$f":"SHALADARPAN!G788","v":0}]
[{"$nulls":20},{"$f":"SHALADARPAN!A789","v":0},{"$f":"SHALADARPAN!B789","v":0},{"$f":"SHALADARPAN!K789","v":0},{"$f":"SHALADARPAN!E789","v":0},{"$f":"SHALADARPAN!G789","v":0}]
[{"$nulls":20},{"$f":"SHALADARPAN!A790","v":0},{"$f":"SHALADARPAN!B790","v":0},{"$f":"SHALADARPAN!K790","v":0},{"$f":"SHALADARPAN!E790","v":0},{"$f":"SHALADARPAN!G790","v":0}]
[{"$nulls":20},{"$f":"SHALADARPAN!A791","v":0},{"$f":"SHALADARPAN!B791","v":0},{"$f":"SHALADARPAN!K791","v":0},{"$f":"SHALADARPAN!E791","v":0},{"$f":"SHALADARPAN!G791","v":0}]
[{"$nulls":20},{"$f":"SHALADARPAN!A792","v":0},{"$f":"SHALADARPAN!B792","v":0},{"$f":"SHALADARPAN!K792","v":0},{"$f":"SHALADARPAN!E792","v":0},{"$f":"SHALADARPAN!G792","v":0}]
[{"$nulls":20},{"$f":"SHALADARPAN!A793","v":0},{"$f":"SHALADARPAN!B793","v":0},{"$f":"SHALADARPAN!K793","v":0},{"$f":"SHALADARPAN!E793","v":0},{"$f":"SHALADARPAN!G793","v":0}]
[{"$nulls":20},{"$f":"SHALADARPAN!A794","v":0},{"$f":"SHALADARPAN!B794","v":0},{"$f":"SHALADARPAN!K794","v":0},{"$f":"SHALADARPAN!E794","v":0},{"$f":"SHALADARPAN!G794","v":0}]
[{"$nulls":20},{"$f":"SHALADARPAN!A795","v":0},{"$f":"SHALADARPAN!B795","v":0},{"$f":"SHALADARPAN!K795","v":0},{"$f":"SHALADARPAN!E795","v":0},{"$f":"SHALADARPAN!G795","v":0}]
[{"$nulls":20},{"$f":"SHALADARPAN!A796","v":0},{"$f":"SHALADARPAN!B796","v":0},{"$f":"SHALADARPAN!K796","v":0},{"$f":"SHALADARPAN!E796","v":0},{"$f":"SHALADARPAN!G796","v":0}]
[{"$nulls":20},{"$f":"SHALADARPAN!A797","v":0},{"$f":"SHALADARPAN!B797","v":0},{"$f":"SHALADARPAN!K797","v":0},{"$f":"SHALADARPAN!E797","v":0},{"$f":"SHALADARPAN!G797","v":0}]
[{"$nulls":20},{"$f":"SHALADARPAN!A798","v":0},{"$f":"SHALADARPAN!B798","v":0},{"$f":"SHALADARPAN!K798","v":0},{"$f":"SHALADARPAN!E798","v":0},{"$f":"SHALADARPAN!G798","v":0}]
[{"$nulls":20},{"$f":"SHALADARPAN!A799","v":0},{"$f":"SHALADARPAN!B799","v":0},{"$f":"SHALADARPAN!K799","v":0},{"$f":"SHALADARPAN!E799","v":0},{"$f":"SHALADARPAN!G799","v":0}]
[{"$nulls":20},{"$f":"SHALADARPAN!A800","v":0},{"$f":"SHALADARPAN!B800","v":0},{"$f":"SHALADARPAN!K800","v":0},{"$f":"SHALADARPAN!E800","v":0},{"$f":"SHALADARPAN!G800","v":0}]
[{"$nulls":20},{"$f":"SHALADARPAN!A801","v":0},{"$f":"SHALADARPAN!B801","v":0},{"$f":"SHALADARPAN!K801","v":0},{"$f":"SHALADARPAN!E801","v":0},{"$f":"SHALADARPAN!G801","v":0}]
[{"$nulls":20},{"$f":"SHALADARPAN!A802","v":0},{"$f":"SHALADARPAN!B802","v":0},{"$f":"SHALADARPAN!K802","v":0},{"$f":"SHALADARPAN!E802","v":0},{"$f":"SHALADARPAN!G802","v":0}]
[{"$nulls":20},{"$f":"SHALADARPAN!A803","v":0},{"$f":"SHALADARPAN!B803","v":0},{"$f":"SHALADARPAN!K803","v":0},{"$f":"SHALADARPAN!E803","v":0},{"$f":"SHALADARPAN!G803","v":0}]
[{"$nulls":20},{"$f":"SHALADARPAN!A804","v":0},{"$f":"SHALADARPAN!B804","v":0},{"$f":"SHALADARPAN!K804","v":0},{"$f":"SHALADARPAN!E804","v":0},{"$f":"SHALADARPAN!G804","v":0}]
[{"$nulls":20},{"$f":"SHALADARPAN!A805","v":0},{"$f":"SHALADARPAN!B805","v":0},{"$f":"SHALADARPAN!K805","v":0},{"$f":"SHALADARPAN!E805","v":0},{"$f":"SHALADARPAN!G805","v":0}]
[{"$nulls":20},{"$f":"SHALADARPAN!A806","v":0},{"$f":"SHALADARPAN!B806","v":0},{"$f":"SHALADARPAN!K806","v":0},{"$f":"SHALADARPAN!E806","v":0},{"$f":"SHALADARPAN!G806","v":0}]
[{"$nulls":20},{"$f":"SHALADARPAN!A807","v":0},{"$f":"SHALADARPAN!B807","v":0},{"$f":"SHALADARPAN!K807","v":0},{"$f":"SHALADARPAN!E807","v":0},{"$f":"SHALADARPAN!G807","v":0}]
[{"$nulls":20},{"$f":"SHALADARPAN!A808","v":0},{"$f":"SHALADARPAN!B808","v":0},{"$f":"SHALADARPAN!K808","v":0},{"$f":"SHALADARPAN!E808","v":0},{"$f":"SHALADARPAN!G808","v":0}]
[{"$nulls":20},{"$f":"SHALADARPAN!A809","v":0},{"$f":"SHALADARPAN!B809","v":0},{"$f":"SHALADARPAN!K809","v":0},{"$f":"SHALADARPAN!E809","v":0},{"$f":"SHALADARPAN!G809","v":0}]
[{"$nulls":20},{"$f":"SHALADARPAN!A810","v":0},{"$f":"SHALADARPAN!B810","v":0},{"$f":"SHALADARPAN!K810","v":0},{"$f":"SHALADARPAN!E810","v":0},{"$f":"SHALADARPAN!G810","v":0}]
[{"$nulls":20},{"$f":"SHALADARPAN!A811","v":0},{"$f":"SHALADARPAN!B811","v":0},{"$f":"SHALADARPAN!K811","v":0},{"$f":"SHALADARPAN!E811","v":0},{"$f":"SHALADARPAN!G811","v":0}]
[{"$nulls":20},{"$f":"SHALADARPAN!A812","v":0},{"$f":"SHALADARPAN!B812","v":0},{"$f":"SHALADARPAN!K812","v":0},{"$f":"SHALADARPAN!E812","v":0},{"$f":"SHALADARPAN!G812","v":0}]
[{"$nulls":20},{"$f":"SHALADARPAN!A813","v":0},{"$f":"SHALADARPAN!B813","v":0},{"$f":"SHALADARPAN!K813","v":0},{"$f":"SHALADARPAN!E813","v":0},{"$f":"SHALADARPAN!G813","v":0}]
[{"$nulls":20},{"$f":"SHALADARPAN!A814","v":0},{"$f":"SHALADARPAN!B814","v":0},{"$f":"SHALADARPAN!K814","v":0},{"$f":"SHALADARPAN!E814","v":0},{"$f":"SHALADARPAN!G814","v":0}]
[{"$nulls":20},{"$f":"SHALADARPAN!A815","v":0},{"$f":"SHALADARPAN!B815","v":0},{"$f":"SHALADARPAN!K815","v":0},{"$f":"SHALADARPAN!E815","v":0},{"$f":"SHALADARPAN!G815","v":0}]
[{"$nulls":20},{"$f":"SHALADARPAN!A816","v":0},{"$f":"SHALADARPAN!B816","v":0},{"$f":"SHALADARPAN!K816","v":0},{"$f":"SHALADARPAN!E816","v":0},{"$f":"SHALADARPAN!G816","v":0}]
[{"$nulls":20},{"$f":"SHALADARPAN!A817","v":0},{"$f":"SHALADARPAN!B817","v":0},{"$f":"SHALADARPAN!K817","v":0},{"$f":"SHALADARPAN!E817","v":0},{"$f":"SHALADARPAN!G817","v":0}]
[{"$nulls":20},{"$f":"SHALADARPAN!A818","v":0},{"$f":"SHALADARPAN!B818","v":0},{"$f":"SHALADARPAN!K818","v":0},{"$f":"SHALADARPAN!E818","v":0},{"$f":"SHALADARPAN!G818","v":0}]
[{"$nulls":20},{"$f":"SHALADARPAN!A819","v":0},{"$f":"SHALADARPAN!B819","v":0},{"$f":"SHALADARPAN!K819","v":0},{"$f":"SHALADARPAN!E819","v":0},{"$f":"SHALADARPAN!G819","v":0}]
[{"$nulls":20},{"$f":"SHALADARPAN!A820","v":0},{"$f":"SHALADARPAN!B820","v":0},{"$f":"SHALADARPAN!K820","v":0},{"$f":"SHALADARPAN!E820","v":0},{"$f":"SHALADARPAN!G820","v":0}]
[{"$nulls":20},{"$f":"SHALADARPAN!A821","v":0},{"$f":"SHALADARPAN!B821","v":0},{"$f":"SHALADARPAN!K821","v":0},{"$f":"SHALADARPAN!E821","v":0},{"$f":"SHALADARPAN!G821","v":0}]
[{"$nulls":20},{"$f":"SHALADARPAN!A822","v":0},{"$f":"SHALADARPAN!B822","v":0},{"$f":"SHALADARPAN!K822","v":0},{"$f":"SHALADARPAN!E822","v":0},{"$f":"SHALADARPAN!G822","v":0}]
[{"$nulls":20},{"$f":"SHALADARPAN!A823","v":0},{"$f":"SHALADARPAN!B823","v":0},{"$f":"SHALADARPAN!K823","v":0},{"$f":"SHALADARPAN!E823","v":0},{"$f":"SHALADARPAN!G823","v":0}]
[{"$nulls":20},{"$f":"SHALADARPAN!A824","v":0},{"$f":"SHALADARPAN!B824","v":0},{"$f":"SHALADARPAN!K824","v":0},{"$f":"SHALADARPAN!E824","v":0},{"$f":"SHALADARPAN!G824","v":0}]
[{"$nulls":20},{"$f":"SHALADARPAN!A825","v":0},{"$f":"SHALADARPAN!B825","v":0},{"$f":"SHALADARPAN!K825","v":0},{"$f":"SHALADARPAN!E825","v":0},{"$f":"SHALADARPAN!G825","v":0}]
[{"$nulls":20},{"$f":"SHALADARPAN!A826","v":0},{"$f":"SHALADARPAN!B826","v":0},{"$f":"SHALADARPAN!K826","v":0},{"$f":"SHALADARPAN!E826","v":0},{"$f":"SHALADARPAN!G826","v":0}]
[{"$nulls":20},{"$f":"SHALADARPAN!A827","v":0},{"$f":"SHALADARPAN!B827","v":0},{"$f":"SHALADARPAN!K827","v":0},{"$f":"SHALADARPAN!E827","v":0},{"$f":"SHALADARPAN!G827","v":0}]
[{"$nulls":20},{"$f":"SHALADARPAN!A828","v":0},{"$f":"SHALADARPAN!B828","v":0},{"$f":"SHALADARPAN!K828","v":0},{"$f":"SHALADARPAN!E828","v":0},{"$f":"SHALADARPAN!G828","v":0}]
[{"$nulls":20},{"$f":"SHALADARPAN!A829","v":0},{"$f":"SHALADARPAN!B829","v":0},{"$f":"SHALADARPAN!K829","v":0},{"$f":"SHALADARPAN!E829","v":0},{"$f":"SHALADARPAN!G829","v":0}]
[{"$nulls":20},{"$f":"SHALADARPAN!A830","v":0},{"$f":"SHALADARPAN!B830","v":0},{"$f":"SHALADARPAN!K830","v":0},{"$f":"SHALADARPAN!E830","v":0},{"$f":"SHALADARPAN!G830","v":0}]
[{"$nulls":20},{"$f":"SHALADARPAN!A831","v":0},{"$f":"SHALADARPAN!B831","v":0},{"$f":"SHALADARPAN!K831","v":0},{"$f":"SHALADARPAN!E831","v":0},{"$f":"SHALADARPAN!G831","v":0}]
[{"$nulls":20},{"$f":"SHALADARPAN!A832","v":0},{"$f":"SHALADARPAN!B832","v":0},{"$f":"SHALADARPAN!K832","v":0},{"$f":"SHALADARPAN!E832","v":0},{"$f":"SHALADARPAN!G832","v":0}]
[{"$nulls":20},{"$f":"SHALADARPAN!A833","v":0},{"$f":"SHALADARPAN!B833","v":0},{"$f":"SHALADARPAN!K833","v":0},{"$f":"SHALADARPAN!E833","v":0},{"$f":"SHALADARPAN!G833","v":0}]
[{"$nulls":20},{"$f":"SHALADARPAN!A834","v":0},{"$f":"SHALADARPAN!B834","v":0},{"$f":"SHALADARPAN!K834","v":0},{"$f":"SHALADARPAN!E834","v":0},{"$f":"SHALADARPAN!G834","v":0}]
[{"$nulls":20},{"$f":"SHALADARPAN!A835","v":0},{"$f":"SHALADARPAN!B835","v":0},{"$f":"SHALADARPAN!K835","v":0},{"$f":"SHALADARPAN!E835","v":0},{"$f":"SHALADARPAN!G835","v":0}]
[{"$nulls":20},{"$f":"SHALADARPAN!A836","v":0},{"$f":"SHALADARPAN!B836","v":0},{"$f":"SHALADARPAN!K836","v":0},{"$f":"SHALADARPAN!E836","v":0},{"$f":"SHALADARPAN!G836","v":0}]
[{"$nulls":20},{"$f":"SHALADARPAN!A837","v":0},{"$f":"SHALADARPAN!B837","v":0},{"$f":"SHALADARPAN!K837","v":0},{"$f":"SHALADARPAN!E837","v":0},{"$f":"SHALADARPAN!G837","v":0}]
[{"$nulls":20},{"$f":"SHALADARPAN!A838","v":0},{"$f":"SHALADARPAN!B838","v":0},{"$f":"SHALADARPAN!K838","v":0},{"$f":"SHALADARPAN!E838","v":0},{"$f":"SHALADARPAN!G838","v":0}]
[{"$nulls":20},{"$f":"SHALADARPAN!A839","v":0},{"$f":"SHALADARPAN!B839","v":0},{"$f":"SHALADARPAN!K839","v":0},{"$f":"SHALADARPAN!E839","v":0},{"$f":"SHALADARPAN!G839","v":0}]
[{"$nulls":20},{"$f":"SHALADARPAN!A840","v":0},{"$f":"SHALADARPAN!B840","v":0},{"$f":"SHALADARPAN!K840","v":0},{"$f":"SHALADARPAN!E840","v":0},{"$f":"SHALADARPAN!G840","v":0}]
[{"$nulls":20},{"$f":"SHALADARPAN!A841","v":0},{"$f":"SHALADARPAN!B841","v":0},{"$f":"SHALADARPAN!K841","v":0},{"$f":"SHALADARPAN!E841","v":0},{"$f":"SHALADARPAN!G841","v":0}]
[{"$nulls":20},{"$f":"SHALADARPAN!A842","v":0},{"$f":"SHALADARPAN!B842","v":0},{"$f":"SHALADARPAN!K842","v":0},{"$f":"SHALADARPAN!E842","v":0},{"$f":"SHALADARPAN!G842","v":0}]
[{"$nulls":20},{"$f":"SHALADARPAN!A843","v":0},{"$f":"SHALADARPAN!B843","v":0},{"$f":"SHALADARPAN!K843","v":0},{"$f":"SHALADARPAN!E843","v":0},{"$f":"SHALADARPAN!G843","v":0}]
[{"$nulls":20},{"$f":"SHALADARPAN!A844","v":0},{"$f":"SHALADARPAN!B844","v":0},{"$f":"SHALADARPAN!K844","v":0},{"$f":"SHALADARPAN!E844","v":0},{"$f":"SHALADARPAN!G844","v":0}]
[{"$nulls":20},{"$f":"SHALADARPAN!A845","v":0},{"$f":"SHALADARPAN!B845","v":0},{"$f":"SHALADARPAN!K845","v":0},{"$f":"SHALADARPAN!E845","v":0},{"$f":"SHALADARPAN!G845","v":0}]
[{"$nulls":20},{"$f":"SHALADARPAN!A846","v":0},{"$f":"SHALADARPAN!B846","v":0},{"$f":"SHALADARPAN!K846","v":0},{"$f":"SHALADARPAN!E846","v":0},{"$f":"SHALADARPAN!G846","v":0}]
[{"$nulls":20},{"$f":"SHALADARPAN!A847","v":0},{"$f":"SHALADARPAN!B847","v":0},{"$f":"SHALADARPAN!K847","v":0},{"$f":"SHALADARPAN!E847","v":0},{"$f":"SHALADARPAN!G847","v":0}]
[{"$nulls":20},{"$f":"SHALADARPAN!A848","v":0},{"$f":"SHALADARPAN!B848","v":0},{"$f":"SHALADARPAN!K848","v":0},{"$f":"SHALADARPAN!E848","v":0},{"$f":"SHALADARPAN!G848","v":0}]
[{"$nulls":20},{"$f":"SHALADARPAN!A849","v":0},{"$f":"SHALADARPAN!B849","v":0},{"$f":"SHALADARPAN!K849","v":0},{"$f":"SHALADARPAN!E849","v":0},{"$f":"SHALADARPAN!G849","v":0}]
[{"$nulls":20},{"$f":"SHALADARPAN!A850","v":0},{"$f":"SHALADARPAN!B850","v":0},{"$f":"SHALADARPAN!K850","v":0},{"$f":"SHALADARPAN!E850","v":0},{"$f":"SHALADARPAN!G850","v":0}]
[{"$nulls":20},{"$f":"SHALADARPAN!A851","v":0},{"$f":"SHALADARPAN!B851","v":0},{"$f":"SHALADARPAN!K851","v":0},{"$f":"SHALADARPAN!E851","v":0},{"$f":"SHALADARPAN!G851","v":0}]
[{"$nulls":20},{"$f":"SHALADARPAN!A852","v":0},{"$f":"SHALADARPAN!B852","v":0},{"$f":"SHALADARPAN!K852","v":0},{"$f":"SHALADARPAN!E852","v":0},{"$f":"SHALADARPAN!G852","v":0}]
[{"$nulls":20},{"$f":"SHALADARPAN!A853","v":0},{"$f":"SHALADARPAN!B853","v":0},{"$f":"SHALADARPAN!K853","v":0},{"$f":"SHALADARPAN!E853","v":0},{"$f":"SHALADARPAN!G853","v":0}]
[{"$nulls":20},{"$f":"SHALADARPAN!A854","v":0},{"$f":"SHALADARPAN!B854","v":0},{"$f":"SHALADARPAN!K854","v":0},{"$f":"SHALADARPAN!E854","v":0},{"$f":"SHALADARPAN!G854","v":0}]
[{"$nulls":20},{"$f":"SHALADARPAN!A855","v":0},{"$f":"SHALADARPAN!B855","v":0},{"$f":"SHALADARPAN!K855","v":0},{"$f":"SHALADARPAN!E855","v":0},{"$f":"SHALADARPAN!G855","v":0}]
[{"$nulls":20},{"$f":"SHALADARPAN!A856","v":0},{"$f":"SHALADARPAN!B856","v":0},{"$f":"SHALADARPAN!K856","v":0},{"$f":"SHALADARPAN!E856","v":0},{"$f":"SHALADARPAN!G856","v":0}]
[{"$nulls":20},{"$f":"SHALADARPAN!A857","v":0},{"$f":"SHALADARPAN!B857","v":0},{"$f":"SHALADARPAN!K857","v":0},{"$f":"SHALADARPAN!E857","v":0},{"$f":"SHALADARPAN!G857","v":0}]
[{"$nulls":20},{"$f":"SHALADARPAN!A858","v":0},{"$f":"SHALADARPAN!B858","v":0},{"$f":"SHALADARPAN!K858","v":0},{"$f":"SHALADARPAN!E858","v":0},{"$f":"SHALADARPAN!G858","v":0}]
[{"$nulls":20},{"$f":"SHALADARPAN!A859","v":0},{"$f":"SHALADARPAN!B859","v":0},{"$f":"SHALADARPAN!K859","v":0},{"$f":"SHALADARPAN!E859","v":0},{"$f":"SHALADARPAN!G859","v":0}]
[{"$nulls":20},{"$f":"SHALADARPAN!A860","v":0},{"$f":"SHALADARPAN!B860","v":0},{"$f":"SHALADARPAN!K860","v":0},{"$f":"SHALADARPAN!E860","v":0},{"$f":"SHALADARPAN!G860","v":0}]
[{"$nulls":20},{"$f":"SHALADARPAN!A861","v":0},{"$f":"SHALADARPAN!B861","v":0},{"$f":"SHALADARPAN!K861","v":0},{"$f":"SHALADARPAN!E861","v":0},{"$f":"SHALADARPAN!G861","v":0}]
[{"$nulls":20},{"$f":"SHALADARPAN!A862","v":0},{"$f":"SHALADARPAN!B862","v":0},{"$f":"SHALADARPAN!K862","v":0},{"$f":"SHALADARPAN!E862","v":0},{"$f":"SHALADARPAN!G862","v":0}]
[{"$nulls":20},{"$f":"SHALADARPAN!A863","v":0},{"$f":"SHALADARPAN!B863","v":0},{"$f":"SHALADARPAN!K863","v":0},{"$f":"SHALADARPAN!E863","v":0},{"$f":"SHALADARPAN!G863","v":0}]
[{"$nulls":20},{"$f":"SHALADARPAN!A864","v":0},{"$f":"SHALADARPAN!B864","v":0},{"$f":"SHALADARPAN!K864","v":0},{"$f":"SHALADARPAN!E864","v":0},{"$f":"SHALADARPAN!G864","v":0}]
[{"$nulls":20},{"$f":"SHALADARPAN!A865","v":0},{"$f":"SHALADARPAN!B865","v":0},{"$f":"SHALADARPAN!K865","v":0},{"$f":"SHALADARPAN!E865","v":0},{"$f":"SHALADARPAN!G865","v":0}]
[{"$nulls":20},{"$f":"SHALADARPAN!A866","v":0},{"$f":"SHALADARPAN!B866","v":0},{"$f":"SHALADARPAN!K866","v":0},{"$f":"SHALADARPAN!E866","v":0},{"$f":"SHALADARPAN!G866","v":0}]
[{"$nulls":20},{"$f":"SHALADARPAN!A867","v":0},{"$f":"SHALADARPAN!B867","v":0},{"$f":"SHALADARPAN!K867","v":0},{"$f":"SHALADARPAN!E867","v":0},{"$f":"SHALADARPAN!G867","v":0}]
[{"$nulls":20},{"$f":"SHALADARPAN!A868","v":0},{"$f":"SHALADARPAN!B868","v":0},{"$f":"SHALADARPAN!K868","v":0},{"$f":"SHALADARPAN!E868","v":0},{"$f":"SHALADARPAN!G868","v":0}]
[{"$nulls":20},{"$f":"SHALADARPAN!A869","v":0},{"$f":"SHALADARPAN!B869","v":0},{"$f":"SHALADARPAN!K869","v":0},{"$f":"SHALADARPAN!E869","v":0},{"$f":"SHALADARPAN!G869","v":0}]
[{"$nulls":20},{"$f":"SHALADARPAN!A870","v":0},{"$f":"SHALADARPAN!B870","v":0},{"$f":"SHALADARPAN!K870","v":0},{"$f":"SHALADARPAN!E870","v":0},{"$f":"SHALADARPAN!G870","v":0}]
[{"$nulls":20},{"$f":"SHALADARPAN!A871","v":0},{"$f":"SHALADARPAN!B871","v":0},{"$f":"SHALADARPAN!K871","v":0},{"$f":"SHALADARPAN!E871","v":0},{"$f":"SHALADARPAN!G871","v":0}]
[{"$nulls":20},{"$f":"SHALADARPAN!A872","v":0},{"$f":"SHALADARPAN!B872","v":0},{"$f":"SHALADARPAN!K872","v":0},{"$f":"SHALADARPAN!E872","v":0},{"$f":"SHALADARPAN!G872","v":0}]
[{"$nulls":20},{"$f":"SHALADARPAN!A873","v":0},{"$f":"SHALADARPAN!B873","v":0},{"$f":"SHALADARPAN!K873","v":0},{"$f":"SHALADARPAN!E873","v":0},{"$f":"SHALADARPAN!G873","v":0}]
[{"$nulls":20},{"$f":"SHALADARPAN!A874","v":0},{"$f":"SHALADARPAN!B874","v":0},{"$f":"SHALADARPAN!K874","v":0},{"$f":"SHALADARPAN!E874","v":0},{"$f":"SHALADARPAN!G874","v":0}]
[{"$nulls":20},{"$f":"SHALADARPAN!A875","v":0},{"$f":"SHALADARPAN!B875","v":0},{"$f":"SHALADARPAN!K875","v":0},{"$f":"SHALADARPAN!E875","v":0},{"$f":"SHALADARPAN!G875","v":0}]
[{"$nulls":20},{"$f":"SHALADARPAN!A876","v":0},{"$f":"SHALADARPAN!B876","v":0},{"$f":"SHALADARPAN!K876","v":0},{"$f":"SHALADARPAN!E876","v":0},{"$f":"SHALADARPAN!G876","v":0}]
[{"$nulls":20},{"$f":"SHALADARPAN!A877","v":0},{"$f":"SHALADARPAN!B877","v":0},{"$f":"SHALADARPAN!K877","v":0},{"$f":"SHALADARPAN!E877","v":0},{"$f":"SHALADARPAN!G877","v":0}]
[{"$nulls":20},{"$f":"SHALADARPAN!A878","v":0},{"$f":"SHALADARPAN!B878","v":0},{"$f":"SHALADARPAN!K878","v":0},{"$f":"SHALADARPAN!E878","v":0},{"$f":"SHALADARPAN!G878","v":0}]
[{"$nulls":20},{"$f":"SHALADARPAN!A879","v":0},{"$f":"SHALADARPAN!B879","v":0},{"$f":"SHALADARPAN!K879","v":0},{"$f":"SHALADARPAN!E879","v":0},{"$f":"SHALADARPAN!G879","v":0}]
[{"$nulls":20},{"$f":"SHALADARPAN!A880","v":0},{"$f":"SHALADARPAN!B880","v":0},{"$f":"SHALADARPAN!K880","v":0},{"$f":"SHALADARPAN!E880","v":0},{"$f":"SHALADARPAN!G880","v":0}]
[{"$nulls":20},{"$f":"SHALADARPAN!A881","v":0},{"$f":"SHALADARPAN!B881","v":0},{"$f":"SHALADARPAN!K881","v":0},{"$f":"SHALADARPAN!E881","v":0},{"$f":"SHALADARPAN!G881","v":0}]
[{"$nulls":20},{"$f":"SHALADARPAN!A882","v":0},{"$f":"SHALADARPAN!B882","v":0},{"$f":"SHALADARPAN!K882","v":0},{"$f":"SHALADARPAN!E882","v":0},{"$f":"SHALADARPAN!G882","v":0}]
[{"$nulls":20},{"$f":"SHALADARPAN!A883","v":0},{"$f":"SHALADARPAN!B883","v":0},{"$f":"SHALADARPAN!K883","v":0},{"$f":"SHALADARPAN!E883","v":0},{"$f":"SHALADARPAN!G883","v":0}]
[{"$nulls":20},{"$f":"SHALADARPAN!A884","v":0},{"$f":"SHALADARPAN!B884","v":0},{"$f":"SHALADARPAN!K884","v":0},{"$f":"SHALADARPAN!E884","v":0},{"$f":"SHALADARPAN!G884","v":0}]
[{"$nulls":20},{"$f":"SHALADARPAN!A885","v":0},{"$f":"SHALADARPAN!B885","v":0},{"$f":"SHALADARPAN!K885","v":0},{"$f":"SHALADARPAN!E885","v":0},{"$f":"SHALADARPAN!G885","v":0}]
[{"$nulls":20},{"$f":"SHALADARPAN!A886","v":0},{"$f":"SHALADARPAN!B886","v":0},{"$f":"SHALADARPAN!K886","v":0},{"$f":"SHALADARPAN!E886","v":0},{"$f":"SHALADARPAN!G886","v":0}]
[{"$nulls":20},{"$f":"SHALADARPAN!A887","v":0},{"$f":"SHALADARPAN!B887","v":0},{"$f":"SHALADARPAN!K887","v":0},{"$f":"SHALADARPAN!E887","v":0},{"$f":"SHALADARPAN!G887","v":0}]
[{"$nulls":20},{"$f":"SHALADARPAN!A888","v":0},{"$f":"SHALADARPAN!B888","v":0},{"$f":"SHALADARPAN!K888","v":0},{"$f":"SHALADARPAN!E888","v":0},{"$f":"SHALADARPAN!G888","v":0}]
[{"$nulls":20},{"$f":"SHALADARPAN!A889","v":0},{"$f":"SHALADARPAN!B889","v":0},{"$f":"SHALADARPAN!K889","v":0},{"$f":"SHALADARPAN!E889","v":0},{"$f":"SHALADARPAN!G889","v":0}]
[{"$nulls":20},{"$f":"SHALADARPAN!A890","v":0},{"$f":"SHALADARPAN!B890","v":0},{"$f":"SHALADARPAN!K890","v":0},{"$f":"SHALADARPAN!E890","v":0},{"$f":"SHALADARPAN!G890","v":0}]
[{"$nulls":20},{"$f":"SHALADARPAN!A891","v":0},{"$f":"SHALADARPAN!B891","v":0},{"$f":"SHALADARPAN!K891","v":0},{"$f":"SHALADARPAN!E891","v":0},{"$f":"SHALADARPAN!G891","v":0}]
[{"$nulls":20},{"$f":"SHALADARPAN!A892","v":0},{"$f":"SHALADARPAN!B892","v":0},{"$f":"SHALADARPAN!K892","v":0},{"$f":"SHALADARPAN!E892","v":0},{"$f":"SHALADARPAN!G892","v":0}]
[{"$nulls":20},{"$f":"SHALADARPAN!A893","v":0},{"$f":"SHALADARPAN!B893","v":0},{"$f":"SHALADARPAN!K893","v":0},{"$f":"SHALADARPAN!E893","v":0},{"$f":"SHALADARPAN!G893","v":0}]
[{"$nulls":20},{"$f":"SHALADARPAN!A894","v":0},{"$f":"SHALADARPAN!B894","v":0},{"$f":"SHALADARPAN!K894","v":0},{"$f":"SHALADARPAN!E894","v":0},{"$f":"SHALADARPAN!G894","v":0}]
[{"$nulls":20},{"$f":"SHALADARPAN!A895","v":0},{"$f":"SHALADARPAN!B895","v":0},{"$f":"SHALADARPAN!K895","v":0},{"$f":"SHALADARPAN!E895","v":0},{"$f":"SHALADARPAN!G895","v":0}]
[{"$nulls":20},{"$f":"SHALADARPAN!A896","v":0},{"$f":"SHALADARPAN!B896","v":0},{"$f":"SHALADARPAN!K896","v":0},{"$f":"SHALADARPAN!E896","v":0},{"$f":"SHALADARPAN!G896","v":0}]
[{"$nulls":20},{"$f":"SHALADARPAN!A897","v":0},{"$f":"SHALADARPAN!B897","v":0},{"$f":"SHALADARPAN!K897","v":0},{"$f":"SHALADARPAN!E897","v":0},{"$f":"SHALADARPAN!G897","v":0}]
[{"$nulls":20},{"$f":"SHALADARPAN!A898","v":0},{"$f":"SHALADARPAN!B898","v":0},{"$f":"SHALADARPAN!K898","v":0},{"$f":"SHALADARPAN!E898","v":0},{"$f":"SHALADARPAN!G898","v":0}]
[{"$nulls":20},{"$f":"SHALADARPAN!A899","v":0},{"$f":"SHALADARPAN!B899","v":0},{"$f":"SHALADARPAN!K899","v":0},{"$f":"SHALADARPAN!E899","v":0},{"$f":"SHALADARPAN!G899","v":0}]
[{"$nulls":20},{"$f":"SHALADARPAN!A900","v":0},{"$f":"SHALADARPAN!B900","v":0},{"$f":"SHALADARPAN!K900","v":0},{"$f":"SHALADARPAN!E900","v":0},{"$f":"SHALADARPAN!G900","v":0}]
[{"$nulls":20},{"$f":"SHALADARPAN!A901","v":0},{"$f":"SHALADARPAN!B901","v":0},{"$f":"SHALADARPAN!K901","v":0},{"$f":"SHALADARPAN!E901","v":0},{"$f":"SHALADARPAN!G901","v":0}]
[{"$nulls":20},{"$f":"SHALADARPAN!A902","v":0},{"$f":"SHALADARPAN!B902","v":0},{"$f":"SHALADARPAN!K902","v":0},{"$f":"SHALADARPAN!E902","v":0},{"$f":"SHALADARPAN!G902","v":0}]
[{"$nulls":20},{"$f":"SHALADARPAN!A903","v":0},{"$f":"SHALADARPAN!B903","v":0},{"$f":"SHALADARPAN!K903","v":0},{"$f":"SHALADARPAN!E903","v":0},{"$f":"SHALADARPAN!G903","v":0}]
[{"$nulls":20},{"$f":"SHALADARPAN!A904","v":0},{"$f":"SHALADARPAN!B904","v":0},{"$f":"SHALADARPAN!K904","v":0},{"$f":"SHALADARPAN!E904","v":0},{"$f":"SHALADARPAN!G904","v":0}]
[{"$nulls":20},{"$f":"SHALADARPAN!A905","v":0},{"$f":"SHALADARPAN!B905","v":0},{"$f":"SHALADARPAN!K905","v":0},{"$f":"SHALADARPAN!E905","v":0},{"$f":"SHALADARPAN!G905","v":0}]
[{"$nulls":20},{"$f":"SHALADARPAN!A906","v":0},{"$f":"SHALADARPAN!B906","v":0},{"$f":"SHALADARPAN!K906","v":0},{"$f":"SHALADARPAN!E906","v":0},{"$f":"SHALADARPAN!G906","v":0}]
[{"$nulls":20},{"$f":"SHALADARPAN!A907","v":0},{"$f":"SHALADARPAN!B907","v":0},{"$f":"SHALADARPAN!K907","v":0},{"$f":"SHALADARPAN!E907","v":0},{"$f":"SHALADARPAN!G907","v":0}]
[{"$nulls":20},{"$f":"SHALADARPAN!A908","v":0},{"$f":"SHALADARPAN!B908","v":0},{"$f":"SHALADARPAN!K908","v":0},{"$f":"SHALADARPAN!E908","v":0},{"$f":"SHALADARPAN!G908","v":0}]
[{"$nulls":20},{"$f":"SHALADARPAN!A909","v":0},{"$f":"SHALADARPAN!B909","v":0},{"$f":"SHALADARPAN!K909","v":0},{"$f":"SHALADARPAN!E909","v":0},{"$f":"SHALADARPAN!G909","v":0}]
[{"$nulls":20},{"$f":"SHALADARPAN!A910","v":0},{"$f":"SHALADARPAN!B910","v":0},{"$f":"SHALADARPAN!K910","v":0},{"$f":"SHALADARPAN!E910","v":0},{"$f":"SHALADARPAN!G910","v":0}]
[{"$nulls":20},{"$f":"SHALADARPAN!A911","v":0},{"$f":"SHALADARPAN!B911","v":0},{"$f":"SHALADARPAN!K911","v":0},{"$f":"SHALADARPAN!E911","v":0},{"$f":"SHALADARPAN!G911","v":0}]
[{"$nulls":20},{"$f":"SHALADARPAN!A912","v":0},{"$f":"SHALADARPAN!B912","v":0},{"$f":"SHALADARPAN!K912","v":0},{"$f":"SHALADARPAN!E912","v":0},{"$f":"SHALADARPAN!G912","v":0}]
[{"$nulls":20},{"$f":"SHALADARPAN!A913","v":0},{"$f":"SHALADARPAN!B913","v":0},{"$f":"SHALADARPAN!K913","v":0},{"$f":"SHALADARPAN!E913","v":0},{"$f":"SHALADARPAN!G913","v":0}]
[{"$nulls":20},{"$f":"SHALADARPAN!A914","v":0},{"$f":"SHALADARPAN!B914","v":0},{"$f":"SHALADARPAN!K914","v":0},{"$f":"SHALADARPAN!E914","v":0},{"$f":"SHALADARPAN!G914","v":0}]
[{"$nulls":20},{"$f":"SHALADARPAN!A915","v":0},{"$f":"SHALADARPAN!B915","v":0},{"$f":"SHALADARPAN!K915","v":0},{"$f":"SHALADARPAN!E915","v":0},{"$f":"SHALADARPAN!G915","v":0}]
[{"$nulls":20},{"$f":"SHALADARPAN!A916","v":0},{"$f":"SHALADARPAN!B916","v":0},{"$f":"SHALADARPAN!K916","v":0},{"$f":"SHALADARPAN!E916","v":0},{"$f":"SHALADARPAN!G916","v":0}]
[{"$nulls":20},{"$f":"SHALADARPAN!A917","v":0},{"$f":"SHALADARPAN!B917","v":0},{"$f":"SHALADARPAN!K917","v":0},{"$f":"SHALADARPAN!E917","v":0},{"$f":"SHALADARPAN!G917","v":0}]
[{"$nulls":20},{"$f":"SHALADARPAN!A918","v":0},{"$f":"SHALADARPAN!B918","v":0},{"$f":"SHALADARPAN!K918","v":0},{"$f":"SHALADARPAN!E918","v":0},{"$f":"SHALADARPAN!G918","v":0}]
[{"$nulls":20},{"$f":"SHALADARPAN!A919","v":0},{"$f":"SHALADARPAN!B919","v":0},{"$f":"SHALADARPAN!K919","v":0},{"$f":"SHALADARPAN!E919","v":0},{"$f":"SHALADARPAN!G919","v":0}]
[{"$nulls":20},{"$f":"SHALADARPAN!A920","v":0},{"$f":"SHALADARPAN!B920","v":0},{"$f":"SHALADARPAN!K920","v":0},{"$f":"SHALADARPAN!E920","v":0},{"$f":"SHALADARPAN!G920","v":0}]
[{"$nulls":20},{"$f":"SHALADARPAN!A921","v":0},{"$f":"SHALADARPAN!B921","v":0},{"$f":"SHALADARPAN!K921","v":0},{"$f":"SHALADARPAN!E921","v":0},{"$f":"SHALADARPAN!G921","v":0}]
[{"$nulls":20},{"$f":"SHALADARPAN!A922","v":0},{"$f":"SHALADARPAN!B922","v":0},{"$f":"SHALADARPAN!K922","v":0},{"$f":"SHALADARPAN!E922","v":0},{"$f":"SHALADARPAN!G922","v":0}]
[{"$nulls":20},{"$f":"SHALADARPAN!A923","v":0},{"$f":"SHALADARPAN!B923","v":0},{"$f":"SHALADARPAN!K923","v":0},{"$f":"SHALADARPAN!E923","v":0},{"$f":"SHALADARPAN!G923","v":0}]
[{"$nulls":20},{"$f":"SHALADARPAN!A924","v":0},{"$f":"SHALADARPAN!B924","v":0},{"$f":"SHALADARPAN!K924","v":0},{"$f":"SHALADARPAN!E924","v":0},{"$f":"SHALADARPAN!G924","v":0}]
[{"$nulls":20},{"$f":"SHALADARPAN!A925","v":0},{"$f":"SHALADARPAN!B925","v":0},{"$f":"SHALADARPAN!K925","v":0},{"$f":"SHALADARPAN!E925","v":0},{"$f":"SHALADARPAN!G925","v":0}]
[{"$nulls":20},{"$f":"SHALADARPAN!A926","v":0},{"$f":"SHALADARPAN!B926","v":0},{"$f":"SHALADARPAN!K926","v":0},{"$f":"SHALADARPAN!E926","v":0},{"$f":"SHALADARPAN!G926","v":0}]
[{"$nulls":20},{"$f":"SHALADARPAN!A927","v":0},{"$f":"SHALADARPAN!B927","v":0},{"$f":"SHALADARPAN!K927","v":0},{"$f":"SHALADARPAN!E927","v":0},{"$f":"SHALADARPAN!G927","v":0}]
[{"$nulls":20},{"$f":"SHALADARPAN!A928","v":0},{"$f":"SHALADARPAN!B928","v":0},{"$f":"SHALADARPAN!K928","v":0},{"$f":"SHALADARPAN!E928","v":0},{"$f":"SHALADARPAN!G928","v":0}]
[{"$nulls":20},{"$f":"SHALADARPAN!A929","v":0},{"$f":"SHALADARPAN!B929","v":0},{"$f":"SHALADARPAN!K929","v":0},{"$f":"SHALADARPAN!E929","v":0},{"$f":"SHALADARPAN!G929","v":0}]
[{"$nulls":20},{"$f":"SHALADARPAN!A930","v":0},{"$f":"SHALADARPAN!B930","v":0},{"$f":"SHALADARPAN!K930","v":0},{"$f":"SHALADARPAN!E930","v":0},{"$f":"SHALADARPAN!G930","v":0}]
[{"$nulls":20},{"$f":"SHALADARPAN!A931","v":0},{"$f":"SHALADARPAN!B931","v":0},{"$f":"SHALADARPAN!K931","v":0},{"$f":"SHALADARPAN!E931","v":0},{"$f":"SHALADARPAN!G931","v":0}]
[{"$nulls":20},{"$f":"SHALADARPAN!A932","v":0},{"$f":"SHALADARPAN!B932","v":0},{"$f":"SHALADARPAN!K932","v":0},{"$f":"SHALADARPAN!E932","v":0},{"$f":"SHALADARPAN!G932","v":0}]
[{"$nulls":20},{"$f":"SHALADARPAN!A933","v":0},{"$f":"SHALADARPAN!B933","v":0},{"$f":"SHALADARPAN!K933","v":0},{"$f":"SHALADARPAN!E933","v":0},{"$f":"SHALADARPAN!G933","v":0}]
[{"$nulls":20},{"$f":"SHALADARPAN!A934","v":0},{"$f":"SHALADARPAN!B934","v":0},{"$f":"SHALADARPAN!K934","v":0},{"$f":"SHALADARPAN!E934","v":0},{"$f":"SHALADARPAN!G934","v":0}]
[{"$nulls":20},{"$f":"SHALADARPAN!A935","v":0},{"$f":"SHALADARPAN!B935","v":0},{"$f":"SHALADARPAN!K935","v":0},{"$f":"SHALADARPAN!E935","v":0},{"$f":"SHALADARPAN!G935","v":0}]
[{"$nulls":20},{"$f":"SHALADARPAN!A936","v":0},{"$f":"SHALADARPAN!B936","v":0},{"$f":"SHALADARPAN!K936","v":0},{"$f":"SHALADARPAN!E936","v":0},{"$f":"SHALADARPAN!G936","v":0}]
[{"$nulls":20},{"$f":"SHALADARPAN!A937","v":0},{"$f":"SHALADARPAN!B937","v":0},{"$f":"SHALADARPAN!K937","v":0},{"$f":"SHALADARPAN!E937","v":0},{"$f":"SHALADARPAN!G937","v":0}]
[{"$nulls":20},{"$f":"SHALADARPAN!A938","v":0},{"$f":"SHALADARPAN!B938","v":0},{"$f":"SHALADARPAN!K938","v":0},{"$f":"SHALADARPAN!E938","v":0},{"$f":"SHALADARPAN!G938","v":0}]
[{"$nulls":20},{"$f":"SHALADARPAN!A939","v":0},{"$f":"SHALADARPAN!B939","v":0},{"$f":"SHALADARPAN!K939","v":0},{"$f":"SHALADARPAN!E939","v":0},{"$f":"SHALADARPAN!G939","v":0}]
[{"$nulls":20},{"$f":"SHALADARPAN!A940","v":0},{"$f":"SHALADARPAN!B940","v":0},{"$f":"SHALADARPAN!K940","v":0},{"$f":"SHALADARPAN!E940","v":0},{"$f":"SHALADARPAN!G940","v":0}]
[{"$nulls":20},{"$f":"SHALADARPAN!A941","v":0},{"$f":"SHALADARPAN!B941","v":0},{"$f":"SHALADARPAN!K941","v":0},{"$f":"SHALADARPAN!E941","v":0},{"$f":"SHALADARPAN!G941","v":0}]
[{"$nulls":20},{"$f":"SHALADARPAN!A942","v":0},{"$f":"SHALADARPAN!B942","v":0},{"$f":"SHALADARPAN!K942","v":0},{"$f":"SHALADARPAN!E942","v":0},{"$f":"SHALADARPAN!G942","v":0}]
[{"$nulls":20},{"$f":"SHALADARPAN!A943","v":0},{"$f":"SHALADARPAN!B943","v":0},{"$f":"SHALADARPAN!K943","v":0},{"$f":"SHALADARPAN!E943","v":0},{"$f":"SHALADARPAN!G943","v":0}]
[{"$nulls":20},{"$f":"SHALADARPAN!A944","v":0},{"$f":"SHALADARPAN!B944","v":0},{"$f":"SHALADARPAN!K944","v":0},{"$f":"SHALADARPAN!E944","v":0},{"$f":"SHALADARPAN!G944","v":0}]
[{"$nulls":20},{"$f":"SHALADARPAN!A945","v":0},{"$f":"SHALADARPAN!B945","v":0},{"$f":"SHALADARPAN!K945","v":0},{"$f":"SHALADARPAN!E945","v":0},{"$f":"SHALADARPAN!G945","v":0}]
[{"$nulls":20},{"$f":"SHALADARPAN!A946","v":0},{"$f":"SHALADARPAN!B946","v":0},{"$f":"SHALADARPAN!K946","v":0},{"$f":"SHALADARPAN!E946","v":0},{"$f":"SHALADARPAN!G946","v":0}]
[{"$nulls":20},{"$f":"SHALADARPAN!A947","v":0},{"$f":"SHALADARPAN!B947","v":0},{"$f":"SHALADARPAN!K947","v":0},{"$f":"SHALADARPAN!E947","v":0},{"$f":"SHALADARPAN!G947","v":0}]
[{"$nulls":20},{"$f":"SHALADARPAN!A948","v":0},{"$f":"SHALADARPAN!B948","v":0},{"$f":"SHALADARPAN!K948","v":0},{"$f":"SHALADARPAN!E948","v":0},{"$f":"SHALADARPAN!G948","v":0}]
[{"$nulls":20},{"$f":"SHALADARPAN!A949","v":0},{"$f":"SHALADARPAN!B949","v":0},{"$f":"SHALADARPAN!K949","v":0},{"$f":"SHALADARPAN!E949","v":0},{"$f":"SHALADARPAN!G949","v":0}]
[{"$nulls":20},{"$f":"SHALADARPAN!A950","v":0},{"$f":"SHALADARPAN!B950","v":0},{"$f":"SHALADARPAN!K950","v":0},{"$f":"SHALADARPAN!E950","v":0},{"$f":"SHALADARPAN!G950","v":0}]
[{"$nulls":20},{"$f":"SHALADARPAN!A951","v":0},{"$f":"SHALADARPAN!B951","v":0},{"$f":"SHALADARPAN!K951","v":0},{"$f":"SHALADARPAN!E951","v":0},{"$f":"SHALADARPAN!G951","v":0}]
[{"$nulls":20},{"$f":"SHALADARPAN!A952","v":0},{"$f":"SHALADARPAN!B952","v":0},{"$f":"SHALADARPAN!K952","v":0},{"$f":"SHALADARPAN!E952","v":0},{"$f":"SHALADARPAN!G952","v":0}]
[{"$nulls":20},{"$f":"SHALADARPAN!A953","v":0},{"$f":"SHALADARPAN!B953","v":0},{"$f":"SHALADARPAN!K953","v":0},{"$f":"SHALADARPAN!E953","v":0},{"$f":"SHALADARPAN!G953","v":0}]
[{"$nulls":20},{"$f":"SHALADARPAN!A954","v":0},{"$f":"SHALADARPAN!B954","v":0},{"$f":"SHALADARPAN!K954","v":0},{"$f":"SHALADARPAN!E954","v":0},{"$f":"SHALADARPAN!G954","v":0}]
[{"$nulls":20},{"$f":"SHALADARPAN!A955","v":0},{"$f":"SHALADARPAN!B955","v":0},{"$f":"SHALADARPAN!K955","v":0},{"$f":"SHALADARPAN!E955","v":0},{"$f":"SHALADARPAN!G955","v":0}]
[{"$nulls":20},{"$f":"SHALADARPAN!A956","v":0},{"$f":"SHALADARPAN!B956","v":0},{"$f":"SHALADARPAN!K956","v":0},{"$f":"SHALADARPAN!E956","v":0},{"$f":"SHALADARPAN!G956","v":0}]
[{"$nulls":20},{"$f":"SHALADARPAN!A957","v":0},{"$f":"SHALADARPAN!B957","v":0},{"$f":"SHALADARPAN!K957","v":0},{"$f":"SHALADARPAN!E957","v":0},{"$f":"SHALADARPAN!G957","v":0}]
[{"$nulls":20},{"$f":"SHALADARPAN!A958","v":0},{"$f":"SHALADARPAN!B958","v":0},{"$f":"SHALADARPAN!K958","v":0},{"$f":"SHALADARPAN!E958","v":0},{"$f":"SHALADARPAN!G958","v":0}]
[{"$nulls":20},{"$f":"SHALADARPAN!A959","v":0},{"$f":"SHALADARPAN!B959","v":0},{"$f":"SHALADARPAN!K959","v":0},{"$f":"SHALADARPAN!E959","v":0},{"$f":"SHALADARPAN!G959","v":0}]
[{"$nulls":20},{"$f":"SHALADARPAN!A960","v":0},{"$f":"SHALADARPAN!B960","v":0},{"$f":"SHALADARPAN!K960","v":0},{"$f":"SHALADARPAN!E960","v":0},{"$f":"SHALADARPAN!G960","v":0}]
[{"$nulls":20},{"$f":"SHALADARPAN!A961","v":0},{"$f":"SHALADARPAN!B961","v":0},{"$f":"SHALADARPAN!K961","v":0},{"$f":"SHALADARPAN!E961","v":0},{"$f":"SHALADARPAN!G961","v":0}]
[{"$nulls":20},{"$f":"SHALADARPAN!A962","v":0},{"$f":"SHALADARPAN!B962","v":0},{"$f":"SHALADARPAN!K962","v":0},{"$f":"SHALADARPAN!E962","v":0},{"$f":"SHALADARPAN!G962","v":0}]
[{"$nulls":20},{"$f":"SHALADARPAN!A963","v":0},{"$f":"SHALADARPAN!B963","v":0},{"$f":"SHALADARPAN!K963","v":0},{"$f":"SHALADARPAN!E963","v":0},{"$f":"SHALADARPAN!G963","v":0}]
[{"$nulls":20},{"$f":"SHALADARPAN!A964","v":0},{"$f":"SHALADARPAN!B964","v":0},{"$f":"SHALADARPAN!K964","v":0},{"$f":"SHALADARPAN!E964","v":0},{"$f":"SHALADARPAN!G964","v":0}]
[{"$nulls":20},{"$f":"SHALADARPAN!A965","v":0},{"$f":"SHALADARPAN!B965","v":0},{"$f":"SHALADARPAN!K965","v":0},{"$f":"SHALADARPAN!E965","v":0},{"$f":"SHALADARPAN!G965","v":0}]
[{"$nulls":20},{"$f":"SHALADARPAN!A966","v":0},{"$f":"SHALADARPAN!B966","v":0},{"$f":"SHALADARPAN!K966","v":0},{"$f":"SHALADARPAN!E966","v":0},{"$f":"SHALADARPAN!G966","v":0}]
[{"$nulls":20},{"$f":"SHALADARPAN!A967","v":0},{"$f":"SHALADARPAN!B967","v":0},{"$f":"SHALADARPAN!K967","v":0},{"$f":"SHALADARPAN!E967","v":0},{"$f":"SHALADARPAN!G967","v":0}]
[{"$nulls":20},{"$f":"SHALADARPAN!A968","v":0},{"$f":"SHALADARPAN!B968","v":0},{"$f":"SHALADARPAN!K968","v":0},{"$f":"SHALADARPAN!E968","v":0},{"$f":"SHALADARPAN!G968","v":0}]
[{"$nulls":20},{"$f":"SHALADARPAN!A969","v":0},{"$f":"SHALADARPAN!B969","v":0},{"$f":"SHALADARPAN!K969","v":0},{"$f":"SHALADARPAN!E969","v":0},{"$f":"SHALADARPAN!G969","v":0}]
[{"$nulls":20},{"$f":"SHALADARPAN!A970","v":0},{"$f":"SHALADARPAN!B970","v":0},{"$f":"SHALADARPAN!K970","v":0},{"$f":"SHALADARPAN!E970","v":0},{"$f":"SHALADARPAN!G970","v":0}]
[{"$nulls":20},{"$f":"SHALADARPAN!A971","v":0},{"$f":"SHALADARPAN!B971","v":0},{"$f":"SHALADARPAN!K971","v":0},{"$f":"SHALADARPAN!E971","v":0},{"$f":"SHALADARPAN!G971","v":0}]
[{"$nulls":20},{"$f":"SHALADARPAN!A972","v":0},{"$f":"SHALADARPAN!B972","v":0},{"$f":"SHALADARPAN!K972","v":0},{"$f":"SHALADARPAN!E972","v":0},{"$f":"SHALADARPAN!G972","v":0}]
[{"$nulls":20},{"$f":"SHALADARPAN!A973","v":0},{"$f":"SHALADARPAN!B973","v":0},{"$f":"SHALADARPAN!K973","v":0},{"$f":"SHALADARPAN!E973","v":0},{"$f":"SHALADARPAN!G973","v":0}]
[{"$nulls":20},{"$f":"SHALADARPAN!A974","v":0},{"$f":"SHALADARPAN!B974","v":0},{"$f":"SHALADARPAN!K974","v":0},{"$f":"SHALADARPAN!E974","v":0},{"$f":"SHALADARPAN!G974","v":0}]
[{"$nulls":20},{"$f":"SHALADARPAN!A975","v":0},{"$f":"SHALADARPAN!B975","v":0},{"$f":"SHALADARPAN!K975","v":0},{"$f":"SHALADARPAN!E975","v":0},{"$f":"SHALADARPAN!G975","v":0}]
[{"$nulls":20},{"$f":"SHALADARPAN!A976","v":0},{"$f":"SHALADARPAN!B976","v":0},{"$f":"SHALADARPAN!K976","v":0},{"$f":"SHALADARPAN!E976","v":0},{"$f":"SHALADARPAN!G976","v":0}]
[{"$nulls":20},{"$f":"SHALADARPAN!A977","v":0},{"$f":"SHALADARPAN!B977","v":0},{"$f":"SHALADARPAN!K977","v":0},{"$f":"SHALADARPAN!E977","v":0},{"$f":"SHALADARPAN!G977","v":0}]
[{"$nulls":20},{"$f":"SHALADARPAN!A978","v":0},{"$f":"SHALADARPAN!B978","v":0},{"$f":"SHALADARPAN!K978","v":0},{"$f":"SHALADARPAN!E978","v":0},{"$f":"SHALADARPAN!G978","v":0}]
[{"$nulls":20},{"$f":"SHALADARPAN!A979","v":0},{"$f":"SHALADARPAN!B979","v":0},{"$f":"SHALADARPAN!K979","v":0},{"$f":"SHALADARPAN!E979","v":0},{"$f":"SHALADARPAN!G979","v":0}]
[{"$nulls":20},{"$f":"SHALADARPAN!A980","v":0},{"$f":"SHALADARPAN!B980","v":0},{"$f":"SHALADARPAN!K980","v":0},{"$f":"SHALADARPAN!E980","v":0},{"$f":"SHALADARPAN!G980","v":0}]
[{"$nulls":20},{"$f":"SHALADARPAN!A981","v":0},{"$f":"SHALADARPAN!B981","v":0},{"$f":"SHALADARPAN!K981","v":0},{"$f":"SHALADARPAN!E981","v":0},{"$f":"SHALADARPAN!G981","v":0}]
[{"$nulls":20},{"$f":"SHALADARPAN!A982","v":0},{"$f":"SHALADARPAN!B982","v":0},{"$f":"SHALADARPAN!K982","v":0},{"$f":"SHALADARPAN!E982","v":0},{"$f":"SHALADARPAN!G982","v":0}]
[{"$nulls":20},{"$f":"SHALADARPAN!A983","v":0},{"$f":"SHALADARPAN!B983","v":0},{"$f":"SHALADARPAN!K983","v":0},{"$f":"SHALADARPAN!E983","v":0},{"$f":"SHALADARPAN!G983","v":0}]
[{"$nulls":20},{"$f":"SHALADARPAN!A984","v":0},{"$f":"SHALADARPAN!B984","v":0},{"$f":"SHALADARPAN!K984","v":0},{"$f":"SHALADARPAN!E984","v":0},{"$f":"SHALADARPAN!G984","v":0}]
[{"$nulls":20},{"$f":"SHALADARPAN!A985","v":0},{"$f":"SHALADARPAN!B985","v":0},{"$f":"SHALADARPAN!K985","v":0},{"$f":"SHALADARPAN!E985","v":0},{"$f":"SHALADARPAN!G985","v":0}]
[{"$nulls":20},{"$f":"SHALADARPAN!A986","v":0},{"$f":"SHALADARPAN!B986","v":0},{"$f":"SHALADARPAN!K986","v":0},{"$f":"SHALADARPAN!E986","v":0},{"$f":"SHALADARPAN!G986","v":0}]
[{"$nulls":20},{"$f":"SHALADARPAN!A987","v":0},{"$f":"SHALADARPAN!B987","v":0},{"$f":"SHALADARPAN!K987","v":0},{"$f":"SHALADARPAN!E987","v":0},{"$f":"SHALADARPAN!G987","v":0}]
[{"$nulls":20},{"$f":"SHALADARPAN!A988","v":0},{"$f":"SHALADARPAN!B988","v":0},{"$f":"SHALADARPAN!K988","v":0},{"$f":"SHALADARPAN!E988","v":0},{"$f":"SHALADARPAN!G988","v":0}]
[{"$nulls":20},{"$f":"SHALADARPAN!A989","v":0},{"$f":"SHALADARPAN!B989","v":0},{"$f":"SHALADARPAN!K989","v":0},{"$f":"SHALADARPAN!E989","v":0},{"$f":"SHALADARPAN!G989","v":0}]
[{"$nulls":20},{"$f":"SHALADARPAN!A990","v":0},{"$f":"SHALADARPAN!B990","v":0},{"$f":"SHALADARPAN!K990","v":0},{"$f":"SHALADARPAN!E990","v":0},{"$f":"SHALADARPAN!G990","v":0}]

{"sheet":"Sheet1","index":6,"n_rows":0,"n_cols":0,"rows_kept":0}