{"text_format":"3","workbook":"xlsx","n_sheets":13,"sheets":["Profile","rrr 08","rrr 09","rrr10","P1","P3","L-1-2","retierment","FIX PAY","CHALAN","bank ac SCHOOL","R01","Sheet1"],"not_rendered":{"defined_names":8,"comments":2},"read":"whole","date_system":"1900"}

{"sheet":"Profile","index":0,"n_rows":132,"n_cols":38,"rows_kept":132,"merged":[[0,0,0,1],[0,2,0,8],[1,2,1,4],[2,0,2,1],[2,2,2,4],[3,0,3,1],[3,6,3,7],[4,0,4,1],[5,6,5,7],[6,2,6,4],[6,5,6,6],[7,5,7,6],[8,2,8,3],[8,5,8,6],[9,2,9,3],[9,5,9,6],[10,2,10,3],[11,2,11,3],[12,1,12,4],[12,5,13,5],[12,6,13,6],[12,7,13,7],[12,8,13,8],[12,9,13,9],[12,10,13,10],[12,11,13,11],[20,2,20,4],[20,5,20,7],[20,8,20,9],[20,10,20,11],[20,13,21,13],[20,14,21,14],[20,15,21,15],[20,16,21,16],[20,35,21,35],[20,36,21,36],[20,37,21,37],[33,0,33,1],[34,0,34,4],[34,13,34,14],[35,0,35,2],[35,3,35,6],[35,14,35,15],[36,0,36,17],[37,0,38,0],[37,1,38,1],[37,2,38,3],[37,4,38,4],[37,5,38,5],[37,6,38,6],[37,7,37,8],[37,9,38,9],[37,10,38,10],[37,11,37,12],[37,13,38,13],[37,14,38,14],[37,15,38,15],[37,17,37,21],[38,7,38,8],[101,1,101,7],[102,1,102,7],[103,1,103,7],[104,1,104,7],[104,8,104,12],[104,17,106,17],[105,1,105,7],[105,8,105,12],[106,1,106,7],[106,8,106,12],[107,1,107,7],[107,8,107,12],[108,1,108,7],[108,8,108,12],[109,1,109,7],[109,8,109,12],[110,1,110,7],[110,8,110,12],[111,1,111,7],[111,8,111,12],[112,1,112,7],[112,8,112,12],[113,1,113,7],[113,8,113,12],[114,1,114,7],[114,8,114,12],[115,1,115,7],[115,8,115,12],[116,1,116,7],[116,8,116,12],[117,1,117,7],[117,8,117,12]]}
["dk;kZy;&",null,"15tSM Jhxaxkuxj"]
["eksgj&",null,"Budget Estemate",null,null,"foHkkx dk uke","f'k{kk foHkkx"]
["ihbZbZvks 10tSM ,oa iz/kkukpk;Z",null,"2202-02-109-27-01",null,null,"vkWfQl vkbZMh","uke MhMhvks",null,"uEcj"]
["jktdh; mPp ek/;fed fo|ky;",{"$nulls":4},2405,"izHkkr 'kekZ",null,1234567890]
["15tSM Jhxaxkuxj",null,null,"ctV o\"kZ","2023&2024",null,"rS;kj drkZ "]
["ctV en        eq[; 'kh\"kZ",{"$nulls":5},"lqfer fxjh",null,1234567890]
[null,null,"UnProtect All Worksheet PASSWORD -   sumit",null,null,"onhZ HkRrk iq:\"k dkfeZd la[;k",null,{"v":0,"d":"00"},null,1650,{"$f":"J7*H7","v":0},{"$f":"K7+K8","v":1950}]
[{"$nulls":5},"onhZ HkRrk efgyk dkfeZd la[;k",null,{"v":1,"d":"01"},null,1950,{"$f":"J8*H8","v":1950}]
["vkxkeh osru o`f} fnukad",null,"2023-07-01",null,null,"cksul dkfeZdks dh la[;k",null,{"v":8,"d":"08"}]
["Ldhe dk uke",null,"LVsV Q.M",null,null,"dSf'k;j HkRrk dkfeZd dh la[;k",null,{"v":0,"d":"00"}]
["ekax la[;k",null,24]
["ctV Lohd`fr esa fo|ky; dh Ø-la-",null,25,null,"Arear Month",{"v":2,"d":"02"},"egaxkbZ HkÙkk nj",{"v":0.34,"d":"34%"},"DA Arr.",{"v":0,"d":"0%"},"HRA",{"v":0.09,"d":"9%"}]
["xr rhu o\"ksksZa ds vk; ,oa O;; dk fooj.k","gsM",{"$nulls":3},"2019-20","2020-21","2021-22","08/21 to 03/22","04/22 to 07/22","la'kksf/kr vuqeku 08@2022 ls 03@2023","vk; vuqeku 2023&2024"]
["vk;"]
["f'k{k.k 'kqYd","0202&02",102,{"v":1,"d":"01"},{"v":0,"d":"00"},0,0,0,0,0,0,0]
["Vh-lh-","0202&02",{"$nulls":3},85,95,50,0,45,15,60]
["izos'k 'kqYd","0202&02",{"$nulls":3},50,70,40,0,30,10,50]
["vuqi;ksxh lkeku ds fuLrkj.k ls vk;","0202&02"]
["fofo/k","0202&02"]
["vU;","0202&02",{"$nulls":5},5]
["O;;",null,"Lohd`r ctV 2022&2023",null,null,"[kpksZa dk fooj.k",null,null," O;; 08@21 ls 03@22",null," O;; 04@22 ls 07@22",null,null,"lEHkkfor O;; ","vk; vuqeku 2023&2024","08/21 to 03/22","04/22 to 07/22",{"$nulls":18},"dqy ;ksx","la'kksf/kr vuqeku ¼pkyw o\"kZ½ ","vk;&O;; vuqeku ¼vkxkeh o\"kZ½ "]
["en","lc gsM","dqy ;ksx","jkT; fuf/k","dsUnzh; lgk;rk","2019-20","2020-21","21&22 esa ekpZ2022 dk th-,-19","jkT; fuf/k","dsUnzh; lgk;rk","jkT; fuf/k","dsUnzh; lgk;rk"]
["laosru",{"v":1,"d":"01"},{"$f":"SUM(D23+E23)","v":2500000},2500000,0,5555511,6303330,7837900,5559492,0,1500000,0,null,{"$f":"$O$114","v":1805740},{"$f":"N114","v":1858870},{"$f":"I23+J23","v":5559492},{"$f":"K23+L23","v":1500000},{"$nulls":18},{"$f":"SUM(Q23+N23)","v":3305740},{"$f":"$O$114","v":1805740},{"$f":"$N$114","v":1858870}]
[";k=k O;;",{"v":3,"d":"03"},{"$f":"SUM(D24+E24)","v":0},0,0,0,30000,22910,22910,0,0,0,null,{"$f":"AK24","v":0},{"$f":"AL24","v":0},22910,0,{"$nulls":18},0,0,0]
["fpfdRlk O;;",{"v":4,"d":"04"},0,0,0,0,0,0,0,0,0,0,null,{"$f":"AK25","v":0},{"$f":"AL25","v":0},0,0,{"$nulls":18},0,0,0]
["dk;kZy; O;;",{"v":5,"d":"05"},0,0,0,0,0,0,0,0,0,0,null,0,0,0,0,{"$nulls":18},0,0,0]
["fdjk;k dj jk;fYV",{"v":9,"d":"09"},0,0,0,0,0,0,0,0,0,0,null,0,0,0,0,{"$nulls":18},0,0,0]
["e'khujh lkt lkeku",20,0,0,0,0,0,0,0,0,0,0,null,0,0,0,0,{"$nulls":18},0,0,0]
["iqLrdky;",31,0,0,0,0,0,0,0,0,0,0,null,0,0,0,0,{"$nulls":18},0,0,0]
["iz;ksx'kkyk",33,0,0,0,0,0,0,0,0,0,0,null,0,0,0,0,{"$nulls":18},0,0,0]
["ofnZ;ka",37,0,0,0,3600,3600,1950,1950,0,0,0,null,1950,1950,1950,0,{"$nulls":18},1950,{"$f":"$L$7","v":1950},{"$f":"$L$7","v":1950}]
["vU; izHkkj",28,0,0,0,0,0,0,0,0,0,0,null,0,0,0,0,{"$nulls":18},0,0,0]
["foHkkxh;lsokvksa ij fof'k\"V O;;",57,0,0,0,0,0,0,0,0,0,0,null,0,0,0,0,{"$nulls":18},0,0,0]
[";ksx ",null,{"$f":"SUM(C23:C33)","v":2500000},{"$f":"SUM(D23:D33)","v":2500000},0,5559111,6336930,7862760,5584352,0,1500000,0,{"$nulls":24},{"$f":"SUM(AK23:AK33)","v":1807690},1860820]
["o\"kZ 2021&2022 ds fy, jsUt ds vuqlkj laosru dh jkf'k ",{"$nulls":4},"OID",{"$f":"$F$4","v":2405},{"$nulls":6},"BE 2021-2022"]
["dk;kZy; %&",null,null,{"$f":"$C$1","v":"15tSM Jhxaxkuxj"},{"$nulls":3},{"$f":"$C$3","v":"2202-02-109-27-01"},null,null,{"$f":"$C$10","v":"LVsV Q.M"},null,{"$f":"$E$5","v":"2023&2024"},null,"RE 2020-2021"]
[]
["ys[kk 'kh\"kZd ¼foLr`r 'kh\"kZ½","Øe la[;k","dkfeZd dk uke",null,"deZpkjh vkbZ Mh","thih,Q@,uih,l uEcj","in","in dk Lohd`r osru",null,"ctV dh izkjfEHkd frfFk ;kfu 1ekpZ2022 dks deZpkjh dk osru","igyh ekpZ ls vfUre Qjojh ds fy;s fu/kkZfjr jde","o`f) tks bl vof/k esa gksxh",null,"vkxkeh o\"kZ 2023&24 ds fy;s jde ¼dkye 8$10½","pkyw o\"kZ ds fy;s la'kksf/kr vuqeku 2022&23","fo'ks\"k fooj.k",null,"vkxkeh  osru o`f) fnukad"]
[{"$nulls":7},"xzsM is@ ysoy",{"$nulls":3},"frfFk o`f)","jde o`f)",{"$nulls":4},{"$f":"$C$9","v":"2023-07-01"}]
[]
[]
[]
[null,1,null,2,3,14,4,5,6,7,8,9,10,11,12,13]
["jktif=r",1,"Jh ","lqfer fxjh",null,null,"iz/kkukpk;Z","ysoy",16,40300,{"$f":"J44*12","v":483600},{"$f":"R39","v":"2023-07-01"},{"$f":"P44*8","v":9600},{"$f":"K44+M44","v":493200},{"$f":"N44-P44*12","v":478800},{"$f":"S44","v":1200},null,null,{"$f":"ROUND(T44,-2)","v":1200},{"$f":"J44*3/100","v":{"v":1209,"d":"1209.00"}},null,{"$f":"Y44-X44","v":40284},{"$f":"IF(R39>=DATE(2017,7,1),CEILING(Y44*3%,10)+V44,V44)","v":41494},{"$f":"I44","v":16},{"$f":"J44","v":40300},{"$f":"SUM(W44:X44)","v":41510},{"$f":"Z44-Y44","v":1210},null,{"$f":"J44","v":40300},{"$f":"AC44*3/100","v":{"v":1209,"d":"1209.00"}},{"$f":"ROUNDUP(AD44,-1)","v":{"v":1210,"d":"1210.00"}},{"$f":"AC44+AE44","v":41510},null,null,{"$f":"AF44-J44","v":1210}]
["jktif=r",1,{"$nulls":4},"O;k[;krk","ysoy",16,59500,{"$f":"J45*12","v":714000},{"$f":"L44","v":"2023-07-01"},{"$f":"P45*8","v":14400},{"$f":"K45+M45","v":728400},{"$f":"N45-P45*12","v":706800},{"$f":"S45","v":1800},null,null,{"$f":"ROUND(T45,-2)","v":1800},{"$f":"J45*3/100","v":{"v":1785,"d":"1785.00"}},null,{"$f":"Y45-X45","v":59484},{"$f":"IF(R39>=DATE(2017,7,1),CEILING(Y45*3%,10)+V45,V45)","v":61274},{"$f":"I45","v":16},{"$f":"J45","v":59500},{"$f":"SUM(W45:X45)","v":61290},{"$f":"Z45-Y45","v":1790},null,{"$f":"J45","v":59500},{"$f":"AC45*3/100","v":{"v":1785,"d":"1785.00"}},{"$f":"ROUNDUP(AD45,-1)","v":1790},{"$f":"AC45+AE45","v":61290},null,null,{"$f":"AF45-J45","v":1790}]
["jktif=r",2,{"$nulls":4},"O;k[;krk","ysoy",16,0,0,{"$f":"L44","v":"2023-07-01"},0,0,{"$f":"N46-P46*12","v":0},0,null,null,0,{"v":0,"d":"0.00"},null,-16,{"$f":"IF(R39>=DATE(2017,7,1),CEILING(Y46*3%,10)+V46,V46)","v":-16},16,0,0,0,null,0,{"v":0,"d":"0.00"},0,0,null,null,0]
["jktif=r",3,{"$nulls":4},"O;k[;krk","ysoy",16,0,0,{"$f":"L46","v":"2023-07-01"},{"$f":"P47*8","v":0},{"$f":"K47+M47","v":0},0,0,null,null,0,{"v":0,"d":"0.00"},null,-16,{"$f":"IF(R39>=DATE(2017,7,1),CEILING(Y47*3%,10)+V47,V47)","v":-16},16,0,0,0,null,0,{"v":0,"d":"0.00"},0,0,null,null,0]
["jktif=r",4,{"$nulls":4},"O;k[;krk","ysoy",16,0,0,{"$f":"L46","v":"2023-07-01"},0,0,0,0,null,null,0,{"v":0,"d":"0.00"},null,-16,{"$f":"IF(R39>=DATE(2017,7,1),CEILING(Y48*3%,10)+V48,V48)","v":-16},16,0,0,{"$f":"Z48-Y48","v":0},null,0,{"v":0,"d":"0.00"},0,0,null,null,0]
["jktif=r",5,{"$nulls":4},"O;k[;krk","ysoy",6,0,0,{"$f":"L48","v":"2023-07-01"},0,0,0,0,null,null,0,{"v":0,"d":"0.00"},null,-6,{"$f":"IF(R39>=DATE(2017,7,1),CEILING(Y49*3%,10)+V49,V49)","v":-6},6,{"$f":"J49","v":0},{"$f":"SUM(W49:X49)","v":0},0,null,0,{"v":0,"d":"0.00"},0,0,null,null,0]
["jktif=r",6,{"$nulls":4},"O;k[;krk","ysoy",7,0,0,{"$f":"L48","v":"2023-07-01"},0,0,0,0,null,null,0,{"v":0,"d":"0.00"},null,{"$f":"Y50-X50","v":-7},{"$f":"IF(R39>=DATE(2017,7,1),CEILING(Y50*3%,10)+V50,V50)","v":-7},{"$f":"I50","v":7},0,0,0,null,0,{"v":0,"d":"0.00"},0,0,null,null,0]
["jktif=r",7,{"$nulls":4},"O;k[;krk","ysoy",8,0,{"$f":"J51*12","v":0},"2023-07-01",{"$f":"P51*8","v":0},{"$f":"K51+M51","v":0},{"$f":"N51-P51*12","v":0},{"$f":"S51","v":0},null,null,{"$f":"ROUND(T51,-2)","v":0},{"$f":"J51*3/100","v":{"v":0,"d":"0.00"}},null,{"$f":"Y51-X51","v":-8},{"$f":"IF(R40>=DATE(2017,7,1),CEILING(Y51*3%,10)+V51,V51)","v":-8},{"$f":"I51","v":8},{"$f":"J51","v":0},{"$f":"SUM(W51:X51)","v":0},{"$f":"Z51-Y51","v":0},null,{"$f":"J51","v":0},{"$f":"AC51*3/100","v":{"v":0,"d":"0.00"}},{"$f":"ROUNDUP(AD51,-1)","v":0},{"$f":"AC51+AE51","v":0},null,null,{"$f":"AF51-J51","v":0}]
["jktif=r",8,{"$nulls":4},"O;k[;krk","ysoy",9,0,0,"2023-07-01",0,0,0,0,null,null,0,{"v":0,"d":"0.00"},null,-9,-9,9,0,0,0,null,0,{"v":0,"d":"0.00"},0,0,null,null,0]
["jktif=r",9,{"$nulls":4},"O;k[;krk","ysoy",10,0,0,"2023-07-01",0,0,0,0,null,null,0,{"v":0,"d":"0.00"},null,-10,-10,10,0,0,0,null,0,{"v":0,"d":"0.00"},0,0,null,null,0]
["jktif=r",10,{"$nulls":4},"O;k[;krk","ysoy",11,0,0,"2023-07-01",0,0,0,0,null,null,0,{"v":0,"d":"0.00"},null,-11,-11,11,0,0,0,null,0,{"v":0,"d":"0.00"},0,0,null,null,0]
["jktif=r",11,{"$nulls":4},"O;k[;krk","ysoy",12,0,0,"2023-07-01",0,0,0,0,null,null,0,{"v":0,"d":"0.00"},null,-12,-12,12,0,0,0,null,0,{"v":0,"d":"0.00"},0,0,null,null,0]
["jktif=r",12,{"$nulls":4},"O;k[;krk","ysoy",13,0,0,"2023-07-01",0,0,0,0,null,null,0,{"v":0,"d":"0.00"},null,-13,-13,13,0,0,0,null,0,{"v":0,"d":"0.00"},0,0,null,null,0]
["jktif=r",13,{"$nulls":4},"O;k[;krk","ysoy",14,0,0,"2023-07-01",0,0,0,0,null,null,0,{"v":0,"d":"0.00"},null,-14,-14,14,0,0,0,null,0,{"v":0,"d":"0.00"},0,0,null,null,0]
["jktif=r",14,{"$nulls":4},"O;k[;krk","ysoy",15,0,0,"2023-07-01",0,0,0,0,null,null,0,{"v":0,"d":"0.00"},null,-15,-15,15,0,0,0,null,0,{"v":0,"d":"0.00"},0,0,null,null,0]
["jktif=r",15,{"$nulls":4},"O;k[;krk","ysoy",16,0,0,"2023-07-01",0,0,0,0,null,null,0,{"v":0,"d":"0.00"},null,-16,-16,16,0,0,0,null,0,{"v":0,"d":"0.00"},0,0,null,null,0]
["jktif=r",16,{"$nulls":4},"O;k[;krk","ysoy",17,0,0,"2023-07-01",0,0,0,0,null,null,0,{"v":0,"d":"0.00"},null,-17,-17,17,0,0,0,null,0,{"v":0,"d":"0.00"},0,0,null,null,0]
["jktif=r",17,{"$nulls":4},"O;k[;krk","ysoy",18,0,0,"2023-07-01",0,0,0,0,null,null,0,{"v":0,"d":"0.00"},null,-18,-18,18,0,0,0,null,0,{"v":0,"d":"0.00"},0,0,null,null,0]
["jktif=r",18,{"$nulls":4},"O;k[;krk","ysoy",19,0,0,"2023-07-01",0,0,0,0,null,null,0,{"v":0,"d":"0.00"},null,-19,-19,19,0,0,0,null,0,{"v":0,"d":"0.00"},0,0,null,null,0]
["jktif=r",19,{"$nulls":4},"O;k[;krk","ysoy",20,0,0,"2023-07-01",0,0,0,0,null,null,0,{"v":0,"d":"0.00"},null,-20,-20,20,0,0,0,null,0,{"v":0,"d":"0.00"},0,0,null,null,0]
["jktif=r",20,{"$nulls":4},"O;k[;krk","ysoy",21,0,0,"2023-07-01",0,0,0,0,null,null,0,{"v":0,"d":"0.00"},null,-21,-21,21,0,0,0,null,0,{"v":0,"d":"0.00"},0,0,null,null,0]
["jktif=r",21,{"$nulls":4},"O;k[;krk","ysoy",22,0,0,"2023-07-01",0,0,0,0,null,null,0,{"v":0,"d":"0.00"},null,-22,-22,22,0,0,0,null,0,{"v":0,"d":"0.00"},0,0,null,null,0]
["vjktif=r",1,"Jherh","eUtq ukxiky","RJGA200535013285",110061722142,"ofj\"B v/;kid","ysoy",11,0,0,{"$f":"L50","v":"2023-07-01"},{"$f":"P66*8","v":0},{"$f":"K66+M66","v":0},{"$f":"N66-P66*12","v":0},0,null,null,0,{"v":0,"d":"0.00"},null,-11,{"$f":"IF(R39>=DATE(2017,7,1),CEILING(Y66*3%,10)+V66,V66)","v":-11},11,0,0,0,null,0,{"v":0,"d":"0.00"},0,0,null,null,0]
["vjktif=r",2,"Jherh","dkS'kY;k","RJGA201435027389",110191483960,"ofj\"B v/;kid","ysoy",11,0,0,{"$f":"L66","v":"2023-07-01"},0,0,0,0,null,null,0,{"v":0,"d":"0.00"},null,-11,{"$f":"IF(R39>=DATE(2017,7,1),CEILING(Y67*3%,10)+V67,V67)","v":-11},11,0,0,0,null,0,{"v":0,"d":"0.00"},0,0,null,null,0]
["vjktif=r",3,{"$nulls":4},"ofj\"B v/;kid","ysoy",11,0,0,"2023-07-01",0,0,0,0,null,null,0,{"v":0,"d":"0.00"},null,-11,{"$f":"IF(R39>=DATE(2017,7,1),CEILING(Y68*3%,10)+V68,V68)","v":-11},11,0,0,0,null,0,{"v":0,"d":"0.00"},0,0,null,null,0]
["vjktif=r",4,{"$nulls":4},"ofj\"B v/;kid","ysoy",11,0,0,"2023-07-01",0,0,0,0,null,null,0,{"v":0,"d":"0.00"},null,{"$f":"Y69-X69","v":-11},{"$f":"IF(R39>=DATE(2017,7,1),CEILING(Y69*3%,10)+V69,V69)","v":-11},11,0,{"$f":"SUM(W69:X69)","v":0},0,null,0,{"v":0,"d":"0.00"},0,0,null,null,0]
["vjktif=r",5,{"$nulls":4},"ofj\"B v/;kid","ysoy",11,0,0,"2023-07-01",0,0,0,0,null,null,0,{"v":0,"d":"0.00"},null,{"$f":"Y70-X70","v":-11},{"$f":"IF(R39>=DATE(2017,7,1),CEILING(Y70*3%,10)+V70,V70)","v":-11},11,0,{"$f":"SUM(W70:X70)","v":0},0,null,0,{"v":0,"d":"0.00"},0,0,null,null,0]
["vjktif=r",6,{"$nulls":4},"ofj\"B v/;kid","ysoy",11,0,0,"2023-07-01",0,0,0,0,null,null,0,{"v":0,"d":"0.00"},null,{"$f":"Y71-X71","v":-11},{"$f":"IF(R39>=DATE(2017,7,1),CEILING(Y71*3%,10)+V71,V71)","v":-11},11,0,{"$f":"SUM(W71:X71)","v":0},0,null,0,{"v":0,"d":"0.00"},0,0,null,null,0]
["vjktif=r",7,{"$nulls":4},"ofj\"B v/;kid","ysoy",11,0,{"$f":"J72*12","v":0},"2023-07-01",{"$f":"P72*8","v":0},{"$f":"K72+M72","v":0},{"$f":"N72-P72*12","v":0},{"$f":"S72","v":0},null,null,{"$f":"ROUND(T72,-2)","v":0},{"$f":"J72*3/100","v":{"v":0,"d":"0.00"}},null,{"$f":"Y72-X72","v":-11},{"$f":"IF(R40>=DATE(2017,7,1),CEILING(Y72*3%,10)+V72,V72)","v":-11},{"$f":"I72","v":11},{"$f":"J72","v":0},{"$f":"SUM(W72:X72)","v":0},{"$f":"Z72-Y72","v":0},null,{"$f":"J72","v":0},{"$f":"AC72*3/100","v":{"v":0,"d":"0.00"}},{"$f":"ROUNDUP(AD72,-1)","v":0},{"$f":"AC72+AE72","v":0},null,null,{"$f":"AF72-J72","v":0}]
["vjktif=r",8,{"$nulls":4},"ofj\"B v/;kid","ysoy",11,0,0,"2023-07-01",0,0,0,0,null,null,0,{"v":0,"d":"0.00"},null,-11,-11,11,0,0,0,null,0,{"v":0,"d":"0.00"},0,0,null,null,0]
["vjktif=r",9,{"$nulls":4},"ofj\"B v/;kid","ysoy",11,0,0,"2023-07-01",0,0,0,0,null,null,0,{"v":0,"d":"0.00"},null,-11,-11,11,0,0,0,null,0,{"v":0,"d":"0.00"},0,0,null,null,0]
["vjktif=r",10,{"$nulls":4},"ofj\"B v/;kid","ysoy",11,0,0,"2023-07-01",0,0,0,0,null,null,0,{"v":0,"d":"0.00"},null,-11,-11,11,0,0,0,null,0,{"v":0,"d":"0.00"},0,0,null,null,0]
["vjktif=r",11,{"$nulls":4},"ofj\"B v/;kid","ysoy",11,0,0,"2023-07-01",0,0,0,0,null,null,0,{"v":0,"d":"0.00"},null,-11,-11,11,0,0,0,null,0,{"v":0,"d":"0.00"},0,0,null,null,0]
["vjktif=r",12,{"$nulls":4},"ofj\"B v/;kid","ysoy",11,0,0,"2023-07-01",0,0,0,0,null,null,0,{"v":0,"d":"0.00"},null,-11,-11,11,0,0,0,null,0,{"v":0,"d":"0.00"},0,0,null,null,0]
["vjktif=r",13,{"$nulls":4},"ofj\"B v/;kid","ysoy",11,0,0,"2023-07-01",0,0,0,0,null,null,0,{"v":0,"d":"0.00"},null,-11,-11,11,0,0,0,null,0,{"v":0,"d":"0.00"},0,0,null,null,0]
["vjktif=r",14,{"$nulls":4},"ofj\"B v/;kid","ysoy",11,0,0,"2023-07-01",0,0,0,0,null,null,0,{"v":0,"d":"0.00"},null,-11,-11,11,0,0,0,null,0,{"v":0,"d":"0.00"},0,0,null,null,0]
["vjktif=r",15,{"$nulls":4},"ofj\"B v/;kid","ysoy",11,0,0,"2023-07-01",0,0,0,0,null,null,0,{"v":0,"d":"0.00"},null,-11,-11,11,0,0,0,null,0,{"v":0,"d":"0.00"},0,0,null,null,0]
["vjktif=r",16,{"$nulls":4},"ofj\"B v/;kid","ysoy",11,0,0,"2023-07-01",0,0,0,0,null,null,0,{"v":0,"d":"0.00"},null,-11,-11,11,0,0,0,null,0,{"v":0,"d":"0.00"},0,0,null,null,0]
["vjktif=r",17,{"$nulls":4},"ofj\"B v/;kid","ysoy",11,0,0,"2023-07-01",0,0,0,0,null,null,0,{"v":0,"d":"0.00"},null,-11,-11,11,0,0,0,null,0,{"v":0,"d":"0.00"},0,0,null,null,0]
["vjktif=r",18,{"$nulls":4},"ofj\"B v/;kid","ysoy",11,0,0,"2023-07-01",0,0,0,0,null,null,0,{"v":0,"d":"0.00"},null,-11,-11,11,0,0,0,null,0,{"v":0,"d":"0.00"},0,0,null,null,0]
["vjktif=r",19,{"$nulls":4},"ofj\"B v/;kid","ysoy",11,0,0,"2023-07-01",0,0,0,0,null,null,0,{"v":0,"d":"0.00"},null,-11,-11,11,0,0,0,null,0,{"v":0,"d":"0.00"},0,0,null,null,0]
["vjktif=r",20,{"$nulls":4},"ofj\"B v/;kid","ysoy",11,0,0,"2023-07-01",0,0,0,0,null,null,0,{"v":0,"d":"0.00"},null,-11,-11,11,0,0,0,null,0,{"v":0,"d":"0.00"},0,0,null,null,0]
["vjktif=r",21,{"$nulls":4},"ofj\"B v/;kid","ysoy",11,0,0,"2023-07-01",0,0,0,0,null,null,0,{"v":0,"d":"0.00"},null,-11,-11,11,0,0,0,null,0,{"v":0,"d":"0.00"},0,0,null,null,0]
["vjktif=r",22,{"$nulls":4},"ofj\"B v/;kid","ysoy",11,0,0,"2023-07-01",0,0,0,0,null,null,0,{"v":0,"d":"0.00"},null,-11,-11,11,0,0,0,null,0,{"v":0,"d":"0.00"},0,0,null,null,0]
["vjktif=r",1,"Jh","nsosUnz dqekj lqFkkj","RJBI200509033977",110041738889,"v/;kid&2","ysoy",10,0,0,{"$f":"L71","v":"2023-07-01"},0,0,0,0,null,null,0,{"v":0,"d":"0.00"},null,{"$f":"Y88-X88","v":-10},{"$f":"IF(R39>=DATE(2017,7,1),CEILING(Y88*3%,10)+V88,V88)","v":-10},10,0,{"$f":"SUM(W88:X88)","v":0},{"$f":"Z88-Y88","v":0},null,0,{"v":0,"d":"0.00"},0,0,null,null,0]
["vjktif=r",2,"Jh ","euftUnz flag",null,null,"v/;kid&2","ysoy",10,0,{"$f":"J89*12","v":0},"2023-07-01",{"$f":"P89*8","v":0},{"$f":"K89+M89","v":0},{"$f":"N89-P89*12","v":0},0,null,null,0,{"v":0,"d":"0.00"},null,{"$f":"Y89-X89","v":-10},{"$f":"IF(R39>=DATE(2017,7,1),CEILING(Y89*3%,10)+V89,V89)","v":-10},{"$f":"I89","v":10},{"$f":"J89","v":0},{"$f":"SUM(W89:X89)","v":0},{"$f":"Z89-Y89","v":0},null,{"$f":"J89","v":0},{"$f":"AC89*3/100","v":{"v":0,"d":"0.00"}},{"$f":"ROUNDUP(AD89,-1)","v":0},{"$f":"AC89+AE89","v":0},null,null,{"$f":"AF89-J89","v":0}]
["vjktif=r",3,"Jherh","jf'e dVkfj;k",null,null,"v/;kid&2","ysoy",10,0,0,"2023-07-01",{"$f":"P90*8","v":0},0,{"$f":"N90-P90*12","v":0},0,null,null,0,{"v":0,"d":"0.00"},null,-10,{"$f":"IF(R39>=DATE(2017,7,1),CEILING(Y90*3%,10)+V90,V90)","v":-10},10,0,0,0,null,0,{"v":0,"d":"0.00"},0,0,null,null,0]
["vjktif=r",4,"Jherh","js[kk jkuh",null,null,"v/;kid&1","ysoy",10,0,{"$f":"J91*12","v":0},"2023-07-01",{"$f":"P91*8","v":0},{"$f":"K91+M91","v":0},{"$f":"N91-P91*12","v":0},0,null,null,0,{"v":0,"d":"0.00"},null,{"$f":"Y91-X91","v":-10},{"$f":"IF(R39>=DATE(2017,7,1),CEILING(Y91*3%,10)+V91,V91)","v":-10},{"$f":"I91","v":10},{"$f":"J91","v":0},{"$f":"SUM(W91:X91)","v":0},{"$f":"Z91-Y91","v":0},null,{"$f":"J91","v":0},{"$f":"AC91*3/100","v":{"v":0,"d":"0.00"}},{"$f":"ROUNDUP(AD91,-1)","v":0},{"$f":"AC91+AE91","v":0},null,null,{"$f":"AF91-J91","v":0}]
["vjktif=r",5,"Jherh","lqq\"kek jkuh",null,null,"v/;kid&1","ysoy",10,0,0,"2023-07-01",0,0,0,0,null,null,0,{"v":0,"d":"0.00"},null,{"$f":"Y92-X92","v":-10},{"$f":"IF(R39>=DATE(2017,7,1),CEILING(Y92*3%,10)+V92,V92)","v":-10},10,0,{"$f":"SUM(W92:X92)","v":0},0,null,0,{"v":0,"d":"0.00"},0,0,null,null,0]
["vjktif=r",6,{"$nulls":4},"v/;kid&1","ysoy",10,0,{"$f":"J93*12","v":0},"2023-07-01",{"$f":"P93*8","v":0},{"$f":"K93+M93","v":0},{"$f":"N93-P93*12","v":0},0,null,null,0,{"v":0,"d":"0.00"},null,{"$f":"Y93-X93","v":-10},{"$f":"IF(R39>=DATE(2017,7,1),CEILING(Y93*3%,10)+V93,V93)","v":-10},{"$f":"I93","v":10},{"$f":"J93","v":0},{"$f":"SUM(W93:X93)","v":0},{"$f":"Z93-Y93","v":0},null,{"$f":"J93","v":0},{"$f":"AC93*3/100","v":{"v":0,"d":"0.00"}},{"$f":"ROUNDUP(AD93,-1)","v":0},{"$f":"AC93+AE93","v":0},null,null,{"$f":"AF93-J93","v":0}]
["vjktif=r",1,"Jh ","iou dqekj xksnkjk",null,null," 'kk-f'k{kd","ysoy",10,0,{"$f":"J94*12","v":0},"2023-07-01",{"$f":"P94*8","v":0},{"$f":"K94+M94","v":0},{"$f":"N94-P94*12","v":0},0,null,null,0,{"v":0,"d":"0.00"},null,{"$f":"Y94-X94","v":-10},{"$f":"IF(R39>=DATE(2017,7,1),CEILING(Y94*3%,10)+V94,V94)","v":-10},{"$f":"I94","v":10},{"$f":"J94","v":0},{"$f":"SUM(W94:X94)","v":0},{"$f":"Z94-Y94","v":0},null,{"$f":"J94","v":0},{"$f":"AC94*3/100","v":{"v":0,"d":"0.00"}},{"$f":"ROUNDUP(AD94,-1)","v":0},{"$f":"AC94+AE94","v":0},null,null,{"$f":"AF94-J94","v":0}]
["vjktif=r",1,{"$nulls":4},"dk;kZy; lgk;d","ysoy",10,0,0,"2023-07-01",0,0,0,0,null,null,0,{"v":0,"d":"0.00"},null,-10,{"$f":"IF(R39>=DATE(2017,7,1),CEILING(Y95*3%,10)+V95,V95)","v":-10},10,0,0,0,null,0,{"v":0,"d":"0.00"},0,0,null,null,0]
["vjktif=r",1,"Jh ","lqfer fxjh",null,null,"ofj\"B fyfid","ysoy",8,0,0,"2023-07-01",0,0,0,0,null,null,0,{"v":0,"d":"0.00"},null,-8,{"$f":"IF(R39>=DATE(2017,7,1),CEILING(Y96*3%,10)+V96,V96)","v":-8},8,0,0,0,null,0,{"v":0,"d":"0.00"},0,0,null,null,0]
["vjktif=r",1,{"$nulls":4},"dfu\"B fyfid","ysoy",5,0,0,"2023-07-01",0,0,0,0,null,null,0,{"v":0,"d":"0.00"},null,-5,{"$f":"IF(R39>=DATE(2017,7,1),CEILING(Y97*3%,10)+V97,V97)","v":-5},5,0,0,0,null,0,{"v":0,"d":"0.00"},0,0,null,null,0]
["vjktif=r",1,"Jherh","y{eh nsoh",null,null,"lgk;d deZpkjh","ysoy",1,0,0,"2023-07-01",0,0,0,0,null,null,0,{"v":0,"d":"0.00"},null,-1,{"$f":"IF(R39>=DATE(2017,7,1),CEILING(Y98*3%,10)+V98,V98)","v":-1},1,0,0,0,null,0,{"v":0,"d":"0.00"},0,0,null,null,0]
["vjktif=r",2,"Jh","cyoUr jk;",null,null,"lgk;d deZpkjh","ysoy",1,0,{"$f":"J99*12","v":0},"2023-07-01",{"$f":"P99*8","v":0},{"$f":"K99+M99","v":0},{"$f":"N99-P99*12","v":0},0,null,null,0,{"v":0,"d":"0.00"},null,{"$f":"Y99-X99","v":-1},{"$f":"IF(R39>=DATE(2017,7,1),CEILING(Y99*3%,10)+V99,V99)","v":-1},{"$f":"I99","v":1},{"$f":"J99","v":0},{"$f":"SUM(W99:X99)","v":0},{"$f":"Z99-Y99","v":0},null,{"$f":"J99","v":0},{"$f":"AC99*3/100","v":{"v":0,"d":"0.00"}},{"$f":"ROUNDUP(AD99,-1)","v":0},{"$f":"AC99+AE99","v":0},null,null,{"$f":"AF99-J99","v":0}]
["vjktif=r",3,null,null," ",null,"lgk;d deZpkjh","ysoy",1,0,0,"2023-07-01",0,0,0,0,null,null,0,{"v":0,"d":"0.00"},null,-1,{"$f":"IF(R39>=DATE(2017,7,1),CEILING(Y100*3%,10)+V100,V100)","v":-1},1,0,0,0,null,0,{"v":0,"d":"0.00"},0,0,null,null,0]
[]
[null,"jktif=r ;ksx",{"$nulls":7},{"$f":"SUM(J44:J65)","v":99800},{"$f":"K44+K45+K46+K47+K48+K49+K50","v":1197600},null,24000,{"$f":"N44+N45+N46+N47+N48+N49+N50","v":1221600},1185600]
[null,"vjktif=r ;ksx",{"$nulls":7},{"$f":"SUM(J66:J100)","v":0},{"$f":"SUM(K66:K100)","v":0},null,{"$f":"M66+M67+M68+M69+M70+M71+M88+M92+M93+M95+M96+M97+M98+M100+M89+M90+M91+M99+M94","v":0},{"$f":"N66+N67+N68+N69+N70+N71+N88+N89+N90+N91+N92+N93+N94+N95+N96+N97+N98+N99+N100","v":0},{"$f":"O66+O67+O68+O69+O70+O71+O88+O89+O90+O91+O92+O93+O94+O95+O96+O97+O98+O99+O100","v":0}]
[null,";ksx jktif=r$vjktif=r ",{"$nulls":7},{"$f":"J102+J103","v":99800},{"$f":"K102+K103","v":1197600},null,{"$f":"M102+M103","v":24000},{"$f":"N102+N103","v":1221600},{"$f":"O102+O103","v":1185600}]
[{"$f":"$H$12","v":{"v":0.34,"d":"34%"}},"egaxkbZ HkRrk 34izfr'kr",{"$nulls":11},{"$f":"ROUND(N104*A105,0)","v":415344},{"$f":"ROUND(O104*A105,0)","v":403104},null,null,"deZpkjh dh la[;k"]
[{"$f":"$L$12","v":{"v":0.09,"d":"9%"}},"edku fdjk;k 9izfr'kr",{"$nulls":11},{"$f":"ROUND(N104*8%,0)","v":97728},{"$f":"ROUND(O104*8%,0)","v":94848}]
[{"$f":"$J$12","v":{"v":0,"d":"0%"}},"egaxkbZ HkRRkk ,sfj;j¼----izfr'kr½",{"$nulls":12},{"$f":"ROUND((O104*A107*F12)/12,0)","v":0}]
[null,"cksul",{"$nulls":11},{"$f":"P108*R108","v":54192},{"$f":"P108*R108","v":54192},6774,null,{"$f":"$H$9","v":{"v":8,"d":"08"}}]
[null,"lefiZr vodk'k",{"$nulls":11},{"$f":"ROUND((N104+N105)/24,0)","v":68206},{"$f":"ROUND((O104+O105)/24,0)","v":66196}]
[null,"dSf'k;j HkRrk",{"$nulls":11},{"$f":"P110*R110*12","v":0},{"$f":"P110*R110*12","v":0},50,null,{"$f":"$H$10","v":{"v":0,"d":"00"}}]
[null,"/kqykbZ HkRrkk",{"$nulls":11},{"$f":"P111*R111*12","v":1800},{"$f":"P111*R111*12","v":1800},150,null,{"$f":"H7+H8","v":{"v":1,"d":"01"}}]
[null,"¼fQDl is½ vU; HkRRkk",{"$nulls":11},{"$f":"$J$132","v":0},{"$f":"$I$132","v":0}]
[null,"dqqy HkRrk ;ksx",{"$nulls":11},{"$f":"SUM(N105+N106+N107+N108+N109+N112+N110+N111)","v":637270},{"$f":"SUM(O105+O106+O107+O108+O109+O112+O111+O110)","v":620140}]
[null,";ksx laosru",{"$nulls":11},{"$f":"N113+N104","v":1858870},{"$f":"O113+O104","v":1805740}]
[null,";k=k HkRrk",{"$nulls":11},{"$f":"O24","v":0},{"$f":"N24","v":0}]
[null,"esfMdy HkRrk",{"$nulls":11},{"$f":"O25","v":0},{"$f":"N25","v":0}]
[null,";ksx ;k=k HkRrk$esfMdy HkRRkk",{"$nulls":11},{"$f":"N115+N116","v":0},{"$f":"O115+O116","v":0}]
[null,"egk;ksx",{"$nulls":11},{"$f":"N114+N117","v":1858870},{"$f":"O114+O117","v":1805740}]
[]
[null,null,"Ø-la-","uke dkfeZd","in uke","tUe frfFk","fu;qfä frfFk","ekfld ekuns;","12 ekg dk ekuns;","vkxkeh o\"kZ es 12 ekg dk ekuns;"]
[null,null,1,2,3,4,5,6,7,8]
[null,null,1,{"$nulls":4},0,{"$f":"H122*12","v":0},{"$f":"H122*12","v":0}]
[null,null,2,"","","","",0,{"$f":"H123*12","v":0},0]
[null,null,3,"","","","",0,0,0]
[null,null,4,"","","","",0,0,0]
[null,null,5,"","","","",0,0,0]
[null,null,6,"","","","",0,0,0]
[null,null,7,"","","","",0,0,0]
[null,null,8,"","","",null,0,0,0]
[null,null,9,"","","","",0,0,0]
[null,null,10,"","","","",0,0,0]
[{"$nulls":4},"TOTAL",{"$nulls":3},{"$f":"SUM(I122:I131)","v":0},{"$f":"SUM(J122:J131)","v":0}]

{"sheet":"rrr 08","index":1,"n_rows":90,"n_cols":16,"rows_kept":90,"merged":[[0,0,0,10],[0,12,0,15],[1,0,1,14],[1,15,2,15],[2,0,2,14],[3,0,3,2],[3,3,3,7],[3,8,3,9],[3,10,3,11],[3,12,4,12],[3,15,4,15],[4,1,4,3],[4,5,4,7],[4,8,4,9],[4,10,4,11],[4,13,4,14],[5,0,6,0],[5,1,6,1],[5,2,6,3],[5,4,6,4],[5,5,6,5],[5,6,5,7],[5,8,6,8],[5,9,6,9],[5,10,5,11],[5,12,6,12],[5,13,6,13],[5,14,6,14],[5,15,6,15],[6,6,6,7],[7,2,7,3],[66,1,66,6],[67,1,67,6],[68,1,68,6],[69,1,69,6],[69,7,69,11],[70,1,70,6],[71,1,71,6],[72,1,72,6],[73,1,73,6],[74,1,74,6],[75,1,75,6],[76,1,76,6],[77,1,77,6],[77,7,77,11],[78,1,78,6],[78,7,78,11],[79,1,79,6],[79,7,79,11],[80,1,80,6],[80,7,80,11],[81,1,81,6],[81,7,81,11],[82,1,82,6],[82,7,82,11],[84,3,84,15],[87,9,87,10],[88,9,88,10]]}
["izi= 8",{"$nulls":10},"ctV gSM",{"$f":"Profile!$C$3","v":"2202-02-109-27-01"}]
["fuf'pr O;;ksa ds foLr`r vuqeku vFkkZr~ vf/kdkfj;ksa o deZpkfj;ksa ds osru vuqeku o\"kZ ¼vizSy ls ekpZ rd½",{"$nulls":14},{"$f":"Profile!$M$36","v":"2023&2024"}]
["¼ctV vuqeku vf/kdkfj;ksa }kjk foHkkxk/;{k dks izLrqr djus gsrq½ ys[kk dk 'kh\"kZ % eq[; 'kh\"kZ@minh?kZ 'kh\"kZ@y?kq'kh\"kZ@mi'kh\"kZ xzqi 'kh\"kZ--------------------vk;kstuk fHkUu@vk;kstuk@dsUnz izofrZr ;kstuk"]
["dk;kZy; %&",null,null,{"$f":"Profile!$D$36","v":"15tSM Jhxaxkuxj"},{"$nulls":4},"foHkkx dk uke %&",null,{"$f":"Profile!$G$2","v":"f'k{kk foHkkx"},null,{"$f":"Profile!$K$36","v":"LVsV Q.M"},"ekax la[;k&",{"$f":"Profile!$C$11","v":24},{"$f":"Profile!$G$35","v":2405}]
[null,"ctV Lohd`fr esa fo|ky; dh Ø-la- %&",null,null,{"$f":"Profile!$C$12","v":25},"dk;kZy; v/;{k MhMhvks uke %&",null,null,{"$f":"Profile!$G$4","v":"izHkkr 'kekZ"},null,{"$f":"Profile!$I$4","v":1234567890},null,null,"j   lgL=ksa esa"]
[null,"Øe la[;k","uke",null,"thih,Q @ ,uih,l uEcj","in","in dk Lohd`r osru",null,{"$f":"Profile!$J$38","v":"ctV dh izkjfEHkd frfFk ;kfu 1ekpZ2022 dks deZpkjh dk osru"},"igyh ekpZ ls vfUre Qjojh ds fy;s fu/kkZfjr jde","o`f) tks bl vof/k esa gksxh",null,{"$f":"Profile!$N$38","v":"vkxkeh o\"kZ 2023&24 ds fy;s jde ¼dkye 8$10½"},{"$f":"Profile!$O$38","v":"pkyw o\"kZ ds fy;s la'kksf/kr vuqeku 2022&23"},"fo'ks\"k fooj.k ¼osru o`f)½","deZpkjh vkbZ Mh"]
[{"$nulls":6},{"$f":"Profile!$H$39","v":"xzsM is@ ysoy"},{"$nulls":3},"frfFk o`f)","jde o`f)"]
[null,1,2,null,3,4,5,6,7,8,9,10,11,12,13,14]
[{"$f":"Profile!A44","v":"jktif=r"},{"$f":"Profile!B44","v":1},{"$f":"Profile!C44","v":"Jh "},{"$f":"Profile!D44","v":"lqfer fxjh"},{"$f":"Profile!F44","v":0},{"$f":"Profile!G44","v":"iz/kkukpk;Z"},{"$f":"Profile!H44","v":"ysoy"},{"$f":"Profile!I44","v":16},{"$f":"Profile!J44","v":40300},{"$f":"I9*12","v":483600},{"$f":"Profile!L44","v":"2023-07-01"},{"$f":"O9*8","v":9600},{"$f":"J9+L9","v":493200},{"$f":"M9-O9*12","v":478800},{"$f":"Profile!P44","v":1200},{"$f":"Profile!E44","v":0}]
[{"$f":"Profile!A45","v":"jktif=r"},{"$f":"Profile!B45","v":1},{"$f":"Profile!C45","v":0},{"$f":"Profile!D45","v":0},{"$f":"Profile!F45","v":0},{"$f":"Profile!G45","v":"O;k[;krk"},{"$f":"Profile!H45","v":"ysoy"},{"$f":"Profile!I45","v":16},{"$f":"Profile!J45","v":59500},{"$f":"I10*12","v":714000},{"$f":"Profile!L45","v":"2023-07-01"},{"$f":"O10*8","v":14400},{"$f":"J10+L10","v":728400},{"$f":"M10-O10*12","v":706800},{"$f":"Profile!P45","v":1800},{"$f":"Profile!E45","v":0}]
[{"$f":"Profile!A46","v":"jktif=r"},{"$f":"Profile!B46","v":2},{"$f":"Profile!C46","v":0},{"$f":"Profile!D46","v":0},{"$f":"Profile!F46","v":0},{"$f":"Profile!G46","v":"O;k[;krk"},{"$f":"Profile!H46","v":"ysoy"},{"$f":"Profile!I46","v":16},{"$f":"Profile!J46","v":0},0,{"$f":"Profile!L46","v":"2023-07-01"},0,0,{"$f":"M11-O11*12","v":0},{"$f":"Profile!P46","v":0},{"$f":"Profile!E46","v":0}]
[{"$f":"Profile!A47","v":"jktif=r"},{"$f":"Profile!B47","v":3},{"$f":"Profile!C47","v":0},{"$f":"Profile!D47","v":0},{"$f":"Profile!F47","v":0},{"$f":"Profile!G47","v":"O;k[;krk"},{"$f":"Profile!H47","v":"ysoy"},{"$f":"Profile!I47","v":16},{"$f":"Profile!J47","v":0},0,{"$f":"Profile!L47","v":"2023-07-01"},0,0,0,{"$f":"Profile!P47","v":0},{"$f":"Profile!E47","v":0}]
[{"$f":"Profile!A48","v":"jktif=r"},{"$f":"Profile!B48","v":4},{"$f":"Profile!C48","v":0},{"$f":"Profile!D48","v":0},{"$f":"Profile!F48","v":0},{"$f":"Profile!G48","v":"O;k[;krk"},{"$f":"Profile!H48","v":"ysoy"},{"$f":"Profile!I48","v":16},{"$f":"Profile!J48","v":0},0,{"$f":"Profile!L48","v":"2023-07-01"},0,0,0,{"$f":"Profile!P48","v":0},{"$f":"Profile!E48","v":0}]
[{"$f":"Profile!A49","v":"jktif=r"},{"$f":"Profile!B49","v":5},{"$f":"Profile!C49","v":0},{"$f":"Profile!D49","v":0},{"$f":"Profile!F49","v":0},{"$f":"Profile!G49","v":"O;k[;krk"},{"$f":"Profile!H49","v":"ysoy"},{"$f":"Profile!I49","v":6},{"$f":"Profile!J49","v":0},0,{"$f":"Profile!L49","v":"2023-07-01"},0,0,0,{"$f":"Profile!P49","v":0},{"$f":"Profile!E49","v":0}]
[{"$f":"Profile!A50","v":"jktif=r"},{"$f":"Profile!B50","v":6},{"$f":"Profile!C50","v":0},{"$f":"Profile!D50","v":0},{"$f":"Profile!F50","v":0},{"$f":"Profile!G50","v":"O;k[;krk"},{"$f":"Profile!H50","v":"ysoy"},{"$f":"Profile!I50","v":7},{"$f":"Profile!J50","v":0},0,{"$f":"Profile!L50","v":"2023-07-01"},0,0,0,{"$f":"Profile!P50","v":0},{"$f":"Profile!E50","v":0}]
[{"$f":"Profile!A51","v":"jktif=r"},{"$f":"Profile!B51","v":7},{"$f":"Profile!C51","v":0},{"$f":"Profile!D51","v":0},{"$f":"Profile!F51","v":0},{"$f":"Profile!G51","v":"O;k[;krk"},{"$f":"Profile!H51","v":"ysoy"},{"$f":"Profile!I51","v":8},{"$f":"Profile!J51","v":0},{"$f":"I16*12","v":0},{"$f":"Profile!L51","v":"2023-07-01"},{"$f":"O16*8","v":0},{"$f":"J16+L16","v":0},{"$f":"M16-O16*12","v":0},{"$f":"Profile!P51","v":0},{"$f":"Profile!E51","v":0}]
[{"$f":"Profile!A52","v":"jktif=r"},{"$f":"Profile!B52","v":8},{"$f":"Profile!C52","v":0},{"$f":"Profile!D52","v":0},{"$f":"Profile!F52","v":0},{"$f":"Profile!G52","v":"O;k[;krk"},{"$f":"Profile!H52","v":"ysoy"},{"$f":"Profile!I52","v":9},{"$f":"Profile!J52","v":0},0,{"$f":"Profile!L52","v":"2023-07-01"},0,0,0,{"$f":"Profile!P52","v":0},{"$f":"Profile!E52","v":0}]
[{"$f":"Profile!A53","v":"jktif=r"},{"$f":"Profile!B53","v":9},{"$f":"Profile!C53","v":0},{"$f":"Profile!D53","v":0},{"$f":"Profile!F53","v":0},{"$f":"Profile!G53","v":"O;k[;krk"},{"$f":"Profile!H53","v":"ysoy"},{"$f":"Profile!I53","v":10},{"$f":"Profile!J53","v":0},0,{"$f":"Profile!L53","v":"2023-07-01"},0,0,0,{"$f":"Profile!P53","v":0},{"$f":"Profile!E53","v":0}]
[{"$f":"Profile!A54","v":"jktif=r"},{"$f":"Profile!B54","v":10},{"$f":"Profile!C54","v":0},{"$f":"Profile!D54","v":0},{"$f":"Profile!F54","v":0},{"$f":"Profile!G54","v":"O;k[;krk"},{"$f":"Profile!H54","v":"ysoy"},{"$f":"Profile!I54","v":11},{"$f":"Profile!J54","v":0},0,{"$f":"Profile!L54","v":"2023-07-01"},0,0,0,{"$f":"Profile!P54","v":0},{"$f":"Profile!E54","v":0}]
[{"$f":"Profile!A55","v":"jktif=r"},{"$f":"Profile!B55","v":11},{"$f":"Profile!C55","v":0},{"$f":"Profile!D55","v":0},{"$f":"Profile!F55","v":0},{"$f":"Profile!G55","v":"O;k[;krk"},{"$f":"Profile!H55","v":"ysoy"},{"$f":"Profile!I55","v":12},{"$f":"Profile!J55","v":0},0,{"$f":"Profile!L55","v":"2023-07-01"},0,0,0,{"$f":"Profile!P55","v":0},{"$f":"Profile!E55","v":0}]
[{"$f":"Profile!A56","v":"jktif=r"},{"$f":"Profile!B56","v":12},{"$f":"Profile!C56","v":0},{"$f":"Profile!D56","v":0},{"$f":"Profile!F56","v":0},{"$f":"Profile!G56","v":"O;k[;krk"},{"$f":"Profile!H56","v":"ysoy"},{"$f":"Profile!I56","v":13},{"$f":"Profile!J56","v":0},0,{"$f":"Profile!L56","v":"2023-07-01"},0,0,0,{"$f":"Profile!P56","v":0},{"$f":"Profile!E56","v":0}]
[{"$f":"Profile!A57","v":"jktif=r"},{"$f":"Profile!B57","v":13},{"$f":"Profile!C57","v":0},{"$f":"Profile!D57","v":0},{"$f":"Profile!F57","v":0},{"$f":"Profile!G57","v":"O;k[;krk"},{"$f":"Profile!H57","v":"ysoy"},{"$f":"Profile!I57","v":14},{"$f":"Profile!J57","v":0},0,{"$f":"Profile!L57","v":"2023-07-01"},0,0,0,{"$f":"Profile!P57","v":0},{"$f":"Profile!E57","v":0}]
[{"$f":"Profile!A58","v":"jktif=r"},{"$f":"Profile!B58","v":14},{"$f":"Profile!C58","v":0},{"$f":"Profile!D58","v":0},{"$f":"Profile!F58","v":0},{"$f":"Profile!G58","v":"O;k[;krk"},{"$f":"Profile!H58","v":"ysoy"},{"$f":"Profile!I58","v":15},{"$f":"Profile!J58","v":0},0,{"$f":"Profile!L58","v":"2023-07-01"},0,0,0,{"$f":"Profile!P58","v":0},{"$f":"Profile!E58","v":0}]
[{"$f":"Profile!A59","v":"jktif=r"},{"$f":"Profile!B59","v":15},{"$f":"Profile!C59","v":0},{"$f":"Profile!D59","v":0},{"$f":"Profile!F59","v":0},{"$f":"Profile!G59","v":"O;k[;krk"},{"$f":"Profile!H59","v":"ysoy"},{"$f":"Profile!I59","v":16},{"$f":"Profile!J59","v":0},0,{"$f":"Profile!L59","v":"2023-07-01"},0,0,0,{"$f":"Profile!P59","v":0},{"$f":"Profile!E59","v":0}]
[{"$f":"Profile!A60","v":"jktif=r"},{"$f":"Profile!B60","v":16},{"$f":"Profile!C60","v":0},{"$f":"Profile!D60","v":0},{"$f":"Profile!F60","v":0},{"$f":"Profile!G60","v":"O;k[;krk"},{"$f":"Profile!H60","v":"ysoy"},{"$f":"Profile!I60","v":17},{"$f":"Profile!J60","v":0},0,{"$f":"Profile!L60","v":"2023-07-01"},0,0,0,{"$f":"Profile!P60","v":0},{"$f":"Profile!E60","v":0}]
[{"$f":"Profile!A61","v":"jktif=r"},{"$f":"Profile!B61","v":17},{"$f":"Profile!C61","v":0},{"$f":"Profile!D61","v":0},{"$f":"Profile!F61","v":0},{"$f":"Profile!G61","v":"O;k[;krk"},{"$f":"Profile!H61","v":"ysoy"},{"$f":"Profile!I61","v":18},{"$f":"Profile!J61","v":0},0,{"$f":"Profile!L61","v":"2023-07-01"},0,0,0,{"$f":"Profile!P61","v":0},{"$f":"Profile!E61","v":0}]
[{"$f":"Profile!A62","v":"jktif=r"},{"$f":"Profile!B62","v":18},{"$f":"Profile!C62","v":0},{"$f":"Profile!D62","v":0},{"$f":"Profile!F62","v":0},{"$f":"Profile!G62","v":"O;k[;krk"},{"$f":"Profile!H62","v":"ysoy"},{"$f":"Profile!I62","v":19},{"$f":"Profile!J62","v":0},0,{"$f":"Profile!L62","v":"2023-07-01"},0,0,0,{"$f":"Profile!P62","v":0},{"$f":"Profile!E62","v":0}]
[{"$f":"Profile!A63","v":"jktif=r"},{"$f":"Profile!B63","v":19},{"$f":"Profile!C63","v":0},{"$f":"Profile!D63","v":0},{"$f":"Profile!F63","v":0},{"$f":"Profile!G63","v":"O;k[;krk"},{"$f":"Profile!H63","v":"ysoy"},{"$f":"Profile!I63","v":20},{"$f":"Profile!J63","v":0},0,{"$f":"Profile!L63","v":"2023-07-01"},0,0,0,{"$f":"Profile!P63","v":0},{"$f":"Profile!E63","v":0}]
[{"$f":"Profile!A64","v":"jktif=r"},{"$f":"Profile!B64","v":20},{"$f":"Profile!C64","v":0},{"$f":"Profile!D64","v":0},{"$f":"Profile!F64","v":0},{"$f":"Profile!G64","v":"O;k[;krk"},{"$f":"Profile!H64","v":"ysoy"},{"$f":"Profile!I64","v":21},{"$f":"Profile!J64","v":0},0,{"$f":"Profile!L64","v":"2023-07-01"},0,0,0,{"$f":"Profile!P64","v":0},{"$f":"Profile!E64","v":0}]
[{"$f":"Profile!A65","v":"jktif=r"},{"$f":"Profile!B65","v":21},{"$f":"Profile!C65","v":0},{"$f":"Profile!D65","v":0},{"$f":"Profile!F65","v":0},{"$f":"Profile!G65","v":"O;k[;krk"},{"$f":"Profile!H65","v":"ysoy"},{"$f":"Profile!I65","v":22},{"$f":"Profile!J65","v":0},0,{"$f":"Profile!L65","v":"2023-07-01"},0,0,0,{"$f":"Profile!P65","v":0},{"$f":"Profile!E65","v":0}]
[{"$f":"Profile!A66","v":"vjktif=r"},{"$f":"Profile!B66","v":1},{"$f":"Profile!C66","v":"Jherh"},{"$f":"Profile!D66","v":"eUtq ukxiky"},{"$f":"Profile!F66","v":110061722142},{"$f":"Profile!G66","v":"ofj\"B v/;kid"},{"$f":"Profile!H66","v":"ysoy"},{"$f":"Profile!I66","v":11},{"$f":"Profile!J66","v":0},0,{"$f":"Profile!L66","v":"2023-07-01"},0,0,0,{"$f":"Profile!P66","v":0},{"$f":"Profile!E66","v":"RJGA200535013285"}]
[{"$f":"Profile!A67","v":"vjktif=r"},{"$f":"Profile!B67","v":2},{"$f":"Profile!C67","v":"Jherh"},{"$f":"Profile!D67","v":"dkS'kY;k"},{"$f":"Profile!F67","v":110191483960},{"$f":"Profile!G67","v":"ofj\"B v/;kid"},{"$f":"Profile!H67","v":"ysoy"},{"$f":"Profile!I67","v":11},{"$f":"Profile!J67","v":0},{"$f":"I32*12","v":0},{"$f":"Profile!L67","v":"2023-07-01"},0,0,0,{"$f":"Profile!P67","v":0},{"$f":"Profile!E67","v":"RJGA201435027389"}]
[{"$f":"Profile!A68","v":"vjktif=r"},{"$f":"Profile!B68","v":3},{"$f":"Profile!C68","v":0},{"$f":"Profile!D68","v":0},{"$f":"Profile!F68","v":0},{"$f":"Profile!G68","v":"ofj\"B v/;kid"},{"$f":"Profile!H68","v":"ysoy"},{"$f":"Profile!I68","v":11},{"$f":"Profile!J68","v":0},0,{"$f":"Profile!L68","v":"2023-07-01"},0,0,0,{"$f":"Profile!P68","v":0},{"$f":"Profile!E68","v":0}]
[{"$f":"Profile!A69","v":"vjktif=r"},{"$f":"Profile!B69","v":4},{"$f":"Profile!C69","v":0},{"$f":"Profile!D69","v":0},{"$f":"Profile!F69","v":0},{"$f":"Profile!G69","v":"ofj\"B v/;kid"},{"$f":"Profile!H69","v":"ysoy"},{"$f":"Profile!I69","v":11},{"$f":"Profile!J69","v":0},0,{"$f":"Profile!L69","v":"2023-07-01"},0,0,0,{"$f":"Profile!P69","v":0},{"$f":"Profile!E69","v":0}]
[{"$f":"Profile!A70","v":"vjktif=r"},{"$f":"Profile!B70","v":5},{"$f":"Profile!C70","v":0},{"$f":"Profile!D70","v":0},{"$f":"Profile!F70","v":0},{"$f":"Profile!G70","v":"ofj\"B v/;kid"},{"$f":"Profile!H70","v":"ysoy"},{"$f":"Profile!I70","v":11},{"$f":"Profile!J70","v":0},0,{"$f":"Profile!L70","v":"2023-07-01"},0,0,0,{"$f":"Profile!P70","v":0},{"$f":"Profile!E70","v":0}]
[{"$f":"Profile!A71","v":"vjktif=r"},{"$f":"Profile!B71","v":6},{"$f":"Profile!C71","v":0},{"$f":"Profile!D71","v":0},{"$f":"Profile!F71","v":0},{"$f":"Profile!G71","v":"ofj\"B v/;kid"},{"$f":"Profile!H71","v":"ysoy"},{"$f":"Profile!I71","v":11},{"$f":"Profile!J71","v":0},{"$f":"I36*12","v":0},{"$f":"Profile!L71","v":"2023-07-01"},{"$f":"O36*8","v":0},{"$f":"J36+L36","v":0},{"$f":"M36-O36*12","v":0},{"$f":"Profile!P71","v":0},{"$f":"Profile!E71","v":0}]
[{"$f":"Profile!A72","v":"vjktif=r"},{"$f":"Profile!B72","v":7},{"$f":"Profile!C72","v":0},{"$f":"Profile!D72","v":0},{"$f":"Profile!F72","v":0},{"$f":"Profile!G72","v":"ofj\"B v/;kid"},{"$f":"Profile!H72","v":"ysoy"},{"$f":"Profile!I72","v":11},{"$f":"Profile!J72","v":0},{"$f":"I37*12","v":0},{"$f":"Profile!L72","v":"2023-07-01"},{"$f":"O37*8","v":0},{"$f":"J37+L37","v":0},{"$f":"M37-O37*12","v":0},{"$f":"Profile!P72","v":0},{"$f":"Profile!E72","v":0}]
[{"$f":"Profile!A73","v":"vjktif=r"},{"$f":"Profile!B73","v":8},{"$f":"Profile!C73","v":0},{"$f":"Profile!D73","v":0},{"$f":"Profile!F73","v":0},{"$f":"Profile!G73","v":"ofj\"B v/;kid"},{"$f":"Profile!H73","v":"ysoy"},{"$f":"Profile!I73","v":11},{"$f":"Profile!J73","v":0},0,{"$f":"Profile!L73","v":"2023-07-01"},0,0,0,{"$f":"Profile!P73","v":0},{"$f":"Profile!E73","v":0}]
[{"$f":"Profile!A74","v":"vjktif=r"},{"$f":"Profile!B74","v":9},{"$f":"Profile!C74","v":0},{"$f":"Profile!D74","v":0},{"$f":"Profile!F74","v":0},{"$f":"Profile!G74","v":"ofj\"B v/;kid"},{"$f":"Profile!H74","v":"ysoy"},{"$f":"Profile!I74","v":11},{"$f":"Profile!J74","v":0},0,{"$f":"Profile!L74","v":"2023-07-01"},0,0,0,{"$f":"Profile!P74","v":0},{"$f":"Profile!E74","v":0}]
[{"$f":"Profile!A75","v":"vjktif=r"},{"$f":"Profile!B75","v":10},{"$f":"Profile!C75","v":0},{"$f":"Profile!D75","v":0},{"$f":"Profile!F75","v":0},{"$f":"Profile!G75","v":"ofj\"B v/;kid"},{"$f":"Profile!H75","v":"ysoy"},{"$f":"Profile!I75","v":11},{"$f":"Profile!J75","v":0},0,{"$f":"Profile!L75","v":"2023-07-01"},0,0,0,{"$f":"Profile!P75","v":0},{"$f":"Profile!E75","v":0}]
[{"$f":"Profile!A76","v":"vjktif=r"},{"$f":"Profile!B76","v":11},{"$f":"Profile!C76","v":0},{"$f":"Profile!D76","v":0},{"$f":"Profile!F76","v":0},{"$f":"Profile!G76","v":"ofj\"B v/;kid"},{"$f":"Profile!H76","v":"ysoy"},{"$f":"Profile!I76","v":11},{"$f":"Profile!J76","v":0},0,{"$f":"Profile!L76","v":"2023-07-01"},0,0,0,{"$f":"Profile!P76","v":0},{"$f":"Profile!E76","v":0}]
[{"$f":"Profile!A77","v":"vjktif=r"},{"$f":"Profile!B77","v":12},{"$f":"Profile!C77","v":0},{"$f":"Profile!D77","v":0},{"$f":"Profile!F77","v":0},{"$f":"Profile!G77","v":"ofj\"B v/;kid"},{"$f":"Profile!H77","v":"ysoy"},{"$f":"Profile!I77","v":11},{"$f":"Profile!J77","v":0},0,{"$f":"Profile!L77","v":"2023-07-01"},0,0,0,{"$f":"Profile!P77","v":0},{"$f":"Profile!E77","v":0}]
[{"$f":"Profile!A78","v":"vjktif=r"},{"$f":"Profile!B78","v":13},{"$f":"Profile!C78","v":0},{"$f":"Profile!D78","v":0},{"$f":"Profile!F78","v":0},{"$f":"Profile!G78","v":"ofj\"B v/;kid"},{"$f":"Profile!H78","v":"ysoy"},{"$f":"Profile!I78","v":11},{"$f":"Profile!J78","v":0},0,{"$f":"Profile!L78","v":"2023-07-01"},0,0,0,{"$f":"Profile!P78","v":0},{"$f":"Profile!E78","v":0}]
[{"$f":"Profile!A79","v":"vjktif=r"},{"$f":"Profile!B79","v":14},{"$f":"Profile!C79","v":0},{"$f":"Profile!D79","v":0},{"$f":"Profile!F79","v":0},{"$f":"Profile!G79","v":"ofj\"B v/;kid"},{"$f":"Profile!H79","v":"ysoy"},{"$f":"Profile!I79","v":11},{"$f":"Profile!J79","v":0},0,{"$f":"Profile!L79","v":"2023-07-01"},0,0,0,{"$f":"Profile!P79","v":0},{"$f":"Profile!E79","v":0}]
[{"$f":"Profile!A80","v":"vjktif=r"},{"$f":"Profile!B80","v":15},{"$f":"Profile!C80","v":0},{"$f":"Profile!D80","v":0},{"$f":"Profile!F80","v":0},{"$f":"Profile!G80","v":"ofj\"B v/;kid"},{"$f":"Profile!H80","v":"ysoy"},{"$f":"Profile!I80","v":11},{"$f":"Profile!J80","v":0},0,{"$f":"Profile!L80","v":"2023-07-01"},0,0,0,{"$f":"Profile!P80","v":0},{"$f":"Profile!E80","v":0}]
[{"$f":"Profile!A81","v":"vjktif=r"},{"$f":"Profile!B81","v":16},{"$f":"Profile!C81","v":0},{"$f":"Profile!D81","v":0},{"$f":"Profile!F81","v":0},{"$f":"Profile!G81","v":"ofj\"B v/;kid"},{"$f":"Profile!H81","v":"ysoy"},{"$f":"Profile!I81","v":11},{"$f":"Profile!J81","v":0},0,{"$f":"Profile!L81","v":"2023-07-01"},0,0,0,{"$f":"Profile!P81","v":0},{"$f":"Profile!E81","v":0}]
[{"$f":"Profile!A82","v":"vjktif=r"},{"$f":"Profile!B82","v":17},{"$f":"Profile!C82","v":0},{"$f":"Profile!D82","v":0},{"$f":"Profile!F82","v":0},{"$f":"Profile!G82","v":"ofj\"B v/;kid"},{"$f":"Profile!H82","v":"ysoy"},{"$f":"Profile!I82","v":11},{"$f":"Profile!J82","v":0},0,{"$f":"Profile!L82","v":"2023-07-01"},0,0,0,{"$f":"Profile!P82","v":0},{"$f":"Profile!E82","v":0}]
[{"$f":"Profile!A83","v":"vjktif=r"},{"$f":"Profile!B83","v":18},{"$f":"Profile!C83","v":0},{"$f":"Profile!D83","v":0},{"$f":"Profile!F83","v":0},{"$f":"Profile!G83","v":"ofj\"B v/;kid"},{"$f":"Profile!H83","v":"ysoy"},{"$f":"Profile!I83","v":11},{"$f":"Profile!J83","v":0},0,{"$f":"Profile!L83","v":"2023-07-01"},0,0,0,{"$f":"Profile!P83","v":0},{"$f":"Profile!E83","v":0}]
[{"$f":"Profile!A84","v":"vjktif=r"},{"$f":"Profile!B84","v":19},{"$f":"Profile!C84","v":0},{"$f":"Profile!D84","v":0},{"$f":"Profile!F84","v":0},{"$f":"Profile!G84","v":"ofj\"B v/;kid"},{"$f":"Profile!H84","v":"ysoy"},{"$f":"Profile!I84","v":11},{"$f":"Profile!J84","v":0},0,{"$f":"Profile!L84","v":"2023-07-01"},0,0,0,{"$f":"Profile!P84","v":0},{"$f":"Profile!E84","v":0}]
[{"$f":"Profile!A85","v":"vjktif=r"},{"$f":"Profile!B85","v":20},{"$f":"Profile!C85","v":0},{"$f":"Profile!D85","v":0},{"$f":"Profile!F85","v":0},{"$f":"Profile!G85","v":"ofj\"B v/;kid"},{"$f":"Profile!H85","v":"ysoy"},{"$f":"Profile!I85","v":11},{"$f":"Profile!J85","v":0},0,{"$f":"Profile!L85","v":"2023-07-01"},0,0,0,{"$f":"Profile!P85","v":0},{"$f":"Profile!E85","v":0}]
[{"$f":"Profile!A86","v":"vjktif=r"},{"$f":"Profile!B86","v":21},{"$f":"Profile!C86","v":0},{"$f":"Profile!D86","v":0},{"$f":"Profile!F86","v":0},{"$f":"Profile!G86","v":"ofj\"B v/;kid"},{"$f":"Profile!H86","v":"ysoy"},{"$f":"Profile!I86","v":11},{"$f":"Profile!J86","v":0},0,{"$f":"Profile!L86","v":"2023-07-01"},0,0,0,{"$f":"Profile!P86","v":0},{"$f":"Profile!E86","v":0}]
[{"$f":"Profile!A87","v":"vjktif=r"},{"$f":"Profile!B87","v":22},{"$f":"Profile!C87","v":0},{"$f":"Profile!D87","v":0},{"$f":"Profile!F87","v":0},{"$f":"Profile!G87","v":"ofj\"B v/;kid"},{"$f":"Profile!H87","v":"ysoy"},{"$f":"Profile!I87","v":11},{"$f":"Profile!J87","v":0},0,{"$f":"Profile!L87","v":"2023-07-01"},0,0,0,{"$f":"Profile!P87","v":0},{"$f":"Profile!E87","v":0}]
[{"$f":"Profile!A88","v":"vjktif=r"},{"$f":"Profile!B88","v":1},{"$f":"Profile!C88","v":"Jh"},{"$f":"Profile!D88","v":"nsosUnz dqekj lqFkkj"},{"$f":"Profile!F88","v":110041738889},{"$f":"Profile!G88","v":"v/;kid&2"},{"$f":"Profile!H88","v":"ysoy"},{"$f":"Profile!I88","v":10},{"$f":"Profile!J88","v":0},0,{"$f":"Profile!L88","v":"2023-07-01"},0,0,0,{"$f":"Profile!P88","v":0},{"$f":"Profile!E88","v":"RJBI200509033977"}]
[{"$f":"Profile!A89","v":"vjktif=r"},{"$f":"Profile!B89","v":2},{"$f":"Profile!C89","v":"Jh "},{"$f":"Profile!D89","v":"euftUnz flag"},{"$f":"Profile!F89","v":0},{"$f":"Profile!G89","v":"v/;kid&2"},{"$f":"Profile!H89","v":"ysoy"},{"$f":"Profile!I89","v":10},{"$f":"Profile!J89","v":0},0,{"$f":"Profile!L89","v":"2023-07-01"},0,0,0,{"$f":"Profile!P89","v":0},{"$f":"Profile!E89","v":0}]
[{"$f":"Profile!A90","v":"vjktif=r"},{"$f":"Profile!B90","v":3},{"$f":"Profile!C90","v":"Jherh"},{"$f":"Profile!D90","v":"jf'e dVkfj;k"},{"$f":"Profile!F90","v":0},{"$f":"Profile!G90","v":"v/;kid&2"},{"$f":"Profile!H90","v":"ysoy"},{"$f":"Profile!I90","v":10},{"$f":"Profile!J90","v":0},0,{"$f":"Profile!L90","v":"2023-07-01"},0,0,{"$f":"M55-O55*12","v":0},{"$f":"Profile!P90","v":0},{"$f":"Profile!E90","v":0}]
[{"$f":"Profile!A91","v":"vjktif=r"},{"$f":"Profile!B91","v":4},{"$f":"Profile!C91","v":"Jherh"},{"$f":"Profile!D91","v":"js[kk jkuh"},{"$f":"Profile!F91","v":0},{"$f":"Profile!G91","v":"v/;kid&1"},{"$f":"Profile!H91","v":"ysoy"},{"$f":"Profile!I91","v":10},{"$f":"Profile!J91","v":0},0,{"$f":"Profile!L91","v":"2023-07-01"},0,0,0,{"$f":"Profile!P91","v":0},{"$f":"Profile!E91","v":0}]
[{"$f":"Profile!A92","v":"vjktif=r"},{"$f":"Profile!B92","v":5},{"$f":"Profile!C92","v":"Jherh"},{"$f":"Profile!D92","v":"lqq\"kek jkuh"},{"$f":"Profile!F92","v":0},{"$f":"Profile!G92","v":"v/;kid&1"},{"$f":"Profile!H92","v":"ysoy"},{"$f":"Profile!I92","v":10},{"$f":"Profile!J92","v":0},0,{"$f":"Profile!L92","v":"2023-07-01"},0,0,0,{"$f":"Profile!P92","v":0},{"$f":"Profile!E92","v":0}]
[{"$f":"Profile!A93","v":"vjktif=r"},{"$f":"Profile!B93","v":6},{"$f":"Profile!C93","v":0},{"$f":"Profile!D93","v":0},{"$f":"Profile!F93","v":0},{"$f":"Profile!G93","v":"v/;kid&1"},{"$f":"Profile!H93","v":"ysoy"},{"$f":"Profile!I93","v":10},{"$f":"Profile!J93","v":0},0,{"$f":"Profile!L93","v":"2023-07-01"},0,0,0,{"$f":"Profile!P93","v":0},{"$f":"Profile!E93","v":0}]
[{"$f":"Profile!A94","v":"vjktif=r"},{"$f":"Profile!B94","v":1},{"$f":"Profile!C94","v":"Jh "},{"$f":"Profile!D94","v":"iou dqekj xksnkjk"},{"$f":"Profile!F94","v":0},{"$f":"Profile!G94","v":" 'kk-f'k{kd"},{"$f":"Profile!H94","v":"ysoy"},{"$f":"Profile!I94","v":10},{"$f":"Profile!J94","v":0},0,{"$f":"Profile!L94","v":"2023-07-01"},0,0,0,{"$f":"Profile!P94","v":0},{"$f":"Profile!E94","v":0}]
[{"$f":"Profile!A95","v":"vjktif=r"},{"$f":"Profile!B95","v":1},{"$f":"Profile!C95","v":0},{"$f":"Profile!D95","v":0},{"$f":"Profile!F95","v":0},{"$f":"Profile!G95","v":"dk;kZy; lgk;d"},{"$f":"Profile!H95","v":"ysoy"},{"$f":"Profile!I95","v":10},{"$f":"Profile!J95","v":0},0,{"$f":"Profile!L95","v":"2023-07-01"},0,0,0,{"$f":"Profile!P95","v":0},{"$f":"Profile!E95","v":0}]
[{"$f":"Profile!A96","v":"vjktif=r"},{"$f":"Profile!B96","v":1},{"$f":"Profile!C96","v":"Jh "},{"$f":"Profile!D96","v":"lqfer fxjh"},{"$f":"Profile!F96","v":0},{"$f":"Profile!G96","v":"ofj\"B fyfid"},{"$f":"Profile!H96","v":"ysoy"},{"$f":"Profile!I96","v":8},{"$f":"Profile!J96","v":0},0,{"$f":"Profile!L96","v":"2023-07-01"},0,0,0,{"$f":"Profile!P96","v":0},{"$f":"Profile!E96","v":0}]
[{"$f":"Profile!A97","v":"vjktif=r"},{"$f":"Profile!B97","v":1},{"$f":"Profile!C97","v":0},{"$f":"Profile!D97","v":0},{"$f":"Profile!F97","v":0},{"$f":"Profile!G97","v":"dfu\"B fyfid"},{"$f":"Profile!H97","v":"ysoy"},{"$f":"Profile!I97","v":5},{"$f":"Profile!J97","v":0},0,{"$f":"Profile!L97","v":"2023-07-01"},0,0,0,{"$f":"Profile!P97","v":0},{"$f":"Profile!E97","v":0}]
[{"$f":"Profile!A98","v":"vjktif=r"},{"$f":"Profile!B98","v":1},{"$f":"Profile!C98","v":"Jherh"},{"$f":"Profile!D98","v":"y{eh nsoh"},{"$f":"Profile!F98","v":0},{"$f":"Profile!G98","v":"lgk;d deZpkjh"},{"$f":"Profile!H98","v":"ysoy"},{"$f":"Profile!I98","v":1},{"$f":"Profile!J98","v":0},0,{"$f":"Profile!L98","v":"2023-07-01"},0,0,0,{"$f":"Profile!P98","v":0},{"$f":"Profile!E98","v":0}]
[{"$f":"Profile!A99","v":"vjktif=r"},{"$f":"Profile!B99","v":2},{"$f":"Profile!C99","v":"Jh"},{"$f":"Profile!D99","v":"cyoUr jk;"},{"$f":"Profile!F99","v":0},{"$f":"Profile!G99","v":"lgk;d deZpkjh"},{"$f":"Profile!H99","v":"ysoy"},{"$f":"Profile!I99","v":1},{"$f":"Profile!J99","v":0},0,{"$f":"Profile!L99","v":"2023-07-01"},0,0,0,{"$f":"Profile!P99","v":0},{"$f":"Profile!E99","v":0}]
[{"$f":"Profile!A100","v":"vjktif=r"},{"$f":"Profile!B100","v":3},{"$f":"Profile!C100","v":0},{"$f":"Profile!D100","v":0},{"$f":"Profile!F100","v":0},{"$f":"Profile!G100","v":"lgk;d deZpkjh"},{"$f":"Profile!H100","v":"ysoy"},{"$f":"Profile!I100","v":1},{"$f":"Profile!J100","v":0},0,{"$f":"Profile!L100","v":"2023-07-01"},0,0,0,{"$f":"Profile!P100","v":0},{"$f":"Profile!E100","v":" "}]
[]
[null,"jktif=r ;ksx",{"$nulls":6},{"$f":"Profile!J102","v":99800},{"$f":"Profile!K102","v":1197600},null,{"$f":"Profile!M102","v":24000},{"$f":"Profile!N102","v":1221600},{"$f":"Profile!O102","v":1185600}]
[null,"vjktif=r ;ksx",{"$nulls":6},{"$f":"Profile!J103","v":0},{"$f":"Profile!K103","v":0},null,{"$f":"Profile!M103","v":0},{"$f":"Profile!N103","v":0},{"$f":"Profile!O103","v":0}]
[null,";ksx jktif=r$vjktif=r ",{"$nulls":6},{"$f":"Profile!J104","v":99800},{"$f":"Profile!K104","v":1197600},null,{"$f":"Profile!M104","v":24000},{"$f":"Profile!N104","v":1221600},{"$f":"Profile!O104","v":1185600}]
[null,{"$f":"Profile!$B$105","v":"egaxkbZ HkRrk 34izfr'kr"},{"$nulls":10},{"$f":"Profile!N105","v":415344},{"$f":"Profile!O105","v":403104}]
[null,{"$f":"Profile!$B$106","v":"edku fdjk;k 9izfr'kr"},{"$nulls":10},{"$f":"Profile!N106","v":97728},{"$f":"Profile!O106","v":94848}]
[null,{"$f":"Profile!$B$107","v":"egaxkbZ HkRRkk ,sfj;j¼----izfr'kr½"},{"$nulls":10},{"$f":"Profile!N107","v":0},{"$f":"Profile!O107","v":0}]
[null,{"$f":"Profile!$B$108","v":"cksul"},{"$nulls":10},{"$f":"Profile!N108","v":54192},{"$f":"Profile!O108","v":54192}]
[null,{"$f":"Profile!B109","v":"lefiZr vodk'k"},{"$nulls":10},{"$f":"Profile!N109","v":68206},{"$f":"Profile!O109","v":66196}]
[null,{"$f":"Profile!B110","v":"dSf'k;j HkRrk"},{"$nulls":10},{"$f":"Profile!N110","v":0},{"$f":"Profile!O110","v":0}]
[null,{"$f":"Profile!B111","v":"/kqykbZ HkRrkk"},{"$nulls":10},{"$f":"Profile!N111","v":1800},{"$f":"Profile!O111","v":1800}]
[null,{"$f":"Profile!B112","v":"¼fQDl is½ vU; HkRRkk"},{"$nulls":10},{"$f":"Profile!N112","v":0},{"$f":"Profile!O112","v":0}]
[null,{"$f":"Profile!$B$113","v":"dqqy HkRrk ;ksx"},{"$nulls":10},{"$f":"Profile!N113","v":637270},{"$f":"Profile!O113","v":620140}]
[null,{"$f":"Profile!B114","v":";ksx laosru"},{"$nulls":10},{"$f":"Profile!N114","v":1858870},{"$f":"Profile!O114","v":1805740}]
[null,{"$f":"Profile!B115","v":";k=k HkRrk"},{"$nulls":10},{"$f":"Profile!N115","v":0},{"$f":"Profile!O115","v":0}]
[null,{"$f":"Profile!B116","v":"esfMdy HkRrk"},{"$nulls":10},{"$f":"Profile!N116","v":0},{"$f":"Profile!O116","v":0}]
[null,{"$f":"Profile!B117","v":";ksx ;k=k HkRrk$esfMdy HkRRkk"},{"$nulls":10},{"$f":"Profile!N117","v":0},{"$f":"Profile!O117","v":0}]
[null,{"$f":"Profile!B118","v":"egk;ksx"},{"$nulls":10},{"$f":"Profile!N118","v":1858870},{"$f":"Profile!O118","v":1805740}]
[]
[{"$nulls":3},"izekf.kr fd;k tkrk gS fd mi;qZDr lwpuk dh esjs }kjk O;fDrxr :Ik ls tkap dj yh xbZ gS vksj bls lgh ik;k x;k gSA"]
[]
[{"$nulls":12},{"$f":"Profile!A3","v":"ihbZbZvks 10tSM ,oa iz/kkukpk;Z"}]
[{"$nulls":8},"rS;kj drkZ %&",{"$f":"Profile!G6","v":"lqfer fxjh"},null,null,{"$f":"Profile!A4","v":"jktdh; mPp ek/;fed fo|ky;"}]
[{"$nulls":9},{"$f":"Profile!$I$6","v":1234567890},null,null,{"$f":"Profile!A5","v":"15tSM Jhxaxkuxj"}]
[{"$nulls":12},{"$f":"Profile!$F$4","v":2405}]

{"sheet":"rrr 09","index":2,"n_rows":61,"n_cols":20,"rows_kept":61,"merged":[[0,0,0,11],[0,13,0,16],[1,0,1,17],[1,18,2,19],[2,0,2,17],[3,0,3,3],[3,4,3,10],[3,11,3,13],[3,14,3,17],[3,18,3,19],[4,1,4,4],[4,5,4,6],[4,7,4,9],[4,10,4,12],[4,13,4,14],[4,18,4,19],[5,0,6,0],[5,1,6,1],[5,2,6,2],[5,3,5,5],[5,6,6,6],[5,7,5,9],[5,10,6,10],[5,11,6,11],[5,12,5,14],[5,15,5,17],[5,19,6,19],[33,8,33,9],[34,8,34,9],[34,14,34,17],[35,14,35,17],[36,14,36,17],[37,14,37,17],[39,1,39,5],[40,2,40,4],[40,5,40,6],[40,7,40,9],[40,10,40,11],[40,12,40,13],[40,14,40,17],[41,2,41,4],[41,5,41,6],[41,7,41,9],[41,10,41,11],[41,12,41,13],[41,14,41,17],[42,2,42,4],[42,5,42,6],[42,7,42,9],[42,10,42,11],[42,12,42,13],[42,14,42,17],[43,2,43,4],[43,5,43,6],[43,7,43,9],[43,10,43,11],[43,12,43,13],[43,14,43,17],[44,2,44,4],[44,5,44,6],[44,7,44,9],[44,10,44,11],[44,12,44,13],[44,14,44,17],[45,2,45,4],[45,5,45,6],[45,7,45,9],[45,10,45,11],[45,12,45,13],[45,14,45,17],[46,2,46,4],[46,5,46,6],[46,7,46,9],[46,10,46,11],[46,12,46,13],[46,14,46,17],[47,2,47,4],[47,5,47,6],[47,7,47,9],[47,10,47,11],[47,12,47,13],[47,14,47,17],[48,2,48,4],[48,5,48,6],[48,7,48,9],[48,10,48,11],[48,12,48,13],[48,14,48,17],[52,2,52,3],[52,4,52,5],[52,6,52,7],[52,8,52,9],[52,10,52,11],[52,12,52,13],[52,14,52,16],[52,17,52,18],[53,2,53,3],[53,4,53,5],[53,6,53,7],[53,8,53,9],[53,10,53,11],[53,12,53,13],[53,14,53,16],[53,17,53,18],[54,2,54,3],[54,4,54,5],[54,6,54,7],[54,8,54,9],[54,10,54,11],[54,12,54,13],[54,14,54,16],[54,17,54,18],[55,2,55,3],[55,4,55,5],[55,6,55,7],[55,8,55,9],[55,10,55,11],[55,12,55,13],[55,14,55,16],[55,17,55,18],[56,2,56,3],[56,4,56,5],[56,6,56,7],[56,8,56,9],[56,10,56,11],[56,12,56,13],[56,14,56,16],[56,17,56,18],[57,2,57,3],[57,4,57,5],[57,6,57,7],[57,8,57,9],[57,10,57,11],[57,12,57,13],[57,14,57,16],[57,17,57,18],[58,2,58,3],[58,4,58,5],[58,6,58,7],[58,8,58,9],[58,10,58,11],[58,12,58,13],[58,14,58,16],[58,17,58,18],[60,1,60,16]]}
["izi= 9",{"$nulls":11},"ctV gSM",{"$f":"Profile!$C$3","v":"2202-02-109-27-01"}]
["fuf'pr O;;ksa ds foLr`r vuqeku vFkkZr~ vf/kdkfj;ksa o deZpkfj;ksa ds osru vuqeku o\"kZ ¼vizSy ls ekpZ rd½",{"$nulls":17},{"$f":"Profile!$K$36","v":"LVsV Q.M"}]
["¼ctV vuqeku vf/kdkfj;ksa }kjk foHkkxk/;{k dks izLrqr djus gsrq½ ys[kk dk 'kh\"kZ % eq[; 'kh\"kZ@minh?kZ 'kh\"kZ@y?kq'kh\"kZ@mi'kh\"kZ xzqi 'kh\"kZ--------------------vk;kstuk fHkUu@vk;kstuk@dsUnz izofrZr ;kstuk"]
["dk;kZy; &",{"$nulls":3},{"$f":"Profile!$D$36","v":"15tSM Jhxaxkuxj"},{"$nulls":6},"foHkkx dk uke %&",null,null,{"$f":"Profile!$G$2","v":"f'k{kk foHkkx"},{"$nulls":3},{"$f":"Profile!$G$35","v":2405}]
[null,"ctV Lohd`fr esa fo|ky; dh Ø-la- %&",{"$nulls":3},{"$f":"Profile!$C$12","v":25},null,"dk;kZy; v/;{k MhMhvks uke %&",null,null,{"$f":"Profile!$G$4","v":"izHkkr 'kekZ"},null,null,{"$f":"Profile!$I$4","v":1234567890},{"$nulls":4},"j   lgL=ksa esa"]
["Øe l[;k","ys[kk 'kh\"kZd ¼foLr`r 'kh\"kZ½","nrer@ ize`r","okLrfod O;; vkadM+s¼xr iwoZ rhu o\"kksZ ds½",null,null,"vk; O;; ds vuqeku ckcr~ pkyw o\"kZ","okLrfod O;; vkadM+s",null,null,"vxLr ls ekpZ rd dk laHkkfor O;; ¼pkyw o\"kZ½","la'kksf/kr vuqeku 2022&23 ¼pkyw o\"kZ½ 9$11","vk; O;; ds vuqeku ckcr 2023&24¼vkxkeh o\"kZ½",null,null,"o`f)¼$½ ;k deh¼&½",null,null,"uohu vkbVe","fo'ks\"k fooj.k"]
[{"$nulls":3},{"$f":"Profile!F22","v":"2019-20"},{"$f":"Profile!G22","v":"2020-21"},{"$f":"Profile!H22","v":"21&22 esa ekpZ2022 dk th-,-19"},null,"vxLr ls ekpZ rd ¼xr o\"kZ½","viszy ls tqykbZ rd ¼pkyw o\"kZ½","dkye 8 o 9 dk ;ksx",null,null,"dfeVsM","uohu","dqy ¼13+14½","7 vkSj 12 esa","10 vkSj 12 esa","12 vkSj 15 esa","gka @ ugha"]
[1,2,3,4,5,6,7,8,9,10,11,12,13,14,15,16,17,18,19,20]
[null,";ksx jk$vjk",{"$nulls":9},{"$f":"'rrr 08'!$N$69","v":1185600},{"$f":"'rrr 08'!$M$69","v":1221600},null,{"$f":"M9+N9","v":1221600}]
[{"$f":"Profile!A105","v":{"v":0.34,"d":"34%"}},{"$f":"Profile!$B$105","v":"egaxkbZ HkRrk 34izfr'kr"},{"$nulls":9},{"$f":"'rrr 08'!N70","v":403104},{"$f":"'rrr 08'!M70","v":415344},null,{"$f":"M10+N10","v":415344}]
[{"$f":"Profile!A106","v":{"v":0.09,"d":"9%"}},"edku fdjk;k",{"$nulls":9},{"$f":"'rrr 08'!N71","v":94848},{"$f":"'rrr 08'!M71","v":97728},null,97728]
[{"$f":"Profile!A107","v":{"v":0,"d":"0%"}},{"$f":"Profile!$B$107","v":"egaxkbZ HkRRkk ,sfj;j¼----izfr'kr½"},{"$nulls":9},{"$f":"'rrr 08'!N72","v":0},{"$f":"'rrr 08'!M72","v":0},null,0]
[null,"cksul",{"$nulls":9},{"$f":"'rrr 08'!N73","v":54192},{"$f":"'rrr 08'!M73","v":54192},null,54192]
[null,"lefiZr vodk'k",{"$nulls":9},{"$f":"'rrr 08'!N74","v":66196},{"$f":"'rrr 08'!M74","v":68206},null,68206]
[null,"dSf'k;j HkRrk",{"$nulls":9},{"$f":"'rrr 08'!N75","v":0},{"$f":"'rrr 08'!M75","v":0},null,0]
[null,"o`f) HkRrk",{"$nulls":9},{"$f":"'rrr 08'!N76","v":1800},{"$f":"'rrr 08'!M76","v":1800},null,1800]
[null,"vU; Hkrs",{"$nulls":9},{"$f":"'rrr 08'!$N$77","v":0},{"$f":"'rrr 08'!$M$77","v":0},null,0]
[null,";ksx HkRrs",{"$nulls":9},{"$f":"'rrr 08'!N78","v":620140},{"$f":"'rrr 08'!M78","v":637270},null,637270]
[null,";ksx laosru",null,{"$f":"Profile!F23","v":5555511},{"$f":"Profile!G23","v":6303330},{"$f":"Profile!H23","v":7837900},{"$f":"Profile!$C$23","v":2500000},{"$f":"Profile!P23","v":5559492},{"$f":"Profile!Q23","v":1500000},{"$f":"H19+I19","v":7059492},{"$f":"L19-I19","v":305740},{"$f":"'rrr 08'!N79","v":1805740},{"$f":"'rrr 08'!M79","v":1858870},null,1858870]
[null,";k=k HkRrk",null,{"$f":"Profile!F24","v":0},{"$f":"Profile!G24","v":30000},{"$f":"Profile!H24","v":22910},{"$f":"Profile!C24","v":0},{"$f":"Profile!P24","v":22910},{"$f":"Profile!Q24","v":0},{"$f":"H20+I20","v":22910},{"$f":"L20-I20","v":0},{"$f":"'rrr 08'!N80","v":0},{"$f":"'rrr 08'!M80","v":0},null,0]
[null,"esfMdy HkRrk",null,{"$f":"Profile!F25","v":0},{"$f":"Profile!G25","v":0},{"$f":"Profile!H25","v":0},{"$f":"Profile!C25","v":0},{"$f":"Profile!P25","v":0},{"$f":"Profile!Q25","v":0},0,{"$f":"L21-I21","v":0},{"$f":"'rrr 08'!N81","v":0},{"$f":"'rrr 08'!M81","v":0},null,0]
[null,";ksx ;k=k esfMdy",null,{"$f":"D20+D21","v":0},{"$f":"E20+E21","v":30000},22910,{"$f":"G20+G21","v":0},{"$f":"H20+H21","v":22910},0,22910,0,{"$f":"'rrr 08'!N82","v":0},{"$f":"'rrr 08'!M82","v":0},null,0]
[null,";ksx loZ;ksx",null,{"$f":"D22+D19","v":5555511},6333330,7860810,{"$f":"G22+G19","v":2500000},{"$f":"H22+H19","v":5582402},{"$f":"I22+I19","v":1500000},{"$f":"J22+J19","v":7082402},{"$f":"K22+K19","v":305740},{"$f":"L19+L22","v":1805740},{"$f":"M19+M22","v":1858870},null,1858870]
[null,{"$f":"Profile!A26","v":"dk;kZy; O;;"},null,{"$f":"Profile!F26","v":0},{"$f":"Profile!G26","v":0},{"$f":"Profile!H26","v":0},{"$f":"Profile!C26","v":0},{"$f":"Profile!P26","v":0},{"$f":"Profile!Q26","v":0},{"$f":"H24+I24","v":0},{"$f":"L24-I24","v":0},{"$f":"Profile!AK26","v":0},{"$f":"Profile!AL24","v":0},null,0]
[null,{"$f":"Profile!A27","v":"fdjk;k dj jk;fYV"},null,{"$f":"Profile!F27","v":0},{"$f":"Profile!G27","v":0},{"$f":"Profile!H27","v":0},{"$f":"Profile!C27","v":0},{"$f":"Profile!P27","v":0},{"$f":"Profile!Q27","v":0},{"$f":"H25+I25","v":0},{"$f":"L25-I25","v":0},{"$f":"Profile!AK27","v":0},{"$f":"Profile!AL25","v":0},null,0]
[null,{"$f":"Profile!A28","v":"e'khujh lkt lkeku"},null,{"$f":"Profile!F28","v":0},{"$f":"Profile!G28","v":0},{"$f":"Profile!H28","v":0},{"$f":"Profile!C28","v":0},{"$f":"Profile!P28","v":0},{"$f":"Profile!Q28","v":0},0,0,{"$f":"Profile!AK28","v":0},{"$f":"Profile!AL26","v":0},null,0]
[null,{"$f":"Profile!A29","v":"iqLrdky;"},null,{"$f":"Profile!F29","v":0},{"$f":"Profile!G29","v":0},{"$f":"Profile!H29","v":0},{"$f":"Profile!C29","v":0},{"$f":"Profile!P29","v":0},{"$f":"Profile!Q29","v":0},0,{"$f":"L27-I27","v":0},{"$f":"Profile!AK29","v":0},{"$f":"Profile!AL27","v":0},null,0]
[null,{"$f":"Profile!A30","v":"iz;ksx'kkyk"},null,{"$f":"Profile!F30","v":0},{"$f":"Profile!G30","v":0},{"$f":"Profile!H30","v":0},{"$f":"Profile!C30","v":0},{"$f":"Profile!P30","v":0},{"$f":"Profile!Q30","v":0},0,0,{"$f":"Profile!AK30","v":0},{"$f":"Profile!AL28","v":0},null,0]
[null,{"$f":"Profile!A31","v":"ofnZ;ka"},null,{"$f":"Profile!F31","v":3600},{"$f":"Profile!G31","v":3600},{"$f":"Profile!H31","v":1950},{"$f":"Profile!C31","v":0},{"$f":"Profile!P31","v":1950},{"$f":"Profile!Q31","v":0},1950,1950,{"$f":"Profile!N31","v":1950},{"$f":"Profile!AL31","v":1950},null,1950]
[null,{"$f":"Profile!A32","v":"vU; izHkkj"},null,{"$f":"Profile!F32","v":0},{"$f":"Profile!G32","v":0},{"$f":"Profile!H32","v":0},{"$f":"Profile!C32","v":0},{"$f":"Profile!P32","v":0},{"$f":"Profile!Q32","v":0},0,0,{"$f":"Profile!AK32","v":0},{"$f":"Profile!AL32","v":0},null,0]
[null,{"$f":"Profile!A33","v":"foHkkxh;lsokvksa ij fof'k\"V O;;"},null,{"$f":"Profile!F33","v":0},{"$f":"Profile!G33","v":0},{"$f":"Profile!H33","v":0},{"$f":"Profile!C33","v":0},{"$f":"Profile!P33","v":0},{"$f":"Profile!Q33","v":0},0,0,{"$f":"Profile!AK33","v":0},{"$f":"Profile!AL33","v":0},null,0]
[null,";ksx",null,{"$f":"D31+D28+D27+D26+D25+D24+D29+D30","v":3600},{"$f":"E31+E28+E27+E26+E25+E24+E29+E30","v":3600},1950,0,1950,0,{"$f":"J31+J28+J27+J26+J25+J24+J29+J30","v":1950},{"$f":"K31+K28+K27+K26+K25+K24+K29+K30","v":1950},{"$f":"L31+L28+L27+L26+L25+L24+L29+L30","v":1950},{"$f":"M31+M28+M27+M26+M25+M24+M29+M30","v":1950},null,{"$f":"M32+N32","v":1950}]
[null,";ksx egk;ksx",null,{"$f":"D32+D23","v":5559111},6336930,7862760,2500000,5584352,1500000,7084352,307690,1807690,1860820,null,1860820]
[{"$nulls":7},"rS;kj drkZ %&",{"$f":"Profile!G6","v":"lqfer fxjh"}]
[{"$nulls":8},{"$f":"Profile!$I$6","v":1234567890},{"$nulls":5},{"$f":"Profile!A3","v":"ihbZbZvks 10tSM ,oa iz/kkukpk;Z"}]
[{"$nulls":14},{"$f":"Profile!A4","v":"jktdh; mPp ek/;fed fo|ky;"},{"$f":"Profile!B4","v":0}]
[{"$nulls":14},{"$f":"Profile!A5","v":"15tSM Jhxaxkuxj"},{"$f":"Profile!B5","v":0}]
[{"$nulls":14},{"$f":"Profile!$F$4","v":2405}]
[]
[]
[null,"Øekad","in uke",null,null,"u;k@ØekssUu;u",null,"is cSaM",null,null,"xzsM is",null,"dqy in",null,"fooj.k"]
[null,1,2,null,null,3,null,4,null,null,5,null,6,null,7]
[null,1]
[null,2]
[null,3]
[null,4]
[null,5]
[null,6]
[null,7]
[]
[]
[null,"vU; uohu vkbVe ds fy, izi="]
[null,"Øekad","uohu vkbVe izdkj",null,"Ø; @ fdjk;k",null,"vkbVe dk uke",null,"la[;k",null,"vkorhZ O;; ekfld",null,"vukorhZ Hkkj",null,"dqy okf\"kZd Hkkj",null,null,"vU; fooj.k "]
[null,1]
[null,2]
[null,3]
[null,4]
[null,5]
[null,6]
[]
[null,"izekf.kr fd;k tkrk gS fd mi;qZDr lwpuk dh esjs }kjk O;fDrxr :Ik ls tkap dj yh xbZ gS vksj bls lgh ik;k x;k gSA"]

{"sheet":"rrr10","index":3,"n_rows":21,"n_cols":15,"rows_kept":21,"merged":[[0,0,0,8],[0,10,0,13],[1,0,1,9],[1,12,1,14],[2,0,2,1],[2,2,2,11],[3,0,3,2],[3,3,3,6],[3,7,3,8],[3,9,3,10],[3,11,3,12],[3,13,3,14],[4,0,5,0],[4,1,5,1],[4,2,4,4],[4,5,5,5],[4,6,4,8],[4,9,5,9],[4,10,5,10],[4,11,5,11],[4,12,4,14],[19,7,19,8],[20,7,20,8]]}
["izi= 10",{"$nulls":8},"ctV gSM",{"$f":"Profile!$C$3","v":"2202-02-109-27-01"}]
["vk; dk foLr`r ctV vuqeku forh; o\"kZ ---------------------¼1vizSy ls 31ekpZ rd½ dk",{"$nulls":9},"MhMhvks dksM",{"$f":"Profile!$G$35","v":2405},{"$f":"Profile!$K$36","v":"LVsV Q.M"}]
["dk;kZy; &",null,{"$f":"Profile!$D$36","v":"15tSM Jhxaxkuxj"}]
["dk;kZy; v/;{k MhMhvks uke %&",null,null,{"$f":"Profile!$G$4","v":"izHkkr 'kekZ"},{"$nulls":3},{"$f":"Profile!$I$4","v":1234567890},null,"foHkkx dk uke %& ",null,{"$f":"Profile!$G$2","v":"f'k{kk foHkkx"},null,"j  lgL=ksa esa"]
["Øe l[;k","ys[kk dk 'kh\"kZ nh?kZ 'kh\"kZ@ minh?kZ 'kh\"kZ@ y?kq'kh\"kZ@ mi'kh\"kZ ","okLrfod O;; vkadM+s    ¼xr iwoZ rhu o\"kksZ ds½",null,null,{"$f":"'rrr 09'!$G$6","v":"vk; O;; ds vuqeku ckcr~ pkyw o\"kZ"},"okLrfod vk; vkadM+s",null,null,"vxLr ls ekpZ rd dk laHkkfor vk; ¼pkyw o\"kZ½","la'kksf/kr vuqeku ¼pkyw o\"kZ½ 8$10","vk; O;; ds vuqeku ckcr ¼vkxkeh o\"kZ½","o`f)¼$½ ;k deh¼&½"]
[null,null,{"$f":"'rrr 09'!D7","v":"2019-20"},{"$f":"'rrr 09'!E7","v":"2020-21"},{"$f":"'rrr 09'!$F$7","v":"21&22 esa ekpZ2022 dk th-,-19"},null,"vxLr ls ekpZ rd ¼xr o\"kZ½","viszy ls tqykbZ rd ¼pkyw o\"kZ½","dkye 7 o 8 dk ;ksx",{"$nulls":3},"6 vkSj 11 esa","9 vkSj 11 esa","11 vkSj 12 esa"]
[1,2,3,4,5,6,7,8,9,10,11,12,13,14,15]
[null,"f'k{k.k 'kqYd",{"$f":"Profile!F15","v":0},{"$f":"Profile!G15","v":0},{"$f":"Profile!H15","v":0},{"$f":"K8","v":0},{"$f":"Profile!I15","v":0},{"$f":"Profile!J15","v":0},{"$f":"G8+H8","v":0},{"$f":"Profile!K15","v":0},{"$f":"H8+J8","v":0},{"$f":"Profile!L15","v":0}]
[null,"Vh-lh-",{"$f":"Profile!F16","v":85},{"$f":"Profile!G16","v":95},{"$f":"Profile!H16","v":50},{"$f":"K9","v":60},{"$f":"Profile!I16","v":0},{"$f":"Profile!J16","v":45},{"$f":"G9+H9","v":45},{"$f":"Profile!K16","v":15},{"$f":"H9+J9","v":60},{"$f":"Profile!L16","v":60}]
[null,"izos'k 'kqYd",{"$f":"Profile!F17","v":50},{"$f":"Profile!G17","v":70},{"$f":"Profile!H17","v":40},40,{"$f":"Profile!I17","v":0},{"$f":"Profile!J17","v":30},30,{"$f":"Profile!K17","v":10},40,{"$f":"Profile!L17","v":50}]
[null,"vuqi;ksxh lkeku ds fuLrkj.k ls vk;",{"$f":"Profile!F18","v":0},{"$f":"Profile!G18","v":0},{"$f":"Profile!H18","v":0},0,{"$f":"Profile!I18","v":0},{"$f":"Profile!J18","v":0},0,{"$f":"Profile!K18","v":0},0,{"$f":"Profile!L18","v":0}]
[null,"fofo/k",{"$f":"Profile!F19","v":0},{"$f":"Profile!G19","v":0},{"$f":"Profile!H19","v":0},0,{"$f":"Profile!I19","v":0},{"$f":"Profile!J19","v":0},0,{"$f":"Profile!K19","v":0},0,{"$f":"Profile!L19","v":0}]
[null,"vU;",{"$f":"Profile!F20","v":0},{"$f":"Profile!G20","v":0},{"$f":"Profile!H20","v":5},0,{"$f":"Profile!I20","v":0},{"$f":"Profile!J20","v":0},0,{"$f":"Profile!K20","v":0},0,{"$f":"Profile!L20","v":0}]
[null,";ksx",{"$f":"C13+C10+C9+C8+C11+C12","v":135},{"$f":"D13+D10+D9+D8+D11+D12","v":165},95,{"$f":"F13+F10+F9+F8+F11+F12","v":100},{"$f":"G13+G10+G9+G8+G11+G12","v":0},{"$f":"H13+H10+H9+H8+H11+H12","v":75},{"$f":"I13+I10+I9+I8+I11+I12","v":75},{"$f":"J13+J10+J9+J8+J11+J12","v":25},{"$f":"K13+K10+K9+K8+K11+K12","v":100},{"$f":"L13+L10+L9+L8+L11+L12","v":110}]
[]
[]
[]
[{"$nulls":11},{"$f":"Profile!A3","v":"ihbZbZvks 10tSM ,oa iz/kkukpk;Z"}]
[{"$nulls":11},{"$f":"Profile!A4","v":"jktdh; mPp ek/;fed fo|ky;"}]
[{"$nulls":6},"rS;kj drkZ %&",{"$f":"Profile!G6","v":"lqfer fxjh"},{"$nulls":3},{"$f":"Profile!A5","v":"15tSM Jhxaxkuxj"}]
[{"$nulls":7},{"$f":"Profile!$I$6","v":1234567890},{"$nulls":3},{"$f":"Profile!$F$4","v":2405}]

{"sheet":"P1","index":4,"n_rows":14,"n_cols":8,"rows_kept":14,"merged":[[0,0,0,1],[0,2,0,7],[1,0,1,4],[1,6,1,7],[2,0,2,2],[2,3,2,4],[2,5,2,6],[3,0,3,1],[3,2,3,4],[3,5,3,6],[4,0,5,0],[4,1,5,1],[4,2,5,2],[4,3,5,3],[4,4,5,4],[4,5,5,5],[10,6,10,7],[11,6,11,7],[12,6,12,7],[13,6,13,7]]}
[{"$f":"Profile!$A$36","v":"dk;kZy; %&"},null,{"$f":"Profile!$D$36","v":"15tSM Jhxaxkuxj"}]
["izi= 1",{"$nulls":4},"ctV gSM",{"$f":"Profile!$C$3","v":"2202-02-109-27-01"}]
["dk;kZy; v/;{k MhMhvks uke %&",null,null,{"$f":"Profile!$G$4","v":"izHkkr 'kekZ"},null,{"$f":"Profile!$I$4","v":1234567890}]
["ys[kk en ",null,"01 laosru dk x.ku @ ekax izi=",null,null,{"$f":"Profile!$K$36","v":"LVsV Q.M"},null,"jkf'k yk[kksa esa"]
["Ø-la-","vkWfQl vkbZ-Mh-","fo|ky; dk uke","forh; o\"kZ 2022&23 esa laosru esa vkaCkfVr jkf'k","07@22 rd dk okLrfod O;;","08@22 ls 03@23 rd gksus okyk vuqekfur O;;","forh; o\"kZ esa gksus okyk dqy O;;","o\"kZ 2022&23 vfrfjDr ds fy, vko';drk"]
[{"$nulls":6},";ksx dkWye ¼5$6½",";ksx dkWye ¼4&7½"]
[1,2,3,4,5,6,7,8]
[1,{"$f":"Profile!$G$35","v":2405},{"$f":"Profile!$D$36","v":"15tSM Jhxaxkuxj"},{"$f":"'rrr 09'!$G$19","v":2500000},{"$f":"'rrr 09'!$I$19","v":1500000},{"$f":"'rrr 09'!$K$19","v":305740},{"$f":"E8+F8","v":1805740},{"$f":"D8-G8","v":694260}]
[]
[{"$nulls":4},"rS;kj drkZ %&",{"$f":"Profile!$G$6","v":"lqfer fxjh"}]
[{"$nulls":5},{"$f":"Profile!$I$6","v":1234567890},{"$f":"Profile!A3","v":"ihbZbZvks 10tSM ,oa iz/kkukpk;Z"}]
[{"$nulls":6},{"$f":"Profile!A4","v":"jktdh; mPp ek/;fed fo|ky;"},{"$f":"Profile!B4","v":0}]
[{"$nulls":6},{"$f":"Profile!A5","v":"15tSM Jhxaxkuxj"},{"$f":"Profile!B5","v":0}]
[{"$nulls":6},{"$f":"Profile!$F$4","v":2405}]

{"sheet":"P3","index":5,"n_rows":38,"n_cols":12,"rows_kept":38,"merged":[[0,0,0,2],[0,3,0,11],[1,0,1,7],[1,9,1,11],[2,0,3,0],[2,1,3,1],[2,2,3,2],[2,3,3,3],[2,4,3,4],[2,5,3,5],[2,6,3,6],[2,7,3,7],[2,8,2,9],[2,10,3,10],[2,11,3,11],[34,9,34,11],[35,9,35,11],[36,9,36,11],[37,9,37,11]]}
[{"$f":"Profile!A36","v":"dk;kZy; %&"},null,null,{"$f":"Profile!D36","v":"15tSM Jhxaxkuxj"}]
["¼v½ fu;fer Lohd`r inks dk fooj.k",{"$nulls":7},"ctV gSM",{"$f":"Profile!$C$3","v":"2202-02-109-27-01"}]
["ys[kk dk 'kh\"kZ nh?kZ 'kh\"kZ@ minh?kZ 'kh\"kZ@ y?kq'kh\"kZ@ mi'kh\"kZ ","ukWuIyku @ Iyku @ lh-,l-,l-","in uke","ysoy@ xzsM is","Lohd`r inksa dh la[;k ¼fnukad \n01-04-2020 dh fLFkfr½","pkyw o\"kZ 2020&2021 esa Lohd`r u;s inksa dh la[;k","pkyw o\"kZ 2020&2021 esa lekIr fd;s x;s inksa dh la[;k","orZeku inkas dh la[;k ¼dkWye la[;k 5+6-7½","fu;fer dk;Zjr",null,"31-08-2020 dks fjDr inksa dh la[;k","fnukad ftlls in fjDr gS"]
[{"$nulls":8},"1tuojh 2004 ls iwoZ fu;qfDr","1tuojh 2004 ds Ik'pkr fu;qfDr"]
[1,2,3,4,5,6,7,8,9,10,11,12]
[{"$f":"Profile!A44","v":"jktif=r"},{"$f":"Profile!$K$36","v":"LVsV Q.M"},{"$f":"Profile!G44","v":"iz/kkukpk;Z"},{"$f":"Profile!I44","v":16},0,0,0,{"$f":"E6+F6-G6","v":0}]
[{"$f":"Profile!A45","v":"jktif=r"},{"$f":"Profile!$K$36","v":"LVsV Q.M"},{"$f":"Profile!G45","v":"O;k[;krk"},{"$f":"Profile!I45","v":16},0,0,0,{"$f":"E7+F7-G7","v":0}]
[{"$f":"Profile!A46","v":"jktif=r"},{"$f":"Profile!$K$36","v":"LVsV Q.M"},{"$f":"Profile!G46","v":"O;k[;krk"},{"$f":"Profile!I46","v":16},0,0,0,0]
[{"$f":"Profile!A47","v":"jktif=r"},{"$f":"Profile!$K$36","v":"LVsV Q.M"},{"$f":"Profile!G47","v":"O;k[;krk"},{"$f":"Profile!I47","v":16},0,0,0,0]
[{"$f":"Profile!A48","v":"jktif=r"},{"$f":"Profile!$K$36","v":"LVsV Q.M"},{"$f":"Profile!G48","v":"O;k[;krk"},{"$f":"Profile!I48","v":16},0,0,0,0]
[{"$f":"Profile!A49","v":"jktif=r"},{"$f":"Profile!$K$36","v":"LVsV Q.M"},{"$f":"Profile!G49","v":"O;k[;krk"},{"$f":"Profile!I49","v":6},0,0,0,0]
[{"$f":"Profile!A50","v":"jktif=r"},{"$f":"Profile!$K$36","v":"LVsV Q.M"},{"$f":"Profile!G50","v":"O;k[;krk"},{"$f":"Profile!I50","v":7},0,0,0,0]
[{"$f":"Profile!A66","v":"vjktif=r"},{"$f":"Profile!$K$36","v":"LVsV Q.M"},{"$f":"Profile!G66","v":"ofj\"B v/;kid"},{"$f":"Profile!I66","v":11},1,0,0,1,null,1]
[{"$f":"Profile!A67","v":"vjktif=r"},{"$f":"Profile!$K$36","v":"LVsV Q.M"},{"$f":"Profile!G67","v":"ofj\"B v/;kid"},{"$f":"Profile!I67","v":11},1,0,0,1,null,1]
[{"$f":"Profile!A68","v":"vjktif=r"},{"$f":"Profile!$K$36","v":"LVsV Q.M"},{"$f":"Profile!G68","v":"ofj\"B v/;kid"},{"$f":"Profile!I68","v":11},0,0,0,0]
[{"$f":"Profile!A69","v":"vjktif=r"},{"$f":"Profile!$K$36","v":"LVsV Q.M"},{"$f":"Profile!G69","v":"ofj\"B v/;kid"},{"$f":"Profile!I69","v":11},0,0,0,0]
[{"$f":"Profile!A70","v":"vjktif=r"},{"$f":"Profile!$K$36","v":"LVsV Q.M"},{"$f":"Profile!G70","v":"ofj\"B v/;kid"},{"$f":"Profile!I70","v":11},0,0,0,0]
[{"$f":"Profile!A71","v":"vjktif=r"},{"$f":"Profile!$K$36","v":"LVsV Q.M"},{"$f":"Profile!G71","v":"ofj\"B v/;kid"},{"$f":"Profile!I71","v":11},0,0,0,0]
[{"$f":"Profile!A88","v":"vjktif=r"},{"$f":"Profile!$K$36","v":"LVsV Q.M"},{"$f":"Profile!G88","v":"v/;kid&2"},{"$f":"Profile!I88","v":10},1,0,0,1,null,null,1]
[{"$f":"Profile!A89","v":"vjktif=r"},{"$f":"Profile!$K$36","v":"LVsV Q.M"},{"$f":"Profile!G89","v":"v/;kid&2"},{"$f":"Profile!I89","v":10},1,0,0,1,null,1]
[{"$f":"Profile!A90","v":"vjktif=r"},{"$f":"Profile!$K$36","v":"LVsV Q.M"},{"$f":"Profile!G90","v":"v/;kid&2"},{"$f":"Profile!I90","v":10},1,0,0,1,null,1]
[{"$f":"Profile!A91","v":"vjktif=r"},{"$f":"Profile!$K$36","v":"LVsV Q.M"},{"$f":"Profile!G91","v":"v/;kid&1"},{"$f":"Profile!I91","v":10},1,0,0,1,1]
[{"$f":"Profile!A92","v":"vjktif=r"},{"$f":"Profile!$K$36","v":"LVsV Q.M"},{"$f":"Profile!G92","v":"v/;kid&1"},{"$f":"Profile!I92","v":10},1,0,0,1,1]
[{"$f":"Profile!A93","v":"vjktif=r"},{"$f":"Profile!$K$36","v":"LVsV Q.M"},{"$f":"Profile!G93","v":"v/;kid&1"},{"$f":"Profile!I93","v":10},0,0,0,0]
[{"$f":"Profile!A94","v":"vjktif=r"},{"$f":"Profile!$K$36","v":"LVsV Q.M"},{"$f":"Profile!G94","v":" 'kk-f'k{kd"},{"$f":"Profile!I94","v":10},1,0,0,1,1]
[{"$f":"Profile!A95","v":"vjktif=r"},{"$f":"Profile!$K$36","v":"LVsV Q.M"},{"$f":"Profile!G95","v":"dk;kZy; lgk;d"},{"$f":"Profile!I95","v":10},0,0,0,0]
[{"$f":"Profile!A96","v":"vjktif=r"},{"$f":"Profile!$K$36","v":"LVsV Q.M"},{"$f":"Profile!G96","v":"ofj\"B fyfid"},{"$f":"Profile!I96","v":8},1,0,0,{"$f":"E27+F27-G27","v":1},null,1]
[{"$f":"Profile!A97","v":"vjktif=r"},{"$f":"Profile!$K$36","v":"LVsV Q.M"},{"$f":"Profile!G97","v":"dfu\"B fyfid"},{"$f":"Profile!I97","v":5},0,0,0,{"$f":"E28+F28-G28","v":0}]
[{"$f":"Profile!A98","v":"vjktif=r"},{"$f":"Profile!$K$36","v":"LVsV Q.M"},{"$f":"Profile!G98","v":"lgk;d deZpkjh"},{"$f":"Profile!I98","v":1},1,0,0,1,1]
[{"$f":"Profile!A99","v":"vjktif=r"},{"$f":"Profile!$K$36","v":"LVsV Q.M"},{"$f":"Profile!G99","v":"lgk;d deZpkjh"},{"$f":"Profile!I99","v":1},1,0,0,1,null,null,1]
[{"$f":"Profile!A100","v":"vjktif=r"},{"$f":"Profile!$K$36","v":"LVsV Q.M"},{"$f":"Profile!G100","v":"lgk;d deZpkjh"},{"$f":"Profile!I100","v":1},0,0,0,0,0]
[]
[null,null,"dqy ",null,{"$f":"SUM(E6:E32)","v":11},{"$f":"SUM(F6:F32)","v":0},{"$f":"SUM(G6:G32)","v":0},{"$f":"SUM(H6:H32)","v":11},{"$f":"SUM(I13:I32)","v":4},{"$f":"SUM(J6:J32)","v":5},{"$f":"SUM(K6:K32)","v":2}]
[]
[{"$nulls":9},{"$f":"Profile!A3","v":"ihbZbZvks 10tSM ,oa iz/kkukpk;Z"}]
[{"$nulls":9},{"$f":"Profile!A4","v":"jktdh; mPp ek/;fed fo|ky;"},{"$f":"Profile!B4","v":0}]
[{"$nulls":9},{"$f":"Profile!A5","v":"15tSM Jhxaxkuxj"},{"$f":"Profile!B5","v":0}]
[{"$nulls":9},{"$f":"'P1'!$G$14","v":2405}]

{"sheet":"L-1-2","index":6,"n_rows":18,"n_cols":8,"rows_kept":18,"merged":[[0,2,0,7],[1,0,1,4],[1,5,1,7],[2,0,2,1],[2,4,2,5],[2,6,2,7],[4,7,6,7],[7,2,12,2],[7,7,12,7],[13,0,13,3],[15,5,15,7],[16,5,16,7],[17,5,17,7]]}
[null,{"$f":"Profile!A36","v":"dk;kZy; %&"},{"$f":"Profile!D36","v":"15tSM Jhxaxkuxj"}]
["v/;kid ysoy&1 o ysoy&2 Lohd`r] dk;Zjr o fjDr inks dk fooj.k",{"$nulls":4},"2202-02-109-27-01"]
["en 2202   ukWu Iyku  ",null,"o\"kZ ",{"$f":"Profile!O36","v":"RE 2020-2021"},"o vkxkeh o\"kZ",null,{"$f":"Profile!N35","v":"BE 2021-2022"}]
["ys[kk 'kh\"kZd ¼foLr`r 'kh\"kZ½","en","in uke","fo\"k; ","Lohd`r","dk;Zjr","fjDr","Lohd`r ;ksx"]
["vjktif=r","2202-02-109-27-01","v/;kid ysoy&1","&",2,2,{"$f":"E5-F5","v":0},{"$f":"E5+E7+E6","v":3}]
["vjktif=r","2202-02-109-01-00","v/;kid ysoy&1","&",1,1,{"$f":"E6-F6","v":0}]
["vjktif=r",null,"v/;kid ysoy&1","&",null,0,{"$f":"E7-F7","v":0}]
["vjktif=r","2202-02-109-27-01","v/;kid ysoy&2","vaxzsth",1,0,{"$f":"E8-F8","v":1},{"$f":"E8+E9+E10+E11+E12+E13","v":3}]
["vjktif=r","2202-02-109-27-01",null,"fgUnh",1,1,0]
["vjktif=r",null,null,"xf.kr@foKku",0,0,0]
["vjktif=r","2202-02-109-27-01",null,"lkekftd foKku",1,1,0]
["vjktif=r",null,null,"iatkch",0,0,0]
["vjktif=r",null,null,"laLd`r",0,0,0]
["dqy",{"$nulls":3},{"$f":"E5+E7+E8+E9+E10+E11+E12+E13+E6","v":6},{"$f":"F5+F7+F8+F9+F10+F11+F12+F13+F6","v":5},1,6]
[]
[null,{"$f":"Profile!C3","v":"2202-02-109-27-01"},{"$nulls":3},{"$f":"'P3'!J35","v":"ihbZbZvks 10tSM ,oa iz/kkukpk;Z"}]
[{"$nulls":5},{"$f":"'P3'!J36","v":"jktdh; mPp ek/;fed fo|ky;"},{"$f":"'P3'!K36","v":0},{"$f":"'P3'!L36","v":0}]
[{"$nulls":5},{"$f":"'P3'!J37","v":"15tSM Jhxaxkuxj"},{"$f":"'P3'!K37","v":0},{"$f":"'P3'!L37","v":0}]

{"sheet":"retierment","index":7,"n_rows":14,"n_cols":10,"rows_kept":14,"merged":[[0,0,0,2],[0,3,0,9],[1,0,1,5],[1,7,1,9],[2,0,2,9],[3,0,3,2],[3,5,3,6],[10,7,10,8],[11,7,11,8],[12,7,12,8],[13,7,13,8]]}
[{"$f":"Profile!A36","v":"dk;kZy; %&"},null,null,{"$f":"Profile!D36","v":"15tSM Jhxaxkuxj"}]
["izi= 12 ,",{"$nulls":5},"ctV gSM",{"$f":"Profile!$C$3","v":"2202-02-109-27-01"}]
["osru J`a[kyk 1 ls 6 rd lsokfuo`r gksus okys dkfeZd dk fooj.k"]
["en 2202   ukWu Iyku  ",null,null,"o\"kZ ",{"$f":"Profile!O36","v":"RE 2020-2021"},"o vkxkeh o\"kZ",null,{"$f":"Profile!M36","v":"2023&2024"}]
["Ø-la","ctV en","deZpkjh dk uke","osru Ja`[kyk","ossru ysoy","in uke","lsokfuo`r fnukad","lsokfuo`r deZpkjh dh lsokfuo`fr ds le; ns; mikftZr vodk'k","dkfeZd dk lsokfuo`fr ds le; ewy osru","lsokfuo`r deZpkjh dh jde "]
[1,"ukWu Iyku ",{"$nulls":7},{"$f":"H6*I6/30","v":0}]
[2,"ukWu Iyku ckfydk",{"$nulls":7},{"$f":"H7*I7/30","v":0}]
[3,"ukWu Iyku ",{"$nulls":7},0]
[4,"ukWu Iyku ",{"$nulls":7},0]
[]
[null,null,{"$f":"Profile!C3","v":"2202-02-109-27-01"},{"$nulls":4},{"$f":"Profile!A3","v":"ihbZbZvks 10tSM ,oa iz/kkukpk;Z"}]
[{"$nulls":7},{"$f":"Profile!A4","v":"jktdh; mPp ek/;fed fo|ky;"},{"$f":"Profile!B4","v":0}]
[{"$nulls":7},{"$f":"Profile!A5","v":"15tSM Jhxaxkuxj"},{"$f":"Profile!B5","v":0}]
[{"$nulls":7},{"$f":"Profile!$F$4","v":2405}]

{"sheet":"FIX PAY","index":8,"n_rows":25,"n_cols":9,"rows_kept":25,"merged":[[2,3,2,5]]}
[null,null,"uke dk;kZy;&",{"$f":"Profile!$C$1","v":"15tSM Jhxaxkuxj"}]
[{"$nulls":4},"lafonk osru ij fu;qä dkfeZdksa dk fooj.k",null,"vkWfQl vkbZMh&",{"$f":"Profile!$F$4","v":2405}]
[null,null,"ys[kk 'kh\"kZd&",{"$f":"Profile!C3","v":"2202-02-109-27-01"}]
[{"$nulls":4},"laosru"]
[null,null,"ekax la[;k",{"$f":"Profile!$C$11","v":24},null,"Ldhe dk uke",{"$f":"Profile!$C$10","v":"LVsV Q.M"}]
[]
[null,"Ø-la-","uke dkfeZd","in uke","tUe frfFk","fu;qfä frfFk","ekfld ekuns;","12 ekg dk ekuns;","vkxkeh o\"kZ es 12 ekg dk ekuns;"]
[null,1,2,3,4,5,6,7,8]
[null,{"$f":"Profile!C122","v":1},{"$f":"Profile!D122","v":0},{"$f":"Profile!E122","v":0},{"$f":"Profile!F122","v":"00:00:00"},{"$f":"Profile!G122","v":"00:00:00"},{"$f":"Profile!H122","v":0},{"$f":"Profile!I122","v":0},{"$f":"Profile!J122","v":0}]
[null,{"$f":"Profile!C123","v":2},{"$f":"Profile!D123","v":""},{"$f":"Profile!E123","v":""},{"$f":"Profile!F123","v":""},{"$f":"Profile!G123","v":""},{"$f":"Profile!H123","v":0},{"$f":"Profile!I123","v":0},{"$f":"Profile!J123","v":0}]
[null,{"$f":"Profile!C124","v":3},{"$f":"Profile!D124","v":""},{"$f":"Profile!E124","v":""},{"$f":"Profile!F124","v":""},{"$f":"Profile!G124","v":""},{"$f":"Profile!H124","v":0},{"$f":"Profile!I124","v":0},{"$f":"Profile!J124","v":0}]
[null,{"$f":"Profile!C125","v":4},{"$f":"Profile!D125","v":""},{"$f":"Profile!E125","v":""},{"$f":"Profile!F125","v":""},{"$f":"Profile!G125","v":""},{"$f":"Profile!H125","v":0},{"$f":"Profile!I125","v":0},{"$f":"Profile!J125","v":0}]
[null,{"$f":"Profile!C126","v":5},{"$f":"Profile!D126","v":""},{"$f":"Profile!E126","v":""},{"$f":"Profile!F126","v":""},{"$f":"Profile!G126","v":""},{"$f":"Profile!H126","v":0},{"$f":"Profile!I126","v":0},{"$f":"Profile!J126","v":0}]
[null,{"$f":"Profile!C127","v":6},{"$f":"Profile!D127","v":""},{"$f":"Profile!E127","v":""},{"$f":"Profile!F127","v":""},{"$f":"Profile!G127","v":""},{"$f":"Profile!H127","v":0},{"$f":"Profile!I127","v":0},{"$f":"Profile!J127","v":0}]
[null,{"$f":"Profile!C128","v":7},{"$f":"Profile!D128","v":""},{"$f":"Profile!E128","v":""},{"$f":"Profile!F128","v":""},{"$f":"Profile!G128","v":""},{"$f":"Profile!H128","v":0},{"$f":"Profile!I128","v":0},{"$f":"Profile!J128","v":0}]
[null,{"$f":"Profile!C129","v":8},{"$f":"Profile!D129","v":""},{"$f":"Profile!E129","v":""},{"$f":"Profile!F129","v":""},{"$f":"Profile!G129","v":"00:00:00"},{"$f":"Profile!H129","v":0},{"$f":"Profile!I129","v":0},{"$f":"Profile!J129","v":0}]
[null,{"$f":"Profile!C130","v":9},{"$f":"Profile!D130","v":""},{"$f":"Profile!E130","v":""},{"$f":"Profile!F130","v":""},{"$f":"Profile!G130","v":""},{"$f":"Profile!H130","v":0},{"$f":"Profile!I130","v":0},{"$f":"Profile!J130","v":0}]
[null,{"$f":"Profile!C131","v":10},{"$f":"Profile!D131","v":""},{"$f":"Profile!E131","v":""},{"$f":"Profile!F131","v":""},{"$f":"Profile!G131","v":""},{"$f":"Profile!H131","v":0},{"$f":"Profile!I131","v":0},{"$f":"Profile!J131","v":0}]
[{"$nulls":3},{"$f":"Profile!E132","v":"TOTAL"},null,null,{"$f":"Profile!H132","v":0},{"$f":"Profile!I132","v":0},{"$f":"Profile!J132","v":0}]
[]
[]
[{"$nulls":5},{"$f":"Profile!A3","v":"ihbZbZvks 10tSM ,oa iz/kkukpk;Z"}]
[null,"rS;kj drkZ %&",{"$f":"Profile!G6","v":"lqfer fxjh"},null,null,{"$f":"Profile!A4","v":"jktdh; mPp ek/;fed fo|ky;"}]
[{"$nulls":5},{"$f":"Profile!A5","v":"15tSM Jhxaxkuxj"}]
[{"$nulls":5},{"$f":"Profile!$F$4","v":2405}]

{"sheet":"CHALAN","index":9,"n_rows":33,"n_cols":16,"rows_kept":33,"merged":[[0,6,0,7],[8,0,8,1],[8,7,8,8],[10,0,11,0],[10,1,11,1],[10,2,10,5],[10,6,11,6],[10,7,10,10],[10,11,11,11],[10,12,10,15]]}
[{"$nulls":6},"pkyku fooj.k"]
["fo|ky; dk uke &",null,null,"jktdh; mPp ek/;fed fo|ky; pkSxkbZa Vksad"]
["ys[kk 'kh\"kZd&",null,2202,"lkekU; f'k{kk",null,null,"vkWfQl vkbZMh&",27306]
[null,null,{"v":2,"d":"0002"},"ek/;fed f'k{kk"]
[null,null,{"v":109,"d":"0109"},"jktdh; mPp ek/;fed fo|ky;"]
[null,null,{"v":27,"d":"0027"},"yM+dksa ds fo|ky;"]
[null,null,{"v":1,"d":"0001"},"yM+dksa ds fo|ky;"]
[]
["ekax la[;k",null,24,{"$nulls":3},"Ldhe dk uke","LVsV Q.M"]
[]
["Ø- la-","pkyu uEcj o fnukad","vizsy 19 ls ekpZ 20",{"$nulls":3},"pkyu uEcj o fnukad","vxLr 19 ls ekpZ 20",{"$nulls":3},"pkyu uEcj o fnukad","vizsy 20 ls tqykbZ 20"]
[null,null,"f'k{k.k Qhl ,oa vU; Qhlsa","vuqi;ksxh lkekuksa ls vk;","vf/kd Hkqxrku ls olwyh","fofo/k",null,"f'k{k.k Qhl ,oa vU; Qhlsa","vuqi;ksxh lkekuksa ls vk;","vf/kd Hkqxrku ls olwyh","fofo/k",null,"f'k{k.k Qhl ,oa vU; Qhlsa","vuqi;ksxh lkekuksa ls vk;","vf/kd Hkqxrku ls olwyh","fofo/k"]
["",null,10,20,30,40,null,50,60,70,80,null,90,100,110,120]
[""]
[""]
[""]
[""]
[""]
[""]
[""]
[""]
[""]
[""]
[""]
[""]
[""]
[""]
[null,"TOTAL",10,20,30,40,null,50,60,70,80,null,90,100,110,120]
[]
[{"$nulls":12},{"$f":"Profile!A3","v":"ihbZbZvks 10tSM ,oa iz/kkukpk;Z"}]
[{"$nulls":12},{"$f":"Profile!A4","v":"jktdh; mPp ek/;fed fo|ky;"}]
[{"$nulls":12},{"$f":"Profile!A5","v":"15tSM Jhxaxkuxj"}]
[{"$nulls":12},{"$f":"Profile!$F$4","v":2405}]

{"sheet":"bank ac SCHOOL","index":10,"n_rows":20,"n_cols":10,"rows_kept":20,"merged":[[0,0,0,9],[1,0,1,4],[1,5,1,9],[3,0,4,0],[3,1,4,1],[3,2,4,2],[3,3,4,3],[3,4,4,5],[3,6,3,7],[3,9,4,9],[5,4,5,5],[6,0,9,0],[6,1,9,1],[6,2,9,2],[6,3,9,3],[10,0,13,0],[10,1,13,1],[10,2,13,2],[10,3,13,3],[16,6,16,9],[17,6,17,9],[18,6,18,9],[19,6,19,9]]}
["¼c½ cSad [kkrks fLFkfr dk fooj.k"]
[{"$f":"'P3'!$D$1","v":"15tSM Jhxaxkuxj"},{"$nulls":4},"foHkkx dk uke %& f'k{kk foHkkx"]
[]
["cSd rFkk 'kk[kk dk uke ¼bZ,Qlh dksM½","cSd [kkrs dk uke e; [kkrk la[;k","in uke ftlds uke ls [kkrk gS ","foHkkxh; @ xSj foHkkxh;","01-04-2019 dks vo'ks\"k jkf'k",null,"2019&2020",null,null,"31-08-2019  dks 'ks\"k jkf'k  ¼5$6&7½"]
[{"$nulls":6},"gLrkUrfjr jkf'k","fnukad 31 vxLr rd O;; jkf'k"]
[1,2,3,4,5,null,6,7,null,8]
["vkS-ch-lh 15tSM vksvkjchlh01100506","RAJKIYE MADHYAMIK VIDHALYA 15Z 0506204 0000210","iz/kkukpk;Z","foHkkxh; fo|kFkhZ dks\"k ","cash",0,205,0,null,{"$f":"F7+G7-H7","v":205}]
[{"$nulls":4},"bank",2991.65,{"$f":"11432-205","v":11227},1265,null,{"$f":"F8+G8-H8","v":12953.65}]
[{"$nulls":4},"F.D.",0,0,0,null,0]
[{"$nulls":4},"Total",{"$f":"F9+F8+F7","v":2991.65},{"$f":"G9+G8+G7","v":11432},1265,0,13158.65]
["vkS-ch-lh 15tSM vksvkjchlh01100506","RA.MA.VIDYALA VKASH KOSH 0506204 0000080","iz/kkukpk;Z","foHkkxh; fodkl dks\"k  ","cash",0,0,0,null,{"$f":"F11+G11-H11","v":0}]
[{"$nulls":4},"bank",26604,15234,9990,null,31848]
[{"$nulls":4},"F.D.",0,0,0,null,0]
[{"$nulls":4},"Total",{"$f":"F13+F12+F11","v":26604},{"$f":"G13+G12+G11","v":15234},{"$f":"H13+H12+H11","v":9990},{"$f":"I13+I12+I11","v":0},31848]
[]
[]
[{"$nulls":6},{"$f":"Profile!A3","v":"ihbZbZvks 10tSM ,oa iz/kkukpk;Z"}]
[{"$nulls":6},{"$f":"Profile!A4","v":"jktdh; mPp ek/;fed fo|ky;"},{"$f":"Profile!B4","v":0}]
[{"$nulls":6},{"$f":"Profile!A5","v":"15tSM Jhxaxkuxj"},{"$f":"Profile!B5","v":0}]
[{"$nulls":6},{"$f":"Profile!$F$4","v":2405}]

{"sheet":"R01","index":11,"n_rows":40,"n_cols":8,"rows_kept":40,"merged":[[0,0,0,7],[1,0,1,7],[2,0,2,3],[33,1,33,2],[33,4,33,6],[35,1,35,2],[35,4,35,6],[37,1,37,2],[37,4,37,6],[39,4,39,6]]}
[{"$f":"'P3'!$D$1","v":"15tSM Jhxaxkuxj"}]
["izi="]
[{"$f":"Profile!$A$35","v":"o\"kZ 2021&2022 ds fy, jsUt ds vuqlkj laosru dh jkf'k "}]
["Ø-la-","in dk uke",",u-ih-,l-] lkekU;] fjDr","xzsM is",",d ekg dh jkf'k","12 ekg dh jkf'k","3 izfr'kr osru o`f)","x.kuk osru o`f)"]
[1,{"$f":"Profile!G44","v":"iz/kkukpk;Z"},"lkekU;",{"$f":"Profile!I44","v":16},{"$f":"Profile!J44","v":40300},{"$f":"E5*12","v":483600},{"$f":"Profile!P44","v":1200},{"$f":"ROUNDUP((E5)*(3%),0)","v":1209}]
[2,{"$f":"Profile!G45","v":"O;k[;krk"},"lkekU;",{"$f":"Profile!I45","v":16},{"$f":"Profile!J45","v":59500},{"$f":"E6*12","v":714000},{"$f":"Profile!P45","v":1800},{"$f":"ROUNDUP((E6)*(3%),0)","v":1785}]
[3,{"$f":"Profile!G46","v":"O;k[;krk"},"lkekU;",{"$f":"Profile!I46","v":16},{"$f":"Profile!J46","v":0},0,{"$f":"Profile!P46","v":0},0]
[4,{"$f":"Profile!G47","v":"O;k[;krk"},",uih,l",{"$f":"Profile!I47","v":16},{"$f":"Profile!J47","v":0},0,{"$f":"Profile!P47","v":0},0]
[5,{"$f":"Profile!G48","v":"O;k[;krk"},null,{"$f":"Profile!I48","v":16},{"$f":"Profile!J48","v":0},0,{"$f":"Profile!P48","v":0},0]
[6,{"$f":"Profile!G49","v":"O;k[;krk"},null,{"$f":"Profile!I49","v":6},{"$f":"Profile!J49","v":0},0,{"$f":"Profile!P49","v":0},0]
[7,{"$f":"Profile!G50","v":"O;k[;krk"},null,{"$f":"Profile!I50","v":7},{"$f":"Profile!J50","v":0},0,{"$f":"Profile!P50","v":0},0]
[1,{"$f":"Profile!G66","v":"ofj\"B v/;kid"},"lkekU;",{"$f":"Profile!I66","v":11},{"$f":"Profile!J66","v":0},0,{"$f":"Profile!P66","v":0},0]
[2,{"$f":"Profile!G67","v":"ofj\"B v/;kid"},",u-ih-,l- fQDl",{"$f":"Profile!I67","v":11},{"$f":"Profile!J67","v":0},0,{"$f":"Profile!P67","v":0},0]
[3,{"$f":"Profile!G68","v":"ofj\"B v/;kid"},"fjDr",{"$f":"Profile!I68","v":11},{"$f":"Profile!J68","v":0},0,{"$f":"Profile!P68","v":0},0]
[4,{"$f":"Profile!G69","v":"ofj\"B v/;kid"},"fjDr",{"$f":"Profile!I69","v":11},{"$f":"Profile!J69","v":0},{"$f":"E15*12","v":0},{"$f":"Profile!P69","v":0}]
[12,{"$f":"Profile!G70","v":"ofj\"B v/;kid"},null,{"$f":"Profile!I70","v":11},{"$f":"Profile!J70","v":0},0,{"$f":"Profile!P70","v":0}]
[13,{"$f":"Profile!G71","v":"ofj\"B v/;kid"},null,{"$f":"Profile!I71","v":11},{"$f":"Profile!J71","v":0},0,{"$f":"Profile!P71","v":0}]
[5,{"$f":"Profile!G88","v":"v/;kid&2"},"lkekU;",{"$f":"Profile!I88","v":10},{"$f":"Profile!J88","v":0},0,{"$f":"Profile!P88","v":0}]
[6,{"$f":"Profile!G89","v":"v/;kid&2"},",u-ih-,l-",{"$f":"Profile!I89","v":10},{"$f":"Profile!J89","v":0},{"$f":"E19*12","v":0},{"$f":"Profile!P89","v":0}]
[7,{"$f":"Profile!G90","v":"v/;kid&2"},"fjDr",{"$f":"Profile!I90","v":10},{"$f":"Profile!J90","v":0},0,{"$f":"Profile!P90","v":0}]
[8,{"$f":"Profile!G91","v":"v/;kid&1"},"lkekU;",{"$f":"Profile!I91","v":10},{"$f":"Profile!J91","v":0},0,{"$f":"Profile!P91","v":0}]
[9,{"$f":"Profile!G92","v":"v/;kid&1"},",u-ih-,l-",{"$f":"Profile!I92","v":10},{"$f":"Profile!J92","v":0},0,{"$f":"Profile!P92","v":0}]
[19,{"$f":"Profile!G93","v":"v/;kid&1"},null,{"$f":"Profile!I93","v":10},{"$f":"Profile!J93","v":0},0,{"$f":"Profile!P93","v":0},0]
[10,{"$f":"Profile!G94","v":" 'kk-f'k{kd"},"lkekU;",{"$f":"Profile!I94","v":10},{"$f":"Profile!J94","v":0},0,{"$f":"Profile!P94","v":0},0]
[21,{"$f":"Profile!G95","v":"dk;kZy; lgk;d"},null,{"$f":"Profile!I95","v":10},{"$f":"Profile!J95","v":0},0,{"$f":"Profile!P95","v":0},0]
[11,{"$f":"Profile!G96","v":"ofj\"B fyfid"},",u-ih-,l-",{"$f":"Profile!I96","v":8},{"$f":"Profile!J96","v":0},0,{"$f":"Profile!P96","v":0}]
[12,{"$f":"Profile!G97","v":"dfu\"B fyfid"},",u-ih-,l-",{"$f":"Profile!I97","v":5},{"$f":"Profile!J97","v":0},0,{"$f":"Profile!P97","v":0}]
[13,{"$f":"Profile!G98","v":"lgk;d deZpkjh"},"lkekU;",{"$f":"Profile!I98","v":1},{"$f":"Profile!J98","v":0},0,{"$f":"Profile!P98","v":0}]
[14,{"$f":"Profile!G99","v":"lgk;d deZpkjh"},",u-ih-,l-",{"$f":"Profile!I99","v":1},{"$f":"Profile!J99","v":0},0,{"$f":"Profile!P99","v":0}]
[null,{"$f":"Profile!G100","v":"lgk;d deZpkjh"},null,{"$f":"Profile!I100","v":1},{"$f":"Profile!J100","v":0},0,{"$f":"Profile!P100","v":0}]
[null,null,"dqy ",null,{"$f":"SUM(E5:E30)","v":99800},{"$f":"SUM(F5:F30)","v":1197600},{"$f":"SUM(G5:G30)","v":3000}]
[]
[null,null,"lkekU;",null,{"$f":"E12+E18+E21+E24+E28","v":0},0,{"$f":"G12+G18+G21+G24+G28","v":0}]
[null,"lk0osru o`f) 8 ekg",null,null,{"$f":"G33*8","v":0}]
[null,null,",uih,l",null,{"$f":"E13+E19+E22+E26+E27+E29","v":0},0,{"$f":"G13+G19+G22+G26+G27+G29","v":0}]
[null,"lk0osru o`f) 8 ekg ,uih,l",null,null,{"$f":"G35*8","v":0}]
[null,null,"dqy",null,{"$f":"E33+E35","v":0},0,{"$f":"G33+G35","v":0}]
[null,"lk0osru o`f) 8 ekg dqy",null,null,{"$f":"E36+E34","v":0}]
[]
[null,null,"egk;ksx",null,{"$f":"F37+E38","v":0}]

{"sheet":"Sheet1","index":12,"n_rows":74,"n_cols":14,"rows_kept":74,"hidden":true,"merged":[[0,0,0,1],[0,2,0,8],[1,2,1,4],[15,1,15,4],[15,5,16,5],[15,6,16,6],[15,7,16,7],[15,8,16,8],[15,9,16,9],[15,10,16,10],[15,11,16,11],[22,2,22,4],[22,5,22,11],[22,12,22,13]]}
["dk;kZy;&",null,"jktdh; mPp ek/;fed fo|ky; pkSxkbZa Vksad"]
["eksgj&",null,"Budget Estemate"]
["ihZbZbZvks 10tSM ,oa iz/kkukpk;Z",{"$nulls":4},"vkWfQl vkbZMh","uke MhMhvks",null,"uEcj"]
["jktdh; mPp ek/;fed fo|ky;",{"$nulls":4},2405,"izHkkr 'kekZ",null,9414318727]
["15tSM Jhxaxkuxj",{"$nulls":4},"rS;kj drkZ ","lqfer fxjh",null,9414631519]
["ctV en        eq[; 'kh\"kZ",null,2202,"lkekU; f'k{kk"]
[null,null,{"v":2,"d":"02"},"ek/;fed f'k{kk"]
[null,null,109,"jktdh; mPp ek/;fed fo|ky;"]
[null,null,27,"yM+dksa ds fo|ky;"]
[null,null,{"v":1,"d":"01"},"yM+dksa ds fo|ky;"]
[]
[]
["Ldhe dk uke",{"$nulls":4},"LVsV Q.M"]
["ekax la[;k",null,24,{"$nulls":4},"Arear Month",8]
["ctV Lohd`fr esa fo|ky; dh Ø-la-",{"$nulls":4},14,"egakbZ HkÙk nj",17,"DA Arr.",0,"HRA",8]
["xr rhu o\"ksksZa ds vk; ,oa O;; dk fooj.k","gsM",{"$nulls":3},"2017-18","2018-19","2019-20","08/19 to 03/20","04/20 to 07/20","la'kksf/kr vuqeku 2020&21","vk; vuqeku 2021&2022"]
["vk;"]
["f'k{k.k Qhl o vU; Qhl","0202&02",102,{"v":1,"d":"01"},{"v":0,"d":"00"},110,200,210,150,90,220,230]
["ikB~; iqLrdksa ls vk;","0202&02",102,{"v":2,"d":"02"}]
["fofo/k","0202&02",102,{"v":3,"d":"03"},{"v":1,"d":"01"}]
["vf/kd Hkqxrku dh olwyh","0202&02",102,{"v":3,"d":"03"},{"v":2,"d":"02"}]
["vuqi;ksxh lkeku ds fuLrkj.k ls vk;","0202&02",102,{"v":5,"d":"05"},{"v":2,"d":"02"}]
["O;;",null,"Lohd`r ctV 20&21",null,null,"[kpksZa dk fooj.k",{"$nulls":6}," O;; 04@20 ls 07@20"]
["en","gsM","dqy ;ksx","jkT; fuf/k","dsUnzh; lgk;rk","2017-18","2018-19","2019-20","08/19 to 03/20","04/20 to 07/20","lEHkkfor O;; 2020&21","dqy ;ksx","jkT; fuf/k","dsUnzh; lgk;rk"]
["laosru",{"v":1,"d":"01"},{"$f":"SUM(D25+E25)","v":2384000},2384000,0,3783379,4658460,4432536,2925894,289407,4652816,{"$f":"SUM(J25+K25)","v":4942223},289407,0]
[";k=k O;;",{"v":3,"d":"03"},0,0,0,0,0,18750,18750,0,0,0,0,0]
["fpfdRlk O;;",{"v":4,"d":"04"},0,{"$nulls":8},0,null,0]
[" dk;kZy; O;;",{"v":5,"d":"05"},0,{"$nulls":8},0,null,0]
["fdjk;k dj jk;fYV",{"v":9,"d":"09"},0,{"$nulls":8},0,null,0]
["e'khujh lkt lkeku",20,0,{"$nulls":8},0,null,0]
["iqLrdky;",31,0,{"$nulls":8},0,null,0]
["iz;ksx'kkyk",33,0,{"$nulls":8},0,null,0]
["ofnZ;ka",37,0,{"$nulls":8},0,null,0]
["vU; izHkkj",28,0,{"$nulls":8},0,null,0]
["foHkkxh;lsokvksa ij fof'k\"V O;;",57,0,{"$nulls":8},0,null,0]
[]
[null,"Developed by-",{"$nulls":11},"L-1"]
[null,"Chaturbhuj Jat",{"$nulls":3},"प्रधानाचार्य",{"$nulls":7},"L-2"]
[null,"Teacher GSSS Chogai",{"$nulls":3},"प्रधानाध्यापक",null,null,"G","M","R","C","S","L-3"]
[{"$nulls":5},"व्याख्याता",null,null,"NG","F","F","W","M","L-4"]
[{"$nulls":5},"व्याख्याता शारीरिक शिक्षा",{"$nulls":5},"H",null,"L-5"]
[{"$nulls":5},"पुस्तकालय अध्यक्ष ग्रेड I",{"$nulls":7},"L-6"]
[{"$nulls":5},"वरिष्ठ अध्यापक",{"$nulls":7},"L-7"]
[{"$nulls":5},"वरिष्ठ शारीरिक शिक्षक",{"$nulls":7},"L-8"]
[{"$nulls":5},"पुस्तकालय अध्यक्ष ग्रेड II",{"$nulls":7},"L-9"]
[{"$nulls":5},"अध्यापक ग्रेड III",{"$nulls":7},"L-10"]
[{"$nulls":5},"प्रबोधक",{"$nulls":7},"L-11"]
[{"$nulls":5},"शारीरिक शिक्षक",{"$nulls":7},"L-12"]
[{"$nulls":5},"पुस्तकालय अध्यक्ष ग्रेड III",{"$nulls":7},"L-13"]
[{"$nulls":5},"संस्थापन अधिकारी",{"$nulls":7},"L-14"]
[{"$nulls":5},"प्रशासनिक अधिकारी",{"$nulls":7},"L-15"]
[{"$nulls":5},"अतिरिक्त प्रशासनिक अधिकारी",{"$nulls":7},"L-16"]
[{"$nulls":5},"सहायक प्रशासनिक अधिकारी",{"$nulls":7},"L-17"]
[{"$nulls":5},"वरिष्ठ सहायक",{"$nulls":7},"L-18"]
[{"$nulls":5},"कनिष्ठ सहायक",{"$nulls":7},"L-19"]
[{"$nulls":5},"प्रयोग शाला सहायक",{"$nulls":7},"L-20"]
[{"$nulls":5},"प्रयोग शाला सेवक",{"$nulls":7},"L-21"]
[{"$nulls":5},"जमादार",{"$nulls":7},"L-22"]
[{"$nulls":5},"सहायक कर्मचारी",{"$nulls":7},"L-23"]
[{"$nulls":5},"ए सी बी ई ओ प्रथम",{"$nulls":7},"L-24"]
[{"$nulls":5},"सहायक लेखाधिकारी प्रथम "]
[{"$nulls":5},"सहायक लेखाधिकारी द्वितीय "]
[{"$nulls":5},"कनिष्ठ लेखाकार"]
[{"$nulls":5},"अतिरिक्त जिला शिक्षा अधिकारी"]
[{"$nulls":5},"मुख्य जिला शिक्षा अधिकारी "]
[{"$nulls":5},"संयुक्त  निदेशक स्कूल शिक्षा"]
[{"$nulls":5},"सी बी ई ओ"]
[{"$nulls":5},"प्रबोधक शारीरिक शिक्षक"]
[{"$nulls":5},"प्रशिक्षु शिक्षक"]
[{"$nulls":5},"व्याख्याता कृषि"]
[{"$nulls":5},"कृषि अध्यापक"]
[{"$nulls":5},"कृषि प्रमुख"]
[{"$nulls":5},"विशेष शिक्षक"]
[{"$nulls":5},"ए सी बी ई ओ दवितीय"]