Workbook
Name _tds1: #REF!
Name _tds1: #REF!
Name _tds2: #REF!
Name _tds2: #REF!
Name AIR.Code001: #REF!
Name AIR.Code001: #REF!
Name AIR.Code002: #REF!
Name AIR.Code002: #REF!
Name AIR.Code003: #REF!
Name AIR.Code003: #REF!
Name AIR.Code004: #REF!
Name AIR.Code004: #REF!
Name AIR.Code005: #REF!
Name AIR.Code005: #REF!
Name AIR.Code006: #REF!
Name AIR.Code006: #REF!
Name AIR.Code007: #REF!
Name AIR.Code007: #REF!
Name AIR.Code008: #REF!
Name AIR.Code008: #REF!
Name AIR.TaxExmpIntInc: #REF!
Name AIR.TaxExmpIntInc: #REF!
Name Bank1: #REF!
Name Bank1: #REF!
Name Bank10: #REF!
Name Bank10: #REF!
Name Bank11: #REF!
Name Bank11: #REF!
Name Bank12: #REF!
Name Bank12: #REF!
Name Bank2: #REF!
Name Bank2: #REF!
Name Bank3: #REF!
Name Bank3: #REF!
Name Bank4: #REF!
Name Bank4: #REF!
Name Bank5: #REF!
Name Bank5: #REF!
Name Bank6: #REF!
Name Bank6: #REF!
Name Bank6PCAR: #REF!
Name Bank6PCAR: #REF!
Name Bank7: #REF!
Name Bank7: #REF!
Name Bank8: #REF!
Name Bank8: #REF!
Name Bank9: #REF!
Name Bank9: #REF!
Name BankAccNo: #REF!
Name BankAccNo: #REF!
Name BankArrear: #REF!
Name BankArrear: #REF!
Name BankArrear0: #REF!
Name BankArrear0: #REF!
Name BankArrear1: #REF!
Name BankArrear1: #REF!
Name BankArrear2: #REF!
Name BankArrear2: #REF!
Name BankArrear3: #REF!
Name BankArrear3: #REF!

Sheet GA-55
C1: USE KRUTIDEV & DEVLYS 10 FONT
D2: ;fn vki 01-01-2004 dks ;k mlds i'pkr fu;qDr dkfeZd gSa rks Drop Down Menu esa ls "Yes" pqusa] vU;Fkk "No" pqusaA | Z2: Yes | AC2: HRA
D3: D;k vkius lefiZr osru fy;k gS \ | L3: No | N3: ;fn gk¡ rks ftl ekg esa fcy cuk mldk Øekad pqusaA | X3: 7
D4: D;k vki ofj"B ukxfjd Js.kh ¼60-80 vk;qoxZ½ esa vkrs gS \ | P4: No | R4: D;k vkius cksul feyk gS \ | Z4: Yes | AC4: 0.08
C6: GOVT SR. SEC SCHOOL DILOD HATHI, ATRU BARAN
C7: INCOME TAX CALCULATION (GA-55) 2021-22
C8: NAME : | D8: PARMANAND MEGHWAL | K8: SR TEACHER | O8: PAN : | P8: ASQPM6311G | T8: TAN: | U8: AAAAAAAA | Z8: A/C NO. | AB8: 2225617763
M9: RAJTEACHERS.NET | Z9: MOB NO. | AB9: 9784379510
C10: Month | D10: Basic Pay | E10: Spl. Pay | F10: D.A. | G10: H.R.A. | H10: H.D.A | I10: Mess Allowance | J10: Washing Allow. | K10: ROP (If any, put the value in minus) | L10: FTA | M10: Other Allowance | N10: Gross Salary | O10: =IF(Z2="No","GPF","Emp. C.Pen.F.") -> Emp. C.Pen.F. | P10: =IF(Z2="No","GPF LOAN","") | Q10: SI | R10: SI LOAN + INT | S10: RPMF/RGHS | T10: LIC | U10: Group Insurance Accidental | V10: RSRTC | W10: Other Deduction | X10: Income Tax / TDS | Y10: GPF 2004 | Z10: RPBF | AA10: Total Deduction | AB10: Net Payment | AC10: Bill No. & T.V. No.
B11: 3 | C11: 44256 | D11: 27200 | E11: 0 | F11: =ROUND(17%*D11,0) -> 4624 | G11: =IF($AC$4=16%,ROUND(0.16*D11,0),ROUND(0.08*D11,0)) -> 2176 | H11: =ROUND((D11+F11)/12,0) -> 2652 | I11: 2000 | J11: 0 | K11: 0 | L11: 500 | M11: 0 | N11: =SUM(D11:M11) -> 39152 | O11: =IF($Z$2="Yes",ROUND((D11+F11)*0.1,0),IF($Z$2="No",IF(D11<23101,1450,IF(D11<28501,1625,IF(D11<38501,2100,IF(D11<51501,2850,IF(D11<62001,3575,IF(D11<72001,4200,IF(D11<80001,4800,IF(D11<116001,6150,IF(D11<167001,8900,10500))))))))),0)) -> 3182 | P11: 0 | Q11: 3000 | R11: 0 | S11: =IF($Z$2="No",IF(D11<18001,219,IF(D11<33501,364,IF(D11<54001,545,725))),0) -> 0 | U11: 0 | V11: 200 | X11: 0 | Z11: 500 | AA11: =SUM(O11:Z11) -> 6882 | AB11: =N11-AA11 -> 32270
B12: 4 | C12: 44287 | D12: =D11 -> 27200 | E12: =IF(E$11=0,0,E11) -> 0 | F12: =ROUND(17%*D12,0) -> 4624 | G12: =IF($AC$4=16%,ROUND(0.16*D12,0),ROUND(0.08*D12,0)) -> 2176 | H12: =ROUND((D12+F12)/12,0) -> 2652 | I12: =I11 -> 2000 | J12: =IF(J$11=0,0,J11) -> 0 | K12: =IF(K$11=0,0,K11) -> 0 | L12: =IF(L$11=0,0,L11) -> 500 | M12: =IF(M$11=0,0,M11) -> 0 | N12: =SUM(D12:M12) -> 39152 | O12: =IF($Z$2="Yes",ROUND((D12+F12)*0.1,0),IF($Z$2="No",IF(D12<23101,1450,IF(D12<28501,1625,IF(D12<38501,2100,IF(D12<51501,2850,IF(D12<62001,3575,IF(D12<72001,4200,IF(D12<80001,4800,IF(D12<116001,6150,IF(D12<167001,8900,10500))))))))),0)) -> 3182 | P12: =P11 -> 0 | Q12: =Q11 -> 3000 | R12: =R11 -> 0 | S12: =IF($Z$2="No",IF(D12<18001,242,IF(D12<33501,402,IF(D12<54001,602,800))),0) -> 0 | T12: =T11 -> 0 | U12: 220 | V12: =V11 -> 200 | W12: =W11 -> 0 | X12: =X11 -> 0 | Y12: =Y11 -> 0 | AA12: =SUM(O12:Z12) -> 6602 | AB12: =N12-AA12 -> 32550
B13: 5 | C13: 44317 | D13: =D12 -> 27200 | E13: =IF(E$11=0,0,E12) -> 0 | F13: =ROUND(17%*D13,0) -> 4624 | G13: =IF($AC$4=16%,ROUND(0.16*D13,0),ROUND(0.08*D13,0)) -> 2176 | H13: =ROUND((D13+F13)/12,0) -> 2652 | I13: =I12 -> 2000 | J13: =IF(J$11=0,0,J12) -> 0 | K13: =IF(K$11=0,0,K12) -> 0 | L13: =IF(L$11=0,0,L12) -> 500 | M13: =IF(M$11=0,0,M12) -> 0 | N13: =SUM(D13:M13) -> 39152 | O13: =IF($Z$2="Yes",ROUND((D13+F13)*0.1,0),IF($Z$2="No",IF(D13<23101,1450,IF(D13<28501,1625,IF(D13<38501,2100,IF(D13<51501,2850,IF(D13<62001,3575,IF(D13<72001,4200,IF(D13<80001,4800,IF(D13<116001,6150,IF(D13<167001,8900,10500))))))))),0)) -> 3182 | P13: =P12 -> 0 | Q13: =Q12 -> 3000 | R13: =R12 -> 0 | S13: =IF($Z$2="No",IF(D13<18001,242,IF(D13<33501,402,IF(D13<54001,602,800))),0) -> 0 | T13: =T12 -> 0 | U13: 0 | V13: =V12 -> 200 | W13: =W12 -> 0 | X13: =X12 -> 0 | Y13: =Y12 -> 0 | AA13: =SUM(O13:Z13) -> 6382 | AB13: =N13-AA13 -> 32770
B14: 6 | C14: 44348 | D14: =D13 -> 27200 | E14: =IF(E$11=0,0,E13) -> 0 | F14: =ROUND(17%*D14,0) -> 4624 | G14: =IF($AC$4=16%,ROUND(0.16*D14,0),ROUND(0.08*D14,0)) -> 2176 | H14: =ROUND((D14+F14)/12,0) -> 2652 | I14: =I13 -> 2000 | J14: =IF(J$11=0,0,J13) -> 0 | K14: =IF(K$11=0,0,K13) -> 0 | L14: =IF(L$11=0,0,L13) -> 500 | M14: =IF(M$11=0,0,M13) -> 0 | N14: =SUM(D14:M14) -> 39152 | O14: =IF($Z$2="Yes",ROUND((D14+F14)*0.1,0),IF($Z$2="No",IF(D14<23101,1450,IF(D14<28501,1625,IF(D14<38501,2100,IF(D14<51501,2850,IF(D14<62001,3575,IF(D14<72001,4200,IF(D14<80001,4800,IF(D14<116001,6150,IF(D14<167001,8900,10500))))))))),0)) -> 3182 | P14: =P13 -> 0 | Q14: =Q13 -> 3000 | R14: =R13 -> 0 | S14: =IF($Z$2="No",IF(D14<18001,242,IF(D14<33501,402,IF(D14<54001,602,800))),0) -> 0 | T14: =T13 -> 0 | U14: 0 | V14: =V13 -> 200 | W14: =W13 -> 0 | X14: =X13 -> 0 | Y14: =Y13 -> 0 | AA14: =SUM(O14:Z14) -> 6382 | AB14: =N14-AA14 -> 32770
B15: 7 | C15: 44378 | D15: =MROUND(ROUND(1.03*D14,0),100) -> 28000 | E15: =IF(E$11=0,0,E14) -> 0 | F15: =ROUND(28%*D15,0) -> 7840 | G15: =IF($AC$4=16%,ROUND(0.16*D15,0),ROUND(0.08*D15,0)) -> 2240 | H15: =ROUND((D15+F15)/12,0) -> 2987 | I15: =I14 -> 2000 | J15: =IF(J$11=0,0,J14) -> 0 | K15: =IF(K$11=0,0,K14) -> 0 | L15: =IF(L$11=0,0,L14) -> 500 | M15: =IF(M$11=0,0,M14) -> 0 | N15: =SUM(D15:M15) -> 43567 | O15: =IF($Z$2="Yes",ROUND((D15+F15)*0.1,0),IF($Z$2="No",IF(D15<23101,1450,IF(D15<28501,1625,IF(D15<38501,2100,IF(D15<51501,2850,IF(D15<62001,3575,IF(D15<72001,4200,IF(D15<80001,4800,IF(D15<116001,6150,IF(D15<167001,8900,10500))))))))),0)) -> 3584 | P15: =P14 -> 0 | Q15: =Q14 -> 3000 | R15: =R14 -> 0 | S15: =IF($Z$2="No",IF(D15<18001,242,IF(D15<33501,402,IF(D15<54001,602,800))),0) -> 0 | T15: =T14 -> 0 | U15: 0 | V15: =V14 -> 200 | W15: =W14 -> 0 | X15: =X14 -> 0 | Y15: =Y14 -> 0 | AA15: =SUM(O15:Z15) -> 6784 | AB15: =N15-AA15 -> 36783
B16: 8 | C16: 44409 | D16: =D15 -> 28000 | E16: =IF(E$11=0,0,E15) -> 0 | F16: =ROUND(28%*D16,0) -> 7840 | G16: =IF($AC$4=16%,ROUND(0.18*D16,0),ROUND(0.09*D16,0)) -> 2520 | H16: =ROUND((D16+F16)/12,0) -> 2987 | I16: =I15 -> 2000 | J16: =IF(J$11=0,0,J15) -> 0 | K16: =IF(K$11=0,0,K15) -> 0 | L16: =IF(L$11=0,0,L15) -> 500 | M16: =IF(M$11=0,0,M15) -> 0 | N16: =SUM(D16:M16) -> 43847 | O16: =IF($Z$2="Yes",ROUND((D16+F16)*0.1,0),IF($Z$2="No",IF(D16<23101,1450,IF(D16<28501,1625,IF(D16<38501,2100,IF(D16<51501,2850,IF(D16<62001,3575,IF(D16<72001,4200,IF(D16<80001,4800,IF(D16<116001,6150,IF(D16<167001,8900,10500))))))))),0)) -> 3584 | P16: =P15 -> 0 | Q16: =Q15 -> 3000 | R16: =R15 -> 0 | S16: =IF($Z$2="No",IF(D16<18001,242,IF(D16<33501,402,IF(D16<54001,602,800))),0) -> 0 | T16: =T15 -> 0 | U16: 0 | V16: =V15 -> 200 | W16: =W15 -> 0 | X16: =X15 -> 0 | Y16: =Y15 -> 0 | AA16: =SUM(O16:Z16) -> 6784 | AB16: =N16-AA16 -> 37063
B17: 9 | C17: 44440 | D17: =D16 -> 28000 | E17: =IF(E$11=0,0,E16) -> 0 | F17: =ROUND(28%*D17,0) -> 7840 | G17: =IF($AC$4=16%,ROUND(0.18*D17,0),ROUND(0.09*D17,0)) -> 2520 | H17: =ROUND((D17+F17)/12,0) -> 2987 | I17: =I16 -> 2000 | J17: =IF(J$11=0,0,J16) -> 0 | K17: =IF(K$11=0,0,K16) -> 0 | L17: =IF(L$11=0,0,L16) -> 500 | M17: =IF(M$11=0,0,M16) -> 0 | N17: =SUM(D17:M17) -> 43847 | O17: =IF($Z$2="Yes",ROUND((D17+F17)*0.1,0),IF($Z$2="No",IF(D17<23101,1450,IF(D17<28501,1625,IF(D17<38501,2100,IF(D17<51501,2850,IF(D17<62001,3575,IF(D17<72001,4200,IF(D17<80001,4800,IF(D17<116001,6150,IF(D17<167001,8900,10500))))))))),0)) -> 3584 | P17: =P16 -> 0 | Q17: =Q16 -> 3000 | R17: =R16 -> 0 | S17: =IF($Z$2="No",IF(D17<18001,242,IF(D17<33501,402,IF(D17<54001,602,800))),0) -> 0 | T17: =T16 -> 0 | U17: 0 | V17: =V16 -> 200 | W17: =W16 -> 0 | X17: =X16 -> 0 | Y17: =Y16 -> 0 | AA17: =SUM(O17:Z17) -> 6784 | AB17: =N17-AA17 -> 37063
B18: 10 | C18: 44470 | D18: =D17 -> 28000 | E18: =IF(E$11=0,0,E17) -> 0 | F18: =ROUND(31%*D18,0) -> 8680 | G18: =IF($AC$4=16%,ROUND(0.18*D18,0),ROUND(0.09*D18,0)) -> 2520 | H18: =ROUND((D18+F18)/12,0) -> 3057 | I18: =I17 -> 2000 | J18: =IF(J$11=0,0,J17) -> 0 | K18: =IF(K$11=0,0,K17) -> 0 | L18: =IF(L$11=0,0,L17) -> 500 | M18: =IF(M$11=0,0,M17) -> 0 | N18: =SUM(D18:M18) -> 44757 | O18: =IF($Z$2="Yes",ROUND((D18+F18)*0.1,0),IF($Z$2="No",IF(D18<23101,1450,IF(D18<28501,1625,IF(D18<38501,2100,IF(D18<51501,2850,IF(D18<62001,3575,IF(D18<72001,4200,IF(D18<80001,4800,IF(D18<116001,6150,IF(D18<167001,8900,10500))))))))),0)) -> 3668 | P18: =P17 -> 0 | Q18: =Q17 -> 3000 | R18: =R17 -> 0 | S18: =IF($Z$2="No",IF(D18<18001,242,IF(D18<33501,402,IF(D18<54001,602,800))),0) -> 0 | T18: =T17 -> 0 | U18: 0 | V18: =V17 -> 200 | W18: =W17 -> 0 | X18: =X17 -> 0 | Y18: =Y17 -> 0 | AA18: =SUM(O18:Z18) -> 6868 | AB18: =N18-AA18 -> 37889
B19: 11 | C19: 44501 | D19: =D18 -> 28000 | E19: =IF(E$11=0,0,E18) -> 0 | F19: =ROUND(31%*D19,0) -> 8680 | G19: =IF($AC$4=16%,ROUND(0.18*D19,0),ROUND(0.09*D19,0)) -> 2520 | H19: =ROUND((D19+F19)/12,0) -> 3057 | I19: =I18 -> 2000 | J19: =IF(J$11=0,0,J18) -> 0 | K19: =IF(K$11=0,0,K18) -> 0 | L19: =IF(L$11=0,0,L18) -> 500 | M19: =IF(M$11=0,0,M18) -> 0 | N19: =SUM(D19:M19) -> 44757 | O19: =IF($Z$2="Yes",ROUND((D19+F19)*0.1,0),IF($Z$2="No",IF(D19<23101,1450,IF(D19<28501,1625,IF(D19<38501,2100,IF(D19<51501,2850,IF(D19<62001,3575,IF(D19<72001,4200,IF(D19<80001,4800,IF(D19<116001,6150,IF(D19<167001,8900,10500))))))))),0)) -> 3668 | P19: =P18 -> 0 | Q19: =Q18 -> 3000 | R19: =R18 -> 0 | S19: =IF($Z$2="No",IF(D19<18001,242,IF(D19<33501,402,IF(D19<54001,602,800))),0) -> 0 | T19: =T18 -> 0 | U19: 0 | V19: =V18 -> 200 | W19: =W18 -> 0 | X19: =X18 -> 0 | Y19: =Y18 -> 0 | AA19: =SUM(O19:Z19) -> 6868 | AB19: =N19-AA19 -> 37889
B20: 12 | C20: 44531 | D20: =D19 -> 28000 | E20: =IF(E$11=0,0,E19) -> 0 | F20: =ROUND(31%*D20,0) -> 8680 | G20: =IF($AC$4=16%,ROUND(0.18*D20,0),ROUND(0.09*D20,0)) -> 2520 | H20: =ROUND((D20+F20)/12,0) -> 3057 | I20: =I19 -> 2000 | J20: =IF(J$11=0,0,J19) -> 0 | K20: =IF(K$11=0,0,K19) -> 0 | L20: =IF(L$11=0,0,L19) -> 500 | M20: =IF(M$11=0,0,M19) -> 0 | N20: =SUM(D20:M20) -> 44757 | O20: =IF($Z$2="Yes",ROUND((D20+F20)*0.1,0),IF($Z$2="No",IF(D20<23101,1450,IF(D20<28501,1625,IF(D20<38501,2100,IF(D20<51501,2850,IF(D20<62001,3575,IF(D20<72001,4200,IF(D20<80001,4800,IF(D20<116001,6150,IF(D20<167001,8900,10500))))))))),0)) -> 3668 | P20: =P19 -> 0 | Q20: =Q19 -> 3000 | R20: =R19 -> 0 | S20: =IF($Z$2="No",IF(D20<18001,242,IF(D20<33501,402,IF(D20<54001,602,800))),0) -> 0 | T20: =T19 -> 0 | U20: 0 | V20: =V19 -> 200 | W20: =W19 -> 0 | X20: =X19 -> 0 | Y20: =Y19 -> 0 | AA20: =SUM(O20:Z20) -> 6868 | AB20: =N20-AA20 -> 37889
B21: 1 | C21: 44562 | D21: =D20 -> 28000 | E21: =IF(E$11=0,0,E20) -> 0 | F21: =ROUND(31%*D21,0) -> 8680 | G21: =IF($AC$4=16%,ROUND(0.18*D21,0),ROUND(0.09*D21,0)) -> 2520 | H21: =ROUND((D21+F21)/12,0) -> 3057 | I21: =I20 -> 2000 | J21: =IF(J$11=0,0,J20) -> 0 | K21: =IF(K$11=0,0,K20) -> 0 | L21: =IF(L$11=0,0,L20) -> 500 | M21: =IF(M$11=0,0,M20) -> 0 | N21: =SUM(D21:M21) -> 44757 | O21: =IF($Z$2="Yes",ROUND((D21+F21)*0.1,0),IF($Z$2="No",IF(D21<23101,1450,IF(D21<28501,1625,IF(D21<38501,2100,IF(D21<51501,2850,IF(D21<62001,3575,IF(D21<72001,4200,IF(D21<80001,4800,IF(D21<116001,6150,IF(D21<167001,8900,10500))))))))),0)) -> 3668 | P21: =P20 -> 0 | Q21: =Q20 -> 3000 | R21: =R20 -> 0 | S21: =IF($Z$2="No",IF(D21<18001,242,IF(D21<33501,402,IF(D21<54001,602,800))),0) -> 0 | T21: =T20 -> 0 | U21: 0 | V21: =V20 -> 200 | W21: =W20 -> 0 | X21: =X20 -> 0 | Y21: =Y20 -> 0 | AA21: =SUM(O21:Z21) -> 6868 | AB21: =N21-AA21 -> 37889
B22: 2 | C22: 44593 | D22: =D21 -> 28000 | E22: =IF(E$11=0,0,E21) -> 0 | F22: =ROUND(31%*D22,0) -> 8680 | G22: =IF($AC$4=16%,ROUND(0.18*D22,0),ROUND(0.09*D22,0)) -> 2520 | H22: =ROUND((D22+F22)/12,0) -> 3057 | I22: =I21 -> 2000 | J22: =IF(J$11=0,0,J21) -> 0 | K22: =IF(K$11=0,0,K21) -> 0 | L22: =IF(L$11=0,0,L21) -> 500 | M22: =IF(M$11=0,0,M21) -> 0 | N22: =SUM(D22:M22) -> 44757 | O22: =IF($Z$2="Yes",ROUND((D22+F22)*0.1,0),IF($Z$2="No",IF(D22<23101,1450,IF(D22<28501,1625,IF(D22<38501,2100,IF(D22<51501,2850,IF(D22<62001,3575,IF(D22<72001,4200,IF(D22<80001,4800,IF(D22<116001,6150,IF(D22<167001,8900,10500))))))))),0)) -> 3668 | P22: =P21 -> 0 | Q22: =Q21 -> 3000 | R22: =R21 -> 0 | S22: =IF($Z$2="No",IF(D22<18001,242,IF(D22<33501,402,IF(D22<54001,602,800))),0) -> 0 | T22: =T21 -> 0 | U22: 0 | V22: =V21 -> 200 | W22: =W21 -> 0 | X22: =X21 -> 0 | Y22: =Y21 -> 0 | AA22: =SUM(O22:Z22) -> 6868 | AB22: =N22-AA22 -> 37889
C23: DA Arrear | F23: =(ROUND(31%*D15,0)-ROUND(28%*D15,0))*3 -> 2520 | N23: =F23 -> 2520 | O23: =IF($Z$2="Yes",ROUND((ROUND(31%*D15,0)-ROUND(28%*D15,0))*10%,0)*3,IF($Z$2="No",F23,0)) -> 252 | T23: 0 | Y23: =IF($Z$2="Yes",N23-O23,IF($Z$2="No",0)) -> 2268 | AA23: =SUM(O23:Z23) -> 2520 | AB23: =N23-AA23 -> 0
C24: HRA Arrear | G24: =IF($AC$4=16%,ROUND(0.02*D15,0),ROUND(0.01*D15,0)) -> 280 | N24: =SUM(D24:M24) -> 280 | AA24: =SUM(O24:Z24) -> 0 | AB24: =N24-AA24 -> 280
C25: Surrender | D25: =IF(L3="NO",0,IF(X3=3,D22,VLOOKUP(X3,B11:D22,3,FALSE)))/2 -> 0 | F25: =IF(AND(X3>3,X3<9),ROUND(17%*D25,0),ROUND(17%*D25,0)) -> 0 | N25: =SUM(D25:M25) -> 0 | AA25: =SUM(O25:Z25) -> 0 | AB25: =N25-AA25 -> 0
C26: Bonus | D26: =IF(Z4="Yes",6774,0) -> 6774 | N26: =SUM(D26:M26) -> 6774 | O26: =IF($Z$2="Yes",0,IF($Z$2="No",D26/2,0)) -> 0 | Y26: =IF($Z$2="NO",0,IF($Z$2="YES",D26/2,0)) -> 3387 | AA26: =SUM(O26:Z26) -> 3387 | AB26: =N26-AA26 -> 3387
C27: Fixation Arrear | N27: =SUM(D27:M27) -> 0 | AA27: =SUM(O27:Z27) -> 0 | AB27: =N27-AA27 -> 0
C28: Salary Arrear 1 | AA28: =SUM(O28:Z28) -> 0 | AB28: =N28-AA28 -> 0
C29: Salary Arrear 2 | AA29: =SUM(O29:Z29) -> 0 | AB29: =N29-AA29 -> 0
C30: Salary Arrear 3 | N30: =SUM(D30:M30) -> 0 | AA30: =SUM(O30:Z30) -> 0 | AB30: =N30-AA30 -> 0
C31: Other | N31: =SUM(D31:M31) -> 0 | AA31: =SUM(O31:Z31) -> 0 | AB31: =N31-AA31 -> 0
C32: TOTAL | D32: =SUM(D11:D31) -> 339574 | E32: =SUM(E11:E31) -> 0 | F32: =SUM(F11:F31) -> 87936 | G32: =SUM(G11:G31) -> 28864 | J32: =SUM(J11:J31) -> 0 | K32: =SUM(K11:K31) -> 0 | L32: =SUM(L11:L31) -> 6000 | M32: =SUM(M11:M31) -> 0 | N32: =SUM(N11:N31) -> 521228 | O32: =SUM(O11:O31) -> 42072 | P32: =SUM(P11:P31) -> 0 | Q32: =SUM(Q11:Q31) -> 36000 | ... AB32: =SUM(AB11:AB31) -> 434381
AB37: Signature of DDO

Sheet Other Deduction
A1: osru ds vfrfjDr dVkSfr;k¡] vk;@tek jkf'k ,oa NwV dk fooj.k
A2: ='GA-55'!D8& " , " &'GA-55'!K8&" PAN- "&'GA-55'!P8 -> PARMANAND MEGHWAL , SR TEACHER PAN- ASQPM6311G
A3: 1- edku fdjk;k HkRrk ¼ NwV tks ysuh gS½ | B3: 0 | D3: 17- cpr [kkrs dh tek jkf'k ij izkIr C;kt (80 TTA/80 TTB) gsrq | E3: 0 | F3: BASIC+D.A. | DR3: UPS Kuhada Khurd
A4: 2- euksjatu Hkrk /kkjk 16 ¼ii½ ds vUrxZr | B4: 0 | D4: 18- vU; vk; ¼,Q Mh ij C;kt] vU; C;kt ;k vU; L=ks+= ls vk; vkfn dk ;ksx½ | E4: 0 | F4: ='GA-55'!N32-'GA-55'!G32 -> 492364
A5: 3- O;o;k; dj /kkjk 16 ¼iii½ ds vUrxrZ | B5: 0 | D5: 19- vU; tek jkf'k ¼/kkjk 80 lh ds vUrxZr½ | E5: 0 | F5: Taxable Amt
A6: 4- x`g lEifr ls izkIr fdjk;k & vk; | B6: 0 | D6: 20- /kkjk 80CCC - isa'ku Iyku gsrq va'knku ¼,u-ih-,l- ds avykok½ | E6: 0 | F6: ='Tax Old Regime'!Q47 -> 384880
A7: 5- x`gdj | B7: 0 | D7: 21- /kkjk 80CCD(1B) -uohu isa'ku ;kstuk esa vfrfjDr va'knku ¼vf/kdre :- 50]000½ | E7: 0 | F7: Tax Deposited
A8: 6- x`g _.k fdLr ewy ¼tks osru ls ugha dkVk x;k½ | B8: 0 | D8: 22- /kkjk 80D - fpfdRlk chek izhfe;e ¼lkekU; 25000] ofj"B ukxfjd 50000½ | E8: 0 | F8: ='GA-55'!X32 -> 0
A9: 7- x`g _.k fdLr C;kt ¼tks osru ls ugha dkVk x;k½ | B9: 0 | D9: 23- /kkjk 80DD - fodykax vkfJrksa ds fpfdRlk mipkj¼vf/kdre 75000] 80% fodykaxrk 125000½ | E9: 0 | F9: Rebate Under Section 80C, 80CCC, 80CCD(1)
A10: 8- thou chek izhfe;e ¼tks osru ls ugh dkVk x;k½ LIC | B10: 0 | D10: 24- /kkjk 80DDB - fof'k"V jksxksa ds mipkj gsrq dVkSrh ¼lkekU; 40000] ofj"B ukxfjd 1 yk[k½ | E10: 0 | DR10: UPS Banediya Charnan
A11: 9- ih-,y-vkbZ- (PLI) | B11: 0 | D11: 25- /kkjk 80E - mPp f'k{kk gsrq fy, _.k dk C;kt ¼/kkjk 80E½ | E11: 0 | DR11: UPS Laxmipura Dhakaran
A12: 10- V;w'ku Qhl (Tution Fees) | B12: 0 | D12: 26- /kkjk 80G - /kekZFkZ laLFkkvksa vkfn dks fn;s nku ¼d Js.kh 100% ,oa [k Js.kh 50%½ | E12: 0 | F12: ='Tax Old Regime'!Q31 -> 86347 | DR12: UPS Pathraj Kala
A13: 11- ;w- ,y- vkbZ- ih-@okf"kZd Iyku | B13: 0 | D13: 27- /kkjk 80U - LFkkbZ 'kkjhfjd fodykaxrk ¼vf/kdre 75000] 80% fodykaxrk 125000½ | E13: 0
A14: 12- jk"Vªh; cpr i= (NSC) | B14: 0 | D14: 28- /kkjk 80 GGA - vuqeksfnr oSKkfud]lkekftd]xzkeh.k fodkl vkfn gsrq fn;k x;k nku | E14: 0 | F14: edku fdjk;k NwV ds fy, jlhn dh vko';drk | DR14: PS Aarampura
A15: 13- jk"Vªh; cpr i= ij vnr C;kt | B15: 0 | D15: 29- bfDoVh fyad lsfoax Ldhe | E15: 0 | DR15: UPS Laxmipura Dhakaran
A16: 14- yksd Hkfo"; fuf/k (PPF) | B16: 0 | D16: 30- LFkfxr okf"kZdh | E16: 0 | DR16: UPS Raghunathpura
A17: 15- jk"Vªh; cpr Ldhe | B17: 0 | D17: 31- jkgr /kkjk 89 ds rgr | E17: 0 | F17: =IF(B3>=1,(F4*10%+B3),0) -> 0 | DR17: UPS Manda
A18: 16- lqdU;k le`f) ;kstuk (SSY) | B18: 0 | D18: 32- osru fcy ds vykok tek djk;k x;k aavk;dj (TDS) | E18: 0 | DR18: UPS Sandla
A19: ='Tax Old Regime'!B63 -> Income Tax Payble/Refundable | D19: ='Tax Old Regime'!Q63 -> 0 | E19: HRA | F19: ='GA-55'!G32 -> 28864 | DR19: UPS Ramsinghpura
A20: ="Total Rebate of (US 80C, 80CCC,80CCD(1)) = "&'Tax Old Regime'!Q31 -> Total Rebate of (US 80C, 80CCC,80CCD(1)) = 86347 | D20: ="Investable Amount = "&(150000-'Tax Old Regime'!Q31) -> Investable Amount = 63653 | DR20: GSS Ganeshganj
A21: WWW.RAJTEACHERS.NET

Sheet Tax Old Regime
B1: ='GA-55'!C6 -> GOVT SR. SEC SCHOOL DILOD HATHI, ATRU BARAN
B2: vk;dj x.kuk izi= o"kZ 2021&2022¼dj fu/kkZj.k o"kZ 2022&2023½
B3: 1 | C3: uke deZpkjh % | E3: ='GA-55'!D8 -> PARMANAND MEGHWAL | K3: in % | L3: ='GA-55'!K8 -> SR TEACHER | O3: PAN : | P3: =IF('GA-55'!P8="","",'GA-55'!P8) -> ASQPM6311G
B4: 2 | C4: vk; % o"kZ&2021&22 esa izkIr dqy osru ¼ dj ;ksX; lqfo/kkvksa ds eqY; lfgr ½ | P4: #- | Q4: =IF('GA-55'!Z2="No",'GA-55'!N32,('GA-55'!N32+'GA-55'!O32)) -> 563300
B5: 3 | C5: x`g fdjk;k] /kkjk 10¼13&A½ ds vUrxrZ ,oa /kkjk 10¼14½ds vUrxrZ vU; Hkrs tks dj eqDÙk gSA | P5: #- | Q5: ='Other Deduction'!B3 -> 0
B6: 4 | C6: 'ks"k ¼2&3½ | P6: #- | Q6: =Q4-Q5 -> 563300
B7: 5 | C7: ¼i½ euksjatu Hkrk /kkjk 16 ¼ii½ ds vUrxrZ ¼ vf/kdre lhek : 5000 ½ | M7: ='Other Deduction'!B4 -> 0
C8: ¼ii½ O;o;k; dj /kkjk 16 ¼iii½ ds vUrxrZ | M8: ='Other Deduction'!B5 -> 0
C9: ¼iiI½ LVs.MMZ fMMsD'ku (Standard Deduction) 50]000 ¼vf/kdre½ | M9: =IF(Q6<50000,Q6,50000) -> 50000 | P9: #- | Q9: =SUM(M7:O9) -> 50000
B10: 6 | C10: 'ks"k ¼4&5½ | P10: #- | Q10: =Q6-Q9 -> 513300
B11: 7 | C11: ¼v½x`g lEifr ls vk;%¼1½ Loa; ds mi;ksx esa &'kwU; | K11: ¼2½ izkIr fdjk;k #- | M11: ='Other Deduction'!B6 -> 0
C12: ¼c½ ?kVk;sa | E12: fdjk;s dk 30% | H12: x`g _.k ij C;kt | K12: x`gdj | M12: ;ksx 7¼c½
E13: =ROUND(M11*0.3,0) -> 0 | H13: =IF(('GA-55'!W32+'Other Deduction'!B9)>200000,200000,('GA-55'!W32+'Other Deduction'!B9)) -> 0 | K13: ='Other Deduction'!B7 -> 0 | M13: =E13+H13+K13 -> 0
C14: 'ks"k &@$¼7¼v½ ,oa ;ksx 7¼c½ dk½ | P14: #- | Q14: =M11-M13 -> 0
B15: 8 | C15: dqy 'ks"k &@$¼6,oa 7½ | P15: #- | Q15: =Q10+Q14 -> 513300
B16: 9 | C16: vU; vk; | P16: #- | Q16: ='Other Deduction'!E3+'Other Deduction'!E4 -> 0
B17: 10 | C17: ldy vk; ;ksx ¼8$9½ | P17: #- | Q17: =Q15+Q16 -> 513300
B18: 11 | C18: ?kVkb;s dVkSSfr;k¡ %& /kkjk US 80C, 80CCC,80CCD (1)
C19: (A) vf/kdre lhek 1]50]000@& ¼/kkjk 80CCE ½ ] ¼/kkjk 80CCD (2), ds vykok
C20: (i) | D20: jkT; chek ¼SI) | H20: #- | I20: ='GA-55'!Q32 -> 36000 | J20: (xi) | K20: ljdkjh isa'ku ;kstuk esa va'knku ECPF vf/kdre osru dk 10%¼/kkjk 80ccd½ | N20: #- | O20: =IF('GA-55'!Z2="Yes",'GA-55'!O32-Q33,0) -> 42072
C21: (ii) | D21: thou chek izhfe;e ¼LIC) | H21: #- | I21: ='GA-55'!T32+'Other Deduction'!B10 -> 0 | J21: (xii) | K21: isa'ku Iyku gsrq va'knku¼/kkjk 80ccc½ | N21: #- | O21: ='Other Deduction'!E6 -> 0
C22: (iii) | D22: jk"Vªh; cpr i= ¼NSC) | H22: #- | I22: ='Other Deduction'!B14 -> 0 | J22: (xiii) | K22: jk"Vªh; cpr i= ij vnr C;kt | N22: #- | O22: ='Other Deduction'!B15 -> 0
C23: (iv) | D23: yksd Hkfo"; fuf/k ¼PPF) | H23: #- | I23: ='Other Deduction'!B16 -> 0 | J23: (xiv) | K23: V;w'ku Qhl | N23: #- | O23: ='Other Deduction'!B12 -> 0
C24: (v) | D24: jk"Vªh; cpr Ldhe ¼NSS) | H24: #- | I24: ='Other Deduction'!B17 -> 0 | J24: (xv) | K24: bfDoVh fyad lsfoax Ldhe | N24: #- | O24: ='Other Deduction'!E15 -> 0
C25: (vi) | D25: lkekU; izko/kk;h fuf/k ¼GPF) | H25: #- | I25: =IF('GA-55'!Z2="No",'GA-55'!O32,0) -> 0 | J25: (xvi) | K25: LFkfxr okf"kZdh ¼Defferred Annuty) | N25: #- | O25: ='Other Deduction'!E16 -> 0
C26: (vii) | D26: lkewfgd chek izhfe;e ¼G.Ins.) | H26: #- | I26: ='GA-55'!U12 -> 220 | J26: (xvii) | K26: ih-,y-vkbZ- ¼PLI) | N26: #- | O26: ='Other Deduction'!B11 -> 0
C27: (viii) | D27: ;w- ,y- vkbZ- ih-@okf"kZd Iyku | H27: #- | I27: ='Other Deduction'!B13 -> 0 | J27: (xviii) | K27: vU; tekjkf'k ¼/kkjk 80 lh ds vUrxZr½ | N27: #- | O27: ='Other Deduction'!E5 -> 0
C28: (ix) | D28: x`g _.k fdLr ¼HBA Premium) | H28: #- | I28: ='GA-55'!V32+'Other Deduction'!B8 -> 2400 | J28: (xix) | K28: lqdU;k le`f) ;kstuk esa tek jkf'k | N28: #- | O28: ='Other Deduction'!B18 -> 0
C29: (x) | D29: lkekU; izko/kk;h fuf/k ¼GPF) | H29: #- | I29: =IF('GA-55'!Z2="yes",'GA-55'!Y32,0) -> 5655 | J29: (xx) | K29: vU;
C30: ;ksx ( i ls xviii ) | N30: #- | O30: =SUM(I20:I29)+SUM(O20:O29) -> 86347
C31: vf/kdre dVkSrh dh jkf'k 1-50 yk[k #i, rd | P31: #- | Q31: =IF(O30<150001,ROUND(O30,0),150000) -> 86347
C32: (B) ?kVkb;s& /kkjk 80CCD(2) fu;ksDrk }kjk isa'ku va'knku dh jkf'k ¼vf/kdre osru dk 10%) i`Fkd ls NwV | Q32: =IF('GA-55'!Z2="Yes",'GA-55'!O32,0) -> 42072
C33: (C) ?kVkb;s & /kkjk 80CCD (1B) uohu isa'ku ;kstuk esa vfrfjDr va'knku ¼vf/kdre :- 50]000) | P33: #- | Q33: ='Other Deduction'!E7 -> 0
C34: ;ksx 11(A+B+C) | P34: #- | Q34: =SUM(Q31:Q33) -> 128419
B35: 12 | C35: vU; dVkSfr;k¡
C36: 1-/kkjk 80 D ,fpfdRlk chek izhfe;e ¼Lo;a]ifr@iRuh o cPpksa ds fy, : 25000] ekrk&firk ds fy, : 25000]lhfu;j flVhtu : 50000½ | P36: #- | Q36: ='Other Deduction'!E8 -> 0
C37: 2- /kkjk 80DD fodykax vkfJrksa ds fpfdRlk mipkj ¼vf/kdre 75]000 rFkk 80% ;k vf/kd fodykaxrk 125]000½ | P37: #- | Q37: ='Other Deduction'!E9 -> 0
C38: 3- /kkjk 80DDB fof'k"V jksaxksa ds mipkj gsrq dVkSrh ¼vf/kdre : 40]000] lhfu;j flVhtu gsrq : 100]000½ | P38: #- | Q38: ='Other Deduction'!E10 -> 0
C39: 4- /kkjk 80E mPp f'k{kk gsrq fy, _.k dk C;kt | P39: #- | Q39: ='Other Deduction'!E11 -> 0
C40: 5- /kkjk 80G /kekZFkZ laLFkkvksa vkfn dks fn;s nku ¼ d Js.kh esa 100 izfr'kr ,oa [k Js.kh esa 50 izfr'kr½ | P40: #- | Q40: ='Other Deduction'!E12 -> 0
...

Sheet Tax New Regime
B1: ='GA-55'!C6 -> GOVT SR. SEC SCHOOL DILOD HATHI, ATRU BARAN
B2: vk;dj x.kuk izi= o"kZ 2021&2022¼dj fu/kkZj.k o"kZ 2022&2023½
B3: 1 | C3: uke deZpkjh % | E3: ='GA-55'!D8 -> PARMANAND MEGHWAL | K3: in % | L3: ='GA-55'!K8 -> SR TEACHER | O3: PAN : | P3: =IF('GA-55'!P8="","",'GA-55'!P8) -> ASQPM6311G
B4: 2 | C4: vk; % o"kZ&2021&22 esa izkIr dqy osru ¼ dj ;ksX; lqfo/kkvksa ds eqY; lfgr ½ | P4: #- | Q4: =IF('GA-55'!Z2="No",'GA-55'!N32,('GA-55'!N32+'GA-55'!O32)) -> 563300
B5: 3 | C5: x`g fdjk;k] /kkjk 10¼13&A½ ds vUrxrZ ,oa /kkjk 10¼14½ds vUrxrZ vU; Hkrs tks dj eqDÙk gSA | P5: #- | Q5: 0
B6: 4 | C6: 'ks"k ¼2&3½ | P6: #- | Q6: =Q4-Q5 -> 563300
B7: 5 | C7: ¼i½euksjatu Hkrk /kkjk 16 ¼ii½ ds vUrxrZ ¼ vf/kdre lhek : 5000 ½ | M7: ='Other Deduction'!B4 -> 0
C8: ¼ii½ O;o;k; dj /kkjk 16 ¼iii½ ds vUrxrZ | M8: ='Other Deduction'!B5 -> 0
C9: ¼iiI½ LVs.MMZ fMMsD'ku (Standard Deduction) 50]000 ¼vf/kdre½ | M9: 0 | P9: #- | Q9: =SUM(M7:O9) -> 0
B10: 6 | C10: 'ks"k ¼4&5½ | P10: #- | Q10: =Q6-Q9 -> 563300
B11: 7 | C11: ¼v½x`g lEifr ls vk;%¼1½ Loa; ds mi;ksx esa &'kwU; | K11: ¼2½ izkIr fdjk;k #- | M11: 0
C12: ¼c½ ?kVk;sa | E12: fdjk;s dk 30% | H12: x`g _.k ij C;kt | K12: x`gdj | M12: ;ksx 7¼c½
E13: =ROUND(M11*0.3,0) -> 0 | H13: 0 | K13: ='Other Deduction'!B7 -> 0 | M13: =E13+H13+K13 -> 0
C14: 'ks"k &@$¼7¼v½ ,oa ;ksx 7¼c½ dk½ | P14: #- | Q14: =M11-M13 -> 0
B15: 8 | C15: dqy 'ks"k &@$¼6,oa 7½ | P15: #- | Q15: =Q10+Q14 -> 563300
B16: 9 | C16: vU; vk; | P16: #- | Q16: ='Other Deduction'!E3+'Other Deduction'!E4 -> 0
B17: 10 | C17: ldy vk; ;ksx ¼8$9½ | P17: #- | Q17: =Q15+Q16 -> 563300
B18: 11 | C18: ?kVkb;s dVkSSfr;k¡ %& /kkjk US 80C, 80CCC,80CCD (1)
C19: (A) vf/kdre lhek 1]50]000@& ¼/kkjk 80CCE ½ ] ¼/kkjk 80CCD (2), ds vykok
C20: (i) | D20: jkT; chek ¼SI) | H20: #- | I20: ='GA-55'!Q32 -> 36000 | J20: (xi) | K20: ljdkjh isa'ku ;kstuk esa va'knku ECPF vf/kdre osru dk 10%¼/kkjk 80ccd½ | N20: #- | O20: =IF('GA-55'!Z2="Yes",'GA-55'!O32-Q33,0) -> 42072
C21: (ii) | D21: thou chek izhfe;e ¼LIC) | H21: #- | I21: ='GA-55'!T32+'Other Deduction'!B10 -> 0 | J21: (xii) | K21: isa'ku Iyku gsrq va'knku¼/kkjk 80ccc½ | N21: #- | O21: ='Other Deduction'!E6 -> 0
C22: (iii) | D22: jk"Vªh; cpr i= ¼NSC) | H22: #- | I22: ='Other Deduction'!B14 -> 0 | J22: (xiii) | K22: jk"Vªh; cpr i= ij vnr C;kt | N22: #- | O22: ='Other Deduction'!B15 -> 0
C23: (iv) | D23: yksd Hkfo"; fuf/k ¼PPF) | H23: #- | I23: ='Other Deduction'!B16 -> 0 | J23: (xiv) | K23: V;w'ku Qhl | N23: #- | O23: ='Other Deduction'!B12 -> 0
C24: (v) | D24: jk"Vªh; cpr Ldhe ¼NSS) | H24: #- | I24: ='Other Deduction'!B17 -> 0 | J24: (xv) | K24: bfDoVh fyad lsfoax Ldhe | N24: #- | O24: ='Other Deduction'!E15 -> 0
C25: (vi) | D25: lkekU; izko/kk;h fuf/k ¼GPF) | H25: #- | I25: =IF('GA-55'!Z2="No",'GA-55'!O32,0) -> 0 | J25: (xvi) | K25: LFkfxr okf"kZdh ¼Defferred Annuty) | N25: #- | O25: ='Other Deduction'!E16 -> 0
C26: (vii) | D26: lkewfgd chek izhfe;e ¼G.Ins.) | H26: #- | I26: ='GA-55'!U12 -> 220 | J26: (xvii) | K26: ih-,y-vkbZ- ¼PLI) | N26: #- | O26: ='Other Deduction'!B11 -> 0
C27: (viii) | D27: ;w- ,y- vkbZ- ih-@okf"kZd Iyku | H27: #- | I27: ='Other Deduction'!B13 -> 0 | J27: (xviii) | K27: vU; tekjkf'k ¼/kkjk 80 lh ds vUrxZr½ | N27: #- | O27: ='Other Deduction'!E5 -> 0
C28: (ix) | D28: x`g _.k fdLr ¼HBA Premium) | H28: #- | I28: ='GA-55'!V32+'Other Deduction'!B8 -> 2400 | J28: (xix) | K28: lqdU;k le`f) ;kstuk esa tek jkf'k | N28: #- | O28: ='Other Deduction'!B18 -> 0
C29: (x) | D29: lkekU; izko/kk;h fuf/k ¼GPF) | H29: #- | I29: =IF('GA-55'!Z2="yes",'GA-55'!Y32,0) -> 5655 | J29: (xx) | K29: vU;
C30: ;ksx ( i ls xviii ) | N30: #- | O30: =SUM(I20:I29)+SUM(O20:O29) -> 86347
C31: vf/kdre dVkSrh dh jkf'k 1-50 yk[k #i, rd | P31: #- | Q31: 0
C32: (B) ?kVkb;s& /kkjk 80CCD(2) fu;ksDrk }kjk isa'ku va'knku dh jkf'k ¼vf/kdre osru dk 10%) i`Fkd ls NwV | Q32: =IF('GA-55'!Z2="Yes",'GA-55'!O32,0) -> 42072
C33: (C) ?kVkb;s & /kkjk 80CCD (1B) uohu isa'ku ;kstuk esa vfrfjDr va'knku ¼vf/kdre :- 50]000) | P33: #- | Q33: ='Other Deduction'!E7 -> 0
C34: ;ksx 11(A+B+C) | P34: #- | Q34: =SUM(Q31:Q33) -> 42072
B35: 12 | C35: vU; dVkSfr;k¡
C36: 1-/kkjk 80 D ,fpfdRlk chek izhfe;e ¼Lo;a]ifr@iRuh o cPpksa ds fy, : 25000] ekrk&firk ds fy, : 25000]lhfu;j flVhtu : 50000½ | P36: #- | Q36: ='Other Deduction'!E8 -> 0
C37: 2- /kkjk 80DD fodykax vkfJrksa ds fpfdRlk mipkj ¼vf/kdre 75]000 rFkk 80% ;k vf/kd fodykaxrk 125]000½ | P37: #- | Q37: ='Other Deduction'!E9 -> 0
C38: 3- /kkjk 80DDB fof'k"V jksaxksa ds mipkj gsrq dVkSrh ¼vf/kdre : 40]000] lhfu;j flVhtu gsrq : 100]000½ | P38: #- | Q38: ='Other Deduction'!E10 -> 0
C39: 4- /kkjk 80E mPp f'k{kk gsrq fy, _.k dk C;kt | P39: #- | Q39: ='Other Deduction'!E11 -> 0
C40: 5- /kkjk 80G /kekZFkZ laLFkkvksa vkfn dks fn;s nku ¼ d Js.kh esa 100 izfr'kr ,oa [k Js.kh esa 50 izfr'kr½ | P40: #- | Q40: ='Other Deduction'!E12 -> 0
...
