Workbook
Name _tds1: #REF!
Name _tds2: #REF!
Name AIR.Code001: #REF!
Name AIR.Code002: #REF!
Name AIR.Code003: #REF!
Name AIR.Code004: #REF!
Name AIR.Code005: #REF!
Name AIR.Code006: #REF!
Name AIR.Code007: #REF!
Name AIR.Code008: #REF!
Name AIR.TaxExmpIntInc: #REF!
Name Bank1: #REF!
Name Bank10: #REF!
Name Bank11: #REF!
Name Bank12: #REF!
Name Bank2: #REF!
Name Bank3: #REF!
Name Bank4: #REF!
Name Bank5: #REF!
Name Bank6: #REF!
Name Bank6PCAR: #REF!
Name Bank7: #REF!
Name Bank8: #REF!
Name Bank9: #REF!
Name BankAccNo: #REF!
Name BankArrear: #REF!
Name BankArrear0: #REF!
Name BankArrear1: #REF!
Name BankArrear2: #REF!
Name BankArrear3: #REF!
Name BankBonus: #REF!
Name BankDA10: #REF!
Name BankDA5: #REF!
Name BankDA6: #REF!
Name BankDA8: #REF!
Name BankPL: #REF!
Name cmb_IncD.BankAccountType: #REF!
Name cmb_IncD.EcsRequired: #REF!
Name cmb_TDSal.StateCode: #REF!
Name cmb_TDSoth.StateCode: #REF!
Name i_general: #REF!
Name i_general2: #REF!
Name i_tds: #REF!
Name IncD.AdvanceTax: #REF!
Name IncD.AggregateIncome: #REF!
Name IncD.BalTaxPayable: #REF!
Name IncD.BankAccountNumber: #REF!
Name IncD.BankAccountType: #REF!
Name IncD.EcsRequired: #REF!
Name IncD.EducationCess: #REF!
Name IncD.FamPension: #REF!
Name IncD.GrossTaxLiability: #REF!
Name IncD.GrossTotIncome: #REF!
Name IncD.IncomeFromOS: #REF!
Name IncD.IncomeFromSal: #REF!
Name IncD.IndInterest: #REF!
Name IncD.IntrstPayUs234A: #REF!
Name IncD.IntrstPayUs234B: #REF!
Name IncD.IntrstPayUs234C: #REF!
Name IncD.MICRCode: #REF!

Sheet How To Use
B2: vk;dj x.kuk izi= o"kZ 2019&2020 ¼dj fu/kkZj.k o"kZ 2020&2021½ MS Excel Utility
B3: How to use this Utility
B4: If you have Hindi font problem, then first you should install Hindi font Mfdev010.ttf & DevLys010.ttf in your computer.
B5: GA 55 A Sheet
B6: 1 | C6: vkidks ftrus dkfeZdksa dh vk;dj x.kuk djuh gS] loZizFke mruh ckj odZcqd dks muds uke ls Save as dj ysosaA
B7: 2 | C7: ;fn vki 01-01-2004 dks ;k mlds i'pkr fu;qDr dkfeZd gSa rks Drop Down Menu ¼ihyk ckWDl½ esa ls "Yes" pqusa] vU;Fkk "No" pqusa
B8: 3 | C8: ;fn vkius lefiZr osru fy;k gS rk Yes pqus rFkk fcy uEcj dk ekg lysDV djsaA lefiZr osru ugha fy;k gS rks No pqusaA
B9: 4 | C9: D;k vki ofj"B ukxfjd Js.kh ¼60 ls 80 vk;qoxZ½ esa vkrs gS \ lkeus ihys ckWDl esa ls Yes/No pqusaA
B10: 5 | C10: D;k vkidks cksul feyk gS \ lkeus ihys ckWDl esa ls Yes/No pqusaA fo|ky; dk uke] dkfeZd dk uke] in ] iSu] Vsu ,oa [kkrk uEcj ifjofrZr djsaA
B11: 6 | C11: ekpZ dk ewy osru fy[kdj ,.Vj nck;saA vkidh ldy vk; Lor% vk tk;sxhA dVkSfr;k¡ Lysc ds vuqlkj gS] vkidh dVkSfr;k¡ fHkUu gks ldrh gSA dVkSfr;k¡ fHkUu gksus ij loZizFke ekpZ dh iafDr esa ifjorZu djs] vko';drk vuqlkj vU; ekg esa ifjorZu djsaA
B12: 7 | C12: GA 55 A Sheet esa Other Allowance/ Other Deduction ds lsy Unlock gS] budk uke ifjofrZr fd;k tk ldrk gSA
B13: 8 | C13: DA arrear esa PL Arrear Hkh tksM+k x;k gSA cksul ds uhps Row Heading Cell Unlock gS] budk uke ifjofrZr fd;k tk ldrk gSA
B14: 9 | C14: is eSustj ls th-,- 55 fudkydj vFkok is iksfLVax ls Gross Salary, Total Deduction, Net Payment dk feyku dj ysosaA
B15: 10 | C15: NPS Employee ds fy, Cpmputation Shhet dh Gross Salary esa Govt. Contribution Fund dh jkf'k tksM+h x;h gSA
B16: 11 | C16: nks ;k nks ls vf/kd DDO ds v/khu lsok gksus ij QkWeZ ua- 16 vyx vyx izkIr djus ds fy, GA 55 vyx vyx rS;kj djuk gksxkA blds fy, GA 55 esa vko';d iwfrZ djrs gq, 'ks"k ROW dks [kkyh NksM+ nsaA Other Deduction Sheet esa Standard Deduction 0 ;k 50000 pqusaA
B18: Other Deduction Sheet
C19: bl 'khV esa osru ds vfrfjDr vk;] fofHkUu dVkSfr;k¡] fofHkUu tek jkf'k@NwV] osru ds vykok dkVk x;k vk;dj vkfn fooj.k fy[kk tkuk gSA
B20: Computation Sheet
C21: bl 'khV esa GA55A rFkk Other Dedution dk Data Lor% vk;sxkA bl 'khV esa vkidks Edit dh vuqefr ugha gSA tks Hkh ifjorZu djuk gS GA55A rFkk Other Dedution 'khV esa gh djsA NPS Employee ds fy, ldy vk; esa Govt. Contribution Pension Fund dh jkf'k tksM+h x;h gSA
B23: Print
C24: GA55A & Computation Sheet isij lkbt A4 ij Page Setup fd;k gqvk gSA lh/ks nksuksa 'khV dk vkxsa ihNs fizaV ysaA
B25: ;g odZcqd jktLFkku ds f'k{kdksa dh mi;ksfxrk ds fy, rS;kj dh xbZ gSA ladyu ,oa x.kuk esa iw.kZ lko/kkuh j[kh xbZ gSA fQj Hkh =qfV @ fdlh Hkh izdkj dh fofHkUurk dh fLFkfr esa vk;dj foHkkx ds fu;e gh ekU; gSA rS;kjdrkZ dk dksbZ mRrjnkf;Ro ugha gksxkA
B26: lkHkkj % pUnz izdk'k dqehZ] izk/;kid HkkSfrdh] jk-m-ek-fo- VksMkjk;flag ¼Vksad½ fdlh Hkh izdkj dh rduhdh leL;k@lq>ko ds fy, bZesy djsa&cpkurmi@gmail.com ;g odZcqd www.rssrashtriya.org ij miyC/k gSA

Sheet GA55A
D2: ;fn vki 01-01-2004 dks ;k mlds i'pkr fu;qDr dkfeZd gSa rks Drop Down Menu esa ls "Yes" pqusa] vU;Fkk "No" pqusaA | Z2: No | AC2: HRA
D3: D;k vkius lefiZr osru fy;k gS \ | L3: No | N3: ;fn gk¡ rks ftl ekg esa fcy cuk mldk Øekad pqusaA | X3: 4
D4: D;k vki ofj"B ukxfjd Js.kh ¼60-80 vk;qoxZ½ esa vkrs gS \ | P4: No | R4: D;k vkius cksul feyk gS \ | Z4: No | AC4: 0.08
C6: Office of the Principal, Govt. Sr. Sec. Sch. Todaraisingh, (Tonk)
C7: Salary and Deduction Detail for FY 2019-2020
C9: Name : | D9: Chandra Prakash Kurmi | I9: Post : | K9: Lecturer | O9: PAN : | P9: AAAAA1234A | T9: TAN: | U9: BBBB00000B | Z9: Bank A/c : | AB9: 00000123456789
I10: SI No. | K10: 1234567 | N10: GPF/Pran No: | P10: 12345678910123 | Z10: Mobile No. : | AB10: 12345678910
C11: Month | D11: Basic Pay | E11: Dearness Pay | F11: Leave Pay | G11: Spl. Pay | H11: D.A. | I11: H.R.A. | J11: Washing Allow. | K11: ROP (If any, put the value in minus) | L11: Other Allowance 1 | M11: Other Allowance 2 | N11: Gross Salary | O11: =IF(Z2="No","GPF","Emp. C.Pen.F.") -> GPF | P11: =IF(Z2="No","GPF LOAN","") -> GPF LOAN | Q11: SI | R11: SI LOAN + INT | S11: RPMF | T11: LIC | U11: Group Insurance Accidental | V11: HBA Premium | W11: HBA Interest | X11: Income Tax / TDS | Y11: Other Decuction 1 | Z11: Other Decuction 2 | AA11: Total Deduction | AB11: Net Payment | AC11: Bill No. - Date / TV No. - Date
B12: 3 | C12: 43525 | D12: 73400 | E12: 0 | F12: 0 | G12: 0 | H12: =ROUND(12%*D12,0) -> 8808 | I12: =IF($AC$4=16%,ROUND(0.16*D12,0),ROUND(0.08*D12,0)) -> 5872 | J12: 0 | K12: 0 | L12: 0 | M12: 0 | N12: =SUM(D12:M12) -> 88080 | O12: =IF($Z$2="Yes",ROUND((D12+H12)*0.1,0),IF($Z$2="No",IF(D12<23101,1450,IF(D12<28501,1625,IF(D12<38501,2100,IF(D12<51501,2850,IF(D12<62001,3575,IF(D12<72001,4200,IF(D12<80001,4800,IF(D12<116001,6150,IF(D12<167001,8900,10500))))))))),0)) -> 4800 | P12: 0 | Q12: =IF(D12<22001,500,IF(D12<28501,700,IF(D12<46501,1300,IF(D12<72001,1800,3000)))) -> 3000 | R12: 0 | S12: =IF($Z$2="No",IF(D12<18001,228,IF(D12<33501,379,IF(D12<54001,568,755))),0) -> 755 | T12: 100 | U12: 0 | X12: 8000 | AA12: =SUM(O12:Z12) -> 16655 | AB12: =N12-AA12 -> 71425
B13: 4 | C13: 43556 | D13: =D12 -> 73400 | E13: =IF(E$12=0,0,ROUND(D13/2,0)) -> 0 | F13: =IF(F$12=0,0,F12) -> 0 | G13: =IF(G$12=0,0,G12) -> 0 | H13: =ROUND(12%*D13,0) -> 8808 | I13: =IF($AC$4=16%,ROUND(0.16*D13,0),ROUND(0.08*D13,0)) -> 5872 | J13: =IF(J$12=0,0,J12) -> 0 | K13: =IF(K$12=0,0,K12) -> 0 | L13: =IF(L$12=0,0,L12) -> 0 | M13: =IF(M$12=0,0,M12) -> 0 | N13: =SUM(D13:M13) -> 88080 | O13: =IF($Z$2="Yes",ROUND((D13+H13)*0.1,0),IF($Z$2="No",IF(D13<23101,1450,IF(D13<28501,1625,IF(D13<38501,2100,IF(D13<51501,2850,IF(D13<62001,3575,IF(D13<72001,4200,IF(D13<80001,4800,IF(D13<116001,6150,IF(D13<167001,8900,10500))))))))),0)) -> 4800 | P13: =P12 -> 0 | Q13: =Q12 -> 3000 | R13: =R12 -> 0 | S13: =IF($Z$2="No",IF(D13<18001,228,IF(D13<33501,379,IF(D13<54001,568,755))),0) -> 755 | T13: =T12 -> 100 | U13: 220 | V13: =V12 -> 0 | W13: =W12 -> 0 | X13: =X12 -> 8000 | Y13: =Y12 -> 0 | Z13: =Z12 -> 0 | AA13: =SUM(O13:Z13) -> 16875 | AB13: =N13-AA13 -> 71205
B14: 5 | C14: 43586 | D14: =D13 -> 73400 | E14: =IF($E$12=0,0,ROUND(D14/2,0)) -> 0 | F14: =IF(F$12=0,0,F13) -> 0 | G14: =IF(G$12=0,0,G13) -> 0 | H14: =ROUND(12%*D14,0) -> 8808 | I14: =IF($AC$4=16%,ROUND(0.16*D14,0),ROUND(0.08*D14,0)) -> 5872 | J14: =IF(J$12=0,0,J13) -> 0 | K14: =IF(K$12=0,0,K13) -> 0 | L14: =IF(L$12=0,0,L13) -> 0 | M14: =IF(M$12=0,0,M13) -> 0 | N14: =SUM(D14:M14) -> 88080 | O14: =IF($Z$2="Yes",ROUND((D14+H14)*0.1,0),IF($Z$2="No",IF(D14<23101,1450,IF(D14<28501,1625,IF(D14<38501,2100,IF(D14<51501,2850,IF(D14<62001,3575,IF(D14<72001,4200,IF(D14<80001,4800,IF(D14<116001,6150,IF(D14<167001,8900,10500))))))))),0)) -> 4800 | P14: =P13 -> 0 | Q14: =Q13 -> 3000 | R14: =R13 -> 0 | S14: =IF($Z$2="No",IF(D14<18001,228,IF(D14<33501,379,IF(D14<54001,568,755))),0) -> 755 | T14: =T13 -> 100 | U14: 0 | V14: =V13 -> 0 | W14: =W13 -> 0 | X14: =X13 -> 8000 | Y14: =Y13 -> 0 | Z14: =Z13 -> 0 | AA14: =SUM(O14:Z14) -> 16655 | AB14: =N14-AA14 -> 71425
B15: 6 | C15: 43617 | D15: =D14 -> 73400 | E15: =IF($E$12=0,0,ROUND(D15/2,0)) -> 0 | F15: =IF(F$12=0,0,F14) -> 0 | G15: =IF(G$12=0,0,G14) -> 0 | H15: =ROUND(12%*D15,0) -> 8808 | I15: =IF($AC$4=16%,ROUND(0.16*D15,0),ROUND(0.08*D15,0)) -> 5872 | J15: =IF(J$12=0,0,J14) -> 0 | K15: =IF(K$12=0,0,K14) -> 0 | L15: =IF(L$12=0,0,L14) -> 0 | M15: =IF(M$12=0,0,M14) -> 0 | N15: =SUM(D15:M15) -> 88080 | O15: =IF($Z$2="Yes",ROUND((D15+H15)*0.1,0),IF($Z$2="No",IF(D15<23101,1450,IF(D15<28501,1625,IF(D15<38501,2100,IF(D15<51501,2850,IF(D15<62001,3575,IF(D15<72001,4200,IF(D15<80001,4800,IF(D15<116001,6150,IF(D15<167001,8900,10500))))))))),0)) -> 4800 | P15: =P14 -> 0 | Q15: =Q14 -> 3000 | R15: =R14 -> 0 | S15: =IF($Z$2="No",IF(D15<18001,270,IF(D15<33501,448,IF(D15<54001,670,890))),0) -> 890 | T15: =T14 -> 100 | U15: 0 | V15: =V14 -> 0 | W15: =W14 -> 0 | X15: =X14 -> 8000 | Y15: =Y14 -> 0 | Z15: =Z14 -> 0 | AA15: =SUM(O15:Z15) -> 16790 | AB15: =N15-AA15 -> 71290
B16: 7 | C16: 43647 | D16: =MROUND(ROUND(1.03*D15,0),100) -> 75600 | E16: =IF($E$12=0,0,ROUND(D16/2,0)) -> 0 | F16: =IF(F$12=0,0,F15) -> 0 | G16: =IF(G$12=0,0,G15) -> 0 | H16: =ROUND(12%*D16,0) -> 9072 | I16: =IF($AC$4=16%,ROUND(0.16*D16,0),ROUND(0.08*D16,0)) -> 6048 | J16: =IF(J$12=0,0,J15) -> 0 | K16: =IF(K$12=0,0,K15) -> 0 | L16: =IF(L$12=0,0,L15) -> 0 | M16: =IF(M$12=0,0,M15) -> 0 | N16: =SUM(D16:M16) -> 90720 | O16: =IF($Z$2="Yes",ROUND((D16+H16)*0.1,0),IF($Z$2="No",IF(D16<23101,1450,IF(D16<28501,1625,IF(D16<38501,2100,IF(D16<51501,2850,IF(D16<62001,3575,IF(D16<72001,4200,IF(D16<80001,4800,IF(D16<116001,6150,IF(D16<167001,8900,10500))))))))),0)) -> 4800 | P16: =P15 -> 0 | Q16: =Q15 -> 3000 | R16: =R15 -> 0 | S16: =IF($Z$2="No",IF(D16<18001,242,IF(D16<33501,402,IF(D16<54001,602,800))),0) -> 800 | T16: =T15 -> 100 | U16: 0 | V16: =V15 -> 0 | W16: =W15 -> 0 | X16: =X15 -> 8000 | Y16: =Y15 -> 0 | Z16: =Z15 -> 0 | AA16: =SUM(O16:Z16) -> 16700 | AB16: =N16-AA16 -> 74020
B17: 8 | C17: 43678 | D17: =D16 -> 75600 | E17: =IF($E$12=0,0,ROUND(D17/2,0)) -> 0 | F17: =IF(F$12=0,0,F16) -> 0 | G17: =IF(G$12=0,0,G16) -> 0 | H17: =ROUND(12%*D17,0) -> 9072 | I17: =IF($AC$4=16%,ROUND(0.16*D17,0),ROUND(0.08*D17,0)) -> 6048 | J17: =IF(J$12=0,0,J16) -> 0 | K17: =IF(K$12=0,0,K16) -> 0 | L17: =IF(L$12=0,0,L16) -> 0 | M17: =IF(M$12=0,0,M16) -> 0 | N17: =SUM(D17:M17) -> 90720 | O17: =IF($Z$2="Yes",ROUND((D17+H17)*0.1,0),IF($Z$2="No",IF(D17<23101,1450,IF(D17<28501,1625,IF(D17<38501,2100,IF(D17<51501,2850,IF(D17<62001,3575,IF(D17<72001,4200,IF(D17<80001,4800,IF(D17<116001,6150,IF(D17<167001,8900,10500))))))))),0)) -> 4800 | P17: =P16 -> 0 | Q17: =Q16 -> 3000 | R17: =R16 -> 0 | S17: =IF($Z$2="No",IF(D17<18001,242,IF(D17<33501,402,IF(D17<54001,602,800))),0) -> 800 | T17: =T16 -> 100 | U17: 0 | V17: =V16 -> 0 | W17: =W16 -> 0 | X17: =X16 -> 8000 | Y17: =Y16 -> 0 | Z17: =Z16 -> 0 | AA17: =SUM(O17:Z17) -> 16700 | AB17: =N17-AA17 -> 74020
B18: 9 | C18: 43709 | D18: =D17 -> 75600 | E18: =IF($E$12=0,0,ROUND(D18/2,0)) -> 0 | F18: =IF(F$12=0,0,F17) -> 0 | G18: =IF(G$12=0,0,G17) -> 0 | H18: =ROUND(12%*D18,0) -> 9072 | I18: =IF($AC$4=16%,ROUND(0.16*D18,0),ROUND(0.08*D18,0)) -> 6048 | J18: =IF(J$12=0,0,J17) -> 0 | K18: =IF(K$12=0,0,K17) -> 0 | L18: =IF(L$12=0,0,L17) -> 0 | M18: =IF(M$12=0,0,M17) -> 0 | N18: =SUM(D18:M18) -> 90720 | O18: =IF($Z$2="Yes",ROUND((D18+H18)*0.1,0),IF($Z$2="No",IF(D18<23101,1450,IF(D18<28501,1625,IF(D18<38501,2100,IF(D18<51501,2850,IF(D18<62001,3575,IF(D18<72001,4200,IF(D18<80001,4800,IF(D18<116001,6150,IF(D18<167001,8900,10500))))))))),0)) -> 4800 | P18: =P17 -> 0 | Q18: =Q17 -> 3000 | R18: =R17 -> 0 | S18: =IF($Z$2="No",IF(D18<18001,242,IF(D18<33501,402,IF(D18<54001,602,800))),0) -> 800 | T18: =T17 -> 100 | U18: 0 | V18: =V17 -> 0 | W18: =W17 -> 0 | X18: =X17 -> 8000 | Y18: =Y17 -> 0 | Z18: =Z17 -> 0 | AA18: =SUM(O18:Z18) -> 16700 | AB18: =N18-AA18 -> 74020
B19: 10 | C19: 43739 | D19: =D18 -> 75600 | E19: =IF($E$12=0,0,ROUND(D19/2,0)) -> 0 | F19: =IF(F$12=0,0,F18) -> 0 | G19: =IF(G$12=0,0,G18) -> 0 | H19: =ROUND(12%*D19,0) -> 9072 | I19: =IF($AC$4=16%,ROUND(0.16*D19,0),ROUND(0.08*D19,0)) -> 6048 | J19: =IF(J$12=0,0,J18) -> 0 | K19: =IF(K$12=0,0,K18) -> 0 | L19: =IF(L$12=0,0,L18) -> 0 | M19: =IF(M$12=0,0,M18) -> 0 | N19: =SUM(D19:M19) -> 90720 | O19: =IF($Z$2="Yes",ROUND((D19+H19)*0.1,0),IF($Z$2="No",IF(D19<23101,1450,IF(D19<28501,1625,IF(D19<38501,2100,IF(D19<51501,2850,IF(D19<62001,3575,IF(D19<72001,4200,IF(D19<80001,4800,IF(D19<116001,6150,IF(D19<167001,8900,10500))))))))),0)) -> 4800 | P19: =P18 -> 0 | Q19: =Q18 -> 3000 | R19: =R18 -> 0 | S19: =IF($Z$2="No",IF(D19<18001,242,IF(D19<33501,402,IF(D19<54001,602,800))),0) -> 800 | T19: =T18 -> 100 | U19: 0 | V19: =V18 -> 0 | W19: =W18 -> 0 | X19: =X18 -> 8000 | Y19: =Y18 -> 0 | Z19: =Z18 -> 0 | AA19: =SUM(O19:Z19) -> 16700 | AB19: =N19-AA19 -> 74020
B20: 11 | C20: 43770 | D20: =D19 -> 75600 | E20: =IF($E$12=0,0,ROUND(D20/2,0)) -> 0 | F20: =IF(F$12=0,0,F19) -> 0 | G20: =IF(G$12=0,0,G19) -> 0 | H20: =ROUND(12%*D20,0) -> 9072 | I20: =IF($AC$4=16%,ROUND(0.16*D20,0),ROUND(0.08*D20,0)) -> 6048 | J20: =IF(J$12=0,0,J19) -> 0 | K20: =IF(K$12=0,0,K19) -> 0 | L20: =IF(L$12=0,0,L19) -> 0 | M20: =IF(M$12=0,0,M19) -> 0 | N20: =SUM(D20:M20) -> 90720 | O20: =IF($Z$2="Yes",ROUND((D20+H20)*0.1,0),IF($Z$2="No",IF(D20<23101,1450,IF(D20<28501,1625,IF(D20<38501,2100,IF(D20<51501,2850,IF(D20<62001,3575,IF(D20<72001,4200,IF(D20<80001,4800,IF(D20<116001,6150,IF(D20<167001,8900,10500))))))))),0)) -> 4800 | P20: =P19 -> 0 | Q20: =Q19 -> 3000 | R20: =R19 -> 0 | S20: =IF($Z$2="No",IF(D20<18001,242,IF(D20<33501,402,IF(D20<54001,602,800))),0) -> 800 | T20: =T19 -> 100 | U20: 0 | V20: =V19 -> 0 | W20: =W19 -> 0 | X20: =X19 -> 8000 | Y20: =Y19 -> 0 | Z20: =Z19 -> 0 | AA20: =SUM(O20:Z20) -> 16700 | AB20: =N20-AA20 -> 74020
B21: 12 | C21: 43800 | D21: =D20 -> 75600 | E21: =IF($E$12=0,0,ROUND(D21/2,0)) -> 0 | F21: =IF(F$12=0,0,F20) -> 0 | G21: =IF(G$12=0,0,G20) -> 0 | H21: =ROUND(12%*D21,0) -> 9072 | I21: =IF($AC$4=16%,ROUND(0.16*D21,0),ROUND(0.08*D21,0)) -> 6048 | J21: =IF(J$12=0,0,J20) -> 0 | K21: =IF(K$12=0,0,K20) -> 0 | L21: =IF(L$12=0,0,L20) -> 0 | M21: =IF(M$12=0,0,M20) -> 0 | N21: =SUM(D21:M21) -> 90720 | O21: =IF($Z$2="Yes",ROUND((D21+H21)*0.1,0),IF($Z$2="No",IF(D21<23101,1450,IF(D21<28501,1625,IF(D21<38501,2100,IF(D21<51501,2850,IF(D21<62001,3575,IF(D21<72001,4200,IF(D21<80001,4800,IF(D21<116001,6150,IF(D21<167001,8900,10500))))))))),0)) -> 4800 | P21: =P20 -> 0 | Q21: =Q20 -> 3000 | R21: =R20 -> 0 | S21: =IF($Z$2="No",IF(D21<18001,242,IF(D21<33501,402,IF(D21<54001,602,800))),0) -> 800 | T21: =T20 -> 100 | U21: 0 | V21: =V20 -> 0 | W21: =W20 -> 0 | X21: =X20 -> 8000 | Y21: =Y20 -> 0 | Z21: =Z20 -> 0 | AA21: =SUM(O21:Z21) -> 16700 | AB21: =N21-AA21 -> 74020
B22: 1 | C22: 43831 | D22: =D21 -> 75600 | E22: =IF($E$12=0,0,ROUND(D22/2,0)) -> 0 | F22: =IF(F$12=0,0,F21) -> 0 | G22: =IF(G$12=0,0,G21) -> 0 | H22: =ROUND(12%*D22,0) -> 9072 | I22: =IF($AC$4=16%,ROUND(0.16*D22,0),ROUND(0.08*D22,0)) -> 6048 | J22: =IF(J$12=0,0,J21) -> 0 | K22: =IF(K$12=0,0,K21) -> 0 | L22: =IF(L$12=0,0,L21) -> 0 | M22: =IF(M$12=0,0,M21) -> 0 | N22: =SUM(D22:M22) -> 90720 | O22: =IF($Z$2="Yes",ROUND((D22+H22)*0.1,0),IF($Z$2="No",IF(D22<23101,1450,IF(D22<28501,1625,IF(D22<38501,2100,IF(D22<51501,2850,IF(D22<62001,3575,IF(D22<72001,4200,IF(D22<80001,4800,IF(D22<116001,6150,IF(D22<167001,8900,10500))))))))),0)) -> 4800 | P22: =P21 -> 0 | Q22: =Q21 -> 3000 | R22: =R21 -> 0 | S22: =IF($Z$2="No",IF(D22<18001,242,IF(D22<33501,402,IF(D22<54001,602,800))),0) -> 800 | T22: =T21 -> 100 | U22: 0 | V22: =V21 -> 0 | W22: =W21 -> 0 | X22: =X21 -> 8000 | Y22: =Y21 -> 0 | Z22: =Z21 -> 0 | AA22: =SUM(O22:Z22) -> 16700 | AB22: =N22-AA22 -> 74020
B23: 2 | C23: 43862 | D23: =D22 -> 75600 | E23: =IF($E$12=0,0,ROUND(D23/2,0)) -> 0 | F23: =IF(F$12=0,0,F22) -> 0 | G23: =IF(G$12=0,0,G22) -> 0 | H23: =ROUND(12%*D23,0) -> 9072 | I23: =IF($AC$4=16%,ROUND(0.16*D23,0),ROUND(0.08*D23,0)) -> 6048 | J23: =IF(J$12=0,0,J22) -> 0 | K23: =IF(K$12=0,0,K22) -> 0 | L23: =IF(L$12=0,0,L22) -> 0 | M23: =IF(M$12=0,0,M22) -> 0 | N23: =SUM(D23:M23) -> 90720 | O23: =IF($Z$2="Yes",ROUND((D23+H23)*0.1,0),IF($Z$2="No",IF(D23<23101,1450,IF(D23<28501,1625,IF(D23<38501,2100,IF(D23<51501,2850,IF(D23<62001,3575,IF(D23<72001,4200,IF(D23<80001,4800,IF(D23<116001,6150,IF(D23<167001,8900,10500))))))))),0)) -> 4800 | P23: =P22 -> 0 | Q23: =Q22 -> 3000 | R23: =R22 -> 0 | S23: =IF($Z$2="No",IF(D23<18001,242,IF(D23<33501,402,IF(D23<54001,602,800))),0) -> 800 | T23: =T22 -> 100 | U23: 0 | V23: =V22 -> 0 | W23: =W22 -> 0 | X23: =X22 -> 8000 | Y23: =Y22 -> 0 | Z23: =Z22 -> 0 | AA23: =SUM(O23:Z23) -> 16700 | AB23: =N23-AA23 -> 74020
C24: DA Arrear 12% | H24: =(ROUND(12%*D12,0)-ROUND(9%*D12,0))*2 -> 4404 | N24: =SUM(D24:M24) -> 4404 | O24: =IF($Z$2="Yes",ROUND((ROUND(12%*D12,0)-ROUND(9%*D12,0))*10%,0)*2,IF($Z$2="No",H24,0)) -> 4404 | Q24: 0 | T24: 0 | AA24: =SUM(O24:Z24) -> 4404 | AB24: =N24-AA24 -> 0
C25: DA Arrear | N25: =SUM(D25:M25) -> 0 | AA25: =SUM(O25:Z25) -> 0 | AB25: =N25-AA25 -> 0
C26: Surrender | D26: =IF(L3="NO",0,IF(X3=3,D23,VLOOKUP(X3,B12:D23,3,FALSE)))/2 -> 0 | H26: =ROUND(12%*D26,0) -> 0 | N26: =SUM(D26:M26) -> 0 | AA26: =SUM(O26:Z26) -> 0 | AB26: =N26-AA26 -> 0
C27: Bonus | D27: =IF(Z4="Yes",6774,0) -> 0 | N27: =SUM(D27:M27) -> 0 | AA27: =SUM(O27:Z27) -> 0 | AB27: =N27-AA27 -> 0
C28: Fixation Arrear | N28: =SUM(D28:M28) -> 0 | AA28: =SUM(O28:Z28) -> 0 | AB28: =N28-AA28 -> 0
C29: Salary 02/2019 | N29: =SUM(D29:M29) -> 0 | AA29: =SUM(O29:Z29) -> 0 | AB29: =N29-AA29 -> 0
C30: Salary Arrear 1 | N30: =SUM(D30:M30) -> 0 | AA30: =SUM(O30:Z30) -> 0 | AB30: =N30-AA30 -> 0
C31: Salary Arrear 2 | N31: =SUM(D31:M31) -> 0 | AA31: =SUM(O31:Z31) -> 0 | AB31: =N31-AA31 -> 0
C32: Other | E32: 0 | F32: 0 | N32: =SUM(D32:M32) -> 0 | AA32: =SUM(O32:Z32) -> 0 | AB32: =N32-AA32 -> 0
C33: TOTAL | D33: =SUM(D12:D32) -> 898400 | E33: =SUM(E12:E32) -> 0 | F33: =SUM(F12:F32) -> 0 | G33: =SUM(G12:G32) -> 0 | H33: =SUM(H12:H32) -> 112212 | I33: =SUM(I12:I32) -> 71872 | J33: =SUM(J12:J32) -> 0 | K33: =SUM(K12:K32) -> 0 | ... AB33: =SUM(AB12:AB32) -> 877505
E38: Signature of Employee | AB38: Signature of DDO
C40: www.rssrashtriya.org

Sheet Other Deduction
A1: osru ds vfrfjDr dVkSfr;k¡] vk;@tek jkf'k ,oa NwV dk fooj.k
A2: =GA55A!D9& " , " &GA55A!K9&" PAN- "&GA55A!P9 -> Chandra Prakash Kurmi , Lecturer PAN- AAAAA1234A
A3: 1- edku fdjk;k HkRrk ¼ NwV tks ysuh gS½ | B3: 0 | D3: 19- LVs.MMZ fMMsD'ku :i;s 50,000 ¼vf/kdre½ /kkjk 16 (ia) | E3: 50000 | F3: Gross Pay | DR3: UPS Kuhada Khurd
A4: 2- euksjatu Hkrk /kkjk 16 ¼ii½ ds vUrxZr | B4: 0 | D4: 20- cpr [kkrs (Saving Accounts) dh tek jkf'k ij izkIr C;kt | E4: 0 | F4: =Computation!Q4 -> 1082484
A5: 3- O;o;k; dj /kkjk 16 ¼iii½ ds vUrxrZ | B5: 0 | D5: 21- ,QMh vkfn vU; tek jkf'k ij izkIr dqy C;kt ¼ihih,Q dks NksM+dj½ | E5: 0 | F5: Taxable Amt | I5: =SUM(E4:E5) -> 0
A6: 4- x`g lEifr ls izkIr fdjk;k & vk; | B6: 0 | D6: 22- vU; fofHkUu L=ks+= ¼C;kt ds vykok½ ls dqy vk; | E6: 0 | F6: =Computation!Q48 -> 933060 | I6: =SUM(E4:E6) -> 0
A7: 5- x`gdj | B7: 0 | D7: 23- /kkjk 80 lh ds vUrxZr vU; en esa tek djk;h x;h jkf'k | E7: 0 | F7: Tax Deposited
A8: 6- x`g _.k fdLr ewy ¼tks osru ls ugha dkVk x;k½ | B8: 0 | D8: 24- /kkjk 80CCC - isa'ku Iyku gsrq va'knku ¼,u-ih-,l- ds avykok½ | E8: 0 | F8: =GA55A!X33 -> 96000
A9: 7- x`g _.k fdLr C;kt ¼tks osru ls ugha dkVk x;k½ | B9: 0 | D9: 25- ljdkjh isa'ku ;kstuk esa deZpkjh dk va'knku vf/kdre osru dk 10% /kkjk 80CCD(1) | E9: =IF(H9>0,H9,0) -> 0 | F9: Rebate Under Section 80C, 80CCC, 80CCD(1) | H9: =IF(I9>J9,J9,I9) -> 0 | I9: =IF(GA55A!Z2="No",0,ROUND(10%*GA55A!N33,0)) -> 0 | J9: =IF(GA55A!Z2="No",0,GA55A!O33) -> 0
A10: 8- thou chek izhfe;e ¼tks osru ls ugh dkVk x;k½ LIC | B10: 0 | D10: 26- /kkjk 80CCD(1B) uohu isa'ku ;kstuk esa vfrfjDr va'knku ¼vf/kdre :- 50]000½ | E10: 0 | I10: =SUM(Computation!I21:I30,Computation!O21:O29) -> 99424 | J10: =IF(GA55A!Z2="No",50000,IF(K10>50000,50000,K10)) -> 50000 | K10: =IF(I10>150000,I10-150000,0) -> 0 | DR10: UPS Banediya Charnan
A11: 9- ih-,y-vkbZ- (PLI) | B11: 0 | D11: 27- /kkjk 80D - fpfdRlk chek izhfe;e ¼lkekU; 25000] ofj"B ukxfjd 50000½ | E11: 0 | H11: =IF(GA55A!P4="No",25000,50000) -> 25000 | DR11: UPS Laxmipura Dhakaran
A12: 10- V;w'ku Qhl (Tution Fees) | B12: 0 | D12: 28- /kkjk 80DD- fodykax vkfJrksa ds fpfdRlk mipkj¼vf/kdre 75000] 80% fodykaxrk 125000½ | E12: 0 | F12: =Computation!Q31 -> 99424 | DR12: UPS Pathraj Kala
A13: 11- ;w- ,y- vkbZ- ih-@okf"kZd Iyku | B13: 0 | D13: 29- /kkjk 80DDB- fof'k"V jksxksa ds mipkj gsrq dVkSrh ¼lkekU; 40000] ofj"B ukxfjd 1 yk[k½ | E13: 0 | H13: =IF(GA55A!P4="No",40000,100000) -> 40000
A14: 12- jk"Vªh; cpr i= (NSC) | B14: 0 | D14: 30- /kkjk 80E - mPp f'k{kk gsrq fy, _.k dk C;kt | E14: 0 | F14: edku fdjk;k NwV ds fy, jlhn dh vko';drk | DR14: PS Aarampura
A15: 13- jk"Vªh; cpr i= ij vnr C;kt | B15: 0 | D15: 31- /kkjk 80G - /kekZFkZ laLFkkvksa vkfn dks fn;s nku ¼d Js.kh 100% ,oa [k Js.kh 50%½ | E15: 0 | DR15: UPS Laxmipura Dhakaran
A16: 14- yksd Hkfo"; fuf/k (PPF) | B16: 0 | D16: 32- /kkjk 80U - LFkkbZ 'kkjhfjd fodykaxrk ¼vf/kdre 75000, 80% fodykaxrk 125000½ | E16: 0 | DR16: UPS Raghunathpura
A17: 15- jk"Vªh; cpr Ldhe (NSS) | B17: 0 | D17: 33- /kkjk 80 GGA - vuqeksfnr oSKkfud]lkekftd]xzkeh.k fodkl gsrq fn;k x;k nku | E17: 0 | F17: =IF(B3=0,0,ROUND(0.1*H18,0)+B3) -> 0 | DR17: UPS Manda
A18: 16- lqdU;k le`f) ;kstuk (SSY) | B18: 0 | D18: 34- jkgr /kkjk 89 ds vUrxZr | E18: 0 | H18: =SUM(GA55A!D12:D23)+SUM(GA55A!H12:H23) -> 1006208
A19: 17- bfDoVh fyad lsfoax Ldhe | B19: 0 | D19: 35- osru fcy ds vykok tek djk;k x;k aavk;dj (TDS) | E19: 0
A20: 18- LFkfxr okf"kZdh (Defferred Annuty) | B20: 0 | D20: 36- /kkjk 10¼14½ ds vUrxZr HkÙks tks djeqDr gS | E20: 0 | DR20: UPS Sandla
A21: =Computation!B64 -> Income Tax Payable | D21: =Computation!Q64 -> 7076 | H21: =GA55A!I33 -> 71872 | DR21: UPS Ramsinghpura
A22: ="Total Rebate of (US 80C, 80CCC,80CCD(1)) = "&Computation!Q31 -> Total Rebate of (US 80C, 80CCC,80CCD(1)) = 99424 | D22: ="Investable Amount = "&(150000-Computation!Q31) -> Investable Amount = 50576 | DR22: GSS Ganeshganj
A23: lkHkkj % pUnz izdk'k dqeh]Z izk/;kid HkkSfrdh] jk-m-ek-fo- VksMkjk;flag ¼Vksad½ fdlh Hkh izdkj dh rduhdh leL;k@lq>ko ds fy, bZesy djsa & cpkurmi@gmail.com

Sheet Computation
B1: =GA55A!C6 -> Office of the Principal, Govt. Sr. Sec. Sch. Todaraisingh, (Tonk)
B2: vk;dj x.kuk izi= o"kZ 2019&2020 ¼dj fu/kkZj.k o"kZ 2020&2021½
B3: 1 | C3: uke deZpkjh % | E3: =GA55A!D9 -> Chandra Prakash Kurmi | K3: in % | L3: =GA55A!K9 -> Lecturer | O3: PAN : | P3: =IF(GA55A!P9="","",GA55A!P9) -> AAAAA1234A
B4: 2 | C4: vk; % o"kZ&2019&20 esa izkIr dqy osru ¼ dj ;ksX; lqfo/kkvksa ds eqY; lfgr ½ | P4: #- | Q4: =IF(GA55A!Z2="No",GA55A!N33,(GA55A!N33+GA55A!O33)) -> 1082484
B5: 3 | C5: x`g fdjk;k] /kkjk 10¼13&A½ ds vUrxrZ ,oa /kkjk 10¼14½ds vUrxrZ vU; Hkrs tks dj eqDÙk gSA | P5: #- | Q5: ='Other Deduction'!B3+'Other Deduction'!E20 -> 0
B6: 4 | C6: 'ks"k ¼2&3½ | P6: #- | Q6: =Q4-Q5 -> 1082484
B7: 5 | C7: ¼i½ LVs.MMZ fMMsD'ku (Standard Deduction) 50,000 ¼vf/kdre½ /kkjk 16 (ia) | M7: =IF('Other Deduction'!E3=0,0,(IF(AND(Q6>50000,'Other Deduction'!E3=50000),50000,Q6))) -> 50000
C8: ¼ii½euksjatu Hkrk /kkjk 16 (ii) ds vUrxrZ ¼ vf/kdre lhek : 5000 ½ | M8: ='Other Deduction'!B4 -> 0
C9: ¼iii½ O;olk; dj /kkjk 16 (iii) ds vUrxrZ | M9: ='Other Deduction'!B5 -> 0
C10: ;ksx ¼5½ | P10: #- | Q10: =SUM(M7:O9) -> 50000
B11: 6 | C11: 'ks"k ¼4&5½ | P11: #- | Q11: =Q6-Q10 -> 1032484
B12: 7 | C12: ¼v½x`g lEifr ls vk;%¼1½ Loa; ds mi;ksx esa &'kwU; | K12: ¼2½ izkIr fdjk;k #- | M12: ='Other Deduction'!B6 -> 0
C13: ¼c½ ?kVk;sa | E13: fdjk;s dk 30% | H13: x`g _.k ij C;kt | K13: x`gdj | M13: ;ksx 7¼c½
E14: =ROUND(M12*0.3,0) -> 0 | H14: =IF((GA55A!W33+'Other Deduction'!B9)>200000,200000,(GA55A!W33+'Other Deduction'!B9)) -> 0 | K14: ='Other Deduction'!B7 -> 0 | M14: =E14+H14+K14 -> 0
C15: 'ks"k &@$¼7¼v½ ,oa ;ksx 7¼c½ dk½ | P15: #- | Q15: =M12-M14 -> 0
B16: 8 | C16: dqy 'ks"k &@$¼6,oa 7½ | P16: #- | Q16: =Q11+Q15 -> 1032484
B17: 9 | C17: vU; vk; | P17: #- | Q17: ='Other Deduction'!I6 -> 0
B18: 10 | C18: ldy vk; ;ksx ¼8$9½ | P18: #- | Q18: =Q16+Q17 -> 1032484
B19: 11 | C19: ?kVkb;s dVkSSfr;k¡ %& /kkjk US 80C, 80CCC,80CCD (1)
C20: (A) vf/kdre lhek 1]50]000@& ¼/kkjk 80CCE ½ ] ¼/kkjk 80CCD (2), ds vykok
C21: (i) | D21: jkT; chek ¼SI) | H21: #- | I21: =GA55A!Q33 -> 36000 | J21: (xi) | K21: ljdkjh isa'ku ;kstuk esa va'knku ECPF vf/kdre osru dk 10% /kkjk 80CCD(1) | N21: #- | O21: =IF(GA55A!Z2="Yes",'Other Deduction'!E9,0) -> 0
C22: (ii) | D22: thou chek izhfe;e ¼LIC) | H22: #- | I22: ='Other Deduction'!B10+GA55A!T33 -> 1200
C23: (iii) | D23: jk"Vªh; cpr i= ¼NSC) | H23: #- | I23: ='Other Deduction'!B14 -> 0 | J23: (xii) | K23: isa'ku Iyku gsrq va'knku ¼/kkjk 80ccc½ | N23: #- | O23: ='Other Deduction'!E8 -> 0
C24: (iv) | D24: yksd Hkfo"; fuf/k ¼PPF) | H24: #- | I24: ='Other Deduction'!B16 -> 0 | J24: (xiii) | K24: jk"Vªh; cpr i= ij vnr C;kt | N24: #- | O24: ='Other Deduction'!B15 -> 0
C25: (v) | D25: jk"Vªh; cpr Ldhe ¼NSS) | H25: #- | I25: ='Other Deduction'!B17 -> 0 | J25: (xiv) | K25: V;w'ku Qhl | N25: #- | O25: ='Other Deduction'!B12 -> 0
C26: (vi) | D26: lkekU; izko/kk;h fuf/k ¼GPF) | H26: #- | I26: =IF(GA55A!Z2="No",GA55A!O33,0) -> 62004 | J26: (xv) | K26: bfDoVh fyad lsfoax Ldhe | N26: #- | O26: ='Other Deduction'!B19 -> 0
C27: (vii) | D27: lkewfgd chek izhfe;e ¼G.Ins.) | H27: #- | I27: =GA55A!U33 -> 220 | J27: (xvi) | K27: LFkfxr okf"kZdh ¼Defferred Annuty) | N27: #- | O27: ='Other Deduction'!B20 -> 0
C28: (viii) | D28: ;w- ,y- vkbZ- ih-@okf"kZd Iyku | H28: #- | I28: ='Other Deduction'!B13 -> 0 | J28: (xvii) | K28: ih-,y-vkbZ- ¼PLI) | N28: #- | O28: ='Other Deduction'!B11 -> 0
C29: (ix) | D29: x`g _.k fdLr ¼HBA Premium) | H29: #- | I29: =GA55A!V33+'Other Deduction'!B8 -> 0 | J29: (xviii) | K29: vU; tek jkf'k ¼/kkjk 80 lh ds vUrxZr½ | N29: #- | O29: ='Other Deduction'!E7 -> 0
C30: (x) | D30: lqdU;k le`f) ;kstuk esa tek jkf'k | H30: #- | I30: ='Other Deduction'!B18 -> 0 | J30: (xix) | K30: ;ksx ( i ls xviii ) | N30: #- | O30: =SUM(I21:I30)+SUM(O21:O29) -> 99424
C31: vf/kdre dVkSrh dh jkf'k 1-50 yk[k #i, rd | P31: #- | Q31: =IF(O30<150001,ROUND(O30,0),150000) -> 99424
C32: (B) ?kVkb;s& /kkjk 80CCD(2) fu;ksDrk }kjk isa'ku va'knku dh jkf'k ¼vf/kdre osru dk 10%) i`Fkd ls NwV | Q32: ='Other Deduction'!H9 -> 0
C33: (C) ?kVkb;s & /kkjk 80CCD (1B) uohu isa'ku ;kstuk esa vfrfjDr va'knku ¼vf/kdre :- 50]000) | P33: #- | Q33: =IF('Other Deduction'!E10>=50000,50000,'Other Deduction'!E10) -> 0
C34: ;ksx 11(A+B+C) | P34: #- | Q34: =SUM(Q31:Q33) -> 99424
B35: 12 | C35: vU; dVkSfr;k¡
C36: 1-/kkjk 80 D ,fpfdRlk chek izhfe;e ¼Lo;a]ifr@iRuh o cPpksa ds fy, : 25000] ekrk&firk ds fy, : 25000]lhfu;j flVhtu : 50000½ | P36: #- | Q36: ='Other Deduction'!E11 -> 0
C37: 2- /kkjk 80DD fodykax vkfJrksa ds fpfdRlk mipkj ¼vf/kdre 75]000 rFkk 80% ;k vf/kd fodykaxrk 125]000½ | P37: #- | Q37: ='Other Deduction'!E12 -> 0
C38: 3- /kkjk 80DDB fof'k"V jksaxksa ds mipkj gsrq dVkSrh ¼vf/kdre : 40]000] lhfu;j flVhtu gsrq : 100]000½ | P38: #- | Q38: ='Other Deduction'!E13 -> 0
C39: 4- /kkjk 80E mPp f'k{kk gsrq fy, _.k dk C;kt | P39: #- | Q39: ='Other Deduction'!E14 -> 0
C40: 5- /kkjk 80G /kekZFkZ laLFkkvksa vkfn dks fn;s nku ¼ d Js.kh esa 100 izfr'kr ,oa [k Js.kh esa 50 izfr'kr½ | P40: #- | Q40: ='Other Deduction'!E15 -> 0
...
