{"text_format":"3","workbook":"xlsx","n_sheets":17,"sheets":["INTRO","DASHBOARD","SD","STUDATA","DATA ENTRY","Classwise","Enrolment","REPORTS","PRAPTRA-A","PRAPTRA-B","Monitor_DATA","smile content","PEEO_SCH","PEEO_A","PEEO_B","New Format1","Daily Info"],"not_rendered":{"charts":2,"images":3,"macros":1,"external_links":3,"defined_names":24},"read":"whole","date_system":"1900"}

{"sheet":"INTRO","index":0,"n_rows":30,"n_cols":3,"rows_kept":30,"merged":[[0,0,25,0],[0,1,0,3],[1,1,1,2],[1,3,26,3],[2,1,2,2],[20,2,24,2],[26,0,26,2]]}
[]
[null,"SMILE PROGRAM MONITORING(SCHOOL LEVAL) EXCEL UTILITY "]
[null,"HOW TO USE"]
[null,null,"SMILE कार्यक्र्म  के संचालन एवं प्रभावी MONITORING के व  रेकॉर्ड संधारण   बाबत इस UTILITY का प्रयोग किया जा सकता है ।एक माह तक का डाटा एक शीट मे तैयार किया जा सकता है । अगले माह के लिए पुनः FILE को SAVE करने के लिए अपनी सुविधा से नाम देकर SAVE AS से Save करें।यह excel utility केवल मात्र के लिए सहायतार्थ तैयार की गई है ।यद्यपि इसे तैयार करने में पूर्ण सावधानी बरती गई है फिर भी किसी भूल चूक के लिए तैयार कर्ता उत्तरदायी नहीं है । किसी भी गणना के लिए त्रुटि पाए जाने पर  विभाग के नियम मान्य होंगे  किसी प्रकार की तकनीकी कमी पाए जाने पर नीचे दिये गए EMAIL द्वारा अवगत कराने का श्रम करावे।"]
[null,"1. DASHBOARD :-","DASHBOARD SHEET में अन्य शीट पर जाने के बटन है क्लिक करके सीधा पहुँच सकते है।साथ ही कार्य प्रगति का अवलोकन भी कर सकते है कितना गृहकार्य वितरण एवं संकलन  हुआ है।"]
[null,"2. SD SHEET","SHALA DARPAN से STUDENTS DETAILS की EXCEL FILE DOWNLOAD करके कॉपी करके पेस्ट करनी है"]
[null,"3. STU_DATA sheet","यह शीट ऑटो GENERATE होगी जिसमे कक्षा 1 से 12 तक के समस्त नामांकित विद्यार्थी होंगे।"]
[null,"4. DATA ENTRY SHEET ","इस शीट के कॉलम 6 से 30 तक मे ड्रॉपडाउन से यथोचित का चयन करना है एंट्री करनी है बाकी लॉक है।"]
[null,"5. ENROLMENT","यह शीट LOCKED है और ऑटो GENERATE होगी जिसमे कक्षा 1 से 12तक के समस्त नामांकित विद्यार्थी की सूचना कक्षावार होंगी।"]
[null,"6. PRPTRA-A SHEET","यह शीट ऑटो GENERATE होगी जिस WEEK की रिपोर्ट चाहिए Q3 मे ड्रॉपडाउन से चयन करे और रिपोर्ट प्राप्त करें ।प्रिंट लेकर सूचना नियंत्रण अधिकारी को भेज सकते है।"]
[null,"7. PRAPTRA-B","यह शीट ऑटो GENERATE होगी जिस WEEK की रिपोर्ट चाहिए प्रपत्र-अ के Q3 मे ड्रॉपडाउन से चयन करे और रिपोर्ट प्राप्त करें ।प्रिंट लेकर सूचना नियंत्रण अधिकारी को भेज सकते है।"]
[null,"8 smile content","विभाग द्वारा प्रतिदिन प्रसारित विषयवार CONTENT का रिकॉर्ड"]
[null,"9. PEEO SCH ","समस्त PEEO अधीन विद्यालयों से सूचना प्राप्त करके डाटा भरें"]
[null,"10 PEEO_A","PEEO_SCH SHEET मे WEEK चयन अनुसार  समेकित AUTO READY"]
[null,"11 PEEO_B","PEEO_SCH SHEET मे WEEK चयन अनुसार समेकित AUTO READY"]
[null,"12 New Format1"," निदेशालय द्वारा सत्र 2021-22 मे आदेशित सत्रारम्भ  कक्षाध्यापक /अध्यापक करणीय कार्य सूचना संकलन"]
[null,"13 Daily Info","आओ घर में सीखे 2.0 ,स्माइल 3.0 राजस्थान के तहत दैनिक /साप्ताहिक PEEO क्षेत्र विद्यालय समेकित सूचना "]
[null,"Disclaimer: -","All care has been taken to keep the information upto date and correct and is for educational purpose only. You are encouraged to consult your Accountant or Advisor before taking any decesion based on this calculator"]
[]
[null,null,"                                  सुधार हेतु सुझाव  आमंत्रित  है "]
[]
[]
[]
[]
[]
[null,null,"                                         joshihansraj72@gmail.com"]
[]
[]
[]
[null,"updated 09-08-2021","NEW FORMAT INSERTED "]

{"sheet":"DASHBOARD","index":1,"n_rows":23,"n_cols":24,"rows_kept":23,"merged":[[0,12,0,15],[1,1,1,15],[1,18,1,20],[1,22,1,25],[2,18,2,20],[2,22,2,25],[3,18,3,20],[3,22,3,25],[4,18,4,20],[4,22,4,25],[5,2,16,4],[6,13,6,14],[8,8,8,9],[19,6,19,11]]}
[{"$nulls":12},"Created by Hans Raj Joshi Principal"]
[null,{"$f":"CONCATENATE(S2&\" \"&S3&\" \"&S4&\" \"&S5)","v":"कार्यालय प्रधानाचार्य राजकीय उच्च माध्यमिक विद्यालय 13डीओएल, श्री गंगानगर"},{"$nulls":16},"कार्यालय",{"$nulls":3},"PEEO कार्यालय"]
[{"$nulls":18},"प्रधानाचार्य",{"$nulls":3},"पंचायत प्रारम्भिक शिक्षा अधिकारी"]
[{"$nulls":18},"राजकीय उच्च माध्यमिक विद्यालय",{"$nulls":3},"राजकीय उच्च माध्यमिक विद्यालय"]
[{"$nulls":18},"13डीओएल, श्री गंगानगर",{"$nulls":3},"13डीओएल, श्री गंगानगर"]
[{"$nulls":7},"विद्यालय का प्रकार",null,"1से 12 तक ",{"$nulls":13},"MAY"]
[{"$nulls":11},"माह","DECEMBER",{"$nulls":10},"JUNE"]
[{"$nulls":23},"JULY"]
[{"$nulls":8},"TARGET ACHIEVED",null,null,"WEEK",1,{"$nulls":10},"AUGUST"]
[{"$nulls":23},"SEPTEMBER"]
[{"$nulls":6},"कक्षा",1,2,3,4,5,6,7,8,"Total",{"$nulls":7},"OCTOBER"]
[{"$nulls":6},"नामांकन",{"$f":"Enrolment!U7","v":7},{"$f":"Enrolment!U8","v":24},{"$f":"Enrolment!U9","v":13},{"$f":"Enrolment!U10","v":16},{"$f":"Enrolment!U11","v":17},{"$f":"Enrolment!U12","v":23},{"$f":"Enrolment!U13","v":19},{"$f":"Enrolment!U14","v":18},{"$f":"SUM(H12:O12)","v":137},{"$nulls":7},"NOVEMBER"]
[{"$nulls":6},"गृहकार्य वितरण",{"$f":"IF($M$9=1,COUNTIFS('DATA ENTRY'!$F$9:$F$1000,H$11,'DATA ENTRY'!$T$9:$T$1000,\"ONLINE\"),IF($M$9=2,COUNTIFS('DATA ENTRY'!$F$9:$F$1000,H$11,'DATA ENTRY'!$U$9:$U$1000,\"ONLINE\"),IF($M$9=3,COUNTIFS('DATA ENTRY'!$F$9:$F$1000,H$11,'DATA ENTRY'!$V$9:$V$1000,\"ONLINE\"),IF($M$9=4,COUNTIFS('DATA ENTRY'!$F$9:$F$1000,H$11,'DATA ENTRY'!$W$9:$W$1000,\"ONLINE\"),IF($M$9=5,COUNTIFS('DATA ENTRY'!$F$9:$F$1000,H$11,'DATA ENTRY'!$X$9:$X$1000,\"ONLINE\"),\"\")))))+IF($M$9=1,COUNTIFS('DATA ENTRY'!$F$9:$F$1000,H$11,'DATA ENTRY'!$T$9:$T$1000,\"OFFLINE\"),IF($M$9=2,COUNTIFS('DATA ENTRY'!$F$9:$F$1000,H$11,'DATA ENTRY'!$U$9:$U$1000,\"OFFLINE\"),IF($M$9=3,COUNTIFS('DATA ENTRY'!$F$9:$F$1000,H$11,'DATA ENTRY'!$V$9:$V$1000,\"OFFLINE\"),IF($M$9=4,COUNTIFS('DATA ENTRY'!$F$9:$F$1000,H$11,'DATA ENTRY'!$W$9:$W$1000,\"OFFLINE\"),IF($M$9=5,COUNTIFS('DATA ENTRY'!$F$9:$F$1000,H$11,'DATA ENTRY'!$X$9:$X$1000,\"OFFLINE\"),\"\")))))","v":0},{"$f":"IF($M$9=1,COUNTIFS('DATA ENTRY'!$F$9:$F$1000,I$11,'DATA ENTRY'!$T$9:$T$1000,\"ONLINE\"),IF($M$9=2,COUNTIFS('DATA ENTRY'!$F$9:$F$1000,I$11,'DATA ENTRY'!$U$9:$U$1000,\"ONLINE\"),IF($M$9=3,COUNTIFS('DATA ENTRY'!$F$9:$F$1000,I$11,'DATA ENTRY'!$V$9:$V$1000,\"ONLINE\"),IF($M$9=4,COUNTIFS('DATA ENTRY'!$F$9:$F$1000,I$11,'DATA ENTRY'!$W$9:$W$1000,\"ONLINE\"),IF($M$9=5,COUNTIFS('DATA ENTRY'!$F$9:$F$1000,I$11,'DATA ENTRY'!$X$9:$X$1000,\"ONLINE\"),\"\")))))+IF($M$9=1,COUNTIFS('DATA ENTRY'!$F$9:$F$1000,I$11,'DATA ENTRY'!$T$9:$T$1000,\"OFFLINE\"),IF($M$9=2,COUNTIFS('DATA ENTRY'!$F$9:$F$1000,I$11,'DATA ENTRY'!$U$9:$U$1000,\"OFFLINE\"),IF($M$9=3,COUNTIFS('DATA ENTRY'!$F$9:$F$1000,I$11,'DATA ENTRY'!$V$9:$V$1000,\"OFFLINE\"),IF($M$9=4,COUNTIFS('DATA ENTRY'!$F$9:$F$1000,I$11,'DATA ENTRY'!$W$9:$W$1000,\"OFFLINE\"),IF($M$9=5,COUNTIFS('DATA ENTRY'!$F$9:$F$1000,I$11,'DATA ENTRY'!$X$9:$X$1000,\"OFFLINE\"),\"\")))))","v":0},{"$f":"IF($M$9=1,COUNTIFS('DATA ENTRY'!$F$9:$F$1000,J$11,'DATA ENTRY'!$T$9:$T$1000,\"ONLINE\"),IF($M$9=2,COUNTIFS('DATA ENTRY'!$F$9:$F$1000,J$11,'DATA ENTRY'!$U$9:$U$1000,\"ONLINE\"),IF($M$9=3,COUNTIFS('DATA ENTRY'!$F$9:$F$1000,J$11,'DATA ENTRY'!$V$9:$V$1000,\"ONLINE\"),IF($M$9=4,COUNTIFS('DATA ENTRY'!$F$9:$F$1000,J$11,'DATA ENTRY'!$W$9:$W$1000,\"ONLINE\"),IF($M$9=5,COUNTIFS('DATA ENTRY'!$F$9:$F$1000,J$11,'DATA ENTRY'!$X$9:$X$1000,\"ONLINE\"),\"\")))))+IF($M$9=1,COUNTIFS('DATA ENTRY'!$F$9:$F$1000,J$11,'DATA ENTRY'!$T$9:$T$1000,\"OFFLINE\"),IF($M$9=2,COUNTIFS('DATA ENTRY'!$F$9:$F$1000,J$11,'DATA ENTRY'!$U$9:$U$1000,\"OFFLINE\"),IF($M$9=3,COUNTIFS('DATA ENTRY'!$F$9:$F$1000,J$11,'DATA ENTRY'!$V$9:$V$1000,\"OFFLINE\"),IF($M$9=4,COUNTIFS('DATA ENTRY'!$F$9:$F$1000,J$11,'DATA ENTRY'!$W$9:$W$1000,\"OFFLINE\"),IF($M$9=5,COUNTIFS('DATA ENTRY'!$F$9:$F$1000,J$11,'DATA ENTRY'!$X$9:$X$1000,\"OFFLINE\"),\"\")))))","v":0},{"$f":"IF($M$9=1,COUNTIFS('DATA ENTRY'!$F$9:$F$1000,K$11,'DATA ENTRY'!$T$9:$T$1000,\"ONLINE\"),IF($M$9=2,COUNTIFS('DATA ENTRY'!$F$9:$F$1000,K$11,'DATA ENTRY'!$U$9:$U$1000,\"ONLINE\"),IF($M$9=3,COUNTIFS('DATA ENTRY'!$F$9:$F$1000,K$11,'DATA ENTRY'!$V$9:$V$1000,\"ONLINE\"),IF($M$9=4,COUNTIFS('DATA ENTRY'!$F$9:$F$1000,K$11,'DATA ENTRY'!$W$9:$W$1000,\"ONLINE\"),IF($M$9=5,COUNTIFS('DATA ENTRY'!$F$9:$F$1000,K$11,'DATA ENTRY'!$X$9:$X$1000,\"ONLINE\"),\"\")))))+IF($M$9=1,COUNTIFS('DATA ENTRY'!$F$9:$F$1000,K$11,'DATA ENTRY'!$T$9:$T$1000,\"OFFLINE\"),IF($M$9=2,COUNTIFS('DATA ENTRY'!$F$9:$F$1000,K$11,'DATA ENTRY'!$U$9:$U$1000,\"OFFLINE\"),IF($M$9=3,COUNTIFS('DATA ENTRY'!$F$9:$F$1000,K$11,'DATA ENTRY'!$V$9:$V$1000,\"OFFLINE\"),IF($M$9=4,COUNTIFS('DATA ENTRY'!$F$9:$F$1000,K$11,'DATA ENTRY'!$W$9:$W$1000,\"OFFLINE\"),IF($M$9=5,COUNTIFS('DATA ENTRY'!$F$9:$F$1000,K$11,'DATA ENTRY'!$X$9:$X$1000,\"OFFLINE\"),\"\")))))","v":0},{"$f":"IF($M$9=1,COUNTIFS('DATA ENTRY'!$F$9:$F$1000,L$11,'DATA ENTRY'!$T$9:$T$1000,\"ONLINE\"),IF($M$9=2,COUNTIFS('DATA ENTRY'!$F$9:$F$1000,L$11,'DATA ENTRY'!$U$9:$U$1000,\"ONLINE\"),IF($M$9=3,COUNTIFS('DATA ENTRY'!$F$9:$F$1000,L$11,'DATA ENTRY'!$V$9:$V$1000,\"ONLINE\"),IF($M$9=4,COUNTIFS('DATA ENTRY'!$F$9:$F$1000,L$11,'DATA ENTRY'!$W$9:$W$1000,\"ONLINE\"),IF($M$9=5,COUNTIFS('DATA ENTRY'!$F$9:$F$1000,L$11,'DATA ENTRY'!$X$9:$X$1000,\"ONLINE\"),\"\")))))+IF($M$9=1,COUNTIFS('DATA ENTRY'!$F$9:$F$1000,L$11,'DATA ENTRY'!$T$9:$T$1000,\"OFFLINE\"),IF($M$9=2,COUNTIFS('DATA ENTRY'!$F$9:$F$1000,L$11,'DATA ENTRY'!$U$9:$U$1000,\"OFFLINE\"),IF($M$9=3,COUNTIFS('DATA ENTRY'!$F$9:$F$1000,L$11,'DATA ENTRY'!$V$9:$V$1000,\"OFFLINE\"),IF($M$9=4,COUNTIFS('DATA ENTRY'!$F$9:$F$1000,L$11,'DATA ENTRY'!$W$9:$W$1000,\"OFFLINE\"),IF($M$9=5,COUNTIFS('DATA ENTRY'!$F$9:$F$1000,L$11,'DATA ENTRY'!$X$9:$X$1000,\"OFFLINE\"),\"\")))))","v":0},{"$f":"IF($M$9=1,COUNTIFS('DATA ENTRY'!$F$9:$F$1000,M$11,'DATA ENTRY'!$T$9:$T$1000,\"ONLINE\"),IF($M$9=2,COUNTIFS('DATA ENTRY'!$F$9:$F$1000,M$11,'DATA ENTRY'!$U$9:$U$1000,\"ONLINE\"),IF($M$9=3,COUNTIFS('DATA ENTRY'!$F$9:$F$1000,M$11,'DATA ENTRY'!$V$9:$V$1000,\"ONLINE\"),IF($M$9=4,COUNTIFS('DATA ENTRY'!$F$9:$F$1000,M$11,'DATA ENTRY'!$W$9:$W$1000,\"ONLINE\"),IF($M$9=5,COUNTIFS('DATA ENTRY'!$F$9:$F$1000,M$11,'DATA ENTRY'!$X$9:$X$1000,\"ONLINE\"),\"\")))))+IF($M$9=1,COUNTIFS('DATA ENTRY'!$F$9:$F$1000,M$11,'DATA ENTRY'!$T$9:$T$1000,\"OFFLINE\"),IF($M$9=2,COUNTIFS('DATA ENTRY'!$F$9:$F$1000,M$11,'DATA ENTRY'!$U$9:$U$1000,\"OFFLINE\"),IF($M$9=3,COUNTIFS('DATA ENTRY'!$F$9:$F$1000,M$11,'DATA ENTRY'!$V$9:$V$1000,\"OFFLINE\"),IF($M$9=4,COUNTIFS('DATA ENTRY'!$F$9:$F$1000,M$11,'DATA ENTRY'!$W$9:$W$1000,\"OFFLINE\"),IF($M$9=5,COUNTIFS('DATA ENTRY'!$F$9:$F$1000,M$11,'DATA ENTRY'!$X$9:$X$1000,\"OFFLINE\"),\"\")))))","v":0},{"$f":"IF($M$9=1,COUNTIFS('DATA ENTRY'!$F$9:$F$1000,N$11,'DATA ENTRY'!$T$9:$T$1000,\"ONLINE\"),IF($M$9=2,COUNTIFS('DATA ENTRY'!$F$9:$F$1000,N$11,'DATA ENTRY'!$U$9:$U$1000,\"ONLINE\"),IF($M$9=3,COUNTIFS('DATA ENTRY'!$F$9:$F$1000,N$11,'DATA ENTRY'!$V$9:$V$1000,\"ONLINE\"),IF($M$9=4,COUNTIFS('DATA ENTRY'!$F$9:$F$1000,N$11,'DATA ENTRY'!$W$9:$W$1000,\"ONLINE\"),IF($M$9=5,COUNTIFS('DATA ENTRY'!$F$9:$F$1000,N$11,'DATA ENTRY'!$X$9:$X$1000,\"ONLINE\"),\"\")))))+IF($M$9=1,COUNTIFS('DATA ENTRY'!$F$9:$F$1000,N$11,'DATA ENTRY'!$T$9:$T$1000,\"OFFLINE\"),IF($M$9=2,COUNTIFS('DATA ENTRY'!$F$9:$F$1000,N$11,'DATA ENTRY'!$U$9:$U$1000,\"OFFLINE\"),IF($M$9=3,COUNTIFS('DATA ENTRY'!$F$9:$F$1000,N$11,'DATA ENTRY'!$V$9:$V$1000,\"OFFLINE\"),IF($M$9=4,COUNTIFS('DATA ENTRY'!$F$9:$F$1000,N$11,'DATA ENTRY'!$W$9:$W$1000,\"OFFLINE\"),IF($M$9=5,COUNTIFS('DATA ENTRY'!$F$9:$F$1000,N$11,'DATA ENTRY'!$X$9:$X$1000,\"OFFLINE\"),\"\")))))","v":0},{"$f":"IF($M$9=1,COUNTIFS('DATA ENTRY'!$F$9:$F$1000,O$11,'DATA ENTRY'!$T$9:$T$1000,\"ONLINE\"),IF($M$9=2,COUNTIFS('DATA ENTRY'!$F$9:$F$1000,O$11,'DATA ENTRY'!$U$9:$U$1000,\"ONLINE\"),IF($M$9=3,COUNTIFS('DATA ENTRY'!$F$9:$F$1000,O$11,'DATA ENTRY'!$V$9:$V$1000,\"ONLINE\"),IF($M$9=4,COUNTIFS('DATA ENTRY'!$F$9:$F$1000,O$11,'DATA ENTRY'!$W$9:$W$1000,\"ONLINE\"),IF($M$9=5,COUNTIFS('DATA ENTRY'!$F$9:$F$1000,O$11,'DATA ENTRY'!$X$9:$X$1000,\"ONLINE\"),\"\")))))+IF($M$9=1,COUNTIFS('DATA ENTRY'!$F$9:$F$1000,O$11,'DATA ENTRY'!$T$9:$T$1000,\"OFFLINE\"),IF($M$9=2,COUNTIFS('DATA ENTRY'!$F$9:$F$1000,O$11,'DATA ENTRY'!$U$9:$U$1000,\"OFFLINE\"),IF($M$9=3,COUNTIFS('DATA ENTRY'!$F$9:$F$1000,O$11,'DATA ENTRY'!$V$9:$V$1000,\"OFFLINE\"),IF($M$9=4,COUNTIFS('DATA ENTRY'!$F$9:$F$1000,O$11,'DATA ENTRY'!$W$9:$W$1000,\"OFFLINE\"),IF($M$9=5,COUNTIFS('DATA ENTRY'!$F$9:$F$1000,O$11,'DATA ENTRY'!$X$9:$X$1000,\"OFFLINE\"),\"\")))))","v":18},{"$f":"SUM(H13:O13)","v":18},{"$nulls":7},"DECEMBER"]
[{"$nulls":6},"वितरण से वंचित विद्यार्थी",{"$f":"H12-H13","v":7},24,13,16,17,23,19,0,119]
[{"$nulls":6},"गृहकार्य संकलन",{"$f":"IF($M$9=1,COUNTIFS('DATA ENTRY'!$F$9:$F$1000,H$11,'DATA ENTRY'!$Y$9:$Y$1000,\"ONLINE\"),IF($M$9=2,COUNTIFS('DATA ENTRY'!$F$9:$F$1000,H$11,'DATA ENTRY'!$Z$9:$Z$1000,\"ONLINE\"),IF($M$9=3,COUNTIFS('DATA ENTRY'!$F$9:$F$1000,H$11,'DATA ENTRY'!$AA$9:$AA$1000,\"ONLINE\"),IF($M$9=4,COUNTIFS('DATA ENTRY'!$F$9:$F$1000,H$11,'DATA ENTRY'!$AB$9:$AB$1000,\"ONLINE\"),IF($M$9=5,COUNTIFS('DATA ENTRY'!$F$9:$F$1000,H$11,'DATA ENTRY'!$AC$9:$AC$1000,\"ONLINE\"),\"\")))))+IF($M$9=1,COUNTIFS('DATA ENTRY'!$F$9:$F$1000,H$11,'DATA ENTRY'!$Y$9:$Y$1000,\"OFFLINE\"),IF($M$9=2,COUNTIFS('DATA ENTRY'!$F$9:$F$1000,H$11,'DATA ENTRY'!$Z$9:$Z$1000,\"OFFLINE\"),IF($M$9=3,COUNTIFS('DATA ENTRY'!$F$9:$F$1000,H$11,'DATA ENTRY'!$AA$9:$AA$1000,\"OFFLINE\"),IF($M$9=4,COUNTIFS('DATA ENTRY'!$F$9:$F$1000,H$11,'DATA ENTRY'!$AB$9:$AB$1000,\"OFFLINE\"),IF($M$9=5,COUNTIFS('DATA ENTRY'!$F$9:$F$1000,H$11,'DATA ENTRY'!$AC$9:$AC$1000,\"OFFLINE\"),\"\")))))","v":1},{"$f":"IF($M$9=1,COUNTIFS('DATA ENTRY'!$F$9:$F$1000,I$11,'DATA ENTRY'!$Y$9:$Y$1000,\"ONLINE\"),IF($M$9=2,COUNTIFS('DATA ENTRY'!$F$9:$F$1000,I$11,'DATA ENTRY'!$Z$9:$Z$1000,\"ONLINE\"),IF($M$9=3,COUNTIFS('DATA ENTRY'!$F$9:$F$1000,I$11,'DATA ENTRY'!$AA$9:$AA$1000,\"ONLINE\"),IF($M$9=4,COUNTIFS('DATA ENTRY'!$F$9:$F$1000,I$11,'DATA ENTRY'!$AB$9:$AB$1000,\"ONLINE\"),IF($M$9=5,COUNTIFS('DATA ENTRY'!$F$9:$F$1000,I$11,'DATA ENTRY'!$AC$9:$AC$1000,\"ONLINE\"),\"\")))))+IF($M$9=1,COUNTIFS('DATA ENTRY'!$F$9:$F$1000,I$11,'DATA ENTRY'!$Y$9:$Y$1000,\"OFFLINE\"),IF($M$9=2,COUNTIFS('DATA ENTRY'!$F$9:$F$1000,I$11,'DATA ENTRY'!$Z$9:$Z$1000,\"OFFLINE\"),IF($M$9=3,COUNTIFS('DATA ENTRY'!$F$9:$F$1000,I$11,'DATA ENTRY'!$AA$9:$AA$1000,\"OFFLINE\"),IF($M$9=4,COUNTIFS('DATA ENTRY'!$F$9:$F$1000,I$11,'DATA ENTRY'!$AB$9:$AB$1000,\"OFFLINE\"),IF($M$9=5,COUNTIFS('DATA ENTRY'!$F$9:$F$1000,I$11,'DATA ENTRY'!$AC$9:$AC$1000,\"OFFLINE\"),\"\")))))","v":0},{"$f":"IF($M$9=1,COUNTIFS('DATA ENTRY'!$F$9:$F$1000,J$11,'DATA ENTRY'!$Y$9:$Y$1000,\"ONLINE\"),IF($M$9=2,COUNTIFS('DATA ENTRY'!$F$9:$F$1000,J$11,'DATA ENTRY'!$Z$9:$Z$1000,\"ONLINE\"),IF($M$9=3,COUNTIFS('DATA ENTRY'!$F$9:$F$1000,J$11,'DATA ENTRY'!$AA$9:$AA$1000,\"ONLINE\"),IF($M$9=4,COUNTIFS('DATA ENTRY'!$F$9:$F$1000,J$11,'DATA ENTRY'!$AB$9:$AB$1000,\"ONLINE\"),IF($M$9=5,COUNTIFS('DATA ENTRY'!$F$9:$F$1000,J$11,'DATA ENTRY'!$AC$9:$AC$1000,\"ONLINE\"),\"\")))))+IF($M$9=1,COUNTIFS('DATA ENTRY'!$F$9:$F$1000,J$11,'DATA ENTRY'!$Y$9:$Y$1000,\"OFFLINE\"),IF($M$9=2,COUNTIFS('DATA ENTRY'!$F$9:$F$1000,J$11,'DATA ENTRY'!$Z$9:$Z$1000,\"OFFLINE\"),IF($M$9=3,COUNTIFS('DATA ENTRY'!$F$9:$F$1000,J$11,'DATA ENTRY'!$AA$9:$AA$1000,\"OFFLINE\"),IF($M$9=4,COUNTIFS('DATA ENTRY'!$F$9:$F$1000,J$11,'DATA ENTRY'!$AB$9:$AB$1000,\"OFFLINE\"),IF($M$9=5,COUNTIFS('DATA ENTRY'!$F$9:$F$1000,J$11,'DATA ENTRY'!$AC$9:$AC$1000,\"OFFLINE\"),\"\")))))","v":0},{"$f":"IF($M$9=1,COUNTIFS('DATA ENTRY'!$F$9:$F$1000,K$11,'DATA ENTRY'!$Y$9:$Y$1000,\"ONLINE\"),IF($M$9=2,COUNTIFS('DATA ENTRY'!$F$9:$F$1000,K$11,'DATA ENTRY'!$Z$9:$Z$1000,\"ONLINE\"),IF($M$9=3,COUNTIFS('DATA ENTRY'!$F$9:$F$1000,K$11,'DATA ENTRY'!$AA$9:$AA$1000,\"ONLINE\"),IF($M$9=4,COUNTIFS('DATA ENTRY'!$F$9:$F$1000,K$11,'DATA ENTRY'!$AB$9:$AB$1000,\"ONLINE\"),IF($M$9=5,COUNTIFS('DATA ENTRY'!$F$9:$F$1000,K$11,'DATA ENTRY'!$AC$9:$AC$1000,\"ONLINE\"),\"\")))))+IF($M$9=1,COUNTIFS('DATA ENTRY'!$F$9:$F$1000,K$11,'DATA ENTRY'!$Y$9:$Y$1000,\"OFFLINE\"),IF($M$9=2,COUNTIFS('DATA ENTRY'!$F$9:$F$1000,K$11,'DATA ENTRY'!$Z$9:$Z$1000,\"OFFLINE\"),IF($M$9=3,COUNTIFS('DATA ENTRY'!$F$9:$F$1000,K$11,'DATA ENTRY'!$AA$9:$AA$1000,\"OFFLINE\"),IF($M$9=4,COUNTIFS('DATA ENTRY'!$F$9:$F$1000,K$11,'DATA ENTRY'!$AB$9:$AB$1000,\"OFFLINE\"),IF($M$9=5,COUNTIFS('DATA ENTRY'!$F$9:$F$1000,K$11,'DATA ENTRY'!$AC$9:$AC$1000,\"OFFLINE\"),\"\")))))","v":0},{"$f":"IF($M$9=1,COUNTIFS('DATA ENTRY'!$F$9:$F$1000,L$11,'DATA ENTRY'!$Y$9:$Y$1000,\"ONLINE\"),IF($M$9=2,COUNTIFS('DATA ENTRY'!$F$9:$F$1000,L$11,'DATA ENTRY'!$Z$9:$Z$1000,\"ONLINE\"),IF($M$9=3,COUNTIFS('DATA ENTRY'!$F$9:$F$1000,L$11,'DATA ENTRY'!$AA$9:$AA$1000,\"ONLINE\"),IF($M$9=4,COUNTIFS('DATA ENTRY'!$F$9:$F$1000,L$11,'DATA ENTRY'!$AB$9:$AB$1000,\"ONLINE\"),IF($M$9=5,COUNTIFS('DATA ENTRY'!$F$9:$F$1000,L$11,'DATA ENTRY'!$AC$9:$AC$1000,\"ONLINE\"),\"\")))))+IF($M$9=1,COUNTIFS('DATA ENTRY'!$F$9:$F$1000,L$11,'DATA ENTRY'!$Y$9:$Y$1000,\"OFFLINE\"),IF($M$9=2,COUNTIFS('DATA ENTRY'!$F$9:$F$1000,L$11,'DATA ENTRY'!$Z$9:$Z$1000,\"OFFLINE\"),IF($M$9=3,COUNTIFS('DATA ENTRY'!$F$9:$F$1000,L$11,'DATA ENTRY'!$AA$9:$AA$1000,\"OFFLINE\"),IF($M$9=4,COUNTIFS('DATA ENTRY'!$F$9:$F$1000,L$11,'DATA ENTRY'!$AB$9:$AB$1000,\"OFFLINE\"),IF($M$9=5,COUNTIFS('DATA ENTRY'!$F$9:$F$1000,L$11,'DATA ENTRY'!$AC$9:$AC$1000,\"OFFLINE\"),\"\")))))","v":0},{"$f":"IF($M$9=1,COUNTIFS('DATA ENTRY'!$F$9:$F$1000,M$11,'DATA ENTRY'!$Y$9:$Y$1000,\"ONLINE\"),IF($M$9=2,COUNTIFS('DATA ENTRY'!$F$9:$F$1000,M$11,'DATA ENTRY'!$Z$9:$Z$1000,\"ONLINE\"),IF($M$9=3,COUNTIFS('DATA ENTRY'!$F$9:$F$1000,M$11,'DATA ENTRY'!$AA$9:$AA$1000,\"ONLINE\"),IF($M$9=4,COUNTIFS('DATA ENTRY'!$F$9:$F$1000,M$11,'DATA ENTRY'!$AB$9:$AB$1000,\"ONLINE\"),IF($M$9=5,COUNTIFS('DATA ENTRY'!$F$9:$F$1000,M$11,'DATA ENTRY'!$AC$9:$AC$1000,\"ONLINE\"),\"\")))))+IF($M$9=1,COUNTIFS('DATA ENTRY'!$F$9:$F$1000,M$11,'DATA ENTRY'!$Y$9:$Y$1000,\"OFFLINE\"),IF($M$9=2,COUNTIFS('DATA ENTRY'!$F$9:$F$1000,M$11,'DATA ENTRY'!$Z$9:$Z$1000,\"OFFLINE\"),IF($M$9=3,COUNTIFS('DATA ENTRY'!$F$9:$F$1000,M$11,'DATA ENTRY'!$AA$9:$AA$1000,\"OFFLINE\"),IF($M$9=4,COUNTIFS('DATA ENTRY'!$F$9:$F$1000,M$11,'DATA ENTRY'!$AB$9:$AB$1000,\"OFFLINE\"),IF($M$9=5,COUNTIFS('DATA ENTRY'!$F$9:$F$1000,M$11,'DATA ENTRY'!$AC$9:$AC$1000,\"OFFLINE\"),\"\")))))","v":0},{"$f":"IF($M$9=1,COUNTIFS('DATA ENTRY'!$F$9:$F$1000,N$11,'DATA ENTRY'!$Y$9:$Y$1000,\"ONLINE\"),IF($M$9=2,COUNTIFS('DATA ENTRY'!$F$9:$F$1000,N$11,'DATA ENTRY'!$Z$9:$Z$1000,\"ONLINE\"),IF($M$9=3,COUNTIFS('DATA ENTRY'!$F$9:$F$1000,N$11,'DATA ENTRY'!$AA$9:$AA$1000,\"ONLINE\"),IF($M$9=4,COUNTIFS('DATA ENTRY'!$F$9:$F$1000,N$11,'DATA ENTRY'!$AB$9:$AB$1000,\"ONLINE\"),IF($M$9=5,COUNTIFS('DATA ENTRY'!$F$9:$F$1000,N$11,'DATA ENTRY'!$AC$9:$AC$1000,\"ONLINE\"),\"\")))))+IF($M$9=1,COUNTIFS('DATA ENTRY'!$F$9:$F$1000,N$11,'DATA ENTRY'!$Y$9:$Y$1000,\"OFFLINE\"),IF($M$9=2,COUNTIFS('DATA ENTRY'!$F$9:$F$1000,N$11,'DATA ENTRY'!$Z$9:$Z$1000,\"OFFLINE\"),IF($M$9=3,COUNTIFS('DATA ENTRY'!$F$9:$F$1000,N$11,'DATA ENTRY'!$AA$9:$AA$1000,\"OFFLINE\"),IF($M$9=4,COUNTIFS('DATA ENTRY'!$F$9:$F$1000,N$11,'DATA ENTRY'!$AB$9:$AB$1000,\"OFFLINE\"),IF($M$9=5,COUNTIFS('DATA ENTRY'!$F$9:$F$1000,N$11,'DATA ENTRY'!$AC$9:$AC$1000,\"OFFLINE\"),\"\")))))","v":0},{"$f":"IF($M$9=1,COUNTIFS('DATA ENTRY'!$F$9:$F$1000,O$11,'DATA ENTRY'!$Y$9:$Y$1000,\"ONLINE\"),IF($M$9=2,COUNTIFS('DATA ENTRY'!$F$9:$F$1000,O$11,'DATA ENTRY'!$Z$9:$Z$1000,\"ONLINE\"),IF($M$9=3,COUNTIFS('DATA ENTRY'!$F$9:$F$1000,O$11,'DATA ENTRY'!$AA$9:$AA$1000,\"ONLINE\"),IF($M$9=4,COUNTIFS('DATA ENTRY'!$F$9:$F$1000,O$11,'DATA ENTRY'!$AB$9:$AB$1000,\"ONLINE\"),IF($M$9=5,COUNTIFS('DATA ENTRY'!$F$9:$F$1000,O$11,'DATA ENTRY'!$AC$9:$AC$1000,\"ONLINE\"),\"\")))))+IF($M$9=1,COUNTIFS('DATA ENTRY'!$F$9:$F$1000,O$11,'DATA ENTRY'!$Y$9:$Y$1000,\"OFFLINE\"),IF($M$9=2,COUNTIFS('DATA ENTRY'!$F$9:$F$1000,O$11,'DATA ENTRY'!$Z$9:$Z$1000,\"OFFLINE\"),IF($M$9=3,COUNTIFS('DATA ENTRY'!$F$9:$F$1000,O$11,'DATA ENTRY'!$AA$9:$AA$1000,\"OFFLINE\"),IF($M$9=4,COUNTIFS('DATA ENTRY'!$F$9:$F$1000,O$11,'DATA ENTRY'!$AB$9:$AB$1000,\"OFFLINE\"),IF($M$9=5,COUNTIFS('DATA ENTRY'!$F$9:$F$1000,O$11,'DATA ENTRY'!$AC$9:$AC$1000,\"OFFLINE\"),\"\")))))","v":17},{"$f":"SUM(H15:O15)","v":18}]
[{"$nulls":6},"संकलन से वंचित विद्यार्थी",{"$f":"H12-H15","v":6},{"$f":"I12-I15","v":24},13,16,17,23,19,1,{"$f":"SUM(H16:O16)","v":119}]
[{"$nulls":6},"QUIZ में भाग लेने वाले विद्यार्थी",{"$f":"IF($M$9=1,COUNTIFS('DATA ENTRY'!$F$9:$F$1000,H$11,'DATA ENTRY'!$K$9:$K$1000,\"YES\"),IF($M$9=2,COUNTIFS('DATA ENTRY'!$F$9:$F$1000,H$11,'DATA ENTRY'!$L$9:$L$1000,\"YES\"),IF($M$9=3,COUNTIFS('DATA ENTRY'!$F$9:$F$1000,H$11,'DATA ENTRY'!$M$9:$M$1000,\"YES\"),IF($M$9=4,COUNTIFS('DATA ENTRY'!$F$9:$F$1000,H$11,'DATA ENTRY'!$N$9:$N$1000,\"YES\"),IF($M$9=5,COUNTIFS('DATA ENTRY'!$F$9:$F$1000,H$11,'DATA ENTRY'!$O$9:$O$1000,\"YES\"),\"\")))))","v":0},{"$f":"IF($M$9=1,COUNTIFS('DATA ENTRY'!$F$9:$F$1000,I$11,'DATA ENTRY'!$K$9:$K$1000,\"YES\"),IF($M$9=2,COUNTIFS('DATA ENTRY'!$F$9:$F$1000,I$11,'DATA ENTRY'!$L$9:$L$1000,\"YES\"),IF($M$9=3,COUNTIFS('DATA ENTRY'!$F$9:$F$1000,I$11,'DATA ENTRY'!$M$9:$M$1000,\"YES\"),IF($M$9=4,COUNTIFS('DATA ENTRY'!$F$9:$F$1000,I$11,'DATA ENTRY'!$N$9:$N$1000,\"YES\"),IF($M$9=5,COUNTIFS('DATA ENTRY'!$F$9:$F$1000,I$11,'DATA ENTRY'!$O$9:$O$1000,\"YES\"),\"\")))))","v":0},{"$f":"IF($M$9=1,COUNTIFS('DATA ENTRY'!$F$9:$F$1000,J$11,'DATA ENTRY'!$K$9:$K$1000,\"YES\"),IF($M$9=2,COUNTIFS('DATA ENTRY'!$F$9:$F$1000,J$11,'DATA ENTRY'!$L$9:$L$1000,\"YES\"),IF($M$9=3,COUNTIFS('DATA ENTRY'!$F$9:$F$1000,J$11,'DATA ENTRY'!$M$9:$M$1000,\"YES\"),IF($M$9=4,COUNTIFS('DATA ENTRY'!$F$9:$F$1000,J$11,'DATA ENTRY'!$N$9:$N$1000,\"YES\"),IF($M$9=5,COUNTIFS('DATA ENTRY'!$F$9:$F$1000,J$11,'DATA ENTRY'!$O$9:$O$1000,\"YES\"),\"\")))))","v":0},{"$f":"IF($M$9=1,COUNTIFS('DATA ENTRY'!$F$9:$F$1000,K$11,'DATA ENTRY'!$K$9:$K$1000,\"YES\"),IF($M$9=2,COUNTIFS('DATA ENTRY'!$F$9:$F$1000,K$11,'DATA ENTRY'!$L$9:$L$1000,\"YES\"),IF($M$9=3,COUNTIFS('DATA ENTRY'!$F$9:$F$1000,K$11,'DATA ENTRY'!$M$9:$M$1000,\"YES\"),IF($M$9=4,COUNTIFS('DATA ENTRY'!$F$9:$F$1000,K$11,'DATA ENTRY'!$N$9:$N$1000,\"YES\"),IF($M$9=5,COUNTIFS('DATA ENTRY'!$F$9:$F$1000,K$11,'DATA ENTRY'!$O$9:$O$1000,\"YES\"),\"\")))))","v":0},{"$f":"IF($M$9=1,COUNTIFS('DATA ENTRY'!$F$9:$F$1000,L$11,'DATA ENTRY'!$K$9:$K$1000,\"YES\"),IF($M$9=2,COUNTIFS('DATA ENTRY'!$F$9:$F$1000,L$11,'DATA ENTRY'!$L$9:$L$1000,\"YES\"),IF($M$9=3,COUNTIFS('DATA ENTRY'!$F$9:$F$1000,L$11,'DATA ENTRY'!$M$9:$M$1000,\"YES\"),IF($M$9=4,COUNTIFS('DATA ENTRY'!$F$9:$F$1000,L$11,'DATA ENTRY'!$N$9:$N$1000,\"YES\"),IF($M$9=5,COUNTIFS('DATA ENTRY'!$F$9:$F$1000,L$11,'DATA ENTRY'!$O$9:$O$1000,\"YES\"),\"\")))))","v":0},{"$f":"IF($M$9=1,COUNTIFS('DATA ENTRY'!$F$9:$F$1000,M$11,'DATA ENTRY'!$K$9:$K$1000,\"YES\"),IF($M$9=2,COUNTIFS('DATA ENTRY'!$F$9:$F$1000,M$11,'DATA ENTRY'!$L$9:$L$1000,\"YES\"),IF($M$9=3,COUNTIFS('DATA ENTRY'!$F$9:$F$1000,M$11,'DATA ENTRY'!$M$9:$M$1000,\"YES\"),IF($M$9=4,COUNTIFS('DATA ENTRY'!$F$9:$F$1000,M$11,'DATA ENTRY'!$N$9:$N$1000,\"YES\"),IF($M$9=5,COUNTIFS('DATA ENTRY'!$F$9:$F$1000,M$11,'DATA ENTRY'!$O$9:$O$1000,\"YES\"),\"\")))))","v":0},{"$f":"IF($M$9=1,COUNTIFS('DATA ENTRY'!$F$9:$F$1000,N$11,'DATA ENTRY'!$K$9:$K$1000,\"YES\"),IF($M$9=2,COUNTIFS('DATA ENTRY'!$F$9:$F$1000,N$11,'DATA ENTRY'!$L$9:$L$1000,\"YES\"),IF($M$9=3,COUNTIFS('DATA ENTRY'!$F$9:$F$1000,N$11,'DATA ENTRY'!$M$9:$M$1000,\"YES\"),IF($M$9=4,COUNTIFS('DATA ENTRY'!$F$9:$F$1000,N$11,'DATA ENTRY'!$N$9:$N$1000,\"YES\"),IF($M$9=5,COUNTIFS('DATA ENTRY'!$F$9:$F$1000,N$11,'DATA ENTRY'!$O$9:$O$1000,\"YES\"),\"\")))))","v":0},{"$f":"IF($M$9=1,COUNTIFS('DATA ENTRY'!$F$9:$F$1000,O$11,'DATA ENTRY'!$K$9:$K$1000,\"YES\"),IF($M$9=2,COUNTIFS('DATA ENTRY'!$F$9:$F$1000,O$11,'DATA ENTRY'!$L$9:$L$1000,\"YES\"),IF($M$9=3,COUNTIFS('DATA ENTRY'!$F$9:$F$1000,O$11,'DATA ENTRY'!$M$9:$M$1000,\"YES\"),IF($M$9=4,COUNTIFS('DATA ENTRY'!$F$9:$F$1000,O$11,'DATA ENTRY'!$N$9:$N$1000,\"YES\"),IF($M$9=5,COUNTIFS('DATA ENTRY'!$F$9:$F$1000,O$11,'DATA ENTRY'!$O$9:$O$1000,\"YES\"),\"\")))))","v":18},{"$f":"SUM(H17:O17)","v":18}]
[{"$nulls":6},"QUIZ से वंचित विद्यार्थी",{"$f":"H12-H17","v":7},{"$f":"I12-I17","v":24},13,16,17,23,19,0,119]
[]
[{"$nulls":6},"कक्षा 9 से 12 तक मार्गदर्शन हेतु विद्यालय आकर लाभान्वित"]
[{"$nulls":6},"कक्षा",9,10,11,12,"TOTAL"]
[{"$nulls":6},"नामांकन",{"$f":"Enrolment!U15","v":22},{"$f":"Enrolment!U16","v":39},{"$f":"Enrolment!U17","v":48},{"$f":"Enrolment!U18","v":25},{"$f":"SUM(H22:K22)","v":134}]
[{"$nulls":6},"लाभान्वित",{"$f":"COUNTIFS('DATA ENTRY'!$F$9:$F$1000,DASHBOARD!H$21,'DATA ENTRY'!$AK$9:$AK$1000,\"YES\")","v":0},{"$f":"COUNTIFS('DATA ENTRY'!$F$9:$F$1000,DASHBOARD!I$21,'DATA ENTRY'!$AK$9:$AK$1000,\"YES\")","v":0},{"$f":"COUNTIFS('DATA ENTRY'!$F$9:$F$1000,DASHBOARD!J$21,'DATA ENTRY'!$AK$9:$AK$1000,\"YES\")","v":0},{"$f":"COUNTIFS('DATA ENTRY'!$F$9:$F$1000,DASHBOARD!K$21,'DATA ENTRY'!$AK$9:$AK$1000,\"YES\")","v":0},{"$f":"SUM(H23:K23)","v":0}]

{"sheet":"SD","index":2,"n_rows":272,"n_cols":31,"rows_kept":272}
["Class","Section","SRNO","DOA","Name","Late Status","FatherName","MotherName","Gender","Dob","ClassRollNo","ExamRollNumber","School Total Working Days","Student Total Attendence","Category","Religion","Previous Year Marks","Name Of School","School UDise Code","Aadhar No of Student","Bhamashash Card","Mobile No Student(Father/Mother/Guardian","Student Permanent Address","Annual Parental Income","CWSN Status","BPL Status","Minority Status","Age On Present(In Years)","Co-Curricular Activity","Distance From School"]
[1,"A",701,null,"abc1",null,"xyz1","pqr1","M","2014-11-27",null,null,0,null,"SC",null,null,"GOVT. SENIOR SECONDARY SCHOOL 13 DOL (212120)",1234567899,"xxxx1234","ABCDEFG",8302528863,null,null,"N","Y",null,7,null,0]
[1,"A",{"$f":"C2+1","v":702},null,"abc2",null,"xyz2","pqr2","F","2016-01-15",null,null,0,null,"SC",null,null,"GOVT. SENIOR SECONDARY SCHOOL 13 DOL (212120)",1234567899,"xxxx1235","ABCDEFG",8440054816,null,null,"N","Y",null,5,null,0]
[1,"A",{"$f":"C3+1","v":703},null,"abc3",null,"xyz3","pqr3","F","2016-04-27",null,null,0,null,"OBC",null,null,"GOVT. SENIOR SECONDARY SCHOOL 13 DOL (212120)",1234567899,"xxxx1236","ABCDEFG",7023749315,null,null,"N","Y",null,5,null,0]
[1,"A",704,null,"abc4",null,"xyz4","pqr4","F","2014-02-24",null,null,0,null,"SBC",null,null,"GOVT. SENIOR SECONDARY SCHOOL 13 DOL (212120)",1234567899,"xxxx1237","ABCDEFG",9828753401,null,null,"N","Y",null,7,null,0]
[1,"A",705,null,"abc5",null,"xyz5","pqr5","F","2016-05-17",null,null,0,null,"OBC",null,null,"GOVT. SENIOR SECONDARY SCHOOL 13 DOL (212120)",1234567899,"xxxx1238","ABCDEFG",7014043488,null,null,"N","Y",null,5,null,0]
[1,"A",706,null,"abc6",null,"xyz6","pqr6","M","2016-01-05",null,null,0,null,"SC",null,null,"GOVT. SENIOR SECONDARY SCHOOL 13 DOL (212120)",1234567899,"xxxx1239","ABCDEFG",7849925995,null,null,"N","Y",null,5,null,0]
[1,"A",707,null,"abc7",null,"xyz7","pqr7","F","2016-04-24",null,null,0,null,"OBC",null,null,"GOVT. SENIOR SECONDARY SCHOOL 13 DOL (212120)",1234567899,"xxxx1240","ABCDEFG",7296959713,null,null,"N","Y",null,5,null,0]
[2,"A",708,"2020-12-09","abc8",null,"xyz8","pqr8","M","2015-10-06",null,null,0,null,"SC","Hindu",null,"GOVT. SENIOR SECONDARY SCHOOL 13 DOL (212120)",1234567899,"xxxx1241","ABCDEFG",9660540090,"VPO 13 DOL,GHARSANA,13DOL,335707",0,"N","N","No",6,"None",0]
[2,"A",709,"2020-07-11","abc9",null,"xyz9","pqr9","M","2014-09-25",null,null,0,null,"SC","Hindu",null,"GOVT. SENIOR SECONDARY SCHOOL 13 DOL (212120)",1234567899,"xxxx1242","ABCDEFG",9887094708,"VPO 13DOL,13 DOL,,335707",40000,"N","N","No",7,"None",0]
[2,"A",710,"2020-12-09","abc10",null,"xyz10","pqr10","M","2013-12-13",null,null,0,null,"SC","Hindu",null,"GOVT. SENIOR SECONDARY SCHOOL 13 DOL (212120)",1234567899,"xxxx1243","ABCDEFG",9660540020,"VPO 13 DOL,GHARSANA,13 DOL,335707",0,"N","N","No",8,"None",0]
[2,"A",711,"2020-07-24","abc11",null,"xyz11","pqr11","M","2015-03-03",null,null,0,null,"SC","Hindu",null,"GOVT. SENIOR SECONDARY SCHOOL 13 DOL (212120)",1234567899,"xxxx1244","ABCDEFG",8441073918,"VPO 13 DOL,GHARSANA,13dol,335707",0,"N","N","No",6,"None",0]
[2,"A",712,"2020-07-14","abc12",null,"xyz12","pqr12","M","2014-12-14",null,null,0,null,"SC","Hindu",null,"GOVT. SENIOR SECONDARY SCHOOL 13 DOL (212120)",1234567899,"xxxx1245","ABCDEFG",6376701853,"VPO 13DOL,GHARSANA,13dol,335707",0,"N","N","No",7,"None",0]
[2,"A",713,"2020-07-13","abc13",null,"xyz13","pqr13","F","2014-10-13",null,null,0,null,"OBC","Sikhs",null,"GOVT. SENIOR SECONDARY SCHOOL 13 DOL (212120)",1234567899,"xxxx1246","ABCDEFG",6377325327,"VPO 13DOL,GHARSANA,13dol,335707",30000,"N","N","Yes",7,"None",0]
[2,"A",714,"2020-12-21","abc14",null,"xyz14","pqr14","F","2015-11-23",null,null,0,null,"OBC","Sikhs",null,"GOVT. SENIOR SECONDARY SCHOOL 13 DOL (212120)",1234567899,"xxxx1247","ABCDEFG",6383718538,"VPO 13DOL,GHARSANA,13DOL,335707",0,"N","N","Yes",6,"None",0]
[2,"A",715,"2020-08-07","abc15",null,"xyz15","pqr15","M","2015-01-31",null,null,0,null,"SC","Sikhs",null,"GOVT. SENIOR SECONDARY SCHOOL 13 DOL (212120)",1234567899,"xxxx1248","ABCDEFG",7412853387,"VPO 13DOL,GHARSANA,13DOL,335707",40000,"N","N","Yes",6,"None",0]
[2,"A",716,"2020-07-13","abc16",null,"xyz16","pqr16","M","2015-03-07",null,null,0,null,"OBC","Sikhs",null,"GOVT. SENIOR SECONDARY SCHOOL 13 DOL (212120)",1234567899,"xxxx1249","ABCDEFG",7665126155,"vpo 13DOL,GHARSANA,13DOL,335707",40000,"N","N","Yes",6,"None",0]
[2,"A",717,"2021-01-18","abc17",null,"xyz17","pqr17","M","2015-10-19",null,null,0,null,"OBC","Sikhs",null,"GOVT. SENIOR SECONDARY SCHOOL 13 DOL (212120)",1234567899,"xxxx1250","ABCDEFG",7726826343,"V.P.O. 13 DOL,GHARSANA,TEH. RAWLA MANDI,335707",60000,"N","N","Yes",6,"None",0]
[2,"A",718,"2020-06-30","abc18",null,"xyz18","pqr18","M","2015-02-20",null,null,0,null,"OBC","Sikhs",null,"GOVT. SENIOR SECONDARY SCHOOL 13 DOL (212120)",1234567899,"xxxx1251","ABCDEFG",7340265927,"VPO13DOL,GHARSANA,13DOL,335707",40000,"N","N","Yes",6,"None",0]
[2,"A",719,"2020-07-20","abc19",null,"xyz19","pqr19","M","2015-06-17",null,null,0,null,"OBC","Sikhs",null,"GOVT. SENIOR SECONDARY SCHOOL 13 DOL (212120)",1234567899,"xxxx1252","ABCDEFG",7728089380,"VPO 13 DOL,GHARSANA,13DOL,335707",40000,"N","N","Yes",6,"None",0]
[2,"A",720,"2020-07-21","abc20",null,"xyz20","pqr20","M","2015-03-13",null,null,0,null,"SC","Hindu",null,"GOVT. SENIOR SECONDARY SCHOOL 13 DOL (212120)",1234567899,"xxxx1253","ABCDEFG",9024679189,"VPO 13 DOL,RAWLA MANDI,13 DOL,335707",40000,"N","N","No",6,"None",0]
[2,"A",721,"2020-09-04","abc21",null,"xyz21","pqr21","F","2015-08-02",null,null,0,null,"OBC","Hindu",null,"GOVT. SENIOR SECONDARY SCHOOL 13 DOL (212120)",1234567899,"xxxx1254","ABCDEFG",9784774814,"VPO13DOL,GHARSANA,13DOL,335707",40000,"N","N","No",6,"None",0]
[2,"A",722,"2020-12-10","abc22",null,"xyz22","pqr22","M","2015-12-10",null,null,0,null,"OBC","Hindu",null,"GOVT. SENIOR SECONDARY SCHOOL 13 DOL (212120)",1234567899,"xxxx1255","ABCDEFG",9079705265,"VPO 13 DOL,GHARSANA,13 DOL,335707",0,"N","N","No",6,"None",0]
[2,"A",723,"2020-07-15","abc23",null,"xyz23","pqr23","M","2014-10-31",null,null,0,null,"OBC","Sikhs",null,"GOVT. SENIOR SECONDARY SCHOOL 13 DOL (212120)",1234567899,"xxxx1256","ABCDEFG",9772503592,"VPO 13 DOL,GHARSANA,13dol,335707",40000,"N","N","Yes",7,"None",0]
[2,"A",724,"2020-08-31","abc24",null,"xyz24","pqr24","F","2014-12-19",null,null,0,null,"SC","Hindu",null,"GOVT. SENIOR SECONDARY SCHOOL 13 DOL (212120)",1234567899,"xxxx1257","ABCDEFG",9950150485,"VPO13DOL,GHARSANA,13DOL,335707",0,"N","N","No",7,"None",0]
[2,"A",725,"2020-09-26","abc25",null,"xyz25","pqr25","M","2015-04-04",null,null,0,null,"SC","Sikhs",null,"GOVT. SENIOR SECONDARY SCHOOL 13 DOL (212120)",1234567899,"xxxx1258","ABCDEFG",9680325713,"chak 9dol,GHARSANA,9DOL,335707",0,"N","N","Yes",6,"None",5]
[2,"A",726,"2020-07-29","abc26",null,"xyz26","pqr26","F","2015-06-10",null,null,0,null,"OBC","Hindu",null,"GOVT. SENIOR SECONDARY SCHOOL 13 DOL (212120)",1234567899,"xxxx1259","ABCDEFG",9788376911,"VPO 13DOL,GHARSANA,13DOL,335707",40000,"N","N","No",6,"None",0]
[2,"A",727,"2020-07-24","abc27",null,"xyz27","pqr27","M","2014-08-15",null,null,0,null,"SC","Hindu",null,"GOVT. SENIOR SECONDARY SCHOOL 13 DOL (212120)",1234567899,"xxxx1260","ABCDEFG",9351256273,"VPO 13DOL,GHARSANA,13DOL,335707",40000,"N","N","No",7,"None",0]
[2,"A",728,"2021-01-04","abc28",null,"xyz28","pqr28","F","2015-01-26",null,null,0,null,"SC","Hindu",null,"GOVT. SENIOR SECONDARY SCHOOL 13 DOL (212120)",1234567899,"xxxx1261","ABCDEFG",9206829111,"VPO 13D0L,GHARSANA,13DOL,335707",0,"N","N","No",6,"None",0]
[2,"A",729,"2021-01-09","abc29",null,"xyz29","pqr29","M","2014-11-10",null,null,0,null,"OBC","Sikhs",null,"GOVT. SENIOR SECONDARY SCHOOL 13 DOL (212120)",1234567899,"xxxx1262","ABCDEFG",9610108283,"VPO 13 DOL,GHARSANA,13DOL,335707",0,"N","N","Yes",7,"None",0]
[2,"A",730,null,"abc30",null,"xyz30","pqr30","M","2015-03-19",null,null,0,null,"SC",null,null,"GOVT. SENIOR SECONDARY SCHOOL 13 DOL (212120)",1234567899,"xxxx1263","ABCDEFG",8094644268,null,null,"N","Y",null,6,null,0]
[2,"A",731,"2020-12-10","abc31",null,"xyz31","pqr31","F","2015-03-16",null,null,0,null,"OBC","Hindu",null,"GOVT. SENIOR SECONDARY SCHOOL 13 DOL (212120)",1234567899,"xxxx1264","ABCDEFG",7691038210,"VPO 13 DOL,GHARSANA,13DOL,335707",0,"N","N","No",6,"None",0]
[3,"A",732,"2020-09-10","abc32",null,"xyz32","pqr32","M","2012-01-26",null,null,0,null,"SC","Hindu",null,"GOVT. SENIOR SECONDARY SCHOOL 13 DOL (212120)",1234567899,"xxxx1265","ABCDEFG",9351256273,"VPO 13DOL,GHARSANA,13DOL,335707",40000,"N","N","No",9,"None",0]
[3,"A",733,"2019-07-29","abc33",null,"xyz33","pqr33","M","2014-01-05",null,null,0,null,"OBC",null,null,"GOVT. SENIOR SECONDARY SCHOOL 13 DOL (212120)",1234567899,"xxxx1266","ABCDEFG",9649322374,"CHAK 11 DOL,,GHARSANA,P.O 13 DOL,335707",42000,"N","N",null,7,"None",1.5]
[3,"A",734,"2019-09-16","abc34",null,"xyz34","pqr34","F","2014-08-21",null,null,0,null,"OBC","Sikhs",null,"GOVT. SENIOR SECONDARY SCHOOL 13 DOL (212120)",1234567899,"xxxx1267","ABCDEFG",6378263994,"CHAK-13DOL,GHARSANA,VPO-13DOL,335707",40000,"N","N","Yes",7,"None",0]
[3,"A",735,"2019-07-09","abc35",null,"xyz35","pqr35","F","2013-07-16",null,null,0,null,"SC","Sikhs",null,"GOVT. SENIOR SECONDARY SCHOOL 13 DOL (212120)",1234567899,"xxxx1268","ABCDEFG",9887094708,"CHAK 13DOL,GHARSANA,13 DOL,335707",null,"N","N","Yes",8,"None",0]
[3,"A",736,"2019-07-16","abc36",null,"xyz36","pqr36","F","2014-02-21",null,null,0,null,"SC","Hindu",null,"GOVT. SENIOR SECONDARY SCHOOL 13 DOL (212120)",1234567899,"xxxx1269","ABCDEFG",7073343248,"CHAK 13DOL,GHARSANA,13 DOL,335707",40000,"N","N","No",7,"None",0]
[3,"A",737,"2019-07-27","abc37",null,"xyz37","pqr37","F","2013-06-16",null,null,0,null,"SC","Hindu",null,"GOVT. SENIOR SECONDARY SCHOOL 13 DOL (212120)",1234567899,"xxxx1270","ABCDEFG",6350182738,"GSSS 13DOL,GHARSANA,CHAK 13 DOL,335707",40000,"N","N","No",8,"None",3]
[3,"A",738,"2019-07-06","abc38",null,"xyz38","pqr38","F","2013-07-02",null,null,0,null,"SC","Hindu",null,"GOVT. SENIOR SECONDARY SCHOOL 13 DOL (212120)",1234567899,"xxxx1271","ABCDEFG",9982437907,"6mr,Anoopgarh,6msr,335701",45000,"N","N","No",8,"None",0]
[3,"A",739,"2019-07-22","abc39",null,"xyz39","pqr39","F","2013-08-08",null,null,0,null,"ST","Hindu",null,"GOVT. SENIOR SECONDARY SCHOOL 13 DOL (212120)",1234567899,"xxxx1272","ABCDEFG",7727864518,"CHAK 13DOL,GHARSANA,13 DOL,335707",null,"N","N","No",8,"None",0]
[3,"A",740,null,"abc40",null,"xyz40","pqr40","M","2014-02-21",null,null,0,null,"OBC",null,null,"GOVT. SENIOR SECONDARY SCHOOL 13 DOL (212120)",1234567899,"xxxx1273","ABCDEFG",9928483704,null,null,"N","Y",null,7,null,3]
[3,"A",741,"2019-07-12","abc41",null,"xyz41","pqr41","F","2014-05-25",null,null,0,null,"OBC","Hindu",null,"GOVT. SENIOR SECONDARY SCHOOL 13 DOL (212120)",1234567899,"xxxx1274","ABCDEFG",9783376911,"CHAK 13DOL,GHARSANA,13 DOL,335707",40000,"N","N","No",7,"None",0]
[3,"A",742,"2019-07-02","abc42",null,"xyz42","pqr42","M","2013-11-20",null,null,0,null,"OBC",null,null,"GOVT. SENIOR SECONDARY SCHOOL 13 DOL (212120)",1234567899,"xxxx1275","ABCDEFG",8690539839,"13 DOL,GHARSANA,P.O- 13 DOL,335707",40000,"N","N",null,8,"None",0]
[3,"A",743,null,"abc43",null,"xyz43","pqr43","F","2012-09-10",null,null,0,null,"SC",null,null,"GOVT. SENIOR SECONDARY SCHOOL 13 DOL (212120)",1234567899,"xxxx1276","ABCDEFG",8094644268,null,null,"N","Y",null,9,null,0]
[3,"A",744,"2019-09-13","abc44",null,"xyz44","pqr44","M","2014-07-01",null,null,0,null,"SC","Hindu",null,"GOVT. SENIOR SECONDARY SCHOOL 13 DOL (212120)",1234567899,"xxxx1277","ABCDEFG",6350182738,"CHAK 13 DOL,GHARSANA,13 DOL,335707",40000,"N","N","No",7,"None",3]
[4,"A",745,"2018-08-30","abc45",null,"xyz45","pqr45","F","2013-08-26",null,null,0,null,"SC","Hindu",null,"GOVT. SENIOR SECONDARY SCHOOL 13 DOL (212120)",1234567899,"xxxx1278","ABCDEFG",9772233178,"CHAK-13DOL,GHARSANA,PO-13DOL,335707",40000,"N","N","No",8,"None",1]
[4,"A",746,"2019-07-09","abc46",null,"xyz46","pqr46","F","2011-02-01",null,null,0,null,"SC",null,null,"GOVT. SENIOR SECONDARY SCHOOL 13 DOL (212120)",1234567899,"xxxx1279","ABCDEFG",7427891268,"V-13 DOL,GHARSANA,P.O 13 DOL,335707",0,"N","N",null,10,"None",0]
[4,"A",747,"2018-07-18","abc47",null,"xyz47","pqr47","F","2013-05-12",null,null,0,null,"ST","Sikhs",null,"GOVT. SENIOR SECONDARY SCHOOL 13 DOL (212120)",1234567899,"xxxx1280","ABCDEFG",9549581239,"CHAK-13DOL,GHARSANA,CHAK-13DOL,335707",40000,"N","N","Yes",8,"None",0]
[4,"A",748,"2018-07-13","abc48",null,"xyz48","pqr48","M","2013-03-29",null,null,0,null,"SC","Hindu",null,"GOVT. SENIOR SECONDARY SCHOOL 13 DOL (212120)",1234567899,"xxxx1281","ABCDEFG",9887054335,"CHAK-13DOL,GHARSANA,PO-13DOL,335707",40000,"N","N","No",8,"None",2]
[4,"A",749,"2019-07-27","abc49",null,"xyz49","pqr49","M","2011-01-01",null,null,0,null,"SC",null,null,"GOVT. SENIOR SECONDARY SCHOOL 13 DOL (212120)",1234567899,"xxxx1282","ABCDEFG",6350182738,"13 DOL,GHARSANA,P.O- 13 DOL,335707",40000,"N","N",null,10,"None",3]
[4,"A",750,"2018-07-17","abc50",null,"xyz50","pqr50","M","2012-11-30",null,null,0,null,"OBC","Hindu",null,"GOVT. SENIOR SECONDARY SCHOOL 13 DOL (212120)",1234567899,"xxxx1283","ABCDEFG",9694022515,"CHAK-13DOL,GHARSANA,PO-13DOL,335707",40000,"N","N","No",9,"None",0]
[4,"A",751,"2018-07-03","abc51",null,"xyz51","pqr51","F","2012-05-10",null,null,0,null,"OBC","Sikhs",null,"GOVT. SENIOR SECONDARY SCHOOL 13 DOL (212120)",1234567899,"xxxx1284","ABCDEFG",9610345874,"CHAK-13DOL,GHARSANA,PO-13DOL,335707",40000,"N","N","Yes",9,"None",0]
[4,"A",752,"2018-07-17","abc52",null,"xyz52","pqr52","M","2013-11-06",null,null,0,null,"OBC","Hindu",null,"GOVT. SENIOR SECONDARY SCHOOL 13 DOL (212120)",1234567899,"xxxx1285","ABCDEFG",9785535274,"CHAK-13DOL,GHARSANA,PO-13DOL,335707",40000,"N","N","No",8,"None",0]
[4,"A",753,"2018-07-12","abc53",null,"xyz53","pqr53","F","2012-07-13",null,null,0,null,"OBC","Hindu",null,"GOVT. SENIOR SECONDARY SCHOOL 13 DOL (212120)",1234567899,"xxxx1286","ABCDEFG",9784774814,"CHAK-13DOL,GHARSANA,PO-13DOL,335707",40000,"N","N","No",9,"None",0]
[4,"A",754,"2021-02-05","abc54",null,"xyz54","pqr54","F","2011-11-13",null,null,0,null,"OBC","Sikhs",null,"GOVT. SENIOR SECONDARY SCHOOL 13 DOL (212120)",1234567899,"xxxx1287","ABCDEFG",6367123923,"WARD NO. 04,GHARSANA,13 DOL,335707",60000,"N","N","Yes",10,"None",0]
[4,"A",755,null,"abc55",null,"xyz55","pqr55","F","2012-02-27",null,null,0,null,"OBC",null,null,"GOVT. SENIOR SECONDARY SCHOOL 13 DOL (212120)",1234567899,"xxxx1288","ABCDEFG",9928483704,null,null,"N","Y",null,9,null,3]
[4,"A",756,"2018-08-07","abc56",null,"xyz56","pqr56","M","2012-06-23",null,null,0,null,"SC","Hindu",null,"GOVT. SENIOR SECONDARY SCHOOL 13 DOL (212120)",1234567899,"xxxx1289","ABCDEFG",9983346243,"VPO 13 DOL,GHARSANA,CHAK 13 DOL,335707",40000,"N","N","No",9,"None",3.1]
[4,"A",757,"2018-07-04","abc57",null,"xyz57","pqr57","F","2011-04-19",null,null,0,null,"SC","Hindu",null,"GOVT. SENIOR SECONDARY SCHOOL 13 DOL (212120)",1234567899,"xxxx1290","ABCDEFG",7073343248,"CHAK-13DOL,GHARSANA,PO-13DOL,335707",40000,"N","N","No",10,"None",0]
[4,"A",758,"2018-07-20","abc58",null,"xyz58","pqr58","M","2012-05-12",null,null,0,null,"SC","Sikhs",null,"GOVT. SENIOR SECONDARY SCHOOL 13 DOL (212120)",1234567899,"xxxx1291","ABCDEFG",9887110620,"CHAK-7DOL,GHARSANA,PO-KHOBAR,335707",40000,"N","N","Yes",9,"None",6]
[4,"A",759,"2018-07-18","abc59",null,"xyz59","pqr59","M","2011-04-10",null,null,0,null,"ST","Hindu",null,"GOVT. SENIOR SECONDARY SCHOOL 13 DOL (212120)",1234567899,"xxxx1292","ABCDEFG",9549581239,"CHAK-13DOL,GHARSANA,PO-13DOL,335707",40000,"Y","N","No",10,"None",0]
[4,"A",760,"2018-06-29","abc60",null,"xyz60","pqr60","M","2012-09-01",null,null,0,null,"SC","Sikhs",null,"GOVT. SENIOR SECONDARY SCHOOL 13 DOL (212120)",1234567899,"xxxx1293","ABCDEFG",7690905956,"CHAK-13DOL,GHARSANA,PO-13DOL,335707",40000,"N","N","Yes",9,"None",0]
[5,"A",761,"2017-07-07","abc61",null,"xyz61","pqr61","F","2012-08-03",null,null,0,null,"OBC","Hindu",null,"GOVT. SENIOR SECONDARY SCHOOL 13 DOL (212120)",1234567899,"xxxx1294","ABCDEFG",9461374675,"13DOL,GARSANA,13DOL,335707",42000,"N","N","No",9,"None",0]
[5,"A",762,"2017-07-10","abc62",null,"xyz62","pqr62","M","2011-03-16",null,null,0,null,"SC","Hindu",null,"GOVT. SENIOR SECONDARY SCHOOL 13 DOL (212120)",1234567899,"xxxx1295","ABCDEFG",9460027632,"13DOL,GARSANA,13DOL,335707",40000,"N","Y","No",10,"None",1]
[5,"A",763,"2018-07-02","abc63",null,"xyz63","pqr63","F","2010-10-25",null,null,0,null,"OBC","Hindu",null,"GOVT. SENIOR SECONDARY SCHOOL 13 DOL (212120)",1234567899,"xxxx1296","ABCDEFG",9694703389,"VPO 13 DOL,GHARSANA,CHAK-13 DOL,335707",40000,"N","N","No",11,"None",0]
[5,"A",764,"2017-06-27","abc64",null,"xyz64","pqr64","M","2011-03-01",null,null,0,null,"OBC","Hindu",null,"GOVT. SENIOR SECONDARY SCHOOL 13 DOL (212120)",1234567899,"xxxx1297","ABCDEFG",9694022515,"13DOL,GARSANA,13DOL,335707",42000,"N","N","No",10,"None",0]
[5,"A",765,"2018-07-05","abc65",null,"xyz65","pqr65","F","2009-11-25",null,null,0,null,"SC","Hindu",null,"GOVT. SENIOR SECONDARY SCHOOL 13 DOL (212120)",1234567899,"xxxx1298","ABCDEFG",9636546417,"VPO 13 DOL,GHARSANA,CHAK-13 DOL,335707",42000,"N","N","No",12,"None",0]
[5,"A",766,"2017-09-19","abc66",null,"xyz66","pqr66","F","2010-05-17",null,null,0,null,"SC","Sikhs",null,"GOVT. SENIOR SECONDARY SCHOOL 13 DOL (212120)",1234567899,"xxxx1299","ABCDEFG",9887110620,"GAGANDEEP KAUR,PADAMPUR,3BB1,335022",0,"N","N","Yes",11,"None",6]
[5,"A",{"$f":"C67+1","v":767},"2017-07-15","abc67",null,"xyz67","pqr67","F","2012-12-25",null,null,0,null,"SC","Hindu",null,"GOVT. SENIOR SECONDARY SCHOOL 13 DOL (212120)",1234567899,"xxxx1300","ABCDEFG",7691008563,"13DOL,GARSANA,13DOL,335707",40000,"N","N","No",9,"None",0]
[5,"A",768,"2019-07-06","abc68","Late","xyz68","pqr68","M","2012-07-16",null,null,0,null,"SC",null,null,"GOVT. SENIOR SECONDARY SCHOOL 13 DOL (212120)",1234567899,"xxxx1301","ABCDEFG",9958596013,"V-13 DOL,GHARSANA,P.O 13 DOL,335707",0,"N","N",null,9,"None",0]
[5,"A",769,"2017-07-17","abc69",null,"xyz69","pqr69","M","2012-01-13",null,null,0,null,"SC","Hindu",null,"GOVT. SENIOR SECONDARY SCHOOL 13 DOL (212120)",1234567899,"xxxx1302","ABCDEFG",8239774118,"13DOL,GARSANA,13DOL,335707",40000,"N","N","No",9,"None",0]
[5,"A",770,"2017-07-24","abc70",null,"xyz70","pqr70","M","2010-08-26",null,null,0,null,"OBC","Sikhs",null,"GOVT. SENIOR SECONDARY SCHOOL 13 DOL (212120)",1234567899,"xxxx1303","ABCDEFG",9694023515,"13DOL,GARSANA,13DOL,335707",40000,"N","N","Yes",11,"None",0]
[5,"A",771,"2017-07-08","abc71",null,"xyz71","pqr71","F","2012-04-15",null,null,0,null,"OBC","Hindu",null,"GOVT. SENIOR SECONDARY SCHOOL 13 DOL (212120)",1234567899,"xxxx1304","ABCDEFG",9982676799,"13DOL,GARSANA,13DOL,335707",42000,"N","N","No",9,"None",0]
[5,"A",772,"2017-07-10","abc72",null,"xyz72","pqr72","M","2011-11-05",null,null,0,null,"SC","Hindu",null,"GOVT. SENIOR SECONDARY SCHOOL 13 DOL (212120)",1234567899,"xxxx1305","ABCDEFG",9636546417,"13DOL,GARSANA,13DOL,335707",40000,"N","N","No",10,"None",1]
[5,"A",773,"2017-07-07","abc73",null,"xyz73","pqr73","F","2010-03-12",null,null,0,null,"OBC","Hindu",null,"GOVT. SENIOR SECONDARY SCHOOL 13 DOL (212120)",1234567899,"xxxx1306","ABCDEFG",9929856970,"13DOL,GARSANA,13DOL,335707",40000,"N","N","No",11,"None",0]
[5,"A",774,"2017-11-25","abc74",null,"xyz74","pqr74","F","2012-11-14",null,null,0,null,"SC","Hindu",null,"GOVT. SENIOR SECONDARY SCHOOL 13 DOL (212120)",1234567899,"xxxx1307","ABCDEFG",9587177396,"13DOL,GHARSANA,13DOL,335707",40000,"N","N","No",9,"None",0]
[5,"A",775,"2019-07-05","abc75",null,"xyz75","pqr75","F","2011-03-31",null,null,0,null,"SC",null,null,"GOVT. SENIOR SECONDARY SCHOOL 13 DOL (212120)",1234567899,"xxxx1308","ABCDEFG",7427891268,"V.-13 DOL,GHARSANA,P.O-13 DOL,335707",40000,"N","N",null,10,"None",0]
[5,"A",776,"2017-07-07","abc76",null,"xyz76","pqr76","M","2012-08-27",null,null,0,null,"OBC","Hindu",null,"GOVT. SENIOR SECONDARY SCHOOL 13 DOL (212120)",1234567899,"xxxx1309","ABCDEFG",9929856970,"13DOL,GARSANA,13DOL,335707",35000,"N","N","No",9,"None",1]
[5,"A",777,"2021-01-02","abc77",null,"xyz77","pqr77","F","2010-10-19",null,null,0,null,"OBC","Sikhs",null,"GOVT. SENIOR SECONDARY SCHOOL 13 DOL (212120)",1234567899,"xxxx1310","ABCDEFG",8005918857,"ward no 5,gharsana,13 dol,335707",50000,"N","N","Yes",11,"None",0]
[6,"A",778,"2021-01-05","abc78",null,"xyz78","pqr78","F","2009-07-27",null,null,0,null,"OBC","Sikhs",null,"GOVT. SENIOR SECONDARY SCHOOL 13 DOL (212120)",1234567899,"xxxx1311","ABCDEFG",6376182311,"VPO 13 DOL,GHARSANA,13 DOL,335707",0,"N","N","Yes",12,"None",0]
[6,"A",779,"2016-05-02","abc79",null,"xyz79","pqr79","M","2010-10-12",null,null,0,null,"OBC","Sikhs",null,"GOVT. SENIOR SECONDARY SCHOOL 13 DOL (212120)",1234567899,"xxxx1312","ABCDEFG",9352891172,"14DOL,GHARSANA,14DOL A,335707",0,"N","N","Yes",11,"None",2]
[6,"A",780,"2016-05-02","abc80",null,"xyz80","pqr80","M","2010-01-31",null,null,0,null,"OBC","Sikhs",null,"GOVT. SENIOR SECONDARY SCHOOL 13 DOL (212120)",1234567899,"xxxx1313","ABCDEFG",7737282798,"14DOL ,GHARSANA,14DOL A,335707",0,"N","N","Yes",11,"None",2]
[6,"A",781,"2016-08-06","abc81",null,"xyz81","pqr81","F","2008-07-04",null,null,0,null,"ST","Hindu",null,"GOVT. SENIOR SECONDARY SCHOOL 13 DOL (212120)",1234567899,"xxxx1314","ABCDEFG",7727864518,"CHAK 13 DOL,GHARSANA,VPO- 13 DOL,335707",38000,"N","N","No",13,"None",0]
[6,"A",782,"2016-05-09","abc82",null,"xyz82","pqr82","F","2010-01-18",null,null,0,null,"OBC","Hindu",null,"GOVT. SENIOR SECONDARY SCHOOL 13 DOL (212120)",1234567899,"xxxx1315","ABCDEFG",9828590897,"CHAK 13 DOL,GHARSANA,VPO- 13 DOL,335707",44000,"N","N","No",11,"None",0]
[6,"A",783,"2016-08-06","abc83",null,"xyz83","pqr83","F","2010-08-02",null,null,0,null,"ST","Hindu",null,"GOVT. SENIOR SECONDARY SCHOOL 13 DOL (212120)",1234567899,"xxxx1316","ABCDEFG",7727864518,"CHAK 13 DOL,GHARSANA,VPO- 13 DOL,335707",40000,"N","N","No",11,"None",0]
[6,"A",784,"2016-07-04","abc84",null,"xyz84","pqr84","M","2010-08-20",null,null,0,null,"SC","Hindu",null,"GOVT. SENIOR SECONDARY SCHOOL 13 DOL (212120)",1234567899,"xxxx1317","ABCDEFG",9079474334,"CHAK 13 DOL,GHARSANA,VPO-13DOL,335707",42000,"N","N","No",11,"None",0]
[6,"A",785,"2021-01-09","abc85",null,"xyz85","pqr85","F","2010-08-08",null,null,0,null,"OBC","Sikhs",null,"GOVT. SENIOR SECONDARY SCHOOL 13 DOL (212120)",1234567899,"xxxx1318","ABCDEFG",9610108283,"VPO13 DOL,GHARSANA,13 DOL,335707",0,"N","N","Yes",11,"None",0]
[6,"A",786,"2017-07-13","abc86",null,"xyz86","pqr86","F","2010-06-20",null,null,0,null,"OBC","Hindu",null,"GOVT. SENIOR SECONDARY SCHOOL 13 DOL (212120)",1234567899,"xxxx1319","ABCDEFG",9784774814,"13DOL,GARSANA,13DOL,335707",40000,"N","N","No",11,"None",0]
[6,"A",787,"2016-10-18","abc87",null,"xyz87","pqr87","F","2011-01-25",null,null,0,null,"OBC","Sikhs",null,"GOVT. SENIOR SECONDARY SCHOOL 13 DOL (212120)",1234567899,"xxxx1320","ABCDEFG",7737282798,"14DOL,GHARSANA,14DOL A,335707",0,"N","N","Yes",10,"None",2]
[6,"A",788,"2017-07-31","abc88",null,"xyz88","pqr88","M","2010-07-31",null,null,0,null,"OBC","Sikhs",null,"GOVT. SENIOR SECONDARY SCHOOL 13 DOL (212120)",1234567899,"xxxx1321","ABCDEFG",9982492186,"14DOL A,GHARSANA,14DOL A,335707",0,"N","N","Yes",11,"None",2]
[6,"A",789,"2016-05-09","abc89",null,"xyz89","pqr89","F","2011-01-26",null,null,0,null,"SC","Hindu",null,"GOVT. SENIOR SECONDARY SCHOOL 13 DOL (212120)",1234567899,"xxxx1322","ABCDEFG",9982437907,"CHAK 13 DOL,GHARSANA,VPO- 13 DOL,335707",44000,"N","N","No",10,"None",0]
[6,"A",790,"2016-08-29","abc90",null,"xyz90","pqr90","F","2009-10-10",null,null,0,null,"OBC","Hindu",null,"GOVT. SENIOR SECONDARY SCHOOL 13 DOL (212120)",1234567899,"xxxx1323","ABCDEFG",9982415519,"CHAK 13 DOL,GHARSANA,VPO- 13 DOL,335707",50000,"N","N","No",12,"None",0]
[6,"A",791,"2016-07-08","abc91",null,"xyz91","pqr91","M","2010-10-24",null,null,0,null,"OBC","Hindu",null,"GOVT. SENIOR SECONDARY SCHOOL 13 DOL (212120)",1234567899,"xxxx1324","ABCDEFG",7690906086,"CHAK 13 DOL,GHARSANA,VPO- 13 DOL,335707",44000,"N","N","No",11,"None",3]
[6,"A",792,"2016-06-27","abc92",null,"xyz92","pqr92","F","2010-01-26",null,null,0,null,"SC","Hindu",null,"GOVT. SENIOR SECONDARY SCHOOL 13 DOL (212120)",1234567899,"xxxx1325","ABCDEFG",9983226240,"CHAK 13 DOL,GHARSANA,VPO- 13 DOL,335707",50000,"N","N","No",11,"None",0]
[6,"A",793,"2018-07-20","abc93",null,"xyz93","pqr93","F","2010-05-21",null,null,0,null,"SC","Hindu",null,"GOVT. SENIOR SECONDARY SCHOOL 13 DOL (212120)",1234567899,"xxxx1326","ABCDEFG",9785271820,"CHAK-13 DOL P.O 13 DOL,GHARSANA,CHAK-13 DOL,335707",40000,"N","Y","No",11,"None",3]
[6,"A",794,"2016-11-12","abc94",null,"xyz94","pqr94","F","2009-08-02",null,null,0,null,"OBC","Hindu",null,"GOVT. SENIOR SECONDARY SCHOOL 13 DOL (212120)",1234567899,"xxxx1327","ABCDEFG",8094875353,"CHAK 13 DOL,GHARSANA,VPO- 13 DOL,335707",40000,"N","N","No",12,"None",0]
[6,"A",795,"2017-07-13","abc95",null,"xyz95","pqr95","F","2010-05-01",null,null,0,null,"SC","Hindu",null,"GOVT. SENIOR SECONDARY SCHOOL 13 DOL (212120)",1234567899,"xxxx1328","ABCDEFG",9521366396,"13DOL,GARSANA,13DOL,335707",42000,"N","N","No",11,"None",0]
[6,"A",796,"2019-07-06","abc96","Late","xyz96","pqr96","F","2010-07-26",null,null,0,null,"SC",null,null,"GOVT. SENIOR SECONDARY SCHOOL 13 DOL (212120)",1234567899,"xxxx1329","ABCDEFG",9358596013,"V-13 DOL,GHARSANA,P.O-13 DOL,335707",0,"N","N",null,11,"None",0]
[6,"A",797,"2016-07-08","abc97",null,"xyz97","pqr97","F","2010-02-05",null,null,0,null,"OBC","Hindu",null,"GOVT. SENIOR SECONDARY SCHOOL 13 DOL (212120)",1234567899,"xxxx1330","ABCDEFG",8441074083,"CHAK 13 DOL,GHARSANA,VPO- 13 DOL,335707",40000,"N","N","No",11,"None",0]
[6,"A",798,"2016-05-02","abc98",null,"xyz98","pqr98","F","2010-05-20",null,null,0,null,"OBC","Sikhs",null,"GOVT. SENIOR SECONDARY SCHOOL 13 DOL (212120)",1234567899,"xxxx1331","ABCDEFG",9982723696,"14DOL,GHARSANA,14DOL A,335707",0,"N","N","Yes",11,"None",1.5]
[6,"A",799,"2019-08-01","abc99",null,"xyz99","pqr99","M","2011-08-10",null,null,0,null,"SC","Hindu",null,"GOVT. SENIOR SECONDARY SCHOOL 13 DOL (212120)",1234567899,"xxxx1332","ABCDEFG",9351256273,"Ward no 5,Gharsana,13 dol,335707",0,"N","N","No",10,"None",1]
[6,"A",800,"2020-07-11","abc100",null,"xyz100","pqr100","M","2009-05-22",null,null,0,null,"SC","Hindu",null,"GOVT. SENIOR SECONDARY SCHOOL 13 DOL (212120)",1234567899,"xxxx1333","ABCDEFG",9509690166,"VPO 13 DOL,GHARSANA,13DOL,335707",40000,"N","N","No",12,"None",0]
[7,"A",801,"2015-07-06","abc101",null,"xyz101","pqr101","F","2009-04-28",null,null,0,null,"SC","Hindu",null,"GOVT. SENIOR SECONDARY SCHOOL 13 DOL (212120)",1234567899,"xxxx1334","ABCDEFG",7691008563,"CHAK 13 DOL,GHARSANA,VPO - 13 DOL,335707",40000,"N","N","No",12,"None",0]
[7,"A",802,"2015-07-15","abc102",null,"xyz102","pqr102","M","2009-07-26",null,null,0,null,"SC","Hindu",null,"GOVT. SENIOR SECONDARY SCHOOL 13 DOL (212120)",1234567899,"xxxx1335","ABCDEFG",9351194292,"CHAK 13 DOL,GHARSANA,VPO - 13 DOL,335707",40000,"N","N","No",12,"None",3]
[7,"A",803,"2019-07-06","abc103","Late","xyz103","pqr103","F","2008-04-01",null,null,0,null,"SC",null,null,"GOVT. SENIOR SECONDARY SCHOOL 13 DOL (212120)",1234567899,"xxxx1336","ABCDEFG",9358596013,"v-13 dol,GHARSANA,P.O-13 DOL,335707",45000,"N","N",null,13,"None",0]
[7,"A",804,"2019-07-15","abc104",null,"xyz104","pqr104","M","2008-11-16",null,null,0,null,"SC",null,null,"GOVT. SENIOR SECONDARY SCHOOL 13 DOL (212120)",1234567899,"xxxx1337","ABCDEFG",6378325526,"VPO-13 DOL,GHARSANA,PO. 13 DOL,335707",40000,"N","N",null,13,"None",0]
[7,"A",805,"2020-07-21","abc105",null,"xyz105","pqr105","M","2010-05-16",null,null,0,null,"SC","Hindu",null,"GOVT. SENIOR SECONDARY SCHOOL 13 DOL (212120)",1234567899,"xxxx1338","ABCDEFG",6376539886,"13 dol,GHARSANA,13 DOL B,335707",50000,"N","N","No",11,"None",4]
[7,"A",806,null,"abc106",null,"xyz106","pqr106","M","2010-02-06",null,null,0,null,"OBC",null,null,"GOVT. SENIOR SECONDARY SCHOOL 13 DOL (212120)",1234567899,"xxxx1339","ABCDEFG",9928483704,null,null,"N","Y",null,11,null,3]
[7,"A",807,"2016-07-15","abc107",null,"xyz107","pqr107","F","2009-02-15",null,null,0,null,"SC","Hindu",null,"GOVT. SENIOR SECONDARY SCHOOL 13 DOL (212120)",1234567899,"xxxx1340","ABCDEFG",9549581239,"CHAK 13 DOL,GHARSANA,VPO- 13 DOL,335707",46000,"N","N","No",12,"None",0]
[7,"A",808,"2020-12-05","abc108",null,"xyz108","pqr108","M","2009-01-14",null,null,0,null,"OBC","Sikhs",null,"GOVT. SENIOR SECONDARY SCHOOL 13 DOL (212120)",1234567899,"xxxx1341","ABCDEFG",8094737717,"14 DOL,GHARSANA,14 DOL A,335707",0,"N","N","Yes",12,"None",3]
[7,"A",809,"2016-07-20","abc109",null,"xyz109","pqr109","F","2008-05-04",null,null,0,null,"SC","Hindu",null,"GOVT. SENIOR SECONDARY SCHOOL 13 DOL (212120)",1234567899,"xxxx1342","ABCDEFG",9982296986,"CHAK 13 DOL,GHARSANA,VPO- 13 DOL,335707",46000,"N","N","No",13,"None",0]
[7,"A",810,"2018-07-17","abc110",null,"xyz110","pqr110","M","2010-02-14",null,null,0,null,"OBC","Hindu",null,"GOVT. SENIOR SECONDARY SCHOOL 13 DOL (212120)",1234567899,"xxxx1343","ABCDEFG",9785535274,"V.P.O 13 DOL,GHARSANA,CHAK-13 DOL,335707",50000,"N","N","No",11,"None",0]
[7,"A",811,"2020-08-07","abc111",null,"xyz111","pqr111","F","2008-09-10",null,null,0,null,"ST","Hindu",null,"GOVT. SENIOR SECONDARY SCHOOL 13 DOL (212120)",1234567899,"xxxx1344","ABCDEFG",9783280658,"VPO 13DOL,GHARSANA,13DOL,335707",40000,"N","N","No",13,"None",0]
[7,"A",812,"2017-07-11","abc112",null,"xyz112","pqr112","F","2009-07-09",null,null,0,null,"OBC","Hindu",null,"GOVT. SENIOR SECONDARY SCHOOL 13 DOL (212120)",1234567899,"xxxx1345","ABCDEFG",9784774814,"13DOL,GARSANA,13DOL,335707",45000,"N","N","No",12,"None",0]
[7,"A",813,"2018-07-17","abc113",null,"xyz113","pqr113","M","2009-12-09",null,null,0,null,"OBC","Sikhs",null,"GOVT. SENIOR SECONDARY SCHOOL 13 DOL (212120)",1234567899,"xxxx1346","ABCDEFG",9694703389,"V.P.O 13 DOL,GHARSANA,CHAK-13 DOL,335707",40000,"N","Y","Yes",12,"None",0]
[7,"A",814,"2015-07-15","abc114",null,"xyz114","pqr114","F","2009-01-26",null,null,0,null,"OBC","Sikhs",null,"GOVT. SENIOR SECONDARY SCHOOL 13 DOL (212120)",1234567899,"xxxx1347","ABCDEFG",8094252744,"CHAK 13 DOL,GHARSANA,VPO - 13 DOL,335707",40000,"N","N","Yes",12,"None",0]
[7,"A",815,"2015-07-08","abc115",null,"xyz115","pqr115","M","2008-08-06",null,null,0,null,"OBC","Hindu",null,"GOVT. SENIOR SECONDARY SCHOOL 13 DOL (212120)",1234567899,"xxxx1348","ABCDEFG",8302961602,"13 DOL,GHARSANA,VPO - 13 DOL,335707",40000,"N","N","No",13,"None",3]
[7,"A",816,"2020-09-10","abc116",null,"xyz116","pqr116","M","2007-09-27",null,null,0,null,"SC","Hindu",null,"GOVT. SENIOR SECONDARY SCHOOL 13 DOL (212120)",1234567899,"xxxx1349","ABCDEFG",9351256273,"VPO 13DOL,GHARSANA,13DOL,335708",45000,"N","N","No",14,"None",0]
[7,"A",817,"2015-07-08","abc117",null,"xyz117","pqr117","F","2009-06-22",null,null,0,null,"SC","Hindu",null,"GOVT. SENIOR SECONDARY SCHOOL 13 DOL (212120)",1234567899,"xxxx1350","ABCDEFG",9772048969,"CHAK 13 DOL,GHARSANA,VPO - 13 DOL,335707",40000,"N","N","No",12,"None",0]
[7,"A",818,"2021-02-08","abc118","Late","xyz118","pqr118","M","2008-11-10",null,null,0,null,"OBC","Sikhs",null,"GOVT. SENIOR SECONDARY SCHOOL 13 DOL (212120)",1234567899,"xxxx1351","ABCDEFG",9982042735,"14DOL A,GHARSANA,14 DOL A,335707",0,"N","N","Yes",13,"None",3.1]
[7,"A",819,"2020-07-21","abc119",null,"xyz119","pqr119","F","2009-05-01",null,null,0,null,"SC","Hindu",null,"GOVT. SENIOR SECONDARY SCHOOL 13 DOL (212120)",1234567899,"xxxx1352","ABCDEFG",6376539886,"13 DOL,GHARSANA,13 DOL C,335707",50000,"N","N","No",12,"None",4]
[8,"A",820,"2015-08-01","abc120",null,"xyz120","pqr120","F","2010-07-09",null,null,0,null,"OBC","Hindu",null,"GOVT. SENIOR SECONDARY SCHOOL 13 DOL (212120)",1234567899,"xxxx1353","ABCDEFG",9983190971,"VPO 13DOL,GHARASANA,CHAK 13DOL,335707",50000,"N","N","No",11,"None",0]
[8,"A",821,"2016-07-08","abc121",null,"xyz121","pqr121","F","2007-07-12",null,null,0,null,"ST","Hindu",null,"GOVT. SENIOR SECONDARY SCHOOL 13 DOL (212120)",1234567899,"xxxx1354","ABCDEFG",8824043167,"CHAK 13 DOL,GHARSANA,VPO- 13 DOL,335707",40000,"N","N","No",14,"None",0]
[8,"A",822,"2019-09-13","abc122",null,"xyz122","pqr122","F","2008-07-24",null,null,0,null,"SC","Hindu",null,"GOVT. SENIOR SECONDARY SCHOOL 13 DOL (212120)",1234567899,"xxxx1355","ABCDEFG",9983773398,"CHAK-11KND,GHARSANA,CHAK-11KND,335707",40000,"N","N","No",13,"None",4]
[8,"A",823,"2014-08-20","abc123",null,"xyz123","pqr123","F","2007-08-12",null,null,0,null,"SC","Hindu",null,"GOVT. SENIOR SECONDARY SCHOOL 13 DOL (212120)",1234567899,"xxxx1356","ABCDEFG",9636546417,"CHAK 13 DOL,GHARSANA,VPO - 13 DOL,335707",40000,"N","N","No",14,"None",0]
[8,"A",824,"2018-07-16","abc124","Late","xyz124","pqr124","F","2008-05-02",null,null,0,null,"SC","Sikhs",null,"GOVT. SENIOR SECONDARY SCHOOL 13 DOL (212120)",1234567899,"xxxx1357","ABCDEFG",9828999192,"CHAK-14DOL,GHARSANA,PO-13DOL,335707",72000,"N","N","Yes",13,"None",4]
[8,"A",825,"2014-08-20","abc125",null,"xyz125","pqr125","F","2008-10-01",null,null,0,null,"SC","Hindu",null,"GOVT. SENIOR SECONDARY SCHOOL 13 DOL (212120)",1234567899,"xxxx1358","ABCDEFG",9636546417,"CHAK 13 DOL,GHARSANA,VPO - 13 DOL,335707",40000,"N","N","No",13,"None",0]
[8,"A",826,"2014-08-20","abc126",null,"xyz126","pqr126","F","2008-06-20",null,null,0,null,"SC","Sikhs",null,"GOVT. SENIOR SECONDARY SCHOOL 13 DOL (212120)",1234567899,"xxxx1359","ABCDEFG",7772048969,"CHAK 13 DOL,GHARSANA,VPO - 13 DOL,335707",40000,"N","N","Yes",13,"None",0]
[8,"A",827,"2016-07-21","abc127",null,"xyz127","pqr127","F","2006-03-13",null,null,0,null,"SC","Hindu",null,"GOVT. SENIOR SECONDARY SCHOOL 13 DOL (212120)",1234567899,"xxxx1360","ABCDEFG",6378335526,"CHAK 13 DOL,GHARSANA,VPO- 13 DOL,335707",46000,"N","N","No",15,"None",0]
[8,"A",828,"2019-09-13","abc128",null,"xyz128","pqr128","F","2007-08-18",null,null,0,null,"SC","Hindu",null,"GOVT. SENIOR SECONDARY SCHOOL 13 DOL (212120)",1234567899,"xxxx1361","ABCDEFG",9828655871,"CHAK-11KND(A),GHARSANA,CHAK-11kND(A),335707",40000,"N","N","No",14,"None",4]
[8,"A",829,"2021-01-23","abc129",null,"xyz129","pqr129","M","2010-04-01",null,null,0,null,"OBC","Hindu",null,"GOVT. SENIOR SECONDARY SCHOOL 13 DOL (212120)",1234567899,"xxxx1362","ABCDEFG",9828942993,"ward no 5,gharsana,11 dol,335707",70000,"N","N","No",11,"None",3]
[8,"A",830,"2016-07-04","abc130",null,"xyz130","pqr130","M","2009-07-11",null,null,0,null,"ST","Hindu",null,"GOVT. SENIOR SECONDARY SCHOOL 13 DOL (212120)",1234567899,"xxxx1363","ABCDEFG",9983773398,"CHAK 13 DOL,GHARSANA,VPO- 13 DOL,335707",44000,"N","N","No",12,"None",0]
[8,"A",{"$f":"C131+1","v":831},"2014-08-20","abc131",null,"xyz131","pqr131","F","2009-08-06",null,null,0,null,"SC","Hindu",null,"GOVT. SENIOR SECONDARY SCHOOL 13 DOL (212120)",1234567899,"xxxx1364","ABCDEFG",9772233178,"CHAK 13 DOL,GHARSANA,VPO - 13 DOL,335707",40000,"N","N","No",12,"None",0]
[8,"A",832,"2019-09-13","abc132",null,"xyz132","pqr132","F","2008-07-16",null,null,0,null,"SC","Hindu",null,"GOVT. SENIOR SECONDARY SCHOOL 13 DOL (212120)",1234567899,"xxxx1365","ABCDEFG",8875549083,"CHAK-11KND (A),GHARSANA,CHAK-11KND(A),335707",40000,"N","N","No",13,"None",4]
[8,"A",833,"2019-07-15","abc133",null,"xyz133","pqr133","F","2008-05-09",null,null,0,null,"SC",null,null,"GOVT. SENIOR SECONDARY SCHOOL 13 DOL (212120)",1234567899,"xxxx1366","ABCDEFG",9982833379,"chak-13 dol,GHARSANA,vpo-13dol,335707",40000,"N","N",null,13,"None",0]
[8,"A",834,"2018-07-20","abc134",null,"xyz134","pqr134","F","2008-06-06",null,null,0,null,"SC","Hindu",null,"GOVT. SENIOR SECONDARY SCHOOL 13 DOL (212120)",1234567899,"xxxx1367","ABCDEFG",9783258379,"CHAK-13DOL,GHARSANA,PO-13DOL,335707",40000,"N","Y","No",13,"None",3]
[8,"A",835,"2019-08-29","abc135",null,"xyz135","pqr135","F","2008-10-15",null,null,0,null,"SC","Hindu",null,"GOVT. SENIOR SECONDARY SCHOOL 13 DOL (212120)",1234567899,"xxxx1368","ABCDEFG",8769262996,"VPO -13DOL,GHARSANA,VPO-13DOL,335707",40000,"N","N","No",13,"None",0]
[8,"A",836,"2015-07-10","abc136",null,"xyz136","pqr136","F","2009-04-28",null,null,0,null,"SC","Hindu",null,"GOVT. SENIOR SECONDARY SCHOOL 13 DOL (212120)",1234567899,"xxxx1369","ABCDEFG",9772625770,"CHAK 13 DOL,GHARSANA,VPO - 13 DOL,335707",40000,"N","N","No",12,"None",0]
[8,"A",837,"2019-08-08","abc137",null,"xyz137","pqr137","F","2008-07-12",null,null,0,null,"OBC",null,null,"GOVT. SENIOR SECONDARY SCHOOL 13 DOL (212120)",1234567899,"xxxx1370","ABCDEFG",9982723696,"14Dol A,Gharsana,14Dol A,335707",60000,"N","N",null,13,"None",3]
[9,"A",838,"2014-08-20","abc138",null,"xyz138","pqr138","F","2007-03-02",null,null,0,null,"SC","Hindu",null,"GOVT. SENIOR SECONDARY SCHOOL 13 DOL (212120)",1234567899,"xxxx1371","ABCDEFG",9928845116,"13 DOL,GHARSANA,VPO- 13 DOL,335707",40000,"N","N","No",14,"None",0]
[9,"A",839,"2017-07-11","abc139",null,"xyz139","pqr139","M","2007-06-30",null,null,0,null,"OBC","Hindu",null,"GOVT. SENIOR SECONDARY SCHOOL 13 DOL (212120)",1234567899,"xxxx1372","ABCDEFG",7742142697,"66 RD,KHAJUWALA,GANGAJALI,334001",0,"N","N","No",14,"None",0]
[9,"A",840,"2019-08-19","abc140",null,"xyz140","pqr140","M","2010-10-11",null,null,0,null,"SC",null,null,"GOVT. SENIOR SECONDARY SCHOOL 13 DOL (212120)",1234567899,"xxxx1373","ABCDEFG",8504892020,"VPO 13 DOL,GHARSANA,13 DOL,335707",45000,"N","N",null,11,"None",0]
[9,"A",841,"2018-07-06","abc141",null,"xyz141","pqr141","M","2010-03-02",null,null,0,null,"OBC","Hindu",null,"GOVT. SENIOR SECONDARY SCHOOL 13 DOL (212120)",1234567899,"xxxx1374","ABCDEFG",9929233440,"CHAK 13 DOL,GHARSANA,CHAK-113DOL,335707",40000,"N","N","No",11,"None",0]
[9,"A",842,"2015-07-06","abc142",null,"xyz142","pqr142","M","2008-12-15",null,null,0,null,"SC","Sikhs",null,"GOVT. SENIOR SECONDARY SCHOOL 13 DOL (212120)",1234567899,"xxxx1375","ABCDEFG",9665911286,"13 DOL,GHARSANA,VPO- 13 DOL,335707",40000,"N","N","Yes",13,"None",0]
[9,"A",843,"2015-07-08","abc143",null,"xyz143","pqr143","M","2007-08-24",null,null,0,null,"OBC","Hindu",null,"GOVT. SENIOR SECONDARY SCHOOL 13 DOL (212120)",1234567899,"xxxx1376","ABCDEFG",7851824168,"13 DOL,GHARSANA,VPO- 13 DOL,335707",40000,"N","N","No",14,"None",0]
[9,"A",844,"2014-08-20","abc144",null,"xyz144","pqr144","F","2008-12-11",null,null,0,null,"OBC","Sikhs",null,"GOVT. SENIOR SECONDARY SCHOOL 13 DOL (212120)",1234567899,"xxxx1377","ABCDEFG",9982415519,"VPO 13DOL,GHARASANA,CHAK 13DOL,335707",40000,"N","N","Yes",13,"None",0]
[9,"A",845,"2014-08-20","abc145",null,"xyz145","pqr145","F","2008-02-06",null,null,0,null,"SC","Hindu",null,"GOVT. SENIOR SECONDARY SCHOOL 13 DOL (212120)",1234567899,"xxxx1378","ABCDEFG",9928845116,"VPO 13DOL,GHARASANA,CHAK 13DOL,335707",40000,"N","N","No",13,"None",0]
[9,"A",846,"2013-07-22","abc146",null,"xyz146","pqr146","M","2009-03-16",null,null,0,null,"SC","Hindu",null,"GOVT. SENIOR SECONDARY SCHOOL 13 DOL (212120)",1234567899,"xxxx1379","ABCDEFG",8239153739,"W.N 10,GHARSANA,7DOL-B,335707",42000,"N","N","No",12,"None",0]
[9,"A",847,"2014-08-20","abc147",null,"xyz147","pqr147","F","2008-01-31",null,null,0,null,"SC","Sikhs",null,"GOVT. SENIOR SECONDARY SCHOOL 13 DOL (212120)",1234567899,"xxxx1380","ABCDEFG",8302899734,"13 DOL,GHARSANA,VPO- 13 DOL,335707",40000,"Y","N","Yes",13,"None",0]
[9,"A",848,"2019-07-12","abc148",null,"xyz148","pqr148","M","2009-01-04",null,null,0,null,"OBC",null,null,"GOVT. SENIOR SECONDARY SCHOOL 13 DOL (212120)",1234567899,"xxxx1381","ABCDEFG",9649322374,"chak-11dol,GHARSANA,vpo-13 dol,335707",60000,"N","N",null,12,"None",2]
[9,"A",849,"2018-07-13","abc149",null,"xyz149","pqr149","M","2006-04-11",null,null,0,null,"SC","Hindu",null,"GOVT. SENIOR SECONDARY SCHOOL 13 DOL (212120)",1234567899,"xxxx1382","ABCDEFG",9783258379,"CHAK-13DOL,GHARSANA,CHAK-13DOL,335707",40000,"N","N","No",15,"None",3]
[9,"A",850,"2018-07-19","abc150",null,"xyz150","pqr150","M","2006-05-30",null,null,0,null,"OBC","Hindu",null,"GOVT. SENIOR SECONDARY SCHOOL 13 DOL (212120)",1234567899,"xxxx1383","ABCDEFG",9462912119,"WARD NO 3,SURATGARH,MANAKSAR,335804",0,"N","N","No",15,"None",1]
[9,"A",851,"2016-06-30","abc151",null,"xyz151","pqr151","M","2008-06-12",null,null,0,null,"GEN","Hindu",null,"GOVT. SENIOR SECONDARY SCHOOL 13 DOL (212120)",1234567899,"xxxx1384","ABCDEFG",9772233278,"CHAK 13 DOL,GHARSANA,VPO- 13 DOL,335707",45000,"N","N","No",13,"None",0]
[9,"A",852,"2017-07-22","abc152",null,"xyz152","pqr152","F","2007-11-23",null,null,0,null,"SC","Hindu",null,"GOVT. SENIOR SECONDARY SCHOOL 13 DOL (212120)",1234567899,"xxxx1385","ABCDEFG",8875563074,"W.N6,GHARSANA,7DOL-B,335707",45000,"N","N","No",14,"None",0]
[9,"A",853,"2017-07-18","abc153","Late","xyz153","pqr153","F","2006-07-10",null,null,0,null,"SC","Hindu",null,"GOVT. SENIOR SECONDARY SCHOOL 13 DOL (212120)",1234567899,"xxxx1386","ABCDEFG",8690760368,"13DOL,GARSANA,13DOL,335707",40000,"N","N","No",15,"None",3]
[9,"A",854,"2014-08-20","abc154",null,"xyz154","pqr154","M","2008-08-16",null,null,0,null,"OBC","Sikhs",null,"GOVT. SENIOR SECONDARY SCHOOL 13 DOL (212120)",1234567899,"xxxx1387","ABCDEFG",9549848510,"13 DOL,GHARSANA,VPO- 13 DOL,335707",40000,"N","N","Yes",13,"None",0]
[9,"A",855,null,"abc155",null,"xyz155","pqr155","M","2008-08-13",null,null,0,null,"OBC",null,null,"GOVT. SENIOR SECONDARY SCHOOL 13 DOL (212120)",1234567899,"xxxx1388","ABCDEFG",8005918857,null,null,"N","Y",null,13,null,0]
[9,"A",856,"2014-08-20","abc156",null,"xyz156","pqr156","M","2006-06-10",null,null,0,null,"OBC","Sikhs",null,"GOVT. SENIOR SECONDARY SCHOOL 13 DOL (212120)",1234567899,"xxxx1389","ABCDEFG",9549848510,"13 DOL,GHARSANA,VPO- 13 DOL,335707",40000,"Y","N","Yes",15,"None",0]
[9,"A",857,"2014-08-20","abc157",null,"xyz157","pqr157","F","2007-08-05",null,null,0,null,"SC","Hindu",null,"GOVT. SENIOR SECONDARY SCHOOL 13 DOL (212120)",1234567899,"xxxx1390","ABCDEFG",9772233178,"VPO 13DOL,GHARASANA,CHAK 13DOL,335707",40000,"N","N","No",14,"None",0]
[9,"A",858,"2015-07-15","abc158",null,"xyz158","pqr158","F","2009-11-24",null,null,0,null,"SC","Hindu",null,"GOVT. SENIOR SECONDARY SCHOOL 13 DOL (212120)",1234567899,"xxxx1391","ABCDEFG",8114426865,"13 DOL,GHARSANA,VPO- 13 DOL,335707",40000,"N","N","No",12,"None",0]
[9,"A",859,"2019-07-16","abc159","Late","xyz159","pqr159","F","2007-06-28",null,null,0,null,"SC",null,null,"GOVT. SENIOR SECONDARY SCHOOL 13 DOL (212120)",1234567899,"xxxx1392","ABCDEFG",9602530192,"chak-14 dol,GHARSANA,vpo-13 dol,335707",36000,"N","N",null,14,"None",4]
[10,"A",860,"2014-08-20","abc160",null,"xyz160","pqr160","M","2005-04-28",null,null,0,null,"OBC","Sikhs",null,"GOVT. SENIOR SECONDARY SCHOOL 13 DOL (212120)",1234567899,"xxxx1393","ABCDEFG",9772469513,"13 DOL,GHARSANA,VPO- 13 DOL,335707",40000,"N","N","Yes",16,"None",0]
[10,"A",861,"2021-01-25","abc161",null,"xyz161","pqr161","M","2008-03-21",null,null,0,null,"SC","Sikhs",null,"GOVT. SENIOR SECONDARY SCHOOL 13 DOL (212120)",1234567899,"xxxx1394","ABCDEFG",8824603152,"ward no 4,gharsana,13 dol,335707",40000,"N","N","Yes",13,"None",0]
[10,"A",862,"2019-08-26","abc162",null,"xyz162","pqr162","F","2007-09-05",null,null,0,null,"OBC","Sikhs",null,"GOVT. SENIOR SECONDARY SCHOOL 13 DOL (212120)",1234567899,"xxxx1395","ABCDEFG",9358696335,"13 DOL,GHARSANA,VPO 13 DOL,335707",40000,"N","N","Yes",14,"None",0]
[10,"A",863,"2018-07-16","abc163",null,"xyz163","pqr163","M","2006-09-06",null,null,0,null,"OBC","Hindu",null,"GOVT. SENIOR SECONDARY SCHOOL 13 DOL (212120)",1234567899,"xxxx1396","ABCDEFG",9828158085,"CHAK-11DOL,GHARSANA,PO-13DOL,335707",40000,"N","N","No",15,"None",4]
[10,"A",864,"2017-07-08","abc164",null,"xyz164","pqr164","F","2007-06-10",null,null,0,null,"SC","Hindu",null,"GOVT. SENIOR SECONDARY SCHOOL 13 DOL (212120)",1234567899,"xxxx1397","ABCDEFG",9887353158,"13DOL,GARSANA,13DOL,335707",40000,"N","Y","No",14,"None",4]
[10,"A",865,"2020-09-10","abc165",null,"xyz165","pqr165","M","2007-07-20",null,null,0,null,"SC","Hindu",null,"GOVT. SENIOR SECONDARY SCHOOL 13 DOL (212120)",1234567899,"xxxx1398","ABCDEFG",9549742201,"W.N 10,GHARSANA, 7DOL,335707",40000,"N","Y","No",14,"None",6]
[10,"A",866,"2019-07-22","abc166",null,"xyz166","pqr166","M","2006-06-24",null,null,0,null,"OBC","Hindu",null,"GOVT. SENIOR SECONDARY SCHOOL 13 DOL (212120)",1234567899,"xxxx1399","ABCDEFG",9982917086,"18 DODD,KHAJUWALA,HANUMAN NAGAR,334808",40000,"N","N","No",15,"None",0]
[10,"A",867,"2014-08-20","abc167",null,"xyz167","pqr167","M","2005-09-09",null,null,0,null,"SC","Sikhs",null,"GOVT. SENIOR SECONDARY SCHOOL 13 DOL (212120)",1234567899,"xxxx1400","ABCDEFG",7891563285,"CHAK 13 DOL,GHARSANA,VPO- 13 DOL,335707",40000,"N","N","Yes",16,"None",0]
[10,"A",868,"2020-09-10","abc168",null,"xyz168","pqr168","M","2006-10-22",null,null,0,null,"SC","Hindu",null,"GOVT. SENIOR SECONDARY SCHOOL 13 DOL (212120)",1234567899,"xxxx1401","ABCDEFG",9783723116,"w.n,gharsana,9DOL-B,335707",45000,"N","N","No",15,"None",3]
[10,"A",869,"2017-07-01","abc169",null,"xyz169","pqr169","M","2006-12-30",null,null,0,null,"SC","Hindu",null,"GOVT. SENIOR SECONDARY SCHOOL 13 DOL (212120)",1234567899,"xxxx1402","ABCDEFG",9694022515,"11KND A,GARSANA,11KND A,335707",40000,"N","N","No",15,"None",5.1]
[10,"A",870,"2017-07-06","abc170",null,"xyz170","pqr170","F","2006-08-11",null,null,0,null,"OBC","Hindu",null,"GOVT. SENIOR SECONDARY SCHOOL 13 DOL (212120)",1234567899,"xxxx1403","ABCDEFG",9982492186,"CHAK 14 DOL A,GARSANA,14 DOL A,335707",40000,"N","N","No",15,"None",4]
[10,"A",871,"2020-08-31","abc171",null,"xyz171","pqr171","M","2005-03-15",null,null,0,null,"SC","Hindu",null,"GOVT. SENIOR SECONDARY SCHOOL 13 DOL (212120)",1234567899,"xxxx1404","ABCDEFG",9828890383,"w.n 05,gharsana,9D.O.L,335707",35000,"Y","N","No",16,"None",3]
[10,"A",872,"2020-09-19","abc172",null,"xyz172","pqr172","M","2007-03-08",null,null,0,null,"OBC","Hindu",null,"GOVT. SENIOR SECONDARY SCHOOL 13 DOL (212120)",1234567899,"xxxx1405","ABCDEFG",8696109542,"w.n 6,gharsana,7DOL-B,335707",45000,"N","N","No",14,"None",6]
[10,"A",873,"2014-08-20","abc173",null,"xyz173","pqr173","M","2006-09-06",null,null,0,null,"SC","Sikhs",null,"GOVT. SENIOR SECONDARY SCHOOL 13 DOL (212120)",1234567899,"xxxx1406","ABCDEFG",7891428970,"13 DOL,GHARSANA,VPO- 13 DOL,335707",40000,"N","N","Yes",15,"None",0]
[10,"A",874,"2014-08-20","abc174",null,"xyz174","pqr174","F","2004-06-10",null,null,0,null,"SC","Hindu",null,"GOVT. SENIOR SECONDARY SCHOOL 13 DOL (212120)",1234567899,"xxxx1407","ABCDEFG",9772057361,"13 DOL,GHARSANA,VPO- 13 DOL,335707",40000,"N","N","No",17,"None",0]
[10,"A",875,"2015-07-15","abc175",null,"xyz175","pqr175","F","2006-07-24",null,null,0,null,"SC","Hindu",null,"GOVT. SENIOR SECONDARY SCHOOL 13 DOL (212120)",1234567899,"xxxx1408","ABCDEFG",9660388726,"CHAK 13 DOL,GHARSANA,13 DOL,335707",45000,"N","N","No",15,"None",0]
[10,"A",876,"2018-07-21","abc176","Late","xyz176","pqr176","F","2004-03-10",null,null,0,null,"SC","Hindu",null,"GOVT. SENIOR SECONDARY SCHOOL 13 DOL (212120)",1234567899,"xxxx1409","ABCDEFG",9672592748,"CHAK-11DOL,GHARSANA,PO-13DOL,335707",40000,"N","N","No",17,"None",3]
[10,"A",877,"2014-08-20","abc177",null,"xyz177","pqr177","F","2007-05-10",null,null,0,null,"OBC","Sikhs",null,"GOVT. SENIOR SECONDARY SCHOOL 13 DOL (212120)",1234567899,"xxxx1410","ABCDEFG",9610345874,"13 DOL,GHARSANA,VPO- 13 DOL,335707",40000,"N","N","Yes",14,"None",0]
[10,"A",878,"2020-09-12","abc178",null,"xyz178","pqr178","M","2007-03-02",null,null,0,null,"OBC","Hindu",null,"GOVT. SENIOR SECONDARY SCHOOL 13 DOL (212120)",1234567899,"xxxx1411","ABCDEFG",7357819502,"W.N 06,gharsana,7dol,335707",40000,"N","Y","No",14,"None",6]
[10,"A",879,"2020-09-19","abc179",null,"xyz179","pqr179","F","2007-01-13",null,null,0,null,"OBC","Hindu",null,"GOVT. SENIOR SECONDARY SCHOOL 13 DOL (212120)",1234567899,"xxxx1412","ABCDEFG",9414984798,"W.N. 06,GHARSANA,7DOL,335707",45000,"N","N","No",14,"None",6]
[10,"A",880,"2015-07-13","abc180",null,"xyz180","pqr180","F","2007-05-18",null,null,0,null,"SC","Hindu",null,"GOVT. SENIOR SECONDARY SCHOOL 13 DOL (212120)",1234567899,"xxxx1413","ABCDEFG",9887054335,"CHAK 13 DOL,GHARSANA,VPO - 13 DOL,335707",45000,"N","N","No",14,"None",2]
[10,"A",881,"2014-08-20","abc181",null,"xyz181","pqr181","F","2006-01-15",null,null,0,null,"SC","Hindu",null,"GOVT. SENIOR SECONDARY SCHOOL 13 DOL (212120)",1234567899,"xxxx1414","ABCDEFG",9610269622,"13 DOL,GHARSANA,VPO- 13 DOL,335707",40000,"N","N","No",15,"None",0]
[10,"A",882,"2019-07-19","abc182",null,"xyz182","pqr182","F","2006-09-13",null,null,0,null,"OBC","Hindu",null,"GOVT. SENIOR SECONDARY SCHOOL 13 DOL (212120)",1234567899,"xxxx1415","ABCDEFG",9783599940,"w.n 09,gharsana,9DOL,335707",45000,"N","N","No",15,"None",6]
[10,"A",883,"2021-01-30","abc183",null,"xyz183","pqr183","M","2007-07-04",null,null,0,null,"OBC","Sikhs",null,"GOVT. SENIOR SECONDARY SCHOOL 13 DOL (212120)",1234567899,"xxxx1416","ABCDEFG",6376182311,"ward no 5,gharsana,13 dol,335707",70000,"N","N","Yes",14,"None",0]
[10,"A",884,"2019-07-31","abc184",null,"xyz184","pqr184","M","2008-01-05",null,null,0,null,"OBC","Sikhs",null,"GOVT. SENIOR SECONDARY SCHOOL 13 DOL (212120)",1234567899,"xxxx1417","ABCDEFG",6376009453,"CHAK-13 DOL,GHARSANA,VPO 13 DOL,335707",40000,"N","N","Yes",13,"None",0]
[10,"A",885,"2014-08-20","abc185",null,"xyz185","pqr185","F","2004-12-06",null,null,0,null,"SC","Hindu",null,"GOVT. SENIOR SECONDARY SCHOOL 13 DOL (212120)",1234567899,"xxxx1418","ABCDEFG",9772129541,"13 DOL,GHARSANA,VPO- 13 DOL,335707",40000,"N","N","No",17,"None",0]
[10,"A",886,"2017-07-06","abc186",null,"xyz186","pqr186","M","2006-06-20",null,null,0,null,"OBC","Hindu",null,"GOVT. SENIOR SECONDARY SCHOOL 13 DOL (212120)",1234567899,"xxxx1419","ABCDEFG",9982492186,"CHAK 14 DOL A,GARSANA,14 DOL A,335707",40000,"N","N","No",15,"None",3]
[10,"A",887,"2014-08-20","abc187",null,"xyz187","pqr187","F","2006-06-20",null,null,0,null,"OBC","Hindu",null,"GOVT. SENIOR SECONDARY SCHOOL 13 DOL (212120)",1234567899,"xxxx1420","ABCDEFG",9672690359,"13 DOL,GHARSANA,VPO- 13 DOL,335707",40000,"N","N","No",15,"None",0]
[10,"A",888,"2020-12-04","abc188",null,"xyz188","pqr188","F","2007-02-28",null,null,0,null,"OBC","Hindu",null,"GOVT. SENIOR SECONDARY SCHOOL 13 DOL (212120)",1234567899,"xxxx1421","ABCDEFG",9414505355,"w.n 06,gharsana,6DOL,335707",50000,"N","N","No",14,"None",8]
[10,"A",889,"2014-08-20","abc189",null,"xyz189","pqr189","F","2006-11-04",null,null,0,null,"OBC","Hindu",null,"GOVT. SENIOR SECONDARY SCHOOL 13 DOL (212120)",1234567899,"xxxx1422","ABCDEFG",9628753401,"13 DOL,GHARSANA,VPO- 13 DOL,335707",40000,"N","N","No",15,"None",0]
[10,"A",890,"2019-07-16","abc190","Late","xyz190","pqr190","M","2004-04-15",null,null,0,null,"SC","Hindu",null,"GOVT. SENIOR SECONDARY SCHOOL 13 DOL (212120)",1234567899,"xxxx1423","ABCDEFG",8502924690,"CHAK-13 DOL,GHARSANA,VPO- 13 DOL,335707",40000,"N","N","No",17,"None",4]
[10,"A",891,"2019-07-25","abc191",null,"xyz191","pqr191","F","2004-10-06",null,null,0,null,"SC","Hindu",null,"GOVT. SENIOR SECONDARY SCHOOL 13 DOL (212120)",1234567899,"xxxx1424","ABCDEFG",9982833127,"CHAK-13 DOL,GHARSANA,VPO 13 DOL,335707",40000,"N","N","No",17,"None",0]
[10,"A",892,"2017-07-10","abc192",null,"xyz192","pqr192","F","2006-08-07",null,null,0,null,"SC","Hindu",null,"GOVT. SENIOR SECONDARY SCHOOL 13 DOL (212120)",1234567899,"xxxx1425","ABCDEFG",9785807147,"13DOL,GARSANA,13DOL,335707",40000,"N","Y","No",15,"None",3]
[10,"A",893,"2019-08-01","abc193",null,"xyz193","pqr193","M","2006-12-24",null,null,0,null,"SC","Hindu",null,"GOVT. SENIOR SECONDARY SCHOOL 13 DOL (212120)",1234567899,"xxxx1426","ABCDEFG",9461374675,"CHAK-13 DOL,GHARSANA,VPO 13 DOL,335707",40000,"N","N","No",15,"None",0]
[10,"A",894,"2020-08-18","abc194",null,"xyz194","pqr194","F","2007-05-14",null,null,0,null,"OBC","Sikhs",null,"GOVT. SENIOR SECONDARY SCHOOL 13 DOL (212120)",1234567899,"xxxx1427","ABCDEFG",7740828502,"VPO 13DOL,GHARSANA,13DOL,335707",40000,"N","N","Yes",14,"None",0]
[10,"A",{"$f":"C195+1","v":895},"2018-07-21","abc195",null,"xyz195","pqr195","F","2007-04-08",null,null,0,null,"SC","Hindu",null,"GOVT. SENIOR SECONDARY SCHOOL 13 DOL (212120)",1234567899,"xxxx1428","ABCDEFG",9649550661,"WARD NO 10,GANGANAGAR,DOL B KHOBER,335707",65000,"N","N","No",14,"None",6]
[10,"A",896,"2019-07-22","abc196",null,"xyz196","pqr196","M","2007-07-15",null,null,0,null,"OBC","Hindu",null,"GOVT. SENIOR SECONDARY SCHOOL 13 DOL (212120)",1234567899,"xxxx1429","ABCDEFG",9694703389,"GSSS 13DOL,GHARSANA,VPO-13 DOL,335707",50000,"N","N","No",14,"None",0]
[10,"A",897,"2020-08-31","abc197",null,"xyz197","pqr197","M","2005-04-15",null,null,0,null,"SC","Hindu",null,"GOVT. SENIOR SECONDARY SCHOOL 13 DOL (212120)",1234567899,"xxxx1430","ABCDEFG",8107055392,"w.n 7,GHARSANA,7DOL,335707",40000,"N","N","No",16,"None",6]
[10,"A",898,"2018-07-11","abc198",null,"xyz198","pqr198","M","2008-06-05",null,null,0,null,"SC","Hindu",null,"GOVT. SENIOR SECONDARY SCHOOL 13 DOL (212120)",1234567899,"xxxx1431","ABCDEFG",8890702546,"CHAK-13DOL,GHARSANA,PO-13DOL,335707",40000,"N","N","No",13,"None",7]
[12,"A",899,"2014-08-20","abc199",null,"xyz199","pqr199","F","2005-07-28",null,null,0,null,"OBC","Hindu",null,"GOVT. SENIOR SECONDARY SCHOOL 13 DOL (212120)",1234567899,"xxxx1432","ABCDEFG",9799664712,"V.P.O. 13DOL,GHARSANA,13DOL,335707",40000,"N","Y","No",16,"None",0]
[12,"A",900,"2016-07-05","abc200",null,"xyz200","pqr200","M","2005-12-12",null,null,0,null,"SC","Hindu",null,"GOVT. SENIOR SECONDARY SCHOOL 13 DOL (212120)",1234567899,"xxxx1433","ABCDEFG",9982833127,"13DOL,GHARSANA,,335707",45000,"N","N","No",16,"None",2]
[12,"A",901,"2014-08-20","abc201",null,"xyz201","pqr201","F","2005-06-05",null,null,0,null,"OBC","Hindu",null,"GOVT. SENIOR SECONDARY SCHOOL 13 DOL (212120)",1234567899,"xxxx1434","ABCDEFG",9694703389,"V.P.O. 13DOL,GHARSANA,13DOL,335707",40000,"N","N","No",16,"None",0]
[12,"A",902,"2015-07-15","abc202",null,"xyz202","pqr202","M","2007-06-22",null,null,0,null,"SC","Hindu",null,"GOVT. SENIOR SECONDARY SCHOOL 13 DOL (212120)",1234567899,"xxxx1435","ABCDEFG",8114426865,"V.P.O. 13DOL,GHARASANA,13 DOL,335707",40000,"N","N","No",14,"None",0]
[12,"A",903,"2015-07-08","abc203",null,"xyz203","pqr203","M","2004-04-10",null,null,0,null,"OBC","Hindu",null,"GOVT. SENIOR SECONDARY SCHOOL 13 DOL (212120)",1234567899,"xxxx1436","ABCDEFG",8104851953,"V.P.O. 13 DOL ,GHARASANA,13 DOL ,335707",45000,"N","N","No",17,"None",1]
[12,"A",904,"2015-07-08","abc204",null,"xyz204","pqr204","M","2003-03-15",null,null,0,null,"OBC","Hindu",null,"GOVT. SENIOR SECONDARY SCHOOL 13 DOL (212120)",1234567899,"xxxx1437","ABCDEFG",7665329127,"V.P.O. 13 DOL,GHARASANA,13 DOL ,335707",45000,"N","N","No",18,"None",0]
[12,"A",905,"2014-08-20","abc205",null,"xyz205","pqr205","M","2005-03-30",null,null,0,null,"SC","Hindu",null,"GOVT. SENIOR SECONDARY SCHOOL 13 DOL (212120)",1234567899,"xxxx1438","ABCDEFG",9549564474,"11 DOL-B,GHARSANA , VPO-13 DOL ,335707",40000,"N","N","No",16,"None",3]
[12,"A",906,"2018-08-01","abc206",null,"xyz206","pqr206","F","2005-12-14",null,null,0,null,"SC","Hindu",null,"GOVT. SENIOR SECONDARY SCHOOL 13 DOL (212120)",1234567899,"xxxx1439","ABCDEFG",9887357747,"CHAK-12GD,GHARSANA,PO-19GD,335707",40000,"N","N","No",16,"None",0]
[12,"A",907,"2018-08-01","abc207",null,"xyz207","pqr207","F","2006-09-05",null,null,0,null,"SC","Hindu",null,"GOVT. SENIOR SECONDARY SCHOOL 13 DOL (212120)",1234567899,"xxxx1440","ABCDEFG",9887357747,"CHAK-12GD,GHARSANA,CHAK-19GD,335707",45000,"N","N","No",15,"None",0]
[12,"A",908,"2015-07-13","abc208",null,"xyz208","pqr208","M","2005-04-24",null,null,0,null,"SC","Hindu",null,"GOVT. SENIOR SECONDARY SCHOOL 13 DOL (212120)",1234567899,"xxxx1441","ABCDEFG",9587706992,"V.P.O.13DOL ,GHARSANA,13DOL (B),335707",40000,"N","Y","No",16,"None",4]
[12,"A",909,"2014-08-20","abc209",null,"xyz209","pqr209","F","2004-08-26",null,null,0,null,"OBC","Hindu",null,"GOVT. SENIOR SECONDARY SCHOOL 13 DOL (212120)",1234567899,"xxxx1442","ABCDEFG",9783463410,"V.P.O. 13DOL,GHARSANA,13DOL,335707",40000,"N","Y","No",17,"None",0]
[12,"A",910,"2017-07-13","abc210",null,"xyz210","pqr210","F","2005-01-19",null,null,0,null,"SC","Hindu",null,"GOVT. SENIOR SECONDARY SCHOOL 13 DOL (212120)",1234567899,"xxxx1443","ABCDEFG",9649334815,"13DOL,GARSANA,13DOL,335707",42000,"N","N","No",16,"None",0]
[12,"A",911,"2018-07-27","abc211",null,"xyz211","pqr211","F","2006-03-28",null,null,0,null,"SC","Hindu",null,"GOVT. SENIOR SECONDARY SCHOOL 13 DOL (212120)",1234567899,"xxxx1444","ABCDEFG",8000496602,"CHAK-7DOL,GHARSSANA,PO-KHOBAR,335707",50000,"N","N","No",15,"None",6]
[12,"A",912,"2019-07-13","abc212",null,"xyz212","pqr212","M","2003-08-14",null,null,0,null,"SC","Hindu",null,"GOVT. SENIOR SECONDARY SCHOOL 13 DOL (212120)",1234567899,"xxxx1445","ABCDEFG",9649550631,"rd 860 ,kolayat,bangadsar,334305",80000,"N","N","No",18,"None",6]
[12,"A",913,"2018-07-03","abc213",null,"xyz213","pqr213","F","2004-06-10",null,null,0,null,"OBC","Hindu",null,"GOVT. SENIOR SECONDARY SCHOOL 13 DOL (212120)",1234567899,"xxxx1446","ABCDEFG",7742142697,"66 RD,KHJUWALA,GANGAJALI,334001",40000,"Y","N","No",17,"None",0]
[12,"A",914,"2014-08-20","abc214",null,"xyz214","pqr214","M","2005-07-12",null,null,0,null,"SC","Hindu",null,"GOVT. SENIOR SECONDARY SCHOOL 13 DOL (212120)",1234567899,"xxxx1447","ABCDEFG",8239151381,"V.P.O. 13DOL ,GHARSANA,13DOL,335707",40000,"N","Y","No",16,"None",0]
[12,"A",915,"2015-08-25","abc215",null,"xyz215","pqr215","M","2004-04-10",null,null,0,null,"SC","Hindu",null,"GOVT. SENIOR SECONDARY SCHOOL 13 DOL (212120)",1234567899,"xxxx1448","ABCDEFG",9660388726,"13DOL,GHARASANA,VPO 13DOL,335707",40000,"N","N","No",17,"None",0]
[12,"A",916,"2014-08-20","abc216",null,"xyz216","pqr216","F","2005-02-02",null,null,0,null,"OBC","Hindu",null,"GOVT. SENIOR SECONDARY SCHOOL 13 DOL (212120)",1234567899,"xxxx1449","ABCDEFG",6367490785,"V.P.O.13DOL,GARSHANA,13DOL,335707",40000,"N","N","No",16,"None",0]
[12,"A",917,"2018-07-24","abc217",null,"xyz217","pqr217","M","2004-07-20",null,null,0,null,"OBC","Hindu",null,"GOVT. SENIOR SECONDARY SCHOOL 13 DOL (212120)",1234567899,"xxxx1450","ABCDEFG",8107167216,"CHAK-7DOL,GHARSANA,PO-KHOBAR,335707",36000,"N","Y","No",17,"None",6]
[12,"A",918,"2014-08-20","abc218",null,"xyz218","pqr218","M","2006-01-09",null,null,0,null,"OBC","Hindu",null,"GOVT. SENIOR SECONDARY SCHOOL 13 DOL (212120)",1234567899,"xxxx1451","ABCDEFG",7891563285,"V.P.O.13DOL ,GHARSANA,13DOL,335707",40000,"N","N","No",15,"None",0]
[12,"A",919,"2019-08-26","abc219",null,"xyz219","pqr219","M","2002-05-12",null,null,0,null,"SC",null,null,"GOVT. SENIOR SECONDARY SCHOOL 13 DOL (212120)",1234567899,"xxxx1452","ABCDEFG",8302629501,"VPO-13DOL,GHARSANA,13DOL,335707",40000,"N","N",null,19,"None",0]
[12,"A",920,"2015-11-18","abc220",null,"xyz220","pqr220","M","2005-05-05",null,null,0,null,"OBC","Sikhs",null,"GOVT. SENIOR SECONDARY SCHOOL 13 DOL (212120)",1234567899,"xxxx1453","ABCDEFG",7690022390,"V.P.O. 13 DOL ,GHARASANA,14 DOL,335707",50000,"N","Y","Yes",16,"None",3]
[12,"A",921,"2019-07-22","abc221",null,"xyz221","pqr221","M","2004-07-14",null,null,0,null,"OBC","Hindu",null,"GOVT. SENIOR SECONDARY SCHOOL 13 DOL (212120)",1234567899,"xxxx1454","ABCDEFG",6350437446,"13 DOL,GHARSANA,PO.-13 DOL,335707",40000,"N","N","No",17,"None",0]
[12,"A",922,"2019-07-02","abc222",null,"xyz222","pqr222","M","2005-09-05",null,null,0,null,"OBC",null,null,"GOVT. SENIOR SECONDARY SCHOOL 13 DOL (212120)",1234567899,"xxxx1455","ABCDEFG",9799108426,"CHAK-9 DOL,GHARSANA,P.O KHOBER,335707",40000,"N","N",null,16,"None",4]
[12,"A",923,"2015-07-06","abc223",null,"xyz223","pqr223","M","2006-06-01",null,null,0,null,"SC","Hindu",null,"GOVT. SENIOR SECONDARY SCHOOL 13 DOL (212120)",1234567899,"xxxx1456","ABCDEFG",9549564474,"11 DOL B ,GHARSANA ,VPO- 13 DOL ,335707",40000,"N","N","No",15,"None",3]
[11,"A",924,"2018-07-18","abc224",null,"xyz224","pqr224","M","########",{"$nulls":4},"SC","Sikhs",null,"GOVT. SENIOR SECONDARY SCHOOL 13 DOL (212120)",1234567899,"xxxx1457","ABCDEFG",9610000000,"CHAK 13 DOL,GHARSANA,VPO- 13 DOL,335707",40000,"N","N","Yes",16,"None",1,0]
[11,"A",925,"2014-08-20","abc225",null,"xyz225","pqr225","F","########",{"$nulls":4},"SC","Sikhs",null,"GOVT. SENIOR SECONDARY SCHOOL 13 DOL (212120)",1234567899,"xxxx1458","ABCDEFG",9950000000,"CHAK 13 DOL,GHARSANA,VPO - 13 DOL,335707",40000,"N","N","Yes",14,"None",0]
[11,"A",926,"2015-07-10","abc226",null,"xyz226","pqr226","F","########",{"$nulls":4},"OBC","Hindu",null,"GOVT. SENIOR SECONDARY SCHOOL 13 DOL (212120)",1234567899,"xxxx1459","ABCDEFG",9770000000,"CHAK 13 DOL,GHARSANA,VPO - 13 DOL,335707",40000,"N","N","No",16,"None",0]
[11,"A",927,"2016-07-26","abc227",null,"xyz227","pqr227","M","########",{"$nulls":4},"SC","Sikhs",null,"GOVT. SENIOR SECONDARY SCHOOL 13 DOL (212120)",1234567899,"xxxx1460","ABCDEFG",8240000000,"CHAK 13 DOL,GHARSANA,VPO- 13 DOL,335707",40000,"N","N","Yes",14,"None",0]
[11,"A",928,"2019-07-29","abc228",null,"xyz228","pqr228","M","########",{"$nulls":4},"SC",null,null,"GOVT. SENIOR SECONDARY SCHOOL 13 DOL (212120)",1234567899,"xxxx1461","ABCDEFG",9780000000,"chak-9 dol,GHARSANA,p.o- khober,335707",90000,"N","N",null,16,"None",5]
[11,"A",929,"2019-08-05","abc229",null,"xyz229","pqr229","F","########",{"$nulls":4},"SC","Hindu",null,"GOVT. SENIOR SECONDARY SCHOOL 13 DOL (212120)",1234567899,"xxxx1462","ABCDEFG",9120000000,"13 DOL GHARSANA,GHARSANA,GHARSANA,335707",70000,"N","N","No",14,"None",1,0]
[11,"A",930,"2014-08-20","abc230",null,"xyz230","pqr230","F","########",{"$nulls":4},"OBC","Sikhs",null,"GOVT. SENIOR SECONDARY SCHOOL 13 DOL (212120)",1234567899,"xxxx1463","ABCDEFG",9770000000,"CHAK 13 DOL,GHARSANA,VPO - 13 DOL,335707",40000,"N","N","Yes",18,"None",0]
[11,"A",931,"2019-07-31","abc231",null,"xyz231","pqr231","F","########",{"$nulls":4},"SC",null,null,"GOVT. SENIOR SECONDARY SCHOOL 13 DOL (212120)",1234567899,"xxxx1464","ABCDEFG",8500000000,"chak-13 dol,GHARSANA,p.o- 13 dol,335707",40000,"N","N",null,14,"None",0]
[11,"A",932,"2019-07-27","abc232",null,"xyz232","pqr232","F","########",{"$nulls":4},"SC",null,null,"GOVT. SENIOR SECONDARY SCHOOL 13 DOL (212120)",1234567899,"xxxx1465","ABCDEFG",9890000000,"chak-7 dol,GHARSANA,p.o- khober,335707",48000,"N","N",null,15,"None",6]
[11,"A",933,"2018-07-13","abc233",null,"xyz233","pqr233","M","########",{"$nulls":4},"OBC","Hindu",null,"GOVT. SENIOR SECONDARY SCHOOL 13 DOL (212120)",1234567899,"xxxx1466","ABCDEFG",941000000,"W.N06 ,gharshana,9DOL,335707",45000,"N","N","No",16,"None",3,5.5]
[11,"A",934,"2019-07-31","abc234",null,"xyz234","pqr234","F","########",{"$nulls":4},"OBC",null,null,"GOVT. SENIOR SECONDARY SCHOOL 13 DOL (212120)",1234567899,"xxxx1467","ABCDEFG",9600000000,"chak-13 dol,GHARSANA,p.o- 13 dol,335707",40000,"N","N",null,16,"None",0]
[11,"A",935,"2014-08-20","abc235",null,"xyz235","pqr235","F","########",{"$nulls":4},"OBC","Hindu",null,"GOVT. SENIOR SECONDARY SCHOOL 13 DOL (212120)",1234567899,"xxxx1468","ABCDEFG",9650000000,"VPO 13 DOL,GHARSANA,11 DOL -B ,335707",60000,"N","N","No",14,"None",1]
[11,"A",936,"2014-08-20","abc236",null,"xyz236","pqr236","F","########",{"$nulls":4},"SC","Sikhs",null,"GOVT. SENIOR SECONDARY SCHOOL 13 DOL (212120)",1234567899,"xxxx1469","ABCDEFG",9690000000,"CHAK 13 DOL,GHARSANA,VPO - 13 DOL,335707",40000,"Y","N","Yes",16,"None",0]
[11,"A",937,"2014-08-20","abc237",null,"xyz237","pqr237","F","########",{"$nulls":4},"SC","Hindu",null,"GOVT. SENIOR SECONDARY SCHOOL 13 DOL (212120)",1234567899,"xxxx1470","ABCDEFG",9830000000,"V.P.O.13DOL,GHARSANA,13DOL,335707",42000,"Y","N","No",16,"None",3]
[11,"A",938,"1900-07-31","abc238",null,"xyz238","pqr238","F","########",{"$nulls":4},"SC","Hindu",null,"GOVT. SENIOR SECONDARY SCHOOL 13 DOL (212120)",1234567899,"xxxx1471","ABCDEFG",8290000000,"CHAK-7DOL,GHARSANA,PO-KHOBAR,335707",40000,"N","N","No",16,"None",6]
[11,"A",939,"2018-07-27","abc239",null,"xyz239","pqr239","M","########",{"$nulls":4},"SC","Hindu",null,"GOVT. SENIOR SECONDARY SCHOOL 13 DOL (212120)",1234567899,"xxxx1472","ABCDEFG",8740000000,"CHAK-13DOL,GHARSANA,PO-13DOL,335707",40000,"N","N","No",15,"None",0]
[11,"A",940,"2016-07-01","abc240",null,"xyz240","pqr240","M","########",{"$nulls":4},"SC","Hindu",null,"GOVT. SENIOR SECONDARY SCHOOL 13 DOL (212120)",1234567899,"xxxx1473","ABCDEFG",8880000000,"CHAK 13 DOL,GHARSANA,VPO- 13 DOL,335707",40000,"N","N","No",16,"None",0]
[11,"A",941,"2016-07-14","abc241",null,"xyz241","pqr241","M","########",{"$nulls":4},"SC","Hindu",null,"GOVT. SENIOR SECONDARY SCHOOL 13 DOL (212120)",1234567899,"xxxx1474","ABCDEFG",9830000000,"CHAK 11 KND,GHARSANA,VPO- 13 DOL,335707",40000,"N","N","No",17,"None",4]
[11,"A",942,"2015-07-10","abc242",null,"xyz242","pqr242","M","########",{"$nulls":4},"OBC","Sikhs",null,"GOVT. SENIOR SECONDARY SCHOOL 13 DOL (212120)",1234567899,"xxxx1475","ABCDEFG",8440000000,"13DOL,GHARASANA,VPO 13DOL,335707",45000,"N","Y","Yes",17,"None",0]
[11,"A",943,"2016-06-30","abc243",null,"xyz243","pqr243","F","########",{"$nulls":4},"GEN","Hindu",null,"GOVT. SENIOR SECONDARY SCHOOL 13 DOL (212120)",1234567899,"xxxx1476","ABCDEFG",9770000000,"CHAK 13 DOL,GHARSANA,VPO- 13 DOL,335707",45000,"N","N","No",16,"None",0]
[11,"A",944,"2018-07-14","abc244",null,"xyz244","pqr244","F","########",{"$nulls":4},"SC","Hindu",null,"GOVT. SENIOR SECONDARY SCHOOL 13 DOL (212120)",1234567899,"xxxx1477","ABCDEFG",7460000000,"Bangadsar,Kolayat,Bangadsar,334305",55000,"N","N","No",14,"None",2,5.5]
[11,"A",945,"2020-12-09","abc245",null,"xyz245","pqr245","F","########",{"$nulls":4},"OBC","Hindu",null,"GOVT. SENIOR SECONDARY SCHOOL 13 DOL (212120)",1234567899,"xxxx1478","ABCDEFG",9950000000,"V.P.O. 13 DOL,GHARSANA,TEH. RAWLA MANDI,335707",80000,"N","N","No",14,"None",0]
[11,"A",946,"2015-07-08","abc246",null,"xyz246","pqr246","F","########",{"$nulls":4},"OBC","Sikhs",null,"GOVT. SENIOR SECONDARY SCHOOL 13 DOL (212120)",1234567899,"xxxx1479","ABCDEFG",8100000000,"CHAK 13 DOL,GHARSANA,VPO - 13 DOL,335707",45000,"N","N","Yes",16,"None",0]
[11,"A",947,"2014-08-20","abc247",null,"xyz247","pqr247","M","########",{"$nulls":4},"OBC","Hindu",null,"GOVT. SENIOR SECONDARY SCHOOL 13 DOL (212120)",1234567899,"xxxx1480","ABCDEFG",9780000000,"13DOL,GHARASANA,VPO 13DOL,335707",40000,"N","N","No",14,"None",0]
[11,"A",948,"2019-07-27","abc248",null,"xyz248","pqr248","M","########",{"$nulls":4},"SC",null,null,"GOVT. SENIOR SECONDARY SCHOOL 13 DOL (212120)",1234567899,"xxxx1481","ABCDEFG",8880000000,"chak-7 dol,GHARSANA,p.o- khober,335707",40000,"N","N",null,14,"None",5]
[11,"A",949,"2019-07-27","abc249",null,"xyz249","pqr249","M","########",{"$nulls":4},"SC",null,null,"GOVT. SENIOR SECONDARY SCHOOL 13 DOL (212120)",1234567899,"xxxx1482","ABCDEFG",7880000000,"chak-7 dol,GHARSANA,p.o- khober,335707",45000,"N","N",null,15,"None",6]
[11,"A",950,"2016-07-11","abc250",null,"xyz250","pqr250","M","########",{"$nulls":4},"SC","Hindu",null,"GOVT. SENIOR SECONDARY SCHOOL 13 DOL (212120)",1234567899,"xxxx1483","ABCDEFG",8880000000,"CHAK 11 KND,GHARSANA,VPO- 13 DOL,335707",40000,"N","N","No",17,"None",4]
[11,"A",951,"2015-07-15","abc251",null,"xyz251","pqr251","M","########",{"$nulls":4},"OBC","Hindu",null,"GOVT. SENIOR SECONDARY SCHOOL 13 DOL (212120)",1234567899,"xxxx1484","ABCDEFG",9980000000,"VPO 13 DOL,GHARSANA,11 DOL -B,335707",50000,"N","N","No",15,"None",3]
[11,"A",952,"2015-08-20","abc252",null,"xyz252","pqr252","M","########",{"$nulls":4},"OBC","Sikhs",null,"GOVT. SENIOR SECONDARY SCHOOL 13 DOL (212120)",1234567899,"xxxx1485","ABCDEFG",9930000000,"13DOL,GHARASANA,VPO 13DOL,335707",40000,"N","Y","Yes",16,"None",0]
[11,"A",953,"2014-08-20","abc253",null,"xyz253","pqr253","F","########",{"$nulls":4},"OBC","Hindu",null,"GOVT. SENIOR SECONDARY SCHOOL 13 DOL (212120)",1234567899,"xxxx1486","ABCDEFG",7890000000,"CHAK 13 DOL,GHARSANA,VPO - 13 DOL,335707",40000,"N","N","No",14,"None",0]
[11,"A",954,"2014-08-20","abc254",null,"xyz254","pqr254","M","########",{"$nulls":4},"OBC","Sikhs",null,"GOVT. SENIOR SECONDARY SCHOOL 13 DOL (212120)",1234567899,"xxxx1487","ABCDEFG",8100000000,"CHAK 13 DOL,GHARSANA,VPO - 13 DOL,335707",40000,"N","N","Yes",15,"None",0]
[11,"A",955,"2014-08-20","abc255",null,"xyz255","pqr255","M","########",{"$nulls":4},"SC","Hindu",null,"GOVT. SENIOR SECONDARY SCHOOL 13 DOL (212120)",1234567899,"xxxx1488","ABCDEFG",9930000000,"CHAK 13 DOL,GHARSANA,VPO - 13 DOL,335707",40000,"N","N","No",16,"None",0]
[11,"A",956,"2014-08-20","abc256",null,"xyz256","pqr256","M","########",{"$nulls":4},"OBC","Sikhs",null,"GOVT. SENIOR SECONDARY SCHOOL 13 DOL (212120)",1234567899,"xxxx1489","ABCDEFG",9780000000,"CHAK 13 DOL,GHARSANA,VPO - 13 DOL,335707",40000,"N","Y","Yes",16,"None",0]
[11,"A",957,"2020-12-09","abc257",null,"xyz257","pqr257","F","########",{"$nulls":4},"OBC","Hindu",null,"GOVT. SENIOR SECONDARY SCHOOL 13 DOL (212120)",1234567899,"xxxx1490","ABCDEFG",9830000000,"CHAK -11DOL PO-13 DOL,GHARSANA,CHAK -11 DOL PO- 13 DOL,335707",0,"N","N","No",14,"None",3]
[11,"A",958,"2018-07-12","abc258",null,"xyz258","pqr258","M","########",{"$nulls":4},"SC",null,null,"GOVT. SENIOR SECONDARY SCHOOL 13 DOL (212120)",1234567899,"xxxx1491","ABCDEFG",8290000000,"7 DOL,GHARSANA,7 DOL,335707",44000,"N","N",null,13,"None",0,6]
[11,"A",{"$f":"C259+1","v":959},"2014-08-20","abc259",null,"xyz259","pqr259","F","########",{"$nulls":4},"OBC","Hindu",null,"GOVT. SENIOR SECONDARY SCHOOL 13 DOL (212120)",1234567899,"xxxx1492","ABCDEFG",9830000000,"CHAK 13 DOL,GHARSANA,VPO - 13 DOL,335707",40000,"N","N","No",15,"None",0]
[11,"A",960,"2014-08-20","abc260",null,"xyz260","pqr260","M","########",{"$nulls":4},"OBC","Hindu",null,"GOVT. SENIOR SECONDARY SCHOOL 13 DOL (212120)",1234567899,"xxxx1493","ABCDEFG",9980000000,"CHAK 13 DOL,GHARSANA,VPO - 13 DOL,335707",40000,"N","N","No",16,"None",0]
[11,"A",961,"2015-07-15","abc261",null,"xyz261","pqr261","M","########",{"$nulls":4},"SC","Sikhs",null,"GOVT. SENIOR SECONDARY SCHOOL 13 DOL (212120)",1234567899,"xxxx1494","ABCDEFG",9770000000,"V.P.O. 13DOL,GHARASANA,13 DOL,335707",40000,"N","N","Yes",15,"None",3]
[11,"A",962,"2019-07-31","abc262",null,"xyz262","pqr262","M","########",{"$nulls":4},"OBC",null,null,"GOVT. SENIOR SECONDARY SCHOOL 13 DOL (212120)",1234567899,"xxxx1495","ABCDEFG",9610000000,"chak-13 dol,GHARSANA,p.o-13 dol,335707",50000,"N","N",null,15,"None",0]
[11,"A",963,"2016-07-04","abc263",null,"xyz263","pqr263","F","########",{"$nulls":4},"ST","Hindu",null,"GOVT. SENIOR SECONDARY SCHOOL 13 DOL (212120)",1234567899,"xxxx1496","ABCDEFG",9780000000,"CHAK 13 DOL,GHARSANA,VPO- 13 DOL,335707",30000,"N","N","No",17,"None",3]
[11,"A",964,"2012-07-16","abc264",null,"xyz264","pqr264","F","########",{"$nulls":4},"SC","Hindu",null,"GOVT. SENIOR SECONDARY SCHOOL 13 DOL (212120)",1234567899,"xxxx1497","ABCDEFG",9780000000,"w.n 06,GHARSHANA,7DOL,335707",48000,"N","N","No",15,"None",6]
[11,"A",965,"2019-08-03","abc265",null,"xyz265","pqr265","F","########",{"$nulls":4},"SC","Hindu",null,"GOVT. SENIOR SECONDARY SCHOOL 13 DOL (212120)",1234567899,"xxxx1498","ABCDEFG",9930000000,"w.n 07,gharsana,7dol,335707",40000,"N","N","No",18,"None",6]
[11,"A",966,"2019-08-01","abc266",null,"xyz266","pqr266","M","########",{"$nulls":4},"OBC",null,null,"GOVT. SENIOR SECONDARY SCHOOL 13 DOL (212120)",1234567899,"xxxx1499","ABCDEFG",7230000000,"chak-7 dol,GHARSANA,p.o khober,335707",90000,"Y","N",null,17,"None",6]
[11,"A",967,"2019-08-03","abc267",null,"xyz267","pqr267","F","########",{"$nulls":4},"SC",null,null,"GOVT. SENIOR SECONDARY SCHOOL 13 DOL (212120)",1234567899,"xxxx1500","ABCDEFG",9570000000,"CHAK-7DOL,GHARSANA,P.O KHOBER,335707",40000,"N","N",null,16,"None",6]
[11,"A",968,"2019-08-01","abc268",null,"xyz268","pqr268","F","########",{"$nulls":4},"SC","Hindu",null,"GOVT. SENIOR SECONDARY SCHOOL 13 DOL (212120)",1234567899,"xxxx1501","ABCDEFG",9610000000,"W.n 5,Gharsana,9DOL A,335707",50000,"N","N","No",15,"None",6]
[11,"A",969,"2019-07-31","abc269",null,"xyz269","pqr269","F","########",{"$nulls":4},"OBC",null,null,"GOVT. SENIOR SECONDARY SCHOOL 13 DOL (212120)",1234567899,"xxxx1502","ABCDEFG",9460000000,"13 DOL,GHARSANA,VPO 13 DOL,335707",45000,"N","N",null,17,"None",0]
[11,"A",970,"2019-07-31","abc270",null,"xyz270","pqr270","F","########",{"$nulls":4},"OBC",null,null,"GOVT. SENIOR SECONDARY SCHOOL 13 DOL (212120)",1234567899,"xxxx1503","ABCDEFG",9890000000,"chak-13 dol,GHARSANA,p.o-13 dol,335707",45000,"N","N",null,15,"None",0]
[11,"A",971,"2016-07-04","abc271",null,"xyz271","pqr271","M","########",{"$nulls":4},"ST","Hindu",null,"GOVT. SENIOR SECONDARY SCHOOL 13 DOL (212120)",1234567899,"xxxx1504","ABCDEFG",9650000000,"CHAK 13 DOL,GHARSANA,VPO- 13 DOL,335707",40000,"N","N","No",17,"None",0]

{"sheet":"STUDATA","index":3,"n_rows":1000,"n_cols":10,"rows_kept":1000,"merged":[[1,1,1,9]]}
[]
[null,{"$f":"DASHBOARD!B2","v":"कार्यालय प्रधानाचार्य राजकीय उच्च माध्यमिक विद्यालय 13डीओएल, श्री गंगानगर"}]
[]
[]
[null,"क्र0स0","कक्षा ","SR NO","नाम विद्यार्थी","पिता का नाम ","GENDER","कैटेगरी","MOBILE NO","DOA"]
[null,{"$f":"IF(E6=\"\",\"\",ROWS($B$6:B6))","v":1},{"$f":"IF(OR(SD!A2=\"\"),\"\",SD!A2)","v":1},{"$f":"IF(OR(SD!C2=\"\"),\"\",SD!C2)","v":701},{"$f":"IF(OR(SD!E2=\"\"),\"\",SD!E2)","v":"abc1"},{"$f":"IF(OR(SD!G2=\"\"),\"\",SD!G2)","v":"xyz1"},{"$f":"IF(OR(SD!I2=\"\"),\"\",SD!I2)","v":"M"},{"$f":"IF(OR(SD!O2=\"\"),\"\",SD!O2)","v":"SC"},{"$f":"IF(OR(SD!V2=\"\"),\"\",SD!V2)","v":8302528863},{"$f":"IF(SD!D2=\"\",\"\",SD!D2)","v":""}]
[null,{"$f":"IF(E7=\"\",\"\",ROWS($B$6:B7))","v":2},{"$f":"IF(OR(SD!A3=\"\"),\"\",SD!A3)","v":1},{"$f":"IF(OR(SD!C3=\"\"),\"\",SD!C3)","v":702},{"$f":"IF(OR(SD!E3=\"\"),\"\",SD!E3)","v":"abc2"},{"$f":"IF(OR(SD!G3=\"\"),\"\",SD!G3)","v":"xyz2"},{"$f":"IF(OR(SD!I3=\"\"),\"\",SD!I3)","v":"F"},{"$f":"IF(OR(SD!O3=\"\"),\"\",SD!O3)","v":"SC"},{"$f":"IF(OR(SD!V3=\"\"),\"\",SD!V3)","v":8440054816},{"$f":"IF(SD!D3=\"\",\"\",SD!D3)","v":""}]
[null,{"$f":"IF(E8=\"\",\"\",ROWS($B$6:B8))","v":3},{"$f":"IF(OR(SD!A4=\"\"),\"\",SD!A4)","v":1},{"$f":"IF(OR(SD!C4=\"\"),\"\",SD!C4)","v":703},{"$f":"IF(OR(SD!E4=\"\"),\"\",SD!E4)","v":"abc3"},{"$f":"IF(OR(SD!G4=\"\"),\"\",SD!G4)","v":"xyz3"},{"$f":"IF(OR(SD!I4=\"\"),\"\",SD!I4)","v":"F"},{"$f":"IF(OR(SD!O4=\"\"),\"\",SD!O4)","v":"OBC"},{"$f":"IF(OR(SD!V4=\"\"),\"\",SD!V4)","v":7023749315},{"$f":"IF(SD!D4=\"\",\"\",SD!D4)","v":""}]
[null,{"$f":"IF(E9=\"\",\"\",ROWS($B$6:B9))","v":4},{"$f":"IF(OR(SD!A5=\"\"),\"\",SD!A5)","v":1},{"$f":"IF(OR(SD!C5=\"\"),\"\",SD!C5)","v":704},{"$f":"IF(OR(SD!E5=\"\"),\"\",SD!E5)","v":"abc4"},{"$f":"IF(OR(SD!G5=\"\"),\"\",SD!G5)","v":"xyz4"},{"$f":"IF(OR(SD!I5=\"\"),\"\",SD!I5)","v":"F"},{"$f":"IF(OR(SD!O5=\"\"),\"\",SD!O5)","v":"SBC"},{"$f":"IF(OR(SD!V5=\"\"),\"\",SD!V5)","v":9828753401},{"$f":"IF(SD!D5=\"\",\"\",SD!D5)","v":""}]
[null,{"$f":"IF(E10=\"\",\"\",ROWS($B$6:B10))","v":5},{"$f":"IF(OR(SD!A6=\"\"),\"\",SD!A6)","v":1},{"$f":"IF(OR(SD!C6=\"\"),\"\",SD!C6)","v":705},{"$f":"IF(OR(SD!E6=\"\"),\"\",SD!E6)","v":"abc5"},{"$f":"IF(OR(SD!G6=\"\"),\"\",SD!G6)","v":"xyz5"},{"$f":"IF(OR(SD!I6=\"\"),\"\",SD!I6)","v":"F"},{"$f":"IF(OR(SD!O6=\"\"),\"\",SD!O6)","v":"OBC"},{"$f":"IF(OR(SD!V6=\"\"),\"\",SD!V6)","v":7014043488},{"$f":"IF(SD!D6=\"\",\"\",SD!D6)","v":""}]
[null,{"$f":"IF(E11=\"\",\"\",ROWS($B$6:B11))","v":6},{"$f":"IF(OR(SD!A7=\"\"),\"\",SD!A7)","v":1},{"$f":"IF(OR(SD!C7=\"\"),\"\",SD!C7)","v":706},{"$f":"IF(OR(SD!E7=\"\"),\"\",SD!E7)","v":"abc6"},{"$f":"IF(OR(SD!G7=\"\"),\"\",SD!G7)","v":"xyz6"},{"$f":"IF(OR(SD!I7=\"\"),\"\",SD!I7)","v":"M"},{"$f":"IF(OR(SD!O7=\"\"),\"\",SD!O7)","v":"SC"},{"$f":"IF(OR(SD!V7=\"\"),\"\",SD!V7)","v":7849925995},{"$f":"IF(SD!D7=\"\",\"\",SD!D7)","v":""}]
[null,{"$f":"IF(E12=\"\",\"\",ROWS($B$6:B12))","v":7},{"$f":"IF(OR(SD!A8=\"\"),\"\",SD!A8)","v":1},{"$f":"IF(OR(SD!C8=\"\"),\"\",SD!C8)","v":707},{"$f":"IF(OR(SD!E8=\"\"),\"\",SD!E8)","v":"abc7"},{"$f":"IF(OR(SD!G8=\"\"),\"\",SD!G8)","v":"xyz7"},{"$f":"IF(OR(SD!I8=\"\"),\"\",SD!I8)","v":"F"},{"$f":"IF(OR(SD!O8=\"\"),\"\",SD!O8)","v":"OBC"},{"$f":"IF(OR(SD!V8=\"\"),\"\",SD!V8)","v":7296959713},{"$f":"IF(SD!D8=\"\",\"\",SD!D8)","v":""}]
[null,{"$f":"IF(E13=\"\",\"\",ROWS($B$6:B13))","v":8},{"$f":"IF(OR(SD!A9=\"\"),\"\",SD!A9)","v":2},{"$f":"IF(OR(SD!C9=\"\"),\"\",SD!C9)","v":708},{"$f":"IF(OR(SD!E9=\"\"),\"\",SD!E9)","v":"abc8"},{"$f":"IF(OR(SD!G9=\"\"),\"\",SD!G9)","v":"xyz8"},{"$f":"IF(OR(SD!I9=\"\"),\"\",SD!I9)","v":"M"},{"$f":"IF(OR(SD!O9=\"\"),\"\",SD!O9)","v":"SC"},{"$f":"IF(OR(SD!V9=\"\"),\"\",SD!V9)","v":9660540090},{"$f":"IF(SD!D9=\"\",\"\",SD!D9)","v":"2020-12-09"}]
[null,{"$f":"IF(E14=\"\",\"\",ROWS($B$6:B14))","v":9},{"$f":"IF(OR(SD!A10=\"\"),\"\",SD!A10)","v":2},{"$f":"IF(OR(SD!C10=\"\"),\"\",SD!C10)","v":709},{"$f":"IF(OR(SD!E10=\"\"),\"\",SD!E10)","v":"abc9"},{"$f":"IF(OR(SD!G10=\"\"),\"\",SD!G10)","v":"xyz9"},{"$f":"IF(OR(SD!I10=\"\"),\"\",SD!I10)","v":"M"},{"$f":"IF(OR(SD!O10=\"\"),\"\",SD!O10)","v":"SC"},{"$f":"IF(OR(SD!V10=\"\"),\"\",SD!V10)","v":9887094708},{"$f":"IF(SD!D10=\"\",\"\",SD!D10)","v":"2020-07-11"}]
[null,{"$f":"IF(E15=\"\",\"\",ROWS($B$6:B15))","v":10},{"$f":"IF(OR(SD!A11=\"\"),\"\",SD!A11)","v":2},{"$f":"IF(OR(SD!C11=\"\"),\"\",SD!C11)","v":710},{"$f":"IF(OR(SD!E11=\"\"),\"\",SD!E11)","v":"abc10"},{"$f":"IF(OR(SD!G11=\"\"),\"\",SD!G11)","v":"xyz10"},{"$f":"IF(OR(SD!I11=\"\"),\"\",SD!I11)","v":"M"},{"$f":"IF(OR(SD!O11=\"\"),\"\",SD!O11)","v":"SC"},{"$f":"IF(OR(SD!V11=\"\"),\"\",SD!V11)","v":9660540020},{"$f":"IF(SD!D11=\"\",\"\",SD!D11)","v":"2020-12-09"}]
[null,{"$f":"IF(E16=\"\",\"\",ROWS($B$6:B16))","v":11},{"$f":"IF(OR(SD!A12=\"\"),\"\",SD!A12)","v":2},{"$f":"IF(OR(SD!C12=\"\"),\"\",SD!C12)","v":711},{"$f":"IF(OR(SD!E12=\"\"),\"\",SD!E12)","v":"abc11"},{"$f":"IF(OR(SD!G12=\"\"),\"\",SD!G12)","v":"xyz11"},{"$f":"IF(OR(SD!I12=\"\"),\"\",SD!I12)","v":"M"},{"$f":"IF(OR(SD!O12=\"\"),\"\",SD!O12)","v":"SC"},{"$f":"IF(OR(SD!V12=\"\"),\"\",SD!V12)","v":8441073918},{"$f":"IF(SD!D12=\"\",\"\",SD!D12)","v":"2020-07-24"}]
[null,{"$f":"IF(E17=\"\",\"\",ROWS($B$6:B17))","v":12},{"$f":"IF(OR(SD!A13=\"\"),\"\",SD!A13)","v":2},{"$f":"IF(OR(SD!C13=\"\"),\"\",SD!C13)","v":712},{"$f":"IF(OR(SD!E13=\"\"),\"\",SD!E13)","v":"abc12"},{"$f":"IF(OR(SD!G13=\"\"),\"\",SD!G13)","v":"xyz12"},{"$f":"IF(OR(SD!I13=\"\"),\"\",SD!I13)","v":"M"},{"$f":"IF(OR(SD!O13=\"\"),\"\",SD!O13)","v":"SC"},{"$f":"IF(OR(SD!V13=\"\"),\"\",SD!V13)","v":6376701853},{"$f":"IF(SD!D13=\"\",\"\",SD!D13)","v":"2020-07-14"}]
[null,{"$f":"IF(E18=\"\",\"\",ROWS($B$6:B18))","v":13},{"$f":"IF(OR(SD!A14=\"\"),\"\",SD!A14)","v":2},{"$f":"IF(OR(SD!C14=\"\"),\"\",SD!C14)","v":713},{"$f":"IF(OR(SD!E14=\"\"),\"\",SD!E14)","v":"abc13"},{"$f":"IF(OR(SD!G14=\"\"),\"\",SD!G14)","v":"xyz13"},{"$f":"IF(OR(SD!I14=\"\"),\"\",SD!I14)","v":"F"},{"$f":"IF(OR(SD!O14=\"\"),\"\",SD!O14)","v":"OBC"},{"$f":"IF(OR(SD!V14=\"\"),\"\",SD!V14)","v":6377325327},{"$f":"IF(SD!D14=\"\",\"\",SD!D14)","v":"2020-07-13"}]
[null,{"$f":"IF(E19=\"\",\"\",ROWS($B$6:B19))","v":14},{"$f":"IF(OR(SD!A15=\"\"),\"\",SD!A15)","v":2},{"$f":"IF(OR(SD!C15=\"\"),\"\",SD!C15)","v":714},{"$f":"IF(OR(SD!E15=\"\"),\"\",SD!E15)","v":"abc14"},{"$f":"IF(OR(SD!G15=\"\"),\"\",SD!G15)","v":"xyz14"},{"$f":"IF(OR(SD!I15=\"\"),\"\",SD!I15)","v":"F"},{"$f":"IF(OR(SD!O15=\"\"),\"\",SD!O15)","v":"OBC"},{"$f":"IF(OR(SD!V15=\"\"),\"\",SD!V15)","v":6383718538},{"$f":"IF(SD!D15=\"\",\"\",SD!D15)","v":"2020-12-21"}]
[null,{"$f":"IF(E20=\"\",\"\",ROWS($B$6:B20))","v":15},{"$f":"IF(OR(SD!A16=\"\"),\"\",SD!A16)","v":2},{"$f":"IF(OR(SD!C16=\"\"),\"\",SD!C16)","v":715},{"$f":"IF(OR(SD!E16=\"\"),\"\",SD!E16)","v":"abc15"},{"$f":"IF(OR(SD!G16=\"\"),\"\",SD!G16)","v":"xyz15"},{"$f":"IF(OR(SD!I16=\"\"),\"\",SD!I16)","v":"M"},{"$f":"IF(OR(SD!O16=\"\"),\"\",SD!O16)","v":"SC"},{"$f":"IF(OR(SD!V16=\"\"),\"\",SD!V16)","v":7412853387},{"$f":"IF(SD!D16=\"\",\"\",SD!D16)","v":"2020-08-07"}]
[null,{"$f":"IF(E21=\"\",\"\",ROWS($B$6:B21))","v":16},{"$f":"IF(OR(SD!A17=\"\"),\"\",SD!A17)","v":2},{"$f":"IF(OR(SD!C17=\"\"),\"\",SD!C17)","v":716},{"$f":"IF(OR(SD!E17=\"\"),\"\",SD!E17)","v":"abc16"},{"$f":"IF(OR(SD!G17=\"\"),\"\",SD!G17)","v":"xyz16"},{"$f":"IF(OR(SD!I17=\"\"),\"\",SD!I17)","v":"M"},{"$f":"IF(OR(SD!O17=\"\"),\"\",SD!O17)","v":"OBC"},{"$f":"IF(OR(SD!V17=\"\"),\"\",SD!V17)","v":7665126155},{"$f":"IF(SD!D17=\"\",\"\",SD!D17)","v":"2020-07-13"}]
[null,{"$f":"IF(E22=\"\",\"\",ROWS($B$6:B22))","v":17},{"$f":"IF(OR(SD!A18=\"\"),\"\",SD!A18)","v":2},{"$f":"IF(OR(SD!C18=\"\"),\"\",SD!C18)","v":717},{"$f":"IF(OR(SD!E18=\"\"),\"\",SD!E18)","v":"abc17"},{"$f":"IF(OR(SD!G18=\"\"),\"\",SD!G18)","v":"xyz17"},{"$f":"IF(OR(SD!I18=\"\"),\"\",SD!I18)","v":"M"},{"$f":"IF(OR(SD!O18=\"\"),\"\",SD!O18)","v":"OBC"},{"$f":"IF(OR(SD!V18=\"\"),\"\",SD!V18)","v":7726826343},{"$f":"IF(SD!D18=\"\",\"\",SD!D18)","v":"2021-01-18"}]
[null,{"$f":"IF(E23=\"\",\"\",ROWS($B$6:B23))","v":18},{"$f":"IF(OR(SD!A19=\"\"),\"\",SD!A19)","v":2},{"$f":"IF(OR(SD!C19=\"\"),\"\",SD!C19)","v":718},{"$f":"IF(OR(SD!E19=\"\"),\"\",SD!E19)","v":"abc18"},{"$f":"IF(OR(SD!G19=\"\"),\"\",SD!G19)","v":"xyz18"},{"$f":"IF(OR(SD!I19=\"\"),\"\",SD!I19)","v":"M"},{"$f":"IF(OR(SD!O19=\"\"),\"\",SD!O19)","v":"OBC"},{"$f":"IF(OR(SD!V19=\"\"),\"\",SD!V19)","v":7340265927},{"$f":"IF(SD!D19=\"\",\"\",SD!D19)","v":"2020-06-30"}]
[null,{"$f":"IF(E24=\"\",\"\",ROWS($B$6:B24))","v":19},{"$f":"IF(OR(SD!A20=\"\"),\"\",SD!A20)","v":2},{"$f":"IF(OR(SD!C20=\"\"),\"\",SD!C20)","v":719},{"$f":"IF(OR(SD!E20=\"\"),\"\",SD!E20)","v":"abc19"},{"$f":"IF(OR(SD!G20=\"\"),\"\",SD!G20)","v":"xyz19"},{"$f":"IF(OR(SD!I20=\"\"),\"\",SD!I20)","v":"M"},{"$f":"IF(OR(SD!O20=\"\"),\"\",SD!O20)","v":"OBC"},{"$f":"IF(OR(SD!V20=\"\"),\"\",SD!V20)","v":7728089380},{"$f":"IF(SD!D20=\"\",\"\",SD!D20)","v":"2020-07-20"}]
[null,{"$f":"IF(E25=\"\",\"\",ROWS($B$6:B25))","v":20},{"$f":"IF(OR(SD!A21=\"\"),\"\",SD!A21)","v":2},{"$f":"IF(OR(SD!C21=\"\"),\"\",SD!C21)","v":720},{"$f":"IF(OR(SD!E21=\"\"),\"\",SD!E21)","v":"abc20"},{"$f":"IF(OR(SD!G21=\"\"),\"\",SD!G21)","v":"xyz20"},{"$f":"IF(OR(SD!I21=\"\"),\"\",SD!I21)","v":"M"},{"$f":"IF(OR(SD!O21=\"\"),\"\",SD!O21)","v":"SC"},{"$f":"IF(OR(SD!V21=\"\"),\"\",SD!V21)","v":9024679189},{"$f":"IF(SD!D21=\"\",\"\",SD!D21)","v":"2020-07-21"}]
[null,{"$f":"IF(E26=\"\",\"\",ROWS($B$6:B26))","v":21},{"$f":"IF(OR(SD!A22=\"\"),\"\",SD!A22)","v":2},{"$f":"IF(OR(SD!C22=\"\"),\"\",SD!C22)","v":721},{"$f":"IF(OR(SD!E22=\"\"),\"\",SD!E22)","v":"abc21"},{"$f":"IF(OR(SD!G22=\"\"),\"\",SD!G22)","v":"xyz21"},{"$f":"IF(OR(SD!I22=\"\"),\"\",SD!I22)","v":"F"},{"$f":"IF(OR(SD!O22=\"\"),\"\",SD!O22)","v":"OBC"},{"$f":"IF(OR(SD!V22=\"\"),\"\",SD!V22)","v":9784774814},{"$f":"IF(SD!D22=\"\",\"\",SD!D22)","v":"2020-09-04"}]
[null,{"$f":"IF(E27=\"\",\"\",ROWS($B$6:B27))","v":22},{"$f":"IF(OR(SD!A23=\"\"),\"\",SD!A23)","v":2},{"$f":"IF(OR(SD!C23=\"\"),\"\",SD!C23)","v":722},{"$f":"IF(OR(SD!E23=\"\"),\"\",SD!E23)","v":"abc22"},{"$f":"IF(OR(SD!G23=\"\"),\"\",SD!G23)","v":"xyz22"},{"$f":"IF(OR(SD!I23=\"\"),\"\",SD!I23)","v":"M"},{"$f":"IF(OR(SD!O23=\"\"),\"\",SD!O23)","v":"OBC"},{"$f":"IF(OR(SD!V23=\"\"),\"\",SD!V23)","v":9079705265},{"$f":"IF(SD!D23=\"\",\"\",SD!D23)","v":"2020-12-10"}]
[null,{"$f":"IF(E28=\"\",\"\",ROWS($B$6:B28))","v":23},{"$f":"IF(OR(SD!A24=\"\"),\"\",SD!A24)","v":2},{"$f":"IF(OR(SD!C24=\"\"),\"\",SD!C24)","v":723},{"$f":"IF(OR(SD!E24=\"\"),\"\",SD!E24)","v":"abc23"},{"$f":"IF(OR(SD!G24=\"\"),\"\",SD!G24)","v":"xyz23"},{"$f":"IF(OR(SD!I24=\"\"),\"\",SD!I24)","v":"M"},{"$f":"IF(OR(SD!O24=\"\"),\"\",SD!O24)","v":"OBC"},{"$f":"IF(OR(SD!V24=\"\"),\"\",SD!V24)","v":9772503592},{"$f":"IF(SD!D24=\"\",\"\",SD!D24)","v":"2020-07-15"}]
[null,{"$f":"IF(E29=\"\",\"\",ROWS($B$6:B29))","v":24},{"$f":"IF(OR(SD!A25=\"\"),\"\",SD!A25)","v":2},{"$f":"IF(OR(SD!C25=\"\"),\"\",SD!C25)","v":724},{"$f":"IF(OR(SD!E25=\"\"),\"\",SD!E25)","v":"abc24"},{"$f":"IF(OR(SD!G25=\"\"),\"\",SD!G25)","v":"xyz24"},{"$f":"IF(OR(SD!I25=\"\"),\"\",SD!I25)","v":"F"},{"$f":"IF(OR(SD!O25=\"\"),\"\",SD!O25)","v":"SC"},{"$f":"IF(OR(SD!V25=\"\"),\"\",SD!V25)","v":9950150485},{"$f":"IF(SD!D25=\"\",\"\",SD!D25)","v":"2020-08-31"}]
[null,{"$f":"IF(E30=\"\",\"\",ROWS($B$6:B30))","v":25},{"$f":"IF(OR(SD!A26=\"\"),\"\",SD!A26)","v":2},{"$f":"IF(OR(SD!C26=\"\"),\"\",SD!C26)","v":725},{"$f":"IF(OR(SD!E26=\"\"),\"\",SD!E26)","v":"abc25"},{"$f":"IF(OR(SD!G26=\"\"),\"\",SD!G26)","v":"xyz25"},{"$f":"IF(OR(SD!I26=\"\"),\"\",SD!I26)","v":"M"},{"$f":"IF(OR(SD!O26=\"\"),\"\",SD!O26)","v":"SC"},{"$f":"IF(OR(SD!V26=\"\"),\"\",SD!V26)","v":9680325713},{"$f":"IF(SD!D26=\"\",\"\",SD!D26)","v":"2020-09-26"}]
[null,{"$f":"IF(E31=\"\",\"\",ROWS($B$6:B31))","v":26},{"$f":"IF(OR(SD!A27=\"\"),\"\",SD!A27)","v":2},{"$f":"IF(OR(SD!C27=\"\"),\"\",SD!C27)","v":726},{"$f":"IF(OR(SD!E27=\"\"),\"\",SD!E27)","v":"abc26"},{"$f":"IF(OR(SD!G27=\"\"),\"\",SD!G27)","v":"xyz26"},{"$f":"IF(OR(SD!I27=\"\"),\"\",SD!I27)","v":"F"},{"$f":"IF(OR(SD!O27=\"\"),\"\",SD!O27)","v":"OBC"},{"$f":"IF(OR(SD!V27=\"\"),\"\",SD!V27)","v":9788376911},{"$f":"IF(SD!D27=\"\",\"\",SD!D27)","v":"2020-07-29"}]
[null,{"$f":"IF(E32=\"\",\"\",ROWS($B$6:B32))","v":27},{"$f":"IF(OR(SD!A28=\"\"),\"\",SD!A28)","v":2},{"$f":"IF(OR(SD!C28=\"\"),\"\",SD!C28)","v":727},{"$f":"IF(OR(SD!E28=\"\"),\"\",SD!E28)","v":"abc27"},{"$f":"IF(OR(SD!G28=\"\"),\"\",SD!G28)","v":"xyz27"},{"$f":"IF(OR(SD!I28=\"\"),\"\",SD!I28)","v":"M"},{"$f":"IF(OR(SD!O28=\"\"),\"\",SD!O28)","v":"SC"},{"$f":"IF(OR(SD!V28=\"\"),\"\",SD!V28)","v":9351256273},{"$f":"IF(SD!D28=\"\",\"\",SD!D28)","v":"2020-07-24"}]
[null,{"$f":"IF(E33=\"\",\"\",ROWS($B$6:B33))","v":28},{"$f":"IF(OR(SD!A29=\"\"),\"\",SD!A29)","v":2},{"$f":"IF(OR(SD!C29=\"\"),\"\",SD!C29)","v":728},{"$f":"IF(OR(SD!E29=\"\"),\"\",SD!E29)","v":"abc28"},{"$f":"IF(OR(SD!G29=\"\"),\"\",SD!G29)","v":"xyz28"},{"$f":"IF(OR(SD!I29=\"\"),\"\",SD!I29)","v":"F"},{"$f":"IF(OR(SD!O29=\"\"),\"\",SD!O29)","v":"SC"},{"$f":"IF(OR(SD!V29=\"\"),\"\",SD!V29)","v":9206829111},{"$f":"IF(SD!D29=\"\",\"\",SD!D29)","v":"2021-01-04"}]
[null,{"$f":"IF(E34=\"\",\"\",ROWS($B$6:B34))","v":29},{"$f":"IF(OR(SD!A30=\"\"),\"\",SD!A30)","v":2},{"$f":"IF(OR(SD!C30=\"\"),\"\",SD!C30)","v":729},{"$f":"IF(OR(SD!E30=\"\"),\"\",SD!E30)","v":"abc29"},{"$f":"IF(OR(SD!G30=\"\"),\"\",SD!G30)","v":"xyz29"},{"$f":"IF(OR(SD!I30=\"\"),\"\",SD!I30)","v":"M"},{"$f":"IF(OR(SD!O30=\"\"),\"\",SD!O30)","v":"OBC"},{"$f":"IF(OR(SD!V30=\"\"),\"\",SD!V30)","v":9610108283},{"$f":"IF(SD!D30=\"\",\"\",SD!D30)","v":"2021-01-09"}]
[null,{"$f":"IF(E35=\"\",\"\",ROWS($B$6:B35))","v":30},{"$f":"IF(OR(SD!A31=\"\"),\"\",SD!A31)","v":2},{"$f":"IF(OR(SD!C31=\"\"),\"\",SD!C31)","v":730},{"$f":"IF(OR(SD!E31=\"\"),\"\",SD!E31)","v":"abc30"},{"$f":"IF(OR(SD!G31=\"\"),\"\",SD!G31)","v":"xyz30"},{"$f":"IF(OR(SD!I31=\"\"),\"\",SD!I31)","v":"M"},{"$f":"IF(OR(SD!O31=\"\"),\"\",SD!O31)","v":"SC"},{"$f":"IF(OR(SD!V31=\"\"),\"\",SD!V31)","v":8094644268},{"$f":"IF(SD!D31=\"\",\"\",SD!D31)","v":""}]
[null,{"$f":"IF(E36=\"\",\"\",ROWS($B$6:B36))","v":31},{"$f":"IF(OR(SD!A32=\"\"),\"\",SD!A32)","v":2},{"$f":"IF(OR(SD!C32=\"\"),\"\",SD!C32)","v":731},{"$f":"IF(OR(SD!E32=\"\"),\"\",SD!E32)","v":"abc31"},{"$f":"IF(OR(SD!G32=\"\"),\"\",SD!G32)","v":"xyz31"},{"$f":"IF(OR(SD!I32=\"\"),\"\",SD!I32)","v":"F"},{"$f":"IF(OR(SD!O32=\"\"),\"\",SD!O32)","v":"OBC"},{"$f":"IF(OR(SD!V32=\"\"),\"\",SD!V32)","v":7691038210},{"$f":"IF(SD!D32=\"\",\"\",SD!D32)","v":"2020-12-10"}]
[null,{"$f":"IF(E37=\"\",\"\",ROWS($B$6:B37))","v":32},{"$f":"IF(OR(SD!A33=\"\"),\"\",SD!A33)","v":3},{"$f":"IF(OR(SD!C33=\"\"),\"\",SD!C33)","v":732},{"$f":"IF(OR(SD!E33=\"\"),\"\",SD!E33)","v":"abc32"},{"$f":"IF(OR(SD!G33=\"\"),\"\",SD!G33)","v":"xyz32"},{"$f":"IF(OR(SD!I33=\"\"),\"\",SD!I33)","v":"M"},{"$f":"IF(OR(SD!O33=\"\"),\"\",SD!O33)","v":"SC"},{"$f":"IF(OR(SD!V33=\"\"),\"\",SD!V33)","v":9351256273},{"$f":"IF(SD!D33=\"\",\"\",SD!D33)","v":"2020-09-10"}]
[null,{"$f":"IF(E38=\"\",\"\",ROWS($B$6:B38))","v":33},{"$f":"IF(OR(SD!A34=\"\"),\"\",SD!A34)","v":3},{"$f":"IF(OR(SD!C34=\"\"),\"\",SD!C34)","v":733},{"$f":"IF(OR(SD!E34=\"\"),\"\",SD!E34)","v":"abc33"},{"$f":"IF(OR(SD!G34=\"\"),\"\",SD!G34)","v":"xyz33"},{"$f":"IF(OR(SD!I34=\"\"),\"\",SD!I34)","v":"M"},{"$f":"IF(OR(SD!O34=\"\"),\"\",SD!O34)","v":"OBC"},{"$f":"IF(OR(SD!V34=\"\"),\"\",SD!V34)","v":9649322374},{"$f":"IF(SD!D34=\"\",\"\",SD!D34)","v":"2019-07-29"}]
[null,{"$f":"IF(E39=\"\",\"\",ROWS($B$6:B39))","v":34},{"$f":"IF(OR(SD!A35=\"\"),\"\",SD!A35)","v":3},{"$f":"IF(OR(SD!C35=\"\"),\"\",SD!C35)","v":734},{"$f":"IF(OR(SD!E35=\"\"),\"\",SD!E35)","v":"abc34"},{"$f":"IF(OR(SD!G35=\"\"),\"\",SD!G35)","v":"xyz34"},{"$f":"IF(OR(SD!I35=\"\"),\"\",SD!I35)","v":"F"},{"$f":"IF(OR(SD!O35=\"\"),\"\",SD!O35)","v":"OBC"},{"$f":"IF(OR(SD!V35=\"\"),\"\",SD!V35)","v":6378263994},{"$f":"IF(SD!D35=\"\",\"\",SD!D35)","v":"2019-09-16"}]
[null,{"$f":"IF(E40=\"\",\"\",ROWS($B$6:B40))","v":35},{"$f":"IF(OR(SD!A36=\"\"),\"\",SD!A36)","v":3},{"$f":"IF(OR(SD!C36=\"\"),\"\",SD!C36)","v":735},{"$f":"IF(OR(SD!E36=\"\"),\"\",SD!E36)","v":"abc35"},{"$f":"IF(OR(SD!G36=\"\"),\"\",SD!G36)","v":"xyz35"},{"$f":"IF(OR(SD!I36=\"\"),\"\",SD!I36)","v":"F"},{"$f":"IF(OR(SD!O36=\"\"),\"\",SD!O36)","v":"SC"},{"$f":"IF(OR(SD!V36=\"\"),\"\",SD!V36)","v":9887094708},{"$f":"IF(SD!D36=\"\",\"\",SD!D36)","v":"2019-07-09"}]
[null,{"$f":"IF(E41=\"\",\"\",ROWS($B$6:B41))","v":36},{"$f":"IF(OR(SD!A37=\"\"),\"\",SD!A37)","v":3},{"$f":"IF(OR(SD!C37=\"\"),\"\",SD!C37)","v":736},{"$f":"IF(OR(SD!E37=\"\"),\"\",SD!E37)","v":"abc36"},{"$f":"IF(OR(SD!G37=\"\"),\"\",SD!G37)","v":"xyz36"},{"$f":"IF(OR(SD!I37=\"\"),\"\",SD!I37)","v":"F"},{"$f":"IF(OR(SD!O37=\"\"),\"\",SD!O37)","v":"SC"},{"$f":"IF(OR(SD!V37=\"\"),\"\",SD!V37)","v":7073343248},{"$f":"IF(SD!D37=\"\",\"\",SD!D37)","v":"2019-07-16"}]
[null,{"$f":"IF(E42=\"\",\"\",ROWS($B$6:B42))","v":37},{"$f":"IF(OR(SD!A38=\"\"),\"\",SD!A38)","v":3},{"$f":"IF(OR(SD!C38=\"\"),\"\",SD!C38)","v":737},{"$f":"IF(OR(SD!E38=\"\"),\"\",SD!E38)","v":"abc37"},{"$f":"IF(OR(SD!G38=\"\"),\"\",SD!G38)","v":"xyz37"},{"$f":"IF(OR(SD!I38=\"\"),\"\",SD!I38)","v":"F"},{"$f":"IF(OR(SD!O38=\"\"),\"\",SD!O38)","v":"SC"},{"$f":"IF(OR(SD!V38=\"\"),\"\",SD!V38)","v":6350182738},{"$f":"IF(SD!D38=\"\",\"\",SD!D38)","v":"2019-07-27"}]
[null,{"$f":"IF(E43=\"\",\"\",ROWS($B$6:B43))","v":38},{"$f":"IF(OR(SD!A39=\"\"),\"\",SD!A39)","v":3},{"$f":"IF(OR(SD!C39=\"\"),\"\",SD!C39)","v":738},{"$f":"IF(OR(SD!E39=\"\"),\"\",SD!E39)","v":"abc38"},{"$f":"IF(OR(SD!G39=\"\"),\"\",SD!G39)","v":"xyz38"},{"$f":"IF(OR(SD!I39=\"\"),\"\",SD!I39)","v":"F"},{"$f":"IF(OR(SD!O39=\"\"),\"\",SD!O39)","v":"SC"},{"$f":"IF(OR(SD!V39=\"\"),\"\",SD!V39)","v":9982437907},{"$f":"IF(SD!D39=\"\",\"\",SD!D39)","v":"2019-07-06"}]
[null,{"$f":"IF(E44=\"\",\"\",ROWS($B$6:B44))","v":39},{"$f":"IF(OR(SD!A40=\"\"),\"\",SD!A40)","v":3},{"$f":"IF(OR(SD!C40=\"\"),\"\",SD!C40)","v":739},{"$f":"IF(OR(SD!E40=\"\"),\"\",SD!E40)","v":"abc39"},{"$f":"IF(OR(SD!G40=\"\"),\"\",SD!G40)","v":"xyz39"},{"$f":"IF(OR(SD!I40=\"\"),\"\",SD!I40)","v":"F"},{"$f":"IF(OR(SD!O40=\"\"),\"\",SD!O40)","v":"ST"},{"$f":"IF(OR(SD!V40=\"\"),\"\",SD!V40)","v":7727864518},{"$f":"IF(SD!D40=\"\",\"\",SD!D40)","v":"2019-07-22"}]
[null,{"$f":"IF(E45=\"\",\"\",ROWS($B$6:B45))","v":40},{"$f":"IF(OR(SD!A41=\"\"),\"\",SD!A41)","v":3},{"$f":"IF(OR(SD!C41=\"\"),\"\",SD!C41)","v":740},{"$f":"IF(OR(SD!E41=\"\"),\"\",SD!E41)","v":"abc40"},{"$f":"IF(OR(SD!G41=\"\"),\"\",SD!G41)","v":"xyz40"},{"$f":"IF(OR(SD!I41=\"\"),\"\",SD!I41)","v":"M"},{"$f":"IF(OR(SD!O41=\"\"),\"\",SD!O41)","v":"OBC"},{"$f":"IF(OR(SD!V41=\"\"),\"\",SD!V41)","v":9928483704},{"$f":"IF(SD!D41=\"\",\"\",SD!D41)","v":""}]
[null,{"$f":"IF(E46=\"\",\"\",ROWS($B$6:B46))","v":41},{"$f":"IF(OR(SD!A42=\"\"),\"\",SD!A42)","v":3},{"$f":"IF(OR(SD!C42=\"\"),\"\",SD!C42)","v":741},{"$f":"IF(OR(SD!E42=\"\"),\"\",SD!E42)","v":"abc41"},{"$f":"IF(OR(SD!G42=\"\"),\"\",SD!G42)","v":"xyz41"},{"$f":"IF(OR(SD!I42=\"\"),\"\",SD!I42)","v":"F"},{"$f":"IF(OR(SD!O42=\"\"),\"\",SD!O42)","v":"OBC"},{"$f":"IF(OR(SD!V42=\"\"),\"\",SD!V42)","v":9783376911},{"$f":"IF(SD!D42=\"\",\"\",SD!D42)","v":"2019-07-12"}]
[null,{"$f":"IF(E47=\"\",\"\",ROWS($B$6:B47))","v":42},{"$f":"IF(OR(SD!A43=\"\"),\"\",SD!A43)","v":3},{"$f":"IF(OR(SD!C43=\"\"),\"\",SD!C43)","v":742},{"$f":"IF(OR(SD!E43=\"\"),\"\",SD!E43)","v":"abc42"},{"$f":"IF(OR(SD!G43=\"\"),\"\",SD!G43)","v":"xyz42"},{"$f":"IF(OR(SD!I43=\"\"),\"\",SD!I43)","v":"M"},{"$f":"IF(OR(SD!O43=\"\"),\"\",SD!O43)","v":"OBC"},{"$f":"IF(OR(SD!V43=\"\"),\"\",SD!V43)","v":8690539839},{"$f":"IF(SD!D43=\"\",\"\",SD!D43)","v":"2019-07-02"}]
[null,{"$f":"IF(E48=\"\",\"\",ROWS($B$6:B48))","v":43},{"$f":"IF(OR(SD!A44=\"\"),\"\",SD!A44)","v":3},{"$f":"IF(OR(SD!C44=\"\"),\"\",SD!C44)","v":743},{"$f":"IF(OR(SD!E44=\"\"),\"\",SD!E44)","v":"abc43"},{"$f":"IF(OR(SD!G44=\"\"),\"\",SD!G44)","v":"xyz43"},{"$f":"IF(OR(SD!I44=\"\"),\"\",SD!I44)","v":"F"},{"$f":"IF(OR(SD!O44=\"\"),\"\",SD!O44)","v":"SC"},{"$f":"IF(OR(SD!V44=\"\"),\"\",SD!V44)","v":8094644268},{"$f":"IF(SD!D44=\"\",\"\",SD!D44)","v":""}]
[null,{"$f":"IF(E49=\"\",\"\",ROWS($B$6:B49))","v":44},{"$f":"IF(OR(SD!A45=\"\"),\"\",SD!A45)","v":3},{"$f":"IF(OR(SD!C45=\"\"),\"\",SD!C45)","v":744},{"$f":"IF(OR(SD!E45=\"\"),\"\",SD!E45)","v":"abc44"},{"$f":"IF(OR(SD!G45=\"\"),\"\",SD!G45)","v":"xyz44"},{"$f":"IF(OR(SD!I45=\"\"),\"\",SD!I45)","v":"M"},{"$f":"IF(OR(SD!O45=\"\"),\"\",SD!O45)","v":"SC"},{"$f":"IF(OR(SD!V45=\"\"),\"\",SD!V45)","v":6350182738},{"$f":"IF(SD!D45=\"\",\"\",SD!D45)","v":"2019-09-13"}]
[null,{"$f":"IF(E50=\"\",\"\",ROWS($B$6:B50))","v":45},{"$f":"IF(OR(SD!A46=\"\"),\"\",SD!A46)","v":4},{"$f":"IF(OR(SD!C46=\"\"),\"\",SD!C46)","v":745},{"$f":"IF(OR(SD!E46=\"\"),\"\",SD!E46)","v":"abc45"},{"$f":"IF(OR(SD!G46=\"\"),\"\",SD!G46)","v":"xyz45"},{"$f":"IF(OR(SD!I46=\"\"),\"\",SD!I46)","v":"F"},{"$f":"IF(OR(SD!O46=\"\"),\"\",SD!O46)","v":"SC"},{"$f":"IF(OR(SD!V46=\"\"),\"\",SD!V46)","v":9772233178},{"$f":"IF(SD!D46=\"\",\"\",SD!D46)","v":"2018-08-30"}]
[null,{"$f":"IF(E51=\"\",\"\",ROWS($B$6:B51))","v":46},{"$f":"IF(OR(SD!A47=\"\"),\"\",SD!A47)","v":4},{"$f":"IF(OR(SD!C47=\"\"),\"\",SD!C47)","v":746},{"$f":"IF(OR(SD!E47=\"\"),\"\",SD!E47)","v":"abc46"},{"$f":"IF(OR(SD!G47=\"\"),\"\",SD!G47)","v":"xyz46"},{"$f":"IF(OR(SD!I47=\"\"),\"\",SD!I47)","v":"F"},{"$f":"IF(OR(SD!O47=\"\"),\"\",SD!O47)","v":"SC"},{"$f":"IF(OR(SD!V47=\"\"),\"\",SD!V47)","v":7427891268},{"$f":"IF(SD!D47=\"\",\"\",SD!D47)","v":"2019-07-09"}]
[null,{"$f":"IF(E52=\"\",\"\",ROWS($B$6:B52))","v":47},{"$f":"IF(OR(SD!A48=\"\"),\"\",SD!A48)","v":4},{"$f":"IF(OR(SD!C48=\"\"),\"\",SD!C48)","v":747},{"$f":"IF(OR(SD!E48=\"\"),\"\",SD!E48)","v":"abc47"},{"$f":"IF(OR(SD!G48=\"\"),\"\",SD!G48)","v":"xyz47"},{"$f":"IF(OR(SD!I48=\"\"),\"\",SD!I48)","v":"F"},{"$f":"IF(OR(SD!O48=\"\"),\"\",SD!O48)","v":"ST"},{"$f":"IF(OR(SD!V48=\"\"),\"\",SD!V48)","v":9549581239},{"$f":"IF(SD!D48=\"\",\"\",SD!D48)","v":"2018-07-18"}]
[null,{"$f":"IF(E53=\"\",\"\",ROWS($B$6:B53))","v":48},{"$f":"IF(OR(SD!A49=\"\"),\"\",SD!A49)","v":4},{"$f":"IF(OR(SD!C49=\"\"),\"\",SD!C49)","v":748},{"$f":"IF(OR(SD!E49=\"\"),\"\",SD!E49)","v":"abc48"},{"$f":"IF(OR(SD!G49=\"\"),\"\",SD!G49)","v":"xyz48"},{"$f":"IF(OR(SD!I49=\"\"),\"\",SD!I49)","v":"M"},{"$f":"IF(OR(SD!O49=\"\"),\"\",SD!O49)","v":"SC"},{"$f":"IF(OR(SD!V49=\"\"),\"\",SD!V49)","v":9887054335},{"$f":"IF(SD!D49=\"\",\"\",SD!D49)","v":"2018-07-13"}]
[null,{"$f":"IF(E54=\"\",\"\",ROWS($B$6:B54))","v":49},{"$f":"IF(OR(SD!A50=\"\"),\"\",SD!A50)","v":4},{"$f":"IF(OR(SD!C50=\"\"),\"\",SD!C50)","v":749},{"$f":"IF(OR(SD!E50=\"\"),\"\",SD!E50)","v":"abc49"},{"$f":"IF(OR(SD!G50=\"\"),\"\",SD!G50)","v":"xyz49"},{"$f":"IF(OR(SD!I50=\"\"),\"\",SD!I50)","v":"M"},{"$f":"IF(OR(SD!O50=\"\"),\"\",SD!O50)","v":"SC"},{"$f":"IF(OR(SD!V50=\"\"),\"\",SD!V50)","v":6350182738},{"$f":"IF(SD!D50=\"\",\"\",SD!D50)","v":"2019-07-27"}]
[null,{"$f":"IF(E55=\"\",\"\",ROWS($B$6:B55))","v":50},{"$f":"IF(OR(SD!A51=\"\"),\"\",SD!A51)","v":4},{"$f":"IF(OR(SD!C51=\"\"),\"\",SD!C51)","v":750},{"$f":"IF(OR(SD!E51=\"\"),\"\",SD!E51)","v":"abc50"},{"$f":"IF(OR(SD!G51=\"\"),\"\",SD!G51)","v":"xyz50"},{"$f":"IF(OR(SD!I51=\"\"),\"\",SD!I51)","v":"M"},{"$f":"IF(OR(SD!O51=\"\"),\"\",SD!O51)","v":"OBC"},{"$f":"IF(OR(SD!V51=\"\"),\"\",SD!V51)","v":9694022515},{"$f":"IF(SD!D51=\"\",\"\",SD!D51)","v":"2018-07-17"}]
[null,{"$f":"IF(E56=\"\",\"\",ROWS($B$6:B56))","v":51},{"$f":"IF(OR(SD!A52=\"\"),\"\",SD!A52)","v":4},{"$f":"IF(OR(SD!C52=\"\"),\"\",SD!C52)","v":751},{"$f":"IF(OR(SD!E52=\"\"),\"\",SD!E52)","v":"abc51"},{"$f":"IF(OR(SD!G52=\"\"),\"\",SD!G52)","v":"xyz51"},{"$f":"IF(OR(SD!I52=\"\"),\"\",SD!I52)","v":"F"},{"$f":"IF(OR(SD!O52=\"\"),\"\",SD!O52)","v":"OBC"},{"$f":"IF(OR(SD!V52=\"\"),\"\",SD!V52)","v":9610345874},{"$f":"IF(SD!D52=\"\",\"\",SD!D52)","v":"2018-07-03"}]
[null,{"$f":"IF(E57=\"\",\"\",ROWS($B$6:B57))","v":52},{"$f":"IF(OR(SD!A53=\"\"),\"\",SD!A53)","v":4},{"$f":"IF(OR(SD!C53=\"\"),\"\",SD!C53)","v":752},{"$f":"IF(OR(SD!E53=\"\"),\"\",SD!E53)","v":"abc52"},{"$f":"IF(OR(SD!G53=\"\"),\"\",SD!G53)","v":"xyz52"},{"$f":"IF(OR(SD!I53=\"\"),\"\",SD!I53)","v":"M"},{"$f":"IF(OR(SD!O53=\"\"),\"\",SD!O53)","v":"OBC"},{"$f":"IF(OR(SD!V53=\"\"),\"\",SD!V53)","v":9785535274},{"$f":"IF(SD!D53=\"\",\"\",SD!D53)","v":"2018-07-17"}]
[null,{"$f":"IF(E58=\"\",\"\",ROWS($B$6:B58))","v":53},{"$f":"IF(OR(SD!A54=\"\"),\"\",SD!A54)","v":4},{"$f":"IF(OR(SD!C54=\"\"),\"\",SD!C54)","v":753},{"$f":"IF(OR(SD!E54=\"\"),\"\",SD!E54)","v":"abc53"},{"$f":"IF(OR(SD!G54=\"\"),\"\",SD!G54)","v":"xyz53"},{"$f":"IF(OR(SD!I54=\"\"),\"\",SD!I54)","v":"F"},{"$f":"IF(OR(SD!O54=\"\"),\"\",SD!O54)","v":"OBC"},{"$f":"IF(OR(SD!V54=\"\"),\"\",SD!V54)","v":9784774814},{"$f":"IF(SD!D54=\"\",\"\",SD!D54)","v":"2018-07-12"}]
[null,{"$f":"IF(E59=\"\",\"\",ROWS($B$6:B59))","v":54},{"$f":"IF(OR(SD!A55=\"\"),\"\",SD!A55)","v":4},{"$f":"IF(OR(SD!C55=\"\"),\"\",SD!C55)","v":754},{"$f":"IF(OR(SD!E55=\"\"),\"\",SD!E55)","v":"abc54"},{"$f":"IF(OR(SD!G55=\"\"),\"\",SD!G55)","v":"xyz54"},{"$f":"IF(OR(SD!I55=\"\"),\"\",SD!I55)","v":"F"},{"$f":"IF(OR(SD!O55=\"\"),\"\",SD!O55)","v":"OBC"},{"$f":"IF(OR(SD!V55=\"\"),\"\",SD!V55)","v":6367123923},{"$f":"IF(SD!D55=\"\",\"\",SD!D55)","v":"2021-02-05"}]
[null,{"$f":"IF(E60=\"\",\"\",ROWS($B$6:B60))","v":55},{"$f":"IF(OR(SD!A56=\"\"),\"\",SD!A56)","v":4},{"$f":"IF(OR(SD!C56=\"\"),\"\",SD!C56)","v":755},{"$f":"IF(OR(SD!E56=\"\"),\"\",SD!E56)","v":"abc55"},{"$f":"IF(OR(SD!G56=\"\"),\"\",SD!G56)","v":"xyz55"},{"$f":"IF(OR(SD!I56=\"\"),\"\",SD!I56)","v":"F"},{"$f":"IF(OR(SD!O56=\"\"),\"\",SD!O56)","v":"OBC"},{"$f":"IF(OR(SD!V56=\"\"),\"\",SD!V56)","v":9928483704},{"$f":"IF(SD!D56=\"\",\"\",SD!D56)","v":""}]
[null,{"$f":"IF(E61=\"\",\"\",ROWS($B$6:B61))","v":56},{"$f":"IF(OR(SD!A57=\"\"),\"\",SD!A57)","v":4},{"$f":"IF(OR(SD!C57=\"\"),\"\",SD!C57)","v":756},{"$f":"IF(OR(SD!E57=\"\"),\"\",SD!E57)","v":"abc56"},{"$f":"IF(OR(SD!G57=\"\"),\"\",SD!G57)","v":"xyz56"},{"$f":"IF(OR(SD!I57=\"\"),\"\",SD!I57)","v":"M"},{"$f":"IF(OR(SD!O57=\"\"),\"\",SD!O57)","v":"SC"},{"$f":"IF(OR(SD!V57=\"\"),\"\",SD!V57)","v":9983346243},{"$f":"IF(SD!D57=\"\",\"\",SD!D57)","v":"2018-08-07"}]
[null,{"$f":"IF(E62=\"\",\"\",ROWS($B$6:B62))","v":57},{"$f":"IF(OR(SD!A58=\"\"),\"\",SD!A58)","v":4},{"$f":"IF(OR(SD!C58=\"\"),\"\",SD!C58)","v":757},{"$f":"IF(OR(SD!E58=\"\"),\"\",SD!E58)","v":"abc57"},{"$f":"IF(OR(SD!G58=\"\"),\"\",SD!G58)","v":"xyz57"},{"$f":"IF(OR(SD!I58=\"\"),\"\",SD!I58)","v":"F"},{"$f":"IF(OR(SD!O58=\"\"),\"\",SD!O58)","v":"SC"},{"$f":"IF(OR(SD!V58=\"\"),\"\",SD!V58)","v":7073343248},{"$f":"IF(SD!D58=\"\",\"\",SD!D58)","v":"2018-07-04"}]
[null,{"$f":"IF(E63=\"\",\"\",ROWS($B$6:B63))","v":58},{"$f":"IF(OR(SD!A59=\"\"),\"\",SD!A59)","v":4},{"$f":"IF(OR(SD!C59=\"\"),\"\",SD!C59)","v":758},{"$f":"IF(OR(SD!E59=\"\"),\"\",SD!E59)","v":"abc58"},{"$f":"IF(OR(SD!G59=\"\"),\"\",SD!G59)","v":"xyz58"},{"$f":"IF(OR(SD!I59=\"\"),\"\",SD!I59)","v":"M"},{"$f":"IF(OR(SD!O59=\"\"),\"\",SD!O59)","v":"SC"},{"$f":"IF(OR(SD!V59=\"\"),\"\",SD!V59)","v":9887110620},{"$f":"IF(SD!D59=\"\",\"\",SD!D59)","v":"2018-07-20"}]
[null,{"$f":"IF(E64=\"\",\"\",ROWS($B$6:B64))","v":59},{"$f":"IF(OR(SD!A60=\"\"),\"\",SD!A60)","v":4},{"$f":"IF(OR(SD!C60=\"\"),\"\",SD!C60)","v":759},{"$f":"IF(OR(SD!E60=\"\"),\"\",SD!E60)","v":"abc59"},{"$f":"IF(OR(SD!G60=\"\"),\"\",SD!G60)","v":"xyz59"},{"$f":"IF(OR(SD!I60=\"\"),\"\",SD!I60)","v":"M"},{"$f":"IF(OR(SD!O60=\"\"),\"\",SD!O60)","v":"ST"},{"$f":"IF(OR(SD!V60=\"\"),\"\",SD!V60)","v":9549581239},{"$f":"IF(SD!D60=\"\",\"\",SD!D60)","v":"2018-07-18"}]
[null,{"$f":"IF(E65=\"\",\"\",ROWS($B$6:B65))","v":60},{"$f":"IF(OR(SD!A61=\"\"),\"\",SD!A61)","v":4},{"$f":"IF(OR(SD!C61=\"\"),\"\",SD!C61)","v":760},{"$f":"IF(OR(SD!E61=\"\"),\"\",SD!E61)","v":"abc60"},{"$f":"IF(OR(SD!G61=\"\"),\"\",SD!G61)","v":"xyz60"},{"$f":"IF(OR(SD!I61=\"\"),\"\",SD!I61)","v":"M"},{"$f":"IF(OR(SD!O61=\"\"),\"\",SD!O61)","v":"SC"},{"$f":"IF(OR(SD!V61=\"\"),\"\",SD!V61)","v":7690905956},{"$f":"IF(SD!D61=\"\",\"\",SD!D61)","v":"2018-06-29"}]
[null,{"$f":"IF(E66=\"\",\"\",ROWS($B$6:B66))","v":61},{"$f":"IF(OR(SD!A62=\"\"),\"\",SD!A62)","v":5},{"$f":"IF(OR(SD!C62=\"\"),\"\",SD!C62)","v":761},{"$f":"IF(OR(SD!E62=\"\"),\"\",SD!E62)","v":"abc61"},{"$f":"IF(OR(SD!G62=\"\"),\"\",SD!G62)","v":"xyz61"},{"$f":"IF(OR(SD!I62=\"\"),\"\",SD!I62)","v":"F"},{"$f":"IF(OR(SD!O62=\"\"),\"\",SD!O62)","v":"OBC"},{"$f":"IF(OR(SD!V62=\"\"),\"\",SD!V62)","v":9461374675},{"$f":"IF(SD!D62=\"\",\"\",SD!D62)","v":"2017-07-07"}]
[null,{"$f":"IF(E67=\"\",\"\",ROWS($B$6:B67))","v":62},{"$f":"IF(OR(SD!A63=\"\"),\"\",SD!A63)","v":5},{"$f":"IF(OR(SD!C63=\"\"),\"\",SD!C63)","v":762},{"$f":"IF(OR(SD!E63=\"\"),\"\",SD!E63)","v":"abc62"},{"$f":"IF(OR(SD!G63=\"\"),\"\",SD!G63)","v":"xyz62"},{"$f":"IF(OR(SD!I63=\"\"),\"\",SD!I63)","v":"M"},{"$f":"IF(OR(SD!O63=\"\"),\"\",SD!O63)","v":"SC"},{"$f":"IF(OR(SD!V63=\"\"),\"\",SD!V63)","v":9460027632},{"$f":"IF(SD!D63=\"\",\"\",SD!D63)","v":"2017-07-10"}]
[null,{"$f":"IF(E68=\"\",\"\",ROWS($B$6:B68))","v":63},{"$f":"IF(OR(SD!A64=\"\"),\"\",SD!A64)","v":5},{"$f":"IF(OR(SD!C64=\"\"),\"\",SD!C64)","v":763},{"$f":"IF(OR(SD!E64=\"\"),\"\",SD!E64)","v":"abc63"},{"$f":"IF(OR(SD!G64=\"\"),\"\",SD!G64)","v":"xyz63"},{"$f":"IF(OR(SD!I64=\"\"),\"\",SD!I64)","v":"F"},{"$f":"IF(OR(SD!O64=\"\"),\"\",SD!O64)","v":"OBC"},{"$f":"IF(OR(SD!V64=\"\"),\"\",SD!V64)","v":9694703389},{"$f":"IF(SD!D64=\"\",\"\",SD!D64)","v":"2018-07-02"}]
[null,{"$f":"IF(E69=\"\",\"\",ROWS($B$6:B69))","v":64},{"$f":"IF(OR(SD!A65=\"\"),\"\",SD!A65)","v":5},{"$f":"IF(OR(SD!C65=\"\"),\"\",SD!C65)","v":764},{"$f":"IF(OR(SD!E65=\"\"),\"\",SD!E65)","v":"abc64"},{"$f":"IF(OR(SD!G65=\"\"),\"\",SD!G65)","v":"xyz64"},{"$f":"IF(OR(SD!I65=\"\"),\"\",SD!I65)","v":"M"},{"$f":"IF(OR(SD!O65=\"\"),\"\",SD!O65)","v":"OBC"},{"$f":"IF(OR(SD!V65=\"\"),\"\",SD!V65)","v":9694022515},{"$f":"IF(SD!D65=\"\",\"\",SD!D65)","v":"2017-06-27"}]
[null,{"$f":"IF(E70=\"\",\"\",ROWS($B$6:B70))","v":65},{"$f":"IF(OR(SD!A66=\"\"),\"\",SD!A66)","v":5},{"$f":"IF(OR(SD!C66=\"\"),\"\",SD!C66)","v":765},{"$f":"IF(OR(SD!E66=\"\"),\"\",SD!E66)","v":"abc65"},{"$f":"IF(OR(SD!G66=\"\"),\"\",SD!G66)","v":"xyz65"},{"$f":"IF(OR(SD!I66=\"\"),\"\",SD!I66)","v":"F"},{"$f":"IF(OR(SD!O66=\"\"),\"\",SD!O66)","v":"SC"},{"$f":"IF(OR(SD!V66=\"\"),\"\",SD!V66)","v":9636546417},{"$f":"IF(SD!D66=\"\",\"\",SD!D66)","v":"2018-07-05"}]
[null,{"$f":"IF(E71=\"\",\"\",ROWS($B$6:B71))","v":66},{"$f":"IF(OR(SD!A67=\"\"),\"\",SD!A67)","v":5},{"$f":"IF(OR(SD!C67=\"\"),\"\",SD!C67)","v":766},{"$f":"IF(OR(SD!E67=\"\"),\"\",SD!E67)","v":"abc66"},{"$f":"IF(OR(SD!G67=\"\"),\"\",SD!G67)","v":"xyz66"},{"$f":"IF(OR(SD!I67=\"\"),\"\",SD!I67)","v":"F"},{"$f":"IF(OR(SD!O67=\"\"),\"\",SD!O67)","v":"SC"},{"$f":"IF(OR(SD!V67=\"\"),\"\",SD!V67)","v":9887110620},{"$f":"IF(SD!D67=\"\",\"\",SD!D67)","v":"2017-09-19"}]
[null,{"$f":"IF(E72=\"\",\"\",ROWS($B$6:B72))","v":67},{"$f":"IF(OR(SD!A68=\"\"),\"\",SD!A68)","v":5},{"$f":"IF(OR(SD!C68=\"\"),\"\",SD!C68)","v":767},{"$f":"IF(OR(SD!E68=\"\"),\"\",SD!E68)","v":"abc67"},{"$f":"IF(OR(SD!G68=\"\"),\"\",SD!G68)","v":"xyz67"},{"$f":"IF(OR(SD!I68=\"\"),\"\",SD!I68)","v":"F"},{"$f":"IF(OR(SD!O68=\"\"),\"\",SD!O68)","v":"SC"},{"$f":"IF(OR(SD!V68=\"\"),\"\",SD!V68)","v":7691008563},{"$f":"IF(SD!D68=\"\",\"\",SD!D68)","v":"2017-07-15"}]
[null,{"$f":"IF(E73=\"\",\"\",ROWS($B$6:B73))","v":68},{"$f":"IF(OR(SD!A69=\"\"),\"\",SD!A69)","v":5},{"$f":"IF(OR(SD!C69=\"\"),\"\",SD!C69)","v":768},{"$f":"IF(OR(SD!E69=\"\"),\"\",SD!E69)","v":"abc68"},{"$f":"IF(OR(SD!G69=\"\"),\"\",SD!G69)","v":"xyz68"},{"$f":"IF(OR(SD!I69=\"\"),\"\",SD!I69)","v":"M"},{"$f":"IF(OR(SD!O69=\"\"),\"\",SD!O69)","v":"SC"},{"$f":"IF(OR(SD!V69=\"\"),\"\",SD!V69)","v":9958596013},{"$f":"IF(SD!D69=\"\",\"\",SD!D69)","v":"2019-07-06"}]
[null,{"$f":"IF(E74=\"\",\"\",ROWS($B$6:B74))","v":69},{"$f":"IF(OR(SD!A70=\"\"),\"\",SD!A70)","v":5},{"$f":"IF(OR(SD!C70=\"\"),\"\",SD!C70)","v":769},{"$f":"IF(OR(SD!E70=\"\"),\"\",SD!E70)","v":"abc69"},{"$f":"IF(OR(SD!G70=\"\"),\"\",SD!G70)","v":"xyz69"},{"$f":"IF(OR(SD!I70=\"\"),\"\",SD!I70)","v":"M"},{"$f":"IF(OR(SD!O70=\"\"),\"\",SD!O70)","v":"SC"},{"$f":"IF(OR(SD!V70=\"\"),\"\",SD!V70)","v":8239774118},{"$f":"IF(SD!D70=\"\",\"\",SD!D70)","v":"2017-07-17"}]
[null,{"$f":"IF(E75=\"\",\"\",ROWS($B$6:B75))","v":70},{"$f":"IF(OR(SD!A71=\"\"),\"\",SD!A71)","v":5},{"$f":"IF(OR(SD!C71=\"\"),\"\",SD!C71)","v":770},{"$f":"IF(OR(SD!E71=\"\"),\"\",SD!E71)","v":"abc70"},{"$f":"IF(OR(SD!G71=\"\"),\"\",SD!G71)","v":"xyz70"},{"$f":"IF(OR(SD!I71=\"\"),\"\",SD!I71)","v":"M"},{"$f":"IF(OR(SD!O71=\"\"),\"\",SD!O71)","v":"OBC"},{"$f":"IF(OR(SD!V71=\"\"),\"\",SD!V71)","v":9694023515},{"$f":"IF(SD!D71=\"\",\"\",SD!D71)","v":"2017-07-24"}]
[null,{"$f":"IF(E76=\"\",\"\",ROWS($B$6:B76))","v":71},{"$f":"IF(OR(SD!A72=\"\"),\"\",SD!A72)","v":5},{"$f":"IF(OR(SD!C72=\"\"),\"\",SD!C72)","v":771},{"$f":"IF(OR(SD!E72=\"\"),\"\",SD!E72)","v":"abc71"},{"$f":"IF(OR(SD!G72=\"\"),\"\",SD!G72)","v":"xyz71"},{"$f":"IF(OR(SD!I72=\"\"),\"\",SD!I72)","v":"F"},{"$f":"IF(OR(SD!O72=\"\"),\"\",SD!O72)","v":"OBC"},{"$f":"IF(OR(SD!V72=\"\"),\"\",SD!V72)","v":9982676799},{"$f":"IF(SD!D72=\"\",\"\",SD!D72)","v":"2017-07-08"}]
[null,{"$f":"IF(E77=\"\",\"\",ROWS($B$6:B77))","v":72},{"$f":"IF(OR(SD!A73=\"\"),\"\",SD!A73)","v":5},{"$f":"IF(OR(SD!C73=\"\"),\"\",SD!C73)","v":772},{"$f":"IF(OR(SD!E73=\"\"),\"\",SD!E73)","v":"abc72"},{"$f":"IF(OR(SD!G73=\"\"),\"\",SD!G73)","v":"xyz72"},{"$f":"IF(OR(SD!I73=\"\"),\"\",SD!I73)","v":"M"},{"$f":"IF(OR(SD!O73=\"\"),\"\",SD!O73)","v":"SC"},{"$f":"IF(OR(SD!V73=\"\"),\"\",SD!V73)","v":9636546417},{"$f":"IF(SD!D73=\"\",\"\",SD!D73)","v":"2017-07-10"}]
[null,{"$f":"IF(E78=\"\",\"\",ROWS($B$6:B78))","v":73},{"$f":"IF(OR(SD!A74=\"\"),\"\",SD!A74)","v":5},{"$f":"IF(OR(SD!C74=\"\"),\"\",SD!C74)","v":773},{"$f":"IF(OR(SD!E74=\"\"),\"\",SD!E74)","v":"abc73"},{"$f":"IF(OR(SD!G74=\"\"),\"\",SD!G74)","v":"xyz73"},{"$f":"IF(OR(SD!I74=\"\"),\"\",SD!I74)","v":"F"},{"$f":"IF(OR(SD!O74=\"\"),\"\",SD!O74)","v":"OBC"},{"$f":"IF(OR(SD!V74=\"\"),\"\",SD!V74)","v":9929856970},{"$f":"IF(SD!D74=\"\",\"\",SD!D74)","v":"2017-07-07"}]
[null,{"$f":"IF(E79=\"\",\"\",ROWS($B$6:B79))","v":74},{"$f":"IF(OR(SD!A75=\"\"),\"\",SD!A75)","v":5},{"$f":"IF(OR(SD!C75=\"\"),\"\",SD!C75)","v":774},{"$f":"IF(OR(SD!E75=\"\"),\"\",SD!E75)","v":"abc74"},{"$f":"IF(OR(SD!G75=\"\"),\"\",SD!G75)","v":"xyz74"},{"$f":"IF(OR(SD!I75=\"\"),\"\",SD!I75)","v":"F"},{"$f":"IF(OR(SD!O75=\"\"),\"\",SD!O75)","v":"SC"},{"$f":"IF(OR(SD!V75=\"\"),\"\",SD!V75)","v":9587177396},{"$f":"IF(SD!D75=\"\",\"\",SD!D75)","v":"2017-11-25"}]
[null,{"$f":"IF(E80=\"\",\"\",ROWS($B$6:B80))","v":75},{"$f":"IF(OR(SD!A76=\"\"),\"\",SD!A76)","v":5},{"$f":"IF(OR(SD!C76=\"\"),\"\",SD!C76)","v":775},{"$f":"IF(OR(SD!E76=\"\"),\"\",SD!E76)","v":"abc75"},{"$f":"IF(OR(SD!G76=\"\"),\"\",SD!G76)","v":"xyz75"},{"$f":"IF(OR(SD!I76=\"\"),\"\",SD!I76)","v":"F"},{"$f":"IF(OR(SD!O76=\"\"),\"\",SD!O76)","v":"SC"},{"$f":"IF(OR(SD!V76=\"\"),\"\",SD!V76)","v":7427891268},{"$f":"IF(SD!D76=\"\",\"\",SD!D76)","v":"2019-07-05"}]
[null,{"$f":"IF(E81=\"\",\"\",ROWS($B$6:B81))","v":76},{"$f":"IF(OR(SD!A77=\"\"),\"\",SD!A77)","v":5},{"$f":"IF(OR(SD!C77=\"\"),\"\",SD!C77)","v":776},{"$f":"IF(OR(SD!E77=\"\"),\"\",SD!E77)","v":"abc76"},{"$f":"IF(OR(SD!G77=\"\"),\"\",SD!G77)","v":"xyz76"},{"$f":"IF(OR(SD!I77=\"\"),\"\",SD!I77)","v":"M"},{"$f":"IF(OR(SD!O77=\"\"),\"\",SD!O77)","v":"OBC"},{"$f":"IF(OR(SD!V77=\"\"),\"\",SD!V77)","v":9929856970},{"$f":"IF(SD!D77=\"\",\"\",SD!D77)","v":"2017-07-07"}]
[null,{"$f":"IF(E82=\"\",\"\",ROWS($B$6:B82))","v":77},{"$f":"IF(OR(SD!A78=\"\"),\"\",SD!A78)","v":5},{"$f":"IF(OR(SD!C78=\"\"),\"\",SD!C78)","v":777},{"$f":"IF(OR(SD!E78=\"\"),\"\",SD!E78)","v":"abc77"},{"$f":"IF(OR(SD!G78=\"\"),\"\",SD!G78)","v":"xyz77"},{"$f":"IF(OR(SD!I78=\"\"),\"\",SD!I78)","v":"F"},{"$f":"IF(OR(SD!O78=\"\"),\"\",SD!O78)","v":"OBC"},{"$f":"IF(OR(SD!V78=\"\"),\"\",SD!V78)","v":8005918857},{"$f":"IF(SD!D78=\"\",\"\",SD!D78)","v":"2021-01-02"}]
[null,{"$f":"IF(E83=\"\",\"\",ROWS($B$6:B83))","v":78},{"$f":"IF(OR(SD!A79=\"\"),\"\",SD!A79)","v":6},{"$f":"IF(OR(SD!C79=\"\"),\"\",SD!C79)","v":778},{"$f":"IF(OR(SD!E79=\"\"),\"\",SD!E79)","v":"abc78"},{"$f":"IF(OR(SD!G79=\"\"),\"\",SD!G79)","v":"xyz78"},{"$f":"IF(OR(SD!I79=\"\"),\"\",SD!I79)","v":"F"},{"$f":"IF(OR(SD!O79=\"\"),\"\",SD!O79)","v":"OBC"},{"$f":"IF(OR(SD!V79=\"\"),\"\",SD!V79)","v":6376182311},{"$f":"IF(SD!D79=\"\",\"\",SD!D79)","v":"2021-01-05"}]
[null,{"$f":"IF(E84=\"\",\"\",ROWS($B$6:B84))","v":79},{"$f":"IF(OR(SD!A80=\"\"),\"\",SD!A80)","v":6},{"$f":"IF(OR(SD!C80=\"\"),\"\",SD!C80)","v":779},{"$f":"IF(OR(SD!E80=\"\"),\"\",SD!E80)","v":"abc79"},{"$f":"IF(OR(SD!G80=\"\"),\"\",SD!G80)","v":"xyz79"},{"$f":"IF(OR(SD!I80=\"\"),\"\",SD!I80)","v":"M"},{"$f":"IF(OR(SD!O80=\"\"),\"\",SD!O80)","v":"OBC"},{"$f":"IF(OR(SD!V80=\"\"),\"\",SD!V80)","v":9352891172},{"$f":"IF(SD!D80=\"\",\"\",SD!D80)","v":"2016-05-02"}]
[null,{"$f":"IF(E85=\"\",\"\",ROWS($B$6:B85))","v":80},{"$f":"IF(OR(SD!A81=\"\"),\"\",SD!A81)","v":6},{"$f":"IF(OR(SD!C81=\"\"),\"\",SD!C81)","v":780},{"$f":"IF(OR(SD!E81=\"\"),\"\",SD!E81)","v":"abc80"},{"$f":"IF(OR(SD!G81=\"\"),\"\",SD!G81)","v":"xyz80"},{"$f":"IF(OR(SD!I81=\"\"),\"\",SD!I81)","v":"M"},{"$f":"IF(OR(SD!O81=\"\"),\"\",SD!O81)","v":"OBC"},{"$f":"IF(OR(SD!V81=\"\"),\"\",SD!V81)","v":7737282798},{"$f":"IF(SD!D81=\"\",\"\",SD!D81)","v":"2016-05-02"}]
[null,{"$f":"IF(E86=\"\",\"\",ROWS($B$6:B86))","v":81},{"$f":"IF(OR(SD!A82=\"\"),\"\",SD!A82)","v":6},{"$f":"IF(OR(SD!C82=\"\"),\"\",SD!C82)","v":781},{"$f":"IF(OR(SD!E82=\"\"),\"\",SD!E82)","v":"abc81"},{"$f":"IF(OR(SD!G82=\"\"),\"\",SD!G82)","v":"xyz81"},{"$f":"IF(OR(SD!I82=\"\"),\"\",SD!I82)","v":"F"},{"$f":"IF(OR(SD!O82=\"\"),\"\",SD!O82)","v":"ST"},{"$f":"IF(OR(SD!V82=\"\"),\"\",SD!V82)","v":7727864518},{"$f":"IF(SD!D82=\"\",\"\",SD!D82)","v":"2016-08-06"}]
[null,{"$f":"IF(E87=\"\",\"\",ROWS($B$6:B87))","v":82},{"$f":"IF(OR(SD!A83=\"\"),\"\",SD!A83)","v":6},{"$f":"IF(OR(SD!C83=\"\"),\"\",SD!C83)","v":782},{"$f":"IF(OR(SD!E83=\"\"),\"\",SD!E83)","v":"abc82"},{"$f":"IF(OR(SD!G83=\"\"),\"\",SD!G83)","v":"xyz82"},{"$f":"IF(OR(SD!I83=\"\"),\"\",SD!I83)","v":"F"},{"$f":"IF(OR(SD!O83=\"\"),\"\",SD!O83)","v":"OBC"},{"$f":"IF(OR(SD!V83=\"\"),\"\",SD!V83)","v":9828590897},{"$f":"IF(SD!D83=\"\",\"\",SD!D83)","v":"2016-05-09"}]
[null,{"$f":"IF(E88=\"\",\"\",ROWS($B$6:B88))","v":83},{"$f":"IF(OR(SD!A84=\"\"),\"\",SD!A84)","v":6},{"$f":"IF(OR(SD!C84=\"\"),\"\",SD!C84)","v":783},{"$f":"IF(OR(SD!E84=\"\"),\"\",SD!E84)","v":"abc83"},{"$f":"IF(OR(SD!G84=\"\"),\"\",SD!G84)","v":"xyz83"},{"$f":"IF(OR(SD!I84=\"\"),\"\",SD!I84)","v":"F"},{"$f":"IF(OR(SD!O84=\"\"),\"\",SD!O84)","v":"ST"},{"$f":"IF(OR(SD!V84=\"\"),\"\",SD!V84)","v":7727864518},{"$f":"IF(SD!D84=\"\",\"\",SD!D84)","v":"2016-08-06"}]
[null,{"$f":"IF(E89=\"\",\"\",ROWS($B$6:B89))","v":84},{"$f":"IF(OR(SD!A85=\"\"),\"\",SD!A85)","v":6},{"$f":"IF(OR(SD!C85=\"\"),\"\",SD!C85)","v":784},{"$f":"IF(OR(SD!E85=\"\"),\"\",SD!E85)","v":"abc84"},{"$f":"IF(OR(SD!G85=\"\"),\"\",SD!G85)","v":"xyz84"},{"$f":"IF(OR(SD!I85=\"\"),\"\",SD!I85)","v":"M"},{"$f":"IF(OR(SD!O85=\"\"),\"\",SD!O85)","v":"SC"},{"$f":"IF(OR(SD!V85=\"\"),\"\",SD!V85)","v":9079474334},{"$f":"IF(SD!D85=\"\",\"\",SD!D85)","v":"2016-07-04"}]
[null,{"$f":"IF(E90=\"\",\"\",ROWS($B$6:B90))","v":85},{"$f":"IF(OR(SD!A86=\"\"),\"\",SD!A86)","v":6},{"$f":"IF(OR(SD!C86=\"\"),\"\",SD!C86)","v":785},{"$f":"IF(OR(SD!E86=\"\"),\"\",SD!E86)","v":"abc85"},{"$f":"IF(OR(SD!G86=\"\"),\"\",SD!G86)","v":"xyz85"},{"$f":"IF(OR(SD!I86=\"\"),\"\",SD!I86)","v":"F"},{"$f":"IF(OR(SD!O86=\"\"),\"\",SD!O86)","v":"OBC"},{"$f":"IF(OR(SD!V86=\"\"),\"\",SD!V86)","v":9610108283},{"$f":"IF(SD!D86=\"\",\"\",SD!D86)","v":"2021-01-09"}]
[null,{"$f":"IF(E91=\"\",\"\",ROWS($B$6:B91))","v":86},{"$f":"IF(OR(SD!A87=\"\"),\"\",SD!A87)","v":6},{"$f":"IF(OR(SD!C87=\"\"),\"\",SD!C87)","v":786},{"$f":"IF(OR(SD!E87=\"\"),\"\",SD!E87)","v":"abc86"},{"$f":"IF(OR(SD!G87=\"\"),\"\",SD!G87)","v":"xyz86"},{"$f":"IF(OR(SD!I87=\"\"),\"\",SD!I87)","v":"F"},{"$f":"IF(OR(SD!O87=\"\"),\"\",SD!O87)","v":"OBC"},{"$f":"IF(OR(SD!V87=\"\"),\"\",SD!V87)","v":9784774814},{"$f":"IF(SD!D87=\"\",\"\",SD!D87)","v":"2017-07-13"}]
[null,{"$f":"IF(E92=\"\",\"\",ROWS($B$6:B92))","v":87},{"$f":"IF(OR(SD!A88=\"\"),\"\",SD!A88)","v":6},{"$f":"IF(OR(SD!C88=\"\"),\"\",SD!C88)","v":787},{"$f":"IF(OR(SD!E88=\"\"),\"\",SD!E88)","v":"abc87"},{"$f":"IF(OR(SD!G88=\"\"),\"\",SD!G88)","v":"xyz87"},{"$f":"IF(OR(SD!I88=\"\"),\"\",SD!I88)","v":"F"},{"$f":"IF(OR(SD!O88=\"\"),\"\",SD!O88)","v":"OBC"},{"$f":"IF(OR(SD!V88=\"\"),\"\",SD!V88)","v":7737282798},{"$f":"IF(SD!D88=\"\",\"\",SD!D88)","v":"2016-10-18"}]
[null,{"$f":"IF(E93=\"\",\"\",ROWS($B$6:B93))","v":88},{"$f":"IF(OR(SD!A89=\"\"),\"\",SD!A89)","v":6},{"$f":"IF(OR(SD!C89=\"\"),\"\",SD!C89)","v":788},{"$f":"IF(OR(SD!E89=\"\"),\"\",SD!E89)","v":"abc88"},{"$f":"IF(OR(SD!G89=\"\"),\"\",SD!G89)","v":"xyz88"},{"$f":"IF(OR(SD!I89=\"\"),\"\",SD!I89)","v":"M"},{"$f":"IF(OR(SD!O89=\"\"),\"\",SD!O89)","v":"OBC"},{"$f":"IF(OR(SD!V89=\"\"),\"\",SD!V89)","v":9982492186},{"$f":"IF(SD!D89=\"\",\"\",SD!D89)","v":"2017-07-31"}]
[null,{"$f":"IF(E94=\"\",\"\",ROWS($B$6:B94))","v":89},{"$f":"IF(OR(SD!A90=\"\"),\"\",SD!A90)","v":6},{"$f":"IF(OR(SD!C90=\"\"),\"\",SD!C90)","v":789},{"$f":"IF(OR(SD!E90=\"\"),\"\",SD!E90)","v":"abc89"},{"$f":"IF(OR(SD!G90=\"\"),\"\",SD!G90)","v":"xyz89"},{"$f":"IF(OR(SD!I90=\"\"),\"\",SD!I90)","v":"F"},{"$f":"IF(OR(SD!O90=\"\"),\"\",SD!O90)","v":"SC"},{"$f":"IF(OR(SD!V90=\"\"),\"\",SD!V90)","v":9982437907},{"$f":"IF(SD!D90=\"\",\"\",SD!D90)","v":"2016-05-09"}]
[null,{"$f":"IF(E95=\"\",\"\",ROWS($B$6:B95))","v":90},{"$f":"IF(OR(SD!A91=\"\"),\"\",SD!A91)","v":6},{"$f":"IF(OR(SD!C91=\"\"),\"\",SD!C91)","v":790},{"$f":"IF(OR(SD!E91=\"\"),\"\",SD!E91)","v":"abc90"},{"$f":"IF(OR(SD!G91=\"\"),\"\",SD!G91)","v":"xyz90"},{"$f":"IF(OR(SD!I91=\"\"),\"\",SD!I91)","v":"F"},{"$f":"IF(OR(SD!O91=\"\"),\"\",SD!O91)","v":"OBC"},{"$f":"IF(OR(SD!V91=\"\"),\"\",SD!V91)","v":9982415519},{"$f":"IF(SD!D91=\"\",\"\",SD!D91)","v":"2016-08-29"}]
[null,{"$f":"IF(E96=\"\",\"\",ROWS($B$6:B96))","v":91},{"$f":"IF(OR(SD!A92=\"\"),\"\",SD!A92)","v":6},{"$f":"IF(OR(SD!C92=\"\"),\"\",SD!C92)","v":791},{"$f":"IF(OR(SD!E92=\"\"),\"\",SD!E92)","v":"abc91"},{"$f":"IF(OR(SD!G92=\"\"),\"\",SD!G92)","v":"xyz91"},{"$f":"IF(OR(SD!I92=\"\"),\"\",SD!I92)","v":"M"},{"$f":"IF(OR(SD!O92=\"\"),\"\",SD!O92)","v":"OBC"},{"$f":"IF(OR(SD!V92=\"\"),\"\",SD!V92)","v":7690906086},{"$f":"IF(SD!D92=\"\",\"\",SD!D92)","v":"2016-07-08"}]
[null,{"$f":"IF(E97=\"\",\"\",ROWS($B$6:B97))","v":92},{"$f":"IF(OR(SD!A93=\"\"),\"\",SD!A93)","v":6},{"$f":"IF(OR(SD!C93=\"\"),\"\",SD!C93)","v":792},{"$f":"IF(OR(SD!E93=\"\"),\"\",SD!E93)","v":"abc92"},{"$f":"IF(OR(SD!G93=\"\"),\"\",SD!G93)","v":"xyz92"},{"$f":"IF(OR(SD!I93=\"\"),\"\",SD!I93)","v":"F"},{"$f":"IF(OR(SD!O93=\"\"),\"\",SD!O93)","v":"SC"},{"$f":"IF(OR(SD!V93=\"\"),\"\",SD!V93)","v":9983226240},{"$f":"IF(SD!D93=\"\",\"\",SD!D93)","v":"2016-06-27"}]
[null,{"$f":"IF(E98=\"\",\"\",ROWS($B$6:B98))","v":93},{"$f":"IF(OR(SD!A94=\"\"),\"\",SD!A94)","v":6},{"$f":"IF(OR(SD!C94=\"\"),\"\",SD!C94)","v":793},{"$f":"IF(OR(SD!E94=\"\"),\"\",SD!E94)","v":"abc93"},{"$f":"IF(OR(SD!G94=\"\"),\"\",SD!G94)","v":"xyz93"},{"$f":"IF(OR(SD!I94=\"\"),\"\",SD!I94)","v":"F"},{"$f":"IF(OR(SD!O94=\"\"),\"\",SD!O94)","v":"SC"},{"$f":"IF(OR(SD!V94=\"\"),\"\",SD!V94)","v":9785271820},{"$f":"IF(SD!D94=\"\",\"\",SD!D94)","v":"2018-07-20"}]
[null,{"$f":"IF(E99=\"\",\"\",ROWS($B$6:B99))","v":94},{"$f":"IF(OR(SD!A95=\"\"),\"\",SD!A95)","v":6},{"$f":"IF(OR(SD!C95=\"\"),\"\",SD!C95)","v":794},{"$f":"IF(OR(SD!E95=\"\"),\"\",SD!E95)","v":"abc94"},{"$f":"IF(OR(SD!G95=\"\"),\"\",SD!G95)","v":"xyz94"},{"$f":"IF(OR(SD!I95=\"\"),\"\",SD!I95)","v":"F"},{"$f":"IF(OR(SD!O95=\"\"),\"\",SD!O95)","v":"OBC"},{"$f":"IF(OR(SD!V95=\"\"),\"\",SD!V95)","v":8094875353},{"$f":"IF(SD!D95=\"\",\"\",SD!D95)","v":"2016-11-12"}]
[null,{"$f":"IF(E100=\"\",\"\",ROWS($B$6:B100))","v":95},{"$f":"IF(OR(SD!A96=\"\"),\"\",SD!A96)","v":6},{"$f":"IF(OR(SD!C96=\"\"),\"\",SD!C96)","v":795},{"$f":"IF(OR(SD!E96=\"\"),\"\",SD!E96)","v":"abc95"},{"$f":"IF(OR(SD!G96=\"\"),\"\",SD!G96)","v":"xyz95"},{"$f":"IF(OR(SD!I96=\"\"),\"\",SD!I96)","v":"F"},{"$f":"IF(OR(SD!O96=\"\"),\"\",SD!O96)","v":"SC"},{"$f":"IF(OR(SD!V96=\"\"),\"\",SD!V96)","v":9521366396},{"$f":"IF(SD!D96=\"\",\"\",SD!D96)","v":"2017-07-13"}]
[null,{"$f":"IF(E101=\"\",\"\",ROWS($B$6:B101))","v":96},{"$f":"IF(OR(SD!A97=\"\"),\"\",SD!A97)","v":6},{"$f":"IF(OR(SD!C97=\"\"),\"\",SD!C97)","v":796},{"$f":"IF(OR(SD!E97=\"\"),\"\",SD!E97)","v":"abc96"},{"$f":"IF(OR(SD!G97=\"\"),\"\",SD!G97)","v":"xyz96"},{"$f":"IF(OR(SD!I97=\"\"),\"\",SD!I97)","v":"F"},{"$f":"IF(OR(SD!O97=\"\"),\"\",SD!O97)","v":"SC"},{"$f":"IF(OR(SD!V97=\"\"),\"\",SD!V97)","v":9358596013},{"$f":"IF(SD!D97=\"\",\"\",SD!D97)","v":"2019-07-06"}]
[null,{"$f":"IF(E102=\"\",\"\",ROWS($B$6:B102))","v":97},{"$f":"IF(OR(SD!A98=\"\"),\"\",SD!A98)","v":6},{"$f":"IF(OR(SD!C98=\"\"),\"\",SD!C98)","v":797},{"$f":"IF(OR(SD!E98=\"\"),\"\",SD!E98)","v":"abc97"},{"$f":"IF(OR(SD!G98=\"\"),\"\",SD!G98)","v":"xyz97"},{"$f":"IF(OR(SD!I98=\"\"),\"\",SD!I98)","v":"F"},{"$f":"IF(OR(SD!O98=\"\"),\"\",SD!O98)","v":"OBC"},{"$f":"IF(OR(SD!V98=\"\"),\"\",SD!V98)","v":8441074083},{"$f":"IF(SD!D98=\"\",\"\",SD!D98)","v":"2016-07-08"}]
[null,{"$f":"IF(E103=\"\",\"\",ROWS($B$6:B103))","v":98},{"$f":"IF(OR(SD!A99=\"\"),\"\",SD!A99)","v":6},{"$f":"IF(OR(SD!C99=\"\"),\"\",SD!C99)","v":798},{"$f":"IF(OR(SD!E99=\"\"),\"\",SD!E99)","v":"abc98"},{"$f":"IF(OR(SD!G99=\"\"),\"\",SD!G99)","v":"xyz98"},{"$f":"IF(OR(SD!I99=\"\"),\"\",SD!I99)","v":"F"},{"$f":"IF(OR(SD!O99=\"\"),\"\",SD!O99)","v":"OBC"},{"$f":"IF(OR(SD!V99=\"\"),\"\",SD!V99)","v":9982723696},{"$f":"IF(SD!D99=\"\",\"\",SD!D99)","v":"2016-05-02"}]
[null,{"$f":"IF(E104=\"\",\"\",ROWS($B$6:B104))","v":99},{"$f":"IF(OR(SD!A100=\"\"),\"\",SD!A100)","v":6},{"$f":"IF(OR(SD!C100=\"\"),\"\",SD!C100)","v":799},{"$f":"IF(OR(SD!E100=\"\"),\"\",SD!E100)","v":"abc99"},{"$f":"IF(OR(SD!G100=\"\"),\"\",SD!G100)","v":"xyz99"},{"$f":"IF(OR(SD!I100=\"\"),\"\",SD!I100)","v":"M"},{"$f":"IF(OR(SD!O100=\"\"),\"\",SD!O100)","v":"SC"},{"$f":"IF(OR(SD!V100=\"\"),\"\",SD!V100)","v":9351256273},{"$f":"IF(SD!D100=\"\",\"\",SD!D100)","v":"2019-08-01"}]
[null,{"$f":"IF(E105=\"\",\"\",ROWS($B$6:B105))","v":100},{"$f":"IF(OR(SD!A101=\"\"),\"\",SD!A101)","v":6},{"$f":"IF(OR(SD!C101=\"\"),\"\",SD!C101)","v":800},{"$f":"IF(OR(SD!E101=\"\"),\"\",SD!E101)","v":"abc100"},{"$f":"IF(OR(SD!G101=\"\"),\"\",SD!G101)","v":"xyz100"},{"$f":"IF(OR(SD!I101=\"\"),\"\",SD!I101)","v":"M"},{"$f":"IF(OR(SD!O101=\"\"),\"\",SD!O101)","v":"SC"},{"$f":"IF(OR(SD!V101=\"\"),\"\",SD!V101)","v":9509690166},{"$f":"IF(SD!D101=\"\",\"\",SD!D101)","v":"2020-07-11"}]
[null,{"$f":"IF(E106=\"\",\"\",ROWS($B$6:B106))","v":101},{"$f":"IF(OR(SD!A102=\"\"),\"\",SD!A102)","v":7},{"$f":"IF(OR(SD!C102=\"\"),\"\",SD!C102)","v":801},{"$f":"IF(OR(SD!E102=\"\"),\"\",SD!E102)","v":"abc101"},{"$f":"IF(OR(SD!G102=\"\"),\"\",SD!G102)","v":"xyz101"},{"$f":"IF(OR(SD!I102=\"\"),\"\",SD!I102)","v":"F"},{"$f":"IF(OR(SD!O102=\"\"),\"\",SD!O102)","v":"SC"},{"$f":"IF(OR(SD!V102=\"\"),\"\",SD!V102)","v":7691008563},{"$f":"IF(SD!D102=\"\",\"\",SD!D102)","v":"2015-07-06"}]
[null,{"$f":"IF(E107=\"\",\"\",ROWS($B$6:B107))","v":102},{"$f":"IF(OR(SD!A103=\"\"),\"\",SD!A103)","v":7},{"$f":"IF(OR(SD!C103=\"\"),\"\",SD!C103)","v":802},{"$f":"IF(OR(SD!E103=\"\"),\"\",SD!E103)","v":"abc102"},{"$f":"IF(OR(SD!G103=\"\"),\"\",SD!G103)","v":"xyz102"},{"$f":"IF(OR(SD!I103=\"\"),\"\",SD!I103)","v":"M"},{"$f":"IF(OR(SD!O103=\"\"),\"\",SD!O103)","v":"SC"},{"$f":"IF(OR(SD!V103=\"\"),\"\",SD!V103)","v":9351194292},{"$f":"IF(SD!D103=\"\",\"\",SD!D103)","v":"2015-07-15"}]
[null,{"$f":"IF(E108=\"\",\"\",ROWS($B$6:B108))","v":103},{"$f":"IF(OR(SD!A104=\"\"),\"\",SD!A104)","v":7},{"$f":"IF(OR(SD!C104=\"\"),\"\",SD!C104)","v":803},{"$f":"IF(OR(SD!E104=\"\"),\"\",SD!E104)","v":"abc103"},{"$f":"IF(OR(SD!G104=\"\"),\"\",SD!G104)","v":"xyz103"},{"$f":"IF(OR(SD!I104=\"\"),\"\",SD!I104)","v":"F"},{"$f":"IF(OR(SD!O104=\"\"),\"\",SD!O104)","v":"SC"},{"$f":"IF(OR(SD!V104=\"\"),\"\",SD!V104)","v":9358596013},{"$f":"IF(SD!D104=\"\",\"\",SD!D104)","v":"2019-07-06"}]
[null,{"$f":"IF(E109=\"\",\"\",ROWS($B$6:B109))","v":104},{"$f":"IF(OR(SD!A105=\"\"),\"\",SD!A105)","v":7},{"$f":"IF(OR(SD!C105=\"\"),\"\",SD!C105)","v":804},{"$f":"IF(OR(SD!E105=\"\"),\"\",SD!E105)","v":"abc104"},{"$f":"IF(OR(SD!G105=\"\"),\"\",SD!G105)","v":"xyz104"},{"$f":"IF(OR(SD!I105=\"\"),\"\",SD!I105)","v":"M"},{"$f":"IF(OR(SD!O105=\"\"),\"\",SD!O105)","v":"SC"},{"$f":"IF(OR(SD!V105=\"\"),\"\",SD!V105)","v":6378325526},{"$f":"IF(SD!D105=\"\",\"\",SD!D105)","v":"2019-07-15"}]
[null,{"$f":"IF(E110=\"\",\"\",ROWS($B$6:B110))","v":105},{"$f":"IF(OR(SD!A106=\"\"),\"\",SD!A106)","v":7},{"$f":"IF(OR(SD!C106=\"\"),\"\",SD!C106)","v":805},{"$f":"IF(OR(SD!E106=\"\"),\"\",SD!E106)","v":"abc105"},{"$f":"IF(OR(SD!G106=\"\"),\"\",SD!G106)","v":"xyz105"},{"$f":"IF(OR(SD!I106=\"\"),\"\",SD!I106)","v":"M"},{"$f":"IF(OR(SD!O106=\"\"),\"\",SD!O106)","v":"SC"},{"$f":"IF(OR(SD!V106=\"\"),\"\",SD!V106)","v":6376539886},{"$f":"IF(SD!D106=\"\",\"\",SD!D106)","v":"2020-07-21"}]
[null,{"$f":"IF(E111=\"\",\"\",ROWS($B$6:B111))","v":106},{"$f":"IF(OR(SD!A107=\"\"),\"\",SD!A107)","v":7},{"$f":"IF(OR(SD!C107=\"\"),\"\",SD!C107)","v":806},{"$f":"IF(OR(SD!E107=\"\"),\"\",SD!E107)","v":"abc106"},{"$f":"IF(OR(SD!G107=\"\"),\"\",SD!G107)","v":"xyz106"},{"$f":"IF(OR(SD!I107=\"\"),\"\",SD!I107)","v":"M"},{"$f":"IF(OR(SD!O107=\"\"),\"\",SD!O107)","v":"OBC"},{"$f":"IF(OR(SD!V107=\"\"),\"\",SD!V107)","v":9928483704},{"$f":"IF(SD!D107=\"\",\"\",SD!D107)","v":""}]
[null,{"$f":"IF(E112=\"\",\"\",ROWS($B$6:B112))","v":107},{"$f":"IF(OR(SD!A108=\"\"),\"\",SD!A108)","v":7},{"$f":"IF(OR(SD!C108=\"\"),\"\",SD!C108)","v":807},{"$f":"IF(OR(SD!E108=\"\"),\"\",SD!E108)","v":"abc107"},{"$f":"IF(OR(SD!G108=\"\"),\"\",SD!G108)","v":"xyz107"},{"$f":"IF(OR(SD!I108=\"\"),\"\",SD!I108)","v":"F"},{"$f":"IF(OR(SD!O108=\"\"),\"\",SD!O108)","v":"SC"},{"$f":"IF(OR(SD!V108=\"\"),\"\",SD!V108)","v":9549581239},{"$f":"IF(SD!D108=\"\",\"\",SD!D108)","v":"2016-07-15"}]
[null,{"$f":"IF(E113=\"\",\"\",ROWS($B$6:B113))","v":108},{"$f":"IF(OR(SD!A109=\"\"),\"\",SD!A109)","v":7},{"$f":"IF(OR(SD!C109=\"\"),\"\",SD!C109)","v":808},{"$f":"IF(OR(SD!E109=\"\"),\"\",SD!E109)","v":"abc108"},{"$f":"IF(OR(SD!G109=\"\"),\"\",SD!G109)","v":"xyz108"},{"$f":"IF(OR(SD!I109=\"\"),\"\",SD!I109)","v":"M"},{"$f":"IF(OR(SD!O109=\"\"),\"\",SD!O109)","v":"OBC"},{"$f":"IF(OR(SD!V109=\"\"),\"\",SD!V109)","v":8094737717},{"$f":"IF(SD!D109=\"\",\"\",SD!D109)","v":"2020-12-05"}]
[null,{"$f":"IF(E114=\"\",\"\",ROWS($B$6:B114))","v":109},{"$f":"IF(OR(SD!A110=\"\"),\"\",SD!A110)","v":7},{"$f":"IF(OR(SD!C110=\"\"),\"\",SD!C110)","v":809},{"$f":"IF(OR(SD!E110=\"\"),\"\",SD!E110)","v":"abc109"},{"$f":"IF(OR(SD!G110=\"\"),\"\",SD!G110)","v":"xyz109"},{"$f":"IF(OR(SD!I110=\"\"),\"\",SD!I110)","v":"F"},{"$f":"IF(OR(SD!O110=\"\"),\"\",SD!O110)","v":"SC"},{"$f":"IF(OR(SD!V110=\"\"),\"\",SD!V110)","v":9982296986},{"$f":"IF(SD!D110=\"\",\"\",SD!D110)","v":"2016-07-20"}]
[null,{"$f":"IF(E115=\"\",\"\",ROWS($B$6:B115))","v":110},{"$f":"IF(OR(SD!A111=\"\"),\"\",SD!A111)","v":7},{"$f":"IF(OR(SD!C111=\"\"),\"\",SD!C111)","v":810},{"$f":"IF(OR(SD!E111=\"\"),\"\",SD!E111)","v":"abc110"},{"$f":"IF(OR(SD!G111=\"\"),\"\",SD!G111)","v":"xyz110"},{"$f":"IF(OR(SD!I111=\"\"),\"\",SD!I111)","v":"M"},{"$f":"IF(OR(SD!O111=\"\"),\"\",SD!O111)","v":"OBC"},{"$f":"IF(OR(SD!V111=\"\"),\"\",SD!V111)","v":9785535274},{"$f":"IF(SD!D111=\"\",\"\",SD!D111)","v":"2018-07-17"}]
[null,{"$f":"IF(E116=\"\",\"\",ROWS($B$6:B116))","v":111},{"$f":"IF(OR(SD!A112=\"\"),\"\",SD!A112)","v":7},{"$f":"IF(OR(SD!C112=\"\"),\"\",SD!C112)","v":811},{"$f":"IF(OR(SD!E112=\"\"),\"\",SD!E112)","v":"abc111"},{"$f":"IF(OR(SD!G112=\"\"),\"\",SD!G112)","v":"xyz111"},{"$f":"IF(OR(SD!I112=\"\"),\"\",SD!I112)","v":"F"},{"$f":"IF(OR(SD!O112=\"\"),\"\",SD!O112)","v":"ST"},{"$f":"IF(OR(SD!V112=\"\"),\"\",SD!V112)","v":9783280658},{"$f":"IF(SD!D112=\"\",\"\",SD!D112)","v":"2020-08-07"}]
[null,{"$f":"IF(E117=\"\",\"\",ROWS($B$6:B117))","v":112},{"$f":"IF(OR(SD!A113=\"\"),\"\",SD!A113)","v":7},{"$f":"IF(OR(SD!C113=\"\"),\"\",SD!C113)","v":812},{"$f":"IF(OR(SD!E113=\"\"),\"\",SD!E113)","v":"abc112"},{"$f":"IF(OR(SD!G113=\"\"),\"\",SD!G113)","v":"xyz112"},{"$f":"IF(OR(SD!I113=\"\"),\"\",SD!I113)","v":"F"},{"$f":"IF(OR(SD!O113=\"\"),\"\",SD!O113)","v":"OBC"},{"$f":"IF(OR(SD!V113=\"\"),\"\",SD!V113)","v":9784774814},{"$f":"IF(SD!D113=\"\",\"\",SD!D113)","v":"2017-07-11"}]
[null,{"$f":"IF(E118=\"\",\"\",ROWS($B$6:B118))","v":113},{"$f":"IF(OR(SD!A114=\"\"),\"\",SD!A114)","v":7},{"$f":"IF(OR(SD!C114=\"\"),\"\",SD!C114)","v":813},{"$f":"IF(OR(SD!E114=\"\"),\"\",SD!E114)","v":"abc113"},{"$f":"IF(OR(SD!G114=\"\"),\"\",SD!G114)","v":"xyz113"},{"$f":"IF(OR(SD!I114=\"\"),\"\",SD!I114)","v":"M"},{"$f":"IF(OR(SD!O114=\"\"),\"\",SD!O114)","v":"OBC"},{"$f":"IF(OR(SD!V114=\"\"),\"\",SD!V114)","v":9694703389},{"$f":"IF(SD!D114=\"\",\"\",SD!D114)","v":"2018-07-17"}]
[null,{"$f":"IF(E119=\"\",\"\",ROWS($B$6:B119))","v":114},{"$f":"IF(OR(SD!A115=\"\"),\"\",SD!A115)","v":7},{"$f":"IF(OR(SD!C115=\"\"),\"\",SD!C115)","v":814},{"$f":"IF(OR(SD!E115=\"\"),\"\",SD!E115)","v":"abc114"},{"$f":"IF(OR(SD!G115=\"\"),\"\",SD!G115)","v":"xyz114"},{"$f":"IF(OR(SD!I115=\"\"),\"\",SD!I115)","v":"F"},{"$f":"IF(OR(SD!O115=\"\"),\"\",SD!O115)","v":"OBC"},{"$f":"IF(OR(SD!V115=\"\"),\"\",SD!V115)","v":8094252744},{"$f":"IF(SD!D115=\"\",\"\",SD!D115)","v":"2015-07-15"}]
[null,{"$f":"IF(E120=\"\",\"\",ROWS($B$6:B120))","v":115},{"$f":"IF(OR(SD!A116=\"\"),\"\",SD!A116)","v":7},{"$f":"IF(OR(SD!C116=\"\"),\"\",SD!C116)","v":815},{"$f":"IF(OR(SD!E116=\"\"),\"\",SD!E116)","v":"abc115"},{"$f":"IF(OR(SD!G116=\"\"),\"\",SD!G116)","v":"xyz115"},{"$f":"IF(OR(SD!I116=\"\"),\"\",SD!I116)","v":"M"},{"$f":"IF(OR(SD!O116=\"\"),\"\",SD!O116)","v":"OBC"},{"$f":"IF(OR(SD!V116=\"\"),\"\",SD!V116)","v":8302961602},{"$f":"IF(SD!D116=\"\",\"\",SD!D116)","v":"2015-07-08"}]
[null,{"$f":"IF(E121=\"\",\"\",ROWS($B$6:B121))","v":116},{"$f":"IF(OR(SD!A117=\"\"),\"\",SD!A117)","v":7},{"$f":"IF(OR(SD!C117=\"\"),\"\",SD!C117)","v":816},{"$f":"IF(OR(SD!E117=\"\"),\"\",SD!E117)","v":"abc116"},{"$f":"IF(OR(SD!G117=\"\"),\"\",SD!G117)","v":"xyz116"},{"$f":"IF(OR(SD!I117=\"\"),\"\",SD!I117)","v":"M"},{"$f":"IF(OR(SD!O117=\"\"),\"\",SD!O117)","v":"SC"},{"$f":"IF(OR(SD!V117=\"\"),\"\",SD!V117)","v":9351256273},{"$f":"IF(SD!D117=\"\",\"\",SD!D117)","v":"2020-09-10"}]
[null,{"$f":"IF(E122=\"\",\"\",ROWS($B$6:B122))","v":117},{"$f":"IF(OR(SD!A118=\"\"),\"\",SD!A118)","v":7},{"$f":"IF(OR(SD!C118=\"\"),\"\",SD!C118)","v":817},{"$f":"IF(OR(SD!E118=\"\"),\"\",SD!E118)","v":"abc117"},{"$f":"IF(OR(SD!G118=\"\"),\"\",SD!G118)","v":"xyz117"},{"$f":"IF(OR(SD!I118=\"\"),\"\",SD!I118)","v":"F"},{"$f":"IF(OR(SD!O118=\"\"),\"\",SD!O118)","v":"SC"},{"$f":"IF(OR(SD!V118=\"\"),\"\",SD!V118)","v":9772048969},{"$f":"IF(SD!D118=\"\",\"\",SD!D118)","v":"2015-07-08"}]
[null,{"$f":"IF(E123=\"\",\"\",ROWS($B$6:B123))","v":118},{"$f":"IF(OR(SD!A119=\"\"),\"\",SD!A119)","v":7},{"$f":"IF(OR(SD!C119=\"\"),\"\",SD!C119)","v":818},{"$f":"IF(OR(SD!E119=\"\"),\"\",SD!E119)","v":"abc118"},{"$f":"IF(OR(SD!G119=\"\"),\"\",SD!G119)","v":"xyz118"},{"$f":"IF(OR(SD!I119=\"\"),\"\",SD!I119)","v":"M"},{"$f":"IF(OR(SD!O119=\"\"),\"\",SD!O119)","v":"OBC"},{"$f":"IF(OR(SD!V119=\"\"),\"\",SD!V119)","v":9982042735},{"$f":"IF(SD!D119=\"\",\"\",SD!D119)","v":"2021-02-08"}]
[null,{"$f":"IF(E124=\"\",\"\",ROWS($B$6:B124))","v":119},{"$f":"IF(OR(SD!A120=\"\"),\"\",SD!A120)","v":7},{"$f":"IF(OR(SD!C120=\"\"),\"\",SD!C120)","v":819},{"$f":"IF(OR(SD!E120=\"\"),\"\",SD!E120)","v":"abc119"},{"$f":"IF(OR(SD!G120=\"\"),\"\",SD!G120)","v":"xyz119"},{"$f":"IF(OR(SD!I120=\"\"),\"\",SD!I120)","v":"F"},{"$f":"IF(OR(SD!O120=\"\"),\"\",SD!O120)","v":"SC"},{"$f":"IF(OR(SD!V120=\"\"),\"\",SD!V120)","v":6376539886},{"$f":"IF(SD!D120=\"\",\"\",SD!D120)","v":"2020-07-21"}]
[null,{"$f":"IF(E125=\"\",\"\",ROWS($B$6:B125))","v":120},{"$f":"IF(OR(SD!A121=\"\"),\"\",SD!A121)","v":8},{"$f":"IF(OR(SD!C121=\"\"),\"\",SD!C121)","v":820},{"$f":"IF(OR(SD!E121=\"\"),\"\",SD!E121)","v":"abc120"},{"$f":"IF(OR(SD!G121=\"\"),\"\",SD!G121)","v":"xyz120"},{"$f":"IF(OR(SD!I121=\"\"),\"\",SD!I121)","v":"F"},{"$f":"IF(OR(SD!O121=\"\"),\"\",SD!O121)","v":"OBC"},{"$f":"IF(OR(SD!V121=\"\"),\"\",SD!V121)","v":9983190971},{"$f":"IF(SD!D121=\"\",\"\",SD!D121)","v":"2015-08-01"}]
[null,{"$f":"IF(E126=\"\",\"\",ROWS($B$6:B126))","v":121},{"$f":"IF(OR(SD!A122=\"\"),\"\",SD!A122)","v":8},{"$f":"IF(OR(SD!C122=\"\"),\"\",SD!C122)","v":821},{"$f":"IF(OR(SD!E122=\"\"),\"\",SD!E122)","v":"abc121"},{"$f":"IF(OR(SD!G122=\"\"),\"\",SD!G122)","v":"xyz121"},{"$f":"IF(OR(SD!I122=\"\"),\"\",SD!I122)","v":"F"},{"$f":"IF(OR(SD!O122=\"\"),\"\",SD!O122)","v":"ST"},{"$f":"IF(OR(SD!V122=\"\"),\"\",SD!V122)","v":8824043167},{"$f":"IF(SD!D122=\"\",\"\",SD!D122)","v":"2016-07-08"}]
[null,{"$f":"IF(E127=\"\",\"\",ROWS($B$6:B127))","v":122},{"$f":"IF(OR(SD!A123=\"\"),\"\",SD!A123)","v":8},{"$f":"IF(OR(SD!C123=\"\"),\"\",SD!C123)","v":822},{"$f":"IF(OR(SD!E123=\"\"),\"\",SD!E123)","v":"abc122"},{"$f":"IF(OR(SD!G123=\"\"),\"\",SD!G123)","v":"xyz122"},{"$f":"IF(OR(SD!I123=\"\"),\"\",SD!I123)","v":"F"},{"$f":"IF(OR(SD!O123=\"\"),\"\",SD!O123)","v":"SC"},{"$f":"IF(OR(SD!V123=\"\"),\"\",SD!V123)","v":9983773398},{"$f":"IF(SD!D123=\"\",\"\",SD!D123)","v":"2019-09-13"}]
[null,{"$f":"IF(E128=\"\",\"\",ROWS($B$6:B128))","v":123},{"$f":"IF(OR(SD!A124=\"\"),\"\",SD!A124)","v":8},{"$f":"IF(OR(SD!C124=\"\"),\"\",SD!C124)","v":823},{"$f":"IF(OR(SD!E124=\"\"),\"\",SD!E124)","v":"abc123"},{"$f":"IF(OR(SD!G124=\"\"),\"\",SD!G124)","v":"xyz123"},{"$f":"IF(OR(SD!I124=\"\"),\"\",SD!I124)","v":"F"},{"$f":"IF(OR(SD!O124=\"\"),\"\",SD!O124)","v":"SC"},{"$f":"IF(OR(SD!V124=\"\"),\"\",SD!V124)","v":9636546417},{"$f":"IF(SD!D124=\"\",\"\",SD!D124)","v":"2014-08-20"}]
[null,{"$f":"IF(E129=\"\",\"\",ROWS($B$6:B129))","v":124},{"$f":"IF(OR(SD!A125=\"\"),\"\",SD!A125)","v":8},{"$f":"IF(OR(SD!C125=\"\"),\"\",SD!C125)","v":824},{"$f":"IF(OR(SD!E125=\"\"),\"\",SD!E125)","v":"abc124"},{"$f":"IF(OR(SD!G125=\"\"),\"\",SD!G125)","v":"xyz124"},{"$f":"IF(OR(SD!I125=\"\"),\"\",SD!I125)","v":"F"},{"$f":"IF(OR(SD!O125=\"\"),\"\",SD!O125)","v":"SC"},{"$f":"IF(OR(SD!V125=\"\"),\"\",SD!V125)","v":9828999192},{"$f":"IF(SD!D125=\"\",\"\",SD!D125)","v":"2018-07-16"}]
[null,{"$f":"IF(E130=\"\",\"\",ROWS($B$6:B130))","v":125},{"$f":"IF(OR(SD!A126=\"\"),\"\",SD!A126)","v":8},{"$f":"IF(OR(SD!C126=\"\"),\"\",SD!C126)","v":825},{"$f":"IF(OR(SD!E126=\"\"),\"\",SD!E126)","v":"abc125"},{"$f":"IF(OR(SD!G126=\"\"),\"\",SD!G126)","v":"xyz125"},{"$f":"IF(OR(SD!I126=\"\"),\"\",SD!I126)","v":"F"},{"$f":"IF(OR(SD!O126=\"\"),\"\",SD!O126)","v":"SC"},{"$f":"IF(OR(SD!V126=\"\"),\"\",SD!V126)","v":9636546417},{"$f":"IF(SD!D126=\"\",\"\",SD!D126)","v":"2014-08-20"}]
[null,{"$f":"IF(E131=\"\",\"\",ROWS($B$6:B131))","v":126},{"$f":"IF(OR(SD!A127=\"\"),\"\",SD!A127)","v":8},{"$f":"IF(OR(SD!C127=\"\"),\"\",SD!C127)","v":826},{"$f":"IF(OR(SD!E127=\"\"),\"\",SD!E127)","v":"abc126"},{"$f":"IF(OR(SD!G127=\"\"),\"\",SD!G127)","v":"xyz126"},{"$f":"IF(OR(SD!I127=\"\"),\"\",SD!I127)","v":"F"},{"$f":"IF(OR(SD!O127=\"\"),\"\",SD!O127)","v":"SC"},{"$f":"IF(OR(SD!V127=\"\"),\"\",SD!V127)","v":7772048969},{"$f":"IF(SD!D127=\"\",\"\",SD!D127)","v":"2014-08-20"}]
[null,{"$f":"IF(E132=\"\",\"\",ROWS($B$6:B132))","v":127},{"$f":"IF(OR(SD!A128=\"\"),\"\",SD!A128)","v":8},{"$f":"IF(OR(SD!C128=\"\"),\"\",SD!C128)","v":827},{"$f":"IF(OR(SD!E128=\"\"),\"\",SD!E128)","v":"abc127"},{"$f":"IF(OR(SD!G128=\"\"),\"\",SD!G128)","v":"xyz127"},{"$f":"IF(OR(SD!I128=\"\"),\"\",SD!I128)","v":"F"},{"$f":"IF(OR(SD!O128=\"\"),\"\",SD!O128)","v":"SC"},{"$f":"IF(OR(SD!V128=\"\"),\"\",SD!V128)","v":6378335526},{"$f":"IF(SD!D128=\"\",\"\",SD!D128)","v":"2016-07-21"}]
[null,{"$f":"IF(E133=\"\",\"\",ROWS($B$6:B133))","v":128},{"$f":"IF(OR(SD!A129=\"\"),\"\",SD!A129)","v":8},{"$f":"IF(OR(SD!C129=\"\"),\"\",SD!C129)","v":828},{"$f":"IF(OR(SD!E129=\"\"),\"\",SD!E129)","v":"abc128"},{"$f":"IF(OR(SD!G129=\"\"),\"\",SD!G129)","v":"xyz128"},{"$f":"IF(OR(SD!I129=\"\"),\"\",SD!I129)","v":"F"},{"$f":"IF(OR(SD!O129=\"\"),\"\",SD!O129)","v":"SC"},{"$f":"IF(OR(SD!V129=\"\"),\"\",SD!V129)","v":9828655871},{"$f":"IF(SD!D129=\"\",\"\",SD!D129)","v":"2019-09-13"}]
[null,{"$f":"IF(E134=\"\",\"\",ROWS($B$6:B134))","v":129},{"$f":"IF(OR(SD!A130=\"\"),\"\",SD!A130)","v":8},{"$f":"IF(OR(SD!C130=\"\"),\"\",SD!C130)","v":829},{"$f":"IF(OR(SD!E130=\"\"),\"\",SD!E130)","v":"abc129"},{"$f":"IF(OR(SD!G130=\"\"),\"\",SD!G130)","v":"xyz129"},{"$f":"IF(OR(SD!I130=\"\"),\"\",SD!I130)","v":"M"},{"$f":"IF(OR(SD!O130=\"\"),\"\",SD!O130)","v":"OBC"},{"$f":"IF(OR(SD!V130=\"\"),\"\",SD!V130)","v":9828942993},{"$f":"IF(SD!D130=\"\",\"\",SD!D130)","v":"2021-01-23"}]
[null,{"$f":"IF(E135=\"\",\"\",ROWS($B$6:B135))","v":130},{"$f":"IF(OR(SD!A131=\"\"),\"\",SD!A131)","v":8},{"$f":"IF(OR(SD!C131=\"\"),\"\",SD!C131)","v":830},{"$f":"IF(OR(SD!E131=\"\"),\"\",SD!E131)","v":"abc130"},{"$f":"IF(OR(SD!G131=\"\"),\"\",SD!G131)","v":"xyz130"},{"$f":"IF(OR(SD!I131=\"\"),\"\",SD!I131)","v":"M"},{"$f":"IF(OR(SD!O131=\"\"),\"\",SD!O131)","v":"ST"},{"$f":"IF(OR(SD!V131=\"\"),\"\",SD!V131)","v":9983773398},{"$f":"IF(SD!D131=\"\",\"\",SD!D131)","v":"2016-07-04"}]
[null,{"$f":"IF(E136=\"\",\"\",ROWS($B$6:B136))","v":131},{"$f":"IF(OR(SD!A132=\"\"),\"\",SD!A132)","v":8},{"$f":"IF(OR(SD!C132=\"\"),\"\",SD!C132)","v":831},{"$f":"IF(OR(SD!E132=\"\"),\"\",SD!E132)","v":"abc131"},{"$f":"IF(OR(SD!G132=\"\"),\"\",SD!G132)","v":"xyz131"},{"$f":"IF(OR(SD!I132=\"\"),\"\",SD!I132)","v":"F"},{"$f":"IF(OR(SD!O132=\"\"),\"\",SD!O132)","v":"SC"},{"$f":"IF(OR(SD!V132=\"\"),\"\",SD!V132)","v":9772233178},{"$f":"IF(SD!D132=\"\",\"\",SD!D132)","v":"2014-08-20"}]
[null,{"$f":"IF(E137=\"\",\"\",ROWS($B$6:B137))","v":132},{"$f":"IF(OR(SD!A133=\"\"),\"\",SD!A133)","v":8},{"$f":"IF(OR(SD!C133=\"\"),\"\",SD!C133)","v":832},{"$f":"IF(OR(SD!E133=\"\"),\"\",SD!E133)","v":"abc132"},{"$f":"IF(OR(SD!G133=\"\"),\"\",SD!G133)","v":"xyz132"},{"$f":"IF(OR(SD!I133=\"\"),\"\",SD!I133)","v":"F"},{"$f":"IF(OR(SD!O133=\"\"),\"\",SD!O133)","v":"SC"},{"$f":"IF(OR(SD!V133=\"\"),\"\",SD!V133)","v":8875549083},{"$f":"IF(SD!D133=\"\",\"\",SD!D133)","v":"2019-09-13"}]
[null,{"$f":"IF(E138=\"\",\"\",ROWS($B$6:B138))","v":133},{"$f":"IF(OR(SD!A134=\"\"),\"\",SD!A134)","v":8},{"$f":"IF(OR(SD!C134=\"\"),\"\",SD!C134)","v":833},{"$f":"IF(OR(SD!E134=\"\"),\"\",SD!E134)","v":"abc133"},{"$f":"IF(OR(SD!G134=\"\"),\"\",SD!G134)","v":"xyz133"},{"$f":"IF(OR(SD!I134=\"\"),\"\",SD!I134)","v":"F"},{"$f":"IF(OR(SD!O134=\"\"),\"\",SD!O134)","v":"SC"},{"$f":"IF(OR(SD!V134=\"\"),\"\",SD!V134)","v":9982833379},{"$f":"IF(SD!D134=\"\",\"\",SD!D134)","v":"2019-07-15"}]
[null,{"$f":"IF(E139=\"\",\"\",ROWS($B$6:B139))","v":134},{"$f":"IF(OR(SD!A135=\"\"),\"\",SD!A135)","v":8},{"$f":"IF(OR(SD!C135=\"\"),\"\",SD!C135)","v":834},{"$f":"IF(OR(SD!E135=\"\"),\"\",SD!E135)","v":"abc134"},{"$f":"IF(OR(SD!G135=\"\"),\"\",SD!G135)","v":"xyz134"},{"$f":"IF(OR(SD!I135=\"\"),\"\",SD!I135)","v":"F"},{"$f":"IF(OR(SD!O135=\"\"),\"\",SD!O135)","v":"SC"},{"$f":"IF(OR(SD!V135=\"\"),\"\",SD!V135)","v":9783258379},{"$f":"IF(SD!D135=\"\",\"\",SD!D135)","v":"2018-07-20"}]
[null,{"$f":"IF(E140=\"\",\"\",ROWS($B$6:B140))","v":135},{"$f":"IF(OR(SD!A136=\"\"),\"\",SD!A136)","v":8},{"$f":"IF(OR(SD!C136=\"\"),\"\",SD!C136)","v":835},{"$f":"IF(OR(SD!E136=\"\"),\"\",SD!E136)","v":"abc135"},{"$f":"IF(OR(SD!G136=\"\"),\"\",SD!G136)","v":"xyz135"},{"$f":"IF(OR(SD!I136=\"\"),\"\",SD!I136)","v":"F"},{"$f":"IF(OR(SD!O136=\"\"),\"\",SD!O136)","v":"SC"},{"$f":"IF(OR(SD!V136=\"\"),\"\",SD!V136)","v":8769262996},{"$f":"IF(SD!D136=\"\",\"\",SD!D136)","v":"2019-08-29"}]
[null,{"$f":"IF(E141=\"\",\"\",ROWS($B$6:B141))","v":136},{"$f":"IF(OR(SD!A137=\"\"),\"\",SD!A137)","v":8},{"$f":"IF(OR(SD!C137=\"\"),\"\",SD!C137)","v":836},{"$f":"IF(OR(SD!E137=\"\"),\"\",SD!E137)","v":"abc136"},{"$f":"IF(OR(SD!G137=\"\"),\"\",SD!G137)","v":"xyz136"},{"$f":"IF(OR(SD!I137=\"\"),\"\",SD!I137)","v":"F"},{"$f":"IF(OR(SD!O137=\"\"),\"\",SD!O137)","v":"SC"},{"$f":"IF(OR(SD!V137=\"\"),\"\",SD!V137)","v":9772625770},{"$f":"IF(SD!D137=\"\",\"\",SD!D137)","v":"2015-07-10"}]
[null,{"$f":"IF(E142=\"\",\"\",ROWS($B$6:B142))","v":137},{"$f":"IF(OR(SD!A138=\"\"),\"\",SD!A138)","v":8},{"$f":"IF(OR(SD!C138=\"\"),\"\",SD!C138)","v":837},{"$f":"IF(OR(SD!E138=\"\"),\"\",SD!E138)","v":"abc137"},{"$f":"IF(OR(SD!G138=\"\"),\"\",SD!G138)","v":"xyz137"},{"$f":"IF(OR(SD!I138=\"\"),\"\",SD!I138)","v":"F"},{"$f":"IF(OR(SD!O138=\"\"),\"\",SD!O138)","v":"OBC"},{"$f":"IF(OR(SD!V138=\"\"),\"\",SD!V138)","v":9982723696},{"$f":"IF(SD!D138=\"\",\"\",SD!D138)","v":"2019-08-08"}]
[null,{"$f":"IF(E143=\"\",\"\",ROWS($B$6:B143))","v":138},{"$f":"IF(OR(SD!A139=\"\"),\"\",SD!A139)","v":9},{"$f":"IF(OR(SD!C139=\"\"),\"\",SD!C139)","v":838},{"$f":"IF(OR(SD!E139=\"\"),\"\",SD!E139)","v":"abc138"},{"$f":"IF(OR(SD!G139=\"\"),\"\",SD!G139)","v":"xyz138"},{"$f":"IF(OR(SD!I139=\"\"),\"\",SD!I139)","v":"F"},{"$f":"IF(OR(SD!O139=\"\"),\"\",SD!O139)","v":"SC"},{"$f":"IF(OR(SD!V139=\"\"),\"\",SD!V139)","v":9928845116},{"$f":"IF(SD!D139=\"\",\"\",SD!D139)","v":"2014-08-20"}]
[null,{"$f":"IF(E144=\"\",\"\",ROWS($B$6:B144))","v":139},{"$f":"IF(OR(SD!A140=\"\"),\"\",SD!A140)","v":9},{"$f":"IF(OR(SD!C140=\"\"),\"\",SD!C140)","v":839},{"$f":"IF(OR(SD!E140=\"\"),\"\",SD!E140)","v":"abc139"},{"$f":"IF(OR(SD!G140=\"\"),\"\",SD!G140)","v":"xyz139"},{"$f":"IF(OR(SD!I140=\"\"),\"\",SD!I140)","v":"M"},{"$f":"IF(OR(SD!O140=\"\"),\"\",SD!O140)","v":"OBC"},{"$f":"IF(OR(SD!V140=\"\"),\"\",SD!V140)","v":7742142697},{"$f":"IF(SD!D140=\"\",\"\",SD!D140)","v":"2017-07-11"}]
[null,{"$f":"IF(E145=\"\",\"\",ROWS($B$6:B145))","v":140},{"$f":"IF(OR(SD!A141=\"\"),\"\",SD!A141)","v":9},{"$f":"IF(OR(SD!C141=\"\"),\"\",SD!C141)","v":840},{"$f":"IF(OR(SD!E141=\"\"),\"\",SD!E141)","v":"abc140"},{"$f":"IF(OR(SD!G141=\"\"),\"\",SD!G141)","v":"xyz140"},{"$f":"IF(OR(SD!I141=\"\"),\"\",SD!I141)","v":"M"},{"$f":"IF(OR(SD!O141=\"\"),\"\",SD!O141)","v":"SC"},{"$f":"IF(OR(SD!V141=\"\"),\"\",SD!V141)","v":8504892020},{"$f":"IF(SD!D141=\"\",\"\",SD!D141)","v":"2019-08-19"}]
[null,{"$f":"IF(E146=\"\",\"\",ROWS($B$6:B146))","v":141},{"$f":"IF(OR(SD!A142=\"\"),\"\",SD!A142)","v":9},{"$f":"IF(OR(SD!C142=\"\"),\"\",SD!C142)","v":841},{"$f":"IF(OR(SD!E142=\"\"),\"\",SD!E142)","v":"abc141"},{"$f":"IF(OR(SD!G142=\"\"),\"\",SD!G142)","v":"xyz141"},{"$f":"IF(OR(SD!I142=\"\"),\"\",SD!I142)","v":"M"},{"$f":"IF(OR(SD!O142=\"\"),\"\",SD!O142)","v":"OBC"},{"$f":"IF(OR(SD!V142=\"\"),\"\",SD!V142)","v":9929233440},{"$f":"IF(SD!D142=\"\",\"\",SD!D142)","v":"2018-07-06"}]
[null,{"$f":"IF(E147=\"\",\"\",ROWS($B$6:B147))","v":142},{"$f":"IF(OR(SD!A143=\"\"),\"\",SD!A143)","v":9},{"$f":"IF(OR(SD!C143=\"\"),\"\",SD!C143)","v":842},{"$f":"IF(OR(SD!E143=\"\"),\"\",SD!E143)","v":"abc142"},{"$f":"IF(OR(SD!G143=\"\"),\"\",SD!G143)","v":"xyz142"},{"$f":"IF(OR(SD!I143=\"\"),\"\",SD!I143)","v":"M"},{"$f":"IF(OR(SD!O143=\"\"),\"\",SD!O143)","v":"SC"},{"$f":"IF(OR(SD!V143=\"\"),\"\",SD!V143)","v":9665911286},{"$f":"IF(SD!D143=\"\",\"\",SD!D143)","v":"2015-07-06"}]
[null,{"$f":"IF(E148=\"\",\"\",ROWS($B$6:B148))","v":143},{"$f":"IF(OR(SD!A144=\"\"),\"\",SD!A144)","v":9},{"$f":"IF(OR(SD!C144=\"\"),\"\",SD!C144)","v":843},{"$f":"IF(OR(SD!E144=\"\"),\"\",SD!E144)","v":"abc143"},{"$f":"IF(OR(SD!G144=\"\"),\"\",SD!G144)","v":"xyz143"},{"$f":"IF(OR(SD!I144=\"\"),\"\",SD!I144)","v":"M"},{"$f":"IF(OR(SD!O144=\"\"),\"\",SD!O144)","v":"OBC"},{"$f":"IF(OR(SD!V144=\"\"),\"\",SD!V144)","v":7851824168},{"$f":"IF(SD!D144=\"\",\"\",SD!D144)","v":"2015-07-08"}]
[null,{"$f":"IF(E149=\"\",\"\",ROWS($B$6:B149))","v":144},{"$f":"IF(OR(SD!A145=\"\"),\"\",SD!A145)","v":9},{"$f":"IF(OR(SD!C145=\"\"),\"\",SD!C145)","v":844},{"$f":"IF(OR(SD!E145=\"\"),\"\",SD!E145)","v":"abc144"},{"$f":"IF(OR(SD!G145=\"\"),\"\",SD!G145)","v":"xyz144"},{"$f":"IF(OR(SD!I145=\"\"),\"\",SD!I145)","v":"F"},{"$f":"IF(OR(SD!O145=\"\"),\"\",SD!O145)","v":"OBC"},{"$f":"IF(OR(SD!V145=\"\"),\"\",SD!V145)","v":9982415519},{"$f":"IF(SD!D145=\"\",\"\",SD!D145)","v":"2014-08-20"}]
[null,{"$f":"IF(E150=\"\",\"\",ROWS($B$6:B150))","v":145},{"$f":"IF(OR(SD!A146=\"\"),\"\",SD!A146)","v":9},{"$f":"IF(OR(SD!C146=\"\"),\"\",SD!C146)","v":845},{"$f":"IF(OR(SD!E146=\"\"),\"\",SD!E146)","v":"abc145"},{"$f":"IF(OR(SD!G146=\"\"),\"\",SD!G146)","v":"xyz145"},{"$f":"IF(OR(SD!I146=\"\"),\"\",SD!I146)","v":"F"},{"$f":"IF(OR(SD!O146=\"\"),\"\",SD!O146)","v":"SC"},{"$f":"IF(OR(SD!V146=\"\"),\"\",SD!V146)","v":9928845116},{"$f":"IF(SD!D146=\"\",\"\",SD!D146)","v":"2014-08-20"}]
[null,{"$f":"IF(E151=\"\",\"\",ROWS($B$6:B151))","v":146},{"$f":"IF(OR(SD!A147=\"\"),\"\",SD!A147)","v":9},{"$f":"IF(OR(SD!C147=\"\"),\"\",SD!C147)","v":846},{"$f":"IF(OR(SD!E147=\"\"),\"\",SD!E147)","v":"abc146"},{"$f":"IF(OR(SD!G147=\"\"),\"\",SD!G147)","v":"xyz146"},{"$f":"IF(OR(SD!I147=\"\"),\"\",SD!I147)","v":"M"},{"$f":"IF(OR(SD!O147=\"\"),\"\",SD!O147)","v":"SC"},{"$f":"IF(OR(SD!V147=\"\"),\"\",SD!V147)","v":8239153739},{"$f":"IF(SD!D147=\"\",\"\",SD!D147)","v":"2013-07-22"}]
[null,{"$f":"IF(E152=\"\",\"\",ROWS($B$6:B152))","v":147},{"$f":"IF(OR(SD!A148=\"\"),\"\",SD!A148)","v":9},{"$f":"IF(OR(SD!C148=\"\"),\"\",SD!C148)","v":847},{"$f":"IF(OR(SD!E148=\"\"),\"\",SD!E148)","v":"abc147"},{"$f":"IF(OR(SD!G148=\"\"),\"\",SD!G148)","v":"xyz147"},{"$f":"IF(OR(SD!I148=\"\"),\"\",SD!I148)","v":"F"},{"$f":"IF(OR(SD!O148=\"\"),\"\",SD!O148)","v":"SC"},{"$f":"IF(OR(SD!V148=\"\"),\"\",SD!V148)","v":8302899734},{"$f":"IF(SD!D148=\"\",\"\",SD!D148)","v":"2014-08-20"}]
[null,{"$f":"IF(E153=\"\",\"\",ROWS($B$6:B153))","v":148},{"$f":"IF(OR(SD!A149=\"\"),\"\",SD!A149)","v":9},{"$f":"IF(OR(SD!C149=\"\"),\"\",SD!C149)","v":848},{"$f":"IF(OR(SD!E149=\"\"),\"\",SD!E149)","v":"abc148"},{"$f":"IF(OR(SD!G149=\"\"),\"\",SD!G149)","v":"xyz148"},{"$f":"IF(OR(SD!I149=\"\"),\"\",SD!I149)","v":"M"},{"$f":"IF(OR(SD!O149=\"\"),\"\",SD!O149)","v":"OBC"},{"$f":"IF(OR(SD!V149=\"\"),\"\",SD!V149)","v":9649322374},{"$f":"IF(SD!D149=\"\",\"\",SD!D149)","v":"2019-07-12"}]
[null,{"$f":"IF(E154=\"\",\"\",ROWS($B$6:B154))","v":149},{"$f":"IF(OR(SD!A150=\"\"),\"\",SD!A150)","v":9},{"$f":"IF(OR(SD!C150=\"\"),\"\",SD!C150)","v":849},{"$f":"IF(OR(SD!E150=\"\"),\"\",SD!E150)","v":"abc149"},{"$f":"IF(OR(SD!G150=\"\"),\"\",SD!G150)","v":"xyz149"},{"$f":"IF(OR(SD!I150=\"\"),\"\",SD!I150)","v":"M"},{"$f":"IF(OR(SD!O150=\"\"),\"\",SD!O150)","v":"SC"},{"$f":"IF(OR(SD!V150=\"\"),\"\",SD!V150)","v":9783258379},{"$f":"IF(SD!D150=\"\",\"\",SD!D150)","v":"2018-07-13"}]
[null,{"$f":"IF(E155=\"\",\"\",ROWS($B$6:B155))","v":150},{"$f":"IF(OR(SD!A151=\"\"),\"\",SD!A151)","v":9},{"$f":"IF(OR(SD!C151=\"\"),\"\",SD!C151)","v":850},{"$f":"IF(OR(SD!E151=\"\"),\"\",SD!E151)","v":"abc150"},{"$f":"IF(OR(SD!G151=\"\"),\"\",SD!G151)","v":"xyz150"},{"$f":"IF(OR(SD!I151=\"\"),\"\",SD!I151)","v":"M"},{"$f":"IF(OR(SD!O151=\"\"),\"\",SD!O151)","v":"OBC"},{"$f":"IF(OR(SD!V151=\"\"),\"\",SD!V151)","v":9462912119},{"$f":"IF(SD!D151=\"\",\"\",SD!D151)","v":"2018-07-19"}]
[null,{"$f":"IF(E156=\"\",\"\",ROWS($B$6:B156))","v":151},{"$f":"IF(OR(SD!A152=\"\"),\"\",SD!A152)","v":9},{"$f":"IF(OR(SD!C152=\"\"),\"\",SD!C152)","v":851},{"$f":"IF(OR(SD!E152=\"\"),\"\",SD!E152)","v":"abc151"},{"$f":"IF(OR(SD!G152=\"\"),\"\",SD!G152)","v":"xyz151"},{"$f":"IF(OR(SD!I152=\"\"),\"\",SD!I152)","v":"M"},{"$f":"IF(OR(SD!O152=\"\"),\"\",SD!O152)","v":"GEN"},{"$f":"IF(OR(SD!V152=\"\"),\"\",SD!V152)","v":9772233278},{"$f":"IF(SD!D152=\"\",\"\",SD!D152)","v":"2016-06-30"}]
[null,{"$f":"IF(E157=\"\",\"\",ROWS($B$6:B157))","v":152},{"$f":"IF(OR(SD!A153=\"\"),\"\",SD!A153)","v":9},{"$f":"IF(OR(SD!C153=\"\"),\"\",SD!C153)","v":852},{"$f":"IF(OR(SD!E153=\"\"),\"\",SD!E153)","v":"abc152"},{"$f":"IF(OR(SD!G153=\"\"),\"\",SD!G153)","v":"xyz152"},{"$f":"IF(OR(SD!I153=\"\"),\"\",SD!I153)","v":"F"},{"$f":"IF(OR(SD!O153=\"\"),\"\",SD!O153)","v":"SC"},{"$f":"IF(OR(SD!V153=\"\"),\"\",SD!V153)","v":8875563074},{"$f":"IF(SD!D153=\"\",\"\",SD!D153)","v":"2017-07-22"}]
[null,{"$f":"IF(E158=\"\",\"\",ROWS($B$6:B158))","v":153},{"$f":"IF(OR(SD!A154=\"\"),\"\",SD!A154)","v":9},{"$f":"IF(OR(SD!C154=\"\"),\"\",SD!C154)","v":853},{"$f":"IF(OR(SD!E154=\"\"),\"\",SD!E154)","v":"abc153"},{"$f":"IF(OR(SD!G154=\"\"),\"\",SD!G154)","v":"xyz153"},{"$f":"IF(OR(SD!I154=\"\"),\"\",SD!I154)","v":"F"},{"$f":"IF(OR(SD!O154=\"\"),\"\",SD!O154)","v":"SC"},{"$f":"IF(OR(SD!V154=\"\"),\"\",SD!V154)","v":8690760368},{"$f":"IF(SD!D154=\"\",\"\",SD!D154)","v":"2017-07-18"}]
[null,{"$f":"IF(E159=\"\",\"\",ROWS($B$6:B159))","v":154},{"$f":"IF(OR(SD!A155=\"\"),\"\",SD!A155)","v":9},{"$f":"IF(OR(SD!C155=\"\"),\"\",SD!C155)","v":854},{"$f":"IF(OR(SD!E155=\"\"),\"\",SD!E155)","v":"abc154"},{"$f":"IF(OR(SD!G155=\"\"),\"\",SD!G155)","v":"xyz154"},{"$f":"IF(OR(SD!I155=\"\"),\"\",SD!I155)","v":"M"},{"$f":"IF(OR(SD!O155=\"\"),\"\",SD!O155)","v":"OBC"},{"$f":"IF(OR(SD!V155=\"\"),\"\",SD!V155)","v":9549848510},{"$f":"IF(SD!D155=\"\",\"\",SD!D155)","v":"2014-08-20"}]
[null,{"$f":"IF(E160=\"\",\"\",ROWS($B$6:B160))","v":155},{"$f":"IF(OR(SD!A156=\"\"),\"\",SD!A156)","v":9},{"$f":"IF(OR(SD!C156=\"\"),\"\",SD!C156)","v":855},{"$f":"IF(OR(SD!E156=\"\"),\"\",SD!E156)","v":"abc155"},{"$f":"IF(OR(SD!G156=\"\"),\"\",SD!G156)","v":"xyz155"},{"$f":"IF(OR(SD!I156=\"\"),\"\",SD!I156)","v":"M"},{"$f":"IF(OR(SD!O156=\"\"),\"\",SD!O156)","v":"OBC"},{"$f":"IF(OR(SD!V156=\"\"),\"\",SD!V156)","v":8005918857},{"$f":"IF(SD!D156=\"\",\"\",SD!D156)","v":""}]
[null,{"$f":"IF(E161=\"\",\"\",ROWS($B$6:B161))","v":156},{"$f":"IF(OR(SD!A157=\"\"),\"\",SD!A157)","v":9},{"$f":"IF(OR(SD!C157=\"\"),\"\",SD!C157)","v":856},{"$f":"IF(OR(SD!E157=\"\"),\"\",SD!E157)","v":"abc156"},{"$f":"IF(OR(SD!G157=\"\"),\"\",SD!G157)","v":"xyz156"},{"$f":"IF(OR(SD!I157=\"\"),\"\",SD!I157)","v":"M"},{"$f":"IF(OR(SD!O157=\"\"),\"\",SD!O157)","v":"OBC"},{"$f":"IF(OR(SD!V157=\"\"),\"\",SD!V157)","v":9549848510},{"$f":"IF(SD!D157=\"\",\"\",SD!D157)","v":"2014-08-20"}]
[null,{"$f":"IF(E162=\"\",\"\",ROWS($B$6:B162))","v":157},{"$f":"IF(OR(SD!A158=\"\"),\"\",SD!A158)","v":9},{"$f":"IF(OR(SD!C158=\"\"),\"\",SD!C158)","v":857},{"$f":"IF(OR(SD!E158=\"\"),\"\",SD!E158)","v":"abc157"},{"$f":"IF(OR(SD!G158=\"\"),\"\",SD!G158)","v":"xyz157"},{"$f":"IF(OR(SD!I158=\"\"),\"\",SD!I158)","v":"F"},{"$f":"IF(OR(SD!O158=\"\"),\"\",SD!O158)","v":"SC"},{"$f":"IF(OR(SD!V158=\"\"),\"\",SD!V158)","v":9772233178},{"$f":"IF(SD!D158=\"\",\"\",SD!D158)","v":"2014-08-20"}]
[null,{"$f":"IF(E163=\"\",\"\",ROWS($B$6:B163))","v":158},{"$f":"IF(OR(SD!A159=\"\"),\"\",SD!A159)","v":9},{"$f":"IF(OR(SD!C159=\"\"),\"\",SD!C159)","v":858},{"$f":"IF(OR(SD!E159=\"\"),\"\",SD!E159)","v":"abc158"},{"$f":"IF(OR(SD!G159=\"\"),\"\",SD!G159)","v":"xyz158"},{"$f":"IF(OR(SD!I159=\"\"),\"\",SD!I159)","v":"F"},{"$f":"IF(OR(SD!O159=\"\"),\"\",SD!O159)","v":"SC"},{"$f":"IF(OR(SD!V159=\"\"),\"\",SD!V159)","v":8114426865},{"$f":"IF(SD!D159=\"\",\"\",SD!D159)","v":"2015-07-15"}]
[null,{"$f":"IF(E164=\"\",\"\",ROWS($B$6:B164))","v":159},{"$f":"IF(OR(SD!A160=\"\"),\"\",SD!A160)","v":9},{"$f":"IF(OR(SD!C160=\"\"),\"\",SD!C160)","v":859},{"$f":"IF(OR(SD!E160=\"\"),\"\",SD!E160)","v":"abc159"},{"$f":"IF(OR(SD!G160=\"\"),\"\",SD!G160)","v":"xyz159"},{"$f":"IF(OR(SD!I160=\"\"),\"\",SD!I160)","v":"F"},{"$f":"IF(OR(SD!O160=\"\"),\"\",SD!O160)","v":"SC"},{"$f":"IF(OR(SD!V160=\"\"),\"\",SD!V160)","v":9602530192},{"$f":"IF(SD!D160=\"\",\"\",SD!D160)","v":"2019-07-16"}]
[null,{"$f":"IF(E165=\"\",\"\",ROWS($B$6:B165))","v":160},{"$f":"IF(OR(SD!A161=\"\"),\"\",SD!A161)","v":10},{"$f":"IF(OR(SD!C161=\"\"),\"\",SD!C161)","v":860},{"$f":"IF(OR(SD!E161=\"\"),\"\",SD!E161)","v":"abc160"},{"$f":"IF(OR(SD!G161=\"\"),\"\",SD!G161)","v":"xyz160"},{"$f":"IF(OR(SD!I161=\"\"),\"\",SD!I161)","v":"M"},{"$f":"IF(OR(SD!O161=\"\"),\"\",SD!O161)","v":"OBC"},{"$f":"IF(OR(SD!V161=\"\"),\"\",SD!V161)","v":9772469513},{"$f":"IF(SD!D161=\"\",\"\",SD!D161)","v":"2014-08-20"}]
[null,{"$f":"IF(E166=\"\",\"\",ROWS($B$6:B166))","v":161},{"$f":"IF(OR(SD!A162=\"\"),\"\",SD!A162)","v":10},{"$f":"IF(OR(SD!C162=\"\"),\"\",SD!C162)","v":861},{"$f":"IF(OR(SD!E162=\"\"),\"\",SD!E162)","v":"abc161"},{"$f":"IF(OR(SD!G162=\"\"),\"\",SD!G162)","v":"xyz161"},{"$f":"IF(OR(SD!I162=\"\"),\"\",SD!I162)","v":"M"},{"$f":"IF(OR(SD!O162=\"\"),\"\",SD!O162)","v":"SC"},{"$f":"IF(OR(SD!V162=\"\"),\"\",SD!V162)","v":8824603152},{"$f":"IF(SD!D162=\"\",\"\",SD!D162)","v":"2021-01-25"}]
[null,{"$f":"IF(E167=\"\",\"\",ROWS($B$6:B167))","v":162},{"$f":"IF(OR(SD!A163=\"\"),\"\",SD!A163)","v":10},{"$f":"IF(OR(SD!C163=\"\"),\"\",SD!C163)","v":862},{"$f":"IF(OR(SD!E163=\"\"),\"\",SD!E163)","v":"abc162"},{"$f":"IF(OR(SD!G163=\"\"),\"\",SD!G163)","v":"xyz162"},{"$f":"IF(OR(SD!I163=\"\"),\"\",SD!I163)","v":"F"},{"$f":"IF(OR(SD!O163=\"\"),\"\",SD!O163)","v":"OBC"},{"$f":"IF(OR(SD!V163=\"\"),\"\",SD!V163)","v":9358696335},{"$f":"IF(SD!D163=\"\",\"\",SD!D163)","v":"2019-08-26"}]
[null,{"$f":"IF(E168=\"\",\"\",ROWS($B$6:B168))","v":163},{"$f":"IF(OR(SD!A164=\"\"),\"\",SD!A164)","v":10},{"$f":"IF(OR(SD!C164=\"\"),\"\",SD!C164)","v":863},{"$f":"IF(OR(SD!E164=\"\"),\"\",SD!E164)","v":"abc163"},{"$f":"IF(OR(SD!G164=\"\"),\"\",SD!G164)","v":"xyz163"},{"$f":"IF(OR(SD!I164=\"\"),\"\",SD!I164)","v":"M"},{"$f":"IF(OR(SD!O164=\"\"),\"\",SD!O164)","v":"OBC"},{"$f":"IF(OR(SD!V164=\"\"),\"\",SD!V164)","v":9828158085},{"$f":"IF(SD!D164=\"\",\"\",SD!D164)","v":"2018-07-16"}]
[null,{"$f":"IF(E169=\"\",\"\",ROWS($B$6:B169))","v":164},{"$f":"IF(OR(SD!A165=\"\"),\"\",SD!A165)","v":10},{"$f":"IF(OR(SD!C165=\"\"),\"\",SD!C165)","v":864},{"$f":"IF(OR(SD!E165=\"\"),\"\",SD!E165)","v":"abc164"},{"$f":"IF(OR(SD!G165=\"\"),\"\",SD!G165)","v":"xyz164"},{"$f":"IF(OR(SD!I165=\"\"),\"\",SD!I165)","v":"F"},{"$f":"IF(OR(SD!O165=\"\"),\"\",SD!O165)","v":"SC"},{"$f":"IF(OR(SD!V165=\"\"),\"\",SD!V165)","v":9887353158},{"$f":"IF(SD!D165=\"\",\"\",SD!D165)","v":"2017-07-08"}]
[null,{"$f":"IF(E170=\"\",\"\",ROWS($B$6:B170))","v":165},{"$f":"IF(OR(SD!A166=\"\"),\"\",SD!A166)","v":10},{"$f":"IF(OR(SD!C166=\"\"),\"\",SD!C166)","v":865},{"$f":"IF(OR(SD!E166=\"\"),\"\",SD!E166)","v":"abc165"},{"$f":"IF(OR(SD!G166=\"\"),\"\",SD!G166)","v":"xyz165"},{"$f":"IF(OR(SD!I166=\"\"),\"\",SD!I166)","v":"M"},{"$f":"IF(OR(SD!O166=\"\"),\"\",SD!O166)","v":"SC"},{"$f":"IF(OR(SD!V166=\"\"),\"\",SD!V166)","v":9549742201},{"$f":"IF(SD!D166=\"\",\"\",SD!D166)","v":"2020-09-10"}]
[null,{"$f":"IF(E171=\"\",\"\",ROWS($B$6:B171))","v":166},{"$f":"IF(OR(SD!A167=\"\"),\"\",SD!A167)","v":10},{"$f":"IF(OR(SD!C167=\"\"),\"\",SD!C167)","v":866},{"$f":"IF(OR(SD!E167=\"\"),\"\",SD!E167)","v":"abc166"},{"$f":"IF(OR(SD!G167=\"\"),\"\",SD!G167)","v":"xyz166"},{"$f":"IF(OR(SD!I167=\"\"),\"\",SD!I167)","v":"M"},{"$f":"IF(OR(SD!O167=\"\"),\"\",SD!O167)","v":"OBC"},{"$f":"IF(OR(SD!V167=\"\"),\"\",SD!V167)","v":9982917086},{"$f":"IF(SD!D167=\"\",\"\",SD!D167)","v":"2019-07-22"}]
[null,{"$f":"IF(E172=\"\",\"\",ROWS($B$6:B172))","v":167},{"$f":"IF(OR(SD!A168=\"\"),\"\",SD!A168)","v":10},{"$f":"IF(OR(SD!C168=\"\"),\"\",SD!C168)","v":867},{"$f":"IF(OR(SD!E168=\"\"),\"\",SD!E168)","v":"abc167"},{"$f":"IF(OR(SD!G168=\"\"),\"\",SD!G168)","v":"xyz167"},{"$f":"IF(OR(SD!I168=\"\"),\"\",SD!I168)","v":"M"},{"$f":"IF(OR(SD!O168=\"\"),\"\",SD!O168)","v":"SC"},{"$f":"IF(OR(SD!V168=\"\"),\"\",SD!V168)","v":7891563285},{"$f":"IF(SD!D168=\"\",\"\",SD!D168)","v":"2014-08-20"}]
[null,{"$f":"IF(E173=\"\",\"\",ROWS($B$6:B173))","v":168},{"$f":"IF(OR(SD!A169=\"\"),\"\",SD!A169)","v":10},{"$f":"IF(OR(SD!C169=\"\"),\"\",SD!C169)","v":868},{"$f":"IF(OR(SD!E169=\"\"),\"\",SD!E169)","v":"abc168"},{"$f":"IF(OR(SD!G169=\"\"),\"\",SD!G169)","v":"xyz168"},{"$f":"IF(OR(SD!I169=\"\"),\"\",SD!I169)","v":"M"},{"$f":"IF(OR(SD!O169=\"\"),\"\",SD!O169)","v":"SC"},{"$f":"IF(OR(SD!V169=\"\"),\"\",SD!V169)","v":9783723116},{"$f":"IF(SD!D169=\"\",\"\",SD!D169)","v":"2020-09-10"}]
[null,{"$f":"IF(E174=\"\",\"\",ROWS($B$6:B174))","v":169},{"$f":"IF(OR(SD!A170=\"\"),\"\",SD!A170)","v":10},{"$f":"IF(OR(SD!C170=\"\"),\"\",SD!C170)","v":869},{"$f":"IF(OR(SD!E170=\"\"),\"\",SD!E170)","v":"abc169"},{"$f":"IF(OR(SD!G170=\"\"),\"\",SD!G170)","v":"xyz169"},{"$f":"IF(OR(SD!I170=\"\"),\"\",SD!I170)","v":"M"},{"$f":"IF(OR(SD!O170=\"\"),\"\",SD!O170)","v":"SC"},{"$f":"IF(OR(SD!V170=\"\"),\"\",SD!V170)","v":9694022515},{"$f":"IF(SD!D170=\"\",\"\",SD!D170)","v":"2017-07-01"}]
[null,{"$f":"IF(E175=\"\",\"\",ROWS($B$6:B175))","v":170},{"$f":"IF(OR(SD!A171=\"\"),\"\",SD!A171)","v":10},{"$f":"IF(OR(SD!C171=\"\"),\"\",SD!C171)","v":870},{"$f":"IF(OR(SD!E171=\"\"),\"\",SD!E171)","v":"abc170"},{"$f":"IF(OR(SD!G171=\"\"),\"\",SD!G171)","v":"xyz170"},{"$f":"IF(OR(SD!I171=\"\"),\"\",SD!I171)","v":"F"},{"$f":"IF(OR(SD!O171=\"\"),\"\",SD!O171)","v":"OBC"},{"$f":"IF(OR(SD!V171=\"\"),\"\",SD!V171)","v":9982492186},{"$f":"IF(SD!D171=\"\",\"\",SD!D171)","v":"2017-07-06"}]
[null,{"$f":"IF(E176=\"\",\"\",ROWS($B$6:B176))","v":171},{"$f":"IF(OR(SD!A172=\"\"),\"\",SD!A172)","v":10},{"$f":"IF(OR(SD!C172=\"\"),\"\",SD!C172)","v":871},{"$f":"IF(OR(SD!E172=\"\"),\"\",SD!E172)","v":"abc171"},{"$f":"IF(OR(SD!G172=\"\"),\"\",SD!G172)","v":"xyz171"},{"$f":"IF(OR(SD!I172=\"\"),\"\",SD!I172)","v":"M"},{"$f":"IF(OR(SD!O172=\"\"),\"\",SD!O172)","v":"SC"},{"$f":"IF(OR(SD!V172=\"\"),\"\",SD!V172)","v":9828890383},{"$f":"IF(SD!D172=\"\",\"\",SD!D172)","v":"2020-08-31"}]
[null,{"$f":"IF(E177=\"\",\"\",ROWS($B$6:B177))","v":172},{"$f":"IF(OR(SD!A173=\"\"),\"\",SD!A173)","v":10},{"$f":"IF(OR(SD!C173=\"\"),\"\",SD!C173)","v":872},{"$f":"IF(OR(SD!E173=\"\"),\"\",SD!E173)","v":"abc172"},{"$f":"IF(OR(SD!G173=\"\"),\"\",SD!G173)","v":"xyz172"},{"$f":"IF(OR(SD!I173=\"\"),\"\",SD!I173)","v":"M"},{"$f":"IF(OR(SD!O173=\"\"),\"\",SD!O173)","v":"OBC"},{"$f":"IF(OR(SD!V173=\"\"),\"\",SD!V173)","v":8696109542},{"$f":"IF(SD!D173=\"\",\"\",SD!D173)","v":"2020-09-19"}]
[null,{"$f":"IF(E178=\"\",\"\",ROWS($B$6:B178))","v":173},{"$f":"IF(OR(SD!A174=\"\"),\"\",SD!A174)","v":10},{"$f":"IF(OR(SD!C174=\"\"),\"\",SD!C174)","v":873},{"$f":"IF(OR(SD!E174=\"\"),\"\",SD!E174)","v":"abc173"},{"$f":"IF(OR(SD!G174=\"\"),\"\",SD!G174)","v":"xyz173"},{"$f":"IF(OR(SD!I174=\"\"),\"\",SD!I174)","v":"M"},{"$f":"IF(OR(SD!O174=\"\"),\"\",SD!O174)","v":"SC"},{"$f":"IF(OR(SD!V174=\"\"),\"\",SD!V174)","v":7891428970},{"$f":"IF(SD!D174=\"\",\"\",SD!D174)","v":"2014-08-20"}]
[null,{"$f":"IF(E179=\"\",\"\",ROWS($B$6:B179))","v":174},{"$f":"IF(OR(SD!A175=\"\"),\"\",SD!A175)","v":10},{"$f":"IF(OR(SD!C175=\"\"),\"\",SD!C175)","v":874},{"$f":"IF(OR(SD!E175=\"\"),\"\",SD!E175)","v":"abc174"},{"$f":"IF(OR(SD!G175=\"\"),\"\",SD!G175)","v":"xyz174"},{"$f":"IF(OR(SD!I175=\"\"),\"\",SD!I175)","v":"F"},{"$f":"IF(OR(SD!O175=\"\"),\"\",SD!O175)","v":"SC"},{"$f":"IF(OR(SD!V175=\"\"),\"\",SD!V175)","v":9772057361},{"$f":"IF(SD!D175=\"\",\"\",SD!D175)","v":"2014-08-20"}]
[null,{"$f":"IF(E180=\"\",\"\",ROWS($B$6:B180))","v":175},{"$f":"IF(OR(SD!A176=\"\"),\"\",SD!A176)","v":10},{"$f":"IF(OR(SD!C176=\"\"),\"\",SD!C176)","v":875},{"$f":"IF(OR(SD!E176=\"\"),\"\",SD!E176)","v":"abc175"},{"$f":"IF(OR(SD!G176=\"\"),\"\",SD!G176)","v":"xyz175"},{"$f":"IF(OR(SD!I176=\"\"),\"\",SD!I176)","v":"F"},{"$f":"IF(OR(SD!O176=\"\"),\"\",SD!O176)","v":"SC"},{"$f":"IF(OR(SD!V176=\"\"),\"\",SD!V176)","v":9660388726},{"$f":"IF(SD!D176=\"\",\"\",SD!D176)","v":"2015-07-15"}]
[null,{"$f":"IF(E181=\"\",\"\",ROWS($B$6:B181))","v":176},{"$f":"IF(OR(SD!A177=\"\"),\"\",SD!A177)","v":10},{"$f":"IF(OR(SD!C177=\"\"),\"\",SD!C177)","v":876},{"$f":"IF(OR(SD!E177=\"\"),\"\",SD!E177)","v":"abc176"},{"$f":"IF(OR(SD!G177=\"\"),\"\",SD!G177)","v":"xyz176"},{"$f":"IF(OR(SD!I177=\"\"),\"\",SD!I177)","v":"F"},{"$f":"IF(OR(SD!O177=\"\"),\"\",SD!O177)","v":"SC"},{"$f":"IF(OR(SD!V177=\"\"),\"\",SD!V177)","v":9672592748},{"$f":"IF(SD!D177=\"\",\"\",SD!D177)","v":"2018-07-21"}]
[null,{"$f":"IF(E182=\"\",\"\",ROWS($B$6:B182))","v":177},{"$f":"IF(OR(SD!A178=\"\"),\"\",SD!A178)","v":10},{"$f":"IF(OR(SD!C178=\"\"),\"\",SD!C178)","v":877},{"$f":"IF(OR(SD!E178=\"\"),\"\",SD!E178)","v":"abc177"},{"$f":"IF(OR(SD!G178=\"\"),\"\",SD!G178)","v":"xyz177"},{"$f":"IF(OR(SD!I178=\"\"),\"\",SD!I178)","v":"F"},{"$f":"IF(OR(SD!O178=\"\"),\"\",SD!O178)","v":"OBC"},{"$f":"IF(OR(SD!V178=\"\"),\"\",SD!V178)","v":9610345874},{"$f":"IF(SD!D178=\"\",\"\",SD!D178)","v":"2014-08-20"}]
[null,{"$f":"IF(E183=\"\",\"\",ROWS($B$6:B183))","v":178},{"$f":"IF(OR(SD!A179=\"\"),\"\",SD!A179)","v":10},{"$f":"IF(OR(SD!C179=\"\"),\"\",SD!C179)","v":878},{"$f":"IF(OR(SD!E179=\"\"),\"\",SD!E179)","v":"abc178"},{"$f":"IF(OR(SD!G179=\"\"),\"\",SD!G179)","v":"xyz178"},{"$f":"IF(OR(SD!I179=\"\"),\"\",SD!I179)","v":"M"},{"$f":"IF(OR(SD!O179=\"\"),\"\",SD!O179)","v":"OBC"},{"$f":"IF(OR(SD!V179=\"\"),\"\",SD!V179)","v":7357819502},{"$f":"IF(SD!D179=\"\",\"\",SD!D179)","v":"2020-09-12"}]
[null,{"$f":"IF(E184=\"\",\"\",ROWS($B$6:B184))","v":179},{"$f":"IF(OR(SD!A180=\"\"),\"\",SD!A180)","v":10},{"$f":"IF(OR(SD!C180=\"\"),\"\",SD!C180)","v":879},{"$f":"IF(OR(SD!E180=\"\"),\"\",SD!E180)","v":"abc179"},{"$f":"IF(OR(SD!G180=\"\"),\"\",SD!G180)","v":"xyz179"},{"$f":"IF(OR(SD!I180=\"\"),\"\",SD!I180)","v":"F"},{"$f":"IF(OR(SD!O180=\"\"),\"\",SD!O180)","v":"OBC"},{"$f":"IF(OR(SD!V180=\"\"),\"\",SD!V180)","v":9414984798},{"$f":"IF(SD!D180=\"\",\"\",SD!D180)","v":"2020-09-19"}]
[null,{"$f":"IF(E185=\"\",\"\",ROWS($B$6:B185))","v":180},{"$f":"IF(OR(SD!A181=\"\"),\"\",SD!A181)","v":10},{"$f":"IF(OR(SD!C181=\"\"),\"\",SD!C181)","v":880},{"$f":"IF(OR(SD!E181=\"\"),\"\",SD!E181)","v":"abc180"},{"$f":"IF(OR(SD!G181=\"\"),\"\",SD!G181)","v":"xyz180"},{"$f":"IF(OR(SD!I181=\"\"),\"\",SD!I181)","v":"F"},{"$f":"IF(OR(SD!O181=\"\"),\"\",SD!O181)","v":"SC"},{"$f":"IF(OR(SD!V181=\"\"),\"\",SD!V181)","v":9887054335},{"$f":"IF(SD!D181=\"\",\"\",SD!D181)","v":"2015-07-13"}]
[null,{"$f":"IF(E186=\"\",\"\",ROWS($B$6:B186))","v":181},{"$f":"IF(OR(SD!A182=\"\"),\"\",SD!A182)","v":10},{"$f":"IF(OR(SD!C182=\"\"),\"\",SD!C182)","v":881},{"$f":"IF(OR(SD!E182=\"\"),\"\",SD!E182)","v":"abc181"},{"$f":"IF(OR(SD!G182=\"\"),\"\",SD!G182)","v":"xyz181"},{"$f":"IF(OR(SD!I182=\"\"),\"\",SD!I182)","v":"F"},{"$f":"IF(OR(SD!O182=\"\"),\"\",SD!O182)","v":"SC"},{"$f":"IF(OR(SD!V182=\"\"),\"\",SD!V182)","v":9610269622},{"$f":"IF(SD!D182=\"\",\"\",SD!D182)","v":"2014-08-20"}]
[null,{"$f":"IF(E187=\"\",\"\",ROWS($B$6:B187))","v":182},{"$f":"IF(OR(SD!A183=\"\"),\"\",SD!A183)","v":10},{"$f":"IF(OR(SD!C183=\"\"),\"\",SD!C183)","v":882},{"$f":"IF(OR(SD!E183=\"\"),\"\",SD!E183)","v":"abc182"},{"$f":"IF(OR(SD!G183=\"\"),\"\",SD!G183)","v":"xyz182"},{"$f":"IF(OR(SD!I183=\"\"),\"\",SD!I183)","v":"F"},{"$f":"IF(OR(SD!O183=\"\"),\"\",SD!O183)","v":"OBC"},{"$f":"IF(OR(SD!V183=\"\"),\"\",SD!V183)","v":9783599940},{"$f":"IF(SD!D183=\"\",\"\",SD!D183)","v":"2019-07-19"}]
[null,{"$f":"IF(E188=\"\",\"\",ROWS($B$6:B188))","v":183},{"$f":"IF(OR(SD!A184=\"\"),\"\",SD!A184)","v":10},{"$f":"IF(OR(SD!C184=\"\"),\"\",SD!C184)","v":883},{"$f":"IF(OR(SD!E184=\"\"),\"\",SD!E184)","v":"abc183"},{"$f":"IF(OR(SD!G184=\"\"),\"\",SD!G184)","v":"xyz183"},{"$f":"IF(OR(SD!I184=\"\"),\"\",SD!I184)","v":"M"},{"$f":"IF(OR(SD!O184=\"\"),\"\",SD!O184)","v":"OBC"},{"$f":"IF(OR(SD!V184=\"\"),\"\",SD!V184)","v":6376182311},{"$f":"IF(SD!D184=\"\",\"\",SD!D184)","v":"2021-01-30"}]
[null,{"$f":"IF(E189=\"\",\"\",ROWS($B$6:B189))","v":184},{"$f":"IF(OR(SD!A185=\"\"),\"\",SD!A185)","v":10},{"$f":"IF(OR(SD!C185=\"\"),\"\",SD!C185)","v":884},{"$f":"IF(OR(SD!E185=\"\"),\"\",SD!E185)","v":"abc184"},{"$f":"IF(OR(SD!G185=\"\"),\"\",SD!G185)","v":"xyz184"},{"$f":"IF(OR(SD!I185=\"\"),\"\",SD!I185)","v":"M"},{"$f":"IF(OR(SD!O185=\"\"),\"\",SD!O185)","v":"OBC"},{"$f":"IF(OR(SD!V185=\"\"),\"\",SD!V185)","v":6376009453},{"$f":"IF(SD!D185=\"\",\"\",SD!D185)","v":"2019-07-31"}]
[null,{"$f":"IF(E190=\"\",\"\",ROWS($B$6:B190))","v":185},{"$f":"IF(OR(SD!A186=\"\"),\"\",SD!A186)","v":10},{"$f":"IF(OR(SD!C186=\"\"),\"\",SD!C186)","v":885},{"$f":"IF(OR(SD!E186=\"\"),\"\",SD!E186)","v":"abc185"},{"$f":"IF(OR(SD!G186=\"\"),\"\",SD!G186)","v":"xyz185"},{"$f":"IF(OR(SD!I186=\"\"),\"\",SD!I186)","v":"F"},{"$f":"IF(OR(SD!O186=\"\"),\"\",SD!O186)","v":"SC"},{"$f":"IF(OR(SD!V186=\"\"),\"\",SD!V186)","v":9772129541},{"$f":"IF(SD!D186=\"\",\"\",SD!D186)","v":"2014-08-20"}]
[null,{"$f":"IF(E191=\"\",\"\",ROWS($B$6:B191))","v":186},{"$f":"IF(OR(SD!A187=\"\"),\"\",SD!A187)","v":10},{"$f":"IF(OR(SD!C187=\"\"),\"\",SD!C187)","v":886},{"$f":"IF(OR(SD!E187=\"\"),\"\",SD!E187)","v":"abc186"},{"$f":"IF(OR(SD!G187=\"\"),\"\",SD!G187)","v":"xyz186"},{"$f":"IF(OR(SD!I187=\"\"),\"\",SD!I187)","v":"M"},{"$f":"IF(OR(SD!O187=\"\"),\"\",SD!O187)","v":"OBC"},{"$f":"IF(OR(SD!V187=\"\"),\"\",SD!V187)","v":9982492186},{"$f":"IF(SD!D187=\"\",\"\",SD!D187)","v":"2017-07-06"}]
[null,{"$f":"IF(E192=\"\",\"\",ROWS($B$6:B192))","v":187},{"$f":"IF(OR(SD!A188=\"\"),\"\",SD!A188)","v":10},{"$f":"IF(OR(SD!C188=\"\"),\"\",SD!C188)","v":887},{"$f":"IF(OR(SD!E188=\"\"),\"\",SD!E188)","v":"abc187"},{"$f":"IF(OR(SD!G188=\"\"),\"\",SD!G188)","v":"xyz187"},{"$f":"IF(OR(SD!I188=\"\"),\"\",SD!I188)","v":"F"},{"$f":"IF(OR(SD!O188=\"\"),\"\",SD!O188)","v":"OBC"},{"$f":"IF(OR(SD!V188=\"\"),\"\",SD!V188)","v":9672690359},{"$f":"IF(SD!D188=\"\",\"\",SD!D188)","v":"2014-08-20"}]
[null,{"$f":"IF(E193=\"\",\"\",ROWS($B$6:B193))","v":188},{"$f":"IF(OR(SD!A189=\"\"),\"\",SD!A189)","v":10},{"$f":"IF(OR(SD!C189=\"\"),\"\",SD!C189)","v":888},{"$f":"IF(OR(SD!E189=\"\"),\"\",SD!E189)","v":"abc188"},{"$f":"IF(OR(SD!G189=\"\"),\"\",SD!G189)","v":"xyz188"},{"$f":"IF(OR(SD!I189=\"\"),\"\",SD!I189)","v":"F"},{"$f":"IF(OR(SD!O189=\"\"),\"\",SD!O189)","v":"OBC"},{"$f":"IF(OR(SD!V189=\"\"),\"\",SD!V189)","v":9414505355},{"$f":"IF(SD!D189=\"\",\"\",SD!D189)","v":"2020-12-04"}]
[null,{"$f":"IF(E194=\"\",\"\",ROWS($B$6:B194))","v":189},{"$f":"IF(OR(SD!A190=\"\"),\"\",SD!A190)","v":10},{"$f":"IF(OR(SD!C190=\"\"),\"\",SD!C190)","v":889},{"$f":"IF(OR(SD!E190=\"\"),\"\",SD!E190)","v":"abc189"},{"$f":"IF(OR(SD!G190=\"\"),\"\",SD!G190)","v":"xyz189"},{"$f":"IF(OR(SD!I190=\"\"),\"\",SD!I190)","v":"F"},{"$f":"IF(OR(SD!O190=\"\"),\"\",SD!O190)","v":"OBC"},{"$f":"IF(OR(SD!V190=\"\"),\"\",SD!V190)","v":9628753401},{"$f":"IF(SD!D190=\"\",\"\",SD!D190)","v":"2014-08-20"}]
[null,{"$f":"IF(E195=\"\",\"\",ROWS($B$6:B195))","v":190},{"$f":"IF(OR(SD!A191=\"\"),\"\",SD!A191)","v":10},{"$f":"IF(OR(SD!C191=\"\"),\"\",SD!C191)","v":890},{"$f":"IF(OR(SD!E191=\"\"),\"\",SD!E191)","v":"abc190"},{"$f":"IF(OR(SD!G191=\"\"),\"\",SD!G191)","v":"xyz190"},{"$f":"IF(OR(SD!I191=\"\"),\"\",SD!I191)","v":"M"},{"$f":"IF(OR(SD!O191=\"\"),\"\",SD!O191)","v":"SC"},{"$f":"IF(OR(SD!V191=\"\"),\"\",SD!V191)","v":8502924690},{"$f":"IF(SD!D191=\"\",\"\",SD!D191)","v":"2019-07-16"}]
[null,{"$f":"IF(E196=\"\",\"\",ROWS($B$6:B196))","v":191},{"$f":"IF(OR(SD!A192=\"\"),\"\",SD!A192)","v":10},{"$f":"IF(OR(SD!C192=\"\"),\"\",SD!C192)","v":891},{"$f":"IF(OR(SD!E192=\"\"),\"\",SD!E192)","v":"abc191"},{"$f":"IF(OR(SD!G192=\"\"),\"\",SD!G192)","v":"xyz191"},{"$f":"IF(OR(SD!I192=\"\"),\"\",SD!I192)","v":"F"},{"$f":"IF(OR(SD!O192=\"\"),\"\",SD!O192)","v":"SC"},{"$f":"IF(OR(SD!V192=\"\"),\"\",SD!V192)","v":9982833127},{"$f":"IF(SD!D192=\"\",\"\",SD!D192)","v":"2019-07-25"}]
[null,{"$f":"IF(E197=\"\",\"\",ROWS($B$6:B197))","v":192},{"$f":"IF(OR(SD!A193=\"\"),\"\",SD!A193)","v":10},{"$f":"IF(OR(SD!C193=\"\"),\"\",SD!C193)","v":892},{"$f":"IF(OR(SD!E193=\"\"),\"\",SD!E193)","v":"abc192"},{"$f":"IF(OR(SD!G193=\"\"),\"\",SD!G193)","v":"xyz192"},{"$f":"IF(OR(SD!I193=\"\"),\"\",SD!I193)","v":"F"},{"$f":"IF(OR(SD!O193=\"\"),\"\",SD!O193)","v":"SC"},{"$f":"IF(OR(SD!V193=\"\"),\"\",SD!V193)","v":9785807147},{"$f":"IF(SD!D193=\"\",\"\",SD!D193)","v":"2017-07-10"}]
[null,{"$f":"IF(E198=\"\",\"\",ROWS($B$6:B198))","v":193},{"$f":"IF(OR(SD!A194=\"\"),\"\",SD!A194)","v":10},{"$f":"IF(OR(SD!C194=\"\"),\"\",SD!C194)","v":893},{"$f":"IF(OR(SD!E194=\"\"),\"\",SD!E194)","v":"abc193"},{"$f":"IF(OR(SD!G194=\"\"),\"\",SD!G194)","v":"xyz193"},{"$f":"IF(OR(SD!I194=\"\"),\"\",SD!I194)","v":"M"},{"$f":"IF(OR(SD!O194=\"\"),\"\",SD!O194)","v":"SC"},{"$f":"IF(OR(SD!V194=\"\"),\"\",SD!V194)","v":9461374675},{"$f":"IF(SD!D194=\"\",\"\",SD!D194)","v":"2019-08-01"}]
[null,{"$f":"IF(E199=\"\",\"\",ROWS($B$6:B199))","v":194},{"$f":"IF(OR(SD!A195=\"\"),\"\",SD!A195)","v":10},{"$f":"IF(OR(SD!C195=\"\"),\"\",SD!C195)","v":894},{"$f":"IF(OR(SD!E195=\"\"),\"\",SD!E195)","v":"abc194"},{"$f":"IF(OR(SD!G195=\"\"),\"\",SD!G195)","v":"xyz194"},{"$f":"IF(OR(SD!I195=\"\"),\"\",SD!I195)","v":"F"},{"$f":"IF(OR(SD!O195=\"\"),\"\",SD!O195)","v":"OBC"},{"$f":"IF(OR(SD!V195=\"\"),\"\",SD!V195)","v":7740828502},{"$f":"IF(SD!D195=\"\",\"\",SD!D195)","v":"2020-08-18"}]
[null,{"$f":"IF(E200=\"\",\"\",ROWS($B$6:B200))","v":195},{"$f":"IF(OR(SD!A196=\"\"),\"\",SD!A196)","v":10},{"$f":"IF(OR(SD!C196=\"\"),\"\",SD!C196)","v":895},{"$f":"IF(OR(SD!E196=\"\"),\"\",SD!E196)","v":"abc195"},{"$f":"IF(OR(SD!G196=\"\"),\"\",SD!G196)","v":"xyz195"},{"$f":"IF(OR(SD!I196=\"\"),\"\",SD!I196)","v":"F"},{"$f":"IF(OR(SD!O196=\"\"),\"\",SD!O196)","v":"SC"},{"$f":"IF(OR(SD!V196=\"\"),\"\",SD!V196)","v":9649550661},{"$f":"IF(SD!D196=\"\",\"\",SD!D196)","v":"2018-07-21"}]
[null,{"$f":"IF(E201=\"\",\"\",ROWS($B$6:B201))","v":196},{"$f":"IF(OR(SD!A197=\"\"),\"\",SD!A197)","v":10},{"$f":"IF(OR(SD!C197=\"\"),\"\",SD!C197)","v":896},{"$f":"IF(OR(SD!E197=\"\"),\"\",SD!E197)","v":"abc196"},{"$f":"IF(OR(SD!G197=\"\"),\"\",SD!G197)","v":"xyz196"},{"$f":"IF(OR(SD!I197=\"\"),\"\",SD!I197)","v":"M"},{"$f":"IF(OR(SD!O197=\"\"),\"\",SD!O197)","v":"OBC"},{"$f":"IF(OR(SD!V197=\"\"),\"\",SD!V197)","v":9694703389},{"$f":"IF(SD!D197=\"\",\"\",SD!D197)","v":"2019-07-22"}]
[null,{"$f":"IF(E202=\"\",\"\",ROWS($B$6:B202))","v":197},{"$f":"IF(OR(SD!A198=\"\"),\"\",SD!A198)","v":10},{"$f":"IF(OR(SD!C198=\"\"),\"\",SD!C198)","v":897},{"$f":"IF(OR(SD!E198=\"\"),\"\",SD!E198)","v":"abc197"},{"$f":"IF(OR(SD!G198=\"\"),\"\",SD!G198)","v":"xyz197"},{"$f":"IF(OR(SD!I198=\"\"),\"\",SD!I198)","v":"M"},{"$f":"IF(OR(SD!O198=\"\"),\"\",SD!O198)","v":"SC"},{"$f":"IF(OR(SD!V198=\"\"),\"\",SD!V198)","v":8107055392},{"$f":"IF(SD!D198=\"\",\"\",SD!D198)","v":"2020-08-31"}]
[null,{"$f":"IF(E203=\"\",\"\",ROWS($B$6:B203))","v":198},{"$f":"IF(OR(SD!A199=\"\"),\"\",SD!A199)","v":10},{"$f":"IF(OR(SD!C199=\"\"),\"\",SD!C199)","v":898},{"$f":"IF(OR(SD!E199=\"\"),\"\",SD!E199)","v":"abc198"},{"$f":"IF(OR(SD!G199=\"\"),\"\",SD!G199)","v":"xyz198"},{"$f":"IF(OR(SD!I199=\"\"),\"\",SD!I199)","v":"M"},{"$f":"IF(OR(SD!O199=\"\"),\"\",SD!O199)","v":"SC"},{"$f":"IF(OR(SD!V199=\"\"),\"\",SD!V199)","v":8890702546},{"$f":"IF(SD!D199=\"\",\"\",SD!D199)","v":"2018-07-11"}]
[null,{"$f":"IF(E204=\"\",\"\",ROWS($B$6:B204))","v":199},{"$f":"IF(OR(SD!A200=\"\"),\"\",SD!A200)","v":12},{"$f":"IF(OR(SD!C200=\"\"),\"\",SD!C200)","v":899},{"$f":"IF(OR(SD!E200=\"\"),\"\",SD!E200)","v":"abc199"},{"$f":"IF(OR(SD!G200=\"\"),\"\",SD!G200)","v":"xyz199"},{"$f":"IF(OR(SD!I200=\"\"),\"\",SD!I200)","v":"F"},{"$f":"IF(OR(SD!O200=\"\"),\"\",SD!O200)","v":"OBC"},{"$f":"IF(OR(SD!V200=\"\"),\"\",SD!V200)","v":9799664712},{"$f":"IF(SD!D200=\"\",\"\",SD!D200)","v":"2014-08-20"}]
[null,{"$f":"IF(E205=\"\",\"\",ROWS($B$6:B205))","v":200},{"$f":"IF(OR(SD!A201=\"\"),\"\",SD!A201)","v":12},{"$f":"IF(OR(SD!C201=\"\"),\"\",SD!C201)","v":900},{"$f":"IF(OR(SD!E201=\"\"),\"\",SD!E201)","v":"abc200"},{"$f":"IF(OR(SD!G201=\"\"),\"\",SD!G201)","v":"xyz200"},{"$f":"IF(OR(SD!I201=\"\"),\"\",SD!I201)","v":"M"},{"$f":"IF(OR(SD!O201=\"\"),\"\",SD!O201)","v":"SC"},{"$f":"IF(OR(SD!V201=\"\"),\"\",SD!V201)","v":9982833127},{"$f":"IF(SD!D201=\"\",\"\",SD!D201)","v":"2016-07-05"}]
[null,{"$f":"IF(E206=\"\",\"\",ROWS($B$6:B206))","v":201},{"$f":"IF(OR(SD!A202=\"\"),\"\",SD!A202)","v":12},{"$f":"IF(OR(SD!C202=\"\"),\"\",SD!C202)","v":901},{"$f":"IF(OR(SD!E202=\"\"),\"\",SD!E202)","v":"abc201"},{"$f":"IF(OR(SD!G202=\"\"),\"\",SD!G202)","v":"xyz201"},{"$f":"IF(OR(SD!I202=\"\"),\"\",SD!I202)","v":"F"},{"$f":"IF(OR(SD!O202=\"\"),\"\",SD!O202)","v":"OBC"},{"$f":"IF(OR(SD!V202=\"\"),\"\",SD!V202)","v":9694703389},{"$f":"IF(SD!D202=\"\",\"\",SD!D202)","v":"2014-08-20"}]
[null,{"$f":"IF(E207=\"\",\"\",ROWS($B$6:B207))","v":202},{"$f":"IF(OR(SD!A203=\"\"),\"\",SD!A203)","v":12},{"$f":"IF(OR(SD!C203=\"\"),\"\",SD!C203)","v":902},{"$f":"IF(OR(SD!E203=\"\"),\"\",SD!E203)","v":"abc202"},{"$f":"IF(OR(SD!G203=\"\"),\"\",SD!G203)","v":"xyz202"},{"$f":"IF(OR(SD!I203=\"\"),\"\",SD!I203)","v":"M"},{"$f":"IF(OR(SD!O203=\"\"),\"\",SD!O203)","v":"SC"},{"$f":"IF(OR(SD!V203=\"\"),\"\",SD!V203)","v":8114426865},{"$f":"IF(SD!D203=\"\",\"\",SD!D203)","v":"2015-07-15"}]
[null,{"$f":"IF(E208=\"\",\"\",ROWS($B$6:B208))","v":203},{"$f":"IF(OR(SD!A204=\"\"),\"\",SD!A204)","v":12},{"$f":"IF(OR(SD!C204=\"\"),\"\",SD!C204)","v":903},{"$f":"IF(OR(SD!E204=\"\"),\"\",SD!E204)","v":"abc203"},{"$f":"IF(OR(SD!G204=\"\"),\"\",SD!G204)","v":"xyz203"},{"$f":"IF(OR(SD!I204=\"\"),\"\",SD!I204)","v":"M"},{"$f":"IF(OR(SD!O204=\"\"),\"\",SD!O204)","v":"OBC"},{"$f":"IF(OR(SD!V204=\"\"),\"\",SD!V204)","v":8104851953},{"$f":"IF(SD!D204=\"\",\"\",SD!D204)","v":"2015-07-08"}]
[null,{"$f":"IF(E209=\"\",\"\",ROWS($B$6:B209))","v":204},{"$f":"IF(OR(SD!A205=\"\"),\"\",SD!A205)","v":12},{"$f":"IF(OR(SD!C205=\"\"),\"\",SD!C205)","v":904},{"$f":"IF(OR(SD!E205=\"\"),\"\",SD!E205)","v":"abc204"},{"$f":"IF(OR(SD!G205=\"\"),\"\",SD!G205)","v":"xyz204"},{"$f":"IF(OR(SD!I205=\"\"),\"\",SD!I205)","v":"M"},{"$f":"IF(OR(SD!O205=\"\"),\"\",SD!O205)","v":"OBC"},{"$f":"IF(OR(SD!V205=\"\"),\"\",SD!V205)","v":7665329127},{"$f":"IF(SD!D205=\"\",\"\",SD!D205)","v":"2015-07-08"}]
[null,{"$f":"IF(E210=\"\",\"\",ROWS($B$6:B210))","v":205},{"$f":"IF(OR(SD!A206=\"\"),\"\",SD!A206)","v":12},{"$f":"IF(OR(SD!C206=\"\"),\"\",SD!C206)","v":905},{"$f":"IF(OR(SD!E206=\"\"),\"\",SD!E206)","v":"abc205"},{"$f":"IF(OR(SD!G206=\"\"),\"\",SD!G206)","v":"xyz205"},{"$f":"IF(OR(SD!I206=\"\"),\"\",SD!I206)","v":"M"},{"$f":"IF(OR(SD!O206=\"\"),\"\",SD!O206)","v":"SC"},{"$f":"IF(OR(SD!V206=\"\"),\"\",SD!V206)","v":9549564474},{"$f":"IF(SD!D206=\"\",\"\",SD!D206)","v":"2014-08-20"}]
[null,{"$f":"IF(E211=\"\",\"\",ROWS($B$6:B211))","v":206},{"$f":"IF(OR(SD!A207=\"\"),\"\",SD!A207)","v":12},{"$f":"IF(OR(SD!C207=\"\"),\"\",SD!C207)","v":906},{"$f":"IF(OR(SD!E207=\"\"),\"\",SD!E207)","v":"abc206"},{"$f":"IF(OR(SD!G207=\"\"),\"\",SD!G207)","v":"xyz206"},{"$f":"IF(OR(SD!I207=\"\"),\"\",SD!I207)","v":"F"},{"$f":"IF(OR(SD!O207=\"\"),\"\",SD!O207)","v":"SC"},{"$f":"IF(OR(SD!V207=\"\"),\"\",SD!V207)","v":9887357747},{"$f":"IF(SD!D207=\"\",\"\",SD!D207)","v":"2018-08-01"}]
[null,{"$f":"IF(E212=\"\",\"\",ROWS($B$6:B212))","v":207},{"$f":"IF(OR(SD!A208=\"\"),\"\",SD!A208)","v":12},{"$f":"IF(OR(SD!C208=\"\"),\"\",SD!C208)","v":907},{"$f":"IF(OR(SD!E208=\"\"),\"\",SD!E208)","v":"abc207"},{"$f":"IF(OR(SD!G208=\"\"),\"\",SD!G208)","v":"xyz207"},{"$f":"IF(OR(SD!I208=\"\"),\"\",SD!I208)","v":"F"},{"$f":"IF(OR(SD!O208=\"\"),\"\",SD!O208)","v":"SC"},{"$f":"IF(OR(SD!V208=\"\"),\"\",SD!V208)","v":9887357747},{"$f":"IF(SD!D208=\"\",\"\",SD!D208)","v":"2018-08-01"}]
[null,{"$f":"IF(E213=\"\",\"\",ROWS($B$6:B213))","v":208},{"$f":"IF(OR(SD!A209=\"\"),\"\",SD!A209)","v":12},{"$f":"IF(OR(SD!C209=\"\"),\"\",SD!C209)","v":908},{"$f":"IF(OR(SD!E209=\"\"),\"\",SD!E209)","v":"abc208"},{"$f":"IF(OR(SD!G209=\"\"),\"\",SD!G209)","v":"xyz208"},{"$f":"IF(OR(SD!I209=\"\"),\"\",SD!I209)","v":"M"},{"$f":"IF(OR(SD!O209=\"\"),\"\",SD!O209)","v":"SC"},{"$f":"IF(OR(SD!V209=\"\"),\"\",SD!V209)","v":9587706992},{"$f":"IF(SD!D209=\"\",\"\",SD!D209)","v":"2015-07-13"}]
[null,{"$f":"IF(E214=\"\",\"\",ROWS($B$6:B214))","v":209},{"$f":"IF(OR(SD!A210=\"\"),\"\",SD!A210)","v":12},{"$f":"IF(OR(SD!C210=\"\"),\"\",SD!C210)","v":909},{"$f":"IF(OR(SD!E210=\"\"),\"\",SD!E210)","v":"abc209"},{"$f":"IF(OR(SD!G210=\"\"),\"\",SD!G210)","v":"xyz209"},{"$f":"IF(OR(SD!I210=\"\"),\"\",SD!I210)","v":"F"},{"$f":"IF(OR(SD!O210=\"\"),\"\",SD!O210)","v":"OBC"},{"$f":"IF(OR(SD!V210=\"\"),\"\",SD!V210)","v":9783463410},{"$f":"IF(SD!D210=\"\",\"\",SD!D210)","v":"2014-08-20"}]
[null,{"$f":"IF(E215=\"\",\"\",ROWS($B$6:B215))","v":210},{"$f":"IF(OR(SD!A211=\"\"),\"\",SD!A211)","v":12},{"$f":"IF(OR(SD!C211=\"\"),\"\",SD!C211)","v":910},{"$f":"IF(OR(SD!E211=\"\"),\"\",SD!E211)","v":"abc210"},{"$f":"IF(OR(SD!G211=\"\"),\"\",SD!G211)","v":"xyz210"},{"$f":"IF(OR(SD!I211=\"\"),\"\",SD!I211)","v":"F"},{"$f":"IF(OR(SD!O211=\"\"),\"\",SD!O211)","v":"SC"},{"$f":"IF(OR(SD!V211=\"\"),\"\",SD!V211)","v":9649334815},{"$f":"IF(SD!D211=\"\",\"\",SD!D211)","v":"2017-07-13"}]
[null,{"$f":"IF(E216=\"\",\"\",ROWS($B$6:B216))","v":211},{"$f":"IF(OR(SD!A212=\"\"),\"\",SD!A212)","v":12},{"$f":"IF(OR(SD!C212=\"\"),\"\",SD!C212)","v":911},{"$f":"IF(OR(SD!E212=\"\"),\"\",SD!E212)","v":"abc211"},{"$f":"IF(OR(SD!G212=\"\"),\"\",SD!G212)","v":"xyz211"},{"$f":"IF(OR(SD!I212=\"\"),\"\",SD!I212)","v":"F"},{"$f":"IF(OR(SD!O212=\"\"),\"\",SD!O212)","v":"SC"},{"$f":"IF(OR(SD!V212=\"\"),\"\",SD!V212)","v":8000496602},{"$f":"IF(SD!D212=\"\",\"\",SD!D212)","v":"2018-07-27"}]
[null,{"$f":"IF(E217=\"\",\"\",ROWS($B$6:B217))","v":212},{"$f":"IF(OR(SD!A213=\"\"),\"\",SD!A213)","v":12},{"$f":"IF(OR(SD!C213=\"\"),\"\",SD!C213)","v":912},{"$f":"IF(OR(SD!E213=\"\"),\"\",SD!E213)","v":"abc212"},{"$f":"IF(OR(SD!G213=\"\"),\"\",SD!G213)","v":"xyz212"},{"$f":"IF(OR(SD!I213=\"\"),\"\",SD!I213)","v":"M"},{"$f":"IF(OR(SD!O213=\"\"),\"\",SD!O213)","v":"SC"},{"$f":"IF(OR(SD!V213=\"\"),\"\",SD!V213)","v":9649550631},{"$f":"IF(SD!D213=\"\",\"\",SD!D213)","v":"2019-07-13"}]
[null,{"$f":"IF(E218=\"\",\"\",ROWS($B$6:B218))","v":213},{"$f":"IF(OR(SD!A214=\"\"),\"\",SD!A214)","v":12},{"$f":"IF(OR(SD!C214=\"\"),\"\",SD!C214)","v":913},{"$f":"IF(OR(SD!E214=\"\"),\"\",SD!E214)","v":"abc213"},{"$f":"IF(OR(SD!G214=\"\"),\"\",SD!G214)","v":"xyz213"},{"$f":"IF(OR(SD!I214=\"\"),\"\",SD!I214)","v":"F"},{"$f":"IF(OR(SD!O214=\"\"),\"\",SD!O214)","v":"OBC"},{"$f":"IF(OR(SD!V214=\"\"),\"\",SD!V214)","v":7742142697},{"$f":"IF(SD!D214=\"\",\"\",SD!D214)","v":"2018-07-03"}]
[null,{"$f":"IF(E219=\"\",\"\",ROWS($B$6:B219))","v":214},{"$f":"IF(OR(SD!A215=\"\"),\"\",SD!A215)","v":12},{"$f":"IF(OR(SD!C215=\"\"),\"\",SD!C215)","v":914},{"$f":"IF(OR(SD!E215=\"\"),\"\",SD!E215)","v":"abc214"},{"$f":"IF(OR(SD!G215=\"\"),\"\",SD!G215)","v":"xyz214"},{"$f":"IF(OR(SD!I215=\"\"),\"\",SD!I215)","v":"M"},{"$f":"IF(OR(SD!O215=\"\"),\"\",SD!O215)","v":"SC"},{"$f":"IF(OR(SD!V215=\"\"),\"\",SD!V215)","v":8239151381},{"$f":"IF(SD!D215=\"\",\"\",SD!D215)","v":"2014-08-20"}]
[null,{"$f":"IF(E220=\"\",\"\",ROWS($B$6:B220))","v":215},{"$f":"IF(OR(SD!A216=\"\"),\"\",SD!A216)","v":12},{"$f":"IF(OR(SD!C216=\"\"),\"\",SD!C216)","v":915},{"$f":"IF(OR(SD!E216=\"\"),\"\",SD!E216)","v":"abc215"},{"$f":"IF(OR(SD!G216=\"\"),\"\",SD!G216)","v":"xyz215"},{"$f":"IF(OR(SD!I216=\"\"),\"\",SD!I216)","v":"M"},{"$f":"IF(OR(SD!O216=\"\"),\"\",SD!O216)","v":"SC"},{"$f":"IF(OR(SD!V216=\"\"),\"\",SD!V216)","v":9660388726},{"$f":"IF(SD!D216=\"\",\"\",SD!D216)","v":"2015-08-25"}]
[null,{"$f":"IF(E221=\"\",\"\",ROWS($B$6:B221))","v":216},{"$f":"IF(OR(SD!A217=\"\"),\"\",SD!A217)","v":12},{"$f":"IF(OR(SD!C217=\"\"),\"\",SD!C217)","v":916},{"$f":"IF(OR(SD!E217=\"\"),\"\",SD!E217)","v":"abc216"},{"$f":"IF(OR(SD!G217=\"\"),\"\",SD!G217)","v":"xyz216"},{"$f":"IF(OR(SD!I217=\"\"),\"\",SD!I217)","v":"F"},{"$f":"IF(OR(SD!O217=\"\"),\"\",SD!O217)","v":"OBC"},{"$f":"IF(OR(SD!V217=\"\"),\"\",SD!V217)","v":6367490785},{"$f":"IF(SD!D217=\"\",\"\",SD!D217)","v":"2014-08-20"}]
[null,{"$f":"IF(E222=\"\",\"\",ROWS($B$6:B222))","v":217},{"$f":"IF(OR(SD!A218=\"\"),\"\",SD!A218)","v":12},{"$f":"IF(OR(SD!C218=\"\"),\"\",SD!C218)","v":917},{"$f":"IF(OR(SD!E218=\"\"),\"\",SD!E218)","v":"abc217"},{"$f":"IF(OR(SD!G218=\"\"),\"\",SD!G218)","v":"xyz217"},{"$f":"IF(OR(SD!I218=\"\"),\"\",SD!I218)","v":"M"},{"$f":"IF(OR(SD!O218=\"\"),\"\",SD!O218)","v":"OBC"},{"$f":"IF(OR(SD!V218=\"\"),\"\",SD!V218)","v":8107167216},{"$f":"IF(SD!D218=\"\",\"\",SD!D218)","v":"2018-07-24"}]
[null,{"$f":"IF(E223=\"\",\"\",ROWS($B$6:B223))","v":218},{"$f":"IF(OR(SD!A219=\"\"),\"\",SD!A219)","v":12},{"$f":"IF(OR(SD!C219=\"\"),\"\",SD!C219)","v":918},{"$f":"IF(OR(SD!E219=\"\"),\"\",SD!E219)","v":"abc218"},{"$f":"IF(OR(SD!G219=\"\"),\"\",SD!G219)","v":"xyz218"},{"$f":"IF(OR(SD!I219=\"\"),\"\",SD!I219)","v":"M"},{"$f":"IF(OR(SD!O219=\"\"),\"\",SD!O219)","v":"OBC"},{"$f":"IF(OR(SD!V219=\"\"),\"\",SD!V219)","v":7891563285},{"$f":"IF(SD!D219=\"\",\"\",SD!D219)","v":"2014-08-20"}]
[null,{"$f":"IF(E224=\"\",\"\",ROWS($B$6:B224))","v":219},{"$f":"IF(OR(SD!A220=\"\"),\"\",SD!A220)","v":12},{"$f":"IF(OR(SD!C220=\"\"),\"\",SD!C220)","v":919},{"$f":"IF(OR(SD!E220=\"\"),\"\",SD!E220)","v":"abc219"},{"$f":"IF(OR(SD!G220=\"\"),\"\",SD!G220)","v":"xyz219"},{"$f":"IF(OR(SD!I220=\"\"),\"\",SD!I220)","v":"M"},{"$f":"IF(OR(SD!O220=\"\"),\"\",SD!O220)","v":"SC"},{"$f":"IF(OR(SD!V220=\"\"),\"\",SD!V220)","v":8302629501},{"$f":"IF(SD!D220=\"\",\"\",SD!D220)","v":"2019-08-26"}]
[null,{"$f":"IF(E225=\"\",\"\",ROWS($B$6:B225))","v":220},{"$f":"IF(OR(SD!A221=\"\"),\"\",SD!A221)","v":12},{"$f":"IF(OR(SD!C221=\"\"),\"\",SD!C221)","v":920},{"$f":"IF(OR(SD!E221=\"\"),\"\",SD!E221)","v":"abc220"},{"$f":"IF(OR(SD!G221=\"\"),\"\",SD!G221)","v":"xyz220"},{"$f":"IF(OR(SD!I221=\"\"),\"\",SD!I221)","v":"M"},{"$f":"IF(OR(SD!O221=\"\"),\"\",SD!O221)","v":"OBC"},{"$f":"IF(OR(SD!V221=\"\"),\"\",SD!V221)","v":7690022390},{"$f":"IF(SD!D221=\"\",\"\",SD!D221)","v":"2015-11-18"}]
[null,{"$f":"IF(E226=\"\",\"\",ROWS($B$6:B226))","v":221},{"$f":"IF(OR(SD!A222=\"\"),\"\",SD!A222)","v":12},{"$f":"IF(OR(SD!C222=\"\"),\"\",SD!C222)","v":921},{"$f":"IF(OR(SD!E222=\"\"),\"\",SD!E222)","v":"abc221"},{"$f":"IF(OR(SD!G222=\"\"),\"\",SD!G222)","v":"xyz221"},{"$f":"IF(OR(SD!I222=\"\"),\"\",SD!I222)","v":"M"},{"$f":"IF(OR(SD!O222=\"\"),\"\",SD!O222)","v":"OBC"},{"$f":"IF(OR(SD!V222=\"\"),\"\",SD!V222)","v":6350437446},{"$f":"IF(SD!D222=\"\",\"\",SD!D222)","v":"2019-07-22"}]
[null,{"$f":"IF(E227=\"\",\"\",ROWS($B$6:B227))","v":222},{"$f":"IF(OR(SD!A223=\"\"),\"\",SD!A223)","v":12},{"$f":"IF(OR(SD!C223=\"\"),\"\",SD!C223)","v":922},{"$f":"IF(OR(SD!E223=\"\"),\"\",SD!E223)","v":"abc222"},{"$f":"IF(OR(SD!G223=\"\"),\"\",SD!G223)","v":"xyz222"},{"$f":"IF(OR(SD!I223=\"\"),\"\",SD!I223)","v":"M"},{"$f":"IF(OR(SD!O223=\"\"),\"\",SD!O223)","v":"OBC"},{"$f":"IF(OR(SD!V223=\"\"),\"\",SD!V223)","v":9799108426},{"$f":"IF(SD!D223=\"\",\"\",SD!D223)","v":"2019-07-02"}]
[null,{"$f":"IF(E228=\"\",\"\",ROWS($B$6:B228))","v":223},{"$f":"IF(OR(SD!A224=\"\"),\"\",SD!A224)","v":12},{"$f":"IF(OR(SD!C224=\"\"),\"\",SD!C224)","v":923},{"$f":"IF(OR(SD!E224=\"\"),\"\",SD!E224)","v":"abc223"},{"$f":"IF(OR(SD!G224=\"\"),\"\",SD!G224)","v":"xyz223"},{"$f":"IF(OR(SD!I224=\"\"),\"\",SD!I224)","v":"M"},{"$f":"IF(OR(SD!O224=\"\"),\"\",SD!O224)","v":"SC"},{"$f":"IF(OR(SD!V224=\"\"),\"\",SD!V224)","v":9549564474},{"$f":"IF(SD!D224=\"\",\"\",SD!D224)","v":"2015-07-06"}]
[null,{"$f":"IF(E229=\"\",\"\",ROWS($B$6:B229))","v":224},{"$f":"IF(OR(SD!A225=\"\"),\"\",SD!A225)","v":11},{"$f":"IF(OR(SD!C225=\"\"),\"\",SD!C225)","v":924},{"$f":"IF(OR(SD!E225=\"\"),\"\",SD!E225)","v":"abc224"},{"$f":"IF(OR(SD!G225=\"\"),\"\",SD!G225)","v":"xyz224"},{"$f":"IF(OR(SD!I225=\"\"),\"\",SD!I225)","v":"M"},{"$f":"IF(OR(SD!O225=\"\"),\"\",SD!O225)","v":"SC"},{"$f":"IF(OR(SD!V225=\"\"),\"\",SD!V225)","v":9610000000},{"$f":"IF(SD!D225=\"\",\"\",SD!D225)","v":"2018-07-18"}]
[null,{"$f":"IF(E230=\"\",\"\",ROWS($B$6:B230))","v":225},{"$f":"IF(OR(SD!A226=\"\"),\"\",SD!A226)","v":11},{"$f":"IF(OR(SD!C226=\"\"),\"\",SD!C226)","v":925},{"$f":"IF(OR(SD!E226=\"\"),\"\",SD!E226)","v":"abc225"},{"$f":"IF(OR(SD!G226=\"\"),\"\",SD!G226)","v":"xyz225"},{"$f":"IF(OR(SD!I226=\"\"),\"\",SD!I226)","v":"F"},{"$f":"IF(OR(SD!O226=\"\"),\"\",SD!O226)","v":"SC"},{"$f":"IF(OR(SD!V226=\"\"),\"\",SD!V226)","v":9950000000},{"$f":"IF(SD!D226=\"\",\"\",SD!D226)","v":"2014-08-20"}]
[null,{"$f":"IF(E231=\"\",\"\",ROWS($B$6:B231))","v":226},{"$f":"IF(OR(SD!A227=\"\"),\"\",SD!A227)","v":11},{"$f":"IF(OR(SD!C227=\"\"),\"\",SD!C227)","v":926},{"$f":"IF(OR(SD!E227=\"\"),\"\",SD!E227)","v":"abc226"},{"$f":"IF(OR(SD!G227=\"\"),\"\",SD!G227)","v":"xyz226"},{"$f":"IF(OR(SD!I227=\"\"),\"\",SD!I227)","v":"F"},{"$f":"IF(OR(SD!O227=\"\"),\"\",SD!O227)","v":"OBC"},{"$f":"IF(OR(SD!V227=\"\"),\"\",SD!V227)","v":9770000000},{"$f":"IF(SD!D227=\"\",\"\",SD!D227)","v":"2015-07-10"}]
[null,{"$f":"IF(E232=\"\",\"\",ROWS($B$6:B232))","v":227},{"$f":"IF(OR(SD!A228=\"\"),\"\",SD!A228)","v":11},{"$f":"IF(OR(SD!C228=\"\"),\"\",SD!C228)","v":927},{"$f":"IF(OR(SD!E228=\"\"),\"\",SD!E228)","v":"abc227"},{"$f":"IF(OR(SD!G228=\"\"),\"\",SD!G228)","v":"xyz227"},{"$f":"IF(OR(SD!I228=\"\"),\"\",SD!I228)","v":"M"},{"$f":"IF(OR(SD!O228=\"\"),\"\",SD!O228)","v":"SC"},{"$f":"IF(OR(SD!V228=\"\"),\"\",SD!V228)","v":8240000000},{"$f":"IF(SD!D228=\"\",\"\",SD!D228)","v":"2016-07-26"}]
[null,{"$f":"IF(E233=\"\",\"\",ROWS($B$6:B233))","v":228},{"$f":"IF(OR(SD!A229=\"\"),\"\",SD!A229)","v":11},{"$f":"IF(OR(SD!C229=\"\"),\"\",SD!C229)","v":928},{"$f":"IF(OR(SD!E229=\"\"),\"\",SD!E229)","v":"abc228"},{"$f":"IF(OR(SD!G229=\"\"),\"\",SD!G229)","v":"xyz228"},{"$f":"IF(OR(SD!I229=\"\"),\"\",SD!I229)","v":"M"},{"$f":"IF(OR(SD!O229=\"\"),\"\",SD!O229)","v":"SC"},{"$f":"IF(OR(SD!V229=\"\"),\"\",SD!V229)","v":9780000000},{"$f":"IF(SD!D229=\"\",\"\",SD!D229)","v":"2019-07-29"}]
[null,{"$f":"IF(E234=\"\",\"\",ROWS($B$6:B234))","v":229},{"$f":"IF(OR(SD!A230=\"\"),\"\",SD!A230)","v":11},{"$f":"IF(OR(SD!C230=\"\"),\"\",SD!C230)","v":929},{"$f":"IF(OR(SD!E230=\"\"),\"\",SD!E230)","v":"abc229"},{"$f":"IF(OR(SD!G230=\"\"),\"\",SD!G230)","v":"xyz229"},{"$f":"IF(OR(SD!I230=\"\"),\"\",SD!I230)","v":"F"},{"$f":"IF(OR(SD!O230=\"\"),\"\",SD!O230)","v":"SC"},{"$f":"IF(OR(SD!V230=\"\"),\"\",SD!V230)","v":9120000000},{"$f":"IF(SD!D230=\"\",\"\",SD!D230)","v":"2019-08-05"}]
[null,{"$f":"IF(E235=\"\",\"\",ROWS($B$6:B235))","v":230},{"$f":"IF(OR(SD!A231=\"\"),\"\",SD!A231)","v":11},{"$f":"IF(OR(SD!C231=\"\"),\"\",SD!C231)","v":930},{"$f":"IF(OR(SD!E231=\"\"),\"\",SD!E231)","v":"abc230"},{"$f":"IF(OR(SD!G231=\"\"),\"\",SD!G231)","v":"xyz230"},{"$f":"IF(OR(SD!I231=\"\"),\"\",SD!I231)","v":"F"},{"$f":"IF(OR(SD!O231=\"\"),\"\",SD!O231)","v":"OBC"},{"$f":"IF(OR(SD!V231=\"\"),\"\",SD!V231)","v":9770000000},{"$f":"IF(SD!D231=\"\",\"\",SD!D231)","v":"2014-08-20"}]
[null,{"$f":"IF(E236=\"\",\"\",ROWS($B$6:B236))","v":231},{"$f":"IF(OR(SD!A232=\"\"),\"\",SD!A232)","v":11},{"$f":"IF(OR(SD!C232=\"\"),\"\",SD!C232)","v":931},{"$f":"IF(OR(SD!E232=\"\"),\"\",SD!E232)","v":"abc231"},{"$f":"IF(OR(SD!G232=\"\"),\"\",SD!G232)","v":"xyz231"},{"$f":"IF(OR(SD!I232=\"\"),\"\",SD!I232)","v":"F"},{"$f":"IF(OR(SD!O232=\"\"),\"\",SD!O232)","v":"SC"},{"$f":"IF(OR(SD!V232=\"\"),\"\",SD!V232)","v":8500000000},{"$f":"IF(SD!D232=\"\",\"\",SD!D232)","v":"2019-07-31"}]
[null,{"$f":"IF(E237=\"\",\"\",ROWS($B$6:B237))","v":232},{"$f":"IF(OR(SD!A233=\"\"),\"\",SD!A233)","v":11},{"$f":"IF(OR(SD!C233=\"\"),\"\",SD!C233)","v":932},{"$f":"IF(OR(SD!E233=\"\"),\"\",SD!E233)","v":"abc232"},{"$f":"IF(OR(SD!G233=\"\"),\"\",SD!G233)","v":"xyz232"},{"$f":"IF(OR(SD!I233=\"\"),\"\",SD!I233)","v":"F"},{"$f":"IF(OR(SD!O233=\"\"),\"\",SD!O233)","v":"SC"},{"$f":"IF(OR(SD!V233=\"\"),\"\",SD!V233)","v":9890000000},{"$f":"IF(SD!D233=\"\",\"\",SD!D233)","v":"2019-07-27"}]
[null,{"$f":"IF(E238=\"\",\"\",ROWS($B$6:B238))","v":233},{"$f":"IF(OR(SD!A234=\"\"),\"\",SD!A234)","v":11},{"$f":"IF(OR(SD!C234=\"\"),\"\",SD!C234)","v":933},{"$f":"IF(OR(SD!E234=\"\"),\"\",SD!E234)","v":"abc233"},{"$f":"IF(OR(SD!G234=\"\"),\"\",SD!G234)","v":"xyz233"},{"$f":"IF(OR(SD!I234=\"\"),\"\",SD!I234)","v":"M"},{"$f":"IF(OR(SD!O234=\"\"),\"\",SD!O234)","v":"OBC"},{"$f":"IF(OR(SD!V234=\"\"),\"\",SD!V234)","v":941000000},{"$f":"IF(SD!D234=\"\",\"\",SD!D234)","v":"2018-07-13"}]
[null,{"$f":"IF(E239=\"\",\"\",ROWS($B$6:B239))","v":234},{"$f":"IF(OR(SD!A235=\"\"),\"\",SD!A235)","v":11},{"$f":"IF(OR(SD!C235=\"\"),\"\",SD!C235)","v":934},{"$f":"IF(OR(SD!E235=\"\"),\"\",SD!E235)","v":"abc234"},{"$f":"IF(OR(SD!G235=\"\"),\"\",SD!G235)","v":"xyz234"},{"$f":"IF(OR(SD!I235=\"\"),\"\",SD!I235)","v":"F"},{"$f":"IF(OR(SD!O235=\"\"),\"\",SD!O235)","v":"OBC"},{"$f":"IF(OR(SD!V235=\"\"),\"\",SD!V235)","v":9600000000},{"$f":"IF(SD!D235=\"\",\"\",SD!D235)","v":"2019-07-31"}]
[null,{"$f":"IF(E240=\"\",\"\",ROWS($B$6:B240))","v":235},{"$f":"IF(OR(SD!A236=\"\"),\"\",SD!A236)","v":11},{"$f":"IF(OR(SD!C236=\"\"),\"\",SD!C236)","v":935},{"$f":"IF(OR(SD!E236=\"\"),\"\",SD!E236)","v":"abc235"},{"$f":"IF(OR(SD!G236=\"\"),\"\",SD!G236)","v":"xyz235"},{"$f":"IF(OR(SD!I236=\"\"),\"\",SD!I236)","v":"F"},{"$f":"IF(OR(SD!O236=\"\"),\"\",SD!O236)","v":"OBC"},{"$f":"IF(OR(SD!V236=\"\"),\"\",SD!V236)","v":9650000000},{"$f":"IF(SD!D236=\"\",\"\",SD!D236)","v":"2014-08-20"}]
[null,{"$f":"IF(E241=\"\",\"\",ROWS($B$6:B241))","v":236},{"$f":"IF(OR(SD!A237=\"\"),\"\",SD!A237)","v":11},{"$f":"IF(OR(SD!C237=\"\"),\"\",SD!C237)","v":936},{"$f":"IF(OR(SD!E237=\"\"),\"\",SD!E237)","v":"abc236"},{"$f":"IF(OR(SD!G237=\"\"),\"\",SD!G237)","v":"xyz236"},{"$f":"IF(OR(SD!I237=\"\"),\"\",SD!I237)","v":"F"},{"$f":"IF(OR(SD!O237=\"\"),\"\",SD!O237)","v":"SC"},{"$f":"IF(OR(SD!V237=\"\"),\"\",SD!V237)","v":9690000000},{"$f":"IF(SD!D237=\"\",\"\",SD!D237)","v":"2014-08-20"}]
[null,{"$f":"IF(E242=\"\",\"\",ROWS($B$6:B242))","v":237},{"$f":"IF(OR(SD!A238=\"\"),\"\",SD!A238)","v":11},{"$f":"IF(OR(SD!C238=\"\"),\"\",SD!C238)","v":937},{"$f":"IF(OR(SD!E238=\"\"),\"\",SD!E238)","v":"abc237"},{"$f":"IF(OR(SD!G238=\"\"),\"\",SD!G238)","v":"xyz237"},{"$f":"IF(OR(SD!I238=\"\"),\"\",SD!I238)","v":"F"},{"$f":"IF(OR(SD!O238=\"\"),\"\",SD!O238)","v":"SC"},{"$f":"IF(OR(SD!V238=\"\"),\"\",SD!V238)","v":9830000000},{"$f":"IF(SD!D238=\"\",\"\",SD!D238)","v":"2014-08-20"}]
[null,{"$f":"IF(E243=\"\",\"\",ROWS($B$6:B243))","v":238},{"$f":"IF(OR(SD!A239=\"\"),\"\",SD!A239)","v":11},{"$f":"IF(OR(SD!C239=\"\"),\"\",SD!C239)","v":938},{"$f":"IF(OR(SD!E239=\"\"),\"\",SD!E239)","v":"abc238"},{"$f":"IF(OR(SD!G239=\"\"),\"\",SD!G239)","v":"xyz238"},{"$f":"IF(OR(SD!I239=\"\"),\"\",SD!I239)","v":"F"},{"$f":"IF(OR(SD!O239=\"\"),\"\",SD!O239)","v":"SC"},{"$f":"IF(OR(SD!V239=\"\"),\"\",SD!V239)","v":8290000000},{"$f":"IF(SD!D239=\"\",\"\",SD!D239)","v":"1900-07-31"}]
[null,{"$f":"IF(E244=\"\",\"\",ROWS($B$6:B244))","v":239},{"$f":"IF(OR(SD!A240=\"\"),\"\",SD!A240)","v":11},{"$f":"IF(OR(SD!C240=\"\"),\"\",SD!C240)","v":939},{"$f":"IF(OR(SD!E240=\"\"),\"\",SD!E240)","v":"abc239"},{"$f":"IF(OR(SD!G240=\"\"),\"\",SD!G240)","v":"xyz239"},{"$f":"IF(OR(SD!I240=\"\"),\"\",SD!I240)","v":"M"},{"$f":"IF(OR(SD!O240=\"\"),\"\",SD!O240)","v":"SC"},{"$f":"IF(OR(SD!V240=\"\"),\"\",SD!V240)","v":8740000000},{"$f":"IF(SD!D240=\"\",\"\",SD!D240)","v":"2018-07-27"}]
[null,{"$f":"IF(E245=\"\",\"\",ROWS($B$6:B245))","v":240},{"$f":"IF(OR(SD!A241=\"\"),\"\",SD!A241)","v":11},{"$f":"IF(OR(SD!C241=\"\"),\"\",SD!C241)","v":940},{"$f":"IF(OR(SD!E241=\"\"),\"\",SD!E241)","v":"abc240"},{"$f":"IF(OR(SD!G241=\"\"),\"\",SD!G241)","v":"xyz240"},{"$f":"IF(OR(SD!I241=\"\"),\"\",SD!I241)","v":"M"},{"$f":"IF(OR(SD!O241=\"\"),\"\",SD!O241)","v":"SC"},{"$f":"IF(OR(SD!V241=\"\"),\"\",SD!V241)","v":8880000000},{"$f":"IF(SD!D241=\"\",\"\",SD!D241)","v":"2016-07-01"}]
[null,{"$f":"IF(E246=\"\",\"\",ROWS($B$6:B246))","v":241},{"$f":"IF(OR(SD!A242=\"\"),\"\",SD!A242)","v":11},{"$f":"IF(OR(SD!C242=\"\"),\"\",SD!C242)","v":941},{"$f":"IF(OR(SD!E242=\"\"),\"\",SD!E242)","v":"abc241"},{"$f":"IF(OR(SD!G242=\"\"),\"\",SD!G242)","v":"xyz241"},{"$f":"IF(OR(SD!I242=\"\"),\"\",SD!I242)","v":"M"},{"$f":"IF(OR(SD!O242=\"\"),\"\",SD!O242)","v":"SC"},{"$f":"IF(OR(SD!V242=\"\"),\"\",SD!V242)","v":9830000000},{"$f":"IF(SD!D242=\"\",\"\",SD!D242)","v":"2016-07-14"}]
[null,{"$f":"IF(E247=\"\",\"\",ROWS($B$6:B247))","v":242},{"$f":"IF(OR(SD!A243=\"\"),\"\",SD!A243)","v":11},{"$f":"IF(OR(SD!C243=\"\"),\"\",SD!C243)","v":942},{"$f":"IF(OR(SD!E243=\"\"),\"\",SD!E243)","v":"abc242"},{"$f":"IF(OR(SD!G243=\"\"),\"\",SD!G243)","v":"xyz242"},{"$f":"IF(OR(SD!I243=\"\"),\"\",SD!I243)","v":"M"},{"$f":"IF(OR(SD!O243=\"\"),\"\",SD!O243)","v":"OBC"},{"$f":"IF(OR(SD!V243=\"\"),\"\",SD!V243)","v":8440000000},{"$f":"IF(SD!D243=\"\",\"\",SD!D243)","v":"2015-07-10"}]
[null,{"$f":"IF(E248=\"\",\"\",ROWS($B$6:B248))","v":243},{"$f":"IF(OR(SD!A244=\"\"),\"\",SD!A244)","v":11},{"$f":"IF(OR(SD!C244=\"\"),\"\",SD!C244)","v":943},{"$f":"IF(OR(SD!E244=\"\"),\"\",SD!E244)","v":"abc243"},{"$f":"IF(OR(SD!G244=\"\"),\"\",SD!G244)","v":"xyz243"},{"$f":"IF(OR(SD!I244=\"\"),\"\",SD!I244)","v":"F"},{"$f":"IF(OR(SD!O244=\"\"),\"\",SD!O244)","v":"GEN"},{"$f":"IF(OR(SD!V244=\"\"),\"\",SD!V244)","v":9770000000},{"$f":"IF(SD!D244=\"\",\"\",SD!D244)","v":"2016-06-30"}]
[null,{"$f":"IF(E249=\"\",\"\",ROWS($B$6:B249))","v":244},{"$f":"IF(OR(SD!A245=\"\"),\"\",SD!A245)","v":11},{"$f":"IF(OR(SD!C245=\"\"),\"\",SD!C245)","v":944},{"$f":"IF(OR(SD!E245=\"\"),\"\",SD!E245)","v":"abc244"},{"$f":"IF(OR(SD!G245=\"\"),\"\",SD!G245)","v":"xyz244"},{"$f":"IF(OR(SD!I245=\"\"),\"\",SD!I245)","v":"F"},{"$f":"IF(OR(SD!O245=\"\"),\"\",SD!O245)","v":"SC"},{"$f":"IF(OR(SD!V245=\"\"),\"\",SD!V245)","v":7460000000},{"$f":"IF(SD!D245=\"\",\"\",SD!D245)","v":"2018-07-14"}]
[null,{"$f":"IF(E250=\"\",\"\",ROWS($B$6:B250))","v":245},{"$f":"IF(OR(SD!A246=\"\"),\"\",SD!A246)","v":11},{"$f":"IF(OR(SD!C246=\"\"),\"\",SD!C246)","v":945},{"$f":"IF(OR(SD!E246=\"\"),\"\",SD!E246)","v":"abc245"},{"$f":"IF(OR(SD!G246=\"\"),\"\",SD!G246)","v":"xyz245"},{"$f":"IF(OR(SD!I246=\"\"),\"\",SD!I246)","v":"F"},{"$f":"IF(OR(SD!O246=\"\"),\"\",SD!O246)","v":"OBC"},{"$f":"IF(OR(SD!V246=\"\"),\"\",SD!V246)","v":9950000000},{"$f":"IF(SD!D246=\"\",\"\",SD!D246)","v":"2020-12-09"}]
[null,{"$f":"IF(E251=\"\",\"\",ROWS($B$6:B251))","v":246},{"$f":"IF(OR(SD!A247=\"\"),\"\",SD!A247)","v":11},{"$f":"IF(OR(SD!C247=\"\"),\"\",SD!C247)","v":946},{"$f":"IF(OR(SD!E247=\"\"),\"\",SD!E247)","v":"abc246"},{"$f":"IF(OR(SD!G247=\"\"),\"\",SD!G247)","v":"xyz246"},{"$f":"IF(OR(SD!I247=\"\"),\"\",SD!I247)","v":"F"},{"$f":"IF(OR(SD!O247=\"\"),\"\",SD!O247)","v":"OBC"},{"$f":"IF(OR(SD!V247=\"\"),\"\",SD!V247)","v":8100000000},{"$f":"IF(SD!D247=\"\",\"\",SD!D247)","v":"2015-07-08"}]
[null,{"$f":"IF(E252=\"\",\"\",ROWS($B$6:B252))","v":247},{"$f":"IF(OR(SD!A248=\"\"),\"\",SD!A248)","v":11},{"$f":"IF(OR(SD!C248=\"\"),\"\",SD!C248)","v":947},{"$f":"IF(OR(SD!E248=\"\"),\"\",SD!E248)","v":"abc247"},{"$f":"IF(OR(SD!G248=\"\"),\"\",SD!G248)","v":"xyz247"},{"$f":"IF(OR(SD!I248=\"\"),\"\",SD!I248)","v":"M"},{"$f":"IF(OR(SD!O248=\"\"),\"\",SD!O248)","v":"OBC"},{"$f":"IF(OR(SD!V248=\"\"),\"\",SD!V248)","v":9780000000},{"$f":"IF(SD!D248=\"\",\"\",SD!D248)","v":"2014-08-20"}]
[null,{"$f":"IF(E253=\"\",\"\",ROWS($B$6:B253))","v":248},{"$f":"IF(OR(SD!A249=\"\"),\"\",SD!A249)","v":11},{"$f":"IF(OR(SD!C249=\"\"),\"\",SD!C249)","v":948},{"$f":"IF(OR(SD!E249=\"\"),\"\",SD!E249)","v":"abc248"},{"$f":"IF(OR(SD!G249=\"\"),\"\",SD!G249)","v":"xyz248"},{"$f":"IF(OR(SD!I249=\"\"),\"\",SD!I249)","v":"M"},{"$f":"IF(OR(SD!O249=\"\"),\"\",SD!O249)","v":"SC"},{"$f":"IF(OR(SD!V249=\"\"),\"\",SD!V249)","v":8880000000},{"$f":"IF(SD!D249=\"\",\"\",SD!D249)","v":"2019-07-27"}]
[null,{"$f":"IF(E254=\"\",\"\",ROWS($B$6:B254))","v":249},{"$f":"IF(OR(SD!A250=\"\"),\"\",SD!A250)","v":11},{"$f":"IF(OR(SD!C250=\"\"),\"\",SD!C250)","v":949},{"$f":"IF(OR(SD!E250=\"\"),\"\",SD!E250)","v":"abc249"},{"$f":"IF(OR(SD!G250=\"\"),\"\",SD!G250)","v":"xyz249"},{"$f":"IF(OR(SD!I250=\"\"),\"\",SD!I250)","v":"M"},{"$f":"IF(OR(SD!O250=\"\"),\"\",SD!O250)","v":"SC"},{"$f":"IF(OR(SD!V250=\"\"),\"\",SD!V250)","v":7880000000},{"$f":"IF(SD!D250=\"\",\"\",SD!D250)","v":"2019-07-27"}]
[null,{"$f":"IF(E255=\"\",\"\",ROWS($B$6:B255))","v":250},{"$f":"IF(OR(SD!A251=\"\"),\"\",SD!A251)","v":11},{"$f":"IF(OR(SD!C251=\"\"),\"\",SD!C251)","v":950},{"$f":"IF(OR(SD!E251=\"\"),\"\",SD!E251)","v":"abc250"},{"$f":"IF(OR(SD!G251=\"\"),\"\",SD!G251)","v":"xyz250"},{"$f":"IF(OR(SD!I251=\"\"),\"\",SD!I251)","v":"M"},{"$f":"IF(OR(SD!O251=\"\"),\"\",SD!O251)","v":"SC"},{"$f":"IF(OR(SD!V251=\"\"),\"\",SD!V251)","v":8880000000},{"$f":"IF(SD!D251=\"\",\"\",SD!D251)","v":"2016-07-11"}]
[null,{"$f":"IF(E256=\"\",\"\",ROWS($B$6:B256))","v":251},{"$f":"IF(OR(SD!A252=\"\"),\"\",SD!A252)","v":11},{"$f":"IF(OR(SD!C252=\"\"),\"\",SD!C252)","v":951},{"$f":"IF(OR(SD!E252=\"\"),\"\",SD!E252)","v":"abc251"},{"$f":"IF(OR(SD!G252=\"\"),\"\",SD!G252)","v":"xyz251"},{"$f":"IF(OR(SD!I252=\"\"),\"\",SD!I252)","v":"M"},{"$f":"IF(OR(SD!O252=\"\"),\"\",SD!O252)","v":"OBC"},{"$f":"IF(OR(SD!V252=\"\"),\"\",SD!V252)","v":9980000000},{"$f":"IF(SD!D252=\"\",\"\",SD!D252)","v":"2015-07-15"}]
[null,{"$f":"IF(E257=\"\",\"\",ROWS($B$6:B257))","v":252},{"$f":"IF(OR(SD!A253=\"\"),\"\",SD!A253)","v":11},{"$f":"IF(OR(SD!C253=\"\"),\"\",SD!C253)","v":952},{"$f":"IF(OR(SD!E253=\"\"),\"\",SD!E253)","v":"abc252"},{"$f":"IF(OR(SD!G253=\"\"),\"\",SD!G253)","v":"xyz252"},{"$f":"IF(OR(SD!I253=\"\"),\"\",SD!I253)","v":"M"},{"$f":"IF(OR(SD!O253=\"\"),\"\",SD!O253)","v":"OBC"},{"$f":"IF(OR(SD!V253=\"\"),\"\",SD!V253)","v":9930000000},{"$f":"IF(SD!D253=\"\",\"\",SD!D253)","v":"2015-08-20"}]
[null,{"$f":"IF(E258=\"\",\"\",ROWS($B$6:B258))","v":253},{"$f":"IF(OR(SD!A254=\"\"),\"\",SD!A254)","v":11},{"$f":"IF(OR(SD!C254=\"\"),\"\",SD!C254)","v":953},{"$f":"IF(OR(SD!E254=\"\"),\"\",SD!E254)","v":"abc253"},{"$f":"IF(OR(SD!G254=\"\"),\"\",SD!G254)","v":"xyz253"},{"$f":"IF(OR(SD!I254=\"\"),\"\",SD!I254)","v":"F"},{"$f":"IF(OR(SD!O254=\"\"),\"\",SD!O254)","v":"OBC"},{"$f":"IF(OR(SD!V254=\"\"),\"\",SD!V254)","v":7890000000},{"$f":"IF(SD!D254=\"\",\"\",SD!D254)","v":"2014-08-20"}]
[null,{"$f":"IF(E259=\"\",\"\",ROWS($B$6:B259))","v":254},{"$f":"IF(OR(SD!A255=\"\"),\"\",SD!A255)","v":11},{"$f":"IF(OR(SD!C255=\"\"),\"\",SD!C255)","v":954},{"$f":"IF(OR(SD!E255=\"\"),\"\",SD!E255)","v":"abc254"},{"$f":"IF(OR(SD!G255=\"\"),\"\",SD!G255)","v":"xyz254"},{"$f":"IF(OR(SD!I255=\"\"),\"\",SD!I255)","v":"M"},{"$f":"IF(OR(SD!O255=\"\"),\"\",SD!O255)","v":"OBC"},{"$f":"IF(OR(SD!V255=\"\"),\"\",SD!V255)","v":8100000000},{"$f":"IF(SD!D255=\"\",\"\",SD!D255)","v":"2014-08-20"}]
[null,{"$f":"IF(E260=\"\",\"\",ROWS($B$6:B260))","v":255},{"$f":"IF(OR(SD!A256=\"\"),\"\",SD!A256)","v":11},{"$f":"IF(OR(SD!C256=\"\"),\"\",SD!C256)","v":955},{"$f":"IF(OR(SD!E256=\"\"),\"\",SD!E256)","v":"abc255"},{"$f":"IF(OR(SD!G256=\"\"),\"\",SD!G256)","v":"xyz255"},{"$f":"IF(OR(SD!I256=\"\"),\"\",SD!I256)","v":"M"},{"$f":"IF(OR(SD!O256=\"\"),\"\",SD!O256)","v":"SC"},{"$f":"IF(OR(SD!V256=\"\"),\"\",SD!V256)","v":9930000000},{"$f":"IF(SD!D256=\"\",\"\",SD!D256)","v":"2014-08-20"}]
[null,{"$f":"IF(E261=\"\",\"\",ROWS($B$6:B261))","v":256},{"$f":"IF(OR(SD!A257=\"\"),\"\",SD!A257)","v":11},{"$f":"IF(OR(SD!C257=\"\"),\"\",SD!C257)","v":956},{"$f":"IF(OR(SD!E257=\"\"),\"\",SD!E257)","v":"abc256"},{"$f":"IF(OR(SD!G257=\"\"),\"\",SD!G257)","v":"xyz256"},{"$f":"IF(OR(SD!I257=\"\"),\"\",SD!I257)","v":"M"},{"$f":"IF(OR(SD!O257=\"\"),\"\",SD!O257)","v":"OBC"},{"$f":"IF(OR(SD!V257=\"\"),\"\",SD!V257)","v":9780000000},{"$f":"IF(SD!D257=\"\",\"\",SD!D257)","v":"2014-08-20"}]
[null,{"$f":"IF(E262=\"\",\"\",ROWS($B$6:B262))","v":257},{"$f":"IF(OR(SD!A258=\"\"),\"\",SD!A258)","v":11},{"$f":"IF(OR(SD!C258=\"\"),\"\",SD!C258)","v":957},{"$f":"IF(OR(SD!E258=\"\"),\"\",SD!E258)","v":"abc257"},{"$f":"IF(OR(SD!G258=\"\"),\"\",SD!G258)","v":"xyz257"},{"$f":"IF(OR(SD!I258=\"\"),\"\",SD!I258)","v":"F"},{"$f":"IF(OR(SD!O258=\"\"),\"\",SD!O258)","v":"OBC"},{"$f":"IF(OR(SD!V258=\"\"),\"\",SD!V258)","v":9830000000},{"$f":"IF(SD!D258=\"\",\"\",SD!D258)","v":"2020-12-09"}]
[null,{"$f":"IF(E263=\"\",\"\",ROWS($B$6:B263))","v":258},{"$f":"IF(OR(SD!A259=\"\"),\"\",SD!A259)","v":11},{"$f":"IF(OR(SD!C259=\"\"),\"\",SD!C259)","v":958},{"$f":"IF(OR(SD!E259=\"\"),\"\",SD!E259)","v":"abc258"},{"$f":"IF(OR(SD!G259=\"\"),\"\",SD!G259)","v":"xyz258"},{"$f":"IF(OR(SD!I259=\"\"),\"\",SD!I259)","v":"M"},{"$f":"IF(OR(SD!O259=\"\"),\"\",SD!O259)","v":"SC"},{"$f":"IF(OR(SD!V259=\"\"),\"\",SD!V259)","v":8290000000},{"$f":"IF(SD!D259=\"\",\"\",SD!D259)","v":"2018-07-12"}]
[null,{"$f":"IF(E264=\"\",\"\",ROWS($B$6:B264))","v":259},{"$f":"IF(OR(SD!A260=\"\"),\"\",SD!A260)","v":11},{"$f":"IF(OR(SD!C260=\"\"),\"\",SD!C260)","v":959},{"$f":"IF(OR(SD!E260=\"\"),\"\",SD!E260)","v":"abc259"},{"$f":"IF(OR(SD!G260=\"\"),\"\",SD!G260)","v":"xyz259"},{"$f":"IF(OR(SD!I260=\"\"),\"\",SD!I260)","v":"F"},{"$f":"IF(OR(SD!O260=\"\"),\"\",SD!O260)","v":"OBC"},{"$f":"IF(OR(SD!V260=\"\"),\"\",SD!V260)","v":9830000000},{"$f":"IF(SD!D260=\"\",\"\",SD!D260)","v":"2014-08-20"}]
[null,{"$f":"IF(E265=\"\",\"\",ROWS($B$6:B265))","v":260},{"$f":"IF(OR(SD!A261=\"\"),\"\",SD!A261)","v":11},{"$f":"IF(OR(SD!C261=\"\"),\"\",SD!C261)","v":960},{"$f":"IF(OR(SD!E261=\"\"),\"\",SD!E261)","v":"abc260"},{"$f":"IF(OR(SD!G261=\"\"),\"\",SD!G261)","v":"xyz260"},{"$f":"IF(OR(SD!I261=\"\"),\"\",SD!I261)","v":"M"},{"$f":"IF(OR(SD!O261=\"\"),\"\",SD!O261)","v":"OBC"},{"$f":"IF(OR(SD!V261=\"\"),\"\",SD!V261)","v":9980000000},{"$f":"IF(SD!D261=\"\",\"\",SD!D261)","v":"2014-08-20"}]
[null,{"$f":"IF(E266=\"\",\"\",ROWS($B$6:B266))","v":261},{"$f":"IF(OR(SD!A262=\"\"),\"\",SD!A262)","v":11},{"$f":"IF(OR(SD!C262=\"\"),\"\",SD!C262)","v":961},{"$f":"IF(OR(SD!E262=\"\"),\"\",SD!E262)","v":"abc261"},{"$f":"IF(OR(SD!G262=\"\"),\"\",SD!G262)","v":"xyz261"},{"$f":"IF(OR(SD!I262=\"\"),\"\",SD!I262)","v":"M"},{"$f":"IF(OR(SD!O262=\"\"),\"\",SD!O262)","v":"SC"},{"$f":"IF(OR(SD!V262=\"\"),\"\",SD!V262)","v":9770000000},{"$f":"IF(SD!D262=\"\",\"\",SD!D262)","v":"2015-07-15"}]
[null,{"$f":"IF(E267=\"\",\"\",ROWS($B$6:B267))","v":262},{"$f":"IF(OR(SD!A263=\"\"),\"\",SD!A263)","v":11},{"$f":"IF(OR(SD!C263=\"\"),\"\",SD!C263)","v":962},{"$f":"IF(OR(SD!E263=\"\"),\"\",SD!E263)","v":"abc262"},{"$f":"IF(OR(SD!G263=\"\"),\"\",SD!G263)","v":"xyz262"},{"$f":"IF(OR(SD!I263=\"\"),\"\",SD!I263)","v":"M"},{"$f":"IF(OR(SD!O263=\"\"),\"\",SD!O263)","v":"OBC"},{"$f":"IF(OR(SD!V263=\"\"),\"\",SD!V263)","v":9610000000},{"$f":"IF(SD!D263=\"\",\"\",SD!D263)","v":"2019-07-31"}]
[null,{"$f":"IF(E268=\"\",\"\",ROWS($B$6:B268))","v":263},{"$f":"IF(OR(SD!A264=\"\"),\"\",SD!A264)","v":11},{"$f":"IF(OR(SD!C264=\"\"),\"\",SD!C264)","v":963},{"$f":"IF(OR(SD!E264=\"\"),\"\",SD!E264)","v":"abc263"},{"$f":"IF(OR(SD!G264=\"\"),\"\",SD!G264)","v":"xyz263"},{"$f":"IF(OR(SD!I264=\"\"),\"\",SD!I264)","v":"F"},{"$f":"IF(OR(SD!O264=\"\"),\"\",SD!O264)","v":"ST"},{"$f":"IF(OR(SD!V264=\"\"),\"\",SD!V264)","v":9780000000},{"$f":"IF(SD!D264=\"\",\"\",SD!D264)","v":"2016-07-04"}]
[null,{"$f":"IF(E269=\"\",\"\",ROWS($B$6:B269))","v":264},{"$f":"IF(OR(SD!A265=\"\"),\"\",SD!A265)","v":11},{"$f":"IF(OR(SD!C265=\"\"),\"\",SD!C265)","v":964},{"$f":"IF(OR(SD!E265=\"\"),\"\",SD!E265)","v":"abc264"},{"$f":"IF(OR(SD!G265=\"\"),\"\",SD!G265)","v":"xyz264"},{"$f":"IF(OR(SD!I265=\"\"),\"\",SD!I265)","v":"F"},{"$f":"IF(OR(SD!O265=\"\"),\"\",SD!O265)","v":"SC"},{"$f":"IF(OR(SD!V265=\"\"),\"\",SD!V265)","v":9780000000},{"$f":"IF(SD!D265=\"\",\"\",SD!D265)","v":"2012-07-16"}]
[null,{"$f":"IF(E270=\"\",\"\",ROWS($B$6:B270))","v":265},{"$f":"IF(OR(SD!A266=\"\"),\"\",SD!A266)","v":11},{"$f":"IF(OR(SD!C266=\"\"),\"\",SD!C266)","v":965},{"$f":"IF(OR(SD!E266=\"\"),\"\",SD!E266)","v":"abc265"},{"$f":"IF(OR(SD!G266=\"\"),\"\",SD!G266)","v":"xyz265"},{"$f":"IF(OR(SD!I266=\"\"),\"\",SD!I266)","v":"F"},{"$f":"IF(OR(SD!O266=\"\"),\"\",SD!O266)","v":"SC"},{"$f":"IF(OR(SD!V266=\"\"),\"\",SD!V266)","v":9930000000},{"$f":"IF(SD!D266=\"\",\"\",SD!D266)","v":"2019-08-03"}]
[null,{"$f":"IF(E271=\"\",\"\",ROWS($B$6:B271))","v":266},{"$f":"IF(OR(SD!A267=\"\"),\"\",SD!A267)","v":11},{"$f":"IF(OR(SD!C267=\"\"),\"\",SD!C267)","v":966},{"$f":"IF(OR(SD!E267=\"\"),\"\",SD!E267)","v":"abc266"},{"$f":"IF(OR(SD!G267=\"\"),\"\",SD!G267)","v":"xyz266"},{"$f":"IF(OR(SD!I267=\"\"),\"\",SD!I267)","v":"M"},{"$f":"IF(OR(SD!O267=\"\"),\"\",SD!O267)","v":"OBC"},{"$f":"IF(OR(SD!V267=\"\"),\"\",SD!V267)","v":7230000000},{"$f":"IF(SD!D267=\"\",\"\",SD!D267)","v":"2019-08-01"}]
[null,{"$f":"IF(E272=\"\",\"\",ROWS($B$6:B272))","v":267},{"$f":"IF(OR(SD!A268=\"\"),\"\",SD!A268)","v":11},{"$f":"IF(OR(SD!C268=\"\"),\"\",SD!C268)","v":967},{"$f":"IF(OR(SD!E268=\"\"),\"\",SD!E268)","v":"abc267"},{"$f":"IF(OR(SD!G268=\"\"),\"\",SD!G268)","v":"xyz267"},{"$f":"IF(OR(SD!I268=\"\"),\"\",SD!I268)","v":"F"},{"$f":"IF(OR(SD!O268=\"\"),\"\",SD!O268)","v":"SC"},{"$f":"IF(OR(SD!V268=\"\"),\"\",SD!V268)","v":9570000000},{"$f":"IF(SD!D268=\"\",\"\",SD!D268)","v":"2019-08-03"}]
[null,{"$f":"IF(E273=\"\",\"\",ROWS($B$6:B273))","v":268},{"$f":"IF(OR(SD!A269=\"\"),\"\",SD!A269)","v":11},{"$f":"IF(OR(SD!C269=\"\"),\"\",SD!C269)","v":968},{"$f":"IF(OR(SD!E269=\"\"),\"\",SD!E269)","v":"abc268"},{"$f":"IF(OR(SD!G269=\"\"),\"\",SD!G269)","v":"xyz268"},{"$f":"IF(OR(SD!I269=\"\"),\"\",SD!I269)","v":"F"},{"$f":"IF(OR(SD!O269=\"\"),\"\",SD!O269)","v":"SC"},{"$f":"IF(OR(SD!V269=\"\"),\"\",SD!V269)","v":9610000000},{"$f":"IF(SD!D269=\"\",\"\",SD!D269)","v":"2019-08-01"}]
[null,{"$f":"IF(E274=\"\",\"\",ROWS($B$6:B274))","v":269},{"$f":"IF(OR(SD!A270=\"\"),\"\",SD!A270)","v":11},{"$f":"IF(OR(SD!C270=\"\"),\"\",SD!C270)","v":969},{"$f":"IF(OR(SD!E270=\"\"),\"\",SD!E270)","v":"abc269"},{"$f":"IF(OR(SD!G270=\"\"),\"\",SD!G270)","v":"xyz269"},{"$f":"IF(OR(SD!I270=\"\"),\"\",SD!I270)","v":"F"},{"$f":"IF(OR(SD!O270=\"\"),\"\",SD!O270)","v":"OBC"},{"$f":"IF(OR(SD!V270=\"\"),\"\",SD!V270)","v":9460000000},{"$f":"IF(SD!D270=\"\",\"\",SD!D270)","v":"2019-07-31"}]
[null,{"$f":"IF(E275=\"\",\"\",ROWS($B$6:B275))","v":270},{"$f":"IF(OR(SD!A271=\"\"),\"\",SD!A271)","v":11},{"$f":"IF(OR(SD!C271=\"\"),\"\",SD!C271)","v":970},{"$f":"IF(OR(SD!E271=\"\"),\"\",SD!E271)","v":"abc270"},{"$f":"IF(OR(SD!G271=\"\"),\"\",SD!G271)","v":"xyz270"},{"$f":"IF(OR(SD!I271=\"\"),\"\",SD!I271)","v":"F"},{"$f":"IF(OR(SD!O271=\"\"),\"\",SD!O271)","v":"OBC"},{"$f":"IF(OR(SD!V271=\"\"),\"\",SD!V271)","v":9890000000},{"$f":"IF(SD!D271=\"\",\"\",SD!D271)","v":"2019-07-31"}]
[null,{"$f":"IF(E276=\"\",\"\",ROWS($B$6:B276))","v":271},{"$f":"IF(OR(SD!A272=\"\"),\"\",SD!A272)","v":11},{"$f":"IF(OR(SD!C272=\"\"),\"\",SD!C272)","v":971},{"$f":"IF(OR(SD!E272=\"\"),\"\",SD!E272)","v":"abc271"},{"$f":"IF(OR(SD!G272=\"\"),\"\",SD!G272)","v":"xyz271"},{"$f":"IF(OR(SD!I272=\"\"),\"\",SD!I272)","v":"M"},{"$f":"IF(OR(SD!O272=\"\"),\"\",SD!O272)","v":"ST"},{"$f":"IF(OR(SD!V272=\"\"),\"\",SD!V272)","v":9650000000},{"$f":"IF(SD!D272=\"\",\"\",SD!D272)","v":"2016-07-04"}]
[null,{"$f":"IF(E277=\"\",\"\",ROWS($B$6:B277))","v":""},{"$f":"IF(OR(SD!A273=\"\"),\"\",SD!A273)","v":""},{"$f":"IF(OR(SD!C273=\"\"),\"\",SD!C273)","v":""},{"$f":"IF(OR(SD!E273=\"\"),\"\",SD!E273)","v":""},{"$f":"IF(OR(SD!G273=\"\"),\"\",SD!G273)","v":""},{"$f":"IF(OR(SD!I273=\"\"),\"\",SD!I273)","v":""},{"$f":"IF(OR(SD!O273=\"\"),\"\",SD!O273)","v":""},{"$f":"IF(OR(SD!V273=\"\"),\"\",SD!V273)","v":""},{"$f":"IF(SD!D273=\"\",\"\",SD!D273)","v":""}]
[null,{"$f":"IF(E278=\"\",\"\",ROWS($B$6:B278))","v":""},{"$f":"IF(OR(SD!A274=\"\"),\"\",SD!A274)","v":""},{"$f":"IF(OR(SD!C274=\"\"),\"\",SD!C274)","v":""},{"$f":"IF(OR(SD!E274=\"\"),\"\",SD!E274)","v":""},{"$f":"IF(OR(SD!G274=\"\"),\"\",SD!G274)","v":""},{"$f":"IF(OR(SD!I274=\"\"),\"\",SD!I274)","v":""},{"$f":"IF(OR(SD!O274=\"\"),\"\",SD!O274)","v":""},{"$f":"IF(OR(SD!V274=\"\"),\"\",SD!V274)","v":""},{"$f":"IF(SD!D274=\"\",\"\",SD!D274)","v":""}]
[null,{"$f":"IF(E279=\"\",\"\",ROWS($B$6:B279))","v":""},{"$f":"IF(OR(SD!A275=\"\"),\"\",SD!A275)","v":""},{"$f":"IF(OR(SD!C275=\"\"),\"\",SD!C275)","v":""},{"$f":"IF(OR(SD!E275=\"\"),\"\",SD!E275)","v":""},{"$f":"IF(OR(SD!G275=\"\"),\"\",SD!G275)","v":""},{"$f":"IF(OR(SD!I275=\"\"),\"\",SD!I275)","v":""},{"$f":"IF(OR(SD!O275=\"\"),\"\",SD!O275)","v":""},{"$f":"IF(OR(SD!V275=\"\"),\"\",SD!V275)","v":""},{"$f":"IF(SD!D275=\"\",\"\",SD!D275)","v":""}]
[null,{"$f":"IF(E280=\"\",\"\",ROWS($B$6:B280))","v":""},{"$f":"IF(OR(SD!A276=\"\"),\"\",SD!A276)","v":""},{"$f":"IF(OR(SD!C276=\"\"),\"\",SD!C276)","v":""},{"$f":"IF(OR(SD!E276=\"\"),\"\",SD!E276)","v":""},{"$f":"IF(OR(SD!G276=\"\"),\"\",SD!G276)","v":""},{"$f":"IF(OR(SD!I276=\"\"),\"\",SD!I276)","v":""},{"$f":"IF(OR(SD!O276=\"\"),\"\",SD!O276)","v":""},{"$f":"IF(OR(SD!V276=\"\"),\"\",SD!V276)","v":""},{"$f":"IF(SD!D276=\"\",\"\",SD!D276)","v":""}]
[null,{"$f":"IF(E281=\"\",\"\",ROWS($B$6:B281))","v":""},{"$f":"IF(OR(SD!A277=\"\"),\"\",SD!A277)","v":""},{"$f":"IF(OR(SD!C277=\"\"),\"\",SD!C277)","v":""},{"$f":"IF(OR(SD!E277=\"\"),\"\",SD!E277)","v":""},{"$f":"IF(OR(SD!G277=\"\"),\"\",SD!G277)","v":""},{"$f":"IF(OR(SD!I277=\"\"),\"\",SD!I277)","v":""},{"$f":"IF(OR(SD!O277=\"\"),\"\",SD!O277)","v":""},{"$f":"IF(OR(SD!V277=\"\"),\"\",SD!V277)","v":""},{"$f":"IF(SD!D277=\"\",\"\",SD!D277)","v":""}]
[null,{"$f":"IF(E282=\"\",\"\",ROWS($B$6:B282))","v":""},{"$f":"IF(OR(SD!A278=\"\"),\"\",SD!A278)","v":""},{"$f":"IF(OR(SD!C278=\"\"),\"\",SD!C278)","v":""},{"$f":"IF(OR(SD!E278=\"\"),\"\",SD!E278)","v":""},{"$f":"IF(OR(SD!G278=\"\"),\"\",SD!G278)","v":""},{"$f":"IF(OR(SD!I278=\"\"),\"\",SD!I278)","v":""},{"$f":"IF(OR(SD!O278=\"\"),\"\",SD!O278)","v":""},{"$f":"IF(OR(SD!V278=\"\"),\"\",SD!V278)","v":""},{"$f":"IF(SD!D278=\"\",\"\",SD!D278)","v":""}]
[null,{"$f":"IF(E283=\"\",\"\",ROWS($B$6:B283))","v":""},{"$f":"IF(OR(SD!A279=\"\"),\"\",SD!A279)","v":""},{"$f":"IF(OR(SD!C279=\"\"),\"\",SD!C279)","v":""},{"$f":"IF(OR(SD!E279=\"\"),\"\",SD!E279)","v":""},{"$f":"IF(OR(SD!G279=\"\"),\"\",SD!G279)","v":""},{"$f":"IF(OR(SD!I279=\"\"),\"\",SD!I279)","v":""},{"$f":"IF(OR(SD!O279=\"\"),\"\",SD!O279)","v":""},{"$f":"IF(OR(SD!V279=\"\"),\"\",SD!V279)","v":""},{"$f":"IF(SD!D279=\"\",\"\",SD!D279)","v":""}]
[null,{"$f":"IF(E284=\"\",\"\",ROWS($B$6:B284))","v":""},{"$f":"IF(OR(SD!A280=\"\"),\"\",SD!A280)","v":""},{"$f":"IF(OR(SD!C280=\"\"),\"\",SD!C280)","v":""},{"$f":"IF(OR(SD!E280=\"\"),\"\",SD!E280)","v":""},{"$f":"IF(OR(SD!G280=\"\"),\"\",SD!G280)","v":""},{"$f":"IF(OR(SD!I280=\"\"),\"\",SD!I280)","v":""},{"$f":"IF(OR(SD!O280=\"\"),\"\",SD!O280)","v":""},{"$f":"IF(OR(SD!V280=\"\"),\"\",SD!V280)","v":""},{"$f":"IF(SD!D280=\"\",\"\",SD!D280)","v":""}]
[null,{"$f":"IF(E285=\"\",\"\",ROWS($B$6:B285))","v":""},{"$f":"IF(OR(SD!A281=\"\"),\"\",SD!A281)","v":""},{"$f":"IF(OR(SD!C281=\"\"),\"\",SD!C281)","v":""},{"$f":"IF(OR(SD!E281=\"\"),\"\",SD!E281)","v":""},{"$f":"IF(OR(SD!G281=\"\"),\"\",SD!G281)","v":""},{"$f":"IF(OR(SD!I281=\"\"),\"\",SD!I281)","v":""},{"$f":"IF(OR(SD!O281=\"\"),\"\",SD!O281)","v":""},{"$f":"IF(OR(SD!V281=\"\"),\"\",SD!V281)","v":""},{"$f":"IF(SD!D281=\"\",\"\",SD!D281)","v":""}]
[null,{"$f":"IF(E286=\"\",\"\",ROWS($B$6:B286))","v":""},{"$f":"IF(OR(SD!A282=\"\"),\"\",SD!A282)","v":""},{"$f":"IF(OR(SD!C282=\"\"),\"\",SD!C282)","v":""},{"$f":"IF(OR(SD!E282=\"\"),\"\",SD!E282)","v":""},{"$f":"IF(OR(SD!G282=\"\"),\"\",SD!G282)","v":""},{"$f":"IF(OR(SD!I282=\"\"),\"\",SD!I282)","v":""},{"$f":"IF(OR(SD!O282=\"\"),\"\",SD!O282)","v":""},{"$f":"IF(OR(SD!V282=\"\"),\"\",SD!V282)","v":""},{"$f":"IF(SD!D282=\"\",\"\",SD!D282)","v":""}]
[null,{"$f":"IF(E287=\"\",\"\",ROWS($B$6:B287))","v":""},{"$f":"IF(OR(SD!A283=\"\"),\"\",SD!A283)","v":""},{"$f":"IF(OR(SD!C283=\"\"),\"\",SD!C283)","v":""},{"$f":"IF(OR(SD!E283=\"\"),\"\",SD!E283)","v":""},{"$f":"IF(OR(SD!G283=\"\"),\"\",SD!G283)","v":""},{"$f":"IF(OR(SD!I283=\"\"),\"\",SD!I283)","v":""},{"$f":"IF(OR(SD!O283=\"\"),\"\",SD!O283)","v":""},{"$f":"IF(OR(SD!V283=\"\"),\"\",SD!V283)","v":""},{"$f":"IF(SD!D283=\"\",\"\",SD!D283)","v":""}]
[null,{"$f":"IF(E288=\"\",\"\",ROWS($B$6:B288))","v":""},{"$f":"IF(OR(SD!A284=\"\"),\"\",SD!A284)","v":""},{"$f":"IF(OR(SD!C284=\"\"),\"\",SD!C284)","v":""},{"$f":"IF(OR(SD!E284=\"\"),\"\",SD!E284)","v":""},{"$f":"IF(OR(SD!G284=\"\"),\"\",SD!G284)","v":""},{"$f":"IF(OR(SD!I284=\"\"),\"\",SD!I284)","v":""},{"$f":"IF(OR(SD!O284=\"\"),\"\",SD!O284)","v":""},{"$f":"IF(OR(SD!V284=\"\"),\"\",SD!V284)","v":""},{"$f":"IF(SD!D284=\"\",\"\",SD!D284)","v":""}]
[null,{"$f":"IF(E289=\"\",\"\",ROWS($B$6:B289))","v":""},{"$f":"IF(OR(SD!A285=\"\"),\"\",SD!A285)","v":""},{"$f":"IF(OR(SD!C285=\"\"),\"\",SD!C285)","v":""},{"$f":"IF(OR(SD!E285=\"\"),\"\",SD!E285)","v":""},{"$f":"IF(OR(SD!G285=\"\"),\"\",SD!G285)","v":""},{"$f":"IF(OR(SD!I285=\"\"),\"\",SD!I285)","v":""},{"$f":"IF(OR(SD!O285=\"\"),\"\",SD!O285)","v":""},{"$f":"IF(OR(SD!V285=\"\"),\"\",SD!V285)","v":""},{"$f":"IF(SD!D285=\"\",\"\",SD!D285)","v":""}]
[null,{"$f":"IF(E290=\"\",\"\",ROWS($B$6:B290))","v":""},{"$f":"IF(OR(SD!A286=\"\"),\"\",SD!A286)","v":""},{"$f":"IF(OR(SD!C286=\"\"),\"\",SD!C286)","v":""},{"$f":"IF(OR(SD!E286=\"\"),\"\",SD!E286)","v":""},{"$f":"IF(OR(SD!G286=\"\"),\"\",SD!G286)","v":""},{"$f":"IF(OR(SD!I286=\"\"),\"\",SD!I286)","v":""},{"$f":"IF(OR(SD!O286=\"\"),\"\",SD!O286)","v":""},{"$f":"IF(OR(SD!V286=\"\"),\"\",SD!V286)","v":""},{"$f":"IF(SD!D286=\"\",\"\",SD!D286)","v":""}]
[null,{"$f":"IF(E291=\"\",\"\",ROWS($B$6:B291))","v":""},{"$f":"IF(OR(SD!A287=\"\"),\"\",SD!A287)","v":""},{"$f":"IF(OR(SD!C287=\"\"),\"\",SD!C287)","v":""},{"$f":"IF(OR(SD!E287=\"\"),\"\",SD!E287)","v":""},{"$f":"IF(OR(SD!G287=\"\"),\"\",SD!G287)","v":""},{"$f":"IF(OR(SD!I287=\"\"),\"\",SD!I287)","v":""},{"$f":"IF(OR(SD!O287=\"\"),\"\",SD!O287)","v":""},{"$f":"IF(OR(SD!V287=\"\"),\"\",SD!V287)","v":""},{"$f":"IF(SD!D287=\"\",\"\",SD!D287)","v":""}]
[null,{"$f":"IF(E292=\"\",\"\",ROWS($B$6:B292))","v":""},{"$f":"IF(OR(SD!A288=\"\"),\"\",SD!A288)","v":""},{"$f":"IF(OR(SD!C288=\"\"),\"\",SD!C288)","v":""},{"$f":"IF(OR(SD!E288=\"\"),\"\",SD!E288)","v":""},{"$f":"IF(OR(SD!G288=\"\"),\"\",SD!G288)","v":""},{"$f":"IF(OR(SD!I288=\"\"),\"\",SD!I288)","v":""},{"$f":"IF(OR(SD!O288=\"\"),\"\",SD!O288)","v":""},{"$f":"IF(OR(SD!V288=\"\"),\"\",SD!V288)","v":""},{"$f":"IF(SD!D288=\"\",\"\",SD!D288)","v":""}]
[null,{"$f":"IF(E293=\"\",\"\",ROWS($B$6:B293))","v":""},{"$f":"IF(OR(SD!A289=\"\"),\"\",SD!A289)","v":""},{"$f":"IF(OR(SD!C289=\"\"),\"\",SD!C289)","v":""},{"$f":"IF(OR(SD!E289=\"\"),\"\",SD!E289)","v":""},{"$f":"IF(OR(SD!G289=\"\"),\"\",SD!G289)","v":""},{"$f":"IF(OR(SD!I289=\"\"),\"\",SD!I289)","v":""},{"$f":"IF(OR(SD!O289=\"\"),\"\",SD!O289)","v":""},{"$f":"IF(OR(SD!V289=\"\"),\"\",SD!V289)","v":""},{"$f":"IF(SD!D289=\"\",\"\",SD!D289)","v":""}]
[null,{"$f":"IF(E294=\"\",\"\",ROWS($B$6:B294))","v":""},{"$f":"IF(OR(SD!A290=\"\"),\"\",SD!A290)","v":""},{"$f":"IF(OR(SD!C290=\"\"),\"\",SD!C290)","v":""},{"$f":"IF(OR(SD!E290=\"\"),\"\",SD!E290)","v":""},{"$f":"IF(OR(SD!G290=\"\"),\"\",SD!G290)","v":""},{"$f":"IF(OR(SD!I290=\"\"),\"\",SD!I290)","v":""},{"$f":"IF(OR(SD!O290=\"\"),\"\",SD!O290)","v":""},{"$f":"IF(OR(SD!V290=\"\"),\"\",SD!V290)","v":""},{"$f":"IF(SD!D290=\"\",\"\",SD!D290)","v":""}]
[null,{"$f":"IF(E295=\"\",\"\",ROWS($B$6:B295))","v":""},{"$f":"IF(OR(SD!A291=\"\"),\"\",SD!A291)","v":""},{"$f":"IF(OR(SD!C291=\"\"),\"\",SD!C291)","v":""},{"$f":"IF(OR(SD!E291=\"\"),\"\",SD!E291)","v":""},{"$f":"IF(OR(SD!G291=\"\"),\"\",SD!G291)","v":""},{"$f":"IF(OR(SD!I291=\"\"),\"\",SD!I291)","v":""},{"$f":"IF(OR(SD!O291=\"\"),\"\",SD!O291)","v":""},{"$f":"IF(OR(SD!V291=\"\"),\"\",SD!V291)","v":""},{"$f":"IF(SD!D291=\"\",\"\",SD!D291)","v":""}]
[null,{"$f":"IF(E296=\"\",\"\",ROWS($B$6:B296))","v":""},{"$f":"IF(OR(SD!A292=\"\"),\"\",SD!A292)","v":""},{"$f":"IF(OR(SD!C292=\"\"),\"\",SD!C292)","v":""},{"$f":"IF(OR(SD!E292=\"\"),\"\",SD!E292)","v":""},{"$f":"IF(OR(SD!G292=\"\"),\"\",SD!G292)","v":""},{"$f":"IF(OR(SD!I292=\"\"),\"\",SD!I292)","v":""},{"$f":"IF(OR(SD!O292=\"\"),\"\",SD!O292)","v":""},{"$f":"IF(OR(SD!V292=\"\"),\"\",SD!V292)","v":""},{"$f":"IF(SD!D292=\"\",\"\",SD!D292)","v":""}]
[null,{"$f":"IF(E297=\"\",\"\",ROWS($B$6:B297))","v":""},{"$f":"IF(OR(SD!A293=\"\"),\"\",SD!A293)","v":""},{"$f":"IF(OR(SD!C293=\"\"),\"\",SD!C293)","v":""},{"$f":"IF(OR(SD!E293=\"\"),\"\",SD!E293)","v":""},{"$f":"IF(OR(SD!G293=\"\"),\"\",SD!G293)","v":""},{"$f":"IF(OR(SD!I293=\"\"),\"\",SD!I293)","v":""},{"$f":"IF(OR(SD!O293=\"\"),\"\",SD!O293)","v":""},{"$f":"IF(OR(SD!V293=\"\"),\"\",SD!V293)","v":""},{"$f":"IF(SD!D293=\"\",\"\",SD!D293)","v":""}]
[null,{"$f":"IF(E298=\"\",\"\",ROWS($B$6:B298))","v":""},{"$f":"IF(OR(SD!A294=\"\"),\"\",SD!A294)","v":""},{"$f":"IF(OR(SD!C294=\"\"),\"\",SD!C294)","v":""},{"$f":"IF(OR(SD!E294=\"\"),\"\",SD!E294)","v":""},{"$f":"IF(OR(SD!G294=\"\"),\"\",SD!G294)","v":""},{"$f":"IF(OR(SD!I294=\"\"),\"\",SD!I294)","v":""},{"$f":"IF(OR(SD!O294=\"\"),\"\",SD!O294)","v":""},{"$f":"IF(OR(SD!V294=\"\"),\"\",SD!V294)","v":""},{"$f":"IF(SD!D294=\"\",\"\",SD!D294)","v":""}]
[null,{"$f":"IF(E299=\"\",\"\",ROWS($B$6:B299))","v":""},{"$f":"IF(OR(SD!A295=\"\"),\"\",SD!A295)","v":""},{"$f":"IF(OR(SD!C295=\"\"),\"\",SD!C295)","v":""},{"$f":"IF(OR(SD!E295=\"\"),\"\",SD!E295)","v":""},{"$f":"IF(OR(SD!G295=\"\"),\"\",SD!G295)","v":""},{"$f":"IF(OR(SD!I295=\"\"),\"\",SD!I295)","v":""},{"$f":"IF(OR(SD!O295=\"\"),\"\",SD!O295)","v":""},{"$f":"IF(OR(SD!V295=\"\"),\"\",SD!V295)","v":""},{"$f":"IF(SD!D295=\"\",\"\",SD!D295)","v":""}]
[null,{"$f":"IF(E300=\"\",\"\",ROWS($B$6:B300))","v":""},{"$f":"IF(OR(SD!A296=\"\"),\"\",SD!A296)","v":""},{"$f":"IF(OR(SD!C296=\"\"),\"\",SD!C296)","v":""},{"$f":"IF(OR(SD!E296=\"\"),\"\",SD!E296)","v":""},{"$f":"IF(OR(SD!G296=\"\"),\"\",SD!G296)","v":""},{"$f":"IF(OR(SD!I296=\"\"),\"\",SD!I296)","v":""},{"$f":"IF(OR(SD!O296=\"\"),\"\",SD!O296)","v":""},{"$f":"IF(OR(SD!V296=\"\"),\"\",SD!V296)","v":""},{"$f":"IF(SD!D296=\"\",\"\",SD!D296)","v":""}]
[null,{"$f":"IF(E301=\"\",\"\",ROWS($B$6:B301))","v":""},{"$f":"IF(OR(SD!A297=\"\"),\"\",SD!A297)","v":""},{"$f":"IF(OR(SD!C297=\"\"),\"\",SD!C297)","v":""},{"$f":"IF(OR(SD!E297=\"\"),\"\",SD!E297)","v":""},{"$f":"IF(OR(SD!G297=\"\"),\"\",SD!G297)","v":""},{"$f":"IF(OR(SD!I297=\"\"),\"\",SD!I297)","v":""},{"$f":"IF(OR(SD!O297=\"\"),\"\",SD!O297)","v":""},{"$f":"IF(OR(SD!V297=\"\"),\"\",SD!V297)","v":""},{"$f":"IF(SD!D297=\"\",\"\",SD!D297)","v":""}]
[null,{"$f":"IF(E302=\"\",\"\",ROWS($B$6:B302))","v":""},{"$f":"IF(OR(SD!A298=\"\"),\"\",SD!A298)","v":""},{"$f":"IF(OR(SD!C298=\"\"),\"\",SD!C298)","v":""},{"$f":"IF(OR(SD!E298=\"\"),\"\",SD!E298)","v":""},{"$f":"IF(OR(SD!G298=\"\"),\"\",SD!G298)","v":""},{"$f":"IF(OR(SD!I298=\"\"),\"\",SD!I298)","v":""},{"$f":"IF(OR(SD!O298=\"\"),\"\",SD!O298)","v":""},{"$f":"IF(OR(SD!V298=\"\"),\"\",SD!V298)","v":""},{"$f":"IF(SD!D298=\"\",\"\",SD!D298)","v":""}]
[null,{"$f":"IF(E303=\"\",\"\",ROWS($B$6:B303))","v":""},{"$f":"IF(OR(SD!A299=\"\"),\"\",SD!A299)","v":""},{"$f":"IF(OR(SD!C299=\"\"),\"\",SD!C299)","v":""},{"$f":"IF(OR(SD!E299=\"\"),\"\",SD!E299)","v":""},{"$f":"IF(OR(SD!G299=\"\"),\"\",SD!G299)","v":""},{"$f":"IF(OR(SD!I299=\"\"),\"\",SD!I299)","v":""},{"$f":"IF(OR(SD!O299=\"\"),\"\",SD!O299)","v":""},{"$f":"IF(OR(SD!V299=\"\"),\"\",SD!V299)","v":""},{"$f":"IF(SD!D299=\"\",\"\",SD!D299)","v":""}]
[null,{"$f":"IF(E304=\"\",\"\",ROWS($B$6:B304))","v":""},{"$f":"IF(OR(SD!A300=\"\"),\"\",SD!A300)","v":""},{"$f":"IF(OR(SD!C300=\"\"),\"\",SD!C300)","v":""},{"$f":"IF(OR(SD!E300=\"\"),\"\",SD!E300)","v":""},{"$f":"IF(OR(SD!G300=\"\"),\"\",SD!G300)","v":""},{"$f":"IF(OR(SD!I300=\"\"),\"\",SD!I300)","v":""},{"$f":"IF(OR(SD!O300=\"\"),\"\",SD!O300)","v":""},{"$f":"IF(OR(SD!V300=\"\"),\"\",SD!V300)","v":""},{"$f":"IF(SD!D300=\"\",\"\",SD!D300)","v":""}]
[null,{"$f":"IF(E305=\"\",\"\",ROWS($B$6:B305))","v":""},{"$f":"IF(OR(SD!A301=\"\"),\"\",SD!A301)","v":""},{"$f":"IF(OR(SD!C301=\"\"),\"\",SD!C301)","v":""},{"$f":"IF(OR(SD!E301=\"\"),\"\",SD!E301)","v":""},{"$f":"IF(OR(SD!G301=\"\"),\"\",SD!G301)","v":""},{"$f":"IF(OR(SD!I301=\"\"),\"\",SD!I301)","v":""},{"$f":"IF(OR(SD!O301=\"\"),\"\",SD!O301)","v":""},{"$f":"IF(OR(SD!V301=\"\"),\"\",SD!V301)","v":""},{"$f":"IF(SD!D301=\"\",\"\",SD!D301)","v":""}]
[null,{"$f":"IF(E306=\"\",\"\",ROWS($B$6:B306))","v":""},{"$f":"IF(OR(SD!A302=\"\"),\"\",SD!A302)","v":""},{"$f":"IF(OR(SD!C302=\"\"),\"\",SD!C302)","v":""},{"$f":"IF(OR(SD!E302=\"\"),\"\",SD!E302)","v":""},{"$f":"IF(OR(SD!G302=\"\"),\"\",SD!G302)","v":""},{"$f":"IF(OR(SD!I302=\"\"),\"\",SD!I302)","v":""},{"$f":"IF(OR(SD!O302=\"\"),\"\",SD!O302)","v":""},{"$f":"IF(OR(SD!V302=\"\"),\"\",SD!V302)","v":""},{"$f":"IF(SD!D302=\"\",\"\",SD!D302)","v":""}]
[null,{"$f":"IF(E307=\"\",\"\",ROWS($B$6:B307))","v":""},{"$f":"IF(OR(SD!A303=\"\"),\"\",SD!A303)","v":""},{"$f":"IF(OR(SD!C303=\"\"),\"\",SD!C303)","v":""},{"$f":"IF(OR(SD!E303=\"\"),\"\",SD!E303)","v":""},{"$f":"IF(OR(SD!G303=\"\"),\"\",SD!G303)","v":""},{"$f":"IF(OR(SD!I303=\"\"),\"\",SD!I303)","v":""},{"$f":"IF(OR(SD!O303=\"\"),\"\",SD!O303)","v":""},{"$f":"IF(OR(SD!V303=\"\"),\"\",SD!V303)","v":""},{"$f":"IF(SD!D303=\"\",\"\",SD!D303)","v":""}]
[null,{"$f":"IF(E308=\"\",\"\",ROWS($B$6:B308))","v":""},{"$f":"IF(OR(SD!A304=\"\"),\"\",SD!A304)","v":""},{"$f":"IF(OR(SD!C304=\"\"),\"\",SD!C304)","v":""},{"$f":"IF(OR(SD!E304=\"\"),\"\",SD!E304)","v":""},{"$f":"IF(OR(SD!G304=\"\"),\"\",SD!G304)","v":""},{"$f":"IF(OR(SD!I304=\"\"),\"\",SD!I304)","v":""},{"$f":"IF(OR(SD!O304=\"\"),\"\",SD!O304)","v":""},{"$f":"IF(OR(SD!V304=\"\"),\"\",SD!V304)","v":""},{"$f":"IF(SD!D304=\"\",\"\",SD!D304)","v":""}]
[null,{"$f":"IF(E309=\"\",\"\",ROWS($B$6:B309))","v":""},{"$f":"IF(OR(SD!A305=\"\"),\"\",SD!A305)","v":""},{"$f":"IF(OR(SD!C305=\"\"),\"\",SD!C305)","v":""},{"$f":"IF(OR(SD!E305=\"\"),\"\",SD!E305)","v":""},{"$f":"IF(OR(SD!G305=\"\"),\"\",SD!G305)","v":""},{"$f":"IF(OR(SD!I305=\"\"),\"\",SD!I305)","v":""},{"$f":"IF(OR(SD!O305=\"\"),\"\",SD!O305)","v":""},{"$f":"IF(OR(SD!V305=\"\"),\"\",SD!V305)","v":""},{"$f":"IF(SD!D305=\"\",\"\",SD!D305)","v":""}]
[null,{"$f":"IF(E310=\"\",\"\",ROWS($B$6:B310))","v":""},{"$f":"IF(OR(SD!A306=\"\"),\"\",SD!A306)","v":""},{"$f":"IF(OR(SD!C306=\"\"),\"\",SD!C306)","v":""},{"$f":"IF(OR(SD!E306=\"\"),\"\",SD!E306)","v":""},{"$f":"IF(OR(SD!G306=\"\"),\"\",SD!G306)","v":""},{"$f":"IF(OR(SD!I306=\"\"),\"\",SD!I306)","v":""},{"$f":"IF(OR(SD!O306=\"\"),\"\",SD!O306)","v":""},{"$f":"IF(OR(SD!V306=\"\"),\"\",SD!V306)","v":""},{"$f":"IF(SD!D306=\"\",\"\",SD!D306)","v":""}]
[null,{"$f":"IF(E311=\"\",\"\",ROWS($B$6:B311))","v":""},{"$f":"IF(OR(SD!A307=\"\"),\"\",SD!A307)","v":""},{"$f":"IF(OR(SD!C307=\"\"),\"\",SD!C307)","v":""},{"$f":"IF(OR(SD!E307=\"\"),\"\",SD!E307)","v":""},{"$f":"IF(OR(SD!G307=\"\"),\"\",SD!G307)","v":""},{"$f":"IF(OR(SD!I307=\"\"),\"\",SD!I307)","v":""},{"$f":"IF(OR(SD!O307=\"\"),\"\",SD!O307)","v":""},{"$f":"IF(OR(SD!V307=\"\"),\"\",SD!V307)","v":""},{"$f":"IF(SD!D307=\"\",\"\",SD!D307)","v":""}]
[null,{"$f":"IF(E312=\"\",\"\",ROWS($B$6:B312))","v":""},{"$f":"IF(OR(SD!A308=\"\"),\"\",SD!A308)","v":""},{"$f":"IF(OR(SD!C308=\"\"),\"\",SD!C308)","v":""},{"$f":"IF(OR(SD!E308=\"\"),\"\",SD!E308)","v":""},{"$f":"IF(OR(SD!G308=\"\"),\"\",SD!G308)","v":""},{"$f":"IF(OR(SD!I308=\"\"),\"\",SD!I308)","v":""},{"$f":"IF(OR(SD!O308=\"\"),\"\",SD!O308)","v":""},{"$f":"IF(OR(SD!V308=\"\"),\"\",SD!V308)","v":""},{"$f":"IF(SD!D308=\"\",\"\",SD!D308)","v":""}]
[null,{"$f":"IF(E313=\"\",\"\",ROWS($B$6:B313))","v":""},{"$f":"IF(OR(SD!A309=\"\"),\"\",SD!A309)","v":""},{"$f":"IF(OR(SD!C309=\"\"),\"\",SD!C309)","v":""},{"$f":"IF(OR(SD!E309=\"\"),\"\",SD!E309)","v":""},{"$f":"IF(OR(SD!G309=\"\"),\"\",SD!G309)","v":""},{"$f":"IF(OR(SD!I309=\"\"),\"\",SD!I309)","v":""},{"$f":"IF(OR(SD!O309=\"\"),\"\",SD!O309)","v":""},{"$f":"IF(OR(SD!V309=\"\"),\"\",SD!V309)","v":""},{"$f":"IF(SD!D309=\"\",\"\",SD!D309)","v":""}]
[null,{"$f":"IF(E314=\"\",\"\",ROWS($B$6:B314))","v":""},{"$f":"IF(OR(SD!A310=\"\"),\"\",SD!A310)","v":""},{"$f":"IF(OR(SD!C310=\"\"),\"\",SD!C310)","v":""},{"$f":"IF(OR(SD!E310=\"\"),\"\",SD!E310)","v":""},{"$f":"IF(OR(SD!G310=\"\"),\"\",SD!G310)","v":""},{"$f":"IF(OR(SD!I310=\"\"),\"\",SD!I310)","v":""},{"$f":"IF(OR(SD!O310=\"\"),\"\",SD!O310)","v":""},{"$f":"IF(OR(SD!V310=\"\"),\"\",SD!V310)","v":""},{"$f":"IF(SD!D310=\"\",\"\",SD!D310)","v":""}]
[null,{"$f":"IF(E315=\"\",\"\",ROWS($B$6:B315))","v":""},{"$f":"IF(OR(SD!A311=\"\"),\"\",SD!A311)","v":""},{"$f":"IF(OR(SD!C311=\"\"),\"\",SD!C311)","v":""},{"$f":"IF(OR(SD!E311=\"\"),\"\",SD!E311)","v":""},{"$f":"IF(OR(SD!G311=\"\"),\"\",SD!G311)","v":""},{"$f":"IF(OR(SD!I311=\"\"),\"\",SD!I311)","v":""},{"$f":"IF(OR(SD!O311=\"\"),\"\",SD!O311)","v":""},{"$f":"IF(OR(SD!V311=\"\"),\"\",SD!V311)","v":""},{"$f":"IF(SD!D311=\"\",\"\",SD!D311)","v":""}]
[null,{"$f":"IF(E316=\"\",\"\",ROWS($B$6:B316))","v":""},{"$f":"IF(OR(SD!A312=\"\"),\"\",SD!A312)","v":""},{"$f":"IF(OR(SD!C312=\"\"),\"\",SD!C312)","v":""},{"$f":"IF(OR(SD!E312=\"\"),\"\",SD!E312)","v":""},{"$f":"IF(OR(SD!G312=\"\"),\"\",SD!G312)","v":""},{"$f":"IF(OR(SD!I312=\"\"),\"\",SD!I312)","v":""},{"$f":"IF(OR(SD!O312=\"\"),\"\",SD!O312)","v":""},{"$f":"IF(OR(SD!V312=\"\"),\"\",SD!V312)","v":""},{"$f":"IF(SD!D312=\"\",\"\",SD!D312)","v":""}]
[null,{"$f":"IF(E317=\"\",\"\",ROWS($B$6:B317))","v":""},{"$f":"IF(OR(SD!A313=\"\"),\"\",SD!A313)","v":""},{"$f":"IF(OR(SD!C313=\"\"),\"\",SD!C313)","v":""},{"$f":"IF(OR(SD!E313=\"\"),\"\",SD!E313)","v":""},{"$f":"IF(OR(SD!G313=\"\"),\"\",SD!G313)","v":""},{"$f":"IF(OR(SD!I313=\"\"),\"\",SD!I313)","v":""},{"$f":"IF(OR(SD!O313=\"\"),\"\",SD!O313)","v":""},{"$f":"IF(OR(SD!V313=\"\"),\"\",SD!V313)","v":""},{"$f":"IF(SD!D313=\"\",\"\",SD!D313)","v":""}]
[null,{"$f":"IF(E318=\"\",\"\",ROWS($B$6:B318))","v":""},{"$f":"IF(OR(SD!A314=\"\"),\"\",SD!A314)","v":""},{"$f":"IF(OR(SD!C314=\"\"),\"\",SD!C314)","v":""},{"$f":"IF(OR(SD!E314=\"\"),\"\",SD!E314)","v":""},{"$f":"IF(OR(SD!G314=\"\"),\"\",SD!G314)","v":""},{"$f":"IF(OR(SD!I314=\"\"),\"\",SD!I314)","v":""},{"$f":"IF(OR(SD!O314=\"\"),\"\",SD!O314)","v":""},{"$f":"IF(OR(SD!V314=\"\"),\"\",SD!V314)","v":""},{"$f":"IF(SD!D314=\"\",\"\",SD!D314)","v":""}]
[null,{"$f":"IF(E319=\"\",\"\",ROWS($B$6:B319))","v":""},{"$f":"IF(OR(SD!A315=\"\"),\"\",SD!A315)","v":""},{"$f":"IF(OR(SD!C315=\"\"),\"\",SD!C315)","v":""},{"$f":"IF(OR(SD!E315=\"\"),\"\",SD!E315)","v":""},{"$f":"IF(OR(SD!G315=\"\"),\"\",SD!G315)","v":""},{"$f":"IF(OR(SD!I315=\"\"),\"\",SD!I315)","v":""},{"$f":"IF(OR(SD!O315=\"\"),\"\",SD!O315)","v":""},{"$f":"IF(OR(SD!V315=\"\"),\"\",SD!V315)","v":""},{"$f":"IF(SD!D315=\"\",\"\",SD!D315)","v":""}]
[null,{"$f":"IF(E320=\"\",\"\",ROWS($B$6:B320))","v":""},{"$f":"IF(OR(SD!A316=\"\"),\"\",SD!A316)","v":""},{"$f":"IF(OR(SD!C316=\"\"),\"\",SD!C316)","v":""},{"$f":"IF(OR(SD!E316=\"\"),\"\",SD!E316)","v":""},{"$f":"IF(OR(SD!G316=\"\"),\"\",SD!G316)","v":""},{"$f":"IF(OR(SD!I316=\"\"),\"\",SD!I316)","v":""},{"$f":"IF(OR(SD!O316=\"\"),\"\",SD!O316)","v":""},{"$f":"IF(OR(SD!V316=\"\"),\"\",SD!V316)","v":""},{"$f":"IF(SD!D316=\"\",\"\",SD!D316)","v":""}]
[null,{"$f":"IF(E321=\"\",\"\",ROWS($B$6:B321))","v":""},{"$f":"IF(OR(SD!A317=\"\"),\"\",SD!A317)","v":""},{"$f":"IF(OR(SD!C317=\"\"),\"\",SD!C317)","v":""},{"$f":"IF(OR(SD!E317=\"\"),\"\",SD!E317)","v":""},{"$f":"IF(OR(SD!G317=\"\"),\"\",SD!G317)","v":""},{"$f":"IF(OR(SD!I317=\"\"),\"\",SD!I317)","v":""},{"$f":"IF(OR(SD!O317=\"\"),\"\",SD!O317)","v":""},{"$f":"IF(OR(SD!V317=\"\"),\"\",SD!V317)","v":""},{"$f":"IF(SD!D317=\"\",\"\",SD!D317)","v":""}]
[null,{"$f":"IF(E322=\"\",\"\",ROWS($B$6:B322))","v":""},{"$f":"IF(OR(SD!A318=\"\"),\"\",SD!A318)","v":""},{"$f":"IF(OR(SD!C318=\"\"),\"\",SD!C318)","v":""},{"$f":"IF(OR(SD!E318=\"\"),\"\",SD!E318)","v":""},{"$f":"IF(OR(SD!G318=\"\"),\"\",SD!G318)","v":""},{"$f":"IF(OR(SD!I318=\"\"),\"\",SD!I318)","v":""},{"$f":"IF(OR(SD!O318=\"\"),\"\",SD!O318)","v":""},{"$f":"IF(OR(SD!V318=\"\"),\"\",SD!V318)","v":""},{"$f":"IF(SD!D318=\"\",\"\",SD!D318)","v":""}]
[null,{"$f":"IF(E323=\"\",\"\",ROWS($B$6:B323))","v":""},{"$f":"IF(OR(SD!A319=\"\"),\"\",SD!A319)","v":""},{"$f":"IF(OR(SD!C319=\"\"),\"\",SD!C319)","v":""},{"$f":"IF(OR(SD!E319=\"\"),\"\",SD!E319)","v":""},{"$f":"IF(OR(SD!G319=\"\"),\"\",SD!G319)","v":""},{"$f":"IF(OR(SD!I319=\"\"),\"\",SD!I319)","v":""},{"$f":"IF(OR(SD!O319=\"\"),\"\",SD!O319)","v":""},{"$f":"IF(OR(SD!V319=\"\"),\"\",SD!V319)","v":""},{"$f":"IF(SD!D319=\"\",\"\",SD!D319)","v":""}]
[null,{"$f":"IF(E324=\"\",\"\",ROWS($B$6:B324))","v":""},{"$f":"IF(OR(SD!A320=\"\"),\"\",SD!A320)","v":""},{"$f":"IF(OR(SD!C320=\"\"),\"\",SD!C320)","v":""},{"$f":"IF(OR(SD!E320=\"\"),\"\",SD!E320)","v":""},{"$f":"IF(OR(SD!G320=\"\"),\"\",SD!G320)","v":""},{"$f":"IF(OR(SD!I320=\"\"),\"\",SD!I320)","v":""},{"$f":"IF(OR(SD!O320=\"\"),\"\",SD!O320)","v":""},{"$f":"IF(OR(SD!V320=\"\"),\"\",SD!V320)","v":""},{"$f":"IF(SD!D320=\"\",\"\",SD!D320)","v":""}]
[null,{"$f":"IF(E325=\"\",\"\",ROWS($B$6:B325))","v":""},{"$f":"IF(OR(SD!A321=\"\"),\"\",SD!A321)","v":""},{"$f":"IF(OR(SD!C321=\"\"),\"\",SD!C321)","v":""},{"$f":"IF(OR(SD!E321=\"\"),\"\",SD!E321)","v":""},{"$f":"IF(OR(SD!G321=\"\"),\"\",SD!G321)","v":""},{"$f":"IF(OR(SD!I321=\"\"),\"\",SD!I321)","v":""},{"$f":"IF(OR(SD!O321=\"\"),\"\",SD!O321)","v":""},{"$f":"IF(OR(SD!V321=\"\"),\"\",SD!V321)","v":""},{"$f":"IF(SD!D321=\"\",\"\",SD!D321)","v":""}]
[null,{"$f":"IF(E326=\"\",\"\",ROWS($B$6:B326))","v":""},{"$f":"IF(OR(SD!A322=\"\"),\"\",SD!A322)","v":""},{"$f":"IF(OR(SD!C322=\"\"),\"\",SD!C322)","v":""},{"$f":"IF(OR(SD!E322=\"\"),\"\",SD!E322)","v":""},{"$f":"IF(OR(SD!G322=\"\"),\"\",SD!G322)","v":""},{"$f":"IF(OR(SD!I322=\"\"),\"\",SD!I322)","v":""},{"$f":"IF(OR(SD!O322=\"\"),\"\",SD!O322)","v":""},{"$f":"IF(OR(SD!V322=\"\"),\"\",SD!V322)","v":""},{"$f":"IF(SD!D322=\"\",\"\",SD!D322)","v":""}]
[null,{"$f":"IF(E327=\"\",\"\",ROWS($B$6:B327))","v":""},{"$f":"IF(OR(SD!A323=\"\"),\"\",SD!A323)","v":""},{"$f":"IF(OR(SD!C323=\"\"),\"\",SD!C323)","v":""},{"$f":"IF(OR(SD!E323=\"\"),\"\",SD!E323)","v":""},{"$f":"IF(OR(SD!G323=\"\"),\"\",SD!G323)","v":""},{"$f":"IF(OR(SD!I323=\"\"),\"\",SD!I323)","v":""},{"$f":"IF(OR(SD!O323=\"\"),\"\",SD!O323)","v":""},{"$f":"IF(OR(SD!V323=\"\"),\"\",SD!V323)","v":""},{"$f":"IF(SD!D323=\"\",\"\",SD!D323)","v":""}]
[null,{"$f":"IF(E328=\"\",\"\",ROWS($B$6:B328))","v":""},{"$f":"IF(OR(SD!A324=\"\"),\"\",SD!A324)","v":""},{"$f":"IF(OR(SD!C324=\"\"),\"\",SD!C324)","v":""},{"$f":"IF(OR(SD!E324=\"\"),\"\",SD!E324)","v":""},{"$f":"IF(OR(SD!G324=\"\"),\"\",SD!G324)","v":""},{"$f":"IF(OR(SD!I324=\"\"),\"\",SD!I324)","v":""},{"$f":"IF(OR(SD!O324=\"\"),\"\",SD!O324)","v":""},{"$f":"IF(OR(SD!V324=\"\"),\"\",SD!V324)","v":""},{"$f":"IF(SD!D324=\"\",\"\",SD!D324)","v":""}]
[null,{"$f":"IF(E329=\"\",\"\",ROWS($B$6:B329))","v":""},{"$f":"IF(OR(SD!A325=\"\"),\"\",SD!A325)","v":""},{"$f":"IF(OR(SD!C325=\"\"),\"\",SD!C325)","v":""},{"$f":"IF(OR(SD!E325=\"\"),\"\",SD!E325)","v":""},{"$f":"IF(OR(SD!G325=\"\"),\"\",SD!G325)","v":""},{"$f":"IF(OR(SD!I325=\"\"),\"\",SD!I325)","v":""},{"$f":"IF(OR(SD!O325=\"\"),\"\",SD!O325)","v":""},{"$f":"IF(OR(SD!V325=\"\"),\"\",SD!V325)","v":""},{"$f":"IF(SD!D325=\"\",\"\",SD!D325)","v":""}]
[null,{"$f":"IF(E330=\"\",\"\",ROWS($B$6:B330))","v":""},{"$f":"IF(OR(SD!A326=\"\"),\"\",SD!A326)","v":""},{"$f":"IF(OR(SD!C326=\"\"),\"\",SD!C326)","v":""},{"$f":"IF(OR(SD!E326=\"\"),\"\",SD!E326)","v":""},{"$f":"IF(OR(SD!G326=\"\"),\"\",SD!G326)","v":""},{"$f":"IF(OR(SD!I326=\"\"),\"\",SD!I326)","v":""},{"$f":"IF(OR(SD!O326=\"\"),\"\",SD!O326)","v":""},{"$f":"IF(OR(SD!V326=\"\"),\"\",SD!V326)","v":""},{"$f":"IF(SD!D326=\"\",\"\",SD!D326)","v":""}]
[null,{"$f":"IF(E331=\"\",\"\",ROWS($B$6:B331))","v":""},{"$f":"IF(OR(SD!A327=\"\"),\"\",SD!A327)","v":""},{"$f":"IF(OR(SD!C327=\"\"),\"\",SD!C327)","v":""},{"$f":"IF(OR(SD!E327=\"\"),\"\",SD!E327)","v":""},{"$f":"IF(OR(SD!G327=\"\"),\"\",SD!G327)","v":""},{"$f":"IF(OR(SD!I327=\"\"),\"\",SD!I327)","v":""},{"$f":"IF(OR(SD!O327=\"\"),\"\",SD!O327)","v":""},{"$f":"IF(OR(SD!V327=\"\"),\"\",SD!V327)","v":""},{"$f":"IF(SD!D327=\"\",\"\",SD!D327)","v":""}]
[null,{"$f":"IF(E332=\"\",\"\",ROWS($B$6:B332))","v":""},{"$f":"IF(OR(SD!A328=\"\"),\"\",SD!A328)","v":""},{"$f":"IF(OR(SD!C328=\"\"),\"\",SD!C328)","v":""},{"$f":"IF(OR(SD!E328=\"\"),\"\",SD!E328)","v":""},{"$f":"IF(OR(SD!G328=\"\"),\"\",SD!G328)","v":""},{"$f":"IF(OR(SD!I328=\"\"),\"\",SD!I328)","v":""},{"$f":"IF(OR(SD!O328=\"\"),\"\",SD!O328)","v":""},{"$f":"IF(OR(SD!V328=\"\"),\"\",SD!V328)","v":""},{"$f":"IF(SD!D328=\"\",\"\",SD!D328)","v":""}]
[null,{"$f":"IF(E333=\"\",\"\",ROWS($B$6:B333))","v":""},{"$f":"IF(OR(SD!A329=\"\"),\"\",SD!A329)","v":""},{"$f":"IF(OR(SD!C329=\"\"),\"\",SD!C329)","v":""},{"$f":"IF(OR(SD!E329=\"\"),\"\",SD!E329)","v":""},{"$f":"IF(OR(SD!G329=\"\"),\"\",SD!G329)","v":""},{"$f":"IF(OR(SD!I329=\"\"),\"\",SD!I329)","v":""},{"$f":"IF(OR(SD!O329=\"\"),\"\",SD!O329)","v":""},{"$f":"IF(OR(SD!V329=\"\"),\"\",SD!V329)","v":""},{"$f":"IF(SD!D329=\"\",\"\",SD!D329)","v":""}]
[null,{"$f":"IF(E334=\"\",\"\",ROWS($B$6:B334))","v":""},{"$f":"IF(OR(SD!A330=\"\"),\"\",SD!A330)","v":""},{"$f":"IF(OR(SD!C330=\"\"),\"\",SD!C330)","v":""},{"$f":"IF(OR(SD!E330=\"\"),\"\",SD!E330)","v":""},{"$f":"IF(OR(SD!G330=\"\"),\"\",SD!G330)","v":""},{"$f":"IF(OR(SD!I330=\"\"),\"\",SD!I330)","v":""},{"$f":"IF(OR(SD!O330=\"\"),\"\",SD!O330)","v":""},{"$f":"IF(OR(SD!V330=\"\"),\"\",SD!V330)","v":""},{"$f":"IF(SD!D330=\"\",\"\",SD!D330)","v":""}]
[null,{"$f":"IF(E335=\"\",\"\",ROWS($B$6:B335))","v":""},{"$f":"IF(OR(SD!A331=\"\"),\"\",SD!A331)","v":""},{"$f":"IF(OR(SD!C331=\"\"),\"\",SD!C331)","v":""},{"$f":"IF(OR(SD!E331=\"\"),\"\",SD!E331)","v":""},{"$f":"IF(OR(SD!G331=\"\"),\"\",SD!G331)","v":""},{"$f":"IF(OR(SD!I331=\"\"),\"\",SD!I331)","v":""},{"$f":"IF(OR(SD!O331=\"\"),\"\",SD!O331)","v":""},{"$f":"IF(OR(SD!V331=\"\"),\"\",SD!V331)","v":""},{"$f":"IF(SD!D331=\"\",\"\",SD!D331)","v":""}]
[null,{"$f":"IF(E336=\"\",\"\",ROWS($B$6:B336))","v":""},{"$f":"IF(OR(SD!A332=\"\"),\"\",SD!A332)","v":""},{"$f":"IF(OR(SD!C332=\"\"),\"\",SD!C332)","v":""},{"$f":"IF(OR(SD!E332=\"\"),\"\",SD!E332)","v":""},{"$f":"IF(OR(SD!G332=\"\"),\"\",SD!G332)","v":""},{"$f":"IF(OR(SD!I332=\"\"),\"\",SD!I332)","v":""},{"$f":"IF(OR(SD!O332=\"\"),\"\",SD!O332)","v":""},{"$f":"IF(OR(SD!V332=\"\"),\"\",SD!V332)","v":""},{"$f":"IF(SD!D332=\"\",\"\",SD!D332)","v":""}]
[null,{"$f":"IF(E337=\"\",\"\",ROWS($B$6:B337))","v":""},{"$f":"IF(OR(SD!A333=\"\"),\"\",SD!A333)","v":""},{"$f":"IF(OR(SD!C333=\"\"),\"\",SD!C333)","v":""},{"$f":"IF(OR(SD!E333=\"\"),\"\",SD!E333)","v":""},{"$f":"IF(OR(SD!G333=\"\"),\"\",SD!G333)","v":""},{"$f":"IF(OR(SD!I333=\"\"),\"\",SD!I333)","v":""},{"$f":"IF(OR(SD!O333=\"\"),\"\",SD!O333)","v":""},{"$f":"IF(OR(SD!V333=\"\"),\"\",SD!V333)","v":""},{"$f":"IF(SD!D333=\"\",\"\",SD!D333)","v":""}]
[null,{"$f":"IF(E338=\"\",\"\",ROWS($B$6:B338))","v":""},{"$f":"IF(OR(SD!A334=\"\"),\"\",SD!A334)","v":""},{"$f":"IF(OR(SD!C334=\"\"),\"\",SD!C334)","v":""},{"$f":"IF(OR(SD!E334=\"\"),\"\",SD!E334)","v":""},{"$f":"IF(OR(SD!G334=\"\"),\"\",SD!G334)","v":""},{"$f":"IF(OR(SD!I334=\"\"),\"\",SD!I334)","v":""},{"$f":"IF(OR(SD!O334=\"\"),\"\",SD!O334)","v":""},{"$f":"IF(OR(SD!V334=\"\"),\"\",SD!V334)","v":""},{"$f":"IF(SD!D334=\"\",\"\",SD!D334)","v":""}]
[null,{"$f":"IF(E339=\"\",\"\",ROWS($B$6:B339))","v":""},{"$f":"IF(OR(SD!A335=\"\"),\"\",SD!A335)","v":""},{"$f":"IF(OR(SD!C335=\"\"),\"\",SD!C335)","v":""},{"$f":"IF(OR(SD!E335=\"\"),\"\",SD!E335)","v":""},{"$f":"IF(OR(SD!G335=\"\"),\"\",SD!G335)","v":""},{"$f":"IF(OR(SD!I335=\"\"),\"\",SD!I335)","v":""},{"$f":"IF(OR(SD!O335=\"\"),\"\",SD!O335)","v":""},{"$f":"IF(OR(SD!V335=\"\"),\"\",SD!V335)","v":""},{"$f":"IF(SD!D335=\"\",\"\",SD!D335)","v":""}]
[null,{"$f":"IF(E340=\"\",\"\",ROWS($B$6:B340))","v":""},{"$f":"IF(OR(SD!A336=\"\"),\"\",SD!A336)","v":""},{"$f":"IF(OR(SD!C336=\"\"),\"\",SD!C336)","v":""},{"$f":"IF(OR(SD!E336=\"\"),\"\",SD!E336)","v":""},{"$f":"IF(OR(SD!G336=\"\"),\"\",SD!G336)","v":""},{"$f":"IF(OR(SD!I336=\"\"),\"\",SD!I336)","v":""},{"$f":"IF(OR(SD!O336=\"\"),\"\",SD!O336)","v":""},{"$f":"IF(OR(SD!V336=\"\"),\"\",SD!V336)","v":""},{"$f":"IF(SD!D336=\"\",\"\",SD!D336)","v":""}]
[null,{"$f":"IF(E341=\"\",\"\",ROWS($B$6:B341))","v":""},{"$f":"IF(OR(SD!A337=\"\"),\"\",SD!A337)","v":""},{"$f":"IF(OR(SD!C337=\"\"),\"\",SD!C337)","v":""},{"$f":"IF(OR(SD!E337=\"\"),\"\",SD!E337)","v":""},{"$f":"IF(OR(SD!G337=\"\"),\"\",SD!G337)","v":""},{"$f":"IF(OR(SD!I337=\"\"),\"\",SD!I337)","v":""},{"$f":"IF(OR(SD!O337=\"\"),\"\",SD!O337)","v":""},{"$f":"IF(OR(SD!V337=\"\"),\"\",SD!V337)","v":""},{"$f":"IF(SD!D337=\"\",\"\",SD!D337)","v":""}]
[null,{"$f":"IF(E342=\"\",\"\",ROWS($B$6:B342))","v":""},{"$f":"IF(OR(SD!A338=\"\"),\"\",SD!A338)","v":""},{"$f":"IF(OR(SD!C338=\"\"),\"\",SD!C338)","v":""},{"$f":"IF(OR(SD!E338=\"\"),\"\",SD!E338)","v":""},{"$f":"IF(OR(SD!G338=\"\"),\"\",SD!G338)","v":""},{"$f":"IF(OR(SD!I338=\"\"),\"\",SD!I338)","v":""},{"$f":"IF(OR(SD!O338=\"\"),\"\",SD!O338)","v":""},{"$f":"IF(OR(SD!V338=\"\"),\"\",SD!V338)","v":""},{"$f":"IF(SD!D338=\"\",\"\",SD!D338)","v":""}]
[null,{"$f":"IF(E343=\"\",\"\",ROWS($B$6:B343))","v":""},{"$f":"IF(OR(SD!A339=\"\"),\"\",SD!A339)","v":""},{"$f":"IF(OR(SD!C339=\"\"),\"\",SD!C339)","v":""},{"$f":"IF(OR(SD!E339=\"\"),\"\",SD!E339)","v":""},{"$f":"IF(OR(SD!G339=\"\"),\"\",SD!G339)","v":""},{"$f":"IF(OR(SD!I339=\"\"),\"\",SD!I339)","v":""},{"$f":"IF(OR(SD!O339=\"\"),\"\",SD!O339)","v":""},{"$f":"IF(OR(SD!V339=\"\"),\"\",SD!V339)","v":""},{"$f":"IF(SD!D339=\"\",\"\",SD!D339)","v":""}]
[null,{"$f":"IF(E344=\"\",\"\",ROWS($B$6:B344))","v":""},{"$f":"IF(OR(SD!A340=\"\"),\"\",SD!A340)","v":""},{"$f":"IF(OR(SD!C340=\"\"),\"\",SD!C340)","v":""},{"$f":"IF(OR(SD!E340=\"\"),\"\",SD!E340)","v":""},{"$f":"IF(OR(SD!G340=\"\"),\"\",SD!G340)","v":""},{"$f":"IF(OR(SD!I340=\"\"),\"\",SD!I340)","v":""},{"$f":"IF(OR(SD!O340=\"\"),\"\",SD!O340)","v":""},{"$f":"IF(OR(SD!V340=\"\"),\"\",SD!V340)","v":""},{"$f":"IF(SD!D340=\"\",\"\",SD!D340)","v":""}]
[null,{"$f":"IF(E345=\"\",\"\",ROWS($B$6:B345))","v":""},{"$f":"IF(OR(SD!A341=\"\"),\"\",SD!A341)","v":""},{"$f":"IF(OR(SD!C341=\"\"),\"\",SD!C341)","v":""},{"$f":"IF(OR(SD!E341=\"\"),\"\",SD!E341)","v":""},{"$f":"IF(OR(SD!G341=\"\"),\"\",SD!G341)","v":""},{"$f":"IF(OR(SD!I341=\"\"),\"\",SD!I341)","v":""},{"$f":"IF(OR(SD!O341=\"\"),\"\",SD!O341)","v":""},{"$f":"IF(OR(SD!V341=\"\"),\"\",SD!V341)","v":""},{"$f":"IF(SD!D341=\"\",\"\",SD!D341)","v":""}]
[null,{"$f":"IF(E346=\"\",\"\",ROWS($B$6:B346))","v":""},{"$f":"IF(OR(SD!A342=\"\"),\"\",SD!A342)","v":""},{"$f":"IF(OR(SD!C342=\"\"),\"\",SD!C342)","v":""},{"$f":"IF(OR(SD!E342=\"\"),\"\",SD!E342)","v":""},{"$f":"IF(OR(SD!G342=\"\"),\"\",SD!G342)","v":""},{"$f":"IF(OR(SD!I342=\"\"),\"\",SD!I342)","v":""},{"$f":"IF(OR(SD!O342=\"\"),\"\",SD!O342)","v":""},{"$f":"IF(OR(SD!V342=\"\"),\"\",SD!V342)","v":""},{"$f":"IF(SD!D342=\"\",\"\",SD!D342)","v":""}]
[null,{"$f":"IF(E347=\"\",\"\",ROWS($B$6:B347))","v":""},{"$f":"IF(OR(SD!A343=\"\"),\"\",SD!A343)","v":""},{"$f":"IF(OR(SD!C343=\"\"),\"\",SD!C343)","v":""},{"$f":"IF(OR(SD!E343=\"\"),\"\",SD!E343)","v":""},{"$f":"IF(OR(SD!G343=\"\"),\"\",SD!G343)","v":""},{"$f":"IF(OR(SD!I343=\"\"),\"\",SD!I343)","v":""},{"$f":"IF(OR(SD!O343=\"\"),\"\",SD!O343)","v":""},{"$f":"IF(OR(SD!V343=\"\"),\"\",SD!V343)","v":""},{"$f":"IF(SD!D343=\"\",\"\",SD!D343)","v":""}]
[null,{"$f":"IF(E348=\"\",\"\",ROWS($B$6:B348))","v":""},{"$f":"IF(OR(SD!A344=\"\"),\"\",SD!A344)","v":""},{"$f":"IF(OR(SD!C344=\"\"),\"\",SD!C344)","v":""},{"$f":"IF(OR(SD!E344=\"\"),\"\",SD!E344)","v":""},{"$f":"IF(OR(SD!G344=\"\"),\"\",SD!G344)","v":""},{"$f":"IF(OR(SD!I344=\"\"),\"\",SD!I344)","v":""},{"$f":"IF(OR(SD!O344=\"\"),\"\",SD!O344)","v":""},{"$f":"IF(OR(SD!V344=\"\"),\"\",SD!V344)","v":""},{"$f":"IF(SD!D344=\"\",\"\",SD!D344)","v":""}]
[null,{"$f":"IF(E349=\"\",\"\",ROWS($B$6:B349))","v":""},{"$f":"IF(OR(SD!A345=\"\"),\"\",SD!A345)","v":""},{"$f":"IF(OR(SD!C345=\"\"),\"\",SD!C345)","v":""},{"$f":"IF(OR(SD!E345=\"\"),\"\",SD!E345)","v":""},{"$f":"IF(OR(SD!G345=\"\"),\"\",SD!G345)","v":""},{"$f":"IF(OR(SD!I345=\"\"),\"\",SD!I345)","v":""},{"$f":"IF(OR(SD!O345=\"\"),\"\",SD!O345)","v":""},{"$f":"IF(OR(SD!V345=\"\"),\"\",SD!V345)","v":""},{"$f":"IF(SD!D345=\"\",\"\",SD!D345)","v":""}]
[null,{"$f":"IF(E350=\"\",\"\",ROWS($B$6:B350))","v":""},{"$f":"IF(OR(SD!A346=\"\"),\"\",SD!A346)","v":""},{"$f":"IF(OR(SD!C346=\"\"),\"\",SD!C346)","v":""},{"$f":"IF(OR(SD!E346=\"\"),\"\",SD!E346)","v":""},{"$f":"IF(OR(SD!G346=\"\"),\"\",SD!G346)","v":""},{"$f":"IF(OR(SD!I346=\"\"),\"\",SD!I346)","v":""},{"$f":"IF(OR(SD!O346=\"\"),\"\",SD!O346)","v":""},{"$f":"IF(OR(SD!V346=\"\"),\"\",SD!V346)","v":""},{"$f":"IF(SD!D346=\"\",\"\",SD!D346)","v":""}]
[null,{"$f":"IF(E351=\"\",\"\",ROWS($B$6:B351))","v":""},{"$f":"IF(OR(SD!A347=\"\"),\"\",SD!A347)","v":""},{"$f":"IF(OR(SD!C347=\"\"),\"\",SD!C347)","v":""},{"$f":"IF(OR(SD!E347=\"\"),\"\",SD!E347)","v":""},{"$f":"IF(OR(SD!G347=\"\"),\"\",SD!G347)","v":""},{"$f":"IF(OR(SD!I347=\"\"),\"\",SD!I347)","v":""},{"$f":"IF(OR(SD!O347=\"\"),\"\",SD!O347)","v":""},{"$f":"IF(OR(SD!V347=\"\"),\"\",SD!V347)","v":""},{"$f":"IF(SD!D347=\"\",\"\",SD!D347)","v":""}]
[null,{"$f":"IF(E352=\"\",\"\",ROWS($B$6:B352))","v":""},{"$f":"IF(OR(SD!A348=\"\"),\"\",SD!A348)","v":""},{"$f":"IF(OR(SD!C348=\"\"),\"\",SD!C348)","v":""},{"$f":"IF(OR(SD!E348=\"\"),\"\",SD!E348)","v":""},{"$f":"IF(OR(SD!G348=\"\"),\"\",SD!G348)","v":""},{"$f":"IF(OR(SD!I348=\"\"),\"\",SD!I348)","v":""},{"$f":"IF(OR(SD!O348=\"\"),\"\",SD!O348)","v":""},{"$f":"IF(OR(SD!V348=\"\"),\"\",SD!V348)","v":""},{"$f":"IF(SD!D348=\"\",\"\",SD!D348)","v":""}]
[null,{"$f":"IF(E353=\"\",\"\",ROWS($B$6:B353))","v":""},{"$f":"IF(OR(SD!A349=\"\"),\"\",SD!A349)","v":""},{"$f":"IF(OR(SD!C349=\"\"),\"\",SD!C349)","v":""},{"$f":"IF(OR(SD!E349=\"\"),\"\",SD!E349)","v":""},{"$f":"IF(OR(SD!G349=\"\"),\"\",SD!G349)","v":""},{"$f":"IF(OR(SD!I349=\"\"),\"\",SD!I349)","v":""},{"$f":"IF(OR(SD!O349=\"\"),\"\",SD!O349)","v":""},{"$f":"IF(OR(SD!V349=\"\"),\"\",SD!V349)","v":""},{"$f":"IF(SD!D349=\"\",\"\",SD!D349)","v":""}]
[null,{"$f":"IF(E354=\"\",\"\",ROWS($B$6:B354))","v":""},{"$f":"IF(OR(SD!A350=\"\"),\"\",SD!A350)","v":""},{"$f":"IF(OR(SD!C350=\"\"),\"\",SD!C350)","v":""},{"$f":"IF(OR(SD!E350=\"\"),\"\",SD!E350)","v":""},{"$f":"IF(OR(SD!G350=\"\"),\"\",SD!G350)","v":""},{"$f":"IF(OR(SD!I350=\"\"),\"\",SD!I350)","v":""},{"$f":"IF(OR(SD!O350=\"\"),\"\",SD!O350)","v":""},{"$f":"IF(OR(SD!V350=\"\"),\"\",SD!V350)","v":""},{"$f":"IF(SD!D350=\"\",\"\",SD!D350)","v":""}]
[null,{"$f":"IF(E355=\"\",\"\",ROWS($B$6:B355))","v":""},{"$f":"IF(OR(SD!A351=\"\"),\"\",SD!A351)","v":""},{"$f":"IF(OR(SD!C351=\"\"),\"\",SD!C351)","v":""},{"$f":"IF(OR(SD!E351=\"\"),\"\",SD!E351)","v":""},{"$f":"IF(OR(SD!G351=\"\"),\"\",SD!G351)","v":""},{"$f":"IF(OR(SD!I351=\"\"),\"\",SD!I351)","v":""},{"$f":"IF(OR(SD!O351=\"\"),\"\",SD!O351)","v":""},{"$f":"IF(OR(SD!V351=\"\"),\"\",SD!V351)","v":""},{"$f":"IF(SD!D351=\"\",\"\",SD!D351)","v":""}]
[null,{"$f":"IF(E356=\"\",\"\",ROWS($B$6:B356))","v":""},{"$f":"IF(OR(SD!A352=\"\"),\"\",SD!A352)","v":""},{"$f":"IF(OR(SD!C352=\"\"),\"\",SD!C352)","v":""},{"$f":"IF(OR(SD!E352=\"\"),\"\",SD!E352)","v":""},{"$f":"IF(OR(SD!G352=\"\"),\"\",SD!G352)","v":""},{"$f":"IF(OR(SD!I352=\"\"),\"\",SD!I352)","v":""},{"$f":"IF(OR(SD!O352=\"\"),\"\",SD!O352)","v":""},{"$f":"IF(OR(SD!V352=\"\"),\"\",SD!V352)","v":""},{"$f":"IF(SD!D352=\"\",\"\",SD!D352)","v":""}]
[null,{"$f":"IF(E357=\"\",\"\",ROWS($B$6:B357))","v":""},{"$f":"IF(OR(SD!A353=\"\"),\"\",SD!A353)","v":""},{"$f":"IF(OR(SD!C353=\"\"),\"\",SD!C353)","v":""},{"$f":"IF(OR(SD!E353=\"\"),\"\",SD!E353)","v":""},{"$f":"IF(OR(SD!G353=\"\"),\"\",SD!G353)","v":""},{"$f":"IF(OR(SD!I353=\"\"),\"\",SD!I353)","v":""},{"$f":"IF(OR(SD!O353=\"\"),\"\",SD!O353)","v":""},{"$f":"IF(OR(SD!V353=\"\"),\"\",SD!V353)","v":""},{"$f":"IF(SD!D353=\"\",\"\",SD!D353)","v":""}]
[null,{"$f":"IF(E358=\"\",\"\",ROWS($B$6:B358))","v":""},{"$f":"IF(OR(SD!A354=\"\"),\"\",SD!A354)","v":""},{"$f":"IF(OR(SD!C354=\"\"),\"\",SD!C354)","v":""},{"$f":"IF(OR(SD!E354=\"\"),\"\",SD!E354)","v":""},{"$f":"IF(OR(SD!G354=\"\"),\"\",SD!G354)","v":""},{"$f":"IF(OR(SD!I354=\"\"),\"\",SD!I354)","v":""},{"$f":"IF(OR(SD!O354=\"\"),\"\",SD!O354)","v":""},{"$f":"IF(OR(SD!V354=\"\"),\"\",SD!V354)","v":""},{"$f":"IF(SD!D354=\"\",\"\",SD!D354)","v":""}]
[null,{"$f":"IF(E359=\"\",\"\",ROWS($B$6:B359))","v":""},{"$f":"IF(OR(SD!A355=\"\"),\"\",SD!A355)","v":""},{"$f":"IF(OR(SD!C355=\"\"),\"\",SD!C355)","v":""},{"$f":"IF(OR(SD!E355=\"\"),\"\",SD!E355)","v":""},{"$f":"IF(OR(SD!G355=\"\"),\"\",SD!G355)","v":""},{"$f":"IF(OR(SD!I355=\"\"),\"\",SD!I355)","v":""},{"$f":"IF(OR(SD!O355=\"\"),\"\",SD!O355)","v":""},{"$f":"IF(OR(SD!V355=\"\"),\"\",SD!V355)","v":""},{"$f":"IF(SD!D355=\"\",\"\",SD!D355)","v":""}]
[null,{"$f":"IF(E360=\"\",\"\",ROWS($B$6:B360))","v":""},{"$f":"IF(OR(SD!A356=\"\"),\"\",SD!A356)","v":""},{"$f":"IF(OR(SD!C356=\"\"),\"\",SD!C356)","v":""},{"$f":"IF(OR(SD!E356=\"\"),\"\",SD!E356)","v":""},{"$f":"IF(OR(SD!G356=\"\"),\"\",SD!G356)","v":""},{"$f":"IF(OR(SD!I356=\"\"),\"\",SD!I356)","v":""},{"$f":"IF(OR(SD!O356=\"\"),\"\",SD!O356)","v":""},{"$f":"IF(OR(SD!V356=\"\"),\"\",SD!V356)","v":""},{"$f":"IF(SD!D356=\"\",\"\",SD!D356)","v":""}]
[null,{"$f":"IF(E361=\"\",\"\",ROWS($B$6:B361))","v":""},{"$f":"IF(OR(SD!A357=\"\"),\"\",SD!A357)","v":""},{"$f":"IF(OR(SD!C357=\"\"),\"\",SD!C357)","v":""},{"$f":"IF(OR(SD!E357=\"\"),\"\",SD!E357)","v":""},{"$f":"IF(OR(SD!G357=\"\"),\"\",SD!G357)","v":""},{"$f":"IF(OR(SD!I357=\"\"),\"\",SD!I357)","v":""},{"$f":"IF(OR(SD!O357=\"\"),\"\",SD!O357)","v":""},{"$f":"IF(OR(SD!V357=\"\"),\"\",SD!V357)","v":""},{"$f":"IF(SD!D357=\"\",\"\",SD!D357)","v":""}]
[null,{"$f":"IF(E362=\"\",\"\",ROWS($B$6:B362))","v":""},{"$f":"IF(OR(SD!A358=\"\"),\"\",SD!A358)","v":""},{"$f":"IF(OR(SD!C358=\"\"),\"\",SD!C358)","v":""},{"$f":"IF(OR(SD!E358=\"\"),\"\",SD!E358)","v":""},{"$f":"IF(OR(SD!G358=\"\"),\"\",SD!G358)","v":""},{"$f":"IF(OR(SD!I358=\"\"),\"\",SD!I358)","v":""},{"$f":"IF(OR(SD!O358=\"\"),\"\",SD!O358)","v":""},{"$f":"IF(OR(SD!V358=\"\"),\"\",SD!V358)","v":""},{"$f":"IF(SD!D358=\"\",\"\",SD!D358)","v":""}]
[null,{"$f":"IF(E363=\"\",\"\",ROWS($B$6:B363))","v":""},{"$f":"IF(OR(SD!A359=\"\"),\"\",SD!A359)","v":""},{"$f":"IF(OR(SD!C359=\"\"),\"\",SD!C359)","v":""},{"$f":"IF(OR(SD!E359=\"\"),\"\",SD!E359)","v":""},{"$f":"IF(OR(SD!G359=\"\"),\"\",SD!G359)","v":""},{"$f":"IF(OR(SD!I359=\"\"),\"\",SD!I359)","v":""},{"$f":"IF(OR(SD!O359=\"\"),\"\",SD!O359)","v":""},{"$f":"IF(OR(SD!V359=\"\"),\"\",SD!V359)","v":""},{"$f":"IF(SD!D359=\"\",\"\",SD!D359)","v":""}]
[null,{"$f":"IF(E364=\"\",\"\",ROWS($B$6:B364))","v":""},{"$f":"IF(OR(SD!A360=\"\"),\"\",SD!A360)","v":""},{"$f":"IF(OR(SD!C360=\"\"),\"\",SD!C360)","v":""},{"$f":"IF(OR(SD!E360=\"\"),\"\",SD!E360)","v":""},{"$f":"IF(OR(SD!G360=\"\"),\"\",SD!G360)","v":""},{"$f":"IF(OR(SD!I360=\"\"),\"\",SD!I360)","v":""},{"$f":"IF(OR(SD!O360=\"\"),\"\",SD!O360)","v":""},{"$f":"IF(OR(SD!V360=\"\"),\"\",SD!V360)","v":""},{"$f":"IF(SD!D360=\"\",\"\",SD!D360)","v":""}]
[null,{"$f":"IF(E365=\"\",\"\",ROWS($B$6:B365))","v":""},{"$f":"IF(OR(SD!A361=\"\"),\"\",SD!A361)","v":""},{"$f":"IF(OR(SD!C361=\"\"),\"\",SD!C361)","v":""},{"$f":"IF(OR(SD!E361=\"\"),\"\",SD!E361)","v":""},{"$f":"IF(OR(SD!G361=\"\"),\"\",SD!G361)","v":""},{"$f":"IF(OR(SD!I361=\"\"),\"\",SD!I361)","v":""},{"$f":"IF(OR(SD!O361=\"\"),\"\",SD!O361)","v":""},{"$f":"IF(OR(SD!V361=\"\"),\"\",SD!V361)","v":""},{"$f":"IF(SD!D361=\"\",\"\",SD!D361)","v":""}]
[null,{"$f":"IF(E366=\"\",\"\",ROWS($B$6:B366))","v":""},{"$f":"IF(OR(SD!A362=\"\"),\"\",SD!A362)","v":""},{"$f":"IF(OR(SD!C362=\"\"),\"\",SD!C362)","v":""},{"$f":"IF(OR(SD!E362=\"\"),\"\",SD!E362)","v":""},{"$f":"IF(OR(SD!G362=\"\"),\"\",SD!G362)","v":""},{"$f":"IF(OR(SD!I362=\"\"),\"\",SD!I362)","v":""},{"$f":"IF(OR(SD!O362=\"\"),\"\",SD!O362)","v":""},{"$f":"IF(OR(SD!V362=\"\"),\"\",SD!V362)","v":""},{"$f":"IF(SD!D362=\"\",\"\",SD!D362)","v":""}]
[null,{"$f":"IF(E367=\"\",\"\",ROWS($B$6:B367))","v":""},{"$f":"IF(OR(SD!A363=\"\"),\"\",SD!A363)","v":""},{"$f":"IF(OR(SD!C363=\"\"),\"\",SD!C363)","v":""},{"$f":"IF(OR(SD!E363=\"\"),\"\",SD!E363)","v":""},{"$f":"IF(OR(SD!G363=\"\"),\"\",SD!G363)","v":""},{"$f":"IF(OR(SD!I363=\"\"),\"\",SD!I363)","v":""},{"$f":"IF(OR(SD!O363=\"\"),\"\",SD!O363)","v":""},{"$f":"IF(OR(SD!V363=\"\"),\"\",SD!V363)","v":""},{"$f":"IF(SD!D363=\"\",\"\",SD!D363)","v":""}]
[null,{"$f":"IF(E368=\"\",\"\",ROWS($B$6:B368))","v":""},{"$f":"IF(OR(SD!A364=\"\"),\"\",SD!A364)","v":""},{"$f":"IF(OR(SD!C364=\"\"),\"\",SD!C364)","v":""},{"$f":"IF(OR(SD!E364=\"\"),\"\",SD!E364)","v":""},{"$f":"IF(OR(SD!G364=\"\"),\"\",SD!G364)","v":""},{"$f":"IF(OR(SD!I364=\"\"),\"\",SD!I364)","v":""},{"$f":"IF(OR(SD!O364=\"\"),\"\",SD!O364)","v":""},{"$f":"IF(OR(SD!V364=\"\"),\"\",SD!V364)","v":""},{"$f":"IF(SD!D364=\"\",\"\",SD!D364)","v":""}]
[null,{"$f":"IF(E369=\"\",\"\",ROWS($B$6:B369))","v":""},{"$f":"IF(OR(SD!A365=\"\"),\"\",SD!A365)","v":""},{"$f":"IF(OR(SD!C365=\"\"),\"\",SD!C365)","v":""},{"$f":"IF(OR(SD!E365=\"\"),\"\",SD!E365)","v":""},{"$f":"IF(OR(SD!G365=\"\"),\"\",SD!G365)","v":""},{"$f":"IF(OR(SD!I365=\"\"),\"\",SD!I365)","v":""},{"$f":"IF(OR(SD!O365=\"\"),\"\",SD!O365)","v":""},{"$f":"IF(OR(SD!V365=\"\"),\"\",SD!V365)","v":""},{"$f":"IF(SD!D365=\"\",\"\",SD!D365)","v":""}]
[null,{"$f":"IF(E370=\"\",\"\",ROWS($B$6:B370))","v":""},{"$f":"IF(OR(SD!A366=\"\"),\"\",SD!A366)","v":""},{"$f":"IF(OR(SD!C366=\"\"),\"\",SD!C366)","v":""},{"$f":"IF(OR(SD!E366=\"\"),\"\",SD!E366)","v":""},{"$f":"IF(OR(SD!G366=\"\"),\"\",SD!G366)","v":""},{"$f":"IF(OR(SD!I366=\"\"),\"\",SD!I366)","v":""},{"$f":"IF(OR(SD!O366=\"\"),\"\",SD!O366)","v":""},{"$f":"IF(OR(SD!V366=\"\"),\"\",SD!V366)","v":""},{"$f":"IF(SD!D366=\"\",\"\",SD!D366)","v":""}]
[null,{"$f":"IF(E371=\"\",\"\",ROWS($B$6:B371))","v":""},{"$f":"IF(OR(SD!A367=\"\"),\"\",SD!A367)","v":""},{"$f":"IF(OR(SD!C367=\"\"),\"\",SD!C367)","v":""},{"$f":"IF(OR(SD!E367=\"\"),\"\",SD!E367)","v":""},{"$f":"IF(OR(SD!G367=\"\"),\"\",SD!G367)","v":""},{"$f":"IF(OR(SD!I367=\"\"),\"\",SD!I367)","v":""},{"$f":"IF(OR(SD!O367=\"\"),\"\",SD!O367)","v":""},{"$f":"IF(OR(SD!V367=\"\"),\"\",SD!V367)","v":""},{"$f":"IF(SD!D367=\"\",\"\",SD!D367)","v":""}]
[null,{"$f":"IF(E372=\"\",\"\",ROWS($B$6:B372))","v":""},{"$f":"IF(OR(SD!A368=\"\"),\"\",SD!A368)","v":""},{"$f":"IF(OR(SD!C368=\"\"),\"\",SD!C368)","v":""},{"$f":"IF(OR(SD!E368=\"\"),\"\",SD!E368)","v":""},{"$f":"IF(OR(SD!G368=\"\"),\"\",SD!G368)","v":""},{"$f":"IF(OR(SD!I368=\"\"),\"\",SD!I368)","v":""},{"$f":"IF(OR(SD!O368=\"\"),\"\",SD!O368)","v":""},{"$f":"IF(OR(SD!V368=\"\"),\"\",SD!V368)","v":""},{"$f":"IF(SD!D368=\"\",\"\",SD!D368)","v":""}]
[null,{"$f":"IF(E373=\"\",\"\",ROWS($B$6:B373))","v":""},{"$f":"IF(OR(SD!A369=\"\"),\"\",SD!A369)","v":""},{"$f":"IF(OR(SD!C369=\"\"),\"\",SD!C369)","v":""},{"$f":"IF(OR(SD!E369=\"\"),\"\",SD!E369)","v":""},{"$f":"IF(OR(SD!G369=\"\"),\"\",SD!G369)","v":""},{"$f":"IF(OR(SD!I369=\"\"),\"\",SD!I369)","v":""},{"$f":"IF(OR(SD!O369=\"\"),\"\",SD!O369)","v":""},{"$f":"IF(OR(SD!V369=\"\"),\"\",SD!V369)","v":""},{"$f":"IF(SD!D369=\"\",\"\",SD!D369)","v":""}]
[null,{"$f":"IF(E374=\"\",\"\",ROWS($B$6:B374))","v":""},{"$f":"IF(OR(SD!A370=\"\"),\"\",SD!A370)","v":""},{"$f":"IF(OR(SD!C370=\"\"),\"\",SD!C370)","v":""},{"$f":"IF(OR(SD!E370=\"\"),\"\",SD!E370)","v":""},{"$f":"IF(OR(SD!G370=\"\"),\"\",SD!G370)","v":""},{"$f":"IF(OR(SD!I370=\"\"),\"\",SD!I370)","v":""},{"$f":"IF(OR(SD!O370=\"\"),\"\",SD!O370)","v":""},{"$f":"IF(OR(SD!V370=\"\"),\"\",SD!V370)","v":""},{"$f":"IF(SD!D370=\"\",\"\",SD!D370)","v":""}]
[null,{"$f":"IF(E375=\"\",\"\",ROWS($B$6:B375))","v":""},{"$f":"IF(OR(SD!A371=\"\"),\"\",SD!A371)","v":""},{"$f":"IF(OR(SD!C371=\"\"),\"\",SD!C371)","v":""},{"$f":"IF(OR(SD!E371=\"\"),\"\",SD!E371)","v":""},{"$f":"IF(OR(SD!G371=\"\"),\"\",SD!G371)","v":""},{"$f":"IF(OR(SD!I371=\"\"),\"\",SD!I371)","v":""},{"$f":"IF(OR(SD!O371=\"\"),\"\",SD!O371)","v":""},{"$f":"IF(OR(SD!V371=\"\"),\"\",SD!V371)","v":""},{"$f":"IF(SD!D371=\"\",\"\",SD!D371)","v":""}]
[null,{"$f":"IF(E376=\"\",\"\",ROWS($B$6:B376))","v":""},{"$f":"IF(OR(SD!A372=\"\"),\"\",SD!A372)","v":""},{"$f":"IF(OR(SD!C372=\"\"),\"\",SD!C372)","v":""},{"$f":"IF(OR(SD!E372=\"\"),\"\",SD!E372)","v":""},{"$f":"IF(OR(SD!G372=\"\"),\"\",SD!G372)","v":""},{"$f":"IF(OR(SD!I372=\"\"),\"\",SD!I372)","v":""},{"$f":"IF(OR(SD!O372=\"\"),\"\",SD!O372)","v":""},{"$f":"IF(OR(SD!V372=\"\"),\"\",SD!V372)","v":""},{"$f":"IF(SD!D372=\"\",\"\",SD!D372)","v":""}]
[null,{"$f":"IF(E377=\"\",\"\",ROWS($B$6:B377))","v":""},{"$f":"IF(OR(SD!A373=\"\"),\"\",SD!A373)","v":""},{"$f":"IF(OR(SD!C373=\"\"),\"\",SD!C373)","v":""},{"$f":"IF(OR(SD!E373=\"\"),\"\",SD!E373)","v":""},{"$f":"IF(OR(SD!G373=\"\"),\"\",SD!G373)","v":""},{"$f":"IF(OR(SD!I373=\"\"),\"\",SD!I373)","v":""},{"$f":"IF(OR(SD!O373=\"\"),\"\",SD!O373)","v":""},{"$f":"IF(OR(SD!V373=\"\"),\"\",SD!V373)","v":""},{"$f":"IF(SD!D373=\"\",\"\",SD!D373)","v":""}]
[null,{"$f":"IF(E378=\"\",\"\",ROWS($B$6:B378))","v":""},{"$f":"IF(OR(SD!A374=\"\"),\"\",SD!A374)","v":""},{"$f":"IF(OR(SD!C374=\"\"),\"\",SD!C374)","v":""},{"$f":"IF(OR(SD!E374=\"\"),\"\",SD!E374)","v":""},{"$f":"IF(OR(SD!G374=\"\"),\"\",SD!G374)","v":""},{"$f":"IF(OR(SD!I374=\"\"),\"\",SD!I374)","v":""},{"$f":"IF(OR(SD!O374=\"\"),\"\",SD!O374)","v":""},{"$f":"IF(OR(SD!V374=\"\"),\"\",SD!V374)","v":""},{"$f":"IF(SD!D374=\"\",\"\",SD!D374)","v":""}]
[null,{"$f":"IF(E379=\"\",\"\",ROWS($B$6:B379))","v":""},{"$f":"IF(OR(SD!A375=\"\"),\"\",SD!A375)","v":""},{"$f":"IF(OR(SD!C375=\"\"),\"\",SD!C375)","v":""},{"$f":"IF(OR(SD!E375=\"\"),\"\",SD!E375)","v":""},{"$f":"IF(OR(SD!G375=\"\"),\"\",SD!G375)","v":""},{"$f":"IF(OR(SD!I375=\"\"),\"\",SD!I375)","v":""},{"$f":"IF(OR(SD!O375=\"\"),\"\",SD!O375)","v":""},{"$f":"IF(OR(SD!V375=\"\"),\"\",SD!V375)","v":""},{"$f":"IF(SD!D375=\"\",\"\",SD!D375)","v":""}]
[null,{"$f":"IF(E380=\"\",\"\",ROWS($B$6:B380))","v":""},{"$f":"IF(OR(SD!A376=\"\"),\"\",SD!A376)","v":""},{"$f":"IF(OR(SD!C376=\"\"),\"\",SD!C376)","v":""},{"$f":"IF(OR(SD!E376=\"\"),\"\",SD!E376)","v":""},{"$f":"IF(OR(SD!G376=\"\"),\"\",SD!G376)","v":""},{"$f":"IF(OR(SD!I376=\"\"),\"\",SD!I376)","v":""},{"$f":"IF(OR(SD!O376=\"\"),\"\",SD!O376)","v":""},{"$f":"IF(OR(SD!V376=\"\"),\"\",SD!V376)","v":""},{"$f":"IF(SD!D376=\"\",\"\",SD!D376)","v":""}]
[null,{"$f":"IF(E381=\"\",\"\",ROWS($B$6:B381))","v":""},{"$f":"IF(OR(SD!A377=\"\"),\"\",SD!A377)","v":""},{"$f":"IF(OR(SD!C377=\"\"),\"\",SD!C377)","v":""},{"$f":"IF(OR(SD!E377=\"\"),\"\",SD!E377)","v":""},{"$f":"IF(OR(SD!G377=\"\"),\"\",SD!G377)","v":""},{"$f":"IF(OR(SD!I377=\"\"),\"\",SD!I377)","v":""},{"$f":"IF(OR(SD!O377=\"\"),\"\",SD!O377)","v":""},{"$f":"IF(OR(SD!V377=\"\"),\"\",SD!V377)","v":""},{"$f":"IF(SD!D377=\"\",\"\",SD!D377)","v":""}]
[null,{"$f":"IF(E382=\"\",\"\",ROWS($B$6:B382))","v":""},{"$f":"IF(OR(SD!A378=\"\"),\"\",SD!A378)","v":""},{"$f":"IF(OR(SD!C378=\"\"),\"\",SD!C378)","v":""},{"$f":"IF(OR(SD!E378=\"\"),\"\",SD!E378)","v":""},{"$f":"IF(OR(SD!G378=\"\"),\"\",SD!G378)","v":""},{"$f":"IF(OR(SD!I378=\"\"),\"\",SD!I378)","v":""},{"$f":"IF(OR(SD!O378=\"\"),\"\",SD!O378)","v":""},{"$f":"IF(OR(SD!V378=\"\"),\"\",SD!V378)","v":""},{"$f":"IF(SD!D378=\"\",\"\",SD!D378)","v":""}]
[null,{"$f":"IF(E383=\"\",\"\",ROWS($B$6:B383))","v":""},{"$f":"IF(OR(SD!A379=\"\"),\"\",SD!A379)","v":""},{"$f":"IF(OR(SD!C379=\"\"),\"\",SD!C379)","v":""},{"$f":"IF(OR(SD!E379=\"\"),\"\",SD!E379)","v":""},{"$f":"IF(OR(SD!G379=\"\"),\"\",SD!G379)","v":""},{"$f":"IF(OR(SD!I379=\"\"),\"\",SD!I379)","v":""},{"$f":"IF(OR(SD!O379=\"\"),\"\",SD!O379)","v":""},{"$f":"IF(OR(SD!V379=\"\"),\"\",SD!V379)","v":""},{"$f":"IF(SD!D379=\"\",\"\",SD!D379)","v":""}]
[null,{"$f":"IF(E384=\"\",\"\",ROWS($B$6:B384))","v":""},{"$f":"IF(OR(SD!A380=\"\"),\"\",SD!A380)","v":""},{"$f":"IF(OR(SD!C380=\"\"),\"\",SD!C380)","v":""},{"$f":"IF(OR(SD!E380=\"\"),\"\",SD!E380)","v":""},{"$f":"IF(OR(SD!G380=\"\"),\"\",SD!G380)","v":""},{"$f":"IF(OR(SD!I380=\"\"),\"\",SD!I380)","v":""},{"$f":"IF(OR(SD!O380=\"\"),\"\",SD!O380)","v":""},{"$f":"IF(OR(SD!V380=\"\"),\"\",SD!V380)","v":""},{"$f":"IF(SD!D380=\"\",\"\",SD!D380)","v":""}]
[null,{"$f":"IF(E385=\"\",\"\",ROWS($B$6:B385))","v":""},{"$f":"IF(OR(SD!A381=\"\"),\"\",SD!A381)","v":""},{"$f":"IF(OR(SD!C381=\"\"),\"\",SD!C381)","v":""},{"$f":"IF(OR(SD!E381=\"\"),\"\",SD!E381)","v":""},{"$f":"IF(OR(SD!G381=\"\"),\"\",SD!G381)","v":""},{"$f":"IF(OR(SD!I381=\"\"),\"\",SD!I381)","v":""},{"$f":"IF(OR(SD!O381=\"\"),\"\",SD!O381)","v":""},{"$f":"IF(OR(SD!V381=\"\"),\"\",SD!V381)","v":""},{"$f":"IF(SD!D381=\"\",\"\",SD!D381)","v":""}]
[null,{"$f":"IF(E386=\"\",\"\",ROWS($B$6:B386))","v":""},{"$f":"IF(OR(SD!A382=\"\"),\"\",SD!A382)","v":""},{"$f":"IF(OR(SD!C382=\"\"),\"\",SD!C382)","v":""},{"$f":"IF(OR(SD!E382=\"\"),\"\",SD!E382)","v":""},{"$f":"IF(OR(SD!G382=\"\"),\"\",SD!G382)","v":""},{"$f":"IF(OR(SD!I382=\"\"),\"\",SD!I382)","v":""},{"$f":"IF(OR(SD!O382=\"\"),\"\",SD!O382)","v":""},{"$f":"IF(OR(SD!V382=\"\"),\"\",SD!V382)","v":""},{"$f":"IF(SD!D382=\"\",\"\",SD!D382)","v":""}]
[null,{"$f":"IF(E387=\"\",\"\",ROWS($B$6:B1000))","v":""},{"$f":"IF(OR(SD!A383=\"\"),\"\",SD!A383)","v":""},{"$f":"IF(OR(SD!C383=\"\"),\"\",SD!C383)","v":""},{"$f":"IF(OR(SD!E383=\"\"),\"\",SD!E383)","v":""},{"$f":"IF(OR(SD!G383=\"\"),\"\",SD!G383)","v":""},{"$f":"IF(OR(SD!I383=\"\"),\"\",SD!I383)","v":""},{"$f":"IF(OR(SD!O383=\"\"),\"\",SD!O383)","v":""},{"$f":"IF(OR(SD!V383=\"\"),\"\",SD!V383)","v":""},{"$f":"IF(SD!D383=\"\",\"\",SD!D383)","v":""}]
[null,{"$f":"IF(E388=\"\",\"\",ROWS($B$6:B388))","v":""},{"$f":"IF(OR(SD!A384=\"\"),\"\",SD!A384)","v":""},{"$f":"IF(OR(SD!C384=\"\"),\"\",SD!C384)","v":""},{"$f":"IF(OR(SD!E384=\"\"),\"\",SD!E384)","v":""},{"$f":"IF(OR(SD!G384=\"\"),\"\",SD!G384)","v":""},{"$f":"IF(OR(SD!I384=\"\"),\"\",SD!I384)","v":""},{"$f":"IF(OR(SD!O384=\"\"),\"\",SD!O384)","v":""},{"$f":"IF(OR(SD!V384=\"\"),\"\",SD!V384)","v":""},{"$f":"IF(SD!D384=\"\",\"\",SD!D384)","v":""}]
[null,{"$f":"IF(E389=\"\",\"\",ROWS($B$6:B389))","v":""},{"$f":"IF(OR(SD!A385=\"\"),\"\",SD!A385)","v":""},{"$f":"IF(OR(SD!C385=\"\"),\"\",SD!C385)","v":""},{"$f":"IF(OR(SD!E385=\"\"),\"\",SD!E385)","v":""},{"$f":"IF(OR(SD!G385=\"\"),\"\",SD!G385)","v":""},{"$f":"IF(OR(SD!I385=\"\"),\"\",SD!I385)","v":""},{"$f":"IF(OR(SD!O385=\"\"),\"\",SD!O385)","v":""},{"$f":"IF(OR(SD!V385=\"\"),\"\",SD!V385)","v":""},{"$f":"IF(SD!D385=\"\",\"\",SD!D385)","v":""}]
[null,{"$f":"IF(E390=\"\",\"\",ROWS($B$6:B390))","v":""},{"$f":"IF(OR(SD!A386=\"\"),\"\",SD!A386)","v":""},{"$f":"IF(OR(SD!C386=\"\"),\"\",SD!C386)","v":""},{"$f":"IF(OR(SD!E386=\"\"),\"\",SD!E386)","v":""},{"$f":"IF(OR(SD!G386=\"\"),\"\",SD!G386)","v":""},{"$f":"IF(OR(SD!I386=\"\"),\"\",SD!I386)","v":""},{"$f":"IF(OR(SD!O386=\"\"),\"\",SD!O386)","v":""},{"$f":"IF(OR(SD!V386=\"\"),\"\",SD!V386)","v":""},{"$f":"IF(SD!D386=\"\",\"\",SD!D386)","v":""}]
[null,{"$f":"IF(E391=\"\",\"\",ROWS($B$6:B391))","v":""},{"$f":"IF(OR(SD!A387=\"\"),\"\",SD!A387)","v":""},{"$f":"IF(OR(SD!C387=\"\"),\"\",SD!C387)","v":""},{"$f":"IF(OR(SD!E387=\"\"),\"\",SD!E387)","v":""},{"$f":"IF(OR(SD!G387=\"\"),\"\",SD!G387)","v":""},{"$f":"IF(OR(SD!I387=\"\"),\"\",SD!I387)","v":""},{"$f":"IF(OR(SD!O387=\"\"),\"\",SD!O387)","v":""},{"$f":"IF(OR(SD!V387=\"\"),\"\",SD!V387)","v":""},{"$f":"IF(SD!D387=\"\",\"\",SD!D387)","v":""}]
[null,{"$f":"IF(E392=\"\",\"\",ROWS($B$6:B392))","v":""},{"$f":"IF(OR(SD!A388=\"\"),\"\",SD!A388)","v":""},{"$f":"IF(OR(SD!C388=\"\"),\"\",SD!C388)","v":""},{"$f":"IF(OR(SD!E388=\"\"),\"\",SD!E388)","v":""},{"$f":"IF(OR(SD!G388=\"\"),\"\",SD!G388)","v":""},{"$f":"IF(OR(SD!I388=\"\"),\"\",SD!I388)","v":""},{"$f":"IF(OR(SD!O388=\"\"),\"\",SD!O388)","v":""},{"$f":"IF(OR(SD!V388=\"\"),\"\",SD!V388)","v":""},{"$f":"IF(SD!D388=\"\",\"\",SD!D388)","v":""}]
[null,{"$f":"IF(E393=\"\",\"\",ROWS($B$6:B393))","v":""},{"$f":"IF(OR(SD!A389=\"\"),\"\",SD!A389)","v":""},{"$f":"IF(OR(SD!C389=\"\"),\"\",SD!C389)","v":""},{"$f":"IF(OR(SD!E389=\"\"),\"\",SD!E389)","v":""},{"$f":"IF(OR(SD!G389=\"\"),\"\",SD!G389)","v":""},{"$f":"IF(OR(SD!I389=\"\"),\"\",SD!I389)","v":""},{"$f":"IF(OR(SD!O389=\"\"),\"\",SD!O389)","v":""},{"$f":"IF(OR(SD!V389=\"\"),\"\",SD!V389)","v":""},{"$f":"IF(SD!D389=\"\",\"\",SD!D389)","v":""}]
[null,{"$f":"IF(E394=\"\",\"\",ROWS($B$6:B394))","v":""},{"$f":"IF(OR(SD!A390=\"\"),\"\",SD!A390)","v":""},{"$f":"IF(OR(SD!C390=\"\"),\"\",SD!C390)","v":""},{"$f":"IF(OR(SD!E390=\"\"),\"\",SD!E390)","v":""},{"$f":"IF(OR(SD!G390=\"\"),\"\",SD!G390)","v":""},{"$f":"IF(OR(SD!I390=\"\"),\"\",SD!I390)","v":""},{"$f":"IF(OR(SD!O390=\"\"),\"\",SD!O390)","v":""},{"$f":"IF(OR(SD!V390=\"\"),\"\",SD!V390)","v":""},{"$f":"IF(SD!D390=\"\",\"\",SD!D390)","v":""}]
[null,{"$f":"IF(E395=\"\",\"\",ROWS($B$6:B395))","v":""},{"$f":"IF(OR(SD!A391=\"\"),\"\",SD!A391)","v":""},{"$f":"IF(OR(SD!C391=\"\"),\"\",SD!C391)","v":""},{"$f":"IF(OR(SD!E391=\"\"),\"\",SD!E391)","v":""},{"$f":"IF(OR(SD!G391=\"\"),\"\",SD!G391)","v":""},{"$f":"IF(OR(SD!I391=\"\"),\"\",SD!I391)","v":""},{"$f":"IF(OR(SD!O391=\"\"),\"\",SD!O391)","v":""},{"$f":"IF(OR(SD!V391=\"\"),\"\",SD!V391)","v":""},{"$f":"IF(SD!D391=\"\",\"\",SD!D391)","v":""}]
[null,{"$f":"IF(E396=\"\",\"\",ROWS($B$6:B396))","v":""},{"$f":"IF(OR(SD!A392=\"\"),\"\",SD!A392)","v":""},{"$f":"IF(OR(SD!C392=\"\"),\"\",SD!C392)","v":""},{"$f":"IF(OR(SD!E392=\"\"),\"\",SD!E392)","v":""},{"$f":"IF(OR(SD!G392=\"\"),\"\",SD!G392)","v":""},{"$f":"IF(OR(SD!I392=\"\"),\"\",SD!I392)","v":""},{"$f":"IF(OR(SD!O392=\"\"),\"\",SD!O392)","v":""},{"$f":"IF(OR(SD!V392=\"\"),\"\",SD!V392)","v":""},{"$f":"IF(SD!D392=\"\",\"\",SD!D392)","v":""}]
[null,{"$f":"IF(E397=\"\",\"\",ROWS($B$6:B397))","v":""},{"$f":"IF(OR(SD!A393=\"\"),\"\",SD!A393)","v":""},{"$f":"IF(OR(SD!C393=\"\"),\"\",SD!C393)","v":""},{"$f":"IF(OR(SD!E393=\"\"),\"\",SD!E393)","v":""},{"$f":"IF(OR(SD!G393=\"\"),\"\",SD!G393)","v":""},{"$f":"IF(OR(SD!I393=\"\"),\"\",SD!I393)","v":""},{"$f":"IF(OR(SD!O393=\"\"),\"\",SD!O393)","v":""},{"$f":"IF(OR(SD!V393=\"\"),\"\",SD!V393)","v":""},{"$f":"IF(SD!D393=\"\",\"\",SD!D393)","v":""}]
[null,{"$f":"IF(E398=\"\",\"\",ROWS($B$6:B398))","v":""},{"$f":"IF(OR(SD!A394=\"\"),\"\",SD!A394)","v":""},{"$f":"IF(OR(SD!C394=\"\"),\"\",SD!C394)","v":""},{"$f":"IF(OR(SD!E394=\"\"),\"\",SD!E394)","v":""},{"$f":"IF(OR(SD!G394=\"\"),\"\",SD!G394)","v":""},{"$f":"IF(OR(SD!I394=\"\"),\"\",SD!I394)","v":""},{"$f":"IF(OR(SD!O394=\"\"),\"\",SD!O394)","v":""},{"$f":"IF(OR(SD!V394=\"\"),\"\",SD!V394)","v":""},{"$f":"IF(SD!D394=\"\",\"\",SD!D394)","v":""}]
[null,{"$f":"IF(E399=\"\",\"\",ROWS($B$6:B399))","v":""},{"$f":"IF(OR(SD!A395=\"\"),\"\",SD!A395)","v":""},{"$f":"IF(OR(SD!C395=\"\"),\"\",SD!C395)","v":""},{"$f":"IF(OR(SD!E395=\"\"),\"\",SD!E395)","v":""},{"$f":"IF(OR(SD!G395=\"\"),\"\",SD!G395)","v":""},{"$f":"IF(OR(SD!I395=\"\"),\"\",SD!I395)","v":""},{"$f":"IF(OR(SD!O395=\"\"),\"\",SD!O395)","v":""},{"$f":"IF(OR(SD!V395=\"\"),\"\",SD!V395)","v":""},{"$f":"IF(SD!D395=\"\",\"\",SD!D395)","v":""}]
[null,{"$f":"IF(E400=\"\",\"\",ROWS($B$6:B400))","v":""},{"$f":"IF(OR(SD!A396=\"\"),\"\",SD!A396)","v":""},{"$f":"IF(OR(SD!C396=\"\"),\"\",SD!C396)","v":""},{"$f":"IF(OR(SD!E396=\"\"),\"\",SD!E396)","v":""},{"$f":"IF(OR(SD!G396=\"\"),\"\",SD!G396)","v":""},{"$f":"IF(OR(SD!I396=\"\"),\"\",SD!I396)","v":""},{"$f":"IF(OR(SD!O396=\"\"),\"\",SD!O396)","v":""},{"$f":"IF(OR(SD!V396=\"\"),\"\",SD!V396)","v":""},{"$f":"IF(SD!D396=\"\",\"\",SD!D396)","v":""}]
[null,{"$f":"IF(E401=\"\",\"\",ROWS($B$6:B401))","v":""},{"$f":"IF(OR(SD!A397=\"\"),\"\",SD!A397)","v":""},{"$f":"IF(OR(SD!C397=\"\"),\"\",SD!C397)","v":""},{"$f":"IF(OR(SD!E397=\"\"),\"\",SD!E397)","v":""},{"$f":"IF(OR(SD!G397=\"\"),\"\",SD!G397)","v":""},{"$f":"IF(OR(SD!I397=\"\"),\"\",SD!I397)","v":""},{"$f":"IF(OR(SD!O397=\"\"),\"\",SD!O397)","v":""},{"$f":"IF(OR(SD!V397=\"\"),\"\",SD!V397)","v":""},{"$f":"IF(SD!D397=\"\",\"\",SD!D397)","v":""}]
[null,{"$f":"IF(E402=\"\",\"\",ROWS($B$6:B402))","v":""},{"$f":"IF(OR(SD!A398=\"\"),\"\",SD!A398)","v":""},{"$f":"IF(OR(SD!C398=\"\"),\"\",SD!C398)","v":""},{"$f":"IF(OR(SD!E398=\"\"),\"\",SD!E398)","v":""},{"$f":"IF(OR(SD!G398=\"\"),\"\",SD!G398)","v":""},{"$f":"IF(OR(SD!I398=\"\"),\"\",SD!I398)","v":""},{"$f":"IF(OR(SD!O398=\"\"),\"\",SD!O398)","v":""},{"$f":"IF(OR(SD!V398=\"\"),\"\",SD!V398)","v":""},{"$f":"IF(SD!D398=\"\",\"\",SD!D398)","v":""}]
[null,{"$f":"IF(E403=\"\",\"\",ROWS($B$6:B403))","v":""},{"$f":"IF(OR(SD!A399=\"\"),\"\",SD!A399)","v":""},{"$f":"IF(OR(SD!C399=\"\"),\"\",SD!C399)","v":""},{"$f":"IF(OR(SD!E399=\"\"),\"\",SD!E399)","v":""},{"$f":"IF(OR(SD!G399=\"\"),\"\",SD!G399)","v":""},{"$f":"IF(OR(SD!I399=\"\"),\"\",SD!I399)","v":""},{"$f":"IF(OR(SD!O399=\"\"),\"\",SD!O399)","v":""},{"$f":"IF(OR(SD!V399=\"\"),\"\",SD!V399)","v":""},{"$f":"IF(SD!D399=\"\",\"\",SD!D399)","v":""}]
[null,{"$f":"IF(E404=\"\",\"\",ROWS($B$6:B404))","v":""},{"$f":"IF(OR(SD!A400=\"\"),\"\",SD!A400)","v":""},{"$f":"IF(OR(SD!C400=\"\"),\"\",SD!C400)","v":""},{"$f":"IF(OR(SD!E400=\"\"),\"\",SD!E400)","v":""},{"$f":"IF(OR(SD!G400=\"\"),\"\",SD!G400)","v":""},{"$f":"IF(OR(SD!I400=\"\"),\"\",SD!I400)","v":""},{"$f":"IF(OR(SD!O400=\"\"),\"\",SD!O400)","v":""},{"$f":"IF(OR(SD!V400=\"\"),\"\",SD!V400)","v":""},{"$f":"IF(SD!D400=\"\",\"\",SD!D400)","v":""}]
[null,{"$f":"IF(E405=\"\",\"\",ROWS($B$6:B405))","v":""},{"$f":"IF(OR(SD!A401=\"\"),\"\",SD!A401)","v":""},{"$f":"IF(OR(SD!C401=\"\"),\"\",SD!C401)","v":""},{"$f":"IF(OR(SD!E401=\"\"),\"\",SD!E401)","v":""},{"$f":"IF(OR(SD!G401=\"\"),\"\",SD!G401)","v":""},{"$f":"IF(OR(SD!I401=\"\"),\"\",SD!I401)","v":""},{"$f":"IF(OR(SD!O401=\"\"),\"\",SD!O401)","v":""},{"$f":"IF(OR(SD!V401=\"\"),\"\",SD!V401)","v":""},{"$f":"IF(SD!D401=\"\",\"\",SD!D401)","v":""}]
[null,{"$f":"IF(E406=\"\",\"\",ROWS($B$6:B406))","v":""},{"$f":"IF(OR(SD!A402=\"\"),\"\",SD!A402)","v":""},{"$f":"IF(OR(SD!C402=\"\"),\"\",SD!C402)","v":""},{"$f":"IF(OR(SD!E402=\"\"),\"\",SD!E402)","v":""},{"$f":"IF(OR(SD!G402=\"\"),\"\",SD!G402)","v":""},{"$f":"IF(OR(SD!I402=\"\"),\"\",SD!I402)","v":""},{"$f":"IF(OR(SD!O402=\"\"),\"\",SD!O402)","v":""},{"$f":"IF(OR(SD!V402=\"\"),\"\",SD!V402)","v":""},{"$f":"IF(SD!D402=\"\",\"\",SD!D402)","v":""}]
[null,{"$f":"IF(E407=\"\",\"\",ROWS($B$6:B407))","v":""},{"$f":"IF(OR(SD!A403=\"\"),\"\",SD!A403)","v":""},{"$f":"IF(OR(SD!C403=\"\"),\"\",SD!C403)","v":""},{"$f":"IF(OR(SD!E403=\"\"),\"\",SD!E403)","v":""},{"$f":"IF(OR(SD!G403=\"\"),\"\",SD!G403)","v":""},{"$f":"IF(OR(SD!I403=\"\"),\"\",SD!I403)","v":""},{"$f":"IF(OR(SD!O403=\"\"),\"\",SD!O403)","v":""},{"$f":"IF(OR(SD!V403=\"\"),\"\",SD!V403)","v":""},{"$f":"IF(SD!D403=\"\",\"\",SD!D403)","v":""}]
[null,{"$f":"IF(E408=\"\",\"\",ROWS($B$6:B408))","v":""},{"$f":"IF(OR(SD!A404=\"\"),\"\",SD!A404)","v":""},{"$f":"IF(OR(SD!C404=\"\"),\"\",SD!C404)","v":""},{"$f":"IF(OR(SD!E404=\"\"),\"\",SD!E404)","v":""},{"$f":"IF(OR(SD!G404=\"\"),\"\",SD!G404)","v":""},{"$f":"IF(OR(SD!I404=\"\"),\"\",SD!I404)","v":""},{"$f":"IF(OR(SD!O404=\"\"),\"\",SD!O404)","v":""},{"$f":"IF(OR(SD!V404=\"\"),\"\",SD!V404)","v":""},{"$f":"IF(SD!D404=\"\",\"\",SD!D404)","v":""}]
[null,{"$f":"IF(E409=\"\",\"\",ROWS($B$6:B409))","v":""},{"$f":"IF(OR(SD!A405=\"\"),\"\",SD!A405)","v":""},{"$f":"IF(OR(SD!C405=\"\"),\"\",SD!C405)","v":""},{"$f":"IF(OR(SD!E405=\"\"),\"\",SD!E405)","v":""},{"$f":"IF(OR(SD!G405=\"\"),\"\",SD!G405)","v":""},{"$f":"IF(OR(SD!I405=\"\"),\"\",SD!I405)","v":""},{"$f":"IF(OR(SD!O405=\"\"),\"\",SD!O405)","v":""},{"$f":"IF(OR(SD!V405=\"\"),\"\",SD!V405)","v":""},{"$f":"IF(SD!D405=\"\",\"\",SD!D405)","v":""}]
[null,{"$f":"IF(E410=\"\",\"\",ROWS($B$6:B410))","v":""},{"$f":"IF(OR(SD!A406=\"\"),\"\",SD!A406)","v":""},{"$f":"IF(OR(SD!C406=\"\"),\"\",SD!C406)","v":""},{"$f":"IF(OR(SD!E406=\"\"),\"\",SD!E406)","v":""},{"$f":"IF(OR(SD!G406=\"\"),\"\",SD!G406)","v":""},{"$f":"IF(OR(SD!I406=\"\"),\"\",SD!I406)","v":""},{"$f":"IF(OR(SD!O406=\"\"),\"\",SD!O406)","v":""},{"$f":"IF(OR(SD!V406=\"\"),\"\",SD!V406)","v":""},{"$f":"IF(SD!D406=\"\",\"\",SD!D406)","v":""}]
[null,{"$f":"IF(E411=\"\",\"\",ROWS($B$6:B411))","v":""},{"$f":"IF(OR(SD!A407=\"\"),\"\",SD!A407)","v":""},{"$f":"IF(OR(SD!C407=\"\"),\"\",SD!C407)","v":""},{"$f":"IF(OR(SD!E407=\"\"),\"\",SD!E407)","v":""},{"$f":"IF(OR(SD!G407=\"\"),\"\",SD!G407)","v":""},{"$f":"IF(OR(SD!I407=\"\"),\"\",SD!I407)","v":""},{"$f":"IF(OR(SD!O407=\"\"),\"\",SD!O407)","v":""},{"$f":"IF(OR(SD!V407=\"\"),\"\",SD!V407)","v":""},{"$f":"IF(SD!D407=\"\",\"\",SD!D407)","v":""}]
[null,{"$f":"IF(E412=\"\",\"\",ROWS($B$6:B412))","v":""},{"$f":"IF(OR(SD!A408=\"\"),\"\",SD!A408)","v":""},{"$f":"IF(OR(SD!C408=\"\"),\"\",SD!C408)","v":""},{"$f":"IF(OR(SD!E408=\"\"),\"\",SD!E408)","v":""},{"$f":"IF(OR(SD!G408=\"\"),\"\",SD!G408)","v":""},{"$f":"IF(OR(SD!I408=\"\"),\"\",SD!I408)","v":""},{"$f":"IF(OR(SD!O408=\"\"),\"\",SD!O408)","v":""},{"$f":"IF(OR(SD!V408=\"\"),\"\",SD!V408)","v":""},{"$f":"IF(SD!D408=\"\",\"\",SD!D408)","v":""}]
[null,{"$f":"IF(E413=\"\",\"\",ROWS($B$6:B413))","v":""},{"$f":"IF(OR(SD!A409=\"\"),\"\",SD!A409)","v":""},{"$f":"IF(OR(SD!C409=\"\"),\"\",SD!C409)","v":""},{"$f":"IF(OR(SD!E409=\"\"),\"\",SD!E409)","v":""},{"$f":"IF(OR(SD!G409=\"\"),\"\",SD!G409)","v":""},{"$f":"IF(OR(SD!I409=\"\"),\"\",SD!I409)","v":""},{"$f":"IF(OR(SD!O409=\"\"),\"\",SD!O409)","v":""},{"$f":"IF(OR(SD!V409=\"\"),\"\",SD!V409)","v":""},{"$f":"IF(SD!D409=\"\",\"\",SD!D409)","v":""}]
[null,{"$f":"IF(E414=\"\",\"\",ROWS($B$6:B414))","v":""},{"$f":"IF(OR(SD!A410=\"\"),\"\",SD!A410)","v":""},{"$f":"IF(OR(SD!C410=\"\"),\"\",SD!C410)","v":""},{"$f":"IF(OR(SD!E410=\"\"),\"\",SD!E410)","v":""},{"$f":"IF(OR(SD!G410=\"\"),\"\",SD!G410)","v":""},{"$f":"IF(OR(SD!I410=\"\"),\"\",SD!I410)","v":""},{"$f":"IF(OR(SD!O410=\"\"),\"\",SD!O410)","v":""},{"$f":"IF(OR(SD!V410=\"\"),\"\",SD!V410)","v":""},{"$f":"IF(SD!D410=\"\",\"\",SD!D410)","v":""}]
[null,{"$f":"IF(E415=\"\",\"\",ROWS($B$6:B415))","v":""},{"$f":"IF(OR(SD!A411=\"\"),\"\",SD!A411)","v":""},{"$f":"IF(OR(SD!C411=\"\"),\"\",SD!C411)","v":""},{"$f":"IF(OR(SD!E411=\"\"),\"\",SD!E411)","v":""},{"$f":"IF(OR(SD!G411=\"\"),\"\",SD!G411)","v":""},{"$f":"IF(OR(SD!I411=\"\"),\"\",SD!I411)","v":""},{"$f":"IF(OR(SD!O411=\"\"),\"\",SD!O411)","v":""},{"$f":"IF(OR(SD!V411=\"\"),\"\",SD!V411)","v":""},{"$f":"IF(SD!D411=\"\",\"\",SD!D411)","v":""}]
[null,{"$f":"IF(E416=\"\",\"\",ROWS($B$6:B416))","v":""},{"$f":"IF(OR(SD!A412=\"\"),\"\",SD!A412)","v":""},{"$f":"IF(OR(SD!C412=\"\"),\"\",SD!C412)","v":""},{"$f":"IF(OR(SD!E412=\"\"),\"\",SD!E412)","v":""},{"$f":"IF(OR(SD!G412=\"\"),\"\",SD!G412)","v":""},{"$f":"IF(OR(SD!I412=\"\"),\"\",SD!I412)","v":""},{"$f":"IF(OR(SD!O412=\"\"),\"\",SD!O412)","v":""},{"$f":"IF(OR(SD!V412=\"\"),\"\",SD!V412)","v":""},{"$f":"IF(SD!D412=\"\",\"\",SD!D412)","v":""}]
[null,{"$f":"IF(E417=\"\",\"\",ROWS($B$6:B417))","v":""},{"$f":"IF(OR(SD!A413=\"\"),\"\",SD!A413)","v":""},{"$f":"IF(OR(SD!C413=\"\"),\"\",SD!C413)","v":""},{"$f":"IF(OR(SD!E413=\"\"),\"\",SD!E413)","v":""},{"$f":"IF(OR(SD!G413=\"\"),\"\",SD!G413)","v":""},{"$f":"IF(OR(SD!I413=\"\"),\"\",SD!I413)","v":""},{"$f":"IF(OR(SD!O413=\"\"),\"\",SD!O413)","v":""},{"$f":"IF(OR(SD!V413=\"\"),\"\",SD!V413)","v":""},{"$f":"IF(SD!D413=\"\",\"\",SD!D413)","v":""}]
[null,{"$f":"IF(E418=\"\",\"\",ROWS($B$6:B418))","v":""},{"$f":"IF(OR(SD!A414=\"\"),\"\",SD!A414)","v":""},{"$f":"IF(OR(SD!C414=\"\"),\"\",SD!C414)","v":""},{"$f":"IF(OR(SD!E414=\"\"),\"\",SD!E414)","v":""},{"$f":"IF(OR(SD!G414=\"\"),\"\",SD!G414)","v":""},{"$f":"IF(OR(SD!I414=\"\"),\"\",SD!I414)","v":""},{"$f":"IF(OR(SD!O414=\"\"),\"\",SD!O414)","v":""},{"$f":"IF(OR(SD!V414=\"\"),\"\",SD!V414)","v":""},{"$f":"IF(SD!D414=\"\",\"\",SD!D414)","v":""}]
[null,{"$f":"IF(E419=\"\",\"\",ROWS($B$6:B419))","v":""},{"$f":"IF(OR(SD!A415=\"\"),\"\",SD!A415)","v":""},{"$f":"IF(OR(SD!C415=\"\"),\"\",SD!C415)","v":""},{"$f":"IF(OR(SD!E415=\"\"),\"\",SD!E415)","v":""},{"$f":"IF(OR(SD!G415=\"\"),\"\",SD!G415)","v":""},{"$f":"IF(OR(SD!I415=\"\"),\"\",SD!I415)","v":""},{"$f":"IF(OR(SD!O415=\"\"),\"\",SD!O415)","v":""},{"$f":"IF(OR(SD!V415=\"\"),\"\",SD!V415)","v":""},{"$f":"IF(SD!D415=\"\",\"\",SD!D415)","v":""}]
[null,{"$f":"IF(E420=\"\",\"\",ROWS($B$6:B420))","v":""},{"$f":"IF(OR(SD!A416=\"\"),\"\",SD!A416)","v":""},{"$f":"IF(OR(SD!C416=\"\"),\"\",SD!C416)","v":""},{"$f":"IF(OR(SD!E416=\"\"),\"\",SD!E416)","v":""},{"$f":"IF(OR(SD!G416=\"\"),\"\",SD!G416)","v":""},{"$f":"IF(OR(SD!I416=\"\"),\"\",SD!I416)","v":""},{"$f":"IF(OR(SD!O416=\"\"),\"\",SD!O416)","v":""},{"$f":"IF(OR(SD!V416=\"\"),\"\",SD!V416)","v":""},{"$f":"IF(SD!D416=\"\",\"\",SD!D416)","v":""}]
[null,{"$f":"IF(E421=\"\",\"\",ROWS($B$6:B421))","v":""},{"$f":"IF(OR(SD!A417=\"\"),\"\",SD!A417)","v":""},{"$f":"IF(OR(SD!C417=\"\"),\"\",SD!C417)","v":""},{"$f":"IF(OR(SD!E417=\"\"),\"\",SD!E417)","v":""},{"$f":"IF(OR(SD!G417=\"\"),\"\",SD!G417)","v":""},{"$f":"IF(OR(SD!I417=\"\"),\"\",SD!I417)","v":""},{"$f":"IF(OR(SD!O417=\"\"),\"\",SD!O417)","v":""},{"$f":"IF(OR(SD!V417=\"\"),\"\",SD!V417)","v":""},{"$f":"IF(SD!D417=\"\",\"\",SD!D417)","v":""}]
[null,{"$f":"IF(E422=\"\",\"\",ROWS($B$6:B422))","v":""},{"$f":"IF(OR(SD!A418=\"\"),\"\",SD!A418)","v":""},{"$f":"IF(OR(SD!C418=\"\"),\"\",SD!C418)","v":""},{"$f":"IF(OR(SD!E418=\"\"),\"\",SD!E418)","v":""},{"$f":"IF(OR(SD!G418=\"\"),\"\",SD!G418)","v":""},{"$f":"IF(OR(SD!I418=\"\"),\"\",SD!I418)","v":""},{"$f":"IF(OR(SD!O418=\"\"),\"\",SD!O418)","v":""},{"$f":"IF(OR(SD!V418=\"\"),\"\",SD!V418)","v":""},{"$f":"IF(SD!D418=\"\",\"\",SD!D418)","v":""}]
[null,{"$f":"IF(E423=\"\",\"\",ROWS($B$6:B423))","v":""},{"$f":"IF(OR(SD!A419=\"\"),\"\",SD!A419)","v":""},{"$f":"IF(OR(SD!C419=\"\"),\"\",SD!C419)","v":""},{"$f":"IF(OR(SD!E419=\"\"),\"\",SD!E419)","v":""},{"$f":"IF(OR(SD!G419=\"\"),\"\",SD!G419)","v":""},{"$f":"IF(OR(SD!I419=\"\"),\"\",SD!I419)","v":""},{"$f":"IF(OR(SD!O419=\"\"),\"\",SD!O419)","v":""},{"$f":"IF(OR(SD!V419=\"\"),\"\",SD!V419)","v":""},{"$f":"IF(SD!D419=\"\",\"\",SD!D419)","v":""}]
[null,{"$f":"IF(E424=\"\",\"\",ROWS($B$6:B424))","v":""},{"$f":"IF(OR(SD!A420=\"\"),\"\",SD!A420)","v":""},{"$f":"IF(OR(SD!C420=\"\"),\"\",SD!C420)","v":""},{"$f":"IF(OR(SD!E420=\"\"),\"\",SD!E420)","v":""},{"$f":"IF(OR(SD!G420=\"\"),\"\",SD!G420)","v":""},{"$f":"IF(OR(SD!I420=\"\"),\"\",SD!I420)","v":""},{"$f":"IF(OR(SD!O420=\"\"),\"\",SD!O420)","v":""},{"$f":"IF(OR(SD!V420=\"\"),\"\",SD!V420)","v":""},{"$f":"IF(SD!D420=\"\",\"\",SD!D420)","v":""}]
[null,{"$f":"IF(E425=\"\",\"\",ROWS($B$6:B425))","v":""},{"$f":"IF(OR(SD!A421=\"\"),\"\",SD!A421)","v":""},{"$f":"IF(OR(SD!C421=\"\"),\"\",SD!C421)","v":""},{"$f":"IF(OR(SD!E421=\"\"),\"\",SD!E421)","v":""},{"$f":"IF(OR(SD!G421=\"\"),\"\",SD!G421)","v":""},{"$f":"IF(OR(SD!I421=\"\"),\"\",SD!I421)","v":""},{"$f":"IF(OR(SD!O421=\"\"),\"\",SD!O421)","v":""},{"$f":"IF(OR(SD!V421=\"\"),\"\",SD!V421)","v":""},{"$f":"IF(SD!D421=\"\",\"\",SD!D421)","v":""}]
[null,{"$f":"IF(E426=\"\",\"\",ROWS($B$6:B426))","v":""},{"$f":"IF(OR(SD!A422=\"\"),\"\",SD!A422)","v":""},{"$f":"IF(OR(SD!C422=\"\"),\"\",SD!C422)","v":""},{"$f":"IF(OR(SD!E422=\"\"),\"\",SD!E422)","v":""},{"$f":"IF(OR(SD!G422=\"\"),\"\",SD!G422)","v":""},{"$f":"IF(OR(SD!I422=\"\"),\"\",SD!I422)","v":""},{"$f":"IF(OR(SD!O422=\"\"),\"\",SD!O422)","v":""},{"$f":"IF(OR(SD!V422=\"\"),\"\",SD!V422)","v":""},{"$f":"IF(SD!D422=\"\",\"\",SD!D422)","v":""}]
[null,{"$f":"IF(E427=\"\",\"\",ROWS($B$6:B427))","v":""},{"$f":"IF(OR(SD!A423=\"\"),\"\",SD!A423)","v":""},{"$f":"IF(OR(SD!C423=\"\"),\"\",SD!C423)","v":""},{"$f":"IF(OR(SD!E423=\"\"),\"\",SD!E423)","v":""},{"$f":"IF(OR(SD!G423=\"\"),\"\",SD!G423)","v":""},{"$f":"IF(OR(SD!I423=\"\"),\"\",SD!I423)","v":""},{"$f":"IF(OR(SD!O423=\"\"),\"\",SD!O423)","v":""},{"$f":"IF(OR(SD!V423=\"\"),\"\",SD!V423)","v":""},{"$f":"IF(SD!D423=\"\",\"\",SD!D423)","v":""}]
[null,{"$f":"IF(E428=\"\",\"\",ROWS($B$6:B428))","v":""},{"$f":"IF(OR(SD!A424=\"\"),\"\",SD!A424)","v":""},{"$f":"IF(OR(SD!C424=\"\"),\"\",SD!C424)","v":""},{"$f":"IF(OR(SD!E424=\"\"),\"\",SD!E424)","v":""},{"$f":"IF(OR(SD!G424=\"\"),\"\",SD!G424)","v":""},{"$f":"IF(OR(SD!I424=\"\"),\"\",SD!I424)","v":""},{"$f":"IF(OR(SD!O424=\"\"),\"\",SD!O424)","v":""},{"$f":"IF(OR(SD!V424=\"\"),\"\",SD!V424)","v":""},{"$f":"IF(SD!D424=\"\",\"\",SD!D424)","v":""}]
[null,{"$f":"IF(E429=\"\",\"\",ROWS($B$6:B429))","v":""},{"$f":"IF(OR(SD!A425=\"\"),\"\",SD!A425)","v":""},{"$f":"IF(OR(SD!C425=\"\"),\"\",SD!C425)","v":""},{"$f":"IF(OR(SD!E425=\"\"),\"\",SD!E425)","v":""},{"$f":"IF(OR(SD!G425=\"\"),\"\",SD!G425)","v":""},{"$f":"IF(OR(SD!I425=\"\"),\"\",SD!I425)","v":""},{"$f":"IF(OR(SD!O425=\"\"),\"\",SD!O425)","v":""},{"$f":"IF(OR(SD!V425=\"\"),\"\",SD!V425)","v":""},{"$f":"IF(SD!D425=\"\",\"\",SD!D425)","v":""}]
[null,{"$f":"IF(E430=\"\",\"\",ROWS($B$6:B430))","v":""},{"$f":"IF(OR(SD!A426=\"\"),\"\",SD!A426)","v":""},{"$f":"IF(OR(SD!C426=\"\"),\"\",SD!C426)","v":""},{"$f":"IF(OR(SD!E426=\"\"),\"\",SD!E426)","v":""},{"$f":"IF(OR(SD!G426=\"\"),\"\",SD!G426)","v":""},{"$f":"IF(OR(SD!I426=\"\"),\"\",SD!I426)","v":""},{"$f":"IF(OR(SD!O426=\"\"),\"\",SD!O426)","v":""},{"$f":"IF(OR(SD!V426=\"\"),\"\",SD!V426)","v":""},{"$f":"IF(SD!D426=\"\",\"\",SD!D426)","v":""}]
[null,{"$f":"IF(E431=\"\",\"\",ROWS($B$6:B431))","v":""},{"$f":"IF(OR(SD!A427=\"\"),\"\",SD!A427)","v":""},{"$f":"IF(OR(SD!C427=\"\"),\"\",SD!C427)","v":""},{"$f":"IF(OR(SD!E427=\"\"),\"\",SD!E427)","v":""},{"$f":"IF(OR(SD!G427=\"\"),\"\",SD!G427)","v":""},{"$f":"IF(OR(SD!I427=\"\"),\"\",SD!I427)","v":""},{"$f":"IF(OR(SD!O427=\"\"),\"\",SD!O427)","v":""},{"$f":"IF(OR(SD!V427=\"\"),\"\",SD!V427)","v":""},{"$f":"IF(SD!D427=\"\",\"\",SD!D427)","v":""}]
[null,{"$f":"IF(E432=\"\",\"\",ROWS($B$6:B432))","v":""},{"$f":"IF(OR(SD!A428=\"\"),\"\",SD!A428)","v":""},{"$f":"IF(OR(SD!C428=\"\"),\"\",SD!C428)","v":""},{"$f":"IF(OR(SD!E428=\"\"),\"\",SD!E428)","v":""},{"$f":"IF(OR(SD!G428=\"\"),\"\",SD!G428)","v":""},{"$f":"IF(OR(SD!I428=\"\"),\"\",SD!I428)","v":""},{"$f":"IF(OR(SD!O428=\"\"),\"\",SD!O428)","v":""},{"$f":"IF(OR(SD!V428=\"\"),\"\",SD!V428)","v":""},{"$f":"IF(SD!D428=\"\",\"\",SD!D428)","v":""}]
[null,{"$f":"IF(E433=\"\",\"\",ROWS($B$6:B433))","v":""},{"$f":"IF(OR(SD!A429=\"\"),\"\",SD!A429)","v":""},{"$f":"IF(OR(SD!C429=\"\"),\"\",SD!C429)","v":""},{"$f":"IF(OR(SD!E429=\"\"),\"\",SD!E429)","v":""},{"$f":"IF(OR(SD!G429=\"\"),\"\",SD!G429)","v":""},{"$f":"IF(OR(SD!I429=\"\"),\"\",SD!I429)","v":""},{"$f":"IF(OR(SD!O429=\"\"),\"\",SD!O429)","v":""},{"$f":"IF(OR(SD!V429=\"\"),\"\",SD!V429)","v":""},{"$f":"IF(SD!D429=\"\",\"\",SD!D429)","v":""}]
[null,{"$f":"IF(E434=\"\",\"\",ROWS($B$6:B434))","v":""},{"$f":"IF(OR(SD!A430=\"\"),\"\",SD!A430)","v":""},{"$f":"IF(OR(SD!C430=\"\"),\"\",SD!C430)","v":""},{"$f":"IF(OR(SD!E430=\"\"),\"\",SD!E430)","v":""},{"$f":"IF(OR(SD!G430=\"\"),\"\",SD!G430)","v":""},{"$f":"IF(OR(SD!I430=\"\"),\"\",SD!I430)","v":""},{"$f":"IF(OR(SD!O430=\"\"),\"\",SD!O430)","v":""},{"$f":"IF(OR(SD!V430=\"\"),\"\",SD!V430)","v":""},{"$f":"IF(SD!D430=\"\",\"\",SD!D430)","v":""}]
[null,{"$f":"IF(E435=\"\",\"\",ROWS($B$6:B435))","v":""},{"$f":"IF(OR(SD!A431=\"\"),\"\",SD!A431)","v":""},{"$f":"IF(OR(SD!C431=\"\"),\"\",SD!C431)","v":""},{"$f":"IF(OR(SD!E431=\"\"),\"\",SD!E431)","v":""},{"$f":"IF(OR(SD!G431=\"\"),\"\",SD!G431)","v":""},{"$f":"IF(OR(SD!I431=\"\"),\"\",SD!I431)","v":""},{"$f":"IF(OR(SD!O431=\"\"),\"\",SD!O431)","v":""},{"$f":"IF(OR(SD!V431=\"\"),\"\",SD!V431)","v":""},{"$f":"IF(SD!D431=\"\",\"\",SD!D431)","v":""}]
[null,{"$f":"IF(E436=\"\",\"\",ROWS($B$6:B436))","v":""},{"$f":"IF(OR(SD!A432=\"\"),\"\",SD!A432)","v":""},{"$f":"IF(OR(SD!C432=\"\"),\"\",SD!C432)","v":""},{"$f":"IF(OR(SD!E432=\"\"),\"\",SD!E432)","v":""},{"$f":"IF(OR(SD!G432=\"\"),\"\",SD!G432)","v":""},{"$f":"IF(OR(SD!I432=\"\"),\"\",SD!I432)","v":""},{"$f":"IF(OR(SD!O432=\"\"),\"\",SD!O432)","v":""},{"$f":"IF(OR(SD!V432=\"\"),\"\",SD!V432)","v":""},{"$f":"IF(SD!D432=\"\",\"\",SD!D432)","v":""}]
[null,{"$f":"IF(E437=\"\",\"\",ROWS($B$6:B437))","v":""},{"$f":"IF(OR(SD!A433=\"\"),\"\",SD!A433)","v":""},{"$f":"IF(OR(SD!C433=\"\"),\"\",SD!C433)","v":""},{"$f":"IF(OR(SD!E433=\"\"),\"\",SD!E433)","v":""},{"$f":"IF(OR(SD!G433=\"\"),\"\",SD!G433)","v":""},{"$f":"IF(OR(SD!I433=\"\"),\"\",SD!I433)","v":""},{"$f":"IF(OR(SD!O433=\"\"),\"\",SD!O433)","v":""},{"$f":"IF(OR(SD!V433=\"\"),\"\",SD!V433)","v":""},{"$f":"IF(SD!D433=\"\",\"\",SD!D433)","v":""}]
[null,{"$f":"IF(E438=\"\",\"\",ROWS($B$6:B438))","v":""},{"$f":"IF(OR(SD!A434=\"\"),\"\",SD!A434)","v":""},{"$f":"IF(OR(SD!C434=\"\"),\"\",SD!C434)","v":""},{"$f":"IF(OR(SD!E434=\"\"),\"\",SD!E434)","v":""},{"$f":"IF(OR(SD!G434=\"\"),\"\",SD!G434)","v":""},{"$f":"IF(OR(SD!I434=\"\"),\"\",SD!I434)","v":""},{"$f":"IF(OR(SD!O434=\"\"),\"\",SD!O434)","v":""},{"$f":"IF(OR(SD!V434=\"\"),\"\",SD!V434)","v":""},{"$f":"IF(SD!D434=\"\",\"\",SD!D434)","v":""}]
[null,{"$f":"IF(E439=\"\",\"\",ROWS($B$6:B439))","v":""},{"$f":"IF(OR(SD!A435=\"\"),\"\",SD!A435)","v":""},{"$f":"IF(OR(SD!C435=\"\"),\"\",SD!C435)","v":""},{"$f":"IF(OR(SD!E435=\"\"),\"\",SD!E435)","v":""},{"$f":"IF(OR(SD!G435=\"\"),\"\",SD!G435)","v":""},{"$f":"IF(OR(SD!I435=\"\"),\"\",SD!I435)","v":""},{"$f":"IF(OR(SD!O435=\"\"),\"\",SD!O435)","v":""},{"$f":"IF(OR(SD!V435=\"\"),\"\",SD!V435)","v":""},{"$f":"IF(SD!D435=\"\",\"\",SD!D435)","v":""}]
[null,{"$f":"IF(E440=\"\",\"\",ROWS($B$6:B440))","v":""},{"$f":"IF(OR(SD!A436=\"\"),\"\",SD!A436)","v":""},{"$f":"IF(OR(SD!C436=\"\"),\"\",SD!C436)","v":""},{"$f":"IF(OR(SD!E436=\"\"),\"\",SD!E436)","v":""},{"$f":"IF(OR(SD!G436=\"\"),\"\",SD!G436)","v":""},{"$f":"IF(OR(SD!I436=\"\"),\"\",SD!I436)","v":""},{"$f":"IF(OR(SD!O436=\"\"),\"\",SD!O436)","v":""},{"$f":"IF(OR(SD!V436=\"\"),\"\",SD!V436)","v":""},{"$f":"IF(SD!D436=\"\",\"\",SD!D436)","v":""}]
[null,{"$f":"IF(E441=\"\",\"\",ROWS($B$6:B441))","v":""},{"$f":"IF(OR(SD!A437=\"\"),\"\",SD!A437)","v":""},{"$f":"IF(OR(SD!C437=\"\"),\"\",SD!C437)","v":""},{"$f":"IF(OR(SD!E437=\"\"),\"\",SD!E437)","v":""},{"$f":"IF(OR(SD!G437=\"\"),\"\",SD!G437)","v":""},{"$f":"IF(OR(SD!I437=\"\"),\"\",SD!I437)","v":""},{"$f":"IF(OR(SD!O437=\"\"),\"\",SD!O437)","v":""},{"$f":"IF(OR(SD!V437=\"\"),\"\",SD!V437)","v":""},{"$f":"IF(SD!D437=\"\",\"\",SD!D437)","v":""}]
[null,{"$f":"IF(E442=\"\",\"\",ROWS($B$6:B442))","v":""},{"$f":"IF(OR(SD!A438=\"\"),\"\",SD!A438)","v":""},{"$f":"IF(OR(SD!C438=\"\"),\"\",SD!C438)","v":""},{"$f":"IF(OR(SD!E438=\"\"),\"\",SD!E438)","v":""},{"$f":"IF(OR(SD!G438=\"\"),\"\",SD!G438)","v":""},{"$f":"IF(OR(SD!I438=\"\"),\"\",SD!I438)","v":""},{"$f":"IF(OR(SD!O438=\"\"),\"\",SD!O438)","v":""},{"$f":"IF(OR(SD!V438=\"\"),\"\",SD!V438)","v":""},{"$f":"IF(SD!D438=\"\",\"\",SD!D438)","v":""}]
[null,{"$f":"IF(E443=\"\",\"\",ROWS($B$6:B443))","v":""},{"$f":"IF(OR(SD!A439=\"\"),\"\",SD!A439)","v":""},{"$f":"IF(OR(SD!C439=\"\"),\"\",SD!C439)","v":""},{"$f":"IF(OR(SD!E439=\"\"),\"\",SD!E439)","v":""},{"$f":"IF(OR(SD!G439=\"\"),\"\",SD!G439)","v":""},{"$f":"IF(OR(SD!I439=\"\"),\"\",SD!I439)","v":""},{"$f":"IF(OR(SD!O439=\"\"),\"\",SD!O439)","v":""},{"$f":"IF(OR(SD!V439=\"\"),\"\",SD!V439)","v":""},{"$f":"IF(SD!D439=\"\",\"\",SD!D439)","v":""}]
[null,{"$f":"IF(E444=\"\",\"\",ROWS($B$6:B444))","v":""},{"$f":"IF(OR(SD!A440=\"\"),\"\",SD!A440)","v":""},{"$f":"IF(OR(SD!C440=\"\"),\"\",SD!C440)","v":""},{"$f":"IF(OR(SD!E440=\"\"),\"\",SD!E440)","v":""},{"$f":"IF(OR(SD!G440=\"\"),\"\",SD!G440)","v":""},{"$f":"IF(OR(SD!I440=\"\"),\"\",SD!I440)","v":""},{"$f":"IF(OR(SD!O440=\"\"),\"\",SD!O440)","v":""},{"$f":"IF(OR(SD!V440=\"\"),\"\",SD!V440)","v":""},{"$f":"IF(SD!D440=\"\",\"\",SD!D440)","v":""}]
[null,{"$f":"IF(E445=\"\",\"\",ROWS($B$6:B445))","v":""},{"$f":"IF(OR(SD!A441=\"\"),\"\",SD!A441)","v":""},{"$f":"IF(OR(SD!C441=\"\"),\"\",SD!C441)","v":""},{"$f":"IF(OR(SD!E441=\"\"),\"\",SD!E441)","v":""},{"$f":"IF(OR(SD!G441=\"\"),\"\",SD!G441)","v":""},{"$f":"IF(OR(SD!I441=\"\"),\"\",SD!I441)","v":""},{"$f":"IF(OR(SD!O441=\"\"),\"\",SD!O441)","v":""},{"$f":"IF(OR(SD!V441=\"\"),\"\",SD!V441)","v":""},{"$f":"IF(SD!D441=\"\",\"\",SD!D441)","v":""}]
[null,{"$f":"IF(E446=\"\",\"\",ROWS($B$6:B446))","v":""},{"$f":"IF(OR(SD!A442=\"\"),\"\",SD!A442)","v":""},{"$f":"IF(OR(SD!C442=\"\"),\"\",SD!C442)","v":""},{"$f":"IF(OR(SD!E442=\"\"),\"\",SD!E442)","v":""},{"$f":"IF(OR(SD!G442=\"\"),\"\",SD!G442)","v":""},{"$f":"IF(OR(SD!I442=\"\"),\"\",SD!I442)","v":""},{"$f":"IF(OR(SD!O442=\"\"),\"\",SD!O442)","v":""},{"$f":"IF(OR(SD!V442=\"\"),\"\",SD!V442)","v":""},{"$f":"IF(SD!D442=\"\",\"\",SD!D442)","v":""}]
[null,{"$f":"IF(E447=\"\",\"\",ROWS($B$6:B447))","v":""},{"$f":"IF(OR(SD!A443=\"\"),\"\",SD!A443)","v":""},{"$f":"IF(OR(SD!C443=\"\"),\"\",SD!C443)","v":""},{"$f":"IF(OR(SD!E443=\"\"),\"\",SD!E443)","v":""},{"$f":"IF(OR(SD!G443=\"\"),\"\",SD!G443)","v":""},{"$f":"IF(OR(SD!I443=\"\"),\"\",SD!I443)","v":""},{"$f":"IF(OR(SD!O443=\"\"),\"\",SD!O443)","v":""},{"$f":"IF(OR(SD!V443=\"\"),\"\",SD!V443)","v":""},{"$f":"IF(SD!D443=\"\",\"\",SD!D443)","v":""}]
[null,{"$f":"IF(E448=\"\",\"\",ROWS($B$6:B448))","v":""},{"$f":"IF(OR(SD!A444=\"\"),\"\",SD!A444)","v":""},{"$f":"IF(OR(SD!C444=\"\"),\"\",SD!C444)","v":""},{"$f":"IF(OR(SD!E444=\"\"),\"\",SD!E444)","v":""},{"$f":"IF(OR(SD!G444=\"\"),\"\",SD!G444)","v":""},{"$f":"IF(OR(SD!I444=\"\"),\"\",SD!I444)","v":""},{"$f":"IF(OR(SD!O444=\"\"),\"\",SD!O444)","v":""},{"$f":"IF(OR(SD!V444=\"\"),\"\",SD!V444)","v":""},{"$f":"IF(SD!D444=\"\",\"\",SD!D444)","v":""}]
[null,{"$f":"IF(E449=\"\",\"\",ROWS($B$6:B449))","v":""},{"$f":"IF(OR(SD!A445=\"\"),\"\",SD!A445)","v":""},{"$f":"IF(OR(SD!C445=\"\"),\"\",SD!C445)","v":""},{"$f":"IF(OR(SD!E445=\"\"),\"\",SD!E445)","v":""},{"$f":"IF(OR(SD!G445=\"\"),\"\",SD!G445)","v":""},{"$f":"IF(OR(SD!I445=\"\"),\"\",SD!I445)","v":""},{"$f":"IF(OR(SD!O445=\"\"),\"\",SD!O445)","v":""},{"$f":"IF(OR(SD!V445=\"\"),\"\",SD!V445)","v":""},{"$f":"IF(SD!D445=\"\",\"\",SD!D445)","v":""}]
[null,{"$f":"IF(E450=\"\",\"\",ROWS($B$6:B450))","v":""},{"$f":"IF(OR(SD!A446=\"\"),\"\",SD!A446)","v":""},{"$f":"IF(OR(SD!C446=\"\"),\"\",SD!C446)","v":""},{"$f":"IF(OR(SD!E446=\"\"),\"\",SD!E446)","v":""},{"$f":"IF(OR(SD!G446=\"\"),\"\",SD!G446)","v":""},{"$f":"IF(OR(SD!I446=\"\"),\"\",SD!I446)","v":""},{"$f":"IF(OR(SD!O446=\"\"),\"\",SD!O446)","v":""},{"$f":"IF(OR(SD!V446=\"\"),\"\",SD!V446)","v":""},{"$f":"IF(SD!D446=\"\",\"\",SD!D446)","v":""}]
[null,{"$f":"IF(E451=\"\",\"\",ROWS($B$6:B451))","v":""},{"$f":"IF(OR(SD!A447=\"\"),\"\",SD!A447)","v":""},{"$f":"IF(OR(SD!C447=\"\"),\"\",SD!C447)","v":""},{"$f":"IF(OR(SD!E447=\"\"),\"\",SD!E447)","v":""},{"$f":"IF(OR(SD!G447=\"\"),\"\",SD!G447)","v":""},{"$f":"IF(OR(SD!I447=\"\"),\"\",SD!I447)","v":""},{"$f":"IF(OR(SD!O447=\"\"),\"\",SD!O447)","v":""},{"$f":"IF(OR(SD!V447=\"\"),\"\",SD!V447)","v":""},{"$f":"IF(SD!D447=\"\",\"\",SD!D447)","v":""}]
[null,{"$f":"IF(E452=\"\",\"\",ROWS($B$6:B452))","v":""},{"$f":"IF(OR(SD!A448=\"\"),\"\",SD!A448)","v":""},{"$f":"IF(OR(SD!C448=\"\"),\"\",SD!C448)","v":""},{"$f":"IF(OR(SD!E448=\"\"),\"\",SD!E448)","v":""},{"$f":"IF(OR(SD!G448=\"\"),\"\",SD!G448)","v":""},{"$f":"IF(OR(SD!I448=\"\"),\"\",SD!I448)","v":""},{"$f":"IF(OR(SD!O448=\"\"),\"\",SD!O448)","v":""},{"$f":"IF(OR(SD!V448=\"\"),\"\",SD!V448)","v":""},{"$f":"IF(SD!D448=\"\",\"\",SD!D448)","v":""}]
[null,{"$f":"IF(E453=\"\",\"\",ROWS($B$6:B453))","v":""},{"$f":"IF(OR(SD!A449=\"\"),\"\",SD!A449)","v":""},{"$f":"IF(OR(SD!C449=\"\"),\"\",SD!C449)","v":""},{"$f":"IF(OR(SD!E449=\"\"),\"\",SD!E449)","v":""},{"$f":"IF(OR(SD!G449=\"\"),\"\",SD!G449)","v":""},{"$f":"IF(OR(SD!I449=\"\"),\"\",SD!I449)","v":""},{"$f":"IF(OR(SD!O449=\"\"),\"\",SD!O449)","v":""},{"$f":"IF(OR(SD!V449=\"\"),\"\",SD!V449)","v":""},{"$f":"IF(SD!D449=\"\",\"\",SD!D449)","v":""}]
[null,{"$f":"IF(E454=\"\",\"\",ROWS($B$6:B454))","v":""},{"$f":"IF(OR(SD!A450=\"\"),\"\",SD!A450)","v":""},{"$f":"IF(OR(SD!C450=\"\"),\"\",SD!C450)","v":""},{"$f":"IF(OR(SD!E450=\"\"),\"\",SD!E450)","v":""},{"$f":"IF(OR(SD!G450=\"\"),\"\",SD!G450)","v":""},{"$f":"IF(OR(SD!I450=\"\"),\"\",SD!I450)","v":""},{"$f":"IF(OR(SD!O450=\"\"),\"\",SD!O450)","v":""},{"$f":"IF(OR(SD!V450=\"\"),\"\",SD!V450)","v":""},{"$f":"IF(SD!D450=\"\",\"\",SD!D450)","v":""}]
[null,{"$f":"IF(E455=\"\",\"\",ROWS($B$6:B455))","v":""},{"$f":"IF(OR(SD!A451=\"\"),\"\",SD!A451)","v":""},{"$f":"IF(OR(SD!C451=\"\"),\"\",SD!C451)","v":""},{"$f":"IF(OR(SD!E451=\"\"),\"\",SD!E451)","v":""},{"$f":"IF(OR(SD!G451=\"\"),\"\",SD!G451)","v":""},{"$f":"IF(OR(SD!I451=\"\"),\"\",SD!I451)","v":""},{"$f":"IF(OR(SD!O451=\"\"),\"\",SD!O451)","v":""},{"$f":"IF(OR(SD!V451=\"\"),\"\",SD!V451)","v":""},{"$f":"IF(SD!D451=\"\",\"\",SD!D451)","v":""}]
[null,{"$f":"IF(E456=\"\",\"\",ROWS($B$6:B456))","v":""},{"$f":"IF(OR(SD!A452=\"\"),\"\",SD!A452)","v":""},{"$f":"IF(OR(SD!C452=\"\"),\"\",SD!C452)","v":""},{"$f":"IF(OR(SD!E452=\"\"),\"\",SD!E452)","v":""},{"$f":"IF(OR(SD!G452=\"\"),\"\",SD!G452)","v":""},{"$f":"IF(OR(SD!I452=\"\"),\"\",SD!I452)","v":""},{"$f":"IF(OR(SD!O452=\"\"),\"\",SD!O452)","v":""},{"$f":"IF(OR(SD!V452=\"\"),\"\",SD!V452)","v":""},{"$f":"IF(SD!D452=\"\",\"\",SD!D452)","v":""}]
[null,{"$f":"IF(E457=\"\",\"\",ROWS($B$6:B457))","v":""},{"$f":"IF(OR(SD!A453=\"\"),\"\",SD!A453)","v":""},{"$f":"IF(OR(SD!C453=\"\"),\"\",SD!C453)","v":""},{"$f":"IF(OR(SD!E453=\"\"),\"\",SD!E453)","v":""},{"$f":"IF(OR(SD!G453=\"\"),\"\",SD!G453)","v":""},{"$f":"IF(OR(SD!I453=\"\"),\"\",SD!I453)","v":""},{"$f":"IF(OR(SD!O453=\"\"),\"\",SD!O453)","v":""},{"$f":"IF(OR(SD!V453=\"\"),\"\",SD!V453)","v":""},{"$f":"IF(SD!D453=\"\",\"\",SD!D453)","v":""}]
[null,{"$f":"IF(E458=\"\",\"\",ROWS($B$6:B458))","v":""},{"$f":"IF(OR(SD!A454=\"\"),\"\",SD!A454)","v":""},{"$f":"IF(OR(SD!C454=\"\"),\"\",SD!C454)","v":""},{"$f":"IF(OR(SD!E454=\"\"),\"\",SD!E454)","v":""},{"$f":"IF(OR(SD!G454=\"\"),\"\",SD!G454)","v":""},{"$f":"IF(OR(SD!I454=\"\"),\"\",SD!I454)","v":""},{"$f":"IF(OR(SD!O454=\"\"),\"\",SD!O454)","v":""},{"$f":"IF(OR(SD!V454=\"\"),\"\",SD!V454)","v":""},{"$f":"IF(SD!D454=\"\",\"\",SD!D454)","v":""}]
[null,{"$f":"IF(E459=\"\",\"\",ROWS($B$6:B459))","v":""},{"$f":"IF(OR(SD!A455=\"\"),\"\",SD!A455)","v":""},{"$f":"IF(OR(SD!C455=\"\"),\"\",SD!C455)","v":""},{"$f":"IF(OR(SD!E455=\"\"),\"\",SD!E455)","v":""},{"$f":"IF(OR(SD!G455=\"\"),\"\",SD!G455)","v":""},{"$f":"IF(OR(SD!I455=\"\"),\"\",SD!I455)","v":""},{"$f":"IF(OR(SD!O455=\"\"),\"\",SD!O455)","v":""},{"$f":"IF(OR(SD!V455=\"\"),\"\",SD!V455)","v":""},{"$f":"IF(SD!D455=\"\",\"\",SD!D455)","v":""}]
[null,{"$f":"IF(E460=\"\",\"\",ROWS($B$6:B460))","v":""},{"$f":"IF(OR(SD!A456=\"\"),\"\",SD!A456)","v":""},{"$f":"IF(OR(SD!C456=\"\"),\"\",SD!C456)","v":""},{"$f":"IF(OR(SD!E456=\"\"),\"\",SD!E456)","v":""},{"$f":"IF(OR(SD!G456=\"\"),\"\",SD!G456)","v":""},{"$f":"IF(OR(SD!I456=\"\"),\"\",SD!I456)","v":""},{"$f":"IF(OR(SD!O456=\"\"),\"\",SD!O456)","v":""},{"$f":"IF(OR(SD!V456=\"\"),\"\",SD!V456)","v":""},{"$f":"IF(SD!D456=\"\",\"\",SD!D456)","v":""}]
[null,{"$f":"IF(E461=\"\",\"\",ROWS($B$6:B461))","v":""},{"$f":"IF(OR(SD!A457=\"\"),\"\",SD!A457)","v":""},{"$f":"IF(OR(SD!C457=\"\"),\"\",SD!C457)","v":""},{"$f":"IF(OR(SD!E457=\"\"),\"\",SD!E457)","v":""},{"$f":"IF(OR(SD!G457=\"\"),\"\",SD!G457)","v":""},{"$f":"IF(OR(SD!I457=\"\"),\"\",SD!I457)","v":""},{"$f":"IF(OR(SD!O457=\"\"),\"\",SD!O457)","v":""},{"$f":"IF(OR(SD!V457=\"\"),\"\",SD!V457)","v":""},{"$f":"IF(SD!D457=\"\",\"\",SD!D457)","v":""}]
[null,{"$f":"IF(E462=\"\",\"\",ROWS($B$6:B462))","v":""},{"$f":"IF(OR(SD!A458=\"\"),\"\",SD!A458)","v":""},{"$f":"IF(OR(SD!C458=\"\"),\"\",SD!C458)","v":""},{"$f":"IF(OR(SD!E458=\"\"),\"\",SD!E458)","v":""},{"$f":"IF(OR(SD!G458=\"\"),\"\",SD!G458)","v":""},{"$f":"IF(OR(SD!I458=\"\"),\"\",SD!I458)","v":""},{"$f":"IF(OR(SD!O458=\"\"),\"\",SD!O458)","v":""},{"$f":"IF(OR(SD!V458=\"\"),\"\",SD!V458)","v":""},{"$f":"IF(SD!D458=\"\",\"\",SD!D458)","v":""}]
[null,{"$f":"IF(E463=\"\",\"\",ROWS($B$6:B463))","v":""},{"$f":"IF(OR(SD!A459=\"\"),\"\",SD!A459)","v":""},{"$f":"IF(OR(SD!C459=\"\"),\"\",SD!C459)","v":""},{"$f":"IF(OR(SD!E459=\"\"),\"\",SD!E459)","v":""},{"$f":"IF(OR(SD!G459=\"\"),\"\",SD!G459)","v":""},{"$f":"IF(OR(SD!I459=\"\"),\"\",SD!I459)","v":""},{"$f":"IF(OR(SD!O459=\"\"),\"\",SD!O459)","v":""},{"$f":"IF(OR(SD!V459=\"\"),\"\",SD!V459)","v":""},{"$f":"IF(SD!D459=\"\",\"\",SD!D459)","v":""}]
[null,{"$f":"IF(E464=\"\",\"\",ROWS($B$6:B464))","v":""},{"$f":"IF(OR(SD!A460=\"\"),\"\",SD!A460)","v":""},{"$f":"IF(OR(SD!C460=\"\"),\"\",SD!C460)","v":""},{"$f":"IF(OR(SD!E460=\"\"),\"\",SD!E460)","v":""},{"$f":"IF(OR(SD!G460=\"\"),\"\",SD!G460)","v":""},{"$f":"IF(OR(SD!I460=\"\"),\"\",SD!I460)","v":""},{"$f":"IF(OR(SD!O460=\"\"),\"\",SD!O460)","v":""},{"$f":"IF(OR(SD!V460=\"\"),\"\",SD!V460)","v":""},{"$f":"IF(SD!D460=\"\",\"\",SD!D460)","v":""}]
[null,{"$f":"IF(E465=\"\",\"\",ROWS($B$6:B465))","v":""},{"$f":"IF(OR(SD!A461=\"\"),\"\",SD!A461)","v":""},{"$f":"IF(OR(SD!C461=\"\"),\"\",SD!C461)","v":""},{"$f":"IF(OR(SD!E461=\"\"),\"\",SD!E461)","v":""},{"$f":"IF(OR(SD!G461=\"\"),\"\",SD!G461)","v":""},{"$f":"IF(OR(SD!I461=\"\"),\"\",SD!I461)","v":""},{"$f":"IF(OR(SD!O461=\"\"),\"\",SD!O461)","v":""},{"$f":"IF(OR(SD!V461=\"\"),\"\",SD!V461)","v":""},{"$f":"IF(SD!D461=\"\",\"\",SD!D461)","v":""}]
[null,{"$f":"IF(E466=\"\",\"\",ROWS($B$6:B466))","v":""},{"$f":"IF(OR(SD!A462=\"\"),\"\",SD!A462)","v":""},{"$f":"IF(OR(SD!C462=\"\"),\"\",SD!C462)","v":""},{"$f":"IF(OR(SD!E462=\"\"),\"\",SD!E462)","v":""},{"$f":"IF(OR(SD!G462=\"\"),\"\",SD!G462)","v":""},{"$f":"IF(OR(SD!I462=\"\"),\"\",SD!I462)","v":""},{"$f":"IF(OR(SD!O462=\"\"),\"\",SD!O462)","v":""},{"$f":"IF(OR(SD!V462=\"\"),\"\",SD!V462)","v":""},{"$f":"IF(SD!D462=\"\",\"\",SD!D462)","v":""}]
[null,{"$f":"IF(E467=\"\",\"\",ROWS($B$6:B467))","v":""},{"$f":"IF(OR(SD!A463=\"\"),\"\",SD!A463)","v":""},{"$f":"IF(OR(SD!C463=\"\"),\"\",SD!C463)","v":""},{"$f":"IF(OR(SD!E463=\"\"),\"\",SD!E463)","v":""},{"$f":"IF(OR(SD!G463=\"\"),\"\",SD!G463)","v":""},{"$f":"IF(OR(SD!I463=\"\"),\"\",SD!I463)","v":""},{"$f":"IF(OR(SD!O463=\"\"),\"\",SD!O463)","v":""},{"$f":"IF(OR(SD!V463=\"\"),\"\",SD!V463)","v":""},{"$f":"IF(SD!D463=\"\",\"\",SD!D463)","v":""}]
[null,{"$f":"IF(E468=\"\",\"\",ROWS($B$6:B468))","v":""},{"$f":"IF(OR(SD!A464=\"\"),\"\",SD!A464)","v":""},{"$f":"IF(OR(SD!C464=\"\"),\"\",SD!C464)","v":""},{"$f":"IF(OR(SD!E464=\"\"),\"\",SD!E464)","v":""},{"$f":"IF(OR(SD!G464=\"\"),\"\",SD!G464)","v":""},{"$f":"IF(OR(SD!I464=\"\"),\"\",SD!I464)","v":""},{"$f":"IF(OR(SD!O464=\"\"),\"\",SD!O464)","v":""},{"$f":"IF(OR(SD!V464=\"\"),\"\",SD!V464)","v":""},{"$f":"IF(SD!D464=\"\",\"\",SD!D464)","v":""}]
[null,{"$f":"IF(E469=\"\",\"\",ROWS($B$6:B469))","v":""},{"$f":"IF(OR(SD!A465=\"\"),\"\",SD!A465)","v":""},{"$f":"IF(OR(SD!C465=\"\"),\"\",SD!C465)","v":""},{"$f":"IF(OR(SD!E465=\"\"),\"\",SD!E465)","v":""},{"$f":"IF(OR(SD!G465=\"\"),\"\",SD!G465)","v":""},{"$f":"IF(OR(SD!I465=\"\"),\"\",SD!I465)","v":""},{"$f":"IF(OR(SD!O465=\"\"),\"\",SD!O465)","v":""},{"$f":"IF(OR(SD!V465=\"\"),\"\",SD!V465)","v":""},{"$f":"IF(SD!D465=\"\",\"\",SD!D465)","v":""}]
[null,{"$f":"IF(E470=\"\",\"\",ROWS($B$6:B470))","v":""},{"$f":"IF(OR(SD!A466=\"\"),\"\",SD!A466)","v":""},{"$f":"IF(OR(SD!C466=\"\"),\"\",SD!C466)","v":""},{"$f":"IF(OR(SD!E466=\"\"),\"\",SD!E466)","v":""},{"$f":"IF(OR(SD!G466=\"\"),\"\",SD!G466)","v":""},{"$f":"IF(OR(SD!I466=\"\"),\"\",SD!I466)","v":""},{"$f":"IF(OR(SD!O466=\"\"),\"\",SD!O466)","v":""},{"$f":"IF(OR(SD!V466=\"\"),\"\",SD!V466)","v":""},{"$f":"IF(SD!D466=\"\",\"\",SD!D466)","v":""}]
[null,{"$f":"IF(E471=\"\",\"\",ROWS($B$6:B471))","v":""},{"$f":"IF(OR(SD!A467=\"\"),\"\",SD!A467)","v":""},{"$f":"IF(OR(SD!C467=\"\"),\"\",SD!C467)","v":""},{"$f":"IF(OR(SD!E467=\"\"),\"\",SD!E467)","v":""},{"$f":"IF(OR(SD!G467=\"\"),\"\",SD!G467)","v":""},{"$f":"IF(OR(SD!I467=\"\"),\"\",SD!I467)","v":""},{"$f":"IF(OR(SD!O467=\"\"),\"\",SD!O467)","v":""},{"$f":"IF(OR(SD!V467=\"\"),\"\",SD!V467)","v":""},{"$f":"IF(SD!D467=\"\",\"\",SD!D467)","v":""}]
[null,{"$f":"IF(E472=\"\",\"\",ROWS($B$6:B472))","v":""},{"$f":"IF(OR(SD!A468=\"\"),\"\",SD!A468)","v":""},{"$f":"IF(OR(SD!C468=\"\"),\"\",SD!C468)","v":""},{"$f":"IF(OR(SD!E468=\"\"),\"\",SD!E468)","v":""},{"$f":"IF(OR(SD!G468=\"\"),\"\",SD!G468)","v":""},{"$f":"IF(OR(SD!I468=\"\"),\"\",SD!I468)","v":""},{"$f":"IF(OR(SD!O468=\"\"),\"\",SD!O468)","v":""},{"$f":"IF(OR(SD!V468=\"\"),\"\",SD!V468)","v":""},{"$f":"IF(SD!D468=\"\",\"\",SD!D468)","v":""}]
[null,{"$f":"IF(E473=\"\",\"\",ROWS($B$6:B473))","v":""},{"$f":"IF(OR(SD!A469=\"\"),\"\",SD!A469)","v":""},{"$f":"IF(OR(SD!C469=\"\"),\"\",SD!C469)","v":""},{"$f":"IF(OR(SD!E469=\"\"),\"\",SD!E469)","v":""},{"$f":"IF(OR(SD!G469=\"\"),\"\",SD!G469)","v":""},{"$f":"IF(OR(SD!I469=\"\"),\"\",SD!I469)","v":""},{"$f":"IF(OR(SD!O469=\"\"),\"\",SD!O469)","v":""},{"$f":"IF(OR(SD!V469=\"\"),\"\",SD!V469)","v":""},{"$f":"IF(SD!D469=\"\",\"\",SD!D469)","v":""}]
[null,{"$f":"IF(E474=\"\",\"\",ROWS($B$6:B474))","v":""},{"$f":"IF(OR(SD!A470=\"\"),\"\",SD!A470)","v":""},{"$f":"IF(OR(SD!C470=\"\"),\"\",SD!C470)","v":""},{"$f":"IF(OR(SD!E470=\"\"),\"\",SD!E470)","v":""},{"$f":"IF(OR(SD!G470=\"\"),\"\",SD!G470)","v":""},{"$f":"IF(OR(SD!I470=\"\"),\"\",SD!I470)","v":""},{"$f":"IF(OR(SD!O470=\"\"),\"\",SD!O470)","v":""},{"$f":"IF(OR(SD!V470=\"\"),\"\",SD!V470)","v":""},{"$f":"IF(SD!D470=\"\",\"\",SD!D470)","v":""}]
[null,{"$f":"IF(E475=\"\",\"\",ROWS($B$6:B475))","v":""},{"$f":"IF(OR(SD!A471=\"\"),\"\",SD!A471)","v":""},{"$f":"IF(OR(SD!C471=\"\"),\"\",SD!C471)","v":""},{"$f":"IF(OR(SD!E471=\"\"),\"\",SD!E471)","v":""},{"$f":"IF(OR(SD!G471=\"\"),\"\",SD!G471)","v":""},{"$f":"IF(OR(SD!I471=\"\"),\"\",SD!I471)","v":""},{"$f":"IF(OR(SD!O471=\"\"),\"\",SD!O471)","v":""},{"$f":"IF(OR(SD!V471=\"\"),\"\",SD!V471)","v":""},{"$f":"IF(SD!D471=\"\",\"\",SD!D471)","v":""}]
[null,{"$f":"IF(E476=\"\",\"\",ROWS($B$6:B476))","v":""},{"$f":"IF(OR(SD!A472=\"\"),\"\",SD!A472)","v":""},{"$f":"IF(OR(SD!C472=\"\"),\"\",SD!C472)","v":""},{"$f":"IF(OR(SD!E472=\"\"),\"\",SD!E472)","v":""},{"$f":"IF(OR(SD!G472=\"\"),\"\",SD!G472)","v":""},{"$f":"IF(OR(SD!I472=\"\"),\"\",SD!I472)","v":""},{"$f":"IF(OR(SD!O472=\"\"),\"\",SD!O472)","v":""},{"$f":"IF(OR(SD!V472=\"\"),\"\",SD!V472)","v":""},{"$f":"IF(SD!D472=\"\",\"\",SD!D472)","v":""}]
[null,{"$f":"IF(E477=\"\",\"\",ROWS($B$6:B477))","v":""},{"$f":"IF(OR(SD!A473=\"\"),\"\",SD!A473)","v":""},{"$f":"IF(OR(SD!C473=\"\"),\"\",SD!C473)","v":""},{"$f":"IF(OR(SD!E473=\"\"),\"\",SD!E473)","v":""},{"$f":"IF(OR(SD!G473=\"\"),\"\",SD!G473)","v":""},{"$f":"IF(OR(SD!I473=\"\"),\"\",SD!I473)","v":""},{"$f":"IF(OR(SD!O473=\"\"),\"\",SD!O473)","v":""},{"$f":"IF(OR(SD!V473=\"\"),\"\",SD!V473)","v":""},{"$f":"IF(SD!D473=\"\",\"\",SD!D473)","v":""}]
[null,{"$f":"IF(E478=\"\",\"\",ROWS($B$6:B478))","v":""},{"$f":"IF(OR(SD!A474=\"\"),\"\",SD!A474)","v":""},{"$f":"IF(OR(SD!C474=\"\"),\"\",SD!C474)","v":""},{"$f":"IF(OR(SD!E474=\"\"),\"\",SD!E474)","v":""},{"$f":"IF(OR(SD!G474=\"\"),\"\",SD!G474)","v":""},{"$f":"IF(OR(SD!I474=\"\"),\"\",SD!I474)","v":""},{"$f":"IF(OR(SD!O474=\"\"),\"\",SD!O474)","v":""},{"$f":"IF(OR(SD!V474=\"\"),\"\",SD!V474)","v":""},{"$f":"IF(SD!D474=\"\",\"\",SD!D474)","v":""}]
[null,{"$f":"IF(E479=\"\",\"\",ROWS($B$6:B479))","v":""},{"$f":"IF(OR(SD!A475=\"\"),\"\",SD!A475)","v":""},{"$f":"IF(OR(SD!C475=\"\"),\"\",SD!C475)","v":""},{"$f":"IF(OR(SD!E475=\"\"),\"\",SD!E475)","v":""},{"$f":"IF(OR(SD!G475=\"\"),\"\",SD!G475)","v":""},{"$f":"IF(OR(SD!I475=\"\"),\"\",SD!I475)","v":""},{"$f":"IF(OR(SD!O475=\"\"),\"\",SD!O475)","v":""},{"$f":"IF(OR(SD!V475=\"\"),\"\",SD!V475)","v":""},{"$f":"IF(SD!D475=\"\",\"\",SD!D475)","v":""}]
[null,{"$f":"IF(E480=\"\",\"\",ROWS($B$6:B480))","v":""},{"$f":"IF(OR(SD!A476=\"\"),\"\",SD!A476)","v":""},{"$f":"IF(OR(SD!C476=\"\"),\"\",SD!C476)","v":""},{"$f":"IF(OR(SD!E476=\"\"),\"\",SD!E476)","v":""},{"$f":"IF(OR(SD!G476=\"\"),\"\",SD!G476)","v":""},{"$f":"IF(OR(SD!I476=\"\"),\"\",SD!I476)","v":""},{"$f":"IF(OR(SD!O476=\"\"),\"\",SD!O476)","v":""},{"$f":"IF(OR(SD!V476=\"\"),\"\",SD!V476)","v":""},{"$f":"IF(SD!D476=\"\",\"\",SD!D476)","v":""}]
[null,{"$f":"IF(E481=\"\",\"\",ROWS($B$6:B481))","v":""},{"$f":"IF(OR(SD!A477=\"\"),\"\",SD!A477)","v":""},{"$f":"IF(OR(SD!C477=\"\"),\"\",SD!C477)","v":""},{"$f":"IF(OR(SD!E477=\"\"),\"\",SD!E477)","v":""},{"$f":"IF(OR(SD!G477=\"\"),\"\",SD!G477)","v":""},{"$f":"IF(OR(SD!I477=\"\"),\"\",SD!I477)","v":""},{"$f":"IF(OR(SD!O477=\"\"),\"\",SD!O477)","v":""},{"$f":"IF(OR(SD!V477=\"\"),\"\",SD!V477)","v":""},{"$f":"IF(SD!D477=\"\",\"\",SD!D477)","v":""}]
[null,{"$f":"IF(E482=\"\",\"\",ROWS($B$6:B482))","v":""},{"$f":"IF(OR(SD!A478=\"\"),\"\",SD!A478)","v":""},{"$f":"IF(OR(SD!C478=\"\"),\"\",SD!C478)","v":""},{"$f":"IF(OR(SD!E478=\"\"),\"\",SD!E478)","v":""},{"$f":"IF(OR(SD!G478=\"\"),\"\",SD!G478)","v":""},{"$f":"IF(OR(SD!I478=\"\"),\"\",SD!I478)","v":""},{"$f":"IF(OR(SD!O478=\"\"),\"\",SD!O478)","v":""},{"$f":"IF(OR(SD!V478=\"\"),\"\",SD!V478)","v":""},{"$f":"IF(SD!D478=\"\",\"\",SD!D478)","v":""}]
[null,{"$f":"IF(E483=\"\",\"\",ROWS($B$6:B483))","v":""},{"$f":"IF(OR(SD!A479=\"\"),\"\",SD!A479)","v":""},{"$f":"IF(OR(SD!C479=\"\"),\"\",SD!C479)","v":""},{"$f":"IF(OR(SD!E479=\"\"),\"\",SD!E479)","v":""},{"$f":"IF(OR(SD!G479=\"\"),\"\",SD!G479)","v":""},{"$f":"IF(OR(SD!I479=\"\"),\"\",SD!I479)","v":""},{"$f":"IF(OR(SD!O479=\"\"),\"\",SD!O479)","v":""},{"$f":"IF(OR(SD!V479=\"\"),\"\",SD!V479)","v":""},{"$f":"IF(SD!D479=\"\",\"\",SD!D479)","v":""}]
[null,{"$f":"IF(E484=\"\",\"\",ROWS($B$6:B484))","v":""},{"$f":"IF(OR(SD!A480=\"\"),\"\",SD!A480)","v":""},{"$f":"IF(OR(SD!C480=\"\"),\"\",SD!C480)","v":""},{"$f":"IF(OR(SD!E480=\"\"),\"\",SD!E480)","v":""},{"$f":"IF(OR(SD!G480=\"\"),\"\",SD!G480)","v":""},{"$f":"IF(OR(SD!I480=\"\"),\"\",SD!I480)","v":""},{"$f":"IF(OR(SD!O480=\"\"),\"\",SD!O480)","v":""},{"$f":"IF(OR(SD!V480=\"\"),\"\",SD!V480)","v":""},{"$f":"IF(SD!D480=\"\",\"\",SD!D480)","v":""}]
[null,{"$f":"IF(E485=\"\",\"\",ROWS($B$6:B485))","v":""},{"$f":"IF(OR(SD!A481=\"\"),\"\",SD!A481)","v":""},{"$f":"IF(OR(SD!C481=\"\"),\"\",SD!C481)","v":""},{"$f":"IF(OR(SD!E481=\"\"),\"\",SD!E481)","v":""},{"$f":"IF(OR(SD!G481=\"\"),\"\",SD!G481)","v":""},{"$f":"IF(OR(SD!I481=\"\"),\"\",SD!I481)","v":""},{"$f":"IF(OR(SD!O481=\"\"),\"\",SD!O481)","v":""},{"$f":"IF(OR(SD!V481=\"\"),\"\",SD!V481)","v":""},{"$f":"IF(SD!D481=\"\",\"\",SD!D481)","v":""}]
[null,{"$f":"IF(E486=\"\",\"\",ROWS($B$6:B486))","v":""},{"$f":"IF(OR(SD!A482=\"\"),\"\",SD!A482)","v":""},{"$f":"IF(OR(SD!C482=\"\"),\"\",SD!C482)","v":""},{"$f":"IF(OR(SD!E482=\"\"),\"\",SD!E482)","v":""},{"$f":"IF(OR(SD!G482=\"\"),\"\",SD!G482)","v":""},{"$f":"IF(OR(SD!I482=\"\"),\"\",SD!I482)","v":""},{"$f":"IF(OR(SD!O482=\"\"),\"\",SD!O482)","v":""},{"$f":"IF(OR(SD!V482=\"\"),\"\",SD!V482)","v":""},{"$f":"IF(SD!D482=\"\",\"\",SD!D482)","v":""}]
[null,{"$f":"IF(E487=\"\",\"\",ROWS($B$6:B487))","v":""},{"$f":"IF(OR(SD!A483=\"\"),\"\",SD!A483)","v":""},{"$f":"IF(OR(SD!C483=\"\"),\"\",SD!C483)","v":""},{"$f":"IF(OR(SD!E483=\"\"),\"\",SD!E483)","v":""},{"$f":"IF(OR(SD!G483=\"\"),\"\",SD!G483)","v":""},{"$f":"IF(OR(SD!I483=\"\"),\"\",SD!I483)","v":""},{"$f":"IF(OR(SD!O483=\"\"),\"\",SD!O483)","v":""},{"$f":"IF(OR(SD!V483=\"\"),\"\",SD!V483)","v":""},{"$f":"IF(SD!D483=\"\",\"\",SD!D483)","v":""}]
[null,{"$f":"IF(E488=\"\",\"\",ROWS($B$6:B488))","v":""},{"$f":"IF(OR(SD!A484=\"\"),\"\",SD!A484)","v":""},{"$f":"IF(OR(SD!C484=\"\"),\"\",SD!C484)","v":""},{"$f":"IF(OR(SD!E484=\"\"),\"\",SD!E484)","v":""},{"$f":"IF(OR(SD!G484=\"\"),\"\",SD!G484)","v":""},{"$f":"IF(OR(SD!I484=\"\"),\"\",SD!I484)","v":""},{"$f":"IF(OR(SD!O484=\"\"),\"\",SD!O484)","v":""},{"$f":"IF(OR(SD!V484=\"\"),\"\",SD!V484)","v":""},{"$f":"IF(SD!D484=\"\",\"\",SD!D484)","v":""}]
[null,{"$f":"IF(E489=\"\",\"\",ROWS($B$6:B489))","v":""},{"$f":"IF(OR(SD!A485=\"\"),\"\",SD!A485)","v":""},{"$f":"IF(OR(SD!C485=\"\"),\"\",SD!C485)","v":""},{"$f":"IF(OR(SD!E485=\"\"),\"\",SD!E485)","v":""},{"$f":"IF(OR(SD!G485=\"\"),\"\",SD!G485)","v":""},{"$f":"IF(OR(SD!I485=\"\"),\"\",SD!I485)","v":""},{"$f":"IF(OR(SD!O485=\"\"),\"\",SD!O485)","v":""},{"$f":"IF(OR(SD!V485=\"\"),\"\",SD!V485)","v":""},{"$f":"IF(SD!D485=\"\",\"\",SD!D485)","v":""}]
[null,{"$f":"IF(E490=\"\",\"\",ROWS($B$6:B490))","v":""},{"$f":"IF(OR(SD!A486=\"\"),\"\",SD!A486)","v":""},{"$f":"IF(OR(SD!C486=\"\"),\"\",SD!C486)","v":""},{"$f":"IF(OR(SD!E486=\"\"),\"\",SD!E486)","v":""},{"$f":"IF(OR(SD!G486=\"\"),\"\",SD!G486)","v":""},{"$f":"IF(OR(SD!I486=\"\"),\"\",SD!I486)","v":""},{"$f":"IF(OR(SD!O486=\"\"),\"\",SD!O486)","v":""},{"$f":"IF(OR(SD!V486=\"\"),\"\",SD!V486)","v":""},{"$f":"IF(SD!D486=\"\",\"\",SD!D486)","v":""}]
[null,{"$f":"IF(E491=\"\",\"\",ROWS($B$6:B491))","v":""},{"$f":"IF(OR(SD!A487=\"\"),\"\",SD!A487)","v":""},{"$f":"IF(OR(SD!C487=\"\"),\"\",SD!C487)","v":""},{"$f":"IF(OR(SD!E487=\"\"),\"\",SD!E487)","v":""},{"$f":"IF(OR(SD!G487=\"\"),\"\",SD!G487)","v":""},{"$f":"IF(OR(SD!I487=\"\"),\"\",SD!I487)","v":""},{"$f":"IF(OR(SD!O487=\"\"),\"\",SD!O487)","v":""},{"$f":"IF(OR(SD!V487=\"\"),\"\",SD!V487)","v":""},{"$f":"IF(SD!D487=\"\",\"\",SD!D487)","v":""}]
[null,{"$f":"IF(E492=\"\",\"\",ROWS($B$6:B492))","v":""},{"$f":"IF(OR(SD!A488=\"\"),\"\",SD!A488)","v":""},{"$f":"IF(OR(SD!C488=\"\"),\"\",SD!C488)","v":""},{"$f":"IF(OR(SD!E488=\"\"),\"\",SD!E488)","v":""},{"$f":"IF(OR(SD!G488=\"\"),\"\",SD!G488)","v":""},{"$f":"IF(OR(SD!I488=\"\"),\"\",SD!I488)","v":""},{"$f":"IF(OR(SD!O488=\"\"),\"\",SD!O488)","v":""},{"$f":"IF(OR(SD!V488=\"\"),\"\",SD!V488)","v":""},{"$f":"IF(SD!D488=\"\",\"\",SD!D488)","v":""}]
[null,{"$f":"IF(E493=\"\",\"\",ROWS($B$6:B493))","v":""},{"$f":"IF(OR(SD!A489=\"\"),\"\",SD!A489)","v":""},{"$f":"IF(OR(SD!C489=\"\"),\"\",SD!C489)","v":""},{"$f":"IF(OR(SD!E489=\"\"),\"\",SD!E489)","v":""},{"$f":"IF(OR(SD!G489=\"\"),\"\",SD!G489)","v":""},{"$f":"IF(OR(SD!I489=\"\"),\"\",SD!I489)","v":""},{"$f":"IF(OR(SD!O489=\"\"),\"\",SD!O489)","v":""},{"$f":"IF(OR(SD!V489=\"\"),\"\",SD!V489)","v":""},{"$f":"IF(SD!D489=\"\",\"\",SD!D489)","v":""}]
[null,{"$f":"IF(E494=\"\",\"\",ROWS($B$6:B494))","v":""},{"$f":"IF(OR(SD!A490=\"\"),\"\",SD!A490)","v":""},{"$f":"IF(OR(SD!C490=\"\"),\"\",SD!C490)","v":""},{"$f":"IF(OR(SD!E490=\"\"),\"\",SD!E490)","v":""},{"$f":"IF(OR(SD!G490=\"\"),\"\",SD!G490)","v":""},{"$f":"IF(OR(SD!I490=\"\"),\"\",SD!I490)","v":""},{"$f":"IF(OR(SD!O490=\"\"),\"\",SD!O490)","v":""},{"$f":"IF(OR(SD!V490=\"\"),\"\",SD!V490)","v":""},{"$f":"IF(SD!D490=\"\",\"\",SD!D490)","v":""}]
[null,{"$f":"IF(E495=\"\",\"\",ROWS($B$6:B495))","v":""},{"$f":"IF(OR(SD!A491=\"\"),\"\",SD!A491)","v":""},{"$f":"IF(OR(SD!C491=\"\"),\"\",SD!C491)","v":""},{"$f":"IF(OR(SD!E491=\"\"),\"\",SD!E491)","v":""},{"$f":"IF(OR(SD!G491=\"\"),\"\",SD!G491)","v":""},{"$f":"IF(OR(SD!I491=\"\"),\"\",SD!I491)","v":""},{"$f":"IF(OR(SD!O491=\"\"),\"\",SD!O491)","v":""},{"$f":"IF(OR(SD!V491=\"\"),\"\",SD!V491)","v":""},{"$f":"IF(SD!D491=\"\",\"\",SD!D491)","v":""}]
[null,{"$f":"IF(E496=\"\",\"\",ROWS($B$6:B496))","v":""},{"$f":"IF(OR(SD!A492=\"\"),\"\",SD!A492)","v":""},{"$f":"IF(OR(SD!C492=\"\"),\"\",SD!C492)","v":""},{"$f":"IF(OR(SD!E492=\"\"),\"\",SD!E492)","v":""},{"$f":"IF(OR(SD!G492=\"\"),\"\",SD!G492)","v":""},{"$f":"IF(OR(SD!I492=\"\"),\"\",SD!I492)","v":""},{"$f":"IF(OR(SD!O492=\"\"),\"\",SD!O492)","v":""},{"$f":"IF(OR(SD!V492=\"\"),\"\",SD!V492)","v":""},{"$f":"IF(SD!D492=\"\",\"\",SD!D492)","v":""}]
[null,{"$f":"IF(E497=\"\",\"\",ROWS($B$6:B497))","v":""},{"$f":"IF(OR(SD!A493=\"\"),\"\",SD!A493)","v":""},{"$f":"IF(OR(SD!C493=\"\"),\"\",SD!C493)","v":""},{"$f":"IF(OR(SD!E493=\"\"),\"\",SD!E493)","v":""},{"$f":"IF(OR(SD!G493=\"\"),\"\",SD!G493)","v":""},{"$f":"IF(OR(SD!I493=\"\"),\"\",SD!I493)","v":""},{"$f":"IF(OR(SD!O493=\"\"),\"\",SD!O493)","v":""},{"$f":"IF(OR(SD!V493=\"\"),\"\",SD!V493)","v":""},{"$f":"IF(SD!D493=\"\",\"\",SD!D493)","v":""}]
[null,{"$f":"IF(E498=\"\",\"\",ROWS($B$6:B498))","v":""},{"$f":"IF(OR(SD!A494=\"\"),\"\",SD!A494)","v":""},{"$f":"IF(OR(SD!C494=\"\"),\"\",SD!C494)","v":""},{"$f":"IF(OR(SD!E494=\"\"),\"\",SD!E494)","v":""},{"$f":"IF(OR(SD!G494=\"\"),\"\",SD!G494)","v":""},{"$f":"IF(OR(SD!I494=\"\"),\"\",SD!I494)","v":""},{"$f":"IF(OR(SD!O494=\"\"),\"\",SD!O494)","v":""},{"$f":"IF(OR(SD!V494=\"\"),\"\",SD!V494)","v":""},{"$f":"IF(SD!D494=\"\",\"\",SD!D494)","v":""}]
[null,{"$f":"IF(E499=\"\",\"\",ROWS($B$6:B499))","v":""},{"$f":"IF(OR(SD!A495=\"\"),\"\",SD!A495)","v":""},{"$f":"IF(OR(SD!C495=\"\"),\"\",SD!C495)","v":""},{"$f":"IF(OR(SD!E495=\"\"),\"\",SD!E495)","v":""},{"$f":"IF(OR(SD!G495=\"\"),\"\",SD!G495)","v":""},{"$f":"IF(OR(SD!I495=\"\"),\"\",SD!I495)","v":""},{"$f":"IF(OR(SD!O495=\"\"),\"\",SD!O495)","v":""},{"$f":"IF(OR(SD!V495=\"\"),\"\",SD!V495)","v":""},{"$f":"IF(SD!D495=\"\",\"\",SD!D495)","v":""}]
[null,{"$f":"IF(E500=\"\",\"\",ROWS($B$6:B500))","v":""},{"$f":"IF(OR(SD!A496=\"\"),\"\",SD!A496)","v":""},{"$f":"IF(OR(SD!C496=\"\"),\"\",SD!C496)","v":""},{"$f":"IF(OR(SD!E496=\"\"),\"\",SD!E496)","v":""},{"$f":"IF(OR(SD!G496=\"\"),\"\",SD!G496)","v":""},{"$f":"IF(OR(SD!I496=\"\"),\"\",SD!I496)","v":""},{"$f":"IF(OR(SD!O496=\"\"),\"\",SD!O496)","v":""},{"$f":"IF(OR(SD!V496=\"\"),\"\",SD!V496)","v":""},{"$f":"IF(SD!D496=\"\",\"\",SD!D496)","v":""}]
[null,{"$f":"IF(E501=\"\",\"\",ROWS($B$6:B501))","v":""},{"$f":"IF(OR(SD!A497=\"\"),\"\",SD!A497)","v":""},{"$f":"IF(OR(SD!C497=\"\"),\"\",SD!C497)","v":""},{"$f":"IF(OR(SD!E497=\"\"),\"\",SD!E497)","v":""},{"$f":"IF(OR(SD!G497=\"\"),\"\",SD!G497)","v":""},{"$f":"IF(OR(SD!I497=\"\"),\"\",SD!I497)","v":""},{"$f":"IF(OR(SD!O497=\"\"),\"\",SD!O497)","v":""},{"$f":"IF(OR(SD!V497=\"\"),\"\",SD!V497)","v":""},{"$f":"IF(SD!D497=\"\",\"\",SD!D497)","v":""}]
[null,{"$f":"IF(E502=\"\",\"\",ROWS($B$6:B502))","v":""},{"$f":"IF(OR(SD!A498=\"\"),\"\",SD!A498)","v":""},{"$f":"IF(OR(SD!C498=\"\"),\"\",SD!C498)","v":""},{"$f":"IF(OR(SD!E498=\"\"),\"\",SD!E498)","v":""},{"$f":"IF(OR(SD!G498=\"\"),\"\",SD!G498)","v":""},{"$f":"IF(OR(SD!I498=\"\"),\"\",SD!I498)","v":""},{"$f":"IF(OR(SD!O498=\"\"),\"\",SD!O498)","v":""},{"$f":"IF(OR(SD!V498=\"\"),\"\",SD!V498)","v":""},{"$f":"IF(SD!D498=\"\",\"\",SD!D498)","v":""}]
[null,{"$f":"IF(E503=\"\",\"\",ROWS($B$6:B503))","v":""},{"$f":"IF(OR(SD!A499=\"\"),\"\",SD!A499)","v":""},{"$f":"IF(OR(SD!C499=\"\"),\"\",SD!C499)","v":""},{"$f":"IF(OR(SD!E499=\"\"),\"\",SD!E499)","v":""},{"$f":"IF(OR(SD!G499=\"\"),\"\",SD!G499)","v":""},{"$f":"IF(OR(SD!I499=\"\"),\"\",SD!I499)","v":""},{"$f":"IF(OR(SD!O499=\"\"),\"\",SD!O499)","v":""},{"$f":"IF(OR(SD!V499=\"\"),\"\",SD!V499)","v":""},{"$f":"IF(SD!D499=\"\",\"\",SD!D499)","v":""}]
[null,{"$f":"IF(E504=\"\",\"\",ROWS($B$6:B504))","v":""},{"$f":"IF(OR(SD!A500=\"\"),\"\",SD!A500)","v":""},{"$f":"IF(OR(SD!C500=\"\"),\"\",SD!C500)","v":""},{"$f":"IF(OR(SD!E500=\"\"),\"\",SD!E500)","v":""},{"$f":"IF(OR(SD!G500=\"\"),\"\",SD!G500)","v":""},{"$f":"IF(OR(SD!I500=\"\"),\"\",SD!I500)","v":""},{"$f":"IF(OR(SD!O500=\"\"),\"\",SD!O500)","v":""},{"$f":"IF(OR(SD!V500=\"\"),\"\",SD!V500)","v":""},{"$f":"IF(SD!D500=\"\",\"\",SD!D500)","v":""}]
[null,{"$f":"IF(E505=\"\",\"\",ROWS($B$6:B505))","v":""},{"$f":"IF(OR(SD!A501=\"\"),\"\",SD!A501)","v":""},{"$f":"IF(OR(SD!C501=\"\"),\"\",SD!C501)","v":""},{"$f":"IF(OR(SD!E501=\"\"),\"\",SD!E501)","v":""},{"$f":"IF(OR(SD!G501=\"\"),\"\",SD!G501)","v":""},{"$f":"IF(OR(SD!I501=\"\"),\"\",SD!I501)","v":""},{"$f":"IF(OR(SD!O501=\"\"),\"\",SD!O501)","v":""},{"$f":"IF(OR(SD!V501=\"\"),\"\",SD!V501)","v":""},{"$f":"IF(SD!D501=\"\",\"\",SD!D501)","v":""}]
[null,{"$f":"IF(E506=\"\",\"\",ROWS($B$6:B506))","v":""},{"$f":"IF(OR(SD!A502=\"\"),\"\",SD!A502)","v":""},{"$f":"IF(OR(SD!C502=\"\"),\"\",SD!C502)","v":""},{"$f":"IF(OR(SD!E502=\"\"),\"\",SD!E502)","v":""},{"$f":"IF(OR(SD!G502=\"\"),\"\",SD!G502)","v":""},{"$f":"IF(OR(SD!I502=\"\"),\"\",SD!I502)","v":""},{"$f":"IF(OR(SD!O502=\"\"),\"\",SD!O502)","v":""},{"$f":"IF(OR(SD!V502=\"\"),\"\",SD!V502)","v":""},{"$f":"IF(SD!D502=\"\",\"\",SD!D502)","v":""}]
[null,{"$f":"IF(E507=\"\",\"\",ROWS($B$6:B507))","v":""},{"$f":"IF(OR(SD!A503=\"\"),\"\",SD!A503)","v":""},{"$f":"IF(OR(SD!C503=\"\"),\"\",SD!C503)","v":""},{"$f":"IF(OR(SD!E503=\"\"),\"\",SD!E503)","v":""},{"$f":"IF(OR(SD!G503=\"\"),\"\",SD!G503)","v":""},{"$f":"IF(OR(SD!I503=\"\"),\"\",SD!I503)","v":""},{"$f":"IF(OR(SD!O503=\"\"),\"\",SD!O503)","v":""},{"$f":"IF(OR(SD!V503=\"\"),\"\",SD!V503)","v":""},{"$f":"IF(SD!D503=\"\",\"\",SD!D503)","v":""}]
[null,{"$f":"IF(E508=\"\",\"\",ROWS($B$6:B508))","v":""},{"$f":"IF(OR(SD!A504=\"\"),\"\",SD!A504)","v":""},{"$f":"IF(OR(SD!C504=\"\"),\"\",SD!C504)","v":""},{"$f":"IF(OR(SD!E504=\"\"),\"\",SD!E504)","v":""},{"$f":"IF(OR(SD!G504=\"\"),\"\",SD!G504)","v":""},{"$f":"IF(OR(SD!I504=\"\"),\"\",SD!I504)","v":""},{"$f":"IF(OR(SD!O504=\"\"),\"\",SD!O504)","v":""},{"$f":"IF(OR(SD!V504=\"\"),\"\",SD!V504)","v":""},{"$f":"IF(SD!D504=\"\",\"\",SD!D504)","v":""}]
[null,{"$f":"IF(E509=\"\",\"\",ROWS($B$6:B509))","v":""},{"$f":"IF(OR(SD!A505=\"\"),\"\",SD!A505)","v":""},{"$f":"IF(OR(SD!C505=\"\"),\"\",SD!C505)","v":""},{"$f":"IF(OR(SD!E505=\"\"),\"\",SD!E505)","v":""},{"$f":"IF(OR(SD!G505=\"\"),\"\",SD!G505)","v":""},{"$f":"IF(OR(SD!I505=\"\"),\"\",SD!I505)","v":""},{"$f":"IF(OR(SD!O505=\"\"),\"\",SD!O505)","v":""},{"$f":"IF(OR(SD!V505=\"\"),\"\",SD!V505)","v":""},{"$f":"IF(SD!D505=\"\",\"\",SD!D505)","v":""}]
[null,{"$f":"IF(E510=\"\",\"\",ROWS($B$6:B510))","v":""},{"$f":"IF(OR(SD!A506=\"\"),\"\",SD!A506)","v":""},{"$f":"IF(OR(SD!C506=\"\"),\"\",SD!C506)","v":""},{"$f":"IF(OR(SD!E506=\"\"),\"\",SD!E506)","v":""},{"$f":"IF(OR(SD!G506=\"\"),\"\",SD!G506)","v":""},{"$f":"IF(OR(SD!I506=\"\"),\"\",SD!I506)","v":""},{"$f":"IF(OR(SD!O506=\"\"),\"\",SD!O506)","v":""},{"$f":"IF(OR(SD!V506=\"\"),\"\",SD!V506)","v":""},{"$f":"IF(SD!D506=\"\",\"\",SD!D506)","v":""}]
[null,{"$f":"IF(E511=\"\",\"\",ROWS($B$6:B511))","v":""},{"$f":"IF(OR(SD!A507=\"\"),\"\",SD!A507)","v":""},{"$f":"IF(OR(SD!C507=\"\"),\"\",SD!C507)","v":""},{"$f":"IF(OR(SD!E507=\"\"),\"\",SD!E507)","v":""},{"$f":"IF(OR(SD!G507=\"\"),\"\",SD!G507)","v":""},{"$f":"IF(OR(SD!I507=\"\"),\"\",SD!I507)","v":""},{"$f":"IF(OR(SD!O507=\"\"),\"\",SD!O507)","v":""},{"$f":"IF(OR(SD!V507=\"\"),\"\",SD!V507)","v":""},{"$f":"IF(SD!D507=\"\",\"\",SD!D507)","v":""}]
[null,{"$f":"IF(E512=\"\",\"\",ROWS($B$6:B512))","v":""},{"$f":"IF(OR(SD!A508=\"\"),\"\",SD!A508)","v":""},{"$f":"IF(OR(SD!C508=\"\"),\"\",SD!C508)","v":""},{"$f":"IF(OR(SD!E508=\"\"),\"\",SD!E508)","v":""},{"$f":"IF(OR(SD!G508=\"\"),\"\",SD!G508)","v":""},{"$f":"IF(OR(SD!I508=\"\"),\"\",SD!I508)","v":""},{"$f":"IF(OR(SD!O508=\"\"),\"\",SD!O508)","v":""},{"$f":"IF(OR(SD!V508=\"\"),\"\",SD!V508)","v":""},{"$f":"IF(SD!D508=\"\",\"\",SD!D508)","v":""}]
[null,{"$f":"IF(E513=\"\",\"\",ROWS($B$6:B513))","v":""},{"$f":"IF(OR(SD!A509=\"\"),\"\",SD!A509)","v":""},{"$f":"IF(OR(SD!C509=\"\"),\"\",SD!C509)","v":""},{"$f":"IF(OR(SD!E509=\"\"),\"\",SD!E509)","v":""},{"$f":"IF(OR(SD!G509=\"\"),\"\",SD!G509)","v":""},{"$f":"IF(OR(SD!I509=\"\"),\"\",SD!I509)","v":""},{"$f":"IF(OR(SD!O509=\"\"),\"\",SD!O509)","v":""},{"$f":"IF(OR(SD!V509=\"\"),\"\",SD!V509)","v":""},{"$f":"IF(SD!D509=\"\",\"\",SD!D509)","v":""}]
[null,{"$f":"IF(E514=\"\",\"\",ROWS($B$6:B514))","v":""},{"$f":"IF(OR(SD!A510=\"\"),\"\",SD!A510)","v":""},{"$f":"IF(OR(SD!C510=\"\"),\"\",SD!C510)","v":""},{"$f":"IF(OR(SD!E510=\"\"),\"\",SD!E510)","v":""},{"$f":"IF(OR(SD!G510=\"\"),\"\",SD!G510)","v":""},{"$f":"IF(OR(SD!I510=\"\"),\"\",SD!I510)","v":""},{"$f":"IF(OR(SD!O510=\"\"),\"\",SD!O510)","v":""},{"$f":"IF(OR(SD!V510=\"\"),\"\",SD!V510)","v":""},{"$f":"IF(SD!D510=\"\",\"\",SD!D510)","v":""}]
[null,{"$f":"IF(E515=\"\",\"\",ROWS($B$6:B515))","v":""},{"$f":"IF(OR(SD!A511=\"\"),\"\",SD!A511)","v":""},{"$f":"IF(OR(SD!C511=\"\"),\"\",SD!C511)","v":""},{"$f":"IF(OR(SD!E511=\"\"),\"\",SD!E511)","v":""},{"$f":"IF(OR(SD!G511=\"\"),\"\",SD!G511)","v":""},{"$f":"IF(OR(SD!I511=\"\"),\"\",SD!I511)","v":""},{"$f":"IF(OR(SD!O511=\"\"),\"\",SD!O511)","v":""},{"$f":"IF(OR(SD!V511=\"\"),\"\",SD!V511)","v":""},{"$f":"IF(SD!D511=\"\",\"\",SD!D511)","v":""}]
[null,{"$f":"IF(E516=\"\",\"\",ROWS($B$6:B516))","v":""},{"$f":"IF(OR(SD!A512=\"\"),\"\",SD!A512)","v":""},{"$f":"IF(OR(SD!C512=\"\"),\"\",SD!C512)","v":""},{"$f":"IF(OR(SD!E512=\"\"),\"\",SD!E512)","v":""},{"$f":"IF(OR(SD!G512=\"\"),\"\",SD!G512)","v":""},{"$f":"IF(OR(SD!I512=\"\"),\"\",SD!I512)","v":""},{"$f":"IF(OR(SD!O512=\"\"),\"\",SD!O512)","v":""},{"$f":"IF(OR(SD!V512=\"\"),\"\",SD!V512)","v":""},{"$f":"IF(SD!D512=\"\",\"\",SD!D512)","v":""}]
[null,{"$f":"IF(E517=\"\",\"\",ROWS($B$6:B517))","v":""},{"$f":"IF(OR(SD!A513=\"\"),\"\",SD!A513)","v":""},{"$f":"IF(OR(SD!C513=\"\"),\"\",SD!C513)","v":""},{"$f":"IF(OR(SD!E513=\"\"),\"\",SD!E513)","v":""},{"$f":"IF(OR(SD!G513=\"\"),\"\",SD!G513)","v":""},{"$f":"IF(OR(SD!I513=\"\"),\"\",SD!I513)","v":""},{"$f":"IF(OR(SD!O513=\"\"),\"\",SD!O513)","v":""},{"$f":"IF(OR(SD!V513=\"\"),\"\",SD!V513)","v":""},{"$f":"IF(SD!D513=\"\",\"\",SD!D513)","v":""}]
[null,{"$f":"IF(E518=\"\",\"\",ROWS($B$6:B518))","v":""},{"$f":"IF(OR(SD!A514=\"\"),\"\",SD!A514)","v":""},{"$f":"IF(OR(SD!C514=\"\"),\"\",SD!C514)","v":""},{"$f":"IF(OR(SD!E514=\"\"),\"\",SD!E514)","v":""},{"$f":"IF(OR(SD!G514=\"\"),\"\",SD!G514)","v":""},{"$f":"IF(OR(SD!I514=\"\"),\"\",SD!I514)","v":""},{"$f":"IF(OR(SD!O514=\"\"),\"\",SD!O514)","v":""},{"$f":"IF(OR(SD!V514=\"\"),\"\",SD!V514)","v":""},{"$f":"IF(SD!D514=\"\",\"\",SD!D514)","v":""}]
[null,{"$f":"IF(E519=\"\",\"\",ROWS($B$6:B519))","v":""},{"$f":"IF(OR(SD!A515=\"\"),\"\",SD!A515)","v":""},{"$f":"IF(OR(SD!C515=\"\"),\"\",SD!C515)","v":""},{"$f":"IF(OR(SD!E515=\"\"),\"\",SD!E515)","v":""},{"$f":"IF(OR(SD!G515=\"\"),\"\",SD!G515)","v":""},{"$f":"IF(OR(SD!I515=\"\"),\"\",SD!I515)","v":""},{"$f":"IF(OR(SD!O515=\"\"),\"\",SD!O515)","v":""},{"$f":"IF(OR(SD!V515=\"\"),\"\",SD!V515)","v":""},{"$f":"IF(SD!D515=\"\",\"\",SD!D515)","v":""}]
[null,{"$f":"IF(E520=\"\",\"\",ROWS($B$6:B520))","v":""},{"$f":"IF(OR(SD!A516=\"\"),\"\",SD!A516)","v":""},{"$f":"IF(OR(SD!C516=\"\"),\"\",SD!C516)","v":""},{"$f":"IF(OR(SD!E516=\"\"),\"\",SD!E516)","v":""},{"$f":"IF(OR(SD!G516=\"\"),\"\",SD!G516)","v":""},{"$f":"IF(OR(SD!I516=\"\"),\"\",SD!I516)","v":""},{"$f":"IF(OR(SD!O516=\"\"),\"\",SD!O516)","v":""},{"$f":"IF(OR(SD!V516=\"\"),\"\",SD!V516)","v":""},{"$f":"IF(SD!D516=\"\",\"\",SD!D516)","v":""}]
[null,{"$f":"IF(E521=\"\",\"\",ROWS($B$6:B521))","v":""},{"$f":"IF(OR(SD!A517=\"\"),\"\",SD!A517)","v":""},{"$f":"IF(OR(SD!C517=\"\"),\"\",SD!C517)","v":""},{"$f":"IF(OR(SD!E517=\"\"),\"\",SD!E517)","v":""},{"$f":"IF(OR(SD!G517=\"\"),\"\",SD!G517)","v":""},{"$f":"IF(OR(SD!I517=\"\"),\"\",SD!I517)","v":""},{"$f":"IF(OR(SD!O517=\"\"),\"\",SD!O517)","v":""},{"$f":"IF(OR(SD!V517=\"\"),\"\",SD!V517)","v":""},{"$f":"IF(SD!D517=\"\",\"\",SD!D517)","v":""}]
[null,{"$f":"IF(E522=\"\",\"\",ROWS($B$6:B522))","v":""},{"$f":"IF(OR(SD!A518=\"\"),\"\",SD!A518)","v":""},{"$f":"IF(OR(SD!C518=\"\"),\"\",SD!C518)","v":""},{"$f":"IF(OR(SD!E518=\"\"),\"\",SD!E518)","v":""},{"$f":"IF(OR(SD!G518=\"\"),\"\",SD!G518)","v":""},{"$f":"IF(OR(SD!I518=\"\"),\"\",SD!I518)","v":""},{"$f":"IF(OR(SD!O518=\"\"),\"\",SD!O518)","v":""},{"$f":"IF(OR(SD!V518=\"\"),\"\",SD!V518)","v":""},{"$f":"IF(SD!D518=\"\",\"\",SD!D518)","v":""}]
[null,{"$f":"IF(E523=\"\",\"\",ROWS($B$6:B523))","v":""},{"$f":"IF(OR(SD!A519=\"\"),\"\",SD!A519)","v":""},{"$f":"IF(OR(SD!C519=\"\"),\"\",SD!C519)","v":""},{"$f":"IF(OR(SD!E519=\"\"),\"\",SD!E519)","v":""},{"$f":"IF(OR(SD!G519=\"\"),\"\",SD!G519)","v":""},{"$f":"IF(OR(SD!I519=\"\"),\"\",SD!I519)","v":""},{"$f":"IF(OR(SD!O519=\"\"),\"\",SD!O519)","v":""},{"$f":"IF(OR(SD!V519=\"\"),\"\",SD!V519)","v":""},{"$f":"IF(SD!D519=\"\",\"\",SD!D519)","v":""}]
[null,{"$f":"IF(E524=\"\",\"\",ROWS($B$6:B524))","v":""},{"$f":"IF(OR(SD!A520=\"\"),\"\",SD!A520)","v":""},{"$f":"IF(OR(SD!C520=\"\"),\"\",SD!C520)","v":""},{"$f":"IF(OR(SD!E520=\"\"),\"\",SD!E520)","v":""},{"$f":"IF(OR(SD!G520=\"\"),\"\",SD!G520)","v":""},{"$f":"IF(OR(SD!I520=\"\"),\"\",SD!I520)","v":""},{"$f":"IF(OR(SD!O520=\"\"),\"\",SD!O520)","v":""},{"$f":"IF(OR(SD!V520=\"\"),\"\",SD!V520)","v":""},{"$f":"IF(SD!D520=\"\",\"\",SD!D520)","v":""}]
[null,{"$f":"IF(E525=\"\",\"\",ROWS($B$6:B525))","v":""},{"$f":"IF(OR(SD!A521=\"\"),\"\",SD!A521)","v":""},{"$f":"IF(OR(SD!C521=\"\"),\"\",SD!C521)","v":""},{"$f":"IF(OR(SD!E521=\"\"),\"\",SD!E521)","v":""},{"$f":"IF(OR(SD!G521=\"\"),\"\",SD!G521)","v":""},{"$f":"IF(OR(SD!I521=\"\"),\"\",SD!I521)","v":""},{"$f":"IF(OR(SD!O521=\"\"),\"\",SD!O521)","v":""},{"$f":"IF(OR(SD!V521=\"\"),\"\",SD!V521)","v":""},{"$f":"IF(SD!D521=\"\",\"\",SD!D521)","v":""}]
[null,{"$f":"IF(E526=\"\",\"\",ROWS($B$6:B526))","v":""},{"$f":"IF(OR(SD!A522=\"\"),\"\",SD!A522)","v":""},{"$f":"IF(OR(SD!C522=\"\"),\"\",SD!C522)","v":""},{"$f":"IF(OR(SD!E522=\"\"),\"\",SD!E522)","v":""},{"$f":"IF(OR(SD!G522=\"\"),\"\",SD!G522)","v":""},{"$f":"IF(OR(SD!I522=\"\"),\"\",SD!I522)","v":""},{"$f":"IF(OR(SD!O522=\"\"),\"\",SD!O522)","v":""},{"$f":"IF(OR(SD!V522=\"\"),\"\",SD!V522)","v":""},{"$f":"IF(SD!D522=\"\",\"\",SD!D522)","v":""}]
[null,{"$f":"IF(E527=\"\",\"\",ROWS($B$6:B527))","v":""},{"$f":"IF(OR(SD!A523=\"\"),\"\",SD!A523)","v":""},{"$f":"IF(OR(SD!C523=\"\"),\"\",SD!C523)","v":""},{"$f":"IF(OR(SD!E523=\"\"),\"\",SD!E523)","v":""},{"$f":"IF(OR(SD!G523=\"\"),\"\",SD!G523)","v":""},{"$f":"IF(OR(SD!I523=\"\"),\"\",SD!I523)","v":""},{"$f":"IF(OR(SD!O523=\"\"),\"\",SD!O523)","v":""},{"$f":"IF(OR(SD!V523=\"\"),\"\",SD!V523)","v":""},{"$f":"IF(SD!D523=\"\",\"\",SD!D523)","v":""}]
[null,{"$f":"IF(E528=\"\",\"\",ROWS($B$6:B528))","v":""},{"$f":"IF(OR(SD!A524=\"\"),\"\",SD!A524)","v":""},{"$f":"IF(OR(SD!C524=\"\"),\"\",SD!C524)","v":""},{"$f":"IF(OR(SD!E524=\"\"),\"\",SD!E524)","v":""},{"$f":"IF(OR(SD!G524=\"\"),\"\",SD!G524)","v":""},{"$f":"IF(OR(SD!I524=\"\"),\"\",SD!I524)","v":""},{"$f":"IF(OR(SD!O524=\"\"),\"\",SD!O524)","v":""},{"$f":"IF(OR(SD!V524=\"\"),\"\",SD!V524)","v":""},{"$f":"IF(SD!D524=\"\",\"\",SD!D524)","v":""}]
[null,{"$f":"IF(E529=\"\",\"\",ROWS($B$6:B529))","v":""},{"$f":"IF(OR(SD!A525=\"\"),\"\",SD!A525)","v":""},{"$f":"IF(OR(SD!C525=\"\"),\"\",SD!C525)","v":""},{"$f":"IF(OR(SD!E525=\"\"),\"\",SD!E525)","v":""},{"$f":"IF(OR(SD!G525=\"\"),\"\",SD!G525)","v":""},{"$f":"IF(OR(SD!I525=\"\"),\"\",SD!I525)","v":""},{"$f":"IF(OR(SD!O525=\"\"),\"\",SD!O525)","v":""},{"$f":"IF(OR(SD!V525=\"\"),\"\",SD!V525)","v":""},{"$f":"IF(SD!D525=\"\",\"\",SD!D525)","v":""}]
[null,{"$f":"IF(E530=\"\",\"\",ROWS($B$6:B530))","v":""},{"$f":"IF(OR(SD!A526=\"\"),\"\",SD!A526)","v":""},{"$f":"IF(OR(SD!C526=\"\"),\"\",SD!C526)","v":""},{"$f":"IF(OR(SD!E526=\"\"),\"\",SD!E526)","v":""},{"$f":"IF(OR(SD!G526=\"\"),\"\",SD!G526)","v":""},{"$f":"IF(OR(SD!I526=\"\"),\"\",SD!I526)","v":""},{"$f":"IF(OR(SD!O526=\"\"),\"\",SD!O526)","v":""},{"$f":"IF(OR(SD!V526=\"\"),\"\",SD!V526)","v":""},{"$f":"IF(SD!D526=\"\",\"\",SD!D526)","v":""}]
[null,{"$f":"IF(E531=\"\",\"\",ROWS($B$6:B531))","v":""},{"$f":"IF(OR(SD!A527=\"\"),\"\",SD!A527)","v":""},{"$f":"IF(OR(SD!C527=\"\"),\"\",SD!C527)","v":""},{"$f":"IF(OR(SD!E527=\"\"),\"\",SD!E527)","v":""},{"$f":"IF(OR(SD!G527=\"\"),\"\",SD!G527)","v":""},{"$f":"IF(OR(SD!I527=\"\"),\"\",SD!I527)","v":""},{"$f":"IF(OR(SD!O527=\"\"),\"\",SD!O527)","v":""},{"$f":"IF(OR(SD!V527=\"\"),\"\",SD!V527)","v":""},{"$f":"IF(SD!D527=\"\",\"\",SD!D527)","v":""}]
[null,{"$f":"IF(E532=\"\",\"\",ROWS($B$6:B532))","v":""},{"$f":"IF(OR(SD!A528=\"\"),\"\",SD!A528)","v":""},{"$f":"IF(OR(SD!C528=\"\"),\"\",SD!C528)","v":""},{"$f":"IF(OR(SD!E528=\"\"),\"\",SD!E528)","v":""},{"$f":"IF(OR(SD!G528=\"\"),\"\",SD!G528)","v":""},{"$f":"IF(OR(SD!I528=\"\"),\"\",SD!I528)","v":""},{"$f":"IF(OR(SD!O528=\"\"),\"\",SD!O528)","v":""},{"$f":"IF(OR(SD!V528=\"\"),\"\",SD!V528)","v":""},{"$f":"IF(SD!D528=\"\",\"\",SD!D528)","v":""}]
[null,{"$f":"IF(E533=\"\",\"\",ROWS($B$6:B533))","v":""},{"$f":"IF(OR(SD!A529=\"\"),\"\",SD!A529)","v":""},{"$f":"IF(OR(SD!C529=\"\"),\"\",SD!C529)","v":""},{"$f":"IF(OR(SD!E529=\"\"),\"\",SD!E529)","v":""},{"$f":"IF(OR(SD!G529=\"\"),\"\",SD!G529)","v":""},{"$f":"IF(OR(SD!I529=\"\"),\"\",SD!I529)","v":""},{"$f":"IF(OR(SD!O529=\"\"),\"\",SD!O529)","v":""},{"$f":"IF(OR(SD!V529=\"\"),\"\",SD!V529)","v":""},{"$f":"IF(SD!D529=\"\",\"\",SD!D529)","v":""}]
[null,{"$f":"IF(E534=\"\",\"\",ROWS($B$6:B534))","v":""},{"$f":"IF(OR(SD!A530=\"\"),\"\",SD!A530)","v":""},{"$f":"IF(OR(SD!C530=\"\"),\"\",SD!C530)","v":""},{"$f":"IF(OR(SD!E530=\"\"),\"\",SD!E530)","v":""},{"$f":"IF(OR(SD!G530=\"\"),\"\",SD!G530)","v":""},{"$f":"IF(OR(SD!I530=\"\"),\"\",SD!I530)","v":""},{"$f":"IF(OR(SD!O530=\"\"),\"\",SD!O530)","v":""},{"$f":"IF(OR(SD!V530=\"\"),\"\",SD!V530)","v":""},{"$f":"IF(SD!D530=\"\",\"\",SD!D530)","v":""}]
[null,{"$f":"IF(E535=\"\",\"\",ROWS($B$6:B535))","v":""},{"$f":"IF(OR(SD!A531=\"\"),\"\",SD!A531)","v":""},{"$f":"IF(OR(SD!C531=\"\"),\"\",SD!C531)","v":""},{"$f":"IF(OR(SD!E531=\"\"),\"\",SD!E531)","v":""},{"$f":"IF(OR(SD!G531=\"\"),\"\",SD!G531)","v":""},{"$f":"IF(OR(SD!I531=\"\"),\"\",SD!I531)","v":""},{"$f":"IF(OR(SD!O531=\"\"),\"\",SD!O531)","v":""},{"$f":"IF(OR(SD!V531=\"\"),\"\",SD!V531)","v":""},{"$f":"IF(SD!D531=\"\",\"\",SD!D531)","v":""}]
[null,{"$f":"IF(E536=\"\",\"\",ROWS($B$6:B536))","v":""},{"$f":"IF(OR(SD!A532=\"\"),\"\",SD!A532)","v":""},{"$f":"IF(OR(SD!C532=\"\"),\"\",SD!C532)","v":""},{"$f":"IF(OR(SD!E532=\"\"),\"\",SD!E532)","v":""},{"$f":"IF(OR(SD!G532=\"\"),\"\",SD!G532)","v":""},{"$f":"IF(OR(SD!I532=\"\"),\"\",SD!I532)","v":""},{"$f":"IF(OR(SD!O532=\"\"),\"\",SD!O532)","v":""},{"$f":"IF(OR(SD!V532=\"\"),\"\",SD!V532)","v":""},{"$f":"IF(SD!D532=\"\",\"\",SD!D532)","v":""}]
[null,{"$f":"IF(E537=\"\",\"\",ROWS($B$6:B537))","v":""},{"$f":"IF(OR(SD!A533=\"\"),\"\",SD!A533)","v":""},{"$f":"IF(OR(SD!C533=\"\"),\"\",SD!C533)","v":""},{"$f":"IF(OR(SD!E533=\"\"),\"\",SD!E533)","v":""},{"$f":"IF(OR(SD!G533=\"\"),\"\",SD!G533)","v":""},{"$f":"IF(OR(SD!I533=\"\"),\"\",SD!I533)","v":""},{"$f":"IF(OR(SD!O533=\"\"),\"\",SD!O533)","v":""},{"$f":"IF(OR(SD!V533=\"\"),\"\",SD!V533)","v":""},{"$f":"IF(SD!D533=\"\",\"\",SD!D533)","v":""}]
[null,{"$f":"IF(E538=\"\",\"\",ROWS($B$6:B538))","v":""},{"$f":"IF(OR(SD!A534=\"\"),\"\",SD!A534)","v":""},{"$f":"IF(OR(SD!C534=\"\"),\"\",SD!C534)","v":""},{"$f":"IF(OR(SD!E534=\"\"),\"\",SD!E534)","v":""},{"$f":"IF(OR(SD!G534=\"\"),\"\",SD!G534)","v":""},{"$f":"IF(OR(SD!I534=\"\"),\"\",SD!I534)","v":""},{"$f":"IF(OR(SD!O534=\"\"),\"\",SD!O534)","v":""},{"$f":"IF(OR(SD!V534=\"\"),\"\",SD!V534)","v":""},{"$f":"IF(SD!D534=\"\",\"\",SD!D534)","v":""}]
[null,{"$f":"IF(E539=\"\",\"\",ROWS($B$6:B539))","v":""},{"$f":"IF(OR(SD!A535=\"\"),\"\",SD!A535)","v":""},{"$f":"IF(OR(SD!C535=\"\"),\"\",SD!C535)","v":""},{"$f":"IF(OR(SD!E535=\"\"),\"\",SD!E535)","v":""},{"$f":"IF(OR(SD!G535=\"\"),\"\",SD!G535)","v":""},{"$f":"IF(OR(SD!I535=\"\"),\"\",SD!I535)","v":""},{"$f":"IF(OR(SD!O535=\"\"),\"\",SD!O535)","v":""},{"$f":"IF(OR(SD!V535=\"\"),\"\",SD!V535)","v":""},{"$f":"IF(SD!D535=\"\",\"\",SD!D535)","v":""}]
[null,{"$f":"IF(E540=\"\",\"\",ROWS($B$6:B540))","v":""},{"$f":"IF(OR(SD!A536=\"\"),\"\",SD!A536)","v":""},{"$f":"IF(OR(SD!C536=\"\"),\"\",SD!C536)","v":""},{"$f":"IF(OR(SD!E536=\"\"),\"\",SD!E536)","v":""},{"$f":"IF(OR(SD!G536=\"\"),\"\",SD!G536)","v":""},{"$f":"IF(OR(SD!I536=\"\"),\"\",SD!I536)","v":""},{"$f":"IF(OR(SD!O536=\"\"),\"\",SD!O536)","v":""},{"$f":"IF(OR(SD!V536=\"\"),\"\",SD!V536)","v":""},{"$f":"IF(SD!D536=\"\",\"\",SD!D536)","v":""}]
[null,{"$f":"IF(E541=\"\",\"\",ROWS($B$6:B541))","v":""},{"$f":"IF(OR(SD!A537=\"\"),\"\",SD!A537)","v":""},{"$f":"IF(OR(SD!C537=\"\"),\"\",SD!C537)","v":""},{"$f":"IF(OR(SD!E537=\"\"),\"\",SD!E537)","v":""},{"$f":"IF(OR(SD!G537=\"\"),\"\",SD!G537)","v":""},{"$f":"IF(OR(SD!I537=\"\"),\"\",SD!I537)","v":""},{"$f":"IF(OR(SD!O537=\"\"),\"\",SD!O537)","v":""},{"$f":"IF(OR(SD!V537=\"\"),\"\",SD!V537)","v":""},{"$f":"IF(SD!D537=\"\",\"\",SD!D537)","v":""}]
[null,{"$f":"IF(E542=\"\",\"\",ROWS($B$6:B542))","v":""},{"$f":"IF(OR(SD!A538=\"\"),\"\",SD!A538)","v":""},{"$f":"IF(OR(SD!C538=\"\"),\"\",SD!C538)","v":""},{"$f":"IF(OR(SD!E538=\"\"),\"\",SD!E538)","v":""},{"$f":"IF(OR(SD!G538=\"\"),\"\",SD!G538)","v":""},{"$f":"IF(OR(SD!I538=\"\"),\"\",SD!I538)","v":""},{"$f":"IF(OR(SD!O538=\"\"),\"\",SD!O538)","v":""},{"$f":"IF(OR(SD!V538=\"\"),\"\",SD!V538)","v":""},{"$f":"IF(SD!D538=\"\",\"\",SD!D538)","v":""}]
[null,{"$f":"IF(E543=\"\",\"\",ROWS($B$6:B543))","v":""},{"$f":"IF(OR(SD!A539=\"\"),\"\",SD!A539)","v":""},{"$f":"IF(OR(SD!C539=\"\"),\"\",SD!C539)","v":""},{"$f":"IF(OR(SD!E539=\"\"),\"\",SD!E539)","v":""},{"$f":"IF(OR(SD!G539=\"\"),\"\",SD!G539)","v":""},{"$f":"IF(OR(SD!I539=\"\"),\"\",SD!I539)","v":""},{"$f":"IF(OR(SD!O539=\"\"),\"\",SD!O539)","v":""},{"$f":"IF(OR(SD!V539=\"\"),\"\",SD!V539)","v":""},{"$f":"IF(SD!D539=\"\",\"\",SD!D539)","v":""}]
[null,{"$f":"IF(E544=\"\",\"\",ROWS($B$6:B544))","v":""},{"$f":"IF(OR(SD!A540=\"\"),\"\",SD!A540)","v":""},{"$f":"IF(OR(SD!C540=\"\"),\"\",SD!C540)","v":""},{"$f":"IF(OR(SD!E540=\"\"),\"\",SD!E540)","v":""},{"$f":"IF(OR(SD!G540=\"\"),\"\",SD!G540)","v":""},{"$f":"IF(OR(SD!I540=\"\"),\"\",SD!I540)","v":""},{"$f":"IF(OR(SD!O540=\"\"),\"\",SD!O540)","v":""},{"$f":"IF(OR(SD!V540=\"\"),\"\",SD!V540)","v":""},{"$f":"IF(SD!D540=\"\",\"\",SD!D540)","v":""}]
[null,{"$f":"IF(E545=\"\",\"\",ROWS($B$6:B545))","v":""},{"$f":"IF(OR(SD!A541=\"\"),\"\",SD!A541)","v":""},{"$f":"IF(OR(SD!C541=\"\"),\"\",SD!C541)","v":""},{"$f":"IF(OR(SD!E541=\"\"),\"\",SD!E541)","v":""},{"$f":"IF(OR(SD!G541=\"\"),\"\",SD!G541)","v":""},{"$f":"IF(OR(SD!I541=\"\"),\"\",SD!I541)","v":""},{"$f":"IF(OR(SD!O541=\"\"),\"\",SD!O541)","v":""},{"$f":"IF(OR(SD!V541=\"\"),\"\",SD!V541)","v":""},{"$f":"IF(SD!D541=\"\",\"\",SD!D541)","v":""}]
[null,{"$f":"IF(E546=\"\",\"\",ROWS($B$6:B546))","v":""},{"$f":"IF(OR(SD!A542=\"\"),\"\",SD!A542)","v":""},{"$f":"IF(OR(SD!C542=\"\"),\"\",SD!C542)","v":""},{"$f":"IF(OR(SD!E542=\"\"),\"\",SD!E542)","v":""},{"$f":"IF(OR(SD!G542=\"\"),\"\",SD!G542)","v":""},{"$f":"IF(OR(SD!I542=\"\"),\"\",SD!I542)","v":""},{"$f":"IF(OR(SD!O542=\"\"),\"\",SD!O542)","v":""},{"$f":"IF(OR(SD!V542=\"\"),\"\",SD!V542)","v":""},{"$f":"IF(SD!D542=\"\",\"\",SD!D542)","v":""}]
[null,{"$f":"IF(E547=\"\",\"\",ROWS($B$6:B547))","v":""},{"$f":"IF(OR(SD!A543=\"\"),\"\",SD!A543)","v":""},{"$f":"IF(OR(SD!C543=\"\"),\"\",SD!C543)","v":""},{"$f":"IF(OR(SD!E543=\"\"),\"\",SD!E543)","v":""},{"$f":"IF(OR(SD!G543=\"\"),\"\",SD!G543)","v":""},{"$f":"IF(OR(SD!I543=\"\"),\"\",SD!I543)","v":""},{"$f":"IF(OR(SD!O543=\"\"),\"\",SD!O543)","v":""},{"$f":"IF(OR(SD!V543=\"\"),\"\",SD!V543)","v":""},{"$f":"IF(SD!D543=\"\",\"\",SD!D543)","v":""}]
[null,{"$f":"IF(E548=\"\",\"\",ROWS($B$6:B548))","v":""},{"$f":"IF(OR(SD!A544=\"\"),\"\",SD!A544)","v":""},{"$f":"IF(OR(SD!C544=\"\"),\"\",SD!C544)","v":""},{"$f":"IF(OR(SD!E544=\"\"),\"\",SD!E544)","v":""},{"$f":"IF(OR(SD!G544=\"\"),\"\",SD!G544)","v":""},{"$f":"IF(OR(SD!I544=\"\"),\"\",SD!I544)","v":""},{"$f":"IF(OR(SD!O544=\"\"),\"\",SD!O544)","v":""},{"$f":"IF(OR(SD!V544=\"\"),\"\",SD!V544)","v":""},{"$f":"IF(SD!D544=\"\",\"\",SD!D544)","v":""}]
[null,{"$f":"IF(E549=\"\",\"\",ROWS($B$6:B549))","v":""},{"$f":"IF(OR(SD!A545=\"\"),\"\",SD!A545)","v":""},{"$f":"IF(OR(SD!C545=\"\"),\"\",SD!C545)","v":""},{"$f":"IF(OR(SD!E545=\"\"),\"\",SD!E545)","v":""},{"$f":"IF(OR(SD!G545=\"\"),\"\",SD!G545)","v":""},{"$f":"IF(OR(SD!I545=\"\"),\"\",SD!I545)","v":""},{"$f":"IF(OR(SD!O545=\"\"),\"\",SD!O545)","v":""},{"$f":"IF(OR(SD!V545=\"\"),\"\",SD!V545)","v":""},{"$f":"IF(SD!D545=\"\",\"\",SD!D545)","v":""}]
[null,{"$f":"IF(E550=\"\",\"\",ROWS($B$6:B550))","v":""},{"$f":"IF(OR(SD!A546=\"\"),\"\",SD!A546)","v":""},{"$f":"IF(OR(SD!C546=\"\"),\"\",SD!C546)","v":""},{"$f":"IF(OR(SD!E546=\"\"),\"\",SD!E546)","v":""},{"$f":"IF(OR(SD!G546=\"\"),\"\",SD!G546)","v":""},{"$f":"IF(OR(SD!I546=\"\"),\"\",SD!I546)","v":""},{"$f":"IF(OR(SD!O546=\"\"),\"\",SD!O546)","v":""},{"$f":"IF(OR(SD!V546=\"\"),\"\",SD!V546)","v":""},{"$f":"IF(SD!D546=\"\",\"\",SD!D546)","v":""}]
[null,{"$f":"IF(E551=\"\",\"\",ROWS($B$6:B551))","v":""},{"$f":"IF(OR(SD!A547=\"\"),\"\",SD!A547)","v":""},{"$f":"IF(OR(SD!C547=\"\"),\"\",SD!C547)","v":""},{"$f":"IF(OR(SD!E547=\"\"),\"\",SD!E547)","v":""},{"$f":"IF(OR(SD!G547=\"\"),\"\",SD!G547)","v":""},{"$f":"IF(OR(SD!I547=\"\"),\"\",SD!I547)","v":""},{"$f":"IF(OR(SD!O547=\"\"),\"\",SD!O547)","v":""},{"$f":"IF(OR(SD!V547=\"\"),\"\",SD!V547)","v":""},{"$f":"IF(SD!D547=\"\",\"\",SD!D547)","v":""}]
[null,{"$f":"IF(E552=\"\",\"\",ROWS($B$6:B552))","v":""},{"$f":"IF(OR(SD!A548=\"\"),\"\",SD!A548)","v":""},{"$f":"IF(OR(SD!C548=\"\"),\"\",SD!C548)","v":""},{"$f":"IF(OR(SD!E548=\"\"),\"\",SD!E548)","v":""},{"$f":"IF(OR(SD!G548=\"\"),\"\",SD!G548)","v":""},{"$f":"IF(OR(SD!I548=\"\"),\"\",SD!I548)","v":""},{"$f":"IF(OR(SD!O548=\"\"),\"\",SD!O548)","v":""},{"$f":"IF(OR(SD!V548=\"\"),\"\",SD!V548)","v":""},{"$f":"IF(SD!D548=\"\",\"\",SD!D548)","v":""}]
[null,{"$f":"IF(E553=\"\",\"\",ROWS($B$6:B553))","v":""},{"$f":"IF(OR(SD!A549=\"\"),\"\",SD!A549)","v":""},{"$f":"IF(OR(SD!C549=\"\"),\"\",SD!C549)","v":""},{"$f":"IF(OR(SD!E549=\"\"),\"\",SD!E549)","v":""},{"$f":"IF(OR(SD!G549=\"\"),\"\",SD!G549)","v":""},{"$f":"IF(OR(SD!I549=\"\"),\"\",SD!I549)","v":""},{"$f":"IF(OR(SD!O549=\"\"),\"\",SD!O549)","v":""},{"$f":"IF(OR(SD!V549=\"\"),\"\",SD!V549)","v":""},{"$f":"IF(SD!D549=\"\",\"\",SD!D549)","v":""}]
[null,{"$f":"IF(E554=\"\",\"\",ROWS($B$6:B554))","v":""},{"$f":"IF(OR(SD!A550=\"\"),\"\",SD!A550)","v":""},{"$f":"IF(OR(SD!C550=\"\"),\"\",SD!C550)","v":""},{"$f":"IF(OR(SD!E550=\"\"),\"\",SD!E550)","v":""},{"$f":"IF(OR(SD!G550=\"\"),\"\",SD!G550)","v":""},{"$f":"IF(OR(SD!I550=\"\"),\"\",SD!I550)","v":""},{"$f":"IF(OR(SD!O550=\"\"),\"\",SD!O550)","v":""},{"$f":"IF(OR(SD!V550=\"\"),\"\",SD!V550)","v":""},{"$f":"IF(SD!D550=\"\",\"\",SD!D550)","v":""}]
[null,{"$f":"IF(E555=\"\",\"\",ROWS($B$6:B555))","v":""},{"$f":"IF(OR(SD!A551=\"\"),\"\",SD!A551)","v":""},{"$f":"IF(OR(SD!C551=\"\"),\"\",SD!C551)","v":""},{"$f":"IF(OR(SD!E551=\"\"),\"\",SD!E551)","v":""},{"$f":"IF(OR(SD!G551=\"\"),\"\",SD!G551)","v":""},{"$f":"IF(OR(SD!I551=\"\"),\"\",SD!I551)","v":""},{"$f":"IF(OR(SD!O551=\"\"),\"\",SD!O551)","v":""},{"$f":"IF(OR(SD!V551=\"\"),\"\",SD!V551)","v":""},{"$f":"IF(SD!D551=\"\",\"\",SD!D551)","v":""}]
[null,{"$f":"IF(E556=\"\",\"\",ROWS($B$6:B556))","v":""},{"$f":"IF(OR(SD!A552=\"\"),\"\",SD!A552)","v":""},{"$f":"IF(OR(SD!C552=\"\"),\"\",SD!C552)","v":""},{"$f":"IF(OR(SD!E552=\"\"),\"\",SD!E552)","v":""},{"$f":"IF(OR(SD!G552=\"\"),\"\",SD!G552)","v":""},{"$f":"IF(OR(SD!I552=\"\"),\"\",SD!I552)","v":""},{"$f":"IF(OR(SD!O552=\"\"),\"\",SD!O552)","v":""},{"$f":"IF(OR(SD!V552=\"\"),\"\",SD!V552)","v":""},{"$f":"IF(SD!D552=\"\",\"\",SD!D552)","v":""}]
[null,{"$f":"IF(E557=\"\",\"\",ROWS($B$6:B557))","v":""},{"$f":"IF(OR(SD!A553=\"\"),\"\",SD!A553)","v":""},{"$f":"IF(OR(SD!C553=\"\"),\"\",SD!C553)","v":""},{"$f":"IF(OR(SD!E553=\"\"),\"\",SD!E553)","v":""},{"$f":"IF(OR(SD!G553=\"\"),\"\",SD!G553)","v":""},{"$f":"IF(OR(SD!I553=\"\"),\"\",SD!I553)","v":""},{"$f":"IF(OR(SD!O553=\"\"),\"\",SD!O553)","v":""},{"$f":"IF(OR(SD!V553=\"\"),\"\",SD!V553)","v":""},{"$f":"IF(SD!D553=\"\",\"\",SD!D553)","v":""}]
[null,{"$f":"IF(E558=\"\",\"\",ROWS($B$6:B558))","v":""},{"$f":"IF(OR(SD!A554=\"\"),\"\",SD!A554)","v":""},{"$f":"IF(OR(SD!C554=\"\"),\"\",SD!C554)","v":""},{"$f":"IF(OR(SD!E554=\"\"),\"\",SD!E554)","v":""},{"$f":"IF(OR(SD!G554=\"\"),\"\",SD!G554)","v":""},{"$f":"IF(OR(SD!I554=\"\"),\"\",SD!I554)","v":""},{"$f":"IF(OR(SD!O554=\"\"),\"\",SD!O554)","v":""},{"$f":"IF(OR(SD!V554=\"\"),\"\",SD!V554)","v":""},{"$f":"IF(SD!D554=\"\",\"\",SD!D554)","v":""}]
[null,{"$f":"IF(E559=\"\",\"\",ROWS($B$6:B559))","v":""},{"$f":"IF(OR(SD!A555=\"\"),\"\",SD!A555)","v":""},{"$f":"IF(OR(SD!C555=\"\"),\"\",SD!C555)","v":""},{"$f":"IF(OR(SD!E555=\"\"),\"\",SD!E555)","v":""},{"$f":"IF(OR(SD!G555=\"\"),\"\",SD!G555)","v":""},{"$f":"IF(OR(SD!I555=\"\"),\"\",SD!I555)","v":""},{"$f":"IF(OR(SD!O555=\"\"),\"\",SD!O555)","v":""},{"$f":"IF(OR(SD!V555=\"\"),\"\",SD!V555)","v":""},{"$f":"IF(SD!D555=\"\",\"\",SD!D555)","v":""}]
[null,{"$f":"IF(E560=\"\",\"\",ROWS($B$6:B560))","v":""},{"$f":"IF(OR(SD!A556=\"\"),\"\",SD!A556)","v":""},{"$f":"IF(OR(SD!C556=\"\"),\"\",SD!C556)","v":""},{"$f":"IF(OR(SD!E556=\"\"),\"\",SD!E556)","v":""},{"$f":"IF(OR(SD!G556=\"\"),\"\",SD!G556)","v":""},{"$f":"IF(OR(SD!I556=\"\"),\"\",SD!I556)","v":""},{"$f":"IF(OR(SD!O556=\"\"),\"\",SD!O556)","v":""},{"$f":"IF(OR(SD!V556=\"\"),\"\",SD!V556)","v":""},{"$f":"IF(SD!D556=\"\",\"\",SD!D556)","v":""}]
[null,{"$f":"IF(E561=\"\",\"\",ROWS($B$6:B561))","v":""},{"$f":"IF(OR(SD!A557=\"\"),\"\",SD!A557)","v":""},{"$f":"IF(OR(SD!C557=\"\"),\"\",SD!C557)","v":""},{"$f":"IF(OR(SD!E557=\"\"),\"\",SD!E557)","v":""},{"$f":"IF(OR(SD!G557=\"\"),\"\",SD!G557)","v":""},{"$f":"IF(OR(SD!I557=\"\"),\"\",SD!I557)","v":""},{"$f":"IF(OR(SD!O557=\"\"),\"\",SD!O557)","v":""},{"$f":"IF(OR(SD!V557=\"\"),\"\",SD!V557)","v":""},{"$f":"IF(SD!D557=\"\",\"\",SD!D557)","v":""}]
[null,{"$f":"IF(E562=\"\",\"\",ROWS($B$6:B562))","v":""},{"$f":"IF(OR(SD!A558=\"\"),\"\",SD!A558)","v":""},{"$f":"IF(OR(SD!C558=\"\"),\"\",SD!C558)","v":""},{"$f":"IF(OR(SD!E558=\"\"),\"\",SD!E558)","v":""},{"$f":"IF(OR(SD!G558=\"\"),\"\",SD!G558)","v":""},{"$f":"IF(OR(SD!I558=\"\"),\"\",SD!I558)","v":""},{"$f":"IF(OR(SD!O558=\"\"),\"\",SD!O558)","v":""},{"$f":"IF(OR(SD!V558=\"\"),\"\",SD!V558)","v":""},{"$f":"IF(SD!D558=\"\",\"\",SD!D558)","v":""}]
[null,{"$f":"IF(E563=\"\",\"\",ROWS($B$6:B563))","v":""},{"$f":"IF(OR(SD!A559=\"\"),\"\",SD!A559)","v":""},{"$f":"IF(OR(SD!C559=\"\"),\"\",SD!C559)","v":""},{"$f":"IF(OR(SD!E559=\"\"),\"\",SD!E559)","v":""},{"$f":"IF(OR(SD!G559=\"\"),\"\",SD!G559)","v":""},{"$f":"IF(OR(SD!I559=\"\"),\"\",SD!I559)","v":""},{"$f":"IF(OR(SD!O559=\"\"),\"\",SD!O559)","v":""},{"$f":"IF(OR(SD!V559=\"\"),\"\",SD!V559)","v":""},{"$f":"IF(SD!D559=\"\",\"\",SD!D559)","v":""}]
[null,{"$f":"IF(E564=\"\",\"\",ROWS($B$6:B564))","v":""},{"$f":"IF(OR(SD!A560=\"\"),\"\",SD!A560)","v":""},{"$f":"IF(OR(SD!C560=\"\"),\"\",SD!C560)","v":""},{"$f":"IF(OR(SD!E560=\"\"),\"\",SD!E560)","v":""},{"$f":"IF(OR(SD!G560=\"\"),\"\",SD!G560)","v":""},{"$f":"IF(OR(SD!I560=\"\"),\"\",SD!I560)","v":""},{"$f":"IF(OR(SD!O560=\"\"),\"\",SD!O560)","v":""},{"$f":"IF(OR(SD!V560=\"\"),\"\",SD!V560)","v":""},{"$f":"IF(SD!D560=\"\",\"\",SD!D560)","v":""}]
[null,{"$f":"IF(E565=\"\",\"\",ROWS($B$6:B565))","v":""},{"$f":"IF(OR(SD!A561=\"\"),\"\",SD!A561)","v":""},{"$f":"IF(OR(SD!C561=\"\"),\"\",SD!C561)","v":""},{"$f":"IF(OR(SD!E561=\"\"),\"\",SD!E561)","v":""},{"$f":"IF(OR(SD!G561=\"\"),\"\",SD!G561)","v":""},{"$f":"IF(OR(SD!I561=\"\"),\"\",SD!I561)","v":""},{"$f":"IF(OR(SD!O561=\"\"),\"\",SD!O561)","v":""},{"$f":"IF(OR(SD!V561=\"\"),\"\",SD!V561)","v":""},{"$f":"IF(SD!D561=\"\",\"\",SD!D561)","v":""}]
[null,{"$f":"IF(E566=\"\",\"\",ROWS($B$6:B566))","v":""},{"$f":"IF(OR(SD!A562=\"\"),\"\",SD!A562)","v":""},{"$f":"IF(OR(SD!C562=\"\"),\"\",SD!C562)","v":""},{"$f":"IF(OR(SD!E562=\"\"),\"\",SD!E562)","v":""},{"$f":"IF(OR(SD!G562=\"\"),\"\",SD!G562)","v":""},{"$f":"IF(OR(SD!I562=\"\"),\"\",SD!I562)","v":""},{"$f":"IF(OR(SD!O562=\"\"),\"\",SD!O562)","v":""},{"$f":"IF(OR(SD!V562=\"\"),\"\",SD!V562)","v":""},{"$f":"IF(SD!D562=\"\",\"\",SD!D562)","v":""}]
[null,{"$f":"IF(E567=\"\",\"\",ROWS($B$6:B567))","v":""},{"$f":"IF(OR(SD!A563=\"\"),\"\",SD!A563)","v":""},{"$f":"IF(OR(SD!C563=\"\"),\"\",SD!C563)","v":""},{"$f":"IF(OR(SD!E563=\"\"),\"\",SD!E563)","v":""},{"$f":"IF(OR(SD!G563=\"\"),\"\",SD!G563)","v":""},{"$f":"IF(OR(SD!I563=\"\"),\"\",SD!I563)","v":""},{"$f":"IF(OR(SD!O563=\"\"),\"\",SD!O563)","v":""},{"$f":"IF(OR(SD!V563=\"\"),\"\",SD!V563)","v":""},{"$f":"IF(SD!D563=\"\",\"\",SD!D563)","v":""}]
[null,{"$f":"IF(E568=\"\",\"\",ROWS($B$6:B568))","v":""},{"$f":"IF(OR(SD!A564=\"\"),\"\",SD!A564)","v":""},{"$f":"IF(OR(SD!C564=\"\"),\"\",SD!C564)","v":""},{"$f":"IF(OR(SD!E564=\"\"),\"\",SD!E564)","v":""},{"$f":"IF(OR(SD!G564=\"\"),\"\",SD!G564)","v":""},{"$f":"IF(OR(SD!I564=\"\"),\"\",SD!I564)","v":""},{"$f":"IF(OR(SD!O564=\"\"),\"\",SD!O564)","v":""},{"$f":"IF(OR(SD!V564=\"\"),\"\",SD!V564)","v":""},{"$f":"IF(SD!D564=\"\",\"\",SD!D564)","v":""}]
[null,{"$f":"IF(E569=\"\",\"\",ROWS($B$6:B569))","v":""},{"$f":"IF(OR(SD!A565=\"\"),\"\",SD!A565)","v":""},{"$f":"IF(OR(SD!C565=\"\"),\"\",SD!C565)","v":""},{"$f":"IF(OR(SD!E565=\"\"),\"\",SD!E565)","v":""},{"$f":"IF(OR(SD!G565=\"\"),\"\",SD!G565)","v":""},{"$f":"IF(OR(SD!I565=\"\"),\"\",SD!I565)","v":""},{"$f":"IF(OR(SD!O565=\"\"),\"\",SD!O565)","v":""},{"$f":"IF(OR(SD!V565=\"\"),\"\",SD!V565)","v":""},{"$f":"IF(SD!D565=\"\",\"\",SD!D565)","v":""}]
[null,{"$f":"IF(E570=\"\",\"\",ROWS($B$6:B570))","v":""},{"$f":"IF(OR(SD!A566=\"\"),\"\",SD!A566)","v":""},{"$f":"IF(OR(SD!C566=\"\"),\"\",SD!C566)","v":""},{"$f":"IF(OR(SD!E566=\"\"),\"\",SD!E566)","v":""},{"$f":"IF(OR(SD!G566=\"\"),\"\",SD!G566)","v":""},{"$f":"IF(OR(SD!I566=\"\"),\"\",SD!I566)","v":""},{"$f":"IF(OR(SD!O566=\"\"),\"\",SD!O566)","v":""},{"$f":"IF(OR(SD!V566=\"\"),\"\",SD!V566)","v":""},{"$f":"IF(SD!D566=\"\",\"\",SD!D566)","v":""}]
[null,{"$f":"IF(E571=\"\",\"\",ROWS($B$6:B571))","v":""},{"$f":"IF(OR(SD!A567=\"\"),\"\",SD!A567)","v":""},{"$f":"IF(OR(SD!C567=\"\"),\"\",SD!C567)","v":""},{"$f":"IF(OR(SD!E567=\"\"),\"\",SD!E567)","v":""},{"$f":"IF(OR(SD!G567=\"\"),\"\",SD!G567)","v":""},{"$f":"IF(OR(SD!I567=\"\"),\"\",SD!I567)","v":""},{"$f":"IF(OR(SD!O567=\"\"),\"\",SD!O567)","v":""},{"$f":"IF(OR(SD!V567=\"\"),\"\",SD!V567)","v":""},{"$f":"IF(SD!D567=\"\",\"\",SD!D567)","v":""}]
[null,{"$f":"IF(E572=\"\",\"\",ROWS($B$6:B572))","v":""},{"$f":"IF(OR(SD!A568=\"\"),\"\",SD!A568)","v":""},{"$f":"IF(OR(SD!C568=\"\"),\"\",SD!C568)","v":""},{"$f":"IF(OR(SD!E568=\"\"),\"\",SD!E568)","v":""},{"$f":"IF(OR(SD!G568=\"\"),\"\",SD!G568)","v":""},{"$f":"IF(OR(SD!I568=\"\"),\"\",SD!I568)","v":""},{"$f":"IF(OR(SD!O568=\"\"),\"\",SD!O568)","v":""},{"$f":"IF(OR(SD!V568=\"\"),\"\",SD!V568)","v":""},{"$f":"IF(SD!D568=\"\",\"\",SD!D568)","v":""}]
[null,{"$f":"IF(E573=\"\",\"\",ROWS($B$6:B573))","v":""},{"$f":"IF(OR(SD!A569=\"\"),\"\",SD!A569)","v":""},{"$f":"IF(OR(SD!C569=\"\"),\"\",SD!C569)","v":""},{"$f":"IF(OR(SD!E569=\"\"),\"\",SD!E569)","v":""},{"$f":"IF(OR(SD!G569=\"\"),\"\",SD!G569)","v":""},{"$f":"IF(OR(SD!I569=\"\"),\"\",SD!I569)","v":""},{"$f":"IF(OR(SD!O569=\"\"),\"\",SD!O569)","v":""},{"$f":"IF(OR(SD!V569=\"\"),\"\",SD!V569)","v":""},{"$f":"IF(SD!D569=\"\",\"\",SD!D569)","v":""}]
[null,{"$f":"IF(E574=\"\",\"\",ROWS($B$6:B574))","v":""},{"$f":"IF(OR(SD!A570=\"\"),\"\",SD!A570)","v":""},{"$f":"IF(OR(SD!C570=\"\"),\"\",SD!C570)","v":""},{"$f":"IF(OR(SD!E570=\"\"),\"\",SD!E570)","v":""},{"$f":"IF(OR(SD!G570=\"\"),\"\",SD!G570)","v":""},{"$f":"IF(OR(SD!I570=\"\"),\"\",SD!I570)","v":""},{"$f":"IF(OR(SD!O570=\"\"),\"\",SD!O570)","v":""},{"$f":"IF(OR(SD!V570=\"\"),\"\",SD!V570)","v":""},{"$f":"IF(SD!D570=\"\",\"\",SD!D570)","v":""}]
[null,{"$f":"IF(E575=\"\",\"\",ROWS($B$6:B575))","v":""},{"$f":"IF(OR(SD!A571=\"\"),\"\",SD!A571)","v":""},{"$f":"IF(OR(SD!C571=\"\"),\"\",SD!C571)","v":""},{"$f":"IF(OR(SD!E571=\"\"),\"\",SD!E571)","v":""},{"$f":"IF(OR(SD!G571=\"\"),\"\",SD!G571)","v":""},{"$f":"IF(OR(SD!I571=\"\"),\"\",SD!I571)","v":""},{"$f":"IF(OR(SD!O571=\"\"),\"\",SD!O571)","v":""},{"$f":"IF(OR(SD!V571=\"\"),\"\",SD!V571)","v":""},{"$f":"IF(SD!D571=\"\",\"\",SD!D571)","v":""}]
[null,{"$f":"IF(E576=\"\",\"\",ROWS($B$6:B576))","v":""},{"$f":"IF(OR(SD!A572=\"\"),\"\",SD!A572)","v":""},{"$f":"IF(OR(SD!C572=\"\"),\"\",SD!C572)","v":""},{"$f":"IF(OR(SD!E572=\"\"),\"\",SD!E572)","v":""},{"$f":"IF(OR(SD!G572=\"\"),\"\",SD!G572)","v":""},{"$f":"IF(OR(SD!I572=\"\"),\"\",SD!I572)","v":""},{"$f":"IF(OR(SD!O572=\"\"),\"\",SD!O572)","v":""},{"$f":"IF(OR(SD!V572=\"\"),\"\",SD!V572)","v":""},{"$f":"IF(SD!D572=\"\",\"\",SD!D572)","v":""}]
[null,{"$f":"IF(E577=\"\",\"\",ROWS($B$6:B577))","v":""},{"$f":"IF(OR(SD!A573=\"\"),\"\",SD!A573)","v":""},{"$f":"IF(OR(SD!C573=\"\"),\"\",SD!C573)","v":""},{"$f":"IF(OR(SD!E573=\"\"),\"\",SD!E573)","v":""},{"$f":"IF(OR(SD!G573=\"\"),\"\",SD!G573)","v":""},{"$f":"IF(OR(SD!I573=\"\"),\"\",SD!I573)","v":""},{"$f":"IF(OR(SD!O573=\"\"),\"\",SD!O573)","v":""},{"$f":"IF(OR(SD!V573=\"\"),\"\",SD!V573)","v":""},{"$f":"IF(SD!D573=\"\",\"\",SD!D573)","v":""}]
[null,{"$f":"IF(E578=\"\",\"\",ROWS($B$6:B578))","v":""},{"$f":"IF(OR(SD!A574=\"\"),\"\",SD!A574)","v":""},{"$f":"IF(OR(SD!C574=\"\"),\"\",SD!C574)","v":""},{"$f":"IF(OR(SD!E574=\"\"),\"\",SD!E574)","v":""},{"$f":"IF(OR(SD!G574=\"\"),\"\",SD!G574)","v":""},{"$f":"IF(OR(SD!I574=\"\"),\"\",SD!I574)","v":""},{"$f":"IF(OR(SD!O574=\"\"),\"\",SD!O574)","v":""},{"$f":"IF(OR(SD!V574=\"\"),\"\",SD!V574)","v":""},{"$f":"IF(SD!D574=\"\",\"\",SD!D574)","v":""}]
[null,{"$f":"IF(E579=\"\",\"\",ROWS($B$6:B579))","v":""},{"$f":"IF(OR(SD!A575=\"\"),\"\",SD!A575)","v":""},{"$f":"IF(OR(SD!C575=\"\"),\"\",SD!C575)","v":""},{"$f":"IF(OR(SD!E575=\"\"),\"\",SD!E575)","v":""},{"$f":"IF(OR(SD!G575=\"\"),\"\",SD!G575)","v":""},{"$f":"IF(OR(SD!I575=\"\"),\"\",SD!I575)","v":""},{"$f":"IF(OR(SD!O575=\"\"),\"\",SD!O575)","v":""},{"$f":"IF(OR(SD!V575=\"\"),\"\",SD!V575)","v":""},{"$f":"IF(SD!D575=\"\",\"\",SD!D575)","v":""}]
[null,{"$f":"IF(E580=\"\",\"\",ROWS($B$6:B580))","v":""},{"$f":"IF(OR(SD!A576=\"\"),\"\",SD!A576)","v":""},{"$f":"IF(OR(SD!C576=\"\"),\"\",SD!C576)","v":""},{"$f":"IF(OR(SD!E576=\"\"),\"\",SD!E576)","v":""},{"$f":"IF(OR(SD!G576=\"\"),\"\",SD!G576)","v":""},{"$f":"IF(OR(SD!I576=\"\"),\"\",SD!I576)","v":""},{"$f":"IF(OR(SD!O576=\"\"),\"\",SD!O576)","v":""},{"$f":"IF(OR(SD!V576=\"\"),\"\",SD!V576)","v":""},{"$f":"IF(SD!D576=\"\",\"\",SD!D576)","v":""}]
[null,{"$f":"IF(E581=\"\",\"\",ROWS($B$6:B581))","v":""},{"$f":"IF(OR(SD!A577=\"\"),\"\",SD!A577)","v":""},{"$f":"IF(OR(SD!C577=\"\"),\"\",SD!C577)","v":""},{"$f":"IF(OR(SD!E577=\"\"),\"\",SD!E577)","v":""},{"$f":"IF(OR(SD!G577=\"\"),\"\",SD!G577)","v":""},{"$f":"IF(OR(SD!I577=\"\"),\"\",SD!I577)","v":""},{"$f":"IF(OR(SD!O577=\"\"),\"\",SD!O577)","v":""},{"$f":"IF(OR(SD!V577=\"\"),\"\",SD!V577)","v":""},{"$f":"IF(SD!D577=\"\",\"\",SD!D577)","v":""}]
[null,{"$f":"IF(E582=\"\",\"\",ROWS($B$6:B582))","v":""},{"$f":"IF(OR(SD!A578=\"\"),\"\",SD!A578)","v":""},{"$f":"IF(OR(SD!C578=\"\"),\"\",SD!C578)","v":""},{"$f":"IF(OR(SD!E578=\"\"),\"\",SD!E578)","v":""},{"$f":"IF(OR(SD!G578=\"\"),\"\",SD!G578)","v":""},{"$f":"IF(OR(SD!I578=\"\"),\"\",SD!I578)","v":""},{"$f":"IF(OR(SD!O578=\"\"),\"\",SD!O578)","v":""},{"$f":"IF(OR(SD!V578=\"\"),\"\",SD!V578)","v":""},{"$f":"IF(SD!D578=\"\",\"\",SD!D578)","v":""}]
[null,{"$f":"IF(E583=\"\",\"\",ROWS($B$6:B583))","v":""},{"$f":"IF(OR(SD!A579=\"\"),\"\",SD!A579)","v":""},{"$f":"IF(OR(SD!C579=\"\"),\"\",SD!C579)","v":""},{"$f":"IF(OR(SD!E579=\"\"),\"\",SD!E579)","v":""},{"$f":"IF(OR(SD!G579=\"\"),\"\",SD!G579)","v":""},{"$f":"IF(OR(SD!I579=\"\"),\"\",SD!I579)","v":""},{"$f":"IF(OR(SD!O579=\"\"),\"\",SD!O579)","v":""},{"$f":"IF(OR(SD!V579=\"\"),\"\",SD!V579)","v":""},{"$f":"IF(SD!D579=\"\",\"\",SD!D579)","v":""}]
[null,{"$f":"IF(E584=\"\",\"\",ROWS($B$6:B584))","v":""},{"$f":"IF(OR(SD!A580=\"\"),\"\",SD!A580)","v":""},{"$f":"IF(OR(SD!C580=\"\"),\"\",SD!C580)","v":""},{"$f":"IF(OR(SD!E580=\"\"),\"\",SD!E580)","v":""},{"$f":"IF(OR(SD!G580=\"\"),\"\",SD!G580)","v":""},{"$f":"IF(OR(SD!I580=\"\"),\"\",SD!I580)","v":""},{"$f":"IF(OR(SD!O580=\"\"),\"\",SD!O580)","v":""},{"$f":"IF(OR(SD!V580=\"\"),\"\",SD!V580)","v":""},{"$f":"IF(SD!D580=\"\",\"\",SD!D580)","v":""}]
[null,{"$f":"IF(E585=\"\",\"\",ROWS($B$6:B585))","v":""},{"$f":"IF(OR(SD!A581=\"\"),\"\",SD!A581)","v":""},{"$f":"IF(OR(SD!C581=\"\"),\"\",SD!C581)","v":""},{"$f":"IF(OR(SD!E581=\"\"),\"\",SD!E581)","v":""},{"$f":"IF(OR(SD!G581=\"\"),\"\",SD!G581)","v":""},{"$f":"IF(OR(SD!I581=\"\"),\"\",SD!I581)","v":""},{"$f":"IF(OR(SD!O581=\"\"),\"\",SD!O581)","v":""},{"$f":"IF(OR(SD!V581=\"\"),\"\",SD!V581)","v":""},{"$f":"IF(SD!D581=\"\",\"\",SD!D581)","v":""}]
[null,{"$f":"IF(E586=\"\",\"\",ROWS($B$6:B586))","v":""},{"$f":"IF(OR(SD!A582=\"\"),\"\",SD!A582)","v":""},{"$f":"IF(OR(SD!C582=\"\"),\"\",SD!C582)","v":""},{"$f":"IF(OR(SD!E582=\"\"),\"\",SD!E582)","v":""},{"$f":"IF(OR(SD!G582=\"\"),\"\",SD!G582)","v":""},{"$f":"IF(OR(SD!I582=\"\"),\"\",SD!I582)","v":""},{"$f":"IF(OR(SD!O582=\"\"),\"\",SD!O582)","v":""},{"$f":"IF(OR(SD!V582=\"\"),\"\",SD!V582)","v":""},{"$f":"IF(SD!D582=\"\",\"\",SD!D582)","v":""}]
[null,{"$f":"IF(E587=\"\",\"\",ROWS($B$6:B587))","v":""},{"$f":"IF(OR(SD!A583=\"\"),\"\",SD!A583)","v":""},{"$f":"IF(OR(SD!C583=\"\"),\"\",SD!C583)","v":""},{"$f":"IF(OR(SD!E583=\"\"),\"\",SD!E583)","v":""},{"$f":"IF(OR(SD!G583=\"\"),\"\",SD!G583)","v":""},{"$f":"IF(OR(SD!I583=\"\"),\"\",SD!I583)","v":""},{"$f":"IF(OR(SD!O583=\"\"),\"\",SD!O583)","v":""},{"$f":"IF(OR(SD!V583=\"\"),\"\",SD!V583)","v":""},{"$f":"IF(SD!D583=\"\",\"\",SD!D583)","v":""}]
[null,{"$f":"IF(E588=\"\",\"\",ROWS($B$6:B588))","v":""},{"$f":"IF(OR(SD!A584=\"\"),\"\",SD!A584)","v":""},{"$f":"IF(OR(SD!C584=\"\"),\"\",SD!C584)","v":""},{"$f":"IF(OR(SD!E584=\"\"),\"\",SD!E584)","v":""},{"$f":"IF(OR(SD!G584=\"\"),\"\",SD!G584)","v":""},{"$f":"IF(OR(SD!I584=\"\"),\"\",SD!I584)","v":""},{"$f":"IF(OR(SD!O584=\"\"),\"\",SD!O584)","v":""},{"$f":"IF(OR(SD!V584=\"\"),\"\",SD!V584)","v":""},{"$f":"IF(SD!D584=\"\",\"\",SD!D584)","v":""}]
[null,{"$f":"IF(E589=\"\",\"\",ROWS($B$6:B589))","v":""},{"$f":"IF(OR(SD!A585=\"\"),\"\",SD!A585)","v":""},{"$f":"IF(OR(SD!C585=\"\"),\"\",SD!C585)","v":""},{"$f":"IF(OR(SD!E585=\"\"),\"\",SD!E585)","v":""},{"$f":"IF(OR(SD!G585=\"\"),\"\",SD!G585)","v":""},{"$f":"IF(OR(SD!I585=\"\"),\"\",SD!I585)","v":""},{"$f":"IF(OR(SD!O585=\"\"),\"\",SD!O585)","v":""},{"$f":"IF(OR(SD!V585=\"\"),\"\",SD!V585)","v":""},{"$f":"IF(SD!D585=\"\",\"\",SD!D585)","v":""}]
[null,{"$f":"IF(E590=\"\",\"\",ROWS($B$6:B590))","v":""},{"$f":"IF(OR(SD!A586=\"\"),\"\",SD!A586)","v":""},{"$f":"IF(OR(SD!C586=\"\"),\"\",SD!C586)","v":""},{"$f":"IF(OR(SD!E586=\"\"),\"\",SD!E586)","v":""},{"$f":"IF(OR(SD!G586=\"\"),\"\",SD!G586)","v":""},{"$f":"IF(OR(SD!I586=\"\"),\"\",SD!I586)","v":""},{"$f":"IF(OR(SD!O586=\"\"),\"\",SD!O586)","v":""},{"$f":"IF(OR(SD!V586=\"\"),\"\",SD!V586)","v":""},{"$f":"IF(SD!D586=\"\",\"\",SD!D586)","v":""}]
[null,{"$f":"IF(E591=\"\",\"\",ROWS($B$6:B591))","v":""},{"$f":"IF(OR(SD!A587=\"\"),\"\",SD!A587)","v":""},{"$f":"IF(OR(SD!C587=\"\"),\"\",SD!C587)","v":""},{"$f":"IF(OR(SD!E587=\"\"),\"\",SD!E587)","v":""},{"$f":"IF(OR(SD!G587=\"\"),\"\",SD!G587)","v":""},{"$f":"IF(OR(SD!I587=\"\"),\"\",SD!I587)","v":""},{"$f":"IF(OR(SD!O587=\"\"),\"\",SD!O587)","v":""},{"$f":"IF(OR(SD!V587=\"\"),\"\",SD!V587)","v":""},{"$f":"IF(SD!D587=\"\",\"\",SD!D587)","v":""}]
[null,{"$f":"IF(E592=\"\",\"\",ROWS($B$6:B592))","v":""},{"$f":"IF(OR(SD!A588=\"\"),\"\",SD!A588)","v":""},{"$f":"IF(OR(SD!C588=\"\"),\"\",SD!C588)","v":""},{"$f":"IF(OR(SD!E588=\"\"),\"\",SD!E588)","v":""},{"$f":"IF(OR(SD!G588=\"\"),\"\",SD!G588)","v":""},{"$f":"IF(OR(SD!I588=\"\"),\"\",SD!I588)","v":""},{"$f":"IF(OR(SD!O588=\"\"),\"\",SD!O588)","v":""},{"$f":"IF(OR(SD!V588=\"\"),\"\",SD!V588)","v":""},{"$f":"IF(SD!D588=\"\",\"\",SD!D588)","v":""}]
[null,{"$f":"IF(E593=\"\",\"\",ROWS($B$6:B593))","v":""},{"$f":"IF(OR(SD!A589=\"\"),\"\",SD!A589)","v":""},{"$f":"IF(OR(SD!C589=\"\"),\"\",SD!C589)","v":""},{"$f":"IF(OR(SD!E589=\"\"),\"\",SD!E589)","v":""},{"$f":"IF(OR(SD!G589=\"\"),\"\",SD!G589)","v":""},{"$f":"IF(OR(SD!I589=\"\"),\"\",SD!I589)","v":""},{"$f":"IF(OR(SD!O589=\"\"),\"\",SD!O589)","v":""},{"$f":"IF(OR(SD!V589=\"\"),\"\",SD!V589)","v":""},{"$f":"IF(SD!D589=\"\",\"\",SD!D589)","v":""}]
[null,{"$f":"IF(E594=\"\",\"\",ROWS($B$6:B594))","v":""},{"$f":"IF(OR(SD!A590=\"\"),\"\",SD!A590)","v":""},{"$f":"IF(OR(SD!C590=\"\"),\"\",SD!C590)","v":""},{"$f":"IF(OR(SD!E590=\"\"),\"\",SD!E590)","v":""},{"$f":"IF(OR(SD!G590=\"\"),\"\",SD!G590)","v":""},{"$f":"IF(OR(SD!I590=\"\"),\"\",SD!I590)","v":""},{"$f":"IF(OR(SD!O590=\"\"),\"\",SD!O590)","v":""},{"$f":"IF(OR(SD!V590=\"\"),\"\",SD!V590)","v":""},{"$f":"IF(SD!D590=\"\",\"\",SD!D590)","v":""}]
[null,{"$f":"IF(E595=\"\",\"\",ROWS($B$6:B595))","v":""},{"$f":"IF(OR(SD!A591=\"\"),\"\",SD!A591)","v":""},{"$f":"IF(OR(SD!C591=\"\"),\"\",SD!C591)","v":""},{"$f":"IF(OR(SD!E591=\"\"),\"\",SD!E591)","v":""},{"$f":"IF(OR(SD!G591=\"\"),\"\",SD!G591)","v":""},{"$f":"IF(OR(SD!I591=\"\"),\"\",SD!I591)","v":""},{"$f":"IF(OR(SD!O591=\"\"),\"\",SD!O591)","v":""},{"$f":"IF(OR(SD!V591=\"\"),\"\",SD!V591)","v":""},{"$f":"IF(SD!D591=\"\",\"\",SD!D591)","v":""}]
[null,{"$f":"IF(E596=\"\",\"\",ROWS($B$6:B596))","v":""},{"$f":"IF(OR(SD!A592=\"\"),\"\",SD!A592)","v":""},{"$f":"IF(OR(SD!C592=\"\"),\"\",SD!C592)","v":""},{"$f":"IF(OR(SD!E592=\"\"),\"\",SD!E592)","v":""},{"$f":"IF(OR(SD!G592=\"\"),\"\",SD!G592)","v":""},{"$f":"IF(OR(SD!I592=\"\"),\"\",SD!I592)","v":""},{"$f":"IF(OR(SD!O592=\"\"),\"\",SD!O592)","v":""},{"$f":"IF(OR(SD!V592=\"\"),\"\",SD!V592)","v":""},{"$f":"IF(SD!D592=\"\",\"\",SD!D592)","v":""}]
[null,{"$f":"IF(E597=\"\",\"\",ROWS($B$6:B597))","v":""},{"$f":"IF(OR(SD!A593=\"\"),\"\",SD!A593)","v":""},{"$f":"IF(OR(SD!C593=\"\"),\"\",SD!C593)","v":""},{"$f":"IF(OR(SD!E593=\"\"),\"\",SD!E593)","v":""},{"$f":"IF(OR(SD!G593=\"\"),\"\",SD!G593)","v":""},{"$f":"IF(OR(SD!I593=\"\"),\"\",SD!I593)","v":""},{"$f":"IF(OR(SD!O593=\"\"),\"\",SD!O593)","v":""},{"$f":"IF(OR(SD!V593=\"\"),\"\",SD!V593)","v":""},{"$f":"IF(SD!D593=\"\",\"\",SD!D593)","v":""}]
[null,{"$f":"IF(E598=\"\",\"\",ROWS($B$6:B598))","v":""},{"$f":"IF(OR(SD!A594=\"\"),\"\",SD!A594)","v":""},{"$f":"IF(OR(SD!C594=\"\"),\"\",SD!C594)","v":""},{"$f":"IF(OR(SD!E594=\"\"),\"\",SD!E594)","v":""},{"$f":"IF(OR(SD!G594=\"\"),\"\",SD!G594)","v":""},{"$f":"IF(OR(SD!I594=\"\"),\"\",SD!I594)","v":""},{"$f":"IF(OR(SD!O594=\"\"),\"\",SD!O594)","v":""},{"$f":"IF(OR(SD!V594=\"\"),\"\",SD!V594)","v":""},{"$f":"IF(SD!D594=\"\",\"\",SD!D594)","v":""}]
[null,{"$f":"IF(E599=\"\",\"\",ROWS($B$6:B599))","v":""},{"$f":"IF(OR(SD!A595=\"\"),\"\",SD!A595)","v":""},{"$f":"IF(OR(SD!C595=\"\"),\"\",SD!C595)","v":""},{"$f":"IF(OR(SD!E595=\"\"),\"\",SD!E595)","v":""},{"$f":"IF(OR(SD!G595=\"\"),\"\",SD!G595)","v":""},{"$f":"IF(OR(SD!I595=\"\"),\"\",SD!I595)","v":""},{"$f":"IF(OR(SD!O595=\"\"),\"\",SD!O595)","v":""},{"$f":"IF(OR(SD!V595=\"\"),\"\",SD!V595)","v":""},{"$f":"IF(SD!D595=\"\",\"\",SD!D595)","v":""}]
[null,{"$f":"IF(E600=\"\",\"\",ROWS($B$6:B600))","v":""},{"$f":"IF(OR(SD!A596=\"\"),\"\",SD!A596)","v":""},{"$f":"IF(OR(SD!C596=\"\"),\"\",SD!C596)","v":""},{"$f":"IF(OR(SD!E596=\"\"),\"\",SD!E596)","v":""},{"$f":"IF(OR(SD!G596=\"\"),\"\",SD!G596)","v":""},{"$f":"IF(OR(SD!I596=\"\"),\"\",SD!I596)","v":""},{"$f":"IF(OR(SD!O596=\"\"),\"\",SD!O596)","v":""},{"$f":"IF(OR(SD!V596=\"\"),\"\",SD!V596)","v":""},{"$f":"IF(SD!D596=\"\",\"\",SD!D596)","v":""}]
[null,{"$f":"IF(E601=\"\",\"\",ROWS($B$6:B601))","v":""},{"$f":"IF(OR(SD!A597=\"\"),\"\",SD!A597)","v":""},{"$f":"IF(OR(SD!C597=\"\"),\"\",SD!C597)","v":""},{"$f":"IF(OR(SD!E597=\"\"),\"\",SD!E597)","v":""},{"$f":"IF(OR(SD!G597=\"\"),\"\",SD!G597)","v":""},{"$f":"IF(OR(SD!I597=\"\"),\"\",SD!I597)","v":""},{"$f":"IF(OR(SD!O597=\"\"),\"\",SD!O597)","v":""},{"$f":"IF(OR(SD!V597=\"\"),\"\",SD!V597)","v":""},{"$f":"IF(SD!D597=\"\",\"\",SD!D597)","v":""}]
[null,{"$f":"IF(E602=\"\",\"\",ROWS($B$6:B602))","v":""},{"$f":"IF(OR(SD!A598=\"\"),\"\",SD!A598)","v":""},{"$f":"IF(OR(SD!C598=\"\"),\"\",SD!C598)","v":""},{"$f":"IF(OR(SD!E598=\"\"),\"\",SD!E598)","v":""},{"$f":"IF(OR(SD!G598=\"\"),\"\",SD!G598)","v":""},{"$f":"IF(OR(SD!I598=\"\"),\"\",SD!I598)","v":""},{"$f":"IF(OR(SD!O598=\"\"),\"\",SD!O598)","v":""},{"$f":"IF(OR(SD!V598=\"\"),\"\",SD!V598)","v":""},{"$f":"IF(SD!D598=\"\",\"\",SD!D598)","v":""}]
[null,{"$f":"IF(E603=\"\",\"\",ROWS($B$6:B603))","v":""},{"$f":"IF(OR(SD!A599=\"\"),\"\",SD!A599)","v":""},{"$f":"IF(OR(SD!C599=\"\"),\"\",SD!C599)","v":""},{"$f":"IF(OR(SD!E599=\"\"),\"\",SD!E599)","v":""},{"$f":"IF(OR(SD!G599=\"\"),\"\",SD!G599)","v":""},{"$f":"IF(OR(SD!I599=\"\"),\"\",SD!I599)","v":""},{"$f":"IF(OR(SD!O599=\"\"),\"\",SD!O599)","v":""},{"$f":"IF(OR(SD!V599=\"\"),\"\",SD!V599)","v":""},{"$f":"IF(SD!D599=\"\",\"\",SD!D599)","v":""}]
[null,{"$f":"IF(E604=\"\",\"\",ROWS($B$6:B604))","v":""},{"$f":"IF(OR(SD!A600=\"\"),\"\",SD!A600)","v":""},{"$f":"IF(OR(SD!C600=\"\"),\"\",SD!C600)","v":""},{"$f":"IF(OR(SD!E600=\"\"),\"\",SD!E600)","v":""},{"$f":"IF(OR(SD!G600=\"\"),\"\",SD!G600)","v":""},{"$f":"IF(OR(SD!I600=\"\"),\"\",SD!I600)","v":""},{"$f":"IF(OR(SD!O600=\"\"),\"\",SD!O600)","v":""},{"$f":"IF(OR(SD!V600=\"\"),\"\",SD!V600)","v":""},{"$f":"IF(SD!D600=\"\",\"\",SD!D600)","v":""}]
[null,{"$f":"IF(E605=\"\",\"\",ROWS($B$6:B605))","v":""},{"$f":"IF(OR(SD!A601=\"\"),\"\",SD!A601)","v":""},{"$f":"IF(OR(SD!C601=\"\"),\"\",SD!C601)","v":""},{"$f":"IF(OR(SD!E601=\"\"),\"\",SD!E601)","v":""},{"$f":"IF(OR(SD!G601=\"\"),\"\",SD!G601)","v":""},{"$f":"IF(OR(SD!I601=\"\"),\"\",SD!I601)","v":""},{"$f":"IF(OR(SD!O601=\"\"),\"\",SD!O601)","v":""},{"$f":"IF(OR(SD!V601=\"\"),\"\",SD!V601)","v":""},{"$f":"IF(SD!D601=\"\",\"\",SD!D601)","v":""}]
[null,{"$f":"IF(E606=\"\",\"\",ROWS($B$6:B606))","v":""},{"$f":"IF(OR(SD!A602=\"\"),\"\",SD!A602)","v":""},{"$f":"IF(OR(SD!C602=\"\"),\"\",SD!C602)","v":""},{"$f":"IF(OR(SD!E602=\"\"),\"\",SD!E602)","v":""},{"$f":"IF(OR(SD!G602=\"\"),\"\",SD!G602)","v":""},{"$f":"IF(OR(SD!I602=\"\"),\"\",SD!I602)","v":""},{"$f":"IF(OR(SD!O602=\"\"),\"\",SD!O602)","v":""},{"$f":"IF(OR(SD!V602=\"\"),\"\",SD!V602)","v":""},{"$f":"IF(SD!D602=\"\",\"\",SD!D602)","v":""}]
[null,{"$f":"IF(E607=\"\",\"\",ROWS($B$6:B607))","v":""},{"$f":"IF(OR(SD!A603=\"\"),\"\",SD!A603)","v":""},{"$f":"IF(OR(SD!C603=\"\"),\"\",SD!C603)","v":""},{"$f":"IF(OR(SD!E603=\"\"),\"\",SD!E603)","v":""},{"$f":"IF(OR(SD!G603=\"\"),\"\",SD!G603)","v":""},{"$f":"IF(OR(SD!I603=\"\"),\"\",SD!I603)","v":""},{"$f":"IF(OR(SD!O603=\"\"),\"\",SD!O603)","v":""},{"$f":"IF(OR(SD!V603=\"\"),\"\",SD!V603)","v":""},{"$f":"IF(SD!D603=\"\",\"\",SD!D603)","v":""}]
[null,{"$f":"IF(E608=\"\",\"\",ROWS($B$6:B608))","v":""},{"$f":"IF(OR(SD!A604=\"\"),\"\",SD!A604)","v":""},{"$f":"IF(OR(SD!C604=\"\"),\"\",SD!C604)","v":""},{"$f":"IF(OR(SD!E604=\"\"),\"\",SD!E604)","v":""},{"$f":"IF(OR(SD!G604=\"\"),\"\",SD!G604)","v":""},{"$f":"IF(OR(SD!I604=\"\"),\"\",SD!I604)","v":""},{"$f":"IF(OR(SD!O604=\"\"),\"\",SD!O604)","v":""},{"$f":"IF(OR(SD!V604=\"\"),\"\",SD!V604)","v":""},{"$f":"IF(SD!D604=\"\",\"\",SD!D604)","v":""}]
[null,{"$f":"IF(E609=\"\",\"\",ROWS($B$6:B609))","v":""},{"$f":"IF(OR(SD!A605=\"\"),\"\",SD!A605)","v":""},{"$f":"IF(OR(SD!C605=\"\"),\"\",SD!C605)","v":""},{"$f":"IF(OR(SD!E605=\"\"),\"\",SD!E605)","v":""},{"$f":"IF(OR(SD!G605=\"\"),\"\",SD!G605)","v":""},{"$f":"IF(OR(SD!I605=\"\"),\"\",SD!I605)","v":""},{"$f":"IF(OR(SD!O605=\"\"),\"\",SD!O605)","v":""},{"$f":"IF(OR(SD!V605=\"\"),\"\",SD!V605)","v":""},{"$f":"IF(SD!D605=\"\",\"\",SD!D605)","v":""}]
[null,{"$f":"IF(E610=\"\",\"\",ROWS($B$6:B610))","v":""},{"$f":"IF(OR(SD!A606=\"\"),\"\",SD!A606)","v":""},{"$f":"IF(OR(SD!C606=\"\"),\"\",SD!C606)","v":""},{"$f":"IF(OR(SD!E606=\"\"),\"\",SD!E606)","v":""},{"$f":"IF(OR(SD!G606=\"\"),\"\",SD!G606)","v":""},{"$f":"IF(OR(SD!I606=\"\"),\"\",SD!I606)","v":""},{"$f":"IF(OR(SD!O606=\"\"),\"\",SD!O606)","v":""},{"$f":"IF(OR(SD!V606=\"\"),\"\",SD!V606)","v":""},{"$f":"IF(SD!D606=\"\",\"\",SD!D606)","v":""}]
[null,{"$f":"IF(E611=\"\",\"\",ROWS($B$6:B611))","v":""},{"$f":"IF(OR(SD!A607=\"\"),\"\",SD!A607)","v":""},{"$f":"IF(OR(SD!C607=\"\"),\"\",SD!C607)","v":""},{"$f":"IF(OR(SD!E607=\"\"),\"\",SD!E607)","v":""},{"$f":"IF(OR(SD!G607=\"\"),\"\",SD!G607)","v":""},{"$f":"IF(OR(SD!I607=\"\"),\"\",SD!I607)","v":""},{"$f":"IF(OR(SD!O607=\"\"),\"\",SD!O607)","v":""},{"$f":"IF(OR(SD!V607=\"\"),\"\",SD!V607)","v":""},{"$f":"IF(SD!D607=\"\",\"\",SD!D607)","v":""}]
[null,{"$f":"IF(E612=\"\",\"\",ROWS($B$6:B612))","v":""},{"$f":"IF(OR(SD!A608=\"\"),\"\",SD!A608)","v":""},{"$f":"IF(OR(SD!C608=\"\"),\"\",SD!C608)","v":""},{"$f":"IF(OR(SD!E608=\"\"),\"\",SD!E608)","v":""},{"$f":"IF(OR(SD!G608=\"\"),\"\",SD!G608)","v":""},{"$f":"IF(OR(SD!I608=\"\"),\"\",SD!I608)","v":""},{"$f":"IF(OR(SD!O608=\"\"),\"\",SD!O608)","v":""},{"$f":"IF(OR(SD!V608=\"\"),\"\",SD!V608)","v":""},{"$f":"IF(SD!D608=\"\",\"\",SD!D608)","v":""}]
[null,{"$f":"IF(E613=\"\",\"\",ROWS($B$6:B613))","v":""},{"$f":"IF(OR(SD!A609=\"\"),\"\",SD!A609)","v":""},{"$f":"IF(OR(SD!C609=\"\"),\"\",SD!C609)","v":""},{"$f":"IF(OR(SD!E609=\"\"),\"\",SD!E609)","v":""},{"$f":"IF(OR(SD!G609=\"\"),\"\",SD!G609)","v":""},{"$f":"IF(OR(SD!I609=\"\"),\"\",SD!I609)","v":""},{"$f":"IF(OR(SD!O609=\"\"),\"\",SD!O609)","v":""},{"$f":"IF(OR(SD!V609=\"\"),\"\",SD!V609)","v":""},{"$f":"IF(SD!D609=\"\",\"\",SD!D609)","v":""}]
[null,{"$f":"IF(E614=\"\",\"\",ROWS($B$6:B614))","v":""},{"$f":"IF(OR(SD!A610=\"\"),\"\",SD!A610)","v":""},{"$f":"IF(OR(SD!C610=\"\"),\"\",SD!C610)","v":""},{"$f":"IF(OR(SD!E610=\"\"),\"\",SD!E610)","v":""},{"$f":"IF(OR(SD!G610=\"\"),\"\",SD!G610)","v":""},{"$f":"IF(OR(SD!I610=\"\"),\"\",SD!I610)","v":""},{"$f":"IF(OR(SD!O610=\"\"),\"\",SD!O610)","v":""},{"$f":"IF(OR(SD!V610=\"\"),\"\",SD!V610)","v":""},{"$f":"IF(SD!D610=\"\",\"\",SD!D610)","v":""}]
[null,{"$f":"IF(E615=\"\",\"\",ROWS($B$6:B615))","v":""},{"$f":"IF(OR(SD!A611=\"\"),\"\",SD!A611)","v":""},{"$f":"IF(OR(SD!C611=\"\"),\"\",SD!C611)","v":""},{"$f":"IF(OR(SD!E611=\"\"),\"\",SD!E611)","v":""},{"$f":"IF(OR(SD!G611=\"\"),\"\",SD!G611)","v":""},{"$f":"IF(OR(SD!I611=\"\"),\"\",SD!I611)","v":""},{"$f":"IF(OR(SD!O611=\"\"),\"\",SD!O611)","v":""},{"$f":"IF(OR(SD!V611=\"\"),\"\",SD!V611)","v":""},{"$f":"IF(SD!D611=\"\",\"\",SD!D611)","v":""}]
[null,{"$f":"IF(E616=\"\",\"\",ROWS($B$6:B616))","v":""},{"$f":"IF(OR(SD!A612=\"\"),\"\",SD!A612)","v":""},{"$f":"IF(OR(SD!C612=\"\"),\"\",SD!C612)","v":""},{"$f":"IF(OR(SD!E612=\"\"),\"\",SD!E612)","v":""},{"$f":"IF(OR(SD!G612=\"\"),\"\",SD!G612)","v":""},{"$f":"IF(OR(SD!I612=\"\"),\"\",SD!I612)","v":""},{"$f":"IF(OR(SD!O612=\"\"),\"\",SD!O612)","v":""},{"$f":"IF(OR(SD!V612=\"\"),\"\",SD!V612)","v":""},{"$f":"IF(SD!D612=\"\",\"\",SD!D612)","v":""}]
[null,{"$f":"IF(E617=\"\",\"\",ROWS($B$6:B617))","v":""},{"$f":"IF(OR(SD!A613=\"\"),\"\",SD!A613)","v":""},{"$f":"IF(OR(SD!C613=\"\"),\"\",SD!C613)","v":""},{"$f":"IF(OR(SD!E613=\"\"),\"\",SD!E613)","v":""},{"$f":"IF(OR(SD!G613=\"\"),\"\",SD!G613)","v":""},{"$f":"IF(OR(SD!I613=\"\"),\"\",SD!I613)","v":""},{"$f":"IF(OR(SD!O613=\"\"),\"\",SD!O613)","v":""},{"$f":"IF(OR(SD!V613=\"\"),\"\",SD!V613)","v":""},{"$f":"IF(SD!D613=\"\",\"\",SD!D613)","v":""}]
[null,{"$f":"IF(E618=\"\",\"\",ROWS($B$6:B618))","v":""},{"$f":"IF(OR(SD!A614=\"\"),\"\",SD!A614)","v":""},{"$f":"IF(OR(SD!C614=\"\"),\"\",SD!C614)","v":""},{"$f":"IF(OR(SD!E614=\"\"),\"\",SD!E614)","v":""},{"$f":"IF(OR(SD!G614=\"\"),\"\",SD!G614)","v":""},{"$f":"IF(OR(SD!I614=\"\"),\"\",SD!I614)","v":""},{"$f":"IF(OR(SD!O614=\"\"),\"\",SD!O614)","v":""},{"$f":"IF(OR(SD!V614=\"\"),\"\",SD!V614)","v":""},{"$f":"IF(SD!D614=\"\",\"\",SD!D614)","v":""}]
[null,{"$f":"IF(E619=\"\",\"\",ROWS($B$6:B619))","v":""},{"$f":"IF(OR(SD!A615=\"\"),\"\",SD!A615)","v":""},{"$f":"IF(OR(SD!C615=\"\"),\"\",SD!C615)","v":""},{"$f":"IF(OR(SD!E615=\"\"),\"\",SD!E615)","v":""},{"$f":"IF(OR(SD!G615=\"\"),\"\",SD!G615)","v":""},{"$f":"IF(OR(SD!I615=\"\"),\"\",SD!I615)","v":""},{"$f":"IF(OR(SD!O615=\"\"),\"\",SD!O615)","v":""},{"$f":"IF(OR(SD!V615=\"\"),\"\",SD!V615)","v":""},{"$f":"IF(SD!D615=\"\",\"\",SD!D615)","v":""}]
[null,{"$f":"IF(E620=\"\",\"\",ROWS($B$6:B620))","v":""},{"$f":"IF(OR(SD!A616=\"\"),\"\",SD!A616)","v":""},{"$f":"IF(OR(SD!C616=\"\"),\"\",SD!C616)","v":""},{"$f":"IF(OR(SD!E616=\"\"),\"\",SD!E616)","v":""},{"$f":"IF(OR(SD!G616=\"\"),\"\",SD!G616)","v":""},{"$f":"IF(OR(SD!I616=\"\"),\"\",SD!I616)","v":""},{"$f":"IF(OR(SD!O616=\"\"),\"\",SD!O616)","v":""},{"$f":"IF(OR(SD!V616=\"\"),\"\",SD!V616)","v":""},{"$f":"IF(SD!D616=\"\",\"\",SD!D616)","v":""}]
[null,{"$f":"IF(E621=\"\",\"\",ROWS($B$6:B621))","v":""},{"$f":"IF(OR(SD!A617=\"\"),\"\",SD!A617)","v":""},{"$f":"IF(OR(SD!C617=\"\"),\"\",SD!C617)","v":""},{"$f":"IF(OR(SD!E617=\"\"),\"\",SD!E617)","v":""},{"$f":"IF(OR(SD!G617=\"\"),\"\",SD!G617)","v":""},{"$f":"IF(OR(SD!I617=\"\"),\"\",SD!I617)","v":""},{"$f":"IF(OR(SD!O617=\"\"),\"\",SD!O617)","v":""},{"$f":"IF(OR(SD!V617=\"\"),\"\",SD!V617)","v":""},{"$f":"IF(SD!D617=\"\",\"\",SD!D617)","v":""}]
[null,{"$f":"IF(E622=\"\",\"\",ROWS($B$6:B622))","v":""},{"$f":"IF(OR(SD!A618=\"\"),\"\",SD!A618)","v":""},{"$f":"IF(OR(SD!C618=\"\"),\"\",SD!C618)","v":""},{"$f":"IF(OR(SD!E618=\"\"),\"\",SD!E618)","v":""},{"$f":"IF(OR(SD!G618=\"\"),\"\",SD!G618)","v":""},{"$f":"IF(OR(SD!I618=\"\"),\"\",SD!I618)","v":""},{"$f":"IF(OR(SD!O618=\"\"),\"\",SD!O618)","v":""},{"$f":"IF(OR(SD!V618=\"\"),\"\",SD!V618)","v":""},{"$f":"IF(SD!D618=\"\",\"\",SD!D618)","v":""}]
[null,{"$f":"IF(E623=\"\",\"\",ROWS($B$6:B623))","v":""},{"$f":"IF(OR(SD!A619=\"\"),\"\",SD!A619)","v":""},{"$f":"IF(OR(SD!C619=\"\"),\"\",SD!C619)","v":""},{"$f":"IF(OR(SD!E619=\"\"),\"\",SD!E619)","v":""},{"$f":"IF(OR(SD!G619=\"\"),\"\",SD!G619)","v":""},{"$f":"IF(OR(SD!I619=\"\"),\"\",SD!I619)","v":""},{"$f":"IF(OR(SD!O619=\"\"),\"\",SD!O619)","v":""},{"$f":"IF(OR(SD!V619=\"\"),\"\",SD!V619)","v":""},{"$f":"IF(SD!D619=\"\",\"\",SD!D619)","v":""}]
[null,{"$f":"IF(E624=\"\",\"\",ROWS($B$6:B624))","v":""},{"$f":"IF(OR(SD!A620=\"\"),\"\",SD!A620)","v":""},{"$f":"IF(OR(SD!C620=\"\"),\"\",SD!C620)","v":""},{"$f":"IF(OR(SD!E620=\"\"),\"\",SD!E620)","v":""},{"$f":"IF(OR(SD!G620=\"\"),\"\",SD!G620)","v":""},{"$f":"IF(OR(SD!I620=\"\"),\"\",SD!I620)","v":""},{"$f":"IF(OR(SD!O620=\"\"),\"\",SD!O620)","v":""},{"$f":"IF(OR(SD!V620=\"\"),\"\",SD!V620)","v":""},{"$f":"IF(SD!D620=\"\",\"\",SD!D620)","v":""}]
[null,{"$f":"IF(E625=\"\",\"\",ROWS($B$6:B625))","v":""},{"$f":"IF(OR(SD!A621=\"\"),\"\",SD!A621)","v":""},{"$f":"IF(OR(SD!C621=\"\"),\"\",SD!C621)","v":""},{"$f":"IF(OR(SD!E621=\"\"),\"\",SD!E621)","v":""},{"$f":"IF(OR(SD!G621=\"\"),\"\",SD!G621)","v":""},{"$f":"IF(OR(SD!I621=\"\"),\"\",SD!I621)","v":""},{"$f":"IF(OR(SD!O621=\"\"),\"\",SD!O621)","v":""},{"$f":"IF(OR(SD!V621=\"\"),\"\",SD!V621)","v":""},{"$f":"IF(SD!D621=\"\",\"\",SD!D621)","v":""}]
[null,{"$f":"IF(E626=\"\",\"\",ROWS($B$6:B626))","v":""},{"$f":"IF(OR(SD!A622=\"\"),\"\",SD!A622)","v":""},{"$f":"IF(OR(SD!C622=\"\"),\"\",SD!C622)","v":""},{"$f":"IF(OR(SD!E622=\"\"),\"\",SD!E622)","v":""},{"$f":"IF(OR(SD!G622=\"\"),\"\",SD!G622)","v":""},{"$f":"IF(OR(SD!I622=\"\"),\"\",SD!I622)","v":""},{"$f":"IF(OR(SD!O622=\"\"),\"\",SD!O622)","v":""},{"$f":"IF(OR(SD!V622=\"\"),\"\",SD!V622)","v":""},{"$f":"IF(SD!D622=\"\",\"\",SD!D622)","v":""}]
[null,{"$f":"IF(E627=\"\",\"\",ROWS($B$6:B627))","v":""},{"$f":"IF(OR(SD!A623=\"\"),\"\",SD!A623)","v":""},{"$f":"IF(OR(SD!C623=\"\"),\"\",SD!C623)","v":""},{"$f":"IF(OR(SD!E623=\"\"),\"\",SD!E623)","v":""},{"$f":"IF(OR(SD!G623=\"\"),\"\",SD!G623)","v":""},{"$f":"IF(OR(SD!I623=\"\"),\"\",SD!I623)","v":""},{"$f":"IF(OR(SD!O623=\"\"),\"\",SD!O623)","v":""},{"$f":"IF(OR(SD!V623=\"\"),\"\",SD!V623)","v":""},{"$f":"IF(SD!D623=\"\",\"\",SD!D623)","v":""}]
[null,{"$f":"IF(E628=\"\",\"\",ROWS($B$6:B628))","v":""},{"$f":"IF(OR(SD!A624=\"\"),\"\",SD!A624)","v":""},{"$f":"IF(OR(SD!C624=\"\"),\"\",SD!C624)","v":""},{"$f":"IF(OR(SD!E624=\"\"),\"\",SD!E624)","v":""},{"$f":"IF(OR(SD!G624=\"\"),\"\",SD!G624)","v":""},{"$f":"IF(OR(SD!I624=\"\"),\"\",SD!I624)","v":""},{"$f":"IF(OR(SD!O624=\"\"),\"\",SD!O624)","v":""},{"$f":"IF(OR(SD!V624=\"\"),\"\",SD!V624)","v":""},{"$f":"IF(SD!D624=\"\",\"\",SD!D624)","v":""}]
[null,{"$f":"IF(E629=\"\",\"\",ROWS($B$6:B629))","v":""},{"$f":"IF(OR(SD!A625=\"\"),\"\",SD!A625)","v":""},{"$f":"IF(OR(SD!C625=\"\"),\"\",SD!C625)","v":""},{"$f":"IF(OR(SD!E625=\"\"),\"\",SD!E625)","v":""},{"$f":"IF(OR(SD!G625=\"\"),\"\",SD!G625)","v":""},{"$f":"IF(OR(SD!I625=\"\"),\"\",SD!I625)","v":""},{"$f":"IF(OR(SD!O625=\"\"),\"\",SD!O625)","v":""},{"$f":"IF(OR(SD!V625=\"\"),\"\",SD!V625)","v":""},{"$f":"IF(SD!D625=\"\",\"\",SD!D625)","v":""}]
[null,{"$f":"IF(E630=\"\",\"\",ROWS($B$6:B630))","v":""},{"$f":"IF(OR(SD!A626=\"\"),\"\",SD!A626)","v":""},{"$f":"IF(OR(SD!C626=\"\"),\"\",SD!C626)","v":""},{"$f":"IF(OR(SD!E626=\"\"),\"\",SD!E626)","v":""},{"$f":"IF(OR(SD!G626=\"\"),\"\",SD!G626)","v":""},{"$f":"IF(OR(SD!I626=\"\"),\"\",SD!I626)","v":""},{"$f":"IF(OR(SD!O626=\"\"),\"\",SD!O626)","v":""},{"$f":"IF(OR(SD!V626=\"\"),\"\",SD!V626)","v":""},{"$f":"IF(SD!D626=\"\",\"\",SD!D626)","v":""}]
[null,{"$f":"IF(E631=\"\",\"\",ROWS($B$6:B631))","v":""},{"$f":"IF(OR(SD!A627=\"\"),\"\",SD!A627)","v":""},{"$f":"IF(OR(SD!C627=\"\"),\"\",SD!C627)","v":""},{"$f":"IF(OR(SD!E627=\"\"),\"\",SD!E627)","v":""},{"$f":"IF(OR(SD!G627=\"\"),\"\",SD!G627)","v":""},{"$f":"IF(OR(SD!I627=\"\"),\"\",SD!I627)","v":""},{"$f":"IF(OR(SD!O627=\"\"),\"\",SD!O627)","v":""},{"$f":"IF(OR(SD!V627=\"\"),\"\",SD!V627)","v":""},{"$f":"IF(SD!D627=\"\",\"\",SD!D627)","v":""}]
[null,{"$f":"IF(E632=\"\",\"\",ROWS($B$6:B632))","v":""},{"$f":"IF(OR(SD!A628=\"\"),\"\",SD!A628)","v":""},{"$f":"IF(OR(SD!C628=\"\"),\"\",SD!C628)","v":""},{"$f":"IF(OR(SD!E628=\"\"),\"\",SD!E628)","v":""},{"$f":"IF(OR(SD!G628=\"\"),\"\",SD!G628)","v":""},{"$f":"IF(OR(SD!I628=\"\"),\"\",SD!I628)","v":""},{"$f":"IF(OR(SD!O628=\"\"),\"\",SD!O628)","v":""},{"$f":"IF(OR(SD!V628=\"\"),\"\",SD!V628)","v":""},{"$f":"IF(SD!D628=\"\",\"\",SD!D628)","v":""}]
[null,{"$f":"IF(E633=\"\",\"\",ROWS($B$6:B633))","v":""},{"$f":"IF(OR(SD!A629=\"\"),\"\",SD!A629)","v":""},{"$f":"IF(OR(SD!C629=\"\"),\"\",SD!C629)","v":""},{"$f":"IF(OR(SD!E629=\"\"),\"\",SD!E629)","v":""},{"$f":"IF(OR(SD!G629=\"\"),\"\",SD!G629)","v":""},{"$f":"IF(OR(SD!I629=\"\"),\"\",SD!I629)","v":""},{"$f":"IF(OR(SD!O629=\"\"),\"\",SD!O629)","v":""},{"$f":"IF(OR(SD!V629=\"\"),\"\",SD!V629)","v":""},{"$f":"IF(SD!D629=\"\",\"\",SD!D629)","v":""}]
[null,{"$f":"IF(E634=\"\",\"\",ROWS($B$6:B634))","v":""},{"$f":"IF(OR(SD!A630=\"\"),\"\",SD!A630)","v":""},{"$f":"IF(OR(SD!C630=\"\"),\"\",SD!C630)","v":""},{"$f":"IF(OR(SD!E630=\"\"),\"\",SD!E630)","v":""},{"$f":"IF(OR(SD!G630=\"\"),\"\",SD!G630)","v":""},{"$f":"IF(OR(SD!I630=\"\"),\"\",SD!I630)","v":""},{"$f":"IF(OR(SD!O630=\"\"),\"\",SD!O630)","v":""},{"$f":"IF(OR(SD!V630=\"\"),\"\",SD!V630)","v":""},{"$f":"IF(SD!D630=\"\",\"\",SD!D630)","v":""}]
[null,{"$f":"IF(E635=\"\",\"\",ROWS($B$6:B635))","v":""},{"$f":"IF(OR(SD!A631=\"\"),\"\",SD!A631)","v":""},{"$f":"IF(OR(SD!C631=\"\"),\"\",SD!C631)","v":""},{"$f":"IF(OR(SD!E631=\"\"),\"\",SD!E631)","v":""},{"$f":"IF(OR(SD!G631=\"\"),\"\",SD!G631)","v":""},{"$f":"IF(OR(SD!I631=\"\"),\"\",SD!I631)","v":""},{"$f":"IF(OR(SD!O631=\"\"),\"\",SD!O631)","v":""},{"$f":"IF(OR(SD!V631=\"\"),\"\",SD!V631)","v":""},{"$f":"IF(SD!D631=\"\",\"\",SD!D631)","v":""}]
[null,{"$f":"IF(E636=\"\",\"\",ROWS($B$6:B636))","v":""},{"$f":"IF(OR(SD!A632=\"\"),\"\",SD!A632)","v":""},{"$f":"IF(OR(SD!C632=\"\"),\"\",SD!C632)","v":""},{"$f":"IF(OR(SD!E632=\"\"),\"\",SD!E632)","v":""},{"$f":"IF(OR(SD!G632=\"\"),\"\",SD!G632)","v":""},{"$f":"IF(OR(SD!I632=\"\"),\"\",SD!I632)","v":""},{"$f":"IF(OR(SD!O632=\"\"),\"\",SD!O632)","v":""},{"$f":"IF(OR(SD!V632=\"\"),\"\",SD!V632)","v":""},{"$f":"IF(SD!D632=\"\",\"\",SD!D632)","v":""}]
[null,{"$f":"IF(E637=\"\",\"\",ROWS($B$6:B637))","v":""},{"$f":"IF(OR(SD!A633=\"\"),\"\",SD!A633)","v":""},{"$f":"IF(OR(SD!C633=\"\"),\"\",SD!C633)","v":""},{"$f":"IF(OR(SD!E633=\"\"),\"\",SD!E633)","v":""},{"$f":"IF(OR(SD!G633=\"\"),\"\",SD!G633)","v":""},{"$f":"IF(OR(SD!I633=\"\"),\"\",SD!I633)","v":""},{"$f":"IF(OR(SD!O633=\"\"),\"\",SD!O633)","v":""},{"$f":"IF(OR(SD!V633=\"\"),\"\",SD!V633)","v":""},{"$f":"IF(SD!D633=\"\",\"\",SD!D633)","v":""}]
[null,{"$f":"IF(E638=\"\",\"\",ROWS($B$6:B638))","v":""},{"$f":"IF(OR(SD!A634=\"\"),\"\",SD!A634)","v":""},{"$f":"IF(OR(SD!C634=\"\"),\"\",SD!C634)","v":""},{"$f":"IF(OR(SD!E634=\"\"),\"\",SD!E634)","v":""},{"$f":"IF(OR(SD!G634=\"\"),\"\",SD!G634)","v":""},{"$f":"IF(OR(SD!I634=\"\"),\"\",SD!I634)","v":""},{"$f":"IF(OR(SD!O634=\"\"),\"\",SD!O634)","v":""},{"$f":"IF(OR(SD!V634=\"\"),\"\",SD!V634)","v":""},{"$f":"IF(SD!D634=\"\",\"\",SD!D634)","v":""}]
[null,{"$f":"IF(E639=\"\",\"\",ROWS($B$6:B639))","v":""},{"$f":"IF(OR(SD!A635=\"\"),\"\",SD!A635)","v":""},{"$f":"IF(OR(SD!C635=\"\"),\"\",SD!C635)","v":""},{"$f":"IF(OR(SD!E635=\"\"),\"\",SD!E635)","v":""},{"$f":"IF(OR(SD!G635=\"\"),\"\",SD!G635)","v":""},{"$f":"IF(OR(SD!I635=\"\"),\"\",SD!I635)","v":""},{"$f":"IF(OR(SD!O635=\"\"),\"\",SD!O635)","v":""},{"$f":"IF(OR(SD!V635=\"\"),\"\",SD!V635)","v":""},{"$f":"IF(SD!D635=\"\",\"\",SD!D635)","v":""}]
[null,{"$f":"IF(E640=\"\",\"\",ROWS($B$6:B640))","v":""},{"$f":"IF(OR(SD!A636=\"\"),\"\",SD!A636)","v":""},{"$f":"IF(OR(SD!C636=\"\"),\"\",SD!C636)","v":""},{"$f":"IF(OR(SD!E636=\"\"),\"\",SD!E636)","v":""},{"$f":"IF(OR(SD!G636=\"\"),\"\",SD!G636)","v":""},{"$f":"IF(OR(SD!I636=\"\"),\"\",SD!I636)","v":""},{"$f":"IF(OR(SD!O636=\"\"),\"\",SD!O636)","v":""},{"$f":"IF(OR(SD!V636=\"\"),\"\",SD!V636)","v":""},{"$f":"IF(SD!D636=\"\",\"\",SD!D636)","v":""}]
[null,{"$f":"IF(E641=\"\",\"\",ROWS($B$6:B641))","v":""},{"$f":"IF(OR(SD!A637=\"\"),\"\",SD!A637)","v":""},{"$f":"IF(OR(SD!C637=\"\"),\"\",SD!C637)","v":""},{"$f":"IF(OR(SD!E637=\"\"),\"\",SD!E637)","v":""},{"$f":"IF(OR(SD!G637=\"\"),\"\",SD!G637)","v":""},{"$f":"IF(OR(SD!I637=\"\"),\"\",SD!I637)","v":""},{"$f":"IF(OR(SD!O637=\"\"),\"\",SD!O637)","v":""},{"$f":"IF(OR(SD!V637=\"\"),\"\",SD!V637)","v":""},{"$f":"IF(SD!D637=\"\",\"\",SD!D637)","v":""}]
[null,{"$f":"IF(E642=\"\",\"\",ROWS($B$6:B642))","v":""},{"$f":"IF(OR(SD!A638=\"\"),\"\",SD!A638)","v":""},{"$f":"IF(OR(SD!C638=\"\"),\"\",SD!C638)","v":""},{"$f":"IF(OR(SD!E638=\"\"),\"\",SD!E638)","v":""},{"$f":"IF(OR(SD!G638=\"\"),\"\",SD!G638)","v":""},{"$f":"IF(OR(SD!I638=\"\"),\"\",SD!I638)","v":""},{"$f":"IF(OR(SD!O638=\"\"),\"\",SD!O638)","v":""},{"$f":"IF(OR(SD!V638=\"\"),\"\",SD!V638)","v":""},{"$f":"IF(SD!D638=\"\",\"\",SD!D638)","v":""}]
[null,{"$f":"IF(E643=\"\",\"\",ROWS($B$6:B643))","v":""},{"$f":"IF(OR(SD!A639=\"\"),\"\",SD!A639)","v":""},{"$f":"IF(OR(SD!C639=\"\"),\"\",SD!C639)","v":""},{"$f":"IF(OR(SD!E639=\"\"),\"\",SD!E639)","v":""},{"$f":"IF(OR(SD!G639=\"\"),\"\",SD!G639)","v":""},{"$f":"IF(OR(SD!I639=\"\"),\"\",SD!I639)","v":""},{"$f":"IF(OR(SD!O639=\"\"),\"\",SD!O639)","v":""},{"$f":"IF(OR(SD!V639=\"\"),\"\",SD!V639)","v":""},{"$f":"IF(SD!D639=\"\",\"\",SD!D639)","v":""}]
[null,{"$f":"IF(E644=\"\",\"\",ROWS($B$6:B644))","v":""},{"$f":"IF(OR(SD!A640=\"\"),\"\",SD!A640)","v":""},{"$f":"IF(OR(SD!C640=\"\"),\"\",SD!C640)","v":""},{"$f":"IF(OR(SD!E640=\"\"),\"\",SD!E640)","v":""},{"$f":"IF(OR(SD!G640=\"\"),\"\",SD!G640)","v":""},{"$f":"IF(OR(SD!I640=\"\"),\"\",SD!I640)","v":""},{"$f":"IF(OR(SD!O640=\"\"),\"\",SD!O640)","v":""},{"$f":"IF(OR(SD!V640=\"\"),\"\",SD!V640)","v":""},{"$f":"IF(SD!D640=\"\",\"\",SD!D640)","v":""}]
[null,{"$f":"IF(E645=\"\",\"\",ROWS($B$6:B645))","v":""},{"$f":"IF(OR(SD!A641=\"\"),\"\",SD!A641)","v":""},{"$f":"IF(OR(SD!C641=\"\"),\"\",SD!C641)","v":""},{"$f":"IF(OR(SD!E641=\"\"),\"\",SD!E641)","v":""},{"$f":"IF(OR(SD!G641=\"\"),\"\",SD!G641)","v":""},{"$f":"IF(OR(SD!I641=\"\"),\"\",SD!I641)","v":""},{"$f":"IF(OR(SD!O641=\"\"),\"\",SD!O641)","v":""},{"$f":"IF(OR(SD!V641=\"\"),\"\",SD!V641)","v":""},{"$f":"IF(SD!D641=\"\",\"\",SD!D641)","v":""}]
[null,{"$f":"IF(E646=\"\",\"\",ROWS($B$6:B646))","v":""},{"$f":"IF(OR(SD!A642=\"\"),\"\",SD!A642)","v":""},{"$f":"IF(OR(SD!C642=\"\"),\"\",SD!C642)","v":""},{"$f":"IF(OR(SD!E642=\"\"),\"\",SD!E642)","v":""},{"$f":"IF(OR(SD!G642=\"\"),\"\",SD!G642)","v":""},{"$f":"IF(OR(SD!I642=\"\"),\"\",SD!I642)","v":""},{"$f":"IF(OR(SD!O642=\"\"),\"\",SD!O642)","v":""},{"$f":"IF(OR(SD!V642=\"\"),\"\",SD!V642)","v":""},{"$f":"IF(SD!D642=\"\",\"\",SD!D642)","v":""}]
[null,{"$f":"IF(E647=\"\",\"\",ROWS($B$6:B647))","v":""},{"$f":"IF(OR(SD!A643=\"\"),\"\",SD!A643)","v":""},{"$f":"IF(OR(SD!C643=\"\"),\"\",SD!C643)","v":""},{"$f":"IF(OR(SD!E643=\"\"),\"\",SD!E643)","v":""},{"$f":"IF(OR(SD!G643=\"\"),\"\",SD!G643)","v":""},{"$f":"IF(OR(SD!I643=\"\"),\"\",SD!I643)","v":""},{"$f":"IF(OR(SD!O643=\"\"),\"\",SD!O643)","v":""},{"$f":"IF(OR(SD!V643=\"\"),\"\",SD!V643)","v":""},{"$f":"IF(SD!D643=\"\",\"\",SD!D643)","v":""}]
[null,{"$f":"IF(E648=\"\",\"\",ROWS($B$6:B648))","v":""},{"$f":"IF(OR(SD!A644=\"\"),\"\",SD!A644)","v":""},{"$f":"IF(OR(SD!C644=\"\"),\"\",SD!C644)","v":""},{"$f":"IF(OR(SD!E644=\"\"),\"\",SD!E644)","v":""},{"$f":"IF(OR(SD!G644=\"\"),\"\",SD!G644)","v":""},{"$f":"IF(OR(SD!I644=\"\"),\"\",SD!I644)","v":""},{"$f":"IF(OR(SD!O644=\"\"),\"\",SD!O644)","v":""},{"$f":"IF(OR(SD!V644=\"\"),\"\",SD!V644)","v":""},{"$f":"IF(SD!D644=\"\",\"\",SD!D644)","v":""}]
[null,{"$f":"IF(E649=\"\",\"\",ROWS($B$6:B649))","v":""},{"$f":"IF(OR(SD!A645=\"\"),\"\",SD!A645)","v":""},{"$f":"IF(OR(SD!C645=\"\"),\"\",SD!C645)","v":""},{"$f":"IF(OR(SD!E645=\"\"),\"\",SD!E645)","v":""},{"$f":"IF(OR(SD!G645=\"\"),\"\",SD!G645)","v":""},{"$f":"IF(OR(SD!I645=\"\"),\"\",SD!I645)","v":""},{"$f":"IF(OR(SD!O645=\"\"),\"\",SD!O645)","v":""},{"$f":"IF(OR(SD!V645=\"\"),\"\",SD!V645)","v":""},{"$f":"IF(SD!D645=\"\",\"\",SD!D645)","v":""}]
[null,{"$f":"IF(E650=\"\",\"\",ROWS($B$6:B650))","v":""},{"$f":"IF(OR(SD!A646=\"\"),\"\",SD!A646)","v":""},{"$f":"IF(OR(SD!C646=\"\"),\"\",SD!C646)","v":""},{"$f":"IF(OR(SD!E646=\"\"),\"\",SD!E646)","v":""},{"$f":"IF(OR(SD!G646=\"\"),\"\",SD!G646)","v":""},{"$f":"IF(OR(SD!I646=\"\"),\"\",SD!I646)","v":""},{"$f":"IF(OR(SD!O646=\"\"),\"\",SD!O646)","v":""},{"$f":"IF(OR(SD!V646=\"\"),\"\",SD!V646)","v":""},{"$f":"IF(SD!D646=\"\",\"\",SD!D646)","v":""}]
[null,{"$f":"IF(E651=\"\",\"\",ROWS($B$6:B651))","v":""},{"$f":"IF(OR(SD!A647=\"\"),\"\",SD!A647)","v":""},{"$f":"IF(OR(SD!C647=\"\"),\"\",SD!C647)","v":""},{"$f":"IF(OR(SD!E647=\"\"),\"\",SD!E647)","v":""},{"$f":"IF(OR(SD!G647=\"\"),\"\",SD!G647)","v":""},{"$f":"IF(OR(SD!I647=\"\"),\"\",SD!I647)","v":""},{"$f":"IF(OR(SD!O647=\"\"),\"\",SD!O647)","v":""},{"$f":"IF(OR(SD!V647=\"\"),\"\",SD!V647)","v":""},{"$f":"IF(SD!D647=\"\",\"\",SD!D647)","v":""}]
[null,{"$f":"IF(E652=\"\",\"\",ROWS($B$6:B652))","v":""},{"$f":"IF(OR(SD!A648=\"\"),\"\",SD!A648)","v":""},{"$f":"IF(OR(SD!C648=\"\"),\"\",SD!C648)","v":""},{"$f":"IF(OR(SD!E648=\"\"),\"\",SD!E648)","v":""},{"$f":"IF(OR(SD!G648=\"\"),\"\",SD!G648)","v":""},{"$f":"IF(OR(SD!I648=\"\"),\"\",SD!I648)","v":""},{"$f":"IF(OR(SD!O648=\"\"),\"\",SD!O648)","v":""},{"$f":"IF(OR(SD!V648=\"\"),\"\",SD!V648)","v":""},{"$f":"IF(SD!D648=\"\",\"\",SD!D648)","v":""}]
[null,{"$f":"IF(E653=\"\",\"\",ROWS($B$6:B653))","v":""},{"$f":"IF(OR(SD!A649=\"\"),\"\",SD!A649)","v":""},{"$f":"IF(OR(SD!C649=\"\"),\"\",SD!C649)","v":""},{"$f":"IF(OR(SD!E649=\"\"),\"\",SD!E649)","v":""},{"$f":"IF(OR(SD!G649=\"\"),\"\",SD!G649)","v":""},{"$f":"IF(OR(SD!I649=\"\"),\"\",SD!I649)","v":""},{"$f":"IF(OR(SD!O649=\"\"),\"\",SD!O649)","v":""},{"$f":"IF(OR(SD!V649=\"\"),\"\",SD!V649)","v":""},{"$f":"IF(SD!D649=\"\",\"\",SD!D649)","v":""}]
[null,{"$f":"IF(E654=\"\",\"\",ROWS($B$6:B654))","v":""},{"$f":"IF(OR(SD!A650=\"\"),\"\",SD!A650)","v":""},{"$f":"IF(OR(SD!C650=\"\"),\"\",SD!C650)","v":""},{"$f":"IF(OR(SD!E650=\"\"),\"\",SD!E650)","v":""},{"$f":"IF(OR(SD!G650=\"\"),\"\",SD!G650)","v":""},{"$f":"IF(OR(SD!I650=\"\"),\"\",SD!I650)","v":""},{"$f":"IF(OR(SD!O650=\"\"),\"\",SD!O650)","v":""},{"$f":"IF(OR(SD!V650=\"\"),\"\",SD!V650)","v":""},{"$f":"IF(SD!D650=\"\",\"\",SD!D650)","v":""}]
[null,{"$f":"IF(E655=\"\",\"\",ROWS($B$6:B655))","v":""},{"$f":"IF(OR(SD!A651=\"\"),\"\",SD!A651)","v":""},{"$f":"IF(OR(SD!C651=\"\"),\"\",SD!C651)","v":""},{"$f":"IF(OR(SD!E651=\"\"),\"\",SD!E651)","v":""},{"$f":"IF(OR(SD!G651=\"\"),\"\",SD!G651)","v":""},{"$f":"IF(OR(SD!I651=\"\"),\"\",SD!I651)","v":""},{"$f":"IF(OR(SD!O651=\"\"),\"\",SD!O651)","v":""},{"$f":"IF(OR(SD!V651=\"\"),\"\",SD!V651)","v":""},{"$f":"IF(SD!D651=\"\",\"\",SD!D651)","v":""}]
[null,{"$f":"IF(E656=\"\",\"\",ROWS($B$6:B656))","v":""},{"$f":"IF(OR(SD!A652=\"\"),\"\",SD!A652)","v":""},{"$f":"IF(OR(SD!C652=\"\"),\"\",SD!C652)","v":""},{"$f":"IF(OR(SD!E652=\"\"),\"\",SD!E652)","v":""},{"$f":"IF(OR(SD!G652=\"\"),\"\",SD!G652)","v":""},{"$f":"IF(OR(SD!I652=\"\"),\"\",SD!I652)","v":""},{"$f":"IF(OR(SD!O652=\"\"),\"\",SD!O652)","v":""},{"$f":"IF(OR(SD!V652=\"\"),\"\",SD!V652)","v":""},{"$f":"IF(SD!D652=\"\",\"\",SD!D652)","v":""}]
[null,{"$f":"IF(E657=\"\",\"\",ROWS($B$6:B657))","v":""},{"$f":"IF(OR(SD!A653=\"\"),\"\",SD!A653)","v":""},{"$f":"IF(OR(SD!C653=\"\"),\"\",SD!C653)","v":""},{"$f":"IF(OR(SD!E653=\"\"),\"\",SD!E653)","v":""},{"$f":"IF(OR(SD!G653=\"\"),\"\",SD!G653)","v":""},{"$f":"IF(OR(SD!I653=\"\"),\"\",SD!I653)","v":""},{"$f":"IF(OR(SD!O653=\"\"),\"\",SD!O653)","v":""},{"$f":"IF(OR(SD!V653=\"\"),\"\",SD!V653)","v":""},{"$f":"IF(SD!D653=\"\",\"\",SD!D653)","v":""}]
[null,{"$f":"IF(E658=\"\",\"\",ROWS($B$6:B658))","v":""},{"$f":"IF(OR(SD!A654=\"\"),\"\",SD!A654)","v":""},{"$f":"IF(OR(SD!C654=\"\"),\"\",SD!C654)","v":""},{"$f":"IF(OR(SD!E654=\"\"),\"\",SD!E654)","v":""},{"$f":"IF(OR(SD!G654=\"\"),\"\",SD!G654)","v":""},{"$f":"IF(OR(SD!I654=\"\"),\"\",SD!I654)","v":""},{"$f":"IF(OR(SD!O654=\"\"),\"\",SD!O654)","v":""},{"$f":"IF(OR(SD!V654=\"\"),\"\",SD!V654)","v":""},{"$f":"IF(SD!D654=\"\",\"\",SD!D654)","v":""}]
[null,{"$f":"IF(E659=\"\",\"\",ROWS($B$6:B659))","v":""},{"$f":"IF(OR(SD!A655=\"\"),\"\",SD!A655)","v":""},{"$f":"IF(OR(SD!C655=\"\"),\"\",SD!C655)","v":""},{"$f":"IF(OR(SD!E655=\"\"),\"\",SD!E655)","v":""},{"$f":"IF(OR(SD!G655=\"\"),\"\",SD!G655)","v":""},{"$f":"IF(OR(SD!I655=\"\"),\"\",SD!I655)","v":""},{"$f":"IF(OR(SD!O655=\"\"),\"\",SD!O655)","v":""},{"$f":"IF(OR(SD!V655=\"\"),\"\",SD!V655)","v":""},{"$f":"IF(SD!D655=\"\",\"\",SD!D655)","v":""}]
[null,{"$f":"IF(E660=\"\",\"\",ROWS($B$6:B660))","v":""},{"$f":"IF(OR(SD!A656=\"\"),\"\",SD!A656)","v":""},{"$f":"IF(OR(SD!C656=\"\"),\"\",SD!C656)","v":""},{"$f":"IF(OR(SD!E656=\"\"),\"\",SD!E656)","v":""},{"$f":"IF(OR(SD!G656=\"\"),\"\",SD!G656)","v":""},{"$f":"IF(OR(SD!I656=\"\"),\"\",SD!I656)","v":""},{"$f":"IF(OR(SD!O656=\"\"),\"\",SD!O656)","v":""},{"$f":"IF(OR(SD!V656=\"\"),\"\",SD!V656)","v":""},{"$f":"IF(SD!D656=\"\",\"\",SD!D656)","v":""}]
[null,{"$f":"IF(E661=\"\",\"\",ROWS($B$6:B661))","v":""},{"$f":"IF(OR(SD!A657=\"\"),\"\",SD!A657)","v":""},{"$f":"IF(OR(SD!C657=\"\"),\"\",SD!C657)","v":""},{"$f":"IF(OR(SD!E657=\"\"),\"\",SD!E657)","v":""},{"$f":"IF(OR(SD!G657=\"\"),\"\",SD!G657)","v":""},{"$f":"IF(OR(SD!I657=\"\"),\"\",SD!I657)","v":""},{"$f":"IF(OR(SD!O657=\"\"),\"\",SD!O657)","v":""},{"$f":"IF(OR(SD!V657=\"\"),\"\",SD!V657)","v":""},{"$f":"IF(SD!D657=\"\",\"\",SD!D657)","v":""}]
[null,{"$f":"IF(E662=\"\",\"\",ROWS($B$6:B662))","v":""},{"$f":"IF(OR(SD!A658=\"\"),\"\",SD!A658)","v":""},{"$f":"IF(OR(SD!C658=\"\"),\"\",SD!C658)","v":""},{"$f":"IF(OR(SD!E658=\"\"),\"\",SD!E658)","v":""},{"$f":"IF(OR(SD!G658=\"\"),\"\",SD!G658)","v":""},{"$f":"IF(OR(SD!I658=\"\"),\"\",SD!I658)","v":""},{"$f":"IF(OR(SD!O658=\"\"),\"\",SD!O658)","v":""},{"$f":"IF(OR(SD!V658=\"\"),\"\",SD!V658)","v":""},{"$f":"IF(SD!D658=\"\",\"\",SD!D658)","v":""}]
[null,{"$f":"IF(E663=\"\",\"\",ROWS($B$6:B663))","v":""},{"$f":"IF(OR(SD!A659=\"\"),\"\",SD!A659)","v":""},{"$f":"IF(OR(SD!C659=\"\"),\"\",SD!C659)","v":""},{"$f":"IF(OR(SD!E659=\"\"),\"\",SD!E659)","v":""},{"$f":"IF(OR(SD!G659=\"\"),\"\",SD!G659)","v":""},{"$f":"IF(OR(SD!I659=\"\"),\"\",SD!I659)","v":""},{"$f":"IF(OR(SD!O659=\"\"),\"\",SD!O659)","v":""},{"$f":"IF(OR(SD!V659=\"\"),\"\",SD!V659)","v":""},{"$f":"IF(SD!D659=\"\",\"\",SD!D659)","v":""}]
[null,{"$f":"IF(E664=\"\",\"\",ROWS($B$6:B664))","v":""},{"$f":"IF(OR(SD!A660=\"\"),\"\",SD!A660)","v":""},{"$f":"IF(OR(SD!C660=\"\"),\"\",SD!C660)","v":""},{"$f":"IF(OR(SD!E660=\"\"),\"\",SD!E660)","v":""},{"$f":"IF(OR(SD!G660=\"\"),\"\",SD!G660)","v":""},{"$f":"IF(OR(SD!I660=\"\"),\"\",SD!I660)","v":""},{"$f":"IF(OR(SD!O660=\"\"),\"\",SD!O660)","v":""},{"$f":"IF(OR(SD!V660=\"\"),\"\",SD!V660)","v":""},{"$f":"IF(SD!D660=\"\",\"\",SD!D660)","v":""}]
[null,{"$f":"IF(E665=\"\",\"\",ROWS($B$6:B665))","v":""},{"$f":"IF(OR(SD!A661=\"\"),\"\",SD!A661)","v":""},{"$f":"IF(OR(SD!C661=\"\"),\"\",SD!C661)","v":""},{"$f":"IF(OR(SD!E661=\"\"),\"\",SD!E661)","v":""},{"$f":"IF(OR(SD!G661=\"\"),\"\",SD!G661)","v":""},{"$f":"IF(OR(SD!I661=\"\"),\"\",SD!I661)","v":""},{"$f":"IF(OR(SD!O661=\"\"),\"\",SD!O661)","v":""},{"$f":"IF(OR(SD!V661=\"\"),\"\",SD!V661)","v":""},{"$f":"IF(SD!D661=\"\",\"\",SD!D661)","v":""}]
[null,{"$f":"IF(E666=\"\",\"\",ROWS($B$6:B666))","v":""},{"$f":"IF(OR(SD!A662=\"\"),\"\",SD!A662)","v":""},{"$f":"IF(OR(SD!C662=\"\"),\"\",SD!C662)","v":""},{"$f":"IF(OR(SD!E662=\"\"),\"\",SD!E662)","v":""},{"$f":"IF(OR(SD!G662=\"\"),\"\",SD!G662)","v":""},{"$f":"IF(OR(SD!I662=\"\"),\"\",SD!I662)","v":""},{"$f":"IF(OR(SD!O662=\"\"),\"\",SD!O662)","v":""},{"$f":"IF(OR(SD!V662=\"\"),\"\",SD!V662)","v":""},{"$f":"IF(SD!D662=\"\",\"\",SD!D662)","v":""}]
[null,{"$f":"IF(E667=\"\",\"\",ROWS($B$6:B667))","v":""},{"$f":"IF(OR(SD!A663=\"\"),\"\",SD!A663)","v":""},{"$f":"IF(OR(SD!C663=\"\"),\"\",SD!C663)","v":""},{"$f":"IF(OR(SD!E663=\"\"),\"\",SD!E663)","v":""},{"$f":"IF(OR(SD!G663=\"\"),\"\",SD!G663)","v":""},{"$f":"IF(OR(SD!I663=\"\"),\"\",SD!I663)","v":""},{"$f":"IF(OR(SD!O663=\"\"),\"\",SD!O663)","v":""},{"$f":"IF(OR(SD!V663=\"\"),\"\",SD!V663)","v":""},{"$f":"IF(SD!D663=\"\",\"\",SD!D663)","v":""}]
[null,{"$f":"IF(E668=\"\",\"\",ROWS($B$6:B668))","v":""},{"$f":"IF(OR(SD!A664=\"\"),\"\",SD!A664)","v":""},{"$f":"IF(OR(SD!C664=\"\"),\"\",SD!C664)","v":""},{"$f":"IF(OR(SD!E664=\"\"),\"\",SD!E664)","v":""},{"$f":"IF(OR(SD!G664=\"\"),\"\",SD!G664)","v":""},{"$f":"IF(OR(SD!I664=\"\"),\"\",SD!I664)","v":""},{"$f":"IF(OR(SD!O664=\"\"),\"\",SD!O664)","v":""},{"$f":"IF(OR(SD!V664=\"\"),\"\",SD!V664)","v":""},{"$f":"IF(SD!D664=\"\",\"\",SD!D664)","v":""}]
[null,{"$f":"IF(E669=\"\",\"\",ROWS($B$6:B669))","v":""},{"$f":"IF(OR(SD!A665=\"\"),\"\",SD!A665)","v":""},{"$f":"IF(OR(SD!C665=\"\"),\"\",SD!C665)","v":""},{"$f":"IF(OR(SD!E665=\"\"),\"\",SD!E665)","v":""},{"$f":"IF(OR(SD!G665=\"\"),\"\",SD!G665)","v":""},{"$f":"IF(OR(SD!I665=\"\"),\"\",SD!I665)","v":""},{"$f":"IF(OR(SD!O665=\"\"),\"\",SD!O665)","v":""},{"$f":"IF(OR(SD!V665=\"\"),\"\",SD!V665)","v":""},{"$f":"IF(SD!D665=\"\",\"\",SD!D665)","v":""}]
[null,{"$f":"IF(E670=\"\",\"\",ROWS($B$6:B670))","v":""},{"$f":"IF(OR(SD!A666=\"\"),\"\",SD!A666)","v":""},{"$f":"IF(OR(SD!C666=\"\"),\"\",SD!C666)","v":""},{"$f":"IF(OR(SD!E666=\"\"),\"\",SD!E666)","v":""},{"$f":"IF(OR(SD!G666=\"\"),\"\",SD!G666)","v":""},{"$f":"IF(OR(SD!I666=\"\"),\"\",SD!I666)","v":""},{"$f":"IF(OR(SD!O666=\"\"),\"\",SD!O666)","v":""},{"$f":"IF(OR(SD!V666=\"\"),\"\",SD!V666)","v":""},{"$f":"IF(SD!D666=\"\",\"\",SD!D666)","v":""}]
[null,{"$f":"IF(E671=\"\",\"\",ROWS($B$6:B671))","v":""},{"$f":"IF(OR(SD!A667=\"\"),\"\",SD!A667)","v":""},{"$f":"IF(OR(SD!C667=\"\"),\"\",SD!C667)","v":""},{"$f":"IF(OR(SD!E667=\"\"),\"\",SD!E667)","v":""},{"$f":"IF(OR(SD!G667=\"\"),\"\",SD!G667)","v":""},{"$f":"IF(OR(SD!I667=\"\"),\"\",SD!I667)","v":""},{"$f":"IF(OR(SD!O667=\"\"),\"\",SD!O667)","v":""},{"$f":"IF(OR(SD!V667=\"\"),\"\",SD!V667)","v":""},{"$f":"IF(SD!D667=\"\",\"\",SD!D667)","v":""}]
[null,{"$f":"IF(E672=\"\",\"\",ROWS($B$6:B672))","v":""},{"$f":"IF(OR(SD!A668=\"\"),\"\",SD!A668)","v":""},{"$f":"IF(OR(SD!C668=\"\"),\"\",SD!C668)","v":""},{"$f":"IF(OR(SD!E668=\"\"),\"\",SD!E668)","v":""},{"$f":"IF(OR(SD!G668=\"\"),\"\",SD!G668)","v":""},{"$f":"IF(OR(SD!I668=\"\"),\"\",SD!I668)","v":""},{"$f":"IF(OR(SD!O668=\"\"),\"\",SD!O668)","v":""},{"$f":"IF(OR(SD!V668=\"\"),\"\",SD!V668)","v":""},{"$f":"IF(SD!D668=\"\",\"\",SD!D668)","v":""}]
[null,{"$f":"IF(E673=\"\",\"\",ROWS($B$6:B673))","v":""},{"$f":"IF(OR(SD!A669=\"\"),\"\",SD!A669)","v":""},{"$f":"IF(OR(SD!C669=\"\"),\"\",SD!C669)","v":""},{"$f":"IF(OR(SD!E669=\"\"),\"\",SD!E669)","v":""},{"$f":"IF(OR(SD!G669=\"\"),\"\",SD!G669)","v":""},{"$f":"IF(OR(SD!I669=\"\"),\"\",SD!I669)","v":""},{"$f":"IF(OR(SD!O669=\"\"),\"\",SD!O669)","v":""},{"$f":"IF(OR(SD!V669=\"\"),\"\",SD!V669)","v":""},{"$f":"IF(SD!D669=\"\",\"\",SD!D669)","v":""}]
[null,{"$f":"IF(E674=\"\",\"\",ROWS($B$6:B674))","v":""},{"$f":"IF(OR(SD!A670=\"\"),\"\",SD!A670)","v":""},{"$f":"IF(OR(SD!C670=\"\"),\"\",SD!C670)","v":""},{"$f":"IF(OR(SD!E670=\"\"),\"\",SD!E670)","v":""},{"$f":"IF(OR(SD!G670=\"\"),\"\",SD!G670)","v":""},{"$f":"IF(OR(SD!I670=\"\"),\"\",SD!I670)","v":""},{"$f":"IF(OR(SD!O670=\"\"),\"\",SD!O670)","v":""},{"$f":"IF(OR(SD!V670=\"\"),\"\",SD!V670)","v":""},{"$f":"IF(SD!D670=\"\",\"\",SD!D670)","v":""}]
[null,{"$f":"IF(E675=\"\",\"\",ROWS($B$6:B675))","v":""},{"$f":"IF(OR(SD!A671=\"\"),\"\",SD!A671)","v":""},{"$f":"IF(OR(SD!C671=\"\"),\"\",SD!C671)","v":""},{"$f":"IF(OR(SD!E671=\"\"),\"\",SD!E671)","v":""},{"$f":"IF(OR(SD!G671=\"\"),\"\",SD!G671)","v":""},{"$f":"IF(OR(SD!I671=\"\"),\"\",SD!I671)","v":""},{"$f":"IF(OR(SD!O671=\"\"),\"\",SD!O671)","v":""},{"$f":"IF(OR(SD!V671=\"\"),\"\",SD!V671)","v":""},{"$f":"IF(SD!D671=\"\",\"\",SD!D671)","v":""}]
[null,{"$f":"IF(E676=\"\",\"\",ROWS($B$6:B676))","v":""},{"$f":"IF(OR(SD!A672=\"\"),\"\",SD!A672)","v":""},{"$f":"IF(OR(SD!C672=\"\"),\"\",SD!C672)","v":""},{"$f":"IF(OR(SD!E672=\"\"),\"\",SD!E672)","v":""},{"$f":"IF(OR(SD!G672=\"\"),\"\",SD!G672)","v":""},{"$f":"IF(OR(SD!I672=\"\"),\"\",SD!I672)","v":""},{"$f":"IF(OR(SD!O672=\"\"),\"\",SD!O672)","v":""},{"$f":"IF(OR(SD!V672=\"\"),\"\",SD!V672)","v":""},{"$f":"IF(SD!D672=\"\",\"\",SD!D672)","v":""}]
[null,{"$f":"IF(E677=\"\",\"\",ROWS($B$6:B677))","v":""},{"$f":"IF(OR(SD!A673=\"\"),\"\",SD!A673)","v":""},{"$f":"IF(OR(SD!C673=\"\"),\"\",SD!C673)","v":""},{"$f":"IF(OR(SD!E673=\"\"),\"\",SD!E673)","v":""},{"$f":"IF(OR(SD!G673=\"\"),\"\",SD!G673)","v":""},{"$f":"IF(OR(SD!I673=\"\"),\"\",SD!I673)","v":""},{"$f":"IF(OR(SD!O673=\"\"),\"\",SD!O673)","v":""},{"$f":"IF(OR(SD!V673=\"\"),\"\",SD!V673)","v":""},{"$f":"IF(SD!D673=\"\",\"\",SD!D673)","v":""}]
[null,{"$f":"IF(E678=\"\",\"\",ROWS($B$6:B678))","v":""},{"$f":"IF(OR(SD!A674=\"\"),\"\",SD!A674)","v":""},{"$f":"IF(OR(SD!C674=\"\"),\"\",SD!C674)","v":""},{"$f":"IF(OR(SD!E674=\"\"),\"\",SD!E674)","v":""},{"$f":"IF(OR(SD!G674=\"\"),\"\",SD!G674)","v":""},{"$f":"IF(OR(SD!I674=\"\"),\"\",SD!I674)","v":""},{"$f":"IF(OR(SD!O674=\"\"),\"\",SD!O674)","v":""},{"$f":"IF(OR(SD!V674=\"\"),\"\",SD!V674)","v":""},{"$f":"IF(SD!D674=\"\",\"\",SD!D674)","v":""}]
[null,{"$f":"IF(E679=\"\",\"\",ROWS($B$6:B679))","v":""},{"$f":"IF(OR(SD!A675=\"\"),\"\",SD!A675)","v":""},{"$f":"IF(OR(SD!C675=\"\"),\"\",SD!C675)","v":""},{"$f":"IF(OR(SD!E675=\"\"),\"\",SD!E675)","v":""},{"$f":"IF(OR(SD!G675=\"\"),\"\",SD!G675)","v":""},{"$f":"IF(OR(SD!I675=\"\"),\"\",SD!I675)","v":""},{"$f":"IF(OR(SD!O675=\"\"),\"\",SD!O675)","v":""},{"$f":"IF(OR(SD!V675=\"\"),\"\",SD!V675)","v":""},{"$f":"IF(SD!D675=\"\",\"\",SD!D675)","v":""}]
[null,{"$f":"IF(E680=\"\",\"\",ROWS($B$6:B680))","v":""},{"$f":"IF(OR(SD!A676=\"\"),\"\",SD!A676)","v":""},{"$f":"IF(OR(SD!C676=\"\"),\"\",SD!C676)","v":""},{"$f":"IF(OR(SD!E676=\"\"),\"\",SD!E676)","v":""},{"$f":"IF(OR(SD!G676=\"\"),\"\",SD!G676)","v":""},{"$f":"IF(OR(SD!I676=\"\"),\"\",SD!I676)","v":""},{"$f":"IF(OR(SD!O676=\"\"),\"\",SD!O676)","v":""},{"$f":"IF(OR(SD!V676=\"\"),\"\",SD!V676)","v":""},{"$f":"IF(SD!D676=\"\",\"\",SD!D676)","v":""}]
[null,{"$f":"IF(E681=\"\",\"\",ROWS($B$6:B681))","v":""},{"$f":"IF(OR(SD!A677=\"\"),\"\",SD!A677)","v":""},{"$f":"IF(OR(SD!C677=\"\"),\"\",SD!C677)","v":""},{"$f":"IF(OR(SD!E677=\"\"),\"\",SD!E677)","v":""},{"$f":"IF(OR(SD!G677=\"\"),\"\",SD!G677)","v":""},{"$f":"IF(OR(SD!I677=\"\"),\"\",SD!I677)","v":""},{"$f":"IF(OR(SD!O677=\"\"),\"\",SD!O677)","v":""},{"$f":"IF(OR(SD!V677=\"\"),\"\",SD!V677)","v":""},{"$f":"IF(SD!D677=\"\",\"\",SD!D677)","v":""}]
[null,{"$f":"IF(E682=\"\",\"\",ROWS($B$6:B682))","v":""},{"$f":"IF(OR(SD!A678=\"\"),\"\",SD!A678)","v":""},{"$f":"IF(OR(SD!C678=\"\"),\"\",SD!C678)","v":""},{"$f":"IF(OR(SD!E678=\"\"),\"\",SD!E678)","v":""},{"$f":"IF(OR(SD!G678=\"\"),\"\",SD!G678)","v":""},{"$f":"IF(OR(SD!I678=\"\"),\"\",SD!I678)","v":""},{"$f":"IF(OR(SD!O678=\"\"),\"\",SD!O678)","v":""},{"$f":"IF(OR(SD!V678=\"\"),\"\",SD!V678)","v":""},{"$f":"IF(SD!D678=\"\",\"\",SD!D678)","v":""}]
[null,{"$f":"IF(E683=\"\",\"\",ROWS($B$6:B683))","v":""},{"$f":"IF(OR(SD!A679=\"\"),\"\",SD!A679)","v":""},{"$f":"IF(OR(SD!C679=\"\"),\"\",SD!C679)","v":""},{"$f":"IF(OR(SD!E679=\"\"),\"\",SD!E679)","v":""},{"$f":"IF(OR(SD!G679=\"\"),\"\",SD!G679)","v":""},{"$f":"IF(OR(SD!I679=\"\"),\"\",SD!I679)","v":""},{"$f":"IF(OR(SD!O679=\"\"),\"\",SD!O679)","v":""},{"$f":"IF(OR(SD!V679=\"\"),\"\",SD!V679)","v":""},{"$f":"IF(SD!D679=\"\",\"\",SD!D679)","v":""}]
[null,{"$f":"IF(E684=\"\",\"\",ROWS($B$6:B684))","v":""},{"$f":"IF(OR(SD!A680=\"\"),\"\",SD!A680)","v":""},{"$f":"IF(OR(SD!C680=\"\"),\"\",SD!C680)","v":""},{"$f":"IF(OR(SD!E680=\"\"),\"\",SD!E680)","v":""},{"$f":"IF(OR(SD!G680=\"\"),\"\",SD!G680)","v":""},{"$f":"IF(OR(SD!I680=\"\"),\"\",SD!I680)","v":""},{"$f":"IF(OR(SD!O680=\"\"),\"\",SD!O680)","v":""},{"$f":"IF(OR(SD!V680=\"\"),\"\",SD!V680)","v":""},{"$f":"IF(SD!D680=\"\",\"\",SD!D680)","v":""}]
[null,{"$f":"IF(E685=\"\",\"\",ROWS($B$6:B685))","v":""},{"$f":"IF(OR(SD!A681=\"\"),\"\",SD!A681)","v":""},{"$f":"IF(OR(SD!C681=\"\"),\"\",SD!C681)","v":""},{"$f":"IF(OR(SD!E681=\"\"),\"\",SD!E681)","v":""},{"$f":"IF(OR(SD!G681=\"\"),\"\",SD!G681)","v":""},{"$f":"IF(OR(SD!I681=\"\"),\"\",SD!I681)","v":""},{"$f":"IF(OR(SD!O681=\"\"),\"\",SD!O681)","v":""},{"$f":"IF(OR(SD!V681=\"\"),\"\",SD!V681)","v":""},{"$f":"IF(SD!D681=\"\",\"\",SD!D681)","v":""}]
[null,{"$f":"IF(E686=\"\",\"\",ROWS($B$6:B686))","v":""},{"$f":"IF(OR(SD!A682=\"\"),\"\",SD!A682)","v":""},{"$f":"IF(OR(SD!C682=\"\"),\"\",SD!C682)","v":""},{"$f":"IF(OR(SD!E682=\"\"),\"\",SD!E682)","v":""},{"$f":"IF(OR(SD!G682=\"\"),\"\",SD!G682)","v":""},{"$f":"IF(OR(SD!I682=\"\"),\"\",SD!I682)","v":""},{"$f":"IF(OR(SD!O682=\"\"),\"\",SD!O682)","v":""},{"$f":"IF(OR(SD!V682=\"\"),\"\",SD!V682)","v":""},{"$f":"IF(SD!D682=\"\",\"\",SD!D682)","v":""}]
[null,{"$f":"IF(E687=\"\",\"\",ROWS($B$6:B687))","v":""},{"$f":"IF(OR(SD!A683=\"\"),\"\",SD!A683)","v":""},{"$f":"IF(OR(SD!C683=\"\"),\"\",SD!C683)","v":""},{"$f":"IF(OR(SD!E683=\"\"),\"\",SD!E683)","v":""},{"$f":"IF(OR(SD!G683=\"\"),\"\",SD!G683)","v":""},{"$f":"IF(OR(SD!I683=\"\"),\"\",SD!I683)","v":""},{"$f":"IF(OR(SD!O683=\"\"),\"\",SD!O683)","v":""},{"$f":"IF(OR(SD!V683=\"\"),\"\",SD!V683)","v":""},{"$f":"IF(SD!D683=\"\",\"\",SD!D683)","v":""}]
[null,{"$f":"IF(E688=\"\",\"\",ROWS($B$6:B688))","v":""},{"$f":"IF(OR(SD!A684=\"\"),\"\",SD!A684)","v":""},{"$f":"IF(OR(SD!C684=\"\"),\"\",SD!C684)","v":""},{"$f":"IF(OR(SD!E684=\"\"),\"\",SD!E684)","v":""},{"$f":"IF(OR(SD!G684=\"\"),\"\",SD!G684)","v":""},{"$f":"IF(OR(SD!I684=\"\"),\"\",SD!I684)","v":""},{"$f":"IF(OR(SD!O684=\"\"),\"\",SD!O684)","v":""},{"$f":"IF(OR(SD!V684=\"\"),\"\",SD!V684)","v":""},{"$f":"IF(SD!D684=\"\",\"\",SD!D684)","v":""}]
[null,{"$f":"IF(E689=\"\",\"\",ROWS($B$6:B689))","v":""},{"$f":"IF(OR(SD!A685=\"\"),\"\",SD!A685)","v":""},{"$f":"IF(OR(SD!C685=\"\"),\"\",SD!C685)","v":""},{"$f":"IF(OR(SD!E685=\"\"),\"\",SD!E685)","v":""},{"$f":"IF(OR(SD!G685=\"\"),\"\",SD!G685)","v":""},{"$f":"IF(OR(SD!I685=\"\"),\"\",SD!I685)","v":""},{"$f":"IF(OR(SD!O685=\"\"),\"\",SD!O685)","v":""},{"$f":"IF(OR(SD!V685=\"\"),\"\",SD!V685)","v":""},{"$f":"IF(SD!D685=\"\",\"\",SD!D685)","v":""}]
[null,{"$f":"IF(E690=\"\",\"\",ROWS($B$6:B690))","v":""},{"$f":"IF(OR(SD!A686=\"\"),\"\",SD!A686)","v":""},{"$f":"IF(OR(SD!C686=\"\"),\"\",SD!C686)","v":""},{"$f":"IF(OR(SD!E686=\"\"),\"\",SD!E686)","v":""},{"$f":"IF(OR(SD!G686=\"\"),\"\",SD!G686)","v":""},{"$f":"IF(OR(SD!I686=\"\"),\"\",SD!I686)","v":""},{"$f":"IF(OR(SD!O686=\"\"),\"\",SD!O686)","v":""},{"$f":"IF(OR(SD!V686=\"\"),\"\",SD!V686)","v":""},{"$f":"IF(SD!D686=\"\",\"\",SD!D686)","v":""}]
[null,{"$f":"IF(E691=\"\",\"\",ROWS($B$6:B691))","v":""},{"$f":"IF(OR(SD!A687=\"\"),\"\",SD!A687)","v":""},{"$f":"IF(OR(SD!C687=\"\"),\"\",SD!C687)","v":""},{"$f":"IF(OR(SD!E687=\"\"),\"\",SD!E687)","v":""},{"$f":"IF(OR(SD!G687=\"\"),\"\",SD!G687)","v":""},{"$f":"IF(OR(SD!I687=\"\"),\"\",SD!I687)","v":""},{"$f":"IF(OR(SD!O687=\"\"),\"\",SD!O687)","v":""},{"$f":"IF(OR(SD!V687=\"\"),\"\",SD!V687)","v":""},{"$f":"IF(SD!D687=\"\",\"\",SD!D687)","v":""}]
[null,{"$f":"IF(E692=\"\",\"\",ROWS($B$6:B692))","v":""},{"$f":"IF(OR(SD!A688=\"\"),\"\",SD!A688)","v":""},{"$f":"IF(OR(SD!C688=\"\"),\"\",SD!C688)","v":""},{"$f":"IF(OR(SD!E688=\"\"),\"\",SD!E688)","v":""},{"$f":"IF(OR(SD!G688=\"\"),\"\",SD!G688)","v":""},{"$f":"IF(OR(SD!I688=\"\"),\"\",SD!I688)","v":""},{"$f":"IF(OR(SD!O688=\"\"),\"\",SD!O688)","v":""},{"$f":"IF(OR(SD!V688=\"\"),\"\",SD!V688)","v":""},{"$f":"IF(SD!D688=\"\",\"\",SD!D688)","v":""}]
[null,{"$f":"IF(E693=\"\",\"\",ROWS($B$6:B693))","v":""},{"$f":"IF(OR(SD!A689=\"\"),\"\",SD!A689)","v":""},{"$f":"IF(OR(SD!C689=\"\"),\"\",SD!C689)","v":""},{"$f":"IF(OR(SD!E689=\"\"),\"\",SD!E689)","v":""},{"$f":"IF(OR(SD!G689=\"\"),\"\",SD!G689)","v":""},{"$f":"IF(OR(SD!I689=\"\"),\"\",SD!I689)","v":""},{"$f":"IF(OR(SD!O689=\"\"),\"\",SD!O689)","v":""},{"$f":"IF(OR(SD!V689=\"\"),\"\",SD!V689)","v":""},{"$f":"IF(SD!D689=\"\",\"\",SD!D689)","v":""}]
[null,{"$f":"IF(E694=\"\",\"\",ROWS($B$6:B694))","v":""},{"$f":"IF(OR(SD!A690=\"\"),\"\",SD!A690)","v":""},{"$f":"IF(OR(SD!C690=\"\"),\"\",SD!C690)","v":""},{"$f":"IF(OR(SD!E690=\"\"),\"\",SD!E690)","v":""},{"$f":"IF(OR(SD!G690=\"\"),\"\",SD!G690)","v":""},{"$f":"IF(OR(SD!I690=\"\"),\"\",SD!I690)","v":""},{"$f":"IF(OR(SD!O690=\"\"),\"\",SD!O690)","v":""},{"$f":"IF(OR(SD!V690=\"\"),\"\",SD!V690)","v":""},{"$f":"IF(SD!D690=\"\",\"\",SD!D690)","v":""}]
[null,{"$f":"IF(E695=\"\",\"\",ROWS($B$6:B695))","v":""},{"$f":"IF(OR(SD!A691=\"\"),\"\",SD!A691)","v":""},{"$f":"IF(OR(SD!C691=\"\"),\"\",SD!C691)","v":""},{"$f":"IF(OR(SD!E691=\"\"),\"\",SD!E691)","v":""},{"$f":"IF(OR(SD!G691=\"\"),\"\",SD!G691)","v":""},{"$f":"IF(OR(SD!I691=\"\"),\"\",SD!I691)","v":""},{"$f":"IF(OR(SD!O691=\"\"),\"\",SD!O691)","v":""},{"$f":"IF(OR(SD!V691=\"\"),\"\",SD!V691)","v":""},{"$f":"IF(SD!D691=\"\",\"\",SD!D691)","v":""}]
[null,{"$f":"IF(E696=\"\",\"\",ROWS($B$6:B696))","v":""},{"$f":"IF(OR(SD!A692=\"\"),\"\",SD!A692)","v":""},{"$f":"IF(OR(SD!C692=\"\"),\"\",SD!C692)","v":""},{"$f":"IF(OR(SD!E692=\"\"),\"\",SD!E692)","v":""},{"$f":"IF(OR(SD!G692=\"\"),\"\",SD!G692)","v":""},{"$f":"IF(OR(SD!I692=\"\"),\"\",SD!I692)","v":""},{"$f":"IF(OR(SD!O692=\"\"),\"\",SD!O692)","v":""},{"$f":"IF(OR(SD!V692=\"\"),\"\",SD!V692)","v":""},{"$f":"IF(SD!D692=\"\",\"\",SD!D692)","v":""}]
[null,{"$f":"IF(E697=\"\",\"\",ROWS($B$6:B697))","v":""},{"$f":"IF(OR(SD!A693=\"\"),\"\",SD!A693)","v":""},{"$f":"IF(OR(SD!C693=\"\"),\"\",SD!C693)","v":""},{"$f":"IF(OR(SD!E693=\"\"),\"\",SD!E693)","v":""},{"$f":"IF(OR(SD!G693=\"\"),\"\",SD!G693)","v":""},{"$f":"IF(OR(SD!I693=\"\"),\"\",SD!I693)","v":""},{"$f":"IF(OR(SD!O693=\"\"),\"\",SD!O693)","v":""},{"$f":"IF(OR(SD!V693=\"\"),\"\",SD!V693)","v":""},{"$f":"IF(SD!D693=\"\",\"\",SD!D693)","v":""}]
[null,{"$f":"IF(E698=\"\",\"\",ROWS($B$6:B698))","v":""},{"$f":"IF(OR(SD!A694=\"\"),\"\",SD!A694)","v":""},{"$f":"IF(OR(SD!C694=\"\"),\"\",SD!C694)","v":""},{"$f":"IF(OR(SD!E694=\"\"),\"\",SD!E694)","v":""},{"$f":"IF(OR(SD!G694=\"\"),\"\",SD!G694)","v":""},{"$f":"IF(OR(SD!I694=\"\"),\"\",SD!I694)","v":""},{"$f":"IF(OR(SD!O694=\"\"),\"\",SD!O694)","v":""},{"$f":"IF(OR(SD!V694=\"\"),\"\",SD!V694)","v":""},{"$f":"IF(SD!D694=\"\",\"\",SD!D694)","v":""}]
[null,{"$f":"IF(E699=\"\",\"\",ROWS($B$6:B699))","v":""},{"$f":"IF(OR(SD!A695=\"\"),\"\",SD!A695)","v":""},{"$f":"IF(OR(SD!C695=\"\"),\"\",SD!C695)","v":""},{"$f":"IF(OR(SD!E695=\"\"),\"\",SD!E695)","v":""},{"$f":"IF(OR(SD!G695=\"\"),\"\",SD!G695)","v":""},{"$f":"IF(OR(SD!I695=\"\"),\"\",SD!I695)","v":""},{"$f":"IF(OR(SD!O695=\"\"),\"\",SD!O695)","v":""},{"$f":"IF(OR(SD!V695=\"\"),\"\",SD!V695)","v":""},{"$f":"IF(SD!D695=\"\",\"\",SD!D695)","v":""}]
[null,{"$f":"IF(E700=\"\",\"\",ROWS($B$6:B700))","v":""},{"$f":"IF(OR(SD!A696=\"\"),\"\",SD!A696)","v":""},{"$f":"IF(OR(SD!C696=\"\"),\"\",SD!C696)","v":""},{"$f":"IF(OR(SD!E696=\"\"),\"\",SD!E696)","v":""},{"$f":"IF(OR(SD!G696=\"\"),\"\",SD!G696)","v":""},{"$f":"IF(OR(SD!I696=\"\"),\"\",SD!I696)","v":""},{"$f":"IF(OR(SD!O696=\"\"),\"\",SD!O696)","v":""},{"$f":"IF(OR(SD!V696=\"\"),\"\",SD!V696)","v":""},{"$f":"IF(SD!D696=\"\",\"\",SD!D696)","v":""}]
[null,{"$f":"IF(E701=\"\",\"\",ROWS($B$6:B701))","v":""},{"$f":"IF(OR(SD!A697=\"\"),\"\",SD!A697)","v":""},{"$f":"IF(OR(SD!C697=\"\"),\"\",SD!C697)","v":""},{"$f":"IF(OR(SD!E697=\"\"),\"\",SD!E697)","v":""},{"$f":"IF(OR(SD!G697=\"\"),\"\",SD!G697)","v":""},{"$f":"IF(OR(SD!I697=\"\"),\"\",SD!I697)","v":""},{"$f":"IF(OR(SD!O697=\"\"),\"\",SD!O697)","v":""},{"$f":"IF(OR(SD!V697=\"\"),\"\",SD!V697)","v":""},{"$f":"IF(SD!D697=\"\",\"\",SD!D697)","v":""}]
[null,{"$f":"IF(E702=\"\",\"\",ROWS($B$6:B702))","v":""},{"$f":"IF(OR(SD!A698=\"\"),\"\",SD!A698)","v":""},{"$f":"IF(OR(SD!C698=\"\"),\"\",SD!C698)","v":""},{"$f":"IF(OR(SD!E698=\"\"),\"\",SD!E698)","v":""},{"$f":"IF(OR(SD!G698=\"\"),\"\",SD!G698)","v":""},{"$f":"IF(OR(SD!I698=\"\"),\"\",SD!I698)","v":""},{"$f":"IF(OR(SD!O698=\"\"),\"\",SD!O698)","v":""},{"$f":"IF(OR(SD!V698=\"\"),\"\",SD!V698)","v":""},{"$f":"IF(SD!D698=\"\",\"\",SD!D698)","v":""}]
[null,{"$f":"IF(E703=\"\",\"\",ROWS($B$6:B703))","v":""},{"$f":"IF(OR(SD!A699=\"\"),\"\",SD!A699)","v":""},{"$f":"IF(OR(SD!C699=\"\"),\"\",SD!C699)","v":""},{"$f":"IF(OR(SD!E699=\"\"),\"\",SD!E699)","v":""},{"$f":"IF(OR(SD!G699=\"\"),\"\",SD!G699)","v":""},{"$f":"IF(OR(SD!I699=\"\"),\"\",SD!I699)","v":""},{"$f":"IF(OR(SD!O699=\"\"),\"\",SD!O699)","v":""},{"$f":"IF(OR(SD!V699=\"\"),\"\",SD!V699)","v":""},{"$f":"IF(SD!D699=\"\",\"\",SD!D699)","v":""}]
[null,{"$f":"IF(E704=\"\",\"\",ROWS($B$6:B704))","v":""},{"$f":"IF(OR(SD!A700=\"\"),\"\",SD!A700)","v":""},{"$f":"IF(OR(SD!C700=\"\"),\"\",SD!C700)","v":""},{"$f":"IF(OR(SD!E700=\"\"),\"\",SD!E700)","v":""},{"$f":"IF(OR(SD!G700=\"\"),\"\",SD!G700)","v":""},{"$f":"IF(OR(SD!I700=\"\"),\"\",SD!I700)","v":""},{"$f":"IF(OR(SD!O700=\"\"),\"\",SD!O700)","v":""},{"$f":"IF(OR(SD!V700=\"\"),\"\",SD!V700)","v":""},{"$f":"IF(SD!D700=\"\",\"\",SD!D700)","v":""}]
[null,{"$f":"IF(E705=\"\",\"\",ROWS($B$6:B705))","v":""},{"$f":"IF(OR(SD!A701=\"\"),\"\",SD!A701)","v":""},{"$f":"IF(OR(SD!C701=\"\"),\"\",SD!C701)","v":""},{"$f":"IF(OR(SD!E701=\"\"),\"\",SD!E701)","v":""},{"$f":"IF(OR(SD!G701=\"\"),\"\",SD!G701)","v":""},{"$f":"IF(OR(SD!I701=\"\"),\"\",SD!I701)","v":""},{"$f":"IF(OR(SD!O701=\"\"),\"\",SD!O701)","v":""},{"$f":"IF(OR(SD!V701=\"\"),\"\",SD!V701)","v":""},{"$f":"IF(SD!D701=\"\",\"\",SD!D701)","v":""}]
[null,{"$f":"IF(E706=\"\",\"\",ROWS($B$6:B706))","v":""},{"$f":"IF(OR(SD!A702=\"\"),\"\",SD!A702)","v":""},{"$f":"IF(OR(SD!C702=\"\"),\"\",SD!C702)","v":""},{"$f":"IF(OR(SD!E702=\"\"),\"\",SD!E702)","v":""},{"$f":"IF(OR(SD!G702=\"\"),\"\",SD!G702)","v":""},{"$f":"IF(OR(SD!I702=\"\"),\"\",SD!I702)","v":""},{"$f":"IF(OR(SD!O702=\"\"),\"\",SD!O702)","v":""},{"$f":"IF(OR(SD!V702=\"\"),\"\",SD!V702)","v":""},{"$f":"IF(SD!D702=\"\",\"\",SD!D702)","v":""}]
[null,{"$f":"IF(E707=\"\",\"\",ROWS($B$6:B707))","v":""},{"$f":"IF(OR(SD!A703=\"\"),\"\",SD!A703)","v":""},{"$f":"IF(OR(SD!C703=\"\"),\"\",SD!C703)","v":""},{"$f":"IF(OR(SD!E703=\"\"),\"\",SD!E703)","v":""},{"$f":"IF(OR(SD!G703=\"\"),\"\",SD!G703)","v":""},{"$f":"IF(OR(SD!I703=\"\"),\"\",SD!I703)","v":""},{"$f":"IF(OR(SD!O703=\"\"),\"\",SD!O703)","v":""},{"$f":"IF(OR(SD!V703=\"\"),\"\",SD!V703)","v":""},{"$f":"IF(SD!D703=\"\",\"\",SD!D703)","v":""}]
[null,{"$f":"IF(E708=\"\",\"\",ROWS($B$6:B708))","v":""},{"$f":"IF(OR(SD!A704=\"\"),\"\",SD!A704)","v":""},{"$f":"IF(OR(SD!C704=\"\"),\"\",SD!C704)","v":""},{"$f":"IF(OR(SD!E704=\"\"),\"\",SD!E704)","v":""},{"$f":"IF(OR(SD!G704=\"\"),\"\",SD!G704)","v":""},{"$f":"IF(OR(SD!I704=\"\"),\"\",SD!I704)","v":""},{"$f":"IF(OR(SD!O704=\"\"),\"\",SD!O704)","v":""},{"$f":"IF(OR(SD!V704=\"\"),\"\",SD!V704)","v":""},{"$f":"IF(SD!D704=\"\",\"\",SD!D704)","v":""}]
[null,{"$f":"IF(E709=\"\",\"\",ROWS($B$6:B709))","v":""},{"$f":"IF(OR(SD!A705=\"\"),\"\",SD!A705)","v":""},{"$f":"IF(OR(SD!C705=\"\"),\"\",SD!C705)","v":""},{"$f":"IF(OR(SD!E705=\"\"),\"\",SD!E705)","v":""},{"$f":"IF(OR(SD!G705=\"\"),\"\",SD!G705)","v":""},{"$f":"IF(OR(SD!I705=\"\"),\"\",SD!I705)","v":""},{"$f":"IF(OR(SD!O705=\"\"),\"\",SD!O705)","v":""},{"$f":"IF(OR(SD!V705=\"\"),\"\",SD!V705)","v":""},{"$f":"IF(SD!D705=\"\",\"\",SD!D705)","v":""}]
[null,{"$f":"IF(E710=\"\",\"\",ROWS($B$6:B710))","v":""},{"$f":"IF(OR(SD!A706=\"\"),\"\",SD!A706)","v":""},{"$f":"IF(OR(SD!C706=\"\"),\"\",SD!C706)","v":""},{"$f":"IF(OR(SD!E706=\"\"),\"\",SD!E706)","v":""},{"$f":"IF(OR(SD!G706=\"\"),\"\",SD!G706)","v":""},{"$f":"IF(OR(SD!I706=\"\"),\"\",SD!I706)","v":""},{"$f":"IF(OR(SD!O706=\"\"),\"\",SD!O706)","v":""},{"$f":"IF(OR(SD!V706=\"\"),\"\",SD!V706)","v":""},{"$f":"IF(SD!D706=\"\",\"\",SD!D706)","v":""}]
[null,{"$f":"IF(E711=\"\",\"\",ROWS($B$6:B711))","v":""},{"$f":"IF(OR(SD!A707=\"\"),\"\",SD!A707)","v":""},{"$f":"IF(OR(SD!C707=\"\"),\"\",SD!C707)","v":""},{"$f":"IF(OR(SD!E707=\"\"),\"\",SD!E707)","v":""},{"$f":"IF(OR(SD!G707=\"\"),\"\",SD!G707)","v":""},{"$f":"IF(OR(SD!I707=\"\"),\"\",SD!I707)","v":""},{"$f":"IF(OR(SD!O707=\"\"),\"\",SD!O707)","v":""},{"$f":"IF(OR(SD!V707=\"\"),\"\",SD!V707)","v":""},{"$f":"IF(SD!D707=\"\",\"\",SD!D707)","v":""}]
[null,{"$f":"IF(E712=\"\",\"\",ROWS($B$6:B712))","v":""},{"$f":"IF(OR(SD!A708=\"\"),\"\",SD!A708)","v":""},{"$f":"IF(OR(SD!C708=\"\"),\"\",SD!C708)","v":""},{"$f":"IF(OR(SD!E708=\"\"),\"\",SD!E708)","v":""},{"$f":"IF(OR(SD!G708=\"\"),\"\",SD!G708)","v":""},{"$f":"IF(OR(SD!I708=\"\"),\"\",SD!I708)","v":""},{"$f":"IF(OR(SD!O708=\"\"),\"\",SD!O708)","v":""},{"$f":"IF(OR(SD!V708=\"\"),\"\",SD!V708)","v":""},{"$f":"IF(SD!D708=\"\",\"\",SD!D708)","v":""}]
[null,{"$f":"IF(E713=\"\",\"\",ROWS($B$6:B713))","v":""},{"$f":"IF(OR(SD!A709=\"\"),\"\",SD!A709)","v":""},{"$f":"IF(OR(SD!C709=\"\"),\"\",SD!C709)","v":""},{"$f":"IF(OR(SD!E709=\"\"),\"\",SD!E709)","v":""},{"$f":"IF(OR(SD!G709=\"\"),\"\",SD!G709)","v":""},{"$f":"IF(OR(SD!I709=\"\"),\"\",SD!I709)","v":""},{"$f":"IF(OR(SD!O709=\"\"),\"\",SD!O709)","v":""},{"$f":"IF(OR(SD!V709=\"\"),\"\",SD!V709)","v":""},{"$f":"IF(SD!D709=\"\",\"\",SD!D709)","v":""}]
[null,{"$f":"IF(E714=\"\",\"\",ROWS($B$6:B714))","v":""},{"$f":"IF(OR(SD!A710=\"\"),\"\",SD!A710)","v":""},{"$f":"IF(OR(SD!C710=\"\"),\"\",SD!C710)","v":""},{"$f":"IF(OR(SD!E710=\"\"),\"\",SD!E710)","v":""},{"$f":"IF(OR(SD!G710=\"\"),\"\",SD!G710)","v":""},{"$f":"IF(OR(SD!I710=\"\"),\"\",SD!I710)","v":""},{"$f":"IF(OR(SD!O710=\"\"),\"\",SD!O710)","v":""},{"$f":"IF(OR(SD!V710=\"\"),\"\",SD!V710)","v":""},{"$f":"IF(SD!D710=\"\",\"\",SD!D710)","v":""}]
[null,{"$f":"IF(E715=\"\",\"\",ROWS($B$6:B715))","v":""},{"$f":"IF(OR(SD!A711=\"\"),\"\",SD!A711)","v":""},{"$f":"IF(OR(SD!C711=\"\"),\"\",SD!C711)","v":""},{"$f":"IF(OR(SD!E711=\"\"),\"\",SD!E711)","v":""},{"$f":"IF(OR(SD!G711=\"\"),\"\",SD!G711)","v":""},{"$f":"IF(OR(SD!I711=\"\"),\"\",SD!I711)","v":""},{"$f":"IF(OR(SD!O711=\"\"),\"\",SD!O711)","v":""},{"$f":"IF(OR(SD!V711=\"\"),\"\",SD!V711)","v":""},{"$f":"IF(SD!D711=\"\",\"\",SD!D711)","v":""}]
[null,{"$f":"IF(E716=\"\",\"\",ROWS($B$6:B716))","v":""},{"$f":"IF(OR(SD!A712=\"\"),\"\",SD!A712)","v":""},{"$f":"IF(OR(SD!C712=\"\"),\"\",SD!C712)","v":""},{"$f":"IF(OR(SD!E712=\"\"),\"\",SD!E712)","v":""},{"$f":"IF(OR(SD!G712=\"\"),\"\",SD!G712)","v":""},{"$f":"IF(OR(SD!I712=\"\"),\"\",SD!I712)","v":""},{"$f":"IF(OR(SD!O712=\"\"),\"\",SD!O712)","v":""},{"$f":"IF(OR(SD!V712=\"\"),\"\",SD!V712)","v":""},{"$f":"IF(SD!D712=\"\",\"\",SD!D712)","v":""}]
[null,{"$f":"IF(E717=\"\",\"\",ROWS($B$6:B717))","v":""},{"$f":"IF(OR(SD!A713=\"\"),\"\",SD!A713)","v":""},{"$f":"IF(OR(SD!C713=\"\"),\"\",SD!C713)","v":""},{"$f":"IF(OR(SD!E713=\"\"),\"\",SD!E713)","v":""},{"$f":"IF(OR(SD!G713=\"\"),\"\",SD!G713)","v":""},{"$f":"IF(OR(SD!I713=\"\"),\"\",SD!I713)","v":""},{"$f":"IF(OR(SD!O713=\"\"),\"\",SD!O713)","v":""},{"$f":"IF(OR(SD!V713=\"\"),\"\",SD!V713)","v":""},{"$f":"IF(SD!D713=\"\",\"\",SD!D713)","v":""}]
[null,{"$f":"IF(E718=\"\",\"\",ROWS($B$6:B718))","v":""},{"$f":"IF(OR(SD!A714=\"\"),\"\",SD!A714)","v":""},{"$f":"IF(OR(SD!C714=\"\"),\"\",SD!C714)","v":""},{"$f":"IF(OR(SD!E714=\"\"),\"\",SD!E714)","v":""},{"$f":"IF(OR(SD!G714=\"\"),\"\",SD!G714)","v":""},{"$f":"IF(OR(SD!I714=\"\"),\"\",SD!I714)","v":""},{"$f":"IF(OR(SD!O714=\"\"),\"\",SD!O714)","v":""},{"$f":"IF(OR(SD!V714=\"\"),\"\",SD!V714)","v":""},{"$f":"IF(SD!D714=\"\",\"\",SD!D714)","v":""}]
[null,{"$f":"IF(E719=\"\",\"\",ROWS($B$6:B719))","v":""},{"$f":"IF(OR(SD!A715=\"\"),\"\",SD!A715)","v":""},{"$f":"IF(OR(SD!C715=\"\"),\"\",SD!C715)","v":""},{"$f":"IF(OR(SD!E715=\"\"),\"\",SD!E715)","v":""},{"$f":"IF(OR(SD!G715=\"\"),\"\",SD!G715)","v":""},{"$f":"IF(OR(SD!I715=\"\"),\"\",SD!I715)","v":""},{"$f":"IF(OR(SD!O715=\"\"),\"\",SD!O715)","v":""},{"$f":"IF(OR(SD!V715=\"\"),\"\",SD!V715)","v":""},{"$f":"IF(SD!D715=\"\",\"\",SD!D715)","v":""}]
[null,{"$f":"IF(E720=\"\",\"\",ROWS($B$6:B720))","v":""},{"$f":"IF(OR(SD!A716=\"\"),\"\",SD!A716)","v":""},{"$f":"IF(OR(SD!C716=\"\"),\"\",SD!C716)","v":""},{"$f":"IF(OR(SD!E716=\"\"),\"\",SD!E716)","v":""},{"$f":"IF(OR(SD!G716=\"\"),\"\",SD!G716)","v":""},{"$f":"IF(OR(SD!I716=\"\"),\"\",SD!I716)","v":""},{"$f":"IF(OR(SD!O716=\"\"),\"\",SD!O716)","v":""},{"$f":"IF(OR(SD!V716=\"\"),\"\",SD!V716)","v":""},{"$f":"IF(SD!D716=\"\",\"\",SD!D716)","v":""}]
[null,{"$f":"IF(E721=\"\",\"\",ROWS($B$6:B721))","v":""},{"$f":"IF(OR(SD!A717=\"\"),\"\",SD!A717)","v":""},{"$f":"IF(OR(SD!C717=\"\"),\"\",SD!C717)","v":""},{"$f":"IF(OR(SD!E717=\"\"),\"\",SD!E717)","v":""},{"$f":"IF(OR(SD!G717=\"\"),\"\",SD!G717)","v":""},{"$f":"IF(OR(SD!I717=\"\"),\"\",SD!I717)","v":""},{"$f":"IF(OR(SD!O717=\"\"),\"\",SD!O717)","v":""},{"$f":"IF(OR(SD!V717=\"\"),\"\",SD!V717)","v":""},{"$f":"IF(SD!D717=\"\",\"\",SD!D717)","v":""}]
[null,{"$f":"IF(E722=\"\",\"\",ROWS($B$6:B722))","v":""},{"$f":"IF(OR(SD!A718=\"\"),\"\",SD!A718)","v":""},{"$f":"IF(OR(SD!C718=\"\"),\"\",SD!C718)","v":""},{"$f":"IF(OR(SD!E718=\"\"),\"\",SD!E718)","v":""},{"$f":"IF(OR(SD!G718=\"\"),\"\",SD!G718)","v":""},{"$f":"IF(OR(SD!I718=\"\"),\"\",SD!I718)","v":""},{"$f":"IF(OR(SD!O718=\"\"),\"\",SD!O718)","v":""},{"$f":"IF(OR(SD!V718=\"\"),\"\",SD!V718)","v":""},{"$f":"IF(SD!D718=\"\",\"\",SD!D718)","v":""}]
[null,{"$f":"IF(E723=\"\",\"\",ROWS($B$6:B723))","v":""},{"$f":"IF(OR(SD!A719=\"\"),\"\",SD!A719)","v":""},{"$f":"IF(OR(SD!C719=\"\"),\"\",SD!C719)","v":""},{"$f":"IF(OR(SD!E719=\"\"),\"\",SD!E719)","v":""},{"$f":"IF(OR(SD!G719=\"\"),\"\",SD!G719)","v":""},{"$f":"IF(OR(SD!I719=\"\"),\"\",SD!I719)","v":""},{"$f":"IF(OR(SD!O719=\"\"),\"\",SD!O719)","v":""},{"$f":"IF(OR(SD!V719=\"\"),\"\",SD!V719)","v":""},{"$f":"IF(SD!D719=\"\",\"\",SD!D719)","v":""}]
[null,{"$f":"IF(E724=\"\",\"\",ROWS($B$6:B724))","v":""},{"$f":"IF(OR(SD!A720=\"\"),\"\",SD!A720)","v":""},{"$f":"IF(OR(SD!C720=\"\"),\"\",SD!C720)","v":""},{"$f":"IF(OR(SD!E720=\"\"),\"\",SD!E720)","v":""},{"$f":"IF(OR(SD!G720=\"\"),\"\",SD!G720)","v":""},{"$f":"IF(OR(SD!I720=\"\"),\"\",SD!I720)","v":""},{"$f":"IF(OR(SD!O720=\"\"),\"\",SD!O720)","v":""},{"$f":"IF(OR(SD!V720=\"\"),\"\",SD!V720)","v":""},{"$f":"IF(SD!D720=\"\",\"\",SD!D720)","v":""}]
[null,{"$f":"IF(E725=\"\",\"\",ROWS($B$6:B725))","v":""},{"$f":"IF(OR(SD!A721=\"\"),\"\",SD!A721)","v":""},{"$f":"IF(OR(SD!C721=\"\"),\"\",SD!C721)","v":""},{"$f":"IF(OR(SD!E721=\"\"),\"\",SD!E721)","v":""},{"$f":"IF(OR(SD!G721=\"\"),\"\",SD!G721)","v":""},{"$f":"IF(OR(SD!I721=\"\"),\"\",SD!I721)","v":""},{"$f":"IF(OR(SD!O721=\"\"),\"\",SD!O721)","v":""},{"$f":"IF(OR(SD!V721=\"\"),\"\",SD!V721)","v":""},{"$f":"IF(SD!D721=\"\",\"\",SD!D721)","v":""}]
[null,{"$f":"IF(E726=\"\",\"\",ROWS($B$6:B726))","v":""},{"$f":"IF(OR(SD!A722=\"\"),\"\",SD!A722)","v":""},{"$f":"IF(OR(SD!C722=\"\"),\"\",SD!C722)","v":""},{"$f":"IF(OR(SD!E722=\"\"),\"\",SD!E722)","v":""},{"$f":"IF(OR(SD!G722=\"\"),\"\",SD!G722)","v":""},{"$f":"IF(OR(SD!I722=\"\"),\"\",SD!I722)","v":""},{"$f":"IF(OR(SD!O722=\"\"),\"\",SD!O722)","v":""},{"$f":"IF(OR(SD!V722=\"\"),\"\",SD!V722)","v":""},{"$f":"IF(SD!D722=\"\",\"\",SD!D722)","v":""}]
[null,{"$f":"IF(E727=\"\",\"\",ROWS($B$6:B727))","v":""},{"$f":"IF(OR(SD!A723=\"\"),\"\",SD!A723)","v":""},{"$f":"IF(OR(SD!C723=\"\"),\"\",SD!C723)","v":""},{"$f":"IF(OR(SD!E723=\"\"),\"\",SD!E723)","v":""},{"$f":"IF(OR(SD!G723=\"\"),\"\",SD!G723)","v":""},{"$f":"IF(OR(SD!I723=\"\"),\"\",SD!I723)","v":""},{"$f":"IF(OR(SD!O723=\"\"),\"\",SD!O723)","v":""},{"$f":"IF(OR(SD!V723=\"\"),\"\",SD!V723)","v":""},{"$f":"IF(SD!D723=\"\",\"\",SD!D723)","v":""}]
[null,{"$f":"IF(E728=\"\",\"\",ROWS($B$6:B728))","v":""},{"$f":"IF(OR(SD!A724=\"\"),\"\",SD!A724)","v":""},{"$f":"IF(OR(SD!C724=\"\"),\"\",SD!C724)","v":""},{"$f":"IF(OR(SD!E724=\"\"),\"\",SD!E724)","v":""},{"$f":"IF(OR(SD!G724=\"\"),\"\",SD!G724)","v":""},{"$f":"IF(OR(SD!I724=\"\"),\"\",SD!I724)","v":""},{"$f":"IF(OR(SD!O724=\"\"),\"\",SD!O724)","v":""},{"$f":"IF(OR(SD!V724=\"\"),\"\",SD!V724)","v":""},{"$f":"IF(SD!D724=\"\",\"\",SD!D724)","v":""}]
[null,{"$f":"IF(E729=\"\",\"\",ROWS($B$6:B729))","v":""},{"$f":"IF(OR(SD!A725=\"\"),\"\",SD!A725)","v":""},{"$f":"IF(OR(SD!C725=\"\"),\"\",SD!C725)","v":""},{"$f":"IF(OR(SD!E725=\"\"),\"\",SD!E725)","v":""},{"$f":"IF(OR(SD!G725=\"\"),\"\",SD!G725)","v":""},{"$f":"IF(OR(SD!I725=\"\"),\"\",SD!I725)","v":""},{"$f":"IF(OR(SD!O725=\"\"),\"\",SD!O725)","v":""},{"$f":"IF(OR(SD!V725=\"\"),\"\",SD!V725)","v":""},{"$f":"IF(SD!D725=\"\",\"\",SD!D725)","v":""}]
[null,{"$f":"IF(E730=\"\",\"\",ROWS($B$6:B730))","v":""},{"$f":"IF(OR(SD!A726=\"\"),\"\",SD!A726)","v":""},{"$f":"IF(OR(SD!C726=\"\"),\"\",SD!C726)","v":""},{"$f":"IF(OR(SD!E726=\"\"),\"\",SD!E726)","v":""},{"$f":"IF(OR(SD!G726=\"\"),\"\",SD!G726)","v":""},{"$f":"IF(OR(SD!I726=\"\"),\"\",SD!I726)","v":""},{"$f":"IF(OR(SD!O726=\"\"),\"\",SD!O726)","v":""},{"$f":"IF(OR(SD!V726=\"\"),\"\",SD!V726)","v":""},{"$f":"IF(SD!D726=\"\",\"\",SD!D726)","v":""}]
[null,{"$f":"IF(E731=\"\",\"\",ROWS($B$6:B731))","v":""},{"$f":"IF(OR(SD!A727=\"\"),\"\",SD!A727)","v":""},{"$f":"IF(OR(SD!C727=\"\"),\"\",SD!C727)","v":""},{"$f":"IF(OR(SD!E727=\"\"),\"\",SD!E727)","v":""},{"$f":"IF(OR(SD!G727=\"\"),\"\",SD!G727)","v":""},{"$f":"IF(OR(SD!I727=\"\"),\"\",SD!I727)","v":""},{"$f":"IF(OR(SD!O727=\"\"),\"\",SD!O727)","v":""},{"$f":"IF(OR(SD!V727=\"\"),\"\",SD!V727)","v":""},{"$f":"IF(SD!D727=\"\",\"\",SD!D727)","v":""}]
[null,{"$f":"IF(E732=\"\",\"\",ROWS($B$6:B732))","v":""},{"$f":"IF(OR(SD!A728=\"\"),\"\",SD!A728)","v":""},{"$f":"IF(OR(SD!C728=\"\"),\"\",SD!C728)","v":""},{"$f":"IF(OR(SD!E728=\"\"),\"\",SD!E728)","v":""},{"$f":"IF(OR(SD!G728=\"\"),\"\",SD!G728)","v":""},{"$f":"IF(OR(SD!I728=\"\"),\"\",SD!I728)","v":""},{"$f":"IF(OR(SD!O728=\"\"),\"\",SD!O728)","v":""},{"$f":"IF(OR(SD!V728=\"\"),\"\",SD!V728)","v":""},{"$f":"IF(SD!D728=\"\",\"\",SD!D728)","v":""}]
[null,{"$f":"IF(E733=\"\",\"\",ROWS($B$6:B733))","v":""},{"$f":"IF(OR(SD!A729=\"\"),\"\",SD!A729)","v":""},{"$f":"IF(OR(SD!C729=\"\"),\"\",SD!C729)","v":""},{"$f":"IF(OR(SD!E729=\"\"),\"\",SD!E729)","v":""},{"$f":"IF(OR(SD!G729=\"\"),\"\",SD!G729)","v":""},{"$f":"IF(OR(SD!I729=\"\"),\"\",SD!I729)","v":""},{"$f":"IF(OR(SD!O729=\"\"),\"\",SD!O729)","v":""},{"$f":"IF(OR(SD!V729=\"\"),\"\",SD!V729)","v":""},{"$f":"IF(SD!D729=\"\",\"\",SD!D729)","v":""}]
[null,{"$f":"IF(E734=\"\",\"\",ROWS($B$6:B734))","v":""},{"$f":"IF(OR(SD!A730=\"\"),\"\",SD!A730)","v":""},{"$f":"IF(OR(SD!C730=\"\"),\"\",SD!C730)","v":""},{"$f":"IF(OR(SD!E730=\"\"),\"\",SD!E730)","v":""},{"$f":"IF(OR(SD!G730=\"\"),\"\",SD!G730)","v":""},{"$f":"IF(OR(SD!I730=\"\"),\"\",SD!I730)","v":""},{"$f":"IF(OR(SD!O730=\"\"),\"\",SD!O730)","v":""},{"$f":"IF(OR(SD!V730=\"\"),\"\",SD!V730)","v":""},{"$f":"IF(SD!D730=\"\",\"\",SD!D730)","v":""}]
[null,{"$f":"IF(E735=\"\",\"\",ROWS($B$6:B735))","v":""},{"$f":"IF(OR(SD!A731=\"\"),\"\",SD!A731)","v":""},{"$f":"IF(OR(SD!C731=\"\"),\"\",SD!C731)","v":""},{"$f":"IF(OR(SD!E731=\"\"),\"\",SD!E731)","v":""},{"$f":"IF(OR(SD!G731=\"\"),\"\",SD!G731)","v":""},{"$f":"IF(OR(SD!I731=\"\"),\"\",SD!I731)","v":""},{"$f":"IF(OR(SD!O731=\"\"),\"\",SD!O731)","v":""},{"$f":"IF(OR(SD!V731=\"\"),\"\",SD!V731)","v":""},{"$f":"IF(SD!D731=\"\",\"\",SD!D731)","v":""}]
[null,{"$f":"IF(E736=\"\",\"\",ROWS($B$6:B736))","v":""},{"$f":"IF(OR(SD!A732=\"\"),\"\",SD!A732)","v":""},{"$f":"IF(OR(SD!C732=\"\"),\"\",SD!C732)","v":""},{"$f":"IF(OR(SD!E732=\"\"),\"\",SD!E732)","v":""},{"$f":"IF(OR(SD!G732=\"\"),\"\",SD!G732)","v":""},{"$f":"IF(OR(SD!I732=\"\"),\"\",SD!I732)","v":""},{"$f":"IF(OR(SD!O732=\"\"),\"\",SD!O732)","v":""},{"$f":"IF(OR(SD!V732=\"\"),\"\",SD!V732)","v":""},{"$f":"IF(SD!D732=\"\",\"\",SD!D732)","v":""}]
[null,{"$f":"IF(E737=\"\",\"\",ROWS($B$6:B737))","v":""},{"$f":"IF(OR(SD!A733=\"\"),\"\",SD!A733)","v":""},{"$f":"IF(OR(SD!C733=\"\"),\"\",SD!C733)","v":""},{"$f":"IF(OR(SD!E733=\"\"),\"\",SD!E733)","v":""},{"$f":"IF(OR(SD!G733=\"\"),\"\",SD!G733)","v":""},{"$f":"IF(OR(SD!I733=\"\"),\"\",SD!I733)","v":""},{"$f":"IF(OR(SD!O733=\"\"),\"\",SD!O733)","v":""},{"$f":"IF(OR(SD!V733=\"\"),\"\",SD!V733)","v":""},{"$f":"IF(SD!D733=\"\",\"\",SD!D733)","v":""}]
[null,{"$f":"IF(E738=\"\",\"\",ROWS($B$6:B738))","v":""},{"$f":"IF(OR(SD!A734=\"\"),\"\",SD!A734)","v":""},{"$f":"IF(OR(SD!C734=\"\"),\"\",SD!C734)","v":""},{"$f":"IF(OR(SD!E734=\"\"),\"\",SD!E734)","v":""},{"$f":"IF(OR(SD!G734=\"\"),\"\",SD!G734)","v":""},{"$f":"IF(OR(SD!I734=\"\"),\"\",SD!I734)","v":""},{"$f":"IF(OR(SD!O734=\"\"),\"\",SD!O734)","v":""},{"$f":"IF(OR(SD!V734=\"\"),\"\",SD!V734)","v":""},{"$f":"IF(SD!D734=\"\",\"\",SD!D734)","v":""}]
[null,{"$f":"IF(E739=\"\",\"\",ROWS($B$6:B739))","v":""},{"$f":"IF(OR(SD!A735=\"\"),\"\",SD!A735)","v":""},{"$f":"IF(OR(SD!C735=\"\"),\"\",SD!C735)","v":""},{"$f":"IF(OR(SD!E735=\"\"),\"\",SD!E735)","v":""},{"$f":"IF(OR(SD!G735=\"\"),\"\",SD!G735)","v":""},{"$f":"IF(OR(SD!I735=\"\"),\"\",SD!I735)","v":""},{"$f":"IF(OR(SD!O735=\"\"),\"\",SD!O735)","v":""},{"$f":"IF(OR(SD!V735=\"\"),\"\",SD!V735)","v":""},{"$f":"IF(SD!D735=\"\",\"\",SD!D735)","v":""}]
[null,{"$f":"IF(E740=\"\",\"\",ROWS($B$6:B740))","v":""},{"$f":"IF(OR(SD!A736=\"\"),\"\",SD!A736)","v":""},{"$f":"IF(OR(SD!C736=\"\"),\"\",SD!C736)","v":""},{"$f":"IF(OR(SD!E736=\"\"),\"\",SD!E736)","v":""},{"$f":"IF(OR(SD!G736=\"\"),\"\",SD!G736)","v":""},{"$f":"IF(OR(SD!I736=\"\"),\"\",SD!I736)","v":""},{"$f":"IF(OR(SD!O736=\"\"),\"\",SD!O736)","v":""},{"$f":"IF(OR(SD!V736=\"\"),\"\",SD!V736)","v":""},{"$f":"IF(SD!D736=\"\",\"\",SD!D736)","v":""}]
[null,{"$f":"IF(E741=\"\",\"\",ROWS($B$6:B741))","v":""},{"$f":"IF(OR(SD!A737=\"\"),\"\",SD!A737)","v":""},{"$f":"IF(OR(SD!C737=\"\"),\"\",SD!C737)","v":""},{"$f":"IF(OR(SD!E737=\"\"),\"\",SD!E737)","v":""},{"$f":"IF(OR(SD!G737=\"\"),\"\",SD!G737)","v":""},{"$f":"IF(OR(SD!I737=\"\"),\"\",SD!I737)","v":""},{"$f":"IF(OR(SD!O737=\"\"),\"\",SD!O737)","v":""},{"$f":"IF(OR(SD!V737=\"\"),\"\",SD!V737)","v":""},{"$f":"IF(SD!D737=\"\",\"\",SD!D737)","v":""}]
[null,{"$f":"IF(E742=\"\",\"\",ROWS($B$6:B742))","v":""},{"$f":"IF(OR(SD!A738=\"\"),\"\",SD!A738)","v":""},{"$f":"IF(OR(SD!C738=\"\"),\"\",SD!C738)","v":""},{"$f":"IF(OR(SD!E738=\"\"),\"\",SD!E738)","v":""},{"$f":"IF(OR(SD!G738=\"\"),\"\",SD!G738)","v":""},{"$f":"IF(OR(SD!I738=\"\"),\"\",SD!I738)","v":""},{"$f":"IF(OR(SD!O738=\"\"),\"\",SD!O738)","v":""},{"$f":"IF(OR(SD!V738=\"\"),\"\",SD!V738)","v":""},{"$f":"IF(SD!D738=\"\",\"\",SD!D738)","v":""}]
[null,{"$f":"IF(E743=\"\",\"\",ROWS($B$6:B743))","v":""},{"$f":"IF(OR(SD!A739=\"\"),\"\",SD!A739)","v":""},{"$f":"IF(OR(SD!C739=\"\"),\"\",SD!C739)","v":""},{"$f":"IF(OR(SD!E739=\"\"),\"\",SD!E739)","v":""},{"$f":"IF(OR(SD!G739=\"\"),\"\",SD!G739)","v":""},{"$f":"IF(OR(SD!I739=\"\"),\"\",SD!I739)","v":""},{"$f":"IF(OR(SD!O739=\"\"),\"\",SD!O739)","v":""},{"$f":"IF(OR(SD!V739=\"\"),\"\",SD!V739)","v":""},{"$f":"IF(SD!D739=\"\",\"\",SD!D739)","v":""}]
[null,{"$f":"IF(E744=\"\",\"\",ROWS($B$6:B744))","v":""},{"$f":"IF(OR(SD!A740=\"\"),\"\",SD!A740)","v":""},{"$f":"IF(OR(SD!C740=\"\"),\"\",SD!C740)","v":""},{"$f":"IF(OR(SD!E740=\"\"),\"\",SD!E740)","v":""},{"$f":"IF(OR(SD!G740=\"\"),\"\",SD!G740)","v":""},{"$f":"IF(OR(SD!I740=\"\"),\"\",SD!I740)","v":""},{"$f":"IF(OR(SD!O740=\"\"),\"\",SD!O740)","v":""},{"$f":"IF(OR(SD!V740=\"\"),\"\",SD!V740)","v":""},{"$f":"IF(SD!D740=\"\",\"\",SD!D740)","v":""}]
[null,{"$f":"IF(E745=\"\",\"\",ROWS($B$6:B745))","v":""},{"$f":"IF(OR(SD!A741=\"\"),\"\",SD!A741)","v":""},{"$f":"IF(OR(SD!C741=\"\"),\"\",SD!C741)","v":""},{"$f":"IF(OR(SD!E741=\"\"),\"\",SD!E741)","v":""},{"$f":"IF(OR(SD!G741=\"\"),\"\",SD!G741)","v":""},{"$f":"IF(OR(SD!I741=\"\"),\"\",SD!I741)","v":""},{"$f":"IF(OR(SD!O741=\"\"),\"\",SD!O741)","v":""},{"$f":"IF(OR(SD!V741=\"\"),\"\",SD!V741)","v":""},{"$f":"IF(SD!D741=\"\",\"\",SD!D741)","v":""}]
[null,{"$f":"IF(E746=\"\",\"\",ROWS($B$6:B746))","v":""},{"$f":"IF(OR(SD!A742=\"\"),\"\",SD!A742)","v":""},{"$f":"IF(OR(SD!C742=\"\"),\"\",SD!C742)","v":""},{"$f":"IF(OR(SD!E742=\"\"),\"\",SD!E742)","v":""},{"$f":"IF(OR(SD!G742=\"\"),\"\",SD!G742)","v":""},{"$f":"IF(OR(SD!I742=\"\"),\"\",SD!I742)","v":""},{"$f":"IF(OR(SD!O742=\"\"),\"\",SD!O742)","v":""},{"$f":"IF(OR(SD!V742=\"\"),\"\",SD!V742)","v":""},{"$f":"IF(SD!D742=\"\",\"\",SD!D742)","v":""}]
[null,{"$f":"IF(E747=\"\",\"\",ROWS($B$6:B747))","v":""},{"$f":"IF(OR(SD!A743=\"\"),\"\",SD!A743)","v":""},{"$f":"IF(OR(SD!C743=\"\"),\"\",SD!C743)","v":""},{"$f":"IF(OR(SD!E743=\"\"),\"\",SD!E743)","v":""},{"$f":"IF(OR(SD!G743=\"\"),\"\",SD!G743)","v":""},{"$f":"IF(OR(SD!I743=\"\"),\"\",SD!I743)","v":""},{"$f":"IF(OR(SD!O743=\"\"),\"\",SD!O743)","v":""},{"$f":"IF(OR(SD!V743=\"\"),\"\",SD!V743)","v":""},{"$f":"IF(SD!D743=\"\",\"\",SD!D743)","v":""}]
[null,{"$f":"IF(E748=\"\",\"\",ROWS($B$6:B748))","v":""},{"$f":"IF(OR(SD!A744=\"\"),\"\",SD!A744)","v":""},{"$f":"IF(OR(SD!C744=\"\"),\"\",SD!C744)","v":""},{"$f":"IF(OR(SD!E744=\"\"),\"\",SD!E744)","v":""},{"$f":"IF(OR(SD!G744=\"\"),\"\",SD!G744)","v":""},{"$f":"IF(OR(SD!I744=\"\"),\"\",SD!I744)","v":""},{"$f":"IF(OR(SD!O744=\"\"),\"\",SD!O744)","v":""},{"$f":"IF(OR(SD!V744=\"\"),\"\",SD!V744)","v":""},{"$f":"IF(SD!D744=\"\",\"\",SD!D744)","v":""}]
[null,{"$f":"IF(E749=\"\",\"\",ROWS($B$6:B749))","v":""},{"$f":"IF(OR(SD!A745=\"\"),\"\",SD!A745)","v":""},{"$f":"IF(OR(SD!C745=\"\"),\"\",SD!C745)","v":""},{"$f":"IF(OR(SD!E745=\"\"),\"\",SD!E745)","v":""},{"$f":"IF(OR(SD!G745=\"\"),\"\",SD!G745)","v":""},{"$f":"IF(OR(SD!I745=\"\"),\"\",SD!I745)","v":""},{"$f":"IF(OR(SD!O745=\"\"),\"\",SD!O745)","v":""},{"$f":"IF(OR(SD!V745=\"\"),\"\",SD!V745)","v":""},{"$f":"IF(SD!D745=\"\",\"\",SD!D745)","v":""}]
[null,{"$f":"IF(E750=\"\",\"\",ROWS($B$6:B750))","v":""},{"$f":"IF(OR(SD!A746=\"\"),\"\",SD!A746)","v":""},{"$f":"IF(OR(SD!C746=\"\"),\"\",SD!C746)","v":""},{"$f":"IF(OR(SD!E746=\"\"),\"\",SD!E746)","v":""},{"$f":"IF(OR(SD!G746=\"\"),\"\",SD!G746)","v":""},{"$f":"IF(OR(SD!I746=\"\"),\"\",SD!I746)","v":""},{"$f":"IF(OR(SD!O746=\"\"),\"\",SD!O746)","v":""},{"$f":"IF(OR(SD!V746=\"\"),\"\",SD!V746)","v":""},{"$f":"IF(SD!D746=\"\",\"\",SD!D746)","v":""}]
[null,{"$f":"IF(E751=\"\",\"\",ROWS($B$6:B751))","v":""},{"$f":"IF(OR(SD!A747=\"\"),\"\",SD!A747)","v":""},{"$f":"IF(OR(SD!C747=\"\"),\"\",SD!C747)","v":""},{"$f":"IF(OR(SD!E747=\"\"),\"\",SD!E747)","v":""},{"$f":"IF(OR(SD!G747=\"\"),\"\",SD!G747)","v":""},{"$f":"IF(OR(SD!I747=\"\"),\"\",SD!I747)","v":""},{"$f":"IF(OR(SD!O747=\"\"),\"\",SD!O747)","v":""},{"$f":"IF(OR(SD!V747=\"\"),\"\",SD!V747)","v":""},{"$f":"IF(SD!D747=\"\",\"\",SD!D747)","v":""}]
[null,{"$f":"IF(E752=\"\",\"\",ROWS($B$6:B752))","v":""},{"$f":"IF(OR(SD!A748=\"\"),\"\",SD!A748)","v":""},{"$f":"IF(OR(SD!C748=\"\"),\"\",SD!C748)","v":""},{"$f":"IF(OR(SD!E748=\"\"),\"\",SD!E748)","v":""},{"$f":"IF(OR(SD!G748=\"\"),\"\",SD!G748)","v":""},{"$f":"IF(OR(SD!I748=\"\"),\"\",SD!I748)","v":""},{"$f":"IF(OR(SD!O748=\"\"),\"\",SD!O748)","v":""},{"$f":"IF(OR(SD!V748=\"\"),\"\",SD!V748)","v":""},{"$f":"IF(SD!D748=\"\",\"\",SD!D748)","v":""}]
[null,{"$f":"IF(E753=\"\",\"\",ROWS($B$6:B753))","v":""},{"$f":"IF(OR(SD!A749=\"\"),\"\",SD!A749)","v":""},{"$f":"IF(OR(SD!C749=\"\"),\"\",SD!C749)","v":""},{"$f":"IF(OR(SD!E749=\"\"),\"\",SD!E749)","v":""},{"$f":"IF(OR(SD!G749=\"\"),\"\",SD!G749)","v":""},{"$f":"IF(OR(SD!I749=\"\"),\"\",SD!I749)","v":""},{"$f":"IF(OR(SD!O749=\"\"),\"\",SD!O749)","v":""},{"$f":"IF(OR(SD!V749=\"\"),\"\",SD!V749)","v":""},{"$f":"IF(SD!D749=\"\",\"\",SD!D749)","v":""}]
[null,{"$f":"IF(E754=\"\",\"\",ROWS($B$6:B754))","v":""},{"$f":"IF(OR(SD!A750=\"\"),\"\",SD!A750)","v":""},{"$f":"IF(OR(SD!C750=\"\"),\"\",SD!C750)","v":""},{"$f":"IF(OR(SD!E750=\"\"),\"\",SD!E750)","v":""},{"$f":"IF(OR(SD!G750=\"\"),\"\",SD!G750)","v":""},{"$f":"IF(OR(SD!I750=\"\"),\"\",SD!I750)","v":""},{"$f":"IF(OR(SD!O750=\"\"),\"\",SD!O750)","v":""},{"$f":"IF(OR(SD!V750=\"\"),\"\",SD!V750)","v":""},{"$f":"IF(SD!D750=\"\",\"\",SD!D750)","v":""}]
[null,{"$f":"IF(E755=\"\",\"\",ROWS($B$6:B755))","v":""},{"$f":"IF(OR(SD!A751=\"\"),\"\",SD!A751)","v":""},{"$f":"IF(OR(SD!C751=\"\"),\"\",SD!C751)","v":""},{"$f":"IF(OR(SD!E751=\"\"),\"\",SD!E751)","v":""},{"$f":"IF(OR(SD!G751=\"\"),\"\",SD!G751)","v":""},{"$f":"IF(OR(SD!I751=\"\"),\"\",SD!I751)","v":""},{"$f":"IF(OR(SD!O751=\"\"),\"\",SD!O751)","v":""},{"$f":"IF(OR(SD!V751=\"\"),\"\",SD!V751)","v":""},{"$f":"IF(SD!D751=\"\",\"\",SD!D751)","v":""}]
[null,{"$f":"IF(E756=\"\",\"\",ROWS($B$6:B756))","v":""},{"$f":"IF(OR(SD!A752=\"\"),\"\",SD!A752)","v":""},{"$f":"IF(OR(SD!C752=\"\"),\"\",SD!C752)","v":""},{"$f":"IF(OR(SD!E752=\"\"),\"\",SD!E752)","v":""},{"$f":"IF(OR(SD!G752=\"\"),\"\",SD!G752)","v":""},{"$f":"IF(OR(SD!I752=\"\"),\"\",SD!I752)","v":""},{"$f":"IF(OR(SD!O752=\"\"),\"\",SD!O752)","v":""},{"$f":"IF(OR(SD!V752=\"\"),\"\",SD!V752)","v":""},{"$f":"IF(SD!D752=\"\",\"\",SD!D752)","v":""}]
[null,{"$f":"IF(E757=\"\",\"\",ROWS($B$6:B757))","v":""},{"$f":"IF(OR(SD!A753=\"\"),\"\",SD!A753)","v":""},{"$f":"IF(OR(SD!C753=\"\"),\"\",SD!C753)","v":""},{"$f":"IF(OR(SD!E753=\"\"),\"\",SD!E753)","v":""},{"$f":"IF(OR(SD!G753=\"\"),\"\",SD!G753)","v":""},{"$f":"IF(OR(SD!I753=\"\"),\"\",SD!I753)","v":""},{"$f":"IF(OR(SD!O753=\"\"),\"\",SD!O753)","v":""},{"$f":"IF(OR(SD!V753=\"\"),\"\",SD!V753)","v":""},{"$f":"IF(SD!D753=\"\",\"\",SD!D753)","v":""}]
[null,{"$f":"IF(E758=\"\",\"\",ROWS($B$6:B758))","v":""},{"$f":"IF(OR(SD!A754=\"\"),\"\",SD!A754)","v":""},{"$f":"IF(OR(SD!C754=\"\"),\"\",SD!C754)","v":""},{"$f":"IF(OR(SD!E754=\"\"),\"\",SD!E754)","v":""},{"$f":"IF(OR(SD!G754=\"\"),\"\",SD!G754)","v":""},{"$f":"IF(OR(SD!I754=\"\"),\"\",SD!I754)","v":""},{"$f":"IF(OR(SD!O754=\"\"),\"\",SD!O754)","v":""},{"$f":"IF(OR(SD!V754=\"\"),\"\",SD!V754)","v":""},{"$f":"IF(SD!D754=\"\",\"\",SD!D754)","v":""}]
[null,{"$f":"IF(E759=\"\",\"\",ROWS($B$6:B759))","v":""},{"$f":"IF(OR(SD!A755=\"\"),\"\",SD!A755)","v":""},{"$f":"IF(OR(SD!C755=\"\"),\"\",SD!C755)","v":""},{"$f":"IF(OR(SD!E755=\"\"),\"\",SD!E755)","v":""},{"$f":"IF(OR(SD!G755=\"\"),\"\",SD!G755)","v":""},{"$f":"IF(OR(SD!I755=\"\"),\"\",SD!I755)","v":""},{"$f":"IF(OR(SD!O755=\"\"),\"\",SD!O755)","v":""},{"$f":"IF(OR(SD!V755=\"\"),\"\",SD!V755)","v":""},{"$f":"IF(SD!D755=\"\",\"\",SD!D755)","v":""}]
[null,{"$f":"IF(E760=\"\",\"\",ROWS($B$6:B760))","v":""},{"$f":"IF(OR(SD!A756=\"\"),\"\",SD!A756)","v":""},{"$f":"IF(OR(SD!C756=\"\"),\"\",SD!C756)","v":""},{"$f":"IF(OR(SD!E756=\"\"),\"\",SD!E756)","v":""},{"$f":"IF(OR(SD!G756=\"\"),\"\",SD!G756)","v":""},{"$f":"IF(OR(SD!I756=\"\"),\"\",SD!I756)","v":""},{"$f":"IF(OR(SD!O756=\"\"),\"\",SD!O756)","v":""},{"$f":"IF(OR(SD!V756=\"\"),\"\",SD!V756)","v":""},{"$f":"IF(SD!D756=\"\",\"\",SD!D756)","v":""}]
[null,{"$f":"IF(E761=\"\",\"\",ROWS($B$6:B761))","v":""},{"$f":"IF(OR(SD!A757=\"\"),\"\",SD!A757)","v":""},{"$f":"IF(OR(SD!C757=\"\"),\"\",SD!C757)","v":""},{"$f":"IF(OR(SD!E757=\"\"),\"\",SD!E757)","v":""},{"$f":"IF(OR(SD!G757=\"\"),\"\",SD!G757)","v":""},{"$f":"IF(OR(SD!I757=\"\"),\"\",SD!I757)","v":""},{"$f":"IF(OR(SD!O757=\"\"),\"\",SD!O757)","v":""},{"$f":"IF(OR(SD!V757=\"\"),\"\",SD!V757)","v":""},{"$f":"IF(SD!D757=\"\",\"\",SD!D757)","v":""}]
[null,{"$f":"IF(E762=\"\",\"\",ROWS($B$6:B762))","v":""},{"$f":"IF(OR(SD!A758=\"\"),\"\",SD!A758)","v":""},{"$f":"IF(OR(SD!C758=\"\"),\"\",SD!C758)","v":""},{"$f":"IF(OR(SD!E758=\"\"),\"\",SD!E758)","v":""},{"$f":"IF(OR(SD!G758=\"\"),\"\",SD!G758)","v":""},{"$f":"IF(OR(SD!I758=\"\"),\"\",SD!I758)","v":""},{"$f":"IF(OR(SD!O758=\"\"),\"\",SD!O758)","v":""},{"$f":"IF(OR(SD!V758=\"\"),\"\",SD!V758)","v":""},{"$f":"IF(SD!D758=\"\",\"\",SD!D758)","v":""}]
[null,{"$f":"IF(E763=\"\",\"\",ROWS($B$6:B763))","v":""},{"$f":"IF(OR(SD!A759=\"\"),\"\",SD!A759)","v":""},{"$f":"IF(OR(SD!C759=\"\"),\"\",SD!C759)","v":""},{"$f":"IF(OR(SD!E759=\"\"),\"\",SD!E759)","v":""},{"$f":"IF(OR(SD!G759=\"\"),\"\",SD!G759)","v":""},{"$f":"IF(OR(SD!I759=\"\"),\"\",SD!I759)","v":""},{"$f":"IF(OR(SD!O759=\"\"),\"\",SD!O759)","v":""},{"$f":"IF(OR(SD!V759=\"\"),\"\",SD!V759)","v":""},{"$f":"IF(SD!D759=\"\",\"\",SD!D759)","v":""}]
[null,{"$f":"IF(E764=\"\",\"\",ROWS($B$6:B764))","v":""},{"$f":"IF(OR(SD!A760=\"\"),\"\",SD!A760)","v":""},{"$f":"IF(OR(SD!C760=\"\"),\"\",SD!C760)","v":""},{"$f":"IF(OR(SD!E760=\"\"),\"\",SD!E760)","v":""},{"$f":"IF(OR(SD!G760=\"\"),\"\",SD!G760)","v":""},{"$f":"IF(OR(SD!I760=\"\"),\"\",SD!I760)","v":""},{"$f":"IF(OR(SD!O760=\"\"),\"\",SD!O760)","v":""},{"$f":"IF(OR(SD!V760=\"\"),\"\",SD!V760)","v":""},{"$f":"IF(SD!D760=\"\",\"\",SD!D760)","v":""}]
[null,{"$f":"IF(E765=\"\",\"\",ROWS($B$6:B765))","v":""},{"$f":"IF(OR(SD!A761=\"\"),\"\",SD!A761)","v":""},{"$f":"IF(OR(SD!C761=\"\"),\"\",SD!C761)","v":""},{"$f":"IF(OR(SD!E761=\"\"),\"\",SD!E761)","v":""},{"$f":"IF(OR(SD!G761=\"\"),\"\",SD!G761)","v":""},{"$f":"IF(OR(SD!I761=\"\"),\"\",SD!I761)","v":""},{"$f":"IF(OR(SD!O761=\"\"),\"\",SD!O761)","v":""},{"$f":"IF(OR(SD!V761=\"\"),\"\",SD!V761)","v":""},{"$f":"IF(SD!D761=\"\",\"\",SD!D761)","v":""}]
[null,{"$f":"IF(E766=\"\",\"\",ROWS($B$6:B766))","v":""},{"$f":"IF(OR(SD!A762=\"\"),\"\",SD!A762)","v":""},{"$f":"IF(OR(SD!C762=\"\"),\"\",SD!C762)","v":""},{"$f":"IF(OR(SD!E762=\"\"),\"\",SD!E762)","v":""},{"$f":"IF(OR(SD!G762=\"\"),\"\",SD!G762)","v":""},{"$f":"IF(OR(SD!I762=\"\"),\"\",SD!I762)","v":""},{"$f":"IF(OR(SD!O762=\"\"),\"\",SD!O762)","v":""},{"$f":"IF(OR(SD!V762=\"\"),\"\",SD!V762)","v":""},{"$f":"IF(SD!D762=\"\",\"\",SD!D762)","v":""}]
[null,{"$f":"IF(E767=\"\",\"\",ROWS($B$6:B767))","v":""},{"$f":"IF(OR(SD!A763=\"\"),\"\",SD!A763)","v":""},{"$f":"IF(OR(SD!C763=\"\"),\"\",SD!C763)","v":""},{"$f":"IF(OR(SD!E763=\"\"),\"\",SD!E763)","v":""},{"$f":"IF(OR(SD!G763=\"\"),\"\",SD!G763)","v":""},{"$f":"IF(OR(SD!I763=\"\"),\"\",SD!I763)","v":""},{"$f":"IF(OR(SD!O763=\"\"),\"\",SD!O763)","v":""},{"$f":"IF(OR(SD!V763=\"\"),\"\",SD!V763)","v":""},{"$f":"IF(SD!D763=\"\",\"\",SD!D763)","v":""}]
[null,{"$f":"IF(E768=\"\",\"\",ROWS($B$6:B768))","v":""},{"$f":"IF(OR(SD!A764=\"\"),\"\",SD!A764)","v":""},{"$f":"IF(OR(SD!C764=\"\"),\"\",SD!C764)","v":""},{"$f":"IF(OR(SD!E764=\"\"),\"\",SD!E764)","v":""},{"$f":"IF(OR(SD!G764=\"\"),\"\",SD!G764)","v":""},{"$f":"IF(OR(SD!I764=\"\"),\"\",SD!I764)","v":""},{"$f":"IF(OR(SD!O764=\"\"),\"\",SD!O764)","v":""},{"$f":"IF(OR(SD!V764=\"\"),\"\",SD!V764)","v":""},{"$f":"IF(SD!D764=\"\",\"\",SD!D764)","v":""}]
[null,{"$f":"IF(E769=\"\",\"\",ROWS($B$6:B769))","v":""},{"$f":"IF(OR(SD!A765=\"\"),\"\",SD!A765)","v":""},{"$f":"IF(OR(SD!C765=\"\"),\"\",SD!C765)","v":""},{"$f":"IF(OR(SD!E765=\"\"),\"\",SD!E765)","v":""},{"$f":"IF(OR(SD!G765=\"\"),\"\",SD!G765)","v":""},{"$f":"IF(OR(SD!I765=\"\"),\"\",SD!I765)","v":""},{"$f":"IF(OR(SD!O765=\"\"),\"\",SD!O765)","v":""},{"$f":"IF(OR(SD!V765=\"\"),\"\",SD!V765)","v":""},{"$f":"IF(SD!D765=\"\",\"\",SD!D765)","v":""}]
[null,{"$f":"IF(E770=\"\",\"\",ROWS($B$6:B770))","v":""},{"$f":"IF(OR(SD!A766=\"\"),\"\",SD!A766)","v":""},{"$f":"IF(OR(SD!C766=\"\"),\"\",SD!C766)","v":""},{"$f":"IF(OR(SD!E766=\"\"),\"\",SD!E766)","v":""},{"$f":"IF(OR(SD!G766=\"\"),\"\",SD!G766)","v":""},{"$f":"IF(OR(SD!I766=\"\"),\"\",SD!I766)","v":""},{"$f":"IF(OR(SD!O766=\"\"),\"\",SD!O766)","v":""},{"$f":"IF(OR(SD!V766=\"\"),\"\",SD!V766)","v":""},{"$f":"IF(SD!D766=\"\",\"\",SD!D766)","v":""}]
[null,{"$f":"IF(E771=\"\",\"\",ROWS($B$6:B771))","v":""},{"$f":"IF(OR(SD!A767=\"\"),\"\",SD!A767)","v":""},{"$f":"IF(OR(SD!C767=\"\"),\"\",SD!C767)","v":""},{"$f":"IF(OR(SD!E767=\"\"),\"\",SD!E767)","v":""},{"$f":"IF(OR(SD!G767=\"\"),\"\",SD!G767)","v":""},{"$f":"IF(OR(SD!I767=\"\"),\"\",SD!I767)","v":""},{"$f":"IF(OR(SD!O767=\"\"),\"\",SD!O767)","v":""},{"$f":"IF(OR(SD!V767=\"\"),\"\",SD!V767)","v":""},{"$f":"IF(SD!D767=\"\",\"\",SD!D767)","v":""}]
[null,{"$f":"IF(E772=\"\",\"\",ROWS($B$6:B772))","v":""},{"$f":"IF(OR(SD!A768=\"\"),\"\",SD!A768)","v":""},{"$f":"IF(OR(SD!C768=\"\"),\"\",SD!C768)","v":""},{"$f":"IF(OR(SD!E768=\"\"),\"\",SD!E768)","v":""},{"$f":"IF(OR(SD!G768=\"\"),\"\",SD!G768)","v":""},{"$f":"IF(OR(SD!I768=\"\"),\"\",SD!I768)","v":""},{"$f":"IF(OR(SD!O768=\"\"),\"\",SD!O768)","v":""},{"$f":"IF(OR(SD!V768=\"\"),\"\",SD!V768)","v":""},{"$f":"IF(SD!D768=\"\",\"\",SD!D768)","v":""}]
[null,{"$f":"IF(E773=\"\",\"\",ROWS($B$6:B773))","v":""},{"$f":"IF(OR(SD!A769=\"\"),\"\",SD!A769)","v":""},{"$f":"IF(OR(SD!C769=\"\"),\"\",SD!C769)","v":""},{"$f":"IF(OR(SD!E769=\"\"),\"\",SD!E769)","v":""},{"$f":"IF(OR(SD!G769=\"\"),\"\",SD!G769)","v":""},{"$f":"IF(OR(SD!I769=\"\"),\"\",SD!I769)","v":""},{"$f":"IF(OR(SD!O769=\"\"),\"\",SD!O769)","v":""},{"$f":"IF(OR(SD!V769=\"\"),\"\",SD!V769)","v":""},{"$f":"IF(SD!D769=\"\",\"\",SD!D769)","v":""}]
[null,{"$f":"IF(E774=\"\",\"\",ROWS($B$6:B774))","v":""},{"$f":"IF(OR(SD!A770=\"\"),\"\",SD!A770)","v":""},{"$f":"IF(OR(SD!C770=\"\"),\"\",SD!C770)","v":""},{"$f":"IF(OR(SD!E770=\"\"),\"\",SD!E770)","v":""},{"$f":"IF(OR(SD!G770=\"\"),\"\",SD!G770)","v":""},{"$f":"IF(OR(SD!I770=\"\"),\"\",SD!I770)","v":""},{"$f":"IF(OR(SD!O770=\"\"),\"\",SD!O770)","v":""},{"$f":"IF(OR(SD!V770=\"\"),\"\",SD!V770)","v":""},{"$f":"IF(SD!D770=\"\",\"\",SD!D770)","v":""}]
[null,{"$f":"IF(E775=\"\",\"\",ROWS($B$6:B775))","v":""},{"$f":"IF(OR(SD!A771=\"\"),\"\",SD!A771)","v":""},{"$f":"IF(OR(SD!C771=\"\"),\"\",SD!C771)","v":""},{"$f":"IF(OR(SD!E771=\"\"),\"\",SD!E771)","v":""},{"$f":"IF(OR(SD!G771=\"\"),\"\",SD!G771)","v":""},{"$f":"IF(OR(SD!I771=\"\"),\"\",SD!I771)","v":""},{"$f":"IF(OR(SD!O771=\"\"),\"\",SD!O771)","v":""},{"$f":"IF(OR(SD!V771=\"\"),\"\",SD!V771)","v":""},{"$f":"IF(SD!D771=\"\",\"\",SD!D771)","v":""}]
[null,{"$f":"IF(E776=\"\",\"\",ROWS($B$6:B776))","v":""},{"$f":"IF(OR(SD!A772=\"\"),\"\",SD!A772)","v":""},{"$f":"IF(OR(SD!C772=\"\"),\"\",SD!C772)","v":""},{"$f":"IF(OR(SD!E772=\"\"),\"\",SD!E772)","v":""},{"$f":"IF(OR(SD!G772=\"\"),\"\",SD!G772)","v":""},{"$f":"IF(OR(SD!I772=\"\"),\"\",SD!I772)","v":""},{"$f":"IF(OR(SD!O772=\"\"),\"\",SD!O772)","v":""},{"$f":"IF(OR(SD!V772=\"\"),\"\",SD!V772)","v":""},{"$f":"IF(SD!D772=\"\",\"\",SD!D772)","v":""}]
[null,{"$f":"IF(E777=\"\",\"\",ROWS($B$6:B777))","v":""},{"$f":"IF(OR(SD!A773=\"\"),\"\",SD!A773)","v":""},{"$f":"IF(OR(SD!C773=\"\"),\"\",SD!C773)","v":""},{"$f":"IF(OR(SD!E773=\"\"),\"\",SD!E773)","v":""},{"$f":"IF(OR(SD!G773=\"\"),\"\",SD!G773)","v":""},{"$f":"IF(OR(SD!I773=\"\"),\"\",SD!I773)","v":""},{"$f":"IF(OR(SD!O773=\"\"),\"\",SD!O773)","v":""},{"$f":"IF(OR(SD!V773=\"\"),\"\",SD!V773)","v":""},{"$f":"IF(SD!D773=\"\",\"\",SD!D773)","v":""}]
[null,{"$f":"IF(E778=\"\",\"\",ROWS($B$6:B778))","v":""},{"$f":"IF(OR(SD!A774=\"\"),\"\",SD!A774)","v":""},{"$f":"IF(OR(SD!C774=\"\"),\"\",SD!C774)","v":""},{"$f":"IF(OR(SD!E774=\"\"),\"\",SD!E774)","v":""},{"$f":"IF(OR(SD!G774=\"\"),\"\",SD!G774)","v":""},{"$f":"IF(OR(SD!I774=\"\"),\"\",SD!I774)","v":""},{"$f":"IF(OR(SD!O774=\"\"),\"\",SD!O774)","v":""},{"$f":"IF(OR(SD!V774=\"\"),\"\",SD!V774)","v":""},{"$f":"IF(SD!D774=\"\",\"\",SD!D774)","v":""}]
[null,{"$f":"IF(E779=\"\",\"\",ROWS($B$6:B779))","v":""},{"$f":"IF(OR(SD!A775=\"\"),\"\",SD!A775)","v":""},{"$f":"IF(OR(SD!C775=\"\"),\"\",SD!C775)","v":""},{"$f":"IF(OR(SD!E775=\"\"),\"\",SD!E775)","v":""},{"$f":"IF(OR(SD!G775=\"\"),\"\",SD!G775)","v":""},{"$f":"IF(OR(SD!I775=\"\"),\"\",SD!I775)","v":""},{"$f":"IF(OR(SD!O775=\"\"),\"\",SD!O775)","v":""},{"$f":"IF(OR(SD!V775=\"\"),\"\",SD!V775)","v":""},{"$f":"IF(SD!D775=\"\",\"\",SD!D775)","v":""}]
[null,{"$f":"IF(E780=\"\",\"\",ROWS($B$6:B780))","v":""},{"$f":"IF(OR(SD!A776=\"\"),\"\",SD!A776)","v":""},{"$f":"IF(OR(SD!C776=\"\"),\"\",SD!C776)","v":""},{"$f":"IF(OR(SD!E776=\"\"),\"\",SD!E776)","v":""},{"$f":"IF(OR(SD!G776=\"\"),\"\",SD!G776)","v":""},{"$f":"IF(OR(SD!I776=\"\"),\"\",SD!I776)","v":""},{"$f":"IF(OR(SD!O776=\"\"),\"\",SD!O776)","v":""},{"$f":"IF(OR(SD!V776=\"\"),\"\",SD!V776)","v":""},{"$f":"IF(SD!D776=\"\",\"\",SD!D776)","v":""}]
[null,{"$f":"IF(E781=\"\",\"\",ROWS($B$6:B781))","v":""},{"$f":"IF(OR(SD!A777=\"\"),\"\",SD!A777)","v":""},{"$f":"IF(OR(SD!C777=\"\"),\"\",SD!C777)","v":""},{"$f":"IF(OR(SD!E777=\"\"),\"\",SD!E777)","v":""},{"$f":"IF(OR(SD!G777=\"\"),\"\",SD!G777)","v":""},{"$f":"IF(OR(SD!I777=\"\"),\"\",SD!I777)","v":""},{"$f":"IF(OR(SD!O777=\"\"),\"\",SD!O777)","v":""},{"$f":"IF(OR(SD!V777=\"\"),\"\",SD!V777)","v":""},{"$f":"IF(SD!D777=\"\",\"\",SD!D777)","v":""}]
[null,{"$f":"IF(E782=\"\",\"\",ROWS($B$6:B782))","v":""},{"$f":"IF(OR(SD!A778=\"\"),\"\",SD!A778)","v":""},{"$f":"IF(OR(SD!C778=\"\"),\"\",SD!C778)","v":""},{"$f":"IF(OR(SD!E778=\"\"),\"\",SD!E778)","v":""},{"$f":"IF(OR(SD!G778=\"\"),\"\",SD!G778)","v":""},{"$f":"IF(OR(SD!I778=\"\"),\"\",SD!I778)","v":""},{"$f":"IF(OR(SD!O778=\"\"),\"\",SD!O778)","v":""},{"$f":"IF(OR(SD!V778=\"\"),\"\",SD!V778)","v":""},{"$f":"IF(SD!D778=\"\",\"\",SD!D778)","v":""}]
[null,{"$f":"IF(E783=\"\",\"\",ROWS($B$6:B783))","v":""},{"$f":"IF(OR(SD!A779=\"\"),\"\",SD!A779)","v":""},{"$f":"IF(OR(SD!C779=\"\"),\"\",SD!C779)","v":""},{"$f":"IF(OR(SD!E779=\"\"),\"\",SD!E779)","v":""},{"$f":"IF(OR(SD!G779=\"\"),\"\",SD!G779)","v":""},{"$f":"IF(OR(SD!I779=\"\"),\"\",SD!I779)","v":""},{"$f":"IF(OR(SD!O779=\"\"),\"\",SD!O779)","v":""},{"$f":"IF(OR(SD!V779=\"\"),\"\",SD!V779)","v":""},{"$f":"IF(SD!D779=\"\",\"\",SD!D779)","v":""}]
[null,{"$f":"IF(E784=\"\",\"\",ROWS($B$6:B784))","v":""},{"$f":"IF(OR(SD!A780=\"\"),\"\",SD!A780)","v":""},{"$f":"IF(OR(SD!C780=\"\"),\"\",SD!C780)","v":""},{"$f":"IF(OR(SD!E780=\"\"),\"\",SD!E780)","v":""},{"$f":"IF(OR(SD!G780=\"\"),\"\",SD!G780)","v":""},{"$f":"IF(OR(SD!I780=\"\"),\"\",SD!I780)","v":""},{"$f":"IF(OR(SD!O780=\"\"),\"\",SD!O780)","v":""},{"$f":"IF(OR(SD!V780=\"\"),\"\",SD!V780)","v":""},{"$f":"IF(SD!D780=\"\",\"\",SD!D780)","v":""}]
[null,{"$f":"IF(E785=\"\",\"\",ROWS($B$6:B785))","v":""},{"$f":"IF(OR(SD!A781=\"\"),\"\",SD!A781)","v":""},{"$f":"IF(OR(SD!C781=\"\"),\"\",SD!C781)","v":""},{"$f":"IF(OR(SD!E781=\"\"),\"\",SD!E781)","v":""},{"$f":"IF(OR(SD!G781=\"\"),\"\",SD!G781)","v":""},{"$f":"IF(OR(SD!I781=\"\"),\"\",SD!I781)","v":""},{"$f":"IF(OR(SD!O781=\"\"),\"\",SD!O781)","v":""},{"$f":"IF(OR(SD!V781=\"\"),\"\",SD!V781)","v":""},{"$f":"IF(SD!D781=\"\",\"\",SD!D781)","v":""}]
[null,{"$f":"IF(E786=\"\",\"\",ROWS($B$6:B786))","v":""},{"$f":"IF(OR(SD!A782=\"\"),\"\",SD!A782)","v":""},{"$f":"IF(OR(SD!C782=\"\"),\"\",SD!C782)","v":""},{"$f":"IF(OR(SD!E782=\"\"),\"\",SD!E782)","v":""},{"$f":"IF(OR(SD!G782=\"\"),\"\",SD!G782)","v":""},{"$f":"IF(OR(SD!I782=\"\"),\"\",SD!I782)","v":""},{"$f":"IF(OR(SD!O782=\"\"),\"\",SD!O782)","v":""},{"$f":"IF(OR(SD!V782=\"\"),\"\",SD!V782)","v":""},{"$f":"IF(SD!D782=\"\",\"\",SD!D782)","v":""}]
[null,{"$f":"IF(E787=\"\",\"\",ROWS($B$6:B787))","v":""},{"$f":"IF(OR(SD!A783=\"\"),\"\",SD!A783)","v":""},{"$f":"IF(OR(SD!C783=\"\"),\"\",SD!C783)","v":""},{"$f":"IF(OR(SD!E783=\"\"),\"\",SD!E783)","v":""},{"$f":"IF(OR(SD!G783=\"\"),\"\",SD!G783)","v":""},{"$f":"IF(OR(SD!I783=\"\"),\"\",SD!I783)","v":""},{"$f":"IF(OR(SD!O783=\"\"),\"\",SD!O783)","v":""},{"$f":"IF(OR(SD!V783=\"\"),\"\",SD!V783)","v":""},{"$f":"IF(SD!D783=\"\",\"\",SD!D783)","v":""}]
[null,{"$f":"IF(E788=\"\",\"\",ROWS($B$6:B788))","v":""},{"$f":"IF(OR(SD!A784=\"\"),\"\",SD!A784)","v":""},{"$f":"IF(OR(SD!C784=\"\"),\"\",SD!C784)","v":""},{"$f":"IF(OR(SD!E784=\"\"),\"\",SD!E784)","v":""},{"$f":"IF(OR(SD!G784=\"\"),\"\",SD!G784)","v":""},{"$f":"IF(OR(SD!I784=\"\"),\"\",SD!I784)","v":""},{"$f":"IF(OR(SD!O784=\"\"),\"\",SD!O784)","v":""},{"$f":"IF(OR(SD!V784=\"\"),\"\",SD!V784)","v":""},{"$f":"IF(SD!D784=\"\",\"\",SD!D784)","v":""}]
[null,{"$f":"IF(E789=\"\",\"\",ROWS($B$6:B789))","v":""},{"$f":"IF(OR(SD!A785=\"\"),\"\",SD!A785)","v":""},{"$f":"IF(OR(SD!C785=\"\"),\"\",SD!C785)","v":""},{"$f":"IF(OR(SD!E785=\"\"),\"\",SD!E785)","v":""},{"$f":"IF(OR(SD!G785=\"\"),\"\",SD!G785)","v":""},{"$f":"IF(OR(SD!I785=\"\"),\"\",SD!I785)","v":""},{"$f":"IF(OR(SD!O785=\"\"),\"\",SD!O785)","v":""},{"$f":"IF(OR(SD!V785=\"\"),\"\",SD!V785)","v":""},{"$f":"IF(SD!D785=\"\",\"\",SD!D785)","v":""}]
[null,{"$f":"IF(E790=\"\",\"\",ROWS($B$6:B790))","v":""},{"$f":"IF(OR(SD!A786=\"\"),\"\",SD!A786)","v":""},{"$f":"IF(OR(SD!C786=\"\"),\"\",SD!C786)","v":""},{"$f":"IF(OR(SD!E786=\"\"),\"\",SD!E786)","v":""},{"$f":"IF(OR(SD!G786=\"\"),\"\",SD!G786)","v":""},{"$f":"IF(OR(SD!I786=\"\"),\"\",SD!I786)","v":""},{"$f":"IF(OR(SD!O786=\"\"),\"\",SD!O786)","v":""},{"$f":"IF(OR(SD!V786=\"\"),\"\",SD!V786)","v":""},{"$f":"IF(SD!D786=\"\",\"\",SD!D786)","v":""}]
[null,{"$f":"IF(E791=\"\",\"\",ROWS($B$6:B791))","v":""},{"$f":"IF(OR(SD!A787=\"\"),\"\",SD!A787)","v":""},{"$f":"IF(OR(SD!C787=\"\"),\"\",SD!C787)","v":""},{"$f":"IF(OR(SD!E787=\"\"),\"\",SD!E787)","v":""},{"$f":"IF(OR(SD!G787=\"\"),\"\",SD!G787)","v":""},{"$f":"IF(OR(SD!I787=\"\"),\"\",SD!I787)","v":""},{"$f":"IF(OR(SD!O787=\"\"),\"\",SD!O787)","v":""},{"$f":"IF(OR(SD!V787=\"\"),\"\",SD!V787)","v":""},{"$f":"IF(SD!D787=\"\",\"\",SD!D787)","v":""}]
[null,{"$f":"IF(E792=\"\",\"\",ROWS($B$6:B792))","v":""},{"$f":"IF(OR(SD!A788=\"\"),\"\",SD!A788)","v":""},{"$f":"IF(OR(SD!C788=\"\"),\"\",SD!C788)","v":""},{"$f":"IF(OR(SD!E788=\"\"),\"\",SD!E788)","v":""},{"$f":"IF(OR(SD!G788=\"\"),\"\",SD!G788)","v":""},{"$f":"IF(OR(SD!I788=\"\"),\"\",SD!I788)","v":""},{"$f":"IF(OR(SD!O788=\"\"),\"\",SD!O788)","v":""},{"$f":"IF(OR(SD!V788=\"\"),\"\",SD!V788)","v":""},{"$f":"IF(SD!D788=\"\",\"\",SD!D788)","v":""}]
[null,{"$f":"IF(E793=\"\",\"\",ROWS($B$6:B793))","v":""},{"$f":"IF(OR(SD!A789=\"\"),\"\",SD!A789)","v":""},{"$f":"IF(OR(SD!C789=\"\"),\"\",SD!C789)","v":""},{"$f":"IF(OR(SD!E789=\"\"),\"\",SD!E789)","v":""},{"$f":"IF(OR(SD!G789=\"\"),\"\",SD!G789)","v":""},{"$f":"IF(OR(SD!I789=\"\"),\"\",SD!I789)","v":""},{"$f":"IF(OR(SD!O789=\"\"),\"\",SD!O789)","v":""},{"$f":"IF(OR(SD!V789=\"\"),\"\",SD!V789)","v":""},{"$f":"IF(SD!D789=\"\",\"\",SD!D789)","v":""}]
[null,{"$f":"IF(E794=\"\",\"\",ROWS($B$6:B794))","v":""},{"$f":"IF(OR(SD!A790=\"\"),\"\",SD!A790)","v":""},{"$f":"IF(OR(SD!C790=\"\"),\"\",SD!C790)","v":""},{"$f":"IF(OR(SD!E790=\"\"),\"\",SD!E790)","v":""},{"$f":"IF(OR(SD!G790=\"\"),\"\",SD!G790)","v":""},{"$f":"IF(OR(SD!I790=\"\"),\"\",SD!I790)","v":""},{"$f":"IF(OR(SD!O790=\"\"),\"\",SD!O790)","v":""},{"$f":"IF(OR(SD!V790=\"\"),\"\",SD!V790)","v":""},{"$f":"IF(SD!D790=\"\",\"\",SD!D790)","v":""}]
[null,{"$f":"IF(E795=\"\",\"\",ROWS($B$6:B795))","v":""},{"$f":"IF(OR(SD!A791=\"\"),\"\",SD!A791)","v":""},{"$f":"IF(OR(SD!C791=\"\"),\"\",SD!C791)","v":""},{"$f":"IF(OR(SD!E791=\"\"),\"\",SD!E791)","v":""},{"$f":"IF(OR(SD!G791=\"\"),\"\",SD!G791)","v":""},{"$f":"IF(OR(SD!I791=\"\"),\"\",SD!I791)","v":""},{"$f":"IF(OR(SD!O791=\"\"),\"\",SD!O791)","v":""},{"$f":"IF(OR(SD!V791=\"\"),\"\",SD!V791)","v":""},{"$f":"IF(SD!D791=\"\",\"\",SD!D791)","v":""}]
[null,{"$f":"IF(E796=\"\",\"\",ROWS($B$6:B796))","v":""},{"$f":"IF(OR(SD!A792=\"\"),\"\",SD!A792)","v":""},{"$f":"IF(OR(SD!C792=\"\"),\"\",SD!C792)","v":""},{"$f":"IF(OR(SD!E792=\"\"),\"\",SD!E792)","v":""},{"$f":"IF(OR(SD!G792=\"\"),\"\",SD!G792)","v":""},{"$f":"IF(OR(SD!I792=\"\"),\"\",SD!I792)","v":""},{"$f":"IF(OR(SD!O792=\"\"),\"\",SD!O792)","v":""},{"$f":"IF(OR(SD!V792=\"\"),\"\",SD!V792)","v":""},{"$f":"IF(SD!D792=\"\",\"\",SD!D792)","v":""}]
[null,{"$f":"IF(E797=\"\",\"\",ROWS($B$6:B797))","v":""},{"$f":"IF(OR(SD!A793=\"\"),\"\",SD!A793)","v":""},{"$f":"IF(OR(SD!C793=\"\"),\"\",SD!C793)","v":""},{"$f":"IF(OR(SD!E793=\"\"),\"\",SD!E793)","v":""},{"$f":"IF(OR(SD!G793=\"\"),\"\",SD!G793)","v":""},{"$f":"IF(OR(SD!I793=\"\"),\"\",SD!I793)","v":""},{"$f":"IF(OR(SD!O793=\"\"),\"\",SD!O793)","v":""},{"$f":"IF(OR(SD!V793=\"\"),\"\",SD!V793)","v":""},{"$f":"IF(SD!D793=\"\",\"\",SD!D793)","v":""}]
[null,{"$f":"IF(E798=\"\",\"\",ROWS($B$6:B798))","v":""},{"$f":"IF(OR(SD!A794=\"\"),\"\",SD!A794)","v":""},{"$f":"IF(OR(SD!C794=\"\"),\"\",SD!C794)","v":""},{"$f":"IF(OR(SD!E794=\"\"),\"\",SD!E794)","v":""},{"$f":"IF(OR(SD!G794=\"\"),\"\",SD!G794)","v":""},{"$f":"IF(OR(SD!I794=\"\"),\"\",SD!I794)","v":""},{"$f":"IF(OR(SD!O794=\"\"),\"\",SD!O794)","v":""},{"$f":"IF(OR(SD!V794=\"\"),\"\",SD!V794)","v":""},{"$f":"IF(SD!D794=\"\",\"\",SD!D794)","v":""}]
[null,{"$f":"IF(E799=\"\",\"\",ROWS($B$6:B799))","v":""},{"$f":"IF(OR(SD!A795=\"\"),\"\",SD!A795)","v":""},{"$f":"IF(OR(SD!C795=\"\"),\"\",SD!C795)","v":""},{"$f":"IF(OR(SD!E795=\"\"),\"\",SD!E795)","v":""},{"$f":"IF(OR(SD!G795=\"\"),\"\",SD!G795)","v":""},{"$f":"IF(OR(SD!I795=\"\"),\"\",SD!I795)","v":""},{"$f":"IF(OR(SD!O795=\"\"),\"\",SD!O795)","v":""},{"$f":"IF(OR(SD!V795=\"\"),\"\",SD!V795)","v":""},{"$f":"IF(SD!D795=\"\",\"\",SD!D795)","v":""}]
[null,{"$f":"IF(E800=\"\",\"\",ROWS($B$6:B800))","v":""},{"$f":"IF(OR(SD!A796=\"\"),\"\",SD!A796)","v":""},{"$f":"IF(OR(SD!C796=\"\"),\"\",SD!C796)","v":""},{"$f":"IF(OR(SD!E796=\"\"),\"\",SD!E796)","v":""},{"$f":"IF(OR(SD!G796=\"\"),\"\",SD!G796)","v":""},{"$f":"IF(OR(SD!I796=\"\"),\"\",SD!I796)","v":""},{"$f":"IF(OR(SD!O796=\"\"),\"\",SD!O796)","v":""},{"$f":"IF(OR(SD!V796=\"\"),\"\",SD!V796)","v":""},{"$f":"IF(SD!D796=\"\",\"\",SD!D796)","v":""}]
[null,{"$f":"IF(E801=\"\",\"\",ROWS($B$6:B801))","v":""},{"$f":"IF(OR(SD!A797=\"\"),\"\",SD!A797)","v":""},{"$f":"IF(OR(SD!C797=\"\"),\"\",SD!C797)","v":""},{"$f":"IF(OR(SD!E797=\"\"),\"\",SD!E797)","v":""},{"$f":"IF(OR(SD!G797=\"\"),\"\",SD!G797)","v":""},{"$f":"IF(OR(SD!I797=\"\"),\"\",SD!I797)","v":""},{"$f":"IF(OR(SD!O797=\"\"),\"\",SD!O797)","v":""},{"$f":"IF(OR(SD!V797=\"\"),\"\",SD!V797)","v":""},{"$f":"IF(SD!D797=\"\",\"\",SD!D797)","v":""}]
[null,{"$f":"IF(E802=\"\",\"\",ROWS($B$6:B802))","v":""},{"$f":"IF(OR(SD!A798=\"\"),\"\",SD!A798)","v":""},{"$f":"IF(OR(SD!C798=\"\"),\"\",SD!C798)","v":""},{"$f":"IF(OR(SD!E798=\"\"),\"\",SD!E798)","v":""},{"$f":"IF(OR(SD!G798=\"\"),\"\",SD!G798)","v":""},{"$f":"IF(OR(SD!I798=\"\"),\"\",SD!I798)","v":""},{"$f":"IF(OR(SD!O798=\"\"),\"\",SD!O798)","v":""},{"$f":"IF(OR(SD!V798=\"\"),\"\",SD!V798)","v":""},{"$f":"IF(SD!D798=\"\",\"\",SD!D798)","v":""}]
[null,{"$f":"IF(E803=\"\",\"\",ROWS($B$6:B803))","v":""},{"$f":"IF(OR(SD!A799=\"\"),\"\",SD!A799)","v":""},{"$f":"IF(OR(SD!C799=\"\"),\"\",SD!C799)","v":""},{"$f":"IF(OR(SD!E799=\"\"),\"\",SD!E799)","v":""},{"$f":"IF(OR(SD!G799=\"\"),\"\",SD!G799)","v":""},{"$f":"IF(OR(SD!I799=\"\"),\"\",SD!I799)","v":""},{"$f":"IF(OR(SD!O799=\"\"),\"\",SD!O799)","v":""},{"$f":"IF(OR(SD!V799=\"\"),\"\",SD!V799)","v":""},{"$f":"IF(SD!D799=\"\",\"\",SD!D799)","v":""}]
[null,{"$f":"IF(E804=\"\",\"\",ROWS($B$6:B804))","v":""},{"$f":"IF(OR(SD!A800=\"\"),\"\",SD!A800)","v":""},{"$f":"IF(OR(SD!C800=\"\"),\"\",SD!C800)","v":""},{"$f":"IF(OR(SD!E800=\"\"),\"\",SD!E800)","v":""},{"$f":"IF(OR(SD!G800=\"\"),\"\",SD!G800)","v":""},{"$f":"IF(OR(SD!I800=\"\"),\"\",SD!I800)","v":""},{"$f":"IF(OR(SD!O800=\"\"),\"\",SD!O800)","v":""},{"$f":"IF(OR(SD!V800=\"\"),\"\",SD!V800)","v":""},{"$f":"IF(SD!D800=\"\",\"\",SD!D800)","v":""}]
[null,{"$f":"IF(E805=\"\",\"\",ROWS($B$6:B805))","v":""},{"$f":"IF(OR(SD!A801=\"\"),\"\",SD!A801)","v":""},{"$f":"IF(OR(SD!C801=\"\"),\"\",SD!C801)","v":""},{"$f":"IF(OR(SD!E801=\"\"),\"\",SD!E801)","v":""},{"$f":"IF(OR(SD!G801=\"\"),\"\",SD!G801)","v":""},{"$f":"IF(OR(SD!I801=\"\"),\"\",SD!I801)","v":""},{"$f":"IF(OR(SD!O801=\"\"),\"\",SD!O801)","v":""},{"$f":"IF(OR(SD!V801=\"\"),\"\",SD!V801)","v":""},{"$f":"IF(SD!D801=\"\",\"\",SD!D801)","v":""}]
[null,{"$f":"IF(E806=\"\",\"\",ROWS($B$6:B806))","v":""},{"$f":"IF(OR(SD!A802=\"\"),\"\",SD!A802)","v":""},{"$f":"IF(OR(SD!C802=\"\"),\"\",SD!C802)","v":""},{"$f":"IF(OR(SD!E802=\"\"),\"\",SD!E802)","v":""},{"$f":"IF(OR(SD!G802=\"\"),\"\",SD!G802)","v":""},{"$f":"IF(OR(SD!I802=\"\"),\"\",SD!I802)","v":""},{"$f":"IF(OR(SD!O802=\"\"),\"\",SD!O802)","v":""},{"$f":"IF(OR(SD!V802=\"\"),\"\",SD!V802)","v":""},{"$f":"IF(SD!D802=\"\",\"\",SD!D802)","v":""}]
[null,{"$f":"IF(E807=\"\",\"\",ROWS($B$6:B807))","v":""},{"$f":"IF(OR(SD!A803=\"\"),\"\",SD!A803)","v":""},{"$f":"IF(OR(SD!C803=\"\"),\"\",SD!C803)","v":""},{"$f":"IF(OR(SD!E803=\"\"),\"\",SD!E803)","v":""},{"$f":"IF(OR(SD!G803=\"\"),\"\",SD!G803)","v":""},{"$f":"IF(OR(SD!I803=\"\"),\"\",SD!I803)","v":""},{"$f":"IF(OR(SD!O803=\"\"),\"\",SD!O803)","v":""},{"$f":"IF(OR(SD!V803=\"\"),\"\",SD!V803)","v":""},{"$f":"IF(SD!D803=\"\",\"\",SD!D803)","v":""}]
[null,{"$f":"IF(E808=\"\",\"\",ROWS($B$6:B808))","v":""},{"$f":"IF(OR(SD!A804=\"\"),\"\",SD!A804)","v":""},{"$f":"IF(OR(SD!C804=\"\"),\"\",SD!C804)","v":""},{"$f":"IF(OR(SD!E804=\"\"),\"\",SD!E804)","v":""},{"$f":"IF(OR(SD!G804=\"\"),\"\",SD!G804)","v":""},{"$f":"IF(OR(SD!I804=\"\"),\"\",SD!I804)","v":""},{"$f":"IF(OR(SD!O804=\"\"),\"\",SD!O804)","v":""},{"$f":"IF(OR(SD!V804=\"\"),\"\",SD!V804)","v":""},{"$f":"IF(SD!D804=\"\",\"\",SD!D804)","v":""}]
[null,{"$f":"IF(E809=\"\",\"\",ROWS($B$6:B809))","v":""},{"$f":"IF(OR(SD!A805=\"\"),\"\",SD!A805)","v":""},{"$f":"IF(OR(SD!C805=\"\"),\"\",SD!C805)","v":""},{"$f":"IF(OR(SD!E805=\"\"),\"\",SD!E805)","v":""},{"$f":"IF(OR(SD!G805=\"\"),\"\",SD!G805)","v":""},{"$f":"IF(OR(SD!I805=\"\"),\"\",SD!I805)","v":""},{"$f":"IF(OR(SD!O805=\"\"),\"\",SD!O805)","v":""},{"$f":"IF(OR(SD!V805=\"\"),\"\",SD!V805)","v":""},{"$f":"IF(SD!D805=\"\",\"\",SD!D805)","v":""}]
[null,{"$f":"IF(E810=\"\",\"\",ROWS($B$6:B810))","v":""},{"$f":"IF(OR(SD!A806=\"\"),\"\",SD!A806)","v":""},{"$f":"IF(OR(SD!C806=\"\"),\"\",SD!C806)","v":""},{"$f":"IF(OR(SD!E806=\"\"),\"\",SD!E806)","v":""},{"$f":"IF(OR(SD!G806=\"\"),\"\",SD!G806)","v":""},{"$f":"IF(OR(SD!I806=\"\"),\"\",SD!I806)","v":""},{"$f":"IF(OR(SD!O806=\"\"),\"\",SD!O806)","v":""},{"$f":"IF(OR(SD!V806=\"\"),\"\",SD!V806)","v":""},{"$f":"IF(SD!D806=\"\",\"\",SD!D806)","v":""}]
[null,{"$f":"IF(E811=\"\",\"\",ROWS($B$6:B811))","v":""},{"$f":"IF(OR(SD!A807=\"\"),\"\",SD!A807)","v":""},{"$f":"IF(OR(SD!C807=\"\"),\"\",SD!C807)","v":""},{"$f":"IF(OR(SD!E807=\"\"),\"\",SD!E807)","v":""},{"$f":"IF(OR(SD!G807=\"\"),\"\",SD!G807)","v":""},{"$f":"IF(OR(SD!I807=\"\"),\"\",SD!I807)","v":""},{"$f":"IF(OR(SD!O807=\"\"),\"\",SD!O807)","v":""},{"$f":"IF(OR(SD!V807=\"\"),\"\",SD!V807)","v":""},{"$f":"IF(SD!D807=\"\",\"\",SD!D807)","v":""}]
[null,{"$f":"IF(E812=\"\",\"\",ROWS($B$6:B812))","v":""},{"$f":"IF(OR(SD!A808=\"\"),\"\",SD!A808)","v":""},{"$f":"IF(OR(SD!C808=\"\"),\"\",SD!C808)","v":""},{"$f":"IF(OR(SD!E808=\"\"),\"\",SD!E808)","v":""},{"$f":"IF(OR(SD!G808=\"\"),\"\",SD!G808)","v":""},{"$f":"IF(OR(SD!I808=\"\"),\"\",SD!I808)","v":""},{"$f":"IF(OR(SD!O808=\"\"),\"\",SD!O808)","v":""},{"$f":"IF(OR(SD!V808=\"\"),\"\",SD!V808)","v":""},{"$f":"IF(SD!D808=\"\",\"\",SD!D808)","v":""}]
[null,{"$f":"IF(E813=\"\",\"\",ROWS($B$6:B813))","v":""},{"$f":"IF(OR(SD!A809=\"\"),\"\",SD!A809)","v":""},{"$f":"IF(OR(SD!C809=\"\"),\"\",SD!C809)","v":""},{"$f":"IF(OR(SD!E809=\"\"),\"\",SD!E809)","v":""},{"$f":"IF(OR(SD!G809=\"\"),\"\",SD!G809)","v":""},{"$f":"IF(OR(SD!I809=\"\"),\"\",SD!I809)","v":""},{"$f":"IF(OR(SD!O809=\"\"),\"\",SD!O809)","v":""},{"$f":"IF(OR(SD!V809=\"\"),\"\",SD!V809)","v":""},{"$f":"IF(SD!D809=\"\",\"\",SD!D809)","v":""}]
[null,{"$f":"IF(E814=\"\",\"\",ROWS($B$6:B814))","v":""},{"$f":"IF(OR(SD!A810=\"\"),\"\",SD!A810)","v":""},{"$f":"IF(OR(SD!C810=\"\"),\"\",SD!C810)","v":""},{"$f":"IF(OR(SD!E810=\"\"),\"\",SD!E810)","v":""},{"$f":"IF(OR(SD!G810=\"\"),\"\",SD!G810)","v":""},{"$f":"IF(OR(SD!I810=\"\"),\"\",SD!I810)","v":""},{"$f":"IF(OR(SD!O810=\"\"),\"\",SD!O810)","v":""},{"$f":"IF(OR(SD!V810=\"\"),\"\",SD!V810)","v":""},{"$f":"IF(SD!D810=\"\",\"\",SD!D810)","v":""}]
[null,{"$f":"IF(E815=\"\",\"\",ROWS($B$6:B815))","v":""},{"$f":"IF(OR(SD!A811=\"\"),\"\",SD!A811)","v":""},{"$f":"IF(OR(SD!C811=\"\"),\"\",SD!C811)","v":""},{"$f":"IF(OR(SD!E811=\"\"),\"\",SD!E811)","v":""},{"$f":"IF(OR(SD!G811=\"\"),\"\",SD!G811)","v":""},{"$f":"IF(OR(SD!I811=\"\"),\"\",SD!I811)","v":""},{"$f":"IF(OR(SD!O811=\"\"),\"\",SD!O811)","v":""},{"$f":"IF(OR(SD!V811=\"\"),\"\",SD!V811)","v":""},{"$f":"IF(SD!D811=\"\",\"\",SD!D811)","v":""}]
[null,{"$f":"IF(E816=\"\",\"\",ROWS($B$6:B816))","v":""},{"$f":"IF(OR(SD!A812=\"\"),\"\",SD!A812)","v":""},{"$f":"IF(OR(SD!C812=\"\"),\"\",SD!C812)","v":""},{"$f":"IF(OR(SD!E812=\"\"),\"\",SD!E812)","v":""},{"$f":"IF(OR(SD!G812=\"\"),\"\",SD!G812)","v":""},{"$f":"IF(OR(SD!I812=\"\"),\"\",SD!I812)","v":""},{"$f":"IF(OR(SD!O812=\"\"),\"\",SD!O812)","v":""},{"$f":"IF(OR(SD!V812=\"\"),\"\",SD!V812)","v":""},{"$f":"IF(SD!D812=\"\",\"\",SD!D812)","v":""}]
[null,{"$f":"IF(E817=\"\",\"\",ROWS($B$6:B817))","v":""},{"$f":"IF(OR(SD!A813=\"\"),\"\",SD!A813)","v":""},{"$f":"IF(OR(SD!C813=\"\"),\"\",SD!C813)","v":""},{"$f":"IF(OR(SD!E813=\"\"),\"\",SD!E813)","v":""},{"$f":"IF(OR(SD!G813=\"\"),\"\",SD!G813)","v":""},{"$f":"IF(OR(SD!I813=\"\"),\"\",SD!I813)","v":""},{"$f":"IF(OR(SD!O813=\"\"),\"\",SD!O813)","v":""},{"$f":"IF(OR(SD!V813=\"\"),\"\",SD!V813)","v":""},{"$f":"IF(SD!D813=\"\",\"\",SD!D813)","v":""}]
[null,{"$f":"IF(E818=\"\",\"\",ROWS($B$6:B818))","v":""},{"$f":"IF(OR(SD!A814=\"\"),\"\",SD!A814)","v":""},{"$f":"IF(OR(SD!C814=\"\"),\"\",SD!C814)","v":""},{"$f":"IF(OR(SD!E814=\"\"),\"\",SD!E814)","v":""},{"$f":"IF(OR(SD!G814=\"\"),\"\",SD!G814)","v":""},{"$f":"IF(OR(SD!I814=\"\"),\"\",SD!I814)","v":""},{"$f":"IF(OR(SD!O814=\"\"),\"\",SD!O814)","v":""},{"$f":"IF(OR(SD!V814=\"\"),\"\",SD!V814)","v":""},{"$f":"IF(SD!D814=\"\",\"\",SD!D814)","v":""}]
[null,{"$f":"IF(E819=\"\",\"\",ROWS($B$6:B819))","v":""},{"$f":"IF(OR(SD!A815=\"\"),\"\",SD!A815)","v":""},{"$f":"IF(OR(SD!C815=\"\"),\"\",SD!C815)","v":""},{"$f":"IF(OR(SD!E815=\"\"),\"\",SD!E815)","v":""},{"$f":"IF(OR(SD!G815=\"\"),\"\",SD!G815)","v":""},{"$f":"IF(OR(SD!I815=\"\"),\"\",SD!I815)","v":""},{"$f":"IF(OR(SD!O815=\"\"),\"\",SD!O815)","v":""},{"$f":"IF(OR(SD!V815=\"\"),\"\",SD!V815)","v":""},{"$f":"IF(SD!D815=\"\",\"\",SD!D815)","v":""}]
[null,{"$f":"IF(E820=\"\",\"\",ROWS($B$6:B820))","v":""},{"$f":"IF(OR(SD!A816=\"\"),\"\",SD!A816)","v":""},{"$f":"IF(OR(SD!C816=\"\"),\"\",SD!C816)","v":""},{"$f":"IF(OR(SD!E816=\"\"),\"\",SD!E816)","v":""},{"$f":"IF(OR(SD!G816=\"\"),\"\",SD!G816)","v":""},{"$f":"IF(OR(SD!I816=\"\"),\"\",SD!I816)","v":""},{"$f":"IF(OR(SD!O816=\"\"),\"\",SD!O816)","v":""},{"$f":"IF(OR(SD!V816=\"\"),\"\",SD!V816)","v":""},{"$f":"IF(SD!D816=\"\",\"\",SD!D816)","v":""}]
[null,{"$f":"IF(E821=\"\",\"\",ROWS($B$6:B821))","v":""},{"$f":"IF(OR(SD!A817=\"\"),\"\",SD!A817)","v":""},{"$f":"IF(OR(SD!C817=\"\"),\"\",SD!C817)","v":""},{"$f":"IF(OR(SD!E817=\"\"),\"\",SD!E817)","v":""},{"$f":"IF(OR(SD!G817=\"\"),\"\",SD!G817)","v":""},{"$f":"IF(OR(SD!I817=\"\"),\"\",SD!I817)","v":""},{"$f":"IF(OR(SD!O817=\"\"),\"\",SD!O817)","v":""},{"$f":"IF(OR(SD!V817=\"\"),\"\",SD!V817)","v":""},{"$f":"IF(SD!D817=\"\",\"\",SD!D817)","v":""}]
[null,{"$f":"IF(E822=\"\",\"\",ROWS($B$6:B822))","v":""},{"$f":"IF(OR(SD!A818=\"\"),\"\",SD!A818)","v":""},{"$f":"IF(OR(SD!C818=\"\"),\"\",SD!C818)","v":""},{"$f":"IF(OR(SD!E818=\"\"),\"\",SD!E818)","v":""},{"$f":"IF(OR(SD!G818=\"\"),\"\",SD!G818)","v":""},{"$f":"IF(OR(SD!I818=\"\"),\"\",SD!I818)","v":""},{"$f":"IF(OR(SD!O818=\"\"),\"\",SD!O818)","v":""},{"$f":"IF(OR(SD!V818=\"\"),\"\",SD!V818)","v":""},{"$f":"IF(SD!D818=\"\",\"\",SD!D818)","v":""}]
[null,{"$f":"IF(E823=\"\",\"\",ROWS($B$6:B823))","v":""},{"$f":"IF(OR(SD!A819=\"\"),\"\",SD!A819)","v":""},{"$f":"IF(OR(SD!C819=\"\"),\"\",SD!C819)","v":""},{"$f":"IF(OR(SD!E819=\"\"),\"\",SD!E819)","v":""},{"$f":"IF(OR(SD!G819=\"\"),\"\",SD!G819)","v":""},{"$f":"IF(OR(SD!I819=\"\"),\"\",SD!I819)","v":""},{"$f":"IF(OR(SD!O819=\"\"),\"\",SD!O819)","v":""},{"$f":"IF(OR(SD!V819=\"\"),\"\",SD!V819)","v":""},{"$f":"IF(SD!D819=\"\",\"\",SD!D819)","v":""}]
[null,{"$f":"IF(E824=\"\",\"\",ROWS($B$6:B824))","v":""},{"$f":"IF(OR(SD!A820=\"\"),\"\",SD!A820)","v":""},{"$f":"IF(OR(SD!C820=\"\"),\"\",SD!C820)","v":""},{"$f":"IF(OR(SD!E820=\"\"),\"\",SD!E820)","v":""},{"$f":"IF(OR(SD!G820=\"\"),\"\",SD!G820)","v":""},{"$f":"IF(OR(SD!I820=\"\"),\"\",SD!I820)","v":""},{"$f":"IF(OR(SD!O820=\"\"),\"\",SD!O820)","v":""},{"$f":"IF(OR(SD!V820=\"\"),\"\",SD!V820)","v":""},{"$f":"IF(SD!D820=\"\",\"\",SD!D820)","v":""}]
[null,{"$f":"IF(E825=\"\",\"\",ROWS($B$6:B825))","v":""},{"$f":"IF(OR(SD!A821=\"\"),\"\",SD!A821)","v":""},{"$f":"IF(OR(SD!C821=\"\"),\"\",SD!C821)","v":""},{"$f":"IF(OR(SD!E821=\"\"),\"\",SD!E821)","v":""},{"$f":"IF(OR(SD!G821=\"\"),\"\",SD!G821)","v":""},{"$f":"IF(OR(SD!I821=\"\"),\"\",SD!I821)","v":""},{"$f":"IF(OR(SD!O821=\"\"),\"\",SD!O821)","v":""},{"$f":"IF(OR(SD!V821=\"\"),\"\",SD!V821)","v":""},{"$f":"IF(SD!D821=\"\",\"\",SD!D821)","v":""}]
[null,{"$f":"IF(E826=\"\",\"\",ROWS($B$6:B826))","v":""},{"$f":"IF(OR(SD!A822=\"\"),\"\",SD!A822)","v":""},{"$f":"IF(OR(SD!C822=\"\"),\"\",SD!C822)","v":""},{"$f":"IF(OR(SD!E822=\"\"),\"\",SD!E822)","v":""},{"$f":"IF(OR(SD!G822=\"\"),\"\",SD!G822)","v":""},{"$f":"IF(OR(SD!I822=\"\"),\"\",SD!I822)","v":""},{"$f":"IF(OR(SD!O822=\"\"),\"\",SD!O822)","v":""},{"$f":"IF(OR(SD!V822=\"\"),\"\",SD!V822)","v":""},{"$f":"IF(SD!D822=\"\",\"\",SD!D822)","v":""}]
[null,{"$f":"IF(E827=\"\",\"\",ROWS($B$6:B827))","v":""},{"$f":"IF(OR(SD!A823=\"\"),\"\",SD!A823)","v":""},{"$f":"IF(OR(SD!C823=\"\"),\"\",SD!C823)","v":""},{"$f":"IF(OR(SD!E823=\"\"),\"\",SD!E823)","v":""},{"$f":"IF(OR(SD!G823=\"\"),\"\",SD!G823)","v":""},{"$f":"IF(OR(SD!I823=\"\"),\"\",SD!I823)","v":""},{"$f":"IF(OR(SD!O823=\"\"),\"\",SD!O823)","v":""},{"$f":"IF(OR(SD!V823=\"\"),\"\",SD!V823)","v":""},{"$f":"IF(SD!D823=\"\",\"\",SD!D823)","v":""}]
[null,{"$f":"IF(E828=\"\",\"\",ROWS($B$6:B828))","v":""},{"$f":"IF(OR(SD!A824=\"\"),\"\",SD!A824)","v":""},{"$f":"IF(OR(SD!C824=\"\"),\"\",SD!C824)","v":""},{"$f":"IF(OR(SD!E824=\"\"),\"\",SD!E824)","v":""},{"$f":"IF(OR(SD!G824=\"\"),\"\",SD!G824)","v":""},{"$f":"IF(OR(SD!I824=\"\"),\"\",SD!I824)","v":""},{"$f":"IF(OR(SD!O824=\"\"),\"\",SD!O824)","v":""},{"$f":"IF(OR(SD!V824=\"\"),\"\",SD!V824)","v":""},{"$f":"IF(SD!D824=\"\",\"\",SD!D824)","v":""}]
[null,{"$f":"IF(E829=\"\",\"\",ROWS($B$6:B829))","v":""},{"$f":"IF(OR(SD!A825=\"\"),\"\",SD!A825)","v":""},{"$f":"IF(OR(SD!C825=\"\"),\"\",SD!C825)","v":""},{"$f":"IF(OR(SD!E825=\"\"),\"\",SD!E825)","v":""},{"$f":"IF(OR(SD!G825=\"\"),\"\",SD!G825)","v":""},{"$f":"IF(OR(SD!I825=\"\"),\"\",SD!I825)","v":""},{"$f":"IF(OR(SD!O825=\"\"),\"\",SD!O825)","v":""},{"$f":"IF(OR(SD!V825=\"\"),\"\",SD!V825)","v":""},{"$f":"IF(SD!D825=\"\",\"\",SD!D825)","v":""}]
[null,{"$f":"IF(E830=\"\",\"\",ROWS($B$6:B830))","v":""},{"$f":"IF(OR(SD!A826=\"\"),\"\",SD!A826)","v":""},{"$f":"IF(OR(SD!C826=\"\"),\"\",SD!C826)","v":""},{"$f":"IF(OR(SD!E826=\"\"),\"\",SD!E826)","v":""},{"$f":"IF(OR(SD!G826=\"\"),\"\",SD!G826)","v":""},{"$f":"IF(OR(SD!I826=\"\"),\"\",SD!I826)","v":""},{"$f":"IF(OR(SD!O826=\"\"),\"\",SD!O826)","v":""},{"$f":"IF(OR(SD!V826=\"\"),\"\",SD!V826)","v":""},{"$f":"IF(SD!D826=\"\",\"\",SD!D826)","v":""}]
[null,{"$f":"IF(E831=\"\",\"\",ROWS($B$6:B831))","v":""},{"$f":"IF(OR(SD!A827=\"\"),\"\",SD!A827)","v":""},{"$f":"IF(OR(SD!C827=\"\"),\"\",SD!C827)","v":""},{"$f":"IF(OR(SD!E827=\"\"),\"\",SD!E827)","v":""},{"$f":"IF(OR(SD!G827=\"\"),\"\",SD!G827)","v":""},{"$f":"IF(OR(SD!I827=\"\"),\"\",SD!I827)","v":""},{"$f":"IF(OR(SD!O827=\"\"),\"\",SD!O827)","v":""},{"$f":"IF(OR(SD!V827=\"\"),\"\",SD!V827)","v":""},{"$f":"IF(SD!D827=\"\",\"\",SD!D827)","v":""}]
[null,{"$f":"IF(E832=\"\",\"\",ROWS($B$6:B832))","v":""},{"$f":"IF(OR(SD!A828=\"\"),\"\",SD!A828)","v":""},{"$f":"IF(OR(SD!C828=\"\"),\"\",SD!C828)","v":""},{"$f":"IF(OR(SD!E828=\"\"),\"\",SD!E828)","v":""},{"$f":"IF(OR(SD!G828=\"\"),\"\",SD!G828)","v":""},{"$f":"IF(OR(SD!I828=\"\"),\"\",SD!I828)","v":""},{"$f":"IF(OR(SD!O828=\"\"),\"\",SD!O828)","v":""},{"$f":"IF(OR(SD!V828=\"\"),\"\",SD!V828)","v":""},{"$f":"IF(SD!D828=\"\",\"\",SD!D828)","v":""}]
[null,{"$f":"IF(E833=\"\",\"\",ROWS($B$6:B833))","v":""},{"$f":"IF(OR(SD!A829=\"\"),\"\",SD!A829)","v":""},{"$f":"IF(OR(SD!C829=\"\"),\"\",SD!C829)","v":""},{"$f":"IF(OR(SD!E829=\"\"),\"\",SD!E829)","v":""},{"$f":"IF(OR(SD!G829=\"\"),\"\",SD!G829)","v":""},{"$f":"IF(OR(SD!I829=\"\"),\"\",SD!I829)","v":""},{"$f":"IF(OR(SD!O829=\"\"),\"\",SD!O829)","v":""},{"$f":"IF(OR(SD!V829=\"\"),\"\",SD!V829)","v":""},{"$f":"IF(SD!D829=\"\",\"\",SD!D829)","v":""}]
[null,{"$f":"IF(E834=\"\",\"\",ROWS($B$6:B834))","v":""},{"$f":"IF(OR(SD!A830=\"\"),\"\",SD!A830)","v":""},{"$f":"IF(OR(SD!C830=\"\"),\"\",SD!C830)","v":""},{"$f":"IF(OR(SD!E830=\"\"),\"\",SD!E830)","v":""},{"$f":"IF(OR(SD!G830=\"\"),\"\",SD!G830)","v":""},{"$f":"IF(OR(SD!I830=\"\"),\"\",SD!I830)","v":""},{"$f":"IF(OR(SD!O830=\"\"),\"\",SD!O830)","v":""},{"$f":"IF(OR(SD!V830=\"\"),\"\",SD!V830)","v":""},{"$f":"IF(SD!D830=\"\",\"\",SD!D830)","v":""}]
[null,{"$f":"IF(E835=\"\",\"\",ROWS($B$6:B835))","v":""},{"$f":"IF(OR(SD!A831=\"\"),\"\",SD!A831)","v":""},{"$f":"IF(OR(SD!C831=\"\"),\"\",SD!C831)","v":""},{"$f":"IF(OR(SD!E831=\"\"),\"\",SD!E831)","v":""},{"$f":"IF(OR(SD!G831=\"\"),\"\",SD!G831)","v":""},{"$f":"IF(OR(SD!I831=\"\"),\"\",SD!I831)","v":""},{"$f":"IF(OR(SD!O831=\"\"),\"\",SD!O831)","v":""},{"$f":"IF(OR(SD!V831=\"\"),\"\",SD!V831)","v":""},{"$f":"IF(SD!D831=\"\",\"\",SD!D831)","v":""}]
[null,{"$f":"IF(E836=\"\",\"\",ROWS($B$6:B836))","v":""},{"$f":"IF(OR(SD!A832=\"\"),\"\",SD!A832)","v":""},{"$f":"IF(OR(SD!C832=\"\"),\"\",SD!C832)","v":""},{"$f":"IF(OR(SD!E832=\"\"),\"\",SD!E832)","v":""},{"$f":"IF(OR(SD!G832=\"\"),\"\",SD!G832)","v":""},{"$f":"IF(OR(SD!I832=\"\"),\"\",SD!I832)","v":""},{"$f":"IF(OR(SD!O832=\"\"),\"\",SD!O832)","v":""},{"$f":"IF(OR(SD!V832=\"\"),\"\",SD!V832)","v":""},{"$f":"IF(SD!D832=\"\",\"\",SD!D832)","v":""}]
[null,{"$f":"IF(E837=\"\",\"\",ROWS($B$6:B837))","v":""},{"$f":"IF(OR(SD!A833=\"\"),\"\",SD!A833)","v":""},{"$f":"IF(OR(SD!C833=\"\"),\"\",SD!C833)","v":""},{"$f":"IF(OR(SD!E833=\"\"),\"\",SD!E833)","v":""},{"$f":"IF(OR(SD!G833=\"\"),\"\",SD!G833)","v":""},{"$f":"IF(OR(SD!I833=\"\"),\"\",SD!I833)","v":""},{"$f":"IF(OR(SD!O833=\"\"),\"\",SD!O833)","v":""},{"$f":"IF(OR(SD!V833=\"\"),\"\",SD!V833)","v":""},{"$f":"IF(SD!D833=\"\",\"\",SD!D833)","v":""}]
[null,{"$f":"IF(E838=\"\",\"\",ROWS($B$6:B838))","v":""},{"$f":"IF(OR(SD!A834=\"\"),\"\",SD!A834)","v":""},{"$f":"IF(OR(SD!C834=\"\"),\"\",SD!C834)","v":""},{"$f":"IF(OR(SD!E834=\"\"),\"\",SD!E834)","v":""},{"$f":"IF(OR(SD!G834=\"\"),\"\",SD!G834)","v":""},{"$f":"IF(OR(SD!I834=\"\"),\"\",SD!I834)","v":""},{"$f":"IF(OR(SD!O834=\"\"),\"\",SD!O834)","v":""},{"$f":"IF(OR(SD!V834=\"\"),\"\",SD!V834)","v":""},{"$f":"IF(SD!D834=\"\",\"\",SD!D834)","v":""}]
[null,{"$f":"IF(E839=\"\",\"\",ROWS($B$6:B839))","v":""},{"$f":"IF(OR(SD!A835=\"\"),\"\",SD!A835)","v":""},{"$f":"IF(OR(SD!C835=\"\"),\"\",SD!C835)","v":""},{"$f":"IF(OR(SD!E835=\"\"),\"\",SD!E835)","v":""},{"$f":"IF(OR(SD!G835=\"\"),\"\",SD!G835)","v":""},{"$f":"IF(OR(SD!I835=\"\"),\"\",SD!I835)","v":""},{"$f":"IF(OR(SD!O835=\"\"),\"\",SD!O835)","v":""},{"$f":"IF(OR(SD!V835=\"\"),\"\",SD!V835)","v":""},{"$f":"IF(SD!D835=\"\",\"\",SD!D835)","v":""}]
[null,{"$f":"IF(E840=\"\",\"\",ROWS($B$6:B840))","v":""},{"$f":"IF(OR(SD!A836=\"\"),\"\",SD!A836)","v":""},{"$f":"IF(OR(SD!C836=\"\"),\"\",SD!C836)","v":""},{"$f":"IF(OR(SD!E836=\"\"),\"\",SD!E836)","v":""},{"$f":"IF(OR(SD!G836=\"\"),\"\",SD!G836)","v":""},{"$f":"IF(OR(SD!I836=\"\"),\"\",SD!I836)","v":""},{"$f":"IF(OR(SD!O836=\"\"),\"\",SD!O836)","v":""},{"$f":"IF(OR(SD!V836=\"\"),\"\",SD!V836)","v":""},{"$f":"IF(SD!D836=\"\",\"\",SD!D836)","v":""}]
[null,{"$f":"IF(E841=\"\",\"\",ROWS($B$6:B841))","v":""},{"$f":"IF(OR(SD!A837=\"\"),\"\",SD!A837)","v":""},{"$f":"IF(OR(SD!C837=\"\"),\"\",SD!C837)","v":""},{"$f":"IF(OR(SD!E837=\"\"),\"\",SD!E837)","v":""},{"$f":"IF(OR(SD!G837=\"\"),\"\",SD!G837)","v":""},{"$f":"IF(OR(SD!I837=\"\"),\"\",SD!I837)","v":""},{"$f":"IF(OR(SD!O837=\"\"),\"\",SD!O837)","v":""},{"$f":"IF(OR(SD!V837=\"\"),\"\",SD!V837)","v":""},{"$f":"IF(SD!D837=\"\",\"\",SD!D837)","v":""}]
[null,{"$f":"IF(E842=\"\",\"\",ROWS($B$6:B842))","v":""},{"$f":"IF(OR(SD!A838=\"\"),\"\",SD!A838)","v":""},{"$f":"IF(OR(SD!C838=\"\"),\"\",SD!C838)","v":""},{"$f":"IF(OR(SD!E838=\"\"),\"\",SD!E838)","v":""},{"$f":"IF(OR(SD!G838=\"\"),\"\",SD!G838)","v":""},{"$f":"IF(OR(SD!I838=\"\"),\"\",SD!I838)","v":""},{"$f":"IF(OR(SD!O838=\"\"),\"\",SD!O838)","v":""},{"$f":"IF(OR(SD!V838=\"\"),\"\",SD!V838)","v":""},{"$f":"IF(SD!D838=\"\",\"\",SD!D838)","v":""}]
[null,{"$f":"IF(E843=\"\",\"\",ROWS($B$6:B843))","v":""},{"$f":"IF(OR(SD!A839=\"\"),\"\",SD!A839)","v":""},{"$f":"IF(OR(SD!C839=\"\"),\"\",SD!C839)","v":""},{"$f":"IF(OR(SD!E839=\"\"),\"\",SD!E839)","v":""},{"$f":"IF(OR(SD!G839=\"\"),\"\",SD!G839)","v":""},{"$f":"IF(OR(SD!I839=\"\"),\"\",SD!I839)","v":""},{"$f":"IF(OR(SD!O839=\"\"),\"\",SD!O839)","v":""},{"$f":"IF(OR(SD!V839=\"\"),\"\",SD!V839)","v":""},{"$f":"IF(SD!D839=\"\",\"\",SD!D839)","v":""}]
[null,{"$f":"IF(E844=\"\",\"\",ROWS($B$6:B844))","v":""},{"$f":"IF(OR(SD!A840=\"\"),\"\",SD!A840)","v":""},{"$f":"IF(OR(SD!C840=\"\"),\"\",SD!C840)","v":""},{"$f":"IF(OR(SD!E840=\"\"),\"\",SD!E840)","v":""},{"$f":"IF(OR(SD!G840=\"\"),\"\",SD!G840)","v":""},{"$f":"IF(OR(SD!I840=\"\"),\"\",SD!I840)","v":""},{"$f":"IF(OR(SD!O840=\"\"),\"\",SD!O840)","v":""},{"$f":"IF(OR(SD!V840=\"\"),\"\",SD!V840)","v":""},{"$f":"IF(SD!D840=\"\",\"\",SD!D840)","v":""}]
[null,{"$f":"IF(E845=\"\",\"\",ROWS($B$6:B845))","v":""},{"$f":"IF(OR(SD!A841=\"\"),\"\",SD!A841)","v":""},{"$f":"IF(OR(SD!C841=\"\"),\"\",SD!C841)","v":""},{"$f":"IF(OR(SD!E841=\"\"),\"\",SD!E841)","v":""},{"$f":"IF(OR(SD!G841=\"\"),\"\",SD!G841)","v":""},{"$f":"IF(OR(SD!I841=\"\"),\"\",SD!I841)","v":""},{"$f":"IF(OR(SD!O841=\"\"),\"\",SD!O841)","v":""},{"$f":"IF(OR(SD!V841=\"\"),\"\",SD!V841)","v":""},{"$f":"IF(SD!D841=\"\",\"\",SD!D841)","v":""}]
[null,{"$f":"IF(E846=\"\",\"\",ROWS($B$6:B846))","v":""},{"$f":"IF(OR(SD!A842=\"\"),\"\",SD!A842)","v":""},{"$f":"IF(OR(SD!C842=\"\"),\"\",SD!C842)","v":""},{"$f":"IF(OR(SD!E842=\"\"),\"\",SD!E842)","v":""},{"$f":"IF(OR(SD!G842=\"\"),\"\",SD!G842)","v":""},{"$f":"IF(OR(SD!I842=\"\"),\"\",SD!I842)","v":""},{"$f":"IF(OR(SD!O842=\"\"),\"\",SD!O842)","v":""},{"$f":"IF(OR(SD!V842=\"\"),\"\",SD!V842)","v":""},{"$f":"IF(SD!D842=\"\",\"\",SD!D842)","v":""}]
[null,{"$f":"IF(E847=\"\",\"\",ROWS($B$6:B847))","v":""},{"$f":"IF(OR(SD!A843=\"\"),\"\",SD!A843)","v":""},{"$f":"IF(OR(SD!C843=\"\"),\"\",SD!C843)","v":""},{"$f":"IF(OR(SD!E843=\"\"),\"\",SD!E843)","v":""},{"$f":"IF(OR(SD!G843=\"\"),\"\",SD!G843)","v":""},{"$f":"IF(OR(SD!I843=\"\"),\"\",SD!I843)","v":""},{"$f":"IF(OR(SD!O843=\"\"),\"\",SD!O843)","v":""},{"$f":"IF(OR(SD!V843=\"\"),\"\",SD!V843)","v":""},{"$f":"IF(SD!D843=\"\",\"\",SD!D843)","v":""}]
[null,{"$f":"IF(E848=\"\",\"\",ROWS($B$6:B848))","v":""},{"$f":"IF(OR(SD!A844=\"\"),\"\",SD!A844)","v":""},{"$f":"IF(OR(SD!C844=\"\"),\"\",SD!C844)","v":""},{"$f":"IF(OR(SD!E844=\"\"),\"\",SD!E844)","v":""},{"$f":"IF(OR(SD!G844=\"\"),\"\",SD!G844)","v":""},{"$f":"IF(OR(SD!I844=\"\"),\"\",SD!I844)","v":""},{"$f":"IF(OR(SD!O844=\"\"),\"\",SD!O844)","v":""},{"$f":"IF(OR(SD!V844=\"\"),\"\",SD!V844)","v":""},{"$f":"IF(SD!D844=\"\",\"\",SD!D844)","v":""}]
[null,{"$f":"IF(E849=\"\",\"\",ROWS($B$6:B849))","v":""},{"$f":"IF(OR(SD!A845=\"\"),\"\",SD!A845)","v":""},{"$f":"IF(OR(SD!C845=\"\"),\"\",SD!C845)","v":""},{"$f":"IF(OR(SD!E845=\"\"),\"\",SD!E845)","v":""},{"$f":"IF(OR(SD!G845=\"\"),\"\",SD!G845)","v":""},{"$f":"IF(OR(SD!I845=\"\"),\"\",SD!I845)","v":""},{"$f":"IF(OR(SD!O845=\"\"),\"\",SD!O845)","v":""},{"$f":"IF(OR(SD!V845=\"\"),\"\",SD!V845)","v":""},{"$f":"IF(SD!D845=\"\",\"\",SD!D845)","v":""}]
[null,{"$f":"IF(E850=\"\",\"\",ROWS($B$6:B850))","v":""},{"$f":"IF(OR(SD!A846=\"\"),\"\",SD!A846)","v":""},{"$f":"IF(OR(SD!C846=\"\"),\"\",SD!C846)","v":""},{"$f":"IF(OR(SD!E846=\"\"),\"\",SD!E846)","v":""},{"$f":"IF(OR(SD!G846=\"\"),\"\",SD!G846)","v":""},{"$f":"IF(OR(SD!I846=\"\"),\"\",SD!I846)","v":""},{"$f":"IF(OR(SD!O846=\"\"),\"\",SD!O846)","v":""},{"$f":"IF(OR(SD!V846=\"\"),\"\",SD!V846)","v":""},{"$f":"IF(SD!D846=\"\",\"\",SD!D846)","v":""}]
[null,{"$f":"IF(E851=\"\",\"\",ROWS($B$6:B851))","v":""},{"$f":"IF(OR(SD!A847=\"\"),\"\",SD!A847)","v":""},{"$f":"IF(OR(SD!C847=\"\"),\"\",SD!C847)","v":""},{"$f":"IF(OR(SD!E847=\"\"),\"\",SD!E847)","v":""},{"$f":"IF(OR(SD!G847=\"\"),\"\",SD!G847)","v":""},{"$f":"IF(OR(SD!I847=\"\"),\"\",SD!I847)","v":""},{"$f":"IF(OR(SD!O847=\"\"),\"\",SD!O847)","v":""},{"$f":"IF(OR(SD!V847=\"\"),\"\",SD!V847)","v":""},{"$f":"IF(SD!D847=\"\",\"\",SD!D847)","v":""}]
[null,{"$f":"IF(E852=\"\",\"\",ROWS($B$6:B852))","v":""},{"$f":"IF(OR(SD!A848=\"\"),\"\",SD!A848)","v":""},{"$f":"IF(OR(SD!C848=\"\"),\"\",SD!C848)","v":""},{"$f":"IF(OR(SD!E848=\"\"),\"\",SD!E848)","v":""},{"$f":"IF(OR(SD!G848=\"\"),\"\",SD!G848)","v":""},{"$f":"IF(OR(SD!I848=\"\"),\"\",SD!I848)","v":""},{"$f":"IF(OR(SD!O848=\"\"),\"\",SD!O848)","v":""},{"$f":"IF(OR(SD!V848=\"\"),\"\",SD!V848)","v":""},{"$f":"IF(SD!D848=\"\",\"\",SD!D848)","v":""}]
[null,{"$f":"IF(E853=\"\",\"\",ROWS($B$6:B853))","v":""},{"$f":"IF(OR(SD!A849=\"\"),\"\",SD!A849)","v":""},{"$f":"IF(OR(SD!C849=\"\"),\"\",SD!C849)","v":""},{"$f":"IF(OR(SD!E849=\"\"),\"\",SD!E849)","v":""},{"$f":"IF(OR(SD!G849=\"\"),\"\",SD!G849)","v":""},{"$f":"IF(OR(SD!I849=\"\"),\"\",SD!I849)","v":""},{"$f":"IF(OR(SD!O849=\"\"),\"\",SD!O849)","v":""},{"$f":"IF(OR(SD!V849=\"\"),\"\",SD!V849)","v":""},{"$f":"IF(SD!D849=\"\",\"\",SD!D849)","v":""}]
[null,{"$f":"IF(E854=\"\",\"\",ROWS($B$6:B854))","v":""},{"$f":"IF(OR(SD!A850=\"\"),\"\",SD!A850)","v":""},{"$f":"IF(OR(SD!C850=\"\"),\"\",SD!C850)","v":""},{"$f":"IF(OR(SD!E850=\"\"),\"\",SD!E850)","v":""},{"$f":"IF(OR(SD!G850=\"\"),\"\",SD!G850)","v":""},{"$f":"IF(OR(SD!I850=\"\"),\"\",SD!I850)","v":""},{"$f":"IF(OR(SD!O850=\"\"),\"\",SD!O850)","v":""},{"$f":"IF(OR(SD!V850=\"\"),\"\",SD!V850)","v":""},{"$f":"IF(SD!D850=\"\",\"\",SD!D850)","v":""}]
[null,{"$f":"IF(E855=\"\",\"\",ROWS($B$6:B855))","v":""},{"$f":"IF(OR(SD!A851=\"\"),\"\",SD!A851)","v":""},{"$f":"IF(OR(SD!C851=\"\"),\"\",SD!C851)","v":""},{"$f":"IF(OR(SD!E851=\"\"),\"\",SD!E851)","v":""},{"$f":"IF(OR(SD!G851=\"\"),\"\",SD!G851)","v":""},{"$f":"IF(OR(SD!I851=\"\"),\"\",SD!I851)","v":""},{"$f":"IF(OR(SD!O851=\"\"),\"\",SD!O851)","v":""},{"$f":"IF(OR(SD!V851=\"\"),\"\",SD!V851)","v":""},{"$f":"IF(SD!D851=\"\",\"\",SD!D851)","v":""}]
[null,{"$f":"IF(E856=\"\",\"\",ROWS($B$6:B856))","v":""},{"$f":"IF(OR(SD!A852=\"\"),\"\",SD!A852)","v":""},{"$f":"IF(OR(SD!C852=\"\"),\"\",SD!C852)","v":""},{"$f":"IF(OR(SD!E852=\"\"),\"\",SD!E852)","v":""},{"$f":"IF(OR(SD!G852=\"\"),\"\",SD!G852)","v":""},{"$f":"IF(OR(SD!I852=\"\"),\"\",SD!I852)","v":""},{"$f":"IF(OR(SD!O852=\"\"),\"\",SD!O852)","v":""},{"$f":"IF(OR(SD!V852=\"\"),\"\",SD!V852)","v":""},{"$f":"IF(SD!D852=\"\",\"\",SD!D852)","v":""}]
[null,{"$f":"IF(E857=\"\",\"\",ROWS($B$6:B857))","v":""},{"$f":"IF(OR(SD!A853=\"\"),\"\",SD!A853)","v":""},{"$f":"IF(OR(SD!C853=\"\"),\"\",SD!C853)","v":""},{"$f":"IF(OR(SD!E853=\"\"),\"\",SD!E853)","v":""},{"$f":"IF(OR(SD!G853=\"\"),\"\",SD!G853)","v":""},{"$f":"IF(OR(SD!I853=\"\"),\"\",SD!I853)","v":""},{"$f":"IF(OR(SD!O853=\"\"),\"\",SD!O853)","v":""},{"$f":"IF(OR(SD!V853=\"\"),\"\",SD!V853)","v":""},{"$f":"IF(SD!D853=\"\",\"\",SD!D853)","v":""}]
[null,{"$f":"IF(E858=\"\",\"\",ROWS($B$6:B858))","v":""},{"$f":"IF(OR(SD!A854=\"\"),\"\",SD!A854)","v":""},{"$f":"IF(OR(SD!C854=\"\"),\"\",SD!C854)","v":""},{"$f":"IF(OR(SD!E854=\"\"),\"\",SD!E854)","v":""},{"$f":"IF(OR(SD!G854=\"\"),\"\",SD!G854)","v":""},{"$f":"IF(OR(SD!I854=\"\"),\"\",SD!I854)","v":""},{"$f":"IF(OR(SD!O854=\"\"),\"\",SD!O854)","v":""},{"$f":"IF(OR(SD!V854=\"\"),\"\",SD!V854)","v":""},{"$f":"IF(SD!D854=\"\",\"\",SD!D854)","v":""}]
[null,{"$f":"IF(E859=\"\",\"\",ROWS($B$6:B859))","v":""},{"$f":"IF(OR(SD!A855=\"\"),\"\",SD!A855)","v":""},{"$f":"IF(OR(SD!C855=\"\"),\"\",SD!C855)","v":""},{"$f":"IF(OR(SD!E855=\"\"),\"\",SD!E855)","v":""},{"$f":"IF(OR(SD!G855=\"\"),\"\",SD!G855)","v":""},{"$f":"IF(OR(SD!I855=\"\"),\"\",SD!I855)","v":""},{"$f":"IF(OR(SD!O855=\"\"),\"\",SD!O855)","v":""},{"$f":"IF(OR(SD!V855=\"\"),\"\",SD!V855)","v":""},{"$f":"IF(SD!D855=\"\",\"\",SD!D855)","v":""}]
[null,{"$f":"IF(E860=\"\",\"\",ROWS($B$6:B860))","v":""},{"$f":"IF(OR(SD!A856=\"\"),\"\",SD!A856)","v":""},{"$f":"IF(OR(SD!C856=\"\"),\"\",SD!C856)","v":""},{"$f":"IF(OR(SD!E856=\"\"),\"\",SD!E856)","v":""},{"$f":"IF(OR(SD!G856=\"\"),\"\",SD!G856)","v":""},{"$f":"IF(OR(SD!I856=\"\"),\"\",SD!I856)","v":""},{"$f":"IF(OR(SD!O856=\"\"),\"\",SD!O856)","v":""},{"$f":"IF(OR(SD!V856=\"\"),\"\",SD!V856)","v":""},{"$f":"IF(SD!D856=\"\",\"\",SD!D856)","v":""}]
[null,{"$f":"IF(E861=\"\",\"\",ROWS($B$6:B861))","v":""},{"$f":"IF(OR(SD!A857=\"\"),\"\",SD!A857)","v":""},{"$f":"IF(OR(SD!C857=\"\"),\"\",SD!C857)","v":""},{"$f":"IF(OR(SD!E857=\"\"),\"\",SD!E857)","v":""},{"$f":"IF(OR(SD!G857=\"\"),\"\",SD!G857)","v":""},{"$f":"IF(OR(SD!I857=\"\"),\"\",SD!I857)","v":""},{"$f":"IF(OR(SD!O857=\"\"),\"\",SD!O857)","v":""},{"$f":"IF(OR(SD!V857=\"\"),\"\",SD!V857)","v":""},{"$f":"IF(SD!D857=\"\",\"\",SD!D857)","v":""}]
[null,{"$f":"IF(E862=\"\",\"\",ROWS($B$6:B862))","v":""},{"$f":"IF(OR(SD!A858=\"\"),\"\",SD!A858)","v":""},{"$f":"IF(OR(SD!C858=\"\"),\"\",SD!C858)","v":""},{"$f":"IF(OR(SD!E858=\"\"),\"\",SD!E858)","v":""},{"$f":"IF(OR(SD!G858=\"\"),\"\",SD!G858)","v":""},{"$f":"IF(OR(SD!I858=\"\"),\"\",SD!I858)","v":""},{"$f":"IF(OR(SD!O858=\"\"),\"\",SD!O858)","v":""},{"$f":"IF(OR(SD!V858=\"\"),\"\",SD!V858)","v":""},{"$f":"IF(SD!D858=\"\",\"\",SD!D858)","v":""}]
[null,{"$f":"IF(E863=\"\",\"\",ROWS($B$6:B863))","v":""},{"$f":"IF(OR(SD!A859=\"\"),\"\",SD!A859)","v":""},{"$f":"IF(OR(SD!C859=\"\"),\"\",SD!C859)","v":""},{"$f":"IF(OR(SD!E859=\"\"),\"\",SD!E859)","v":""},{"$f":"IF(OR(SD!G859=\"\"),\"\",SD!G859)","v":""},{"$f":"IF(OR(SD!I859=\"\"),\"\",SD!I859)","v":""},{"$f":"IF(OR(SD!O859=\"\"),\"\",SD!O859)","v":""},{"$f":"IF(OR(SD!V859=\"\"),\"\",SD!V859)","v":""},{"$f":"IF(SD!D859=\"\",\"\",SD!D859)","v":""}]
[null,{"$f":"IF(E864=\"\",\"\",ROWS($B$6:B864))","v":""},{"$f":"IF(OR(SD!A860=\"\"),\"\",SD!A860)","v":""},{"$f":"IF(OR(SD!C860=\"\"),\"\",SD!C860)","v":""},{"$f":"IF(OR(SD!E860=\"\"),\"\",SD!E860)","v":""},{"$f":"IF(OR(SD!G860=\"\"),\"\",SD!G860)","v":""},{"$f":"IF(OR(SD!I860=\"\"),\"\",SD!I860)","v":""},{"$f":"IF(OR(SD!O860=\"\"),\"\",SD!O860)","v":""},{"$f":"IF(OR(SD!V860=\"\"),\"\",SD!V860)","v":""},{"$f":"IF(SD!D860=\"\",\"\",SD!D860)","v":""}]
[null,{"$f":"IF(E865=\"\",\"\",ROWS($B$6:B865))","v":""},{"$f":"IF(OR(SD!A861=\"\"),\"\",SD!A861)","v":""},{"$f":"IF(OR(SD!C861=\"\"),\"\",SD!C861)","v":""},{"$f":"IF(OR(SD!E861=\"\"),\"\",SD!E861)","v":""},{"$f":"IF(OR(SD!G861=\"\"),\"\",SD!G861)","v":""},{"$f":"IF(OR(SD!I861=\"\"),\"\",SD!I861)","v":""},{"$f":"IF(OR(SD!O861=\"\"),\"\",SD!O861)","v":""},{"$f":"IF(OR(SD!V861=\"\"),\"\",SD!V861)","v":""},{"$f":"IF(SD!D861=\"\",\"\",SD!D861)","v":""}]
[null,{"$f":"IF(E866=\"\",\"\",ROWS($B$6:B866))","v":""},{"$f":"IF(OR(SD!A862=\"\"),\"\",SD!A862)","v":""},{"$f":"IF(OR(SD!C862=\"\"),\"\",SD!C862)","v":""},{"$f":"IF(OR(SD!E862=\"\"),\"\",SD!E862)","v":""},{"$f":"IF(OR(SD!G862=\"\"),\"\",SD!G862)","v":""},{"$f":"IF(OR(SD!I862=\"\"),\"\",SD!I862)","v":""},{"$f":"IF(OR(SD!O862=\"\"),\"\",SD!O862)","v":""},{"$f":"IF(OR(SD!V862=\"\"),\"\",SD!V862)","v":""},{"$f":"IF(SD!D862=\"\",\"\",SD!D862)","v":""}]
[null,{"$f":"IF(E867=\"\",\"\",ROWS($B$6:B867))","v":""},{"$f":"IF(OR(SD!A863=\"\"),\"\",SD!A863)","v":""},{"$f":"IF(OR(SD!C863=\"\"),\"\",SD!C863)","v":""},{"$f":"IF(OR(SD!E863=\"\"),\"\",SD!E863)","v":""},{"$f":"IF(OR(SD!G863=\"\"),\"\",SD!G863)","v":""},{"$f":"IF(OR(SD!I863=\"\"),\"\",SD!I863)","v":""},{"$f":"IF(OR(SD!O863=\"\"),\"\",SD!O863)","v":""},{"$f":"IF(OR(SD!V863=\"\"),\"\",SD!V863)","v":""},{"$f":"IF(SD!D863=\"\",\"\",SD!D863)","v":""}]
[null,{"$f":"IF(E868=\"\",\"\",ROWS($B$6:B868))","v":""},{"$f":"IF(OR(SD!A864=\"\"),\"\",SD!A864)","v":""},{"$f":"IF(OR(SD!C864=\"\"),\"\",SD!C864)","v":""},{"$f":"IF(OR(SD!E864=\"\"),\"\",SD!E864)","v":""},{"$f":"IF(OR(SD!G864=\"\"),\"\",SD!G864)","v":""},{"$f":"IF(OR(SD!I864=\"\"),\"\",SD!I864)","v":""},{"$f":"IF(OR(SD!O864=\"\"),\"\",SD!O864)","v":""},{"$f":"IF(OR(SD!V864=\"\"),\"\",SD!V864)","v":""},{"$f":"IF(SD!D864=\"\",\"\",SD!D864)","v":""}]
[null,{"$f":"IF(E869=\"\",\"\",ROWS($B$6:B869))","v":""},{"$f":"IF(OR(SD!A865=\"\"),\"\",SD!A865)","v":""},{"$f":"IF(OR(SD!C865=\"\"),\"\",SD!C865)","v":""},{"$f":"IF(OR(SD!E865=\"\"),\"\",SD!E865)","v":""},{"$f":"IF(OR(SD!G865=\"\"),\"\",SD!G865)","v":""},{"$f":"IF(OR(SD!I865=\"\"),\"\",SD!I865)","v":""},{"$f":"IF(OR(SD!O865=\"\"),\"\",SD!O865)","v":""},{"$f":"IF(OR(SD!V865=\"\"),\"\",SD!V865)","v":""},{"$f":"IF(SD!D865=\"\",\"\",SD!D865)","v":""}]
[null,{"$f":"IF(E870=\"\",\"\",ROWS($B$6:B870))","v":""},{"$f":"IF(OR(SD!A866=\"\"),\"\",SD!A866)","v":""},{"$f":"IF(OR(SD!C866=\"\"),\"\",SD!C866)","v":""},{"$f":"IF(OR(SD!E866=\"\"),\"\",SD!E866)","v":""},{"$f":"IF(OR(SD!G866=\"\"),\"\",SD!G866)","v":""},{"$f":"IF(OR(SD!I866=\"\"),\"\",SD!I866)","v":""},{"$f":"IF(OR(SD!O866=\"\"),\"\",SD!O866)","v":""},{"$f":"IF(OR(SD!V866=\"\"),\"\",SD!V866)","v":""},{"$f":"IF(SD!D866=\"\",\"\",SD!D866)","v":""}]
[null,{"$f":"IF(E871=\"\",\"\",ROWS($B$6:B871))","v":""},{"$f":"IF(OR(SD!A867=\"\"),\"\",SD!A867)","v":""},{"$f":"IF(OR(SD!C867=\"\"),\"\",SD!C867)","v":""},{"$f":"IF(OR(SD!E867=\"\"),\"\",SD!E867)","v":""},{"$f":"IF(OR(SD!G867=\"\"),\"\",SD!G867)","v":""},{"$f":"IF(OR(SD!I867=\"\"),\"\",SD!I867)","v":""},{"$f":"IF(OR(SD!O867=\"\"),\"\",SD!O867)","v":""},{"$f":"IF(OR(SD!V867=\"\"),\"\",SD!V867)","v":""},{"$f":"IF(SD!D867=\"\",\"\",SD!D867)","v":""}]
[null,{"$f":"IF(E872=\"\",\"\",ROWS($B$6:B872))","v":""},{"$f":"IF(OR(SD!A868=\"\"),\"\",SD!A868)","v":""},{"$f":"IF(OR(SD!C868=\"\"),\"\",SD!C868)","v":""},{"$f":"IF(OR(SD!E868=\"\"),\"\",SD!E868)","v":""},{"$f":"IF(OR(SD!G868=\"\"),\"\",SD!G868)","v":""},{"$f":"IF(OR(SD!I868=\"\"),\"\",SD!I868)","v":""},{"$f":"IF(OR(SD!O868=\"\"),\"\",SD!O868)","v":""},{"$f":"IF(OR(SD!V868=\"\"),\"\",SD!V868)","v":""},{"$f":"IF(SD!D868=\"\",\"\",SD!D868)","v":""}]
[null,{"$f":"IF(E873=\"\",\"\",ROWS($B$6:B873))","v":""},{"$f":"IF(OR(SD!A869=\"\"),\"\",SD!A869)","v":""},{"$f":"IF(OR(SD!C869=\"\"),\"\",SD!C869)","v":""},{"$f":"IF(OR(SD!E869=\"\"),\"\",SD!E869)","v":""},{"$f":"IF(OR(SD!G869=\"\"),\"\",SD!G869)","v":""},{"$f":"IF(OR(SD!I869=\"\"),\"\",SD!I869)","v":""},{"$f":"IF(OR(SD!O869=\"\"),\"\",SD!O869)","v":""},{"$f":"IF(OR(SD!V869=\"\"),\"\",SD!V869)","v":""},{"$f":"IF(SD!D869=\"\",\"\",SD!D869)","v":""}]
[null,{"$f":"IF(E874=\"\",\"\",ROWS($B$6:B874))","v":""},{"$f":"IF(OR(SD!A870=\"\"),\"\",SD!A870)","v":""},{"$f":"IF(OR(SD!C870=\"\"),\"\",SD!C870)","v":""},{"$f":"IF(OR(SD!E870=\"\"),\"\",SD!E870)","v":""},{"$f":"IF(OR(SD!G870=\"\"),\"\",SD!G870)","v":""},{"$f":"IF(OR(SD!I870=\"\"),\"\",SD!I870)","v":""},{"$f":"IF(OR(SD!O870=\"\"),\"\",SD!O870)","v":""},{"$f":"IF(OR(SD!V870=\"\"),\"\",SD!V870)","v":""},{"$f":"IF(SD!D870=\"\",\"\",SD!D870)","v":""}]
[null,{"$f":"IF(E875=\"\",\"\",ROWS($B$6:B875))","v":""},{"$f":"IF(OR(SD!A871=\"\"),\"\",SD!A871)","v":""},{"$f":"IF(OR(SD!C871=\"\"),\"\",SD!C871)","v":""},{"$f":"IF(OR(SD!E871=\"\"),\"\",SD!E871)","v":""},{"$f":"IF(OR(SD!G871=\"\"),\"\",SD!G871)","v":""},{"$f":"IF(OR(SD!I871=\"\"),\"\",SD!I871)","v":""},{"$f":"IF(OR(SD!O871=\"\"),\"\",SD!O871)","v":""},{"$f":"IF(OR(SD!V871=\"\"),\"\",SD!V871)","v":""},{"$f":"IF(SD!D871=\"\",\"\",SD!D871)","v":""}]
[null,{"$f":"IF(E876=\"\",\"\",ROWS($B$6:B876))","v":""},{"$f":"IF(OR(SD!A872=\"\"),\"\",SD!A872)","v":""},{"$f":"IF(OR(SD!C872=\"\"),\"\",SD!C872)","v":""},{"$f":"IF(OR(SD!E872=\"\"),\"\",SD!E872)","v":""},{"$f":"IF(OR(SD!G872=\"\"),\"\",SD!G872)","v":""},{"$f":"IF(OR(SD!I872=\"\"),\"\",SD!I872)","v":""},{"$f":"IF(OR(SD!O872=\"\"),\"\",SD!O872)","v":""},{"$f":"IF(OR(SD!V872=\"\"),\"\",SD!V872)","v":""},{"$f":"IF(SD!D872=\"\",\"\",SD!D872)","v":""}]
[null,{"$f":"IF(E877=\"\",\"\",ROWS($B$6:B877))","v":""},{"$f":"IF(OR(SD!A873=\"\"),\"\",SD!A873)","v":""},{"$f":"IF(OR(SD!C873=\"\"),\"\",SD!C873)","v":""},{"$f":"IF(OR(SD!E873=\"\"),\"\",SD!E873)","v":""},{"$f":"IF(OR(SD!G873=\"\"),\"\",SD!G873)","v":""},{"$f":"IF(OR(SD!I873=\"\"),\"\",SD!I873)","v":""},{"$f":"IF(OR(SD!O873=\"\"),\"\",SD!O873)","v":""},{"$f":"IF(OR(SD!V873=\"\"),\"\",SD!V873)","v":""},{"$f":"IF(SD!D873=\"\",\"\",SD!D873)","v":""}]
[null,{"$f":"IF(E878=\"\",\"\",ROWS($B$6:B878))","v":""},{"$f":"IF(OR(SD!A874=\"\"),\"\",SD!A874)","v":""},{"$f":"IF(OR(SD!C874=\"\"),\"\",SD!C874)","v":""},{"$f":"IF(OR(SD!E874=\"\"),\"\",SD!E874)","v":""},{"$f":"IF(OR(SD!G874=\"\"),\"\",SD!G874)","v":""},{"$f":"IF(OR(SD!I874=\"\"),\"\",SD!I874)","v":""},{"$f":"IF(OR(SD!O874=\"\"),\"\",SD!O874)","v":""},{"$f":"IF(OR(SD!V874=\"\"),\"\",SD!V874)","v":""},{"$f":"IF(SD!D874=\"\",\"\",SD!D874)","v":""}]
[null,{"$f":"IF(E879=\"\",\"\",ROWS($B$6:B879))","v":""},{"$f":"IF(OR(SD!A875=\"\"),\"\",SD!A875)","v":""},{"$f":"IF(OR(SD!C875=\"\"),\"\",SD!C875)","v":""},{"$f":"IF(OR(SD!E875=\"\"),\"\",SD!E875)","v":""},{"$f":"IF(OR(SD!G875=\"\"),\"\",SD!G875)","v":""},{"$f":"IF(OR(SD!I875=\"\"),\"\",SD!I875)","v":""},{"$f":"IF(OR(SD!O875=\"\"),\"\",SD!O875)","v":""},{"$f":"IF(OR(SD!V875=\"\"),\"\",SD!V875)","v":""},{"$f":"IF(SD!D875=\"\",\"\",SD!D875)","v":""}]
[null,{"$f":"IF(E880=\"\",\"\",ROWS($B$6:B880))","v":""},{"$f":"IF(OR(SD!A876=\"\"),\"\",SD!A876)","v":""},{"$f":"IF(OR(SD!C876=\"\"),\"\",SD!C876)","v":""},{"$f":"IF(OR(SD!E876=\"\"),\"\",SD!E876)","v":""},{"$f":"IF(OR(SD!G876=\"\"),\"\",SD!G876)","v":""},{"$f":"IF(OR(SD!I876=\"\"),\"\",SD!I876)","v":""},{"$f":"IF(OR(SD!O876=\"\"),\"\",SD!O876)","v":""},{"$f":"IF(OR(SD!V876=\"\"),\"\",SD!V876)","v":""},{"$f":"IF(SD!D876=\"\",\"\",SD!D876)","v":""}]
[null,{"$f":"IF(E881=\"\",\"\",ROWS($B$6:B881))","v":""},{"$f":"IF(OR(SD!A877=\"\"),\"\",SD!A877)","v":""},{"$f":"IF(OR(SD!C877=\"\"),\"\",SD!C877)","v":""},{"$f":"IF(OR(SD!E877=\"\"),\"\",SD!E877)","v":""},{"$f":"IF(OR(SD!G877=\"\"),\"\",SD!G877)","v":""},{"$f":"IF(OR(SD!I877=\"\"),\"\",SD!I877)","v":""},{"$f":"IF(OR(SD!O877=\"\"),\"\",SD!O877)","v":""},{"$f":"IF(OR(SD!V877=\"\"),\"\",SD!V877)","v":""},{"$f":"IF(SD!D877=\"\",\"\",SD!D877)","v":""}]
[null,{"$f":"IF(E882=\"\",\"\",ROWS($B$6:B882))","v":""},{"$f":"IF(OR(SD!A878=\"\"),\"\",SD!A878)","v":""},{"$f":"IF(OR(SD!C878=\"\"),\"\",SD!C878)","v":""},{"$f":"IF(OR(SD!E878=\"\"),\"\",SD!E878)","v":""},{"$f":"IF(OR(SD!G878=\"\"),\"\",SD!G878)","v":""},{"$f":"IF(OR(SD!I878=\"\"),\"\",SD!I878)","v":""},{"$f":"IF(OR(SD!O878=\"\"),\"\",SD!O878)","v":""},{"$f":"IF(OR(SD!V878=\"\"),\"\",SD!V878)","v":""},{"$f":"IF(SD!D878=\"\",\"\",SD!D878)","v":""}]
[null,{"$f":"IF(E883=\"\",\"\",ROWS($B$6:B883))","v":""},{"$f":"IF(OR(SD!A879=\"\"),\"\",SD!A879)","v":""},{"$f":"IF(OR(SD!C879=\"\"),\"\",SD!C879)","v":""},{"$f":"IF(OR(SD!E879=\"\"),\"\",SD!E879)","v":""},{"$f":"IF(OR(SD!G879=\"\"),\"\",SD!G879)","v":""},{"$f":"IF(OR(SD!I879=\"\"),\"\",SD!I879)","v":""},{"$f":"IF(OR(SD!O879=\"\"),\"\",SD!O879)","v":""},{"$f":"IF(OR(SD!V879=\"\"),\"\",SD!V879)","v":""},{"$f":"IF(SD!D879=\"\",\"\",SD!D879)","v":""}]
[null,{"$f":"IF(E884=\"\",\"\",ROWS($B$6:B884))","v":""},{"$f":"IF(OR(SD!A880=\"\"),\"\",SD!A880)","v":""},{"$f":"IF(OR(SD!C880=\"\"),\"\",SD!C880)","v":""},{"$f":"IF(OR(SD!E880=\"\"),\"\",SD!E880)","v":""},{"$f":"IF(OR(SD!G880=\"\"),\"\",SD!G880)","v":""},{"$f":"IF(OR(SD!I880=\"\"),\"\",SD!I880)","v":""},{"$f":"IF(OR(SD!O880=\"\"),\"\",SD!O880)","v":""},{"$f":"IF(OR(SD!V880=\"\"),\"\",SD!V880)","v":""},{"$f":"IF(SD!D880=\"\",\"\",SD!D880)","v":""}]
[null,{"$f":"IF(E885=\"\",\"\",ROWS($B$6:B885))","v":""},{"$f":"IF(OR(SD!A881=\"\"),\"\",SD!A881)","v":""},{"$f":"IF(OR(SD!C881=\"\"),\"\",SD!C881)","v":""},{"$f":"IF(OR(SD!E881=\"\"),\"\",SD!E881)","v":""},{"$f":"IF(OR(SD!G881=\"\"),\"\",SD!G881)","v":""},{"$f":"IF(OR(SD!I881=\"\"),\"\",SD!I881)","v":""},{"$f":"IF(OR(SD!O881=\"\"),\"\",SD!O881)","v":""},{"$f":"IF(OR(SD!V881=\"\"),\"\",SD!V881)","v":""},{"$f":"IF(SD!D881=\"\",\"\",SD!D881)","v":""}]
[null,{"$f":"IF(E886=\"\",\"\",ROWS($B$6:B886))","v":""},{"$f":"IF(OR(SD!A882=\"\"),\"\",SD!A882)","v":""},{"$f":"IF(OR(SD!C882=\"\"),\"\",SD!C882)","v":""},{"$f":"IF(OR(SD!E882=\"\"),\"\",SD!E882)","v":""},{"$f":"IF(OR(SD!G882=\"\"),\"\",SD!G882)","v":""},{"$f":"IF(OR(SD!I882=\"\"),\"\",SD!I882)","v":""},{"$f":"IF(OR(SD!O882=\"\"),\"\",SD!O882)","v":""},{"$f":"IF(OR(SD!V882=\"\"),\"\",SD!V882)","v":""},{"$f":"IF(SD!D882=\"\",\"\",SD!D882)","v":""}]
[null,{"$f":"IF(E887=\"\",\"\",ROWS($B$6:B887))","v":""},{"$f":"IF(OR(SD!A883=\"\"),\"\",SD!A883)","v":""},{"$f":"IF(OR(SD!C883=\"\"),\"\",SD!C883)","v":""},{"$f":"IF(OR(SD!E883=\"\"),\"\",SD!E883)","v":""},{"$f":"IF(OR(SD!G883=\"\"),\"\",SD!G883)","v":""},{"$f":"IF(OR(SD!I883=\"\"),\"\",SD!I883)","v":""},{"$f":"IF(OR(SD!O883=\"\"),\"\",SD!O883)","v":""},{"$f":"IF(OR(SD!V883=\"\"),\"\",SD!V883)","v":""},{"$f":"IF(SD!D883=\"\",\"\",SD!D883)","v":""}]
[null,{"$f":"IF(E888=\"\",\"\",ROWS($B$6:B888))","v":""},{"$f":"IF(OR(SD!A884=\"\"),\"\",SD!A884)","v":""},{"$f":"IF(OR(SD!C884=\"\"),\"\",SD!C884)","v":""},{"$f":"IF(OR(SD!E884=\"\"),\"\",SD!E884)","v":""},{"$f":"IF(OR(SD!G884=\"\"),\"\",SD!G884)","v":""},{"$f":"IF(OR(SD!I884=\"\"),\"\",SD!I884)","v":""},{"$f":"IF(OR(SD!O884=\"\"),\"\",SD!O884)","v":""},{"$f":"IF(OR(SD!V884=\"\"),\"\",SD!V884)","v":""},{"$f":"IF(SD!D884=\"\",\"\",SD!D884)","v":""}]
[null,{"$f":"IF(E889=\"\",\"\",ROWS($B$6:B889))","v":""},{"$f":"IF(OR(SD!A885=\"\"),\"\",SD!A885)","v":""},{"$f":"IF(OR(SD!C885=\"\"),\"\",SD!C885)","v":""},{"$f":"IF(OR(SD!E885=\"\"),\"\",SD!E885)","v":""},{"$f":"IF(OR(SD!G885=\"\"),\"\",SD!G885)","v":""},{"$f":"IF(OR(SD!I885=\"\"),\"\",SD!I885)","v":""},{"$f":"IF(OR(SD!O885=\"\"),\"\",SD!O885)","v":""},{"$f":"IF(OR(SD!V885=\"\"),\"\",SD!V885)","v":""},{"$f":"IF(SD!D885=\"\",\"\",SD!D885)","v":""}]
[null,{"$f":"IF(E890=\"\",\"\",ROWS($B$6:B890))","v":""},{"$f":"IF(OR(SD!A886=\"\"),\"\",SD!A886)","v":""},{"$f":"IF(OR(SD!C886=\"\"),\"\",SD!C886)","v":""},{"$f":"IF(OR(SD!E886=\"\"),\"\",SD!E886)","v":""},{"$f":"IF(OR(SD!G886=\"\"),\"\",SD!G886)","v":""},{"$f":"IF(OR(SD!I886=\"\"),\"\",SD!I886)","v":""},{"$f":"IF(OR(SD!O886=\"\"),\"\",SD!O886)","v":""},{"$f":"IF(OR(SD!V886=\"\"),\"\",SD!V886)","v":""},{"$f":"IF(SD!D886=\"\",\"\",SD!D886)","v":""}]
[null,{"$f":"IF(E891=\"\",\"\",ROWS($B$6:B891))","v":""},{"$f":"IF(OR(SD!A887=\"\"),\"\",SD!A887)","v":""},{"$f":"IF(OR(SD!C887=\"\"),\"\",SD!C887)","v":""},{"$f":"IF(OR(SD!E887=\"\"),\"\",SD!E887)","v":""},{"$f":"IF(OR(SD!G887=\"\"),\"\",SD!G887)","v":""},{"$f":"IF(OR(SD!I887=\"\"),\"\",SD!I887)","v":""},{"$f":"IF(OR(SD!O887=\"\"),\"\",SD!O887)","v":""},{"$f":"IF(OR(SD!V887=\"\"),\"\",SD!V887)","v":""},{"$f":"IF(SD!D887=\"\",\"\",SD!D887)","v":""}]
[null,{"$f":"IF(E892=\"\",\"\",ROWS($B$6:B892))","v":""},{"$f":"IF(OR(SD!A888=\"\"),\"\",SD!A888)","v":""},{"$f":"IF(OR(SD!C888=\"\"),\"\",SD!C888)","v":""},{"$f":"IF(OR(SD!E888=\"\"),\"\",SD!E888)","v":""},{"$f":"IF(OR(SD!G888=\"\"),\"\",SD!G888)","v":""},{"$f":"IF(OR(SD!I888=\"\"),\"\",SD!I888)","v":""},{"$f":"IF(OR(SD!O888=\"\"),\"\",SD!O888)","v":""},{"$f":"IF(OR(SD!V888=\"\"),\"\",SD!V888)","v":""},{"$f":"IF(SD!D888=\"\",\"\",SD!D888)","v":""}]
[null,{"$f":"IF(E893=\"\",\"\",ROWS($B$6:B893))","v":""},{"$f":"IF(OR(SD!A889=\"\"),\"\",SD!A889)","v":""},{"$f":"IF(OR(SD!C889=\"\"),\"\",SD!C889)","v":""},{"$f":"IF(OR(SD!E889=\"\"),\"\",SD!E889)","v":""},{"$f":"IF(OR(SD!G889=\"\"),\"\",SD!G889)","v":""},{"$f":"IF(OR(SD!I889=\"\"),\"\",SD!I889)","v":""},{"$f":"IF(OR(SD!O889=\"\"),\"\",SD!O889)","v":""},{"$f":"IF(OR(SD!V889=\"\"),\"\",SD!V889)","v":""},{"$f":"IF(SD!D889=\"\",\"\",SD!D889)","v":""}]
[null,{"$f":"IF(E894=\"\",\"\",ROWS($B$6:B894))","v":""},{"$f":"IF(OR(SD!A890=\"\"),\"\",SD!A890)","v":""},{"$f":"IF(OR(SD!C890=\"\"),\"\",SD!C890)","v":""},{"$f":"IF(OR(SD!E890=\"\"),\"\",SD!E890)","v":""},{"$f":"IF(OR(SD!G890=\"\"),\"\",SD!G890)","v":""},{"$f":"IF(OR(SD!I890=\"\"),\"\",SD!I890)","v":""},{"$f":"IF(OR(SD!O890=\"\"),\"\",SD!O890)","v":""},{"$f":"IF(OR(SD!V890=\"\"),\"\",SD!V890)","v":""},{"$f":"IF(SD!D890=\"\",\"\",SD!D890)","v":""}]
[null,{"$f":"IF(E895=\"\",\"\",ROWS($B$6:B895))","v":""},{"$f":"IF(OR(SD!A891=\"\"),\"\",SD!A891)","v":""},{"$f":"IF(OR(SD!C891=\"\"),\"\",SD!C891)","v":""},{"$f":"IF(OR(SD!E891=\"\"),\"\",SD!E891)","v":""},{"$f":"IF(OR(SD!G891=\"\"),\"\",SD!G891)","v":""},{"$f":"IF(OR(SD!I891=\"\"),\"\",SD!I891)","v":""},{"$f":"IF(OR(SD!O891=\"\"),\"\",SD!O891)","v":""},{"$f":"IF(OR(SD!V891=\"\"),\"\",SD!V891)","v":""},{"$f":"IF(SD!D891=\"\",\"\",SD!D891)","v":""}]
[null,{"$f":"IF(E896=\"\",\"\",ROWS($B$6:B896))","v":""},{"$f":"IF(OR(SD!A892=\"\"),\"\",SD!A892)","v":""},{"$f":"IF(OR(SD!C892=\"\"),\"\",SD!C892)","v":""},{"$f":"IF(OR(SD!E892=\"\"),\"\",SD!E892)","v":""},{"$f":"IF(OR(SD!G892=\"\"),\"\",SD!G892)","v":""},{"$f":"IF(OR(SD!I892=\"\"),\"\",SD!I892)","v":""},{"$f":"IF(OR(SD!O892=\"\"),\"\",SD!O892)","v":""},{"$f":"IF(OR(SD!V892=\"\"),\"\",SD!V892)","v":""},{"$f":"IF(SD!D892=\"\",\"\",SD!D892)","v":""}]
[null,{"$f":"IF(E897=\"\",\"\",ROWS($B$6:B897))","v":""},{"$f":"IF(OR(SD!A893=\"\"),\"\",SD!A893)","v":""},{"$f":"IF(OR(SD!C893=\"\"),\"\",SD!C893)","v":""},{"$f":"IF(OR(SD!E893=\"\"),\"\",SD!E893)","v":""},{"$f":"IF(OR(SD!G893=\"\"),\"\",SD!G893)","v":""},{"$f":"IF(OR(SD!I893=\"\"),\"\",SD!I893)","v":""},{"$f":"IF(OR(SD!O893=\"\"),\"\",SD!O893)","v":""},{"$f":"IF(OR(SD!V893=\"\"),\"\",SD!V893)","v":""},{"$f":"IF(SD!D893=\"\",\"\",SD!D893)","v":""}]
[null,{"$f":"IF(E898=\"\",\"\",ROWS($B$6:B898))","v":""},{"$f":"IF(OR(SD!A894=\"\"),\"\",SD!A894)","v":""},{"$f":"IF(OR(SD!C894=\"\"),\"\",SD!C894)","v":""},{"$f":"IF(OR(SD!E894=\"\"),\"\",SD!E894)","v":""},{"$f":"IF(OR(SD!G894=\"\"),\"\",SD!G894)","v":""},{"$f":"IF(OR(SD!I894=\"\"),\"\",SD!I894)","v":""},{"$f":"IF(OR(SD!O894=\"\"),\"\",SD!O894)","v":""},{"$f":"IF(OR(SD!V894=\"\"),\"\",SD!V894)","v":""},{"$f":"IF(SD!D894=\"\",\"\",SD!D894)","v":""}]
[null,{"$f":"IF(E899=\"\",\"\",ROWS($B$6:B899))","v":""},{"$f":"IF(OR(SD!A895=\"\"),\"\",SD!A895)","v":""},{"$f":"IF(OR(SD!C895=\"\"),\"\",SD!C895)","v":""},{"$f":"IF(OR(SD!E895=\"\"),\"\",SD!E895)","v":""},{"$f":"IF(OR(SD!G895=\"\"),\"\",SD!G895)","v":""},{"$f":"IF(OR(SD!I895=\"\"),\"\",SD!I895)","v":""},{"$f":"IF(OR(SD!O895=\"\"),\"\",SD!O895)","v":""},{"$f":"IF(OR(SD!V895=\"\"),\"\",SD!V895)","v":""},{"$f":"IF(SD!D895=\"\",\"\",SD!D895)","v":""}]
[null,{"$f":"IF(E900=\"\",\"\",ROWS($B$6:B900))","v":""},{"$f":"IF(OR(SD!A896=\"\"),\"\",SD!A896)","v":""},{"$f":"IF(OR(SD!C896=\"\"),\"\",SD!C896)","v":""},{"$f":"IF(OR(SD!E896=\"\"),\"\",SD!E896)","v":""},{"$f":"IF(OR(SD!G896=\"\"),\"\",SD!G896)","v":""},{"$f":"IF(OR(SD!I896=\"\"),\"\",SD!I896)","v":""},{"$f":"IF(OR(SD!O896=\"\"),\"\",SD!O896)","v":""},{"$f":"IF(OR(SD!V896=\"\"),\"\",SD!V896)","v":""},{"$f":"IF(SD!D896=\"\",\"\",SD!D896)","v":""}]
[null,{"$f":"IF(E901=\"\",\"\",ROWS($B$6:B901))","v":""},{"$f":"IF(OR(SD!A897=\"\"),\"\",SD!A897)","v":""},{"$f":"IF(OR(SD!C897=\"\"),\"\",SD!C897)","v":""},{"$f":"IF(OR(SD!E897=\"\"),\"\",SD!E897)","v":""},{"$f":"IF(OR(SD!G897=\"\"),\"\",SD!G897)","v":""},{"$f":"IF(OR(SD!I897=\"\"),\"\",SD!I897)","v":""},{"$f":"IF(OR(SD!O897=\"\"),\"\",SD!O897)","v":""},{"$f":"IF(OR(SD!V897=\"\"),\"\",SD!V897)","v":""},{"$f":"IF(SD!D897=\"\",\"\",SD!D897)","v":""}]
[null,{"$f":"IF(E902=\"\",\"\",ROWS($B$6:B902))","v":""},{"$f":"IF(OR(SD!A898=\"\"),\"\",SD!A898)","v":""},{"$f":"IF(OR(SD!C898=\"\"),\"\",SD!C898)","v":""},{"$f":"IF(OR(SD!E898=\"\"),\"\",SD!E898)","v":""},{"$f":"IF(OR(SD!G898=\"\"),\"\",SD!G898)","v":""},{"$f":"IF(OR(SD!I898=\"\"),\"\",SD!I898)","v":""},{"$f":"IF(OR(SD!O898=\"\"),\"\",SD!O898)","v":""},{"$f":"IF(OR(SD!V898=\"\"),\"\",SD!V898)","v":""},{"$f":"IF(SD!D898=\"\",\"\",SD!D898)","v":""}]
[null,{"$f":"IF(E903=\"\",\"\",ROWS($B$6:B903))","v":""},{"$f":"IF(OR(SD!A899=\"\"),\"\",SD!A899)","v":""},{"$f":"IF(OR(SD!C899=\"\"),\"\",SD!C899)","v":""},{"$f":"IF(OR(SD!E899=\"\"),\"\",SD!E899)","v":""},{"$f":"IF(OR(SD!G899=\"\"),\"\",SD!G899)","v":""},{"$f":"IF(OR(SD!I899=\"\"),\"\",SD!I899)","v":""},{"$f":"IF(OR(SD!O899=\"\"),\"\",SD!O899)","v":""},{"$f":"IF(OR(SD!V899=\"\"),\"\",SD!V899)","v":""},{"$f":"IF(SD!D899=\"\",\"\",SD!D899)","v":""}]
[null,{"$f":"IF(E904=\"\",\"\",ROWS($B$6:B904))","v":""},{"$f":"IF(OR(SD!A900=\"\"),\"\",SD!A900)","v":""},{"$f":"IF(OR(SD!C900=\"\"),\"\",SD!C900)","v":""},{"$f":"IF(OR(SD!E900=\"\"),\"\",SD!E900)","v":""},{"$f":"IF(OR(SD!G900=\"\"),\"\",SD!G900)","v":""},{"$f":"IF(OR(SD!I900=\"\"),\"\",SD!I900)","v":""},{"$f":"IF(OR(SD!O900=\"\"),\"\",SD!O900)","v":""},{"$f":"IF(OR(SD!V900=\"\"),\"\",SD!V900)","v":""},{"$f":"IF(SD!D900=\"\",\"\",SD!D900)","v":""}]
[null,{"$f":"IF(E905=\"\",\"\",ROWS($B$6:B905))","v":""},{"$f":"IF(OR(SD!A901=\"\"),\"\",SD!A901)","v":""},{"$f":"IF(OR(SD!C901=\"\"),\"\",SD!C901)","v":""},{"$f":"IF(OR(SD!E901=\"\"),\"\",SD!E901)","v":""},{"$f":"IF(OR(SD!G901=\"\"),\"\",SD!G901)","v":""},{"$f":"IF(OR(SD!I901=\"\"),\"\",SD!I901)","v":""},{"$f":"IF(OR(SD!O901=\"\"),\"\",SD!O901)","v":""},{"$f":"IF(OR(SD!V901=\"\"),\"\",SD!V901)","v":""},{"$f":"IF(SD!D901=\"\",\"\",SD!D901)","v":""}]
[null,{"$f":"IF(E906=\"\",\"\",ROWS($B$6:B906))","v":""},{"$f":"IF(OR(SD!A902=\"\"),\"\",SD!A902)","v":""},{"$f":"IF(OR(SD!C902=\"\"),\"\",SD!C902)","v":""},{"$f":"IF(OR(SD!E902=\"\"),\"\",SD!E902)","v":""},{"$f":"IF(OR(SD!G902=\"\"),\"\",SD!G902)","v":""},{"$f":"IF(OR(SD!I902=\"\"),\"\",SD!I902)","v":""},{"$f":"IF(OR(SD!O902=\"\"),\"\",SD!O902)","v":""},{"$f":"IF(OR(SD!V902=\"\"),\"\",SD!V902)","v":""},{"$f":"IF(SD!D902=\"\",\"\",SD!D902)","v":""}]
[null,{"$f":"IF(E907=\"\",\"\",ROWS($B$6:B907))","v":""},{"$f":"IF(OR(SD!A903=\"\"),\"\",SD!A903)","v":""},{"$f":"IF(OR(SD!C903=\"\"),\"\",SD!C903)","v":""},{"$f":"IF(OR(SD!E903=\"\"),\"\",SD!E903)","v":""},{"$f":"IF(OR(SD!G903=\"\"),\"\",SD!G903)","v":""},{"$f":"IF(OR(SD!I903=\"\"),\"\",SD!I903)","v":""},{"$f":"IF(OR(SD!O903=\"\"),\"\",SD!O903)","v":""},{"$f":"IF(OR(SD!V903=\"\"),\"\",SD!V903)","v":""},{"$f":"IF(SD!D903=\"\",\"\",SD!D903)","v":""}]
[null,{"$f":"IF(E908=\"\",\"\",ROWS($B$6:B908))","v":""},{"$f":"IF(OR(SD!A904=\"\"),\"\",SD!A904)","v":""},{"$f":"IF(OR(SD!C904=\"\"),\"\",SD!C904)","v":""},{"$f":"IF(OR(SD!E904=\"\"),\"\",SD!E904)","v":""},{"$f":"IF(OR(SD!G904=\"\"),\"\",SD!G904)","v":""},{"$f":"IF(OR(SD!I904=\"\"),\"\",SD!I904)","v":""},{"$f":"IF(OR(SD!O904=\"\"),\"\",SD!O904)","v":""},{"$f":"IF(OR(SD!V904=\"\"),\"\",SD!V904)","v":""},{"$f":"IF(SD!D904=\"\",\"\",SD!D904)","v":""}]
[null,{"$f":"IF(E909=\"\",\"\",ROWS($B$6:B909))","v":""},{"$f":"IF(OR(SD!A905=\"\"),\"\",SD!A905)","v":""},{"$f":"IF(OR(SD!C905=\"\"),\"\",SD!C905)","v":""},{"$f":"IF(OR(SD!E905=\"\"),\"\",SD!E905)","v":""},{"$f":"IF(OR(SD!G905=\"\"),\"\",SD!G905)","v":""},{"$f":"IF(OR(SD!I905=\"\"),\"\",SD!I905)","v":""},{"$f":"IF(OR(SD!O905=\"\"),\"\",SD!O905)","v":""},{"$f":"IF(OR(SD!V905=\"\"),\"\",SD!V905)","v":""},{"$f":"IF(SD!D905=\"\",\"\",SD!D905)","v":""}]
[null,{"$f":"IF(E910=\"\",\"\",ROWS($B$6:B910))","v":""},{"$f":"IF(OR(SD!A906=\"\"),\"\",SD!A906)","v":""},{"$f":"IF(OR(SD!C906=\"\"),\"\",SD!C906)","v":""},{"$f":"IF(OR(SD!E906=\"\"),\"\",SD!E906)","v":""},{"$f":"IF(OR(SD!G906=\"\"),\"\",SD!G906)","v":""},{"$f":"IF(OR(SD!I906=\"\"),\"\",SD!I906)","v":""},{"$f":"IF(OR(SD!O906=\"\"),\"\",SD!O906)","v":""},{"$f":"IF(OR(SD!V906=\"\"),\"\",SD!V906)","v":""},{"$f":"IF(SD!D906=\"\",\"\",SD!D906)","v":""}]
[null,{"$f":"IF(E911=\"\",\"\",ROWS($B$6:B911))","v":""},{"$f":"IF(OR(SD!A907=\"\"),\"\",SD!A907)","v":""},{"$f":"IF(OR(SD!C907=\"\"),\"\",SD!C907)","v":""},{"$f":"IF(OR(SD!E907=\"\"),\"\",SD!E907)","v":""},{"$f":"IF(OR(SD!G907=\"\"),\"\",SD!G907)","v":""},{"$f":"IF(OR(SD!I907=\"\"),\"\",SD!I907)","v":""},{"$f":"IF(OR(SD!O907=\"\"),\"\",SD!O907)","v":""},{"$f":"IF(OR(SD!V907=\"\"),\"\",SD!V907)","v":""},{"$f":"IF(SD!D907=\"\",\"\",SD!D907)","v":""}]
[null,{"$f":"IF(E912=\"\",\"\",ROWS($B$6:B912))","v":""},{"$f":"IF(OR(SD!A908=\"\"),\"\",SD!A908)","v":""},{"$f":"IF(OR(SD!C908=\"\"),\"\",SD!C908)","v":""},{"$f":"IF(OR(SD!E908=\"\"),\"\",SD!E908)","v":""},{"$f":"IF(OR(SD!G908=\"\"),\"\",SD!G908)","v":""},{"$f":"IF(OR(SD!I908=\"\"),\"\",SD!I908)","v":""},{"$f":"IF(OR(SD!O908=\"\"),\"\",SD!O908)","v":""},{"$f":"IF(OR(SD!V908=\"\"),\"\",SD!V908)","v":""},{"$f":"IF(SD!D908=\"\",\"\",SD!D908)","v":""}]
[null,{"$f":"IF(E913=\"\",\"\",ROWS($B$6:B913))","v":""},{"$f":"IF(OR(SD!A909=\"\"),\"\",SD!A909)","v":""},{"$f":"IF(OR(SD!C909=\"\"),\"\",SD!C909)","v":""},{"$f":"IF(OR(SD!E909=\"\"),\"\",SD!E909)","v":""},{"$f":"IF(OR(SD!G909=\"\"),\"\",SD!G909)","v":""},{"$f":"IF(OR(SD!I909=\"\"),\"\",SD!I909)","v":""},{"$f":"IF(OR(SD!O909=\"\"),\"\",SD!O909)","v":""},{"$f":"IF(OR(SD!V909=\"\"),\"\",SD!V909)","v":""},{"$f":"IF(SD!D909=\"\",\"\",SD!D909)","v":""}]
[null,{"$f":"IF(E914=\"\",\"\",ROWS($B$6:B914))","v":""},{"$f":"IF(OR(SD!A910=\"\"),\"\",SD!A910)","v":""},{"$f":"IF(OR(SD!C910=\"\"),\"\",SD!C910)","v":""},{"$f":"IF(OR(SD!E910=\"\"),\"\",SD!E910)","v":""},{"$f":"IF(OR(SD!G910=\"\"),\"\",SD!G910)","v":""},{"$f":"IF(OR(SD!I910=\"\"),\"\",SD!I910)","v":""},{"$f":"IF(OR(SD!O910=\"\"),\"\",SD!O910)","v":""},{"$f":"IF(OR(SD!V910=\"\"),\"\",SD!V910)","v":""},{"$f":"IF(SD!D910=\"\",\"\",SD!D910)","v":""}]
[null,{"$f":"IF(E915=\"\",\"\",ROWS($B$6:B915))","v":""},{"$f":"IF(OR(SD!A911=\"\"),\"\",SD!A911)","v":""},{"$f":"IF(OR(SD!C911=\"\"),\"\",SD!C911)","v":""},{"$f":"IF(OR(SD!E911=\"\"),\"\",SD!E911)","v":""},{"$f":"IF(OR(SD!G911=\"\"),\"\",SD!G911)","v":""},{"$f":"IF(OR(SD!I911=\"\"),\"\",SD!I911)","v":""},{"$f":"IF(OR(SD!O911=\"\"),\"\",SD!O911)","v":""},{"$f":"IF(OR(SD!V911=\"\"),\"\",SD!V911)","v":""},{"$f":"IF(SD!D911=\"\",\"\",SD!D911)","v":""}]
[null,{"$f":"IF(E916=\"\",\"\",ROWS($B$6:B916))","v":""},{"$f":"IF(OR(SD!A912=\"\"),\"\",SD!A912)","v":""},{"$f":"IF(OR(SD!C912=\"\"),\"\",SD!C912)","v":""},{"$f":"IF(OR(SD!E912=\"\"),\"\",SD!E912)","v":""},{"$f":"IF(OR(SD!G912=\"\"),\"\",SD!G912)","v":""},{"$f":"IF(OR(SD!I912=\"\"),\"\",SD!I912)","v":""},{"$f":"IF(OR(SD!O912=\"\"),\"\",SD!O912)","v":""},{"$f":"IF(OR(SD!V912=\"\"),\"\",SD!V912)","v":""},{"$f":"IF(SD!D912=\"\",\"\",SD!D912)","v":""}]
[null,{"$f":"IF(E917=\"\",\"\",ROWS($B$6:B917))","v":""},{"$f":"IF(OR(SD!A913=\"\"),\"\",SD!A913)","v":""},{"$f":"IF(OR(SD!C913=\"\"),\"\",SD!C913)","v":""},{"$f":"IF(OR(SD!E913=\"\"),\"\",SD!E913)","v":""},{"$f":"IF(OR(SD!G913=\"\"),\"\",SD!G913)","v":""},{"$f":"IF(OR(SD!I913=\"\"),\"\",SD!I913)","v":""},{"$f":"IF(OR(SD!O913=\"\"),\"\",SD!O913)","v":""},{"$f":"IF(OR(SD!V913=\"\"),\"\",SD!V913)","v":""},{"$f":"IF(SD!D913=\"\",\"\",SD!D913)","v":""}]
[null,{"$f":"IF(E918=\"\",\"\",ROWS($B$6:B918))","v":""},{"$f":"IF(OR(SD!A914=\"\"),\"\",SD!A914)","v":""},{"$f":"IF(OR(SD!C914=\"\"),\"\",SD!C914)","v":""},{"$f":"IF(OR(SD!E914=\"\"),\"\",SD!E914)","v":""},{"$f":"IF(OR(SD!G914=\"\"),\"\",SD!G914)","v":""},{"$f":"IF(OR(SD!I914=\"\"),\"\",SD!I914)","v":""},{"$f":"IF(OR(SD!O914=\"\"),\"\",SD!O914)","v":""},{"$f":"IF(OR(SD!V914=\"\"),\"\",SD!V914)","v":""},{"$f":"IF(SD!D914=\"\",\"\",SD!D914)","v":""}]
[null,{"$f":"IF(E919=\"\",\"\",ROWS($B$6:B919))","v":""},{"$f":"IF(OR(SD!A915=\"\"),\"\",SD!A915)","v":""},{"$f":"IF(OR(SD!C915=\"\"),\"\",SD!C915)","v":""},{"$f":"IF(OR(SD!E915=\"\"),\"\",SD!E915)","v":""},{"$f":"IF(OR(SD!G915=\"\"),\"\",SD!G915)","v":""},{"$f":"IF(OR(SD!I915=\"\"),\"\",SD!I915)","v":""},{"$f":"IF(OR(SD!O915=\"\"),\"\",SD!O915)","v":""},{"$f":"IF(OR(SD!V915=\"\"),\"\",SD!V915)","v":""},{"$f":"IF(SD!D915=\"\",\"\",SD!D915)","v":""}]
[null,{"$f":"IF(E920=\"\",\"\",ROWS($B$6:B920))","v":""},{"$f":"IF(OR(SD!A916=\"\"),\"\",SD!A916)","v":""},{"$f":"IF(OR(SD!C916=\"\"),\"\",SD!C916)","v":""},{"$f":"IF(OR(SD!E916=\"\"),\"\",SD!E916)","v":""},{"$f":"IF(OR(SD!G916=\"\"),\"\",SD!G916)","v":""},{"$f":"IF(OR(SD!I916=\"\"),\"\",SD!I916)","v":""},{"$f":"IF(OR(SD!O916=\"\"),\"\",SD!O916)","v":""},{"$f":"IF(OR(SD!V916=\"\"),\"\",SD!V916)","v":""},{"$f":"IF(SD!D916=\"\",\"\",SD!D916)","v":""}]
[null,{"$f":"IF(E921=\"\",\"\",ROWS($B$6:B921))","v":""},{"$f":"IF(OR(SD!A917=\"\"),\"\",SD!A917)","v":""},{"$f":"IF(OR(SD!C917=\"\"),\"\",SD!C917)","v":""},{"$f":"IF(OR(SD!E917=\"\"),\"\",SD!E917)","v":""},{"$f":"IF(OR(SD!G917=\"\"),\"\",SD!G917)","v":""},{"$f":"IF(OR(SD!I917=\"\"),\"\",SD!I917)","v":""},{"$f":"IF(OR(SD!O917=\"\"),\"\",SD!O917)","v":""},{"$f":"IF(OR(SD!V917=\"\"),\"\",SD!V917)","v":""},{"$f":"IF(SD!D917=\"\",\"\",SD!D917)","v":""}]
[null,{"$f":"IF(E922=\"\",\"\",ROWS($B$6:B922))","v":""},{"$f":"IF(OR(SD!A918=\"\"),\"\",SD!A918)","v":""},{"$f":"IF(OR(SD!C918=\"\"),\"\",SD!C918)","v":""},{"$f":"IF(OR(SD!E918=\"\"),\"\",SD!E918)","v":""},{"$f":"IF(OR(SD!G918=\"\"),\"\",SD!G918)","v":""},{"$f":"IF(OR(SD!I918=\"\"),\"\",SD!I918)","v":""},{"$f":"IF(OR(SD!O918=\"\"),\"\",SD!O918)","v":""},{"$f":"IF(OR(SD!V918=\"\"),\"\",SD!V918)","v":""},{"$f":"IF(SD!D918=\"\",\"\",SD!D918)","v":""}]
[null,{"$f":"IF(E923=\"\",\"\",ROWS($B$6:B923))","v":""},{"$f":"IF(OR(SD!A919=\"\"),\"\",SD!A919)","v":""},{"$f":"IF(OR(SD!C919=\"\"),\"\",SD!C919)","v":""},{"$f":"IF(OR(SD!E919=\"\"),\"\",SD!E919)","v":""},{"$f":"IF(OR(SD!G919=\"\"),\"\",SD!G919)","v":""},{"$f":"IF(OR(SD!I919=\"\"),\"\",SD!I919)","v":""},{"$f":"IF(OR(SD!O919=\"\"),\"\",SD!O919)","v":""},{"$f":"IF(OR(SD!V919=\"\"),\"\",SD!V919)","v":""},{"$f":"IF(SD!D919=\"\",\"\",SD!D919)","v":""}]
[null,{"$f":"IF(E924=\"\",\"\",ROWS($B$6:B924))","v":""},{"$f":"IF(OR(SD!A920=\"\"),\"\",SD!A920)","v":""},{"$f":"IF(OR(SD!C920=\"\"),\"\",SD!C920)","v":""},{"$f":"IF(OR(SD!E920=\"\"),\"\",SD!E920)","v":""},{"$f":"IF(OR(SD!G920=\"\"),\"\",SD!G920)","v":""},{"$f":"IF(OR(SD!I920=\"\"),\"\",SD!I920)","v":""},{"$f":"IF(OR(SD!O920=\"\"),\"\",SD!O920)","v":""},{"$f":"IF(OR(SD!V920=\"\"),\"\",SD!V920)","v":""},{"$f":"IF(SD!D920=\"\",\"\",SD!D920)","v":""}]
[null,{"$f":"IF(E925=\"\",\"\",ROWS($B$6:B925))","v":""},{"$f":"IF(OR(SD!A921=\"\"),\"\",SD!A921)","v":""},{"$f":"IF(OR(SD!C921=\"\"),\"\",SD!C921)","v":""},{"$f":"IF(OR(SD!E921=\"\"),\"\",SD!E921)","v":""},{"$f":"IF(OR(SD!G921=\"\"),\"\",SD!G921)","v":""},{"$f":"IF(OR(SD!I921=\"\"),\"\",SD!I921)","v":""},{"$f":"IF(OR(SD!O921=\"\"),\"\",SD!O921)","v":""},{"$f":"IF(OR(SD!V921=\"\"),\"\",SD!V921)","v":""},{"$f":"IF(SD!D921=\"\",\"\",SD!D921)","v":""}]
[null,{"$f":"IF(E926=\"\",\"\",ROWS($B$6:B926))","v":""},{"$f":"IF(OR(SD!A922=\"\"),\"\",SD!A922)","v":""},{"$f":"IF(OR(SD!C922=\"\"),\"\",SD!C922)","v":""},{"$f":"IF(OR(SD!E922=\"\"),\"\",SD!E922)","v":""},{"$f":"IF(OR(SD!G922=\"\"),\"\",SD!G922)","v":""},{"$f":"IF(OR(SD!I922=\"\"),\"\",SD!I922)","v":""},{"$f":"IF(OR(SD!O922=\"\"),\"\",SD!O922)","v":""},{"$f":"IF(OR(SD!V922=\"\"),\"\",SD!V922)","v":""},{"$f":"IF(SD!D922=\"\",\"\",SD!D922)","v":""}]
[null,{"$f":"IF(E927=\"\",\"\",ROWS($B$6:B927))","v":""},{"$f":"IF(OR(SD!A923=\"\"),\"\",SD!A923)","v":""},{"$f":"IF(OR(SD!C923=\"\"),\"\",SD!C923)","v":""},{"$f":"IF(OR(SD!E923=\"\"),\"\",SD!E923)","v":""},{"$f":"IF(OR(SD!G923=\"\"),\"\",SD!G923)","v":""},{"$f":"IF(OR(SD!I923=\"\"),\"\",SD!I923)","v":""},{"$f":"IF(OR(SD!O923=\"\"),\"\",SD!O923)","v":""},{"$f":"IF(OR(SD!V923=\"\"),\"\",SD!V923)","v":""},{"$f":"IF(SD!D923=\"\",\"\",SD!D923)","v":""}]
[null,{"$f":"IF(E928=\"\",\"\",ROWS($B$6:B928))","v":""},{"$f":"IF(OR(SD!A924=\"\"),\"\",SD!A924)","v":""},{"$f":"IF(OR(SD!C924=\"\"),\"\",SD!C924)","v":""},{"$f":"IF(OR(SD!E924=\"\"),\"\",SD!E924)","v":""},{"$f":"IF(OR(SD!G924=\"\"),\"\",SD!G924)","v":""},{"$f":"IF(OR(SD!I924=\"\"),\"\",SD!I924)","v":""},{"$f":"IF(OR(SD!O924=\"\"),\"\",SD!O924)","v":""},{"$f":"IF(OR(SD!V924=\"\"),\"\",SD!V924)","v":""},{"$f":"IF(SD!D924=\"\",\"\",SD!D924)","v":""}]
[null,{"$f":"IF(E929=\"\",\"\",ROWS($B$6:B929))","v":""},{"$f":"IF(OR(SD!A925=\"\"),\"\",SD!A925)","v":""},{"$f":"IF(OR(SD!C925=\"\"),\"\",SD!C925)","v":""},{"$f":"IF(OR(SD!E925=\"\"),\"\",SD!E925)","v":""},{"$f":"IF(OR(SD!G925=\"\"),\"\",SD!G925)","v":""},{"$f":"IF(OR(SD!I925=\"\"),\"\",SD!I925)","v":""},{"$f":"IF(OR(SD!O925=\"\"),\"\",SD!O925)","v":""},{"$f":"IF(OR(SD!V925=\"\"),\"\",SD!V925)","v":""},{"$f":"IF(SD!D925=\"\",\"\",SD!D925)","v":""}]
[null,{"$f":"IF(E930=\"\",\"\",ROWS($B$6:B930))","v":""},{"$f":"IF(OR(SD!A926=\"\"),\"\",SD!A926)","v":""},{"$f":"IF(OR(SD!C926=\"\"),\"\",SD!C926)","v":""},{"$f":"IF(OR(SD!E926=\"\"),\"\",SD!E926)","v":""},{"$f":"IF(OR(SD!G926=\"\"),\"\",SD!G926)","v":""},{"$f":"IF(OR(SD!I926=\"\"),\"\",SD!I926)","v":""},{"$f":"IF(OR(SD!O926=\"\"),\"\",SD!O926)","v":""},{"$f":"IF(OR(SD!V926=\"\"),\"\",SD!V926)","v":""},{"$f":"IF(SD!D926=\"\",\"\",SD!D926)","v":""}]
[null,{"$f":"IF(E931=\"\",\"\",ROWS($B$6:B931))","v":""},{"$f":"IF(OR(SD!A927=\"\"),\"\",SD!A927)","v":""},{"$f":"IF(OR(SD!C927=\"\"),\"\",SD!C927)","v":""},{"$f":"IF(OR(SD!E927=\"\"),\"\",SD!E927)","v":""},{"$f":"IF(OR(SD!G927=\"\"),\"\",SD!G927)","v":""},{"$f":"IF(OR(SD!I927=\"\"),\"\",SD!I927)","v":""},{"$f":"IF(OR(SD!O927=\"\"),\"\",SD!O927)","v":""},{"$f":"IF(OR(SD!V927=\"\"),\"\",SD!V927)","v":""},{"$f":"IF(SD!D927=\"\",\"\",SD!D927)","v":""}]
[null,{"$f":"IF(E932=\"\",\"\",ROWS($B$6:B932))","v":""},{"$f":"IF(OR(SD!A928=\"\"),\"\",SD!A928)","v":""},{"$f":"IF(OR(SD!C928=\"\"),\"\",SD!C928)","v":""},{"$f":"IF(OR(SD!E928=\"\"),\"\",SD!E928)","v":""},{"$f":"IF(OR(SD!G928=\"\"),\"\",SD!G928)","v":""},{"$f":"IF(OR(SD!I928=\"\"),\"\",SD!I928)","v":""},{"$f":"IF(OR(SD!O928=\"\"),\"\",SD!O928)","v":""},{"$f":"IF(OR(SD!V928=\"\"),\"\",SD!V928)","v":""},{"$f":"IF(SD!D928=\"\",\"\",SD!D928)","v":""}]
[null,{"$f":"IF(E933=\"\",\"\",ROWS($B$6:B933))","v":""},{"$f":"IF(OR(SD!A929=\"\"),\"\",SD!A929)","v":""},{"$f":"IF(OR(SD!C929=\"\"),\"\",SD!C929)","v":""},{"$f":"IF(OR(SD!E929=\"\"),\"\",SD!E929)","v":""},{"$f":"IF(OR(SD!G929=\"\"),\"\",SD!G929)","v":""},{"$f":"IF(OR(SD!I929=\"\"),\"\",SD!I929)","v":""},{"$f":"IF(OR(SD!O929=\"\"),\"\",SD!O929)","v":""},{"$f":"IF(OR(SD!V929=\"\"),\"\",SD!V929)","v":""},{"$f":"IF(SD!D929=\"\",\"\",SD!D929)","v":""}]
[null,{"$f":"IF(E934=\"\",\"\",ROWS($B$6:B934))","v":""},{"$f":"IF(OR(SD!A930=\"\"),\"\",SD!A930)","v":""},{"$f":"IF(OR(SD!C930=\"\"),\"\",SD!C930)","v":""},{"$f":"IF(OR(SD!E930=\"\"),\"\",SD!E930)","v":""},{"$f":"IF(OR(SD!G930=\"\"),\"\",SD!G930)","v":""},{"$f":"IF(OR(SD!I930=\"\"),\"\",SD!I930)","v":""},{"$f":"IF(OR(SD!O930=\"\"),\"\",SD!O930)","v":""},{"$f":"IF(OR(SD!V930=\"\"),\"\",SD!V930)","v":""},{"$f":"IF(SD!D930=\"\",\"\",SD!D930)","v":""}]
[null,{"$f":"IF(E935=\"\",\"\",ROWS($B$6:B935))","v":""},{"$f":"IF(OR(SD!A931=\"\"),\"\",SD!A931)","v":""},{"$f":"IF(OR(SD!C931=\"\"),\"\",SD!C931)","v":""},{"$f":"IF(OR(SD!E931=\"\"),\"\",SD!E931)","v":""},{"$f":"IF(OR(SD!G931=\"\"),\"\",SD!G931)","v":""},{"$f":"IF(OR(SD!I931=\"\"),\"\",SD!I931)","v":""},{"$f":"IF(OR(SD!O931=\"\"),\"\",SD!O931)","v":""},{"$f":"IF(OR(SD!V931=\"\"),\"\",SD!V931)","v":""},{"$f":"IF(SD!D931=\"\",\"\",SD!D931)","v":""}]
[null,{"$f":"IF(E936=\"\",\"\",ROWS($B$6:B936))","v":""},{"$f":"IF(OR(SD!A932=\"\"),\"\",SD!A932)","v":""},{"$f":"IF(OR(SD!C932=\"\"),\"\",SD!C932)","v":""},{"$f":"IF(OR(SD!E932=\"\"),\"\",SD!E932)","v":""},{"$f":"IF(OR(SD!G932=\"\"),\"\",SD!G932)","v":""},{"$f":"IF(OR(SD!I932=\"\"),\"\",SD!I932)","v":""},{"$f":"IF(OR(SD!O932=\"\"),\"\",SD!O932)","v":""},{"$f":"IF(OR(SD!V932=\"\"),\"\",SD!V932)","v":""},{"$f":"IF(SD!D932=\"\",\"\",SD!D932)","v":""}]
[null,{"$f":"IF(E937=\"\",\"\",ROWS($B$6:B937))","v":""},{"$f":"IF(OR(SD!A933=\"\"),\"\",SD!A933)","v":""},{"$f":"IF(OR(SD!C933=\"\"),\"\",SD!C933)","v":""},{"$f":"IF(OR(SD!E933=\"\"),\"\",SD!E933)","v":""},{"$f":"IF(OR(SD!G933=\"\"),\"\",SD!G933)","v":""},{"$f":"IF(OR(SD!I933=\"\"),\"\",SD!I933)","v":""},{"$f":"IF(OR(SD!O933=\"\"),\"\",SD!O933)","v":""},{"$f":"IF(OR(SD!V933=\"\"),\"\",SD!V933)","v":""},{"$f":"IF(SD!D933=\"\",\"\",SD!D933)","v":""}]
[null,{"$f":"IF(E938=\"\",\"\",ROWS($B$6:B938))","v":""},{"$f":"IF(OR(SD!A934=\"\"),\"\",SD!A934)","v":""},{"$f":"IF(OR(SD!C934=\"\"),\"\",SD!C934)","v":""},{"$f":"IF(OR(SD!E934=\"\"),\"\",SD!E934)","v":""},{"$f":"IF(OR(SD!G934=\"\"),\"\",SD!G934)","v":""},{"$f":"IF(OR(SD!I934=\"\"),\"\",SD!I934)","v":""},{"$f":"IF(OR(SD!O934=\"\"),\"\",SD!O934)","v":""},{"$f":"IF(OR(SD!V934=\"\"),\"\",SD!V934)","v":""},{"$f":"IF(SD!D934=\"\",\"\",SD!D934)","v":""}]
[null,{"$f":"IF(E939=\"\",\"\",ROWS($B$6:B939))","v":""},{"$f":"IF(OR(SD!A935=\"\"),\"\",SD!A935)","v":""},{"$f":"IF(OR(SD!C935=\"\"),\"\",SD!C935)","v":""},{"$f":"IF(OR(SD!E935=\"\"),\"\",SD!E935)","v":""},{"$f":"IF(OR(SD!G935=\"\"),\"\",SD!G935)","v":""},{"$f":"IF(OR(SD!I935=\"\"),\"\",SD!I935)","v":""},{"$f":"IF(OR(SD!O935=\"\"),\"\",SD!O935)","v":""},{"$f":"IF(OR(SD!V935=\"\"),\"\",SD!V935)","v":""},{"$f":"IF(SD!D935=\"\",\"\",SD!D935)","v":""}]
[null,{"$f":"IF(E940=\"\",\"\",ROWS($B$6:B940))","v":""},{"$f":"IF(OR(SD!A936=\"\"),\"\",SD!A936)","v":""},{"$f":"IF(OR(SD!C936=\"\"),\"\",SD!C936)","v":""},{"$f":"IF(OR(SD!E936=\"\"),\"\",SD!E936)","v":""},{"$f":"IF(OR(SD!G936=\"\"),\"\",SD!G936)","v":""},{"$f":"IF(OR(SD!I936=\"\"),\"\",SD!I936)","v":""},{"$f":"IF(OR(SD!O936=\"\"),\"\",SD!O936)","v":""},{"$f":"IF(OR(SD!V936=\"\"),\"\",SD!V936)","v":""},{"$f":"IF(SD!D936=\"\",\"\",SD!D936)","v":""}]
[null,{"$f":"IF(E941=\"\",\"\",ROWS($B$6:B941))","v":""},{"$f":"IF(OR(SD!A937=\"\"),\"\",SD!A937)","v":""},{"$f":"IF(OR(SD!C937=\"\"),\"\",SD!C937)","v":""},{"$f":"IF(OR(SD!E937=\"\"),\"\",SD!E937)","v":""},{"$f":"IF(OR(SD!G937=\"\"),\"\",SD!G937)","v":""},{"$f":"IF(OR(SD!I937=\"\"),\"\",SD!I937)","v":""},{"$f":"IF(OR(SD!O937=\"\"),\"\",SD!O937)","v":""},{"$f":"IF(OR(SD!V937=\"\"),\"\",SD!V937)","v":""},{"$f":"IF(SD!D937=\"\",\"\",SD!D937)","v":""}]
[null,{"$f":"IF(E942=\"\",\"\",ROWS($B$6:B942))","v":""},{"$f":"IF(OR(SD!A938=\"\"),\"\",SD!A938)","v":""},{"$f":"IF(OR(SD!C938=\"\"),\"\",SD!C938)","v":""},{"$f":"IF(OR(SD!E938=\"\"),\"\",SD!E938)","v":""},{"$f":"IF(OR(SD!G938=\"\"),\"\",SD!G938)","v":""},{"$f":"IF(OR(SD!I938=\"\"),\"\",SD!I938)","v":""},{"$f":"IF(OR(SD!O938=\"\"),\"\",SD!O938)","v":""},{"$f":"IF(OR(SD!V938=\"\"),\"\",SD!V938)","v":""},{"$f":"IF(SD!D938=\"\",\"\",SD!D938)","v":""}]
[null,{"$f":"IF(E943=\"\",\"\",ROWS($B$6:B943))","v":""},{"$f":"IF(OR(SD!A939=\"\"),\"\",SD!A939)","v":""},{"$f":"IF(OR(SD!C939=\"\"),\"\",SD!C939)","v":""},{"$f":"IF(OR(SD!E939=\"\"),\"\",SD!E939)","v":""},{"$f":"IF(OR(SD!G939=\"\"),\"\",SD!G939)","v":""},{"$f":"IF(OR(SD!I939=\"\"),\"\",SD!I939)","v":""},{"$f":"IF(OR(SD!O939=\"\"),\"\",SD!O939)","v":""},{"$f":"IF(OR(SD!V939=\"\"),\"\",SD!V939)","v":""},{"$f":"IF(SD!D939=\"\",\"\",SD!D939)","v":""}]
[null,{"$f":"IF(E944=\"\",\"\",ROWS($B$6:B944))","v":""},{"$f":"IF(OR(SD!A940=\"\"),\"\",SD!A940)","v":""},{"$f":"IF(OR(SD!C940=\"\"),\"\",SD!C940)","v":""},{"$f":"IF(OR(SD!E940=\"\"),\"\",SD!E940)","v":""},{"$f":"IF(OR(SD!G940=\"\"),\"\",SD!G940)","v":""},{"$f":"IF(OR(SD!I940=\"\"),\"\",SD!I940)","v":""},{"$f":"IF(OR(SD!O940=\"\"),\"\",SD!O940)","v":""},{"$f":"IF(OR(SD!V940=\"\"),\"\",SD!V940)","v":""},{"$f":"IF(SD!D940=\"\",\"\",SD!D940)","v":""}]
[null,{"$f":"IF(E945=\"\",\"\",ROWS($B$6:B945))","v":""},{"$f":"IF(OR(SD!A941=\"\"),\"\",SD!A941)","v":""},{"$f":"IF(OR(SD!C941=\"\"),\"\",SD!C941)","v":""},{"$f":"IF(OR(SD!E941=\"\"),\"\",SD!E941)","v":""},{"$f":"IF(OR(SD!G941=\"\"),\"\",SD!G941)","v":""},{"$f":"IF(OR(SD!I941=\"\"),\"\",SD!I941)","v":""},{"$f":"IF(OR(SD!O941=\"\"),\"\",SD!O941)","v":""},{"$f":"IF(OR(SD!V941=\"\"),\"\",SD!V941)","v":""},{"$f":"IF(SD!D941=\"\",\"\",SD!D941)","v":""}]
[null,{"$f":"IF(E946=\"\",\"\",ROWS($B$6:B946))","v":""},{"$f":"IF(OR(SD!A942=\"\"),\"\",SD!A942)","v":""},{"$f":"IF(OR(SD!C942=\"\"),\"\",SD!C942)","v":""},{"$f":"IF(OR(SD!E942=\"\"),\"\",SD!E942)","v":""},{"$f":"IF(OR(SD!G942=\"\"),\"\",SD!G942)","v":""},{"$f":"IF(OR(SD!I942=\"\"),\"\",SD!I942)","v":""},{"$f":"IF(OR(SD!O942=\"\"),\"\",SD!O942)","v":""},{"$f":"IF(OR(SD!V942=\"\"),\"\",SD!V942)","v":""},{"$f":"IF(SD!D942=\"\",\"\",SD!D942)","v":""}]
[null,{"$f":"IF(E947=\"\",\"\",ROWS($B$6:B947))","v":""},{"$f":"IF(OR(SD!A943=\"\"),\"\",SD!A943)","v":""},{"$f":"IF(OR(SD!C943=\"\"),\"\",SD!C943)","v":""},{"$f":"IF(OR(SD!E943=\"\"),\"\",SD!E943)","v":""},{"$f":"IF(OR(SD!G943=\"\"),\"\",SD!G943)","v":""},{"$f":"IF(OR(SD!I943=\"\"),\"\",SD!I943)","v":""},{"$f":"IF(OR(SD!O943=\"\"),\"\",SD!O943)","v":""},{"$f":"IF(OR(SD!V943=\"\"),\"\",SD!V943)","v":""},{"$f":"IF(SD!D943=\"\",\"\",SD!D943)","v":""}]
[null,{"$f":"IF(E948=\"\",\"\",ROWS($B$6:B948))","v":""},{"$f":"IF(OR(SD!A944=\"\"),\"\",SD!A944)","v":""},{"$f":"IF(OR(SD!C944=\"\"),\"\",SD!C944)","v":""},{"$f":"IF(OR(SD!E944=\"\"),\"\",SD!E944)","v":""},{"$f":"IF(OR(SD!G944=\"\"),\"\",SD!G944)","v":""},{"$f":"IF(OR(SD!I944=\"\"),\"\",SD!I944)","v":""},{"$f":"IF(OR(SD!O944=\"\"),\"\",SD!O944)","v":""},{"$f":"IF(OR(SD!V944=\"\"),\"\",SD!V944)","v":""},{"$f":"IF(SD!D944=\"\",\"\",SD!D944)","v":""}]
[null,{"$f":"IF(E949=\"\",\"\",ROWS($B$6:B949))","v":""},{"$f":"IF(OR(SD!A945=\"\"),\"\",SD!A945)","v":""},{"$f":"IF(OR(SD!C945=\"\"),\"\",SD!C945)","v":""},{"$f":"IF(OR(SD!E945=\"\"),\"\",SD!E945)","v":""},{"$f":"IF(OR(SD!G945=\"\"),\"\",SD!G945)","v":""},{"$f":"IF(OR(SD!I945=\"\"),\"\",SD!I945)","v":""},{"$f":"IF(OR(SD!O945=\"\"),\"\",SD!O945)","v":""},{"$f":"IF(OR(SD!V945=\"\"),\"\",SD!V945)","v":""},{"$f":"IF(SD!D945=\"\",\"\",SD!D945)","v":""}]
[null,{"$f":"IF(E950=\"\",\"\",ROWS($B$6:B950))","v":""},{"$f":"IF(OR(SD!A946=\"\"),\"\",SD!A946)","v":""},{"$f":"IF(OR(SD!C946=\"\"),\"\",SD!C946)","v":""},{"$f":"IF(OR(SD!E946=\"\"),\"\",SD!E946)","v":""},{"$f":"IF(OR(SD!G946=\"\"),\"\",SD!G946)","v":""},{"$f":"IF(OR(SD!I946=\"\"),\"\",SD!I946)","v":""},{"$f":"IF(OR(SD!O946=\"\"),\"\",SD!O946)","v":""},{"$f":"IF(OR(SD!V946=\"\"),\"\",SD!V946)","v":""},{"$f":"IF(SD!D946=\"\",\"\",SD!D946)","v":""}]
[null,{"$f":"IF(E951=\"\",\"\",ROWS($B$6:B951))","v":""},{"$f":"IF(OR(SD!A947=\"\"),\"\",SD!A947)","v":""},{"$f":"IF(OR(SD!C947=\"\"),\"\",SD!C947)","v":""},{"$f":"IF(OR(SD!E947=\"\"),\"\",SD!E947)","v":""},{"$f":"IF(OR(SD!G947=\"\"),\"\",SD!G947)","v":""},{"$f":"IF(OR(SD!I947=\"\"),\"\",SD!I947)","v":""},{"$f":"IF(OR(SD!O947=\"\"),\"\",SD!O947)","v":""},{"$f":"IF(OR(SD!V947=\"\"),\"\",SD!V947)","v":""},{"$f":"IF(SD!D947=\"\",\"\",SD!D947)","v":""}]
[null,{"$f":"IF(E952=\"\",\"\",ROWS($B$6:B952))","v":""},{"$f":"IF(OR(SD!A948=\"\"),\"\",SD!A948)","v":""},{"$f":"IF(OR(SD!C948=\"\"),\"\",SD!C948)","v":""},{"$f":"IF(OR(SD!E948=\"\"),\"\",SD!E948)","v":""},{"$f":"IF(OR(SD!G948=\"\"),\"\",SD!G948)","v":""},{"$f":"IF(OR(SD!I948=\"\"),\"\",SD!I948)","v":""},{"$f":"IF(OR(SD!O948=\"\"),\"\",SD!O948)","v":""},{"$f":"IF(OR(SD!V948=\"\"),\"\",SD!V948)","v":""},{"$f":"IF(SD!D948=\"\",\"\",SD!D948)","v":""}]
[null,{"$f":"IF(E953=\"\",\"\",ROWS($B$6:B953))","v":""},{"$f":"IF(OR(SD!A949=\"\"),\"\",SD!A949)","v":""},{"$f":"IF(OR(SD!C949=\"\"),\"\",SD!C949)","v":""},{"$f":"IF(OR(SD!E949=\"\"),\"\",SD!E949)","v":""},{"$f":"IF(OR(SD!G949=\"\"),\"\",SD!G949)","v":""},{"$f":"IF(OR(SD!I949=\"\"),\"\",SD!I949)","v":""},{"$f":"IF(OR(SD!O949=\"\"),\"\",SD!O949)","v":""},{"$f":"IF(OR(SD!V949=\"\"),\"\",SD!V949)","v":""},{"$f":"IF(SD!D949=\"\",\"\",SD!D949)","v":""}]
[null,{"$f":"IF(E954=\"\",\"\",ROWS($B$6:B954))","v":""},{"$f":"IF(OR(SD!A950=\"\"),\"\",SD!A950)","v":""},{"$f":"IF(OR(SD!C950=\"\"),\"\",SD!C950)","v":""},{"$f":"IF(OR(SD!E950=\"\"),\"\",SD!E950)","v":""},{"$f":"IF(OR(SD!G950=\"\"),\"\",SD!G950)","v":""},{"$f":"IF(OR(SD!I950=\"\"),\"\",SD!I950)","v":""},{"$f":"IF(OR(SD!O950=\"\"),\"\",SD!O950)","v":""},{"$f":"IF(OR(SD!V950=\"\"),\"\",SD!V950)","v":""},{"$f":"IF(SD!D950=\"\",\"\",SD!D950)","v":""}]
[null,{"$f":"IF(E955=\"\",\"\",ROWS($B$6:B955))","v":""},{"$f":"IF(OR(SD!A951=\"\"),\"\",SD!A951)","v":""},{"$f":"IF(OR(SD!C951=\"\"),\"\",SD!C951)","v":""},{"$f":"IF(OR(SD!E951=\"\"),\"\",SD!E951)","v":""},{"$f":"IF(OR(SD!G951=\"\"),\"\",SD!G951)","v":""},{"$f":"IF(OR(SD!I951=\"\"),\"\",SD!I951)","v":""},{"$f":"IF(OR(SD!O951=\"\"),\"\",SD!O951)","v":""},{"$f":"IF(OR(SD!V951=\"\"),\"\",SD!V951)","v":""},{"$f":"IF(SD!D951=\"\",\"\",SD!D951)","v":""}]
[null,{"$f":"IF(E956=\"\",\"\",ROWS($B$6:B956))","v":""},{"$f":"IF(OR(SD!A952=\"\"),\"\",SD!A952)","v":""},{"$f":"IF(OR(SD!C952=\"\"),\"\",SD!C952)","v":""},{"$f":"IF(OR(SD!E952=\"\"),\"\",SD!E952)","v":""},{"$f":"IF(OR(SD!G952=\"\"),\"\",SD!G952)","v":""},{"$f":"IF(OR(SD!I952=\"\"),\"\",SD!I952)","v":""},{"$f":"IF(OR(SD!O952=\"\"),\"\",SD!O952)","v":""},{"$f":"IF(OR(SD!V952=\"\"),\"\",SD!V952)","v":""},{"$f":"IF(SD!D952=\"\",\"\",SD!D952)","v":""}]
[null,{"$f":"IF(E957=\"\",\"\",ROWS($B$6:B957))","v":""},{"$f":"IF(OR(SD!A953=\"\"),\"\",SD!A953)","v":""},{"$f":"IF(OR(SD!C953=\"\"),\"\",SD!C953)","v":""},{"$f":"IF(OR(SD!E953=\"\"),\"\",SD!E953)","v":""},{"$f":"IF(OR(SD!G953=\"\"),\"\",SD!G953)","v":""},{"$f":"IF(OR(SD!I953=\"\"),\"\",SD!I953)","v":""},{"$f":"IF(OR(SD!O953=\"\"),\"\",SD!O953)","v":""},{"$f":"IF(OR(SD!V953=\"\"),\"\",SD!V953)","v":""},{"$f":"IF(SD!D953=\"\",\"\",SD!D953)","v":""}]
[null,{"$f":"IF(E958=\"\",\"\",ROWS($B$6:B958))","v":""},{"$f":"IF(OR(SD!A954=\"\"),\"\",SD!A954)","v":""},{"$f":"IF(OR(SD!C954=\"\"),\"\",SD!C954)","v":""},{"$f":"IF(OR(SD!E954=\"\"),\"\",SD!E954)","v":""},{"$f":"IF(OR(SD!G954=\"\"),\"\",SD!G954)","v":""},{"$f":"IF(OR(SD!I954=\"\"),\"\",SD!I954)","v":""},{"$f":"IF(OR(SD!O954=\"\"),\"\",SD!O954)","v":""},{"$f":"IF(OR(SD!V954=\"\"),\"\",SD!V954)","v":""},{"$f":"IF(SD!D954=\"\",\"\",SD!D954)","v":""}]
[null,{"$f":"IF(E959=\"\",\"\",ROWS($B$6:B959))","v":""},{"$f":"IF(OR(SD!A955=\"\"),\"\",SD!A955)","v":""},{"$f":"IF(OR(SD!C955=\"\"),\"\",SD!C955)","v":""},{"$f":"IF(OR(SD!E955=\"\"),\"\",SD!E955)","v":""},{"$f":"IF(OR(SD!G955=\"\"),\"\",SD!G955)","v":""},{"$f":"IF(OR(SD!I955=\"\"),\"\",SD!I955)","v":""},{"$f":"IF(OR(SD!O955=\"\"),\"\",SD!O955)","v":""},{"$f":"IF(OR(SD!V955=\"\"),\"\",SD!V955)","v":""},{"$f":"IF(SD!D955=\"\",\"\",SD!D955)","v":""}]
[null,{"$f":"IF(E960=\"\",\"\",ROWS($B$6:B960))","v":""},{"$f":"IF(OR(SD!A956=\"\"),\"\",SD!A956)","v":""},{"$f":"IF(OR(SD!C956=\"\"),\"\",SD!C956)","v":""},{"$f":"IF(OR(SD!E956=\"\"),\"\",SD!E956)","v":""},{"$f":"IF(OR(SD!G956=\"\"),\"\",SD!G956)","v":""},{"$f":"IF(OR(SD!I956=\"\"),\"\",SD!I956)","v":""},{"$f":"IF(OR(SD!O956=\"\"),\"\",SD!O956)","v":""},{"$f":"IF(OR(SD!V956=\"\"),\"\",SD!V956)","v":""},{"$f":"IF(SD!D956=\"\",\"\",SD!D956)","v":""}]
[null,{"$f":"IF(E961=\"\",\"\",ROWS($B$6:B961))","v":""},{"$f":"IF(OR(SD!A957=\"\"),\"\",SD!A957)","v":""},{"$f":"IF(OR(SD!C957=\"\"),\"\",SD!C957)","v":""},{"$f":"IF(OR(SD!E957=\"\"),\"\",SD!E957)","v":""},{"$f":"IF(OR(SD!G957=\"\"),\"\",SD!G957)","v":""},{"$f":"IF(OR(SD!I957=\"\"),\"\",SD!I957)","v":""},{"$f":"IF(OR(SD!O957=\"\"),\"\",SD!O957)","v":""},{"$f":"IF(OR(SD!V957=\"\"),\"\",SD!V957)","v":""},{"$f":"IF(SD!D957=\"\",\"\",SD!D957)","v":""}]
[null,{"$f":"IF(E962=\"\",\"\",ROWS($B$6:B962))","v":""},{"$f":"IF(OR(SD!A958=\"\"),\"\",SD!A958)","v":""},{"$f":"IF(OR(SD!C958=\"\"),\"\",SD!C958)","v":""},{"$f":"IF(OR(SD!E958=\"\"),\"\",SD!E958)","v":""},{"$f":"IF(OR(SD!G958=\"\"),\"\",SD!G958)","v":""},{"$f":"IF(OR(SD!I958=\"\"),\"\",SD!I958)","v":""},{"$f":"IF(OR(SD!O958=\"\"),\"\",SD!O958)","v":""},{"$f":"IF(OR(SD!V958=\"\"),\"\",SD!V958)","v":""},{"$f":"IF(SD!D958=\"\",\"\",SD!D958)","v":""}]
[null,{"$f":"IF(E963=\"\",\"\",ROWS($B$6:B963))","v":""},{"$f":"IF(OR(SD!A959=\"\"),\"\",SD!A959)","v":""},{"$f":"IF(OR(SD!C959=\"\"),\"\",SD!C959)","v":""},{"$f":"IF(OR(SD!E959=\"\"),\"\",SD!E959)","v":""},{"$f":"IF(OR(SD!G959=\"\"),\"\",SD!G959)","v":""},{"$f":"IF(OR(SD!I959=\"\"),\"\",SD!I959)","v":""},{"$f":"IF(OR(SD!O959=\"\"),\"\",SD!O959)","v":""},{"$f":"IF(OR(SD!V959=\"\"),\"\",SD!V959)","v":""},{"$f":"IF(SD!D959=\"\",\"\",SD!D959)","v":""}]
[null,{"$f":"IF(E964=\"\",\"\",ROWS($B$6:B964))","v":""},{"$f":"IF(OR(SD!A960=\"\"),\"\",SD!A960)","v":""},{"$f":"IF(OR(SD!C960=\"\"),\"\",SD!C960)","v":""},{"$f":"IF(OR(SD!E960=\"\"),\"\",SD!E960)","v":""},{"$f":"IF(OR(SD!G960=\"\"),\"\",SD!G960)","v":""},{"$f":"IF(OR(SD!I960=\"\"),\"\",SD!I960)","v":""},{"$f":"IF(OR(SD!O960=\"\"),\"\",SD!O960)","v":""},{"$f":"IF(OR(SD!V960=\"\"),\"\",SD!V960)","v":""},{"$f":"IF(SD!D960=\"\",\"\",SD!D960)","v":""}]
[null,{"$f":"IF(E965=\"\",\"\",ROWS($B$6:B965))","v":""},{"$f":"IF(OR(SD!A961=\"\"),\"\",SD!A961)","v":""},{"$f":"IF(OR(SD!C961=\"\"),\"\",SD!C961)","v":""},{"$f":"IF(OR(SD!E961=\"\"),\"\",SD!E961)","v":""},{"$f":"IF(OR(SD!G961=\"\"),\"\",SD!G961)","v":""},{"$f":"IF(OR(SD!I961=\"\"),\"\",SD!I961)","v":""},{"$f":"IF(OR(SD!O961=\"\"),\"\",SD!O961)","v":""},{"$f":"IF(OR(SD!V961=\"\"),\"\",SD!V961)","v":""},{"$f":"IF(SD!D961=\"\",\"\",SD!D961)","v":""}]
[null,{"$f":"IF(E966=\"\",\"\",ROWS($B$6:B966))","v":""},{"$f":"IF(OR(SD!A962=\"\"),\"\",SD!A962)","v":""},{"$f":"IF(OR(SD!C962=\"\"),\"\",SD!C962)","v":""},{"$f":"IF(OR(SD!E962=\"\"),\"\",SD!E962)","v":""},{"$f":"IF(OR(SD!G962=\"\"),\"\",SD!G962)","v":""},{"$f":"IF(OR(SD!I962=\"\"),\"\",SD!I962)","v":""},{"$f":"IF(OR(SD!O962=\"\"),\"\",SD!O962)","v":""},{"$f":"IF(OR(SD!V962=\"\"),\"\",SD!V962)","v":""},{"$f":"IF(SD!D962=\"\",\"\",SD!D962)","v":""}]
[null,{"$f":"IF(E967=\"\",\"\",ROWS($B$6:B967))","v":""},{"$f":"IF(OR(SD!A963=\"\"),\"\",SD!A963)","v":""},{"$f":"IF(OR(SD!C963=\"\"),\"\",SD!C963)","v":""},{"$f":"IF(OR(SD!E963=\"\"),\"\",SD!E963)","v":""},{"$f":"IF(OR(SD!G963=\"\"),\"\",SD!G963)","v":""},{"$f":"IF(OR(SD!I963=\"\"),\"\",SD!I963)","v":""},{"$f":"IF(OR(SD!O963=\"\"),\"\",SD!O963)","v":""},{"$f":"IF(OR(SD!V963=\"\"),\"\",SD!V963)","v":""},{"$f":"IF(SD!D963=\"\",\"\",SD!D963)","v":""}]
[null,{"$f":"IF(E968=\"\",\"\",ROWS($B$6:B968))","v":""},{"$f":"IF(OR(SD!A964=\"\"),\"\",SD!A964)","v":""},{"$f":"IF(OR(SD!C964=\"\"),\"\",SD!C964)","v":""},{"$f":"IF(OR(SD!E964=\"\"),\"\",SD!E964)","v":""},{"$f":"IF(OR(SD!G964=\"\"),\"\",SD!G964)","v":""},{"$f":"IF(OR(SD!I964=\"\"),\"\",SD!I964)","v":""},{"$f":"IF(OR(SD!O964=\"\"),\"\",SD!O964)","v":""},{"$f":"IF(OR(SD!V964=\"\"),\"\",SD!V964)","v":""},{"$f":"IF(SD!D964=\"\",\"\",SD!D964)","v":""}]
[null,{"$f":"IF(E969=\"\",\"\",ROWS($B$6:B969))","v":""},{"$f":"IF(OR(SD!A965=\"\"),\"\",SD!A965)","v":""},{"$f":"IF(OR(SD!C965=\"\"),\"\",SD!C965)","v":""},{"$f":"IF(OR(SD!E965=\"\"),\"\",SD!E965)","v":""},{"$f":"IF(OR(SD!G965=\"\"),\"\",SD!G965)","v":""},{"$f":"IF(OR(SD!I965=\"\"),\"\",SD!I965)","v":""},{"$f":"IF(OR(SD!O965=\"\"),\"\",SD!O965)","v":""},{"$f":"IF(OR(SD!V965=\"\"),\"\",SD!V965)","v":""},{"$f":"IF(SD!D965=\"\",\"\",SD!D965)","v":""}]
[null,{"$f":"IF(E970=\"\",\"\",ROWS($B$6:B970))","v":""},{"$f":"IF(OR(SD!A966=\"\"),\"\",SD!A966)","v":""},{"$f":"IF(OR(SD!C966=\"\"),\"\",SD!C966)","v":""},{"$f":"IF(OR(SD!E966=\"\"),\"\",SD!E966)","v":""},{"$f":"IF(OR(SD!G966=\"\"),\"\",SD!G966)","v":""},{"$f":"IF(OR(SD!I966=\"\"),\"\",SD!I966)","v":""},{"$f":"IF(OR(SD!O966=\"\"),\"\",SD!O966)","v":""},{"$f":"IF(OR(SD!V966=\"\"),\"\",SD!V966)","v":""},{"$f":"IF(SD!D966=\"\",\"\",SD!D966)","v":""}]
[null,{"$f":"IF(E971=\"\",\"\",ROWS($B$6:B971))","v":""},{"$f":"IF(OR(SD!A967=\"\"),\"\",SD!A967)","v":""},{"$f":"IF(OR(SD!C967=\"\"),\"\",SD!C967)","v":""},{"$f":"IF(OR(SD!E967=\"\"),\"\",SD!E967)","v":""},{"$f":"IF(OR(SD!G967=\"\"),\"\",SD!G967)","v":""},{"$f":"IF(OR(SD!I967=\"\"),\"\",SD!I967)","v":""},{"$f":"IF(OR(SD!O967=\"\"),\"\",SD!O967)","v":""},{"$f":"IF(OR(SD!V967=\"\"),\"\",SD!V967)","v":""},{"$f":"IF(SD!D967=\"\",\"\",SD!D967)","v":""}]
[null,{"$f":"IF(E972=\"\",\"\",ROWS($B$6:B972))","v":""},{"$f":"IF(OR(SD!A968=\"\"),\"\",SD!A968)","v":""},{"$f":"IF(OR(SD!C968=\"\"),\"\",SD!C968)","v":""},{"$f":"IF(OR(SD!E968=\"\"),\"\",SD!E968)","v":""},{"$f":"IF(OR(SD!G968=\"\"),\"\",SD!G968)","v":""},{"$f":"IF(OR(SD!I968=\"\"),\"\",SD!I968)","v":""},{"$f":"IF(OR(SD!O968=\"\"),\"\",SD!O968)","v":""},{"$f":"IF(OR(SD!V968=\"\"),\"\",SD!V968)","v":""},{"$f":"IF(SD!D968=\"\",\"\",SD!D968)","v":""}]
[null,{"$f":"IF(E973=\"\",\"\",ROWS($B$6:B973))","v":""},{"$f":"IF(OR(SD!A969=\"\"),\"\",SD!A969)","v":""},{"$f":"IF(OR(SD!C969=\"\"),\"\",SD!C969)","v":""},{"$f":"IF(OR(SD!E969=\"\"),\"\",SD!E969)","v":""},{"$f":"IF(OR(SD!G969=\"\"),\"\",SD!G969)","v":""},{"$f":"IF(OR(SD!I969=\"\"),\"\",SD!I969)","v":""},{"$f":"IF(OR(SD!O969=\"\"),\"\",SD!O969)","v":""},{"$f":"IF(OR(SD!V969=\"\"),\"\",SD!V969)","v":""},{"$f":"IF(SD!D969=\"\",\"\",SD!D969)","v":""}]
[null,{"$f":"IF(E974=\"\",\"\",ROWS($B$6:B974))","v":""},{"$f":"IF(OR(SD!A970=\"\"),\"\",SD!A970)","v":""},{"$f":"IF(OR(SD!C970=\"\"),\"\",SD!C970)","v":""},{"$f":"IF(OR(SD!E970=\"\"),\"\",SD!E970)","v":""},{"$f":"IF(OR(SD!G970=\"\"),\"\",SD!G970)","v":""},{"$f":"IF(OR(SD!I970=\"\"),\"\",SD!I970)","v":""},{"$f":"IF(OR(SD!O970=\"\"),\"\",SD!O970)","v":""},{"$f":"IF(OR(SD!V970=\"\"),\"\",SD!V970)","v":""},{"$f":"IF(SD!D970=\"\",\"\",SD!D970)","v":""}]
[null,{"$f":"IF(E975=\"\",\"\",ROWS($B$6:B975))","v":""},{"$f":"IF(OR(SD!A971=\"\"),\"\",SD!A971)","v":""},{"$f":"IF(OR(SD!C971=\"\"),\"\",SD!C971)","v":""},{"$f":"IF(OR(SD!E971=\"\"),\"\",SD!E971)","v":""},{"$f":"IF(OR(SD!G971=\"\"),\"\",SD!G971)","v":""},{"$f":"IF(OR(SD!I971=\"\"),\"\",SD!I971)","v":""},{"$f":"IF(OR(SD!O971=\"\"),\"\",SD!O971)","v":""},{"$f":"IF(OR(SD!V971=\"\"),\"\",SD!V971)","v":""},{"$f":"IF(SD!D971=\"\",\"\",SD!D971)","v":""}]
[null,{"$f":"IF(E976=\"\",\"\",ROWS($B$6:B976))","v":""},{"$f":"IF(OR(SD!A972=\"\"),\"\",SD!A972)","v":""},{"$f":"IF(OR(SD!C972=\"\"),\"\",SD!C972)","v":""},{"$f":"IF(OR(SD!E972=\"\"),\"\",SD!E972)","v":""},{"$f":"IF(OR(SD!G972=\"\"),\"\",SD!G972)","v":""},{"$f":"IF(OR(SD!I972=\"\"),\"\",SD!I972)","v":""},{"$f":"IF(OR(SD!O972=\"\"),\"\",SD!O972)","v":""},{"$f":"IF(OR(SD!V972=\"\"),\"\",SD!V972)","v":""},{"$f":"IF(SD!D972=\"\",\"\",SD!D972)","v":""}]
[null,{"$f":"IF(E977=\"\",\"\",ROWS($B$6:B977))","v":""},{"$f":"IF(OR(SD!A973=\"\"),\"\",SD!A973)","v":""},{"$f":"IF(OR(SD!C973=\"\"),\"\",SD!C973)","v":""},{"$f":"IF(OR(SD!E973=\"\"),\"\",SD!E973)","v":""},{"$f":"IF(OR(SD!G973=\"\"),\"\",SD!G973)","v":""},{"$f":"IF(OR(SD!I973=\"\"),\"\",SD!I973)","v":""},{"$f":"IF(OR(SD!O973=\"\"),\"\",SD!O973)","v":""},{"$f":"IF(OR(SD!V973=\"\"),\"\",SD!V973)","v":""},{"$f":"IF(SD!D973=\"\",\"\",SD!D973)","v":""}]
[null,{"$f":"IF(E978=\"\",\"\",ROWS($B$6:B978))","v":""},{"$f":"IF(OR(SD!A974=\"\"),\"\",SD!A974)","v":""},{"$f":"IF(OR(SD!C974=\"\"),\"\",SD!C974)","v":""},{"$f":"IF(OR(SD!E974=\"\"),\"\",SD!E974)","v":""},{"$f":"IF(OR(SD!G974=\"\"),\"\",SD!G974)","v":""},{"$f":"IF(OR(SD!I974=\"\"),\"\",SD!I974)","v":""},{"$f":"IF(OR(SD!O974=\"\"),\"\",SD!O974)","v":""},{"$f":"IF(OR(SD!V974=\"\"),\"\",SD!V974)","v":""},{"$f":"IF(SD!D974=\"\",\"\",SD!D974)","v":""}]
[null,{"$f":"IF(E979=\"\",\"\",ROWS($B$6:B979))","v":""},{"$f":"IF(OR(SD!A975=\"\"),\"\",SD!A975)","v":""},{"$f":"IF(OR(SD!C975=\"\"),\"\",SD!C975)","v":""},{"$f":"IF(OR(SD!E975=\"\"),\"\",SD!E975)","v":""},{"$f":"IF(OR(SD!G975=\"\"),\"\",SD!G975)","v":""},{"$f":"IF(OR(SD!I975=\"\"),\"\",SD!I975)","v":""},{"$f":"IF(OR(SD!O975=\"\"),\"\",SD!O975)","v":""},{"$f":"IF(OR(SD!V975=\"\"),\"\",SD!V975)","v":""},{"$f":"IF(SD!D975=\"\",\"\",SD!D975)","v":""}]
[null,{"$f":"IF(E980=\"\",\"\",ROWS($B$6:B980))","v":""},{"$f":"IF(OR(SD!A976=\"\"),\"\",SD!A976)","v":""},{"$f":"IF(OR(SD!C976=\"\"),\"\",SD!C976)","v":""},{"$f":"IF(OR(SD!E976=\"\"),\"\",SD!E976)","v":""},{"$f":"IF(OR(SD!G976=\"\"),\"\",SD!G976)","v":""},{"$f":"IF(OR(SD!I976=\"\"),\"\",SD!I976)","v":""},{"$f":"IF(OR(SD!O976=\"\"),\"\",SD!O976)","v":""},{"$f":"IF(OR(SD!V976=\"\"),\"\",SD!V976)","v":""},{"$f":"IF(SD!D976=\"\",\"\",SD!D976)","v":""}]
[null,{"$f":"IF(E981=\"\",\"\",ROWS($B$6:B981))","v":""},{"$f":"IF(OR(SD!A977=\"\"),\"\",SD!A977)","v":""},{"$f":"IF(OR(SD!C977=\"\"),\"\",SD!C977)","v":""},{"$f":"IF(OR(SD!E977=\"\"),\"\",SD!E977)","v":""},{"$f":"IF(OR(SD!G977=\"\"),\"\",SD!G977)","v":""},{"$f":"IF(OR(SD!I977=\"\"),\"\",SD!I977)","v":""},{"$f":"IF(OR(SD!O977=\"\"),\"\",SD!O977)","v":""},{"$f":"IF(OR(SD!V977=\"\"),\"\",SD!V977)","v":""},{"$f":"IF(SD!D977=\"\",\"\",SD!D977)","v":""}]
[null,{"$f":"IF(E982=\"\",\"\",ROWS($B$6:B982))","v":""},{"$f":"IF(OR(SD!A978=\"\"),\"\",SD!A978)","v":""},{"$f":"IF(OR(SD!C978=\"\"),\"\",SD!C978)","v":""},{"$f":"IF(OR(SD!E978=\"\"),\"\",SD!E978)","v":""},{"$f":"IF(OR(SD!G978=\"\"),\"\",SD!G978)","v":""},{"$f":"IF(OR(SD!I978=\"\"),\"\",SD!I978)","v":""},{"$f":"IF(OR(SD!O978=\"\"),\"\",SD!O978)","v":""},{"$f":"IF(OR(SD!V978=\"\"),\"\",SD!V978)","v":""},{"$f":"IF(SD!D978=\"\",\"\",SD!D978)","v":""}]
[null,{"$f":"IF(E983=\"\",\"\",ROWS($B$6:B983))","v":""},{"$f":"IF(OR(SD!A979=\"\"),\"\",SD!A979)","v":""},{"$f":"IF(OR(SD!C979=\"\"),\"\",SD!C979)","v":""},{"$f":"IF(OR(SD!E979=\"\"),\"\",SD!E979)","v":""},{"$f":"IF(OR(SD!G979=\"\"),\"\",SD!G979)","v":""},{"$f":"IF(OR(SD!I979=\"\"),\"\",SD!I979)","v":""},{"$f":"IF(OR(SD!O979=\"\"),\"\",SD!O979)","v":""},{"$f":"IF(OR(SD!V979=\"\"),\"\",SD!V979)","v":""},{"$f":"IF(SD!D979=\"\",\"\",SD!D979)","v":""}]
[null,{"$f":"IF(E984=\"\",\"\",ROWS($B$6:B984))","v":""},{"$f":"IF(OR(SD!A980=\"\"),\"\",SD!A980)","v":""},{"$f":"IF(OR(SD!C980=\"\"),\"\",SD!C980)","v":""},{"$f":"IF(OR(SD!E980=\"\"),\"\",SD!E980)","v":""},{"$f":"IF(OR(SD!G980=\"\"),\"\",SD!G980)","v":""},{"$f":"IF(OR(SD!I980=\"\"),\"\",SD!I980)","v":""},{"$f":"IF(OR(SD!O980=\"\"),\"\",SD!O980)","v":""},{"$f":"IF(OR(SD!V980=\"\"),\"\",SD!V980)","v":""},{"$f":"IF(SD!D980=\"\",\"\",SD!D980)","v":""}]
[null,{"$f":"IF(E985=\"\",\"\",ROWS($B$6:B985))","v":""},{"$f":"IF(OR(SD!A981=\"\"),\"\",SD!A981)","v":""},{"$f":"IF(OR(SD!C981=\"\"),\"\",SD!C981)","v":""},{"$f":"IF(OR(SD!E981=\"\"),\"\",SD!E981)","v":""},{"$f":"IF(OR(SD!G981=\"\"),\"\",SD!G981)","v":""},{"$f":"IF(OR(SD!I981=\"\"),\"\",SD!I981)","v":""},{"$f":"IF(OR(SD!O981=\"\"),\"\",SD!O981)","v":""},{"$f":"IF(OR(SD!V981=\"\"),\"\",SD!V981)","v":""},{"$f":"IF(SD!D981=\"\",\"\",SD!D981)","v":""}]
[null,{"$f":"IF(E986=\"\",\"\",ROWS($B$6:B986))","v":""},{"$f":"IF(OR(SD!A982=\"\"),\"\",SD!A982)","v":""},{"$f":"IF(OR(SD!C982=\"\"),\"\",SD!C982)","v":""},{"$f":"IF(OR(SD!E982=\"\"),\"\",SD!E982)","v":""},{"$f":"IF(OR(SD!G982=\"\"),\"\",SD!G982)","v":""},{"$f":"IF(OR(SD!I982=\"\"),\"\",SD!I982)","v":""},{"$f":"IF(OR(SD!O982=\"\"),\"\",SD!O982)","v":""},{"$f":"IF(OR(SD!V982=\"\"),\"\",SD!V982)","v":""},{"$f":"IF(SD!D982=\"\",\"\",SD!D982)","v":""}]
[null,{"$f":"IF(E987=\"\",\"\",ROWS($B$6:B987))","v":""},{"$f":"IF(OR(SD!A983=\"\"),\"\",SD!A983)","v":""},{"$f":"IF(OR(SD!C983=\"\"),\"\",SD!C983)","v":""},{"$f":"IF(OR(SD!E983=\"\"),\"\",SD!E983)","v":""},{"$f":"IF(OR(SD!G983=\"\"),\"\",SD!G983)","v":""},{"$f":"IF(OR(SD!I983=\"\"),\"\",SD!I983)","v":""},{"$f":"IF(OR(SD!O983=\"\"),\"\",SD!O983)","v":""},{"$f":"IF(OR(SD!V983=\"\"),\"\",SD!V983)","v":""},{"$f":"IF(SD!D983=\"\",\"\",SD!D983)","v":""}]
[null,{"$f":"IF(E988=\"\",\"\",ROWS($B$6:B988))","v":""},{"$f":"IF(OR(SD!A984=\"\"),\"\",SD!A984)","v":""},{"$f":"IF(OR(SD!C984=\"\"),\"\",SD!C984)","v":""},{"$f":"IF(OR(SD!E984=\"\"),\"\",SD!E984)","v":""},{"$f":"IF(OR(SD!G984=\"\"),\"\",SD!G984)","v":""},{"$f":"IF(OR(SD!I984=\"\"),\"\",SD!I984)","v":""},{"$f":"IF(OR(SD!O984=\"\"),\"\",SD!O984)","v":""},{"$f":"IF(OR(SD!V984=\"\"),\"\",SD!V984)","v":""},{"$f":"IF(SD!D984=\"\",\"\",SD!D984)","v":""}]
[null,{"$f":"IF(E989=\"\",\"\",ROWS($B$6:B989))","v":""},{"$f":"IF(OR(SD!A985=\"\"),\"\",SD!A985)","v":""},{"$f":"IF(OR(SD!C985=\"\"),\"\",SD!C985)","v":""},{"$f":"IF(OR(SD!E985=\"\"),\"\",SD!E985)","v":""},{"$f":"IF(OR(SD!G985=\"\"),\"\",SD!G985)","v":""},{"$f":"IF(OR(SD!I985=\"\"),\"\",SD!I985)","v":""},{"$f":"IF(OR(SD!O985=\"\"),\"\",SD!O985)","v":""},{"$f":"IF(OR(SD!V985=\"\"),\"\",SD!V985)","v":""},{"$f":"IF(SD!D985=\"\",\"\",SD!D985)","v":""}]
[null,{"$f":"IF(E990=\"\",\"\",ROWS($B$6:B990))","v":""},{"$f":"IF(OR(SD!A986=\"\"),\"\",SD!A986)","v":""},{"$f":"IF(OR(SD!C986=\"\"),\"\",SD!C986)","v":""},{"$f":"IF(OR(SD!E986=\"\"),\"\",SD!E986)","v":""},{"$f":"IF(OR(SD!G986=\"\"),\"\",SD!G986)","v":""},{"$f":"IF(OR(SD!I986=\"\"),\"\",SD!I986)","v":""},{"$f":"IF(OR(SD!O986=\"\"),\"\",SD!O986)","v":""},{"$f":"IF(OR(SD!V986=\"\"),\"\",SD!V986)","v":""},{"$f":"IF(SD!D986=\"\",\"\",SD!D986)","v":""}]
[null,{"$f":"IF(E991=\"\",\"\",ROWS($B$6:B991))","v":""},{"$f":"IF(OR(SD!A987=\"\"),\"\",SD!A987)","v":""},{"$f":"IF(OR(SD!C987=\"\"),\"\",SD!C987)","v":""},{"$f":"IF(OR(SD!E987=\"\"),\"\",SD!E987)","v":""},{"$f":"IF(OR(SD!G987=\"\"),\"\",SD!G987)","v":""},{"$f":"IF(OR(SD!I987=\"\"),\"\",SD!I987)","v":""},{"$f":"IF(OR(SD!O987=\"\"),\"\",SD!O987)","v":""},{"$f":"IF(OR(SD!V987=\"\"),\"\",SD!V987)","v":""},{"$f":"IF(SD!D987=\"\",\"\",SD!D987)","v":""}]
[null,{"$f":"IF(E992=\"\",\"\",ROWS($B$6:B992))","v":""},{"$f":"IF(OR(SD!A988=\"\"),\"\",SD!A988)","v":""},{"$f":"IF(OR(SD!C988=\"\"),\"\",SD!C988)","v":""},{"$f":"IF(OR(SD!E988=\"\"),\"\",SD!E988)","v":""},{"$f":"IF(OR(SD!G988=\"\"),\"\",SD!G988)","v":""},{"$f":"IF(OR(SD!I988=\"\"),\"\",SD!I988)","v":""},{"$f":"IF(OR(SD!O988=\"\"),\"\",SD!O988)","v":""},{"$f":"IF(OR(SD!V988=\"\"),\"\",SD!V988)","v":""},{"$f":"IF(SD!D988=\"\",\"\",SD!D988)","v":""}]
[null,{"$f":"IF(E993=\"\",\"\",ROWS($B$6:B993))","v":""},{"$f":"IF(OR(SD!A989=\"\"),\"\",SD!A989)","v":""},{"$f":"IF(OR(SD!C989=\"\"),\"\",SD!C989)","v":""},{"$f":"IF(OR(SD!E989=\"\"),\"\",SD!E989)","v":""},{"$f":"IF(OR(SD!G989=\"\"),\"\",SD!G989)","v":""},{"$f":"IF(OR(SD!I989=\"\"),\"\",SD!I989)","v":""},{"$f":"IF(OR(SD!O989=\"\"),\"\",SD!O989)","v":""},{"$f":"IF(OR(SD!V989=\"\"),\"\",SD!V989)","v":""},{"$f":"IF(SD!D989=\"\",\"\",SD!D989)","v":""}]
[null,{"$f":"IF(E994=\"\",\"\",ROWS($B$6:B994))","v":""},{"$f":"IF(OR(SD!A990=\"\"),\"\",SD!A990)","v":""},{"$f":"IF(OR(SD!C990=\"\"),\"\",SD!C990)","v":""},{"$f":"IF(OR(SD!E990=\"\"),\"\",SD!E990)","v":""},{"$f":"IF(OR(SD!G990=\"\"),\"\",SD!G990)","v":""},{"$f":"IF(OR(SD!I990=\"\"),\"\",SD!I990)","v":""},{"$f":"IF(OR(SD!O990=\"\"),\"\",SD!O990)","v":""},{"$f":"IF(OR(SD!V990=\"\"),\"\",SD!V990)","v":""},{"$f":"IF(SD!D990=\"\",\"\",SD!D990)","v":""}]
[null,{"$f":"IF(E995=\"\",\"\",ROWS($B$6:B995))","v":""},{"$f":"IF(OR(SD!A991=\"\"),\"\",SD!A991)","v":""},{"$f":"IF(OR(SD!C991=\"\"),\"\",SD!C991)","v":""},{"$f":"IF(OR(SD!E991=\"\"),\"\",SD!E991)","v":""},{"$f":"IF(OR(SD!G991=\"\"),\"\",SD!G991)","v":""},{"$f":"IF(OR(SD!I991=\"\"),\"\",SD!I991)","v":""},{"$f":"IF(OR(SD!O991=\"\"),\"\",SD!O991)","v":""},{"$f":"IF(OR(SD!V991=\"\"),\"\",SD!V991)","v":""},{"$f":"IF(SD!D991=\"\",\"\",SD!D991)","v":""}]
[null,{"$f":"IF(E996=\"\",\"\",ROWS($B$6:B996))","v":""},{"$f":"IF(OR(SD!A992=\"\"),\"\",SD!A992)","v":""},{"$f":"IF(OR(SD!C992=\"\"),\"\",SD!C992)","v":""},{"$f":"IF(OR(SD!E992=\"\"),\"\",SD!E992)","v":""},{"$f":"IF(OR(SD!G992=\"\"),\"\",SD!G992)","v":""},{"$f":"IF(OR(SD!I992=\"\"),\"\",SD!I992)","v":""},{"$f":"IF(OR(SD!O992=\"\"),\"\",SD!O992)","v":""},{"$f":"IF(OR(SD!V992=\"\"),\"\",SD!V992)","v":""},{"$f":"IF(SD!D992=\"\",\"\",SD!D992)","v":""}]
[null,{"$f":"IF(E997=\"\",\"\",ROWS($B$6:B997))","v":""},{"$f":"IF(OR(SD!A993=\"\"),\"\",SD!A993)","v":""},{"$f":"IF(OR(SD!C993=\"\"),\"\",SD!C993)","v":""},{"$f":"IF(OR(SD!E993=\"\"),\"\",SD!E993)","v":""},{"$f":"IF(OR(SD!G993=\"\"),\"\",SD!G993)","v":""},{"$f":"IF(OR(SD!I993=\"\"),\"\",SD!I993)","v":""},{"$f":"IF(OR(SD!O993=\"\"),\"\",SD!O993)","v":""},{"$f":"IF(OR(SD!V993=\"\"),\"\",SD!V993)","v":""},{"$f":"IF(SD!D993=\"\",\"\",SD!D993)","v":""}]
[null,{"$f":"IF(E998=\"\",\"\",ROWS($B$6:B998))","v":""},{"$f":"IF(OR(SD!A994=\"\"),\"\",SD!A994)","v":""},{"$f":"IF(OR(SD!C994=\"\"),\"\",SD!C994)","v":""},{"$f":"IF(OR(SD!E994=\"\"),\"\",SD!E994)","v":""},{"$f":"IF(OR(SD!G994=\"\"),\"\",SD!G994)","v":""},{"$f":"IF(OR(SD!I994=\"\"),\"\",SD!I994)","v":""},{"$f":"IF(OR(SD!O994=\"\"),\"\",SD!O994)","v":""},{"$f":"IF(OR(SD!V994=\"\"),\"\",SD!V994)","v":""},{"$f":"IF(SD!D994=\"\",\"\",SD!D994)","v":""}]
[null,{"$f":"IF(E999=\"\",\"\",ROWS($B$6:B999))","v":""},{"$f":"IF(OR(SD!A995=\"\"),\"\",SD!A995)","v":""},{"$f":"IF(OR(SD!C995=\"\"),\"\",SD!C995)","v":""},{"$f":"IF(OR(SD!E995=\"\"),\"\",SD!E995)","v":""},{"$f":"IF(OR(SD!G995=\"\"),\"\",SD!G995)","v":""},{"$f":"IF(OR(SD!I995=\"\"),\"\",SD!I995)","v":""},{"$f":"IF(OR(SD!O995=\"\"),\"\",SD!O995)","v":""},{"$f":"IF(OR(SD!V995=\"\"),\"\",SD!V995)","v":""},{"$f":"IF(SD!D995=\"\",\"\",SD!D995)","v":""}]
[null,{"$f":"IF(E1000=\"\",\"\",ROWS($B$6:B1000))","v":""},{"$f":"IF(OR(SD!A996=\"\"),\"\",SD!A996)","v":""},{"$f":"IF(OR(SD!C996=\"\"),\"\",SD!C996)","v":""},{"$f":"IF(OR(SD!E996=\"\"),\"\",SD!E996)","v":""},{"$f":"IF(OR(SD!G996=\"\"),\"\",SD!G996)","v":""},{"$f":"IF(OR(SD!I996=\"\"),\"\",SD!I996)","v":""},{"$f":"IF(OR(SD!O996=\"\"),\"\",SD!O996)","v":""},{"$f":"IF(OR(SD!V996=\"\"),\"\",SD!V996)","v":""},{"$f":"IF(SD!D996=\"\",\"\",SD!D996)","v":""}]

{"sheet":"DATA ENTRY","index":4,"n_rows":1000,"n_cols":46,"rows_kept":1000,"merged":[[1,1,1,34],[2,45,7,50],[3,1,3,5],[4,1,6,1],[4,2,6,2],[4,3,6,3],[4,4,6,4],[4,5,6,5],[4,6,4,13],[4,15,4,17],[4,18,5,18],[4,19,4,23],[4,24,4,28],[4,29,4,33],[4,34,5,34],[4,35,5,35],[4,36,5,36],[4,37,4,41],[5,6,6,6],[5,7,6,7],[5,8,6,8],[5,9,6,9],[5,10,5,14],[5,19,5,23],[5,24,5,28],[5,29,5,33],[5,37,5,41]]}
[null,null,"Created by Hans Raj Joshi Principal GSSS 13DOL"]
[null,{"$f":"DASHBOARD!B2","v":"कार्यालय प्रधानाचार्य राजकीय उच्च माध्यमिक विद्यालय 13डीओएल, श्री गंगानगर"}]
[{"$nulls":45},"इस शीट में प्रत्येक विद्यार्थी की सूचना कॉलम के अनुसार ड्रॉपडाउन से चयन करे । इस शीट की आप द्वारा भरी गई सूचना के आधार पर प्र्ति सप्ताह भेजी जानी वाली प्रपत्र-अ और प्रपत्र-ब मे ऑटोमैटिक  भरी जाएगी।                                            नए माह के लिए उपयोग के लिए कॉलम 9 से 30 तक data क्लियर करने के लिए DATA CLEAR बटन का प्रयोग कर सकते है"]
[null," कॉलम 9 से 30 तक data क्लियर करने के लिए DATA CLEAR बटन का प्रयोग कर सकते है"]
[null,"क्र स ","नाम विद्यार्थी","पिता का नाम ","GENDER","कक्षा","SMILE लाभान्वित",{"$nulls":8},"पाठ्यपुस्तक/वर्कबुक",null,null,"SUBJECT","गृहकार्य वितरण से सबंधित सूचना",{"$nulls":4},"गृहकार्य संकलन से सबंधित सूचना",{"$nulls":4},"गृहकार्य जांच से सबंधित सूचना",{"$nulls":4},"गृहकार्य पोर्टफोलियो तैयार कर लिया गया है हां अथवा नहीं ","वर्कबुक कार्य प्रगति","कक्षा 9 से 12 तक के अभिभावक की सहमति से मार्गदर्शन के लिए विद्यालय आकर लाभान्वित"]
[{"$nulls":6},"व्हाट्सएप्प के माध्यम से स्माइल 3.0 से लाभान्वित ","टेलीविज़न के माध्यम से स्माइल 3.0 से लाभान्वित","शिक्षावाणी के माध्यम से स्माइल 3.0 से लाभान्वित","ऑफलाइन माध्यम से स्माइल 3.0 से लाभान्वित"," शनिवारीय क्विज (QUIZ) अटेण्ड करने वाले विध्यार्थी",{"$nulls":4},"निशुल्क पाठ्यपुस्तक प्राप्त ","वर्कबुक प्राप्त AT GRADE","वर्कबुक प्राप्त  BELOW GRADE",null,"ONLINE/ OFFLINE",{"$nulls":4},"ONLINE/ OFFLINE",{"$nulls":4},"गृहकार्य जांच कर लिया गया है हां अथवा नहीं",{"$nulls":7},"TEACHER'S CALLING DETAILS"]
[{"$nulls":10},"1 WEEK","2 WEEK","3 WEEK","4 WEEK","5 WEEK",{"$nulls":4},"1 WEEK","2 WEEK","3 WEEK","4 WEEK","5 WEEK","1 WEEK","2 WEEK","3 WEEK","4 WEEK","5 WEEK","1 WEEK","2 WEEK","3 WEEK","4 WEEK","5 WEEK",{"$nulls":3},"1 WEEK","2 WEEK","3 WEEK","4 WEEK","5 WEEK"]
[null,"1","2","3","4","5","6","7","8","9","10","11","12","13","14","15","16","17","18","19","20","21","22","23","24","25","26","27","28","29","30","31","32","33","34","35","36","37","38","39","40","41"]
[{"$f":"IF(F9=\"\",\"\",F9&\"_\"&COUNTIF($F$9:F9,F9))","v":"1_1"},{"$f":"IF(STUDATA!B6=\"\",\"\",STUDATA!B6)","v":1},{"$f":"IF(STUDATA!E6=\"\",\"\",STUDATA!E6)","v":"abc1"},{"$f":"IF(STUDATA!F6=\"\",\"\",STUDATA!F6)","v":"xyz1"},{"$f":"IF(STUDATA!G6=\"\",\"\",STUDATA!G6)","v":"M"},{"$f":"IF(STUDATA!C6=\"\",\"\",STUDATA!C6)","v":1},"NO","NO","YES","YES",{"$nulls":14},"ONLINE",{"$nulls":4},"YES","YES","NO",{"$nulls":5},"YES","YES",null,"YES","YES",null,{"$f":"IF(S9=\"\",\"\",IF(S9=\"NO\",0,1))","v":""},null,"  "]
[{"$f":"IF(F10=\"\",\"\",F10&\"_\"&COUNTIF($F$9:F10,F10))","v":"1_2"},{"$f":"IF(STUDATA!B7=\"\",\"\",STUDATA!B7)","v":2},{"$f":"IF(STUDATA!E7=\"\",\"\",STUDATA!E7)","v":"abc2"},{"$f":"IF(STUDATA!F7=\"\",\"\",STUDATA!F7)","v":"xyz2"},{"$f":"IF(STUDATA!G7=\"\",\"\",STUDATA!G7)","v":"F"},{"$f":"IF(STUDATA!C7=\"\",\"\",STUDATA!C7)","v":1},"NO","NO","NO","YES",{"$nulls":27},"YES",null,null,"YES",null,null,{"$f":"IF(S10=\"\",\"\",IF(S10=\"NO\",0,1))","v":""}]
[{"$f":"IF(F11=\"\",\"\",F11&\"_\"&COUNTIF($F$9:F11,F11))","v":"1_3"},{"$f":"IF(STUDATA!B8=\"\",\"\",STUDATA!B8)","v":3},{"$f":"IF(STUDATA!E8=\"\",\"\",STUDATA!E8)","v":"abc3"},{"$f":"IF(STUDATA!F8=\"\",\"\",STUDATA!F8)","v":"xyz3"},{"$f":"IF(STUDATA!G8=\"\",\"\",STUDATA!G8)","v":"F"},{"$f":"IF(STUDATA!C8=\"\",\"\",STUDATA!C8)","v":1},"NO","NO","NO","YES",{"$nulls":30},"YES",null,null,""]
[{"$f":"IF(F12=\"\",\"\",F12&\"_\"&COUNTIF($F$9:F12,F12))","v":"1_4"},{"$f":"IF(STUDATA!B9=\"\",\"\",STUDATA!B9)","v":4},{"$f":"IF(STUDATA!E9=\"\",\"\",STUDATA!E9)","v":"abc4"},{"$f":"IF(STUDATA!F9=\"\",\"\",STUDATA!F9)","v":"xyz4"},{"$f":"IF(STUDATA!G9=\"\",\"\",STUDATA!G9)","v":"F"},{"$f":"IF(STUDATA!C9=\"\",\"\",STUDATA!C9)","v":1},"NO","NO","NO","YES",{"$nulls":30},"YES",null,null,""]
[{"$f":"IF(F13=\"\",\"\",F13&\"_\"&COUNTIF($F$9:F13,F13))","v":"1_5"},{"$f":"IF(STUDATA!B10=\"\",\"\",STUDATA!B10)","v":5},{"$f":"IF(STUDATA!E10=\"\",\"\",STUDATA!E10)","v":"abc5"},{"$f":"IF(STUDATA!F10=\"\",\"\",STUDATA!F10)","v":"xyz5"},{"$f":"IF(STUDATA!G10=\"\",\"\",STUDATA!G10)","v":"F"},{"$f":"IF(STUDATA!C10=\"\",\"\",STUDATA!C10)","v":1},"YES","NO","NO","NO",{"$nulls":33},""]
[{"$f":"IF(F14=\"\",\"\",F14&\"_\"&COUNTIF($F$9:F14,F14))","v":"1_6"},{"$f":"IF(STUDATA!B11=\"\",\"\",STUDATA!B11)","v":6},{"$f":"IF(STUDATA!E11=\"\",\"\",STUDATA!E11)","v":"abc6"},{"$f":"IF(STUDATA!F11=\"\",\"\",STUDATA!F11)","v":"xyz6"},{"$f":"IF(STUDATA!G11=\"\",\"\",STUDATA!G11)","v":"M"},{"$f":"IF(STUDATA!C11=\"\",\"\",STUDATA!C11)","v":1},"YES","NO","NO","NO",{"$nulls":33},""]
[{"$f":"IF(F15=\"\",\"\",F15&\"_\"&COUNTIF($F$9:F15,F15))","v":"1_7"},{"$f":"IF(STUDATA!B12=\"\",\"\",STUDATA!B12)","v":7},{"$f":"IF(STUDATA!E12=\"\",\"\",STUDATA!E12)","v":"abc7"},{"$f":"IF(STUDATA!F12=\"\",\"\",STUDATA!F12)","v":"xyz7"},{"$f":"IF(STUDATA!G12=\"\",\"\",STUDATA!G12)","v":"F"},{"$f":"IF(STUDATA!C12=\"\",\"\",STUDATA!C12)","v":1},"NO","NO","NO","YES",{"$nulls":33},""]
[{"$f":"IF(F16=\"\",\"\",F16&\"_\"&COUNTIF($F$9:F16,F16))","v":"2_1"},{"$f":"IF(STUDATA!B13=\"\",\"\",STUDATA!B13)","v":8},{"$f":"IF(STUDATA!E13=\"\",\"\",STUDATA!E13)","v":"abc8"},{"$f":"IF(STUDATA!F13=\"\",\"\",STUDATA!F13)","v":"xyz8"},{"$f":"IF(STUDATA!G13=\"\",\"\",STUDATA!G13)","v":"M"},{"$f":"IF(STUDATA!C13=\"\",\"\",STUDATA!C13)","v":2},"YES","NO","NO","NO",{"$nulls":33},""]
[{"$f":"IF(F17=\"\",\"\",F17&\"_\"&COUNTIF($F$9:F17,F17))","v":"2_2"},{"$f":"IF(STUDATA!B14=\"\",\"\",STUDATA!B14)","v":9},{"$f":"IF(STUDATA!E14=\"\",\"\",STUDATA!E14)","v":"abc9"},{"$f":"IF(STUDATA!F14=\"\",\"\",STUDATA!F14)","v":"xyz9"},{"$f":"IF(STUDATA!G14=\"\",\"\",STUDATA!G14)","v":"M"},{"$f":"IF(STUDATA!C14=\"\",\"\",STUDATA!C14)","v":2},"YES","NO","NO","NO",{"$nulls":33},""]
[{"$f":"IF(F18=\"\",\"\",F18&\"_\"&COUNTIF($F$9:F18,F18))","v":"2_3"},{"$f":"IF(STUDATA!B15=\"\",\"\",STUDATA!B15)","v":10},{"$f":"IF(STUDATA!E15=\"\",\"\",STUDATA!E15)","v":"abc10"},{"$f":"IF(STUDATA!F15=\"\",\"\",STUDATA!F15)","v":"xyz10"},{"$f":"IF(STUDATA!G15=\"\",\"\",STUDATA!G15)","v":"M"},{"$f":"IF(STUDATA!C15=\"\",\"\",STUDATA!C15)","v":2},"YES","NO","NO","NO",{"$nulls":33},""]
[{"$f":"IF(F19=\"\",\"\",F19&\"_\"&COUNTIF($F$9:F19,F19))","v":"2_4"},{"$f":"IF(STUDATA!B16=\"\",\"\",STUDATA!B16)","v":11},{"$f":"IF(STUDATA!E16=\"\",\"\",STUDATA!E16)","v":"abc11"},{"$f":"IF(STUDATA!F16=\"\",\"\",STUDATA!F16)","v":"xyz11"},{"$f":"IF(STUDATA!G16=\"\",\"\",STUDATA!G16)","v":"M"},{"$f":"IF(STUDATA!C16=\"\",\"\",STUDATA!C16)","v":2},"NO","NO","NO","YES",{"$nulls":33},""]
[{"$f":"IF(F20=\"\",\"\",F20&\"_\"&COUNTIF($F$9:F20,F20))","v":"2_5"},{"$f":"IF(STUDATA!B17=\"\",\"\",STUDATA!B17)","v":12},{"$f":"IF(STUDATA!E17=\"\",\"\",STUDATA!E17)","v":"abc12"},{"$f":"IF(STUDATA!F17=\"\",\"\",STUDATA!F17)","v":"xyz12"},{"$f":"IF(STUDATA!G17=\"\",\"\",STUDATA!G17)","v":"M"},{"$f":"IF(STUDATA!C17=\"\",\"\",STUDATA!C17)","v":2},"YES","NO","NO","NO",{"$nulls":33},""]
[{"$f":"IF(F21=\"\",\"\",F21&\"_\"&COUNTIF($F$9:F21,F21))","v":"2_6"},{"$f":"IF(STUDATA!B18=\"\",\"\",STUDATA!B18)","v":13},{"$f":"IF(STUDATA!E18=\"\",\"\",STUDATA!E18)","v":"abc13"},{"$f":"IF(STUDATA!F18=\"\",\"\",STUDATA!F18)","v":"xyz13"},{"$f":"IF(STUDATA!G18=\"\",\"\",STUDATA!G18)","v":"F"},{"$f":"IF(STUDATA!C18=\"\",\"\",STUDATA!C18)","v":2},"NO","NO","NO","YES",{"$nulls":33},""]
[{"$f":"IF(F22=\"\",\"\",F22&\"_\"&COUNTIF($F$9:F22,F22))","v":"2_7"},{"$f":"IF(STUDATA!B19=\"\",\"\",STUDATA!B19)","v":14},{"$f":"IF(STUDATA!E19=\"\",\"\",STUDATA!E19)","v":"abc14"},{"$f":"IF(STUDATA!F19=\"\",\"\",STUDATA!F19)","v":"xyz14"},{"$f":"IF(STUDATA!G19=\"\",\"\",STUDATA!G19)","v":"F"},{"$f":"IF(STUDATA!C19=\"\",\"\",STUDATA!C19)","v":2},"YES","NO","NO","NO",{"$nulls":33},""]
[{"$f":"IF(F23=\"\",\"\",F23&\"_\"&COUNTIF($F$9:F23,F23))","v":"2_8"},{"$f":"IF(STUDATA!B20=\"\",\"\",STUDATA!B20)","v":15},{"$f":"IF(STUDATA!E20=\"\",\"\",STUDATA!E20)","v":"abc15"},{"$f":"IF(STUDATA!F20=\"\",\"\",STUDATA!F20)","v":"xyz15"},{"$f":"IF(STUDATA!G20=\"\",\"\",STUDATA!G20)","v":"M"},{"$f":"IF(STUDATA!C20=\"\",\"\",STUDATA!C20)","v":2},"YES","NO","NO","NO",{"$nulls":33},""]
[{"$f":"IF(F24=\"\",\"\",F24&\"_\"&COUNTIF($F$9:F24,F24))","v":"2_9"},{"$f":"IF(STUDATA!B21=\"\",\"\",STUDATA!B21)","v":16},{"$f":"IF(STUDATA!E21=\"\",\"\",STUDATA!E21)","v":"abc16"},{"$f":"IF(STUDATA!F21=\"\",\"\",STUDATA!F21)","v":"xyz16"},{"$f":"IF(STUDATA!G21=\"\",\"\",STUDATA!G21)","v":"M"},{"$f":"IF(STUDATA!C21=\"\",\"\",STUDATA!C21)","v":2},"YES","NO","NO","NO",{"$nulls":33},""]
[{"$f":"IF(F25=\"\",\"\",F25&\"_\"&COUNTIF($F$9:F25,F25))","v":"2_10"},{"$f":"IF(STUDATA!B22=\"\",\"\",STUDATA!B22)","v":17},{"$f":"IF(STUDATA!E22=\"\",\"\",STUDATA!E22)","v":"abc17"},{"$f":"IF(STUDATA!F22=\"\",\"\",STUDATA!F22)","v":"xyz17"},{"$f":"IF(STUDATA!G22=\"\",\"\",STUDATA!G22)","v":"M"},{"$f":"IF(STUDATA!C22=\"\",\"\",STUDATA!C22)","v":2},"YES","NO","NO","NO",{"$nulls":33},""]
[{"$f":"IF(F26=\"\",\"\",F26&\"_\"&COUNTIF($F$9:F26,F26))","v":"2_11"},{"$f":"IF(STUDATA!B23=\"\",\"\",STUDATA!B23)","v":18},{"$f":"IF(STUDATA!E23=\"\",\"\",STUDATA!E23)","v":"abc18"},{"$f":"IF(STUDATA!F23=\"\",\"\",STUDATA!F23)","v":"xyz18"},{"$f":"IF(STUDATA!G23=\"\",\"\",STUDATA!G23)","v":"M"},{"$f":"IF(STUDATA!C23=\"\",\"\",STUDATA!C23)","v":2},"YES","NO","NO","NO",{"$nulls":33},""]
[{"$f":"IF(F27=\"\",\"\",F27&\"_\"&COUNTIF($F$9:F27,F27))","v":"2_12"},{"$f":"IF(STUDATA!B24=\"\",\"\",STUDATA!B24)","v":19},{"$f":"IF(STUDATA!E24=\"\",\"\",STUDATA!E24)","v":"abc19"},{"$f":"IF(STUDATA!F24=\"\",\"\",STUDATA!F24)","v":"xyz19"},{"$f":"IF(STUDATA!G24=\"\",\"\",STUDATA!G24)","v":"M"},{"$f":"IF(STUDATA!C24=\"\",\"\",STUDATA!C24)","v":2},"YES","NO","NO","NO",{"$nulls":33},""]
[{"$f":"IF(F28=\"\",\"\",F28&\"_\"&COUNTIF($F$9:F28,F28))","v":"2_13"},{"$f":"IF(STUDATA!B25=\"\",\"\",STUDATA!B25)","v":20},{"$f":"IF(STUDATA!E25=\"\",\"\",STUDATA!E25)","v":"abc20"},{"$f":"IF(STUDATA!F25=\"\",\"\",STUDATA!F25)","v":"xyz20"},{"$f":"IF(STUDATA!G25=\"\",\"\",STUDATA!G25)","v":"M"},{"$f":"IF(STUDATA!C25=\"\",\"\",STUDATA!C25)","v":2},"NO","NO","NO","YES",{"$nulls":33},""]
[{"$f":"IF(F29=\"\",\"\",F29&\"_\"&COUNTIF($F$9:F29,F29))","v":"2_14"},{"$f":"IF(STUDATA!B26=\"\",\"\",STUDATA!B26)","v":21},{"$f":"IF(STUDATA!E26=\"\",\"\",STUDATA!E26)","v":"abc21"},{"$f":"IF(STUDATA!F26=\"\",\"\",STUDATA!F26)","v":"xyz21"},{"$f":"IF(STUDATA!G26=\"\",\"\",STUDATA!G26)","v":"F"},{"$f":"IF(STUDATA!C26=\"\",\"\",STUDATA!C26)","v":2},"YES","NO","NO","NO",{"$nulls":33},""]
[{"$f":"IF(F30=\"\",\"\",F30&\"_\"&COUNTIF($F$9:F30,F30))","v":"2_15"},{"$f":"IF(STUDATA!B27=\"\",\"\",STUDATA!B27)","v":22},{"$f":"IF(STUDATA!E27=\"\",\"\",STUDATA!E27)","v":"abc22"},{"$f":"IF(STUDATA!F27=\"\",\"\",STUDATA!F27)","v":"xyz22"},{"$f":"IF(STUDATA!G27=\"\",\"\",STUDATA!G27)","v":"M"},{"$f":"IF(STUDATA!C27=\"\",\"\",STUDATA!C27)","v":2},"YES","NO","NO","NO",{"$nulls":33},""]
[{"$f":"IF(F31=\"\",\"\",F31&\"_\"&COUNTIF($F$9:F31,F31))","v":"2_16"},{"$f":"IF(STUDATA!B28=\"\",\"\",STUDATA!B28)","v":23},{"$f":"IF(STUDATA!E28=\"\",\"\",STUDATA!E28)","v":"abc23"},{"$f":"IF(STUDATA!F28=\"\",\"\",STUDATA!F28)","v":"xyz23"},{"$f":"IF(STUDATA!G28=\"\",\"\",STUDATA!G28)","v":"M"},{"$f":"IF(STUDATA!C28=\"\",\"\",STUDATA!C28)","v":2},"YES","NO","NO","NO",{"$nulls":33},""]
[{"$f":"IF(F32=\"\",\"\",F32&\"_\"&COUNTIF($F$9:F32,F32))","v":"2_17"},{"$f":"IF(STUDATA!B29=\"\",\"\",STUDATA!B29)","v":24},{"$f":"IF(STUDATA!E29=\"\",\"\",STUDATA!E29)","v":"abc24"},{"$f":"IF(STUDATA!F29=\"\",\"\",STUDATA!F29)","v":"xyz24"},{"$f":"IF(STUDATA!G29=\"\",\"\",STUDATA!G29)","v":"F"},{"$f":"IF(STUDATA!C29=\"\",\"\",STUDATA!C29)","v":2},"NO","NO","NO","YES",{"$nulls":33},""]
[{"$f":"IF(F33=\"\",\"\",F33&\"_\"&COUNTIF($F$9:F33,F33))","v":"2_18"},{"$f":"IF(STUDATA!B30=\"\",\"\",STUDATA!B30)","v":25},{"$f":"IF(STUDATA!E30=\"\",\"\",STUDATA!E30)","v":"abc25"},{"$f":"IF(STUDATA!F30=\"\",\"\",STUDATA!F30)","v":"xyz25"},{"$f":"IF(STUDATA!G30=\"\",\"\",STUDATA!G30)","v":"M"},{"$f":"IF(STUDATA!C30=\"\",\"\",STUDATA!C30)","v":2},"NO","NO","NO","YES",{"$nulls":33},""]
[{"$f":"IF(F34=\"\",\"\",F34&\"_\"&COUNTIF($F$9:F34,F34))","v":"2_19"},{"$f":"IF(STUDATA!B31=\"\",\"\",STUDATA!B31)","v":26},{"$f":"IF(STUDATA!E31=\"\",\"\",STUDATA!E31)","v":"abc26"},{"$f":"IF(STUDATA!F31=\"\",\"\",STUDATA!F31)","v":"xyz26"},{"$f":"IF(STUDATA!G31=\"\",\"\",STUDATA!G31)","v":"F"},{"$f":"IF(STUDATA!C31=\"\",\"\",STUDATA!C31)","v":2},"YES","NO","NO","NO",{"$nulls":33},""]
[{"$f":"IF(F35=\"\",\"\",F35&\"_\"&COUNTIF($F$9:F35,F35))","v":"2_20"},{"$f":"IF(STUDATA!B32=\"\",\"\",STUDATA!B32)","v":27},{"$f":"IF(STUDATA!E32=\"\",\"\",STUDATA!E32)","v":"abc27"},{"$f":"IF(STUDATA!F32=\"\",\"\",STUDATA!F32)","v":"xyz27"},{"$f":"IF(STUDATA!G32=\"\",\"\",STUDATA!G32)","v":"M"},{"$f":"IF(STUDATA!C32=\"\",\"\",STUDATA!C32)","v":2},"NO","NO","NO","YES",{"$nulls":33},""]
[{"$f":"IF(F36=\"\",\"\",F36&\"_\"&COUNTIF($F$9:F36,F36))","v":"2_21"},{"$f":"IF(STUDATA!B33=\"\",\"\",STUDATA!B33)","v":28},{"$f":"IF(STUDATA!E33=\"\",\"\",STUDATA!E33)","v":"abc28"},{"$f":"IF(STUDATA!F33=\"\",\"\",STUDATA!F33)","v":"xyz28"},{"$f":"IF(STUDATA!G33=\"\",\"\",STUDATA!G33)","v":"F"},{"$f":"IF(STUDATA!C33=\"\",\"\",STUDATA!C33)","v":2},"YES","NO","NO","NO",{"$nulls":33},""]
[{"$f":"IF(F37=\"\",\"\",F37&\"_\"&COUNTIF($F$9:F37,F37))","v":"2_22"},{"$f":"IF(STUDATA!B34=\"\",\"\",STUDATA!B34)","v":29},{"$f":"IF(STUDATA!E34=\"\",\"\",STUDATA!E34)","v":"abc29"},{"$f":"IF(STUDATA!F34=\"\",\"\",STUDATA!F34)","v":"xyz29"},{"$f":"IF(STUDATA!G34=\"\",\"\",STUDATA!G34)","v":"M"},{"$f":"IF(STUDATA!C34=\"\",\"\",STUDATA!C34)","v":2},"YES","NO","NO","NO",{"$nulls":33},""]
[{"$f":"IF(F38=\"\",\"\",F38&\"_\"&COUNTIF($F$9:F38,F38))","v":"2_23"},{"$f":"IF(STUDATA!B35=\"\",\"\",STUDATA!B35)","v":30},{"$f":"IF(STUDATA!E35=\"\",\"\",STUDATA!E35)","v":"abc30"},{"$f":"IF(STUDATA!F35=\"\",\"\",STUDATA!F35)","v":"xyz30"},{"$f":"IF(STUDATA!G35=\"\",\"\",STUDATA!G35)","v":"M"},{"$f":"IF(STUDATA!C35=\"\",\"\",STUDATA!C35)","v":2},"NO","NO","NO","YES",{"$nulls":33},""]
[{"$f":"IF(F39=\"\",\"\",F39&\"_\"&COUNTIF($F$9:F39,F39))","v":"2_24"},{"$f":"IF(STUDATA!B36=\"\",\"\",STUDATA!B36)","v":31},{"$f":"IF(STUDATA!E36=\"\",\"\",STUDATA!E36)","v":"abc31"},{"$f":"IF(STUDATA!F36=\"\",\"\",STUDATA!F36)","v":"xyz31"},{"$f":"IF(STUDATA!G36=\"\",\"\",STUDATA!G36)","v":"F"},{"$f":"IF(STUDATA!C36=\"\",\"\",STUDATA!C36)","v":2},"YES","NO","NO","NO",{"$nulls":33},""]
[{"$f":"IF(F40=\"\",\"\",F40&\"_\"&COUNTIF($F$9:F40,F40))","v":"3_1"},{"$f":"IF(STUDATA!B37=\"\",\"\",STUDATA!B37)","v":32},{"$f":"IF(STUDATA!E37=\"\",\"\",STUDATA!E37)","v":"abc32"},{"$f":"IF(STUDATA!F37=\"\",\"\",STUDATA!F37)","v":"xyz32"},{"$f":"IF(STUDATA!G37=\"\",\"\",STUDATA!G37)","v":"M"},{"$f":"IF(STUDATA!C37=\"\",\"\",STUDATA!C37)","v":3},"NO","NO","NO","YES",{"$nulls":33},""]
[{"$f":"IF(F41=\"\",\"\",F41&\"_\"&COUNTIF($F$9:F41,F41))","v":"3_2"},{"$f":"IF(STUDATA!B38=\"\",\"\",STUDATA!B38)","v":33},{"$f":"IF(STUDATA!E38=\"\",\"\",STUDATA!E38)","v":"abc33"},{"$f":"IF(STUDATA!F38=\"\",\"\",STUDATA!F38)","v":"xyz33"},{"$f":"IF(STUDATA!G38=\"\",\"\",STUDATA!G38)","v":"M"},{"$f":"IF(STUDATA!C38=\"\",\"\",STUDATA!C38)","v":3},"NO","NO","NO","YES",{"$nulls":33},""]
[{"$f":"IF(F42=\"\",\"\",F42&\"_\"&COUNTIF($F$9:F42,F42))","v":"3_3"},{"$f":"IF(STUDATA!B39=\"\",\"\",STUDATA!B39)","v":34},{"$f":"IF(STUDATA!E39=\"\",\"\",STUDATA!E39)","v":"abc34"},{"$f":"IF(STUDATA!F39=\"\",\"\",STUDATA!F39)","v":"xyz34"},{"$f":"IF(STUDATA!G39=\"\",\"\",STUDATA!G39)","v":"F"},{"$f":"IF(STUDATA!C39=\"\",\"\",STUDATA!C39)","v":3},"YES","NO","NO","NO",{"$nulls":33},""]
[{"$f":"IF(F43=\"\",\"\",F43&\"_\"&COUNTIF($F$9:F43,F43))","v":"3_4"},{"$f":"IF(STUDATA!B40=\"\",\"\",STUDATA!B40)","v":35},{"$f":"IF(STUDATA!E40=\"\",\"\",STUDATA!E40)","v":"abc35"},{"$f":"IF(STUDATA!F40=\"\",\"\",STUDATA!F40)","v":"xyz35"},{"$f":"IF(STUDATA!G40=\"\",\"\",STUDATA!G40)","v":"F"},{"$f":"IF(STUDATA!C40=\"\",\"\",STUDATA!C40)","v":3},"YES","NO","NO","NO",{"$nulls":33},""]
[{"$f":"IF(F44=\"\",\"\",F44&\"_\"&COUNTIF($F$9:F44,F44))","v":"3_5"},{"$f":"IF(STUDATA!B41=\"\",\"\",STUDATA!B41)","v":36},{"$f":"IF(STUDATA!E41=\"\",\"\",STUDATA!E41)","v":"abc36"},{"$f":"IF(STUDATA!F41=\"\",\"\",STUDATA!F41)","v":"xyz36"},{"$f":"IF(STUDATA!G41=\"\",\"\",STUDATA!G41)","v":"F"},{"$f":"IF(STUDATA!C41=\"\",\"\",STUDATA!C41)","v":3},"NO","NO","NO","YES",{"$nulls":33},""]
[{"$f":"IF(F45=\"\",\"\",F45&\"_\"&COUNTIF($F$9:F45,F45))","v":"3_6"},{"$f":"IF(STUDATA!B42=\"\",\"\",STUDATA!B42)","v":37},{"$f":"IF(STUDATA!E42=\"\",\"\",STUDATA!E42)","v":"abc37"},{"$f":"IF(STUDATA!F42=\"\",\"\",STUDATA!F42)","v":"xyz37"},{"$f":"IF(STUDATA!G42=\"\",\"\",STUDATA!G42)","v":"F"},{"$f":"IF(STUDATA!C42=\"\",\"\",STUDATA!C42)","v":3},"YES","NO","NO","NO",{"$nulls":33},""]
[{"$f":"IF(F46=\"\",\"\",F46&\"_\"&COUNTIF($F$9:F46,F46))","v":"3_7"},{"$f":"IF(STUDATA!B43=\"\",\"\",STUDATA!B43)","v":38},{"$f":"IF(STUDATA!E43=\"\",\"\",STUDATA!E43)","v":"abc38"},{"$f":"IF(STUDATA!F43=\"\",\"\",STUDATA!F43)","v":"xyz38"},{"$f":"IF(STUDATA!G43=\"\",\"\",STUDATA!G43)","v":"F"},{"$f":"IF(STUDATA!C43=\"\",\"\",STUDATA!C43)","v":3},"NO","NO","NO","YES",{"$nulls":33},""]
[{"$f":"IF(F47=\"\",\"\",F47&\"_\"&COUNTIF($F$9:F47,F47))","v":"3_8"},{"$f":"IF(STUDATA!B44=\"\",\"\",STUDATA!B44)","v":39},{"$f":"IF(STUDATA!E44=\"\",\"\",STUDATA!E44)","v":"abc39"},{"$f":"IF(STUDATA!F44=\"\",\"\",STUDATA!F44)","v":"xyz39"},{"$f":"IF(STUDATA!G44=\"\",\"\",STUDATA!G44)","v":"F"},{"$f":"IF(STUDATA!C44=\"\",\"\",STUDATA!C44)","v":3},"NO","NO","NO","YES",{"$nulls":33},""]
[{"$f":"IF(F48=\"\",\"\",F48&\"_\"&COUNTIF($F$9:F48,F48))","v":"3_9"},{"$f":"IF(STUDATA!B45=\"\",\"\",STUDATA!B45)","v":40},{"$f":"IF(STUDATA!E45=\"\",\"\",STUDATA!E45)","v":"abc40"},{"$f":"IF(STUDATA!F45=\"\",\"\",STUDATA!F45)","v":"xyz40"},{"$f":"IF(STUDATA!G45=\"\",\"\",STUDATA!G45)","v":"M"},{"$f":"IF(STUDATA!C45=\"\",\"\",STUDATA!C45)","v":3},"NO","NO","NO","YES",{"$nulls":33},""]
[{"$f":"IF(F49=\"\",\"\",F49&\"_\"&COUNTIF($F$9:F49,F49))","v":"3_10"},{"$f":"IF(STUDATA!B46=\"\",\"\",STUDATA!B46)","v":41},{"$f":"IF(STUDATA!E46=\"\",\"\",STUDATA!E46)","v":"abc41"},{"$f":"IF(STUDATA!F46=\"\",\"\",STUDATA!F46)","v":"xyz41"},{"$f":"IF(STUDATA!G46=\"\",\"\",STUDATA!G46)","v":"F"},{"$f":"IF(STUDATA!C46=\"\",\"\",STUDATA!C46)","v":3},"YES","NO","NO","NO",{"$nulls":33},""]
[{"$f":"IF(F50=\"\",\"\",F50&\"_\"&COUNTIF($F$9:F50,F50))","v":"3_11"},{"$f":"IF(STUDATA!B47=\"\",\"\",STUDATA!B47)","v":42},{"$f":"IF(STUDATA!E47=\"\",\"\",STUDATA!E47)","v":"abc42"},{"$f":"IF(STUDATA!F47=\"\",\"\",STUDATA!F47)","v":"xyz42"},{"$f":"IF(STUDATA!G47=\"\",\"\",STUDATA!G47)","v":"M"},{"$f":"IF(STUDATA!C47=\"\",\"\",STUDATA!C47)","v":3},"NO","NO","NO","YES",{"$nulls":33},""]
[{"$f":"IF(F51=\"\",\"\",F51&\"_\"&COUNTIF($F$9:F51,F51))","v":"3_12"},{"$f":"IF(STUDATA!B48=\"\",\"\",STUDATA!B48)","v":43},{"$f":"IF(STUDATA!E48=\"\",\"\",STUDATA!E48)","v":"abc43"},{"$f":"IF(STUDATA!F48=\"\",\"\",STUDATA!F48)","v":"xyz43"},{"$f":"IF(STUDATA!G48=\"\",\"\",STUDATA!G48)","v":"F"},{"$f":"IF(STUDATA!C48=\"\",\"\",STUDATA!C48)","v":3},"NO","NO","NO","YES",{"$nulls":33},""]
[{"$f":"IF(F52=\"\",\"\",F52&\"_\"&COUNTIF($F$9:F52,F52))","v":"3_13"},{"$f":"IF(STUDATA!B49=\"\",\"\",STUDATA!B49)","v":44},{"$f":"IF(STUDATA!E49=\"\",\"\",STUDATA!E49)","v":"abc44"},{"$f":"IF(STUDATA!F49=\"\",\"\",STUDATA!F49)","v":"xyz44"},{"$f":"IF(STUDATA!G49=\"\",\"\",STUDATA!G49)","v":"M"},{"$f":"IF(STUDATA!C49=\"\",\"\",STUDATA!C49)","v":3},"YES","NO","NO","NO",{"$nulls":33},""]
[{"$f":"IF(F53=\"\",\"\",F53&\"_\"&COUNTIF($F$9:F53,F53))","v":"4_1"},{"$f":"IF(STUDATA!B50=\"\",\"\",STUDATA!B50)","v":45},{"$f":"IF(STUDATA!E50=\"\",\"\",STUDATA!E50)","v":"abc45"},{"$f":"IF(STUDATA!F50=\"\",\"\",STUDATA!F50)","v":"xyz45"},{"$f":"IF(STUDATA!G50=\"\",\"\",STUDATA!G50)","v":"F"},{"$f":"IF(STUDATA!C50=\"\",\"\",STUDATA!C50)","v":4},"NO","NO","NO","YES",{"$nulls":33},""]
[{"$f":"IF(F54=\"\",\"\",F54&\"_\"&COUNTIF($F$9:F54,F54))","v":"4_2"},{"$f":"IF(STUDATA!B51=\"\",\"\",STUDATA!B51)","v":46},{"$f":"IF(STUDATA!E51=\"\",\"\",STUDATA!E51)","v":"abc46"},{"$f":"IF(STUDATA!F51=\"\",\"\",STUDATA!F51)","v":"xyz46"},{"$f":"IF(STUDATA!G51=\"\",\"\",STUDATA!G51)","v":"F"},{"$f":"IF(STUDATA!C51=\"\",\"\",STUDATA!C51)","v":4},"NO","NO","NO","NO",{"$nulls":33},""]
[{"$f":"IF(F55=\"\",\"\",F55&\"_\"&COUNTIF($F$9:F55,F55))","v":"4_3"},{"$f":"IF(STUDATA!B52=\"\",\"\",STUDATA!B52)","v":47},{"$f":"IF(STUDATA!E52=\"\",\"\",STUDATA!E52)","v":"abc47"},{"$f":"IF(STUDATA!F52=\"\",\"\",STUDATA!F52)","v":"xyz47"},{"$f":"IF(STUDATA!G52=\"\",\"\",STUDATA!G52)","v":"F"},{"$f":"IF(STUDATA!C52=\"\",\"\",STUDATA!C52)","v":4},"NO","NO","NO","NO",{"$nulls":33},""]
[{"$f":"IF(F56=\"\",\"\",F56&\"_\"&COUNTIF($F$9:F56,F56))","v":"4_4"},{"$f":"IF(STUDATA!B53=\"\",\"\",STUDATA!B53)","v":48},{"$f":"IF(STUDATA!E53=\"\",\"\",STUDATA!E53)","v":"abc48"},{"$f":"IF(STUDATA!F53=\"\",\"\",STUDATA!F53)","v":"xyz48"},{"$f":"IF(STUDATA!G53=\"\",\"\",STUDATA!G53)","v":"M"},{"$f":"IF(STUDATA!C53=\"\",\"\",STUDATA!C53)","v":4},"YES","NO","NO","YES",{"$nulls":33},""]
[{"$f":"IF(F57=\"\",\"\",F57&\"_\"&COUNTIF($F$9:F57,F57))","v":"4_5"},{"$f":"IF(STUDATA!B54=\"\",\"\",STUDATA!B54)","v":49},{"$f":"IF(STUDATA!E54=\"\",\"\",STUDATA!E54)","v":"abc49"},{"$f":"IF(STUDATA!F54=\"\",\"\",STUDATA!F54)","v":"xyz49"},{"$f":"IF(STUDATA!G54=\"\",\"\",STUDATA!G54)","v":"M"},{"$f":"IF(STUDATA!C54=\"\",\"\",STUDATA!C54)","v":4},"YES","NO","NO","YES",{"$nulls":33},""]
[{"$f":"IF(F58=\"\",\"\",F58&\"_\"&COUNTIF($F$9:F58,F58))","v":"4_6"},{"$f":"IF(STUDATA!B55=\"\",\"\",STUDATA!B55)","v":50},{"$f":"IF(STUDATA!E55=\"\",\"\",STUDATA!E55)","v":"abc50"},{"$f":"IF(STUDATA!F55=\"\",\"\",STUDATA!F55)","v":"xyz50"},{"$f":"IF(STUDATA!G55=\"\",\"\",STUDATA!G55)","v":"M"},{"$f":"IF(STUDATA!C55=\"\",\"\",STUDATA!C55)","v":4},"NO","NO","NO","NO",{"$nulls":33},""]
[{"$f":"IF(F59=\"\",\"\",F59&\"_\"&COUNTIF($F$9:F59,F59))","v":"4_7"},{"$f":"IF(STUDATA!B56=\"\",\"\",STUDATA!B56)","v":51},{"$f":"IF(STUDATA!E56=\"\",\"\",STUDATA!E56)","v":"abc51"},{"$f":"IF(STUDATA!F56=\"\",\"\",STUDATA!F56)","v":"xyz51"},{"$f":"IF(STUDATA!G56=\"\",\"\",STUDATA!G56)","v":"F"},{"$f":"IF(STUDATA!C56=\"\",\"\",STUDATA!C56)","v":4},"NO","NO","NO","NO",{"$nulls":33},""]
[{"$f":"IF(F60=\"\",\"\",F60&\"_\"&COUNTIF($F$9:F60,F60))","v":"4_8"},{"$f":"IF(STUDATA!B57=\"\",\"\",STUDATA!B57)","v":52},{"$f":"IF(STUDATA!E57=\"\",\"\",STUDATA!E57)","v":"abc52"},{"$f":"IF(STUDATA!F57=\"\",\"\",STUDATA!F57)","v":"xyz52"},{"$f":"IF(STUDATA!G57=\"\",\"\",STUDATA!G57)","v":"M"},{"$f":"IF(STUDATA!C57=\"\",\"\",STUDATA!C57)","v":4},"NO","NO","NO","NO",{"$nulls":33},""]
[{"$f":"IF(F61=\"\",\"\",F61&\"_\"&COUNTIF($F$9:F61,F61))","v":"4_9"},{"$f":"IF(STUDATA!B58=\"\",\"\",STUDATA!B58)","v":53},{"$f":"IF(STUDATA!E58=\"\",\"\",STUDATA!E58)","v":"abc53"},{"$f":"IF(STUDATA!F58=\"\",\"\",STUDATA!F58)","v":"xyz53"},{"$f":"IF(STUDATA!G58=\"\",\"\",STUDATA!G58)","v":"F"},{"$f":"IF(STUDATA!C58=\"\",\"\",STUDATA!C58)","v":4},"YES","NO","NO","YES",{"$nulls":33},""]
[{"$f":"IF(F62=\"\",\"\",F62&\"_\"&COUNTIF($F$9:F62,F62))","v":"4_10"},{"$f":"IF(STUDATA!B59=\"\",\"\",STUDATA!B59)","v":54},{"$f":"IF(STUDATA!E59=\"\",\"\",STUDATA!E59)","v":"abc54"},{"$f":"IF(STUDATA!F59=\"\",\"\",STUDATA!F59)","v":"xyz54"},{"$f":"IF(STUDATA!G59=\"\",\"\",STUDATA!G59)","v":"F"},{"$f":"IF(STUDATA!C59=\"\",\"\",STUDATA!C59)","v":4},"YES","NO","NO","YES",{"$nulls":33},""]
[{"$f":"IF(F63=\"\",\"\",F63&\"_\"&COUNTIF($F$9:F63,F63))","v":"4_11"},{"$f":"IF(STUDATA!B60=\"\",\"\",STUDATA!B60)","v":55},{"$f":"IF(STUDATA!E60=\"\",\"\",STUDATA!E60)","v":"abc55"},{"$f":"IF(STUDATA!F60=\"\",\"\",STUDATA!F60)","v":"xyz55"},{"$f":"IF(STUDATA!G60=\"\",\"\",STUDATA!G60)","v":"F"},{"$f":"IF(STUDATA!C60=\"\",\"\",STUDATA!C60)","v":4},"NO","NO","NO","NO",{"$nulls":33},""]
[{"$f":"IF(F64=\"\",\"\",F64&\"_\"&COUNTIF($F$9:F64,F64))","v":"4_12"},{"$f":"IF(STUDATA!B61=\"\",\"\",STUDATA!B61)","v":56},{"$f":"IF(STUDATA!E61=\"\",\"\",STUDATA!E61)","v":"abc56"},{"$f":"IF(STUDATA!F61=\"\",\"\",STUDATA!F61)","v":"xyz56"},{"$f":"IF(STUDATA!G61=\"\",\"\",STUDATA!G61)","v":"M"},{"$f":"IF(STUDATA!C61=\"\",\"\",STUDATA!C61)","v":4},"YES","NO","NO","YES",{"$nulls":33},""]
[{"$f":"IF(F65=\"\",\"\",F65&\"_\"&COUNTIF($F$9:F65,F65))","v":"4_13"},{"$f":"IF(STUDATA!B62=\"\",\"\",STUDATA!B62)","v":57},{"$f":"IF(STUDATA!E62=\"\",\"\",STUDATA!E62)","v":"abc57"},{"$f":"IF(STUDATA!F62=\"\",\"\",STUDATA!F62)","v":"xyz57"},{"$f":"IF(STUDATA!G62=\"\",\"\",STUDATA!G62)","v":"F"},{"$f":"IF(STUDATA!C62=\"\",\"\",STUDATA!C62)","v":4},"NO","NO","NO","NO",{"$nulls":33},""]
[{"$f":"IF(F66=\"\",\"\",F66&\"_\"&COUNTIF($F$9:F66,F66))","v":"4_14"},{"$f":"IF(STUDATA!B63=\"\",\"\",STUDATA!B63)","v":58},{"$f":"IF(STUDATA!E63=\"\",\"\",STUDATA!E63)","v":"abc58"},{"$f":"IF(STUDATA!F63=\"\",\"\",STUDATA!F63)","v":"xyz58"},{"$f":"IF(STUDATA!G63=\"\",\"\",STUDATA!G63)","v":"M"},{"$f":"IF(STUDATA!C63=\"\",\"\",STUDATA!C63)","v":4},"NO","NO","NO","NO",{"$nulls":33},""]
[{"$f":"IF(F67=\"\",\"\",F67&\"_\"&COUNTIF($F$9:F67,F67))","v":"4_15"},{"$f":"IF(STUDATA!B64=\"\",\"\",STUDATA!B64)","v":59},{"$f":"IF(STUDATA!E64=\"\",\"\",STUDATA!E64)","v":"abc59"},{"$f":"IF(STUDATA!F64=\"\",\"\",STUDATA!F64)","v":"xyz59"},{"$f":"IF(STUDATA!G64=\"\",\"\",STUDATA!G64)","v":"M"},{"$f":"IF(STUDATA!C64=\"\",\"\",STUDATA!C64)","v":4},"NO","NO","NO","NO",{"$nulls":33},""]
[{"$f":"IF(F68=\"\",\"\",F68&\"_\"&COUNTIF($F$9:F68,F68))","v":"4_16"},{"$f":"IF(STUDATA!B65=\"\",\"\",STUDATA!B65)","v":60},{"$f":"IF(STUDATA!E65=\"\",\"\",STUDATA!E65)","v":"abc60"},{"$f":"IF(STUDATA!F65=\"\",\"\",STUDATA!F65)","v":"xyz60"},{"$f":"IF(STUDATA!G65=\"\",\"\",STUDATA!G65)","v":"M"},{"$f":"IF(STUDATA!C65=\"\",\"\",STUDATA!C65)","v":4},"NO","NO","NO","NO",{"$nulls":33},""]
[{"$f":"IF(F69=\"\",\"\",F69&\"_\"&COUNTIF($F$9:F69,F69))","v":"5_1"},{"$f":"IF(STUDATA!B66=\"\",\"\",STUDATA!B66)","v":61},{"$f":"IF(STUDATA!E66=\"\",\"\",STUDATA!E66)","v":"abc61"},{"$f":"IF(STUDATA!F66=\"\",\"\",STUDATA!F66)","v":"xyz61"},{"$f":"IF(STUDATA!G66=\"\",\"\",STUDATA!G66)","v":"F"},{"$f":"IF(STUDATA!C66=\"\",\"\",STUDATA!C66)","v":5},"YES","NO","NO","YES",{"$nulls":33},""]
[{"$f":"IF(F70=\"\",\"\",F70&\"_\"&COUNTIF($F$9:F70,F70))","v":"5_2"},{"$f":"IF(STUDATA!B67=\"\",\"\",STUDATA!B67)","v":62},{"$f":"IF(STUDATA!E67=\"\",\"\",STUDATA!E67)","v":"abc62"},{"$f":"IF(STUDATA!F67=\"\",\"\",STUDATA!F67)","v":"xyz62"},{"$f":"IF(STUDATA!G67=\"\",\"\",STUDATA!G67)","v":"M"},{"$f":"IF(STUDATA!C67=\"\",\"\",STUDATA!C67)","v":5},"NO","NO","NO","NO",{"$nulls":33},""]
[{"$f":"IF(F71=\"\",\"\",F71&\"_\"&COUNTIF($F$9:F71,F71))","v":"5_3"},{"$f":"IF(STUDATA!B68=\"\",\"\",STUDATA!B68)","v":63},{"$f":"IF(STUDATA!E68=\"\",\"\",STUDATA!E68)","v":"abc63"},{"$f":"IF(STUDATA!F68=\"\",\"\",STUDATA!F68)","v":"xyz63"},{"$f":"IF(STUDATA!G68=\"\",\"\",STUDATA!G68)","v":"F"},{"$f":"IF(STUDATA!C68=\"\",\"\",STUDATA!C68)","v":5},"YES","NO","NO","YES",{"$nulls":33},""]
[{"$f":"IF(F72=\"\",\"\",F72&\"_\"&COUNTIF($F$9:F72,F72))","v":"5_4"},{"$f":"IF(STUDATA!B69=\"\",\"\",STUDATA!B69)","v":64},{"$f":"IF(STUDATA!E69=\"\",\"\",STUDATA!E69)","v":"abc64"},{"$f":"IF(STUDATA!F69=\"\",\"\",STUDATA!F69)","v":"xyz64"},{"$f":"IF(STUDATA!G69=\"\",\"\",STUDATA!G69)","v":"M"},{"$f":"IF(STUDATA!C69=\"\",\"\",STUDATA!C69)","v":5},"NO","NO","NO","NO",{"$nulls":33},""]
[{"$f":"IF(F73=\"\",\"\",F73&\"_\"&COUNTIF($F$9:F73,F73))","v":"5_5"},{"$f":"IF(STUDATA!B70=\"\",\"\",STUDATA!B70)","v":65},{"$f":"IF(STUDATA!E70=\"\",\"\",STUDATA!E70)","v":"abc65"},{"$f":"IF(STUDATA!F70=\"\",\"\",STUDATA!F70)","v":"xyz65"},{"$f":"IF(STUDATA!G70=\"\",\"\",STUDATA!G70)","v":"F"},{"$f":"IF(STUDATA!C70=\"\",\"\",STUDATA!C70)","v":5},"YES","NO","NO","YES",{"$nulls":33},""]
[{"$f":"IF(F74=\"\",\"\",F74&\"_\"&COUNTIF($F$9:F74,F74))","v":"5_6"},{"$f":"IF(STUDATA!B71=\"\",\"\",STUDATA!B71)","v":66},{"$f":"IF(STUDATA!E71=\"\",\"\",STUDATA!E71)","v":"abc66"},{"$f":"IF(STUDATA!F71=\"\",\"\",STUDATA!F71)","v":"xyz66"},{"$f":"IF(STUDATA!G71=\"\",\"\",STUDATA!G71)","v":"F"},{"$f":"IF(STUDATA!C71=\"\",\"\",STUDATA!C71)","v":5},"NO","NO","NO","NO",{"$nulls":33},{"$f":"IF(S74=\"\",\"\",IF(S74=\"NO\",0,1))","v":""}]
[{"$f":"IF(F75=\"\",\"\",F75&\"_\"&COUNTIF($F$9:F75,F75))","v":"5_7"},{"$f":"IF(STUDATA!B72=\"\",\"\",STUDATA!B72)","v":67},{"$f":"IF(STUDATA!E72=\"\",\"\",STUDATA!E72)","v":"abc67"},{"$f":"IF(STUDATA!F72=\"\",\"\",STUDATA!F72)","v":"xyz67"},{"$f":"IF(STUDATA!G72=\"\",\"\",STUDATA!G72)","v":"F"},{"$f":"IF(STUDATA!C72=\"\",\"\",STUDATA!C72)","v":5},"YES","NO","NO","YES",{"$nulls":33},""]
[{"$f":"IF(F76=\"\",\"\",F76&\"_\"&COUNTIF($F$9:F76,F76))","v":"5_8"},{"$f":"IF(STUDATA!B73=\"\",\"\",STUDATA!B73)","v":68},{"$f":"IF(STUDATA!E73=\"\",\"\",STUDATA!E73)","v":"abc68"},{"$f":"IF(STUDATA!F73=\"\",\"\",STUDATA!F73)","v":"xyz68"},{"$f":"IF(STUDATA!G73=\"\",\"\",STUDATA!G73)","v":"M"},{"$f":"IF(STUDATA!C73=\"\",\"\",STUDATA!C73)","v":5},"NO","NO","NO","NO",{"$nulls":33},""]
[{"$f":"IF(F77=\"\",\"\",F77&\"_\"&COUNTIF($F$9:F77,F77))","v":"5_9"},{"$f":"IF(STUDATA!B74=\"\",\"\",STUDATA!B74)","v":69},{"$f":"IF(STUDATA!E74=\"\",\"\",STUDATA!E74)","v":"abc69"},{"$f":"IF(STUDATA!F74=\"\",\"\",STUDATA!F74)","v":"xyz69"},{"$f":"IF(STUDATA!G74=\"\",\"\",STUDATA!G74)","v":"M"},{"$f":"IF(STUDATA!C74=\"\",\"\",STUDATA!C74)","v":5},"NO","NO","NO","NO",{"$nulls":33},""]
[{"$f":"IF(F78=\"\",\"\",F78&\"_\"&COUNTIF($F$9:F78,F78))","v":"5_10"},{"$f":"IF(STUDATA!B75=\"\",\"\",STUDATA!B75)","v":70},{"$f":"IF(STUDATA!E75=\"\",\"\",STUDATA!E75)","v":"abc70"},{"$f":"IF(STUDATA!F75=\"\",\"\",STUDATA!F75)","v":"xyz70"},{"$f":"IF(STUDATA!G75=\"\",\"\",STUDATA!G75)","v":"M"},{"$f":"IF(STUDATA!C75=\"\",\"\",STUDATA!C75)","v":5},"YES","NO","NO","YES",{"$nulls":33},""]
[{"$f":"IF(F79=\"\",\"\",F79&\"_\"&COUNTIF($F$9:F79,F79))","v":"5_11"},{"$f":"IF(STUDATA!B76=\"\",\"\",STUDATA!B76)","v":71},{"$f":"IF(STUDATA!E76=\"\",\"\",STUDATA!E76)","v":"abc71"},{"$f":"IF(STUDATA!F76=\"\",\"\",STUDATA!F76)","v":"xyz71"},{"$f":"IF(STUDATA!G76=\"\",\"\",STUDATA!G76)","v":"F"},{"$f":"IF(STUDATA!C76=\"\",\"\",STUDATA!C76)","v":5},"NO","NO","NO","NO",{"$nulls":33},""]
[{"$f":"IF(F80=\"\",\"\",F80&\"_\"&COUNTIF($F$9:F80,F80))","v":"5_12"},{"$f":"IF(STUDATA!B77=\"\",\"\",STUDATA!B77)","v":72},{"$f":"IF(STUDATA!E77=\"\",\"\",STUDATA!E77)","v":"abc72"},{"$f":"IF(STUDATA!F77=\"\",\"\",STUDATA!F77)","v":"xyz72"},{"$f":"IF(STUDATA!G77=\"\",\"\",STUDATA!G77)","v":"M"},{"$f":"IF(STUDATA!C77=\"\",\"\",STUDATA!C77)","v":5},"YES","NO","NO","YES",{"$nulls":33},""]
[{"$f":"IF(F81=\"\",\"\",F81&\"_\"&COUNTIF($F$9:F81,F81))","v":"5_13"},{"$f":"IF(STUDATA!B78=\"\",\"\",STUDATA!B78)","v":73},{"$f":"IF(STUDATA!E78=\"\",\"\",STUDATA!E78)","v":"abc73"},{"$f":"IF(STUDATA!F78=\"\",\"\",STUDATA!F78)","v":"xyz73"},{"$f":"IF(STUDATA!G78=\"\",\"\",STUDATA!G78)","v":"F"},{"$f":"IF(STUDATA!C78=\"\",\"\",STUDATA!C78)","v":5},"YES","NO","NO","YES",{"$nulls":33},""]
[{"$f":"IF(F82=\"\",\"\",F82&\"_\"&COUNTIF($F$9:F82,F82))","v":"5_14"},{"$f":"IF(STUDATA!B79=\"\",\"\",STUDATA!B79)","v":74},{"$f":"IF(STUDATA!E79=\"\",\"\",STUDATA!E79)","v":"abc74"},{"$f":"IF(STUDATA!F79=\"\",\"\",STUDATA!F79)","v":"xyz74"},{"$f":"IF(STUDATA!G79=\"\",\"\",STUDATA!G79)","v":"F"},{"$f":"IF(STUDATA!C79=\"\",\"\",STUDATA!C79)","v":5},"NO","NO","NO","NO",{"$nulls":33},""]
[{"$f":"IF(F83=\"\",\"\",F83&\"_\"&COUNTIF($F$9:F83,F83))","v":"5_15"},{"$f":"IF(STUDATA!B80=\"\",\"\",STUDATA!B80)","v":75},{"$f":"IF(STUDATA!E80=\"\",\"\",STUDATA!E80)","v":"abc75"},{"$f":"IF(STUDATA!F80=\"\",\"\",STUDATA!F80)","v":"xyz75"},{"$f":"IF(STUDATA!G80=\"\",\"\",STUDATA!G80)","v":"F"},{"$f":"IF(STUDATA!C80=\"\",\"\",STUDATA!C80)","v":5},"NO","NO","NO","NO",{"$nulls":33},""]
[{"$f":"IF(F84=\"\",\"\",F84&\"_\"&COUNTIF($F$9:F84,F84))","v":"5_16"},{"$f":"IF(STUDATA!B81=\"\",\"\",STUDATA!B81)","v":76},{"$f":"IF(STUDATA!E81=\"\",\"\",STUDATA!E81)","v":"abc76"},{"$f":"IF(STUDATA!F81=\"\",\"\",STUDATA!F81)","v":"xyz76"},{"$f":"IF(STUDATA!G81=\"\",\"\",STUDATA!G81)","v":"M"},{"$f":"IF(STUDATA!C81=\"\",\"\",STUDATA!C81)","v":5},"YES","NO","NO","YES",{"$nulls":33},""]
[{"$f":"IF(F85=\"\",\"\",F85&\"_\"&COUNTIF($F$9:F85,F85))","v":"5_17"},{"$f":"IF(STUDATA!B82=\"\",\"\",STUDATA!B82)","v":77},{"$f":"IF(STUDATA!E82=\"\",\"\",STUDATA!E82)","v":"abc77"},{"$f":"IF(STUDATA!F82=\"\",\"\",STUDATA!F82)","v":"xyz77"},{"$f":"IF(STUDATA!G82=\"\",\"\",STUDATA!G82)","v":"F"},{"$f":"IF(STUDATA!C82=\"\",\"\",STUDATA!C82)","v":5},"YES","NO","NO","YES",{"$nulls":33},""]
[{"$f":"IF(F86=\"\",\"\",F86&\"_\"&COUNTIF($F$9:F86,F86))","v":"6_1"},{"$f":"IF(STUDATA!B83=\"\",\"\",STUDATA!B83)","v":78},{"$f":"IF(STUDATA!E83=\"\",\"\",STUDATA!E83)","v":"abc78"},{"$f":"IF(STUDATA!F83=\"\",\"\",STUDATA!F83)","v":"xyz78"},{"$f":"IF(STUDATA!G83=\"\",\"\",STUDATA!G83)","v":"F"},{"$f":"IF(STUDATA!C83=\"\",\"\",STUDATA!C83)","v":6},"YES","NO","NO",{"$nulls":34},""]
[{"$f":"IF(F87=\"\",\"\",F87&\"_\"&COUNTIF($F$9:F87,F87))","v":"6_2"},{"$f":"IF(STUDATA!B84=\"\",\"\",STUDATA!B84)","v":79},{"$f":"IF(STUDATA!E84=\"\",\"\",STUDATA!E84)","v":"abc79"},{"$f":"IF(STUDATA!F84=\"\",\"\",STUDATA!F84)","v":"xyz79"},{"$f":"IF(STUDATA!G84=\"\",\"\",STUDATA!G84)","v":"M"},{"$f":"IF(STUDATA!C84=\"\",\"\",STUDATA!C84)","v":6},"YES","NO","NO",{"$nulls":34},""]
[{"$f":"IF(F88=\"\",\"\",F88&\"_\"&COUNTIF($F$9:F88,F88))","v":"6_3"},{"$f":"IF(STUDATA!B85=\"\",\"\",STUDATA!B85)","v":80},{"$f":"IF(STUDATA!E85=\"\",\"\",STUDATA!E85)","v":"abc80"},{"$f":"IF(STUDATA!F85=\"\",\"\",STUDATA!F85)","v":"xyz80"},{"$f":"IF(STUDATA!G85=\"\",\"\",STUDATA!G85)","v":"M"},{"$f":"IF(STUDATA!C85=\"\",\"\",STUDATA!C85)","v":6},"YES","NO","NO",{"$nulls":34},""]
[{"$f":"IF(F89=\"\",\"\",F89&\"_\"&COUNTIF($F$9:F89,F89))","v":"6_4"},{"$f":"IF(STUDATA!B86=\"\",\"\",STUDATA!B86)","v":81},{"$f":"IF(STUDATA!E86=\"\",\"\",STUDATA!E86)","v":"abc81"},{"$f":"IF(STUDATA!F86=\"\",\"\",STUDATA!F86)","v":"xyz81"},{"$f":"IF(STUDATA!G86=\"\",\"\",STUDATA!G86)","v":"F"},{"$f":"IF(STUDATA!C86=\"\",\"\",STUDATA!C86)","v":6},"YES","NO","NO",{"$nulls":34},""]
[{"$f":"IF(F90=\"\",\"\",F90&\"_\"&COUNTIF($F$9:F90,F90))","v":"6_5"},{"$f":"IF(STUDATA!B87=\"\",\"\",STUDATA!B87)","v":82},{"$f":"IF(STUDATA!E87=\"\",\"\",STUDATA!E87)","v":"abc82"},{"$f":"IF(STUDATA!F87=\"\",\"\",STUDATA!F87)","v":"xyz82"},{"$f":"IF(STUDATA!G87=\"\",\"\",STUDATA!G87)","v":"F"},{"$f":"IF(STUDATA!C87=\"\",\"\",STUDATA!C87)","v":6},"YES","NO","NO",{"$nulls":34},""]
[{"$f":"IF(F91=\"\",\"\",F91&\"_\"&COUNTIF($F$9:F91,F91))","v":"6_6"},{"$f":"IF(STUDATA!B88=\"\",\"\",STUDATA!B88)","v":83},{"$f":"IF(STUDATA!E88=\"\",\"\",STUDATA!E88)","v":"abc83"},{"$f":"IF(STUDATA!F88=\"\",\"\",STUDATA!F88)","v":"xyz83"},{"$f":"IF(STUDATA!G88=\"\",\"\",STUDATA!G88)","v":"F"},{"$f":"IF(STUDATA!C88=\"\",\"\",STUDATA!C88)","v":6},"YES","NO","NO",{"$nulls":34},""]
[{"$f":"IF(F92=\"\",\"\",F92&\"_\"&COUNTIF($F$9:F92,F92))","v":"6_7"},{"$f":"IF(STUDATA!B89=\"\",\"\",STUDATA!B89)","v":84},{"$f":"IF(STUDATA!E89=\"\",\"\",STUDATA!E89)","v":"abc84"},{"$f":"IF(STUDATA!F89=\"\",\"\",STUDATA!F89)","v":"xyz84"},{"$f":"IF(STUDATA!G89=\"\",\"\",STUDATA!G89)","v":"M"},{"$f":"IF(STUDATA!C89=\"\",\"\",STUDATA!C89)","v":6},"YES","NO","NO",{"$nulls":34},""]
[{"$f":"IF(F93=\"\",\"\",F93&\"_\"&COUNTIF($F$9:F93,F93))","v":"6_8"},{"$f":"IF(STUDATA!B90=\"\",\"\",STUDATA!B90)","v":85},{"$f":"IF(STUDATA!E90=\"\",\"\",STUDATA!E90)","v":"abc85"},{"$f":"IF(STUDATA!F90=\"\",\"\",STUDATA!F90)","v":"xyz85"},{"$f":"IF(STUDATA!G90=\"\",\"\",STUDATA!G90)","v":"F"},{"$f":"IF(STUDATA!C90=\"\",\"\",STUDATA!C90)","v":6},"YES","NO","NO",{"$nulls":34},""]
[{"$f":"IF(F94=\"\",\"\",F94&\"_\"&COUNTIF($F$9:F94,F94))","v":"6_9"},{"$f":"IF(STUDATA!B91=\"\",\"\",STUDATA!B91)","v":86},{"$f":"IF(STUDATA!E91=\"\",\"\",STUDATA!E91)","v":"abc86"},{"$f":"IF(STUDATA!F91=\"\",\"\",STUDATA!F91)","v":"xyz86"},{"$f":"IF(STUDATA!G91=\"\",\"\",STUDATA!G91)","v":"F"},{"$f":"IF(STUDATA!C91=\"\",\"\",STUDATA!C91)","v":6},"YES","NO","NO",{"$nulls":34},""]
[{"$f":"IF(F95=\"\",\"\",F95&\"_\"&COUNTIF($F$9:F95,F95))","v":"6_10"},{"$f":"IF(STUDATA!B92=\"\",\"\",STUDATA!B92)","v":87},{"$f":"IF(STUDATA!E92=\"\",\"\",STUDATA!E92)","v":"abc87"},{"$f":"IF(STUDATA!F92=\"\",\"\",STUDATA!F92)","v":"xyz87"},{"$f":"IF(STUDATA!G92=\"\",\"\",STUDATA!G92)","v":"F"},{"$f":"IF(STUDATA!C92=\"\",\"\",STUDATA!C92)","v":6},"YES","NO","NO",{"$nulls":34},""]
[{"$f":"IF(F96=\"\",\"\",F96&\"_\"&COUNTIF($F$9:F96,F96))","v":"6_11"},{"$f":"IF(STUDATA!B93=\"\",\"\",STUDATA!B93)","v":88},{"$f":"IF(STUDATA!E93=\"\",\"\",STUDATA!E93)","v":"abc88"},{"$f":"IF(STUDATA!F93=\"\",\"\",STUDATA!F93)","v":"xyz88"},{"$f":"IF(STUDATA!G93=\"\",\"\",STUDATA!G93)","v":"M"},{"$f":"IF(STUDATA!C93=\"\",\"\",STUDATA!C93)","v":6},"YES","NO","NO",{"$nulls":34},""]
[{"$f":"IF(F97=\"\",\"\",F97&\"_\"&COUNTIF($F$9:F97,F97))","v":"6_12"},{"$f":"IF(STUDATA!B94=\"\",\"\",STUDATA!B94)","v":89},{"$f":"IF(STUDATA!E94=\"\",\"\",STUDATA!E94)","v":"abc89"},{"$f":"IF(STUDATA!F94=\"\",\"\",STUDATA!F94)","v":"xyz89"},{"$f":"IF(STUDATA!G94=\"\",\"\",STUDATA!G94)","v":"F"},{"$f":"IF(STUDATA!C94=\"\",\"\",STUDATA!C94)","v":6},"YES","NO","NO",{"$nulls":34},""]
[{"$f":"IF(F98=\"\",\"\",F98&\"_\"&COUNTIF($F$9:F98,F98))","v":"6_13"},{"$f":"IF(STUDATA!B95=\"\",\"\",STUDATA!B95)","v":90},{"$f":"IF(STUDATA!E95=\"\",\"\",STUDATA!E95)","v":"abc90"},{"$f":"IF(STUDATA!F95=\"\",\"\",STUDATA!F95)","v":"xyz90"},{"$f":"IF(STUDATA!G95=\"\",\"\",STUDATA!G95)","v":"F"},{"$f":"IF(STUDATA!C95=\"\",\"\",STUDATA!C95)","v":6},"YES","NO","NO",{"$nulls":34},""]
[{"$f":"IF(F99=\"\",\"\",F99&\"_\"&COUNTIF($F$9:F99,F99))","v":"6_14"},{"$f":"IF(STUDATA!B96=\"\",\"\",STUDATA!B96)","v":91},{"$f":"IF(STUDATA!E96=\"\",\"\",STUDATA!E96)","v":"abc91"},{"$f":"IF(STUDATA!F96=\"\",\"\",STUDATA!F96)","v":"xyz91"},{"$f":"IF(STUDATA!G96=\"\",\"\",STUDATA!G96)","v":"M"},{"$f":"IF(STUDATA!C96=\"\",\"\",STUDATA!C96)","v":6},"YES","NO","NO",{"$nulls":34},""]
[{"$f":"IF(F100=\"\",\"\",F100&\"_\"&COUNTIF($F$9:F100,F100))","v":"6_15"},{"$f":"IF(STUDATA!B97=\"\",\"\",STUDATA!B97)","v":92},{"$f":"IF(STUDATA!E97=\"\",\"\",STUDATA!E97)","v":"abc92"},{"$f":"IF(STUDATA!F97=\"\",\"\",STUDATA!F97)","v":"xyz92"},{"$f":"IF(STUDATA!G97=\"\",\"\",STUDATA!G97)","v":"F"},{"$f":"IF(STUDATA!C97=\"\",\"\",STUDATA!C97)","v":6},"YES","NO","NO",{"$nulls":34},""]
[{"$f":"IF(F101=\"\",\"\",F101&\"_\"&COUNTIF($F$9:F101,F101))","v":"6_16"},{"$f":"IF(STUDATA!B98=\"\",\"\",STUDATA!B98)","v":93},{"$f":"IF(STUDATA!E98=\"\",\"\",STUDATA!E98)","v":"abc93"},{"$f":"IF(STUDATA!F98=\"\",\"\",STUDATA!F98)","v":"xyz93"},{"$f":"IF(STUDATA!G98=\"\",\"\",STUDATA!G98)","v":"F"},{"$f":"IF(STUDATA!C98=\"\",\"\",STUDATA!C98)","v":6},"YES","NO","NO",{"$nulls":34},""]
[{"$f":"IF(F102=\"\",\"\",F102&\"_\"&COUNTIF($F$9:F102,F102))","v":"6_17"},{"$f":"IF(STUDATA!B99=\"\",\"\",STUDATA!B99)","v":94},{"$f":"IF(STUDATA!E99=\"\",\"\",STUDATA!E99)","v":"abc94"},{"$f":"IF(STUDATA!F99=\"\",\"\",STUDATA!F99)","v":"xyz94"},{"$f":"IF(STUDATA!G99=\"\",\"\",STUDATA!G99)","v":"F"},{"$f":"IF(STUDATA!C99=\"\",\"\",STUDATA!C99)","v":6},"YES","NO","NO",{"$nulls":34},""]
[{"$f":"IF(F103=\"\",\"\",F103&\"_\"&COUNTIF($F$9:F103,F103))","v":"6_18"},{"$f":"IF(STUDATA!B100=\"\",\"\",STUDATA!B100)","v":95},{"$f":"IF(STUDATA!E100=\"\",\"\",STUDATA!E100)","v":"abc95"},{"$f":"IF(STUDATA!F100=\"\",\"\",STUDATA!F100)","v":"xyz95"},{"$f":"IF(STUDATA!G100=\"\",\"\",STUDATA!G100)","v":"F"},{"$f":"IF(STUDATA!C100=\"\",\"\",STUDATA!C100)","v":6},"YES","NO","NO",{"$nulls":34},""]
[{"$f":"IF(F104=\"\",\"\",F104&\"_\"&COUNTIF($F$9:F104,F104))","v":"6_19"},{"$f":"IF(STUDATA!B101=\"\",\"\",STUDATA!B101)","v":96},{"$f":"IF(STUDATA!E101=\"\",\"\",STUDATA!E101)","v":"abc96"},{"$f":"IF(STUDATA!F101=\"\",\"\",STUDATA!F101)","v":"xyz96"},{"$f":"IF(STUDATA!G101=\"\",\"\",STUDATA!G101)","v":"F"},{"$f":"IF(STUDATA!C101=\"\",\"\",STUDATA!C101)","v":6},"YES","NO","NO",{"$nulls":34},""]
[{"$f":"IF(F105=\"\",\"\",F105&\"_\"&COUNTIF($F$9:F105,F105))","v":"6_20"},{"$f":"IF(STUDATA!B102=\"\",\"\",STUDATA!B102)","v":97},{"$f":"IF(STUDATA!E102=\"\",\"\",STUDATA!E102)","v":"abc97"},{"$f":"IF(STUDATA!F102=\"\",\"\",STUDATA!F102)","v":"xyz97"},{"$f":"IF(STUDATA!G102=\"\",\"\",STUDATA!G102)","v":"F"},{"$f":"IF(STUDATA!C102=\"\",\"\",STUDATA!C102)","v":6},"YES","NO","NO",{"$nulls":34},""]
[{"$f":"IF(F106=\"\",\"\",F106&\"_\"&COUNTIF($F$9:F106,F106))","v":"6_21"},{"$f":"IF(STUDATA!B103=\"\",\"\",STUDATA!B103)","v":98},{"$f":"IF(STUDATA!E103=\"\",\"\",STUDATA!E103)","v":"abc98"},{"$f":"IF(STUDATA!F103=\"\",\"\",STUDATA!F103)","v":"xyz98"},{"$f":"IF(STUDATA!G103=\"\",\"\",STUDATA!G103)","v":"F"},{"$f":"IF(STUDATA!C103=\"\",\"\",STUDATA!C103)","v":6},"YES","NO","NO",{"$nulls":34},""]
[{"$f":"IF(F107=\"\",\"\",F107&\"_\"&COUNTIF($F$9:F107,F107))","v":"6_22"},{"$f":"IF(STUDATA!B104=\"\",\"\",STUDATA!B104)","v":99},{"$f":"IF(STUDATA!E104=\"\",\"\",STUDATA!E104)","v":"abc99"},{"$f":"IF(STUDATA!F104=\"\",\"\",STUDATA!F104)","v":"xyz99"},{"$f":"IF(STUDATA!G104=\"\",\"\",STUDATA!G104)","v":"M"},{"$f":"IF(STUDATA!C104=\"\",\"\",STUDATA!C104)","v":6},"YES","NO","NO",{"$nulls":34},""]
[{"$f":"IF(F108=\"\",\"\",F108&\"_\"&COUNTIF($F$9:F108,F108))","v":"6_23"},{"$f":"IF(STUDATA!B105=\"\",\"\",STUDATA!B105)","v":100},{"$f":"IF(STUDATA!E105=\"\",\"\",STUDATA!E105)","v":"abc100"},{"$f":"IF(STUDATA!F105=\"\",\"\",STUDATA!F105)","v":"xyz100"},{"$f":"IF(STUDATA!G105=\"\",\"\",STUDATA!G105)","v":"M"},{"$f":"IF(STUDATA!C105=\"\",\"\",STUDATA!C105)","v":6},"YES","NO","NO",{"$nulls":34},""]
[{"$f":"IF(F109=\"\",\"\",F109&\"_\"&COUNTIF($F$9:F109,F109))","v":"7_1"},{"$f":"IF(STUDATA!B106=\"\",\"\",STUDATA!B106)","v":101},{"$f":"IF(STUDATA!E106=\"\",\"\",STUDATA!E106)","v":"abc101"},{"$f":"IF(STUDATA!F106=\"\",\"\",STUDATA!F106)","v":"xyz101"},{"$f":"IF(STUDATA!G106=\"\",\"\",STUDATA!G106)","v":"F"},{"$f":"IF(STUDATA!C106=\"\",\"\",STUDATA!C106)","v":7},"YES","NO","NO",{"$nulls":34},""]
[{"$f":"IF(F110=\"\",\"\",F110&\"_\"&COUNTIF($F$9:F110,F110))","v":"7_2"},{"$f":"IF(STUDATA!B107=\"\",\"\",STUDATA!B107)","v":102},{"$f":"IF(STUDATA!E107=\"\",\"\",STUDATA!E107)","v":"abc102"},{"$f":"IF(STUDATA!F107=\"\",\"\",STUDATA!F107)","v":"xyz102"},{"$f":"IF(STUDATA!G107=\"\",\"\",STUDATA!G107)","v":"M"},{"$f":"IF(STUDATA!C107=\"\",\"\",STUDATA!C107)","v":7},"YES","NO","NO",{"$nulls":34},""]
[{"$f":"IF(F111=\"\",\"\",F111&\"_\"&COUNTIF($F$9:F111,F111))","v":"7_3"},{"$f":"IF(STUDATA!B108=\"\",\"\",STUDATA!B108)","v":103},{"$f":"IF(STUDATA!E108=\"\",\"\",STUDATA!E108)","v":"abc103"},{"$f":"IF(STUDATA!F108=\"\",\"\",STUDATA!F108)","v":"xyz103"},{"$f":"IF(STUDATA!G108=\"\",\"\",STUDATA!G108)","v":"F"},{"$f":"IF(STUDATA!C108=\"\",\"\",STUDATA!C108)","v":7},"YES","NO","NO",{"$nulls":34},""]
[{"$f":"IF(F112=\"\",\"\",F112&\"_\"&COUNTIF($F$9:F112,F112))","v":"7_4"},{"$f":"IF(STUDATA!B109=\"\",\"\",STUDATA!B109)","v":104},{"$f":"IF(STUDATA!E109=\"\",\"\",STUDATA!E109)","v":"abc104"},{"$f":"IF(STUDATA!F109=\"\",\"\",STUDATA!F109)","v":"xyz104"},{"$f":"IF(STUDATA!G109=\"\",\"\",STUDATA!G109)","v":"M"},{"$f":"IF(STUDATA!C109=\"\",\"\",STUDATA!C109)","v":7},"YES","NO","NO",{"$nulls":34},""]
[{"$f":"IF(F113=\"\",\"\",F113&\"_\"&COUNTIF($F$9:F113,F113))","v":"7_5"},{"$f":"IF(STUDATA!B110=\"\",\"\",STUDATA!B110)","v":105},{"$f":"IF(STUDATA!E110=\"\",\"\",STUDATA!E110)","v":"abc105"},{"$f":"IF(STUDATA!F110=\"\",\"\",STUDATA!F110)","v":"xyz105"},{"$f":"IF(STUDATA!G110=\"\",\"\",STUDATA!G110)","v":"M"},{"$f":"IF(STUDATA!C110=\"\",\"\",STUDATA!C110)","v":7},"YES","NO","NO",{"$nulls":34},""]
[{"$f":"IF(F114=\"\",\"\",F114&\"_\"&COUNTIF($F$9:F114,F114))","v":"7_6"},{"$f":"IF(STUDATA!B111=\"\",\"\",STUDATA!B111)","v":106},{"$f":"IF(STUDATA!E111=\"\",\"\",STUDATA!E111)","v":"abc106"},{"$f":"IF(STUDATA!F111=\"\",\"\",STUDATA!F111)","v":"xyz106"},{"$f":"IF(STUDATA!G111=\"\",\"\",STUDATA!G111)","v":"M"},{"$f":"IF(STUDATA!C111=\"\",\"\",STUDATA!C111)","v":7},"YES","NO","NO",{"$nulls":34},""]
[{"$f":"IF(F115=\"\",\"\",F115&\"_\"&COUNTIF($F$9:F115,F115))","v":"7_7"},{"$f":"IF(STUDATA!B112=\"\",\"\",STUDATA!B112)","v":107},{"$f":"IF(STUDATA!E112=\"\",\"\",STUDATA!E112)","v":"abc107"},{"$f":"IF(STUDATA!F112=\"\",\"\",STUDATA!F112)","v":"xyz107"},{"$f":"IF(STUDATA!G112=\"\",\"\",STUDATA!G112)","v":"F"},{"$f":"IF(STUDATA!C112=\"\",\"\",STUDATA!C112)","v":7},"YES","NO","NO",{"$nulls":34},""]
[{"$f":"IF(F116=\"\",\"\",F116&\"_\"&COUNTIF($F$9:F116,F116))","v":"7_8"},{"$f":"IF(STUDATA!B113=\"\",\"\",STUDATA!B113)","v":108},{"$f":"IF(STUDATA!E113=\"\",\"\",STUDATA!E113)","v":"abc108"},{"$f":"IF(STUDATA!F113=\"\",\"\",STUDATA!F113)","v":"xyz108"},{"$f":"IF(STUDATA!G113=\"\",\"\",STUDATA!G113)","v":"M"},{"$f":"IF(STUDATA!C113=\"\",\"\",STUDATA!C113)","v":7},"YES","NO","NO",{"$nulls":34},""]
[{"$f":"IF(F117=\"\",\"\",F117&\"_\"&COUNTIF($F$9:F117,F117))","v":"7_9"},{"$f":"IF(STUDATA!B114=\"\",\"\",STUDATA!B114)","v":109},{"$f":"IF(STUDATA!E114=\"\",\"\",STUDATA!E114)","v":"abc109"},{"$f":"IF(STUDATA!F114=\"\",\"\",STUDATA!F114)","v":"xyz109"},{"$f":"IF(STUDATA!G114=\"\",\"\",STUDATA!G114)","v":"F"},{"$f":"IF(STUDATA!C114=\"\",\"\",STUDATA!C114)","v":7},"YES","NO","NO",{"$nulls":34},""]
[{"$f":"IF(F118=\"\",\"\",F118&\"_\"&COUNTIF($F$9:F118,F118))","v":"7_10"},{"$f":"IF(STUDATA!B115=\"\",\"\",STUDATA!B115)","v":110},{"$f":"IF(STUDATA!E115=\"\",\"\",STUDATA!E115)","v":"abc110"},{"$f":"IF(STUDATA!F115=\"\",\"\",STUDATA!F115)","v":"xyz110"},{"$f":"IF(STUDATA!G115=\"\",\"\",STUDATA!G115)","v":"M"},{"$f":"IF(STUDATA!C115=\"\",\"\",STUDATA!C115)","v":7},"YES","NO","NO",{"$nulls":34},""]
[{"$f":"IF(F119=\"\",\"\",F119&\"_\"&COUNTIF($F$9:F119,F119))","v":"7_11"},{"$f":"IF(STUDATA!B116=\"\",\"\",STUDATA!B116)","v":111},{"$f":"IF(STUDATA!E116=\"\",\"\",STUDATA!E116)","v":"abc111"},{"$f":"IF(STUDATA!F116=\"\",\"\",STUDATA!F116)","v":"xyz111"},{"$f":"IF(STUDATA!G116=\"\",\"\",STUDATA!G116)","v":"F"},{"$f":"IF(STUDATA!C116=\"\",\"\",STUDATA!C116)","v":7},"YES","NO","NO",{"$nulls":34},""]
[{"$f":"IF(F120=\"\",\"\",F120&\"_\"&COUNTIF($F$9:F120,F120))","v":"7_12"},{"$f":"IF(STUDATA!B117=\"\",\"\",STUDATA!B117)","v":112},{"$f":"IF(STUDATA!E117=\"\",\"\",STUDATA!E117)","v":"abc112"},{"$f":"IF(STUDATA!F117=\"\",\"\",STUDATA!F117)","v":"xyz112"},{"$f":"IF(STUDATA!G117=\"\",\"\",STUDATA!G117)","v":"F"},{"$f":"IF(STUDATA!C117=\"\",\"\",STUDATA!C117)","v":7},"YES","NO","NO",{"$nulls":34},""]
[{"$f":"IF(F121=\"\",\"\",F121&\"_\"&COUNTIF($F$9:F121,F121))","v":"7_13"},{"$f":"IF(STUDATA!B118=\"\",\"\",STUDATA!B118)","v":113},{"$f":"IF(STUDATA!E118=\"\",\"\",STUDATA!E118)","v":"abc113"},{"$f":"IF(STUDATA!F118=\"\",\"\",STUDATA!F118)","v":"xyz113"},{"$f":"IF(STUDATA!G118=\"\",\"\",STUDATA!G118)","v":"M"},{"$f":"IF(STUDATA!C118=\"\",\"\",STUDATA!C118)","v":7},"YES","NO","NO",{"$nulls":34},""]
[{"$f":"IF(F122=\"\",\"\",F122&\"_\"&COUNTIF($F$9:F122,F122))","v":"7_14"},{"$f":"IF(STUDATA!B119=\"\",\"\",STUDATA!B119)","v":114},{"$f":"IF(STUDATA!E119=\"\",\"\",STUDATA!E119)","v":"abc114"},{"$f":"IF(STUDATA!F119=\"\",\"\",STUDATA!F119)","v":"xyz114"},{"$f":"IF(STUDATA!G119=\"\",\"\",STUDATA!G119)","v":"F"},{"$f":"IF(STUDATA!C119=\"\",\"\",STUDATA!C119)","v":7},"YES","NO","NO",{"$nulls":34},""]
[{"$f":"IF(F123=\"\",\"\",F123&\"_\"&COUNTIF($F$9:F123,F123))","v":"7_15"},{"$f":"IF(STUDATA!B120=\"\",\"\",STUDATA!B120)","v":115},{"$f":"IF(STUDATA!E120=\"\",\"\",STUDATA!E120)","v":"abc115"},{"$f":"IF(STUDATA!F120=\"\",\"\",STUDATA!F120)","v":"xyz115"},{"$f":"IF(STUDATA!G120=\"\",\"\",STUDATA!G120)","v":"M"},{"$f":"IF(STUDATA!C120=\"\",\"\",STUDATA!C120)","v":7},"YES","NO","NO",{"$nulls":34},""]
[{"$f":"IF(F124=\"\",\"\",F124&\"_\"&COUNTIF($F$9:F124,F124))","v":"7_16"},{"$f":"IF(STUDATA!B121=\"\",\"\",STUDATA!B121)","v":116},{"$f":"IF(STUDATA!E121=\"\",\"\",STUDATA!E121)","v":"abc116"},{"$f":"IF(STUDATA!F121=\"\",\"\",STUDATA!F121)","v":"xyz116"},{"$f":"IF(STUDATA!G121=\"\",\"\",STUDATA!G121)","v":"M"},{"$f":"IF(STUDATA!C121=\"\",\"\",STUDATA!C121)","v":7},"YES","NO","NO",{"$nulls":34},""]
[{"$f":"IF(F125=\"\",\"\",F125&\"_\"&COUNTIF($F$9:F125,F125))","v":"7_17"},{"$f":"IF(STUDATA!B122=\"\",\"\",STUDATA!B122)","v":117},{"$f":"IF(STUDATA!E122=\"\",\"\",STUDATA!E122)","v":"abc117"},{"$f":"IF(STUDATA!F122=\"\",\"\",STUDATA!F122)","v":"xyz117"},{"$f":"IF(STUDATA!G122=\"\",\"\",STUDATA!G122)","v":"F"},{"$f":"IF(STUDATA!C122=\"\",\"\",STUDATA!C122)","v":7},"YES","NO","NO",{"$nulls":34},""]
[{"$f":"IF(F126=\"\",\"\",F126&\"_\"&COUNTIF($F$9:F126,F126))","v":"7_18"},{"$f":"IF(STUDATA!B123=\"\",\"\",STUDATA!B123)","v":118},{"$f":"IF(STUDATA!E123=\"\",\"\",STUDATA!E123)","v":"abc118"},{"$f":"IF(STUDATA!F123=\"\",\"\",STUDATA!F123)","v":"xyz118"},{"$f":"IF(STUDATA!G123=\"\",\"\",STUDATA!G123)","v":"M"},{"$f":"IF(STUDATA!C123=\"\",\"\",STUDATA!C123)","v":7},"YES","NO","NO",{"$nulls":34},""]
[{"$f":"IF(F127=\"\",\"\",F127&\"_\"&COUNTIF($F$9:F127,F127))","v":"7_19"},{"$f":"IF(STUDATA!B124=\"\",\"\",STUDATA!B124)","v":119},{"$f":"IF(STUDATA!E124=\"\",\"\",STUDATA!E124)","v":"abc119"},{"$f":"IF(STUDATA!F124=\"\",\"\",STUDATA!F124)","v":"xyz119"},{"$f":"IF(STUDATA!G124=\"\",\"\",STUDATA!G124)","v":"F"},{"$f":"IF(STUDATA!C124=\"\",\"\",STUDATA!C124)","v":7},"YES","NO","NO",{"$nulls":34},""]
[{"$f":"IF(F128=\"\",\"\",F128&\"_\"&COUNTIF($F$9:F128,F128))","v":"8_1"},{"$f":"IF(STUDATA!B125=\"\",\"\",STUDATA!B125)","v":120},{"$f":"IF(STUDATA!E125=\"\",\"\",STUDATA!E125)","v":"abc120"},{"$f":"IF(STUDATA!F125=\"\",\"\",STUDATA!F125)","v":"xyz120"},{"$f":"IF(STUDATA!G125=\"\",\"\",STUDATA!G125)","v":"F"},{"$f":"IF(STUDATA!C125=\"\",\"\",STUDATA!C125)","v":8},"YES","NO","NO","NO","YES","YES",{"$nulls":4},"NO","NO",null,"ONLINE","ONLINE",{"$nulls":3},"OFFLINE","ONLINE",{"$nulls":17},""]
[{"$f":"IF(F129=\"\",\"\",F129&\"_\"&COUNTIF($F$9:F129,F129))","v":"8_2"},{"$f":"IF(STUDATA!B126=\"\",\"\",STUDATA!B126)","v":121},{"$f":"IF(STUDATA!E126=\"\",\"\",STUDATA!E126)","v":"abc121"},{"$f":"IF(STUDATA!F126=\"\",\"\",STUDATA!F126)","v":"xyz121"},{"$f":"IF(STUDATA!G126=\"\",\"\",STUDATA!G126)","v":"F"},{"$f":"IF(STUDATA!C126=\"\",\"\",STUDATA!C126)","v":8},"NO","NO","NO","YES","YES","YES",{"$nulls":4},"NO","NO",null,"OFFLINE","OFFLINE",{"$nulls":3},"OFFLINE","OFFLINE",{"$nulls":8},"YES",null,null,"YES","YES",{"$nulls":4},""]
[{"$f":"IF(F130=\"\",\"\",F130&\"_\"&COUNTIF($F$9:F130,F130))","v":"8_3"},{"$f":"IF(STUDATA!B127=\"\",\"\",STUDATA!B127)","v":122},{"$f":"IF(STUDATA!E127=\"\",\"\",STUDATA!E127)","v":"abc122"},{"$f":"IF(STUDATA!F127=\"\",\"\",STUDATA!F127)","v":"xyz122"},{"$f":"IF(STUDATA!G127=\"\",\"\",STUDATA!G127)","v":"F"},{"$f":"IF(STUDATA!C127=\"\",\"\",STUDATA!C127)","v":8},"YES","NO","NO","NO","YES","YES",{"$nulls":4},"NO","NO",null,"ONLINE","ONLINE",{"$nulls":3},"OFFLINE","OFFLINE",{"$nulls":8},"YES",null,null,"YES","YES",{"$nulls":4},""]
[{"$f":"IF(F131=\"\",\"\",F131&\"_\"&COUNTIF($F$9:F131,F131))","v":"8_4"},{"$f":"IF(STUDATA!B128=\"\",\"\",STUDATA!B128)","v":123},{"$f":"IF(STUDATA!E128=\"\",\"\",STUDATA!E128)","v":"abc123"},{"$f":"IF(STUDATA!F128=\"\",\"\",STUDATA!F128)","v":"xyz123"},{"$f":"IF(STUDATA!G128=\"\",\"\",STUDATA!G128)","v":"F"},{"$f":"IF(STUDATA!C128=\"\",\"\",STUDATA!C128)","v":8},"YES","NO","NO","NO","YES","YES",{"$nulls":4},"NO","NO",null,"ONLINE","ONLINE",{"$nulls":3},"OFFLINE","OFFLINE",{"$nulls":8},"YES",null,null,"YES","YES",{"$nulls":4},""]
[{"$f":"IF(F132=\"\",\"\",F132&\"_\"&COUNTIF($F$9:F132,F132))","v":"8_5"},{"$f":"IF(STUDATA!B129=\"\",\"\",STUDATA!B129)","v":124},{"$f":"IF(STUDATA!E129=\"\",\"\",STUDATA!E129)","v":"abc124"},{"$f":"IF(STUDATA!F129=\"\",\"\",STUDATA!F129)","v":"xyz124"},{"$f":"IF(STUDATA!G129=\"\",\"\",STUDATA!G129)","v":"F"},{"$f":"IF(STUDATA!C129=\"\",\"\",STUDATA!C129)","v":8},"YES","NO","NO","NO","YES","YES",{"$nulls":4},"NO","NO",null,"ONLINE","ONLINE",{"$nulls":3},"OFFLINE","OFFLINE",{"$nulls":8},"YES",null,null,"YES","YES",{"$nulls":4},""]
[{"$f":"IF(F133=\"\",\"\",F133&\"_\"&COUNTIF($F$9:F133,F133))","v":"8_6"},{"$f":"IF(STUDATA!B130=\"\",\"\",STUDATA!B130)","v":125},{"$f":"IF(STUDATA!E130=\"\",\"\",STUDATA!E130)","v":"abc125"},{"$f":"IF(STUDATA!F130=\"\",\"\",STUDATA!F130)","v":"xyz125"},{"$f":"IF(STUDATA!G130=\"\",\"\",STUDATA!G130)","v":"F"},{"$f":"IF(STUDATA!C130=\"\",\"\",STUDATA!C130)","v":8},"YES","NO","NO","NO","YES","YES",{"$nulls":4},"NO","NO",null,"ONLINE","ONLINE",{"$nulls":3},"OFFLINE","OFFLINE",{"$nulls":8},"YES",null,null,"YES","YES",{"$nulls":4},""]
[{"$f":"IF(F134=\"\",\"\",F134&\"_\"&COUNTIF($F$9:F134,F134))","v":"8_7"},{"$f":"IF(STUDATA!B131=\"\",\"\",STUDATA!B131)","v":126},{"$f":"IF(STUDATA!E131=\"\",\"\",STUDATA!E131)","v":"abc126"},{"$f":"IF(STUDATA!F131=\"\",\"\",STUDATA!F131)","v":"xyz126"},{"$f":"IF(STUDATA!G131=\"\",\"\",STUDATA!G131)","v":"F"},{"$f":"IF(STUDATA!C131=\"\",\"\",STUDATA!C131)","v":8},"YES","NO","NO","NO","YES","YES",{"$nulls":4},"NO","NO",null,"ONLINE","ONLINE",{"$nulls":13},"YES",null,null,"YES","YES",{"$nulls":4},""]
[{"$f":"IF(F135=\"\",\"\",F135&\"_\"&COUNTIF($F$9:F135,F135))","v":"8_8"},{"$f":"IF(STUDATA!B132=\"\",\"\",STUDATA!B132)","v":127},{"$f":"IF(STUDATA!E132=\"\",\"\",STUDATA!E132)","v":"abc127"},{"$f":"IF(STUDATA!F132=\"\",\"\",STUDATA!F132)","v":"xyz127"},{"$f":"IF(STUDATA!G132=\"\",\"\",STUDATA!G132)","v":"F"},{"$f":"IF(STUDATA!C132=\"\",\"\",STUDATA!C132)","v":8},"YES","NO","NO","NO","YES","YES",{"$nulls":4},"NO","NO",null,"ONLINE","ONLINE",{"$nulls":3},"OFFLINE","OFFLINE",{"$nulls":8},"YES",null,null,"YES","YES",{"$nulls":4},""]
[{"$f":"IF(F136=\"\",\"\",F136&\"_\"&COUNTIF($F$9:F136,F136))","v":"8_9"},{"$f":"IF(STUDATA!B133=\"\",\"\",STUDATA!B133)","v":128},{"$f":"IF(STUDATA!E133=\"\",\"\",STUDATA!E133)","v":"abc128"},{"$f":"IF(STUDATA!F133=\"\",\"\",STUDATA!F133)","v":"xyz128"},{"$f":"IF(STUDATA!G133=\"\",\"\",STUDATA!G133)","v":"F"},{"$f":"IF(STUDATA!C133=\"\",\"\",STUDATA!C133)","v":8},"YES","NO","NO","NO","YES","YES",{"$nulls":4},"NO","NO",null,"ONLINE","ONLINE",{"$nulls":3},"OFFLINE","OFFLINE",{"$nulls":8},"YES",null,null,"YES","YES",{"$nulls":4},""]
[{"$f":"IF(F137=\"\",\"\",F137&\"_\"&COUNTIF($F$9:F137,F137))","v":"8_10"},{"$f":"IF(STUDATA!B134=\"\",\"\",STUDATA!B134)","v":129},{"$f":"IF(STUDATA!E134=\"\",\"\",STUDATA!E134)","v":"abc129"},{"$f":"IF(STUDATA!F134=\"\",\"\",STUDATA!F134)","v":"xyz129"},{"$f":"IF(STUDATA!G134=\"\",\"\",STUDATA!G134)","v":"M"},{"$f":"IF(STUDATA!C134=\"\",\"\",STUDATA!C134)","v":8},"YES","NO","NO","NO","YES","YES",{"$nulls":4},"NO","NO",null,"ONLINE","ONLINE",{"$nulls":3},"OFFLINE","OFFLINE",{"$nulls":8},"YES",null,null,"YES","YES",{"$nulls":4},""]
[{"$f":"IF(F138=\"\",\"\",F138&\"_\"&COUNTIF($F$9:F138,F138))","v":"8_11"},{"$f":"IF(STUDATA!B135=\"\",\"\",STUDATA!B135)","v":130},{"$f":"IF(STUDATA!E135=\"\",\"\",STUDATA!E135)","v":"abc130"},{"$f":"IF(STUDATA!F135=\"\",\"\",STUDATA!F135)","v":"xyz130"},{"$f":"IF(STUDATA!G135=\"\",\"\",STUDATA!G135)","v":"M"},{"$f":"IF(STUDATA!C135=\"\",\"\",STUDATA!C135)","v":8},"NO","NO","NO","YES","YES","YES",{"$nulls":4},"NO","NO",null,"OFFLINE","OFFLINE",{"$nulls":3},"OFFLINE","OFFLINE",{"$nulls":8},"YES",null,null,"YES","YES",{"$nulls":4},{"$f":"IF(S138=\"\",\"\",IF(S138=\"NO\",0,1))","v":""}]
[{"$f":"IF(F139=\"\",\"\",F139&\"_\"&COUNTIF($F$9:F139,F139))","v":"8_12"},{"$f":"IF(STUDATA!B136=\"\",\"\",STUDATA!B136)","v":131},{"$f":"IF(STUDATA!E136=\"\",\"\",STUDATA!E136)","v":"abc131"},{"$f":"IF(STUDATA!F136=\"\",\"\",STUDATA!F136)","v":"xyz131"},{"$f":"IF(STUDATA!G136=\"\",\"\",STUDATA!G136)","v":"F"},{"$f":"IF(STUDATA!C136=\"\",\"\",STUDATA!C136)","v":8},"NO","NO","NO","YES","YES","YES",{"$nulls":4},"NO","NO",null,"OFFLINE","OFFLINE",{"$nulls":3},"OFFLINE","OFFLINE",{"$nulls":8},"YES",null,null,"YES","YES",{"$nulls":4},""]
[{"$f":"IF(F140=\"\",\"\",F140&\"_\"&COUNTIF($F$9:F140,F140))","v":"8_13"},{"$f":"IF(STUDATA!B137=\"\",\"\",STUDATA!B137)","v":132},{"$f":"IF(STUDATA!E137=\"\",\"\",STUDATA!E137)","v":"abc132"},{"$f":"IF(STUDATA!F137=\"\",\"\",STUDATA!F137)","v":"xyz132"},{"$f":"IF(STUDATA!G137=\"\",\"\",STUDATA!G137)","v":"F"},{"$f":"IF(STUDATA!C137=\"\",\"\",STUDATA!C137)","v":8},"YES","NO","NO","NO","YES","YES",{"$nulls":4},"NO","NO",null,"ONLINE","ONLINE",{"$nulls":3},"OFFLINE","OFFLINE",{"$nulls":8},"YES",null,null,"YES","YES",{"$nulls":4},""]
[{"$f":"IF(F141=\"\",\"\",F141&\"_\"&COUNTIF($F$9:F141,F141))","v":"8_14"},{"$f":"IF(STUDATA!B138=\"\",\"\",STUDATA!B138)","v":133},{"$f":"IF(STUDATA!E138=\"\",\"\",STUDATA!E138)","v":"abc133"},{"$f":"IF(STUDATA!F138=\"\",\"\",STUDATA!F138)","v":"xyz133"},{"$f":"IF(STUDATA!G138=\"\",\"\",STUDATA!G138)","v":"F"},{"$f":"IF(STUDATA!C138=\"\",\"\",STUDATA!C138)","v":8},"NO","NO","NO","YES","YES","YES",{"$nulls":4},"NO","NO",null,"OFFLINE","OFFLINE",{"$nulls":3},"OFFLINE","OFFLINE",{"$nulls":8},"YES",null,null,"YES","YES",{"$nulls":4},""]
[{"$f":"IF(F142=\"\",\"\",F142&\"_\"&COUNTIF($F$9:F142,F142))","v":"8_15"},{"$f":"IF(STUDATA!B139=\"\",\"\",STUDATA!B139)","v":134},{"$f":"IF(STUDATA!E139=\"\",\"\",STUDATA!E139)","v":"abc134"},{"$f":"IF(STUDATA!F139=\"\",\"\",STUDATA!F139)","v":"xyz134"},{"$f":"IF(STUDATA!G139=\"\",\"\",STUDATA!G139)","v":"F"},{"$f":"IF(STUDATA!C139=\"\",\"\",STUDATA!C139)","v":8},"YES","NO","NO","NO","YES","YES",{"$nulls":4},"NO","NO",null,"ONLINE","ONLINE",{"$nulls":3},"OFFLINE","OFFLINE",{"$nulls":8},"YES",null,null,"YES","YES",{"$nulls":4},""]
[{"$f":"IF(F143=\"\",\"\",F143&\"_\"&COUNTIF($F$9:F143,F143))","v":"8_16"},{"$f":"IF(STUDATA!B140=\"\",\"\",STUDATA!B140)","v":135},{"$f":"IF(STUDATA!E140=\"\",\"\",STUDATA!E140)","v":"abc135"},{"$f":"IF(STUDATA!F140=\"\",\"\",STUDATA!F140)","v":"xyz135"},{"$f":"IF(STUDATA!G140=\"\",\"\",STUDATA!G140)","v":"F"},{"$f":"IF(STUDATA!C140=\"\",\"\",STUDATA!C140)","v":8},"YES","NO","NO","NO","YES","YES",{"$nulls":4},"NO","NO",null,"ONLINE","ONLINE",{"$nulls":3},"OFFLINE","OFFLINE",{"$nulls":8},"YES",null,null,"YES","YES",{"$nulls":4},""]
[{"$f":"IF(F144=\"\",\"\",F144&\"_\"&COUNTIF($F$9:F144,F144))","v":"8_17"},{"$f":"IF(STUDATA!B141=\"\",\"\",STUDATA!B141)","v":136},{"$f":"IF(STUDATA!E141=\"\",\"\",STUDATA!E141)","v":"abc136"},{"$f":"IF(STUDATA!F141=\"\",\"\",STUDATA!F141)","v":"xyz136"},{"$f":"IF(STUDATA!G141=\"\",\"\",STUDATA!G141)","v":"F"},{"$f":"IF(STUDATA!C141=\"\",\"\",STUDATA!C141)","v":8},"NO","NO","NO","YES","YES","YES",{"$nulls":4},"NO","NO",null,"OFFLINE","OFFLINE",{"$nulls":3},"OFFLINE","OFFLINE",{"$nulls":8},"YES",null,null,"YES","YES",{"$nulls":4},""]
[{"$f":"IF(F145=\"\",\"\",F145&\"_\"&COUNTIF($F$9:F145,F145))","v":"8_18"},{"$f":"IF(STUDATA!B142=\"\",\"\",STUDATA!B142)","v":137},{"$f":"IF(STUDATA!E142=\"\",\"\",STUDATA!E142)","v":"abc137"},{"$f":"IF(STUDATA!F142=\"\",\"\",STUDATA!F142)","v":"xyz137"},{"$f":"IF(STUDATA!G142=\"\",\"\",STUDATA!G142)","v":"F"},{"$f":"IF(STUDATA!C142=\"\",\"\",STUDATA!C142)","v":8},"YES","NO","NO","NO","YES","YES",{"$nulls":4},"NO","NO",null,"ONLINE","ONLINE",{"$nulls":3},"OFFLINE","OFFLINE",{"$nulls":8},"YES",null,null,"YES","YES",{"$nulls":4},""]
[{"$f":"IF(F146=\"\",\"\",F146&\"_\"&COUNTIF($F$9:F146,F146))","v":"9_1"},{"$f":"IF(STUDATA!B143=\"\",\"\",STUDATA!B143)","v":138},{"$f":"IF(STUDATA!E143=\"\",\"\",STUDATA!E143)","v":"abc138"},{"$f":"IF(STUDATA!F143=\"\",\"\",STUDATA!F143)","v":"xyz138"},{"$f":"IF(STUDATA!G143=\"\",\"\",STUDATA!G143)","v":"F"},{"$f":"IF(STUDATA!C143=\"\",\"\",STUDATA!C143)","v":9},"YES","NO","NO","NO","YES","YES",{"$nulls":4},"NO","NO",null,"ONLINE","ONLINE","ONLINE",null,null,"OFFLINE","OFFLINE",{"$nulls":8},"YES",null,"NO","YES","YES",{"$nulls":4},""]
[{"$f":"IF(F147=\"\",\"\",F147&\"_\"&COUNTIF($F$9:F147,F147))","v":"9_2"},{"$f":"IF(STUDATA!B144=\"\",\"\",STUDATA!B144)","v":139},{"$f":"IF(STUDATA!E144=\"\",\"\",STUDATA!E144)","v":"abc139"},{"$f":"IF(STUDATA!F144=\"\",\"\",STUDATA!F144)","v":"xyz139"},{"$f":"IF(STUDATA!G144=\"\",\"\",STUDATA!G144)","v":"M"},{"$f":"IF(STUDATA!C144=\"\",\"\",STUDATA!C144)","v":9},"YES","NO","NO","NO","YES","YES",{"$nulls":4},"NO","NO",null,"ONLINE","ONLINE","ONLINE",null,null,"ONLINE","ONLINE",{"$nulls":8},"YES",null,"NO","YES","YES",{"$nulls":4},""]
[{"$f":"IF(F148=\"\",\"\",F148&\"_\"&COUNTIF($F$9:F148,F148))","v":"9_3"},{"$f":"IF(STUDATA!B145=\"\",\"\",STUDATA!B145)","v":140},{"$f":"IF(STUDATA!E145=\"\",\"\",STUDATA!E145)","v":"abc140"},{"$f":"IF(STUDATA!F145=\"\",\"\",STUDATA!F145)","v":"xyz140"},{"$f":"IF(STUDATA!G145=\"\",\"\",STUDATA!G145)","v":"M"},{"$f":"IF(STUDATA!C145=\"\",\"\",STUDATA!C145)","v":9},"YES","NO","NO","NO","YES","YES",{"$nulls":4},"NO","NO",null,"ONLINE","ONLINE","ONLINE",null,null,"OFFLINE","OFFLINE",{"$nulls":8},"YES",null,"NO","YES","YES",{"$nulls":4},""]
[{"$f":"IF(F149=\"\",\"\",F149&\"_\"&COUNTIF($F$9:F149,F149))","v":"9_4"},{"$f":"IF(STUDATA!B146=\"\",\"\",STUDATA!B146)","v":141},{"$f":"IF(STUDATA!E146=\"\",\"\",STUDATA!E146)","v":"abc141"},{"$f":"IF(STUDATA!F146=\"\",\"\",STUDATA!F146)","v":"xyz141"},{"$f":"IF(STUDATA!G146=\"\",\"\",STUDATA!G146)","v":"M"},{"$f":"IF(STUDATA!C146=\"\",\"\",STUDATA!C146)","v":9},"YES","NO","NO","NO","YES","YES",{"$nulls":4},"NO","NO",null,"ONLINE","ONLINE","ONLINE",null,null,"OFFLINE","OFFLINE",{"$nulls":8},"YES",null,"NO","YES","YES",{"$nulls":4},""]
[{"$f":"IF(F150=\"\",\"\",F150&\"_\"&COUNTIF($F$9:F150,F150))","v":"9_5"},{"$f":"IF(STUDATA!B147=\"\",\"\",STUDATA!B147)","v":142},{"$f":"IF(STUDATA!E147=\"\",\"\",STUDATA!E147)","v":"abc142"},{"$f":"IF(STUDATA!F147=\"\",\"\",STUDATA!F147)","v":"xyz142"},{"$f":"IF(STUDATA!G147=\"\",\"\",STUDATA!G147)","v":"M"},{"$f":"IF(STUDATA!C147=\"\",\"\",STUDATA!C147)","v":9},"YES","NO","NO","NO","YES","YES",{"$nulls":4},"NO","NO",null,"ONLINE","ONLINE","ONLINE",null,null,"OFFLINE","OFFLINE",{"$nulls":8},"YES",null,"NO","YES","YES",{"$nulls":4},""]
[{"$f":"IF(F151=\"\",\"\",F151&\"_\"&COUNTIF($F$9:F151,F151))","v":"9_6"},{"$f":"IF(STUDATA!B148=\"\",\"\",STUDATA!B148)","v":143},{"$f":"IF(STUDATA!E148=\"\",\"\",STUDATA!E148)","v":"abc143"},{"$f":"IF(STUDATA!F148=\"\",\"\",STUDATA!F148)","v":"xyz143"},{"$f":"IF(STUDATA!G148=\"\",\"\",STUDATA!G148)","v":"M"},{"$f":"IF(STUDATA!C148=\"\",\"\",STUDATA!C148)","v":9},"NO","NO","NO","YES","YES","YES",{"$nulls":4},"NO","NO",null,"OFFLINE","OFFLINE","OFFLINE",null,null,"OFFLINE","OFFLINE",{"$nulls":8},"YES",null,"NO","YES","YES",{"$nulls":4},""]
[{"$f":"IF(F152=\"\",\"\",F152&\"_\"&COUNTIF($F$9:F152,F152))","v":"9_7"},{"$f":"IF(STUDATA!B149=\"\",\"\",STUDATA!B149)","v":144},{"$f":"IF(STUDATA!E149=\"\",\"\",STUDATA!E149)","v":"abc144"},{"$f":"IF(STUDATA!F149=\"\",\"\",STUDATA!F149)","v":"xyz144"},{"$f":"IF(STUDATA!G149=\"\",\"\",STUDATA!G149)","v":"F"},{"$f":"IF(STUDATA!C149=\"\",\"\",STUDATA!C149)","v":9},"NO","NO","NO","YES","YES","YES",{"$nulls":4},"NO","NO",null,"OFFLINE","OFFLINE","OFFLINE",null,null,"OFFLINE","OFFLINE",{"$nulls":8},"YES",null,"NO","YES","YES",{"$nulls":4},""]
[{"$f":"IF(F153=\"\",\"\",F153&\"_\"&COUNTIF($F$9:F153,F153))","v":"9_8"},{"$f":"IF(STUDATA!B150=\"\",\"\",STUDATA!B150)","v":145},{"$f":"IF(STUDATA!E150=\"\",\"\",STUDATA!E150)","v":"abc145"},{"$f":"IF(STUDATA!F150=\"\",\"\",STUDATA!F150)","v":"xyz145"},{"$f":"IF(STUDATA!G150=\"\",\"\",STUDATA!G150)","v":"F"},{"$f":"IF(STUDATA!C150=\"\",\"\",STUDATA!C150)","v":9},"YES","NO","NO","NO","YES","YES",{"$nulls":4},"NO","NO",null,"ONLINE","ONLINE","ONLINE",null,null,"OFFLINE","OFFLINE",{"$nulls":8},"YES",null,"NO","YES","YES",{"$nulls":4},""]
[{"$f":"IF(F154=\"\",\"\",F154&\"_\"&COUNTIF($F$9:F154,F154))","v":"9_9"},{"$f":"IF(STUDATA!B151=\"\",\"\",STUDATA!B151)","v":146},{"$f":"IF(STUDATA!E151=\"\",\"\",STUDATA!E151)","v":"abc146"},{"$f":"IF(STUDATA!F151=\"\",\"\",STUDATA!F151)","v":"xyz146"},{"$f":"IF(STUDATA!G151=\"\",\"\",STUDATA!G151)","v":"M"},{"$f":"IF(STUDATA!C151=\"\",\"\",STUDATA!C151)","v":9},"NO","NO","NO","YES","NO","NO",{"$nulls":4},"NO","NO",null,"OFFLINE","OFFLINE","OFFLINE",null,null,"OFFLINE","OFFLINE",{"$nulls":8},"YES",null,"NO","NO","NO",{"$nulls":4},""]
[{"$f":"IF(F155=\"\",\"\",F155&\"_\"&COUNTIF($F$9:F155,F155))","v":"9_10"},{"$f":"IF(STUDATA!B152=\"\",\"\",STUDATA!B152)","v":147},{"$f":"IF(STUDATA!E152=\"\",\"\",STUDATA!E152)","v":"abc147"},{"$f":"IF(STUDATA!F152=\"\",\"\",STUDATA!F152)","v":"xyz147"},{"$f":"IF(STUDATA!G152=\"\",\"\",STUDATA!G152)","v":"F"},{"$f":"IF(STUDATA!C152=\"\",\"\",STUDATA!C152)","v":9},"YES","NO","NO","NO","YES","YES",{"$nulls":4},"NO","NO",null,"ONLINE","ONLINE","ONLINE",null,null,"OFFLINE","OFFLINE",{"$nulls":8},"YES",null,"NO","YES","YES",{"$nulls":4},""]
[{"$f":"IF(F156=\"\",\"\",F156&\"_\"&COUNTIF($F$9:F156,F156))","v":"9_11"},{"$f":"IF(STUDATA!B153=\"\",\"\",STUDATA!B153)","v":148},{"$f":"IF(STUDATA!E153=\"\",\"\",STUDATA!E153)","v":"abc148"},{"$f":"IF(STUDATA!F153=\"\",\"\",STUDATA!F153)","v":"xyz148"},{"$f":"IF(STUDATA!G153=\"\",\"\",STUDATA!G153)","v":"M"},{"$f":"IF(STUDATA!C153=\"\",\"\",STUDATA!C153)","v":9},"NO","NO","NO","YES","YES","YES",{"$nulls":4},"NO","NO",null,"OFFLINE","OFFLINE","OFFLINE",null,null,"OFFLINE","OFFLINE",{"$nulls":8},"YES",null,"NO","YES","YES",{"$nulls":4},""]
[{"$f":"IF(F157=\"\",\"\",F157&\"_\"&COUNTIF($F$9:F157,F157))","v":"9_12"},{"$f":"IF(STUDATA!B154=\"\",\"\",STUDATA!B154)","v":149},{"$f":"IF(STUDATA!E154=\"\",\"\",STUDATA!E154)","v":"abc149"},{"$f":"IF(STUDATA!F154=\"\",\"\",STUDATA!F154)","v":"xyz149"},{"$f":"IF(STUDATA!G154=\"\",\"\",STUDATA!G154)","v":"M"},{"$f":"IF(STUDATA!C154=\"\",\"\",STUDATA!C154)","v":9},"YES","NO","NO","NO","YES","YES",{"$nulls":4},"NO","NO",null,"ONLINE","ONLINE","ONLINE",null,null,"OFFLINE","OFFLINE",{"$nulls":8},"YES",null,"NO","YES","YES",{"$nulls":4},""]
[{"$f":"IF(F158=\"\",\"\",F158&\"_\"&COUNTIF($F$9:F158,F158))","v":"9_13"},{"$f":"IF(STUDATA!B155=\"\",\"\",STUDATA!B155)","v":150},{"$f":"IF(STUDATA!E155=\"\",\"\",STUDATA!E155)","v":"abc150"},{"$f":"IF(STUDATA!F155=\"\",\"\",STUDATA!F155)","v":"xyz150"},{"$f":"IF(STUDATA!G155=\"\",\"\",STUDATA!G155)","v":"M"},{"$f":"IF(STUDATA!C155=\"\",\"\",STUDATA!C155)","v":9},"NO","NO","NO","YES","YES","YES",{"$nulls":4},"NO","NO",null,"OFFLINE","OFFLINE","OFFLINE",null,null,"OFFLINE","OFFLINE",{"$nulls":8},"YES",null,"NO","YES","YES",{"$nulls":4},""]
[{"$f":"IF(F159=\"\",\"\",F159&\"_\"&COUNTIF($F$9:F159,F159))","v":"9_14"},{"$f":"IF(STUDATA!B156=\"\",\"\",STUDATA!B156)","v":151},{"$f":"IF(STUDATA!E156=\"\",\"\",STUDATA!E156)","v":"abc151"},{"$f":"IF(STUDATA!F156=\"\",\"\",STUDATA!F156)","v":"xyz151"},{"$f":"IF(STUDATA!G156=\"\",\"\",STUDATA!G156)","v":"M"},{"$f":"IF(STUDATA!C156=\"\",\"\",STUDATA!C156)","v":9},"YES","NO","NO","NO","NO","NO",{"$nulls":4},"NO","NO",null,"ONLINE","ONLINE","ONLINE",null,null,"OFFLINE","OFFLINE",{"$nulls":8},"YES",null,"NO","YES","YES",{"$nulls":4},""]
[{"$f":"IF(F160=\"\",\"\",F160&\"_\"&COUNTIF($F$9:F160,F160))","v":"9_15"},{"$f":"IF(STUDATA!B157=\"\",\"\",STUDATA!B157)","v":152},{"$f":"IF(STUDATA!E157=\"\",\"\",STUDATA!E157)","v":"abc152"},{"$f":"IF(STUDATA!F157=\"\",\"\",STUDATA!F157)","v":"xyz152"},{"$f":"IF(STUDATA!G157=\"\",\"\",STUDATA!G157)","v":"F"},{"$f":"IF(STUDATA!C157=\"\",\"\",STUDATA!C157)","v":9},"YES","NO","NO","NO","NO","NO",{"$nulls":4},"NO","NO",null,"ONLINE","ONLINE","ONLINE",null,null,"OFFLINE","OFFLINE",{"$nulls":8},"YES",null,"NO","NO","NO",{"$nulls":4},""]
[{"$f":"IF(F161=\"\",\"\",F161&\"_\"&COUNTIF($F$9:F161,F161))","v":"9_16"},{"$f":"IF(STUDATA!B158=\"\",\"\",STUDATA!B158)","v":153},{"$f":"IF(STUDATA!E158=\"\",\"\",STUDATA!E158)","v":"abc153"},{"$f":"IF(STUDATA!F158=\"\",\"\",STUDATA!F158)","v":"xyz153"},{"$f":"IF(STUDATA!G158=\"\",\"\",STUDATA!G158)","v":"F"},{"$f":"IF(STUDATA!C158=\"\",\"\",STUDATA!C158)","v":9},"NO","NO","NO","YES","NO","NO",{"$nulls":4},"NO","NO",null,"OFFLINE","OFFLINE","OFFLINE",null,null,"OFFLINE","OFFLINE",{"$nulls":8},"YES",null,"NO","YES","YES",{"$nulls":4},""]
[{"$f":"IF(F162=\"\",\"\",F162&\"_\"&COUNTIF($F$9:F162,F162))","v":"9_17"},{"$f":"IF(STUDATA!B159=\"\",\"\",STUDATA!B159)","v":154},{"$f":"IF(STUDATA!E159=\"\",\"\",STUDATA!E159)","v":"abc154"},{"$f":"IF(STUDATA!F159=\"\",\"\",STUDATA!F159)","v":"xyz154"},{"$f":"IF(STUDATA!G159=\"\",\"\",STUDATA!G159)","v":"M"},{"$f":"IF(STUDATA!C159=\"\",\"\",STUDATA!C159)","v":9},"YES","NO","NO","NO","YES","YES",{"$nulls":4},"NO","NO",null,"ONLINE","ONLINE","ONLINE",null,null,"OFFLINE","OFFLINE",{"$nulls":8},"YES",null,"NO","YES","YES",{"$nulls":4},""]
[{"$f":"IF(F163=\"\",\"\",F163&\"_\"&COUNTIF($F$9:F163,F163))","v":"9_18"},{"$f":"IF(STUDATA!B160=\"\",\"\",STUDATA!B160)","v":155},{"$f":"IF(STUDATA!E160=\"\",\"\",STUDATA!E160)","v":"abc155"},{"$f":"IF(STUDATA!F160=\"\",\"\",STUDATA!F160)","v":"xyz155"},{"$f":"IF(STUDATA!G160=\"\",\"\",STUDATA!G160)","v":"M"},{"$f":"IF(STUDATA!C160=\"\",\"\",STUDATA!C160)","v":9},"YES","NO","NO","NO","NO","NO",{"$nulls":4},"NO","NO",null,"ONLINE","ONLINE","ONLINE",null,null,"OFFLINE","OFFLINE",{"$nulls":8},"YES",null,"NO","YES","YES",{"$nulls":4},""]
[{"$f":"IF(F164=\"\",\"\",F164&\"_\"&COUNTIF($F$9:F164,F164))","v":"9_19"},{"$f":"IF(STUDATA!B161=\"\",\"\",STUDATA!B161)","v":156},{"$f":"IF(STUDATA!E161=\"\",\"\",STUDATA!E161)","v":"abc156"},{"$f":"IF(STUDATA!F161=\"\",\"\",STUDATA!F161)","v":"xyz156"},{"$f":"IF(STUDATA!G161=\"\",\"\",STUDATA!G161)","v":"M"},{"$f":"IF(STUDATA!C161=\"\",\"\",STUDATA!C161)","v":9},"YES","NO","NO","NO","NO","NO",{"$nulls":4},"NO","NO",null,"ONLINE","ONLINE","ONLINE",null,null,"OFFLINE","OFFLINE",{"$nulls":8},"YES",null,"NO","YES","YES",{"$nulls":4},""]
[{"$f":"IF(F165=\"\",\"\",F165&\"_\"&COUNTIF($F$9:F165,F165))","v":"9_20"},{"$f":"IF(STUDATA!B162=\"\",\"\",STUDATA!B162)","v":157},{"$f":"IF(STUDATA!E162=\"\",\"\",STUDATA!E162)","v":"abc157"},{"$f":"IF(STUDATA!F162=\"\",\"\",STUDATA!F162)","v":"xyz157"},{"$f":"IF(STUDATA!G162=\"\",\"\",STUDATA!G162)","v":"F"},{"$f":"IF(STUDATA!C162=\"\",\"\",STUDATA!C162)","v":9},"NO","NO","NO","YES","YES","YES",{"$nulls":4},"NO","NO",null,"OFFLINE","OFFLINE","OFFLINE",null,null,"OFFLINE","OFFLINE",{"$nulls":8},"YES",null,"NO","YES","YES",{"$nulls":4},""]
[{"$f":"IF(F166=\"\",\"\",F166&\"_\"&COUNTIF($F$9:F166,F166))","v":"9_21"},{"$f":"IF(STUDATA!B163=\"\",\"\",STUDATA!B163)","v":158},{"$f":"IF(STUDATA!E163=\"\",\"\",STUDATA!E163)","v":"abc158"},{"$f":"IF(STUDATA!F163=\"\",\"\",STUDATA!F163)","v":"xyz158"},{"$f":"IF(STUDATA!G163=\"\",\"\",STUDATA!G163)","v":"F"},{"$f":"IF(STUDATA!C163=\"\",\"\",STUDATA!C163)","v":9},"YES","NO","NO","NO","YES","YES",{"$nulls":4},"NO","NO",null,"ONLINE","ONLINE","ONLINE",null,null,"OFFLINE","OFFLINE",{"$nulls":8},"YES",null,"NO","YES","YES",{"$nulls":4},""]
[{"$f":"IF(F167=\"\",\"\",F167&\"_\"&COUNTIF($F$9:F167,F167))","v":"9_22"},{"$f":"IF(STUDATA!B164=\"\",\"\",STUDATA!B164)","v":159},{"$f":"IF(STUDATA!E164=\"\",\"\",STUDATA!E164)","v":"abc159"},{"$f":"IF(STUDATA!F164=\"\",\"\",STUDATA!F164)","v":"xyz159"},{"$f":"IF(STUDATA!G164=\"\",\"\",STUDATA!G164)","v":"F"},{"$f":"IF(STUDATA!C164=\"\",\"\",STUDATA!C164)","v":9},"YES","NO","NO","NO","YES","YES",{"$nulls":4},"NO","NO",null,"ONLINE","ONLINE","ONLINE",null,null,"OFFLINE","OFFLINE",{"$nulls":8},"YES",null,"NO","YES","YES",{"$nulls":4},""]
[{"$f":"IF(F168=\"\",\"\",F168&\"_\"&COUNTIF($F$9:F168,F168))","v":"10_1"},{"$f":"IF(STUDATA!B165=\"\",\"\",STUDATA!B165)","v":160},{"$f":"IF(STUDATA!E165=\"\",\"\",STUDATA!E165)","v":"abc160"},{"$f":"IF(STUDATA!F165=\"\",\"\",STUDATA!F165)","v":"xyz160"},{"$f":"IF(STUDATA!G165=\"\",\"\",STUDATA!G165)","v":"M"},{"$f":"IF(STUDATA!C165=\"\",\"\",STUDATA!C165)","v":10},{"$nulls":37},""]
[{"$f":"IF(F169=\"\",\"\",F169&\"_\"&COUNTIF($F$9:F169,F169))","v":"10_2"},{"$f":"IF(STUDATA!B166=\"\",\"\",STUDATA!B166)","v":161},{"$f":"IF(STUDATA!E166=\"\",\"\",STUDATA!E166)","v":"abc161"},{"$f":"IF(STUDATA!F166=\"\",\"\",STUDATA!F166)","v":"xyz161"},{"$f":"IF(STUDATA!G166=\"\",\"\",STUDATA!G166)","v":"M"},{"$f":"IF(STUDATA!C166=\"\",\"\",STUDATA!C166)","v":10},{"$nulls":37},""]
[{"$f":"IF(F170=\"\",\"\",F170&\"_\"&COUNTIF($F$9:F170,F170))","v":"10_3"},{"$f":"IF(STUDATA!B167=\"\",\"\",STUDATA!B167)","v":162},{"$f":"IF(STUDATA!E167=\"\",\"\",STUDATA!E167)","v":"abc162"},{"$f":"IF(STUDATA!F167=\"\",\"\",STUDATA!F167)","v":"xyz162"},{"$f":"IF(STUDATA!G167=\"\",\"\",STUDATA!G167)","v":"F"},{"$f":"IF(STUDATA!C167=\"\",\"\",STUDATA!C167)","v":10},{"$nulls":37},""]
[{"$f":"IF(F171=\"\",\"\",F171&\"_\"&COUNTIF($F$9:F171,F171))","v":"10_4"},{"$f":"IF(STUDATA!B168=\"\",\"\",STUDATA!B168)","v":163},{"$f":"IF(STUDATA!E168=\"\",\"\",STUDATA!E168)","v":"abc163"},{"$f":"IF(STUDATA!F168=\"\",\"\",STUDATA!F168)","v":"xyz163"},{"$f":"IF(STUDATA!G168=\"\",\"\",STUDATA!G168)","v":"M"},{"$f":"IF(STUDATA!C168=\"\",\"\",STUDATA!C168)","v":10},{"$nulls":37},""]
[{"$f":"IF(F172=\"\",\"\",F172&\"_\"&COUNTIF($F$9:F172,F172))","v":"10_5"},{"$f":"IF(STUDATA!B169=\"\",\"\",STUDATA!B169)","v":164},{"$f":"IF(STUDATA!E169=\"\",\"\",STUDATA!E169)","v":"abc164"},{"$f":"IF(STUDATA!F169=\"\",\"\",STUDATA!F169)","v":"xyz164"},{"$f":"IF(STUDATA!G169=\"\",\"\",STUDATA!G169)","v":"F"},{"$f":"IF(STUDATA!C169=\"\",\"\",STUDATA!C169)","v":10},{"$nulls":37},""]
[{"$f":"IF(F173=\"\",\"\",F173&\"_\"&COUNTIF($F$9:F173,F173))","v":"10_6"},{"$f":"IF(STUDATA!B170=\"\",\"\",STUDATA!B170)","v":165},{"$f":"IF(STUDATA!E170=\"\",\"\",STUDATA!E170)","v":"abc165"},{"$f":"IF(STUDATA!F170=\"\",\"\",STUDATA!F170)","v":"xyz165"},{"$f":"IF(STUDATA!G170=\"\",\"\",STUDATA!G170)","v":"M"},{"$f":"IF(STUDATA!C170=\"\",\"\",STUDATA!C170)","v":10},{"$nulls":37},""]
[{"$f":"IF(F174=\"\",\"\",F174&\"_\"&COUNTIF($F$9:F174,F174))","v":"10_7"},{"$f":"IF(STUDATA!B171=\"\",\"\",STUDATA!B171)","v":166},{"$f":"IF(STUDATA!E171=\"\",\"\",STUDATA!E171)","v":"abc166"},{"$f":"IF(STUDATA!F171=\"\",\"\",STUDATA!F171)","v":"xyz166"},{"$f":"IF(STUDATA!G171=\"\",\"\",STUDATA!G171)","v":"M"},{"$f":"IF(STUDATA!C171=\"\",\"\",STUDATA!C171)","v":10},{"$nulls":37},""]
[{"$f":"IF(F175=\"\",\"\",F175&\"_\"&COUNTIF($F$9:F175,F175))","v":"10_8"},{"$f":"IF(STUDATA!B172=\"\",\"\",STUDATA!B172)","v":167},{"$f":"IF(STUDATA!E172=\"\",\"\",STUDATA!E172)","v":"abc167"},{"$f":"IF(STUDATA!F172=\"\",\"\",STUDATA!F172)","v":"xyz167"},{"$f":"IF(STUDATA!G172=\"\",\"\",STUDATA!G172)","v":"M"},{"$f":"IF(STUDATA!C172=\"\",\"\",STUDATA!C172)","v":10},{"$nulls":37},""]
[{"$f":"IF(F176=\"\",\"\",F176&\"_\"&COUNTIF($F$9:F176,F176))","v":"10_9"},{"$f":"IF(STUDATA!B173=\"\",\"\",STUDATA!B173)","v":168},{"$f":"IF(STUDATA!E173=\"\",\"\",STUDATA!E173)","v":"abc168"},{"$f":"IF(STUDATA!F173=\"\",\"\",STUDATA!F173)","v":"xyz168"},{"$f":"IF(STUDATA!G173=\"\",\"\",STUDATA!G173)","v":"M"},{"$f":"IF(STUDATA!C173=\"\",\"\",STUDATA!C173)","v":10},{"$nulls":37},""]
[{"$f":"IF(F177=\"\",\"\",F177&\"_\"&COUNTIF($F$9:F177,F177))","v":"10_10"},{"$f":"IF(STUDATA!B174=\"\",\"\",STUDATA!B174)","v":169},{"$f":"IF(STUDATA!E174=\"\",\"\",STUDATA!E174)","v":"abc169"},{"$f":"IF(STUDATA!F174=\"\",\"\",STUDATA!F174)","v":"xyz169"},{"$f":"IF(STUDATA!G174=\"\",\"\",STUDATA!G174)","v":"M"},{"$f":"IF(STUDATA!C174=\"\",\"\",STUDATA!C174)","v":10},{"$nulls":37},""]
[{"$f":"IF(F178=\"\",\"\",F178&\"_\"&COUNTIF($F$9:F178,F178))","v":"10_11"},{"$f":"IF(STUDATA!B175=\"\",\"\",STUDATA!B175)","v":170},{"$f":"IF(STUDATA!E175=\"\",\"\",STUDATA!E175)","v":"abc170"},{"$f":"IF(STUDATA!F175=\"\",\"\",STUDATA!F175)","v":"xyz170"},{"$f":"IF(STUDATA!G175=\"\",\"\",STUDATA!G175)","v":"F"},{"$f":"IF(STUDATA!C175=\"\",\"\",STUDATA!C175)","v":10},{"$nulls":37},""]
[{"$f":"IF(F179=\"\",\"\",F179&\"_\"&COUNTIF($F$9:F179,F179))","v":"10_12"},{"$f":"IF(STUDATA!B176=\"\",\"\",STUDATA!B176)","v":171},{"$f":"IF(STUDATA!E176=\"\",\"\",STUDATA!E176)","v":"abc171"},{"$f":"IF(STUDATA!F176=\"\",\"\",STUDATA!F176)","v":"xyz171"},{"$f":"IF(STUDATA!G176=\"\",\"\",STUDATA!G176)","v":"M"},{"$f":"IF(STUDATA!C176=\"\",\"\",STUDATA!C176)","v":10},{"$nulls":37},""]
[{"$f":"IF(F180=\"\",\"\",F180&\"_\"&COUNTIF($F$9:F180,F180))","v":"10_13"},{"$f":"IF(STUDATA!B177=\"\",\"\",STUDATA!B177)","v":172},{"$f":"IF(STUDATA!E177=\"\",\"\",STUDATA!E177)","v":"abc172"},{"$f":"IF(STUDATA!F177=\"\",\"\",STUDATA!F177)","v":"xyz172"},{"$f":"IF(STUDATA!G177=\"\",\"\",STUDATA!G177)","v":"M"},{"$f":"IF(STUDATA!C177=\"\",\"\",STUDATA!C177)","v":10},{"$nulls":37},""]
[{"$f":"IF(F181=\"\",\"\",F181&\"_\"&COUNTIF($F$9:F181,F181))","v":"10_14"},{"$f":"IF(STUDATA!B178=\"\",\"\",STUDATA!B178)","v":173},{"$f":"IF(STUDATA!E178=\"\",\"\",STUDATA!E178)","v":"abc173"},{"$f":"IF(STUDATA!F178=\"\",\"\",STUDATA!F178)","v":"xyz173"},{"$f":"IF(STUDATA!G178=\"\",\"\",STUDATA!G178)","v":"M"},{"$f":"IF(STUDATA!C178=\"\",\"\",STUDATA!C178)","v":10},{"$nulls":37},""]
[{"$f":"IF(F182=\"\",\"\",F182&\"_\"&COUNTIF($F$9:F182,F182))","v":"10_15"},{"$f":"IF(STUDATA!B179=\"\",\"\",STUDATA!B179)","v":174},{"$f":"IF(STUDATA!E179=\"\",\"\",STUDATA!E179)","v":"abc174"},{"$f":"IF(STUDATA!F179=\"\",\"\",STUDATA!F179)","v":"xyz174"},{"$f":"IF(STUDATA!G179=\"\",\"\",STUDATA!G179)","v":"F"},{"$f":"IF(STUDATA!C179=\"\",\"\",STUDATA!C179)","v":10},{"$nulls":37},""]
[{"$f":"IF(F183=\"\",\"\",F183&\"_\"&COUNTIF($F$9:F183,F183))","v":"10_16"},{"$f":"IF(STUDATA!B180=\"\",\"\",STUDATA!B180)","v":175},{"$f":"IF(STUDATA!E180=\"\",\"\",STUDATA!E180)","v":"abc175"},{"$f":"IF(STUDATA!F180=\"\",\"\",STUDATA!F180)","v":"xyz175"},{"$f":"IF(STUDATA!G180=\"\",\"\",STUDATA!G180)","v":"F"},{"$f":"IF(STUDATA!C180=\"\",\"\",STUDATA!C180)","v":10},{"$nulls":37},""]
[{"$f":"IF(F184=\"\",\"\",F184&\"_\"&COUNTIF($F$9:F184,F184))","v":"10_17"},{"$f":"IF(STUDATA!B181=\"\",\"\",STUDATA!B181)","v":176},{"$f":"IF(STUDATA!E181=\"\",\"\",STUDATA!E181)","v":"abc176"},{"$f":"IF(STUDATA!F181=\"\",\"\",STUDATA!F181)","v":"xyz176"},{"$f":"IF(STUDATA!G181=\"\",\"\",STUDATA!G181)","v":"F"},{"$f":"IF(STUDATA!C181=\"\",\"\",STUDATA!C181)","v":10},{"$nulls":37},""]
[{"$f":"IF(F185=\"\",\"\",F185&\"_\"&COUNTIF($F$9:F185,F185))","v":"10_18"},{"$f":"IF(STUDATA!B182=\"\",\"\",STUDATA!B182)","v":177},{"$f":"IF(STUDATA!E182=\"\",\"\",STUDATA!E182)","v":"abc177"},{"$f":"IF(STUDATA!F182=\"\",\"\",STUDATA!F182)","v":"xyz177"},{"$f":"IF(STUDATA!G182=\"\",\"\",STUDATA!G182)","v":"F"},{"$f":"IF(STUDATA!C182=\"\",\"\",STUDATA!C182)","v":10},{"$nulls":37},""]
[{"$f":"IF(F186=\"\",\"\",F186&\"_\"&COUNTIF($F$9:F186,F186))","v":"10_19"},{"$f":"IF(STUDATA!B183=\"\",\"\",STUDATA!B183)","v":178},{"$f":"IF(STUDATA!E183=\"\",\"\",STUDATA!E183)","v":"abc178"},{"$f":"IF(STUDATA!F183=\"\",\"\",STUDATA!F183)","v":"xyz178"},{"$f":"IF(STUDATA!G183=\"\",\"\",STUDATA!G183)","v":"M"},{"$f":"IF(STUDATA!C183=\"\",\"\",STUDATA!C183)","v":10},{"$nulls":37},""]
[{"$f":"IF(F187=\"\",\"\",F187&\"_\"&COUNTIF($F$9:F187,F187))","v":"10_20"},{"$f":"IF(STUDATA!B184=\"\",\"\",STUDATA!B184)","v":179},{"$f":"IF(STUDATA!E184=\"\",\"\",STUDATA!E184)","v":"abc179"},{"$f":"IF(STUDATA!F184=\"\",\"\",STUDATA!F184)","v":"xyz179"},{"$f":"IF(STUDATA!G184=\"\",\"\",STUDATA!G184)","v":"F"},{"$f":"IF(STUDATA!C184=\"\",\"\",STUDATA!C184)","v":10},{"$nulls":37},""]
[{"$f":"IF(F188=\"\",\"\",F188&\"_\"&COUNTIF($F$9:F188,F188))","v":"10_21"},{"$f":"IF(STUDATA!B185=\"\",\"\",STUDATA!B185)","v":180},{"$f":"IF(STUDATA!E185=\"\",\"\",STUDATA!E185)","v":"abc180"},{"$f":"IF(STUDATA!F185=\"\",\"\",STUDATA!F185)","v":"xyz180"},{"$f":"IF(STUDATA!G185=\"\",\"\",STUDATA!G185)","v":"F"},{"$f":"IF(STUDATA!C185=\"\",\"\",STUDATA!C185)","v":10},{"$nulls":37},""]
[{"$f":"IF(F189=\"\",\"\",F189&\"_\"&COUNTIF($F$9:F189,F189))","v":"10_22"},{"$f":"IF(STUDATA!B186=\"\",\"\",STUDATA!B186)","v":181},{"$f":"IF(STUDATA!E186=\"\",\"\",STUDATA!E186)","v":"abc181"},{"$f":"IF(STUDATA!F186=\"\",\"\",STUDATA!F186)","v":"xyz181"},{"$f":"IF(STUDATA!G186=\"\",\"\",STUDATA!G186)","v":"F"},{"$f":"IF(STUDATA!C186=\"\",\"\",STUDATA!C186)","v":10},{"$nulls":37},""]
[{"$f":"IF(F190=\"\",\"\",F190&\"_\"&COUNTIF($F$9:F190,F190))","v":"10_23"},{"$f":"IF(STUDATA!B187=\"\",\"\",STUDATA!B187)","v":182},{"$f":"IF(STUDATA!E187=\"\",\"\",STUDATA!E187)","v":"abc182"},{"$f":"IF(STUDATA!F187=\"\",\"\",STUDATA!F187)","v":"xyz182"},{"$f":"IF(STUDATA!G187=\"\",\"\",STUDATA!G187)","v":"F"},{"$f":"IF(STUDATA!C187=\"\",\"\",STUDATA!C187)","v":10},{"$nulls":37},""]
[{"$f":"IF(F191=\"\",\"\",F191&\"_\"&COUNTIF($F$9:F191,F191))","v":"10_24"},{"$f":"IF(STUDATA!B188=\"\",\"\",STUDATA!B188)","v":183},{"$f":"IF(STUDATA!E188=\"\",\"\",STUDATA!E188)","v":"abc183"},{"$f":"IF(STUDATA!F188=\"\",\"\",STUDATA!F188)","v":"xyz183"},{"$f":"IF(STUDATA!G188=\"\",\"\",STUDATA!G188)","v":"M"},{"$f":"IF(STUDATA!C188=\"\",\"\",STUDATA!C188)","v":10},{"$nulls":37},""]
[{"$f":"IF(F192=\"\",\"\",F192&\"_\"&COUNTIF($F$9:F192,F192))","v":"10_25"},{"$f":"IF(STUDATA!B189=\"\",\"\",STUDATA!B189)","v":184},{"$f":"IF(STUDATA!E189=\"\",\"\",STUDATA!E189)","v":"abc184"},{"$f":"IF(STUDATA!F189=\"\",\"\",STUDATA!F189)","v":"xyz184"},{"$f":"IF(STUDATA!G189=\"\",\"\",STUDATA!G189)","v":"M"},{"$f":"IF(STUDATA!C189=\"\",\"\",STUDATA!C189)","v":10},{"$nulls":37},""]
[{"$f":"IF(F193=\"\",\"\",F193&\"_\"&COUNTIF($F$9:F193,F193))","v":"10_26"},{"$f":"IF(STUDATA!B190=\"\",\"\",STUDATA!B190)","v":185},{"$f":"IF(STUDATA!E190=\"\",\"\",STUDATA!E190)","v":"abc185"},{"$f":"IF(STUDATA!F190=\"\",\"\",STUDATA!F190)","v":"xyz185"},{"$f":"IF(STUDATA!G190=\"\",\"\",STUDATA!G190)","v":"F"},{"$f":"IF(STUDATA!C190=\"\",\"\",STUDATA!C190)","v":10},{"$nulls":37},""]
[{"$f":"IF(F194=\"\",\"\",F194&\"_\"&COUNTIF($F$9:F194,F194))","v":"10_27"},{"$f":"IF(STUDATA!B191=\"\",\"\",STUDATA!B191)","v":186},{"$f":"IF(STUDATA!E191=\"\",\"\",STUDATA!E191)","v":"abc186"},{"$f":"IF(STUDATA!F191=\"\",\"\",STUDATA!F191)","v":"xyz186"},{"$f":"IF(STUDATA!G191=\"\",\"\",STUDATA!G191)","v":"M"},{"$f":"IF(STUDATA!C191=\"\",\"\",STUDATA!C191)","v":10},{"$nulls":37},""]
[{"$f":"IF(F195=\"\",\"\",F195&\"_\"&COUNTIF($F$9:F195,F195))","v":"10_28"},{"$f":"IF(STUDATA!B192=\"\",\"\",STUDATA!B192)","v":187},{"$f":"IF(STUDATA!E192=\"\",\"\",STUDATA!E192)","v":"abc187"},{"$f":"IF(STUDATA!F192=\"\",\"\",STUDATA!F192)","v":"xyz187"},{"$f":"IF(STUDATA!G192=\"\",\"\",STUDATA!G192)","v":"F"},{"$f":"IF(STUDATA!C192=\"\",\"\",STUDATA!C192)","v":10},{"$nulls":37},""]
[{"$f":"IF(F196=\"\",\"\",F196&\"_\"&COUNTIF($F$9:F196,F196))","v":"10_29"},{"$f":"IF(STUDATA!B193=\"\",\"\",STUDATA!B193)","v":188},{"$f":"IF(STUDATA!E193=\"\",\"\",STUDATA!E193)","v":"abc188"},{"$f":"IF(STUDATA!F193=\"\",\"\",STUDATA!F193)","v":"xyz188"},{"$f":"IF(STUDATA!G193=\"\",\"\",STUDATA!G193)","v":"F"},{"$f":"IF(STUDATA!C193=\"\",\"\",STUDATA!C193)","v":10},{"$nulls":37},""]
[{"$f":"IF(F197=\"\",\"\",F197&\"_\"&COUNTIF($F$9:F197,F197))","v":"10_30"},{"$f":"IF(STUDATA!B194=\"\",\"\",STUDATA!B194)","v":189},{"$f":"IF(STUDATA!E194=\"\",\"\",STUDATA!E194)","v":"abc189"},{"$f":"IF(STUDATA!F194=\"\",\"\",STUDATA!F194)","v":"xyz189"},{"$f":"IF(STUDATA!G194=\"\",\"\",STUDATA!G194)","v":"F"},{"$f":"IF(STUDATA!C194=\"\",\"\",STUDATA!C194)","v":10},{"$nulls":37},""]
[{"$f":"IF(F198=\"\",\"\",F198&\"_\"&COUNTIF($F$9:F198,F198))","v":"10_31"},{"$f":"IF(STUDATA!B195=\"\",\"\",STUDATA!B195)","v":190},{"$f":"IF(STUDATA!E195=\"\",\"\",STUDATA!E195)","v":"abc190"},{"$f":"IF(STUDATA!F195=\"\",\"\",STUDATA!F195)","v":"xyz190"},{"$f":"IF(STUDATA!G195=\"\",\"\",STUDATA!G195)","v":"M"},{"$f":"IF(STUDATA!C195=\"\",\"\",STUDATA!C195)","v":10},{"$nulls":37},""]
[{"$f":"IF(F199=\"\",\"\",F199&\"_\"&COUNTIF($F$9:F199,F199))","v":"10_32"},{"$f":"IF(STUDATA!B196=\"\",\"\",STUDATA!B196)","v":191},{"$f":"IF(STUDATA!E196=\"\",\"\",STUDATA!E196)","v":"abc191"},{"$f":"IF(STUDATA!F196=\"\",\"\",STUDATA!F196)","v":"xyz191"},{"$f":"IF(STUDATA!G196=\"\",\"\",STUDATA!G196)","v":"F"},{"$f":"IF(STUDATA!C196=\"\",\"\",STUDATA!C196)","v":10},{"$nulls":37},""]
[{"$f":"IF(F200=\"\",\"\",F200&\"_\"&COUNTIF($F$9:F200,F200))","v":"10_33"},{"$f":"IF(STUDATA!B197=\"\",\"\",STUDATA!B197)","v":192},{"$f":"IF(STUDATA!E197=\"\",\"\",STUDATA!E197)","v":"abc192"},{"$f":"IF(STUDATA!F197=\"\",\"\",STUDATA!F197)","v":"xyz192"},{"$f":"IF(STUDATA!G197=\"\",\"\",STUDATA!G197)","v":"F"},{"$f":"IF(STUDATA!C197=\"\",\"\",STUDATA!C197)","v":10},{"$nulls":37},""]
[{"$f":"IF(F201=\"\",\"\",F201&\"_\"&COUNTIF($F$9:F201,F201))","v":"10_34"},{"$f":"IF(STUDATA!B198=\"\",\"\",STUDATA!B198)","v":193},{"$f":"IF(STUDATA!E198=\"\",\"\",STUDATA!E198)","v":"abc193"},{"$f":"IF(STUDATA!F198=\"\",\"\",STUDATA!F198)","v":"xyz193"},{"$f":"IF(STUDATA!G198=\"\",\"\",STUDATA!G198)","v":"M"},{"$f":"IF(STUDATA!C198=\"\",\"\",STUDATA!C198)","v":10},{"$nulls":37},""]
[{"$f":"IF(F202=\"\",\"\",F202&\"_\"&COUNTIF($F$9:F202,F202))","v":"10_35"},{"$f":"IF(STUDATA!B199=\"\",\"\",STUDATA!B199)","v":194},{"$f":"IF(STUDATA!E199=\"\",\"\",STUDATA!E199)","v":"abc194"},{"$f":"IF(STUDATA!F199=\"\",\"\",STUDATA!F199)","v":"xyz194"},{"$f":"IF(STUDATA!G199=\"\",\"\",STUDATA!G199)","v":"F"},{"$f":"IF(STUDATA!C199=\"\",\"\",STUDATA!C199)","v":10},{"$nulls":37},{"$f":"IF(S202=\"\",\"\",IF(S202=\"NO\",0,1))","v":""}]
[{"$f":"IF(F203=\"\",\"\",F203&\"_\"&COUNTIF($F$9:F203,F203))","v":"10_36"},{"$f":"IF(STUDATA!B200=\"\",\"\",STUDATA!B200)","v":195},{"$f":"IF(STUDATA!E200=\"\",\"\",STUDATA!E200)","v":"abc195"},{"$f":"IF(STUDATA!F200=\"\",\"\",STUDATA!F200)","v":"xyz195"},{"$f":"IF(STUDATA!G200=\"\",\"\",STUDATA!G200)","v":"F"},{"$f":"IF(STUDATA!C200=\"\",\"\",STUDATA!C200)","v":10},{"$nulls":37},""]
[{"$f":"IF(F204=\"\",\"\",F204&\"_\"&COUNTIF($F$9:F204,F204))","v":"10_37"},{"$f":"IF(STUDATA!B201=\"\",\"\",STUDATA!B201)","v":196},{"$f":"IF(STUDATA!E201=\"\",\"\",STUDATA!E201)","v":"abc196"},{"$f":"IF(STUDATA!F201=\"\",\"\",STUDATA!F201)","v":"xyz196"},{"$f":"IF(STUDATA!G201=\"\",\"\",STUDATA!G201)","v":"M"},{"$f":"IF(STUDATA!C201=\"\",\"\",STUDATA!C201)","v":10},{"$nulls":37},""]
[{"$f":"IF(F205=\"\",\"\",F205&\"_\"&COUNTIF($F$9:F205,F205))","v":"10_38"},{"$f":"IF(STUDATA!B202=\"\",\"\",STUDATA!B202)","v":197},{"$f":"IF(STUDATA!E202=\"\",\"\",STUDATA!E202)","v":"abc197"},{"$f":"IF(STUDATA!F202=\"\",\"\",STUDATA!F202)","v":"xyz197"},{"$f":"IF(STUDATA!G202=\"\",\"\",STUDATA!G202)","v":"M"},{"$f":"IF(STUDATA!C202=\"\",\"\",STUDATA!C202)","v":10},{"$nulls":37},""]
[{"$f":"IF(F206=\"\",\"\",F206&\"_\"&COUNTIF($F$9:F206,F206))","v":"10_39"},{"$f":"IF(STUDATA!B203=\"\",\"\",STUDATA!B203)","v":198},{"$f":"IF(STUDATA!E203=\"\",\"\",STUDATA!E203)","v":"abc198"},{"$f":"IF(STUDATA!F203=\"\",\"\",STUDATA!F203)","v":"xyz198"},{"$f":"IF(STUDATA!G203=\"\",\"\",STUDATA!G203)","v":"M"},{"$f":"IF(STUDATA!C203=\"\",\"\",STUDATA!C203)","v":10},{"$nulls":37},""]
[{"$f":"IF(F207=\"\",\"\",F207&\"_\"&COUNTIF($F$9:F207,F207))","v":"12_1"},{"$f":"IF(STUDATA!B204=\"\",\"\",STUDATA!B204)","v":199},{"$f":"IF(STUDATA!E204=\"\",\"\",STUDATA!E204)","v":"abc199"},{"$f":"IF(STUDATA!F204=\"\",\"\",STUDATA!F204)","v":"xyz199"},{"$f":"IF(STUDATA!G204=\"\",\"\",STUDATA!G204)","v":"F"},{"$f":"IF(STUDATA!C204=\"\",\"\",STUDATA!C204)","v":12},"YES","NO","NO","NO","YES","YES",{"$nulls":4},"NO","NO",null,"ONLINE","ONLINE",{"$nulls":3},"ONLINE","ONLINE",{"$nulls":8},"YES",null,"NO","YES",{"$nulls":5},""]
[{"$f":"IF(F208=\"\",\"\",F208&\"_\"&COUNTIF($F$9:F208,F208))","v":"12_2"},{"$f":"IF(STUDATA!B205=\"\",\"\",STUDATA!B205)","v":200},{"$f":"IF(STUDATA!E205=\"\",\"\",STUDATA!E205)","v":"abc200"},{"$f":"IF(STUDATA!F205=\"\",\"\",STUDATA!F205)","v":"xyz200"},{"$f":"IF(STUDATA!G205=\"\",\"\",STUDATA!G205)","v":"M"},{"$f":"IF(STUDATA!C205=\"\",\"\",STUDATA!C205)","v":12},"YES","NO","NO","NO","YES","YES",{"$nulls":4},"NO","NO",null,"ONLINE","ONLINE",{"$nulls":3},"ONLINE","ONLINE",{"$nulls":8},"YES",null,"NO","YES","YES",{"$nulls":4},""]
[{"$f":"IF(F209=\"\",\"\",F209&\"_\"&COUNTIF($F$9:F209,F209))","v":"12_3"},{"$f":"IF(STUDATA!B206=\"\",\"\",STUDATA!B206)","v":201},{"$f":"IF(STUDATA!E206=\"\",\"\",STUDATA!E206)","v":"abc201"},{"$f":"IF(STUDATA!F206=\"\",\"\",STUDATA!F206)","v":"xyz201"},{"$f":"IF(STUDATA!G206=\"\",\"\",STUDATA!G206)","v":"F"},{"$f":"IF(STUDATA!C206=\"\",\"\",STUDATA!C206)","v":12},"YES","NO","NO","NO","YES","YES",{"$nulls":4},"NO","NO",null,"ONLINE","ONLINE",{"$nulls":3},"ONLINE","ONLINE",{"$nulls":8},"YES",null,"NO","YES","YES",{"$nulls":4},""]
[{"$f":"IF(F210=\"\",\"\",F210&\"_\"&COUNTIF($F$9:F210,F210))","v":"12_4"},{"$f":"IF(STUDATA!B207=\"\",\"\",STUDATA!B207)","v":202},{"$f":"IF(STUDATA!E207=\"\",\"\",STUDATA!E207)","v":"abc202"},{"$f":"IF(STUDATA!F207=\"\",\"\",STUDATA!F207)","v":"xyz202"},{"$f":"IF(STUDATA!G207=\"\",\"\",STUDATA!G207)","v":"M"},{"$f":"IF(STUDATA!C207=\"\",\"\",STUDATA!C207)","v":12},"YES","NO","NO","NO","YES","YES",{"$nulls":4},"NO","NO",null,"ONLINE","ONLINE",{"$nulls":3},"ONLINE","ONLINE",{"$nulls":8},"YES",null,"NO","YES","YES",{"$nulls":4},""]
[{"$f":"IF(F211=\"\",\"\",F211&\"_\"&COUNTIF($F$9:F211,F211))","v":"12_5"},{"$f":"IF(STUDATA!B208=\"\",\"\",STUDATA!B208)","v":203},{"$f":"IF(STUDATA!E208=\"\",\"\",STUDATA!E208)","v":"abc203"},{"$f":"IF(STUDATA!F208=\"\",\"\",STUDATA!F208)","v":"xyz203"},{"$f":"IF(STUDATA!G208=\"\",\"\",STUDATA!G208)","v":"M"},{"$f":"IF(STUDATA!C208=\"\",\"\",STUDATA!C208)","v":12},"YES","NO","NO","NO","YES","YES",{"$nulls":4},"NO","NO",null,"ONLINE","ONLINE",{"$nulls":3},"ONLINE","ONLINE",{"$nulls":8},"YES",null,"NO","YES","YES",{"$nulls":4},""]
[{"$f":"IF(F212=\"\",\"\",F212&\"_\"&COUNTIF($F$9:F212,F212))","v":"12_6"},{"$f":"IF(STUDATA!B209=\"\",\"\",STUDATA!B209)","v":204},{"$f":"IF(STUDATA!E209=\"\",\"\",STUDATA!E209)","v":"abc204"},{"$f":"IF(STUDATA!F209=\"\",\"\",STUDATA!F209)","v":"xyz204"},{"$f":"IF(STUDATA!G209=\"\",\"\",STUDATA!G209)","v":"M"},{"$f":"IF(STUDATA!C209=\"\",\"\",STUDATA!C209)","v":12},"YES","NO","NO","NO","YES","YES",{"$nulls":4},"NO","NO",null,"ONLINE","ONLINE",{"$nulls":3},"ONLINE","ONLINE",{"$nulls":8},"YES",null,"NO","YES","YES",{"$nulls":4},""]
[{"$f":"IF(F213=\"\",\"\",F213&\"_\"&COUNTIF($F$9:F213,F213))","v":"12_7"},{"$f":"IF(STUDATA!B210=\"\",\"\",STUDATA!B210)","v":205},{"$f":"IF(STUDATA!E210=\"\",\"\",STUDATA!E210)","v":"abc205"},{"$f":"IF(STUDATA!F210=\"\",\"\",STUDATA!F210)","v":"xyz205"},{"$f":"IF(STUDATA!G210=\"\",\"\",STUDATA!G210)","v":"M"},{"$f":"IF(STUDATA!C210=\"\",\"\",STUDATA!C210)","v":12},"YES","NO","NO","NO","YES","YES",{"$nulls":4},"NO","NO",null,"ONLINE","ONLINE",{"$nulls":3},"ONLINE","ONLINE",{"$nulls":8},"YES",null,"NO","YES","YES",{"$nulls":4},""]
[{"$f":"IF(F214=\"\",\"\",F214&\"_\"&COUNTIF($F$9:F214,F214))","v":"12_8"},{"$f":"IF(STUDATA!B211=\"\",\"\",STUDATA!B211)","v":206},{"$f":"IF(STUDATA!E211=\"\",\"\",STUDATA!E211)","v":"abc206"},{"$f":"IF(STUDATA!F211=\"\",\"\",STUDATA!F211)","v":"xyz206"},{"$f":"IF(STUDATA!G211=\"\",\"\",STUDATA!G211)","v":"F"},{"$f":"IF(STUDATA!C211=\"\",\"\",STUDATA!C211)","v":12},"YES","NO","NO","NO","YES","YES",{"$nulls":4},"NO","NO",null,"ONLINE","ONLINE",{"$nulls":3},"OFFLINE","OFFLINE",{"$nulls":8},"YES",null,"NO","YES","YES",{"$nulls":4},""]
[{"$f":"IF(F215=\"\",\"\",F215&\"_\"&COUNTIF($F$9:F215,F215))","v":"12_9"},{"$f":"IF(STUDATA!B212=\"\",\"\",STUDATA!B212)","v":207},{"$f":"IF(STUDATA!E212=\"\",\"\",STUDATA!E212)","v":"abc207"},{"$f":"IF(STUDATA!F212=\"\",\"\",STUDATA!F212)","v":"xyz207"},{"$f":"IF(STUDATA!G212=\"\",\"\",STUDATA!G212)","v":"F"},{"$f":"IF(STUDATA!C212=\"\",\"\",STUDATA!C212)","v":12},"YES","NO","NO","NO","YES","YES",{"$nulls":4},"NO","NO",null,"ONLINE","ONLINE",{"$nulls":3},"OFFLINE","OFFLINE",{"$nulls":8},"YES",null,"NO","YES","YES",{"$nulls":4},""]
[{"$f":"IF(F216=\"\",\"\",F216&\"_\"&COUNTIF($F$9:F216,F216))","v":"12_10"},{"$f":"IF(STUDATA!B213=\"\",\"\",STUDATA!B213)","v":208},{"$f":"IF(STUDATA!E213=\"\",\"\",STUDATA!E213)","v":"abc208"},{"$f":"IF(STUDATA!F213=\"\",\"\",STUDATA!F213)","v":"xyz208"},{"$f":"IF(STUDATA!G213=\"\",\"\",STUDATA!G213)","v":"M"},{"$f":"IF(STUDATA!C213=\"\",\"\",STUDATA!C213)","v":12},"YES","NO","NO","NO","YES","YES",{"$nulls":4},"NO","NO",null,"ONLINE","ONLINE",{"$nulls":3},"ONLINE","ONLINE",{"$nulls":8},"YES",null,"NO","YES","YES",{"$nulls":4},""]
[{"$f":"IF(F217=\"\",\"\",F217&\"_\"&COUNTIF($F$9:F217,F217))","v":"12_11"},{"$f":"IF(STUDATA!B214=\"\",\"\",STUDATA!B214)","v":209},{"$f":"IF(STUDATA!E214=\"\",\"\",STUDATA!E214)","v":"abc209"},{"$f":"IF(STUDATA!F214=\"\",\"\",STUDATA!F214)","v":"xyz209"},{"$f":"IF(STUDATA!G214=\"\",\"\",STUDATA!G214)","v":"F"},{"$f":"IF(STUDATA!C214=\"\",\"\",STUDATA!C214)","v":12},"YES","NO","NO","NO","YES","YES",{"$nulls":4},"NO","NO",null,"ONLINE","ONLINE",{"$nulls":3},"OFFLINE","OFFLINE",{"$nulls":8},"YES",null,"NO","YES","YES",{"$nulls":4},""]
[{"$f":"IF(F218=\"\",\"\",F218&\"_\"&COUNTIF($F$9:F218,F218))","v":"12_12"},{"$f":"IF(STUDATA!B215=\"\",\"\",STUDATA!B215)","v":210},{"$f":"IF(STUDATA!E215=\"\",\"\",STUDATA!E215)","v":"abc210"},{"$f":"IF(STUDATA!F215=\"\",\"\",STUDATA!F215)","v":"xyz210"},{"$f":"IF(STUDATA!G215=\"\",\"\",STUDATA!G215)","v":"F"},{"$f":"IF(STUDATA!C215=\"\",\"\",STUDATA!C215)","v":12},"YES","NO","NO","NO","YES","YES",{"$nulls":4},"NO","NO",null,"ONLINE","ONLINE",{"$nulls":3},"ONLINE","ONLINE",{"$nulls":8},"YES",null,"NO","YES","YES",{"$nulls":4},""]
[{"$f":"IF(F219=\"\",\"\",F219&\"_\"&COUNTIF($F$9:F219,F219))","v":"12_13"},{"$f":"IF(STUDATA!B216=\"\",\"\",STUDATA!B216)","v":211},{"$f":"IF(STUDATA!E216=\"\",\"\",STUDATA!E216)","v":"abc211"},{"$f":"IF(STUDATA!F216=\"\",\"\",STUDATA!F216)","v":"xyz211"},{"$f":"IF(STUDATA!G216=\"\",\"\",STUDATA!G216)","v":"F"},{"$f":"IF(STUDATA!C216=\"\",\"\",STUDATA!C216)","v":12},"YES","NO","NO","NO","YES","YES",{"$nulls":4},"NO","NO",null,"ONLINE","ONLINE",{"$nulls":3},"ONLINE","ONLINE",{"$nulls":8},"YES",null,"NO","YES","YES",{"$nulls":4},""]
[{"$f":"IF(F220=\"\",\"\",F220&\"_\"&COUNTIF($F$9:F220,F220))","v":"12_14"},{"$f":"IF(STUDATA!B217=\"\",\"\",STUDATA!B217)","v":212},{"$f":"IF(STUDATA!E217=\"\",\"\",STUDATA!E217)","v":"abc212"},{"$f":"IF(STUDATA!F217=\"\",\"\",STUDATA!F217)","v":"xyz212"},{"$f":"IF(STUDATA!G217=\"\",\"\",STUDATA!G217)","v":"M"},{"$f":"IF(STUDATA!C217=\"\",\"\",STUDATA!C217)","v":12},"YES","NO","NO","NO","NO","NO",{"$nulls":4},"NO","NO",null,"ONLINE","ONLINE",{"$nulls":13},"YES",null,"NO","YES","YES",{"$nulls":4},""]
[{"$f":"IF(F221=\"\",\"\",F221&\"_\"&COUNTIF($F$9:F221,F221))","v":"12_15"},{"$f":"IF(STUDATA!B218=\"\",\"\",STUDATA!B218)","v":213},{"$f":"IF(STUDATA!E218=\"\",\"\",STUDATA!E218)","v":"abc213"},{"$f":"IF(STUDATA!F218=\"\",\"\",STUDATA!F218)","v":"xyz213"},{"$f":"IF(STUDATA!G218=\"\",\"\",STUDATA!G218)","v":"F"},{"$f":"IF(STUDATA!C218=\"\",\"\",STUDATA!C218)","v":12},"YES","NO","NO","NO","YES","YES",{"$nulls":4},"NO","NO",null,"ONLINE","ONLINE",{"$nulls":3},"ONLINE","ONLINE",{"$nulls":8},"YES",null,"NO","YES","YES",{"$nulls":4},""]
[{"$f":"IF(F222=\"\",\"\",F222&\"_\"&COUNTIF($F$9:F222,F222))","v":"12_16"},{"$f":"IF(STUDATA!B219=\"\",\"\",STUDATA!B219)","v":214},{"$f":"IF(STUDATA!E219=\"\",\"\",STUDATA!E219)","v":"abc214"},{"$f":"IF(STUDATA!F219=\"\",\"\",STUDATA!F219)","v":"xyz214"},{"$f":"IF(STUDATA!G219=\"\",\"\",STUDATA!G219)","v":"M"},{"$f":"IF(STUDATA!C219=\"\",\"\",STUDATA!C219)","v":12},"YES","NO","NO","NO","YES","YES",{"$nulls":4},"NO","NO",null,"ONLINE","ONLINE",{"$nulls":3},"ONLINE","ONLINE",{"$nulls":8},"YES",null,"NO","YES","YES",{"$nulls":4},""]
[{"$f":"IF(F223=\"\",\"\",F223&\"_\"&COUNTIF($F$9:F223,F223))","v":"12_17"},{"$f":"IF(STUDATA!B220=\"\",\"\",STUDATA!B220)","v":215},{"$f":"IF(STUDATA!E220=\"\",\"\",STUDATA!E220)","v":"abc215"},{"$f":"IF(STUDATA!F220=\"\",\"\",STUDATA!F220)","v":"xyz215"},{"$f":"IF(STUDATA!G220=\"\",\"\",STUDATA!G220)","v":"M"},{"$f":"IF(STUDATA!C220=\"\",\"\",STUDATA!C220)","v":12},"YES","NO","NO","NO","YES","YES",{"$nulls":4},"NO","NO",null,"ONLINE","ONLINE",{"$nulls":3},"ONLINE","ONLINE",{"$nulls":8},"YES",null,"NO","YES","YES",{"$nulls":4},""]
[{"$f":"IF(F224=\"\",\"\",F224&\"_\"&COUNTIF($F$9:F224,F224))","v":"12_18"},{"$f":"IF(STUDATA!B221=\"\",\"\",STUDATA!B221)","v":216},{"$f":"IF(STUDATA!E221=\"\",\"\",STUDATA!E221)","v":"abc216"},{"$f":"IF(STUDATA!F221=\"\",\"\",STUDATA!F221)","v":"xyz216"},{"$f":"IF(STUDATA!G221=\"\",\"\",STUDATA!G221)","v":"F"},{"$f":"IF(STUDATA!C221=\"\",\"\",STUDATA!C221)","v":12},"YES","NO","NO","NO","YES","YES",{"$nulls":4},"NO","NO",null,"ONLINE","ONLINE",{"$nulls":3},"OFFLINE","OFFLINE",{"$nulls":8},"YES",null,"NO","YES","YES",{"$nulls":4},""]
[{"$f":"IF(F225=\"\",\"\",F225&\"_\"&COUNTIF($F$9:F225,F225))","v":"12_19"},{"$f":"IF(STUDATA!B222=\"\",\"\",STUDATA!B222)","v":217},{"$f":"IF(STUDATA!E222=\"\",\"\",STUDATA!E222)","v":"abc217"},{"$f":"IF(STUDATA!F222=\"\",\"\",STUDATA!F222)","v":"xyz217"},{"$f":"IF(STUDATA!G222=\"\",\"\",STUDATA!G222)","v":"M"},{"$f":"IF(STUDATA!C222=\"\",\"\",STUDATA!C222)","v":12},"YES","NO","NO","NO","YES","YES",{"$nulls":4},"NO","NO",null,"ONLINE","ONLINE",{"$nulls":3},"ONLINE","ONLINE",{"$nulls":8},"YES",null,"NO","YES","YES",{"$nulls":4},""]
[{"$f":"IF(F226=\"\",\"\",F226&\"_\"&COUNTIF($F$9:F226,F226))","v":"12_20"},{"$f":"IF(STUDATA!B223=\"\",\"\",STUDATA!B223)","v":218},{"$f":"IF(STUDATA!E223=\"\",\"\",STUDATA!E223)","v":"abc218"},{"$f":"IF(STUDATA!F223=\"\",\"\",STUDATA!F223)","v":"xyz218"},{"$f":"IF(STUDATA!G223=\"\",\"\",STUDATA!G223)","v":"M"},{"$f":"IF(STUDATA!C223=\"\",\"\",STUDATA!C223)","v":12},"YES","NO","NO","NO","YES","YES",{"$nulls":4},"NO","NO",null,"ONLINE","ONLINE",{"$nulls":3},"ONLINE","ONLINE",{"$nulls":8},"YES",null,"NO","YES","YES",{"$nulls":4},""]
[{"$f":"IF(F227=\"\",\"\",F227&\"_\"&COUNTIF($F$9:F227,F227))","v":"12_21"},{"$f":"IF(STUDATA!B224=\"\",\"\",STUDATA!B224)","v":219},{"$f":"IF(STUDATA!E224=\"\",\"\",STUDATA!E224)","v":"abc219"},{"$f":"IF(STUDATA!F224=\"\",\"\",STUDATA!F224)","v":"xyz219"},{"$f":"IF(STUDATA!G224=\"\",\"\",STUDATA!G224)","v":"M"},{"$f":"IF(STUDATA!C224=\"\",\"\",STUDATA!C224)","v":12},"YES","NO","NO","NO","YES","YES",{"$nulls":4},"NO","NO",null,"ONLINE","ONLINE",{"$nulls":3},"ONLINE","ONLINE",{"$nulls":8},"YES",null,"NO","YES","YES",{"$nulls":4},""]
[{"$f":"IF(F228=\"\",\"\",F228&\"_\"&COUNTIF($F$9:F228,F228))","v":"12_22"},{"$f":"IF(STUDATA!B225=\"\",\"\",STUDATA!B225)","v":220},{"$f":"IF(STUDATA!E225=\"\",\"\",STUDATA!E225)","v":"abc220"},{"$f":"IF(STUDATA!F225=\"\",\"\",STUDATA!F225)","v":"xyz220"},{"$f":"IF(STUDATA!G225=\"\",\"\",STUDATA!G225)","v":"M"},{"$f":"IF(STUDATA!C225=\"\",\"\",STUDATA!C225)","v":12},"YES","NO","NO","NO","YES","YES",{"$nulls":4},"NO","NO",null,"ONLINE","ONLINE",{"$nulls":3},"ONLINE","ONLINE",{"$nulls":8},"YES",null,"NO","YES","YES",{"$nulls":4},""]
[{"$f":"IF(F229=\"\",\"\",F229&\"_\"&COUNTIF($F$9:F229,F229))","v":"12_23"},{"$f":"IF(STUDATA!B226=\"\",\"\",STUDATA!B226)","v":221},{"$f":"IF(STUDATA!E226=\"\",\"\",STUDATA!E226)","v":"abc221"},{"$f":"IF(STUDATA!F226=\"\",\"\",STUDATA!F226)","v":"xyz221"},{"$f":"IF(STUDATA!G226=\"\",\"\",STUDATA!G226)","v":"M"},{"$f":"IF(STUDATA!C226=\"\",\"\",STUDATA!C226)","v":12},"YES","NO","NO","NO","YES","YES",{"$nulls":4},"NO","NO",null,"ONLINE","ONLINE",{"$nulls":3},"OFFLINE","OFFLINE",{"$nulls":8},"YES",null,"NO","YES","YES",{"$nulls":4},""]
[{"$f":"IF(F230=\"\",\"\",F230&\"_\"&COUNTIF($F$9:F230,F230))","v":"12_24"},{"$f":"IF(STUDATA!B227=\"\",\"\",STUDATA!B227)","v":222},{"$f":"IF(STUDATA!E227=\"\",\"\",STUDATA!E227)","v":"abc222"},{"$f":"IF(STUDATA!F227=\"\",\"\",STUDATA!F227)","v":"xyz222"},{"$f":"IF(STUDATA!G227=\"\",\"\",STUDATA!G227)","v":"M"},{"$f":"IF(STUDATA!C227=\"\",\"\",STUDATA!C227)","v":12},"YES","NO","NO","NO","YES","YES",{"$nulls":4},"NO","NO",null,"ONLINE","ONLINE",{"$nulls":3},"ONLINE","ONLINE",{"$nulls":8},"YES",null,"NO","YES","YES",{"$nulls":4},""]
[{"$f":"IF(F231=\"\",\"\",F231&\"_\"&COUNTIF($F$9:F231,F231))","v":"12_25"},{"$f":"IF(STUDATA!B228=\"\",\"\",STUDATA!B228)","v":223},{"$f":"IF(STUDATA!E228=\"\",\"\",STUDATA!E228)","v":"abc223"},{"$f":"IF(STUDATA!F228=\"\",\"\",STUDATA!F228)","v":"xyz223"},{"$f":"IF(STUDATA!G228=\"\",\"\",STUDATA!G228)","v":"M"},{"$f":"IF(STUDATA!C228=\"\",\"\",STUDATA!C228)","v":12},"YES","NO","NO","NO","YES","YES",{"$nulls":4},"NO","NO",null,"ONLINE","ONLINE",{"$nulls":3},"ONLINE","ONLINE",{"$nulls":8},"YES",null,"NO","YES","YES",{"$nulls":4},""]
[{"$f":"IF(F232=\"\",\"\",F232&\"_\"&COUNTIF($F$9:F232,F232))","v":"11_1"},{"$f":"IF(STUDATA!B229=\"\",\"\",STUDATA!B229)","v":224},{"$f":"IF(STUDATA!E229=\"\",\"\",STUDATA!E229)","v":"abc224"},{"$f":"IF(STUDATA!F229=\"\",\"\",STUDATA!F229)","v":"xyz224"},{"$f":"IF(STUDATA!G229=\"\",\"\",STUDATA!G229)","v":"M"},{"$f":"IF(STUDATA!C229=\"\",\"\",STUDATA!C229)","v":11},"YES","NO","NO","NO","YES",{"$nulls":5},"NO","NO",null,"ONLINE","ONLINE",{"$nulls":4},"ONLINE",{"$nulls":8},"YES",null,"NO","YES","YES",{"$nulls":4},""]
[{"$f":"IF(F233=\"\",\"\",F233&\"_\"&COUNTIF($F$9:F233,F233))","v":"11_2"},{"$f":"IF(STUDATA!B230=\"\",\"\",STUDATA!B230)","v":225},{"$f":"IF(STUDATA!E230=\"\",\"\",STUDATA!E230)","v":"abc225"},{"$f":"IF(STUDATA!F230=\"\",\"\",STUDATA!F230)","v":"xyz225"},{"$f":"IF(STUDATA!G230=\"\",\"\",STUDATA!G230)","v":"F"},{"$f":"IF(STUDATA!C230=\"\",\"\",STUDATA!C230)","v":11},"YES","NO","NO","NO","YES",{"$nulls":5},"NO","NO",null,"ONLINE","ONLINE",{"$nulls":3},"OFFLINE","OFFLINE",{"$nulls":8},"YES",null,"NO","YES","YES",{"$nulls":4},""]
[{"$f":"IF(F234=\"\",\"\",F234&\"_\"&COUNTIF($F$9:F234,F234))","v":"11_3"},{"$f":"IF(STUDATA!B231=\"\",\"\",STUDATA!B231)","v":226},{"$f":"IF(STUDATA!E231=\"\",\"\",STUDATA!E231)","v":"abc226"},{"$f":"IF(STUDATA!F231=\"\",\"\",STUDATA!F231)","v":"xyz226"},{"$f":"IF(STUDATA!G231=\"\",\"\",STUDATA!G231)","v":"F"},{"$f":"IF(STUDATA!C231=\"\",\"\",STUDATA!C231)","v":11},"YES","NO","NO","NO","YES",{"$nulls":5},"NO","NO",null,"ONLINE","ONLINE",{"$nulls":3},"OFFLINE","OFFLINE",{"$nulls":8},"YES",null,"NO","YES","YES",{"$nulls":4},""]
[{"$f":"IF(F235=\"\",\"\",F235&\"_\"&COUNTIF($F$9:F235,F235))","v":"11_4"},{"$f":"IF(STUDATA!B232=\"\",\"\",STUDATA!B232)","v":227},{"$f":"IF(STUDATA!E232=\"\",\"\",STUDATA!E232)","v":"abc227"},{"$f":"IF(STUDATA!F232=\"\",\"\",STUDATA!F232)","v":"xyz227"},{"$f":"IF(STUDATA!G232=\"\",\"\",STUDATA!G232)","v":"M"},{"$f":"IF(STUDATA!C232=\"\",\"\",STUDATA!C232)","v":11},"YES","NO","NO","NO","YES",{"$nulls":5},"NO","NO",null,"ONLINE","ONLINE",{"$nulls":3},"ONLINE","ONLINE",{"$nulls":8},"YES",null,"NO","YES","YES",{"$nulls":4},""]
[{"$f":"IF(F236=\"\",\"\",F236&\"_\"&COUNTIF($F$9:F236,F236))","v":"11_5"},{"$f":"IF(STUDATA!B233=\"\",\"\",STUDATA!B233)","v":228},{"$f":"IF(STUDATA!E233=\"\",\"\",STUDATA!E233)","v":"abc228"},{"$f":"IF(STUDATA!F233=\"\",\"\",STUDATA!F233)","v":"xyz228"},{"$f":"IF(STUDATA!G233=\"\",\"\",STUDATA!G233)","v":"M"},{"$f":"IF(STUDATA!C233=\"\",\"\",STUDATA!C233)","v":11},"YES","NO","NO","NO","NO",{"$nulls":5},"NO","NO",null,"ONLINE","ONLINE",{"$nulls":13},"YES",null,"NO","YES","YES",{"$nulls":4},""]
[{"$f":"IF(F237=\"\",\"\",F237&\"_\"&COUNTIF($F$9:F237,F237))","v":"11_6"},{"$f":"IF(STUDATA!B234=\"\",\"\",STUDATA!B234)","v":229},{"$f":"IF(STUDATA!E234=\"\",\"\",STUDATA!E234)","v":"abc229"},{"$f":"IF(STUDATA!F234=\"\",\"\",STUDATA!F234)","v":"xyz229"},{"$f":"IF(STUDATA!G234=\"\",\"\",STUDATA!G234)","v":"F"},{"$f":"IF(STUDATA!C234=\"\",\"\",STUDATA!C234)","v":11},"YES","NO","NO","NO","YES",{"$nulls":5},"NO","NO",null,"ONLINE","ONLINE",{"$nulls":3},"ONLINE","ONLINE",{"$nulls":8},"YES",null,"NO","YES","YES",{"$nulls":4},""]
[{"$f":"IF(F238=\"\",\"\",F238&\"_\"&COUNTIF($F$9:F238,F238))","v":"11_7"},{"$f":"IF(STUDATA!B235=\"\",\"\",STUDATA!B235)","v":230},{"$f":"IF(STUDATA!E235=\"\",\"\",STUDATA!E235)","v":"abc230"},{"$f":"IF(STUDATA!F235=\"\",\"\",STUDATA!F235)","v":"xyz230"},{"$f":"IF(STUDATA!G235=\"\",\"\",STUDATA!G235)","v":"F"},{"$f":"IF(STUDATA!C235=\"\",\"\",STUDATA!C235)","v":11},"YES","NO","NO","NO","YES",{"$nulls":5},"NO","NO",null,"ONLINE","ONLINE",{"$nulls":3},"OFFLINE","OFFLINE",{"$nulls":8},"YES",null,"NO","YES","YES",{"$nulls":4},""]
[{"$f":"IF(F239=\"\",\"\",F239&\"_\"&COUNTIF($F$9:F239,F239))","v":"11_8"},{"$f":"IF(STUDATA!B236=\"\",\"\",STUDATA!B236)","v":231},{"$f":"IF(STUDATA!E236=\"\",\"\",STUDATA!E236)","v":"abc231"},{"$f":"IF(STUDATA!F236=\"\",\"\",STUDATA!F236)","v":"xyz231"},{"$f":"IF(STUDATA!G236=\"\",\"\",STUDATA!G236)","v":"F"},{"$f":"IF(STUDATA!C236=\"\",\"\",STUDATA!C236)","v":11},"YES","NO","NO","NO","NO",{"$nulls":5},"NO","NO",null,"ONLINE","ONLINE",{"$nulls":13},"YES",null,"NO","YES","YES",{"$nulls":4},""]
[{"$f":"IF(F240=\"\",\"\",F240&\"_\"&COUNTIF($F$9:F240,F240))","v":"11_9"},{"$f":"IF(STUDATA!B237=\"\",\"\",STUDATA!B237)","v":232},{"$f":"IF(STUDATA!E237=\"\",\"\",STUDATA!E237)","v":"abc232"},{"$f":"IF(STUDATA!F237=\"\",\"\",STUDATA!F237)","v":"xyz232"},{"$f":"IF(STUDATA!G237=\"\",\"\",STUDATA!G237)","v":"F"},{"$f":"IF(STUDATA!C237=\"\",\"\",STUDATA!C237)","v":11},"YES","NO","NO","NO","NO",{"$nulls":5},"NO","NO",null,"ONLINE","ONLINE",{"$nulls":3},"ONLINE","ONLINE",{"$nulls":8},"YES",null,"NO","YES","YES",{"$nulls":4},""]
[{"$f":"IF(F241=\"\",\"\",F241&\"_\"&COUNTIF($F$9:F241,F241))","v":"11_10"},{"$f":"IF(STUDATA!B238=\"\",\"\",STUDATA!B238)","v":233},{"$f":"IF(STUDATA!E238=\"\",\"\",STUDATA!E238)","v":"abc233"},{"$f":"IF(STUDATA!F238=\"\",\"\",STUDATA!F238)","v":"xyz233"},{"$f":"IF(STUDATA!G238=\"\",\"\",STUDATA!G238)","v":"M"},{"$f":"IF(STUDATA!C238=\"\",\"\",STUDATA!C238)","v":11},"YES","NO","NO","NO","NO",{"$nulls":5},"NO","NO",null,"ONLINE","ONLINE",{"$nulls":13},"YES",null,"NO","YES","YES",{"$nulls":4},""]
[{"$f":"IF(F242=\"\",\"\",F242&\"_\"&COUNTIF($F$9:F242,F242))","v":"11_11"},{"$f":"IF(STUDATA!B239=\"\",\"\",STUDATA!B239)","v":234},{"$f":"IF(STUDATA!E239=\"\",\"\",STUDATA!E239)","v":"abc234"},{"$f":"IF(STUDATA!F239=\"\",\"\",STUDATA!F239)","v":"xyz234"},{"$f":"IF(STUDATA!G239=\"\",\"\",STUDATA!G239)","v":"F"},{"$f":"IF(STUDATA!C239=\"\",\"\",STUDATA!C239)","v":11},"YES","NO","NO","NO","NO",{"$nulls":5},"NO","NO",null,"ONLINE","ONLINE",{"$nulls":3},"ONLINE","ONLINE",{"$nulls":8},"YES",null,"NO","YES","YES",{"$nulls":4},""]
[{"$f":"IF(F243=\"\",\"\",F243&\"_\"&COUNTIF($F$9:F243,F243))","v":"11_12"},{"$f":"IF(STUDATA!B240=\"\",\"\",STUDATA!B240)","v":235},{"$f":"IF(STUDATA!E240=\"\",\"\",STUDATA!E240)","v":"abc235"},{"$f":"IF(STUDATA!F240=\"\",\"\",STUDATA!F240)","v":"xyz235"},{"$f":"IF(STUDATA!G240=\"\",\"\",STUDATA!G240)","v":"F"},{"$f":"IF(STUDATA!C240=\"\",\"\",STUDATA!C240)","v":11},"YES","NO","NO","NO","YES",{"$nulls":5},"NO","NO",null,"ONLINE","ONLINE",{"$nulls":3},"OFFLINE","OFFLINE",{"$nulls":8},"YES",null,"NO","YES","YES",{"$nulls":4},""]
[{"$f":"IF(F244=\"\",\"\",F244&\"_\"&COUNTIF($F$9:F244,F244))","v":"11_13"},{"$f":"IF(STUDATA!B241=\"\",\"\",STUDATA!B241)","v":236},{"$f":"IF(STUDATA!E241=\"\",\"\",STUDATA!E241)","v":"abc236"},{"$f":"IF(STUDATA!F241=\"\",\"\",STUDATA!F241)","v":"xyz236"},{"$f":"IF(STUDATA!G241=\"\",\"\",STUDATA!G241)","v":"F"},{"$f":"IF(STUDATA!C241=\"\",\"\",STUDATA!C241)","v":11},"YES","NO","NO","NO","NO",{"$nulls":5},"NO","NO",null,"ONLINE","ONLINE",{"$nulls":3},"ONLINE","ONLINE",{"$nulls":8},"YES",null,"NO","YES","YES",{"$nulls":4},""]
[{"$f":"IF(F245=\"\",\"\",F245&\"_\"&COUNTIF($F$9:F245,F245))","v":"11_14"},{"$f":"IF(STUDATA!B242=\"\",\"\",STUDATA!B242)","v":237},{"$f":"IF(STUDATA!E242=\"\",\"\",STUDATA!E242)","v":"abc237"},{"$f":"IF(STUDATA!F242=\"\",\"\",STUDATA!F242)","v":"xyz237"},{"$f":"IF(STUDATA!G242=\"\",\"\",STUDATA!G242)","v":"F"},{"$f":"IF(STUDATA!C242=\"\",\"\",STUDATA!C242)","v":11},"YES","NO","NO","NO","YES",{"$nulls":5},"NO","NO",null,"ONLINE","ONLINE",{"$nulls":3},"ONLINE","ONLINE",{"$nulls":8},"YES",null,"NO","YES","YES",{"$nulls":4},""]
[{"$f":"IF(F246=\"\",\"\",F246&\"_\"&COUNTIF($F$9:F246,F246))","v":"11_15"},{"$f":"IF(STUDATA!B243=\"\",\"\",STUDATA!B243)","v":238},{"$f":"IF(STUDATA!E243=\"\",\"\",STUDATA!E243)","v":"abc238"},{"$f":"IF(STUDATA!F243=\"\",\"\",STUDATA!F243)","v":"xyz238"},{"$f":"IF(STUDATA!G243=\"\",\"\",STUDATA!G243)","v":"F"},{"$f":"IF(STUDATA!C243=\"\",\"\",STUDATA!C243)","v":11},"YES","NO","NO","NO","YES",{"$nulls":5},"NO","NO",null,"ONLINE","ONLINE",{"$nulls":3},"OFFLINE","OFFLINE",{"$nulls":8},"YES",null,"NO","YES","YES",{"$nulls":4},""]
[{"$f":"IF(F247=\"\",\"\",F247&\"_\"&COUNTIF($F$9:F247,F247))","v":"11_16"},{"$f":"IF(STUDATA!B244=\"\",\"\",STUDATA!B244)","v":239},{"$f":"IF(STUDATA!E244=\"\",\"\",STUDATA!E244)","v":"abc239"},{"$f":"IF(STUDATA!F244=\"\",\"\",STUDATA!F244)","v":"xyz239"},{"$f":"IF(STUDATA!G244=\"\",\"\",STUDATA!G244)","v":"M"},{"$f":"IF(STUDATA!C244=\"\",\"\",STUDATA!C244)","v":11},"YES","NO","NO","NO","YES",{"$nulls":5},"NO","NO",null,"ONLINE","ONLINE",{"$nulls":3},"ONLINE","ONLINE",{"$nulls":8},"YES",null,"NO","YES","YES",{"$nulls":4},""]
[{"$f":"IF(F248=\"\",\"\",F248&\"_\"&COUNTIF($F$9:F248,F248))","v":"11_17"},{"$f":"IF(STUDATA!B245=\"\",\"\",STUDATA!B245)","v":240},{"$f":"IF(STUDATA!E245=\"\",\"\",STUDATA!E245)","v":"abc240"},{"$f":"IF(STUDATA!F245=\"\",\"\",STUDATA!F245)","v":"xyz240"},{"$f":"IF(STUDATA!G245=\"\",\"\",STUDATA!G245)","v":"M"},{"$f":"IF(STUDATA!C245=\"\",\"\",STUDATA!C245)","v":11},"YES","NO","NO","NO","YES",{"$nulls":5},"NO","NO",null,"ONLINE","ONLINE",{"$nulls":3},"ONLINE","ONLINE",{"$nulls":8},"YES",null,"NO","YES","YES",{"$nulls":4},""]
[{"$f":"IF(F249=\"\",\"\",F249&\"_\"&COUNTIF($F$9:F249,F249))","v":"11_18"},{"$f":"IF(STUDATA!B246=\"\",\"\",STUDATA!B246)","v":241},{"$f":"IF(STUDATA!E246=\"\",\"\",STUDATA!E246)","v":"abc241"},{"$f":"IF(STUDATA!F246=\"\",\"\",STUDATA!F246)","v":"xyz241"},{"$f":"IF(STUDATA!G246=\"\",\"\",STUDATA!G246)","v":"M"},{"$f":"IF(STUDATA!C246=\"\",\"\",STUDATA!C246)","v":11},"YES","NO","NO","NO","YES",{"$nulls":5},"NO","NO",null,"ONLINE","ONLINE",{"$nulls":3},"ONLINE","ONLINE",{"$nulls":8},"YES",null,"NO","YES","YES",{"$nulls":4},""]
[{"$f":"IF(F250=\"\",\"\",F250&\"_\"&COUNTIF($F$9:F250,F250))","v":"11_19"},{"$f":"IF(STUDATA!B247=\"\",\"\",STUDATA!B247)","v":242},{"$f":"IF(STUDATA!E247=\"\",\"\",STUDATA!E247)","v":"abc242"},{"$f":"IF(STUDATA!F247=\"\",\"\",STUDATA!F247)","v":"xyz242"},{"$f":"IF(STUDATA!G247=\"\",\"\",STUDATA!G247)","v":"M"},{"$f":"IF(STUDATA!C247=\"\",\"\",STUDATA!C247)","v":11},"YES","NO","NO","NO","YES",{"$nulls":5},"NO","NO",null,"ONLINE","ONLINE",{"$nulls":3},"ONLINE","ONLINE",{"$nulls":8},"YES",null,"NO","YES","YES",{"$nulls":4},""]
[{"$f":"IF(F251=\"\",\"\",F251&\"_\"&COUNTIF($F$9:F251,F251))","v":"11_20"},{"$f":"IF(STUDATA!B248=\"\",\"\",STUDATA!B248)","v":243},{"$f":"IF(STUDATA!E248=\"\",\"\",STUDATA!E248)","v":"abc243"},{"$f":"IF(STUDATA!F248=\"\",\"\",STUDATA!F248)","v":"xyz243"},{"$f":"IF(STUDATA!G248=\"\",\"\",STUDATA!G248)","v":"F"},{"$f":"IF(STUDATA!C248=\"\",\"\",STUDATA!C248)","v":11},"YES","NO","NO","NO","NO",{"$nulls":5},"NO","NO",null,"ONLINE","ONLINE",{"$nulls":3},"ONLINE","ONLINE",{"$nulls":8},"YES",null,"NO","YES","YES",{"$nulls":4},""]
[{"$f":"IF(F252=\"\",\"\",F252&\"_\"&COUNTIF($F$9:F252,F252))","v":"11_21"},{"$f":"IF(STUDATA!B249=\"\",\"\",STUDATA!B249)","v":244},{"$f":"IF(STUDATA!E249=\"\",\"\",STUDATA!E249)","v":"abc244"},{"$f":"IF(STUDATA!F249=\"\",\"\",STUDATA!F249)","v":"xyz244"},{"$f":"IF(STUDATA!G249=\"\",\"\",STUDATA!G249)","v":"F"},{"$f":"IF(STUDATA!C249=\"\",\"\",STUDATA!C249)","v":11},"YES","NO","NO","NO","NO",{"$nulls":5},"NO","NO",null,"OFFLINE","OFFLINE",{"$nulls":13},"YES",null,"NO","YES","YES",{"$nulls":4},""]
[{"$f":"IF(F253=\"\",\"\",F253&\"_\"&COUNTIF($F$9:F253,F253))","v":"11_22"},{"$f":"IF(STUDATA!B250=\"\",\"\",STUDATA!B250)","v":245},{"$f":"IF(STUDATA!E250=\"\",\"\",STUDATA!E250)","v":"abc245"},{"$f":"IF(STUDATA!F250=\"\",\"\",STUDATA!F250)","v":"xyz245"},{"$f":"IF(STUDATA!G250=\"\",\"\",STUDATA!G250)","v":"F"},{"$f":"IF(STUDATA!C250=\"\",\"\",STUDATA!C250)","v":11},"YES","NO","NO","NO","YES",{"$nulls":5},"NO","NO",null,"ONLINE","ONLINE",{"$nulls":3},"OFFLINE","OFFLINE",{"$nulls":8},"YES",null,"NO","YES","YES",{"$nulls":4},""]
[{"$f":"IF(F254=\"\",\"\",F254&\"_\"&COUNTIF($F$9:F254,F254))","v":"11_23"},{"$f":"IF(STUDATA!B251=\"\",\"\",STUDATA!B251)","v":246},{"$f":"IF(STUDATA!E251=\"\",\"\",STUDATA!E251)","v":"abc246"},{"$f":"IF(STUDATA!F251=\"\",\"\",STUDATA!F251)","v":"xyz246"},{"$f":"IF(STUDATA!G251=\"\",\"\",STUDATA!G251)","v":"F"},{"$f":"IF(STUDATA!C251=\"\",\"\",STUDATA!C251)","v":11},"YES","NO","NO","NO","YES",{"$nulls":5},"NO","NO",null,"ONLINE","ONLINE",{"$nulls":3},"OFFLINE","OFFLINE",{"$nulls":8},"YES",null,"NO","YES","YES",{"$nulls":4},""]
[{"$f":"IF(F255=\"\",\"\",F255&\"_\"&COUNTIF($F$9:F255,F255))","v":"11_24"},{"$f":"IF(STUDATA!B252=\"\",\"\",STUDATA!B252)","v":247},{"$f":"IF(STUDATA!E252=\"\",\"\",STUDATA!E252)","v":"abc247"},{"$f":"IF(STUDATA!F252=\"\",\"\",STUDATA!F252)","v":"xyz247"},{"$f":"IF(STUDATA!G252=\"\",\"\",STUDATA!G252)","v":"M"},{"$f":"IF(STUDATA!C252=\"\",\"\",STUDATA!C252)","v":11},"YES","NO","NO","NO","YES",{"$nulls":5},"NO","NO",null,"ONLINE","ONLINE",{"$nulls":3},"ONLINE","ONLINE",{"$nulls":8},"YES",null,"NO","YES","YES",{"$nulls":4},""]
[{"$f":"IF(F256=\"\",\"\",F256&\"_\"&COUNTIF($F$9:F256,F256))","v":"11_25"},{"$f":"IF(STUDATA!B253=\"\",\"\",STUDATA!B253)","v":248},{"$f":"IF(STUDATA!E253=\"\",\"\",STUDATA!E253)","v":"abc248"},{"$f":"IF(STUDATA!F253=\"\",\"\",STUDATA!F253)","v":"xyz248"},{"$f":"IF(STUDATA!G253=\"\",\"\",STUDATA!G253)","v":"M"},{"$f":"IF(STUDATA!C253=\"\",\"\",STUDATA!C253)","v":11},"YES","NO","NO","NO","YES",{"$nulls":5},"NO","NO",null,"ONLINE","ONLINE",{"$nulls":3},"OFFLINE","OFFLINE",{"$nulls":8},"YES",null,"NO","YES","YES",{"$nulls":4},""]
[{"$f":"IF(F257=\"\",\"\",F257&\"_\"&COUNTIF($F$9:F257,F257))","v":"11_26"},{"$f":"IF(STUDATA!B254=\"\",\"\",STUDATA!B254)","v":249},{"$f":"IF(STUDATA!E254=\"\",\"\",STUDATA!E254)","v":"abc249"},{"$f":"IF(STUDATA!F254=\"\",\"\",STUDATA!F254)","v":"xyz249"},{"$f":"IF(STUDATA!G254=\"\",\"\",STUDATA!G254)","v":"M"},{"$f":"IF(STUDATA!C254=\"\",\"\",STUDATA!C254)","v":11},"YES","NO","NO","NO","NO",{"$nulls":5},"NO","NO",null,"ONLINE","ONLINE",{"$nulls":3},"ONLINE","ONLINE",{"$nulls":8},"YES",null,"NO","YES","YES",{"$nulls":4},""]
[{"$f":"IF(F258=\"\",\"\",F258&\"_\"&COUNTIF($F$9:F258,F258))","v":"11_27"},{"$f":"IF(STUDATA!B255=\"\",\"\",STUDATA!B255)","v":250},{"$f":"IF(STUDATA!E255=\"\",\"\",STUDATA!E255)","v":"abc250"},{"$f":"IF(STUDATA!F255=\"\",\"\",STUDATA!F255)","v":"xyz250"},{"$f":"IF(STUDATA!G255=\"\",\"\",STUDATA!G255)","v":"M"},{"$f":"IF(STUDATA!C255=\"\",\"\",STUDATA!C255)","v":11},"YES","NO","NO","NO","YES",{"$nulls":5},"NO","NO",null,"ONLINE","ONLINE",{"$nulls":3},"ONLINE","ONLINE",{"$nulls":8},"YES",null,"NO","YES","YES",{"$nulls":4},""]
[{"$f":"IF(F259=\"\",\"\",F259&\"_\"&COUNTIF($F$9:F259,F259))","v":"11_28"},{"$f":"IF(STUDATA!B256=\"\",\"\",STUDATA!B256)","v":251},{"$f":"IF(STUDATA!E256=\"\",\"\",STUDATA!E256)","v":"abc251"},{"$f":"IF(STUDATA!F256=\"\",\"\",STUDATA!F256)","v":"xyz251"},{"$f":"IF(STUDATA!G256=\"\",\"\",STUDATA!G256)","v":"M"},{"$f":"IF(STUDATA!C256=\"\",\"\",STUDATA!C256)","v":11},"YES","NO","NO","NO","YES",{"$nulls":5},"NO","NO",null,"ONLINE","ONLINE",{"$nulls":3},"ONLINE","ONLINE",{"$nulls":8},"YES",null,"NO","YES","YES",{"$nulls":4},""]
[{"$f":"IF(F260=\"\",\"\",F260&\"_\"&COUNTIF($F$9:F260,F260))","v":"11_29"},{"$f":"IF(STUDATA!B257=\"\",\"\",STUDATA!B257)","v":252},{"$f":"IF(STUDATA!E257=\"\",\"\",STUDATA!E257)","v":"abc252"},{"$f":"IF(STUDATA!F257=\"\",\"\",STUDATA!F257)","v":"xyz252"},{"$f":"IF(STUDATA!G257=\"\",\"\",STUDATA!G257)","v":"M"},{"$f":"IF(STUDATA!C257=\"\",\"\",STUDATA!C257)","v":11},"YES","NO","NO","NO","YES",{"$nulls":5},"NO","NO",null,"ONLINE","ONLINE",{"$nulls":3},"ONLINE","ONLINE",{"$nulls":8},"YES",null,"NO","YES","YES",{"$nulls":4},""]
[{"$f":"IF(F261=\"\",\"\",F261&\"_\"&COUNTIF($F$9:F261,F261))","v":"11_30"},{"$f":"IF(STUDATA!B258=\"\",\"\",STUDATA!B258)","v":253},{"$f":"IF(STUDATA!E258=\"\",\"\",STUDATA!E258)","v":"abc253"},{"$f":"IF(STUDATA!F258=\"\",\"\",STUDATA!F258)","v":"xyz253"},{"$f":"IF(STUDATA!G258=\"\",\"\",STUDATA!G258)","v":"F"},{"$f":"IF(STUDATA!C258=\"\",\"\",STUDATA!C258)","v":11},"YES","NO","NO","NO","YES",{"$nulls":5},"NO","NO",null,"ONLINE","ONLINE",{"$nulls":3},"OFFLINE","OFFLINE",{"$nulls":8},"YES",null,"NO","YES","YES",{"$nulls":4},""]
[{"$f":"IF(F262=\"\",\"\",F262&\"_\"&COUNTIF($F$9:F262,F262))","v":"11_31"},{"$f":"IF(STUDATA!B259=\"\",\"\",STUDATA!B259)","v":254},{"$f":"IF(STUDATA!E259=\"\",\"\",STUDATA!E259)","v":"abc254"},{"$f":"IF(STUDATA!F259=\"\",\"\",STUDATA!F259)","v":"xyz254"},{"$f":"IF(STUDATA!G259=\"\",\"\",STUDATA!G259)","v":"M"},{"$f":"IF(STUDATA!C259=\"\",\"\",STUDATA!C259)","v":11},"YES","NO","NO","NO","YES",{"$nulls":5},"NO","NO",null,"ONLINE","ONLINE",{"$nulls":3},"OFFLINE","OFFLINE",{"$nulls":8},"YES",null,"NO","YES","YES",{"$nulls":4},""]
[{"$f":"IF(F263=\"\",\"\",F263&\"_\"&COUNTIF($F$9:F263,F263))","v":"11_32"},{"$f":"IF(STUDATA!B260=\"\",\"\",STUDATA!B260)","v":255},{"$f":"IF(STUDATA!E260=\"\",\"\",STUDATA!E260)","v":"abc255"},{"$f":"IF(STUDATA!F260=\"\",\"\",STUDATA!F260)","v":"xyz255"},{"$f":"IF(STUDATA!G260=\"\",\"\",STUDATA!G260)","v":"M"},{"$f":"IF(STUDATA!C260=\"\",\"\",STUDATA!C260)","v":11},"YES","NO","NO","NO","YES",{"$nulls":5},"NO","NO",null,"ONLINE","ONLINE",{"$nulls":3},"ONLINE","ONLINE",{"$nulls":8},"YES",null,"NO","YES","YES",{"$nulls":4},""]
[{"$f":"IF(F264=\"\",\"\",F264&\"_\"&COUNTIF($F$9:F264,F264))","v":"11_33"},{"$f":"IF(STUDATA!B261=\"\",\"\",STUDATA!B261)","v":256},{"$f":"IF(STUDATA!E261=\"\",\"\",STUDATA!E261)","v":"abc256"},{"$f":"IF(STUDATA!F261=\"\",\"\",STUDATA!F261)","v":"xyz256"},{"$f":"IF(STUDATA!G261=\"\",\"\",STUDATA!G261)","v":"M"},{"$f":"IF(STUDATA!C261=\"\",\"\",STUDATA!C261)","v":11},"YES","NO","NO","NO","YES",{"$nulls":5},"NO","NO",null,"ONLINE","ONLINE",{"$nulls":3},"ONLINE","ONLINE",{"$nulls":8},"YES",null,"NO","YES","YES",{"$nulls":4},""]
[{"$f":"IF(F265=\"\",\"\",F265&\"_\"&COUNTIF($F$9:F265,F265))","v":"11_34"},{"$f":"IF(STUDATA!B262=\"\",\"\",STUDATA!B262)","v":257},{"$f":"IF(STUDATA!E262=\"\",\"\",STUDATA!E262)","v":"abc257"},{"$f":"IF(STUDATA!F262=\"\",\"\",STUDATA!F262)","v":"xyz257"},{"$f":"IF(STUDATA!G262=\"\",\"\",STUDATA!G262)","v":"F"},{"$f":"IF(STUDATA!C262=\"\",\"\",STUDATA!C262)","v":11},"YES","NO","NO","NO","NO",{"$nulls":5},"NO","NO",null,"ONLINE","ONLINE",{"$nulls":3},"ONLINE","ONLINE",{"$nulls":8},"YES",null,"NO","YES","YES",{"$nulls":4},""]
[{"$f":"IF(F266=\"\",\"\",F266&\"_\"&COUNTIF($F$9:F266,F266))","v":"11_35"},{"$f":"IF(STUDATA!B263=\"\",\"\",STUDATA!B263)","v":258},{"$f":"IF(STUDATA!E263=\"\",\"\",STUDATA!E263)","v":"abc258"},{"$f":"IF(STUDATA!F263=\"\",\"\",STUDATA!F263)","v":"xyz258"},{"$f":"IF(STUDATA!G263=\"\",\"\",STUDATA!G263)","v":"M"},{"$f":"IF(STUDATA!C263=\"\",\"\",STUDATA!C263)","v":11},"YES","NO","NO","NO","YES",{"$nulls":5},"NO","NO",null,"ONLINE","ONLINE",{"$nulls":3},"OFFLINE","OFFLINE",{"$nulls":8},"YES",null,"NO","YES","YES",{"$nulls":4},{"$f":"IF(S266=\"\",\"\",IF(S266=\"NO\",0,1))","v":""}]
[{"$f":"IF(F267=\"\",\"\",F267&\"_\"&COUNTIF($F$9:F267,F267))","v":"11_36"},{"$f":"IF(STUDATA!B264=\"\",\"\",STUDATA!B264)","v":259},{"$f":"IF(STUDATA!E264=\"\",\"\",STUDATA!E264)","v":"abc259"},{"$f":"IF(STUDATA!F264=\"\",\"\",STUDATA!F264)","v":"xyz259"},{"$f":"IF(STUDATA!G264=\"\",\"\",STUDATA!G264)","v":"F"},{"$f":"IF(STUDATA!C264=\"\",\"\",STUDATA!C264)","v":11},"YES","NO","NO","NO","YES",{"$nulls":5},"NO","NO",null,"ONLINE","ONLINE",{"$nulls":3},"ONLINE","ONLINE",{"$nulls":8},"YES",null,"NO","YES","YES",{"$nulls":4},""]
[{"$f":"IF(F268=\"\",\"\",F268&\"_\"&COUNTIF($F$9:F268,F268))","v":"11_37"},{"$f":"IF(STUDATA!B265=\"\",\"\",STUDATA!B265)","v":260},{"$f":"IF(STUDATA!E265=\"\",\"\",STUDATA!E265)","v":"abc260"},{"$f":"IF(STUDATA!F265=\"\",\"\",STUDATA!F265)","v":"xyz260"},{"$f":"IF(STUDATA!G265=\"\",\"\",STUDATA!G265)","v":"M"},{"$f":"IF(STUDATA!C265=\"\",\"\",STUDATA!C265)","v":11},"YES","NO","NO","NO","NO",{"$nulls":5},"NO","NO",null,"ONLINE","ONLINE",{"$nulls":3},"ONLINE","ONLINE",{"$nulls":8},"YES",null,"NO","YES","YES",{"$nulls":4},""]
[{"$f":"IF(F269=\"\",\"\",F269&\"_\"&COUNTIF($F$9:F269,F269))","v":"11_38"},{"$f":"IF(STUDATA!B266=\"\",\"\",STUDATA!B266)","v":261},{"$f":"IF(STUDATA!E266=\"\",\"\",STUDATA!E266)","v":"abc261"},{"$f":"IF(STUDATA!F266=\"\",\"\",STUDATA!F266)","v":"xyz261"},{"$f":"IF(STUDATA!G266=\"\",\"\",STUDATA!G266)","v":"M"},{"$f":"IF(STUDATA!C266=\"\",\"\",STUDATA!C266)","v":11},"YES","NO","NO","NO","NO",{"$nulls":5},"NO","NO",null,"ONLINE","ONLINE",{"$nulls":3},"ONLINE","ONLINE",{"$nulls":8},"YES",null,"NO","YES","YES",{"$nulls":4},""]
[{"$f":"IF(F270=\"\",\"\",F270&\"_\"&COUNTIF($F$9:F270,F270))","v":"11_39"},{"$f":"IF(STUDATA!B267=\"\",\"\",STUDATA!B267)","v":262},{"$f":"IF(STUDATA!E267=\"\",\"\",STUDATA!E267)","v":"abc262"},{"$f":"IF(STUDATA!F267=\"\",\"\",STUDATA!F267)","v":"xyz262"},{"$f":"IF(STUDATA!G267=\"\",\"\",STUDATA!G267)","v":"M"},{"$f":"IF(STUDATA!C267=\"\",\"\",STUDATA!C267)","v":11},"YES","NO","NO","NO","YES",{"$nulls":5},"NO","NO",null,"ONLINE","ONLINE",{"$nulls":3},"ONLINE","ONLINE",{"$nulls":8},"YES",null,"NO","YES","YES",{"$nulls":4},""]
[{"$f":"IF(F271=\"\",\"\",F271&\"_\"&COUNTIF($F$9:F271,F271))","v":"11_40"},{"$f":"IF(STUDATA!B268=\"\",\"\",STUDATA!B268)","v":263},{"$f":"IF(STUDATA!E268=\"\",\"\",STUDATA!E268)","v":"abc263"},{"$f":"IF(STUDATA!F268=\"\",\"\",STUDATA!F268)","v":"xyz263"},{"$f":"IF(STUDATA!G268=\"\",\"\",STUDATA!G268)","v":"F"},{"$f":"IF(STUDATA!C268=\"\",\"\",STUDATA!C268)","v":11},"YES","NO","NO","NO","YES",{"$nulls":5},"NO","NO",null,"ONLINE","ONLINE",{"$nulls":3},"ONLINE","ONLINE",{"$nulls":8},"YES",null,"NO","YES","YES",{"$nulls":4},""]
[{"$f":"IF(F272=\"\",\"\",F272&\"_\"&COUNTIF($F$9:F272,F272))","v":"11_41"},{"$f":"IF(STUDATA!B269=\"\",\"\",STUDATA!B269)","v":264},{"$f":"IF(STUDATA!E269=\"\",\"\",STUDATA!E269)","v":"abc264"},{"$f":"IF(STUDATA!F269=\"\",\"\",STUDATA!F269)","v":"xyz264"},{"$f":"IF(STUDATA!G269=\"\",\"\",STUDATA!G269)","v":"F"},{"$f":"IF(STUDATA!C269=\"\",\"\",STUDATA!C269)","v":11},"YES","NO","NO","NO","YES",{"$nulls":5},"NO","NO",null,"ONLINE","ONLINE",{"$nulls":3},"ONLINE","ONLINE",{"$nulls":8},"YES",null,"NO","YES","YES"]
[{"$f":"IF(F273=\"\",\"\",F273&\"_\"&COUNTIF($F$9:F273,F273))","v":"11_42"},{"$f":"IF(STUDATA!B270=\"\",\"\",STUDATA!B270)","v":265},{"$f":"IF(STUDATA!E270=\"\",\"\",STUDATA!E270)","v":"abc265"},{"$f":"IF(STUDATA!F270=\"\",\"\",STUDATA!F270)","v":"xyz265"},{"$f":"IF(STUDATA!G270=\"\",\"\",STUDATA!G270)","v":"F"},{"$f":"IF(STUDATA!C270=\"\",\"\",STUDATA!C270)","v":11},"YES","NO","NO","NO","NO",{"$nulls":5},"NO","NO",null,"ONLINE","ONLINE",{"$nulls":3},"ONLINE","ONLINE",{"$nulls":8},"YES",null,"NO","YES","YES"]
[{"$f":"IF(F274=\"\",\"\",F274&\"_\"&COUNTIF($F$9:F274,F274))","v":"11_43"},{"$f":"IF(STUDATA!B271=\"\",\"\",STUDATA!B271)","v":266},{"$f":"IF(STUDATA!E271=\"\",\"\",STUDATA!E271)","v":"abc266"},{"$f":"IF(STUDATA!F271=\"\",\"\",STUDATA!F271)","v":"xyz266"},{"$f":"IF(STUDATA!G271=\"\",\"\",STUDATA!G271)","v":"M"},{"$f":"IF(STUDATA!C271=\"\",\"\",STUDATA!C271)","v":11},"YES","NO","NO","NO","YES",{"$nulls":5},"NO","NO",null,"OFFLINE","OFFLINE",{"$nulls":3},"ONLINE","ONLINE",{"$nulls":8},"YES",null,"NO","YES","YES"]
[{"$f":"IF(F275=\"\",\"\",F275&\"_\"&COUNTIF($F$9:F275,F275))","v":"11_44"},{"$f":"IF(STUDATA!B272=\"\",\"\",STUDATA!B272)","v":267},{"$f":"IF(STUDATA!E272=\"\",\"\",STUDATA!E272)","v":"abc267"},{"$f":"IF(STUDATA!F272=\"\",\"\",STUDATA!F272)","v":"xyz267"},{"$f":"IF(STUDATA!G272=\"\",\"\",STUDATA!G272)","v":"F"},{"$f":"IF(STUDATA!C272=\"\",\"\",STUDATA!C272)","v":11},"YES","NO","NO","NO","YES",{"$nulls":5},"NO","NO",null,"OFFLINE","OFFLINE",{"$nulls":3},"ONLINE","ONLINE",{"$nulls":8},"YES",null,"NO","YES","YES"]
[{"$f":"IF(F276=\"\",\"\",F276&\"_\"&COUNTIF($F$9:F276,F276))","v":"11_45"},{"$f":"IF(STUDATA!B273=\"\",\"\",STUDATA!B273)","v":268},{"$f":"IF(STUDATA!E273=\"\",\"\",STUDATA!E273)","v":"abc268"},{"$f":"IF(STUDATA!F273=\"\",\"\",STUDATA!F273)","v":"xyz268"},{"$f":"IF(STUDATA!G273=\"\",\"\",STUDATA!G273)","v":"F"},{"$f":"IF(STUDATA!C273=\"\",\"\",STUDATA!C273)","v":11},"YES","NO","NO","NO","YES",{"$nulls":5},"NO","NO",null,"ONLINE","ONLINE",{"$nulls":3},"ONLINE","ONLINE",{"$nulls":8},"YES",null,"NO","YES","YES"]
[{"$f":"IF(F277=\"\",\"\",F277&\"_\"&COUNTIF($F$9:F277,F277))","v":"11_46"},{"$f":"IF(STUDATA!B274=\"\",\"\",STUDATA!B274)","v":269},{"$f":"IF(STUDATA!E274=\"\",\"\",STUDATA!E274)","v":"abc269"},{"$f":"IF(STUDATA!F274=\"\",\"\",STUDATA!F274)","v":"xyz269"},{"$f":"IF(STUDATA!G274=\"\",\"\",STUDATA!G274)","v":"F"},{"$f":"IF(STUDATA!C274=\"\",\"\",STUDATA!C274)","v":11},"YES","NO","NO","NO","NO",{"$nulls":5},"NO","NO",null,"ONLINE","ONLINE",{"$nulls":3},"ONLINE","ONLINE",{"$nulls":8},"YES",null,"NO","YES","YES"]
[{"$f":"IF(F278=\"\",\"\",F278&\"_\"&COUNTIF($F$9:F278,F278))","v":"11_47"},{"$f":"IF(STUDATA!B275=\"\",\"\",STUDATA!B275)","v":270},{"$f":"IF(STUDATA!E275=\"\",\"\",STUDATA!E275)","v":"abc270"},{"$f":"IF(STUDATA!F275=\"\",\"\",STUDATA!F275)","v":"xyz270"},{"$f":"IF(STUDATA!G275=\"\",\"\",STUDATA!G275)","v":"F"},{"$f":"IF(STUDATA!C275=\"\",\"\",STUDATA!C275)","v":11},"YES","NO","NO","NO","NO",{"$nulls":5},"NO","NO",null,"ONLINE","ONLINE",{"$nulls":3},"ONLINE","ONLINE",{"$nulls":8},"YES",null,"NO","YES","YES"]
[{"$f":"IF(F279=\"\",\"\",F279&\"_\"&COUNTIF($F$9:F279,F279))","v":"11_48"},{"$f":"IF(STUDATA!B276=\"\",\"\",STUDATA!B276)","v":271},{"$f":"IF(STUDATA!E276=\"\",\"\",STUDATA!E276)","v":"abc271"},{"$f":"IF(STUDATA!F276=\"\",\"\",STUDATA!F276)","v":"xyz271"},{"$f":"IF(STUDATA!G276=\"\",\"\",STUDATA!G276)","v":"M"},{"$f":"IF(STUDATA!C276=\"\",\"\",STUDATA!C276)","v":11},"YES","NO","NO","NO","YES",{"$nulls":5},"NO","NO",null,"ONLINE","ONLINE",{"$nulls":3},"ONLINE","ONLINE",{"$nulls":8},"YES",null,"NO","YES","YES"]
[{"$f":"IF(F280=\"\",\"\",F280&\"_\"&COUNTIF($F$9:F280,F280))","v":""},{"$f":"IF(STUDATA!B277=\"\",\"\",STUDATA!B277)","v":""},{"$f":"IF(STUDATA!E277=\"\",\"\",STUDATA!E277)","v":""},{"$f":"IF(STUDATA!F277=\"\",\"\",STUDATA!F277)","v":""},{"$f":"IF(STUDATA!G277=\"\",\"\",STUDATA!G277)","v":""},{"$f":"IF(STUDATA!C277=\"\",\"\",STUDATA!C277)","v":""}]
[{"$f":"IF(F281=\"\",\"\",F281&\"_\"&COUNTIF($F$9:F281,F281))","v":""},{"$f":"IF(STUDATA!B278=\"\",\"\",STUDATA!B278)","v":""},{"$f":"IF(STUDATA!E278=\"\",\"\",STUDATA!E278)","v":""},{"$f":"IF(STUDATA!F278=\"\",\"\",STUDATA!F278)","v":""},{"$f":"IF(STUDATA!G278=\"\",\"\",STUDATA!G278)","v":""},{"$f":"IF(STUDATA!C278=\"\",\"\",STUDATA!C278)","v":""}]
[{"$f":"IF(F282=\"\",\"\",F282&\"_\"&COUNTIF($F$9:F282,F282))","v":""},{"$f":"IF(STUDATA!B279=\"\",\"\",STUDATA!B279)","v":""},{"$f":"IF(STUDATA!E279=\"\",\"\",STUDATA!E279)","v":""},{"$f":"IF(STUDATA!F279=\"\",\"\",STUDATA!F279)","v":""},{"$f":"IF(STUDATA!G279=\"\",\"\",STUDATA!G279)","v":""},{"$f":"IF(STUDATA!C279=\"\",\"\",STUDATA!C279)","v":""}]
[{"$f":"IF(F283=\"\",\"\",F283&\"_\"&COUNTIF($F$9:F283,F283))","v":""},{"$f":"IF(STUDATA!B280=\"\",\"\",STUDATA!B280)","v":""},{"$f":"IF(STUDATA!E280=\"\",\"\",STUDATA!E280)","v":""},{"$f":"IF(STUDATA!F280=\"\",\"\",STUDATA!F280)","v":""},{"$f":"IF(STUDATA!G280=\"\",\"\",STUDATA!G280)","v":""},{"$f":"IF(STUDATA!C280=\"\",\"\",STUDATA!C280)","v":""}]
[{"$f":"IF(F284=\"\",\"\",F284&\"_\"&COUNTIF($F$9:F284,F284))","v":""},{"$f":"IF(STUDATA!B281=\"\",\"\",STUDATA!B281)","v":""},{"$f":"IF(STUDATA!E281=\"\",\"\",STUDATA!E281)","v":""},{"$f":"IF(STUDATA!F281=\"\",\"\",STUDATA!F281)","v":""},{"$f":"IF(STUDATA!G281=\"\",\"\",STUDATA!G281)","v":""},{"$f":"IF(STUDATA!C281=\"\",\"\",STUDATA!C281)","v":""}]
[{"$f":"IF(F285=\"\",\"\",F285&\"_\"&COUNTIF($F$9:F285,F285))","v":""},{"$f":"IF(STUDATA!B282=\"\",\"\",STUDATA!B282)","v":""},{"$f":"IF(STUDATA!E282=\"\",\"\",STUDATA!E282)","v":""},{"$f":"IF(STUDATA!F282=\"\",\"\",STUDATA!F282)","v":""},{"$f":"IF(STUDATA!G282=\"\",\"\",STUDATA!G282)","v":""},{"$f":"IF(STUDATA!C282=\"\",\"\",STUDATA!C282)","v":""}]
[{"$f":"IF(F286=\"\",\"\",F286&\"_\"&COUNTIF($F$9:F286,F286))","v":""},{"$f":"IF(STUDATA!B283=\"\",\"\",STUDATA!B283)","v":""},{"$f":"IF(STUDATA!E283=\"\",\"\",STUDATA!E283)","v":""},{"$f":"IF(STUDATA!F283=\"\",\"\",STUDATA!F283)","v":""},{"$f":"IF(STUDATA!G283=\"\",\"\",STUDATA!G283)","v":""},{"$f":"IF(STUDATA!C283=\"\",\"\",STUDATA!C283)","v":""}]
[{"$f":"IF(F287=\"\",\"\",F287&\"_\"&COUNTIF($F$9:F287,F287))","v":""},{"$f":"IF(STUDATA!B284=\"\",\"\",STUDATA!B284)","v":""},{"$f":"IF(STUDATA!E284=\"\",\"\",STUDATA!E284)","v":""},{"$f":"IF(STUDATA!F284=\"\",\"\",STUDATA!F284)","v":""},{"$f":"IF(STUDATA!G284=\"\",\"\",STUDATA!G284)","v":""},{"$f":"IF(STUDATA!C284=\"\",\"\",STUDATA!C284)","v":""}]
[{"$f":"IF(F288=\"\",\"\",F288&\"_\"&COUNTIF($F$9:F288,F288))","v":""},{"$f":"IF(STUDATA!B285=\"\",\"\",STUDATA!B285)","v":""},{"$f":"IF(STUDATA!E285=\"\",\"\",STUDATA!E285)","v":""},{"$f":"IF(STUDATA!F285=\"\",\"\",STUDATA!F285)","v":""},{"$f":"IF(STUDATA!G285=\"\",\"\",STUDATA!G285)","v":""},{"$f":"IF(STUDATA!C285=\"\",\"\",STUDATA!C285)","v":""}]
[{"$f":"IF(F289=\"\",\"\",F289&\"_\"&COUNTIF($F$9:F289,F289))","v":""},{"$f":"IF(STUDATA!B286=\"\",\"\",STUDATA!B286)","v":""},{"$f":"IF(STUDATA!E286=\"\",\"\",STUDATA!E286)","v":""},{"$f":"IF(STUDATA!F286=\"\",\"\",STUDATA!F286)","v":""},{"$f":"IF(STUDATA!G286=\"\",\"\",STUDATA!G286)","v":""},{"$f":"IF(STUDATA!C286=\"\",\"\",STUDATA!C286)","v":""}]
[{"$f":"IF(F290=\"\",\"\",F290&\"_\"&COUNTIF($F$9:F290,F290))","v":""},{"$f":"IF(STUDATA!B287=\"\",\"\",STUDATA!B287)","v":""},{"$f":"IF(STUDATA!E287=\"\",\"\",STUDATA!E287)","v":""},{"$f":"IF(STUDATA!F287=\"\",\"\",STUDATA!F287)","v":""},{"$f":"IF(STUDATA!G287=\"\",\"\",STUDATA!G287)","v":""},{"$f":"IF(STUDATA!C287=\"\",\"\",STUDATA!C287)","v":""}]
[{"$f":"IF(F291=\"\",\"\",F291&\"_\"&COUNTIF($F$9:F291,F291))","v":""},{"$f":"IF(STUDATA!B288=\"\",\"\",STUDATA!B288)","v":""},{"$f":"IF(STUDATA!E288=\"\",\"\",STUDATA!E288)","v":""},{"$f":"IF(STUDATA!F288=\"\",\"\",STUDATA!F288)","v":""},{"$f":"IF(STUDATA!G288=\"\",\"\",STUDATA!G288)","v":""},{"$f":"IF(STUDATA!C288=\"\",\"\",STUDATA!C288)","v":""}]
[{"$f":"IF(F292=\"\",\"\",F292&\"_\"&COUNTIF($F$9:F292,F292))","v":""},{"$f":"IF(STUDATA!B289=\"\",\"\",STUDATA!B289)","v":""},{"$f":"IF(STUDATA!E289=\"\",\"\",STUDATA!E289)","v":""},{"$f":"IF(STUDATA!F289=\"\",\"\",STUDATA!F289)","v":""},{"$f":"IF(STUDATA!G289=\"\",\"\",STUDATA!G289)","v":""},{"$f":"IF(STUDATA!C289=\"\",\"\",STUDATA!C289)","v":""}]
[{"$f":"IF(F293=\"\",\"\",F293&\"_\"&COUNTIF($F$9:F293,F293))","v":""},{"$f":"IF(STUDATA!B290=\"\",\"\",STUDATA!B290)","v":""},{"$f":"IF(STUDATA!E290=\"\",\"\",STUDATA!E290)","v":""},{"$f":"IF(STUDATA!F290=\"\",\"\",STUDATA!F290)","v":""},{"$f":"IF(STUDATA!G290=\"\",\"\",STUDATA!G290)","v":""},{"$f":"IF(STUDATA!C290=\"\",\"\",STUDATA!C290)","v":""}]
[{"$f":"IF(F294=\"\",\"\",F294&\"_\"&COUNTIF($F$9:F294,F294))","v":""},{"$f":"IF(STUDATA!B291=\"\",\"\",STUDATA!B291)","v":""},{"$f":"IF(STUDATA!E291=\"\",\"\",STUDATA!E291)","v":""},{"$f":"IF(STUDATA!F291=\"\",\"\",STUDATA!F291)","v":""},{"$f":"IF(STUDATA!G291=\"\",\"\",STUDATA!G291)","v":""},{"$f":"IF(STUDATA!C291=\"\",\"\",STUDATA!C291)","v":""}]
[{"$f":"IF(F295=\"\",\"\",F295&\"_\"&COUNTIF($F$9:F295,F295))","v":""},{"$f":"IF(STUDATA!B292=\"\",\"\",STUDATA!B292)","v":""},{"$f":"IF(STUDATA!E292=\"\",\"\",STUDATA!E292)","v":""},{"$f":"IF(STUDATA!F292=\"\",\"\",STUDATA!F292)","v":""},{"$f":"IF(STUDATA!G292=\"\",\"\",STUDATA!G292)","v":""},{"$f":"IF(STUDATA!C292=\"\",\"\",STUDATA!C292)","v":""}]
[{"$f":"IF(F296=\"\",\"\",F296&\"_\"&COUNTIF($F$9:F296,F296))","v":""},{"$f":"IF(STUDATA!B293=\"\",\"\",STUDATA!B293)","v":""},{"$f":"IF(STUDATA!E293=\"\",\"\",STUDATA!E293)","v":""},{"$f":"IF(STUDATA!F293=\"\",\"\",STUDATA!F293)","v":""},{"$f":"IF(STUDATA!G293=\"\",\"\",STUDATA!G293)","v":""},{"$f":"IF(STUDATA!C293=\"\",\"\",STUDATA!C293)","v":""}]
[{"$f":"IF(F297=\"\",\"\",F297&\"_\"&COUNTIF($F$9:F297,F297))","v":""},{"$f":"IF(STUDATA!B294=\"\",\"\",STUDATA!B294)","v":""},{"$f":"IF(STUDATA!E294=\"\",\"\",STUDATA!E294)","v":""},{"$f":"IF(STUDATA!F294=\"\",\"\",STUDATA!F294)","v":""},{"$f":"IF(STUDATA!G294=\"\",\"\",STUDATA!G294)","v":""},{"$f":"IF(STUDATA!C294=\"\",\"\",STUDATA!C294)","v":""}]
[{"$f":"IF(F298=\"\",\"\",F298&\"_\"&COUNTIF($F$9:F298,F298))","v":""},{"$f":"IF(STUDATA!B295=\"\",\"\",STUDATA!B295)","v":""},{"$f":"IF(STUDATA!E295=\"\",\"\",STUDATA!E295)","v":""},{"$f":"IF(STUDATA!F295=\"\",\"\",STUDATA!F295)","v":""},{"$f":"IF(STUDATA!G295=\"\",\"\",STUDATA!G295)","v":""},{"$f":"IF(STUDATA!C295=\"\",\"\",STUDATA!C295)","v":""}]
[{"$f":"IF(F299=\"\",\"\",F299&\"_\"&COUNTIF($F$9:F299,F299))","v":""},{"$f":"IF(STUDATA!B296=\"\",\"\",STUDATA!B296)","v":""},{"$f":"IF(STUDATA!E296=\"\",\"\",STUDATA!E296)","v":""},{"$f":"IF(STUDATA!F296=\"\",\"\",STUDATA!F296)","v":""},{"$f":"IF(STUDATA!G296=\"\",\"\",STUDATA!G296)","v":""},{"$f":"IF(STUDATA!C296=\"\",\"\",STUDATA!C296)","v":""}]
[{"$f":"IF(F300=\"\",\"\",F300&\"_\"&COUNTIF($F$9:F300,F300))","v":""},{"$f":"IF(STUDATA!B297=\"\",\"\",STUDATA!B297)","v":""},{"$f":"IF(STUDATA!E297=\"\",\"\",STUDATA!E297)","v":""},{"$f":"IF(STUDATA!F297=\"\",\"\",STUDATA!F297)","v":""},{"$f":"IF(STUDATA!G297=\"\",\"\",STUDATA!G297)","v":""},{"$f":"IF(STUDATA!C297=\"\",\"\",STUDATA!C297)","v":""}]
[{"$f":"IF(F301=\"\",\"\",F301&\"_\"&COUNTIF($F$9:F301,F301))","v":""},{"$f":"IF(STUDATA!B298=\"\",\"\",STUDATA!B298)","v":""},{"$f":"IF(STUDATA!E298=\"\",\"\",STUDATA!E298)","v":""},{"$f":"IF(STUDATA!F298=\"\",\"\",STUDATA!F298)","v":""},{"$f":"IF(STUDATA!G298=\"\",\"\",STUDATA!G298)","v":""},{"$f":"IF(STUDATA!C298=\"\",\"\",STUDATA!C298)","v":""}]
[{"$f":"IF(F302=\"\",\"\",F302&\"_\"&COUNTIF($F$9:F302,F302))","v":""},{"$f":"IF(STUDATA!B299=\"\",\"\",STUDATA!B299)","v":""},{"$f":"IF(STUDATA!E299=\"\",\"\",STUDATA!E299)","v":""},{"$f":"IF(STUDATA!F299=\"\",\"\",STUDATA!F299)","v":""},{"$f":"IF(STUDATA!G299=\"\",\"\",STUDATA!G299)","v":""},{"$f":"IF(STUDATA!C299=\"\",\"\",STUDATA!C299)","v":""}]
[{"$f":"IF(F303=\"\",\"\",F303&\"_\"&COUNTIF($F$9:F303,F303))","v":""},{"$f":"IF(STUDATA!B300=\"\",\"\",STUDATA!B300)","v":""},{"$f":"IF(STUDATA!E300=\"\",\"\",STUDATA!E300)","v":""},{"$f":"IF(STUDATA!F300=\"\",\"\",STUDATA!F300)","v":""},{"$f":"IF(STUDATA!G300=\"\",\"\",STUDATA!G300)","v":""},{"$f":"IF(STUDATA!C300=\"\",\"\",STUDATA!C300)","v":""}]
[{"$f":"IF(F304=\"\",\"\",F304&\"_\"&COUNTIF($F$9:F304,F304))","v":""},{"$f":"IF(STUDATA!B301=\"\",\"\",STUDATA!B301)","v":""},{"$f":"IF(STUDATA!E301=\"\",\"\",STUDATA!E301)","v":""},{"$f":"IF(STUDATA!F301=\"\",\"\",STUDATA!F301)","v":""},{"$f":"IF(STUDATA!G301=\"\",\"\",STUDATA!G301)","v":""},{"$f":"IF(STUDATA!C301=\"\",\"\",STUDATA!C301)","v":""}]
[{"$f":"IF(F305=\"\",\"\",F305&\"_\"&COUNTIF($F$9:F305,F305))","v":""},{"$f":"IF(STUDATA!B302=\"\",\"\",STUDATA!B302)","v":""},{"$f":"IF(STUDATA!E302=\"\",\"\",STUDATA!E302)","v":""},{"$f":"IF(STUDATA!F302=\"\",\"\",STUDATA!F302)","v":""},{"$f":"IF(STUDATA!G302=\"\",\"\",STUDATA!G302)","v":""},{"$f":"IF(STUDATA!C302=\"\",\"\",STUDATA!C302)","v":""}]
[{"$f":"IF(F306=\"\",\"\",F306&\"_\"&COUNTIF($F$9:F306,F306))","v":""},{"$f":"IF(STUDATA!B303=\"\",\"\",STUDATA!B303)","v":""},{"$f":"IF(STUDATA!E303=\"\",\"\",STUDATA!E303)","v":""},{"$f":"IF(STUDATA!F303=\"\",\"\",STUDATA!F303)","v":""},{"$f":"IF(STUDATA!G303=\"\",\"\",STUDATA!G303)","v":""},{"$f":"IF(STUDATA!C303=\"\",\"\",STUDATA!C303)","v":""}]
[{"$f":"IF(F307=\"\",\"\",F307&\"_\"&COUNTIF($F$9:F307,F307))","v":""},{"$f":"IF(STUDATA!B304=\"\",\"\",STUDATA!B304)","v":""},{"$f":"IF(STUDATA!E304=\"\",\"\",STUDATA!E304)","v":""},{"$f":"IF(STUDATA!F304=\"\",\"\",STUDATA!F304)","v":""},{"$f":"IF(STUDATA!G304=\"\",\"\",STUDATA!G304)","v":""},{"$f":"IF(STUDATA!C304=\"\",\"\",STUDATA!C304)","v":""}]
[{"$f":"IF(F308=\"\",\"\",F308&\"_\"&COUNTIF($F$9:F308,F308))","v":""},{"$f":"IF(STUDATA!B305=\"\",\"\",STUDATA!B305)","v":""},{"$f":"IF(STUDATA!E305=\"\",\"\",STUDATA!E305)","v":""},{"$f":"IF(STUDATA!F305=\"\",\"\",STUDATA!F305)","v":""},{"$f":"IF(STUDATA!G305=\"\",\"\",STUDATA!G305)","v":""},{"$f":"IF(STUDATA!C305=\"\",\"\",STUDATA!C305)","v":""}]
[{"$f":"IF(F309=\"\",\"\",F309&\"_\"&COUNTIF($F$9:F309,F309))","v":""},{"$f":"IF(STUDATA!B306=\"\",\"\",STUDATA!B306)","v":""},{"$f":"IF(STUDATA!E306=\"\",\"\",STUDATA!E306)","v":""},{"$f":"IF(STUDATA!F306=\"\",\"\",STUDATA!F306)","v":""},{"$f":"IF(STUDATA!G306=\"\",\"\",STUDATA!G306)","v":""},{"$f":"IF(STUDATA!C306=\"\",\"\",STUDATA!C306)","v":""}]
[{"$f":"IF(F310=\"\",\"\",F310&\"_\"&COUNTIF($F$9:F310,F310))","v":""},{"$f":"IF(STUDATA!B307=\"\",\"\",STUDATA!B307)","v":""},{"$f":"IF(STUDATA!E307=\"\",\"\",STUDATA!E307)","v":""},{"$f":"IF(STUDATA!F307=\"\",\"\",STUDATA!F307)","v":""},{"$f":"IF(STUDATA!G307=\"\",\"\",STUDATA!G307)","v":""},{"$f":"IF(STUDATA!C307=\"\",\"\",STUDATA!C307)","v":""}]
[{"$f":"IF(F311=\"\",\"\",F311&\"_\"&COUNTIF($F$9:F311,F311))","v":""},{"$f":"IF(STUDATA!B308=\"\",\"\",STUDATA!B308)","v":""},{"$f":"IF(STUDATA!E308=\"\",\"\",STUDATA!E308)","v":""},{"$f":"IF(STUDATA!F308=\"\",\"\",STUDATA!F308)","v":""},{"$f":"IF(STUDATA!G308=\"\",\"\",STUDATA!G308)","v":""},{"$f":"IF(STUDATA!C308=\"\",\"\",STUDATA!C308)","v":""}]
[{"$f":"IF(F312=\"\",\"\",F312&\"_\"&COUNTIF($F$9:F312,F312))","v":""},{"$f":"IF(STUDATA!B309=\"\",\"\",STUDATA!B309)","v":""},{"$f":"IF(STUDATA!E309=\"\",\"\",STUDATA!E309)","v":""},{"$f":"IF(STUDATA!F309=\"\",\"\",STUDATA!F309)","v":""},{"$f":"IF(STUDATA!G309=\"\",\"\",STUDATA!G309)","v":""},{"$f":"IF(STUDATA!C309=\"\",\"\",STUDATA!C309)","v":""}]
[{"$f":"IF(F313=\"\",\"\",F313&\"_\"&COUNTIF($F$9:F313,F313))","v":""},{"$f":"IF(STUDATA!B310=\"\",\"\",STUDATA!B310)","v":""},{"$f":"IF(STUDATA!E310=\"\",\"\",STUDATA!E310)","v":""},{"$f":"IF(STUDATA!F310=\"\",\"\",STUDATA!F310)","v":""},{"$f":"IF(STUDATA!G310=\"\",\"\",STUDATA!G310)","v":""},{"$f":"IF(STUDATA!C310=\"\",\"\",STUDATA!C310)","v":""}]
[{"$f":"IF(F314=\"\",\"\",F314&\"_\"&COUNTIF($F$9:F314,F314))","v":""},{"$f":"IF(STUDATA!B311=\"\",\"\",STUDATA!B311)","v":""},{"$f":"IF(STUDATA!E311=\"\",\"\",STUDATA!E311)","v":""},{"$f":"IF(STUDATA!F311=\"\",\"\",STUDATA!F311)","v":""},{"$f":"IF(STUDATA!G311=\"\",\"\",STUDATA!G311)","v":""},{"$f":"IF(STUDATA!C311=\"\",\"\",STUDATA!C311)","v":""}]
[{"$f":"IF(F315=\"\",\"\",F315&\"_\"&COUNTIF($F$9:F315,F315))","v":""},{"$f":"IF(STUDATA!B312=\"\",\"\",STUDATA!B312)","v":""},{"$f":"IF(STUDATA!E312=\"\",\"\",STUDATA!E312)","v":""},{"$f":"IF(STUDATA!F312=\"\",\"\",STUDATA!F312)","v":""},{"$f":"IF(STUDATA!G312=\"\",\"\",STUDATA!G312)","v":""},{"$f":"IF(STUDATA!C312=\"\",\"\",STUDATA!C312)","v":""}]
[{"$f":"IF(F316=\"\",\"\",F316&\"_\"&COUNTIF($F$9:F316,F316))","v":""},{"$f":"IF(STUDATA!B313=\"\",\"\",STUDATA!B313)","v":""},{"$f":"IF(STUDATA!E313=\"\",\"\",STUDATA!E313)","v":""},{"$f":"IF(STUDATA!F313=\"\",\"\",STUDATA!F313)","v":""},{"$f":"IF(STUDATA!G313=\"\",\"\",STUDATA!G313)","v":""},{"$f":"IF(STUDATA!C313=\"\",\"\",STUDATA!C313)","v":""}]
[{"$f":"IF(F317=\"\",\"\",F317&\"_\"&COUNTIF($F$9:F317,F317))","v":""},{"$f":"IF(STUDATA!B314=\"\",\"\",STUDATA!B314)","v":""},{"$f":"IF(STUDATA!E314=\"\",\"\",STUDATA!E314)","v":""},{"$f":"IF(STUDATA!F314=\"\",\"\",STUDATA!F314)","v":""},{"$f":"IF(STUDATA!G314=\"\",\"\",STUDATA!G314)","v":""},{"$f":"IF(STUDATA!C314=\"\",\"\",STUDATA!C314)","v":""}]
[{"$f":"IF(F318=\"\",\"\",F318&\"_\"&COUNTIF($F$9:F318,F318))","v":""},{"$f":"IF(STUDATA!B315=\"\",\"\",STUDATA!B315)","v":""},{"$f":"IF(STUDATA!E315=\"\",\"\",STUDATA!E315)","v":""},{"$f":"IF(STUDATA!F315=\"\",\"\",STUDATA!F315)","v":""},{"$f":"IF(STUDATA!G315=\"\",\"\",STUDATA!G315)","v":""},{"$f":"IF(STUDATA!C315=\"\",\"\",STUDATA!C315)","v":""}]
[{"$f":"IF(F319=\"\",\"\",F319&\"_\"&COUNTIF($F$9:F319,F319))","v":""},{"$f":"IF(STUDATA!B316=\"\",\"\",STUDATA!B316)","v":""},{"$f":"IF(STUDATA!E316=\"\",\"\",STUDATA!E316)","v":""},{"$f":"IF(STUDATA!F316=\"\",\"\",STUDATA!F316)","v":""},{"$f":"IF(STUDATA!G316=\"\",\"\",STUDATA!G316)","v":""},{"$f":"IF(STUDATA!C316=\"\",\"\",STUDATA!C316)","v":""}]
[{"$f":"IF(F320=\"\",\"\",F320&\"_\"&COUNTIF($F$9:F320,F320))","v":""},{"$f":"IF(STUDATA!B317=\"\",\"\",STUDATA!B317)","v":""},{"$f":"IF(STUDATA!E317=\"\",\"\",STUDATA!E317)","v":""},{"$f":"IF(STUDATA!F317=\"\",\"\",STUDATA!F317)","v":""},{"$f":"IF(STUDATA!G317=\"\",\"\",STUDATA!G317)","v":""},{"$f":"IF(STUDATA!C317=\"\",\"\",STUDATA!C317)","v":""}]
[{"$f":"IF(F321=\"\",\"\",F321&\"_\"&COUNTIF($F$9:F321,F321))","v":""},{"$f":"IF(STUDATA!B318=\"\",\"\",STUDATA!B318)","v":""},{"$f":"IF(STUDATA!E318=\"\",\"\",STUDATA!E318)","v":""},{"$f":"IF(STUDATA!F318=\"\",\"\",STUDATA!F318)","v":""},{"$f":"IF(STUDATA!G318=\"\",\"\",STUDATA!G318)","v":""},{"$f":"IF(STUDATA!C318=\"\",\"\",STUDATA!C318)","v":""}]
[{"$f":"IF(F322=\"\",\"\",F322&\"_\"&COUNTIF($F$9:F322,F322))","v":""},{"$f":"IF(STUDATA!B319=\"\",\"\",STUDATA!B319)","v":""},{"$f":"IF(STUDATA!E319=\"\",\"\",STUDATA!E319)","v":""},{"$f":"IF(STUDATA!F319=\"\",\"\",STUDATA!F319)","v":""},{"$f":"IF(STUDATA!G319=\"\",\"\",STUDATA!G319)","v":""},{"$f":"IF(STUDATA!C319=\"\",\"\",STUDATA!C319)","v":""}]
[{"$f":"IF(F323=\"\",\"\",F323&\"_\"&COUNTIF($F$9:F323,F323))","v":""},{"$f":"IF(STUDATA!B320=\"\",\"\",STUDATA!B320)","v":""},{"$f":"IF(STUDATA!E320=\"\",\"\",STUDATA!E320)","v":""},{"$f":"IF(STUDATA!F320=\"\",\"\",STUDATA!F320)","v":""},{"$f":"IF(STUDATA!G320=\"\",\"\",STUDATA!G320)","v":""},{"$f":"IF(STUDATA!C320=\"\",\"\",STUDATA!C320)","v":""}]
[{"$f":"IF(F324=\"\",\"\",F324&\"_\"&COUNTIF($F$9:F324,F324))","v":""},{"$f":"IF(STUDATA!B321=\"\",\"\",STUDATA!B321)","v":""},{"$f":"IF(STUDATA!E321=\"\",\"\",STUDATA!E321)","v":""},{"$f":"IF(STUDATA!F321=\"\",\"\",STUDATA!F321)","v":""},{"$f":"IF(STUDATA!G321=\"\",\"\",STUDATA!G321)","v":""},{"$f":"IF(STUDATA!C321=\"\",\"\",STUDATA!C321)","v":""}]
[{"$f":"IF(F325=\"\",\"\",F325&\"_\"&COUNTIF($F$9:F325,F325))","v":""},{"$f":"IF(STUDATA!B322=\"\",\"\",STUDATA!B322)","v":""},{"$f":"IF(STUDATA!E322=\"\",\"\",STUDATA!E322)","v":""},{"$f":"IF(STUDATA!F322=\"\",\"\",STUDATA!F322)","v":""},{"$f":"IF(STUDATA!G322=\"\",\"\",STUDATA!G322)","v":""},{"$f":"IF(STUDATA!C322=\"\",\"\",STUDATA!C322)","v":""}]
[{"$f":"IF(F326=\"\",\"\",F326&\"_\"&COUNTIF($F$9:F326,F326))","v":""},{"$f":"IF(STUDATA!B323=\"\",\"\",STUDATA!B323)","v":""},{"$f":"IF(STUDATA!E323=\"\",\"\",STUDATA!E323)","v":""},{"$f":"IF(STUDATA!F323=\"\",\"\",STUDATA!F323)","v":""},{"$f":"IF(STUDATA!G323=\"\",\"\",STUDATA!G323)","v":""},{"$f":"IF(STUDATA!C323=\"\",\"\",STUDATA!C323)","v":""}]
[{"$f":"IF(F327=\"\",\"\",F327&\"_\"&COUNTIF($F$9:F327,F327))","v":""},{"$f":"IF(STUDATA!B324=\"\",\"\",STUDATA!B324)","v":""},{"$f":"IF(STUDATA!E324=\"\",\"\",STUDATA!E324)","v":""},{"$f":"IF(STUDATA!F324=\"\",\"\",STUDATA!F324)","v":""},{"$f":"IF(STUDATA!G324=\"\",\"\",STUDATA!G324)","v":""},{"$f":"IF(STUDATA!C324=\"\",\"\",STUDATA!C324)","v":""}]
[{"$f":"IF(F328=\"\",\"\",F328&\"_\"&COUNTIF($F$9:F328,F328))","v":""},{"$f":"IF(STUDATA!B325=\"\",\"\",STUDATA!B325)","v":""},{"$f":"IF(STUDATA!E325=\"\",\"\",STUDATA!E325)","v":""},{"$f":"IF(STUDATA!F325=\"\",\"\",STUDATA!F325)","v":""},{"$f":"IF(STUDATA!G325=\"\",\"\",STUDATA!G325)","v":""},{"$f":"IF(STUDATA!C325=\"\",\"\",STUDATA!C325)","v":""}]
[{"$f":"IF(F329=\"\",\"\",F329&\"_\"&COUNTIF($F$9:F329,F329))","v":""},{"$f":"IF(STUDATA!B326=\"\",\"\",STUDATA!B326)","v":""},{"$f":"IF(STUDATA!E326=\"\",\"\",STUDATA!E326)","v":""},{"$f":"IF(STUDATA!F326=\"\",\"\",STUDATA!F326)","v":""},{"$f":"IF(STUDATA!G326=\"\",\"\",STUDATA!G326)","v":""},{"$f":"IF(STUDATA!C326=\"\",\"\",STUDATA!C326)","v":""}]
[{"$f":"IF(F330=\"\",\"\",F330&\"_\"&COUNTIF($F$9:F330,F330))","v":""},{"$f":"IF(STUDATA!B327=\"\",\"\",STUDATA!B327)","v":""},{"$f":"IF(STUDATA!E327=\"\",\"\",STUDATA!E327)","v":""},{"$f":"IF(STUDATA!F327=\"\",\"\",STUDATA!F327)","v":""},{"$f":"IF(STUDATA!G327=\"\",\"\",STUDATA!G327)","v":""},{"$f":"IF(STUDATA!C327=\"\",\"\",STUDATA!C327)","v":""}]
[{"$f":"IF(F331=\"\",\"\",F331&\"_\"&COUNTIF($F$9:F331,F331))","v":""},{"$f":"IF(STUDATA!B328=\"\",\"\",STUDATA!B328)","v":""},{"$f":"IF(STUDATA!E328=\"\",\"\",STUDATA!E328)","v":""},{"$f":"IF(STUDATA!F328=\"\",\"\",STUDATA!F328)","v":""},{"$f":"IF(STUDATA!G328=\"\",\"\",STUDATA!G328)","v":""},{"$f":"IF(STUDATA!C328=\"\",\"\",STUDATA!C328)","v":""}]
[{"$f":"IF(F332=\"\",\"\",F332&\"_\"&COUNTIF($F$9:F332,F332))","v":""},{"$f":"IF(STUDATA!B329=\"\",\"\",STUDATA!B329)","v":""},{"$f":"IF(STUDATA!E329=\"\",\"\",STUDATA!E329)","v":""},{"$f":"IF(STUDATA!F329=\"\",\"\",STUDATA!F329)","v":""},{"$f":"IF(STUDATA!G329=\"\",\"\",STUDATA!G329)","v":""},{"$f":"IF(STUDATA!C329=\"\",\"\",STUDATA!C329)","v":""}]
[{"$f":"IF(F333=\"\",\"\",F333&\"_\"&COUNTIF($F$9:F333,F333))","v":""},{"$f":"IF(STUDATA!B330=\"\",\"\",STUDATA!B330)","v":""},{"$f":"IF(STUDATA!E330=\"\",\"\",STUDATA!E330)","v":""},{"$f":"IF(STUDATA!F330=\"\",\"\",STUDATA!F330)","v":""},{"$f":"IF(STUDATA!G330=\"\",\"\",STUDATA!G330)","v":""},{"$f":"IF(STUDATA!C330=\"\",\"\",STUDATA!C330)","v":""}]
[{"$f":"IF(F334=\"\",\"\",F334&\"_\"&COUNTIF($F$9:F334,F334))","v":""},{"$f":"IF(STUDATA!B331=\"\",\"\",STUDATA!B331)","v":""},{"$f":"IF(STUDATA!E331=\"\",\"\",STUDATA!E331)","v":""},{"$f":"IF(STUDATA!F331=\"\",\"\",STUDATA!F331)","v":""},{"$f":"IF(STUDATA!G331=\"\",\"\",STUDATA!G331)","v":""},{"$f":"IF(STUDATA!C331=\"\",\"\",STUDATA!C331)","v":""}]
[{"$f":"IF(F335=\"\",\"\",F335&\"_\"&COUNTIF($F$9:F335,F335))","v":""},{"$f":"IF(STUDATA!B332=\"\",\"\",STUDATA!B332)","v":""},{"$f":"IF(STUDATA!E332=\"\",\"\",STUDATA!E332)","v":""},{"$f":"IF(STUDATA!F332=\"\",\"\",STUDATA!F332)","v":""},{"$f":"IF(STUDATA!G332=\"\",\"\",STUDATA!G332)","v":""},{"$f":"IF(STUDATA!C332=\"\",\"\",STUDATA!C332)","v":""}]
[{"$f":"IF(F336=\"\",\"\",F336&\"_\"&COUNTIF($F$9:F336,F336))","v":""},{"$f":"IF(STUDATA!B333=\"\",\"\",STUDATA!B333)","v":""},{"$f":"IF(STUDATA!E333=\"\",\"\",STUDATA!E333)","v":""},{"$f":"IF(STUDATA!F333=\"\",\"\",STUDATA!F333)","v":""},{"$f":"IF(STUDATA!G333=\"\",\"\",STUDATA!G333)","v":""},{"$f":"IF(STUDATA!C333=\"\",\"\",STUDATA!C333)","v":""}]
[{"$f":"IF(F337=\"\",\"\",F337&\"_\"&COUNTIF($F$9:F337,F337))","v":""},{"$f":"IF(STUDATA!B334=\"\",\"\",STUDATA!B334)","v":""},{"$f":"IF(STUDATA!E334=\"\",\"\",STUDATA!E334)","v":""},{"$f":"IF(STUDATA!F334=\"\",\"\",STUDATA!F334)","v":""},{"$f":"IF(STUDATA!G334=\"\",\"\",STUDATA!G334)","v":""},{"$f":"IF(STUDATA!C334=\"\",\"\",STUDATA!C334)","v":""}]
[{"$f":"IF(F338=\"\",\"\",F338&\"_\"&COUNTIF($F$9:F338,F338))","v":""},{"$f":"IF(STUDATA!B335=\"\",\"\",STUDATA!B335)","v":""},{"$f":"IF(STUDATA!E335=\"\",\"\",STUDATA!E335)","v":""},{"$f":"IF(STUDATA!F335=\"\",\"\",STUDATA!F335)","v":""},{"$f":"IF(STUDATA!G335=\"\",\"\",STUDATA!G335)","v":""},{"$f":"IF(STUDATA!C335=\"\",\"\",STUDATA!C335)","v":""}]
[{"$f":"IF(F339=\"\",\"\",F339&\"_\"&COUNTIF($F$9:F339,F339))","v":""},{"$f":"IF(STUDATA!B336=\"\",\"\",STUDATA!B336)","v":""},{"$f":"IF(STUDATA!E336=\"\",\"\",STUDATA!E336)","v":""},{"$f":"IF(STUDATA!F336=\"\",\"\",STUDATA!F336)","v":""},{"$f":"IF(STUDATA!G336=\"\",\"\",STUDATA!G336)","v":""},{"$f":"IF(STUDATA!C336=\"\",\"\",STUDATA!C336)","v":""}]
[{"$f":"IF(F340=\"\",\"\",F340&\"_\"&COUNTIF($F$9:F340,F340))","v":""},{"$f":"IF(STUDATA!B337=\"\",\"\",STUDATA!B337)","v":""},{"$f":"IF(STUDATA!E337=\"\",\"\",STUDATA!E337)","v":""},{"$f":"IF(STUDATA!F337=\"\",\"\",STUDATA!F337)","v":""},{"$f":"IF(STUDATA!G337=\"\",\"\",STUDATA!G337)","v":""},{"$f":"IF(STUDATA!C337=\"\",\"\",STUDATA!C337)","v":""}]
[{"$f":"IF(F341=\"\",\"\",F341&\"_\"&COUNTIF($F$9:F341,F341))","v":""},{"$f":"IF(STUDATA!B338=\"\",\"\",STUDATA!B338)","v":""},{"$f":"IF(STUDATA!E338=\"\",\"\",STUDATA!E338)","v":""},{"$f":"IF(STUDATA!F338=\"\",\"\",STUDATA!F338)","v":""},{"$f":"IF(STUDATA!G338=\"\",\"\",STUDATA!G338)","v":""},{"$f":"IF(STUDATA!C338=\"\",\"\",STUDATA!C338)","v":""}]
[{"$f":"IF(F342=\"\",\"\",F342&\"_\"&COUNTIF($F$9:F342,F342))","v":""},{"$f":"IF(STUDATA!B339=\"\",\"\",STUDATA!B339)","v":""},{"$f":"IF(STUDATA!E339=\"\",\"\",STUDATA!E339)","v":""},{"$f":"IF(STUDATA!F339=\"\",\"\",STUDATA!F339)","v":""},{"$f":"IF(STUDATA!G339=\"\",\"\",STUDATA!G339)","v":""},{"$f":"IF(STUDATA!C339=\"\",\"\",STUDATA!C339)","v":""}]
[{"$f":"IF(F343=\"\",\"\",F343&\"_\"&COUNTIF($F$9:F343,F343))","v":""},{"$f":"IF(STUDATA!B340=\"\",\"\",STUDATA!B340)","v":""},{"$f":"IF(STUDATA!E340=\"\",\"\",STUDATA!E340)","v":""},{"$f":"IF(STUDATA!F340=\"\",\"\",STUDATA!F340)","v":""},{"$f":"IF(STUDATA!G340=\"\",\"\",STUDATA!G340)","v":""},{"$f":"IF(STUDATA!C340=\"\",\"\",STUDATA!C340)","v":""}]
[{"$f":"IF(F344=\"\",\"\",F344&\"_\"&COUNTIF($F$9:F344,F344))","v":""},{"$f":"IF(STUDATA!B341=\"\",\"\",STUDATA!B341)","v":""},{"$f":"IF(STUDATA!E341=\"\",\"\",STUDATA!E341)","v":""},{"$f":"IF(STUDATA!F341=\"\",\"\",STUDATA!F341)","v":""},{"$f":"IF(STUDATA!G341=\"\",\"\",STUDATA!G341)","v":""},{"$f":"IF(STUDATA!C341=\"\",\"\",STUDATA!C341)","v":""}]
[{"$f":"IF(F345=\"\",\"\",F345&\"_\"&COUNTIF($F$9:F345,F345))","v":""},{"$f":"IF(STUDATA!B342=\"\",\"\",STUDATA!B342)","v":""},{"$f":"IF(STUDATA!E342=\"\",\"\",STUDATA!E342)","v":""},{"$f":"IF(STUDATA!F342=\"\",\"\",STUDATA!F342)","v":""},{"$f":"IF(STUDATA!G342=\"\",\"\",STUDATA!G342)","v":""},{"$f":"IF(STUDATA!C342=\"\",\"\",STUDATA!C342)","v":""}]
[{"$f":"IF(F346=\"\",\"\",F346&\"_\"&COUNTIF($F$9:F346,F346))","v":""},{"$f":"IF(STUDATA!B343=\"\",\"\",STUDATA!B343)","v":""},{"$f":"IF(STUDATA!E343=\"\",\"\",STUDATA!E343)","v":""},{"$f":"IF(STUDATA!F343=\"\",\"\",STUDATA!F343)","v":""},{"$f":"IF(STUDATA!G343=\"\",\"\",STUDATA!G343)","v":""},{"$f":"IF(STUDATA!C343=\"\",\"\",STUDATA!C343)","v":""}]
[{"$f":"IF(F347=\"\",\"\",F347&\"_\"&COUNTIF($F$9:F347,F347))","v":""},{"$f":"IF(STUDATA!B344=\"\",\"\",STUDATA!B344)","v":""},{"$f":"IF(STUDATA!E344=\"\",\"\",STUDATA!E344)","v":""},{"$f":"IF(STUDATA!F344=\"\",\"\",STUDATA!F344)","v":""},{"$f":"IF(STUDATA!G344=\"\",\"\",STUDATA!G344)","v":""},{"$f":"IF(STUDATA!C344=\"\",\"\",STUDATA!C344)","v":""}]
[{"$f":"IF(F348=\"\",\"\",F348&\"_\"&COUNTIF($F$9:F348,F348))","v":""},{"$f":"IF(STUDATA!B345=\"\",\"\",STUDATA!B345)","v":""},{"$f":"IF(STUDATA!E345=\"\",\"\",STUDATA!E345)","v":""},{"$f":"IF(STUDATA!F345=\"\",\"\",STUDATA!F345)","v":""},{"$f":"IF(STUDATA!G345=\"\",\"\",STUDATA!G345)","v":""},{"$f":"IF(STUDATA!C345=\"\",\"\",STUDATA!C345)","v":""}]
[{"$f":"IF(F349=\"\",\"\",F349&\"_\"&COUNTIF($F$9:F349,F349))","v":""},{"$f":"IF(STUDATA!B346=\"\",\"\",STUDATA!B346)","v":""},{"$f":"IF(STUDATA!E346=\"\",\"\",STUDATA!E346)","v":""},{"$f":"IF(STUDATA!F346=\"\",\"\",STUDATA!F346)","v":""},{"$f":"IF(STUDATA!G346=\"\",\"\",STUDATA!G346)","v":""},{"$f":"IF(STUDATA!C346=\"\",\"\",STUDATA!C346)","v":""}]
[{"$f":"IF(F350=\"\",\"\",F350&\"_\"&COUNTIF($F$9:F350,F350))","v":""},{"$f":"IF(STUDATA!B347=\"\",\"\",STUDATA!B347)","v":""},{"$f":"IF(STUDATA!E347=\"\",\"\",STUDATA!E347)","v":""},{"$f":"IF(STUDATA!F347=\"\",\"\",STUDATA!F347)","v":""},{"$f":"IF(STUDATA!G347=\"\",\"\",STUDATA!G347)","v":""},{"$f":"IF(STUDATA!C347=\"\",\"\",STUDATA!C347)","v":""}]
[{"$f":"IF(F351=\"\",\"\",F351&\"_\"&COUNTIF($F$9:F351,F351))","v":""},{"$f":"IF(STUDATA!B348=\"\",\"\",STUDATA!B348)","v":""},{"$f":"IF(STUDATA!E348=\"\",\"\",STUDATA!E348)","v":""},{"$f":"IF(STUDATA!F348=\"\",\"\",STUDATA!F348)","v":""},{"$f":"IF(STUDATA!G348=\"\",\"\",STUDATA!G348)","v":""},{"$f":"IF(STUDATA!C348=\"\",\"\",STUDATA!C348)","v":""}]
[{"$f":"IF(F352=\"\",\"\",F352&\"_\"&COUNTIF($F$9:F352,F352))","v":""},{"$f":"IF(STUDATA!B349=\"\",\"\",STUDATA!B349)","v":""},{"$f":"IF(STUDATA!E349=\"\",\"\",STUDATA!E349)","v":""},{"$f":"IF(STUDATA!F349=\"\",\"\",STUDATA!F349)","v":""},{"$f":"IF(STUDATA!G349=\"\",\"\",STUDATA!G349)","v":""},{"$f":"IF(STUDATA!C349=\"\",\"\",STUDATA!C349)","v":""}]
[{"$f":"IF(F353=\"\",\"\",F353&\"_\"&COUNTIF($F$9:F353,F353))","v":""},{"$f":"IF(STUDATA!B350=\"\",\"\",STUDATA!B350)","v":""},{"$f":"IF(STUDATA!E350=\"\",\"\",STUDATA!E350)","v":""},{"$f":"IF(STUDATA!F350=\"\",\"\",STUDATA!F350)","v":""},{"$f":"IF(STUDATA!G350=\"\",\"\",STUDATA!G350)","v":""},{"$f":"IF(STUDATA!C350=\"\",\"\",STUDATA!C350)","v":""}]
[{"$f":"IF(F354=\"\",\"\",F354&\"_\"&COUNTIF($F$9:F354,F354))","v":""},{"$f":"IF(STUDATA!B351=\"\",\"\",STUDATA!B351)","v":""},{"$f":"IF(STUDATA!E351=\"\",\"\",STUDATA!E351)","v":""},{"$f":"IF(STUDATA!F351=\"\",\"\",STUDATA!F351)","v":""},{"$f":"IF(STUDATA!G351=\"\",\"\",STUDATA!G351)","v":""},{"$f":"IF(STUDATA!C351=\"\",\"\",STUDATA!C351)","v":""}]
[{"$f":"IF(F355=\"\",\"\",F355&\"_\"&COUNTIF($F$9:F355,F355))","v":""},{"$f":"IF(STUDATA!B352=\"\",\"\",STUDATA!B352)","v":""},{"$f":"IF(STUDATA!E352=\"\",\"\",STUDATA!E352)","v":""},{"$f":"IF(STUDATA!F352=\"\",\"\",STUDATA!F352)","v":""},{"$f":"IF(STUDATA!G352=\"\",\"\",STUDATA!G352)","v":""},{"$f":"IF(STUDATA!C352=\"\",\"\",STUDATA!C352)","v":""}]
[{"$f":"IF(F356=\"\",\"\",F356&\"_\"&COUNTIF($F$9:F356,F356))","v":""},{"$f":"IF(STUDATA!B353=\"\",\"\",STUDATA!B353)","v":""},{"$f":"IF(STUDATA!E353=\"\",\"\",STUDATA!E353)","v":""},{"$f":"IF(STUDATA!F353=\"\",\"\",STUDATA!F353)","v":""},{"$f":"IF(STUDATA!G353=\"\",\"\",STUDATA!G353)","v":""},{"$f":"IF(STUDATA!C353=\"\",\"\",STUDATA!C353)","v":""}]
[{"$f":"IF(F357=\"\",\"\",F357&\"_\"&COUNTIF($F$9:F357,F357))","v":""},{"$f":"IF(STUDATA!B354=\"\",\"\",STUDATA!B354)","v":""},{"$f":"IF(STUDATA!E354=\"\",\"\",STUDATA!E354)","v":""},{"$f":"IF(STUDATA!F354=\"\",\"\",STUDATA!F354)","v":""},{"$f":"IF(STUDATA!G354=\"\",\"\",STUDATA!G354)","v":""},{"$f":"IF(STUDATA!C354=\"\",\"\",STUDATA!C354)","v":""}]
[{"$f":"IF(F358=\"\",\"\",F358&\"_\"&COUNTIF($F$9:F358,F358))","v":""},{"$f":"IF(STUDATA!B355=\"\",\"\",STUDATA!B355)","v":""},{"$f":"IF(STUDATA!E355=\"\",\"\",STUDATA!E355)","v":""},{"$f":"IF(STUDATA!F355=\"\",\"\",STUDATA!F355)","v":""},{"$f":"IF(STUDATA!G355=\"\",\"\",STUDATA!G355)","v":""},{"$f":"IF(STUDATA!C355=\"\",\"\",STUDATA!C355)","v":""}]
[{"$f":"IF(F359=\"\",\"\",F359&\"_\"&COUNTIF($F$9:F359,F359))","v":""},{"$f":"IF(STUDATA!B356=\"\",\"\",STUDATA!B356)","v":""},{"$f":"IF(STUDATA!E356=\"\",\"\",STUDATA!E356)","v":""},{"$f":"IF(STUDATA!F356=\"\",\"\",STUDATA!F356)","v":""},{"$f":"IF(STUDATA!G356=\"\",\"\",STUDATA!G356)","v":""},{"$f":"IF(STUDATA!C356=\"\",\"\",STUDATA!C356)","v":""}]
[{"$f":"IF(F360=\"\",\"\",F360&\"_\"&COUNTIF($F$9:F360,F360))","v":""},{"$f":"IF(STUDATA!B357=\"\",\"\",STUDATA!B357)","v":""},{"$f":"IF(STUDATA!E357=\"\",\"\",STUDATA!E357)","v":""},{"$f":"IF(STUDATA!F357=\"\",\"\",STUDATA!F357)","v":""},{"$f":"IF(STUDATA!G357=\"\",\"\",STUDATA!G357)","v":""},{"$f":"IF(STUDATA!C357=\"\",\"\",STUDATA!C357)","v":""}]
[{"$f":"IF(F361=\"\",\"\",F361&\"_\"&COUNTIF($F$9:F361,F361))","v":""},{"$f":"IF(STUDATA!B358=\"\",\"\",STUDATA!B358)","v":""},{"$f":"IF(STUDATA!E358=\"\",\"\",STUDATA!E358)","v":""},{"$f":"IF(STUDATA!F358=\"\",\"\",STUDATA!F358)","v":""},{"$f":"IF(STUDATA!G358=\"\",\"\",STUDATA!G358)","v":""},{"$f":"IF(STUDATA!C358=\"\",\"\",STUDATA!C358)","v":""}]
[{"$f":"IF(F362=\"\",\"\",F362&\"_\"&COUNTIF($F$9:F362,F362))","v":""},{"$f":"IF(STUDATA!B359=\"\",\"\",STUDATA!B359)","v":""},{"$f":"IF(STUDATA!E359=\"\",\"\",STUDATA!E359)","v":""},{"$f":"IF(STUDATA!F359=\"\",\"\",STUDATA!F359)","v":""},{"$f":"IF(STUDATA!G359=\"\",\"\",STUDATA!G359)","v":""},{"$f":"IF(STUDATA!C359=\"\",\"\",STUDATA!C359)","v":""}]
[{"$f":"IF(F363=\"\",\"\",F363&\"_\"&COUNTIF($F$9:F363,F363))","v":""},{"$f":"IF(STUDATA!B360=\"\",\"\",STUDATA!B360)","v":""},{"$f":"IF(STUDATA!E360=\"\",\"\",STUDATA!E360)","v":""},{"$f":"IF(STUDATA!F360=\"\",\"\",STUDATA!F360)","v":""},{"$f":"IF(STUDATA!G360=\"\",\"\",STUDATA!G360)","v":""},{"$f":"IF(STUDATA!C360=\"\",\"\",STUDATA!C360)","v":""}]
[{"$f":"IF(F364=\"\",\"\",F364&\"_\"&COUNTIF($F$9:F364,F364))","v":""},{"$f":"IF(STUDATA!B361=\"\",\"\",STUDATA!B361)","v":""},{"$f":"IF(STUDATA!E361=\"\",\"\",STUDATA!E361)","v":""},{"$f":"IF(STUDATA!F361=\"\",\"\",STUDATA!F361)","v":""},{"$f":"IF(STUDATA!G361=\"\",\"\",STUDATA!G361)","v":""},{"$f":"IF(STUDATA!C361=\"\",\"\",STUDATA!C361)","v":""}]
[{"$f":"IF(F365=\"\",\"\",F365&\"_\"&COUNTIF($F$9:F365,F365))","v":""},{"$f":"IF(STUDATA!B362=\"\",\"\",STUDATA!B362)","v":""},{"$f":"IF(STUDATA!E362=\"\",\"\",STUDATA!E362)","v":""},{"$f":"IF(STUDATA!F362=\"\",\"\",STUDATA!F362)","v":""},{"$f":"IF(STUDATA!G362=\"\",\"\",STUDATA!G362)","v":""},{"$f":"IF(STUDATA!C362=\"\",\"\",STUDATA!C362)","v":""}]
[{"$f":"IF(F366=\"\",\"\",F366&\"_\"&COUNTIF($F$9:F366,F366))","v":""},{"$f":"IF(STUDATA!B363=\"\",\"\",STUDATA!B363)","v":""},{"$f":"IF(STUDATA!E363=\"\",\"\",STUDATA!E363)","v":""},{"$f":"IF(STUDATA!F363=\"\",\"\",STUDATA!F363)","v":""},{"$f":"IF(STUDATA!G363=\"\",\"\",STUDATA!G363)","v":""},{"$f":"IF(STUDATA!C363=\"\",\"\",STUDATA!C363)","v":""}]
[{"$f":"IF(F367=\"\",\"\",F367&\"_\"&COUNTIF($F$9:F367,F367))","v":""},{"$f":"IF(STUDATA!B364=\"\",\"\",STUDATA!B364)","v":""},{"$f":"IF(STUDATA!E364=\"\",\"\",STUDATA!E364)","v":""},{"$f":"IF(STUDATA!F364=\"\",\"\",STUDATA!F364)","v":""},{"$f":"IF(STUDATA!G364=\"\",\"\",STUDATA!G364)","v":""},{"$f":"IF(STUDATA!C364=\"\",\"\",STUDATA!C364)","v":""}]
[{"$f":"IF(F368=\"\",\"\",F368&\"_\"&COUNTIF($F$9:F368,F368))","v":""},{"$f":"IF(STUDATA!B365=\"\",\"\",STUDATA!B365)","v":""},{"$f":"IF(STUDATA!E365=\"\",\"\",STUDATA!E365)","v":""},{"$f":"IF(STUDATA!F365=\"\",\"\",STUDATA!F365)","v":""},{"$f":"IF(STUDATA!G365=\"\",\"\",STUDATA!G365)","v":""},{"$f":"IF(STUDATA!C365=\"\",\"\",STUDATA!C365)","v":""}]
[{"$f":"IF(F369=\"\",\"\",F369&\"_\"&COUNTIF($F$9:F369,F369))","v":""},{"$f":"IF(STUDATA!B366=\"\",\"\",STUDATA!B366)","v":""},{"$f":"IF(STUDATA!E366=\"\",\"\",STUDATA!E366)","v":""},{"$f":"IF(STUDATA!F366=\"\",\"\",STUDATA!F366)","v":""},{"$f":"IF(STUDATA!G366=\"\",\"\",STUDATA!G366)","v":""},{"$f":"IF(STUDATA!C366=\"\",\"\",STUDATA!C366)","v":""}]
[{"$f":"IF(F370=\"\",\"\",F370&\"_\"&COUNTIF($F$9:F370,F370))","v":""},{"$f":"IF(STUDATA!B367=\"\",\"\",STUDATA!B367)","v":""},{"$f":"IF(STUDATA!E367=\"\",\"\",STUDATA!E367)","v":""},{"$f":"IF(STUDATA!F367=\"\",\"\",STUDATA!F367)","v":""},{"$f":"IF(STUDATA!G367=\"\",\"\",STUDATA!G367)","v":""},{"$f":"IF(STUDATA!C367=\"\",\"\",STUDATA!C367)","v":""}]
[{"$f":"IF(F371=\"\",\"\",F371&\"_\"&COUNTIF($F$9:F371,F371))","v":""},{"$f":"IF(STUDATA!B368=\"\",\"\",STUDATA!B368)","v":""},{"$f":"IF(STUDATA!E368=\"\",\"\",STUDATA!E368)","v":""},{"$f":"IF(STUDATA!F368=\"\",\"\",STUDATA!F368)","v":""},{"$f":"IF(STUDATA!G368=\"\",\"\",STUDATA!G368)","v":""},{"$f":"IF(STUDATA!C368=\"\",\"\",STUDATA!C368)","v":""}]
[{"$f":"IF(F372=\"\",\"\",F372&\"_\"&COUNTIF($F$9:F372,F372))","v":""},{"$f":"IF(STUDATA!B369=\"\",\"\",STUDATA!B369)","v":""},{"$f":"IF(STUDATA!E369=\"\",\"\",STUDATA!E369)","v":""},{"$f":"IF(STUDATA!F369=\"\",\"\",STUDATA!F369)","v":""},{"$f":"IF(STUDATA!G369=\"\",\"\",STUDATA!G369)","v":""},{"$f":"IF(STUDATA!C369=\"\",\"\",STUDATA!C369)","v":""}]
[{"$f":"IF(F373=\"\",\"\",F373&\"_\"&COUNTIF($F$9:F373,F373))","v":""},{"$f":"IF(STUDATA!B370=\"\",\"\",STUDATA!B370)","v":""},{"$f":"IF(STUDATA!E370=\"\",\"\",STUDATA!E370)","v":""},{"$f":"IF(STUDATA!F370=\"\",\"\",STUDATA!F370)","v":""},{"$f":"IF(STUDATA!G370=\"\",\"\",STUDATA!G370)","v":""},{"$f":"IF(STUDATA!C370=\"\",\"\",STUDATA!C370)","v":""}]
[{"$f":"IF(F374=\"\",\"\",F374&\"_\"&COUNTIF($F$9:F374,F374))","v":""},{"$f":"IF(STUDATA!B371=\"\",\"\",STUDATA!B371)","v":""},{"$f":"IF(STUDATA!E371=\"\",\"\",STUDATA!E371)","v":""},{"$f":"IF(STUDATA!F371=\"\",\"\",STUDATA!F371)","v":""},{"$f":"IF(STUDATA!G371=\"\",\"\",STUDATA!G371)","v":""},{"$f":"IF(STUDATA!C371=\"\",\"\",STUDATA!C371)","v":""}]
[{"$f":"IF(F375=\"\",\"\",F375&\"_\"&COUNTIF($F$9:F375,F375))","v":""},{"$f":"IF(STUDATA!B372=\"\",\"\",STUDATA!B372)","v":""},{"$f":"IF(STUDATA!E372=\"\",\"\",STUDATA!E372)","v":""},{"$f":"IF(STUDATA!F372=\"\",\"\",STUDATA!F372)","v":""},{"$f":"IF(STUDATA!G372=\"\",\"\",STUDATA!G372)","v":""},{"$f":"IF(STUDATA!C372=\"\",\"\",STUDATA!C372)","v":""}]
[{"$f":"IF(F376=\"\",\"\",F376&\"_\"&COUNTIF($F$9:F376,F376))","v":""},{"$f":"IF(STUDATA!B373=\"\",\"\",STUDATA!B373)","v":""},{"$f":"IF(STUDATA!E373=\"\",\"\",STUDATA!E373)","v":""},{"$f":"IF(STUDATA!F373=\"\",\"\",STUDATA!F373)","v":""},{"$f":"IF(STUDATA!G373=\"\",\"\",STUDATA!G373)","v":""},{"$f":"IF(STUDATA!C373=\"\",\"\",STUDATA!C373)","v":""}]
[{"$f":"IF(F377=\"\",\"\",F377&\"_\"&COUNTIF($F$9:F377,F377))","v":""},{"$f":"IF(STUDATA!B374=\"\",\"\",STUDATA!B374)","v":""},{"$f":"IF(STUDATA!E374=\"\",\"\",STUDATA!E374)","v":""},{"$f":"IF(STUDATA!F374=\"\",\"\",STUDATA!F374)","v":""},{"$f":"IF(STUDATA!G374=\"\",\"\",STUDATA!G374)","v":""},{"$f":"IF(STUDATA!C374=\"\",\"\",STUDATA!C374)","v":""}]
[{"$f":"IF(F378=\"\",\"\",F378&\"_\"&COUNTIF($F$9:F378,F378))","v":""},{"$f":"IF(STUDATA!B375=\"\",\"\",STUDATA!B375)","v":""},{"$f":"IF(STUDATA!E375=\"\",\"\",STUDATA!E375)","v":""},{"$f":"IF(STUDATA!F375=\"\",\"\",STUDATA!F375)","v":""},{"$f":"IF(STUDATA!G375=\"\",\"\",STUDATA!G375)","v":""},{"$f":"IF(STUDATA!C375=\"\",\"\",STUDATA!C375)","v":""}]
[{"$f":"IF(F379=\"\",\"\",F379&\"_\"&COUNTIF($F$9:F379,F379))","v":""},{"$f":"IF(STUDATA!B376=\"\",\"\",STUDATA!B376)","v":""},{"$f":"IF(STUDATA!E376=\"\",\"\",STUDATA!E376)","v":""},{"$f":"IF(STUDATA!F376=\"\",\"\",STUDATA!F376)","v":""},{"$f":"IF(STUDATA!G376=\"\",\"\",STUDATA!G376)","v":""},{"$f":"IF(STUDATA!C376=\"\",\"\",STUDATA!C376)","v":""}]
[{"$f":"IF(F380=\"\",\"\",F380&\"_\"&COUNTIF($F$9:F380,F380))","v":""},{"$f":"IF(STUDATA!B377=\"\",\"\",STUDATA!B377)","v":""},{"$f":"IF(STUDATA!E377=\"\",\"\",STUDATA!E377)","v":""},{"$f":"IF(STUDATA!F377=\"\",\"\",STUDATA!F377)","v":""},{"$f":"IF(STUDATA!G377=\"\",\"\",STUDATA!G377)","v":""},{"$f":"IF(STUDATA!C377=\"\",\"\",STUDATA!C377)","v":""}]
[{"$f":"IF(F381=\"\",\"\",F381&\"_\"&COUNTIF($F$9:F381,F381))","v":""},{"$f":"IF(STUDATA!B378=\"\",\"\",STUDATA!B378)","v":""},{"$f":"IF(STUDATA!E378=\"\",\"\",STUDATA!E378)","v":""},{"$f":"IF(STUDATA!F378=\"\",\"\",STUDATA!F378)","v":""},{"$f":"IF(STUDATA!G378=\"\",\"\",STUDATA!G378)","v":""},{"$f":"IF(STUDATA!C378=\"\",\"\",STUDATA!C378)","v":""}]
[{"$f":"IF(F382=\"\",\"\",F382&\"_\"&COUNTIF($F$9:F382,F382))","v":""},{"$f":"IF(STUDATA!B379=\"\",\"\",STUDATA!B379)","v":""},{"$f":"IF(STUDATA!E379=\"\",\"\",STUDATA!E379)","v":""},{"$f":"IF(STUDATA!F379=\"\",\"\",STUDATA!F379)","v":""},{"$f":"IF(STUDATA!G379=\"\",\"\",STUDATA!G379)","v":""},{"$f":"IF(STUDATA!C379=\"\",\"\",STUDATA!C379)","v":""}]
[{"$f":"IF(F383=\"\",\"\",F383&\"_\"&COUNTIF($F$9:F383,F383))","v":""},{"$f":"IF(STUDATA!B380=\"\",\"\",STUDATA!B380)","v":""},{"$f":"IF(STUDATA!E380=\"\",\"\",STUDATA!E380)","v":""},{"$f":"IF(STUDATA!F380=\"\",\"\",STUDATA!F380)","v":""},{"$f":"IF(STUDATA!G380=\"\",\"\",STUDATA!G380)","v":""},{"$f":"IF(STUDATA!C380=\"\",\"\",STUDATA!C380)","v":""}]
[{"$f":"IF(F384=\"\",\"\",F384&\"_\"&COUNTIF($F$9:F384,F384))","v":""},{"$f":"IF(STUDATA!B381=\"\",\"\",STUDATA!B381)","v":""},{"$f":"IF(STUDATA!E381=\"\",\"\",STUDATA!E381)","v":""},{"$f":"IF(STUDATA!F381=\"\",\"\",STUDATA!F381)","v":""},{"$f":"IF(STUDATA!G381=\"\",\"\",STUDATA!G381)","v":""},{"$f":"IF(STUDATA!C381=\"\",\"\",STUDATA!C381)","v":""}]
[{"$f":"IF(F385=\"\",\"\",F385&\"_\"&COUNTIF($F$9:F385,F385))","v":""},{"$f":"IF(STUDATA!B382=\"\",\"\",STUDATA!B382)","v":""},{"$f":"IF(STUDATA!E382=\"\",\"\",STUDATA!E382)","v":""},{"$f":"IF(STUDATA!F382=\"\",\"\",STUDATA!F382)","v":""},{"$f":"IF(STUDATA!G382=\"\",\"\",STUDATA!G382)","v":""},{"$f":"IF(STUDATA!C382=\"\",\"\",STUDATA!C382)","v":""}]
[{"$f":"IF(F386=\"\",\"\",F386&\"_\"&COUNTIF($F$9:F386,F386))","v":""},{"$f":"IF(STUDATA!B383=\"\",\"\",STUDATA!B383)","v":""},{"$f":"IF(STUDATA!E383=\"\",\"\",STUDATA!E383)","v":""},{"$f":"IF(STUDATA!F383=\"\",\"\",STUDATA!F383)","v":""},{"$f":"IF(STUDATA!G383=\"\",\"\",STUDATA!G383)","v":""},{"$f":"IF(STUDATA!C383=\"\",\"\",STUDATA!C383)","v":""}]
[{"$f":"IF(F387=\"\",\"\",F387&\"_\"&COUNTIF($F$9:F387,F387))","v":""},{"$f":"IF(STUDATA!B384=\"\",\"\",STUDATA!B384)","v":""},{"$f":"IF(STUDATA!E384=\"\",\"\",STUDATA!E384)","v":""},{"$f":"IF(STUDATA!F384=\"\",\"\",STUDATA!F384)","v":""},{"$f":"IF(STUDATA!G384=\"\",\"\",STUDATA!G384)","v":""},{"$f":"IF(STUDATA!C384=\"\",\"\",STUDATA!C384)","v":""}]
[{"$f":"IF(F388=\"\",\"\",F388&\"_\"&COUNTIF($F$9:F388,F388))","v":""},{"$f":"IF(STUDATA!B385=\"\",\"\",STUDATA!B385)","v":""},{"$f":"IF(STUDATA!E385=\"\",\"\",STUDATA!E385)","v":""},{"$f":"IF(STUDATA!F385=\"\",\"\",STUDATA!F385)","v":""},{"$f":"IF(STUDATA!G385=\"\",\"\",STUDATA!G385)","v":""},{"$f":"IF(STUDATA!C385=\"\",\"\",STUDATA!C385)","v":""}]
[{"$f":"IF(F389=\"\",\"\",F389&\"_\"&COUNTIF($F$9:F389,F389))","v":""},{"$f":"IF(STUDATA!B386=\"\",\"\",STUDATA!B386)","v":""},{"$f":"IF(STUDATA!E386=\"\",\"\",STUDATA!E386)","v":""},{"$f":"IF(STUDATA!F386=\"\",\"\",STUDATA!F386)","v":""},{"$f":"IF(STUDATA!G386=\"\",\"\",STUDATA!G386)","v":""},{"$f":"IF(STUDATA!C386=\"\",\"\",STUDATA!C386)","v":""}]
[{"$f":"IF(F390=\"\",\"\",F390&\"_\"&COUNTIF($F$9:F390,F390))","v":""},{"$f":"IF(STUDATA!B387=\"\",\"\",STUDATA!B387)","v":""},{"$f":"IF(STUDATA!E387=\"\",\"\",STUDATA!E387)","v":""},{"$f":"IF(STUDATA!F387=\"\",\"\",STUDATA!F387)","v":""},{"$f":"IF(STUDATA!G387=\"\",\"\",STUDATA!G387)","v":""},{"$f":"IF(STUDATA!C387=\"\",\"\",STUDATA!C387)","v":""}]
[{"$f":"IF(F391=\"\",\"\",F391&\"_\"&COUNTIF($F$9:F391,F391))","v":""},{"$f":"IF(STUDATA!B1001=\"\",\"\",STUDATA!B1001)","v":""},{"$f":"IF(STUDATA!E1001=\"\",\"\",STUDATA!E1001)","v":""},{"$f":"IF(STUDATA!F1001=\"\",\"\",STUDATA!F1001)","v":""},{"$f":"IF(STUDATA!G1001=\"\",\"\",STUDATA!G1001)","v":""},{"$f":"IF(STUDATA!C1001=\"\",\"\",STUDATA!C1001)","v":""}]
[{"$f":"IF(F392=\"\",\"\",F392&\"_\"&COUNTIF($F$9:F392,F392))","v":""},{"$f":"IF(STUDATA!B1002=\"\",\"\",STUDATA!B1002)","v":""},{"$f":"IF(STUDATA!E1002=\"\",\"\",STUDATA!E1002)","v":""},{"$f":"IF(STUDATA!F1002=\"\",\"\",STUDATA!F1002)","v":""},{"$f":"IF(STUDATA!G1002=\"\",\"\",STUDATA!G1002)","v":""},{"$f":"IF(STUDATA!C1002=\"\",\"\",STUDATA!C1002)","v":""}]
[{"$f":"IF(F393=\"\",\"\",F393&\"_\"&COUNTIF($F$9:F393,F393))","v":""},{"$f":"IF(STUDATA!B1003=\"\",\"\",STUDATA!B1003)","v":""},{"$f":"IF(STUDATA!E1003=\"\",\"\",STUDATA!E1003)","v":""},{"$f":"IF(STUDATA!F1003=\"\",\"\",STUDATA!F1003)","v":""},{"$f":"IF(STUDATA!G1003=\"\",\"\",STUDATA!G1003)","v":""},{"$f":"IF(STUDATA!C1003=\"\",\"\",STUDATA!C1003)","v":""}]
[{"$f":"IF(F394=\"\",\"\",F394&\"_\"&COUNTIF($F$9:F394,F394))","v":""},{"$f":"IF(STUDATA!B1004=\"\",\"\",STUDATA!B1004)","v":""},{"$f":"IF(STUDATA!E1004=\"\",\"\",STUDATA!E1004)","v":""},{"$f":"IF(STUDATA!F1004=\"\",\"\",STUDATA!F1004)","v":""},{"$f":"IF(STUDATA!G1004=\"\",\"\",STUDATA!G1004)","v":""},{"$f":"IF(STUDATA!C1004=\"\",\"\",STUDATA!C1004)","v":""}]
[{"$f":"IF(F395=\"\",\"\",F395&\"_\"&COUNTIF($F$9:F395,F395))","v":""},{"$f":"IF(STUDATA!B1005=\"\",\"\",STUDATA!B1005)","v":""},{"$f":"IF(STUDATA!E1005=\"\",\"\",STUDATA!E1005)","v":""},{"$f":"IF(STUDATA!F1005=\"\",\"\",STUDATA!F1005)","v":""},{"$f":"IF(STUDATA!G1005=\"\",\"\",STUDATA!G1005)","v":""},{"$f":"IF(STUDATA!C1005=\"\",\"\",STUDATA!C1005)","v":""}]
[{"$f":"IF(F396=\"\",\"\",F396&\"_\"&COUNTIF($F$9:F396,F396))","v":""},{"$f":"IF(STUDATA!B1006=\"\",\"\",STUDATA!B1006)","v":""},{"$f":"IF(STUDATA!E1006=\"\",\"\",STUDATA!E1006)","v":""},{"$f":"IF(STUDATA!F1006=\"\",\"\",STUDATA!F1006)","v":""},{"$f":"IF(STUDATA!G1006=\"\",\"\",STUDATA!G1006)","v":""},{"$f":"IF(STUDATA!C1006=\"\",\"\",STUDATA!C1006)","v":""}]
[{"$f":"IF(F397=\"\",\"\",F397&\"_\"&COUNTIF($F$9:F397,F397))","v":""},{"$f":"IF(STUDATA!B1007=\"\",\"\",STUDATA!B1007)","v":""},{"$f":"IF(STUDATA!E1007=\"\",\"\",STUDATA!E1007)","v":""},{"$f":"IF(STUDATA!F1007=\"\",\"\",STUDATA!F1007)","v":""},{"$f":"IF(STUDATA!G1007=\"\",\"\",STUDATA!G1007)","v":""},{"$f":"IF(STUDATA!C1007=\"\",\"\",STUDATA!C1007)","v":""}]
[{"$f":"IF(F398=\"\",\"\",F398&\"_\"&COUNTIF($F$9:F398,F398))","v":""},{"$f":"IF(STUDATA!B1008=\"\",\"\",STUDATA!B1008)","v":""},{"$f":"IF(STUDATA!E1008=\"\",\"\",STUDATA!E1008)","v":""},{"$f":"IF(STUDATA!F1008=\"\",\"\",STUDATA!F1008)","v":""},{"$f":"IF(STUDATA!G1008=\"\",\"\",STUDATA!G1008)","v":""},{"$f":"IF(STUDATA!C1008=\"\",\"\",STUDATA!C1008)","v":""}]
[{"$f":"IF(F399=\"\",\"\",F399&\"_\"&COUNTIF($F$9:F399,F399))","v":""},{"$f":"IF(STUDATA!B1009=\"\",\"\",STUDATA!B1009)","v":""},{"$f":"IF(STUDATA!E1009=\"\",\"\",STUDATA!E1009)","v":""},{"$f":"IF(STUDATA!F1009=\"\",\"\",STUDATA!F1009)","v":""},{"$f":"IF(STUDATA!G1009=\"\",\"\",STUDATA!G1009)","v":""},{"$f":"IF(STUDATA!C1009=\"\",\"\",STUDATA!C1009)","v":""}]
[{"$f":"IF(F400=\"\",\"\",F400&\"_\"&COUNTIF($F$9:F400,F400))","v":""},{"$f":"IF(STUDATA!B1010=\"\",\"\",STUDATA!B1010)","v":""},{"$f":"IF(STUDATA!E1010=\"\",\"\",STUDATA!E1010)","v":""},{"$f":"IF(STUDATA!F1010=\"\",\"\",STUDATA!F1010)","v":""},{"$f":"IF(STUDATA!G1010=\"\",\"\",STUDATA!G1010)","v":""},{"$f":"IF(STUDATA!C1010=\"\",\"\",STUDATA!C1010)","v":""}]
[{"$f":"IF(F401=\"\",\"\",F401&\"_\"&COUNTIF($F$9:F401,F401))","v":""},{"$f":"IF(STUDATA!B1011=\"\",\"\",STUDATA!B1011)","v":""},{"$f":"IF(STUDATA!E1011=\"\",\"\",STUDATA!E1011)","v":""},{"$f":"IF(STUDATA!F1011=\"\",\"\",STUDATA!F1011)","v":""},{"$f":"IF(STUDATA!G1011=\"\",\"\",STUDATA!G1011)","v":""},{"$f":"IF(STUDATA!C1011=\"\",\"\",STUDATA!C1011)","v":""}]
[{"$f":"IF(F402=\"\",\"\",F402&\"_\"&COUNTIF($F$9:F402,F402))","v":""},{"$f":"IF(STUDATA!B1012=\"\",\"\",STUDATA!B1012)","v":""},{"$f":"IF(STUDATA!E1012=\"\",\"\",STUDATA!E1012)","v":""},{"$f":"IF(STUDATA!F1012=\"\",\"\",STUDATA!F1012)","v":""},{"$f":"IF(STUDATA!G1012=\"\",\"\",STUDATA!G1012)","v":""},{"$f":"IF(STUDATA!C1012=\"\",\"\",STUDATA!C1012)","v":""}]
[{"$f":"IF(F403=\"\",\"\",F403&\"_\"&COUNTIF($F$9:F403,F403))","v":""},{"$f":"IF(STUDATA!B1013=\"\",\"\",STUDATA!B1013)","v":""},{"$f":"IF(STUDATA!E1013=\"\",\"\",STUDATA!E1013)","v":""},{"$f":"IF(STUDATA!F1013=\"\",\"\",STUDATA!F1013)","v":""},{"$f":"IF(STUDATA!G1013=\"\",\"\",STUDATA!G1013)","v":""},{"$f":"IF(STUDATA!C1013=\"\",\"\",STUDATA!C1013)","v":""}]
[{"$f":"IF(F404=\"\",\"\",F404&\"_\"&COUNTIF($F$9:F404,F404))","v":""},{"$f":"IF(STUDATA!B1014=\"\",\"\",STUDATA!B1014)","v":""},{"$f":"IF(STUDATA!E1014=\"\",\"\",STUDATA!E1014)","v":""},{"$f":"IF(STUDATA!F1014=\"\",\"\",STUDATA!F1014)","v":""},{"$f":"IF(STUDATA!G1014=\"\",\"\",STUDATA!G1014)","v":""},{"$f":"IF(STUDATA!C1014=\"\",\"\",STUDATA!C1014)","v":""}]
[{"$f":"IF(F405=\"\",\"\",F405&\"_\"&COUNTIF($F$9:F405,F405))","v":""},{"$f":"IF(STUDATA!B1015=\"\",\"\",STUDATA!B1015)","v":""},{"$f":"IF(STUDATA!E1015=\"\",\"\",STUDATA!E1015)","v":""},{"$f":"IF(STUDATA!F1015=\"\",\"\",STUDATA!F1015)","v":""},{"$f":"IF(STUDATA!G1015=\"\",\"\",STUDATA!G1015)","v":""},{"$f":"IF(STUDATA!C1015=\"\",\"\",STUDATA!C1015)","v":""}]
[{"$f":"IF(F406=\"\",\"\",F406&\"_\"&COUNTIF($F$9:F406,F406))","v":""},{"$f":"IF(STUDATA!B1016=\"\",\"\",STUDATA!B1016)","v":""},{"$f":"IF(STUDATA!E1016=\"\",\"\",STUDATA!E1016)","v":""},{"$f":"IF(STUDATA!F1016=\"\",\"\",STUDATA!F1016)","v":""},{"$f":"IF(STUDATA!G1016=\"\",\"\",STUDATA!G1016)","v":""},{"$f":"IF(STUDATA!C1016=\"\",\"\",STUDATA!C1016)","v":""}]
[{"$f":"IF(F407=\"\",\"\",F407&\"_\"&COUNTIF($F$9:F407,F407))","v":""},{"$f":"IF(STUDATA!B1017=\"\",\"\",STUDATA!B1017)","v":""},{"$f":"IF(STUDATA!E1017=\"\",\"\",STUDATA!E1017)","v":""},{"$f":"IF(STUDATA!F1017=\"\",\"\",STUDATA!F1017)","v":""},{"$f":"IF(STUDATA!G1017=\"\",\"\",STUDATA!G1017)","v":""},{"$f":"IF(STUDATA!C1017=\"\",\"\",STUDATA!C1017)","v":""}]
[{"$f":"IF(F408=\"\",\"\",F408&\"_\"&COUNTIF($F$9:F408,F408))","v":""},{"$f":"IF(STUDATA!B1018=\"\",\"\",STUDATA!B1018)","v":""},{"$f":"IF(STUDATA!E1018=\"\",\"\",STUDATA!E1018)","v":""},{"$f":"IF(STUDATA!F1018=\"\",\"\",STUDATA!F1018)","v":""},{"$f":"IF(STUDATA!G1018=\"\",\"\",STUDATA!G1018)","v":""},{"$f":"IF(STUDATA!C1018=\"\",\"\",STUDATA!C1018)","v":""}]
[{"$f":"IF(F409=\"\",\"\",F409&\"_\"&COUNTIF($F$9:F409,F409))","v":""},{"$f":"IF(STUDATA!B1019=\"\",\"\",STUDATA!B1019)","v":""},{"$f":"IF(STUDATA!E1019=\"\",\"\",STUDATA!E1019)","v":""},{"$f":"IF(STUDATA!F1019=\"\",\"\",STUDATA!F1019)","v":""},{"$f":"IF(STUDATA!G1019=\"\",\"\",STUDATA!G1019)","v":""},{"$f":"IF(STUDATA!C1019=\"\",\"\",STUDATA!C1019)","v":""}]
[{"$f":"IF(F410=\"\",\"\",F410&\"_\"&COUNTIF($F$9:F410,F410))","v":""},{"$f":"IF(STUDATA!B1020=\"\",\"\",STUDATA!B1020)","v":""},{"$f":"IF(STUDATA!E1020=\"\",\"\",STUDATA!E1020)","v":""},{"$f":"IF(STUDATA!F1020=\"\",\"\",STUDATA!F1020)","v":""},{"$f":"IF(STUDATA!G1020=\"\",\"\",STUDATA!G1020)","v":""},{"$f":"IF(STUDATA!C1020=\"\",\"\",STUDATA!C1020)","v":""}]
[{"$f":"IF(F411=\"\",\"\",F411&\"_\"&COUNTIF($F$9:F411,F411))","v":""},{"$f":"IF(STUDATA!B1021=\"\",\"\",STUDATA!B1021)","v":""},{"$f":"IF(STUDATA!E1021=\"\",\"\",STUDATA!E1021)","v":""},{"$f":"IF(STUDATA!F1021=\"\",\"\",STUDATA!F1021)","v":""},{"$f":"IF(STUDATA!G1021=\"\",\"\",STUDATA!G1021)","v":""},{"$f":"IF(STUDATA!C1021=\"\",\"\",STUDATA!C1021)","v":""}]
[{"$f":"IF(F412=\"\",\"\",F412&\"_\"&COUNTIF($F$9:F412,F412))","v":""},{"$f":"IF(STUDATA!B1022=\"\",\"\",STUDATA!B1022)","v":""},{"$f":"IF(STUDATA!E1022=\"\",\"\",STUDATA!E1022)","v":""},{"$f":"IF(STUDATA!F1022=\"\",\"\",STUDATA!F1022)","v":""},{"$f":"IF(STUDATA!G1022=\"\",\"\",STUDATA!G1022)","v":""},{"$f":"IF(STUDATA!C1022=\"\",\"\",STUDATA!C1022)","v":""}]
[{"$f":"IF(F413=\"\",\"\",F413&\"_\"&COUNTIF($F$9:F413,F413))","v":""},{"$f":"IF(STUDATA!B1023=\"\",\"\",STUDATA!B1023)","v":""},{"$f":"IF(STUDATA!E1023=\"\",\"\",STUDATA!E1023)","v":""},{"$f":"IF(STUDATA!F1023=\"\",\"\",STUDATA!F1023)","v":""},{"$f":"IF(STUDATA!G1023=\"\",\"\",STUDATA!G1023)","v":""},{"$f":"IF(STUDATA!C1023=\"\",\"\",STUDATA!C1023)","v":""}]
[{"$f":"IF(F414=\"\",\"\",F414&\"_\"&COUNTIF($F$9:F414,F414))","v":""},{"$f":"IF(STUDATA!B1024=\"\",\"\",STUDATA!B1024)","v":""},{"$f":"IF(STUDATA!E1024=\"\",\"\",STUDATA!E1024)","v":""},{"$f":"IF(STUDATA!F1024=\"\",\"\",STUDATA!F1024)","v":""},{"$f":"IF(STUDATA!G1024=\"\",\"\",STUDATA!G1024)","v":""},{"$f":"IF(STUDATA!C1024=\"\",\"\",STUDATA!C1024)","v":""}]
[{"$f":"IF(F415=\"\",\"\",F415&\"_\"&COUNTIF($F$9:F415,F415))","v":""},{"$f":"IF(STUDATA!B1025=\"\",\"\",STUDATA!B1025)","v":""},{"$f":"IF(STUDATA!E1025=\"\",\"\",STUDATA!E1025)","v":""},{"$f":"IF(STUDATA!F1025=\"\",\"\",STUDATA!F1025)","v":""},{"$f":"IF(STUDATA!G1025=\"\",\"\",STUDATA!G1025)","v":""},{"$f":"IF(STUDATA!C1025=\"\",\"\",STUDATA!C1025)","v":""}]
[{"$f":"IF(F416=\"\",\"\",F416&\"_\"&COUNTIF($F$9:F416,F416))","v":""},{"$f":"IF(STUDATA!B1026=\"\",\"\",STUDATA!B1026)","v":""},{"$f":"IF(STUDATA!E1026=\"\",\"\",STUDATA!E1026)","v":""},{"$f":"IF(STUDATA!F1026=\"\",\"\",STUDATA!F1026)","v":""},{"$f":"IF(STUDATA!G1026=\"\",\"\",STUDATA!G1026)","v":""},{"$f":"IF(STUDATA!C1026=\"\",\"\",STUDATA!C1026)","v":""}]
[{"$f":"IF(F417=\"\",\"\",F417&\"_\"&COUNTIF($F$9:F417,F417))","v":""},{"$f":"IF(STUDATA!B1027=\"\",\"\",STUDATA!B1027)","v":""},{"$f":"IF(STUDATA!E1027=\"\",\"\",STUDATA!E1027)","v":""},{"$f":"IF(STUDATA!F1027=\"\",\"\",STUDATA!F1027)","v":""},{"$f":"IF(STUDATA!G1027=\"\",\"\",STUDATA!G1027)","v":""},{"$f":"IF(STUDATA!C1027=\"\",\"\",STUDATA!C1027)","v":""}]
[{"$f":"IF(F418=\"\",\"\",F418&\"_\"&COUNTIF($F$9:F418,F418))","v":""},{"$f":"IF(STUDATA!B1028=\"\",\"\",STUDATA!B1028)","v":""},{"$f":"IF(STUDATA!E1028=\"\",\"\",STUDATA!E1028)","v":""},{"$f":"IF(STUDATA!F1028=\"\",\"\",STUDATA!F1028)","v":""},{"$f":"IF(STUDATA!G1028=\"\",\"\",STUDATA!G1028)","v":""},{"$f":"IF(STUDATA!C1028=\"\",\"\",STUDATA!C1028)","v":""}]
[{"$f":"IF(F419=\"\",\"\",F419&\"_\"&COUNTIF($F$9:F419,F419))","v":""},{"$f":"IF(STUDATA!B1029=\"\",\"\",STUDATA!B1029)","v":""},{"$f":"IF(STUDATA!E1029=\"\",\"\",STUDATA!E1029)","v":""},{"$f":"IF(STUDATA!F1029=\"\",\"\",STUDATA!F1029)","v":""},{"$f":"IF(STUDATA!G1029=\"\",\"\",STUDATA!G1029)","v":""},{"$f":"IF(STUDATA!C1029=\"\",\"\",STUDATA!C1029)","v":""}]
[{"$f":"IF(F420=\"\",\"\",F420&\"_\"&COUNTIF($F$9:F420,F420))","v":""},{"$f":"IF(STUDATA!B1030=\"\",\"\",STUDATA!B1030)","v":""},{"$f":"IF(STUDATA!E1030=\"\",\"\",STUDATA!E1030)","v":""},{"$f":"IF(STUDATA!F1030=\"\",\"\",STUDATA!F1030)","v":""},{"$f":"IF(STUDATA!G1030=\"\",\"\",STUDATA!G1030)","v":""},{"$f":"IF(STUDATA!C1030=\"\",\"\",STUDATA!C1030)","v":""}]
[{"$f":"IF(F421=\"\",\"\",F421&\"_\"&COUNTIF($F$9:F421,F421))","v":""},{"$f":"IF(STUDATA!B1031=\"\",\"\",STUDATA!B1031)","v":""},{"$f":"IF(STUDATA!E1031=\"\",\"\",STUDATA!E1031)","v":""},{"$f":"IF(STUDATA!F1031=\"\",\"\",STUDATA!F1031)","v":""},{"$f":"IF(STUDATA!G1031=\"\",\"\",STUDATA!G1031)","v":""},{"$f":"IF(STUDATA!C1031=\"\",\"\",STUDATA!C1031)","v":""}]
[{"$f":"IF(F422=\"\",\"\",F422&\"_\"&COUNTIF($F$9:F422,F422))","v":""},{"$f":"IF(STUDATA!B1032=\"\",\"\",STUDATA!B1032)","v":""},{"$f":"IF(STUDATA!E1032=\"\",\"\",STUDATA!E1032)","v":""},{"$f":"IF(STUDATA!F1032=\"\",\"\",STUDATA!F1032)","v":""},{"$f":"IF(STUDATA!G1032=\"\",\"\",STUDATA!G1032)","v":""},{"$f":"IF(STUDATA!C1032=\"\",\"\",STUDATA!C1032)","v":""}]
[{"$f":"IF(F423=\"\",\"\",F423&\"_\"&COUNTIF($F$9:F423,F423))","v":""},{"$f":"IF(STUDATA!B1033=\"\",\"\",STUDATA!B1033)","v":""},{"$f":"IF(STUDATA!E1033=\"\",\"\",STUDATA!E1033)","v":""},{"$f":"IF(STUDATA!F1033=\"\",\"\",STUDATA!F1033)","v":""},{"$f":"IF(STUDATA!G1033=\"\",\"\",STUDATA!G1033)","v":""},{"$f":"IF(STUDATA!C1033=\"\",\"\",STUDATA!C1033)","v":""}]
[{"$f":"IF(F424=\"\",\"\",F424&\"_\"&COUNTIF($F$9:F424,F424))","v":""},{"$f":"IF(STUDATA!B1034=\"\",\"\",STUDATA!B1034)","v":""},{"$f":"IF(STUDATA!E1034=\"\",\"\",STUDATA!E1034)","v":""},{"$f":"IF(STUDATA!F1034=\"\",\"\",STUDATA!F1034)","v":""},{"$f":"IF(STUDATA!G1034=\"\",\"\",STUDATA!G1034)","v":""},{"$f":"IF(STUDATA!C1034=\"\",\"\",STUDATA!C1034)","v":""}]
[{"$f":"IF(F425=\"\",\"\",F425&\"_\"&COUNTIF($F$9:F425,F425))","v":""},{"$f":"IF(STUDATA!B1035=\"\",\"\",STUDATA!B1035)","v":""},{"$f":"IF(STUDATA!E1035=\"\",\"\",STUDATA!E1035)","v":""},{"$f":"IF(STUDATA!F1035=\"\",\"\",STUDATA!F1035)","v":""},{"$f":"IF(STUDATA!G1035=\"\",\"\",STUDATA!G1035)","v":""},{"$f":"IF(STUDATA!C1035=\"\",\"\",STUDATA!C1035)","v":""}]
[{"$f":"IF(F426=\"\",\"\",F426&\"_\"&COUNTIF($F$9:F426,F426))","v":""},{"$f":"IF(STUDATA!B1036=\"\",\"\",STUDATA!B1036)","v":""},{"$f":"IF(STUDATA!E1036=\"\",\"\",STUDATA!E1036)","v":""},{"$f":"IF(STUDATA!F1036=\"\",\"\",STUDATA!F1036)","v":""},{"$f":"IF(STUDATA!G1036=\"\",\"\",STUDATA!G1036)","v":""},{"$f":"IF(STUDATA!C1036=\"\",\"\",STUDATA!C1036)","v":""}]
[{"$f":"IF(F427=\"\",\"\",F427&\"_\"&COUNTIF($F$9:F427,F427))","v":""},{"$f":"IF(STUDATA!B1037=\"\",\"\",STUDATA!B1037)","v":""},{"$f":"IF(STUDATA!E1037=\"\",\"\",STUDATA!E1037)","v":""},{"$f":"IF(STUDATA!F1037=\"\",\"\",STUDATA!F1037)","v":""},{"$f":"IF(STUDATA!G1037=\"\",\"\",STUDATA!G1037)","v":""},{"$f":"IF(STUDATA!C1037=\"\",\"\",STUDATA!C1037)","v":""}]
[{"$f":"IF(F428=\"\",\"\",F428&\"_\"&COUNTIF($F$9:F428,F428))","v":""},{"$f":"IF(STUDATA!B1038=\"\",\"\",STUDATA!B1038)","v":""},{"$f":"IF(STUDATA!E1038=\"\",\"\",STUDATA!E1038)","v":""},{"$f":"IF(STUDATA!F1038=\"\",\"\",STUDATA!F1038)","v":""},{"$f":"IF(STUDATA!G1038=\"\",\"\",STUDATA!G1038)","v":""},{"$f":"IF(STUDATA!C1038=\"\",\"\",STUDATA!C1038)","v":""}]
[{"$f":"IF(F429=\"\",\"\",F429&\"_\"&COUNTIF($F$9:F429,F429))","v":""},{"$f":"IF(STUDATA!B1039=\"\",\"\",STUDATA!B1039)","v":""},{"$f":"IF(STUDATA!E1039=\"\",\"\",STUDATA!E1039)","v":""},{"$f":"IF(STUDATA!F1039=\"\",\"\",STUDATA!F1039)","v":""},{"$f":"IF(STUDATA!G1039=\"\",\"\",STUDATA!G1039)","v":""},{"$f":"IF(STUDATA!C1039=\"\",\"\",STUDATA!C1039)","v":""}]
[{"$f":"IF(F430=\"\",\"\",F430&\"_\"&COUNTIF($F$9:F430,F430))","v":""},{"$f":"IF(STUDATA!B1040=\"\",\"\",STUDATA!B1040)","v":""},{"$f":"IF(STUDATA!E1040=\"\",\"\",STUDATA!E1040)","v":""},{"$f":"IF(STUDATA!F1040=\"\",\"\",STUDATA!F1040)","v":""},{"$f":"IF(STUDATA!G1040=\"\",\"\",STUDATA!G1040)","v":""},{"$f":"IF(STUDATA!C1040=\"\",\"\",STUDATA!C1040)","v":""}]
[{"$f":"IF(F431=\"\",\"\",F431&\"_\"&COUNTIF($F$9:F431,F431))","v":""},{"$f":"IF(STUDATA!B1041=\"\",\"\",STUDATA!B1041)","v":""},{"$f":"IF(STUDATA!E1041=\"\",\"\",STUDATA!E1041)","v":""},{"$f":"IF(STUDATA!F1041=\"\",\"\",STUDATA!F1041)","v":""},{"$f":"IF(STUDATA!G1041=\"\",\"\",STUDATA!G1041)","v":""},{"$f":"IF(STUDATA!C1041=\"\",\"\",STUDATA!C1041)","v":""}]
[{"$f":"IF(F432=\"\",\"\",F432&\"_\"&COUNTIF($F$9:F432,F432))","v":""},{"$f":"IF(STUDATA!B1042=\"\",\"\",STUDATA!B1042)","v":""},{"$f":"IF(STUDATA!E1042=\"\",\"\",STUDATA!E1042)","v":""},{"$f":"IF(STUDATA!F1042=\"\",\"\",STUDATA!F1042)","v":""},{"$f":"IF(STUDATA!G1042=\"\",\"\",STUDATA!G1042)","v":""},{"$f":"IF(STUDATA!C1042=\"\",\"\",STUDATA!C1042)","v":""}]
[{"$f":"IF(F433=\"\",\"\",F433&\"_\"&COUNTIF($F$9:F433,F433))","v":""},{"$f":"IF(STUDATA!B1043=\"\",\"\",STUDATA!B1043)","v":""},{"$f":"IF(STUDATA!E1043=\"\",\"\",STUDATA!E1043)","v":""},{"$f":"IF(STUDATA!F1043=\"\",\"\",STUDATA!F1043)","v":""},{"$f":"IF(STUDATA!G1043=\"\",\"\",STUDATA!G1043)","v":""},{"$f":"IF(STUDATA!C1043=\"\",\"\",STUDATA!C1043)","v":""}]
[{"$f":"IF(F434=\"\",\"\",F434&\"_\"&COUNTIF($F$9:F434,F434))","v":""},{"$f":"IF(STUDATA!B1044=\"\",\"\",STUDATA!B1044)","v":""},{"$f":"IF(STUDATA!E1044=\"\",\"\",STUDATA!E1044)","v":""},{"$f":"IF(STUDATA!F1044=\"\",\"\",STUDATA!F1044)","v":""},{"$f":"IF(STUDATA!G1044=\"\",\"\",STUDATA!G1044)","v":""},{"$f":"IF(STUDATA!C1044=\"\",\"\",STUDATA!C1044)","v":""}]
[{"$f":"IF(F435=\"\",\"\",F435&\"_\"&COUNTIF($F$9:F435,F435))","v":""},{"$f":"IF(STUDATA!B1045=\"\",\"\",STUDATA!B1045)","v":""},{"$f":"IF(STUDATA!E1045=\"\",\"\",STUDATA!E1045)","v":""},{"$f":"IF(STUDATA!F1045=\"\",\"\",STUDATA!F1045)","v":""},{"$f":"IF(STUDATA!G1045=\"\",\"\",STUDATA!G1045)","v":""},{"$f":"IF(STUDATA!C1045=\"\",\"\",STUDATA!C1045)","v":""}]
[{"$f":"IF(F436=\"\",\"\",F436&\"_\"&COUNTIF($F$9:F436,F436))","v":""},{"$f":"IF(STUDATA!B1046=\"\",\"\",STUDATA!B1046)","v":""},{"$f":"IF(STUDATA!E1046=\"\",\"\",STUDATA!E1046)","v":""},{"$f":"IF(STUDATA!F1046=\"\",\"\",STUDATA!F1046)","v":""},{"$f":"IF(STUDATA!G1046=\"\",\"\",STUDATA!G1046)","v":""},{"$f":"IF(STUDATA!C1046=\"\",\"\",STUDATA!C1046)","v":""}]
[{"$f":"IF(F437=\"\",\"\",F437&\"_\"&COUNTIF($F$9:F437,F437))","v":""},{"$f":"IF(STUDATA!B1047=\"\",\"\",STUDATA!B1047)","v":""},{"$f":"IF(STUDATA!E1047=\"\",\"\",STUDATA!E1047)","v":""},{"$f":"IF(STUDATA!F1047=\"\",\"\",STUDATA!F1047)","v":""},{"$f":"IF(STUDATA!G1047=\"\",\"\",STUDATA!G1047)","v":""},{"$f":"IF(STUDATA!C1047=\"\",\"\",STUDATA!C1047)","v":""}]
[{"$f":"IF(F438=\"\",\"\",F438&\"_\"&COUNTIF($F$9:F438,F438))","v":""},{"$f":"IF(STUDATA!B1048=\"\",\"\",STUDATA!B1048)","v":""},{"$f":"IF(STUDATA!E1048=\"\",\"\",STUDATA!E1048)","v":""},{"$f":"IF(STUDATA!F1048=\"\",\"\",STUDATA!F1048)","v":""},{"$f":"IF(STUDATA!G1048=\"\",\"\",STUDATA!G1048)","v":""},{"$f":"IF(STUDATA!C1048=\"\",\"\",STUDATA!C1048)","v":""}]
[{"$f":"IF(F439=\"\",\"\",F439&\"_\"&COUNTIF($F$9:F439,F439))","v":""},{"$f":"IF(STUDATA!B1049=\"\",\"\",STUDATA!B1049)","v":""},{"$f":"IF(STUDATA!E1049=\"\",\"\",STUDATA!E1049)","v":""},{"$f":"IF(STUDATA!F1049=\"\",\"\",STUDATA!F1049)","v":""},{"$f":"IF(STUDATA!G1049=\"\",\"\",STUDATA!G1049)","v":""},{"$f":"IF(STUDATA!C1049=\"\",\"\",STUDATA!C1049)","v":""}]
[{"$f":"IF(F440=\"\",\"\",F440&\"_\"&COUNTIF($F$9:F440,F440))","v":""},{"$f":"IF(STUDATA!B1050=\"\",\"\",STUDATA!B1050)","v":""},{"$f":"IF(STUDATA!E1050=\"\",\"\",STUDATA!E1050)","v":""},{"$f":"IF(STUDATA!F1050=\"\",\"\",STUDATA!F1050)","v":""},{"$f":"IF(STUDATA!G1050=\"\",\"\",STUDATA!G1050)","v":""},{"$f":"IF(STUDATA!C1050=\"\",\"\",STUDATA!C1050)","v":""}]
[{"$f":"IF(F441=\"\",\"\",F441&\"_\"&COUNTIF($F$9:F441,F441))","v":""},{"$f":"IF(STUDATA!B1051=\"\",\"\",STUDATA!B1051)","v":""},{"$f":"IF(STUDATA!E1051=\"\",\"\",STUDATA!E1051)","v":""},{"$f":"IF(STUDATA!F1051=\"\",\"\",STUDATA!F1051)","v":""},{"$f":"IF(STUDATA!G1051=\"\",\"\",STUDATA!G1051)","v":""},{"$f":"IF(STUDATA!C1051=\"\",\"\",STUDATA!C1051)","v":""}]
[{"$f":"IF(F442=\"\",\"\",F442&\"_\"&COUNTIF($F$9:F442,F442))","v":""},{"$f":"IF(STUDATA!B1052=\"\",\"\",STUDATA!B1052)","v":""},{"$f":"IF(STUDATA!E1052=\"\",\"\",STUDATA!E1052)","v":""},{"$f":"IF(STUDATA!F1052=\"\",\"\",STUDATA!F1052)","v":""},{"$f":"IF(STUDATA!G1052=\"\",\"\",STUDATA!G1052)","v":""},{"$f":"IF(STUDATA!C1052=\"\",\"\",STUDATA!C1052)","v":""}]
[{"$f":"IF(F443=\"\",\"\",F443&\"_\"&COUNTIF($F$9:F443,F443))","v":""},{"$f":"IF(STUDATA!B1053=\"\",\"\",STUDATA!B1053)","v":""},{"$f":"IF(STUDATA!E1053=\"\",\"\",STUDATA!E1053)","v":""},{"$f":"IF(STUDATA!F1053=\"\",\"\",STUDATA!F1053)","v":""},{"$f":"IF(STUDATA!G1053=\"\",\"\",STUDATA!G1053)","v":""},{"$f":"IF(STUDATA!C1053=\"\",\"\",STUDATA!C1053)","v":""}]
[{"$f":"IF(F444=\"\",\"\",F444&\"_\"&COUNTIF($F$9:F444,F444))","v":""},{"$f":"IF(STUDATA!B1054=\"\",\"\",STUDATA!B1054)","v":""},{"$f":"IF(STUDATA!E1054=\"\",\"\",STUDATA!E1054)","v":""},{"$f":"IF(STUDATA!F1054=\"\",\"\",STUDATA!F1054)","v":""},{"$f":"IF(STUDATA!G1054=\"\",\"\",STUDATA!G1054)","v":""},{"$f":"IF(STUDATA!C1054=\"\",\"\",STUDATA!C1054)","v":""}]
[{"$f":"IF(F445=\"\",\"\",F445&\"_\"&COUNTIF($F$9:F445,F445))","v":""},{"$f":"IF(STUDATA!B1055=\"\",\"\",STUDATA!B1055)","v":""},{"$f":"IF(STUDATA!E1055=\"\",\"\",STUDATA!E1055)","v":""},{"$f":"IF(STUDATA!F1055=\"\",\"\",STUDATA!F1055)","v":""},{"$f":"IF(STUDATA!G1055=\"\",\"\",STUDATA!G1055)","v":""},{"$f":"IF(STUDATA!C1055=\"\",\"\",STUDATA!C1055)","v":""}]
[{"$f":"IF(F446=\"\",\"\",F446&\"_\"&COUNTIF($F$9:F446,F446))","v":""},{"$f":"IF(STUDATA!B1056=\"\",\"\",STUDATA!B1056)","v":""},{"$f":"IF(STUDATA!E1056=\"\",\"\",STUDATA!E1056)","v":""},{"$f":"IF(STUDATA!F1056=\"\",\"\",STUDATA!F1056)","v":""},{"$f":"IF(STUDATA!G1056=\"\",\"\",STUDATA!G1056)","v":""},{"$f":"IF(STUDATA!C1056=\"\",\"\",STUDATA!C1056)","v":""}]
[{"$f":"IF(F447=\"\",\"\",F447&\"_\"&COUNTIF($F$9:F447,F447))","v":""},{"$f":"IF(STUDATA!B1057=\"\",\"\",STUDATA!B1057)","v":""},{"$f":"IF(STUDATA!E1057=\"\",\"\",STUDATA!E1057)","v":""},{"$f":"IF(STUDATA!F1057=\"\",\"\",STUDATA!F1057)","v":""},{"$f":"IF(STUDATA!G1057=\"\",\"\",STUDATA!G1057)","v":""},{"$f":"IF(STUDATA!C1057=\"\",\"\",STUDATA!C1057)","v":""}]
[{"$f":"IF(F448=\"\",\"\",F448&\"_\"&COUNTIF($F$9:F448,F448))","v":""},{"$f":"IF(STUDATA!B1058=\"\",\"\",STUDATA!B1058)","v":""},{"$f":"IF(STUDATA!E1058=\"\",\"\",STUDATA!E1058)","v":""},{"$f":"IF(STUDATA!F1058=\"\",\"\",STUDATA!F1058)","v":""},{"$f":"IF(STUDATA!G1058=\"\",\"\",STUDATA!G1058)","v":""},{"$f":"IF(STUDATA!C1058=\"\",\"\",STUDATA!C1058)","v":""}]
[{"$f":"IF(F449=\"\",\"\",F449&\"_\"&COUNTIF($F$9:F449,F449))","v":""},{"$f":"IF(STUDATA!B1059=\"\",\"\",STUDATA!B1059)","v":""},{"$f":"IF(STUDATA!E1059=\"\",\"\",STUDATA!E1059)","v":""},{"$f":"IF(STUDATA!F1059=\"\",\"\",STUDATA!F1059)","v":""},{"$f":"IF(STUDATA!G1059=\"\",\"\",STUDATA!G1059)","v":""},{"$f":"IF(STUDATA!C1059=\"\",\"\",STUDATA!C1059)","v":""}]
[{"$f":"IF(F450=\"\",\"\",F450&\"_\"&COUNTIF($F$9:F450,F450))","v":""},{"$f":"IF(STUDATA!B1060=\"\",\"\",STUDATA!B1060)","v":""},{"$f":"IF(STUDATA!E1060=\"\",\"\",STUDATA!E1060)","v":""},{"$f":"IF(STUDATA!F1060=\"\",\"\",STUDATA!F1060)","v":""},{"$f":"IF(STUDATA!G1060=\"\",\"\",STUDATA!G1060)","v":""},{"$f":"IF(STUDATA!C1060=\"\",\"\",STUDATA!C1060)","v":""}]
[{"$f":"IF(F451=\"\",\"\",F451&\"_\"&COUNTIF($F$9:F451,F451))","v":""},{"$f":"IF(STUDATA!B1061=\"\",\"\",STUDATA!B1061)","v":""},{"$f":"IF(STUDATA!E1061=\"\",\"\",STUDATA!E1061)","v":""},{"$f":"IF(STUDATA!F1061=\"\",\"\",STUDATA!F1061)","v":""},{"$f":"IF(STUDATA!G1061=\"\",\"\",STUDATA!G1061)","v":""},{"$f":"IF(STUDATA!C1061=\"\",\"\",STUDATA!C1061)","v":""}]
[{"$f":"IF(F452=\"\",\"\",F452&\"_\"&COUNTIF($F$9:F452,F452))","v":""},{"$f":"IF(STUDATA!B1062=\"\",\"\",STUDATA!B1062)","v":""},{"$f":"IF(STUDATA!E1062=\"\",\"\",STUDATA!E1062)","v":""},{"$f":"IF(STUDATA!F1062=\"\",\"\",STUDATA!F1062)","v":""},{"$f":"IF(STUDATA!G1062=\"\",\"\",STUDATA!G1062)","v":""},{"$f":"IF(STUDATA!C1062=\"\",\"\",STUDATA!C1062)","v":""}]
[{"$f":"IF(F453=\"\",\"\",F453&\"_\"&COUNTIF($F$9:F453,F453))","v":""},{"$f":"IF(STUDATA!B1063=\"\",\"\",STUDATA!B1063)","v":""},{"$f":"IF(STUDATA!E1063=\"\",\"\",STUDATA!E1063)","v":""},{"$f":"IF(STUDATA!F1063=\"\",\"\",STUDATA!F1063)","v":""},{"$f":"IF(STUDATA!G1063=\"\",\"\",STUDATA!G1063)","v":""},{"$f":"IF(STUDATA!C1063=\"\",\"\",STUDATA!C1063)","v":""}]
[{"$f":"IF(F454=\"\",\"\",F454&\"_\"&COUNTIF($F$9:F454,F454))","v":""},{"$f":"IF(STUDATA!B1064=\"\",\"\",STUDATA!B1064)","v":""},{"$f":"IF(STUDATA!E1064=\"\",\"\",STUDATA!E1064)","v":""},{"$f":"IF(STUDATA!F1064=\"\",\"\",STUDATA!F1064)","v":""},{"$f":"IF(STUDATA!G1064=\"\",\"\",STUDATA!G1064)","v":""},{"$f":"IF(STUDATA!C1064=\"\",\"\",STUDATA!C1064)","v":""}]
[{"$f":"IF(F455=\"\",\"\",F455&\"_\"&COUNTIF($F$9:F455,F455))","v":""},{"$f":"IF(STUDATA!B1065=\"\",\"\",STUDATA!B1065)","v":""},{"$f":"IF(STUDATA!E1065=\"\",\"\",STUDATA!E1065)","v":""},{"$f":"IF(STUDATA!F1065=\"\",\"\",STUDATA!F1065)","v":""},{"$f":"IF(STUDATA!G1065=\"\",\"\",STUDATA!G1065)","v":""},{"$f":"IF(STUDATA!C1065=\"\",\"\",STUDATA!C1065)","v":""}]
[{"$f":"IF(F456=\"\",\"\",F456&\"_\"&COUNTIF($F$9:F456,F456))","v":""},{"$f":"IF(STUDATA!B1066=\"\",\"\",STUDATA!B1066)","v":""},{"$f":"IF(STUDATA!E1066=\"\",\"\",STUDATA!E1066)","v":""},{"$f":"IF(STUDATA!F1066=\"\",\"\",STUDATA!F1066)","v":""},{"$f":"IF(STUDATA!G1066=\"\",\"\",STUDATA!G1066)","v":""},{"$f":"IF(STUDATA!C1066=\"\",\"\",STUDATA!C1066)","v":""}]
[{"$f":"IF(F457=\"\",\"\",F457&\"_\"&COUNTIF($F$9:F457,F457))","v":""},{"$f":"IF(STUDATA!B1067=\"\",\"\",STUDATA!B1067)","v":""},{"$f":"IF(STUDATA!E1067=\"\",\"\",STUDATA!E1067)","v":""},{"$f":"IF(STUDATA!F1067=\"\",\"\",STUDATA!F1067)","v":""},{"$f":"IF(STUDATA!G1067=\"\",\"\",STUDATA!G1067)","v":""},{"$f":"IF(STUDATA!C1067=\"\",\"\",STUDATA!C1067)","v":""}]
[{"$f":"IF(F458=\"\",\"\",F458&\"_\"&COUNTIF($F$9:F458,F458))","v":""},{"$f":"IF(STUDATA!B1068=\"\",\"\",STUDATA!B1068)","v":""},{"$f":"IF(STUDATA!E1068=\"\",\"\",STUDATA!E1068)","v":""},{"$f":"IF(STUDATA!F1068=\"\",\"\",STUDATA!F1068)","v":""},{"$f":"IF(STUDATA!G1068=\"\",\"\",STUDATA!G1068)","v":""},{"$f":"IF(STUDATA!C1068=\"\",\"\",STUDATA!C1068)","v":""}]
[{"$f":"IF(F459=\"\",\"\",F459&\"_\"&COUNTIF($F$9:F459,F459))","v":""},{"$f":"IF(STUDATA!B1069=\"\",\"\",STUDATA!B1069)","v":""},{"$f":"IF(STUDATA!E1069=\"\",\"\",STUDATA!E1069)","v":""},{"$f":"IF(STUDATA!F1069=\"\",\"\",STUDATA!F1069)","v":""},{"$f":"IF(STUDATA!G1069=\"\",\"\",STUDATA!G1069)","v":""},{"$f":"IF(STUDATA!C1069=\"\",\"\",STUDATA!C1069)","v":""}]
[{"$f":"IF(F460=\"\",\"\",F460&\"_\"&COUNTIF($F$9:F460,F460))","v":""},{"$f":"IF(STUDATA!B1070=\"\",\"\",STUDATA!B1070)","v":""},{"$f":"IF(STUDATA!E1070=\"\",\"\",STUDATA!E1070)","v":""},{"$f":"IF(STUDATA!F1070=\"\",\"\",STUDATA!F1070)","v":""},{"$f":"IF(STUDATA!G1070=\"\",\"\",STUDATA!G1070)","v":""},{"$f":"IF(STUDATA!C1070=\"\",\"\",STUDATA!C1070)","v":""}]
[{"$f":"IF(F461=\"\",\"\",F461&\"_\"&COUNTIF($F$9:F461,F461))","v":""},{"$f":"IF(STUDATA!B1071=\"\",\"\",STUDATA!B1071)","v":""},{"$f":"IF(STUDATA!E1071=\"\",\"\",STUDATA!E1071)","v":""},{"$f":"IF(STUDATA!F1071=\"\",\"\",STUDATA!F1071)","v":""},{"$f":"IF(STUDATA!G1071=\"\",\"\",STUDATA!G1071)","v":""},{"$f":"IF(STUDATA!C1071=\"\",\"\",STUDATA!C1071)","v":""}]
[{"$f":"IF(F462=\"\",\"\",F462&\"_\"&COUNTIF($F$9:F462,F462))","v":""},{"$f":"IF(STUDATA!B1072=\"\",\"\",STUDATA!B1072)","v":""},{"$f":"IF(STUDATA!E1072=\"\",\"\",STUDATA!E1072)","v":""},{"$f":"IF(STUDATA!F1072=\"\",\"\",STUDATA!F1072)","v":""},{"$f":"IF(STUDATA!G1072=\"\",\"\",STUDATA!G1072)","v":""},{"$f":"IF(STUDATA!C1072=\"\",\"\",STUDATA!C1072)","v":""}]
[{"$f":"IF(F463=\"\",\"\",F463&\"_\"&COUNTIF($F$9:F463,F463))","v":""},{"$f":"IF(STUDATA!B1073=\"\",\"\",STUDATA!B1073)","v":""},{"$f":"IF(STUDATA!E1073=\"\",\"\",STUDATA!E1073)","v":""},{"$f":"IF(STUDATA!F1073=\"\",\"\",STUDATA!F1073)","v":""},{"$f":"IF(STUDATA!G1073=\"\",\"\",STUDATA!G1073)","v":""},{"$f":"IF(STUDATA!C1073=\"\",\"\",STUDATA!C1073)","v":""}]
[{"$f":"IF(F464=\"\",\"\",F464&\"_\"&COUNTIF($F$9:F464,F464))","v":""},{"$f":"IF(STUDATA!B1074=\"\",\"\",STUDATA!B1074)","v":""},{"$f":"IF(STUDATA!E1074=\"\",\"\",STUDATA!E1074)","v":""},{"$f":"IF(STUDATA!F1074=\"\",\"\",STUDATA!F1074)","v":""},{"$f":"IF(STUDATA!G1074=\"\",\"\",STUDATA!G1074)","v":""},{"$f":"IF(STUDATA!C1074=\"\",\"\",STUDATA!C1074)","v":""}]
[{"$f":"IF(F465=\"\",\"\",F465&\"_\"&COUNTIF($F$9:F465,F465))","v":""},{"$f":"IF(STUDATA!B1075=\"\",\"\",STUDATA!B1075)","v":""},{"$f":"IF(STUDATA!E1075=\"\",\"\",STUDATA!E1075)","v":""},{"$f":"IF(STUDATA!F1075=\"\",\"\",STUDATA!F1075)","v":""},{"$f":"IF(STUDATA!G1075=\"\",\"\",STUDATA!G1075)","v":""},{"$f":"IF(STUDATA!C1075=\"\",\"\",STUDATA!C1075)","v":""}]
[{"$f":"IF(F466=\"\",\"\",F466&\"_\"&COUNTIF($F$9:F466,F466))","v":""},{"$f":"IF(STUDATA!B1076=\"\",\"\",STUDATA!B1076)","v":""},{"$f":"IF(STUDATA!E1076=\"\",\"\",STUDATA!E1076)","v":""},{"$f":"IF(STUDATA!F1076=\"\",\"\",STUDATA!F1076)","v":""},{"$f":"IF(STUDATA!G1076=\"\",\"\",STUDATA!G1076)","v":""},{"$f":"IF(STUDATA!C1076=\"\",\"\",STUDATA!C1076)","v":""}]
[{"$f":"IF(F467=\"\",\"\",F467&\"_\"&COUNTIF($F$9:F467,F467))","v":""},{"$f":"IF(STUDATA!B1077=\"\",\"\",STUDATA!B1077)","v":""},{"$f":"IF(STUDATA!E1077=\"\",\"\",STUDATA!E1077)","v":""},{"$f":"IF(STUDATA!F1077=\"\",\"\",STUDATA!F1077)","v":""},{"$f":"IF(STUDATA!G1077=\"\",\"\",STUDATA!G1077)","v":""},{"$f":"IF(STUDATA!C1077=\"\",\"\",STUDATA!C1077)","v":""}]
[{"$f":"IF(F468=\"\",\"\",F468&\"_\"&COUNTIF($F$9:F468,F468))","v":""},{"$f":"IF(STUDATA!B1078=\"\",\"\",STUDATA!B1078)","v":""},{"$f":"IF(STUDATA!E1078=\"\",\"\",STUDATA!E1078)","v":""},{"$f":"IF(STUDATA!F1078=\"\",\"\",STUDATA!F1078)","v":""},{"$f":"IF(STUDATA!G1078=\"\",\"\",STUDATA!G1078)","v":""},{"$f":"IF(STUDATA!C1078=\"\",\"\",STUDATA!C1078)","v":""}]
[{"$f":"IF(F469=\"\",\"\",F469&\"_\"&COUNTIF($F$9:F469,F469))","v":""},{"$f":"IF(STUDATA!B1079=\"\",\"\",STUDATA!B1079)","v":""},{"$f":"IF(STUDATA!E1079=\"\",\"\",STUDATA!E1079)","v":""},{"$f":"IF(STUDATA!F1079=\"\",\"\",STUDATA!F1079)","v":""},{"$f":"IF(STUDATA!G1079=\"\",\"\",STUDATA!G1079)","v":""},{"$f":"IF(STUDATA!C1079=\"\",\"\",STUDATA!C1079)","v":""}]
[{"$f":"IF(F470=\"\",\"\",F470&\"_\"&COUNTIF($F$9:F470,F470))","v":""},{"$f":"IF(STUDATA!B1080=\"\",\"\",STUDATA!B1080)","v":""},{"$f":"IF(STUDATA!E1080=\"\",\"\",STUDATA!E1080)","v":""},{"$f":"IF(STUDATA!F1080=\"\",\"\",STUDATA!F1080)","v":""},{"$f":"IF(STUDATA!G1080=\"\",\"\",STUDATA!G1080)","v":""},{"$f":"IF(STUDATA!C1080=\"\",\"\",STUDATA!C1080)","v":""}]
[{"$f":"IF(F471=\"\",\"\",F471&\"_\"&COUNTIF($F$9:F471,F471))","v":""},{"$f":"IF(STUDATA!B1081=\"\",\"\",STUDATA!B1081)","v":""},{"$f":"IF(STUDATA!E1081=\"\",\"\",STUDATA!E1081)","v":""},{"$f":"IF(STUDATA!F1081=\"\",\"\",STUDATA!F1081)","v":""},{"$f":"IF(STUDATA!G1081=\"\",\"\",STUDATA!G1081)","v":""},{"$f":"IF(STUDATA!C1081=\"\",\"\",STUDATA!C1081)","v":""}]
[{"$f":"IF(F472=\"\",\"\",F472&\"_\"&COUNTIF($F$9:F472,F472))","v":""},{"$f":"IF(STUDATA!B1082=\"\",\"\",STUDATA!B1082)","v":""},{"$f":"IF(STUDATA!E1082=\"\",\"\",STUDATA!E1082)","v":""},{"$f":"IF(STUDATA!F1082=\"\",\"\",STUDATA!F1082)","v":""},{"$f":"IF(STUDATA!G1082=\"\",\"\",STUDATA!G1082)","v":""},{"$f":"IF(STUDATA!C1082=\"\",\"\",STUDATA!C1082)","v":""}]
[{"$f":"IF(F473=\"\",\"\",F473&\"_\"&COUNTIF($F$9:F473,F473))","v":""},{"$f":"IF(STUDATA!B1083=\"\",\"\",STUDATA!B1083)","v":""},{"$f":"IF(STUDATA!E1083=\"\",\"\",STUDATA!E1083)","v":""},{"$f":"IF(STUDATA!F1083=\"\",\"\",STUDATA!F1083)","v":""},{"$f":"IF(STUDATA!G1083=\"\",\"\",STUDATA!G1083)","v":""},{"$f":"IF(STUDATA!C1083=\"\",\"\",STUDATA!C1083)","v":""}]
[{"$f":"IF(F474=\"\",\"\",F474&\"_\"&COUNTIF($F$9:F474,F474))","v":""},{"$f":"IF(STUDATA!B1084=\"\",\"\",STUDATA!B1084)","v":""},{"$f":"IF(STUDATA!E1084=\"\",\"\",STUDATA!E1084)","v":""},{"$f":"IF(STUDATA!F1084=\"\",\"\",STUDATA!F1084)","v":""},{"$f":"IF(STUDATA!G1084=\"\",\"\",STUDATA!G1084)","v":""},{"$f":"IF(STUDATA!C1084=\"\",\"\",STUDATA!C1084)","v":""}]
[{"$f":"IF(F475=\"\",\"\",F475&\"_\"&COUNTIF($F$9:F475,F475))","v":""},{"$f":"IF(STUDATA!B1085=\"\",\"\",STUDATA!B1085)","v":""},{"$f":"IF(STUDATA!E1085=\"\",\"\",STUDATA!E1085)","v":""},{"$f":"IF(STUDATA!F1085=\"\",\"\",STUDATA!F1085)","v":""},{"$f":"IF(STUDATA!G1085=\"\",\"\",STUDATA!G1085)","v":""},{"$f":"IF(STUDATA!C1085=\"\",\"\",STUDATA!C1085)","v":""}]
[{"$f":"IF(F476=\"\",\"\",F476&\"_\"&COUNTIF($F$9:F476,F476))","v":""},{"$f":"IF(STUDATA!B1086=\"\",\"\",STUDATA!B1086)","v":""},{"$f":"IF(STUDATA!E1086=\"\",\"\",STUDATA!E1086)","v":""},{"$f":"IF(STUDATA!F1086=\"\",\"\",STUDATA!F1086)","v":""},{"$f":"IF(STUDATA!G1086=\"\",\"\",STUDATA!G1086)","v":""},{"$f":"IF(STUDATA!C1086=\"\",\"\",STUDATA!C1086)","v":""}]
[{"$f":"IF(F477=\"\",\"\",F477&\"_\"&COUNTIF($F$9:F477,F477))","v":""},{"$f":"IF(STUDATA!B1087=\"\",\"\",STUDATA!B1087)","v":""},{"$f":"IF(STUDATA!E1087=\"\",\"\",STUDATA!E1087)","v":""},{"$f":"IF(STUDATA!F1087=\"\",\"\",STUDATA!F1087)","v":""},{"$f":"IF(STUDATA!G1087=\"\",\"\",STUDATA!G1087)","v":""},{"$f":"IF(STUDATA!C1087=\"\",\"\",STUDATA!C1087)","v":""}]
[{"$f":"IF(F478=\"\",\"\",F478&\"_\"&COUNTIF($F$9:F478,F478))","v":""},{"$f":"IF(STUDATA!B1088=\"\",\"\",STUDATA!B1088)","v":""},{"$f":"IF(STUDATA!E1088=\"\",\"\",STUDATA!E1088)","v":""},{"$f":"IF(STUDATA!F1088=\"\",\"\",STUDATA!F1088)","v":""},{"$f":"IF(STUDATA!G1088=\"\",\"\",STUDATA!G1088)","v":""},{"$f":"IF(STUDATA!C1088=\"\",\"\",STUDATA!C1088)","v":""}]
[{"$f":"IF(F479=\"\",\"\",F479&\"_\"&COUNTIF($F$9:F479,F479))","v":""},{"$f":"IF(STUDATA!B1089=\"\",\"\",STUDATA!B1089)","v":""},{"$f":"IF(STUDATA!E1089=\"\",\"\",STUDATA!E1089)","v":""},{"$f":"IF(STUDATA!F1089=\"\",\"\",STUDATA!F1089)","v":""},{"$f":"IF(STUDATA!G1089=\"\",\"\",STUDATA!G1089)","v":""},{"$f":"IF(STUDATA!C1089=\"\",\"\",STUDATA!C1089)","v":""}]
[{"$f":"IF(F480=\"\",\"\",F480&\"_\"&COUNTIF($F$9:F480,F480))","v":""},{"$f":"IF(STUDATA!B1090=\"\",\"\",STUDATA!B1090)","v":""},{"$f":"IF(STUDATA!E1090=\"\",\"\",STUDATA!E1090)","v":""},{"$f":"IF(STUDATA!F1090=\"\",\"\",STUDATA!F1090)","v":""},{"$f":"IF(STUDATA!G1090=\"\",\"\",STUDATA!G1090)","v":""},{"$f":"IF(STUDATA!C1090=\"\",\"\",STUDATA!C1090)","v":""}]
[{"$f":"IF(F481=\"\",\"\",F481&\"_\"&COUNTIF($F$9:F481,F481))","v":""},{"$f":"IF(STUDATA!B1091=\"\",\"\",STUDATA!B1091)","v":""},{"$f":"IF(STUDATA!E1091=\"\",\"\",STUDATA!E1091)","v":""},{"$f":"IF(STUDATA!F1091=\"\",\"\",STUDATA!F1091)","v":""},{"$f":"IF(STUDATA!G1091=\"\",\"\",STUDATA!G1091)","v":""},{"$f":"IF(STUDATA!C1091=\"\",\"\",STUDATA!C1091)","v":""}]
[{"$f":"IF(F482=\"\",\"\",F482&\"_\"&COUNTIF($F$9:F482,F482))","v":""},{"$f":"IF(STUDATA!B1092=\"\",\"\",STUDATA!B1092)","v":""},{"$f":"IF(STUDATA!E1092=\"\",\"\",STUDATA!E1092)","v":""},{"$f":"IF(STUDATA!F1092=\"\",\"\",STUDATA!F1092)","v":""},{"$f":"IF(STUDATA!G1092=\"\",\"\",STUDATA!G1092)","v":""},{"$f":"IF(STUDATA!C1092=\"\",\"\",STUDATA!C1092)","v":""}]
[{"$f":"IF(F483=\"\",\"\",F483&\"_\"&COUNTIF($F$9:F483,F483))","v":""},{"$f":"IF(STUDATA!B1093=\"\",\"\",STUDATA!B1093)","v":""},{"$f":"IF(STUDATA!E1093=\"\",\"\",STUDATA!E1093)","v":""},{"$f":"IF(STUDATA!F1093=\"\",\"\",STUDATA!F1093)","v":""},{"$f":"IF(STUDATA!G1093=\"\",\"\",STUDATA!G1093)","v":""},{"$f":"IF(STUDATA!C1093=\"\",\"\",STUDATA!C1093)","v":""}]
[{"$f":"IF(F484=\"\",\"\",F484&\"_\"&COUNTIF($F$9:F484,F484))","v":""},{"$f":"IF(STUDATA!B1094=\"\",\"\",STUDATA!B1094)","v":""},{"$f":"IF(STUDATA!E1094=\"\",\"\",STUDATA!E1094)","v":""},{"$f":"IF(STUDATA!F1094=\"\",\"\",STUDATA!F1094)","v":""},{"$f":"IF(STUDATA!G1094=\"\",\"\",STUDATA!G1094)","v":""},{"$f":"IF(STUDATA!C1094=\"\",\"\",STUDATA!C1094)","v":""}]
[{"$f":"IF(F485=\"\",\"\",F485&\"_\"&COUNTIF($F$9:F485,F485))","v":""},{"$f":"IF(STUDATA!B1095=\"\",\"\",STUDATA!B1095)","v":""},{"$f":"IF(STUDATA!E1095=\"\",\"\",STUDATA!E1095)","v":""},{"$f":"IF(STUDATA!F1095=\"\",\"\",STUDATA!F1095)","v":""},{"$f":"IF(STUDATA!G1095=\"\",\"\",STUDATA!G1095)","v":""},{"$f":"IF(STUDATA!C1095=\"\",\"\",STUDATA!C1095)","v":""}]
[{"$f":"IF(F486=\"\",\"\",F486&\"_\"&COUNTIF($F$9:F486,F486))","v":""},{"$f":"IF(STUDATA!B1096=\"\",\"\",STUDATA!B1096)","v":""},{"$f":"IF(STUDATA!E1096=\"\",\"\",STUDATA!E1096)","v":""},{"$f":"IF(STUDATA!F1096=\"\",\"\",STUDATA!F1096)","v":""},{"$f":"IF(STUDATA!G1096=\"\",\"\",STUDATA!G1096)","v":""},{"$f":"IF(STUDATA!C1096=\"\",\"\",STUDATA!C1096)","v":""}]
[{"$f":"IF(F487=\"\",\"\",F487&\"_\"&COUNTIF($F$9:F487,F487))","v":""},{"$f":"IF(STUDATA!B1097=\"\",\"\",STUDATA!B1097)","v":""},{"$f":"IF(STUDATA!E1097=\"\",\"\",STUDATA!E1097)","v":""},{"$f":"IF(STUDATA!F1097=\"\",\"\",STUDATA!F1097)","v":""},{"$f":"IF(STUDATA!G1097=\"\",\"\",STUDATA!G1097)","v":""},{"$f":"IF(STUDATA!C1097=\"\",\"\",STUDATA!C1097)","v":""}]
[{"$f":"IF(F488=\"\",\"\",F488&\"_\"&COUNTIF($F$9:F488,F488))","v":""},{"$f":"IF(STUDATA!B1098=\"\",\"\",STUDATA!B1098)","v":""},{"$f":"IF(STUDATA!E1098=\"\",\"\",STUDATA!E1098)","v":""},{"$f":"IF(STUDATA!F1098=\"\",\"\",STUDATA!F1098)","v":""},{"$f":"IF(STUDATA!G1098=\"\",\"\",STUDATA!G1098)","v":""},{"$f":"IF(STUDATA!C1098=\"\",\"\",STUDATA!C1098)","v":""}]
[{"$f":"IF(F489=\"\",\"\",F489&\"_\"&COUNTIF($F$9:F489,F489))","v":""},{"$f":"IF(STUDATA!B1099=\"\",\"\",STUDATA!B1099)","v":""},{"$f":"IF(STUDATA!E1099=\"\",\"\",STUDATA!E1099)","v":""},{"$f":"IF(STUDATA!F1099=\"\",\"\",STUDATA!F1099)","v":""},{"$f":"IF(STUDATA!G1099=\"\",\"\",STUDATA!G1099)","v":""},{"$f":"IF(STUDATA!C1099=\"\",\"\",STUDATA!C1099)","v":""}]
[{"$f":"IF(F490=\"\",\"\",F490&\"_\"&COUNTIF($F$9:F490,F490))","v":""},{"$f":"IF(STUDATA!B1100=\"\",\"\",STUDATA!B1100)","v":""},{"$f":"IF(STUDATA!E1100=\"\",\"\",STUDATA!E1100)","v":""},{"$f":"IF(STUDATA!F1100=\"\",\"\",STUDATA!F1100)","v":""},{"$f":"IF(STUDATA!G1100=\"\",\"\",STUDATA!G1100)","v":""},{"$f":"IF(STUDATA!C1100=\"\",\"\",STUDATA!C1100)","v":""}]
[{"$f":"IF(F491=\"\",\"\",F491&\"_\"&COUNTIF($F$9:F491,F491))","v":""},{"$f":"IF(STUDATA!B1101=\"\",\"\",STUDATA!B1101)","v":""},{"$f":"IF(STUDATA!E1101=\"\",\"\",STUDATA!E1101)","v":""},{"$f":"IF(STUDATA!F1101=\"\",\"\",STUDATA!F1101)","v":""},{"$f":"IF(STUDATA!G1101=\"\",\"\",STUDATA!G1101)","v":""},{"$f":"IF(STUDATA!C1101=\"\",\"\",STUDATA!C1101)","v":""}]
[{"$f":"IF(F492=\"\",\"\",F492&\"_\"&COUNTIF($F$9:F492,F492))","v":""},{"$f":"IF(STUDATA!B1102=\"\",\"\",STUDATA!B1102)","v":""},{"$f":"IF(STUDATA!E1102=\"\",\"\",STUDATA!E1102)","v":""},{"$f":"IF(STUDATA!F1102=\"\",\"\",STUDATA!F1102)","v":""},{"$f":"IF(STUDATA!G1102=\"\",\"\",STUDATA!G1102)","v":""},{"$f":"IF(STUDATA!C1102=\"\",\"\",STUDATA!C1102)","v":""}]
[{"$f":"IF(F493=\"\",\"\",F493&\"_\"&COUNTIF($F$9:F493,F493))","v":""},{"$f":"IF(STUDATA!B1103=\"\",\"\",STUDATA!B1103)","v":""},{"$f":"IF(STUDATA!E1103=\"\",\"\",STUDATA!E1103)","v":""},{"$f":"IF(STUDATA!F1103=\"\",\"\",STUDATA!F1103)","v":""},{"$f":"IF(STUDATA!G1103=\"\",\"\",STUDATA!G1103)","v":""},{"$f":"IF(STUDATA!C1103=\"\",\"\",STUDATA!C1103)","v":""}]
[{"$f":"IF(F494=\"\",\"\",F494&\"_\"&COUNTIF($F$9:F494,F494))","v":""},{"$f":"IF(STUDATA!B1104=\"\",\"\",STUDATA!B1104)","v":""},{"$f":"IF(STUDATA!E1104=\"\",\"\",STUDATA!E1104)","v":""},{"$f":"IF(STUDATA!F1104=\"\",\"\",STUDATA!F1104)","v":""},{"$f":"IF(STUDATA!G1104=\"\",\"\",STUDATA!G1104)","v":""},{"$f":"IF(STUDATA!C1104=\"\",\"\",STUDATA!C1104)","v":""}]
[{"$f":"IF(F495=\"\",\"\",F495&\"_\"&COUNTIF($F$9:F495,F495))","v":""},{"$f":"IF(STUDATA!B1105=\"\",\"\",STUDATA!B1105)","v":""},{"$f":"IF(STUDATA!E1105=\"\",\"\",STUDATA!E1105)","v":""},{"$f":"IF(STUDATA!F1105=\"\",\"\",STUDATA!F1105)","v":""},{"$f":"IF(STUDATA!G1105=\"\",\"\",STUDATA!G1105)","v":""},{"$f":"IF(STUDATA!C1105=\"\",\"\",STUDATA!C1105)","v":""}]
[{"$f":"IF(F496=\"\",\"\",F496&\"_\"&COUNTIF($F$9:F496,F496))","v":""},{"$f":"IF(STUDATA!B1106=\"\",\"\",STUDATA!B1106)","v":""},{"$f":"IF(STUDATA!E1106=\"\",\"\",STUDATA!E1106)","v":""},{"$f":"IF(STUDATA!F1106=\"\",\"\",STUDATA!F1106)","v":""},{"$f":"IF(STUDATA!G1106=\"\",\"\",STUDATA!G1106)","v":""},{"$f":"IF(STUDATA!C1106=\"\",\"\",STUDATA!C1106)","v":""}]
[{"$f":"IF(F497=\"\",\"\",F497&\"_\"&COUNTIF($F$9:F497,F497))","v":""},{"$f":"IF(STUDATA!B1107=\"\",\"\",STUDATA!B1107)","v":""},{"$f":"IF(STUDATA!E1107=\"\",\"\",STUDATA!E1107)","v":""},{"$f":"IF(STUDATA!F1107=\"\",\"\",STUDATA!F1107)","v":""},{"$f":"IF(STUDATA!G1107=\"\",\"\",STUDATA!G1107)","v":""},{"$f":"IF(STUDATA!C1107=\"\",\"\",STUDATA!C1107)","v":""}]
[{"$f":"IF(F498=\"\",\"\",F498&\"_\"&COUNTIF($F$9:F498,F498))","v":""},{"$f":"IF(STUDATA!B1108=\"\",\"\",STUDATA!B1108)","v":""},{"$f":"IF(STUDATA!E1108=\"\",\"\",STUDATA!E1108)","v":""},{"$f":"IF(STUDATA!F1108=\"\",\"\",STUDATA!F1108)","v":""},{"$f":"IF(STUDATA!G1108=\"\",\"\",STUDATA!G1108)","v":""},{"$f":"IF(STUDATA!C1108=\"\",\"\",STUDATA!C1108)","v":""}]
[{"$f":"IF(F499=\"\",\"\",F499&\"_\"&COUNTIF($F$9:F499,F499))","v":""},{"$f":"IF(STUDATA!B1109=\"\",\"\",STUDATA!B1109)","v":""},{"$f":"IF(STUDATA!E1109=\"\",\"\",STUDATA!E1109)","v":""},{"$f":"IF(STUDATA!F1109=\"\",\"\",STUDATA!F1109)","v":""},{"$f":"IF(STUDATA!G1109=\"\",\"\",STUDATA!G1109)","v":""},{"$f":"IF(STUDATA!C1109=\"\",\"\",STUDATA!C1109)","v":""}]
[{"$f":"IF(F500=\"\",\"\",F500&\"_\"&COUNTIF($F$9:F500,F500))","v":""},{"$f":"IF(STUDATA!B1110=\"\",\"\",STUDATA!B1110)","v":""},{"$f":"IF(STUDATA!E1110=\"\",\"\",STUDATA!E1110)","v":""},{"$f":"IF(STUDATA!F1110=\"\",\"\",STUDATA!F1110)","v":""},{"$f":"IF(STUDATA!G1110=\"\",\"\",STUDATA!G1110)","v":""},{"$f":"IF(STUDATA!C1110=\"\",\"\",STUDATA!C1110)","v":""}]
[{"$f":"IF(F501=\"\",\"\",F501&\"_\"&COUNTIF($F$9:F501,F501))","v":""},{"$f":"IF(STUDATA!B1111=\"\",\"\",STUDATA!B1111)","v":""},{"$f":"IF(STUDATA!E1111=\"\",\"\",STUDATA!E1111)","v":""},{"$f":"IF(STUDATA!F1111=\"\",\"\",STUDATA!F1111)","v":""},{"$f":"IF(STUDATA!G1111=\"\",\"\",STUDATA!G1111)","v":""},{"$f":"IF(STUDATA!C1111=\"\",\"\",STUDATA!C1111)","v":""}]
[{"$f":"IF(F502=\"\",\"\",F502&\"_\"&COUNTIF($F$9:F502,F502))","v":""},{"$f":"IF(STUDATA!B1112=\"\",\"\",STUDATA!B1112)","v":""},{"$f":"IF(STUDATA!E1112=\"\",\"\",STUDATA!E1112)","v":""},{"$f":"IF(STUDATA!F1112=\"\",\"\",STUDATA!F1112)","v":""},{"$f":"IF(STUDATA!G1112=\"\",\"\",STUDATA!G1112)","v":""},{"$f":"IF(STUDATA!C1112=\"\",\"\",STUDATA!C1112)","v":""}]
[{"$f":"IF(F503=\"\",\"\",F503&\"_\"&COUNTIF($F$9:F503,F503))","v":""},{"$f":"IF(STUDATA!B1113=\"\",\"\",STUDATA!B1113)","v":""},{"$f":"IF(STUDATA!E1113=\"\",\"\",STUDATA!E1113)","v":""},{"$f":"IF(STUDATA!F1113=\"\",\"\",STUDATA!F1113)","v":""},{"$f":"IF(STUDATA!G1113=\"\",\"\",STUDATA!G1113)","v":""},{"$f":"IF(STUDATA!C1113=\"\",\"\",STUDATA!C1113)","v":""}]
[{"$f":"IF(F504=\"\",\"\",F504&\"_\"&COUNTIF($F$9:F504,F504))","v":""},{"$f":"IF(STUDATA!B1114=\"\",\"\",STUDATA!B1114)","v":""},{"$f":"IF(STUDATA!E1114=\"\",\"\",STUDATA!E1114)","v":""},{"$f":"IF(STUDATA!F1114=\"\",\"\",STUDATA!F1114)","v":""},{"$f":"IF(STUDATA!G1114=\"\",\"\",STUDATA!G1114)","v":""},{"$f":"IF(STUDATA!C1114=\"\",\"\",STUDATA!C1114)","v":""}]
[{"$f":"IF(F505=\"\",\"\",F505&\"_\"&COUNTIF($F$9:F505,F505))","v":""},{"$f":"IF(STUDATA!B1115=\"\",\"\",STUDATA!B1115)","v":""},{"$f":"IF(STUDATA!E1115=\"\",\"\",STUDATA!E1115)","v":""},{"$f":"IF(STUDATA!F1115=\"\",\"\",STUDATA!F1115)","v":""},{"$f":"IF(STUDATA!G1115=\"\",\"\",STUDATA!G1115)","v":""},{"$f":"IF(STUDATA!C1115=\"\",\"\",STUDATA!C1115)","v":""}]
[{"$f":"IF(F506=\"\",\"\",F506&\"_\"&COUNTIF($F$9:F506,F506))","v":""},{"$f":"IF(STUDATA!B1116=\"\",\"\",STUDATA!B1116)","v":""},{"$f":"IF(STUDATA!E1116=\"\",\"\",STUDATA!E1116)","v":""},{"$f":"IF(STUDATA!F1116=\"\",\"\",STUDATA!F1116)","v":""},{"$f":"IF(STUDATA!G1116=\"\",\"\",STUDATA!G1116)","v":""},{"$f":"IF(STUDATA!C1116=\"\",\"\",STUDATA!C1116)","v":""}]
[{"$f":"IF(F507=\"\",\"\",F507&\"_\"&COUNTIF($F$9:F507,F507))","v":""},{"$f":"IF(STUDATA!B1117=\"\",\"\",STUDATA!B1117)","v":""},{"$f":"IF(STUDATA!E1117=\"\",\"\",STUDATA!E1117)","v":""},{"$f":"IF(STUDATA!F1117=\"\",\"\",STUDATA!F1117)","v":""},{"$f":"IF(STUDATA!G1117=\"\",\"\",STUDATA!G1117)","v":""},{"$f":"IF(STUDATA!C1117=\"\",\"\",STUDATA!C1117)","v":""}]
[{"$f":"IF(F508=\"\",\"\",F508&\"_\"&COUNTIF($F$9:F508,F508))","v":""},{"$f":"IF(STUDATA!B1118=\"\",\"\",STUDATA!B1118)","v":""},{"$f":"IF(STUDATA!E1118=\"\",\"\",STUDATA!E1118)","v":""},{"$f":"IF(STUDATA!F1118=\"\",\"\",STUDATA!F1118)","v":""},{"$f":"IF(STUDATA!G1118=\"\",\"\",STUDATA!G1118)","v":""},{"$f":"IF(STUDATA!C1118=\"\",\"\",STUDATA!C1118)","v":""}]
[{"$f":"IF(F509=\"\",\"\",F509&\"_\"&COUNTIF($F$9:F509,F509))","v":""},{"$f":"IF(STUDATA!B1119=\"\",\"\",STUDATA!B1119)","v":""},{"$f":"IF(STUDATA!E1119=\"\",\"\",STUDATA!E1119)","v":""},{"$f":"IF(STUDATA!F1119=\"\",\"\",STUDATA!F1119)","v":""},{"$f":"IF(STUDATA!G1119=\"\",\"\",STUDATA!G1119)","v":""},{"$f":"IF(STUDATA!C1119=\"\",\"\",STUDATA!C1119)","v":""}]
[{"$f":"IF(F510=\"\",\"\",F510&\"_\"&COUNTIF($F$9:F510,F510))","v":""},{"$f":"IF(STUDATA!B1120=\"\",\"\",STUDATA!B1120)","v":""},{"$f":"IF(STUDATA!E1120=\"\",\"\",STUDATA!E1120)","v":""},{"$f":"IF(STUDATA!F1120=\"\",\"\",STUDATA!F1120)","v":""},{"$f":"IF(STUDATA!G1120=\"\",\"\",STUDATA!G1120)","v":""},{"$f":"IF(STUDATA!C1120=\"\",\"\",STUDATA!C1120)","v":""}]
[{"$f":"IF(F511=\"\",\"\",F511&\"_\"&COUNTIF($F$9:F511,F511))","v":""},{"$f":"IF(STUDATA!B1121=\"\",\"\",STUDATA!B1121)","v":""},{"$f":"IF(STUDATA!E1121=\"\",\"\",STUDATA!E1121)","v":""},{"$f":"IF(STUDATA!F1121=\"\",\"\",STUDATA!F1121)","v":""},{"$f":"IF(STUDATA!G1121=\"\",\"\",STUDATA!G1121)","v":""},{"$f":"IF(STUDATA!C1121=\"\",\"\",STUDATA!C1121)","v":""}]
[{"$f":"IF(F512=\"\",\"\",F512&\"_\"&COUNTIF($F$9:F512,F512))","v":""},{"$f":"IF(STUDATA!B1122=\"\",\"\",STUDATA!B1122)","v":""},{"$f":"IF(STUDATA!E1122=\"\",\"\",STUDATA!E1122)","v":""},{"$f":"IF(STUDATA!F1122=\"\",\"\",STUDATA!F1122)","v":""},{"$f":"IF(STUDATA!G1122=\"\",\"\",STUDATA!G1122)","v":""},{"$f":"IF(STUDATA!C1122=\"\",\"\",STUDATA!C1122)","v":""}]
[{"$f":"IF(F513=\"\",\"\",F513&\"_\"&COUNTIF($F$9:F513,F513))","v":""},{"$f":"IF(STUDATA!B1123=\"\",\"\",STUDATA!B1123)","v":""},{"$f":"IF(STUDATA!E1123=\"\",\"\",STUDATA!E1123)","v":""},{"$f":"IF(STUDATA!F1123=\"\",\"\",STUDATA!F1123)","v":""},{"$f":"IF(STUDATA!G1123=\"\",\"\",STUDATA!G1123)","v":""},{"$f":"IF(STUDATA!C1123=\"\",\"\",STUDATA!C1123)","v":""}]
[{"$f":"IF(F514=\"\",\"\",F514&\"_\"&COUNTIF($F$9:F514,F514))","v":""},{"$f":"IF(STUDATA!B1124=\"\",\"\",STUDATA!B1124)","v":""},{"$f":"IF(STUDATA!E1124=\"\",\"\",STUDATA!E1124)","v":""},{"$f":"IF(STUDATA!F1124=\"\",\"\",STUDATA!F1124)","v":""},{"$f":"IF(STUDATA!G1124=\"\",\"\",STUDATA!G1124)","v":""},{"$f":"IF(STUDATA!C1124=\"\",\"\",STUDATA!C1124)","v":""}]
[{"$f":"IF(F515=\"\",\"\",F515&\"_\"&COUNTIF($F$9:F515,F515))","v":""},{"$f":"IF(STUDATA!B1125=\"\",\"\",STUDATA!B1125)","v":""},{"$f":"IF(STUDATA!E1125=\"\",\"\",STUDATA!E1125)","v":""},{"$f":"IF(STUDATA!F1125=\"\",\"\",STUDATA!F1125)","v":""},{"$f":"IF(STUDATA!G1125=\"\",\"\",STUDATA!G1125)","v":""},{"$f":"IF(STUDATA!C1125=\"\",\"\",STUDATA!C1125)","v":""}]
[{"$f":"IF(F516=\"\",\"\",F516&\"_\"&COUNTIF($F$9:F516,F516))","v":""},{"$f":"IF(STUDATA!B1126=\"\",\"\",STUDATA!B1126)","v":""},{"$f":"IF(STUDATA!E1126=\"\",\"\",STUDATA!E1126)","v":""},{"$f":"IF(STUDATA!F1126=\"\",\"\",STUDATA!F1126)","v":""},{"$f":"IF(STUDATA!G1126=\"\",\"\",STUDATA!G1126)","v":""},{"$f":"IF(STUDATA!C1126=\"\",\"\",STUDATA!C1126)","v":""}]
[{"$f":"IF(F517=\"\",\"\",F517&\"_\"&COUNTIF($F$9:F517,F517))","v":""},{"$f":"IF(STUDATA!B1127=\"\",\"\",STUDATA!B1127)","v":""},{"$f":"IF(STUDATA!E1127=\"\",\"\",STUDATA!E1127)","v":""},{"$f":"IF(STUDATA!F1127=\"\",\"\",STUDATA!F1127)","v":""},{"$f":"IF(STUDATA!G1127=\"\",\"\",STUDATA!G1127)","v":""},{"$f":"IF(STUDATA!C1127=\"\",\"\",STUDATA!C1127)","v":""}]
[{"$f":"IF(F518=\"\",\"\",F518&\"_\"&COUNTIF($F$9:F518,F518))","v":""},{"$f":"IF(STUDATA!B1128=\"\",\"\",STUDATA!B1128)","v":""},{"$f":"IF(STUDATA!E1128=\"\",\"\",STUDATA!E1128)","v":""},{"$f":"IF(STUDATA!F1128=\"\",\"\",STUDATA!F1128)","v":""},{"$f":"IF(STUDATA!G1128=\"\",\"\",STUDATA!G1128)","v":""},{"$f":"IF(STUDATA!C1128=\"\",\"\",STUDATA!C1128)","v":""}]
[{"$f":"IF(F519=\"\",\"\",F519&\"_\"&COUNTIF($F$9:F519,F519))","v":""},{"$f":"IF(STUDATA!B1129=\"\",\"\",STUDATA!B1129)","v":""},{"$f":"IF(STUDATA!E1129=\"\",\"\",STUDATA!E1129)","v":""},{"$f":"IF(STUDATA!F1129=\"\",\"\",STUDATA!F1129)","v":""},{"$f":"IF(STUDATA!G1129=\"\",\"\",STUDATA!G1129)","v":""},{"$f":"IF(STUDATA!C1129=\"\",\"\",STUDATA!C1129)","v":""}]
[{"$f":"IF(F520=\"\",\"\",F520&\"_\"&COUNTIF($F$9:F520,F520))","v":""},{"$f":"IF(STUDATA!B1130=\"\",\"\",STUDATA!B1130)","v":""},{"$f":"IF(STUDATA!E1130=\"\",\"\",STUDATA!E1130)","v":""},{"$f":"IF(STUDATA!F1130=\"\",\"\",STUDATA!F1130)","v":""},{"$f":"IF(STUDATA!G1130=\"\",\"\",STUDATA!G1130)","v":""},{"$f":"IF(STUDATA!C1130=\"\",\"\",STUDATA!C1130)","v":""}]
[{"$f":"IF(F521=\"\",\"\",F521&\"_\"&COUNTIF($F$9:F521,F521))","v":""},{"$f":"IF(STUDATA!B1131=\"\",\"\",STUDATA!B1131)","v":""},{"$f":"IF(STUDATA!E1131=\"\",\"\",STUDATA!E1131)","v":""},{"$f":"IF(STUDATA!F1131=\"\",\"\",STUDATA!F1131)","v":""},{"$f":"IF(STUDATA!G1131=\"\",\"\",STUDATA!G1131)","v":""},{"$f":"IF(STUDATA!C1131=\"\",\"\",STUDATA!C1131)","v":""}]
[{"$f":"IF(F522=\"\",\"\",F522&\"_\"&COUNTIF($F$9:F522,F522))","v":""},{"$f":"IF(STUDATA!B1132=\"\",\"\",STUDATA!B1132)","v":""},{"$f":"IF(STUDATA!E1132=\"\",\"\",STUDATA!E1132)","v":""},{"$f":"IF(STUDATA!F1132=\"\",\"\",STUDATA!F1132)","v":""},{"$f":"IF(STUDATA!G1132=\"\",\"\",STUDATA!G1132)","v":""},{"$f":"IF(STUDATA!C1132=\"\",\"\",STUDATA!C1132)","v":""}]
[{"$f":"IF(F523=\"\",\"\",F523&\"_\"&COUNTIF($F$9:F523,F523))","v":""},{"$f":"IF(STUDATA!B1133=\"\",\"\",STUDATA!B1133)","v":""},{"$f":"IF(STUDATA!E1133=\"\",\"\",STUDATA!E1133)","v":""},{"$f":"IF(STUDATA!F1133=\"\",\"\",STUDATA!F1133)","v":""},{"$f":"IF(STUDATA!G1133=\"\",\"\",STUDATA!G1133)","v":""},{"$f":"IF(STUDATA!C1133=\"\",\"\",STUDATA!C1133)","v":""}]
[{"$f":"IF(F524=\"\",\"\",F524&\"_\"&COUNTIF($F$9:F524,F524))","v":""},{"$f":"IF(STUDATA!B1134=\"\",\"\",STUDATA!B1134)","v":""},{"$f":"IF(STUDATA!E1134=\"\",\"\",STUDATA!E1134)","v":""},{"$f":"IF(STUDATA!F1134=\"\",\"\",STUDATA!F1134)","v":""},{"$f":"IF(STUDATA!G1134=\"\",\"\",STUDATA!G1134)","v":""},{"$f":"IF(STUDATA!C1134=\"\",\"\",STUDATA!C1134)","v":""}]
[{"$f":"IF(F525=\"\",\"\",F525&\"_\"&COUNTIF($F$9:F525,F525))","v":""},{"$f":"IF(STUDATA!B1135=\"\",\"\",STUDATA!B1135)","v":""},{"$f":"IF(STUDATA!E1135=\"\",\"\",STUDATA!E1135)","v":""},{"$f":"IF(STUDATA!F1135=\"\",\"\",STUDATA!F1135)","v":""},{"$f":"IF(STUDATA!G1135=\"\",\"\",STUDATA!G1135)","v":""},{"$f":"IF(STUDATA!C1135=\"\",\"\",STUDATA!C1135)","v":""}]
[{"$f":"IF(F526=\"\",\"\",F526&\"_\"&COUNTIF($F$9:F526,F526))","v":""},{"$f":"IF(STUDATA!B1136=\"\",\"\",STUDATA!B1136)","v":""},{"$f":"IF(STUDATA!E1136=\"\",\"\",STUDATA!E1136)","v":""},{"$f":"IF(STUDATA!F1136=\"\",\"\",STUDATA!F1136)","v":""},{"$f":"IF(STUDATA!G1136=\"\",\"\",STUDATA!G1136)","v":""},{"$f":"IF(STUDATA!C1136=\"\",\"\",STUDATA!C1136)","v":""}]
[{"$f":"IF(F527=\"\",\"\",F527&\"_\"&COUNTIF($F$9:F527,F527))","v":""},{"$f":"IF(STUDATA!B1137=\"\",\"\",STUDATA!B1137)","v":""},{"$f":"IF(STUDATA!E1137=\"\",\"\",STUDATA!E1137)","v":""},{"$f":"IF(STUDATA!F1137=\"\",\"\",STUDATA!F1137)","v":""},{"$f":"IF(STUDATA!G1137=\"\",\"\",STUDATA!G1137)","v":""},{"$f":"IF(STUDATA!C1137=\"\",\"\",STUDATA!C1137)","v":""}]
[{"$f":"IF(F528=\"\",\"\",F528&\"_\"&COUNTIF($F$9:F528,F528))","v":""},{"$f":"IF(STUDATA!B1138=\"\",\"\",STUDATA!B1138)","v":""},{"$f":"IF(STUDATA!E1138=\"\",\"\",STUDATA!E1138)","v":""},{"$f":"IF(STUDATA!F1138=\"\",\"\",STUDATA!F1138)","v":""},{"$f":"IF(STUDATA!G1138=\"\",\"\",STUDATA!G1138)","v":""},{"$f":"IF(STUDATA!C1138=\"\",\"\",STUDATA!C1138)","v":""}]
[{"$f":"IF(F529=\"\",\"\",F529&\"_\"&COUNTIF($F$9:F529,F529))","v":""},{"$f":"IF(STUDATA!B1139=\"\",\"\",STUDATA!B1139)","v":""},{"$f":"IF(STUDATA!E1139=\"\",\"\",STUDATA!E1139)","v":""},{"$f":"IF(STUDATA!F1139=\"\",\"\",STUDATA!F1139)","v":""},{"$f":"IF(STUDATA!G1139=\"\",\"\",STUDATA!G1139)","v":""},{"$f":"IF(STUDATA!C1139=\"\",\"\",STUDATA!C1139)","v":""}]
[{"$f":"IF(F530=\"\",\"\",F530&\"_\"&COUNTIF($F$9:F530,F530))","v":""},{"$f":"IF(STUDATA!B1140=\"\",\"\",STUDATA!B1140)","v":""},{"$f":"IF(STUDATA!E1140=\"\",\"\",STUDATA!E1140)","v":""},{"$f":"IF(STUDATA!F1140=\"\",\"\",STUDATA!F1140)","v":""},{"$f":"IF(STUDATA!G1140=\"\",\"\",STUDATA!G1140)","v":""},{"$f":"IF(STUDATA!C1140=\"\",\"\",STUDATA!C1140)","v":""}]
[{"$f":"IF(F531=\"\",\"\",F531&\"_\"&COUNTIF($F$9:F531,F531))","v":""},{"$f":"IF(STUDATA!B1141=\"\",\"\",STUDATA!B1141)","v":""},{"$f":"IF(STUDATA!E1141=\"\",\"\",STUDATA!E1141)","v":""},{"$f":"IF(STUDATA!F1141=\"\",\"\",STUDATA!F1141)","v":""},{"$f":"IF(STUDATA!G1141=\"\",\"\",STUDATA!G1141)","v":""},{"$f":"IF(STUDATA!C1141=\"\",\"\",STUDATA!C1141)","v":""}]
[{"$f":"IF(F532=\"\",\"\",F532&\"_\"&COUNTIF($F$9:F532,F532))","v":""},{"$f":"IF(STUDATA!B1142=\"\",\"\",STUDATA!B1142)","v":""},{"$f":"IF(STUDATA!E1142=\"\",\"\",STUDATA!E1142)","v":""},{"$f":"IF(STUDATA!F1142=\"\",\"\",STUDATA!F1142)","v":""},{"$f":"IF(STUDATA!G1142=\"\",\"\",STUDATA!G1142)","v":""},{"$f":"IF(STUDATA!C1142=\"\",\"\",STUDATA!C1142)","v":""}]
[{"$f":"IF(F533=\"\",\"\",F533&\"_\"&COUNTIF($F$9:F533,F533))","v":""},{"$f":"IF(STUDATA!B1143=\"\",\"\",STUDATA!B1143)","v":""},{"$f":"IF(STUDATA!E1143=\"\",\"\",STUDATA!E1143)","v":""},{"$f":"IF(STUDATA!F1143=\"\",\"\",STUDATA!F1143)","v":""},{"$f":"IF(STUDATA!G1143=\"\",\"\",STUDATA!G1143)","v":""},{"$f":"IF(STUDATA!C1143=\"\",\"\",STUDATA!C1143)","v":""}]
[{"$f":"IF(F534=\"\",\"\",F534&\"_\"&COUNTIF($F$9:F534,F534))","v":""},{"$f":"IF(STUDATA!B1144=\"\",\"\",STUDATA!B1144)","v":""},{"$f":"IF(STUDATA!E1144=\"\",\"\",STUDATA!E1144)","v":""},{"$f":"IF(STUDATA!F1144=\"\",\"\",STUDATA!F1144)","v":""},{"$f":"IF(STUDATA!G1144=\"\",\"\",STUDATA!G1144)","v":""},{"$f":"IF(STUDATA!C1144=\"\",\"\",STUDATA!C1144)","v":""}]
[{"$f":"IF(F535=\"\",\"\",F535&\"_\"&COUNTIF($F$9:F535,F535))","v":""},{"$f":"IF(STUDATA!B1145=\"\",\"\",STUDATA!B1145)","v":""},{"$f":"IF(STUDATA!E1145=\"\",\"\",STUDATA!E1145)","v":""},{"$f":"IF(STUDATA!F1145=\"\",\"\",STUDATA!F1145)","v":""},{"$f":"IF(STUDATA!G1145=\"\",\"\",STUDATA!G1145)","v":""},{"$f":"IF(STUDATA!C1145=\"\",\"\",STUDATA!C1145)","v":""}]
[{"$f":"IF(F536=\"\",\"\",F536&\"_\"&COUNTIF($F$9:F536,F536))","v":""},{"$f":"IF(STUDATA!B1146=\"\",\"\",STUDATA!B1146)","v":""},{"$f":"IF(STUDATA!E1146=\"\",\"\",STUDATA!E1146)","v":""},{"$f":"IF(STUDATA!F1146=\"\",\"\",STUDATA!F1146)","v":""},{"$f":"IF(STUDATA!G1146=\"\",\"\",STUDATA!G1146)","v":""},{"$f":"IF(STUDATA!C1146=\"\",\"\",STUDATA!C1146)","v":""}]
[{"$f":"IF(F537=\"\",\"\",F537&\"_\"&COUNTIF($F$9:F537,F537))","v":""},{"$f":"IF(STUDATA!B1147=\"\",\"\",STUDATA!B1147)","v":""},{"$f":"IF(STUDATA!E1147=\"\",\"\",STUDATA!E1147)","v":""},{"$f":"IF(STUDATA!F1147=\"\",\"\",STUDATA!F1147)","v":""},{"$f":"IF(STUDATA!G1147=\"\",\"\",STUDATA!G1147)","v":""},{"$f":"IF(STUDATA!C1147=\"\",\"\",STUDATA!C1147)","v":""}]
[{"$f":"IF(F538=\"\",\"\",F538&\"_\"&COUNTIF($F$9:F538,F538))","v":""},{"$f":"IF(STUDATA!B1148=\"\",\"\",STUDATA!B1148)","v":""},{"$f":"IF(STUDATA!E1148=\"\",\"\",STUDATA!E1148)","v":""},{"$f":"IF(STUDATA!F1148=\"\",\"\",STUDATA!F1148)","v":""},{"$f":"IF(STUDATA!G1148=\"\",\"\",STUDATA!G1148)","v":""},{"$f":"IF(STUDATA!C1148=\"\",\"\",STUDATA!C1148)","v":""}]
[{"$f":"IF(F539=\"\",\"\",F539&\"_\"&COUNTIF($F$9:F539,F539))","v":""},{"$f":"IF(STUDATA!B1149=\"\",\"\",STUDATA!B1149)","v":""},{"$f":"IF(STUDATA!E1149=\"\",\"\",STUDATA!E1149)","v":""},{"$f":"IF(STUDATA!F1149=\"\",\"\",STUDATA!F1149)","v":""},{"$f":"IF(STUDATA!G1149=\"\",\"\",STUDATA!G1149)","v":""},{"$f":"IF(STUDATA!C1149=\"\",\"\",STUDATA!C1149)","v":""}]
[{"$f":"IF(F540=\"\",\"\",F540&\"_\"&COUNTIF($F$9:F540,F540))","v":""},{"$f":"IF(STUDATA!B1150=\"\",\"\",STUDATA!B1150)","v":""},{"$f":"IF(STUDATA!E1150=\"\",\"\",STUDATA!E1150)","v":""},{"$f":"IF(STUDATA!F1150=\"\",\"\",STUDATA!F1150)","v":""},{"$f":"IF(STUDATA!G1150=\"\",\"\",STUDATA!G1150)","v":""},{"$f":"IF(STUDATA!C1150=\"\",\"\",STUDATA!C1150)","v":""}]
[{"$f":"IF(F541=\"\",\"\",F541&\"_\"&COUNTIF($F$9:F541,F541))","v":""},{"$f":"IF(STUDATA!B1151=\"\",\"\",STUDATA!B1151)","v":""},{"$f":"IF(STUDATA!E1151=\"\",\"\",STUDATA!E1151)","v":""},{"$f":"IF(STUDATA!F1151=\"\",\"\",STUDATA!F1151)","v":""},{"$f":"IF(STUDATA!G1151=\"\",\"\",STUDATA!G1151)","v":""},{"$f":"IF(STUDATA!C1151=\"\",\"\",STUDATA!C1151)","v":""}]
[{"$f":"IF(F542=\"\",\"\",F542&\"_\"&COUNTIF($F$9:F542,F542))","v":""},{"$f":"IF(STUDATA!B1152=\"\",\"\",STUDATA!B1152)","v":""},{"$f":"IF(STUDATA!E1152=\"\",\"\",STUDATA!E1152)","v":""},{"$f":"IF(STUDATA!F1152=\"\",\"\",STUDATA!F1152)","v":""},{"$f":"IF(STUDATA!G1152=\"\",\"\",STUDATA!G1152)","v":""},{"$f":"IF(STUDATA!C1152=\"\",\"\",STUDATA!C1152)","v":""}]
[{"$f":"IF(F543=\"\",\"\",F543&\"_\"&COUNTIF($F$9:F543,F543))","v":""},{"$f":"IF(STUDATA!B1153=\"\",\"\",STUDATA!B1153)","v":""},{"$f":"IF(STUDATA!E1153=\"\",\"\",STUDATA!E1153)","v":""},{"$f":"IF(STUDATA!F1153=\"\",\"\",STUDATA!F1153)","v":""},{"$f":"IF(STUDATA!G1153=\"\",\"\",STUDATA!G1153)","v":""},{"$f":"IF(STUDATA!C1153=\"\",\"\",STUDATA!C1153)","v":""}]
[{"$f":"IF(F544=\"\",\"\",F544&\"_\"&COUNTIF($F$9:F544,F544))","v":""},{"$f":"IF(STUDATA!B1154=\"\",\"\",STUDATA!B1154)","v":""},{"$f":"IF(STUDATA!E1154=\"\",\"\",STUDATA!E1154)","v":""},{"$f":"IF(STUDATA!F1154=\"\",\"\",STUDATA!F1154)","v":""},{"$f":"IF(STUDATA!G1154=\"\",\"\",STUDATA!G1154)","v":""},{"$f":"IF(STUDATA!C1154=\"\",\"\",STUDATA!C1154)","v":""}]
[{"$f":"IF(F545=\"\",\"\",F545&\"_\"&COUNTIF($F$9:F545,F545))","v":""},{"$f":"IF(STUDATA!B1155=\"\",\"\",STUDATA!B1155)","v":""},{"$f":"IF(STUDATA!E1155=\"\",\"\",STUDATA!E1155)","v":""},{"$f":"IF(STUDATA!F1155=\"\",\"\",STUDATA!F1155)","v":""},{"$f":"IF(STUDATA!G1155=\"\",\"\",STUDATA!G1155)","v":""},{"$f":"IF(STUDATA!C1155=\"\",\"\",STUDATA!C1155)","v":""}]
[{"$f":"IF(F546=\"\",\"\",F546&\"_\"&COUNTIF($F$9:F546,F546))","v":""},{"$f":"IF(STUDATA!B1156=\"\",\"\",STUDATA!B1156)","v":""},{"$f":"IF(STUDATA!E1156=\"\",\"\",STUDATA!E1156)","v":""},{"$f":"IF(STUDATA!F1156=\"\",\"\",STUDATA!F1156)","v":""},{"$f":"IF(STUDATA!G1156=\"\",\"\",STUDATA!G1156)","v":""},{"$f":"IF(STUDATA!C1156=\"\",\"\",STUDATA!C1156)","v":""}]
[{"$f":"IF(F547=\"\",\"\",F547&\"_\"&COUNTIF($F$9:F547,F547))","v":""},{"$f":"IF(STUDATA!B1157=\"\",\"\",STUDATA!B1157)","v":""},{"$f":"IF(STUDATA!E1157=\"\",\"\",STUDATA!E1157)","v":""},{"$f":"IF(STUDATA!F1157=\"\",\"\",STUDATA!F1157)","v":""},{"$f":"IF(STUDATA!G1157=\"\",\"\",STUDATA!G1157)","v":""},{"$f":"IF(STUDATA!C1157=\"\",\"\",STUDATA!C1157)","v":""}]
[{"$f":"IF(F548=\"\",\"\",F548&\"_\"&COUNTIF($F$9:F548,F548))","v":""},{"$f":"IF(STUDATA!B1158=\"\",\"\",STUDATA!B1158)","v":""},{"$f":"IF(STUDATA!E1158=\"\",\"\",STUDATA!E1158)","v":""},{"$f":"IF(STUDATA!F1158=\"\",\"\",STUDATA!F1158)","v":""},{"$f":"IF(STUDATA!G1158=\"\",\"\",STUDATA!G1158)","v":""},{"$f":"IF(STUDATA!C1158=\"\",\"\",STUDATA!C1158)","v":""}]
[{"$f":"IF(F549=\"\",\"\",F549&\"_\"&COUNTIF($F$9:F549,F549))","v":""},{"$f":"IF(STUDATA!B1159=\"\",\"\",STUDATA!B1159)","v":""},{"$f":"IF(STUDATA!E1159=\"\",\"\",STUDATA!E1159)","v":""},{"$f":"IF(STUDATA!F1159=\"\",\"\",STUDATA!F1159)","v":""},{"$f":"IF(STUDATA!G1159=\"\",\"\",STUDATA!G1159)","v":""},{"$f":"IF(STUDATA!C1159=\"\",\"\",STUDATA!C1159)","v":""}]
[{"$f":"IF(F550=\"\",\"\",F550&\"_\"&COUNTIF($F$9:F550,F550))","v":""},{"$f":"IF(STUDATA!B1160=\"\",\"\",STUDATA!B1160)","v":""},{"$f":"IF(STUDATA!E1160=\"\",\"\",STUDATA!E1160)","v":""},{"$f":"IF(STUDATA!F1160=\"\",\"\",STUDATA!F1160)","v":""},{"$f":"IF(STUDATA!G1160=\"\",\"\",STUDATA!G1160)","v":""},{"$f":"IF(STUDATA!C1160=\"\",\"\",STUDATA!C1160)","v":""}]
[{"$f":"IF(F551=\"\",\"\",F551&\"_\"&COUNTIF($F$9:F551,F551))","v":""},{"$f":"IF(STUDATA!B1161=\"\",\"\",STUDATA!B1161)","v":""},{"$f":"IF(STUDATA!E1161=\"\",\"\",STUDATA!E1161)","v":""},{"$f":"IF(STUDATA!F1161=\"\",\"\",STUDATA!F1161)","v":""},{"$f":"IF(STUDATA!G1161=\"\",\"\",STUDATA!G1161)","v":""},{"$f":"IF(STUDATA!C1161=\"\",\"\",STUDATA!C1161)","v":""}]
[{"$f":"IF(F552=\"\",\"\",F552&\"_\"&COUNTIF($F$9:F552,F552))","v":""},{"$f":"IF(STUDATA!B1162=\"\",\"\",STUDATA!B1162)","v":""},{"$f":"IF(STUDATA!E1162=\"\",\"\",STUDATA!E1162)","v":""},{"$f":"IF(STUDATA!F1162=\"\",\"\",STUDATA!F1162)","v":""},{"$f":"IF(STUDATA!G1162=\"\",\"\",STUDATA!G1162)","v":""},{"$f":"IF(STUDATA!C1162=\"\",\"\",STUDATA!C1162)","v":""}]
[{"$f":"IF(F553=\"\",\"\",F553&\"_\"&COUNTIF($F$9:F553,F553))","v":""},{"$f":"IF(STUDATA!B1163=\"\",\"\",STUDATA!B1163)","v":""},{"$f":"IF(STUDATA!E1163=\"\",\"\",STUDATA!E1163)","v":""},{"$f":"IF(STUDATA!F1163=\"\",\"\",STUDATA!F1163)","v":""},{"$f":"IF(STUDATA!G1163=\"\",\"\",STUDATA!G1163)","v":""},{"$f":"IF(STUDATA!C1163=\"\",\"\",STUDATA!C1163)","v":""}]
[{"$f":"IF(F554=\"\",\"\",F554&\"_\"&COUNTIF($F$9:F554,F554))","v":""},{"$f":"IF(STUDATA!B1164=\"\",\"\",STUDATA!B1164)","v":""},{"$f":"IF(STUDATA!E1164=\"\",\"\",STUDATA!E1164)","v":""},{"$f":"IF(STUDATA!F1164=\"\",\"\",STUDATA!F1164)","v":""},{"$f":"IF(STUDATA!G1164=\"\",\"\",STUDATA!G1164)","v":""},{"$f":"IF(STUDATA!C1164=\"\",\"\",STUDATA!C1164)","v":""}]
[{"$f":"IF(F555=\"\",\"\",F555&\"_\"&COUNTIF($F$9:F555,F555))","v":""},{"$f":"IF(STUDATA!B1165=\"\",\"\",STUDATA!B1165)","v":""},{"$f":"IF(STUDATA!E1165=\"\",\"\",STUDATA!E1165)","v":""},{"$f":"IF(STUDATA!F1165=\"\",\"\",STUDATA!F1165)","v":""},{"$f":"IF(STUDATA!G1165=\"\",\"\",STUDATA!G1165)","v":""},{"$f":"IF(STUDATA!C1165=\"\",\"\",STUDATA!C1165)","v":""}]
[{"$f":"IF(F556=\"\",\"\",F556&\"_\"&COUNTIF($F$9:F556,F556))","v":""},{"$f":"IF(STUDATA!B1166=\"\",\"\",STUDATA!B1166)","v":""},{"$f":"IF(STUDATA!E1166=\"\",\"\",STUDATA!E1166)","v":""},{"$f":"IF(STUDATA!F1166=\"\",\"\",STUDATA!F1166)","v":""},{"$f":"IF(STUDATA!G1166=\"\",\"\",STUDATA!G1166)","v":""},{"$f":"IF(STUDATA!C1166=\"\",\"\",STUDATA!C1166)","v":""}]
[{"$f":"IF(F557=\"\",\"\",F557&\"_\"&COUNTIF($F$9:F557,F557))","v":""},{"$f":"IF(STUDATA!B1167=\"\",\"\",STUDATA!B1167)","v":""},{"$f":"IF(STUDATA!E1167=\"\",\"\",STUDATA!E1167)","v":""},{"$f":"IF(STUDATA!F1167=\"\",\"\",STUDATA!F1167)","v":""},{"$f":"IF(STUDATA!G1167=\"\",\"\",STUDATA!G1167)","v":""},{"$f":"IF(STUDATA!C1167=\"\",\"\",STUDATA!C1167)","v":""}]
[{"$f":"IF(F558=\"\",\"\",F558&\"_\"&COUNTIF($F$9:F558,F558))","v":""},{"$f":"IF(STUDATA!B1168=\"\",\"\",STUDATA!B1168)","v":""},{"$f":"IF(STUDATA!E1168=\"\",\"\",STUDATA!E1168)","v":""},{"$f":"IF(STUDATA!F1168=\"\",\"\",STUDATA!F1168)","v":""},{"$f":"IF(STUDATA!G1168=\"\",\"\",STUDATA!G1168)","v":""},{"$f":"IF(STUDATA!C1168=\"\",\"\",STUDATA!C1168)","v":""}]
[{"$f":"IF(F559=\"\",\"\",F559&\"_\"&COUNTIF($F$9:F559,F559))","v":""},{"$f":"IF(STUDATA!B1169=\"\",\"\",STUDATA!B1169)","v":""},{"$f":"IF(STUDATA!E1169=\"\",\"\",STUDATA!E1169)","v":""},{"$f":"IF(STUDATA!F1169=\"\",\"\",STUDATA!F1169)","v":""},{"$f":"IF(STUDATA!G1169=\"\",\"\",STUDATA!G1169)","v":""},{"$f":"IF(STUDATA!C1169=\"\",\"\",STUDATA!C1169)","v":""}]
[{"$f":"IF(F560=\"\",\"\",F560&\"_\"&COUNTIF($F$9:F560,F560))","v":""},{"$f":"IF(STUDATA!B1170=\"\",\"\",STUDATA!B1170)","v":""},{"$f":"IF(STUDATA!E1170=\"\",\"\",STUDATA!E1170)","v":""},{"$f":"IF(STUDATA!F1170=\"\",\"\",STUDATA!F1170)","v":""},{"$f":"IF(STUDATA!G1170=\"\",\"\",STUDATA!G1170)","v":""},{"$f":"IF(STUDATA!C1170=\"\",\"\",STUDATA!C1170)","v":""}]
[{"$f":"IF(F561=\"\",\"\",F561&\"_\"&COUNTIF($F$9:F561,F561))","v":""},{"$f":"IF(STUDATA!B1171=\"\",\"\",STUDATA!B1171)","v":""},{"$f":"IF(STUDATA!E1171=\"\",\"\",STUDATA!E1171)","v":""},{"$f":"IF(STUDATA!F1171=\"\",\"\",STUDATA!F1171)","v":""},{"$f":"IF(STUDATA!G1171=\"\",\"\",STUDATA!G1171)","v":""},{"$f":"IF(STUDATA!C1171=\"\",\"\",STUDATA!C1171)","v":""}]
[{"$f":"IF(F562=\"\",\"\",F562&\"_\"&COUNTIF($F$9:F562,F562))","v":""},{"$f":"IF(STUDATA!B1172=\"\",\"\",STUDATA!B1172)","v":""},{"$f":"IF(STUDATA!E1172=\"\",\"\",STUDATA!E1172)","v":""},{"$f":"IF(STUDATA!F1172=\"\",\"\",STUDATA!F1172)","v":""},{"$f":"IF(STUDATA!G1172=\"\",\"\",STUDATA!G1172)","v":""},{"$f":"IF(STUDATA!C1172=\"\",\"\",STUDATA!C1172)","v":""}]
[{"$f":"IF(F563=\"\",\"\",F563&\"_\"&COUNTIF($F$9:F563,F563))","v":""},{"$f":"IF(STUDATA!B1173=\"\",\"\",STUDATA!B1173)","v":""},{"$f":"IF(STUDATA!E1173=\"\",\"\",STUDATA!E1173)","v":""},{"$f":"IF(STUDATA!F1173=\"\",\"\",STUDATA!F1173)","v":""},{"$f":"IF(STUDATA!G1173=\"\",\"\",STUDATA!G1173)","v":""},{"$f":"IF(STUDATA!C1173=\"\",\"\",STUDATA!C1173)","v":""}]
[{"$f":"IF(F564=\"\",\"\",F564&\"_\"&COUNTIF($F$9:F564,F564))","v":""},{"$f":"IF(STUDATA!B1174=\"\",\"\",STUDATA!B1174)","v":""},{"$f":"IF(STUDATA!E1174=\"\",\"\",STUDATA!E1174)","v":""},{"$f":"IF(STUDATA!F1174=\"\",\"\",STUDATA!F1174)","v":""},{"$f":"IF(STUDATA!G1174=\"\",\"\",STUDATA!G1174)","v":""},{"$f":"IF(STUDATA!C1174=\"\",\"\",STUDATA!C1174)","v":""}]
[{"$f":"IF(F565=\"\",\"\",F565&\"_\"&COUNTIF($F$9:F565,F565))","v":""},{"$f":"IF(STUDATA!B1175=\"\",\"\",STUDATA!B1175)","v":""},{"$f":"IF(STUDATA!E1175=\"\",\"\",STUDATA!E1175)","v":""},{"$f":"IF(STUDATA!F1175=\"\",\"\",STUDATA!F1175)","v":""},{"$f":"IF(STUDATA!G1175=\"\",\"\",STUDATA!G1175)","v":""},{"$f":"IF(STUDATA!C1175=\"\",\"\",STUDATA!C1175)","v":""}]
[{"$f":"IF(F566=\"\",\"\",F566&\"_\"&COUNTIF($F$9:F566,F566))","v":""},{"$f":"IF(STUDATA!B1176=\"\",\"\",STUDATA!B1176)","v":""},{"$f":"IF(STUDATA!E1176=\"\",\"\",STUDATA!E1176)","v":""},{"$f":"IF(STUDATA!F1176=\"\",\"\",STUDATA!F1176)","v":""},{"$f":"IF(STUDATA!G1176=\"\",\"\",STUDATA!G1176)","v":""},{"$f":"IF(STUDATA!C1176=\"\",\"\",STUDATA!C1176)","v":""}]
[{"$f":"IF(F567=\"\",\"\",F567&\"_\"&COUNTIF($F$9:F567,F567))","v":""},{"$f":"IF(STUDATA!B1177=\"\",\"\",STUDATA!B1177)","v":""},{"$f":"IF(STUDATA!E1177=\"\",\"\",STUDATA!E1177)","v":""},{"$f":"IF(STUDATA!F1177=\"\",\"\",STUDATA!F1177)","v":""},{"$f":"IF(STUDATA!G1177=\"\",\"\",STUDATA!G1177)","v":""},{"$f":"IF(STUDATA!C1177=\"\",\"\",STUDATA!C1177)","v":""}]
[{"$f":"IF(F568=\"\",\"\",F568&\"_\"&COUNTIF($F$9:F568,F568))","v":""},{"$f":"IF(STUDATA!B1178=\"\",\"\",STUDATA!B1178)","v":""},{"$f":"IF(STUDATA!E1178=\"\",\"\",STUDATA!E1178)","v":""},{"$f":"IF(STUDATA!F1178=\"\",\"\",STUDATA!F1178)","v":""},{"$f":"IF(STUDATA!G1178=\"\",\"\",STUDATA!G1178)","v":""},{"$f":"IF(STUDATA!C1178=\"\",\"\",STUDATA!C1178)","v":""}]
[{"$f":"IF(F569=\"\",\"\",F569&\"_\"&COUNTIF($F$9:F569,F569))","v":""},{"$f":"IF(STUDATA!B1179=\"\",\"\",STUDATA!B1179)","v":""},{"$f":"IF(STUDATA!E1179=\"\",\"\",STUDATA!E1179)","v":""},{"$f":"IF(STUDATA!F1179=\"\",\"\",STUDATA!F1179)","v":""},{"$f":"IF(STUDATA!G1179=\"\",\"\",STUDATA!G1179)","v":""},{"$f":"IF(STUDATA!C1179=\"\",\"\",STUDATA!C1179)","v":""}]
[{"$f":"IF(F570=\"\",\"\",F570&\"_\"&COUNTIF($F$9:F570,F570))","v":""},{"$f":"IF(STUDATA!B1180=\"\",\"\",STUDATA!B1180)","v":""},{"$f":"IF(STUDATA!E1180=\"\",\"\",STUDATA!E1180)","v":""},{"$f":"IF(STUDATA!F1180=\"\",\"\",STUDATA!F1180)","v":""},{"$f":"IF(STUDATA!G1180=\"\",\"\",STUDATA!G1180)","v":""},{"$f":"IF(STUDATA!C1180=\"\",\"\",STUDATA!C1180)","v":""}]
[{"$f":"IF(F571=\"\",\"\",F571&\"_\"&COUNTIF($F$9:F571,F571))","v":""},{"$f":"IF(STUDATA!B1181=\"\",\"\",STUDATA!B1181)","v":""},{"$f":"IF(STUDATA!E1181=\"\",\"\",STUDATA!E1181)","v":""},{"$f":"IF(STUDATA!F1181=\"\",\"\",STUDATA!F1181)","v":""},{"$f":"IF(STUDATA!G1181=\"\",\"\",STUDATA!G1181)","v":""},{"$f":"IF(STUDATA!C1181=\"\",\"\",STUDATA!C1181)","v":""}]
[{"$f":"IF(F572=\"\",\"\",F572&\"_\"&COUNTIF($F$9:F572,F572))","v":""},{"$f":"IF(STUDATA!B1182=\"\",\"\",STUDATA!B1182)","v":""},{"$f":"IF(STUDATA!E1182=\"\",\"\",STUDATA!E1182)","v":""},{"$f":"IF(STUDATA!F1182=\"\",\"\",STUDATA!F1182)","v":""},{"$f":"IF(STUDATA!G1182=\"\",\"\",STUDATA!G1182)","v":""},{"$f":"IF(STUDATA!C1182=\"\",\"\",STUDATA!C1182)","v":""}]
[{"$f":"IF(F573=\"\",\"\",F573&\"_\"&COUNTIF($F$9:F573,F573))","v":""},{"$f":"IF(STUDATA!B1183=\"\",\"\",STUDATA!B1183)","v":""},{"$f":"IF(STUDATA!E1183=\"\",\"\",STUDATA!E1183)","v":""},{"$f":"IF(STUDATA!F1183=\"\",\"\",STUDATA!F1183)","v":""},{"$f":"IF(STUDATA!G1183=\"\",\"\",STUDATA!G1183)","v":""},{"$f":"IF(STUDATA!C1183=\"\",\"\",STUDATA!C1183)","v":""}]
[{"$f":"IF(F574=\"\",\"\",F574&\"_\"&COUNTIF($F$9:F574,F574))","v":""},{"$f":"IF(STUDATA!B1184=\"\",\"\",STUDATA!B1184)","v":""},{"$f":"IF(STUDATA!E1184=\"\",\"\",STUDATA!E1184)","v":""},{"$f":"IF(STUDATA!F1184=\"\",\"\",STUDATA!F1184)","v":""},{"$f":"IF(STUDATA!G1184=\"\",\"\",STUDATA!G1184)","v":""},{"$f":"IF(STUDATA!C1184=\"\",\"\",STUDATA!C1184)","v":""}]
[{"$f":"IF(F575=\"\",\"\",F575&\"_\"&COUNTIF($F$9:F575,F575))","v":""},{"$f":"IF(STUDATA!B1185=\"\",\"\",STUDATA!B1185)","v":""},{"$f":"IF(STUDATA!E1185=\"\",\"\",STUDATA!E1185)","v":""},{"$f":"IF(STUDATA!F1185=\"\",\"\",STUDATA!F1185)","v":""},{"$f":"IF(STUDATA!G1185=\"\",\"\",STUDATA!G1185)","v":""},{"$f":"IF(STUDATA!C1185=\"\",\"\",STUDATA!C1185)","v":""}]
[{"$f":"IF(F576=\"\",\"\",F576&\"_\"&COUNTIF($F$9:F576,F576))","v":""},{"$f":"IF(STUDATA!B1186=\"\",\"\",STUDATA!B1186)","v":""},{"$f":"IF(STUDATA!E1186=\"\",\"\",STUDATA!E1186)","v":""},{"$f":"IF(STUDATA!F1186=\"\",\"\",STUDATA!F1186)","v":""},{"$f":"IF(STUDATA!G1186=\"\",\"\",STUDATA!G1186)","v":""},{"$f":"IF(STUDATA!C1186=\"\",\"\",STUDATA!C1186)","v":""}]
[{"$f":"IF(F577=\"\",\"\",F577&\"_\"&COUNTIF($F$9:F577,F577))","v":""},{"$f":"IF(STUDATA!B1187=\"\",\"\",STUDATA!B1187)","v":""},{"$f":"IF(STUDATA!E1187=\"\",\"\",STUDATA!E1187)","v":""},{"$f":"IF(STUDATA!F1187=\"\",\"\",STUDATA!F1187)","v":""},{"$f":"IF(STUDATA!G1187=\"\",\"\",STUDATA!G1187)","v":""},{"$f":"IF(STUDATA!C1187=\"\",\"\",STUDATA!C1187)","v":""}]
[{"$f":"IF(F578=\"\",\"\",F578&\"_\"&COUNTIF($F$9:F578,F578))","v":""},{"$f":"IF(STUDATA!B1188=\"\",\"\",STUDATA!B1188)","v":""},{"$f":"IF(STUDATA!E1188=\"\",\"\",STUDATA!E1188)","v":""},{"$f":"IF(STUDATA!F1188=\"\",\"\",STUDATA!F1188)","v":""},{"$f":"IF(STUDATA!G1188=\"\",\"\",STUDATA!G1188)","v":""},{"$f":"IF(STUDATA!C1188=\"\",\"\",STUDATA!C1188)","v":""}]
[{"$f":"IF(F579=\"\",\"\",F579&\"_\"&COUNTIF($F$9:F579,F579))","v":""},{"$f":"IF(STUDATA!B1189=\"\",\"\",STUDATA!B1189)","v":""},{"$f":"IF(STUDATA!E1189=\"\",\"\",STUDATA!E1189)","v":""},{"$f":"IF(STUDATA!F1189=\"\",\"\",STUDATA!F1189)","v":""},{"$f":"IF(STUDATA!G1189=\"\",\"\",STUDATA!G1189)","v":""},{"$f":"IF(STUDATA!C1189=\"\",\"\",STUDATA!C1189)","v":""}]
[{"$f":"IF(F580=\"\",\"\",F580&\"_\"&COUNTIF($F$9:F580,F580))","v":""},{"$f":"IF(STUDATA!B1190=\"\",\"\",STUDATA!B1190)","v":""},{"$f":"IF(STUDATA!E1190=\"\",\"\",STUDATA!E1190)","v":""},{"$f":"IF(STUDATA!F1190=\"\",\"\",STUDATA!F1190)","v":""},{"$f":"IF(STUDATA!G1190=\"\",\"\",STUDATA!G1190)","v":""},{"$f":"IF(STUDATA!C1190=\"\",\"\",STUDATA!C1190)","v":""}]
[{"$f":"IF(F581=\"\",\"\",F581&\"_\"&COUNTIF($F$9:F581,F581))","v":""},{"$f":"IF(STUDATA!B1191=\"\",\"\",STUDATA!B1191)","v":""},{"$f":"IF(STUDATA!E1191=\"\",\"\",STUDATA!E1191)","v":""},{"$f":"IF(STUDATA!F1191=\"\",\"\",STUDATA!F1191)","v":""},{"$f":"IF(STUDATA!G1191=\"\",\"\",STUDATA!G1191)","v":""},{"$f":"IF(STUDATA!C1191=\"\",\"\",STUDATA!C1191)","v":""}]
[{"$f":"IF(F582=\"\",\"\",F582&\"_\"&COUNTIF($F$9:F582,F582))","v":""},{"$f":"IF(STUDATA!B1192=\"\",\"\",STUDATA!B1192)","v":""},{"$f":"IF(STUDATA!E1192=\"\",\"\",STUDATA!E1192)","v":""},{"$f":"IF(STUDATA!F1192=\"\",\"\",STUDATA!F1192)","v":""},{"$f":"IF(STUDATA!G1192=\"\",\"\",STUDATA!G1192)","v":""},{"$f":"IF(STUDATA!C1192=\"\",\"\",STUDATA!C1192)","v":""}]
[{"$f":"IF(F583=\"\",\"\",F583&\"_\"&COUNTIF($F$9:F583,F583))","v":""},{"$f":"IF(STUDATA!B1193=\"\",\"\",STUDATA!B1193)","v":""},{"$f":"IF(STUDATA!E1193=\"\",\"\",STUDATA!E1193)","v":""},{"$f":"IF(STUDATA!F1193=\"\",\"\",STUDATA!F1193)","v":""},{"$f":"IF(STUDATA!G1193=\"\",\"\",STUDATA!G1193)","v":""},{"$f":"IF(STUDATA!C1193=\"\",\"\",STUDATA!C1193)","v":""}]
[{"$f":"IF(F584=\"\",\"\",F584&\"_\"&COUNTIF($F$9:F584,F584))","v":""},{"$f":"IF(STUDATA!B1194=\"\",\"\",STUDATA!B1194)","v":""},{"$f":"IF(STUDATA!E1194=\"\",\"\",STUDATA!E1194)","v":""},{"$f":"IF(STUDATA!F1194=\"\",\"\",STUDATA!F1194)","v":""},{"$f":"IF(STUDATA!G1194=\"\",\"\",STUDATA!G1194)","v":""},{"$f":"IF(STUDATA!C1194=\"\",\"\",STUDATA!C1194)","v":""}]
[{"$f":"IF(F585=\"\",\"\",F585&\"_\"&COUNTIF($F$9:F585,F585))","v":""},{"$f":"IF(STUDATA!B1195=\"\",\"\",STUDATA!B1195)","v":""},{"$f":"IF(STUDATA!E1195=\"\",\"\",STUDATA!E1195)","v":""},{"$f":"IF(STUDATA!F1195=\"\",\"\",STUDATA!F1195)","v":""},{"$f":"IF(STUDATA!G1195=\"\",\"\",STUDATA!G1195)","v":""},{"$f":"IF(STUDATA!C1195=\"\",\"\",STUDATA!C1195)","v":""}]
[{"$f":"IF(F586=\"\",\"\",F586&\"_\"&COUNTIF($F$9:F586,F586))","v":""},{"$f":"IF(STUDATA!B1196=\"\",\"\",STUDATA!B1196)","v":""},{"$f":"IF(STUDATA!E1196=\"\",\"\",STUDATA!E1196)","v":""},{"$f":"IF(STUDATA!F1196=\"\",\"\",STUDATA!F1196)","v":""},{"$f":"IF(STUDATA!G1196=\"\",\"\",STUDATA!G1196)","v":""},{"$f":"IF(STUDATA!C1196=\"\",\"\",STUDATA!C1196)","v":""}]
[{"$f":"IF(F587=\"\",\"\",F587&\"_\"&COUNTIF($F$9:F587,F587))","v":""},{"$f":"IF(STUDATA!B1197=\"\",\"\",STUDATA!B1197)","v":""},{"$f":"IF(STUDATA!E1197=\"\",\"\",STUDATA!E1197)","v":""},{"$f":"IF(STUDATA!F1197=\"\",\"\",STUDATA!F1197)","v":""},{"$f":"IF(STUDATA!G1197=\"\",\"\",STUDATA!G1197)","v":""},{"$f":"IF(STUDATA!C1197=\"\",\"\",STUDATA!C1197)","v":""}]
[{"$f":"IF(F588=\"\",\"\",F588&\"_\"&COUNTIF($F$9:F588,F588))","v":""},{"$f":"IF(STUDATA!B1198=\"\",\"\",STUDATA!B1198)","v":""},{"$f":"IF(STUDATA!E1198=\"\",\"\",STUDATA!E1198)","v":""},{"$f":"IF(STUDATA!F1198=\"\",\"\",STUDATA!F1198)","v":""},{"$f":"IF(STUDATA!G1198=\"\",\"\",STUDATA!G1198)","v":""},{"$f":"IF(STUDATA!C1198=\"\",\"\",STUDATA!C1198)","v":""}]
[{"$f":"IF(F589=\"\",\"\",F589&\"_\"&COUNTIF($F$9:F589,F589))","v":""},{"$f":"IF(STUDATA!B1199=\"\",\"\",STUDATA!B1199)","v":""},{"$f":"IF(STUDATA!E1199=\"\",\"\",STUDATA!E1199)","v":""},{"$f":"IF(STUDATA!F1199=\"\",\"\",STUDATA!F1199)","v":""},{"$f":"IF(STUDATA!G1199=\"\",\"\",STUDATA!G1199)","v":""},{"$f":"IF(STUDATA!C1199=\"\",\"\",STUDATA!C1199)","v":""}]
[{"$f":"IF(F590=\"\",\"\",F590&\"_\"&COUNTIF($F$9:F590,F590))","v":""},{"$f":"IF(STUDATA!B1200=\"\",\"\",STUDATA!B1200)","v":""},{"$f":"IF(STUDATA!E1200=\"\",\"\",STUDATA!E1200)","v":""},{"$f":"IF(STUDATA!F1200=\"\",\"\",STUDATA!F1200)","v":""},{"$f":"IF(STUDATA!G1200=\"\",\"\",STUDATA!G1200)","v":""},{"$f":"IF(STUDATA!C1200=\"\",\"\",STUDATA!C1200)","v":""}]
[{"$f":"IF(F591=\"\",\"\",F591&\"_\"&COUNTIF($F$9:F591,F591))","v":""},{"$f":"IF(STUDATA!B1201=\"\",\"\",STUDATA!B1201)","v":""},{"$f":"IF(STUDATA!E1201=\"\",\"\",STUDATA!E1201)","v":""},{"$f":"IF(STUDATA!F1201=\"\",\"\",STUDATA!F1201)","v":""},{"$f":"IF(STUDATA!G1201=\"\",\"\",STUDATA!G1201)","v":""},{"$f":"IF(STUDATA!C1201=\"\",\"\",STUDATA!C1201)","v":""}]
[{"$f":"IF(F592=\"\",\"\",F592&\"_\"&COUNTIF($F$9:F592,F592))","v":""},{"$f":"IF(STUDATA!B1202=\"\",\"\",STUDATA!B1202)","v":""},{"$f":"IF(STUDATA!E1202=\"\",\"\",STUDATA!E1202)","v":""},{"$f":"IF(STUDATA!F1202=\"\",\"\",STUDATA!F1202)","v":""},{"$f":"IF(STUDATA!G1202=\"\",\"\",STUDATA!G1202)","v":""},{"$f":"IF(STUDATA!C1202=\"\",\"\",STUDATA!C1202)","v":""}]
[{"$f":"IF(F593=\"\",\"\",F593&\"_\"&COUNTIF($F$9:F593,F593))","v":""},{"$f":"IF(STUDATA!B1203=\"\",\"\",STUDATA!B1203)","v":""},{"$f":"IF(STUDATA!E1203=\"\",\"\",STUDATA!E1203)","v":""},{"$f":"IF(STUDATA!F1203=\"\",\"\",STUDATA!F1203)","v":""},{"$f":"IF(STUDATA!G1203=\"\",\"\",STUDATA!G1203)","v":""},{"$f":"IF(STUDATA!C1203=\"\",\"\",STUDATA!C1203)","v":""}]
[{"$f":"IF(F594=\"\",\"\",F594&\"_\"&COUNTIF($F$9:F594,F594))","v":""},{"$f":"IF(STUDATA!B1204=\"\",\"\",STUDATA!B1204)","v":""},{"$f":"IF(STUDATA!E1204=\"\",\"\",STUDATA!E1204)","v":""},{"$f":"IF(STUDATA!F1204=\"\",\"\",STUDATA!F1204)","v":""},{"$f":"IF(STUDATA!G1204=\"\",\"\",STUDATA!G1204)","v":""},{"$f":"IF(STUDATA!C1204=\"\",\"\",STUDATA!C1204)","v":""}]
[{"$f":"IF(F595=\"\",\"\",F595&\"_\"&COUNTIF($F$9:F595,F595))","v":""},{"$f":"IF(STUDATA!B1205=\"\",\"\",STUDATA!B1205)","v":""},{"$f":"IF(STUDATA!E1205=\"\",\"\",STUDATA!E1205)","v":""},{"$f":"IF(STUDATA!F1205=\"\",\"\",STUDATA!F1205)","v":""},{"$f":"IF(STUDATA!G1205=\"\",\"\",STUDATA!G1205)","v":""},{"$f":"IF(STUDATA!C1205=\"\",\"\",STUDATA!C1205)","v":""}]
[{"$f":"IF(F596=\"\",\"\",F596&\"_\"&COUNTIF($F$9:F596,F596))","v":""},{"$f":"IF(STUDATA!B1206=\"\",\"\",STUDATA!B1206)","v":""},{"$f":"IF(STUDATA!E1206=\"\",\"\",STUDATA!E1206)","v":""},{"$f":"IF(STUDATA!F1206=\"\",\"\",STUDATA!F1206)","v":""},{"$f":"IF(STUDATA!G1206=\"\",\"\",STUDATA!G1206)","v":""},{"$f":"IF(STUDATA!C1206=\"\",\"\",STUDATA!C1206)","v":""}]
[{"$f":"IF(F597=\"\",\"\",F597&\"_\"&COUNTIF($F$9:F597,F597))","v":""},{"$f":"IF(STUDATA!B1207=\"\",\"\",STUDATA!B1207)","v":""},{"$f":"IF(STUDATA!E1207=\"\",\"\",STUDATA!E1207)","v":""},{"$f":"IF(STUDATA!F1207=\"\",\"\",STUDATA!F1207)","v":""},{"$f":"IF(STUDATA!G1207=\"\",\"\",STUDATA!G1207)","v":""},{"$f":"IF(STUDATA!C1207=\"\",\"\",STUDATA!C1207)","v":""}]
[{"$f":"IF(F598=\"\",\"\",F598&\"_\"&COUNTIF($F$9:F598,F598))","v":""},{"$f":"IF(STUDATA!B1208=\"\",\"\",STUDATA!B1208)","v":""},{"$f":"IF(STUDATA!E1208=\"\",\"\",STUDATA!E1208)","v":""},{"$f":"IF(STUDATA!F1208=\"\",\"\",STUDATA!F1208)","v":""},{"$f":"IF(STUDATA!G1208=\"\",\"\",STUDATA!G1208)","v":""},{"$f":"IF(STUDATA!C1208=\"\",\"\",STUDATA!C1208)","v":""}]
[{"$f":"IF(F599=\"\",\"\",F599&\"_\"&COUNTIF($F$9:F599,F599))","v":""},{"$f":"IF(STUDATA!B1209=\"\",\"\",STUDATA!B1209)","v":""},{"$f":"IF(STUDATA!E1209=\"\",\"\",STUDATA!E1209)","v":""},{"$f":"IF(STUDATA!F1209=\"\",\"\",STUDATA!F1209)","v":""},{"$f":"IF(STUDATA!G1209=\"\",\"\",STUDATA!G1209)","v":""},{"$f":"IF(STUDATA!C1209=\"\",\"\",STUDATA!C1209)","v":""}]
[{"$f":"IF(F600=\"\",\"\",F600&\"_\"&COUNTIF($F$9:F600,F600))","v":""},{"$f":"IF(STUDATA!B1210=\"\",\"\",STUDATA!B1210)","v":""},{"$f":"IF(STUDATA!E1210=\"\",\"\",STUDATA!E1210)","v":""},{"$f":"IF(STUDATA!F1210=\"\",\"\",STUDATA!F1210)","v":""},{"$f":"IF(STUDATA!G1210=\"\",\"\",STUDATA!G1210)","v":""},{"$f":"IF(STUDATA!C1210=\"\",\"\",STUDATA!C1210)","v":""}]
[{"$f":"IF(F601=\"\",\"\",F601&\"_\"&COUNTIF($F$9:F601,F601))","v":""},{"$f":"IF(STUDATA!B1211=\"\",\"\",STUDATA!B1211)","v":""},{"$f":"IF(STUDATA!E1211=\"\",\"\",STUDATA!E1211)","v":""},{"$f":"IF(STUDATA!F1211=\"\",\"\",STUDATA!F1211)","v":""},{"$f":"IF(STUDATA!G1211=\"\",\"\",STUDATA!G1211)","v":""},{"$f":"IF(STUDATA!C1211=\"\",\"\",STUDATA!C1211)","v":""}]
[{"$f":"IF(F602=\"\",\"\",F602&\"_\"&COUNTIF($F$9:F602,F602))","v":""},{"$f":"IF(STUDATA!B1212=\"\",\"\",STUDATA!B1212)","v":""},{"$f":"IF(STUDATA!E1212=\"\",\"\",STUDATA!E1212)","v":""},{"$f":"IF(STUDATA!F1212=\"\",\"\",STUDATA!F1212)","v":""},{"$f":"IF(STUDATA!G1212=\"\",\"\",STUDATA!G1212)","v":""},{"$f":"IF(STUDATA!C1212=\"\",\"\",STUDATA!C1212)","v":""}]
[{"$f":"IF(F603=\"\",\"\",F603&\"_\"&COUNTIF($F$9:F603,F603))","v":""},{"$f":"IF(STUDATA!B1213=\"\",\"\",STUDATA!B1213)","v":""},{"$f":"IF(STUDATA!E1213=\"\",\"\",STUDATA!E1213)","v":""},{"$f":"IF(STUDATA!F1213=\"\",\"\",STUDATA!F1213)","v":""},{"$f":"IF(STUDATA!G1213=\"\",\"\",STUDATA!G1213)","v":""},{"$f":"IF(STUDATA!C1213=\"\",\"\",STUDATA!C1213)","v":""}]
[{"$f":"IF(F604=\"\",\"\",F604&\"_\"&COUNTIF($F$9:F604,F604))","v":""},{"$f":"IF(STUDATA!B1214=\"\",\"\",STUDATA!B1214)","v":""},{"$f":"IF(STUDATA!E1214=\"\",\"\",STUDATA!E1214)","v":""},{"$f":"IF(STUDATA!F1214=\"\",\"\",STUDATA!F1214)","v":""},{"$f":"IF(STUDATA!G1214=\"\",\"\",STUDATA!G1214)","v":""},{"$f":"IF(STUDATA!C1214=\"\",\"\",STUDATA!C1214)","v":""}]
[{"$f":"IF(F605=\"\",\"\",F605&\"_\"&COUNTIF($F$9:F605,F605))","v":""},{"$f":"IF(STUDATA!B1215=\"\",\"\",STUDATA!B1215)","v":""},{"$f":"IF(STUDATA!E1215=\"\",\"\",STUDATA!E1215)","v":""},{"$f":"IF(STUDATA!F1215=\"\",\"\",STUDATA!F1215)","v":""},{"$f":"IF(STUDATA!G1215=\"\",\"\",STUDATA!G1215)","v":""},{"$f":"IF(STUDATA!C1215=\"\",\"\",STUDATA!C1215)","v":""}]
[{"$f":"IF(F606=\"\",\"\",F606&\"_\"&COUNTIF($F$9:F606,F606))","v":""},{"$f":"IF(STUDATA!B1216=\"\",\"\",STUDATA!B1216)","v":""},{"$f":"IF(STUDATA!E1216=\"\",\"\",STUDATA!E1216)","v":""},{"$f":"IF(STUDATA!F1216=\"\",\"\",STUDATA!F1216)","v":""},{"$f":"IF(STUDATA!G1216=\"\",\"\",STUDATA!G1216)","v":""},{"$f":"IF(STUDATA!C1216=\"\",\"\",STUDATA!C1216)","v":""}]
[{"$f":"IF(F607=\"\",\"\",F607&\"_\"&COUNTIF($F$9:F607,F607))","v":""},{"$f":"IF(STUDATA!B1217=\"\",\"\",STUDATA!B1217)","v":""},{"$f":"IF(STUDATA!E1217=\"\",\"\",STUDATA!E1217)","v":""},{"$f":"IF(STUDATA!F1217=\"\",\"\",STUDATA!F1217)","v":""},{"$f":"IF(STUDATA!G1217=\"\",\"\",STUDATA!G1217)","v":""},{"$f":"IF(STUDATA!C1217=\"\",\"\",STUDATA!C1217)","v":""}]
[{"$f":"IF(F608=\"\",\"\",F608&\"_\"&COUNTIF($F$9:F608,F608))","v":""},{"$f":"IF(STUDATA!B1218=\"\",\"\",STUDATA!B1218)","v":""},{"$f":"IF(STUDATA!E1218=\"\",\"\",STUDATA!E1218)","v":""},{"$f":"IF(STUDATA!F1218=\"\",\"\",STUDATA!F1218)","v":""},{"$f":"IF(STUDATA!G1218=\"\",\"\",STUDATA!G1218)","v":""},{"$f":"IF(STUDATA!C1218=\"\",\"\",STUDATA!C1218)","v":""}]
[{"$f":"IF(F609=\"\",\"\",F609&\"_\"&COUNTIF($F$9:F609,F609))","v":""},{"$f":"IF(STUDATA!B1219=\"\",\"\",STUDATA!B1219)","v":""},{"$f":"IF(STUDATA!E1219=\"\",\"\",STUDATA!E1219)","v":""},{"$f":"IF(STUDATA!F1219=\"\",\"\",STUDATA!F1219)","v":""},{"$f":"IF(STUDATA!G1219=\"\",\"\",STUDATA!G1219)","v":""},{"$f":"IF(STUDATA!C1219=\"\",\"\",STUDATA!C1219)","v":""}]
[{"$f":"IF(F610=\"\",\"\",F610&\"_\"&COUNTIF($F$9:F610,F610))","v":""},{"$f":"IF(STUDATA!B1220=\"\",\"\",STUDATA!B1220)","v":""},{"$f":"IF(STUDATA!E1220=\"\",\"\",STUDATA!E1220)","v":""},{"$f":"IF(STUDATA!F1220=\"\",\"\",STUDATA!F1220)","v":""},{"$f":"IF(STUDATA!G1220=\"\",\"\",STUDATA!G1220)","v":""},{"$f":"IF(STUDATA!C1220=\"\",\"\",STUDATA!C1220)","v":""}]
[{"$f":"IF(F611=\"\",\"\",F611&\"_\"&COUNTIF($F$9:F611,F611))","v":""},{"$f":"IF(STUDATA!B1221=\"\",\"\",STUDATA!B1221)","v":""},{"$f":"IF(STUDATA!E1221=\"\",\"\",STUDATA!E1221)","v":""},{"$f":"IF(STUDATA!F1221=\"\",\"\",STUDATA!F1221)","v":""},{"$f":"IF(STUDATA!G1221=\"\",\"\",STUDATA!G1221)","v":""},{"$f":"IF(STUDATA!C1221=\"\",\"\",STUDATA!C1221)","v":""}]
[{"$f":"IF(F612=\"\",\"\",F612&\"_\"&COUNTIF($F$9:F612,F612))","v":""},{"$f":"IF(STUDATA!B1222=\"\",\"\",STUDATA!B1222)","v":""},{"$f":"IF(STUDATA!E1222=\"\",\"\",STUDATA!E1222)","v":""},{"$f":"IF(STUDATA!F1222=\"\",\"\",STUDATA!F1222)","v":""},{"$f":"IF(STUDATA!G1222=\"\",\"\",STUDATA!G1222)","v":""},{"$f":"IF(STUDATA!C1222=\"\",\"\",STUDATA!C1222)","v":""}]
[{"$f":"IF(F613=\"\",\"\",F613&\"_\"&COUNTIF($F$9:F613,F613))","v":""},{"$f":"IF(STUDATA!B1223=\"\",\"\",STUDATA!B1223)","v":""},{"$f":"IF(STUDATA!E1223=\"\",\"\",STUDATA!E1223)","v":""},{"$f":"IF(STUDATA!F1223=\"\",\"\",STUDATA!F1223)","v":""},{"$f":"IF(STUDATA!G1223=\"\",\"\",STUDATA!G1223)","v":""},{"$f":"IF(STUDATA!C1223=\"\",\"\",STUDATA!C1223)","v":""}]
[{"$f":"IF(F614=\"\",\"\",F614&\"_\"&COUNTIF($F$9:F614,F614))","v":""},{"$f":"IF(STUDATA!B1224=\"\",\"\",STUDATA!B1224)","v":""},{"$f":"IF(STUDATA!E1224=\"\",\"\",STUDATA!E1224)","v":""},{"$f":"IF(STUDATA!F1224=\"\",\"\",STUDATA!F1224)","v":""},{"$f":"IF(STUDATA!G1224=\"\",\"\",STUDATA!G1224)","v":""},{"$f":"IF(STUDATA!C1224=\"\",\"\",STUDATA!C1224)","v":""}]
[{"$f":"IF(F615=\"\",\"\",F615&\"_\"&COUNTIF($F$9:F615,F615))","v":""},{"$f":"IF(STUDATA!B1225=\"\",\"\",STUDATA!B1225)","v":""},{"$f":"IF(STUDATA!E1225=\"\",\"\",STUDATA!E1225)","v":""},{"$f":"IF(STUDATA!F1225=\"\",\"\",STUDATA!F1225)","v":""},{"$f":"IF(STUDATA!G1225=\"\",\"\",STUDATA!G1225)","v":""},{"$f":"IF(STUDATA!C1225=\"\",\"\",STUDATA!C1225)","v":""}]
[{"$f":"IF(F616=\"\",\"\",F616&\"_\"&COUNTIF($F$9:F616,F616))","v":""},{"$f":"IF(STUDATA!B1226=\"\",\"\",STUDATA!B1226)","v":""},{"$f":"IF(STUDATA!E1226=\"\",\"\",STUDATA!E1226)","v":""},{"$f":"IF(STUDATA!F1226=\"\",\"\",STUDATA!F1226)","v":""},{"$f":"IF(STUDATA!G1226=\"\",\"\",STUDATA!G1226)","v":""},{"$f":"IF(STUDATA!C1226=\"\",\"\",STUDATA!C1226)","v":""}]
[{"$f":"IF(F617=\"\",\"\",F617&\"_\"&COUNTIF($F$9:F617,F617))","v":""},{"$f":"IF(STUDATA!B1227=\"\",\"\",STUDATA!B1227)","v":""},{"$f":"IF(STUDATA!E1227=\"\",\"\",STUDATA!E1227)","v":""},{"$f":"IF(STUDATA!F1227=\"\",\"\",STUDATA!F1227)","v":""},{"$f":"IF(STUDATA!G1227=\"\",\"\",STUDATA!G1227)","v":""},{"$f":"IF(STUDATA!C1227=\"\",\"\",STUDATA!C1227)","v":""}]
[{"$f":"IF(F618=\"\",\"\",F618&\"_\"&COUNTIF($F$9:F618,F618))","v":""},{"$f":"IF(STUDATA!B1228=\"\",\"\",STUDATA!B1228)","v":""},{"$f":"IF(STUDATA!E1228=\"\",\"\",STUDATA!E1228)","v":""},{"$f":"IF(STUDATA!F1228=\"\",\"\",STUDATA!F1228)","v":""},{"$f":"IF(STUDATA!G1228=\"\",\"\",STUDATA!G1228)","v":""},{"$f":"IF(STUDATA!C1228=\"\",\"\",STUDATA!C1228)","v":""}]
[{"$f":"IF(F619=\"\",\"\",F619&\"_\"&COUNTIF($F$9:F619,F619))","v":""},{"$f":"IF(STUDATA!B1229=\"\",\"\",STUDATA!B1229)","v":""},{"$f":"IF(STUDATA!E1229=\"\",\"\",STUDATA!E1229)","v":""},{"$f":"IF(STUDATA!F1229=\"\",\"\",STUDATA!F1229)","v":""},{"$f":"IF(STUDATA!G1229=\"\",\"\",STUDATA!G1229)","v":""},{"$f":"IF(STUDATA!C1229=\"\",\"\",STUDATA!C1229)","v":""}]
[{"$f":"IF(F620=\"\",\"\",F620&\"_\"&COUNTIF($F$9:F620,F620))","v":""},{"$f":"IF(STUDATA!B1230=\"\",\"\",STUDATA!B1230)","v":""},{"$f":"IF(STUDATA!E1230=\"\",\"\",STUDATA!E1230)","v":""},{"$f":"IF(STUDATA!F1230=\"\",\"\",STUDATA!F1230)","v":""},{"$f":"IF(STUDATA!G1230=\"\",\"\",STUDATA!G1230)","v":""},{"$f":"IF(STUDATA!C1230=\"\",\"\",STUDATA!C1230)","v":""}]
[{"$f":"IF(F621=\"\",\"\",F621&\"_\"&COUNTIF($F$9:F621,F621))","v":""},{"$f":"IF(STUDATA!B1231=\"\",\"\",STUDATA!B1231)","v":""},{"$f":"IF(STUDATA!E1231=\"\",\"\",STUDATA!E1231)","v":""},{"$f":"IF(STUDATA!F1231=\"\",\"\",STUDATA!F1231)","v":""},{"$f":"IF(STUDATA!G1231=\"\",\"\",STUDATA!G1231)","v":""},{"$f":"IF(STUDATA!C1231=\"\",\"\",STUDATA!C1231)","v":""}]
[{"$f":"IF(F622=\"\",\"\",F622&\"_\"&COUNTIF($F$9:F622,F622))","v":""},{"$f":"IF(STUDATA!B1232=\"\",\"\",STUDATA!B1232)","v":""},{"$f":"IF(STUDATA!E1232=\"\",\"\",STUDATA!E1232)","v":""},{"$f":"IF(STUDATA!F1232=\"\",\"\",STUDATA!F1232)","v":""},{"$f":"IF(STUDATA!G1232=\"\",\"\",STUDATA!G1232)","v":""},{"$f":"IF(STUDATA!C1232=\"\",\"\",STUDATA!C1232)","v":""}]
[{"$f":"IF(F623=\"\",\"\",F623&\"_\"&COUNTIF($F$9:F623,F623))","v":""},{"$f":"IF(STUDATA!B1233=\"\",\"\",STUDATA!B1233)","v":""},{"$f":"IF(STUDATA!E1233=\"\",\"\",STUDATA!E1233)","v":""},{"$f":"IF(STUDATA!F1233=\"\",\"\",STUDATA!F1233)","v":""},{"$f":"IF(STUDATA!G1233=\"\",\"\",STUDATA!G1233)","v":""},{"$f":"IF(STUDATA!C1233=\"\",\"\",STUDATA!C1233)","v":""}]
[{"$f":"IF(F624=\"\",\"\",F624&\"_\"&COUNTIF($F$9:F624,F624))","v":""},{"$f":"IF(STUDATA!B1234=\"\",\"\",STUDATA!B1234)","v":""},{"$f":"IF(STUDATA!E1234=\"\",\"\",STUDATA!E1234)","v":""},{"$f":"IF(STUDATA!F1234=\"\",\"\",STUDATA!F1234)","v":""},{"$f":"IF(STUDATA!G1234=\"\",\"\",STUDATA!G1234)","v":""},{"$f":"IF(STUDATA!C1234=\"\",\"\",STUDATA!C1234)","v":""}]
[{"$f":"IF(F625=\"\",\"\",F625&\"_\"&COUNTIF($F$9:F625,F625))","v":""},{"$f":"IF(STUDATA!B1235=\"\",\"\",STUDATA!B1235)","v":""},{"$f":"IF(STUDATA!E1235=\"\",\"\",STUDATA!E1235)","v":""},{"$f":"IF(STUDATA!F1235=\"\",\"\",STUDATA!F1235)","v":""},{"$f":"IF(STUDATA!G1235=\"\",\"\",STUDATA!G1235)","v":""},{"$f":"IF(STUDATA!C1235=\"\",\"\",STUDATA!C1235)","v":""}]
[{"$f":"IF(F626=\"\",\"\",F626&\"_\"&COUNTIF($F$9:F626,F626))","v":""},{"$f":"IF(STUDATA!B1236=\"\",\"\",STUDATA!B1236)","v":""},{"$f":"IF(STUDATA!E1236=\"\",\"\",STUDATA!E1236)","v":""},{"$f":"IF(STUDATA!F1236=\"\",\"\",STUDATA!F1236)","v":""},{"$f":"IF(STUDATA!G1236=\"\",\"\",STUDATA!G1236)","v":""},{"$f":"IF(STUDATA!C1236=\"\",\"\",STUDATA!C1236)","v":""}]
[{"$f":"IF(F627=\"\",\"\",F627&\"_\"&COUNTIF($F$9:F627,F627))","v":""},{"$f":"IF(STUDATA!B1237=\"\",\"\",STUDATA!B1237)","v":""},{"$f":"IF(STUDATA!E1237=\"\",\"\",STUDATA!E1237)","v":""},{"$f":"IF(STUDATA!F1237=\"\",\"\",STUDATA!F1237)","v":""},{"$f":"IF(STUDATA!G1237=\"\",\"\",STUDATA!G1237)","v":""},{"$f":"IF(STUDATA!C1237=\"\",\"\",STUDATA!C1237)","v":""}]
[{"$f":"IF(F628=\"\",\"\",F628&\"_\"&COUNTIF($F$9:F628,F628))","v":""},{"$f":"IF(STUDATA!B1238=\"\",\"\",STUDATA!B1238)","v":""},{"$f":"IF(STUDATA!E1238=\"\",\"\",STUDATA!E1238)","v":""},{"$f":"IF(STUDATA!F1238=\"\",\"\",STUDATA!F1238)","v":""},{"$f":"IF(STUDATA!G1238=\"\",\"\",STUDATA!G1238)","v":""},{"$f":"IF(STUDATA!C1238=\"\",\"\",STUDATA!C1238)","v":""}]
[{"$f":"IF(F629=\"\",\"\",F629&\"_\"&COUNTIF($F$9:F629,F629))","v":""},{"$f":"IF(STUDATA!B1239=\"\",\"\",STUDATA!B1239)","v":""},{"$f":"IF(STUDATA!E1239=\"\",\"\",STUDATA!E1239)","v":""},{"$f":"IF(STUDATA!F1239=\"\",\"\",STUDATA!F1239)","v":""},{"$f":"IF(STUDATA!G1239=\"\",\"\",STUDATA!G1239)","v":""},{"$f":"IF(STUDATA!C1239=\"\",\"\",STUDATA!C1239)","v":""}]
[{"$f":"IF(F630=\"\",\"\",F630&\"_\"&COUNTIF($F$9:F630,F630))","v":""},{"$f":"IF(STUDATA!B1240=\"\",\"\",STUDATA!B1240)","v":""},{"$f":"IF(STUDATA!E1240=\"\",\"\",STUDATA!E1240)","v":""},{"$f":"IF(STUDATA!F1240=\"\",\"\",STUDATA!F1240)","v":""},{"$f":"IF(STUDATA!G1240=\"\",\"\",STUDATA!G1240)","v":""},{"$f":"IF(STUDATA!C1240=\"\",\"\",STUDATA!C1240)","v":""}]
[{"$f":"IF(F631=\"\",\"\",F631&\"_\"&COUNTIF($F$9:F631,F631))","v":""},{"$f":"IF(STUDATA!B1241=\"\",\"\",STUDATA!B1241)","v":""},{"$f":"IF(STUDATA!E1241=\"\",\"\",STUDATA!E1241)","v":""},{"$f":"IF(STUDATA!F1241=\"\",\"\",STUDATA!F1241)","v":""},{"$f":"IF(STUDATA!G1241=\"\",\"\",STUDATA!G1241)","v":""},{"$f":"IF(STUDATA!C1241=\"\",\"\",STUDATA!C1241)","v":""}]
[{"$f":"IF(F632=\"\",\"\",F632&\"_\"&COUNTIF($F$9:F632,F632))","v":""},{"$f":"IF(STUDATA!B1242=\"\",\"\",STUDATA!B1242)","v":""},{"$f":"IF(STUDATA!E1242=\"\",\"\",STUDATA!E1242)","v":""},{"$f":"IF(STUDATA!F1242=\"\",\"\",STUDATA!F1242)","v":""},{"$f":"IF(STUDATA!G1242=\"\",\"\",STUDATA!G1242)","v":""},{"$f":"IF(STUDATA!C1242=\"\",\"\",STUDATA!C1242)","v":""}]
[{"$f":"IF(F633=\"\",\"\",F633&\"_\"&COUNTIF($F$9:F633,F633))","v":""},{"$f":"IF(STUDATA!B1243=\"\",\"\",STUDATA!B1243)","v":""},{"$f":"IF(STUDATA!E1243=\"\",\"\",STUDATA!E1243)","v":""},{"$f":"IF(STUDATA!F1243=\"\",\"\",STUDATA!F1243)","v":""},{"$f":"IF(STUDATA!G1243=\"\",\"\",STUDATA!G1243)","v":""},{"$f":"IF(STUDATA!C1243=\"\",\"\",STUDATA!C1243)","v":""}]
[{"$f":"IF(F634=\"\",\"\",F634&\"_\"&COUNTIF($F$9:F634,F634))","v":""},{"$f":"IF(STUDATA!B1244=\"\",\"\",STUDATA!B1244)","v":""},{"$f":"IF(STUDATA!E1244=\"\",\"\",STUDATA!E1244)","v":""},{"$f":"IF(STUDATA!F1244=\"\",\"\",STUDATA!F1244)","v":""},{"$f":"IF(STUDATA!G1244=\"\",\"\",STUDATA!G1244)","v":""},{"$f":"IF(STUDATA!C1244=\"\",\"\",STUDATA!C1244)","v":""}]
[{"$f":"IF(F635=\"\",\"\",F635&\"_\"&COUNTIF($F$9:F635,F635))","v":""},{"$f":"IF(STUDATA!B1245=\"\",\"\",STUDATA!B1245)","v":""},{"$f":"IF(STUDATA!E1245=\"\",\"\",STUDATA!E1245)","v":""},{"$f":"IF(STUDATA!F1245=\"\",\"\",STUDATA!F1245)","v":""},{"$f":"IF(STUDATA!G1245=\"\",\"\",STUDATA!G1245)","v":""},{"$f":"IF(STUDATA!C1245=\"\",\"\",STUDATA!C1245)","v":""}]
[{"$f":"IF(F636=\"\",\"\",F636&\"_\"&COUNTIF($F$9:F636,F636))","v":""},{"$f":"IF(STUDATA!B1246=\"\",\"\",STUDATA!B1246)","v":""},{"$f":"IF(STUDATA!E1246=\"\",\"\",STUDATA!E1246)","v":""},{"$f":"IF(STUDATA!F1246=\"\",\"\",STUDATA!F1246)","v":""},{"$f":"IF(STUDATA!G1246=\"\",\"\",STUDATA!G1246)","v":""},{"$f":"IF(STUDATA!C1246=\"\",\"\",STUDATA!C1246)","v":""}]
[{"$f":"IF(F637=\"\",\"\",F637&\"_\"&COUNTIF($F$9:F637,F637))","v":""},{"$f":"IF(STUDATA!B1247=\"\",\"\",STUDATA!B1247)","v":""},{"$f":"IF(STUDATA!E1247=\"\",\"\",STUDATA!E1247)","v":""},{"$f":"IF(STUDATA!F1247=\"\",\"\",STUDATA!F1247)","v":""},{"$f":"IF(STUDATA!G1247=\"\",\"\",STUDATA!G1247)","v":""},{"$f":"IF(STUDATA!C1247=\"\",\"\",STUDATA!C1247)","v":""}]
[{"$f":"IF(F638=\"\",\"\",F638&\"_\"&COUNTIF($F$9:F638,F638))","v":""},{"$f":"IF(STUDATA!B1248=\"\",\"\",STUDATA!B1248)","v":""},{"$f":"IF(STUDATA!E1248=\"\",\"\",STUDATA!E1248)","v":""},{"$f":"IF(STUDATA!F1248=\"\",\"\",STUDATA!F1248)","v":""},{"$f":"IF(STUDATA!G1248=\"\",\"\",STUDATA!G1248)","v":""},{"$f":"IF(STUDATA!C1248=\"\",\"\",STUDATA!C1248)","v":""}]
[{"$f":"IF(F639=\"\",\"\",F639&\"_\"&COUNTIF($F$9:F639,F639))","v":""},{"$f":"IF(STUDATA!B1249=\"\",\"\",STUDATA!B1249)","v":""},{"$f":"IF(STUDATA!E1249=\"\",\"\",STUDATA!E1249)","v":""},{"$f":"IF(STUDATA!F1249=\"\",\"\",STUDATA!F1249)","v":""},{"$f":"IF(STUDATA!G1249=\"\",\"\",STUDATA!G1249)","v":""},{"$f":"IF(STUDATA!C1249=\"\",\"\",STUDATA!C1249)","v":""}]
[{"$f":"IF(F640=\"\",\"\",F640&\"_\"&COUNTIF($F$9:F640,F640))","v":""},{"$f":"IF(STUDATA!B1250=\"\",\"\",STUDATA!B1250)","v":""},{"$f":"IF(STUDATA!E1250=\"\",\"\",STUDATA!E1250)","v":""},{"$f":"IF(STUDATA!F1250=\"\",\"\",STUDATA!F1250)","v":""},{"$f":"IF(STUDATA!G1250=\"\",\"\",STUDATA!G1250)","v":""},{"$f":"IF(STUDATA!C1250=\"\",\"\",STUDATA!C1250)","v":""}]
[{"$f":"IF(F641=\"\",\"\",F641&\"_\"&COUNTIF($F$9:F641,F641))","v":""},{"$f":"IF(STUDATA!B1251=\"\",\"\",STUDATA!B1251)","v":""},{"$f":"IF(STUDATA!E1251=\"\",\"\",STUDATA!E1251)","v":""},{"$f":"IF(STUDATA!F1251=\"\",\"\",STUDATA!F1251)","v":""},{"$f":"IF(STUDATA!G1251=\"\",\"\",STUDATA!G1251)","v":""},{"$f":"IF(STUDATA!C1251=\"\",\"\",STUDATA!C1251)","v":""}]
[{"$f":"IF(F642=\"\",\"\",F642&\"_\"&COUNTIF($F$9:F642,F642))","v":""},{"$f":"IF(STUDATA!B1252=\"\",\"\",STUDATA!B1252)","v":""},{"$f":"IF(STUDATA!E1252=\"\",\"\",STUDATA!E1252)","v":""},{"$f":"IF(STUDATA!F1252=\"\",\"\",STUDATA!F1252)","v":""},{"$f":"IF(STUDATA!G1252=\"\",\"\",STUDATA!G1252)","v":""},{"$f":"IF(STUDATA!C1252=\"\",\"\",STUDATA!C1252)","v":""}]
[{"$f":"IF(F643=\"\",\"\",F643&\"_\"&COUNTIF($F$9:F643,F643))","v":""},{"$f":"IF(STUDATA!B1253=\"\",\"\",STUDATA!B1253)","v":""},{"$f":"IF(STUDATA!E1253=\"\",\"\",STUDATA!E1253)","v":""},{"$f":"IF(STUDATA!F1253=\"\",\"\",STUDATA!F1253)","v":""},{"$f":"IF(STUDATA!G1253=\"\",\"\",STUDATA!G1253)","v":""},{"$f":"IF(STUDATA!C1253=\"\",\"\",STUDATA!C1253)","v":""}]
[{"$f":"IF(F644=\"\",\"\",F644&\"_\"&COUNTIF($F$9:F644,F644))","v":""},{"$f":"IF(STUDATA!B1254=\"\",\"\",STUDATA!B1254)","v":""},{"$f":"IF(STUDATA!E1254=\"\",\"\",STUDATA!E1254)","v":""},{"$f":"IF(STUDATA!F1254=\"\",\"\",STUDATA!F1254)","v":""},{"$f":"IF(STUDATA!G1254=\"\",\"\",STUDATA!G1254)","v":""},{"$f":"IF(STUDATA!C1254=\"\",\"\",STUDATA!C1254)","v":""}]
[{"$f":"IF(F645=\"\",\"\",F645&\"_\"&COUNTIF($F$9:F645,F645))","v":""},{"$f":"IF(STUDATA!B1255=\"\",\"\",STUDATA!B1255)","v":""},{"$f":"IF(STUDATA!E1255=\"\",\"\",STUDATA!E1255)","v":""},{"$f":"IF(STUDATA!F1255=\"\",\"\",STUDATA!F1255)","v":""},{"$f":"IF(STUDATA!G1255=\"\",\"\",STUDATA!G1255)","v":""},{"$f":"IF(STUDATA!C1255=\"\",\"\",STUDATA!C1255)","v":""}]
[{"$f":"IF(F646=\"\",\"\",F646&\"_\"&COUNTIF($F$9:F646,F646))","v":""},{"$f":"IF(STUDATA!B1256=\"\",\"\",STUDATA!B1256)","v":""},{"$f":"IF(STUDATA!E1256=\"\",\"\",STUDATA!E1256)","v":""},{"$f":"IF(STUDATA!F1256=\"\",\"\",STUDATA!F1256)","v":""},{"$f":"IF(STUDATA!G1256=\"\",\"\",STUDATA!G1256)","v":""},{"$f":"IF(STUDATA!C1256=\"\",\"\",STUDATA!C1256)","v":""}]
[{"$f":"IF(F647=\"\",\"\",F647&\"_\"&COUNTIF($F$9:F647,F647))","v":""},{"$f":"IF(STUDATA!B1257=\"\",\"\",STUDATA!B1257)","v":""},{"$f":"IF(STUDATA!E1257=\"\",\"\",STUDATA!E1257)","v":""},{"$f":"IF(STUDATA!F1257=\"\",\"\",STUDATA!F1257)","v":""},{"$f":"IF(STUDATA!G1257=\"\",\"\",STUDATA!G1257)","v":""},{"$f":"IF(STUDATA!C1257=\"\",\"\",STUDATA!C1257)","v":""}]
[{"$f":"IF(F648=\"\",\"\",F648&\"_\"&COUNTIF($F$9:F648,F648))","v":""},{"$f":"IF(STUDATA!B1258=\"\",\"\",STUDATA!B1258)","v":""},{"$f":"IF(STUDATA!E1258=\"\",\"\",STUDATA!E1258)","v":""},{"$f":"IF(STUDATA!F1258=\"\",\"\",STUDATA!F1258)","v":""},{"$f":"IF(STUDATA!G1258=\"\",\"\",STUDATA!G1258)","v":""},{"$f":"IF(STUDATA!C1258=\"\",\"\",STUDATA!C1258)","v":""}]
[{"$f":"IF(F649=\"\",\"\",F649&\"_\"&COUNTIF($F$9:F649,F649))","v":""},{"$f":"IF(STUDATA!B1259=\"\",\"\",STUDATA!B1259)","v":""},{"$f":"IF(STUDATA!E1259=\"\",\"\",STUDATA!E1259)","v":""},{"$f":"IF(STUDATA!F1259=\"\",\"\",STUDATA!F1259)","v":""},{"$f":"IF(STUDATA!G1259=\"\",\"\",STUDATA!G1259)","v":""},{"$f":"IF(STUDATA!C1259=\"\",\"\",STUDATA!C1259)","v":""}]
[{"$f":"IF(F650=\"\",\"\",F650&\"_\"&COUNTIF($F$9:F650,F650))","v":""},{"$f":"IF(STUDATA!B1260=\"\",\"\",STUDATA!B1260)","v":""},{"$f":"IF(STUDATA!E1260=\"\",\"\",STUDATA!E1260)","v":""},{"$f":"IF(STUDATA!F1260=\"\",\"\",STUDATA!F1260)","v":""},{"$f":"IF(STUDATA!G1260=\"\",\"\",STUDATA!G1260)","v":""},{"$f":"IF(STUDATA!C1260=\"\",\"\",STUDATA!C1260)","v":""}]
[{"$f":"IF(F651=\"\",\"\",F651&\"_\"&COUNTIF($F$9:F651,F651))","v":""},{"$f":"IF(STUDATA!B1261=\"\",\"\",STUDATA!B1261)","v":""},{"$f":"IF(STUDATA!E1261=\"\",\"\",STUDATA!E1261)","v":""},{"$f":"IF(STUDATA!F1261=\"\",\"\",STUDATA!F1261)","v":""},{"$f":"IF(STUDATA!G1261=\"\",\"\",STUDATA!G1261)","v":""},{"$f":"IF(STUDATA!C1261=\"\",\"\",STUDATA!C1261)","v":""}]
[{"$f":"IF(F652=\"\",\"\",F652&\"_\"&COUNTIF($F$9:F652,F652))","v":""},{"$f":"IF(STUDATA!B1262=\"\",\"\",STUDATA!B1262)","v":""},{"$f":"IF(STUDATA!E1262=\"\",\"\",STUDATA!E1262)","v":""},{"$f":"IF(STUDATA!F1262=\"\",\"\",STUDATA!F1262)","v":""},{"$f":"IF(STUDATA!G1262=\"\",\"\",STUDATA!G1262)","v":""},{"$f":"IF(STUDATA!C1262=\"\",\"\",STUDATA!C1262)","v":""}]
[{"$f":"IF(F653=\"\",\"\",F653&\"_\"&COUNTIF($F$9:F653,F653))","v":""},{"$f":"IF(STUDATA!B1263=\"\",\"\",STUDATA!B1263)","v":""},{"$f":"IF(STUDATA!E1263=\"\",\"\",STUDATA!E1263)","v":""},{"$f":"IF(STUDATA!F1263=\"\",\"\",STUDATA!F1263)","v":""},{"$f":"IF(STUDATA!G1263=\"\",\"\",STUDATA!G1263)","v":""},{"$f":"IF(STUDATA!C1263=\"\",\"\",STUDATA!C1263)","v":""}]
[{"$f":"IF(F654=\"\",\"\",F654&\"_\"&COUNTIF($F$9:F654,F654))","v":""},{"$f":"IF(STUDATA!B1264=\"\",\"\",STUDATA!B1264)","v":""},{"$f":"IF(STUDATA!E1264=\"\",\"\",STUDATA!E1264)","v":""},{"$f":"IF(STUDATA!F1264=\"\",\"\",STUDATA!F1264)","v":""},{"$f":"IF(STUDATA!G1264=\"\",\"\",STUDATA!G1264)","v":""},{"$f":"IF(STUDATA!C1264=\"\",\"\",STUDATA!C1264)","v":""}]
[{"$f":"IF(F655=\"\",\"\",F655&\"_\"&COUNTIF($F$9:F655,F655))","v":""},{"$f":"IF(STUDATA!B1265=\"\",\"\",STUDATA!B1265)","v":""},{"$f":"IF(STUDATA!E1265=\"\",\"\",STUDATA!E1265)","v":""},{"$f":"IF(STUDATA!F1265=\"\",\"\",STUDATA!F1265)","v":""},{"$f":"IF(STUDATA!G1265=\"\",\"\",STUDATA!G1265)","v":""},{"$f":"IF(STUDATA!C1265=\"\",\"\",STUDATA!C1265)","v":""}]
[{"$f":"IF(F656=\"\",\"\",F656&\"_\"&COUNTIF($F$9:F656,F656))","v":""},{"$f":"IF(STUDATA!B1266=\"\",\"\",STUDATA!B1266)","v":""},{"$f":"IF(STUDATA!E1266=\"\",\"\",STUDATA!E1266)","v":""},{"$f":"IF(STUDATA!F1266=\"\",\"\",STUDATA!F1266)","v":""},{"$f":"IF(STUDATA!G1266=\"\",\"\",STUDATA!G1266)","v":""},{"$f":"IF(STUDATA!C1266=\"\",\"\",STUDATA!C1266)","v":""}]
[{"$f":"IF(F657=\"\",\"\",F657&\"_\"&COUNTIF($F$9:F657,F657))","v":""},{"$f":"IF(STUDATA!B1267=\"\",\"\",STUDATA!B1267)","v":""},{"$f":"IF(STUDATA!E1267=\"\",\"\",STUDATA!E1267)","v":""},{"$f":"IF(STUDATA!F1267=\"\",\"\",STUDATA!F1267)","v":""},{"$f":"IF(STUDATA!G1267=\"\",\"\",STUDATA!G1267)","v":""},{"$f":"IF(STUDATA!C1267=\"\",\"\",STUDATA!C1267)","v":""}]
[{"$f":"IF(F658=\"\",\"\",F658&\"_\"&COUNTIF($F$9:F658,F658))","v":""},{"$f":"IF(STUDATA!B1268=\"\",\"\",STUDATA!B1268)","v":""},{"$f":"IF(STUDATA!E1268=\"\",\"\",STUDATA!E1268)","v":""},{"$f":"IF(STUDATA!F1268=\"\",\"\",STUDATA!F1268)","v":""},{"$f":"IF(STUDATA!G1268=\"\",\"\",STUDATA!G1268)","v":""},{"$f":"IF(STUDATA!C1268=\"\",\"\",STUDATA!C1268)","v":""}]
[{"$f":"IF(F659=\"\",\"\",F659&\"_\"&COUNTIF($F$9:F659,F659))","v":""},{"$f":"IF(STUDATA!B1269=\"\",\"\",STUDATA!B1269)","v":""},{"$f":"IF(STUDATA!E1269=\"\",\"\",STUDATA!E1269)","v":""},{"$f":"IF(STUDATA!F1269=\"\",\"\",STUDATA!F1269)","v":""},{"$f":"IF(STUDATA!G1269=\"\",\"\",STUDATA!G1269)","v":""},{"$f":"IF(STUDATA!C1269=\"\",\"\",STUDATA!C1269)","v":""}]
[{"$f":"IF(F660=\"\",\"\",F660&\"_\"&COUNTIF($F$9:F660,F660))","v":""},{"$f":"IF(STUDATA!B1270=\"\",\"\",STUDATA!B1270)","v":""},{"$f":"IF(STUDATA!E1270=\"\",\"\",STUDATA!E1270)","v":""},{"$f":"IF(STUDATA!F1270=\"\",\"\",STUDATA!F1270)","v":""},{"$f":"IF(STUDATA!G1270=\"\",\"\",STUDATA!G1270)","v":""},{"$f":"IF(STUDATA!C1270=\"\",\"\",STUDATA!C1270)","v":""}]
[{"$f":"IF(F661=\"\",\"\",F661&\"_\"&COUNTIF($F$9:F661,F661))","v":""},{"$f":"IF(STUDATA!B1271=\"\",\"\",STUDATA!B1271)","v":""},{"$f":"IF(STUDATA!E1271=\"\",\"\",STUDATA!E1271)","v":""},{"$f":"IF(STUDATA!F1271=\"\",\"\",STUDATA!F1271)","v":""},{"$f":"IF(STUDATA!G1271=\"\",\"\",STUDATA!G1271)","v":""},{"$f":"IF(STUDATA!C1271=\"\",\"\",STUDATA!C1271)","v":""}]
[{"$f":"IF(F662=\"\",\"\",F662&\"_\"&COUNTIF($F$9:F662,F662))","v":""},{"$f":"IF(STUDATA!B1272=\"\",\"\",STUDATA!B1272)","v":""},{"$f":"IF(STUDATA!E1272=\"\",\"\",STUDATA!E1272)","v":""},{"$f":"IF(STUDATA!F1272=\"\",\"\",STUDATA!F1272)","v":""},{"$f":"IF(STUDATA!G1272=\"\",\"\",STUDATA!G1272)","v":""},{"$f":"IF(STUDATA!C1272=\"\",\"\",STUDATA!C1272)","v":""}]
[{"$f":"IF(F663=\"\",\"\",F663&\"_\"&COUNTIF($F$9:F663,F663))","v":""},{"$f":"IF(STUDATA!B1273=\"\",\"\",STUDATA!B1273)","v":""},{"$f":"IF(STUDATA!E1273=\"\",\"\",STUDATA!E1273)","v":""},{"$f":"IF(STUDATA!F1273=\"\",\"\",STUDATA!F1273)","v":""},{"$f":"IF(STUDATA!G1273=\"\",\"\",STUDATA!G1273)","v":""},{"$f":"IF(STUDATA!C1273=\"\",\"\",STUDATA!C1273)","v":""}]
[{"$f":"IF(F664=\"\",\"\",F664&\"_\"&COUNTIF($F$9:F664,F664))","v":""},{"$f":"IF(STUDATA!B1274=\"\",\"\",STUDATA!B1274)","v":""},{"$f":"IF(STUDATA!E1274=\"\",\"\",STUDATA!E1274)","v":""},{"$f":"IF(STUDATA!F1274=\"\",\"\",STUDATA!F1274)","v":""},{"$f":"IF(STUDATA!G1274=\"\",\"\",STUDATA!G1274)","v":""},{"$f":"IF(STUDATA!C1274=\"\",\"\",STUDATA!C1274)","v":""}]
[{"$f":"IF(F665=\"\",\"\",F665&\"_\"&COUNTIF($F$9:F665,F665))","v":""},{"$f":"IF(STUDATA!B1275=\"\",\"\",STUDATA!B1275)","v":""},{"$f":"IF(STUDATA!E1275=\"\",\"\",STUDATA!E1275)","v":""},{"$f":"IF(STUDATA!F1275=\"\",\"\",STUDATA!F1275)","v":""},{"$f":"IF(STUDATA!G1275=\"\",\"\",STUDATA!G1275)","v":""},{"$f":"IF(STUDATA!C1275=\"\",\"\",STUDATA!C1275)","v":""}]
[{"$f":"IF(F666=\"\",\"\",F666&\"_\"&COUNTIF($F$9:F666,F666))","v":""},{"$f":"IF(STUDATA!B1276=\"\",\"\",STUDATA!B1276)","v":""},{"$f":"IF(STUDATA!E1276=\"\",\"\",STUDATA!E1276)","v":""},{"$f":"IF(STUDATA!F1276=\"\",\"\",STUDATA!F1276)","v":""},{"$f":"IF(STUDATA!G1276=\"\",\"\",STUDATA!G1276)","v":""},{"$f":"IF(STUDATA!C1276=\"\",\"\",STUDATA!C1276)","v":""}]
[{"$f":"IF(F667=\"\",\"\",F667&\"_\"&COUNTIF($F$9:F667,F667))","v":""},{"$f":"IF(STUDATA!B1277=\"\",\"\",STUDATA!B1277)","v":""},{"$f":"IF(STUDATA!E1277=\"\",\"\",STUDATA!E1277)","v":""},{"$f":"IF(STUDATA!F1277=\"\",\"\",STUDATA!F1277)","v":""},{"$f":"IF(STUDATA!G1277=\"\",\"\",STUDATA!G1277)","v":""},{"$f":"IF(STUDATA!C1277=\"\",\"\",STUDATA!C1277)","v":""}]
[{"$f":"IF(F668=\"\",\"\",F668&\"_\"&COUNTIF($F$9:F668,F668))","v":""},{"$f":"IF(STUDATA!B1278=\"\",\"\",STUDATA!B1278)","v":""},{"$f":"IF(STUDATA!E1278=\"\",\"\",STUDATA!E1278)","v":""},{"$f":"IF(STUDATA!F1278=\"\",\"\",STUDATA!F1278)","v":""},{"$f":"IF(STUDATA!G1278=\"\",\"\",STUDATA!G1278)","v":""},{"$f":"IF(STUDATA!C1278=\"\",\"\",STUDATA!C1278)","v":""}]
[{"$f":"IF(F669=\"\",\"\",F669&\"_\"&COUNTIF($F$9:F669,F669))","v":""},{"$f":"IF(STUDATA!B1279=\"\",\"\",STUDATA!B1279)","v":""},{"$f":"IF(STUDATA!E1279=\"\",\"\",STUDATA!E1279)","v":""},{"$f":"IF(STUDATA!F1279=\"\",\"\",STUDATA!F1279)","v":""},{"$f":"IF(STUDATA!G1279=\"\",\"\",STUDATA!G1279)","v":""},{"$f":"IF(STUDATA!C1279=\"\",\"\",STUDATA!C1279)","v":""}]
[{"$f":"IF(F670=\"\",\"\",F670&\"_\"&COUNTIF($F$9:F670,F670))","v":""},{"$f":"IF(STUDATA!B1280=\"\",\"\",STUDATA!B1280)","v":""},{"$f":"IF(STUDATA!E1280=\"\",\"\",STUDATA!E1280)","v":""},{"$f":"IF(STUDATA!F1280=\"\",\"\",STUDATA!F1280)","v":""},{"$f":"IF(STUDATA!G1280=\"\",\"\",STUDATA!G1280)","v":""},{"$f":"IF(STUDATA!C1280=\"\",\"\",STUDATA!C1280)","v":""}]
[{"$f":"IF(F671=\"\",\"\",F671&\"_\"&COUNTIF($F$9:F671,F671))","v":""},{"$f":"IF(STUDATA!B1281=\"\",\"\",STUDATA!B1281)","v":""},{"$f":"IF(STUDATA!E1281=\"\",\"\",STUDATA!E1281)","v":""},{"$f":"IF(STUDATA!F1281=\"\",\"\",STUDATA!F1281)","v":""},{"$f":"IF(STUDATA!G1281=\"\",\"\",STUDATA!G1281)","v":""},{"$f":"IF(STUDATA!C1281=\"\",\"\",STUDATA!C1281)","v":""}]
[{"$f":"IF(F672=\"\",\"\",F672&\"_\"&COUNTIF($F$9:F672,F672))","v":""},{"$f":"IF(STUDATA!B1282=\"\",\"\",STUDATA!B1282)","v":""},{"$f":"IF(STUDATA!E1282=\"\",\"\",STUDATA!E1282)","v":""},{"$f":"IF(STUDATA!F1282=\"\",\"\",STUDATA!F1282)","v":""},{"$f":"IF(STUDATA!G1282=\"\",\"\",STUDATA!G1282)","v":""},{"$f":"IF(STUDATA!C1282=\"\",\"\",STUDATA!C1282)","v":""}]
[{"$f":"IF(F673=\"\",\"\",F673&\"_\"&COUNTIF($F$9:F673,F673))","v":""},{"$f":"IF(STUDATA!B1283=\"\",\"\",STUDATA!B1283)","v":""},{"$f":"IF(STUDATA!E1283=\"\",\"\",STUDATA!E1283)","v":""},{"$f":"IF(STUDATA!F1283=\"\",\"\",STUDATA!F1283)","v":""},{"$f":"IF(STUDATA!G1283=\"\",\"\",STUDATA!G1283)","v":""},{"$f":"IF(STUDATA!C1283=\"\",\"\",STUDATA!C1283)","v":""}]
[{"$f":"IF(F674=\"\",\"\",F674&\"_\"&COUNTIF($F$9:F674,F674))","v":""},{"$f":"IF(STUDATA!B1284=\"\",\"\",STUDATA!B1284)","v":""},{"$f":"IF(STUDATA!E1284=\"\",\"\",STUDATA!E1284)","v":""},{"$f":"IF(STUDATA!F1284=\"\",\"\",STUDATA!F1284)","v":""},{"$f":"IF(STUDATA!G1284=\"\",\"\",STUDATA!G1284)","v":""},{"$f":"IF(STUDATA!C1284=\"\",\"\",STUDATA!C1284)","v":""}]
[{"$f":"IF(F675=\"\",\"\",F675&\"_\"&COUNTIF($F$9:F675,F675))","v":""},{"$f":"IF(STUDATA!B1285=\"\",\"\",STUDATA!B1285)","v":""},{"$f":"IF(STUDATA!E1285=\"\",\"\",STUDATA!E1285)","v":""},{"$f":"IF(STUDATA!F1285=\"\",\"\",STUDATA!F1285)","v":""},{"$f":"IF(STUDATA!G1285=\"\",\"\",STUDATA!G1285)","v":""},{"$f":"IF(STUDATA!C1285=\"\",\"\",STUDATA!C1285)","v":""}]
[{"$f":"IF(F676=\"\",\"\",F676&\"_\"&COUNTIF($F$9:F676,F676))","v":""},{"$f":"IF(STUDATA!B1286=\"\",\"\",STUDATA!B1286)","v":""},{"$f":"IF(STUDATA!E1286=\"\",\"\",STUDATA!E1286)","v":""},{"$f":"IF(STUDATA!F1286=\"\",\"\",STUDATA!F1286)","v":""},{"$f":"IF(STUDATA!G1286=\"\",\"\",STUDATA!G1286)","v":""},{"$f":"IF(STUDATA!C1286=\"\",\"\",STUDATA!C1286)","v":""}]
[{"$f":"IF(F677=\"\",\"\",F677&\"_\"&COUNTIF($F$9:F677,F677))","v":""},{"$f":"IF(STUDATA!B1287=\"\",\"\",STUDATA!B1287)","v":""},{"$f":"IF(STUDATA!E1287=\"\",\"\",STUDATA!E1287)","v":""},{"$f":"IF(STUDATA!F1287=\"\",\"\",STUDATA!F1287)","v":""},{"$f":"IF(STUDATA!G1287=\"\",\"\",STUDATA!G1287)","v":""},{"$f":"IF(STUDATA!C1287=\"\",\"\",STUDATA!C1287)","v":""}]
[{"$f":"IF(F678=\"\",\"\",F678&\"_\"&COUNTIF($F$9:F678,F678))","v":""},{"$f":"IF(STUDATA!B1288=\"\",\"\",STUDATA!B1288)","v":""},{"$f":"IF(STUDATA!E1288=\"\",\"\",STUDATA!E1288)","v":""},{"$f":"IF(STUDATA!F1288=\"\",\"\",STUDATA!F1288)","v":""},{"$f":"IF(STUDATA!G1288=\"\",\"\",STUDATA!G1288)","v":""},{"$f":"IF(STUDATA!C1288=\"\",\"\",STUDATA!C1288)","v":""}]
[{"$f":"IF(F679=\"\",\"\",F679&\"_\"&COUNTIF($F$9:F679,F679))","v":""},{"$f":"IF(STUDATA!B1289=\"\",\"\",STUDATA!B1289)","v":""},{"$f":"IF(STUDATA!E1289=\"\",\"\",STUDATA!E1289)","v":""},{"$f":"IF(STUDATA!F1289=\"\",\"\",STUDATA!F1289)","v":""},{"$f":"IF(STUDATA!G1289=\"\",\"\",STUDATA!G1289)","v":""},{"$f":"IF(STUDATA!C1289=\"\",\"\",STUDATA!C1289)","v":""}]
[{"$f":"IF(F680=\"\",\"\",F680&\"_\"&COUNTIF($F$9:F680,F680))","v":""},{"$f":"IF(STUDATA!B1290=\"\",\"\",STUDATA!B1290)","v":""},{"$f":"IF(STUDATA!E1290=\"\",\"\",STUDATA!E1290)","v":""},{"$f":"IF(STUDATA!F1290=\"\",\"\",STUDATA!F1290)","v":""},{"$f":"IF(STUDATA!G1290=\"\",\"\",STUDATA!G1290)","v":""},{"$f":"IF(STUDATA!C1290=\"\",\"\",STUDATA!C1290)","v":""}]
[{"$f":"IF(F681=\"\",\"\",F681&\"_\"&COUNTIF($F$9:F681,F681))","v":""},{"$f":"IF(STUDATA!B1291=\"\",\"\",STUDATA!B1291)","v":""},{"$f":"IF(STUDATA!E1291=\"\",\"\",STUDATA!E1291)","v":""},{"$f":"IF(STUDATA!F1291=\"\",\"\",STUDATA!F1291)","v":""},{"$f":"IF(STUDATA!G1291=\"\",\"\",STUDATA!G1291)","v":""},{"$f":"IF(STUDATA!C1291=\"\",\"\",STUDATA!C1291)","v":""}]
[{"$f":"IF(F682=\"\",\"\",F682&\"_\"&COUNTIF($F$9:F682,F682))","v":""},{"$f":"IF(STUDATA!B1292=\"\",\"\",STUDATA!B1292)","v":""},{"$f":"IF(STUDATA!E1292=\"\",\"\",STUDATA!E1292)","v":""},{"$f":"IF(STUDATA!F1292=\"\",\"\",STUDATA!F1292)","v":""},{"$f":"IF(STUDATA!G1292=\"\",\"\",STUDATA!G1292)","v":""},{"$f":"IF(STUDATA!C1292=\"\",\"\",STUDATA!C1292)","v":""}]
[{"$f":"IF(F683=\"\",\"\",F683&\"_\"&COUNTIF($F$9:F683,F683))","v":""},{"$f":"IF(STUDATA!B1293=\"\",\"\",STUDATA!B1293)","v":""},{"$f":"IF(STUDATA!E1293=\"\",\"\",STUDATA!E1293)","v":""},{"$f":"IF(STUDATA!F1293=\"\",\"\",STUDATA!F1293)","v":""},{"$f":"IF(STUDATA!G1293=\"\",\"\",STUDATA!G1293)","v":""},{"$f":"IF(STUDATA!C1293=\"\",\"\",STUDATA!C1293)","v":""}]
[{"$f":"IF(F684=\"\",\"\",F684&\"_\"&COUNTIF($F$9:F684,F684))","v":""},{"$f":"IF(STUDATA!B1294=\"\",\"\",STUDATA!B1294)","v":""},{"$f":"IF(STUDATA!E1294=\"\",\"\",STUDATA!E1294)","v":""},{"$f":"IF(STUDATA!F1294=\"\",\"\",STUDATA!F1294)","v":""},{"$f":"IF(STUDATA!G1294=\"\",\"\",STUDATA!G1294)","v":""},{"$f":"IF(STUDATA!C1294=\"\",\"\",STUDATA!C1294)","v":""}]
[{"$f":"IF(F685=\"\",\"\",F685&\"_\"&COUNTIF($F$9:F685,F685))","v":""},{"$f":"IF(STUDATA!B1295=\"\",\"\",STUDATA!B1295)","v":""},{"$f":"IF(STUDATA!E1295=\"\",\"\",STUDATA!E1295)","v":""},{"$f":"IF(STUDATA!F1295=\"\",\"\",STUDATA!F1295)","v":""},{"$f":"IF(STUDATA!G1295=\"\",\"\",STUDATA!G1295)","v":""},{"$f":"IF(STUDATA!C1295=\"\",\"\",STUDATA!C1295)","v":""}]
[{"$f":"IF(F686=\"\",\"\",F686&\"_\"&COUNTIF($F$9:F686,F686))","v":""},{"$f":"IF(STUDATA!B1296=\"\",\"\",STUDATA!B1296)","v":""},{"$f":"IF(STUDATA!E1296=\"\",\"\",STUDATA!E1296)","v":""},{"$f":"IF(STUDATA!F1296=\"\",\"\",STUDATA!F1296)","v":""},{"$f":"IF(STUDATA!G1296=\"\",\"\",STUDATA!G1296)","v":""},{"$f":"IF(STUDATA!C1296=\"\",\"\",STUDATA!C1296)","v":""}]
[{"$f":"IF(F687=\"\",\"\",F687&\"_\"&COUNTIF($F$9:F687,F687))","v":""},{"$f":"IF(STUDATA!B1297=\"\",\"\",STUDATA!B1297)","v":""},{"$f":"IF(STUDATA!E1297=\"\",\"\",STUDATA!E1297)","v":""},{"$f":"IF(STUDATA!F1297=\"\",\"\",STUDATA!F1297)","v":""},{"$f":"IF(STUDATA!G1297=\"\",\"\",STUDATA!G1297)","v":""},{"$f":"IF(STUDATA!C1297=\"\",\"\",STUDATA!C1297)","v":""}]
[{"$f":"IF(F688=\"\",\"\",F688&\"_\"&COUNTIF($F$9:F688,F688))","v":""},{"$f":"IF(STUDATA!B1298=\"\",\"\",STUDATA!B1298)","v":""},{"$f":"IF(STUDATA!E1298=\"\",\"\",STUDATA!E1298)","v":""},{"$f":"IF(STUDATA!F1298=\"\",\"\",STUDATA!F1298)","v":""},{"$f":"IF(STUDATA!G1298=\"\",\"\",STUDATA!G1298)","v":""},{"$f":"IF(STUDATA!C1298=\"\",\"\",STUDATA!C1298)","v":""}]
[{"$f":"IF(F689=\"\",\"\",F689&\"_\"&COUNTIF($F$9:F689,F689))","v":""},{"$f":"IF(STUDATA!B1299=\"\",\"\",STUDATA!B1299)","v":""},{"$f":"IF(STUDATA!E1299=\"\",\"\",STUDATA!E1299)","v":""},{"$f":"IF(STUDATA!F1299=\"\",\"\",STUDATA!F1299)","v":""},{"$f":"IF(STUDATA!G1299=\"\",\"\",STUDATA!G1299)","v":""},{"$f":"IF(STUDATA!C1299=\"\",\"\",STUDATA!C1299)","v":""}]
[{"$f":"IF(F690=\"\",\"\",F690&\"_\"&COUNTIF($F$9:F690,F690))","v":""},{"$f":"IF(STUDATA!B1300=\"\",\"\",STUDATA!B1300)","v":""},{"$f":"IF(STUDATA!E1300=\"\",\"\",STUDATA!E1300)","v":""},{"$f":"IF(STUDATA!F1300=\"\",\"\",STUDATA!F1300)","v":""},{"$f":"IF(STUDATA!G1300=\"\",\"\",STUDATA!G1300)","v":""},{"$f":"IF(STUDATA!C1300=\"\",\"\",STUDATA!C1300)","v":""}]
[{"$f":"IF(F691=\"\",\"\",F691&\"_\"&COUNTIF($F$9:F691,F691))","v":""},{"$f":"IF(STUDATA!B1301=\"\",\"\",STUDATA!B1301)","v":""},{"$f":"IF(STUDATA!E1301=\"\",\"\",STUDATA!E1301)","v":""},{"$f":"IF(STUDATA!F1301=\"\",\"\",STUDATA!F1301)","v":""},{"$f":"IF(STUDATA!G1301=\"\",\"\",STUDATA!G1301)","v":""},{"$f":"IF(STUDATA!C1301=\"\",\"\",STUDATA!C1301)","v":""}]
[{"$f":"IF(F692=\"\",\"\",F692&\"_\"&COUNTIF($F$9:F692,F692))","v":""},{"$f":"IF(STUDATA!B1302=\"\",\"\",STUDATA!B1302)","v":""},{"$f":"IF(STUDATA!E1302=\"\",\"\",STUDATA!E1302)","v":""},{"$f":"IF(STUDATA!F1302=\"\",\"\",STUDATA!F1302)","v":""},{"$f":"IF(STUDATA!G1302=\"\",\"\",STUDATA!G1302)","v":""},{"$f":"IF(STUDATA!C1302=\"\",\"\",STUDATA!C1302)","v":""}]
[{"$f":"IF(F693=\"\",\"\",F693&\"_\"&COUNTIF($F$9:F693,F693))","v":""},{"$f":"IF(STUDATA!B1303=\"\",\"\",STUDATA!B1303)","v":""},{"$f":"IF(STUDATA!E1303=\"\",\"\",STUDATA!E1303)","v":""},{"$f":"IF(STUDATA!F1303=\"\",\"\",STUDATA!F1303)","v":""},{"$f":"IF(STUDATA!G1303=\"\",\"\",STUDATA!G1303)","v":""},{"$f":"IF(STUDATA!C1303=\"\",\"\",STUDATA!C1303)","v":""}]
[{"$f":"IF(F694=\"\",\"\",F694&\"_\"&COUNTIF($F$9:F694,F694))","v":""},{"$f":"IF(STUDATA!B1304=\"\",\"\",STUDATA!B1304)","v":""},{"$f":"IF(STUDATA!E1304=\"\",\"\",STUDATA!E1304)","v":""},{"$f":"IF(STUDATA!F1304=\"\",\"\",STUDATA!F1304)","v":""},{"$f":"IF(STUDATA!G1304=\"\",\"\",STUDATA!G1304)","v":""},{"$f":"IF(STUDATA!C1304=\"\",\"\",STUDATA!C1304)","v":""}]
[{"$f":"IF(F695=\"\",\"\",F695&\"_\"&COUNTIF($F$9:F695,F695))","v":""},{"$f":"IF(STUDATA!B1305=\"\",\"\",STUDATA!B1305)","v":""},{"$f":"IF(STUDATA!E1305=\"\",\"\",STUDATA!E1305)","v":""},{"$f":"IF(STUDATA!F1305=\"\",\"\",STUDATA!F1305)","v":""},{"$f":"IF(STUDATA!G1305=\"\",\"\",STUDATA!G1305)","v":""},{"$f":"IF(STUDATA!C1305=\"\",\"\",STUDATA!C1305)","v":""}]
[{"$f":"IF(F696=\"\",\"\",F696&\"_\"&COUNTIF($F$9:F696,F696))","v":""},{"$f":"IF(STUDATA!B1306=\"\",\"\",STUDATA!B1306)","v":""},{"$f":"IF(STUDATA!E1306=\"\",\"\",STUDATA!E1306)","v":""},{"$f":"IF(STUDATA!F1306=\"\",\"\",STUDATA!F1306)","v":""},{"$f":"IF(STUDATA!G1306=\"\",\"\",STUDATA!G1306)","v":""},{"$f":"IF(STUDATA!C1306=\"\",\"\",STUDATA!C1306)","v":""}]
[{"$f":"IF(F697=\"\",\"\",F697&\"_\"&COUNTIF($F$9:F697,F697))","v":""},{"$f":"IF(STUDATA!B1307=\"\",\"\",STUDATA!B1307)","v":""},{"$f":"IF(STUDATA!E1307=\"\",\"\",STUDATA!E1307)","v":""},{"$f":"IF(STUDATA!F1307=\"\",\"\",STUDATA!F1307)","v":""},{"$f":"IF(STUDATA!G1307=\"\",\"\",STUDATA!G1307)","v":""},{"$f":"IF(STUDATA!C1307=\"\",\"\",STUDATA!C1307)","v":""}]
[{"$f":"IF(F698=\"\",\"\",F698&\"_\"&COUNTIF($F$9:F698,F698))","v":""},{"$f":"IF(STUDATA!B1308=\"\",\"\",STUDATA!B1308)","v":""},{"$f":"IF(STUDATA!E1308=\"\",\"\",STUDATA!E1308)","v":""},{"$f":"IF(STUDATA!F1308=\"\",\"\",STUDATA!F1308)","v":""},{"$f":"IF(STUDATA!G1308=\"\",\"\",STUDATA!G1308)","v":""},{"$f":"IF(STUDATA!C1308=\"\",\"\",STUDATA!C1308)","v":""}]
[{"$f":"IF(F699=\"\",\"\",F699&\"_\"&COUNTIF($F$9:F699,F699))","v":""},{"$f":"IF(STUDATA!B1309=\"\",\"\",STUDATA!B1309)","v":""},{"$f":"IF(STUDATA!E1309=\"\",\"\",STUDATA!E1309)","v":""},{"$f":"IF(STUDATA!F1309=\"\",\"\",STUDATA!F1309)","v":""},{"$f":"IF(STUDATA!G1309=\"\",\"\",STUDATA!G1309)","v":""},{"$f":"IF(STUDATA!C1309=\"\",\"\",STUDATA!C1309)","v":""}]
[{"$f":"IF(F700=\"\",\"\",F700&\"_\"&COUNTIF($F$9:F700,F700))","v":""},{"$f":"IF(STUDATA!B1310=\"\",\"\",STUDATA!B1310)","v":""},{"$f":"IF(STUDATA!E1310=\"\",\"\",STUDATA!E1310)","v":""},{"$f":"IF(STUDATA!F1310=\"\",\"\",STUDATA!F1310)","v":""},{"$f":"IF(STUDATA!G1310=\"\",\"\",STUDATA!G1310)","v":""},{"$f":"IF(STUDATA!C1310=\"\",\"\",STUDATA!C1310)","v":""}]
[{"$f":"IF(F701=\"\",\"\",F701&\"_\"&COUNTIF($F$9:F701,F701))","v":""},{"$f":"IF(STUDATA!B1311=\"\",\"\",STUDATA!B1311)","v":""},{"$f":"IF(STUDATA!E1311=\"\",\"\",STUDATA!E1311)","v":""},{"$f":"IF(STUDATA!F1311=\"\",\"\",STUDATA!F1311)","v":""},{"$f":"IF(STUDATA!G1311=\"\",\"\",STUDATA!G1311)","v":""},{"$f":"IF(STUDATA!C1311=\"\",\"\",STUDATA!C1311)","v":""}]
[{"$f":"IF(F702=\"\",\"\",F702&\"_\"&COUNTIF($F$9:F702,F702))","v":""},{"$f":"IF(STUDATA!B1312=\"\",\"\",STUDATA!B1312)","v":""},{"$f":"IF(STUDATA!E1312=\"\",\"\",STUDATA!E1312)","v":""},{"$f":"IF(STUDATA!F1312=\"\",\"\",STUDATA!F1312)","v":""},{"$f":"IF(STUDATA!G1312=\"\",\"\",STUDATA!G1312)","v":""},{"$f":"IF(STUDATA!C1312=\"\",\"\",STUDATA!C1312)","v":""}]
[{"$f":"IF(F703=\"\",\"\",F703&\"_\"&COUNTIF($F$9:F703,F703))","v":""},{"$f":"IF(STUDATA!B1313=\"\",\"\",STUDATA!B1313)","v":""},{"$f":"IF(STUDATA!E1313=\"\",\"\",STUDATA!E1313)","v":""},{"$f":"IF(STUDATA!F1313=\"\",\"\",STUDATA!F1313)","v":""},{"$f":"IF(STUDATA!G1313=\"\",\"\",STUDATA!G1313)","v":""},{"$f":"IF(STUDATA!C1313=\"\",\"\",STUDATA!C1313)","v":""}]
[{"$f":"IF(F704=\"\",\"\",F704&\"_\"&COUNTIF($F$9:F704,F704))","v":""},{"$f":"IF(STUDATA!B1314=\"\",\"\",STUDATA!B1314)","v":""},{"$f":"IF(STUDATA!E1314=\"\",\"\",STUDATA!E1314)","v":""},{"$f":"IF(STUDATA!F1314=\"\",\"\",STUDATA!F1314)","v":""},{"$f":"IF(STUDATA!G1314=\"\",\"\",STUDATA!G1314)","v":""},{"$f":"IF(STUDATA!C1314=\"\",\"\",STUDATA!C1314)","v":""}]
[{"$f":"IF(F705=\"\",\"\",F705&\"_\"&COUNTIF($F$9:F705,F705))","v":""},{"$f":"IF(STUDATA!B1315=\"\",\"\",STUDATA!B1315)","v":""},{"$f":"IF(STUDATA!E1315=\"\",\"\",STUDATA!E1315)","v":""},{"$f":"IF(STUDATA!F1315=\"\",\"\",STUDATA!F1315)","v":""},{"$f":"IF(STUDATA!G1315=\"\",\"\",STUDATA!G1315)","v":""},{"$f":"IF(STUDATA!C1315=\"\",\"\",STUDATA!C1315)","v":""}]
[{"$f":"IF(F706=\"\",\"\",F706&\"_\"&COUNTIF($F$9:F706,F706))","v":""},{"$f":"IF(STUDATA!B1316=\"\",\"\",STUDATA!B1316)","v":""},{"$f":"IF(STUDATA!E1316=\"\",\"\",STUDATA!E1316)","v":""},{"$f":"IF(STUDATA!F1316=\"\",\"\",STUDATA!F1316)","v":""},{"$f":"IF(STUDATA!G1316=\"\",\"\",STUDATA!G1316)","v":""},{"$f":"IF(STUDATA!C1316=\"\",\"\",STUDATA!C1316)","v":""}]
[{"$f":"IF(F707=\"\",\"\",F707&\"_\"&COUNTIF($F$9:F707,F707))","v":""},{"$f":"IF(STUDATA!B1317=\"\",\"\",STUDATA!B1317)","v":""},{"$f":"IF(STUDATA!E1317=\"\",\"\",STUDATA!E1317)","v":""},{"$f":"IF(STUDATA!F1317=\"\",\"\",STUDATA!F1317)","v":""},{"$f":"IF(STUDATA!G1317=\"\",\"\",STUDATA!G1317)","v":""},{"$f":"IF(STUDATA!C1317=\"\",\"\",STUDATA!C1317)","v":""}]
[{"$f":"IF(F708=\"\",\"\",F708&\"_\"&COUNTIF($F$9:F708,F708))","v":""},{"$f":"IF(STUDATA!B1318=\"\",\"\",STUDATA!B1318)","v":""},{"$f":"IF(STUDATA!E1318=\"\",\"\",STUDATA!E1318)","v":""},{"$f":"IF(STUDATA!F1318=\"\",\"\",STUDATA!F1318)","v":""},{"$f":"IF(STUDATA!G1318=\"\",\"\",STUDATA!G1318)","v":""},{"$f":"IF(STUDATA!C1318=\"\",\"\",STUDATA!C1318)","v":""}]
[{"$f":"IF(F709=\"\",\"\",F709&\"_\"&COUNTIF($F$9:F709,F709))","v":""},{"$f":"IF(STUDATA!B1319=\"\",\"\",STUDATA!B1319)","v":""},{"$f":"IF(STUDATA!E1319=\"\",\"\",STUDATA!E1319)","v":""},{"$f":"IF(STUDATA!F1319=\"\",\"\",STUDATA!F1319)","v":""},{"$f":"IF(STUDATA!G1319=\"\",\"\",STUDATA!G1319)","v":""},{"$f":"IF(STUDATA!C1319=\"\",\"\",STUDATA!C1319)","v":""}]
[{"$f":"IF(F710=\"\",\"\",F710&\"_\"&COUNTIF($F$9:F710,F710))","v":""},{"$f":"IF(STUDATA!B1320=\"\",\"\",STUDATA!B1320)","v":""},{"$f":"IF(STUDATA!E1320=\"\",\"\",STUDATA!E1320)","v":""},{"$f":"IF(STUDATA!F1320=\"\",\"\",STUDATA!F1320)","v":""},{"$f":"IF(STUDATA!G1320=\"\",\"\",STUDATA!G1320)","v":""},{"$f":"IF(STUDATA!C1320=\"\",\"\",STUDATA!C1320)","v":""}]
[{"$f":"IF(F711=\"\",\"\",F711&\"_\"&COUNTIF($F$9:F711,F711))","v":""},{"$f":"IF(STUDATA!B1321=\"\",\"\",STUDATA!B1321)","v":""},{"$f":"IF(STUDATA!E1321=\"\",\"\",STUDATA!E1321)","v":""},{"$f":"IF(STUDATA!F1321=\"\",\"\",STUDATA!F1321)","v":""},{"$f":"IF(STUDATA!G1321=\"\",\"\",STUDATA!G1321)","v":""},{"$f":"IF(STUDATA!C1321=\"\",\"\",STUDATA!C1321)","v":""}]
[{"$f":"IF(F712=\"\",\"\",F712&\"_\"&COUNTIF($F$9:F712,F712))","v":""},{"$f":"IF(STUDATA!B1322=\"\",\"\",STUDATA!B1322)","v":""},{"$f":"IF(STUDATA!E1322=\"\",\"\",STUDATA!E1322)","v":""},{"$f":"IF(STUDATA!F1322=\"\",\"\",STUDATA!F1322)","v":""},{"$f":"IF(STUDATA!G1322=\"\",\"\",STUDATA!G1322)","v":""},{"$f":"IF(STUDATA!C1322=\"\",\"\",STUDATA!C1322)","v":""}]
[{"$f":"IF(F713=\"\",\"\",F713&\"_\"&COUNTIF($F$9:F713,F713))","v":""},{"$f":"IF(STUDATA!B1323=\"\",\"\",STUDATA!B1323)","v":""},{"$f":"IF(STUDATA!E1323=\"\",\"\",STUDATA!E1323)","v":""},{"$f":"IF(STUDATA!F1323=\"\",\"\",STUDATA!F1323)","v":""},{"$f":"IF(STUDATA!G1323=\"\",\"\",STUDATA!G1323)","v":""},{"$f":"IF(STUDATA!C1323=\"\",\"\",STUDATA!C1323)","v":""}]
[{"$f":"IF(F714=\"\",\"\",F714&\"_\"&COUNTIF($F$9:F714,F714))","v":""},{"$f":"IF(STUDATA!B1324=\"\",\"\",STUDATA!B1324)","v":""},{"$f":"IF(STUDATA!E1324=\"\",\"\",STUDATA!E1324)","v":""},{"$f":"IF(STUDATA!F1324=\"\",\"\",STUDATA!F1324)","v":""},{"$f":"IF(STUDATA!G1324=\"\",\"\",STUDATA!G1324)","v":""},{"$f":"IF(STUDATA!C1324=\"\",\"\",STUDATA!C1324)","v":""}]
[{"$f":"IF(F715=\"\",\"\",F715&\"_\"&COUNTIF($F$9:F715,F715))","v":""},{"$f":"IF(STUDATA!B1325=\"\",\"\",STUDATA!B1325)","v":""},{"$f":"IF(STUDATA!E1325=\"\",\"\",STUDATA!E1325)","v":""},{"$f":"IF(STUDATA!F1325=\"\",\"\",STUDATA!F1325)","v":""},{"$f":"IF(STUDATA!G1325=\"\",\"\",STUDATA!G1325)","v":""},{"$f":"IF(STUDATA!C1325=\"\",\"\",STUDATA!C1325)","v":""}]
[{"$f":"IF(F716=\"\",\"\",F716&\"_\"&COUNTIF($F$9:F716,F716))","v":""},{"$f":"IF(STUDATA!B1326=\"\",\"\",STUDATA!B1326)","v":""},{"$f":"IF(STUDATA!E1326=\"\",\"\",STUDATA!E1326)","v":""},{"$f":"IF(STUDATA!F1326=\"\",\"\",STUDATA!F1326)","v":""},{"$f":"IF(STUDATA!G1326=\"\",\"\",STUDATA!G1326)","v":""},{"$f":"IF(STUDATA!C1326=\"\",\"\",STUDATA!C1326)","v":""}]
[{"$f":"IF(F717=\"\",\"\",F717&\"_\"&COUNTIF($F$9:F717,F717))","v":""},{"$f":"IF(STUDATA!B1327=\"\",\"\",STUDATA!B1327)","v":""},{"$f":"IF(STUDATA!E1327=\"\",\"\",STUDATA!E1327)","v":""},{"$f":"IF(STUDATA!F1327=\"\",\"\",STUDATA!F1327)","v":""},{"$f":"IF(STUDATA!G1327=\"\",\"\",STUDATA!G1327)","v":""},{"$f":"IF(STUDATA!C1327=\"\",\"\",STUDATA!C1327)","v":""}]
[{"$f":"IF(F718=\"\",\"\",F718&\"_\"&COUNTIF($F$9:F718,F718))","v":""},{"$f":"IF(STUDATA!B1328=\"\",\"\",STUDATA!B1328)","v":""},{"$f":"IF(STUDATA!E1328=\"\",\"\",STUDATA!E1328)","v":""},{"$f":"IF(STUDATA!F1328=\"\",\"\",STUDATA!F1328)","v":""},{"$f":"IF(STUDATA!G1328=\"\",\"\",STUDATA!G1328)","v":""},{"$f":"IF(STUDATA!C1328=\"\",\"\",STUDATA!C1328)","v":""}]
[{"$f":"IF(F719=\"\",\"\",F719&\"_\"&COUNTIF($F$9:F719,F719))","v":""},{"$f":"IF(STUDATA!B1329=\"\",\"\",STUDATA!B1329)","v":""},{"$f":"IF(STUDATA!E1329=\"\",\"\",STUDATA!E1329)","v":""},{"$f":"IF(STUDATA!F1329=\"\",\"\",STUDATA!F1329)","v":""},{"$f":"IF(STUDATA!G1329=\"\",\"\",STUDATA!G1329)","v":""},{"$f":"IF(STUDATA!C1329=\"\",\"\",STUDATA!C1329)","v":""}]
[{"$f":"IF(F720=\"\",\"\",F720&\"_\"&COUNTIF($F$9:F720,F720))","v":""},{"$f":"IF(STUDATA!B1330=\"\",\"\",STUDATA!B1330)","v":""},{"$f":"IF(STUDATA!E1330=\"\",\"\",STUDATA!E1330)","v":""},{"$f":"IF(STUDATA!F1330=\"\",\"\",STUDATA!F1330)","v":""},{"$f":"IF(STUDATA!G1330=\"\",\"\",STUDATA!G1330)","v":""},{"$f":"IF(STUDATA!C1330=\"\",\"\",STUDATA!C1330)","v":""}]
[{"$f":"IF(F721=\"\",\"\",F721&\"_\"&COUNTIF($F$9:F721,F721))","v":""},{"$f":"IF(STUDATA!B1331=\"\",\"\",STUDATA!B1331)","v":""},{"$f":"IF(STUDATA!E1331=\"\",\"\",STUDATA!E1331)","v":""},{"$f":"IF(STUDATA!F1331=\"\",\"\",STUDATA!F1331)","v":""},{"$f":"IF(STUDATA!G1331=\"\",\"\",STUDATA!G1331)","v":""},{"$f":"IF(STUDATA!C1331=\"\",\"\",STUDATA!C1331)","v":""}]
[{"$f":"IF(F722=\"\",\"\",F722&\"_\"&COUNTIF($F$9:F722,F722))","v":""},{"$f":"IF(STUDATA!B1332=\"\",\"\",STUDATA!B1332)","v":""},{"$f":"IF(STUDATA!E1332=\"\",\"\",STUDATA!E1332)","v":""},{"$f":"IF(STUDATA!F1332=\"\",\"\",STUDATA!F1332)","v":""},{"$f":"IF(STUDATA!G1332=\"\",\"\",STUDATA!G1332)","v":""},{"$f":"IF(STUDATA!C1332=\"\",\"\",STUDATA!C1332)","v":""}]
[{"$f":"IF(F723=\"\",\"\",F723&\"_\"&COUNTIF($F$9:F723,F723))","v":""},{"$f":"IF(STUDATA!B1333=\"\",\"\",STUDATA!B1333)","v":""},{"$f":"IF(STUDATA!E1333=\"\",\"\",STUDATA!E1333)","v":""},{"$f":"IF(STUDATA!F1333=\"\",\"\",STUDATA!F1333)","v":""},{"$f":"IF(STUDATA!G1333=\"\",\"\",STUDATA!G1333)","v":""},{"$f":"IF(STUDATA!C1333=\"\",\"\",STUDATA!C1333)","v":""}]
[{"$f":"IF(F724=\"\",\"\",F724&\"_\"&COUNTIF($F$9:F724,F724))","v":""},{"$f":"IF(STUDATA!B1334=\"\",\"\",STUDATA!B1334)","v":""},{"$f":"IF(STUDATA!E1334=\"\",\"\",STUDATA!E1334)","v":""},{"$f":"IF(STUDATA!F1334=\"\",\"\",STUDATA!F1334)","v":""},{"$f":"IF(STUDATA!G1334=\"\",\"\",STUDATA!G1334)","v":""},{"$f":"IF(STUDATA!C1334=\"\",\"\",STUDATA!C1334)","v":""}]
[{"$f":"IF(F725=\"\",\"\",F725&\"_\"&COUNTIF($F$9:F725,F725))","v":""},{"$f":"IF(STUDATA!B1335=\"\",\"\",STUDATA!B1335)","v":""},{"$f":"IF(STUDATA!E1335=\"\",\"\",STUDATA!E1335)","v":""},{"$f":"IF(STUDATA!F1335=\"\",\"\",STUDATA!F1335)","v":""},{"$f":"IF(STUDATA!G1335=\"\",\"\",STUDATA!G1335)","v":""},{"$f":"IF(STUDATA!C1335=\"\",\"\",STUDATA!C1335)","v":""}]
[{"$f":"IF(F726=\"\",\"\",F726&\"_\"&COUNTIF($F$9:F726,F726))","v":""},{"$f":"IF(STUDATA!B1336=\"\",\"\",STUDATA!B1336)","v":""},{"$f":"IF(STUDATA!E1336=\"\",\"\",STUDATA!E1336)","v":""},{"$f":"IF(STUDATA!F1336=\"\",\"\",STUDATA!F1336)","v":""},{"$f":"IF(STUDATA!G1336=\"\",\"\",STUDATA!G1336)","v":""},{"$f":"IF(STUDATA!C1336=\"\",\"\",STUDATA!C1336)","v":""}]
[{"$f":"IF(F727=\"\",\"\",F727&\"_\"&COUNTIF($F$9:F727,F727))","v":""},{"$f":"IF(STUDATA!B1337=\"\",\"\",STUDATA!B1337)","v":""},{"$f":"IF(STUDATA!E1337=\"\",\"\",STUDATA!E1337)","v":""},{"$f":"IF(STUDATA!F1337=\"\",\"\",STUDATA!F1337)","v":""},{"$f":"IF(STUDATA!G1337=\"\",\"\",STUDATA!G1337)","v":""},{"$f":"IF(STUDATA!C1337=\"\",\"\",STUDATA!C1337)","v":""}]
[{"$f":"IF(F728=\"\",\"\",F728&\"_\"&COUNTIF($F$9:F728,F728))","v":""},{"$f":"IF(STUDATA!B1338=\"\",\"\",STUDATA!B1338)","v":""},{"$f":"IF(STUDATA!E1338=\"\",\"\",STUDATA!E1338)","v":""},{"$f":"IF(STUDATA!F1338=\"\",\"\",STUDATA!F1338)","v":""},{"$f":"IF(STUDATA!G1338=\"\",\"\",STUDATA!G1338)","v":""},{"$f":"IF(STUDATA!C1338=\"\",\"\",STUDATA!C1338)","v":""}]
[{"$f":"IF(F729=\"\",\"\",F729&\"_\"&COUNTIF($F$9:F729,F729))","v":""},{"$f":"IF(STUDATA!B1339=\"\",\"\",STUDATA!B1339)","v":""},{"$f":"IF(STUDATA!E1339=\"\",\"\",STUDATA!E1339)","v":""},{"$f":"IF(STUDATA!F1339=\"\",\"\",STUDATA!F1339)","v":""},{"$f":"IF(STUDATA!G1339=\"\",\"\",STUDATA!G1339)","v":""},{"$f":"IF(STUDATA!C1339=\"\",\"\",STUDATA!C1339)","v":""}]
[{"$f":"IF(F730=\"\",\"\",F730&\"_\"&COUNTIF($F$9:F730,F730))","v":""},{"$f":"IF(STUDATA!B1340=\"\",\"\",STUDATA!B1340)","v":""},{"$f":"IF(STUDATA!E1340=\"\",\"\",STUDATA!E1340)","v":""},{"$f":"IF(STUDATA!F1340=\"\",\"\",STUDATA!F1340)","v":""},{"$f":"IF(STUDATA!G1340=\"\",\"\",STUDATA!G1340)","v":""},{"$f":"IF(STUDATA!C1340=\"\",\"\",STUDATA!C1340)","v":""}]
[{"$f":"IF(F731=\"\",\"\",F731&\"_\"&COUNTIF($F$9:F731,F731))","v":""},{"$f":"IF(STUDATA!B1341=\"\",\"\",STUDATA!B1341)","v":""},{"$f":"IF(STUDATA!E1341=\"\",\"\",STUDATA!E1341)","v":""},{"$f":"IF(STUDATA!F1341=\"\",\"\",STUDATA!F1341)","v":""},{"$f":"IF(STUDATA!G1341=\"\",\"\",STUDATA!G1341)","v":""},{"$f":"IF(STUDATA!C1341=\"\",\"\",STUDATA!C1341)","v":""}]
[{"$f":"IF(F732=\"\",\"\",F732&\"_\"&COUNTIF($F$9:F732,F732))","v":""},{"$f":"IF(STUDATA!B1342=\"\",\"\",STUDATA!B1342)","v":""},{"$f":"IF(STUDATA!E1342=\"\",\"\",STUDATA!E1342)","v":""},{"$f":"IF(STUDATA!F1342=\"\",\"\",STUDATA!F1342)","v":""},{"$f":"IF(STUDATA!G1342=\"\",\"\",STUDATA!G1342)","v":""},{"$f":"IF(STUDATA!C1342=\"\",\"\",STUDATA!C1342)","v":""}]
[{"$f":"IF(F733=\"\",\"\",F733&\"_\"&COUNTIF($F$9:F733,F733))","v":""},{"$f":"IF(STUDATA!B1343=\"\",\"\",STUDATA!B1343)","v":""},{"$f":"IF(STUDATA!E1343=\"\",\"\",STUDATA!E1343)","v":""},{"$f":"IF(STUDATA!F1343=\"\",\"\",STUDATA!F1343)","v":""},{"$f":"IF(STUDATA!G1343=\"\",\"\",STUDATA!G1343)","v":""},{"$f":"IF(STUDATA!C1343=\"\",\"\",STUDATA!C1343)","v":""}]
[{"$f":"IF(F734=\"\",\"\",F734&\"_\"&COUNTIF($F$9:F734,F734))","v":""},{"$f":"IF(STUDATA!B1344=\"\",\"\",STUDATA!B1344)","v":""},{"$f":"IF(STUDATA!E1344=\"\",\"\",STUDATA!E1344)","v":""},{"$f":"IF(STUDATA!F1344=\"\",\"\",STUDATA!F1344)","v":""},{"$f":"IF(STUDATA!G1344=\"\",\"\",STUDATA!G1344)","v":""},{"$f":"IF(STUDATA!C1344=\"\",\"\",STUDATA!C1344)","v":""}]
[{"$f":"IF(F735=\"\",\"\",F735&\"_\"&COUNTIF($F$9:F735,F735))","v":""},{"$f":"IF(STUDATA!B1345=\"\",\"\",STUDATA!B1345)","v":""},{"$f":"IF(STUDATA!E1345=\"\",\"\",STUDATA!E1345)","v":""},{"$f":"IF(STUDATA!F1345=\"\",\"\",STUDATA!F1345)","v":""},{"$f":"IF(STUDATA!G1345=\"\",\"\",STUDATA!G1345)","v":""},{"$f":"IF(STUDATA!C1345=\"\",\"\",STUDATA!C1345)","v":""}]
[{"$f":"IF(F736=\"\",\"\",F736&\"_\"&COUNTIF($F$9:F736,F736))","v":""},{"$f":"IF(STUDATA!B1346=\"\",\"\",STUDATA!B1346)","v":""},{"$f":"IF(STUDATA!E1346=\"\",\"\",STUDATA!E1346)","v":""},{"$f":"IF(STUDATA!F1346=\"\",\"\",STUDATA!F1346)","v":""},{"$f":"IF(STUDATA!G1346=\"\",\"\",STUDATA!G1346)","v":""},{"$f":"IF(STUDATA!C1346=\"\",\"\",STUDATA!C1346)","v":""}]
[{"$f":"IF(F737=\"\",\"\",F737&\"_\"&COUNTIF($F$9:F737,F737))","v":""},{"$f":"IF(STUDATA!B1347=\"\",\"\",STUDATA!B1347)","v":""},{"$f":"IF(STUDATA!E1347=\"\",\"\",STUDATA!E1347)","v":""},{"$f":"IF(STUDATA!F1347=\"\",\"\",STUDATA!F1347)","v":""},{"$f":"IF(STUDATA!G1347=\"\",\"\",STUDATA!G1347)","v":""},{"$f":"IF(STUDATA!C1347=\"\",\"\",STUDATA!C1347)","v":""}]
[{"$f":"IF(F738=\"\",\"\",F738&\"_\"&COUNTIF($F$9:F738,F738))","v":""},{"$f":"IF(STUDATA!B1348=\"\",\"\",STUDATA!B1348)","v":""},{"$f":"IF(STUDATA!E1348=\"\",\"\",STUDATA!E1348)","v":""},{"$f":"IF(STUDATA!F1348=\"\",\"\",STUDATA!F1348)","v":""},{"$f":"IF(STUDATA!G1348=\"\",\"\",STUDATA!G1348)","v":""},{"$f":"IF(STUDATA!C1348=\"\",\"\",STUDATA!C1348)","v":""}]
[{"$f":"IF(F739=\"\",\"\",F739&\"_\"&COUNTIF($F$9:F739,F739))","v":""},{"$f":"IF(STUDATA!B1349=\"\",\"\",STUDATA!B1349)","v":""},{"$f":"IF(STUDATA!E1349=\"\",\"\",STUDATA!E1349)","v":""},{"$f":"IF(STUDATA!F1349=\"\",\"\",STUDATA!F1349)","v":""},{"$f":"IF(STUDATA!G1349=\"\",\"\",STUDATA!G1349)","v":""},{"$f":"IF(STUDATA!C1349=\"\",\"\",STUDATA!C1349)","v":""}]
[{"$f":"IF(F740=\"\",\"\",F740&\"_\"&COUNTIF($F$9:F740,F740))","v":""},{"$f":"IF(STUDATA!B1350=\"\",\"\",STUDATA!B1350)","v":""},{"$f":"IF(STUDATA!E1350=\"\",\"\",STUDATA!E1350)","v":""},{"$f":"IF(STUDATA!F1350=\"\",\"\",STUDATA!F1350)","v":""},{"$f":"IF(STUDATA!G1350=\"\",\"\",STUDATA!G1350)","v":""},{"$f":"IF(STUDATA!C1350=\"\",\"\",STUDATA!C1350)","v":""}]
[{"$f":"IF(F741=\"\",\"\",F741&\"_\"&COUNTIF($F$9:F741,F741))","v":""},{"$f":"IF(STUDATA!B1351=\"\",\"\",STUDATA!B1351)","v":""},{"$f":"IF(STUDATA!E1351=\"\",\"\",STUDATA!E1351)","v":""},{"$f":"IF(STUDATA!F1351=\"\",\"\",STUDATA!F1351)","v":""},{"$f":"IF(STUDATA!G1351=\"\",\"\",STUDATA!G1351)","v":""},{"$f":"IF(STUDATA!C1351=\"\",\"\",STUDATA!C1351)","v":""}]
[{"$f":"IF(F742=\"\",\"\",F742&\"_\"&COUNTIF($F$9:F742,F742))","v":""},{"$f":"IF(STUDATA!B1352=\"\",\"\",STUDATA!B1352)","v":""},{"$f":"IF(STUDATA!E1352=\"\",\"\",STUDATA!E1352)","v":""},{"$f":"IF(STUDATA!F1352=\"\",\"\",STUDATA!F1352)","v":""},{"$f":"IF(STUDATA!G1352=\"\",\"\",STUDATA!G1352)","v":""},{"$f":"IF(STUDATA!C1352=\"\",\"\",STUDATA!C1352)","v":""}]
[{"$f":"IF(F743=\"\",\"\",F743&\"_\"&COUNTIF($F$9:F743,F743))","v":""},{"$f":"IF(STUDATA!B1353=\"\",\"\",STUDATA!B1353)","v":""},{"$f":"IF(STUDATA!E1353=\"\",\"\",STUDATA!E1353)","v":""},{"$f":"IF(STUDATA!F1353=\"\",\"\",STUDATA!F1353)","v":""},{"$f":"IF(STUDATA!G1353=\"\",\"\",STUDATA!G1353)","v":""},{"$f":"IF(STUDATA!C1353=\"\",\"\",STUDATA!C1353)","v":""}]
[{"$f":"IF(F744=\"\",\"\",F744&\"_\"&COUNTIF($F$9:F744,F744))","v":""},{"$f":"IF(STUDATA!B1354=\"\",\"\",STUDATA!B1354)","v":""},{"$f":"IF(STUDATA!E1354=\"\",\"\",STUDATA!E1354)","v":""},{"$f":"IF(STUDATA!F1354=\"\",\"\",STUDATA!F1354)","v":""},{"$f":"IF(STUDATA!G1354=\"\",\"\",STUDATA!G1354)","v":""},{"$f":"IF(STUDATA!C1354=\"\",\"\",STUDATA!C1354)","v":""}]
[{"$f":"IF(F745=\"\",\"\",F745&\"_\"&COUNTIF($F$9:F745,F745))","v":""},{"$f":"IF(STUDATA!B1355=\"\",\"\",STUDATA!B1355)","v":""},{"$f":"IF(STUDATA!E1355=\"\",\"\",STUDATA!E1355)","v":""},{"$f":"IF(STUDATA!F1355=\"\",\"\",STUDATA!F1355)","v":""},{"$f":"IF(STUDATA!G1355=\"\",\"\",STUDATA!G1355)","v":""},{"$f":"IF(STUDATA!C1355=\"\",\"\",STUDATA!C1355)","v":""}]
[{"$f":"IF(F746=\"\",\"\",F746&\"_\"&COUNTIF($F$9:F746,F746))","v":""},{"$f":"IF(STUDATA!B1356=\"\",\"\",STUDATA!B1356)","v":""},{"$f":"IF(STUDATA!E1356=\"\",\"\",STUDATA!E1356)","v":""},{"$f":"IF(STUDATA!F1356=\"\",\"\",STUDATA!F1356)","v":""},{"$f":"IF(STUDATA!G1356=\"\",\"\",STUDATA!G1356)","v":""},{"$f":"IF(STUDATA!C1356=\"\",\"\",STUDATA!C1356)","v":""}]
[{"$f":"IF(F747=\"\",\"\",F747&\"_\"&COUNTIF($F$9:F747,F747))","v":""},{"$f":"IF(STUDATA!B1357=\"\",\"\",STUDATA!B1357)","v":""},{"$f":"IF(STUDATA!E1357=\"\",\"\",STUDATA!E1357)","v":""},{"$f":"IF(STUDATA!F1357=\"\",\"\",STUDATA!F1357)","v":""},{"$f":"IF(STUDATA!G1357=\"\",\"\",STUDATA!G1357)","v":""},{"$f":"IF(STUDATA!C1357=\"\",\"\",STUDATA!C1357)","v":""}]
[{"$f":"IF(F748=\"\",\"\",F748&\"_\"&COUNTIF($F$9:F748,F748))","v":""},{"$f":"IF(STUDATA!B1358=\"\",\"\",STUDATA!B1358)","v":""},{"$f":"IF(STUDATA!E1358=\"\",\"\",STUDATA!E1358)","v":""},{"$f":"IF(STUDATA!F1358=\"\",\"\",STUDATA!F1358)","v":""},{"$f":"IF(STUDATA!G1358=\"\",\"\",STUDATA!G1358)","v":""},{"$f":"IF(STUDATA!C1358=\"\",\"\",STUDATA!C1358)","v":""}]
[{"$f":"IF(F749=\"\",\"\",F749&\"_\"&COUNTIF($F$9:F749,F749))","v":""},{"$f":"IF(STUDATA!B1359=\"\",\"\",STUDATA!B1359)","v":""},{"$f":"IF(STUDATA!E1359=\"\",\"\",STUDATA!E1359)","v":""},{"$f":"IF(STUDATA!F1359=\"\",\"\",STUDATA!F1359)","v":""},{"$f":"IF(STUDATA!G1359=\"\",\"\",STUDATA!G1359)","v":""},{"$f":"IF(STUDATA!C1359=\"\",\"\",STUDATA!C1359)","v":""}]
[{"$f":"IF(F750=\"\",\"\",F750&\"_\"&COUNTIF($F$9:F750,F750))","v":""},{"$f":"IF(STUDATA!B1360=\"\",\"\",STUDATA!B1360)","v":""},{"$f":"IF(STUDATA!E1360=\"\",\"\",STUDATA!E1360)","v":""},{"$f":"IF(STUDATA!F1360=\"\",\"\",STUDATA!F1360)","v":""},{"$f":"IF(STUDATA!G1360=\"\",\"\",STUDATA!G1360)","v":""},{"$f":"IF(STUDATA!C1360=\"\",\"\",STUDATA!C1360)","v":""}]
[{"$f":"IF(F751=\"\",\"\",F751&\"_\"&COUNTIF($F$9:F751,F751))","v":""},{"$f":"IF(STUDATA!B1361=\"\",\"\",STUDATA!B1361)","v":""},{"$f":"IF(STUDATA!E1361=\"\",\"\",STUDATA!E1361)","v":""},{"$f":"IF(STUDATA!F1361=\"\",\"\",STUDATA!F1361)","v":""},{"$f":"IF(STUDATA!G1361=\"\",\"\",STUDATA!G1361)","v":""},{"$f":"IF(STUDATA!C1361=\"\",\"\",STUDATA!C1361)","v":""}]
[{"$f":"IF(F752=\"\",\"\",F752&\"_\"&COUNTIF($F$9:F752,F752))","v":""},{"$f":"IF(STUDATA!B1362=\"\",\"\",STUDATA!B1362)","v":""},{"$f":"IF(STUDATA!E1362=\"\",\"\",STUDATA!E1362)","v":""},{"$f":"IF(STUDATA!F1362=\"\",\"\",STUDATA!F1362)","v":""},{"$f":"IF(STUDATA!G1362=\"\",\"\",STUDATA!G1362)","v":""},{"$f":"IF(STUDATA!C1362=\"\",\"\",STUDATA!C1362)","v":""}]
[{"$f":"IF(F753=\"\",\"\",F753&\"_\"&COUNTIF($F$9:F753,F753))","v":""},{"$f":"IF(STUDATA!B1363=\"\",\"\",STUDATA!B1363)","v":""},{"$f":"IF(STUDATA!E1363=\"\",\"\",STUDATA!E1363)","v":""},{"$f":"IF(STUDATA!F1363=\"\",\"\",STUDATA!F1363)","v":""},{"$f":"IF(STUDATA!G1363=\"\",\"\",STUDATA!G1363)","v":""},{"$f":"IF(STUDATA!C1363=\"\",\"\",STUDATA!C1363)","v":""}]
[{"$f":"IF(F754=\"\",\"\",F754&\"_\"&COUNTIF($F$9:F754,F754))","v":""},{"$f":"IF(STUDATA!B1364=\"\",\"\",STUDATA!B1364)","v":""},{"$f":"IF(STUDATA!E1364=\"\",\"\",STUDATA!E1364)","v":""},{"$f":"IF(STUDATA!F1364=\"\",\"\",STUDATA!F1364)","v":""},{"$f":"IF(STUDATA!G1364=\"\",\"\",STUDATA!G1364)","v":""},{"$f":"IF(STUDATA!C1364=\"\",\"\",STUDATA!C1364)","v":""}]
[{"$f":"IF(F755=\"\",\"\",F755&\"_\"&COUNTIF($F$9:F755,F755))","v":""},{"$f":"IF(STUDATA!B1365=\"\",\"\",STUDATA!B1365)","v":""},{"$f":"IF(STUDATA!E1365=\"\",\"\",STUDATA!E1365)","v":""},{"$f":"IF(STUDATA!F1365=\"\",\"\",STUDATA!F1365)","v":""},{"$f":"IF(STUDATA!G1365=\"\",\"\",STUDATA!G1365)","v":""},{"$f":"IF(STUDATA!C1365=\"\",\"\",STUDATA!C1365)","v":""}]
[{"$f":"IF(F756=\"\",\"\",F756&\"_\"&COUNTIF($F$9:F756,F756))","v":""},{"$f":"IF(STUDATA!B1366=\"\",\"\",STUDATA!B1366)","v":""},{"$f":"IF(STUDATA!E1366=\"\",\"\",STUDATA!E1366)","v":""},{"$f":"IF(STUDATA!F1366=\"\",\"\",STUDATA!F1366)","v":""},{"$f":"IF(STUDATA!G1366=\"\",\"\",STUDATA!G1366)","v":""},{"$f":"IF(STUDATA!C1366=\"\",\"\",STUDATA!C1366)","v":""}]
[{"$f":"IF(F757=\"\",\"\",F757&\"_\"&COUNTIF($F$9:F757,F757))","v":""},{"$f":"IF(STUDATA!B1367=\"\",\"\",STUDATA!B1367)","v":""},{"$f":"IF(STUDATA!E1367=\"\",\"\",STUDATA!E1367)","v":""},{"$f":"IF(STUDATA!F1367=\"\",\"\",STUDATA!F1367)","v":""},{"$f":"IF(STUDATA!G1367=\"\",\"\",STUDATA!G1367)","v":""},{"$f":"IF(STUDATA!C1367=\"\",\"\",STUDATA!C1367)","v":""}]
[{"$f":"IF(F758=\"\",\"\",F758&\"_\"&COUNTIF($F$9:F758,F758))","v":""},{"$f":"IF(STUDATA!B1368=\"\",\"\",STUDATA!B1368)","v":""},{"$f":"IF(STUDATA!E1368=\"\",\"\",STUDATA!E1368)","v":""},{"$f":"IF(STUDATA!F1368=\"\",\"\",STUDATA!F1368)","v":""},{"$f":"IF(STUDATA!G1368=\"\",\"\",STUDATA!G1368)","v":""},{"$f":"IF(STUDATA!C1368=\"\",\"\",STUDATA!C1368)","v":""}]
[{"$f":"IF(F759=\"\",\"\",F759&\"_\"&COUNTIF($F$9:F759,F759))","v":""},{"$f":"IF(STUDATA!B1369=\"\",\"\",STUDATA!B1369)","v":""},{"$f":"IF(STUDATA!E1369=\"\",\"\",STUDATA!E1369)","v":""},{"$f":"IF(STUDATA!F1369=\"\",\"\",STUDATA!F1369)","v":""},{"$f":"IF(STUDATA!G1369=\"\",\"\",STUDATA!G1369)","v":""},{"$f":"IF(STUDATA!C1369=\"\",\"\",STUDATA!C1369)","v":""}]
[{"$f":"IF(F760=\"\",\"\",F760&\"_\"&COUNTIF($F$9:F760,F760))","v":""},{"$f":"IF(STUDATA!B1370=\"\",\"\",STUDATA!B1370)","v":""},{"$f":"IF(STUDATA!E1370=\"\",\"\",STUDATA!E1370)","v":""},{"$f":"IF(STUDATA!F1370=\"\",\"\",STUDATA!F1370)","v":""},{"$f":"IF(STUDATA!G1370=\"\",\"\",STUDATA!G1370)","v":""},{"$f":"IF(STUDATA!C1370=\"\",\"\",STUDATA!C1370)","v":""}]
[{"$f":"IF(F761=\"\",\"\",F761&\"_\"&COUNTIF($F$9:F761,F761))","v":""},{"$f":"IF(STUDATA!B1371=\"\",\"\",STUDATA!B1371)","v":""},{"$f":"IF(STUDATA!E1371=\"\",\"\",STUDATA!E1371)","v":""},{"$f":"IF(STUDATA!F1371=\"\",\"\",STUDATA!F1371)","v":""},{"$f":"IF(STUDATA!G1371=\"\",\"\",STUDATA!G1371)","v":""},{"$f":"IF(STUDATA!C1371=\"\",\"\",STUDATA!C1371)","v":""}]
[{"$f":"IF(F762=\"\",\"\",F762&\"_\"&COUNTIF($F$9:F762,F762))","v":""},{"$f":"IF(STUDATA!B1372=\"\",\"\",STUDATA!B1372)","v":""},{"$f":"IF(STUDATA!E1372=\"\",\"\",STUDATA!E1372)","v":""},{"$f":"IF(STUDATA!F1372=\"\",\"\",STUDATA!F1372)","v":""},{"$f":"IF(STUDATA!G1372=\"\",\"\",STUDATA!G1372)","v":""},{"$f":"IF(STUDATA!C1372=\"\",\"\",STUDATA!C1372)","v":""}]
[{"$f":"IF(F763=\"\",\"\",F763&\"_\"&COUNTIF($F$9:F763,F763))","v":""},{"$f":"IF(STUDATA!B1373=\"\",\"\",STUDATA!B1373)","v":""},{"$f":"IF(STUDATA!E1373=\"\",\"\",STUDATA!E1373)","v":""},{"$f":"IF(STUDATA!F1373=\"\",\"\",STUDATA!F1373)","v":""},{"$f":"IF(STUDATA!G1373=\"\",\"\",STUDATA!G1373)","v":""},{"$f":"IF(STUDATA!C1373=\"\",\"\",STUDATA!C1373)","v":""}]
[{"$f":"IF(F764=\"\",\"\",F764&\"_\"&COUNTIF($F$9:F764,F764))","v":""},{"$f":"IF(STUDATA!B1374=\"\",\"\",STUDATA!B1374)","v":""},{"$f":"IF(STUDATA!E1374=\"\",\"\",STUDATA!E1374)","v":""},{"$f":"IF(STUDATA!F1374=\"\",\"\",STUDATA!F1374)","v":""},{"$f":"IF(STUDATA!G1374=\"\",\"\",STUDATA!G1374)","v":""},{"$f":"IF(STUDATA!C1374=\"\",\"\",STUDATA!C1374)","v":""}]
[{"$f":"IF(F765=\"\",\"\",F765&\"_\"&COUNTIF($F$9:F765,F765))","v":""},{"$f":"IF(STUDATA!B1375=\"\",\"\",STUDATA!B1375)","v":""},{"$f":"IF(STUDATA!E1375=\"\",\"\",STUDATA!E1375)","v":""},{"$f":"IF(STUDATA!F1375=\"\",\"\",STUDATA!F1375)","v":""},{"$f":"IF(STUDATA!G1375=\"\",\"\",STUDATA!G1375)","v":""},{"$f":"IF(STUDATA!C1375=\"\",\"\",STUDATA!C1375)","v":""}]
[{"$f":"IF(F766=\"\",\"\",F766&\"_\"&COUNTIF($F$9:F766,F766))","v":""},{"$f":"IF(STUDATA!B1376=\"\",\"\",STUDATA!B1376)","v":""},{"$f":"IF(STUDATA!E1376=\"\",\"\",STUDATA!E1376)","v":""},{"$f":"IF(STUDATA!F1376=\"\",\"\",STUDATA!F1376)","v":""},{"$f":"IF(STUDATA!G1376=\"\",\"\",STUDATA!G1376)","v":""},{"$f":"IF(STUDATA!C1376=\"\",\"\",STUDATA!C1376)","v":""}]
[{"$f":"IF(F767=\"\",\"\",F767&\"_\"&COUNTIF($F$9:F767,F767))","v":""},{"$f":"IF(STUDATA!B1377=\"\",\"\",STUDATA!B1377)","v":""},{"$f":"IF(STUDATA!E1377=\"\",\"\",STUDATA!E1377)","v":""},{"$f":"IF(STUDATA!F1377=\"\",\"\",STUDATA!F1377)","v":""},{"$f":"IF(STUDATA!G1377=\"\",\"\",STUDATA!G1377)","v":""},{"$f":"IF(STUDATA!C1377=\"\",\"\",STUDATA!C1377)","v":""}]
[{"$f":"IF(F768=\"\",\"\",F768&\"_\"&COUNTIF($F$9:F768,F768))","v":""},{"$f":"IF(STUDATA!B1378=\"\",\"\",STUDATA!B1378)","v":""},{"$f":"IF(STUDATA!E1378=\"\",\"\",STUDATA!E1378)","v":""},{"$f":"IF(STUDATA!F1378=\"\",\"\",STUDATA!F1378)","v":""},{"$f":"IF(STUDATA!G1378=\"\",\"\",STUDATA!G1378)","v":""},{"$f":"IF(STUDATA!C1378=\"\",\"\",STUDATA!C1378)","v":""}]
[{"$f":"IF(F769=\"\",\"\",F769&\"_\"&COUNTIF($F$9:F769,F769))","v":""},{"$f":"IF(STUDATA!B1379=\"\",\"\",STUDATA!B1379)","v":""},{"$f":"IF(STUDATA!E1379=\"\",\"\",STUDATA!E1379)","v":""},{"$f":"IF(STUDATA!F1379=\"\",\"\",STUDATA!F1379)","v":""},{"$f":"IF(STUDATA!G1379=\"\",\"\",STUDATA!G1379)","v":""},{"$f":"IF(STUDATA!C1379=\"\",\"\",STUDATA!C1379)","v":""}]
[{"$f":"IF(F770=\"\",\"\",F770&\"_\"&COUNTIF($F$9:F770,F770))","v":""},{"$f":"IF(STUDATA!B1380=\"\",\"\",STUDATA!B1380)","v":""},{"$f":"IF(STUDATA!E1380=\"\",\"\",STUDATA!E1380)","v":""},{"$f":"IF(STUDATA!F1380=\"\",\"\",STUDATA!F1380)","v":""},{"$f":"IF(STUDATA!G1380=\"\",\"\",STUDATA!G1380)","v":""},{"$f":"IF(STUDATA!C1380=\"\",\"\",STUDATA!C1380)","v":""}]
[{"$f":"IF(F771=\"\",\"\",F771&\"_\"&COUNTIF($F$9:F771,F771))","v":""},{"$f":"IF(STUDATA!B1381=\"\",\"\",STUDATA!B1381)","v":""},{"$f":"IF(STUDATA!E1381=\"\",\"\",STUDATA!E1381)","v":""},{"$f":"IF(STUDATA!F1381=\"\",\"\",STUDATA!F1381)","v":""},{"$f":"IF(STUDATA!G1381=\"\",\"\",STUDATA!G1381)","v":""},{"$f":"IF(STUDATA!C1381=\"\",\"\",STUDATA!C1381)","v":""}]
[{"$f":"IF(F772=\"\",\"\",F772&\"_\"&COUNTIF($F$9:F772,F772))","v":""},{"$f":"IF(STUDATA!B1382=\"\",\"\",STUDATA!B1382)","v":""},{"$f":"IF(STUDATA!E1382=\"\",\"\",STUDATA!E1382)","v":""},{"$f":"IF(STUDATA!F1382=\"\",\"\",STUDATA!F1382)","v":""},{"$f":"IF(STUDATA!G1382=\"\",\"\",STUDATA!G1382)","v":""},{"$f":"IF(STUDATA!C1382=\"\",\"\",STUDATA!C1382)","v":""}]
[{"$f":"IF(F773=\"\",\"\",F773&\"_\"&COUNTIF($F$9:F773,F773))","v":""},{"$f":"IF(STUDATA!B1383=\"\",\"\",STUDATA!B1383)","v":""},{"$f":"IF(STUDATA!E1383=\"\",\"\",STUDATA!E1383)","v":""},{"$f":"IF(STUDATA!F1383=\"\",\"\",STUDATA!F1383)","v":""},{"$f":"IF(STUDATA!G1383=\"\",\"\",STUDATA!G1383)","v":""},{"$f":"IF(STUDATA!C1383=\"\",\"\",STUDATA!C1383)","v":""}]
[{"$f":"IF(F774=\"\",\"\",F774&\"_\"&COUNTIF($F$9:F774,F774))","v":""},{"$f":"IF(STUDATA!B1384=\"\",\"\",STUDATA!B1384)","v":""},{"$f":"IF(STUDATA!E1384=\"\",\"\",STUDATA!E1384)","v":""},{"$f":"IF(STUDATA!F1384=\"\",\"\",STUDATA!F1384)","v":""},{"$f":"IF(STUDATA!G1384=\"\",\"\",STUDATA!G1384)","v":""},{"$f":"IF(STUDATA!C1384=\"\",\"\",STUDATA!C1384)","v":""}]
[{"$f":"IF(F775=\"\",\"\",F775&\"_\"&COUNTIF($F$9:F775,F775))","v":""},{"$f":"IF(STUDATA!B1385=\"\",\"\",STUDATA!B1385)","v":""},{"$f":"IF(STUDATA!E1385=\"\",\"\",STUDATA!E1385)","v":""},{"$f":"IF(STUDATA!F1385=\"\",\"\",STUDATA!F1385)","v":""},{"$f":"IF(STUDATA!G1385=\"\",\"\",STUDATA!G1385)","v":""},{"$f":"IF(STUDATA!C1385=\"\",\"\",STUDATA!C1385)","v":""}]
[{"$f":"IF(F776=\"\",\"\",F776&\"_\"&COUNTIF($F$9:F776,F776))","v":""},{"$f":"IF(STUDATA!B1386=\"\",\"\",STUDATA!B1386)","v":""},{"$f":"IF(STUDATA!E1386=\"\",\"\",STUDATA!E1386)","v":""},{"$f":"IF(STUDATA!F1386=\"\",\"\",STUDATA!F1386)","v":""},{"$f":"IF(STUDATA!G1386=\"\",\"\",STUDATA!G1386)","v":""},{"$f":"IF(STUDATA!C1386=\"\",\"\",STUDATA!C1386)","v":""}]
[{"$f":"IF(F777=\"\",\"\",F777&\"_\"&COUNTIF($F$9:F777,F777))","v":""},{"$f":"IF(STUDATA!B1387=\"\",\"\",STUDATA!B1387)","v":""},{"$f":"IF(STUDATA!E1387=\"\",\"\",STUDATA!E1387)","v":""},{"$f":"IF(STUDATA!F1387=\"\",\"\",STUDATA!F1387)","v":""},{"$f":"IF(STUDATA!G1387=\"\",\"\",STUDATA!G1387)","v":""},{"$f":"IF(STUDATA!C1387=\"\",\"\",STUDATA!C1387)","v":""}]
[{"$f":"IF(F778=\"\",\"\",F778&\"_\"&COUNTIF($F$9:F778,F778))","v":""},{"$f":"IF(STUDATA!B1388=\"\",\"\",STUDATA!B1388)","v":""},{"$f":"IF(STUDATA!E1388=\"\",\"\",STUDATA!E1388)","v":""},{"$f":"IF(STUDATA!F1388=\"\",\"\",STUDATA!F1388)","v":""},{"$f":"IF(STUDATA!G1388=\"\",\"\",STUDATA!G1388)","v":""},{"$f":"IF(STUDATA!C1388=\"\",\"\",STUDATA!C1388)","v":""}]
[{"$f":"IF(F779=\"\",\"\",F779&\"_\"&COUNTIF($F$9:F779,F779))","v":""},{"$f":"IF(STUDATA!B1389=\"\",\"\",STUDATA!B1389)","v":""},{"$f":"IF(STUDATA!E1389=\"\",\"\",STUDATA!E1389)","v":""},{"$f":"IF(STUDATA!F1389=\"\",\"\",STUDATA!F1389)","v":""},{"$f":"IF(STUDATA!G1389=\"\",\"\",STUDATA!G1389)","v":""},{"$f":"IF(STUDATA!C1389=\"\",\"\",STUDATA!C1389)","v":""}]
[{"$f":"IF(F780=\"\",\"\",F780&\"_\"&COUNTIF($F$9:F780,F780))","v":""},{"$f":"IF(STUDATA!B1390=\"\",\"\",STUDATA!B1390)","v":""},{"$f":"IF(STUDATA!E1390=\"\",\"\",STUDATA!E1390)","v":""},{"$f":"IF(STUDATA!F1390=\"\",\"\",STUDATA!F1390)","v":""},{"$f":"IF(STUDATA!G1390=\"\",\"\",STUDATA!G1390)","v":""},{"$f":"IF(STUDATA!C1390=\"\",\"\",STUDATA!C1390)","v":""}]
[{"$f":"IF(F781=\"\",\"\",F781&\"_\"&COUNTIF($F$9:F781,F781))","v":""},{"$f":"IF(STUDATA!B1391=\"\",\"\",STUDATA!B1391)","v":""},{"$f":"IF(STUDATA!E1391=\"\",\"\",STUDATA!E1391)","v":""},{"$f":"IF(STUDATA!F1391=\"\",\"\",STUDATA!F1391)","v":""},{"$f":"IF(STUDATA!G1391=\"\",\"\",STUDATA!G1391)","v":""},{"$f":"IF(STUDATA!C1391=\"\",\"\",STUDATA!C1391)","v":""}]
[{"$f":"IF(F782=\"\",\"\",F782&\"_\"&COUNTIF($F$9:F782,F782))","v":""},{"$f":"IF(STUDATA!B1392=\"\",\"\",STUDATA!B1392)","v":""},{"$f":"IF(STUDATA!E1392=\"\",\"\",STUDATA!E1392)","v":""},{"$f":"IF(STUDATA!F1392=\"\",\"\",STUDATA!F1392)","v":""},{"$f":"IF(STUDATA!G1392=\"\",\"\",STUDATA!G1392)","v":""},{"$f":"IF(STUDATA!C1392=\"\",\"\",STUDATA!C1392)","v":""}]
[{"$f":"IF(F783=\"\",\"\",F783&\"_\"&COUNTIF($F$9:F783,F783))","v":""},{"$f":"IF(STUDATA!B1393=\"\",\"\",STUDATA!B1393)","v":""},{"$f":"IF(STUDATA!E1393=\"\",\"\",STUDATA!E1393)","v":""},{"$f":"IF(STUDATA!F1393=\"\",\"\",STUDATA!F1393)","v":""},{"$f":"IF(STUDATA!G1393=\"\",\"\",STUDATA!G1393)","v":""},{"$f":"IF(STUDATA!C1393=\"\",\"\",STUDATA!C1393)","v":""}]
[{"$f":"IF(F784=\"\",\"\",F784&\"_\"&COUNTIF($F$9:F784,F784))","v":""},{"$f":"IF(STUDATA!B1394=\"\",\"\",STUDATA!B1394)","v":""},{"$f":"IF(STUDATA!E1394=\"\",\"\",STUDATA!E1394)","v":""},{"$f":"IF(STUDATA!F1394=\"\",\"\",STUDATA!F1394)","v":""},{"$f":"IF(STUDATA!G1394=\"\",\"\",STUDATA!G1394)","v":""},{"$f":"IF(STUDATA!C1394=\"\",\"\",STUDATA!C1394)","v":""}]
[{"$f":"IF(F785=\"\",\"\",F785&\"_\"&COUNTIF($F$9:F785,F785))","v":""},{"$f":"IF(STUDATA!B1395=\"\",\"\",STUDATA!B1395)","v":""},{"$f":"IF(STUDATA!E1395=\"\",\"\",STUDATA!E1395)","v":""},{"$f":"IF(STUDATA!F1395=\"\",\"\",STUDATA!F1395)","v":""},{"$f":"IF(STUDATA!G1395=\"\",\"\",STUDATA!G1395)","v":""},{"$f":"IF(STUDATA!C1395=\"\",\"\",STUDATA!C1395)","v":""}]
[{"$f":"IF(F786=\"\",\"\",F786&\"_\"&COUNTIF($F$9:F786,F786))","v":""},{"$f":"IF(STUDATA!B1396=\"\",\"\",STUDATA!B1396)","v":""},{"$f":"IF(STUDATA!E1396=\"\",\"\",STUDATA!E1396)","v":""},{"$f":"IF(STUDATA!F1396=\"\",\"\",STUDATA!F1396)","v":""},{"$f":"IF(STUDATA!G1396=\"\",\"\",STUDATA!G1396)","v":""},{"$f":"IF(STUDATA!C1396=\"\",\"\",STUDATA!C1396)","v":""}]
[{"$f":"IF(F787=\"\",\"\",F787&\"_\"&COUNTIF($F$9:F787,F787))","v":""},{"$f":"IF(STUDATA!B1397=\"\",\"\",STUDATA!B1397)","v":""},{"$f":"IF(STUDATA!E1397=\"\",\"\",STUDATA!E1397)","v":""},{"$f":"IF(STUDATA!F1397=\"\",\"\",STUDATA!F1397)","v":""},{"$f":"IF(STUDATA!G1397=\"\",\"\",STUDATA!G1397)","v":""},{"$f":"IF(STUDATA!C1397=\"\",\"\",STUDATA!C1397)","v":""}]
[{"$f":"IF(F788=\"\",\"\",F788&\"_\"&COUNTIF($F$9:F788,F788))","v":""},{"$f":"IF(STUDATA!B1398=\"\",\"\",STUDATA!B1398)","v":""},{"$f":"IF(STUDATA!E1398=\"\",\"\",STUDATA!E1398)","v":""},{"$f":"IF(STUDATA!F1398=\"\",\"\",STUDATA!F1398)","v":""},{"$f":"IF(STUDATA!G1398=\"\",\"\",STUDATA!G1398)","v":""},{"$f":"IF(STUDATA!C1398=\"\",\"\",STUDATA!C1398)","v":""}]
[{"$f":"IF(F789=\"\",\"\",F789&\"_\"&COUNTIF($F$9:F789,F789))","v":""},{"$f":"IF(STUDATA!B1399=\"\",\"\",STUDATA!B1399)","v":""},{"$f":"IF(STUDATA!E1399=\"\",\"\",STUDATA!E1399)","v":""},{"$f":"IF(STUDATA!F1399=\"\",\"\",STUDATA!F1399)","v":""},{"$f":"IF(STUDATA!G1399=\"\",\"\",STUDATA!G1399)","v":""},{"$f":"IF(STUDATA!C1399=\"\",\"\",STUDATA!C1399)","v":""}]
[{"$f":"IF(F790=\"\",\"\",F790&\"_\"&COUNTIF($F$9:F790,F790))","v":""},{"$f":"IF(STUDATA!B1400=\"\",\"\",STUDATA!B1400)","v":""},{"$f":"IF(STUDATA!E1400=\"\",\"\",STUDATA!E1400)","v":""},{"$f":"IF(STUDATA!F1400=\"\",\"\",STUDATA!F1400)","v":""},{"$f":"IF(STUDATA!G1400=\"\",\"\",STUDATA!G1400)","v":""},{"$f":"IF(STUDATA!C1400=\"\",\"\",STUDATA!C1400)","v":""}]
[{"$f":"IF(F791=\"\",\"\",F791&\"_\"&COUNTIF($F$9:F791,F791))","v":""},{"$f":"IF(STUDATA!B1401=\"\",\"\",STUDATA!B1401)","v":""},{"$f":"IF(STUDATA!E1401=\"\",\"\",STUDATA!E1401)","v":""},{"$f":"IF(STUDATA!F1401=\"\",\"\",STUDATA!F1401)","v":""},{"$f":"IF(STUDATA!G1401=\"\",\"\",STUDATA!G1401)","v":""},{"$f":"IF(STUDATA!C1401=\"\",\"\",STUDATA!C1401)","v":""}]
[{"$f":"IF(F792=\"\",\"\",F792&\"_\"&COUNTIF($F$9:F792,F792))","v":""},{"$f":"IF(STUDATA!B1402=\"\",\"\",STUDATA!B1402)","v":""},{"$f":"IF(STUDATA!E1402=\"\",\"\",STUDATA!E1402)","v":""},{"$f":"IF(STUDATA!F1402=\"\",\"\",STUDATA!F1402)","v":""},{"$f":"IF(STUDATA!G1402=\"\",\"\",STUDATA!G1402)","v":""},{"$f":"IF(STUDATA!C1402=\"\",\"\",STUDATA!C1402)","v":""}]
[{"$f":"IF(F793=\"\",\"\",F793&\"_\"&COUNTIF($F$9:F793,F793))","v":""},{"$f":"IF(STUDATA!B1403=\"\",\"\",STUDATA!B1403)","v":""},{"$f":"IF(STUDATA!E1403=\"\",\"\",STUDATA!E1403)","v":""},{"$f":"IF(STUDATA!F1403=\"\",\"\",STUDATA!F1403)","v":""},{"$f":"IF(STUDATA!G1403=\"\",\"\",STUDATA!G1403)","v":""},{"$f":"IF(STUDATA!C1403=\"\",\"\",STUDATA!C1403)","v":""}]
[{"$f":"IF(F794=\"\",\"\",F794&\"_\"&COUNTIF($F$9:F794,F794))","v":""},{"$f":"IF(STUDATA!B1404=\"\",\"\",STUDATA!B1404)","v":""},{"$f":"IF(STUDATA!E1404=\"\",\"\",STUDATA!E1404)","v":""},{"$f":"IF(STUDATA!F1404=\"\",\"\",STUDATA!F1404)","v":""},{"$f":"IF(STUDATA!G1404=\"\",\"\",STUDATA!G1404)","v":""},{"$f":"IF(STUDATA!C1404=\"\",\"\",STUDATA!C1404)","v":""}]
[{"$f":"IF(F795=\"\",\"\",F795&\"_\"&COUNTIF($F$9:F795,F795))","v":""},{"$f":"IF(STUDATA!B1405=\"\",\"\",STUDATA!B1405)","v":""},{"$f":"IF(STUDATA!E1405=\"\",\"\",STUDATA!E1405)","v":""},{"$f":"IF(STUDATA!F1405=\"\",\"\",STUDATA!F1405)","v":""},{"$f":"IF(STUDATA!G1405=\"\",\"\",STUDATA!G1405)","v":""},{"$f":"IF(STUDATA!C1405=\"\",\"\",STUDATA!C1405)","v":""}]
[{"$f":"IF(F796=\"\",\"\",F796&\"_\"&COUNTIF($F$9:F796,F796))","v":""},{"$f":"IF(STUDATA!B1406=\"\",\"\",STUDATA!B1406)","v":""},{"$f":"IF(STUDATA!E1406=\"\",\"\",STUDATA!E1406)","v":""},{"$f":"IF(STUDATA!F1406=\"\",\"\",STUDATA!F1406)","v":""},{"$f":"IF(STUDATA!G1406=\"\",\"\",STUDATA!G1406)","v":""},{"$f":"IF(STUDATA!C1406=\"\",\"\",STUDATA!C1406)","v":""}]
[{"$f":"IF(F797=\"\",\"\",F797&\"_\"&COUNTIF($F$9:F797,F797))","v":""},{"$f":"IF(STUDATA!B1407=\"\",\"\",STUDATA!B1407)","v":""},{"$f":"IF(STUDATA!E1407=\"\",\"\",STUDATA!E1407)","v":""},{"$f":"IF(STUDATA!F1407=\"\",\"\",STUDATA!F1407)","v":""},{"$f":"IF(STUDATA!G1407=\"\",\"\",STUDATA!G1407)","v":""},{"$f":"IF(STUDATA!C1407=\"\",\"\",STUDATA!C1407)","v":""}]
[{"$f":"IF(F798=\"\",\"\",F798&\"_\"&COUNTIF($F$9:F798,F798))","v":""},{"$f":"IF(STUDATA!B1408=\"\",\"\",STUDATA!B1408)","v":""},{"$f":"IF(STUDATA!E1408=\"\",\"\",STUDATA!E1408)","v":""},{"$f":"IF(STUDATA!F1408=\"\",\"\",STUDATA!F1408)","v":""},{"$f":"IF(STUDATA!G1408=\"\",\"\",STUDATA!G1408)","v":""},{"$f":"IF(STUDATA!C1408=\"\",\"\",STUDATA!C1408)","v":""}]
[{"$f":"IF(F799=\"\",\"\",F799&\"_\"&COUNTIF($F$9:F799,F799))","v":""},{"$f":"IF(STUDATA!B1409=\"\",\"\",STUDATA!B1409)","v":""},{"$f":"IF(STUDATA!E1409=\"\",\"\",STUDATA!E1409)","v":""},{"$f":"IF(STUDATA!F1409=\"\",\"\",STUDATA!F1409)","v":""},{"$f":"IF(STUDATA!G1409=\"\",\"\",STUDATA!G1409)","v":""},{"$f":"IF(STUDATA!C1409=\"\",\"\",STUDATA!C1409)","v":""}]
[{"$f":"IF(F800=\"\",\"\",F800&\"_\"&COUNTIF($F$9:F800,F800))","v":""},{"$f":"IF(STUDATA!B1410=\"\",\"\",STUDATA!B1410)","v":""},{"$f":"IF(STUDATA!E1410=\"\",\"\",STUDATA!E1410)","v":""},{"$f":"IF(STUDATA!F1410=\"\",\"\",STUDATA!F1410)","v":""},{"$f":"IF(STUDATA!G1410=\"\",\"\",STUDATA!G1410)","v":""},{"$f":"IF(STUDATA!C1410=\"\",\"\",STUDATA!C1410)","v":""}]
[{"$f":"IF(F801=\"\",\"\",F801&\"_\"&COUNTIF($F$9:F801,F801))","v":""},{"$f":"IF(STUDATA!B1411=\"\",\"\",STUDATA!B1411)","v":""},{"$f":"IF(STUDATA!E1411=\"\",\"\",STUDATA!E1411)","v":""},{"$f":"IF(STUDATA!F1411=\"\",\"\",STUDATA!F1411)","v":""},{"$f":"IF(STUDATA!G1411=\"\",\"\",STUDATA!G1411)","v":""},{"$f":"IF(STUDATA!C1411=\"\",\"\",STUDATA!C1411)","v":""}]
[{"$f":"IF(F802=\"\",\"\",F802&\"_\"&COUNTIF($F$9:F802,F802))","v":""},{"$f":"IF(STUDATA!B1412=\"\",\"\",STUDATA!B1412)","v":""},{"$f":"IF(STUDATA!E1412=\"\",\"\",STUDATA!E1412)","v":""},{"$f":"IF(STUDATA!F1412=\"\",\"\",STUDATA!F1412)","v":""},{"$f":"IF(STUDATA!G1412=\"\",\"\",STUDATA!G1412)","v":""},{"$f":"IF(STUDATA!C1412=\"\",\"\",STUDATA!C1412)","v":""}]
[{"$f":"IF(F803=\"\",\"\",F803&\"_\"&COUNTIF($F$9:F803,F803))","v":""},{"$f":"IF(STUDATA!B1413=\"\",\"\",STUDATA!B1413)","v":""},{"$f":"IF(STUDATA!E1413=\"\",\"\",STUDATA!E1413)","v":""},{"$f":"IF(STUDATA!F1413=\"\",\"\",STUDATA!F1413)","v":""},{"$f":"IF(STUDATA!G1413=\"\",\"\",STUDATA!G1413)","v":""},{"$f":"IF(STUDATA!C1413=\"\",\"\",STUDATA!C1413)","v":""}]
[{"$f":"IF(F804=\"\",\"\",F804&\"_\"&COUNTIF($F$9:F804,F804))","v":""},{"$f":"IF(STUDATA!B1414=\"\",\"\",STUDATA!B1414)","v":""},{"$f":"IF(STUDATA!E1414=\"\",\"\",STUDATA!E1414)","v":""},{"$f":"IF(STUDATA!F1414=\"\",\"\",STUDATA!F1414)","v":""},{"$f":"IF(STUDATA!G1414=\"\",\"\",STUDATA!G1414)","v":""},{"$f":"IF(STUDATA!C1414=\"\",\"\",STUDATA!C1414)","v":""}]
[{"$f":"IF(F805=\"\",\"\",F805&\"_\"&COUNTIF($F$9:F805,F805))","v":""},{"$f":"IF(STUDATA!B1415=\"\",\"\",STUDATA!B1415)","v":""},{"$f":"IF(STUDATA!E1415=\"\",\"\",STUDATA!E1415)","v":""},{"$f":"IF(STUDATA!F1415=\"\",\"\",STUDATA!F1415)","v":""},{"$f":"IF(STUDATA!G1415=\"\",\"\",STUDATA!G1415)","v":""},{"$f":"IF(STUDATA!C1415=\"\",\"\",STUDATA!C1415)","v":""}]
[{"$f":"IF(F806=\"\",\"\",F806&\"_\"&COUNTIF($F$9:F806,F806))","v":""},{"$f":"IF(STUDATA!B1416=\"\",\"\",STUDATA!B1416)","v":""},{"$f":"IF(STUDATA!E1416=\"\",\"\",STUDATA!E1416)","v":""},{"$f":"IF(STUDATA!F1416=\"\",\"\",STUDATA!F1416)","v":""},{"$f":"IF(STUDATA!G1416=\"\",\"\",STUDATA!G1416)","v":""},{"$f":"IF(STUDATA!C1416=\"\",\"\",STUDATA!C1416)","v":""}]
[{"$f":"IF(F807=\"\",\"\",F807&\"_\"&COUNTIF($F$9:F807,F807))","v":""},{"$f":"IF(STUDATA!B1417=\"\",\"\",STUDATA!B1417)","v":""},{"$f":"IF(STUDATA!E1417=\"\",\"\",STUDATA!E1417)","v":""},{"$f":"IF(STUDATA!F1417=\"\",\"\",STUDATA!F1417)","v":""},{"$f":"IF(STUDATA!G1417=\"\",\"\",STUDATA!G1417)","v":""},{"$f":"IF(STUDATA!C1417=\"\",\"\",STUDATA!C1417)","v":""}]
[{"$f":"IF(F808=\"\",\"\",F808&\"_\"&COUNTIF($F$9:F808,F808))","v":""},{"$f":"IF(STUDATA!B1418=\"\",\"\",STUDATA!B1418)","v":""},{"$f":"IF(STUDATA!E1418=\"\",\"\",STUDATA!E1418)","v":""},{"$f":"IF(STUDATA!F1418=\"\",\"\",STUDATA!F1418)","v":""},{"$f":"IF(STUDATA!G1418=\"\",\"\",STUDATA!G1418)","v":""},{"$f":"IF(STUDATA!C1418=\"\",\"\",STUDATA!C1418)","v":""}]
[{"$f":"IF(F809=\"\",\"\",F809&\"_\"&COUNTIF($F$9:F809,F809))","v":""},{"$f":"IF(STUDATA!B1419=\"\",\"\",STUDATA!B1419)","v":""},{"$f":"IF(STUDATA!E1419=\"\",\"\",STUDATA!E1419)","v":""},{"$f":"IF(STUDATA!F1419=\"\",\"\",STUDATA!F1419)","v":""},{"$f":"IF(STUDATA!G1419=\"\",\"\",STUDATA!G1419)","v":""},{"$f":"IF(STUDATA!C1419=\"\",\"\",STUDATA!C1419)","v":""}]
[{"$f":"IF(F810=\"\",\"\",F810&\"_\"&COUNTIF($F$9:F810,F810))","v":""},{"$f":"IF(STUDATA!B1420=\"\",\"\",STUDATA!B1420)","v":""},{"$f":"IF(STUDATA!E1420=\"\",\"\",STUDATA!E1420)","v":""},{"$f":"IF(STUDATA!F1420=\"\",\"\",STUDATA!F1420)","v":""},{"$f":"IF(STUDATA!G1420=\"\",\"\",STUDATA!G1420)","v":""},{"$f":"IF(STUDATA!C1420=\"\",\"\",STUDATA!C1420)","v":""}]
[{"$f":"IF(F811=\"\",\"\",F811&\"_\"&COUNTIF($F$9:F811,F811))","v":""},{"$f":"IF(STUDATA!B1421=\"\",\"\",STUDATA!B1421)","v":""},{"$f":"IF(STUDATA!E1421=\"\",\"\",STUDATA!E1421)","v":""},{"$f":"IF(STUDATA!F1421=\"\",\"\",STUDATA!F1421)","v":""},{"$f":"IF(STUDATA!G1421=\"\",\"\",STUDATA!G1421)","v":""},{"$f":"IF(STUDATA!C1421=\"\",\"\",STUDATA!C1421)","v":""}]
[{"$f":"IF(F812=\"\",\"\",F812&\"_\"&COUNTIF($F$9:F812,F812))","v":""},{"$f":"IF(STUDATA!B1422=\"\",\"\",STUDATA!B1422)","v":""},{"$f":"IF(STUDATA!E1422=\"\",\"\",STUDATA!E1422)","v":""},{"$f":"IF(STUDATA!F1422=\"\",\"\",STUDATA!F1422)","v":""},{"$f":"IF(STUDATA!G1422=\"\",\"\",STUDATA!G1422)","v":""},{"$f":"IF(STUDATA!C1422=\"\",\"\",STUDATA!C1422)","v":""}]
[{"$f":"IF(F813=\"\",\"\",F813&\"_\"&COUNTIF($F$9:F813,F813))","v":""},{"$f":"IF(STUDATA!B1423=\"\",\"\",STUDATA!B1423)","v":""},{"$f":"IF(STUDATA!E1423=\"\",\"\",STUDATA!E1423)","v":""},{"$f":"IF(STUDATA!F1423=\"\",\"\",STUDATA!F1423)","v":""},{"$f":"IF(STUDATA!G1423=\"\",\"\",STUDATA!G1423)","v":""},{"$f":"IF(STUDATA!C1423=\"\",\"\",STUDATA!C1423)","v":""}]
[{"$f":"IF(F814=\"\",\"\",F814&\"_\"&COUNTIF($F$9:F814,F814))","v":""},{"$f":"IF(STUDATA!B1424=\"\",\"\",STUDATA!B1424)","v":""},{"$f":"IF(STUDATA!E1424=\"\",\"\",STUDATA!E1424)","v":""},{"$f":"IF(STUDATA!F1424=\"\",\"\",STUDATA!F1424)","v":""},{"$f":"IF(STUDATA!G1424=\"\",\"\",STUDATA!G1424)","v":""},{"$f":"IF(STUDATA!C1424=\"\",\"\",STUDATA!C1424)","v":""}]
[{"$f":"IF(F815=\"\",\"\",F815&\"_\"&COUNTIF($F$9:F815,F815))","v":""},{"$f":"IF(STUDATA!B1425=\"\",\"\",STUDATA!B1425)","v":""},{"$f":"IF(STUDATA!E1425=\"\",\"\",STUDATA!E1425)","v":""},{"$f":"IF(STUDATA!F1425=\"\",\"\",STUDATA!F1425)","v":""},{"$f":"IF(STUDATA!G1425=\"\",\"\",STUDATA!G1425)","v":""},{"$f":"IF(STUDATA!C1425=\"\",\"\",STUDATA!C1425)","v":""}]
[{"$f":"IF(F816=\"\",\"\",F816&\"_\"&COUNTIF($F$9:F816,F816))","v":""},{"$f":"IF(STUDATA!B1426=\"\",\"\",STUDATA!B1426)","v":""},{"$f":"IF(STUDATA!E1426=\"\",\"\",STUDATA!E1426)","v":""},{"$f":"IF(STUDATA!F1426=\"\",\"\",STUDATA!F1426)","v":""},{"$f":"IF(STUDATA!G1426=\"\",\"\",STUDATA!G1426)","v":""},{"$f":"IF(STUDATA!C1426=\"\",\"\",STUDATA!C1426)","v":""}]
[{"$f":"IF(F817=\"\",\"\",F817&\"_\"&COUNTIF($F$9:F817,F817))","v":""},{"$f":"IF(STUDATA!B1427=\"\",\"\",STUDATA!B1427)","v":""},{"$f":"IF(STUDATA!E1427=\"\",\"\",STUDATA!E1427)","v":""},{"$f":"IF(STUDATA!F1427=\"\",\"\",STUDATA!F1427)","v":""},{"$f":"IF(STUDATA!G1427=\"\",\"\",STUDATA!G1427)","v":""},{"$f":"IF(STUDATA!C1427=\"\",\"\",STUDATA!C1427)","v":""}]
[{"$f":"IF(F818=\"\",\"\",F818&\"_\"&COUNTIF($F$9:F818,F818))","v":""},{"$f":"IF(STUDATA!B1428=\"\",\"\",STUDATA!B1428)","v":""},{"$f":"IF(STUDATA!E1428=\"\",\"\",STUDATA!E1428)","v":""},{"$f":"IF(STUDATA!F1428=\"\",\"\",STUDATA!F1428)","v":""},{"$f":"IF(STUDATA!G1428=\"\",\"\",STUDATA!G1428)","v":""},{"$f":"IF(STUDATA!C1428=\"\",\"\",STUDATA!C1428)","v":""}]
[{"$f":"IF(F819=\"\",\"\",F819&\"_\"&COUNTIF($F$9:F819,F819))","v":""},{"$f":"IF(STUDATA!B1429=\"\",\"\",STUDATA!B1429)","v":""},{"$f":"IF(STUDATA!E1429=\"\",\"\",STUDATA!E1429)","v":""},{"$f":"IF(STUDATA!F1429=\"\",\"\",STUDATA!F1429)","v":""},{"$f":"IF(STUDATA!G1429=\"\",\"\",STUDATA!G1429)","v":""},{"$f":"IF(STUDATA!C1429=\"\",\"\",STUDATA!C1429)","v":""}]
[{"$f":"IF(F820=\"\",\"\",F820&\"_\"&COUNTIF($F$9:F820,F820))","v":""},{"$f":"IF(STUDATA!B1430=\"\",\"\",STUDATA!B1430)","v":""},{"$f":"IF(STUDATA!E1430=\"\",\"\",STUDATA!E1430)","v":""},{"$f":"IF(STUDATA!F1430=\"\",\"\",STUDATA!F1430)","v":""},{"$f":"IF(STUDATA!G1430=\"\",\"\",STUDATA!G1430)","v":""},{"$f":"IF(STUDATA!C1430=\"\",\"\",STUDATA!C1430)","v":""}]
[{"$f":"IF(F821=\"\",\"\",F821&\"_\"&COUNTIF($F$9:F821,F821))","v":""},{"$f":"IF(STUDATA!B1431=\"\",\"\",STUDATA!B1431)","v":""},{"$f":"IF(STUDATA!E1431=\"\",\"\",STUDATA!E1431)","v":""},{"$f":"IF(STUDATA!F1431=\"\",\"\",STUDATA!F1431)","v":""},{"$f":"IF(STUDATA!G1431=\"\",\"\",STUDATA!G1431)","v":""},{"$f":"IF(STUDATA!C1431=\"\",\"\",STUDATA!C1431)","v":""}]
[{"$f":"IF(F822=\"\",\"\",F822&\"_\"&COUNTIF($F$9:F822,F822))","v":""},{"$f":"IF(STUDATA!B1432=\"\",\"\",STUDATA!B1432)","v":""},{"$f":"IF(STUDATA!E1432=\"\",\"\",STUDATA!E1432)","v":""},{"$f":"IF(STUDATA!F1432=\"\",\"\",STUDATA!F1432)","v":""},{"$f":"IF(STUDATA!G1432=\"\",\"\",STUDATA!G1432)","v":""},{"$f":"IF(STUDATA!C1432=\"\",\"\",STUDATA!C1432)","v":""}]
[{"$f":"IF(F823=\"\",\"\",F823&\"_\"&COUNTIF($F$9:F823,F823))","v":""},{"$f":"IF(STUDATA!B1433=\"\",\"\",STUDATA!B1433)","v":""},{"$f":"IF(STUDATA!E1433=\"\",\"\",STUDATA!E1433)","v":""},{"$f":"IF(STUDATA!F1433=\"\",\"\",STUDATA!F1433)","v":""},{"$f":"IF(STUDATA!G1433=\"\",\"\",STUDATA!G1433)","v":""},{"$f":"IF(STUDATA!C1433=\"\",\"\",STUDATA!C1433)","v":""}]
[{"$f":"IF(F824=\"\",\"\",F824&\"_\"&COUNTIF($F$9:F824,F824))","v":""},{"$f":"IF(STUDATA!B1434=\"\",\"\",STUDATA!B1434)","v":""},{"$f":"IF(STUDATA!E1434=\"\",\"\",STUDATA!E1434)","v":""},{"$f":"IF(STUDATA!F1434=\"\",\"\",STUDATA!F1434)","v":""},{"$f":"IF(STUDATA!G1434=\"\",\"\",STUDATA!G1434)","v":""},{"$f":"IF(STUDATA!C1434=\"\",\"\",STUDATA!C1434)","v":""}]
[{"$f":"IF(F825=\"\",\"\",F825&\"_\"&COUNTIF($F$9:F825,F825))","v":""},{"$f":"IF(STUDATA!B1435=\"\",\"\",STUDATA!B1435)","v":""},{"$f":"IF(STUDATA!E1435=\"\",\"\",STUDATA!E1435)","v":""},{"$f":"IF(STUDATA!F1435=\"\",\"\",STUDATA!F1435)","v":""},{"$f":"IF(STUDATA!G1435=\"\",\"\",STUDATA!G1435)","v":""},{"$f":"IF(STUDATA!C1435=\"\",\"\",STUDATA!C1435)","v":""}]
[{"$f":"IF(F826=\"\",\"\",F826&\"_\"&COUNTIF($F$9:F826,F826))","v":""},{"$f":"IF(STUDATA!B1436=\"\",\"\",STUDATA!B1436)","v":""},{"$f":"IF(STUDATA!E1436=\"\",\"\",STUDATA!E1436)","v":""},{"$f":"IF(STUDATA!F1436=\"\",\"\",STUDATA!F1436)","v":""},{"$f":"IF(STUDATA!G1436=\"\",\"\",STUDATA!G1436)","v":""},{"$f":"IF(STUDATA!C1436=\"\",\"\",STUDATA!C1436)","v":""}]
[{"$f":"IF(F827=\"\",\"\",F827&\"_\"&COUNTIF($F$9:F827,F827))","v":""},{"$f":"IF(STUDATA!B1437=\"\",\"\",STUDATA!B1437)","v":""},{"$f":"IF(STUDATA!E1437=\"\",\"\",STUDATA!E1437)","v":""},{"$f":"IF(STUDATA!F1437=\"\",\"\",STUDATA!F1437)","v":""},{"$f":"IF(STUDATA!G1437=\"\",\"\",STUDATA!G1437)","v":""},{"$f":"IF(STUDATA!C1437=\"\",\"\",STUDATA!C1437)","v":""}]
[{"$f":"IF(F828=\"\",\"\",F828&\"_\"&COUNTIF($F$9:F828,F828))","v":""},{"$f":"IF(STUDATA!B1438=\"\",\"\",STUDATA!B1438)","v":""},{"$f":"IF(STUDATA!E1438=\"\",\"\",STUDATA!E1438)","v":""},{"$f":"IF(STUDATA!F1438=\"\",\"\",STUDATA!F1438)","v":""},{"$f":"IF(STUDATA!G1438=\"\",\"\",STUDATA!G1438)","v":""},{"$f":"IF(STUDATA!C1438=\"\",\"\",STUDATA!C1438)","v":""}]
[{"$f":"IF(F829=\"\",\"\",F829&\"_\"&COUNTIF($F$9:F829,F829))","v":""},{"$f":"IF(STUDATA!B1439=\"\",\"\",STUDATA!B1439)","v":""},{"$f":"IF(STUDATA!E1439=\"\",\"\",STUDATA!E1439)","v":""},{"$f":"IF(STUDATA!F1439=\"\",\"\",STUDATA!F1439)","v":""},{"$f":"IF(STUDATA!G1439=\"\",\"\",STUDATA!G1439)","v":""},{"$f":"IF(STUDATA!C1439=\"\",\"\",STUDATA!C1439)","v":""}]
[{"$f":"IF(F830=\"\",\"\",F830&\"_\"&COUNTIF($F$9:F830,F830))","v":""},{"$f":"IF(STUDATA!B1440=\"\",\"\",STUDATA!B1440)","v":""},{"$f":"IF(STUDATA!E1440=\"\",\"\",STUDATA!E1440)","v":""},{"$f":"IF(STUDATA!F1440=\"\",\"\",STUDATA!F1440)","v":""},{"$f":"IF(STUDATA!G1440=\"\",\"\",STUDATA!G1440)","v":""},{"$f":"IF(STUDATA!C1440=\"\",\"\",STUDATA!C1440)","v":""}]
[{"$f":"IF(F831=\"\",\"\",F831&\"_\"&COUNTIF($F$9:F831,F831))","v":""},{"$f":"IF(STUDATA!B1441=\"\",\"\",STUDATA!B1441)","v":""},{"$f":"IF(STUDATA!E1441=\"\",\"\",STUDATA!E1441)","v":""},{"$f":"IF(STUDATA!F1441=\"\",\"\",STUDATA!F1441)","v":""},{"$f":"IF(STUDATA!G1441=\"\",\"\",STUDATA!G1441)","v":""},{"$f":"IF(STUDATA!C1441=\"\",\"\",STUDATA!C1441)","v":""}]
[{"$f":"IF(F832=\"\",\"\",F832&\"_\"&COUNTIF($F$9:F832,F832))","v":""},{"$f":"IF(STUDATA!B1442=\"\",\"\",STUDATA!B1442)","v":""},{"$f":"IF(STUDATA!E1442=\"\",\"\",STUDATA!E1442)","v":""},{"$f":"IF(STUDATA!F1442=\"\",\"\",STUDATA!F1442)","v":""},{"$f":"IF(STUDATA!G1442=\"\",\"\",STUDATA!G1442)","v":""},{"$f":"IF(STUDATA!C1442=\"\",\"\",STUDATA!C1442)","v":""}]
[{"$f":"IF(F833=\"\",\"\",F833&\"_\"&COUNTIF($F$9:F833,F833))","v":""},{"$f":"IF(STUDATA!B1443=\"\",\"\",STUDATA!B1443)","v":""},{"$f":"IF(STUDATA!E1443=\"\",\"\",STUDATA!E1443)","v":""},{"$f":"IF(STUDATA!F1443=\"\",\"\",STUDATA!F1443)","v":""},{"$f":"IF(STUDATA!G1443=\"\",\"\",STUDATA!G1443)","v":""},{"$f":"IF(STUDATA!C1443=\"\",\"\",STUDATA!C1443)","v":""}]
[{"$f":"IF(F834=\"\",\"\",F834&\"_\"&COUNTIF($F$9:F834,F834))","v":""},{"$f":"IF(STUDATA!B1444=\"\",\"\",STUDATA!B1444)","v":""},{"$f":"IF(STUDATA!E1444=\"\",\"\",STUDATA!E1444)","v":""},{"$f":"IF(STUDATA!F1444=\"\",\"\",STUDATA!F1444)","v":""},{"$f":"IF(STUDATA!G1444=\"\",\"\",STUDATA!G1444)","v":""},{"$f":"IF(STUDATA!C1444=\"\",\"\",STUDATA!C1444)","v":""}]
[{"$f":"IF(F835=\"\",\"\",F835&\"_\"&COUNTIF($F$9:F835,F835))","v":""},{"$f":"IF(STUDATA!B1445=\"\",\"\",STUDATA!B1445)","v":""},{"$f":"IF(STUDATA!E1445=\"\",\"\",STUDATA!E1445)","v":""},{"$f":"IF(STUDATA!F1445=\"\",\"\",STUDATA!F1445)","v":""},{"$f":"IF(STUDATA!G1445=\"\",\"\",STUDATA!G1445)","v":""},{"$f":"IF(STUDATA!C1445=\"\",\"\",STUDATA!C1445)","v":""}]
[{"$f":"IF(F836=\"\",\"\",F836&\"_\"&COUNTIF($F$9:F836,F836))","v":""},{"$f":"IF(STUDATA!B1446=\"\",\"\",STUDATA!B1446)","v":""},{"$f":"IF(STUDATA!E1446=\"\",\"\",STUDATA!E1446)","v":""},{"$f":"IF(STUDATA!F1446=\"\",\"\",STUDATA!F1446)","v":""},{"$f":"IF(STUDATA!G1446=\"\",\"\",STUDATA!G1446)","v":""},{"$f":"IF(STUDATA!C1446=\"\",\"\",STUDATA!C1446)","v":""}]
[{"$f":"IF(F837=\"\",\"\",F837&\"_\"&COUNTIF($F$9:F837,F837))","v":""},{"$f":"IF(STUDATA!B1447=\"\",\"\",STUDATA!B1447)","v":""},{"$f":"IF(STUDATA!E1447=\"\",\"\",STUDATA!E1447)","v":""},{"$f":"IF(STUDATA!F1447=\"\",\"\",STUDATA!F1447)","v":""},{"$f":"IF(STUDATA!G1447=\"\",\"\",STUDATA!G1447)","v":""},{"$f":"IF(STUDATA!C1447=\"\",\"\",STUDATA!C1447)","v":""}]
[{"$f":"IF(F838=\"\",\"\",F838&\"_\"&COUNTIF($F$9:F838,F838))","v":""},{"$f":"IF(STUDATA!B1448=\"\",\"\",STUDATA!B1448)","v":""},{"$f":"IF(STUDATA!E1448=\"\",\"\",STUDATA!E1448)","v":""},{"$f":"IF(STUDATA!F1448=\"\",\"\",STUDATA!F1448)","v":""},{"$f":"IF(STUDATA!G1448=\"\",\"\",STUDATA!G1448)","v":""},{"$f":"IF(STUDATA!C1448=\"\",\"\",STUDATA!C1448)","v":""}]
[{"$f":"IF(F839=\"\",\"\",F839&\"_\"&COUNTIF($F$9:F839,F839))","v":""},{"$f":"IF(STUDATA!B1449=\"\",\"\",STUDATA!B1449)","v":""},{"$f":"IF(STUDATA!E1449=\"\",\"\",STUDATA!E1449)","v":""},{"$f":"IF(STUDATA!F1449=\"\",\"\",STUDATA!F1449)","v":""},{"$f":"IF(STUDATA!G1449=\"\",\"\",STUDATA!G1449)","v":""},{"$f":"IF(STUDATA!C1449=\"\",\"\",STUDATA!C1449)","v":""}]
[{"$f":"IF(F840=\"\",\"\",F840&\"_\"&COUNTIF($F$9:F840,F840))","v":""},{"$f":"IF(STUDATA!B1450=\"\",\"\",STUDATA!B1450)","v":""},{"$f":"IF(STUDATA!E1450=\"\",\"\",STUDATA!E1450)","v":""},{"$f":"IF(STUDATA!F1450=\"\",\"\",STUDATA!F1450)","v":""},{"$f":"IF(STUDATA!G1450=\"\",\"\",STUDATA!G1450)","v":""},{"$f":"IF(STUDATA!C1450=\"\",\"\",STUDATA!C1450)","v":""}]
[{"$f":"IF(F841=\"\",\"\",F841&\"_\"&COUNTIF($F$9:F841,F841))","v":""},{"$f":"IF(STUDATA!B1451=\"\",\"\",STUDATA!B1451)","v":""},{"$f":"IF(STUDATA!E1451=\"\",\"\",STUDATA!E1451)","v":""},{"$f":"IF(STUDATA!F1451=\"\",\"\",STUDATA!F1451)","v":""},{"$f":"IF(STUDATA!G1451=\"\",\"\",STUDATA!G1451)","v":""},{"$f":"IF(STUDATA!C1451=\"\",\"\",STUDATA!C1451)","v":""}]
[{"$f":"IF(F842=\"\",\"\",F842&\"_\"&COUNTIF($F$9:F842,F842))","v":""},{"$f":"IF(STUDATA!B1452=\"\",\"\",STUDATA!B1452)","v":""},{"$f":"IF(STUDATA!E1452=\"\",\"\",STUDATA!E1452)","v":""},{"$f":"IF(STUDATA!F1452=\"\",\"\",STUDATA!F1452)","v":""},{"$f":"IF(STUDATA!G1452=\"\",\"\",STUDATA!G1452)","v":""},{"$f":"IF(STUDATA!C1452=\"\",\"\",STUDATA!C1452)","v":""}]
[{"$f":"IF(F843=\"\",\"\",F843&\"_\"&COUNTIF($F$9:F843,F843))","v":""},{"$f":"IF(STUDATA!B1453=\"\",\"\",STUDATA!B1453)","v":""},{"$f":"IF(STUDATA!E1453=\"\",\"\",STUDATA!E1453)","v":""},{"$f":"IF(STUDATA!F1453=\"\",\"\",STUDATA!F1453)","v":""},{"$f":"IF(STUDATA!G1453=\"\",\"\",STUDATA!G1453)","v":""},{"$f":"IF(STUDATA!C1453=\"\",\"\",STUDATA!C1453)","v":""}]
[{"$f":"IF(F844=\"\",\"\",F844&\"_\"&COUNTIF($F$9:F844,F844))","v":""},{"$f":"IF(STUDATA!B1454=\"\",\"\",STUDATA!B1454)","v":""},{"$f":"IF(STUDATA!E1454=\"\",\"\",STUDATA!E1454)","v":""},{"$f":"IF(STUDATA!F1454=\"\",\"\",STUDATA!F1454)","v":""},{"$f":"IF(STUDATA!G1454=\"\",\"\",STUDATA!G1454)","v":""},{"$f":"IF(STUDATA!C1454=\"\",\"\",STUDATA!C1454)","v":""}]
[{"$f":"IF(F845=\"\",\"\",F845&\"_\"&COUNTIF($F$9:F845,F845))","v":""},{"$f":"IF(STUDATA!B1455=\"\",\"\",STUDATA!B1455)","v":""},{"$f":"IF(STUDATA!E1455=\"\",\"\",STUDATA!E1455)","v":""},{"$f":"IF(STUDATA!F1455=\"\",\"\",STUDATA!F1455)","v":""},{"$f":"IF(STUDATA!G1455=\"\",\"\",STUDATA!G1455)","v":""},{"$f":"IF(STUDATA!C1455=\"\",\"\",STUDATA!C1455)","v":""}]
[{"$f":"IF(F846=\"\",\"\",F846&\"_\"&COUNTIF($F$9:F846,F846))","v":""},{"$f":"IF(STUDATA!B1456=\"\",\"\",STUDATA!B1456)","v":""},{"$f":"IF(STUDATA!E1456=\"\",\"\",STUDATA!E1456)","v":""},{"$f":"IF(STUDATA!F1456=\"\",\"\",STUDATA!F1456)","v":""},{"$f":"IF(STUDATA!G1456=\"\",\"\",STUDATA!G1456)","v":""},{"$f":"IF(STUDATA!C1456=\"\",\"\",STUDATA!C1456)","v":""}]
[{"$f":"IF(F847=\"\",\"\",F847&\"_\"&COUNTIF($F$9:F847,F847))","v":""},{"$f":"IF(STUDATA!B1457=\"\",\"\",STUDATA!B1457)","v":""},{"$f":"IF(STUDATA!E1457=\"\",\"\",STUDATA!E1457)","v":""},{"$f":"IF(STUDATA!F1457=\"\",\"\",STUDATA!F1457)","v":""},{"$f":"IF(STUDATA!G1457=\"\",\"\",STUDATA!G1457)","v":""},{"$f":"IF(STUDATA!C1457=\"\",\"\",STUDATA!C1457)","v":""}]
[{"$f":"IF(F848=\"\",\"\",F848&\"_\"&COUNTIF($F$9:F848,F848))","v":""},{"$f":"IF(STUDATA!B1458=\"\",\"\",STUDATA!B1458)","v":""},{"$f":"IF(STUDATA!E1458=\"\",\"\",STUDATA!E1458)","v":""},{"$f":"IF(STUDATA!F1458=\"\",\"\",STUDATA!F1458)","v":""},{"$f":"IF(STUDATA!G1458=\"\",\"\",STUDATA!G1458)","v":""},{"$f":"IF(STUDATA!C1458=\"\",\"\",STUDATA!C1458)","v":""}]
[{"$f":"IF(F849=\"\",\"\",F849&\"_\"&COUNTIF($F$9:F849,F849))","v":""},{"$f":"IF(STUDATA!B1459=\"\",\"\",STUDATA!B1459)","v":""},{"$f":"IF(STUDATA!E1459=\"\",\"\",STUDATA!E1459)","v":""},{"$f":"IF(STUDATA!F1459=\"\",\"\",STUDATA!F1459)","v":""},{"$f":"IF(STUDATA!G1459=\"\",\"\",STUDATA!G1459)","v":""},{"$f":"IF(STUDATA!C1459=\"\",\"\",STUDATA!C1459)","v":""}]
[{"$f":"IF(F850=\"\",\"\",F850&\"_\"&COUNTIF($F$9:F850,F850))","v":""},{"$f":"IF(STUDATA!B1460=\"\",\"\",STUDATA!B1460)","v":""},{"$f":"IF(STUDATA!E1460=\"\",\"\",STUDATA!E1460)","v":""},{"$f":"IF(STUDATA!F1460=\"\",\"\",STUDATA!F1460)","v":""},{"$f":"IF(STUDATA!G1460=\"\",\"\",STUDATA!G1460)","v":""},{"$f":"IF(STUDATA!C1460=\"\",\"\",STUDATA!C1460)","v":""}]
[{"$f":"IF(F851=\"\",\"\",F851&\"_\"&COUNTIF($F$9:F851,F851))","v":""},{"$f":"IF(STUDATA!B1461=\"\",\"\",STUDATA!B1461)","v":""},{"$f":"IF(STUDATA!E1461=\"\",\"\",STUDATA!E1461)","v":""},{"$f":"IF(STUDATA!F1461=\"\",\"\",STUDATA!F1461)","v":""},{"$f":"IF(STUDATA!G1461=\"\",\"\",STUDATA!G1461)","v":""},{"$f":"IF(STUDATA!C1461=\"\",\"\",STUDATA!C1461)","v":""}]
[{"$f":"IF(F852=\"\",\"\",F852&\"_\"&COUNTIF($F$9:F852,F852))","v":""},{"$f":"IF(STUDATA!B1462=\"\",\"\",STUDATA!B1462)","v":""},{"$f":"IF(STUDATA!E1462=\"\",\"\",STUDATA!E1462)","v":""},{"$f":"IF(STUDATA!F1462=\"\",\"\",STUDATA!F1462)","v":""},{"$f":"IF(STUDATA!G1462=\"\",\"\",STUDATA!G1462)","v":""},{"$f":"IF(STUDATA!C1462=\"\",\"\",STUDATA!C1462)","v":""}]
[{"$f":"IF(F853=\"\",\"\",F853&\"_\"&COUNTIF($F$9:F853,F853))","v":""},{"$f":"IF(STUDATA!B1463=\"\",\"\",STUDATA!B1463)","v":""},{"$f":"IF(STUDATA!E1463=\"\",\"\",STUDATA!E1463)","v":""},{"$f":"IF(STUDATA!F1463=\"\",\"\",STUDATA!F1463)","v":""},{"$f":"IF(STUDATA!G1463=\"\",\"\",STUDATA!G1463)","v":""},{"$f":"IF(STUDATA!C1463=\"\",\"\",STUDATA!C1463)","v":""}]
[{"$f":"IF(F854=\"\",\"\",F854&\"_\"&COUNTIF($F$9:F854,F854))","v":""},{"$f":"IF(STUDATA!B1464=\"\",\"\",STUDATA!B1464)","v":""},{"$f":"IF(STUDATA!E1464=\"\",\"\",STUDATA!E1464)","v":""},{"$f":"IF(STUDATA!F1464=\"\",\"\",STUDATA!F1464)","v":""},{"$f":"IF(STUDATA!G1464=\"\",\"\",STUDATA!G1464)","v":""},{"$f":"IF(STUDATA!C1464=\"\",\"\",STUDATA!C1464)","v":""}]
[{"$f":"IF(F855=\"\",\"\",F855&\"_\"&COUNTIF($F$9:F855,F855))","v":""},{"$f":"IF(STUDATA!B1465=\"\",\"\",STUDATA!B1465)","v":""},{"$f":"IF(STUDATA!E1465=\"\",\"\",STUDATA!E1465)","v":""},{"$f":"IF(STUDATA!F1465=\"\",\"\",STUDATA!F1465)","v":""},{"$f":"IF(STUDATA!G1465=\"\",\"\",STUDATA!G1465)","v":""},{"$f":"IF(STUDATA!C1465=\"\",\"\",STUDATA!C1465)","v":""}]
[{"$f":"IF(F856=\"\",\"\",F856&\"_\"&COUNTIF($F$9:F856,F856))","v":""},{"$f":"IF(STUDATA!B1466=\"\",\"\",STUDATA!B1466)","v":""},{"$f":"IF(STUDATA!E1466=\"\",\"\",STUDATA!E1466)","v":""},{"$f":"IF(STUDATA!F1466=\"\",\"\",STUDATA!F1466)","v":""},{"$f":"IF(STUDATA!G1466=\"\",\"\",STUDATA!G1466)","v":""},{"$f":"IF(STUDATA!C1466=\"\",\"\",STUDATA!C1466)","v":""}]
[{"$f":"IF(F857=\"\",\"\",F857&\"_\"&COUNTIF($F$9:F857,F857))","v":""},{"$f":"IF(STUDATA!B1467=\"\",\"\",STUDATA!B1467)","v":""},{"$f":"IF(STUDATA!E1467=\"\",\"\",STUDATA!E1467)","v":""},{"$f":"IF(STUDATA!F1467=\"\",\"\",STUDATA!F1467)","v":""},{"$f":"IF(STUDATA!G1467=\"\",\"\",STUDATA!G1467)","v":""},{"$f":"IF(STUDATA!C1467=\"\",\"\",STUDATA!C1467)","v":""}]
[{"$f":"IF(F858=\"\",\"\",F858&\"_\"&COUNTIF($F$9:F858,F858))","v":""},{"$f":"IF(STUDATA!B1468=\"\",\"\",STUDATA!B1468)","v":""},{"$f":"IF(STUDATA!E1468=\"\",\"\",STUDATA!E1468)","v":""},{"$f":"IF(STUDATA!F1468=\"\",\"\",STUDATA!F1468)","v":""},{"$f":"IF(STUDATA!G1468=\"\",\"\",STUDATA!G1468)","v":""},{"$f":"IF(STUDATA!C1468=\"\",\"\",STUDATA!C1468)","v":""}]
[{"$f":"IF(F859=\"\",\"\",F859&\"_\"&COUNTIF($F$9:F859,F859))","v":""},{"$f":"IF(STUDATA!B1469=\"\",\"\",STUDATA!B1469)","v":""},{"$f":"IF(STUDATA!E1469=\"\",\"\",STUDATA!E1469)","v":""},{"$f":"IF(STUDATA!F1469=\"\",\"\",STUDATA!F1469)","v":""},{"$f":"IF(STUDATA!G1469=\"\",\"\",STUDATA!G1469)","v":""},{"$f":"IF(STUDATA!C1469=\"\",\"\",STUDATA!C1469)","v":""}]
[{"$f":"IF(F860=\"\",\"\",F860&\"_\"&COUNTIF($F$9:F860,F860))","v":""},{"$f":"IF(STUDATA!B1470=\"\",\"\",STUDATA!B1470)","v":""},{"$f":"IF(STUDATA!E1470=\"\",\"\",STUDATA!E1470)","v":""},{"$f":"IF(STUDATA!F1470=\"\",\"\",STUDATA!F1470)","v":""},{"$f":"IF(STUDATA!G1470=\"\",\"\",STUDATA!G1470)","v":""},{"$f":"IF(STUDATA!C1470=\"\",\"\",STUDATA!C1470)","v":""}]
[{"$f":"IF(F861=\"\",\"\",F861&\"_\"&COUNTIF($F$9:F861,F861))","v":""},{"$f":"IF(STUDATA!B1471=\"\",\"\",STUDATA!B1471)","v":""},{"$f":"IF(STUDATA!E1471=\"\",\"\",STUDATA!E1471)","v":""},{"$f":"IF(STUDATA!F1471=\"\",\"\",STUDATA!F1471)","v":""},{"$f":"IF(STUDATA!G1471=\"\",\"\",STUDATA!G1471)","v":""},{"$f":"IF(STUDATA!C1471=\"\",\"\",STUDATA!C1471)","v":""}]
[{"$f":"IF(F862=\"\",\"\",F862&\"_\"&COUNTIF($F$9:F862,F862))","v":""},{"$f":"IF(STUDATA!B1472=\"\",\"\",STUDATA!B1472)","v":""},{"$f":"IF(STUDATA!E1472=\"\",\"\",STUDATA!E1472)","v":""},{"$f":"IF(STUDATA!F1472=\"\",\"\",STUDATA!F1472)","v":""},{"$f":"IF(STUDATA!G1472=\"\",\"\",STUDATA!G1472)","v":""},{"$f":"IF(STUDATA!C1472=\"\",\"\",STUDATA!C1472)","v":""}]
[{"$f":"IF(F863=\"\",\"\",F863&\"_\"&COUNTIF($F$9:F863,F863))","v":""},{"$f":"IF(STUDATA!B1473=\"\",\"\",STUDATA!B1473)","v":""},{"$f":"IF(STUDATA!E1473=\"\",\"\",STUDATA!E1473)","v":""},{"$f":"IF(STUDATA!F1473=\"\",\"\",STUDATA!F1473)","v":""},{"$f":"IF(STUDATA!G1473=\"\",\"\",STUDATA!G1473)","v":""},{"$f":"IF(STUDATA!C1473=\"\",\"\",STUDATA!C1473)","v":""}]
[{"$f":"IF(F864=\"\",\"\",F864&\"_\"&COUNTIF($F$9:F864,F864))","v":""},{"$f":"IF(STUDATA!B1474=\"\",\"\",STUDATA!B1474)","v":""},{"$f":"IF(STUDATA!E1474=\"\",\"\",STUDATA!E1474)","v":""},{"$f":"IF(STUDATA!F1474=\"\",\"\",STUDATA!F1474)","v":""},{"$f":"IF(STUDATA!G1474=\"\",\"\",STUDATA!G1474)","v":""},{"$f":"IF(STUDATA!C1474=\"\",\"\",STUDATA!C1474)","v":""}]
[{"$f":"IF(F865=\"\",\"\",F865&\"_\"&COUNTIF($F$9:F865,F865))","v":""},{"$f":"IF(STUDATA!B1475=\"\",\"\",STUDATA!B1475)","v":""},{"$f":"IF(STUDATA!E1475=\"\",\"\",STUDATA!E1475)","v":""},{"$f":"IF(STUDATA!F1475=\"\",\"\",STUDATA!F1475)","v":""},{"$f":"IF(STUDATA!G1475=\"\",\"\",STUDATA!G1475)","v":""},{"$f":"IF(STUDATA!C1475=\"\",\"\",STUDATA!C1475)","v":""}]
[{"$f":"IF(F866=\"\",\"\",F866&\"_\"&COUNTIF($F$9:F866,F866))","v":""},{"$f":"IF(STUDATA!B1476=\"\",\"\",STUDATA!B1476)","v":""},{"$f":"IF(STUDATA!E1476=\"\",\"\",STUDATA!E1476)","v":""},{"$f":"IF(STUDATA!F1476=\"\",\"\",STUDATA!F1476)","v":""},{"$f":"IF(STUDATA!G1476=\"\",\"\",STUDATA!G1476)","v":""},{"$f":"IF(STUDATA!C1476=\"\",\"\",STUDATA!C1476)","v":""}]
[{"$f":"IF(F867=\"\",\"\",F867&\"_\"&COUNTIF($F$9:F867,F867))","v":""},{"$f":"IF(STUDATA!B1477=\"\",\"\",STUDATA!B1477)","v":""},{"$f":"IF(STUDATA!E1477=\"\",\"\",STUDATA!E1477)","v":""},{"$f":"IF(STUDATA!F1477=\"\",\"\",STUDATA!F1477)","v":""},{"$f":"IF(STUDATA!G1477=\"\",\"\",STUDATA!G1477)","v":""},{"$f":"IF(STUDATA!C1477=\"\",\"\",STUDATA!C1477)","v":""}]
[{"$f":"IF(F868=\"\",\"\",F868&\"_\"&COUNTIF($F$9:F868,F868))","v":""},{"$f":"IF(STUDATA!B1478=\"\",\"\",STUDATA!B1478)","v":""},{"$f":"IF(STUDATA!E1478=\"\",\"\",STUDATA!E1478)","v":""},{"$f":"IF(STUDATA!F1478=\"\",\"\",STUDATA!F1478)","v":""},{"$f":"IF(STUDATA!G1478=\"\",\"\",STUDATA!G1478)","v":""},{"$f":"IF(STUDATA!C1478=\"\",\"\",STUDATA!C1478)","v":""}]
[{"$f":"IF(F869=\"\",\"\",F869&\"_\"&COUNTIF($F$9:F869,F869))","v":""},{"$f":"IF(STUDATA!B1479=\"\",\"\",STUDATA!B1479)","v":""},{"$f":"IF(STUDATA!E1479=\"\",\"\",STUDATA!E1479)","v":""},{"$f":"IF(STUDATA!F1479=\"\",\"\",STUDATA!F1479)","v":""},{"$f":"IF(STUDATA!G1479=\"\",\"\",STUDATA!G1479)","v":""},{"$f":"IF(STUDATA!C1479=\"\",\"\",STUDATA!C1479)","v":""}]
[{"$f":"IF(F870=\"\",\"\",F870&\"_\"&COUNTIF($F$9:F870,F870))","v":""},{"$f":"IF(STUDATA!B1480=\"\",\"\",STUDATA!B1480)","v":""},{"$f":"IF(STUDATA!E1480=\"\",\"\",STUDATA!E1480)","v":""},{"$f":"IF(STUDATA!F1480=\"\",\"\",STUDATA!F1480)","v":""},{"$f":"IF(STUDATA!G1480=\"\",\"\",STUDATA!G1480)","v":""},{"$f":"IF(STUDATA!C1480=\"\",\"\",STUDATA!C1480)","v":""}]
[{"$f":"IF(F871=\"\",\"\",F871&\"_\"&COUNTIF($F$9:F871,F871))","v":""},{"$f":"IF(STUDATA!B1481=\"\",\"\",STUDATA!B1481)","v":""},{"$f":"IF(STUDATA!E1481=\"\",\"\",STUDATA!E1481)","v":""},{"$f":"IF(STUDATA!F1481=\"\",\"\",STUDATA!F1481)","v":""},{"$f":"IF(STUDATA!G1481=\"\",\"\",STUDATA!G1481)","v":""},{"$f":"IF(STUDATA!C1481=\"\",\"\",STUDATA!C1481)","v":""}]
[{"$f":"IF(F872=\"\",\"\",F872&\"_\"&COUNTIF($F$9:F872,F872))","v":""},{"$f":"IF(STUDATA!B1482=\"\",\"\",STUDATA!B1482)","v":""},{"$f":"IF(STUDATA!E1482=\"\",\"\",STUDATA!E1482)","v":""},{"$f":"IF(STUDATA!F1482=\"\",\"\",STUDATA!F1482)","v":""},{"$f":"IF(STUDATA!G1482=\"\",\"\",STUDATA!G1482)","v":""},{"$f":"IF(STUDATA!C1482=\"\",\"\",STUDATA!C1482)","v":""}]
[{"$f":"IF(F873=\"\",\"\",F873&\"_\"&COUNTIF($F$9:F873,F873))","v":""},{"$f":"IF(STUDATA!B1483=\"\",\"\",STUDATA!B1483)","v":""},{"$f":"IF(STUDATA!E1483=\"\",\"\",STUDATA!E1483)","v":""},{"$f":"IF(STUDATA!F1483=\"\",\"\",STUDATA!F1483)","v":""},{"$f":"IF(STUDATA!G1483=\"\",\"\",STUDATA!G1483)","v":""},{"$f":"IF(STUDATA!C1483=\"\",\"\",STUDATA!C1483)","v":""}]
[{"$f":"IF(F874=\"\",\"\",F874&\"_\"&COUNTIF($F$9:F874,F874))","v":""},{"$f":"IF(STUDATA!B1484=\"\",\"\",STUDATA!B1484)","v":""},{"$f":"IF(STUDATA!E1484=\"\",\"\",STUDATA!E1484)","v":""},{"$f":"IF(STUDATA!F1484=\"\",\"\",STUDATA!F1484)","v":""},{"$f":"IF(STUDATA!G1484=\"\",\"\",STUDATA!G1484)","v":""},{"$f":"IF(STUDATA!C1484=\"\",\"\",STUDATA!C1484)","v":""}]
[{"$f":"IF(F875=\"\",\"\",F875&\"_\"&COUNTIF($F$9:F875,F875))","v":""},{"$f":"IF(STUDATA!B1485=\"\",\"\",STUDATA!B1485)","v":""},{"$f":"IF(STUDATA!E1485=\"\",\"\",STUDATA!E1485)","v":""},{"$f":"IF(STUDATA!F1485=\"\",\"\",STUDATA!F1485)","v":""},{"$f":"IF(STUDATA!G1485=\"\",\"\",STUDATA!G1485)","v":""},{"$f":"IF(STUDATA!C1485=\"\",\"\",STUDATA!C1485)","v":""}]
[{"$f":"IF(F876=\"\",\"\",F876&\"_\"&COUNTIF($F$9:F876,F876))","v":""},{"$f":"IF(STUDATA!B1486=\"\",\"\",STUDATA!B1486)","v":""},{"$f":"IF(STUDATA!E1486=\"\",\"\",STUDATA!E1486)","v":""},{"$f":"IF(STUDATA!F1486=\"\",\"\",STUDATA!F1486)","v":""},{"$f":"IF(STUDATA!G1486=\"\",\"\",STUDATA!G1486)","v":""},{"$f":"IF(STUDATA!C1486=\"\",\"\",STUDATA!C1486)","v":""}]
[{"$f":"IF(F877=\"\",\"\",F877&\"_\"&COUNTIF($F$9:F877,F877))","v":""},{"$f":"IF(STUDATA!B1487=\"\",\"\",STUDATA!B1487)","v":""},{"$f":"IF(STUDATA!E1487=\"\",\"\",STUDATA!E1487)","v":""},{"$f":"IF(STUDATA!F1487=\"\",\"\",STUDATA!F1487)","v":""},{"$f":"IF(STUDATA!G1487=\"\",\"\",STUDATA!G1487)","v":""},{"$f":"IF(STUDATA!C1487=\"\",\"\",STUDATA!C1487)","v":""}]
[{"$f":"IF(F878=\"\",\"\",F878&\"_\"&COUNTIF($F$9:F878,F878))","v":""},{"$f":"IF(STUDATA!B1488=\"\",\"\",STUDATA!B1488)","v":""},{"$f":"IF(STUDATA!E1488=\"\",\"\",STUDATA!E1488)","v":""},{"$f":"IF(STUDATA!F1488=\"\",\"\",STUDATA!F1488)","v":""},{"$f":"IF(STUDATA!G1488=\"\",\"\",STUDATA!G1488)","v":""},{"$f":"IF(STUDATA!C1488=\"\",\"\",STUDATA!C1488)","v":""}]
[{"$f":"IF(F879=\"\",\"\",F879&\"_\"&COUNTIF($F$9:F879,F879))","v":""},{"$f":"IF(STUDATA!B1489=\"\",\"\",STUDATA!B1489)","v":""},{"$f":"IF(STUDATA!E1489=\"\",\"\",STUDATA!E1489)","v":""},{"$f":"IF(STUDATA!F1489=\"\",\"\",STUDATA!F1489)","v":""},{"$f":"IF(STUDATA!G1489=\"\",\"\",STUDATA!G1489)","v":""},{"$f":"IF(STUDATA!C1489=\"\",\"\",STUDATA!C1489)","v":""}]
[{"$f":"IF(F880=\"\",\"\",F880&\"_\"&COUNTIF($F$9:F880,F880))","v":""},{"$f":"IF(STUDATA!B1490=\"\",\"\",STUDATA!B1490)","v":""},{"$f":"IF(STUDATA!E1490=\"\",\"\",STUDATA!E1490)","v":""},{"$f":"IF(STUDATA!F1490=\"\",\"\",STUDATA!F1490)","v":""},{"$f":"IF(STUDATA!G1490=\"\",\"\",STUDATA!G1490)","v":""},{"$f":"IF(STUDATA!C1490=\"\",\"\",STUDATA!C1490)","v":""}]
[{"$f":"IF(F881=\"\",\"\",F881&\"_\"&COUNTIF($F$9:F881,F881))","v":""},{"$f":"IF(STUDATA!B1491=\"\",\"\",STUDATA!B1491)","v":""},{"$f":"IF(STUDATA!E1491=\"\",\"\",STUDATA!E1491)","v":""},{"$f":"IF(STUDATA!F1491=\"\",\"\",STUDATA!F1491)","v":""},{"$f":"IF(STUDATA!G1491=\"\",\"\",STUDATA!G1491)","v":""},{"$f":"IF(STUDATA!C1491=\"\",\"\",STUDATA!C1491)","v":""}]
[{"$f":"IF(F882=\"\",\"\",F882&\"_\"&COUNTIF($F$9:F882,F882))","v":""},{"$f":"IF(STUDATA!B1492=\"\",\"\",STUDATA!B1492)","v":""},{"$f":"IF(STUDATA!E1492=\"\",\"\",STUDATA!E1492)","v":""},{"$f":"IF(STUDATA!F1492=\"\",\"\",STUDATA!F1492)","v":""},{"$f":"IF(STUDATA!G1492=\"\",\"\",STUDATA!G1492)","v":""},{"$f":"IF(STUDATA!C1492=\"\",\"\",STUDATA!C1492)","v":""}]
[{"$f":"IF(F883=\"\",\"\",F883&\"_\"&COUNTIF($F$9:F883,F883))","v":""},{"$f":"IF(STUDATA!B1493=\"\",\"\",STUDATA!B1493)","v":""},{"$f":"IF(STUDATA!E1493=\"\",\"\",STUDATA!E1493)","v":""},{"$f":"IF(STUDATA!F1493=\"\",\"\",STUDATA!F1493)","v":""},{"$f":"IF(STUDATA!G1493=\"\",\"\",STUDATA!G1493)","v":""},{"$f":"IF(STUDATA!C1493=\"\",\"\",STUDATA!C1493)","v":""}]
[{"$f":"IF(F884=\"\",\"\",F884&\"_\"&COUNTIF($F$9:F884,F884))","v":""},{"$f":"IF(STUDATA!B1494=\"\",\"\",STUDATA!B1494)","v":""},{"$f":"IF(STUDATA!E1494=\"\",\"\",STUDATA!E1494)","v":""},{"$f":"IF(STUDATA!F1494=\"\",\"\",STUDATA!F1494)","v":""},{"$f":"IF(STUDATA!G1494=\"\",\"\",STUDATA!G1494)","v":""},{"$f":"IF(STUDATA!C1494=\"\",\"\",STUDATA!C1494)","v":""}]
[{"$f":"IF(F885=\"\",\"\",F885&\"_\"&COUNTIF($F$9:F885,F885))","v":""},{"$f":"IF(STUDATA!B1495=\"\",\"\",STUDATA!B1495)","v":""},{"$f":"IF(STUDATA!E1495=\"\",\"\",STUDATA!E1495)","v":""},{"$f":"IF(STUDATA!F1495=\"\",\"\",STUDATA!F1495)","v":""},{"$f":"IF(STUDATA!G1495=\"\",\"\",STUDATA!G1495)","v":""},{"$f":"IF(STUDATA!C1495=\"\",\"\",STUDATA!C1495)","v":""}]
[{"$f":"IF(F886=\"\",\"\",F886&\"_\"&COUNTIF($F$9:F886,F886))","v":""},{"$f":"IF(STUDATA!B1496=\"\",\"\",STUDATA!B1496)","v":""},{"$f":"IF(STUDATA!E1496=\"\",\"\",STUDATA!E1496)","v":""},{"$f":"IF(STUDATA!F1496=\"\",\"\",STUDATA!F1496)","v":""},{"$f":"IF(STUDATA!G1496=\"\",\"\",STUDATA!G1496)","v":""},{"$f":"IF(STUDATA!C1496=\"\",\"\",STUDATA!C1496)","v":""}]
[{"$f":"IF(F887=\"\",\"\",F887&\"_\"&COUNTIF($F$9:F887,F887))","v":""},{"$f":"IF(STUDATA!B1497=\"\",\"\",STUDATA!B1497)","v":""},{"$f":"IF(STUDATA!E1497=\"\",\"\",STUDATA!E1497)","v":""},{"$f":"IF(STUDATA!F1497=\"\",\"\",STUDATA!F1497)","v":""},{"$f":"IF(STUDATA!G1497=\"\",\"\",STUDATA!G1497)","v":""},{"$f":"IF(STUDATA!C1497=\"\",\"\",STUDATA!C1497)","v":""}]
[{"$f":"IF(F888=\"\",\"\",F888&\"_\"&COUNTIF($F$9:F888,F888))","v":""},{"$f":"IF(STUDATA!B1498=\"\",\"\",STUDATA!B1498)","v":""},{"$f":"IF(STUDATA!E1498=\"\",\"\",STUDATA!E1498)","v":""},{"$f":"IF(STUDATA!F1498=\"\",\"\",STUDATA!F1498)","v":""},{"$f":"IF(STUDATA!G1498=\"\",\"\",STUDATA!G1498)","v":""},{"$f":"IF(STUDATA!C1498=\"\",\"\",STUDATA!C1498)","v":""}]
[{"$f":"IF(F889=\"\",\"\",F889&\"_\"&COUNTIF($F$9:F889,F889))","v":""},{"$f":"IF(STUDATA!B1499=\"\",\"\",STUDATA!B1499)","v":""},{"$f":"IF(STUDATA!E1499=\"\",\"\",STUDATA!E1499)","v":""},{"$f":"IF(STUDATA!F1499=\"\",\"\",STUDATA!F1499)","v":""},{"$f":"IF(STUDATA!G1499=\"\",\"\",STUDATA!G1499)","v":""},{"$f":"IF(STUDATA!C1499=\"\",\"\",STUDATA!C1499)","v":""}]
[{"$f":"IF(F890=\"\",\"\",F890&\"_\"&COUNTIF($F$9:F890,F890))","v":""},{"$f":"IF(STUDATA!B1500=\"\",\"\",STUDATA!B1500)","v":""},{"$f":"IF(STUDATA!E1500=\"\",\"\",STUDATA!E1500)","v":""},{"$f":"IF(STUDATA!F1500=\"\",\"\",STUDATA!F1500)","v":""},{"$f":"IF(STUDATA!G1500=\"\",\"\",STUDATA!G1500)","v":""},{"$f":"IF(STUDATA!C1500=\"\",\"\",STUDATA!C1500)","v":""}]
[{"$f":"IF(F891=\"\",\"\",F891&\"_\"&COUNTIF($F$9:F891,F891))","v":""},{"$f":"IF(STUDATA!B1501=\"\",\"\",STUDATA!B1501)","v":""},{"$f":"IF(STUDATA!E1501=\"\",\"\",STUDATA!E1501)","v":""},{"$f":"IF(STUDATA!F1501=\"\",\"\",STUDATA!F1501)","v":""},{"$f":"IF(STUDATA!G1501=\"\",\"\",STUDATA!G1501)","v":""},{"$f":"IF(STUDATA!C1501=\"\",\"\",STUDATA!C1501)","v":""}]
[{"$f":"IF(F892=\"\",\"\",F892&\"_\"&COUNTIF($F$9:F892,F892))","v":""},{"$f":"IF(STUDATA!B1502=\"\",\"\",STUDATA!B1502)","v":""},{"$f":"IF(STUDATA!E1502=\"\",\"\",STUDATA!E1502)","v":""},{"$f":"IF(STUDATA!F1502=\"\",\"\",STUDATA!F1502)","v":""},{"$f":"IF(STUDATA!G1502=\"\",\"\",STUDATA!G1502)","v":""},{"$f":"IF(STUDATA!C1502=\"\",\"\",STUDATA!C1502)","v":""}]
[{"$f":"IF(F893=\"\",\"\",F893&\"_\"&COUNTIF($F$9:F893,F893))","v":""},{"$f":"IF(STUDATA!B1503=\"\",\"\",STUDATA!B1503)","v":""},{"$f":"IF(STUDATA!E1503=\"\",\"\",STUDATA!E1503)","v":""},{"$f":"IF(STUDATA!F1503=\"\",\"\",STUDATA!F1503)","v":""},{"$f":"IF(STUDATA!G1503=\"\",\"\",STUDATA!G1503)","v":""},{"$f":"IF(STUDATA!C1503=\"\",\"\",STUDATA!C1503)","v":""}]
[{"$f":"IF(F894=\"\",\"\",F894&\"_\"&COUNTIF($F$9:F894,F894))","v":""},{"$f":"IF(STUDATA!B1504=\"\",\"\",STUDATA!B1504)","v":""},{"$f":"IF(STUDATA!E1504=\"\",\"\",STUDATA!E1504)","v":""},{"$f":"IF(STUDATA!F1504=\"\",\"\",STUDATA!F1504)","v":""},{"$f":"IF(STUDATA!G1504=\"\",\"\",STUDATA!G1504)","v":""},{"$f":"IF(STUDATA!C1504=\"\",\"\",STUDATA!C1504)","v":""}]
[{"$f":"IF(F895=\"\",\"\",F895&\"_\"&COUNTIF($F$9:F895,F895))","v":""},{"$f":"IF(STUDATA!B1505=\"\",\"\",STUDATA!B1505)","v":""},{"$f":"IF(STUDATA!E1505=\"\",\"\",STUDATA!E1505)","v":""},{"$f":"IF(STUDATA!F1505=\"\",\"\",STUDATA!F1505)","v":""},{"$f":"IF(STUDATA!G1505=\"\",\"\",STUDATA!G1505)","v":""},{"$f":"IF(STUDATA!C1505=\"\",\"\",STUDATA!C1505)","v":""}]
[{"$f":"IF(F896=\"\",\"\",F896&\"_\"&COUNTIF($F$9:F896,F896))","v":""},{"$f":"IF(STUDATA!B1506=\"\",\"\",STUDATA!B1506)","v":""},{"$f":"IF(STUDATA!E1506=\"\",\"\",STUDATA!E1506)","v":""},{"$f":"IF(STUDATA!F1506=\"\",\"\",STUDATA!F1506)","v":""},{"$f":"IF(STUDATA!G1506=\"\",\"\",STUDATA!G1506)","v":""},{"$f":"IF(STUDATA!C1506=\"\",\"\",STUDATA!C1506)","v":""}]
[{"$f":"IF(F897=\"\",\"\",F897&\"_\"&COUNTIF($F$9:F897,F897))","v":""},{"$f":"IF(STUDATA!B1507=\"\",\"\",STUDATA!B1507)","v":""},{"$f":"IF(STUDATA!E1507=\"\",\"\",STUDATA!E1507)","v":""},{"$f":"IF(STUDATA!F1507=\"\",\"\",STUDATA!F1507)","v":""},{"$f":"IF(STUDATA!G1507=\"\",\"\",STUDATA!G1507)","v":""},{"$f":"IF(STUDATA!C1507=\"\",\"\",STUDATA!C1507)","v":""}]
[{"$f":"IF(F898=\"\",\"\",F898&\"_\"&COUNTIF($F$9:F898,F898))","v":""},{"$f":"IF(STUDATA!B1508=\"\",\"\",STUDATA!B1508)","v":""},{"$f":"IF(STUDATA!E1508=\"\",\"\",STUDATA!E1508)","v":""},{"$f":"IF(STUDATA!F1508=\"\",\"\",STUDATA!F1508)","v":""},{"$f":"IF(STUDATA!G1508=\"\",\"\",STUDATA!G1508)","v":""},{"$f":"IF(STUDATA!C1508=\"\",\"\",STUDATA!C1508)","v":""}]
[{"$f":"IF(F899=\"\",\"\",F899&\"_\"&COUNTIF($F$9:F899,F899))","v":""},{"$f":"IF(STUDATA!B1509=\"\",\"\",STUDATA!B1509)","v":""},{"$f":"IF(STUDATA!E1509=\"\",\"\",STUDATA!E1509)","v":""},{"$f":"IF(STUDATA!F1509=\"\",\"\",STUDATA!F1509)","v":""},{"$f":"IF(STUDATA!G1509=\"\",\"\",STUDATA!G1509)","v":""},{"$f":"IF(STUDATA!C1509=\"\",\"\",STUDATA!C1509)","v":""}]
[{"$f":"IF(F900=\"\",\"\",F900&\"_\"&COUNTIF($F$9:F900,F900))","v":""},{"$f":"IF(STUDATA!B1510=\"\",\"\",STUDATA!B1510)","v":""},{"$f":"IF(STUDATA!E1510=\"\",\"\",STUDATA!E1510)","v":""},{"$f":"IF(STUDATA!F1510=\"\",\"\",STUDATA!F1510)","v":""},{"$f":"IF(STUDATA!G1510=\"\",\"\",STUDATA!G1510)","v":""},{"$f":"IF(STUDATA!C1510=\"\",\"\",STUDATA!C1510)","v":""}]
[{"$f":"IF(F901=\"\",\"\",F901&\"_\"&COUNTIF($F$9:F901,F901))","v":""},{"$f":"IF(STUDATA!B1511=\"\",\"\",STUDATA!B1511)","v":""},{"$f":"IF(STUDATA!E1511=\"\",\"\",STUDATA!E1511)","v":""},{"$f":"IF(STUDATA!F1511=\"\",\"\",STUDATA!F1511)","v":""},{"$f":"IF(STUDATA!G1511=\"\",\"\",STUDATA!G1511)","v":""},{"$f":"IF(STUDATA!C1511=\"\",\"\",STUDATA!C1511)","v":""}]
[{"$f":"IF(F902=\"\",\"\",F902&\"_\"&COUNTIF($F$9:F902,F902))","v":""},{"$f":"IF(STUDATA!B1512=\"\",\"\",STUDATA!B1512)","v":""},{"$f":"IF(STUDATA!E1512=\"\",\"\",STUDATA!E1512)","v":""},{"$f":"IF(STUDATA!F1512=\"\",\"\",STUDATA!F1512)","v":""},{"$f":"IF(STUDATA!G1512=\"\",\"\",STUDATA!G1512)","v":""},{"$f":"IF(STUDATA!C1512=\"\",\"\",STUDATA!C1512)","v":""}]
[{"$f":"IF(F903=\"\",\"\",F903&\"_\"&COUNTIF($F$9:F903,F903))","v":""},{"$f":"IF(STUDATA!B1513=\"\",\"\",STUDATA!B1513)","v":""},{"$f":"IF(STUDATA!E1513=\"\",\"\",STUDATA!E1513)","v":""},{"$f":"IF(STUDATA!F1513=\"\",\"\",STUDATA!F1513)","v":""},{"$f":"IF(STUDATA!G1513=\"\",\"\",STUDATA!G1513)","v":""},{"$f":"IF(STUDATA!C1513=\"\",\"\",STUDATA!C1513)","v":""}]
[{"$f":"IF(F904=\"\",\"\",F904&\"_\"&COUNTIF($F$9:F904,F904))","v":""},{"$f":"IF(STUDATA!B1514=\"\",\"\",STUDATA!B1514)","v":""},{"$f":"IF(STUDATA!E1514=\"\",\"\",STUDATA!E1514)","v":""},{"$f":"IF(STUDATA!F1514=\"\",\"\",STUDATA!F1514)","v":""},{"$f":"IF(STUDATA!G1514=\"\",\"\",STUDATA!G1514)","v":""},{"$f":"IF(STUDATA!C1514=\"\",\"\",STUDATA!C1514)","v":""}]
[{"$f":"IF(F905=\"\",\"\",F905&\"_\"&COUNTIF($F$9:F905,F905))","v":""},{"$f":"IF(STUDATA!B1515=\"\",\"\",STUDATA!B1515)","v":""},{"$f":"IF(STUDATA!E1515=\"\",\"\",STUDATA!E1515)","v":""},{"$f":"IF(STUDATA!F1515=\"\",\"\",STUDATA!F1515)","v":""},{"$f":"IF(STUDATA!G1515=\"\",\"\",STUDATA!G1515)","v":""},{"$f":"IF(STUDATA!C1515=\"\",\"\",STUDATA!C1515)","v":""}]
[{"$f":"IF(F906=\"\",\"\",F906&\"_\"&COUNTIF($F$9:F906,F906))","v":""},{"$f":"IF(STUDATA!B1516=\"\",\"\",STUDATA!B1516)","v":""},{"$f":"IF(STUDATA!E1516=\"\",\"\",STUDATA!E1516)","v":""},{"$f":"IF(STUDATA!F1516=\"\",\"\",STUDATA!F1516)","v":""},{"$f":"IF(STUDATA!G1516=\"\",\"\",STUDATA!G1516)","v":""},{"$f":"IF(STUDATA!C1516=\"\",\"\",STUDATA!C1516)","v":""}]
[{"$f":"IF(F907=\"\",\"\",F907&\"_\"&COUNTIF($F$9:F907,F907))","v":""},{"$f":"IF(STUDATA!B1517=\"\",\"\",STUDATA!B1517)","v":""},{"$f":"IF(STUDATA!E1517=\"\",\"\",STUDATA!E1517)","v":""},{"$f":"IF(STUDATA!F1517=\"\",\"\",STUDATA!F1517)","v":""},{"$f":"IF(STUDATA!G1517=\"\",\"\",STUDATA!G1517)","v":""},{"$f":"IF(STUDATA!C1517=\"\",\"\",STUDATA!C1517)","v":""}]
[{"$f":"IF(F908=\"\",\"\",F908&\"_\"&COUNTIF($F$9:F908,F908))","v":""},{"$f":"IF(STUDATA!B1518=\"\",\"\",STUDATA!B1518)","v":""},{"$f":"IF(STUDATA!E1518=\"\",\"\",STUDATA!E1518)","v":""},{"$f":"IF(STUDATA!F1518=\"\",\"\",STUDATA!F1518)","v":""},{"$f":"IF(STUDATA!G1518=\"\",\"\",STUDATA!G1518)","v":""},{"$f":"IF(STUDATA!C1518=\"\",\"\",STUDATA!C1518)","v":""}]
[{"$f":"IF(F909=\"\",\"\",F909&\"_\"&COUNTIF($F$9:F909,F909))","v":""},{"$f":"IF(STUDATA!B1519=\"\",\"\",STUDATA!B1519)","v":""},{"$f":"IF(STUDATA!E1519=\"\",\"\",STUDATA!E1519)","v":""},{"$f":"IF(STUDATA!F1519=\"\",\"\",STUDATA!F1519)","v":""},{"$f":"IF(STUDATA!G1519=\"\",\"\",STUDATA!G1519)","v":""},{"$f":"IF(STUDATA!C1519=\"\",\"\",STUDATA!C1519)","v":""}]
[{"$f":"IF(F910=\"\",\"\",F910&\"_\"&COUNTIF($F$9:F910,F910))","v":""},{"$f":"IF(STUDATA!B1520=\"\",\"\",STUDATA!B1520)","v":""},{"$f":"IF(STUDATA!E1520=\"\",\"\",STUDATA!E1520)","v":""},{"$f":"IF(STUDATA!F1520=\"\",\"\",STUDATA!F1520)","v":""},{"$f":"IF(STUDATA!G1520=\"\",\"\",STUDATA!G1520)","v":""},{"$f":"IF(STUDATA!C1520=\"\",\"\",STUDATA!C1520)","v":""}]
[{"$f":"IF(F911=\"\",\"\",F911&\"_\"&COUNTIF($F$9:F911,F911))","v":""},{"$f":"IF(STUDATA!B1521=\"\",\"\",STUDATA!B1521)","v":""},{"$f":"IF(STUDATA!E1521=\"\",\"\",STUDATA!E1521)","v":""},{"$f":"IF(STUDATA!F1521=\"\",\"\",STUDATA!F1521)","v":""},{"$f":"IF(STUDATA!G1521=\"\",\"\",STUDATA!G1521)","v":""},{"$f":"IF(STUDATA!C1521=\"\",\"\",STUDATA!C1521)","v":""}]
[{"$f":"IF(F912=\"\",\"\",F912&\"_\"&COUNTIF($F$9:F912,F912))","v":""},{"$f":"IF(STUDATA!B1522=\"\",\"\",STUDATA!B1522)","v":""},{"$f":"IF(STUDATA!E1522=\"\",\"\",STUDATA!E1522)","v":""},{"$f":"IF(STUDATA!F1522=\"\",\"\",STUDATA!F1522)","v":""},{"$f":"IF(STUDATA!G1522=\"\",\"\",STUDATA!G1522)","v":""},{"$f":"IF(STUDATA!C1522=\"\",\"\",STUDATA!C1522)","v":""}]
[{"$f":"IF(F913=\"\",\"\",F913&\"_\"&COUNTIF($F$9:F913,F913))","v":""},{"$f":"IF(STUDATA!B1523=\"\",\"\",STUDATA!B1523)","v":""},{"$f":"IF(STUDATA!E1523=\"\",\"\",STUDATA!E1523)","v":""},{"$f":"IF(STUDATA!F1523=\"\",\"\",STUDATA!F1523)","v":""},{"$f":"IF(STUDATA!G1523=\"\",\"\",STUDATA!G1523)","v":""},{"$f":"IF(STUDATA!C1523=\"\",\"\",STUDATA!C1523)","v":""}]
[{"$f":"IF(F914=\"\",\"\",F914&\"_\"&COUNTIF($F$9:F914,F914))","v":""},{"$f":"IF(STUDATA!B1524=\"\",\"\",STUDATA!B1524)","v":""},{"$f":"IF(STUDATA!E1524=\"\",\"\",STUDATA!E1524)","v":""},{"$f":"IF(STUDATA!F1524=\"\",\"\",STUDATA!F1524)","v":""},{"$f":"IF(STUDATA!G1524=\"\",\"\",STUDATA!G1524)","v":""},{"$f":"IF(STUDATA!C1524=\"\",\"\",STUDATA!C1524)","v":""}]
[{"$f":"IF(F915=\"\",\"\",F915&\"_\"&COUNTIF($F$9:F915,F915))","v":""},{"$f":"IF(STUDATA!B1525=\"\",\"\",STUDATA!B1525)","v":""},{"$f":"IF(STUDATA!E1525=\"\",\"\",STUDATA!E1525)","v":""},{"$f":"IF(STUDATA!F1525=\"\",\"\",STUDATA!F1525)","v":""},{"$f":"IF(STUDATA!G1525=\"\",\"\",STUDATA!G1525)","v":""},{"$f":"IF(STUDATA!C1525=\"\",\"\",STUDATA!C1525)","v":""}]
[{"$f":"IF(F916=\"\",\"\",F916&\"_\"&COUNTIF($F$9:F916,F916))","v":""},{"$f":"IF(STUDATA!B1526=\"\",\"\",STUDATA!B1526)","v":""},{"$f":"IF(STUDATA!E1526=\"\",\"\",STUDATA!E1526)","v":""},{"$f":"IF(STUDATA!F1526=\"\",\"\",STUDATA!F1526)","v":""},{"$f":"IF(STUDATA!G1526=\"\",\"\",STUDATA!G1526)","v":""},{"$f":"IF(STUDATA!C1526=\"\",\"\",STUDATA!C1526)","v":""}]
[{"$f":"IF(F917=\"\",\"\",F917&\"_\"&COUNTIF($F$9:F917,F917))","v":""},{"$f":"IF(STUDATA!B1527=\"\",\"\",STUDATA!B1527)","v":""},{"$f":"IF(STUDATA!E1527=\"\",\"\",STUDATA!E1527)","v":""},{"$f":"IF(STUDATA!F1527=\"\",\"\",STUDATA!F1527)","v":""},{"$f":"IF(STUDATA!G1527=\"\",\"\",STUDATA!G1527)","v":""},{"$f":"IF(STUDATA!C1527=\"\",\"\",STUDATA!C1527)","v":""}]
[{"$f":"IF(F918=\"\",\"\",F918&\"_\"&COUNTIF($F$9:F918,F918))","v":""},{"$f":"IF(STUDATA!B1528=\"\",\"\",STUDATA!B1528)","v":""},{"$f":"IF(STUDATA!E1528=\"\",\"\",STUDATA!E1528)","v":""},{"$f":"IF(STUDATA!F1528=\"\",\"\",STUDATA!F1528)","v":""},{"$f":"IF(STUDATA!G1528=\"\",\"\",STUDATA!G1528)","v":""},{"$f":"IF(STUDATA!C1528=\"\",\"\",STUDATA!C1528)","v":""}]
[{"$f":"IF(F919=\"\",\"\",F919&\"_\"&COUNTIF($F$9:F919,F919))","v":""},{"$f":"IF(STUDATA!B1529=\"\",\"\",STUDATA!B1529)","v":""},{"$f":"IF(STUDATA!E1529=\"\",\"\",STUDATA!E1529)","v":""},{"$f":"IF(STUDATA!F1529=\"\",\"\",STUDATA!F1529)","v":""},{"$f":"IF(STUDATA!G1529=\"\",\"\",STUDATA!G1529)","v":""},{"$f":"IF(STUDATA!C1529=\"\",\"\",STUDATA!C1529)","v":""}]
[{"$f":"IF(F920=\"\",\"\",F920&\"_\"&COUNTIF($F$9:F920,F920))","v":""},{"$f":"IF(STUDATA!B1530=\"\",\"\",STUDATA!B1530)","v":""},{"$f":"IF(STUDATA!E1530=\"\",\"\",STUDATA!E1530)","v":""},{"$f":"IF(STUDATA!F1530=\"\",\"\",STUDATA!F1530)","v":""},{"$f":"IF(STUDATA!G1530=\"\",\"\",STUDATA!G1530)","v":""},{"$f":"IF(STUDATA!C1530=\"\",\"\",STUDATA!C1530)","v":""}]
[{"$f":"IF(F921=\"\",\"\",F921&\"_\"&COUNTIF($F$9:F921,F921))","v":""},{"$f":"IF(STUDATA!B1531=\"\",\"\",STUDATA!B1531)","v":""},{"$f":"IF(STUDATA!E1531=\"\",\"\",STUDATA!E1531)","v":""},{"$f":"IF(STUDATA!F1531=\"\",\"\",STUDATA!F1531)","v":""},{"$f":"IF(STUDATA!G1531=\"\",\"\",STUDATA!G1531)","v":""},{"$f":"IF(STUDATA!C1531=\"\",\"\",STUDATA!C1531)","v":""}]
[{"$f":"IF(F922=\"\",\"\",F922&\"_\"&COUNTIF($F$9:F922,F922))","v":""},{"$f":"IF(STUDATA!B1532=\"\",\"\",STUDATA!B1532)","v":""},{"$f":"IF(STUDATA!E1532=\"\",\"\",STUDATA!E1532)","v":""},{"$f":"IF(STUDATA!F1532=\"\",\"\",STUDATA!F1532)","v":""},{"$f":"IF(STUDATA!G1532=\"\",\"\",STUDATA!G1532)","v":""},{"$f":"IF(STUDATA!C1532=\"\",\"\",STUDATA!C1532)","v":""}]
[{"$f":"IF(F923=\"\",\"\",F923&\"_\"&COUNTIF($F$9:F923,F923))","v":""},{"$f":"IF(STUDATA!B1533=\"\",\"\",STUDATA!B1533)","v":""},{"$f":"IF(STUDATA!E1533=\"\",\"\",STUDATA!E1533)","v":""},{"$f":"IF(STUDATA!F1533=\"\",\"\",STUDATA!F1533)","v":""},{"$f":"IF(STUDATA!G1533=\"\",\"\",STUDATA!G1533)","v":""},{"$f":"IF(STUDATA!C1533=\"\",\"\",STUDATA!C1533)","v":""}]
[{"$f":"IF(F924=\"\",\"\",F924&\"_\"&COUNTIF($F$9:F924,F924))","v":""},{"$f":"IF(STUDATA!B1534=\"\",\"\",STUDATA!B1534)","v":""},{"$f":"IF(STUDATA!E1534=\"\",\"\",STUDATA!E1534)","v":""},{"$f":"IF(STUDATA!F1534=\"\",\"\",STUDATA!F1534)","v":""},{"$f":"IF(STUDATA!G1534=\"\",\"\",STUDATA!G1534)","v":""},{"$f":"IF(STUDATA!C1534=\"\",\"\",STUDATA!C1534)","v":""}]
[{"$f":"IF(F925=\"\",\"\",F925&\"_\"&COUNTIF($F$9:F925,F925))","v":""},{"$f":"IF(STUDATA!B1535=\"\",\"\",STUDATA!B1535)","v":""},{"$f":"IF(STUDATA!E1535=\"\",\"\",STUDATA!E1535)","v":""},{"$f":"IF(STUDATA!F1535=\"\",\"\",STUDATA!F1535)","v":""},{"$f":"IF(STUDATA!G1535=\"\",\"\",STUDATA!G1535)","v":""},{"$f":"IF(STUDATA!C1535=\"\",\"\",STUDATA!C1535)","v":""}]
[{"$f":"IF(F926=\"\",\"\",F926&\"_\"&COUNTIF($F$9:F926,F926))","v":""},{"$f":"IF(STUDATA!B1536=\"\",\"\",STUDATA!B1536)","v":""},{"$f":"IF(STUDATA!E1536=\"\",\"\",STUDATA!E1536)","v":""},{"$f":"IF(STUDATA!F1536=\"\",\"\",STUDATA!F1536)","v":""},{"$f":"IF(STUDATA!G1536=\"\",\"\",STUDATA!G1536)","v":""},{"$f":"IF(STUDATA!C1536=\"\",\"\",STUDATA!C1536)","v":""}]
[{"$f":"IF(F927=\"\",\"\",F927&\"_\"&COUNTIF($F$9:F927,F927))","v":""},{"$f":"IF(STUDATA!B1537=\"\",\"\",STUDATA!B1537)","v":""},{"$f":"IF(STUDATA!E1537=\"\",\"\",STUDATA!E1537)","v":""},{"$f":"IF(STUDATA!F1537=\"\",\"\",STUDATA!F1537)","v":""},{"$f":"IF(STUDATA!G1537=\"\",\"\",STUDATA!G1537)","v":""},{"$f":"IF(STUDATA!C1537=\"\",\"\",STUDATA!C1537)","v":""}]
[{"$f":"IF(F928=\"\",\"\",F928&\"_\"&COUNTIF($F$9:F928,F928))","v":""},{"$f":"IF(STUDATA!B1538=\"\",\"\",STUDATA!B1538)","v":""},{"$f":"IF(STUDATA!E1538=\"\",\"\",STUDATA!E1538)","v":""},{"$f":"IF(STUDATA!F1538=\"\",\"\",STUDATA!F1538)","v":""},{"$f":"IF(STUDATA!G1538=\"\",\"\",STUDATA!G1538)","v":""},{"$f":"IF(STUDATA!C1538=\"\",\"\",STUDATA!C1538)","v":""}]
[{"$f":"IF(F929=\"\",\"\",F929&\"_\"&COUNTIF($F$9:F929,F929))","v":""},{"$f":"IF(STUDATA!B1539=\"\",\"\",STUDATA!B1539)","v":""},{"$f":"IF(STUDATA!E1539=\"\",\"\",STUDATA!E1539)","v":""},{"$f":"IF(STUDATA!F1539=\"\",\"\",STUDATA!F1539)","v":""},{"$f":"IF(STUDATA!G1539=\"\",\"\",STUDATA!G1539)","v":""},{"$f":"IF(STUDATA!C1539=\"\",\"\",STUDATA!C1539)","v":""}]
[{"$f":"IF(F930=\"\",\"\",F930&\"_\"&COUNTIF($F$9:F930,F930))","v":""},{"$f":"IF(STUDATA!B1540=\"\",\"\",STUDATA!B1540)","v":""},{"$f":"IF(STUDATA!E1540=\"\",\"\",STUDATA!E1540)","v":""},{"$f":"IF(STUDATA!F1540=\"\",\"\",STUDATA!F1540)","v":""},{"$f":"IF(STUDATA!G1540=\"\",\"\",STUDATA!G1540)","v":""},{"$f":"IF(STUDATA!C1540=\"\",\"\",STUDATA!C1540)","v":""}]
[{"$f":"IF(F931=\"\",\"\",F931&\"_\"&COUNTIF($F$9:F931,F931))","v":""},{"$f":"IF(STUDATA!B1541=\"\",\"\",STUDATA!B1541)","v":""},{"$f":"IF(STUDATA!E1541=\"\",\"\",STUDATA!E1541)","v":""},{"$f":"IF(STUDATA!F1541=\"\",\"\",STUDATA!F1541)","v":""},{"$f":"IF(STUDATA!G1541=\"\",\"\",STUDATA!G1541)","v":""},{"$f":"IF(STUDATA!C1541=\"\",\"\",STUDATA!C1541)","v":""}]
[{"$f":"IF(F932=\"\",\"\",F932&\"_\"&COUNTIF($F$9:F932,F932))","v":""},{"$f":"IF(STUDATA!B1542=\"\",\"\",STUDATA!B1542)","v":""},{"$f":"IF(STUDATA!E1542=\"\",\"\",STUDATA!E1542)","v":""},{"$f":"IF(STUDATA!F1542=\"\",\"\",STUDATA!F1542)","v":""},{"$f":"IF(STUDATA!G1542=\"\",\"\",STUDATA!G1542)","v":""},{"$f":"IF(STUDATA!C1542=\"\",\"\",STUDATA!C1542)","v":""}]
[{"$f":"IF(F933=\"\",\"\",F933&\"_\"&COUNTIF($F$9:F933,F933))","v":""},{"$f":"IF(STUDATA!B1543=\"\",\"\",STUDATA!B1543)","v":""},{"$f":"IF(STUDATA!E1543=\"\",\"\",STUDATA!E1543)","v":""},{"$f":"IF(STUDATA!F1543=\"\",\"\",STUDATA!F1543)","v":""},{"$f":"IF(STUDATA!G1543=\"\",\"\",STUDATA!G1543)","v":""},{"$f":"IF(STUDATA!C1543=\"\",\"\",STUDATA!C1543)","v":""}]
[{"$f":"IF(F934=\"\",\"\",F934&\"_\"&COUNTIF($F$9:F934,F934))","v":""},{"$f":"IF(STUDATA!B1544=\"\",\"\",STUDATA!B1544)","v":""},{"$f":"IF(STUDATA!E1544=\"\",\"\",STUDATA!E1544)","v":""},{"$f":"IF(STUDATA!F1544=\"\",\"\",STUDATA!F1544)","v":""},{"$f":"IF(STUDATA!G1544=\"\",\"\",STUDATA!G1544)","v":""},{"$f":"IF(STUDATA!C1544=\"\",\"\",STUDATA!C1544)","v":""}]
[{"$f":"IF(F935=\"\",\"\",F935&\"_\"&COUNTIF($F$9:F935,F935))","v":""},{"$f":"IF(STUDATA!B1545=\"\",\"\",STUDATA!B1545)","v":""},{"$f":"IF(STUDATA!E1545=\"\",\"\",STUDATA!E1545)","v":""},{"$f":"IF(STUDATA!F1545=\"\",\"\",STUDATA!F1545)","v":""},{"$f":"IF(STUDATA!G1545=\"\",\"\",STUDATA!G1545)","v":""},{"$f":"IF(STUDATA!C1545=\"\",\"\",STUDATA!C1545)","v":""}]
[{"$f":"IF(F936=\"\",\"\",F936&\"_\"&COUNTIF($F$9:F936,F936))","v":""},{"$f":"IF(STUDATA!B1546=\"\",\"\",STUDATA!B1546)","v":""},{"$f":"IF(STUDATA!E1546=\"\",\"\",STUDATA!E1546)","v":""},{"$f":"IF(STUDATA!F1546=\"\",\"\",STUDATA!F1546)","v":""},{"$f":"IF(STUDATA!G1546=\"\",\"\",STUDATA!G1546)","v":""},{"$f":"IF(STUDATA!C1546=\"\",\"\",STUDATA!C1546)","v":""}]
[{"$f":"IF(F937=\"\",\"\",F937&\"_\"&COUNTIF($F$9:F937,F937))","v":""},{"$f":"IF(STUDATA!B1547=\"\",\"\",STUDATA!B1547)","v":""},{"$f":"IF(STUDATA!E1547=\"\",\"\",STUDATA!E1547)","v":""},{"$f":"IF(STUDATA!F1547=\"\",\"\",STUDATA!F1547)","v":""},{"$f":"IF(STUDATA!G1547=\"\",\"\",STUDATA!G1547)","v":""},{"$f":"IF(STUDATA!C1547=\"\",\"\",STUDATA!C1547)","v":""}]
[{"$f":"IF(F938=\"\",\"\",F938&\"_\"&COUNTIF($F$9:F938,F938))","v":""},{"$f":"IF(STUDATA!B1548=\"\",\"\",STUDATA!B1548)","v":""},{"$f":"IF(STUDATA!E1548=\"\",\"\",STUDATA!E1548)","v":""},{"$f":"IF(STUDATA!F1548=\"\",\"\",STUDATA!F1548)","v":""},{"$f":"IF(STUDATA!G1548=\"\",\"\",STUDATA!G1548)","v":""},{"$f":"IF(STUDATA!C1548=\"\",\"\",STUDATA!C1548)","v":""}]
[{"$f":"IF(F939=\"\",\"\",F939&\"_\"&COUNTIF($F$9:F939,F939))","v":""},{"$f":"IF(STUDATA!B1549=\"\",\"\",STUDATA!B1549)","v":""},{"$f":"IF(STUDATA!E1549=\"\",\"\",STUDATA!E1549)","v":""},{"$f":"IF(STUDATA!F1549=\"\",\"\",STUDATA!F1549)","v":""},{"$f":"IF(STUDATA!G1549=\"\",\"\",STUDATA!G1549)","v":""},{"$f":"IF(STUDATA!C1549=\"\",\"\",STUDATA!C1549)","v":""}]
[{"$f":"IF(F940=\"\",\"\",F940&\"_\"&COUNTIF($F$9:F940,F940))","v":""},{"$f":"IF(STUDATA!B1550=\"\",\"\",STUDATA!B1550)","v":""},{"$f":"IF(STUDATA!E1550=\"\",\"\",STUDATA!E1550)","v":""},{"$f":"IF(STUDATA!F1550=\"\",\"\",STUDATA!F1550)","v":""},{"$f":"IF(STUDATA!G1550=\"\",\"\",STUDATA!G1550)","v":""},{"$f":"IF(STUDATA!C1550=\"\",\"\",STUDATA!C1550)","v":""}]
[{"$f":"IF(F941=\"\",\"\",F941&\"_\"&COUNTIF($F$9:F941,F941))","v":""},{"$f":"IF(STUDATA!B1551=\"\",\"\",STUDATA!B1551)","v":""},{"$f":"IF(STUDATA!E1551=\"\",\"\",STUDATA!E1551)","v":""},{"$f":"IF(STUDATA!F1551=\"\",\"\",STUDATA!F1551)","v":""},{"$f":"IF(STUDATA!G1551=\"\",\"\",STUDATA!G1551)","v":""},{"$f":"IF(STUDATA!C1551=\"\",\"\",STUDATA!C1551)","v":""}]
[{"$f":"IF(F942=\"\",\"\",F942&\"_\"&COUNTIF($F$9:F942,F942))","v":""},{"$f":"IF(STUDATA!B1552=\"\",\"\",STUDATA!B1552)","v":""},{"$f":"IF(STUDATA!E1552=\"\",\"\",STUDATA!E1552)","v":""},{"$f":"IF(STUDATA!F1552=\"\",\"\",STUDATA!F1552)","v":""},{"$f":"IF(STUDATA!G1552=\"\",\"\",STUDATA!G1552)","v":""},{"$f":"IF(STUDATA!C1552=\"\",\"\",STUDATA!C1552)","v":""}]
[{"$f":"IF(F943=\"\",\"\",F943&\"_\"&COUNTIF($F$9:F943,F943))","v":""},{"$f":"IF(STUDATA!B1553=\"\",\"\",STUDATA!B1553)","v":""},{"$f":"IF(STUDATA!E1553=\"\",\"\",STUDATA!E1553)","v":""},{"$f":"IF(STUDATA!F1553=\"\",\"\",STUDATA!F1553)","v":""},{"$f":"IF(STUDATA!G1553=\"\",\"\",STUDATA!G1553)","v":""},{"$f":"IF(STUDATA!C1553=\"\",\"\",STUDATA!C1553)","v":""}]
[{"$f":"IF(F944=\"\",\"\",F944&\"_\"&COUNTIF($F$9:F944,F944))","v":""},{"$f":"IF(STUDATA!B1554=\"\",\"\",STUDATA!B1554)","v":""},{"$f":"IF(STUDATA!E1554=\"\",\"\",STUDATA!E1554)","v":""},{"$f":"IF(STUDATA!F1554=\"\",\"\",STUDATA!F1554)","v":""},{"$f":"IF(STUDATA!G1554=\"\",\"\",STUDATA!G1554)","v":""},{"$f":"IF(STUDATA!C1554=\"\",\"\",STUDATA!C1554)","v":""}]
[{"$f":"IF(F945=\"\",\"\",F945&\"_\"&COUNTIF($F$9:F945,F945))","v":""},{"$f":"IF(STUDATA!B1555=\"\",\"\",STUDATA!B1555)","v":""},{"$f":"IF(STUDATA!E1555=\"\",\"\",STUDATA!E1555)","v":""},{"$f":"IF(STUDATA!F1555=\"\",\"\",STUDATA!F1555)","v":""},{"$f":"IF(STUDATA!G1555=\"\",\"\",STUDATA!G1555)","v":""},{"$f":"IF(STUDATA!C1555=\"\",\"\",STUDATA!C1555)","v":""}]
[{"$f":"IF(F946=\"\",\"\",F946&\"_\"&COUNTIF($F$9:F946,F946))","v":""},{"$f":"IF(STUDATA!B1556=\"\",\"\",STUDATA!B1556)","v":""},{"$f":"IF(STUDATA!E1556=\"\",\"\",STUDATA!E1556)","v":""},{"$f":"IF(STUDATA!F1556=\"\",\"\",STUDATA!F1556)","v":""},{"$f":"IF(STUDATA!G1556=\"\",\"\",STUDATA!G1556)","v":""},{"$f":"IF(STUDATA!C1556=\"\",\"\",STUDATA!C1556)","v":""}]
[{"$f":"IF(F947=\"\",\"\",F947&\"_\"&COUNTIF($F$9:F947,F947))","v":""},{"$f":"IF(STUDATA!B1557=\"\",\"\",STUDATA!B1557)","v":""},{"$f":"IF(STUDATA!E1557=\"\",\"\",STUDATA!E1557)","v":""},{"$f":"IF(STUDATA!F1557=\"\",\"\",STUDATA!F1557)","v":""},{"$f":"IF(STUDATA!G1557=\"\",\"\",STUDATA!G1557)","v":""},{"$f":"IF(STUDATA!C1557=\"\",\"\",STUDATA!C1557)","v":""}]
[{"$f":"IF(F948=\"\",\"\",F948&\"_\"&COUNTIF($F$9:F948,F948))","v":""},{"$f":"IF(STUDATA!B1558=\"\",\"\",STUDATA!B1558)","v":""},{"$f":"IF(STUDATA!E1558=\"\",\"\",STUDATA!E1558)","v":""},{"$f":"IF(STUDATA!F1558=\"\",\"\",STUDATA!F1558)","v":""},{"$f":"IF(STUDATA!G1558=\"\",\"\",STUDATA!G1558)","v":""},{"$f":"IF(STUDATA!C1558=\"\",\"\",STUDATA!C1558)","v":""}]
[{"$f":"IF(F949=\"\",\"\",F949&\"_\"&COUNTIF($F$9:F949,F949))","v":""},{"$f":"IF(STUDATA!B1559=\"\",\"\",STUDATA!B1559)","v":""},{"$f":"IF(STUDATA!E1559=\"\",\"\",STUDATA!E1559)","v":""},{"$f":"IF(STUDATA!F1559=\"\",\"\",STUDATA!F1559)","v":""},{"$f":"IF(STUDATA!G1559=\"\",\"\",STUDATA!G1559)","v":""},{"$f":"IF(STUDATA!C1559=\"\",\"\",STUDATA!C1559)","v":""}]
[{"$f":"IF(F950=\"\",\"\",F950&\"_\"&COUNTIF($F$9:F950,F950))","v":""},{"$f":"IF(STUDATA!B1560=\"\",\"\",STUDATA!B1560)","v":""},{"$f":"IF(STUDATA!E1560=\"\",\"\",STUDATA!E1560)","v":""},{"$f":"IF(STUDATA!F1560=\"\",\"\",STUDATA!F1560)","v":""},{"$f":"IF(STUDATA!G1560=\"\",\"\",STUDATA!G1560)","v":""},{"$f":"IF(STUDATA!C1560=\"\",\"\",STUDATA!C1560)","v":""}]
[{"$f":"IF(F951=\"\",\"\",F951&\"_\"&COUNTIF($F$9:F951,F951))","v":""},{"$f":"IF(STUDATA!B1561=\"\",\"\",STUDATA!B1561)","v":""},{"$f":"IF(STUDATA!E1561=\"\",\"\",STUDATA!E1561)","v":""},{"$f":"IF(STUDATA!F1561=\"\",\"\",STUDATA!F1561)","v":""},{"$f":"IF(STUDATA!G1561=\"\",\"\",STUDATA!G1561)","v":""},{"$f":"IF(STUDATA!C1561=\"\",\"\",STUDATA!C1561)","v":""}]
[{"$f":"IF(F952=\"\",\"\",F952&\"_\"&COUNTIF($F$9:F952,F952))","v":""},{"$f":"IF(STUDATA!B1562=\"\",\"\",STUDATA!B1562)","v":""},{"$f":"IF(STUDATA!E1562=\"\",\"\",STUDATA!E1562)","v":""},{"$f":"IF(STUDATA!F1562=\"\",\"\",STUDATA!F1562)","v":""},{"$f":"IF(STUDATA!G1562=\"\",\"\",STUDATA!G1562)","v":""},{"$f":"IF(STUDATA!C1562=\"\",\"\",STUDATA!C1562)","v":""}]
[{"$f":"IF(F953=\"\",\"\",F953&\"_\"&COUNTIF($F$9:F953,F953))","v":""},{"$f":"IF(STUDATA!B1563=\"\",\"\",STUDATA!B1563)","v":""},{"$f":"IF(STUDATA!E1563=\"\",\"\",STUDATA!E1563)","v":""},{"$f":"IF(STUDATA!F1563=\"\",\"\",STUDATA!F1563)","v":""},{"$f":"IF(STUDATA!G1563=\"\",\"\",STUDATA!G1563)","v":""},{"$f":"IF(STUDATA!C1563=\"\",\"\",STUDATA!C1563)","v":""}]
[{"$f":"IF(F954=\"\",\"\",F954&\"_\"&COUNTIF($F$9:F954,F954))","v":""},{"$f":"IF(STUDATA!B1564=\"\",\"\",STUDATA!B1564)","v":""},{"$f":"IF(STUDATA!E1564=\"\",\"\",STUDATA!E1564)","v":""},{"$f":"IF(STUDATA!F1564=\"\",\"\",STUDATA!F1564)","v":""},{"$f":"IF(STUDATA!G1564=\"\",\"\",STUDATA!G1564)","v":""},{"$f":"IF(STUDATA!C1564=\"\",\"\",STUDATA!C1564)","v":""}]
[{"$f":"IF(F955=\"\",\"\",F955&\"_\"&COUNTIF($F$9:F955,F955))","v":""},{"$f":"IF(STUDATA!B1565=\"\",\"\",STUDATA!B1565)","v":""},{"$f":"IF(STUDATA!E1565=\"\",\"\",STUDATA!E1565)","v":""},{"$f":"IF(STUDATA!F1565=\"\",\"\",STUDATA!F1565)","v":""},{"$f":"IF(STUDATA!G1565=\"\",\"\",STUDATA!G1565)","v":""},{"$f":"IF(STUDATA!C1565=\"\",\"\",STUDATA!C1565)","v":""}]
[{"$f":"IF(F956=\"\",\"\",F956&\"_\"&COUNTIF($F$9:F956,F956))","v":""},{"$f":"IF(STUDATA!B1566=\"\",\"\",STUDATA!B1566)","v":""},{"$f":"IF(STUDATA!E1566=\"\",\"\",STUDATA!E1566)","v":""},{"$f":"IF(STUDATA!F1566=\"\",\"\",STUDATA!F1566)","v":""},{"$f":"IF(STUDATA!G1566=\"\",\"\",STUDATA!G1566)","v":""},{"$f":"IF(STUDATA!C1566=\"\",\"\",STUDATA!C1566)","v":""}]
[{"$f":"IF(F957=\"\",\"\",F957&\"_\"&COUNTIF($F$9:F957,F957))","v":""},{"$f":"IF(STUDATA!B1567=\"\",\"\",STUDATA!B1567)","v":""},{"$f":"IF(STUDATA!E1567=\"\",\"\",STUDATA!E1567)","v":""},{"$f":"IF(STUDATA!F1567=\"\",\"\",STUDATA!F1567)","v":""},{"$f":"IF(STUDATA!G1567=\"\",\"\",STUDATA!G1567)","v":""},{"$f":"IF(STUDATA!C1567=\"\",\"\",STUDATA!C1567)","v":""}]
[{"$f":"IF(F958=\"\",\"\",F958&\"_\"&COUNTIF($F$9:F958,F958))","v":""},{"$f":"IF(STUDATA!B1568=\"\",\"\",STUDATA!B1568)","v":""},{"$f":"IF(STUDATA!E1568=\"\",\"\",STUDATA!E1568)","v":""},{"$f":"IF(STUDATA!F1568=\"\",\"\",STUDATA!F1568)","v":""},{"$f":"IF(STUDATA!G1568=\"\",\"\",STUDATA!G1568)","v":""},{"$f":"IF(STUDATA!C1568=\"\",\"\",STUDATA!C1568)","v":""}]
[{"$f":"IF(F959=\"\",\"\",F959&\"_\"&COUNTIF($F$9:F959,F959))","v":""},{"$f":"IF(STUDATA!B1569=\"\",\"\",STUDATA!B1569)","v":""},{"$f":"IF(STUDATA!E1569=\"\",\"\",STUDATA!E1569)","v":""},{"$f":"IF(STUDATA!F1569=\"\",\"\",STUDATA!F1569)","v":""},{"$f":"IF(STUDATA!G1569=\"\",\"\",STUDATA!G1569)","v":""},{"$f":"IF(STUDATA!C1569=\"\",\"\",STUDATA!C1569)","v":""}]
[{"$f":"IF(F960=\"\",\"\",F960&\"_\"&COUNTIF($F$9:F960,F960))","v":""},{"$f":"IF(STUDATA!B1570=\"\",\"\",STUDATA!B1570)","v":""},{"$f":"IF(STUDATA!E1570=\"\",\"\",STUDATA!E1570)","v":""},{"$f":"IF(STUDATA!F1570=\"\",\"\",STUDATA!F1570)","v":""},{"$f":"IF(STUDATA!G1570=\"\",\"\",STUDATA!G1570)","v":""},{"$f":"IF(STUDATA!C1570=\"\",\"\",STUDATA!C1570)","v":""}]
[{"$f":"IF(F961=\"\",\"\",F961&\"_\"&COUNTIF($F$9:F961,F961))","v":""},{"$f":"IF(STUDATA!B1571=\"\",\"\",STUDATA!B1571)","v":""},{"$f":"IF(STUDATA!E1571=\"\",\"\",STUDATA!E1571)","v":""},{"$f":"IF(STUDATA!F1571=\"\",\"\",STUDATA!F1571)","v":""},{"$f":"IF(STUDATA!G1571=\"\",\"\",STUDATA!G1571)","v":""},{"$f":"IF(STUDATA!C1571=\"\",\"\",STUDATA!C1571)","v":""}]
[{"$f":"IF(F962=\"\",\"\",F962&\"_\"&COUNTIF($F$9:F962,F962))","v":""},{"$f":"IF(STUDATA!B1572=\"\",\"\",STUDATA!B1572)","v":""},{"$f":"IF(STUDATA!E1572=\"\",\"\",STUDATA!E1572)","v":""},{"$f":"IF(STUDATA!F1572=\"\",\"\",STUDATA!F1572)","v":""},{"$f":"IF(STUDATA!G1572=\"\",\"\",STUDATA!G1572)","v":""},{"$f":"IF(STUDATA!C1572=\"\",\"\",STUDATA!C1572)","v":""}]
[{"$f":"IF(F963=\"\",\"\",F963&\"_\"&COUNTIF($F$9:F963,F963))","v":""},{"$f":"IF(STUDATA!B1573=\"\",\"\",STUDATA!B1573)","v":""},{"$f":"IF(STUDATA!E1573=\"\",\"\",STUDATA!E1573)","v":""},{"$f":"IF(STUDATA!F1573=\"\",\"\",STUDATA!F1573)","v":""},{"$f":"IF(STUDATA!G1573=\"\",\"\",STUDATA!G1573)","v":""},{"$f":"IF(STUDATA!C1573=\"\",\"\",STUDATA!C1573)","v":""}]
[{"$f":"IF(F964=\"\",\"\",F964&\"_\"&COUNTIF($F$9:F964,F964))","v":""},{"$f":"IF(STUDATA!B1574=\"\",\"\",STUDATA!B1574)","v":""},{"$f":"IF(STUDATA!E1574=\"\",\"\",STUDATA!E1574)","v":""},{"$f":"IF(STUDATA!F1574=\"\",\"\",STUDATA!F1574)","v":""},{"$f":"IF(STUDATA!G1574=\"\",\"\",STUDATA!G1574)","v":""},{"$f":"IF(STUDATA!C1574=\"\",\"\",STUDATA!C1574)","v":""}]
[{"$f":"IF(F965=\"\",\"\",F965&\"_\"&COUNTIF($F$9:F965,F965))","v":""},{"$f":"IF(STUDATA!B1575=\"\",\"\",STUDATA!B1575)","v":""},{"$f":"IF(STUDATA!E1575=\"\",\"\",STUDATA!E1575)","v":""},{"$f":"IF(STUDATA!F1575=\"\",\"\",STUDATA!F1575)","v":""},{"$f":"IF(STUDATA!G1575=\"\",\"\",STUDATA!G1575)","v":""},{"$f":"IF(STUDATA!C1575=\"\",\"\",STUDATA!C1575)","v":""}]
[{"$f":"IF(F966=\"\",\"\",F966&\"_\"&COUNTIF($F$9:F966,F966))","v":""},{"$f":"IF(STUDATA!B1576=\"\",\"\",STUDATA!B1576)","v":""},{"$f":"IF(STUDATA!E1576=\"\",\"\",STUDATA!E1576)","v":""},{"$f":"IF(STUDATA!F1576=\"\",\"\",STUDATA!F1576)","v":""},{"$f":"IF(STUDATA!G1576=\"\",\"\",STUDATA!G1576)","v":""},{"$f":"IF(STUDATA!C1576=\"\",\"\",STUDATA!C1576)","v":""}]
[{"$f":"IF(F967=\"\",\"\",F967&\"_\"&COUNTIF($F$9:F967,F967))","v":""},{"$f":"IF(STUDATA!B1577=\"\",\"\",STUDATA!B1577)","v":""},{"$f":"IF(STUDATA!E1577=\"\",\"\",STUDATA!E1577)","v":""},{"$f":"IF(STUDATA!F1577=\"\",\"\",STUDATA!F1577)","v":""},{"$f":"IF(STUDATA!G1577=\"\",\"\",STUDATA!G1577)","v":""},{"$f":"IF(STUDATA!C1577=\"\",\"\",STUDATA!C1577)","v":""}]
[{"$f":"IF(F968=\"\",\"\",F968&\"_\"&COUNTIF($F$9:F968,F968))","v":""},{"$f":"IF(STUDATA!B1578=\"\",\"\",STUDATA!B1578)","v":""},{"$f":"IF(STUDATA!E1578=\"\",\"\",STUDATA!E1578)","v":""},{"$f":"IF(STUDATA!F1578=\"\",\"\",STUDATA!F1578)","v":""},{"$f":"IF(STUDATA!G1578=\"\",\"\",STUDATA!G1578)","v":""},{"$f":"IF(STUDATA!C1578=\"\",\"\",STUDATA!C1578)","v":""}]
[{"$f":"IF(F969=\"\",\"\",F969&\"_\"&COUNTIF($F$9:F969,F969))","v":""},{"$f":"IF(STUDATA!B1579=\"\",\"\",STUDATA!B1579)","v":""},{"$f":"IF(STUDATA!E1579=\"\",\"\",STUDATA!E1579)","v":""},{"$f":"IF(STUDATA!F1579=\"\",\"\",STUDATA!F1579)","v":""},{"$f":"IF(STUDATA!G1579=\"\",\"\",STUDATA!G1579)","v":""},{"$f":"IF(STUDATA!C1579=\"\",\"\",STUDATA!C1579)","v":""}]
[{"$f":"IF(F970=\"\",\"\",F970&\"_\"&COUNTIF($F$9:F970,F970))","v":""},{"$f":"IF(STUDATA!B1580=\"\",\"\",STUDATA!B1580)","v":""},{"$f":"IF(STUDATA!E1580=\"\",\"\",STUDATA!E1580)","v":""},{"$f":"IF(STUDATA!F1580=\"\",\"\",STUDATA!F1580)","v":""},{"$f":"IF(STUDATA!G1580=\"\",\"\",STUDATA!G1580)","v":""},{"$f":"IF(STUDATA!C1580=\"\",\"\",STUDATA!C1580)","v":""}]
[{"$f":"IF(F971=\"\",\"\",F971&\"_\"&COUNTIF($F$9:F971,F971))","v":""},{"$f":"IF(STUDATA!B1581=\"\",\"\",STUDATA!B1581)","v":""},{"$f":"IF(STUDATA!E1581=\"\",\"\",STUDATA!E1581)","v":""},{"$f":"IF(STUDATA!F1581=\"\",\"\",STUDATA!F1581)","v":""},{"$f":"IF(STUDATA!G1581=\"\",\"\",STUDATA!G1581)","v":""},{"$f":"IF(STUDATA!C1581=\"\",\"\",STUDATA!C1581)","v":""}]
[{"$f":"IF(F972=\"\",\"\",F972&\"_\"&COUNTIF($F$9:F972,F972))","v":""},{"$f":"IF(STUDATA!B1582=\"\",\"\",STUDATA!B1582)","v":""},{"$f":"IF(STUDATA!E1582=\"\",\"\",STUDATA!E1582)","v":""},{"$f":"IF(STUDATA!F1582=\"\",\"\",STUDATA!F1582)","v":""},{"$f":"IF(STUDATA!G1582=\"\",\"\",STUDATA!G1582)","v":""},{"$f":"IF(STUDATA!C1582=\"\",\"\",STUDATA!C1582)","v":""}]
[{"$f":"IF(F973=\"\",\"\",F973&\"_\"&COUNTIF($F$9:F973,F973))","v":""},{"$f":"IF(STUDATA!B1583=\"\",\"\",STUDATA!B1583)","v":""},{"$f":"IF(STUDATA!E1583=\"\",\"\",STUDATA!E1583)","v":""},{"$f":"IF(STUDATA!F1583=\"\",\"\",STUDATA!F1583)","v":""},{"$f":"IF(STUDATA!G1583=\"\",\"\",STUDATA!G1583)","v":""},{"$f":"IF(STUDATA!C1583=\"\",\"\",STUDATA!C1583)","v":""}]
[{"$f":"IF(F974=\"\",\"\",F974&\"_\"&COUNTIF($F$9:F974,F974))","v":""},{"$f":"IF(STUDATA!B1584=\"\",\"\",STUDATA!B1584)","v":""},{"$f":"IF(STUDATA!E1584=\"\",\"\",STUDATA!E1584)","v":""},{"$f":"IF(STUDATA!F1584=\"\",\"\",STUDATA!F1584)","v":""},{"$f":"IF(STUDATA!G1584=\"\",\"\",STUDATA!G1584)","v":""},{"$f":"IF(STUDATA!C1584=\"\",\"\",STUDATA!C1584)","v":""}]
[{"$f":"IF(F975=\"\",\"\",F975&\"_\"&COUNTIF($F$9:F975,F975))","v":""},{"$f":"IF(STUDATA!B1585=\"\",\"\",STUDATA!B1585)","v":""},{"$f":"IF(STUDATA!E1585=\"\",\"\",STUDATA!E1585)","v":""},{"$f":"IF(STUDATA!F1585=\"\",\"\",STUDATA!F1585)","v":""},{"$f":"IF(STUDATA!G1585=\"\",\"\",STUDATA!G1585)","v":""},{"$f":"IF(STUDATA!C1585=\"\",\"\",STUDATA!C1585)","v":""}]
[{"$f":"IF(F976=\"\",\"\",F976&\"_\"&COUNTIF($F$9:F976,F976))","v":""},{"$f":"IF(STUDATA!B1586=\"\",\"\",STUDATA!B1586)","v":""},{"$f":"IF(STUDATA!E1586=\"\",\"\",STUDATA!E1586)","v":""},{"$f":"IF(STUDATA!F1586=\"\",\"\",STUDATA!F1586)","v":""},{"$f":"IF(STUDATA!G1586=\"\",\"\",STUDATA!G1586)","v":""},{"$f":"IF(STUDATA!C1586=\"\",\"\",STUDATA!C1586)","v":""}]
[{"$f":"IF(F977=\"\",\"\",F977&\"_\"&COUNTIF($F$9:F977,F977))","v":""},{"$f":"IF(STUDATA!B1587=\"\",\"\",STUDATA!B1587)","v":""},{"$f":"IF(STUDATA!E1587=\"\",\"\",STUDATA!E1587)","v":""},{"$f":"IF(STUDATA!F1587=\"\",\"\",STUDATA!F1587)","v":""},{"$f":"IF(STUDATA!G1587=\"\",\"\",STUDATA!G1587)","v":""},{"$f":"IF(STUDATA!C1587=\"\",\"\",STUDATA!C1587)","v":""}]
[{"$f":"IF(F978=\"\",\"\",F978&\"_\"&COUNTIF($F$9:F978,F978))","v":""},{"$f":"IF(STUDATA!B1588=\"\",\"\",STUDATA!B1588)","v":""},{"$f":"IF(STUDATA!E1588=\"\",\"\",STUDATA!E1588)","v":""},{"$f":"IF(STUDATA!F1588=\"\",\"\",STUDATA!F1588)","v":""},{"$f":"IF(STUDATA!G1588=\"\",\"\",STUDATA!G1588)","v":""},{"$f":"IF(STUDATA!C1588=\"\",\"\",STUDATA!C1588)","v":""}]
[{"$f":"IF(F979=\"\",\"\",F979&\"_\"&COUNTIF($F$9:F979,F979))","v":""},{"$f":"IF(STUDATA!B1589=\"\",\"\",STUDATA!B1589)","v":""},{"$f":"IF(STUDATA!E1589=\"\",\"\",STUDATA!E1589)","v":""},{"$f":"IF(STUDATA!F1589=\"\",\"\",STUDATA!F1589)","v":""},{"$f":"IF(STUDATA!G1589=\"\",\"\",STUDATA!G1589)","v":""},{"$f":"IF(STUDATA!C1589=\"\",\"\",STUDATA!C1589)","v":""}]
[{"$f":"IF(F980=\"\",\"\",F980&\"_\"&COUNTIF($F$9:F980,F980))","v":""},{"$f":"IF(STUDATA!B1590=\"\",\"\",STUDATA!B1590)","v":""},{"$f":"IF(STUDATA!E1590=\"\",\"\",STUDATA!E1590)","v":""},{"$f":"IF(STUDATA!F1590=\"\",\"\",STUDATA!F1590)","v":""},{"$f":"IF(STUDATA!G1590=\"\",\"\",STUDATA!G1590)","v":""},{"$f":"IF(STUDATA!C1590=\"\",\"\",STUDATA!C1590)","v":""}]
[{"$f":"IF(F981=\"\",\"\",F981&\"_\"&COUNTIF($F$9:F981,F981))","v":""},{"$f":"IF(STUDATA!B1591=\"\",\"\",STUDATA!B1591)","v":""},{"$f":"IF(STUDATA!E1591=\"\",\"\",STUDATA!E1591)","v":""},{"$f":"IF(STUDATA!F1591=\"\",\"\",STUDATA!F1591)","v":""},{"$f":"IF(STUDATA!G1591=\"\",\"\",STUDATA!G1591)","v":""},{"$f":"IF(STUDATA!C1591=\"\",\"\",STUDATA!C1591)","v":""}]
[{"$f":"IF(F982=\"\",\"\",F982&\"_\"&COUNTIF($F$9:F982,F982))","v":""},{"$f":"IF(STUDATA!B1592=\"\",\"\",STUDATA!B1592)","v":""},{"$f":"IF(STUDATA!E1592=\"\",\"\",STUDATA!E1592)","v":""},{"$f":"IF(STUDATA!F1592=\"\",\"\",STUDATA!F1592)","v":""},{"$f":"IF(STUDATA!G1592=\"\",\"\",STUDATA!G1592)","v":""},{"$f":"IF(STUDATA!C1592=\"\",\"\",STUDATA!C1592)","v":""}]
[{"$f":"IF(F983=\"\",\"\",F983&\"_\"&COUNTIF($F$9:F983,F983))","v":""},{"$f":"IF(STUDATA!B1593=\"\",\"\",STUDATA!B1593)","v":""},{"$f":"IF(STUDATA!E1593=\"\",\"\",STUDATA!E1593)","v":""},{"$f":"IF(STUDATA!F1593=\"\",\"\",STUDATA!F1593)","v":""},{"$f":"IF(STUDATA!G1593=\"\",\"\",STUDATA!G1593)","v":""},{"$f":"IF(STUDATA!C1593=\"\",\"\",STUDATA!C1593)","v":""}]
[{"$f":"IF(F984=\"\",\"\",F984&\"_\"&COUNTIF($F$9:F984,F984))","v":""},{"$f":"IF(STUDATA!B1594=\"\",\"\",STUDATA!B1594)","v":""},{"$f":"IF(STUDATA!E1594=\"\",\"\",STUDATA!E1594)","v":""},{"$f":"IF(STUDATA!F1594=\"\",\"\",STUDATA!F1594)","v":""},{"$f":"IF(STUDATA!G1594=\"\",\"\",STUDATA!G1594)","v":""},{"$f":"IF(STUDATA!C1594=\"\",\"\",STUDATA!C1594)","v":""}]
[{"$f":"IF(F985=\"\",\"\",F985&\"_\"&COUNTIF($F$9:F985,F985))","v":""},{"$f":"IF(STUDATA!B1595=\"\",\"\",STUDATA!B1595)","v":""},{"$f":"IF(STUDATA!E1595=\"\",\"\",STUDATA!E1595)","v":""},{"$f":"IF(STUDATA!F1595=\"\",\"\",STUDATA!F1595)","v":""},{"$f":"IF(STUDATA!G1595=\"\",\"\",STUDATA!G1595)","v":""},{"$f":"IF(STUDATA!C1595=\"\",\"\",STUDATA!C1595)","v":""}]
[{"$f":"IF(F986=\"\",\"\",F986&\"_\"&COUNTIF($F$9:F986,F986))","v":""},{"$f":"IF(STUDATA!B1596=\"\",\"\",STUDATA!B1596)","v":""},{"$f":"IF(STUDATA!E1596=\"\",\"\",STUDATA!E1596)","v":""},{"$f":"IF(STUDATA!F1596=\"\",\"\",STUDATA!F1596)","v":""},{"$f":"IF(STUDATA!G1596=\"\",\"\",STUDATA!G1596)","v":""},{"$f":"IF(STUDATA!C1596=\"\",\"\",STUDATA!C1596)","v":""}]
[{"$f":"IF(F987=\"\",\"\",F987&\"_\"&COUNTIF($F$9:F987,F987))","v":""},{"$f":"IF(STUDATA!B1597=\"\",\"\",STUDATA!B1597)","v":""},{"$f":"IF(STUDATA!E1597=\"\",\"\",STUDATA!E1597)","v":""},{"$f":"IF(STUDATA!F1597=\"\",\"\",STUDATA!F1597)","v":""},{"$f":"IF(STUDATA!G1597=\"\",\"\",STUDATA!G1597)","v":""},{"$f":"IF(STUDATA!C1597=\"\",\"\",STUDATA!C1597)","v":""}]
[{"$f":"IF(F988=\"\",\"\",F988&\"_\"&COUNTIF($F$9:F988,F988))","v":""},{"$f":"IF(STUDATA!B1598=\"\",\"\",STUDATA!B1598)","v":""},{"$f":"IF(STUDATA!E1598=\"\",\"\",STUDATA!E1598)","v":""},{"$f":"IF(STUDATA!F1598=\"\",\"\",STUDATA!F1598)","v":""},{"$f":"IF(STUDATA!G1598=\"\",\"\",STUDATA!G1598)","v":""},{"$f":"IF(STUDATA!C1598=\"\",\"\",STUDATA!C1598)","v":""}]
[{"$f":"IF(F989=\"\",\"\",F989&\"_\"&COUNTIF($F$9:F989,F989))","v":""},{"$f":"IF(STUDATA!B1599=\"\",\"\",STUDATA!B1599)","v":""},{"$f":"IF(STUDATA!E1599=\"\",\"\",STUDATA!E1599)","v":""},{"$f":"IF(STUDATA!F1599=\"\",\"\",STUDATA!F1599)","v":""},{"$f":"IF(STUDATA!G1599=\"\",\"\",STUDATA!G1599)","v":""},{"$f":"IF(STUDATA!C1599=\"\",\"\",STUDATA!C1599)","v":""}]
[{"$f":"IF(F990=\"\",\"\",F990&\"_\"&COUNTIF($F$9:F990,F990))","v":""},{"$f":"IF(STUDATA!B1600=\"\",\"\",STUDATA!B1600)","v":""},{"$f":"IF(STUDATA!E1600=\"\",\"\",STUDATA!E1600)","v":""},{"$f":"IF(STUDATA!F1600=\"\",\"\",STUDATA!F1600)","v":""},{"$f":"IF(STUDATA!G1600=\"\",\"\",STUDATA!G1600)","v":""},{"$f":"IF(STUDATA!C1600=\"\",\"\",STUDATA!C1600)","v":""}]
[{"$f":"IF(F991=\"\",\"\",F991&\"_\"&COUNTIF($F$9:F991,F991))","v":""},{"$f":"IF(STUDATA!B1601=\"\",\"\",STUDATA!B1601)","v":""},{"$f":"IF(STUDATA!E1601=\"\",\"\",STUDATA!E1601)","v":""},{"$f":"IF(STUDATA!F1601=\"\",\"\",STUDATA!F1601)","v":""},{"$f":"IF(STUDATA!G1601=\"\",\"\",STUDATA!G1601)","v":""},{"$f":"IF(STUDATA!C1601=\"\",\"\",STUDATA!C1601)","v":""}]
[{"$f":"IF(F992=\"\",\"\",F992&\"_\"&COUNTIF($F$9:F992,F992))","v":""},{"$f":"IF(STUDATA!B1602=\"\",\"\",STUDATA!B1602)","v":""},{"$f":"IF(STUDATA!E1602=\"\",\"\",STUDATA!E1602)","v":""},{"$f":"IF(STUDATA!F1602=\"\",\"\",STUDATA!F1602)","v":""},{"$f":"IF(STUDATA!G1602=\"\",\"\",STUDATA!G1602)","v":""},{"$f":"IF(STUDATA!C1602=\"\",\"\",STUDATA!C1602)","v":""}]
[{"$f":"IF(F993=\"\",\"\",F993&\"_\"&COUNTIF($F$9:F993,F993))","v":""},{"$f":"IF(STUDATA!B1603=\"\",\"\",STUDATA!B1603)","v":""},{"$f":"IF(STUDATA!E1603=\"\",\"\",STUDATA!E1603)","v":""},{"$f":"IF(STUDATA!F1603=\"\",\"\",STUDATA!F1603)","v":""},{"$f":"IF(STUDATA!G1603=\"\",\"\",STUDATA!G1603)","v":""},{"$f":"IF(STUDATA!C1603=\"\",\"\",STUDATA!C1603)","v":""}]
[{"$f":"IF(F994=\"\",\"\",F994&\"_\"&COUNTIF($F$9:F994,F994))","v":""},{"$f":"IF(STUDATA!B1604=\"\",\"\",STUDATA!B1604)","v":""},{"$f":"IF(STUDATA!E1604=\"\",\"\",STUDATA!E1604)","v":""},{"$f":"IF(STUDATA!F1604=\"\",\"\",STUDATA!F1604)","v":""},{"$f":"IF(STUDATA!G1604=\"\",\"\",STUDATA!G1604)","v":""},{"$f":"IF(STUDATA!C1604=\"\",\"\",STUDATA!C1604)","v":""}]
[{"$f":"IF(F995=\"\",\"\",F995&\"_\"&COUNTIF($F$9:F995,F995))","v":""},{"$f":"IF(STUDATA!B1605=\"\",\"\",STUDATA!B1605)","v":""},{"$f":"IF(STUDATA!E1605=\"\",\"\",STUDATA!E1605)","v":""},{"$f":"IF(STUDATA!F1605=\"\",\"\",STUDATA!F1605)","v":""},{"$f":"IF(STUDATA!G1605=\"\",\"\",STUDATA!G1605)","v":""},{"$f":"IF(STUDATA!C1605=\"\",\"\",STUDATA!C1605)","v":""}]
[{"$f":"IF(F996=\"\",\"\",F996&\"_\"&COUNTIF($F$9:F996,F996))","v":""},{"$f":"IF(STUDATA!B1606=\"\",\"\",STUDATA!B1606)","v":""},{"$f":"IF(STUDATA!E1606=\"\",\"\",STUDATA!E1606)","v":""},{"$f":"IF(STUDATA!F1606=\"\",\"\",STUDATA!F1606)","v":""},{"$f":"IF(STUDATA!G1606=\"\",\"\",STUDATA!G1606)","v":""},{"$f":"IF(STUDATA!C1606=\"\",\"\",STUDATA!C1606)","v":""}]
[{"$f":"IF(F997=\"\",\"\",F997&\"_\"&COUNTIF($F$9:F997,F997))","v":""},{"$f":"IF(STUDATA!B1607=\"\",\"\",STUDATA!B1607)","v":""},{"$f":"IF(STUDATA!E1607=\"\",\"\",STUDATA!E1607)","v":""},{"$f":"IF(STUDATA!F1607=\"\",\"\",STUDATA!F1607)","v":""},{"$f":"IF(STUDATA!G1607=\"\",\"\",STUDATA!G1607)","v":""},{"$f":"IF(STUDATA!C1607=\"\",\"\",STUDATA!C1607)","v":""}]
[{"$f":"IF(F998=\"\",\"\",F998&\"_\"&COUNTIF($F$9:F998,F998))","v":""},{"$f":"IF(STUDATA!B1608=\"\",\"\",STUDATA!B1608)","v":""},{"$f":"IF(STUDATA!E1608=\"\",\"\",STUDATA!E1608)","v":""},{"$f":"IF(STUDATA!F1608=\"\",\"\",STUDATA!F1608)","v":""},{"$f":"IF(STUDATA!G1608=\"\",\"\",STUDATA!G1608)","v":""},{"$f":"IF(STUDATA!C1608=\"\",\"\",STUDATA!C1608)","v":""}]
[{"$f":"IF(F999=\"\",\"\",F999&\"_\"&COUNTIF($F$9:F999,F999))","v":""},{"$f":"IF(STUDATA!B1609=\"\",\"\",STUDATA!B1609)","v":""},{"$f":"IF(STUDATA!E1609=\"\",\"\",STUDATA!E1609)","v":""},{"$f":"IF(STUDATA!F1609=\"\",\"\",STUDATA!F1609)","v":""},{"$f":"IF(STUDATA!G1609=\"\",\"\",STUDATA!G1609)","v":""},{"$f":"IF(STUDATA!C1609=\"\",\"\",STUDATA!C1609)","v":""}]
[{"$f":"IF(F1000=\"\",\"\",F1000&\"_\"&COUNTIF($F$9:F1000,F1000))","v":""},{"$f":"IF(STUDATA!B1610=\"\",\"\",STUDATA!B1610)","v":""},{"$f":"IF(STUDATA!E1610=\"\",\"\",STUDATA!E1610)","v":""},{"$f":"IF(STUDATA!F1610=\"\",\"\",STUDATA!F1610)","v":""},{"$f":"IF(STUDATA!G1610=\"\",\"\",STUDATA!G1610)","v":""},{"$f":"IF(STUDATA!C1610=\"\",\"\",STUDATA!C1610)","v":""}]

{"sheet":"Classwise","index":5,"n_rows":111,"n_cols":43,"rows_kept":111,"merged":[[0,3,0,20],[5,3,5,7],[7,1,9,1],[7,2,9,2],[7,3,9,3],[7,4,9,4],[7,5,9,5],[7,6,9,6],[7,7,7,15],[7,16,7,18],[7,19,9,19],[7,20,7,24],[7,25,7,29],[7,30,7,34],[7,35,9,35],[7,36,9,36],[7,37,9,37],[7,38,8,42],[8,7,9,7],[8,8,9,8],[8,9,9,9],[8,10,9,10],[8,11,8,15],[8,16,9,16],[8,17,9,17],[8,18,9,18],[8,20,8,24],[8,25,8,29],[8,30,8,34]]}
[{"$nulls":3},{"$f":"DASHBOARD!B2","v":"कार्यालय प्रधानाचार्य राजकीय उच्च माध्यमिक विद्यालय 13डीओएल, श्री गंगानगर"}]
[]
[]
[]
[{"$nulls":6},{"$f":"L6","v":1}]
[{"$nulls":3},"जिस कक्षा का विवरण देखना है कक्षा ड्रॉपडाउन से चयन  करे",{"$nulls":6},"CLASS",1,{"$nulls":5},"इस शीट में भरना कुछ नहीं है केवल मोनिट्रिंग के लिए सुविधा हेतु है"]
[]
[null,"SN","क्र स ","नाम विद्यार्थी","पिता का नाम ","GENDER","कक्षा","SMILE लाभान्वित",{"$nulls":8},"पाठ्यपुस्तक/वर्कबुक",null,null,"SUBJECT","गृहकार्य वितरण से सबंधित सूचना",{"$nulls":4},"गृहकार्य संकलन से सबंधित सूचना",{"$nulls":4},"गृहकार्य जांच से सबंधित सूचना",{"$nulls":4},"गृहकार्य पोर्टफोलियो तैयार कर लिया गया है हां अथवा नहीं ","वर्कबुक कार्य प्रगति","कक्षा 9 से 12 तक के विद्यार्थी अभिभावक की सहमति से मार्गदर्शन के लिए विद्यालय आकर लाभान्वित","TEACHER'S CALLING DETAILS"]
[{"$nulls":7},"व्हाट्सएप्प के माध्यम से स्माइल 3.0 से लाभान्वित ","टेलीविज़न के माध्यम से स्माइल 3.0 से लाभान्वित","शिक्षावाणी के माध्यम से स्माइल 3.0 से लाभान्वित","ऑफलाइन माध्यम से स्माइल 3.0 से लाभान्वित"," शनिवारीय क्विज (QUIZ) अटेण्ड करने वाले विध्यार्थी",{"$nulls":4},"निशुल्क पाठ्यपुस्तक प्राप्त ","वर्कबुक प्राप्त AT GRADE","वर्कबुक प्राप्त  BELOW GRADE",null,"ONLINE/ OFFLINE",{"$nulls":4},"ONLINE/ OFFLINE",{"$nulls":4},"गृहकार्य जांच कर लिया गया है हां अथवा नहीं"]
[{"$nulls":11},"1 WEEK","2 WEEK","3 WEEK","4 WEEK","5 WEEK",{"$nulls":4},"1 WEEK","2 WEEK","3 WEEK","4 WEEK","5WEEK","1 WEEK","2 WEEK","3 WEEK","4 WEEK","5 WEEK","1 WEEK","2 WEEK","3 WEEK","4 WEEK","5 WEEK",{"$nulls":3},"1 WEEK","2 WEEK","3 WEEK","4 WEEK","5 WEEK"]
[null,1,"1","2","3","4","5","6","7","8","9","10","11","12","13","14","15","16","17","18","19","20","21","22","23","24","25","26","27","28",{"$nulls":5},"29","30","31","32","33","34","35","36"]
[{"$f":"IF(C12=\"\",0,C12)","v":1},1,{"$f":"IF(D12=\"\",\"\",ROWS($D$12:D12))","v":1},{"$f":"IFERROR(IF($L$6=\"\",\"\",VLOOKUP($L$6&\"_\"&$B12,data_entry,COLUMNS($B$11:D11),0)),\"\")","v":"abc1"},{"$f":"IFERROR(IF($L$6=\"\",\"\",VLOOKUP($L$6&\"_\"&$B12,data_entry,COLUMNS($B$11:E11),0)),\"\")","v":"xyz1"},{"$f":"IFERROR(IF($L$6=\"\",\"\",VLOOKUP($L$6&\"_\"&$B12,data_entry,COLUMNS($B$11:F11),0)),\"\")","v":"M"},{"$f":"IFERROR(IF($L$6=\"\",\"\",VLOOKUP($L$6&\"_\"&$B12,data_entry,COLUMNS($B$11:G11),0)),\"\")","v":1},{"$f":"IFERROR(IF($L$6=\"\",\"\",VLOOKUP($L$6&\"_\"&$B12,data_entry,COLUMNS($B$11:H11),0)),\"\")","v":"NO"},{"$f":"IFERROR(IF($L$6=\"\",\"\",VLOOKUP($L$6&\"_\"&$B12,data_entry,COLUMNS($B$11:I11),0)),\"\")","v":"NO"},{"$f":"IFERROR(IF($L$6=\"\",\"\",VLOOKUP($L$6&\"_\"&$B12,data_entry,COLUMNS($B$11:J11),0)),\"\")","v":"YES"},{"$f":"IFERROR(IF($L$6=\"\",\"\",VLOOKUP($L$6&\"_\"&$B12,data_entry,COLUMNS($B$11:K11),0)),\"\")","v":"YES"},{"$f":"IFERROR(IF($L$6=\"\",\"\",VLOOKUP($L$6&\"_\"&$B12,data_entry,COLUMNS($B$11:L11),0)),\"\")","v":0},{"$f":"IFERROR(IF($L$6=\"\",\"\",VLOOKUP($L$6&\"_\"&$B12,data_entry,COLUMNS($B$11:M11),0)),\"\")","v":0},{"$f":"IFERROR(IF($L$6=\"\",\"\",VLOOKUP($L$6&\"_\"&$B12,data_entry,COLUMNS($B$11:N11),0)),\"\")","v":0},{"$f":"IFERROR(IF($L$6=\"\",\"\",VLOOKUP($L$6&\"_\"&$B12,data_entry,COLUMNS($B$11:O11),0)),\"\")","v":0},{"$f":"IFERROR(IF($L$6=\"\",\"\",VLOOKUP($L$6&\"_\"&$B12,data_entry,COLUMNS($B$11:P11),0)),\"\")","v":0},{"$f":"IFERROR(IF($L$6=\"\",\"\",VLOOKUP($L$6&\"_\"&$B12,data_entry,COLUMNS($B$11:Q11),0)),\"\")","v":0},{"$f":"IFERROR(IF($L$6=\"\",\"\",VLOOKUP($L$6&\"_\"&$B12,data_entry,COLUMNS($B$11:R11),0)),\"\")","v":0},{"$f":"IFERROR(IF($L$6=\"\",\"\",VLOOKUP($L$6&\"_\"&$B12,data_entry,COLUMNS($B$11:S11),0)),\"\")","v":0},{"$f":"IFERROR(IF($L$6=\"\",\"\",VLOOKUP($L$6&\"_\"&$B12,data_entry,COLUMNS($B$11:T11),0)),\"\")","v":0},{"$f":"IFERROR(IF($L$6=\"\",\"\",VLOOKUP($L$6&\"_\"&$B12,data_entry,COLUMNS($B$11:U11),0)),\"\")","v":0},{"$f":"IFERROR(IF($L$6=\"\",\"\",VLOOKUP($L$6&\"_\"&$B12,data_entry,COLUMNS($B$11:V11),0)),\"\")","v":0},{"$f":"IFERROR(IF($L$6=\"\",\"\",VLOOKUP($L$6&\"_\"&$B12,data_entry,COLUMNS($B$11:W11),0)),\"\")","v":0},{"$f":"IFERROR(IF($L$6=\"\",\"\",VLOOKUP($L$6&\"_\"&$B12,data_entry,COLUMNS($B$11:X11),0)),\"\")","v":0},{"$f":"IFERROR(IF($L$6=\"\",\"\",VLOOKUP($L$6&\"_\"&$B12,data_entry,COLUMNS($B$11:Y11),0)),\"\")","v":0},{"$f":"IFERROR(IF($L$6=\"\",\"\",VLOOKUP($L$6&\"_\"&$B12,data_entry,COLUMNS($B$11:Z11),0)),\"\")","v":"ONLINE"},{"$f":"IFERROR(IF($L$6=\"\",\"\",VLOOKUP($L$6&\"_\"&$B12,data_entry,COLUMNS($B$11:AA11),0)),\"\")","v":0},{"$f":"IFERROR(IF($L$6=\"\",\"\",VLOOKUP($L$6&\"_\"&$B12,data_entry,COLUMNS($B$11:AB11),0)),\"\")","v":0},{"$f":"IFERROR(IF($L$6=\"\",\"\",VLOOKUP($L$6&\"_\"&$B12,data_entry,COLUMNS($B$11:AC11),0)),\"\")","v":0},{"$f":"IFERROR(IF($L$6=\"\",\"\",VLOOKUP($L$6&\"_\"&$B12,data_entry,COLUMNS($B$11:AD11),0)),\"\")","v":0},{"$f":"IFERROR(IF($L$6=\"\",\"\",VLOOKUP($L$6&\"_\"&$B12,data_entry,COLUMNS($B$11:AE11),0)),\"\")","v":"YES"},{"$f":"IFERROR(IF($L$6=\"\",\"\",VLOOKUP($L$6&\"_\"&$B12,data_entry,COLUMNS($B$11:AF11),0)),\"\")","v":"YES"},{"$f":"IFERROR(IF($L$6=\"\",\"\",VLOOKUP($L$6&\"_\"&$B12,data_entry,COLUMNS($B$11:AG11),0)),\"\")","v":"NO"},{"$f":"IFERROR(IF($L$6=\"\",\"\",VLOOKUP($L$6&\"_\"&$B12,data_entry,COLUMNS($B$11:AH11),0)),\"\")","v":0},{"$f":"IFERROR(IF($L$6=\"\",\"\",VLOOKUP($L$6&\"_\"&$B12,data_entry,COLUMNS($B$11:AI11),0)),\"\")","v":0},{"$f":"IFERROR(IF($L$6=\"\",\"\",VLOOKUP($L$6&\"_\"&$B12,data_entry,COLUMNS($B$11:AJ11),0)),\"\")","v":0},{"$f":"IFERROR(IF($L$6=\"\",\"\",VLOOKUP($L$6&\"_\"&$B12,data_entry,COLUMNS($B$11:AK11),0)),\"\")","v":0},{"$f":"IFERROR(IF($L$6=\"\",\"\",VLOOKUP($L$6&\"_\"&$B12,data_entry,COLUMNS($B$11:AL11),0)),\"\")","v":0},{"$f":"IFERROR(IF($L$6=\"\",\"\",VLOOKUP($L$6&\"_\"&$B12,data_entry,COLUMNS($B$11:AM11),0)),\"\")","v":"YES"},{"$f":"IFERROR(IF($L$6=\"\",\"\",VLOOKUP($L$6&\"_\"&$B12,data_entry,COLUMNS($B$11:AN11),0)),\"\")","v":"YES"},{"$f":"IFERROR(IF($L$6=\"\",\"\",VLOOKUP($L$6&\"_\"&$B12,data_entry,COLUMNS($B$11:AO11),0)),\"\")","v":0},{"$f":"IFERROR(IF($L$6=\"\",\"\",VLOOKUP($L$6&\"_\"&$B12,data_entry,COLUMNS($B$11:AP11),0)),\"\")","v":"YES"},{"$f":"IFERROR(IF($L$6=\"\",\"\",VLOOKUP($L$6&\"_\"&$B12,data_entry,COLUMNS($B$11:AQ11),0)),\"\")","v":"YES"}]
[{"$f":"IF(C13=\"\",0,C13)","v":2},{"$f":"B12+1","v":2},{"$f":"IF(D13=\"\",\"\",ROWS($D$12:D13))","v":2},{"$f":"IFERROR(IF($L$6=\"\",\"\",VLOOKUP($L$6&\"_\"&$B13,data_entry,COLUMNS($B$11:D12),0)),\"\")","v":"abc2"},{"$f":"IFERROR(IF($L$6=\"\",\"\",VLOOKUP($L$6&\"_\"&$B13,data_entry,COLUMNS($B$11:E12),0)),\"\")","v":"xyz2"},{"$f":"IFERROR(IF($L$6=\"\",\"\",VLOOKUP($L$6&\"_\"&$B13,data_entry,COLUMNS($B$11:F12),0)),\"\")","v":"F"},{"$f":"IFERROR(IF($L$6=\"\",\"\",VLOOKUP($L$6&\"_\"&$B13,data_entry,COLUMNS($B$11:G12),0)),\"\")","v":1},{"$f":"IFERROR(IF($L$6=\"\",\"\",VLOOKUP($L$6&\"_\"&$B13,data_entry,COLUMNS($B$11:H12),0)),\"\")","v":"NO"},{"$f":"IFERROR(IF($L$6=\"\",\"\",VLOOKUP($L$6&\"_\"&$B13,data_entry,COLUMNS($B$11:I12),0)),\"\")","v":"NO"},{"$f":"IFERROR(IF($L$6=\"\",\"\",VLOOKUP($L$6&\"_\"&$B13,data_entry,COLUMNS($B$11:J12),0)),\"\")","v":"NO"},{"$f":"IFERROR(IF($L$6=\"\",\"\",VLOOKUP($L$6&\"_\"&$B13,data_entry,COLUMNS($B$11:K12),0)),\"\")","v":"YES"},{"$f":"IFERROR(IF($L$6=\"\",\"\",VLOOKUP($L$6&\"_\"&$B13,data_entry,COLUMNS($B$11:L12),0)),\"\")","v":0},{"$f":"IFERROR(IF($L$6=\"\",\"\",VLOOKUP($L$6&\"_\"&$B13,data_entry,COLUMNS($B$11:M12),0)),\"\")","v":0},{"$f":"IFERROR(IF($L$6=\"\",\"\",VLOOKUP($L$6&\"_\"&$B13,data_entry,COLUMNS($B$11:N12),0)),\"\")","v":0},{"$f":"IFERROR(IF($L$6=\"\",\"\",VLOOKUP($L$6&\"_\"&$B13,data_entry,COLUMNS($B$11:O12),0)),\"\")","v":0},{"$f":"IFERROR(IF($L$6=\"\",\"\",VLOOKUP($L$6&\"_\"&$B13,data_entry,COLUMNS($B$11:P12),0)),\"\")","v":0},{"$f":"IFERROR(IF($L$6=\"\",\"\",VLOOKUP($L$6&\"_\"&$B13,data_entry,COLUMNS($B$11:Q12),0)),\"\")","v":0},{"$f":"IFERROR(IF($L$6=\"\",\"\",VLOOKUP($L$6&\"_\"&$B13,data_entry,COLUMNS($B$11:R12),0)),\"\")","v":0},{"$f":"IFERROR(IF($L$6=\"\",\"\",VLOOKUP($L$6&\"_\"&$B13,data_entry,COLUMNS($B$11:S12),0)),\"\")","v":0},{"$f":"IFERROR(IF($L$6=\"\",\"\",VLOOKUP($L$6&\"_\"&$B13,data_entry,COLUMNS($B$11:T12),0)),\"\")","v":0},{"$f":"IFERROR(IF($L$6=\"\",\"\",VLOOKUP($L$6&\"_\"&$B13,data_entry,COLUMNS($B$11:U12),0)),\"\")","v":0},{"$f":"IFERROR(IF($L$6=\"\",\"\",VLOOKUP($L$6&\"_\"&$B13,data_entry,COLUMNS($B$11:V12),0)),\"\")","v":0},{"$f":"IFERROR(IF($L$6=\"\",\"\",VLOOKUP($L$6&\"_\"&$B13,data_entry,COLUMNS($B$11:W12),0)),\"\")","v":0},{"$f":"IFERROR(IF($L$6=\"\",\"\",VLOOKUP($L$6&\"_\"&$B13,data_entry,COLUMNS($B$11:X12),0)),\"\")","v":0},{"$f":"IFERROR(IF($L$6=\"\",\"\",VLOOKUP($L$6&\"_\"&$B13,data_entry,COLUMNS($B$11:Y12),0)),\"\")","v":0},{"$f":"IFERROR(IF($L$6=\"\",\"\",VLOOKUP($L$6&\"_\"&$B13,data_entry,COLUMNS($B$11:Z12),0)),\"\")","v":0},{"$f":"IFERROR(IF($L$6=\"\",\"\",VLOOKUP($L$6&\"_\"&$B13,data_entry,COLUMNS($B$11:AA12),0)),\"\")","v":0},{"$f":"IFERROR(IF($L$6=\"\",\"\",VLOOKUP($L$6&\"_\"&$B13,data_entry,COLUMNS($B$11:AB12),0)),\"\")","v":0},{"$f":"IFERROR(IF($L$6=\"\",\"\",VLOOKUP($L$6&\"_\"&$B13,data_entry,COLUMNS($B$11:AC12),0)),\"\")","v":0},{"$f":"IFERROR(IF($L$6=\"\",\"\",VLOOKUP($L$6&\"_\"&$B13,data_entry,COLUMNS($B$11:AD12),0)),\"\")","v":0},{"$nulls":5},{"$f":"IFERROR(IF($L$6=\"\",\"\",VLOOKUP($L$6&\"_\"&$B13,data_entry,COLUMNS($B$11:AJ12),0)),\"\")","v":0},{"$f":"IFERROR(IF($L$6=\"\",\"\",VLOOKUP($L$6&\"_\"&$B13,data_entry,COLUMNS($B$11:AK12),0)),\"\")","v":0},{"$f":"IFERROR(IF($L$6=\"\",\"\",VLOOKUP($L$6&\"_\"&$B13,data_entry,COLUMNS($B$11:AL12),0)),\"\")","v":0},{"$f":"IFERROR(IF($L$6=\"\",\"\",VLOOKUP($L$6&\"_\"&$B13,data_entry,COLUMNS($B$11:AM12),0)),\"\")","v":"YES"},{"$f":"IFERROR(IF($L$6=\"\",\"\",VLOOKUP($L$6&\"_\"&$B13,data_entry,COLUMNS($B$11:AN12),0)),\"\")","v":0},{"$f":"IFERROR(IF($L$6=\"\",\"\",VLOOKUP($L$6&\"_\"&$B13,data_entry,COLUMNS($B$11:AO12),0)),\"\")","v":0},{"$f":"IFERROR(IF($L$6=\"\",\"\",VLOOKUP($L$6&\"_\"&$B13,data_entry,COLUMNS($B$11:AP12),0)),\"\")","v":"YES"},{"$f":"IFERROR(IF($L$6=\"\",\"\",VLOOKUP($L$6&\"_\"&$B13,data_entry,COLUMNS($B$11:AQ12),0)),\"\")","v":0}]
[3,{"$f":"B13+1","v":3},{"$f":"IF(D14=\"\",\"\",ROWS($D$12:D14))","v":3},{"$f":"IFERROR(IF(OR($L$6=\"\",'DATA ENTRY'!C9=\"\"),\"\",VLOOKUP($L$6&\"_\"&$B14,data_entry,COLUMNS($B$11:D13),0)),\"\")","v":"abc3"},{"$f":"IFERROR(IF($L$6=\"\",\"\",VLOOKUP($L$6&\"_\"&$B14,data_entry,COLUMNS($B$11:E13),0)),\"\")","v":"xyz3"},{"$f":"IFERROR(IF($L$6=\"\",\"\",VLOOKUP($L$6&\"_\"&$B14,data_entry,COLUMNS($B$11:F13),0)),\"\")","v":"F"},{"$f":"IFERROR(IF($L$6=\"\",\"\",VLOOKUP($L$6&\"_\"&$B14,data_entry,COLUMNS($B$11:G13),0)),\"\")","v":1},{"$f":"IFERROR(IF($L$6=\"\",\"\",VLOOKUP($L$6&\"_\"&$B14,data_entry,COLUMNS($B$11:H13),0)),\"\")","v":"NO"},{"$f":"IFERROR(IF($L$6=\"\",\"\",VLOOKUP($L$6&\"_\"&$B14,data_entry,COLUMNS($B$11:I13),0)),\"\")","v":"NO"},{"$f":"IFERROR(IF($L$6=\"\",\"\",VLOOKUP($L$6&\"_\"&$B14,data_entry,COLUMNS($B$11:J13),0)),\"\")","v":"NO"},{"$f":"IFERROR(IF($L$6=\"\",\"\",VLOOKUP($L$6&\"_\"&$B14,data_entry,COLUMNS($B$11:K13),0)),\"\")","v":"YES"},{"$f":"IFERROR(IF($L$6=\"\",\"\",VLOOKUP($L$6&\"_\"&$B14,data_entry,COLUMNS($B$11:L13),0)),\"\")","v":0},{"$f":"IFERROR(IF($L$6=\"\",\"\",VLOOKUP($L$6&\"_\"&$B14,data_entry,COLUMNS($B$11:M13),0)),\"\")","v":0},{"$f":"IFERROR(IF($L$6=\"\",\"\",VLOOKUP($L$6&\"_\"&$B14,data_entry,COLUMNS($B$11:N13),0)),\"\")","v":0},{"$f":"IFERROR(IF($L$6=\"\",\"\",VLOOKUP($L$6&\"_\"&$B14,data_entry,COLUMNS($B$11:O13),0)),\"\")","v":0},{"$f":"IFERROR(IF($L$6=\"\",\"\",VLOOKUP($L$6&\"_\"&$B14,data_entry,COLUMNS($B$11:P13),0)),\"\")","v":0},{"$f":"IFERROR(IF($L$6=\"\",\"\",VLOOKUP($L$6&\"_\"&$B14,data_entry,COLUMNS($B$11:Q13),0)),\"\")","v":0},{"$f":"IFERROR(IF($L$6=\"\",\"\",VLOOKUP($L$6&\"_\"&$B14,data_entry,COLUMNS($B$11:R13),0)),\"\")","v":0},{"$f":"IFERROR(IF($L$6=\"\",\"\",VLOOKUP($L$6&\"_\"&$B14,data_entry,COLUMNS($B$11:S13),0)),\"\")","v":0},{"$f":"IFERROR(IF($L$6=\"\",\"\",VLOOKUP($L$6&\"_\"&$B14,data_entry,COLUMNS($B$11:T13),0)),\"\")","v":0},{"$f":"IFERROR(IF($L$6=\"\",\"\",VLOOKUP($L$6&\"_\"&$B14,data_entry,COLUMNS($B$11:U13),0)),\"\")","v":0},{"$f":"IFERROR(IF($L$6=\"\",\"\",VLOOKUP($L$6&\"_\"&$B14,data_entry,COLUMNS($B$11:V13),0)),\"\")","v":0},{"$f":"IFERROR(IF($L$6=\"\",\"\",VLOOKUP($L$6&\"_\"&$B14,data_entry,COLUMNS($B$11:W13),0)),\"\")","v":0},{"$f":"IFERROR(IF($L$6=\"\",\"\",VLOOKUP($L$6&\"_\"&$B14,data_entry,COLUMNS($B$11:X13),0)),\"\")","v":0},{"$f":"IFERROR(IF($L$6=\"\",\"\",VLOOKUP($L$6&\"_\"&$B14,data_entry,COLUMNS($B$11:Y13),0)),\"\")","v":0},{"$f":"IFERROR(IF($L$6=\"\",\"\",VLOOKUP($L$6&\"_\"&$B14,data_entry,COLUMNS($B$11:Z13),0)),\"\")","v":0},{"$f":"IFERROR(IF($L$6=\"\",\"\",VLOOKUP($L$6&\"_\"&$B14,data_entry,COLUMNS($B$11:AA13),0)),\"\")","v":0},{"$f":"IFERROR(IF($L$6=\"\",\"\",VLOOKUP($L$6&\"_\"&$B14,data_entry,COLUMNS($B$11:AB13),0)),\"\")","v":0},{"$f":"IFERROR(IF($L$6=\"\",\"\",VLOOKUP($L$6&\"_\"&$B14,data_entry,COLUMNS($B$11:AC13),0)),\"\")","v":0},{"$f":"IFERROR(IF($L$6=\"\",\"\",VLOOKUP($L$6&\"_\"&$B14,data_entry,COLUMNS($B$11:AD13),0)),\"\")","v":0},{"$nulls":5},{"$f":"IFERROR(IF($L$6=\"\",\"\",VLOOKUP($L$6&\"_\"&$B14,data_entry,COLUMNS($B$11:AJ13),0)),\"\")","v":0},{"$f":"IFERROR(IF($L$6=\"\",\"\",VLOOKUP($L$6&\"_\"&$B14,data_entry,COLUMNS($B$11:AK13),0)),\"\")","v":0},{"$f":"IFERROR(IF($L$6=\"\",\"\",VLOOKUP($L$6&\"_\"&$B14,data_entry,COLUMNS($B$11:AL13),0)),\"\")","v":0},{"$f":"IFERROR(IF($L$6=\"\",\"\",VLOOKUP($L$6&\"_\"&$B14,data_entry,COLUMNS($B$11:AM13),0)),\"\")","v":0},{"$f":"IFERROR(IF($L$6=\"\",\"\",VLOOKUP($L$6&\"_\"&$B14,data_entry,COLUMNS($B$11:AN13),0)),\"\")","v":0},{"$f":"IFERROR(IF($L$6=\"\",\"\",VLOOKUP($L$6&\"_\"&$B14,data_entry,COLUMNS($B$11:AO13),0)),\"\")","v":0},{"$f":"IFERROR(IF($L$6=\"\",\"\",VLOOKUP($L$6&\"_\"&$B14,data_entry,COLUMNS($B$11:AP13),0)),\"\")","v":"YES"},{"$f":"IFERROR(IF($L$6=\"\",\"\",VLOOKUP($L$6&\"_\"&$B14,data_entry,COLUMNS($B$11:AQ13),0)),\"\")","v":0}]
[4,4,{"$f":"IF(D15=\"\",\"\",ROWS($D$12:D15))","v":4},{"$f":"IFERROR(IF(OR($L$6=\"\",'DATA ENTRY'!C10=\"\"),\"\",VLOOKUP($L$6&\"_\"&$B15,data_entry,COLUMNS($B$11:D14),0)),\"\")","v":"abc4"},{"$f":"IFERROR(IF($L$6=\"\",\"\",VLOOKUP($L$6&\"_\"&$B15,data_entry,COLUMNS($B$11:E14),0)),\"\")","v":"xyz4"},{"$f":"IFERROR(IF($L$6=\"\",\"\",VLOOKUP($L$6&\"_\"&$B15,data_entry,COLUMNS($B$11:F14),0)),\"\")","v":"F"},{"$f":"IFERROR(IF($L$6=\"\",\"\",VLOOKUP($L$6&\"_\"&$B15,data_entry,COLUMNS($B$11:G14),0)),\"\")","v":1},{"$f":"IFERROR(IF($L$6=\"\",\"\",VLOOKUP($L$6&\"_\"&$B15,data_entry,COLUMNS($B$11:H14),0)),\"\")","v":"NO"},{"$f":"IFERROR(IF($L$6=\"\",\"\",VLOOKUP($L$6&\"_\"&$B15,data_entry,COLUMNS($B$11:I14),0)),\"\")","v":"NO"},{"$f":"IFERROR(IF($L$6=\"\",\"\",VLOOKUP($L$6&\"_\"&$B15,data_entry,COLUMNS($B$11:J14),0)),\"\")","v":"NO"},{"$f":"IFERROR(IF($L$6=\"\",\"\",VLOOKUP($L$6&\"_\"&$B15,data_entry,COLUMNS($B$11:K14),0)),\"\")","v":"YES"},{"$f":"IFERROR(IF($L$6=\"\",\"\",VLOOKUP($L$6&\"_\"&$B15,data_entry,COLUMNS($B$11:L14),0)),\"\")","v":0},{"$f":"IFERROR(IF($L$6=\"\",\"\",VLOOKUP($L$6&\"_\"&$B15,data_entry,COLUMNS($B$11:M14),0)),\"\")","v":0},{"$f":"IFERROR(IF($L$6=\"\",\"\",VLOOKUP($L$6&\"_\"&$B15,data_entry,COLUMNS($B$11:N14),0)),\"\")","v":0},{"$f":"IFERROR(IF($L$6=\"\",\"\",VLOOKUP($L$6&\"_\"&$B15,data_entry,COLUMNS($B$11:O14),0)),\"\")","v":0},{"$f":"IFERROR(IF($L$6=\"\",\"\",VLOOKUP($L$6&\"_\"&$B15,data_entry,COLUMNS($B$11:P14),0)),\"\")","v":0},{"$f":"IFERROR(IF($L$6=\"\",\"\",VLOOKUP($L$6&\"_\"&$B15,data_entry,COLUMNS($B$11:Q14),0)),\"\")","v":0},{"$f":"IFERROR(IF($L$6=\"\",\"\",VLOOKUP($L$6&\"_\"&$B15,data_entry,COLUMNS($B$11:R14),0)),\"\")","v":0},{"$f":"IFERROR(IF($L$6=\"\",\"\",VLOOKUP($L$6&\"_\"&$B15,data_entry,COLUMNS($B$11:S14),0)),\"\")","v":0},{"$f":"IFERROR(IF($L$6=\"\",\"\",VLOOKUP($L$6&\"_\"&$B15,data_entry,COLUMNS($B$11:T14),0)),\"\")","v":0},{"$f":"IFERROR(IF($L$6=\"\",\"\",VLOOKUP($L$6&\"_\"&$B15,data_entry,COLUMNS($B$11:U14),0)),\"\")","v":0},{"$f":"IFERROR(IF($L$6=\"\",\"\",VLOOKUP($L$6&\"_\"&$B15,data_entry,COLUMNS($B$11:V14),0)),\"\")","v":0},{"$f":"IFERROR(IF($L$6=\"\",\"\",VLOOKUP($L$6&\"_\"&$B15,data_entry,COLUMNS($B$11:W14),0)),\"\")","v":0},{"$f":"IFERROR(IF($L$6=\"\",\"\",VLOOKUP($L$6&\"_\"&$B15,data_entry,COLUMNS($B$11:X14),0)),\"\")","v":0},{"$f":"IFERROR(IF($L$6=\"\",\"\",VLOOKUP($L$6&\"_\"&$B15,data_entry,COLUMNS($B$11:Y14),0)),\"\")","v":0},{"$f":"IFERROR(IF($L$6=\"\",\"\",VLOOKUP($L$6&\"_\"&$B15,data_entry,COLUMNS($B$11:Z14),0)),\"\")","v":0},{"$f":"IFERROR(IF($L$6=\"\",\"\",VLOOKUP($L$6&\"_\"&$B15,data_entry,COLUMNS($B$11:AA14),0)),\"\")","v":0},{"$f":"IFERROR(IF($L$6=\"\",\"\",VLOOKUP($L$6&\"_\"&$B15,data_entry,COLUMNS($B$11:AB14),0)),\"\")","v":0},{"$f":"IFERROR(IF($L$6=\"\",\"\",VLOOKUP($L$6&\"_\"&$B15,data_entry,COLUMNS($B$11:AC14),0)),\"\")","v":0},{"$f":"IFERROR(IF($L$6=\"\",\"\",VLOOKUP($L$6&\"_\"&$B15,data_entry,COLUMNS($B$11:AD14),0)),\"\")","v":0},{"$nulls":5},{"$f":"IFERROR(IF($L$6=\"\",\"\",VLOOKUP($L$6&\"_\"&$B15,data_entry,COLUMNS($B$11:AJ14),0)),\"\")","v":0},{"$f":"IFERROR(IF($L$6=\"\",\"\",VLOOKUP($L$6&\"_\"&$B15,data_entry,COLUMNS($B$11:AK14),0)),\"\")","v":0},{"$f":"IFERROR(IF($L$6=\"\",\"\",VLOOKUP($L$6&\"_\"&$B15,data_entry,COLUMNS($B$11:AL14),0)),\"\")","v":0},{"$f":"IFERROR(IF($L$6=\"\",\"\",VLOOKUP($L$6&\"_\"&$B15,data_entry,COLUMNS($B$11:AM14),0)),\"\")","v":0},{"$f":"IFERROR(IF($L$6=\"\",\"\",VLOOKUP($L$6&\"_\"&$B15,data_entry,COLUMNS($B$11:AN14),0)),\"\")","v":0},{"$f":"IFERROR(IF($L$6=\"\",\"\",VLOOKUP($L$6&\"_\"&$B15,data_entry,COLUMNS($B$11:AO14),0)),\"\")","v":0},{"$f":"IFERROR(IF($L$6=\"\",\"\",VLOOKUP($L$6&\"_\"&$B15,data_entry,COLUMNS($B$11:AP14),0)),\"\")","v":"YES"},{"$f":"IFERROR(IF($L$6=\"\",\"\",VLOOKUP($L$6&\"_\"&$B15,data_entry,COLUMNS($B$11:AQ14),0)),\"\")","v":0}]
[5,5,{"$f":"IF(D16=\"\",\"\",ROWS($D$12:D16))","v":5},{"$f":"IFERROR(IF(OR($L$6=\"\",'DATA ENTRY'!C11=\"\"),\"\",VLOOKUP($L$6&\"_\"&$B16,data_entry,COLUMNS($B$11:D15),0)),\"\")","v":"abc5"},{"$f":"IFERROR(IF($L$6=\"\",\"\",VLOOKUP($L$6&\"_\"&$B16,data_entry,COLUMNS($B$11:E15),0)),\"\")","v":"xyz5"},{"$f":"IFERROR(IF($L$6=\"\",\"\",VLOOKUP($L$6&\"_\"&$B16,data_entry,COLUMNS($B$11:F15),0)),\"\")","v":"F"},{"$f":"IFERROR(IF($L$6=\"\",\"\",VLOOKUP($L$6&\"_\"&$B16,data_entry,COLUMNS($B$11:G15),0)),\"\")","v":1},{"$f":"IFERROR(IF($L$6=\"\",\"\",VLOOKUP($L$6&\"_\"&$B16,data_entry,COLUMNS($B$11:H15),0)),\"\")","v":"YES"},{"$f":"IFERROR(IF($L$6=\"\",\"\",VLOOKUP($L$6&\"_\"&$B16,data_entry,COLUMNS($B$11:I15),0)),\"\")","v":"NO"},{"$f":"IFERROR(IF($L$6=\"\",\"\",VLOOKUP($L$6&\"_\"&$B16,data_entry,COLUMNS($B$11:J15),0)),\"\")","v":"NO"},{"$f":"IFERROR(IF($L$6=\"\",\"\",VLOOKUP($L$6&\"_\"&$B16,data_entry,COLUMNS($B$11:K15),0)),\"\")","v":"NO"},{"$f":"IFERROR(IF($L$6=\"\",\"\",VLOOKUP($L$6&\"_\"&$B16,data_entry,COLUMNS($B$11:L15),0)),\"\")","v":0},{"$f":"IFERROR(IF($L$6=\"\",\"\",VLOOKUP($L$6&\"_\"&$B16,data_entry,COLUMNS($B$11:M15),0)),\"\")","v":0},{"$f":"IFERROR(IF($L$6=\"\",\"\",VLOOKUP($L$6&\"_\"&$B16,data_entry,COLUMNS($B$11:N15),0)),\"\")","v":0},{"$f":"IFERROR(IF($L$6=\"\",\"\",VLOOKUP($L$6&\"_\"&$B16,data_entry,COLUMNS($B$11:O15),0)),\"\")","v":0},{"$f":"IFERROR(IF($L$6=\"\",\"\",VLOOKUP($L$6&\"_\"&$B16,data_entry,COLUMNS($B$11:P15),0)),\"\")","v":0},{"$f":"IFERROR(IF($L$6=\"\",\"\",VLOOKUP($L$6&\"_\"&$B16,data_entry,COLUMNS($B$11:Q15),0)),\"\")","v":0},{"$f":"IFERROR(IF($L$6=\"\",\"\",VLOOKUP($L$6&\"_\"&$B16,data_entry,COLUMNS($B$11:R15),0)),\"\")","v":0},{"$f":"IFERROR(IF($L$6=\"\",\"\",VLOOKUP($L$6&\"_\"&$B16,data_entry,COLUMNS($B$11:S15),0)),\"\")","v":0},{"$f":"IFERROR(IF($L$6=\"\",\"\",VLOOKUP($L$6&\"_\"&$B16,data_entry,COLUMNS($B$11:T15),0)),\"\")","v":0},{"$f":"IFERROR(IF($L$6=\"\",\"\",VLOOKUP($L$6&\"_\"&$B16,data_entry,COLUMNS($B$11:U15),0)),\"\")","v":0},{"$f":"IFERROR(IF($L$6=\"\",\"\",VLOOKUP($L$6&\"_\"&$B16,data_entry,COLUMNS($B$11:V15),0)),\"\")","v":0},{"$f":"IFERROR(IF($L$6=\"\",\"\",VLOOKUP($L$6&\"_\"&$B16,data_entry,COLUMNS($B$11:W15),0)),\"\")","v":0},{"$f":"IFERROR(IF($L$6=\"\",\"\",VLOOKUP($L$6&\"_\"&$B16,data_entry,COLUMNS($B$11:X15),0)),\"\")","v":0},{"$f":"IFERROR(IF($L$6=\"\",\"\",VLOOKUP($L$6&\"_\"&$B16,data_entry,COLUMNS($B$11:Y15),0)),\"\")","v":0},{"$f":"IFERROR(IF($L$6=\"\",\"\",VLOOKUP($L$6&\"_\"&$B16,data_entry,COLUMNS($B$11:Z15),0)),\"\")","v":0},{"$f":"IFERROR(IF($L$6=\"\",\"\",VLOOKUP($L$6&\"_\"&$B16,data_entry,COLUMNS($B$11:AA15),0)),\"\")","v":0},{"$f":"IFERROR(IF($L$6=\"\",\"\",VLOOKUP($L$6&\"_\"&$B16,data_entry,COLUMNS($B$11:AB15),0)),\"\")","v":0},{"$f":"IFERROR(IF($L$6=\"\",\"\",VLOOKUP($L$6&\"_\"&$B16,data_entry,COLUMNS($B$11:AC15),0)),\"\")","v":0},{"$f":"IFERROR(IF($L$6=\"\",\"\",VLOOKUP($L$6&\"_\"&$B16,data_entry,COLUMNS($B$11:AD15),0)),\"\")","v":0},{"$nulls":5},{"$f":"IFERROR(IF($L$6=\"\",\"\",VLOOKUP($L$6&\"_\"&$B16,data_entry,COLUMNS($B$11:AJ15),0)),\"\")","v":0},{"$f":"IFERROR(IF($L$6=\"\",\"\",VLOOKUP($L$6&\"_\"&$B16,data_entry,COLUMNS($B$11:AK15),0)),\"\")","v":0},{"$f":"IFERROR(IF($L$6=\"\",\"\",VLOOKUP($L$6&\"_\"&$B16,data_entry,COLUMNS($B$11:AL15),0)),\"\")","v":0},{"$f":"IFERROR(IF($L$6=\"\",\"\",VLOOKUP($L$6&\"_\"&$B16,data_entry,COLUMNS($B$11:AM15),0)),\"\")","v":0},{"$f":"IFERROR(IF($L$6=\"\",\"\",VLOOKUP($L$6&\"_\"&$B16,data_entry,COLUMNS($B$11:AN15),0)),\"\")","v":0},{"$f":"IFERROR(IF($L$6=\"\",\"\",VLOOKUP($L$6&\"_\"&$B16,data_entry,COLUMNS($B$11:AO15),0)),\"\")","v":0},{"$f":"IFERROR(IF($L$6=\"\",\"\",VLOOKUP($L$6&\"_\"&$B16,data_entry,COLUMNS($B$11:AP15),0)),\"\")","v":0},{"$f":"IFERROR(IF($L$6=\"\",\"\",VLOOKUP($L$6&\"_\"&$B16,data_entry,COLUMNS($B$11:AQ15),0)),\"\")","v":0}]
[6,6,{"$f":"IF(D17=\"\",\"\",ROWS($D$12:D17))","v":6},{"$f":"IFERROR(IF(OR($L$6=\"\",'DATA ENTRY'!C12=\"\"),\"\",VLOOKUP($L$6&\"_\"&$B17,data_entry,COLUMNS($B$11:D16),0)),\"\")","v":"abc6"},{"$f":"IFERROR(IF($L$6=\"\",\"\",VLOOKUP($L$6&\"_\"&$B17,data_entry,COLUMNS($B$11:E16),0)),\"\")","v":"xyz6"},{"$f":"IFERROR(IF($L$6=\"\",\"\",VLOOKUP($L$6&\"_\"&$B17,data_entry,COLUMNS($B$11:F16),0)),\"\")","v":"M"},{"$f":"IFERROR(IF($L$6=\"\",\"\",VLOOKUP($L$6&\"_\"&$B17,data_entry,COLUMNS($B$11:G16),0)),\"\")","v":1},{"$f":"IFERROR(IF($L$6=\"\",\"\",VLOOKUP($L$6&\"_\"&$B17,data_entry,COLUMNS($B$11:H16),0)),\"\")","v":"YES"},{"$f":"IFERROR(IF($L$6=\"\",\"\",VLOOKUP($L$6&\"_\"&$B17,data_entry,COLUMNS($B$11:I16),0)),\"\")","v":"NO"},{"$f":"IFERROR(IF($L$6=\"\",\"\",VLOOKUP($L$6&\"_\"&$B17,data_entry,COLUMNS($B$11:J16),0)),\"\")","v":"NO"},{"$f":"IFERROR(IF($L$6=\"\",\"\",VLOOKUP($L$6&\"_\"&$B17,data_entry,COLUMNS($B$11:K16),0)),\"\")","v":"NO"},{"$f":"IFERROR(IF($L$6=\"\",\"\",VLOOKUP($L$6&\"_\"&$B17,data_entry,COLUMNS($B$11:L16),0)),\"\")","v":0},{"$f":"IFERROR(IF($L$6=\"\",\"\",VLOOKUP($L$6&\"_\"&$B17,data_entry,COLUMNS($B$11:M16),0)),\"\")","v":0},{"$f":"IFERROR(IF($L$6=\"\",\"\",VLOOKUP($L$6&\"_\"&$B17,data_entry,COLUMNS($B$11:N16),0)),\"\")","v":0},{"$f":"IFERROR(IF($L$6=\"\",\"\",VLOOKUP($L$6&\"_\"&$B17,data_entry,COLUMNS($B$11:O16),0)),\"\")","v":0},{"$f":"IFERROR(IF($L$6=\"\",\"\",VLOOKUP($L$6&\"_\"&$B17,data_entry,COLUMNS($B$11:P16),0)),\"\")","v":0},{"$f":"IFERROR(IF($L$6=\"\",\"\",VLOOKUP($L$6&\"_\"&$B17,data_entry,COLUMNS($B$11:Q16),0)),\"\")","v":0},{"$f":"IFERROR(IF($L$6=\"\",\"\",VLOOKUP($L$6&\"_\"&$B17,data_entry,COLUMNS($B$11:R16),0)),\"\")","v":0},{"$f":"IFERROR(IF($L$6=\"\",\"\",VLOOKUP($L$6&\"_\"&$B17,data_entry,COLUMNS($B$11:S16),0)),\"\")","v":0},{"$f":"IFERROR(IF($L$6=\"\",\"\",VLOOKUP($L$6&\"_\"&$B17,data_entry,COLUMNS($B$11:T16),0)),\"\")","v":0},{"$f":"IFERROR(IF($L$6=\"\",\"\",VLOOKUP($L$6&\"_\"&$B17,data_entry,COLUMNS($B$11:U16),0)),\"\")","v":0},{"$f":"IFERROR(IF($L$6=\"\",\"\",VLOOKUP($L$6&\"_\"&$B17,data_entry,COLUMNS($B$11:V16),0)),\"\")","v":0},{"$f":"IFERROR(IF($L$6=\"\",\"\",VLOOKUP($L$6&\"_\"&$B17,data_entry,COLUMNS($B$11:W16),0)),\"\")","v":0},{"$f":"IFERROR(IF($L$6=\"\",\"\",VLOOKUP($L$6&\"_\"&$B17,data_entry,COLUMNS($B$11:X16),0)),\"\")","v":0},{"$f":"IFERROR(IF($L$6=\"\",\"\",VLOOKUP($L$6&\"_\"&$B17,data_entry,COLUMNS($B$11:Y16),0)),\"\")","v":0},{"$f":"IFERROR(IF($L$6=\"\",\"\",VLOOKUP($L$6&\"_\"&$B17,data_entry,COLUMNS($B$11:Z16),0)),\"\")","v":0},{"$f":"IFERROR(IF($L$6=\"\",\"\",VLOOKUP($L$6&\"_\"&$B17,data_entry,COLUMNS($B$11:AA16),0)),\"\")","v":0},{"$f":"IFERROR(IF($L$6=\"\",\"\",VLOOKUP($L$6&\"_\"&$B17,data_entry,COLUMNS($B$11:AB16),0)),\"\")","v":0},{"$f":"IFERROR(IF($L$6=\"\",\"\",VLOOKUP($L$6&\"_\"&$B17,data_entry,COLUMNS($B$11:AC16),0)),\"\")","v":0},{"$f":"IFERROR(IF($L$6=\"\",\"\",VLOOKUP($L$6&\"_\"&$B17,data_entry,COLUMNS($B$11:AD16),0)),\"\")","v":0},{"$nulls":5},{"$f":"IFERROR(IF($L$6=\"\",\"\",VLOOKUP($L$6&\"_\"&$B17,data_entry,COLUMNS($B$11:AJ16),0)),\"\")","v":0},{"$f":"IFERROR(IF($L$6=\"\",\"\",VLOOKUP($L$6&\"_\"&$B17,data_entry,COLUMNS($B$11:AK16),0)),\"\")","v":0},{"$f":"IFERROR(IF($L$6=\"\",\"\",VLOOKUP($L$6&\"_\"&$B17,data_entry,COLUMNS($B$11:AL16),0)),\"\")","v":0},{"$f":"IFERROR(IF($L$6=\"\",\"\",VLOOKUP($L$6&\"_\"&$B17,data_entry,COLUMNS($B$11:AM16),0)),\"\")","v":0},{"$f":"IFERROR(IF($L$6=\"\",\"\",VLOOKUP($L$6&\"_\"&$B17,data_entry,COLUMNS($B$11:AN16),0)),\"\")","v":0},{"$f":"IFERROR(IF($L$6=\"\",\"\",VLOOKUP($L$6&\"_\"&$B17,data_entry,COLUMNS($B$11:AO16),0)),\"\")","v":0},{"$f":"IFERROR(IF($L$6=\"\",\"\",VLOOKUP($L$6&\"_\"&$B17,data_entry,COLUMNS($B$11:AP16),0)),\"\")","v":0},{"$f":"IFERROR(IF($L$6=\"\",\"\",VLOOKUP($L$6&\"_\"&$B17,data_entry,COLUMNS($B$11:AQ16),0)),\"\")","v":0}]
[7,7,{"$f":"IF(D18=\"\",\"\",ROWS($D$12:D18))","v":7},{"$f":"IFERROR(IF(OR($L$6=\"\",'DATA ENTRY'!C13=\"\"),\"\",VLOOKUP($L$6&\"_\"&$B18,data_entry,COLUMNS($B$11:D17),0)),\"\")","v":"abc7"},{"$f":"IFERROR(IF($L$6=\"\",\"\",VLOOKUP($L$6&\"_\"&$B18,data_entry,COLUMNS($B$11:E17),0)),\"\")","v":"xyz7"},{"$f":"IFERROR(IF($L$6=\"\",\"\",VLOOKUP($L$6&\"_\"&$B18,data_entry,COLUMNS($B$11:F17),0)),\"\")","v":"F"},{"$f":"IFERROR(IF($L$6=\"\",\"\",VLOOKUP($L$6&\"_\"&$B18,data_entry,COLUMNS($B$11:G17),0)),\"\")","v":1},{"$f":"IFERROR(IF($L$6=\"\",\"\",VLOOKUP($L$6&\"_\"&$B18,data_entry,COLUMNS($B$11:H17),0)),\"\")","v":"NO"},{"$f":"IFERROR(IF($L$6=\"\",\"\",VLOOKUP($L$6&\"_\"&$B18,data_entry,COLUMNS($B$11:I17),0)),\"\")","v":"NO"},{"$f":"IFERROR(IF($L$6=\"\",\"\",VLOOKUP($L$6&\"_\"&$B18,data_entry,COLUMNS($B$11:J17),0)),\"\")","v":"NO"},{"$f":"IFERROR(IF($L$6=\"\",\"\",VLOOKUP($L$6&\"_\"&$B18,data_entry,COLUMNS($B$11:K17),0)),\"\")","v":"YES"},{"$f":"IFERROR(IF($L$6=\"\",\"\",VLOOKUP($L$6&\"_\"&$B18,data_entry,COLUMNS($B$11:L17),0)),\"\")","v":0},{"$f":"IFERROR(IF($L$6=\"\",\"\",VLOOKUP($L$6&\"_\"&$B18,data_entry,COLUMNS($B$11:M17),0)),\"\")","v":0},{"$f":"IFERROR(IF($L$6=\"\",\"\",VLOOKUP($L$6&\"_\"&$B18,data_entry,COLUMNS($B$11:N17),0)),\"\")","v":0},{"$f":"IFERROR(IF($L$6=\"\",\"\",VLOOKUP($L$6&\"_\"&$B18,data_entry,COLUMNS($B$11:O17),0)),\"\")","v":0},{"$f":"IFERROR(IF($L$6=\"\",\"\",VLOOKUP($L$6&\"_\"&$B18,data_entry,COLUMNS($B$11:P17),0)),\"\")","v":0},{"$f":"IFERROR(IF($L$6=\"\",\"\",VLOOKUP($L$6&\"_\"&$B18,data_entry,COLUMNS($B$11:Q17),0)),\"\")","v":0},{"$f":"IFERROR(IF($L$6=\"\",\"\",VLOOKUP($L$6&\"_\"&$B18,data_entry,COLUMNS($B$11:R17),0)),\"\")","v":0},{"$f":"IFERROR(IF($L$6=\"\",\"\",VLOOKUP($L$6&\"_\"&$B18,data_entry,COLUMNS($B$11:S17),0)),\"\")","v":0},{"$f":"IFERROR(IF($L$6=\"\",\"\",VLOOKUP($L$6&\"_\"&$B18,data_entry,COLUMNS($B$11:T17),0)),\"\")","v":0},{"$f":"IFERROR(IF($L$6=\"\",\"\",VLOOKUP($L$6&\"_\"&$B18,data_entry,COLUMNS($B$11:U17),0)),\"\")","v":0},{"$f":"IFERROR(IF($L$6=\"\",\"\",VLOOKUP($L$6&\"_\"&$B18,data_entry,COLUMNS($B$11:V17),0)),\"\")","v":0},{"$f":"IFERROR(IF($L$6=\"\",\"\",VLOOKUP($L$6&\"_\"&$B18,data_entry,COLUMNS($B$11:W17),0)),\"\")","v":0},{"$f":"IFERROR(IF($L$6=\"\",\"\",VLOOKUP($L$6&\"_\"&$B18,data_entry,COLUMNS($B$11:X17),0)),\"\")","v":0},{"$f":"IFERROR(IF($L$6=\"\",\"\",VLOOKUP($L$6&\"_\"&$B18,data_entry,COLUMNS($B$11:Y17),0)),\"\")","v":0},{"$f":"IFERROR(IF($L$6=\"\",\"\",VLOOKUP($L$6&\"_\"&$B18,data_entry,COLUMNS($B$11:Z17),0)),\"\")","v":0},{"$f":"IFERROR(IF($L$6=\"\",\"\",VLOOKUP($L$6&\"_\"&$B18,data_entry,COLUMNS($B$11:AA17),0)),\"\")","v":0},{"$f":"IFERROR(IF($L$6=\"\",\"\",VLOOKUP($L$6&\"_\"&$B18,data_entry,COLUMNS($B$11:AB17),0)),\"\")","v":0},{"$f":"IFERROR(IF($L$6=\"\",\"\",VLOOKUP($L$6&\"_\"&$B18,data_entry,COLUMNS($B$11:AC17),0)),\"\")","v":0},{"$f":"IFERROR(IF($L$6=\"\",\"\",VLOOKUP($L$6&\"_\"&$B18,data_entry,COLUMNS($B$11:AD17),0)),\"\")","v":0},{"$nulls":5},{"$f":"IFERROR(IF($L$6=\"\",\"\",VLOOKUP($L$6&\"_\"&$B18,data_entry,COLUMNS($B$11:AJ17),0)),\"\")","v":0},{"$f":"IFERROR(IF($L$6=\"\",\"\",VLOOKUP($L$6&\"_\"&$B18,data_entry,COLUMNS($B$11:AK17),0)),\"\")","v":0},{"$f":"IFERROR(IF($L$6=\"\",\"\",VLOOKUP($L$6&\"_\"&$B18,data_entry,COLUMNS($B$11:AL17),0)),\"\")","v":0},{"$f":"IFERROR(IF($L$6=\"\",\"\",VLOOKUP($L$6&\"_\"&$B18,data_entry,COLUMNS($B$11:AM17),0)),\"\")","v":0},{"$f":"IFERROR(IF($L$6=\"\",\"\",VLOOKUP($L$6&\"_\"&$B18,data_entry,COLUMNS($B$11:AN17),0)),\"\")","v":0},{"$f":"IFERROR(IF($L$6=\"\",\"\",VLOOKUP($L$6&\"_\"&$B18,data_entry,COLUMNS($B$11:AO17),0)),\"\")","v":0},{"$f":"IFERROR(IF($L$6=\"\",\"\",VLOOKUP($L$6&\"_\"&$B18,data_entry,COLUMNS($B$11:AP17),0)),\"\")","v":0},{"$f":"IFERROR(IF($L$6=\"\",\"\",VLOOKUP($L$6&\"_\"&$B18,data_entry,COLUMNS($B$11:AQ17),0)),\"\")","v":0}]
[0,8,{"$f":"IF(D19=\"\",\"\",ROWS($D$12:D19))","v":""},{"$f":"IFERROR(IF(OR($L$6=\"\",'DATA ENTRY'!C14=\"\"),\"\",VLOOKUP($L$6&\"_\"&$B19,data_entry,COLUMNS($B$11:D18),0)),\"\")","v":""},{"$f":"IFERROR(IF($L$6=\"\",\"\",VLOOKUP($L$6&\"_\"&$B19,data_entry,COLUMNS($B$11:E18),0)),\"\")","v":""},{"$f":"IFERROR(IF($L$6=\"\",\"\",VLOOKUP($L$6&\"_\"&$B19,data_entry,COLUMNS($B$11:F18),0)),\"\")","v":""},{"$f":"IFERROR(IF($L$6=\"\",\"\",VLOOKUP($L$6&\"_\"&$B19,data_entry,COLUMNS($B$11:G18),0)),\"\")","v":""},{"$f":"IFERROR(IF($L$6=\"\",\"\",VLOOKUP($L$6&\"_\"&$B19,data_entry,COLUMNS($B$11:H18),0)),\"\")","v":""},{"$f":"IFERROR(IF($L$6=\"\",\"\",VLOOKUP($L$6&\"_\"&$B19,data_entry,COLUMNS($B$11:I18),0)),\"\")","v":""},{"$f":"IFERROR(IF($L$6=\"\",\"\",VLOOKUP($L$6&\"_\"&$B19,data_entry,COLUMNS($B$11:J18),0)),\"\")","v":""},{"$f":"IFERROR(IF($L$6=\"\",\"\",VLOOKUP($L$6&\"_\"&$B19,data_entry,COLUMNS($B$11:K18),0)),\"\")","v":""},{"$f":"IFERROR(IF($L$6=\"\",\"\",VLOOKUP($L$6&\"_\"&$B19,data_entry,COLUMNS($B$11:L18),0)),\"\")","v":""},{"$f":"IFERROR(IF($L$6=\"\",\"\",VLOOKUP($L$6&\"_\"&$B19,data_entry,COLUMNS($B$11:M18),0)),\"\")","v":""},{"$f":"IFERROR(IF($L$6=\"\",\"\",VLOOKUP($L$6&\"_\"&$B19,data_entry,COLUMNS($B$11:N18),0)),\"\")","v":""},{"$f":"IFERROR(IF($L$6=\"\",\"\",VLOOKUP($L$6&\"_\"&$B19,data_entry,COLUMNS($B$11:O18),0)),\"\")","v":""},{"$f":"IFERROR(IF($L$6=\"\",\"\",VLOOKUP($L$6&\"_\"&$B19,data_entry,COLUMNS($B$11:P18),0)),\"\")","v":""},{"$f":"IFERROR(IF($L$6=\"\",\"\",VLOOKUP($L$6&\"_\"&$B19,data_entry,COLUMNS($B$11:Q18),0)),\"\")","v":""},{"$f":"IFERROR(IF($L$6=\"\",\"\",VLOOKUP($L$6&\"_\"&$B19,data_entry,COLUMNS($B$11:R18),0)),\"\")","v":""},{"$f":"IFERROR(IF($L$6=\"\",\"\",VLOOKUP($L$6&\"_\"&$B19,data_entry,COLUMNS($B$11:S18),0)),\"\")","v":""},{"$f":"IFERROR(IF($L$6=\"\",\"\",VLOOKUP($L$6&\"_\"&$B19,data_entry,COLUMNS($B$11:T18),0)),\"\")","v":""},{"$f":"IFERROR(IF($L$6=\"\",\"\",VLOOKUP($L$6&\"_\"&$B19,data_entry,COLUMNS($B$11:U18),0)),\"\")","v":""},{"$f":"IFERROR(IF($L$6=\"\",\"\",VLOOKUP($L$6&\"_\"&$B19,data_entry,COLUMNS($B$11:V18),0)),\"\")","v":""},{"$f":"IFERROR(IF($L$6=\"\",\"\",VLOOKUP($L$6&\"_\"&$B19,data_entry,COLUMNS($B$11:W18),0)),\"\")","v":""},{"$f":"IFERROR(IF($L$6=\"\",\"\",VLOOKUP($L$6&\"_\"&$B19,data_entry,COLUMNS($B$11:X18),0)),\"\")","v":""},{"$f":"IFERROR(IF($L$6=\"\",\"\",VLOOKUP($L$6&\"_\"&$B19,data_entry,COLUMNS($B$11:Y18),0)),\"\")","v":""},{"$f":"IFERROR(IF($L$6=\"\",\"\",VLOOKUP($L$6&\"_\"&$B19,data_entry,COLUMNS($B$11:Z18),0)),\"\")","v":""},{"$f":"IFERROR(IF($L$6=\"\",\"\",VLOOKUP($L$6&\"_\"&$B19,data_entry,COLUMNS($B$11:AA18),0)),\"\")","v":""},{"$f":"IFERROR(IF($L$6=\"\",\"\",VLOOKUP($L$6&\"_\"&$B19,data_entry,COLUMNS($B$11:AB18),0)),\"\")","v":""},{"$f":"IFERROR(IF($L$6=\"\",\"\",VLOOKUP($L$6&\"_\"&$B19,data_entry,COLUMNS($B$11:AC18),0)),\"\")","v":""},{"$f":"IFERROR(IF($L$6=\"\",\"\",VLOOKUP($L$6&\"_\"&$B19,data_entry,COLUMNS($B$11:AD18),0)),\"\")","v":""},{"$nulls":5},{"$f":"IFERROR(IF($L$6=\"\",\"\",VLOOKUP($L$6&\"_\"&$B19,data_entry,COLUMNS($B$11:AJ18),0)),\"\")","v":""},{"$f":"IFERROR(IF($L$6=\"\",\"\",VLOOKUP($L$6&\"_\"&$B19,data_entry,COLUMNS($B$11:AK18),0)),\"\")","v":""},{"$f":"IFERROR(IF($L$6=\"\",\"\",VLOOKUP($L$6&\"_\"&$B19,data_entry,COLUMNS($B$11:AL18),0)),\"\")","v":""},{"$f":"IFERROR(IF($L$6=\"\",\"\",VLOOKUP($L$6&\"_\"&$B19,data_entry,COLUMNS($B$11:AM18),0)),\"\")","v":""},{"$f":"IFERROR(IF($L$6=\"\",\"\",VLOOKUP($L$6&\"_\"&$B19,data_entry,COLUMNS($B$11:AN18),0)),\"\")","v":""},{"$f":"IFERROR(IF($L$6=\"\",\"\",VLOOKUP($L$6&\"_\"&$B19,data_entry,COLUMNS($B$11:AO18),0)),\"\")","v":""},{"$f":"IFERROR(IF($L$6=\"\",\"\",VLOOKUP($L$6&\"_\"&$B19,data_entry,COLUMNS($B$11:AP18),0)),\"\")","v":""},{"$f":"IFERROR(IF($L$6=\"\",\"\",VLOOKUP($L$6&\"_\"&$B19,data_entry,COLUMNS($B$11:AQ18),0)),\"\")","v":""}]
[0,9,{"$f":"IF(D20=\"\",\"\",ROWS($D$12:D20))","v":""},{"$f":"IFERROR(IF(OR($L$6=\"\",'DATA ENTRY'!C15=\"\"),\"\",VLOOKUP($L$6&\"_\"&$B20,data_entry,COLUMNS($B$11:D19),0)),\"\")","v":""},{"$f":"IFERROR(IF($L$6=\"\",\"\",VLOOKUP($L$6&\"_\"&$B20,data_entry,COLUMNS($B$11:E19),0)),\"\")","v":""},{"$f":"IFERROR(IF($L$6=\"\",\"\",VLOOKUP($L$6&\"_\"&$B20,data_entry,COLUMNS($B$11:F19),0)),\"\")","v":""},{"$f":"IFERROR(IF($L$6=\"\",\"\",VLOOKUP($L$6&\"_\"&$B20,data_entry,COLUMNS($B$11:G19),0)),\"\")","v":""},{"$f":"IFERROR(IF($L$6=\"\",\"\",VLOOKUP($L$6&\"_\"&$B20,data_entry,COLUMNS($B$11:H19),0)),\"\")","v":""},{"$f":"IFERROR(IF($L$6=\"\",\"\",VLOOKUP($L$6&\"_\"&$B20,data_entry,COLUMNS($B$11:I19),0)),\"\")","v":""},{"$f":"IFERROR(IF($L$6=\"\",\"\",VLOOKUP($L$6&\"_\"&$B20,data_entry,COLUMNS($B$11:J19),0)),\"\")","v":""},{"$f":"IFERROR(IF($L$6=\"\",\"\",VLOOKUP($L$6&\"_\"&$B20,data_entry,COLUMNS($B$11:K19),0)),\"\")","v":""},{"$f":"IFERROR(IF($L$6=\"\",\"\",VLOOKUP($L$6&\"_\"&$B20,data_entry,COLUMNS($B$11:L19),0)),\"\")","v":""},{"$f":"IFERROR(IF($L$6=\"\",\"\",VLOOKUP($L$6&\"_\"&$B20,data_entry,COLUMNS($B$11:M19),0)),\"\")","v":""},{"$f":"IFERROR(IF($L$6=\"\",\"\",VLOOKUP($L$6&\"_\"&$B20,data_entry,COLUMNS($B$11:N19),0)),\"\")","v":""},{"$f":"IFERROR(IF($L$6=\"\",\"\",VLOOKUP($L$6&\"_\"&$B20,data_entry,COLUMNS($B$11:O19),0)),\"\")","v":""},{"$f":"IFERROR(IF($L$6=\"\",\"\",VLOOKUP($L$6&\"_\"&$B20,data_entry,COLUMNS($B$11:P19),0)),\"\")","v":""},{"$f":"IFERROR(IF($L$6=\"\",\"\",VLOOKUP($L$6&\"_\"&$B20,data_entry,COLUMNS($B$11:Q19),0)),\"\")","v":""},{"$f":"IFERROR(IF($L$6=\"\",\"\",VLOOKUP($L$6&\"_\"&$B20,data_entry,COLUMNS($B$11:R19),0)),\"\")","v":""},{"$f":"IFERROR(IF($L$6=\"\",\"\",VLOOKUP($L$6&\"_\"&$B20,data_entry,COLUMNS($B$11:S19),0)),\"\")","v":""},{"$f":"IFERROR(IF($L$6=\"\",\"\",VLOOKUP($L$6&\"_\"&$B20,data_entry,COLUMNS($B$11:T19),0)),\"\")","v":""},{"$f":"IFERROR(IF($L$6=\"\",\"\",VLOOKUP($L$6&\"_\"&$B20,data_entry,COLUMNS($B$11:U19),0)),\"\")","v":""},{"$f":"IFERROR(IF($L$6=\"\",\"\",VLOOKUP($L$6&\"_\"&$B20,data_entry,COLUMNS($B$11:V19),0)),\"\")","v":""},{"$f":"IFERROR(IF($L$6=\"\",\"\",VLOOKUP($L$6&\"_\"&$B20,data_entry,COLUMNS($B$11:W19),0)),\"\")","v":""},{"$f":"IFERROR(IF($L$6=\"\",\"\",VLOOKUP($L$6&\"_\"&$B20,data_entry,COLUMNS($B$11:X19),0)),\"\")","v":""},{"$f":"IFERROR(IF($L$6=\"\",\"\",VLOOKUP($L$6&\"_\"&$B20,data_entry,COLUMNS($B$11:Y19),0)),\"\")","v":""},{"$f":"IFERROR(IF($L$6=\"\",\"\",VLOOKUP($L$6&\"_\"&$B20,data_entry,COLUMNS($B$11:Z19),0)),\"\")","v":""},{"$f":"IFERROR(IF($L$6=\"\",\"\",VLOOKUP($L$6&\"_\"&$B20,data_entry,COLUMNS($B$11:AA19),0)),\"\")","v":""},{"$f":"IFERROR(IF($L$6=\"\",\"\",VLOOKUP($L$6&\"_\"&$B20,data_entry,COLUMNS($B$11:AB19),0)),\"\")","v":""},{"$f":"IFERROR(IF($L$6=\"\",\"\",VLOOKUP($L$6&\"_\"&$B20,data_entry,COLUMNS($B$11:AC19),0)),\"\")","v":""},{"$f":"IFERROR(IF($L$6=\"\",\"\",VLOOKUP($L$6&\"_\"&$B20,data_entry,COLUMNS($B$11:AD19),0)),\"\")","v":""},{"$nulls":5},{"$f":"IFERROR(IF($L$6=\"\",\"\",VLOOKUP($L$6&\"_\"&$B20,data_entry,COLUMNS($B$11:AJ19),0)),\"\")","v":""},{"$f":"IFERROR(IF($L$6=\"\",\"\",VLOOKUP($L$6&\"_\"&$B20,data_entry,COLUMNS($B$11:AK19),0)),\"\")","v":""},{"$f":"IFERROR(IF($L$6=\"\",\"\",VLOOKUP($L$6&\"_\"&$B20,data_entry,COLUMNS($B$11:AL19),0)),\"\")","v":""},{"$f":"IFERROR(IF($L$6=\"\",\"\",VLOOKUP($L$6&\"_\"&$B20,data_entry,COLUMNS($B$11:AM19),0)),\"\")","v":""},{"$f":"IFERROR(IF($L$6=\"\",\"\",VLOOKUP($L$6&\"_\"&$B20,data_entry,COLUMNS($B$11:AN19),0)),\"\")","v":""},{"$f":"IFERROR(IF($L$6=\"\",\"\",VLOOKUP($L$6&\"_\"&$B20,data_entry,COLUMNS($B$11:AO19),0)),\"\")","v":""},{"$f":"IFERROR(IF($L$6=\"\",\"\",VLOOKUP($L$6&\"_\"&$B20,data_entry,COLUMNS($B$11:AP19),0)),\"\")","v":""},{"$f":"IFERROR(IF($L$6=\"\",\"\",VLOOKUP($L$6&\"_\"&$B20,data_entry,COLUMNS($B$11:AQ19),0)),\"\")","v":""}]
[0,10,{"$f":"IF(D21=\"\",\"\",ROWS($D$12:D21))","v":""},{"$f":"IFERROR(IF(OR($L$6=\"\",'DATA ENTRY'!C16=\"\"),\"\",VLOOKUP($L$6&\"_\"&$B21,data_entry,COLUMNS($B$11:D20),0)),\"\")","v":""},{"$f":"IFERROR(IF($L$6=\"\",\"\",VLOOKUP($L$6&\"_\"&$B21,data_entry,COLUMNS($B$11:E20),0)),\"\")","v":""},{"$f":"IFERROR(IF($L$6=\"\",\"\",VLOOKUP($L$6&\"_\"&$B21,data_entry,COLUMNS($B$11:F20),0)),\"\")","v":""},{"$f":"IFERROR(IF($L$6=\"\",\"\",VLOOKUP($L$6&\"_\"&$B21,data_entry,COLUMNS($B$11:G20),0)),\"\")","v":""},{"$f":"IFERROR(IF($L$6=\"\",\"\",VLOOKUP($L$6&\"_\"&$B21,data_entry,COLUMNS($B$11:H20),0)),\"\")","v":""},{"$f":"IFERROR(IF($L$6=\"\",\"\",VLOOKUP($L$6&\"_\"&$B21,data_entry,COLUMNS($B$11:I20),0)),\"\")","v":""},{"$f":"IFERROR(IF($L$6=\"\",\"\",VLOOKUP($L$6&\"_\"&$B21,data_entry,COLUMNS($B$11:J20),0)),\"\")","v":""},{"$f":"IFERROR(IF($L$6=\"\",\"\",VLOOKUP($L$6&\"_\"&$B21,data_entry,COLUMNS($B$11:K20),0)),\"\")","v":""},{"$f":"IFERROR(IF($L$6=\"\",\"\",VLOOKUP($L$6&\"_\"&$B21,data_entry,COLUMNS($B$11:L20),0)),\"\")","v":""},{"$f":"IFERROR(IF($L$6=\"\",\"\",VLOOKUP($L$6&\"_\"&$B21,data_entry,COLUMNS($B$11:M20),0)),\"\")","v":""},{"$f":"IFERROR(IF($L$6=\"\",\"\",VLOOKUP($L$6&\"_\"&$B21,data_entry,COLUMNS($B$11:N20),0)),\"\")","v":""},{"$f":"IFERROR(IF($L$6=\"\",\"\",VLOOKUP($L$6&\"_\"&$B21,data_entry,COLUMNS($B$11:O20),0)),\"\")","v":""},{"$f":"IFERROR(IF($L$6=\"\",\"\",VLOOKUP($L$6&\"_\"&$B21,data_entry,COLUMNS($B$11:P20),0)),\"\")","v":""},{"$f":"IFERROR(IF($L$6=\"\",\"\",VLOOKUP($L$6&\"_\"&$B21,data_entry,COLUMNS($B$11:Q20),0)),\"\")","v":""},{"$f":"IFERROR(IF($L$6=\"\",\"\",VLOOKUP($L$6&\"_\"&$B21,data_entry,COLUMNS($B$11:R20),0)),\"\")","v":""},{"$f":"IFERROR(IF($L$6=\"\",\"\",VLOOKUP($L$6&\"_\"&$B21,data_entry,COLUMNS($B$11:S20),0)),\"\")","v":""},{"$f":"IFERROR(IF($L$6=\"\",\"\",VLOOKUP($L$6&\"_\"&$B21,data_entry,COLUMNS($B$11:T20),0)),\"\")","v":""},{"$f":"IFERROR(IF($L$6=\"\",\"\",VLOOKUP($L$6&\"_\"&$B21,data_entry,COLUMNS($B$11:U20),0)),\"\")","v":""},{"$f":"IFERROR(IF($L$6=\"\",\"\",VLOOKUP($L$6&\"_\"&$B21,data_entry,COLUMNS($B$11:V20),0)),\"\")","v":""},{"$f":"IFERROR(IF($L$6=\"\",\"\",VLOOKUP($L$6&\"_\"&$B21,data_entry,COLUMNS($B$11:W20),0)),\"\")","v":""},{"$f":"IFERROR(IF($L$6=\"\",\"\",VLOOKUP($L$6&\"_\"&$B21,data_entry,COLUMNS($B$11:X20),0)),\"\")","v":""},{"$f":"IFERROR(IF($L$6=\"\",\"\",VLOOKUP($L$6&\"_\"&$B21,data_entry,COLUMNS($B$11:Y20),0)),\"\")","v":""},{"$f":"IFERROR(IF($L$6=\"\",\"\",VLOOKUP($L$6&\"_\"&$B21,data_entry,COLUMNS($B$11:Z20),0)),\"\")","v":""},{"$f":"IFERROR(IF($L$6=\"\",\"\",VLOOKUP($L$6&\"_\"&$B21,data_entry,COLUMNS($B$11:AA20),0)),\"\")","v":""},{"$f":"IFERROR(IF($L$6=\"\",\"\",VLOOKUP($L$6&\"_\"&$B21,data_entry,COLUMNS($B$11:AB20),0)),\"\")","v":""},{"$f":"IFERROR(IF($L$6=\"\",\"\",VLOOKUP($L$6&\"_\"&$B21,data_entry,COLUMNS($B$11:AC20),0)),\"\")","v":""},{"$f":"IFERROR(IF($L$6=\"\",\"\",VLOOKUP($L$6&\"_\"&$B21,data_entry,COLUMNS($B$11:AD20),0)),\"\")","v":""},{"$nulls":5},{"$f":"IFERROR(IF($L$6=\"\",\"\",VLOOKUP($L$6&\"_\"&$B21,data_entry,COLUMNS($B$11:AJ20),0)),\"\")","v":""},{"$f":"IFERROR(IF($L$6=\"\",\"\",VLOOKUP($L$6&\"_\"&$B21,data_entry,COLUMNS($B$11:AK20),0)),\"\")","v":""},{"$f":"IFERROR(IF($L$6=\"\",\"\",VLOOKUP($L$6&\"_\"&$B21,data_entry,COLUMNS($B$11:AL20),0)),\"\")","v":""},{"$f":"IFERROR(IF($L$6=\"\",\"\",VLOOKUP($L$6&\"_\"&$B21,data_entry,COLUMNS($B$11:AM20),0)),\"\")","v":""},{"$f":"IFERROR(IF($L$6=\"\",\"\",VLOOKUP($L$6&\"_\"&$B21,data_entry,COLUMNS($B$11:AN20),0)),\"\")","v":""},{"$f":"IFERROR(IF($L$6=\"\",\"\",VLOOKUP($L$6&\"_\"&$B21,data_entry,COLUMNS($B$11:AO20),0)),\"\")","v":""},{"$f":"IFERROR(IF($L$6=\"\",\"\",VLOOKUP($L$6&\"_\"&$B21,data_entry,COLUMNS($B$11:AP20),0)),\"\")","v":""},{"$f":"IFERROR(IF($L$6=\"\",\"\",VLOOKUP($L$6&\"_\"&$B21,data_entry,COLUMNS($B$11:AQ20),0)),\"\")","v":""}]
[0,11,{"$f":"IF(D22=\"\",\"\",ROWS($D$12:D22))","v":""},{"$f":"IFERROR(IF(OR($L$6=\"\",'DATA ENTRY'!C17=\"\"),\"\",VLOOKUP($L$6&\"_\"&$B22,data_entry,COLUMNS($B$11:D21),0)),\"\")","v":""},{"$f":"IFERROR(IF($L$6=\"\",\"\",VLOOKUP($L$6&\"_\"&$B22,data_entry,COLUMNS($B$11:E21),0)),\"\")","v":""},{"$f":"IFERROR(IF($L$6=\"\",\"\",VLOOKUP($L$6&\"_\"&$B22,data_entry,COLUMNS($B$11:F21),0)),\"\")","v":""},{"$f":"IFERROR(IF($L$6=\"\",\"\",VLOOKUP($L$6&\"_\"&$B22,data_entry,COLUMNS($B$11:G21),0)),\"\")","v":""},{"$f":"IFERROR(IF($L$6=\"\",\"\",VLOOKUP($L$6&\"_\"&$B22,data_entry,COLUMNS($B$11:H21),0)),\"\")","v":""},{"$f":"IFERROR(IF($L$6=\"\",\"\",VLOOKUP($L$6&\"_\"&$B22,data_entry,COLUMNS($B$11:I21),0)),\"\")","v":""},{"$f":"IFERROR(IF($L$6=\"\",\"\",VLOOKUP($L$6&\"_\"&$B22,data_entry,COLUMNS($B$11:J21),0)),\"\")","v":""},{"$f":"IFERROR(IF($L$6=\"\",\"\",VLOOKUP($L$6&\"_\"&$B22,data_entry,COLUMNS($B$11:K21),0)),\"\")","v":""},{"$f":"IFERROR(IF($L$6=\"\",\"\",VLOOKUP($L$6&\"_\"&$B22,data_entry,COLUMNS($B$11:L21),0)),\"\")","v":""},{"$f":"IFERROR(IF($L$6=\"\",\"\",VLOOKUP($L$6&\"_\"&$B22,data_entry,COLUMNS($B$11:M21),0)),\"\")","v":""},{"$f":"IFERROR(IF($L$6=\"\",\"\",VLOOKUP($L$6&\"_\"&$B22,data_entry,COLUMNS($B$11:N21),0)),\"\")","v":""},{"$f":"IFERROR(IF($L$6=\"\",\"\",VLOOKUP($L$6&\"_\"&$B22,data_entry,COLUMNS($B$11:O21),0)),\"\")","v":""},{"$f":"IFERROR(IF($L$6=\"\",\"\",VLOOKUP($L$6&\"_\"&$B22,data_entry,COLUMNS($B$11:P21),0)),\"\")","v":""},{"$f":"IFERROR(IF($L$6=\"\",\"\",VLOOKUP($L$6&\"_\"&$B22,data_entry,COLUMNS($B$11:Q21),0)),\"\")","v":""},{"$f":"IFERROR(IF($L$6=\"\",\"\",VLOOKUP($L$6&\"_\"&$B22,data_entry,COLUMNS($B$11:R21),0)),\"\")","v":""},{"$f":"IFERROR(IF($L$6=\"\",\"\",VLOOKUP($L$6&\"_\"&$B22,data_entry,COLUMNS($B$11:S21),0)),\"\")","v":""},{"$f":"IFERROR(IF($L$6=\"\",\"\",VLOOKUP($L$6&\"_\"&$B22,data_entry,COLUMNS($B$11:T21),0)),\"\")","v":""},{"$f":"IFERROR(IF($L$6=\"\",\"\",VLOOKUP($L$6&\"_\"&$B22,data_entry,COLUMNS($B$11:U21),0)),\"\")","v":""},{"$f":"IFERROR(IF($L$6=\"\",\"\",VLOOKUP($L$6&\"_\"&$B22,data_entry,COLUMNS($B$11:V21),0)),\"\")","v":""},{"$f":"IFERROR(IF($L$6=\"\",\"\",VLOOKUP($L$6&\"_\"&$B22,data_entry,COLUMNS($B$11:W21),0)),\"\")","v":""},{"$f":"IFERROR(IF($L$6=\"\",\"\",VLOOKUP($L$6&\"_\"&$B22,data_entry,COLUMNS($B$11:X21),0)),\"\")","v":""},{"$f":"IFERROR(IF($L$6=\"\",\"\",VLOOKUP($L$6&\"_\"&$B22,data_entry,COLUMNS($B$11:Y21),0)),\"\")","v":""},{"$f":"IFERROR(IF($L$6=\"\",\"\",VLOOKUP($L$6&\"_\"&$B22,data_entry,COLUMNS($B$11:Z21),0)),\"\")","v":""},{"$f":"IFERROR(IF($L$6=\"\",\"\",VLOOKUP($L$6&\"_\"&$B22,data_entry,COLUMNS($B$11:AA21),0)),\"\")","v":""},{"$f":"IFERROR(IF($L$6=\"\",\"\",VLOOKUP($L$6&\"_\"&$B22,data_entry,COLUMNS($B$11:AB21),0)),\"\")","v":""},{"$f":"IFERROR(IF($L$6=\"\",\"\",VLOOKUP($L$6&\"_\"&$B22,data_entry,COLUMNS($B$11:AC21),0)),\"\")","v":""},{"$f":"IFERROR(IF($L$6=\"\",\"\",VLOOKUP($L$6&\"_\"&$B22,data_entry,COLUMNS($B$11:AD21),0)),\"\")","v":""},{"$nulls":5},{"$f":"IFERROR(IF($L$6=\"\",\"\",VLOOKUP($L$6&\"_\"&$B22,data_entry,COLUMNS($B$11:AJ21),0)),\"\")","v":""},{"$f":"IFERROR(IF($L$6=\"\",\"\",VLOOKUP($L$6&\"_\"&$B22,data_entry,COLUMNS($B$11:AK21),0)),\"\")","v":""},{"$f":"IFERROR(IF($L$6=\"\",\"\",VLOOKUP($L$6&\"_\"&$B22,data_entry,COLUMNS($B$11:AL21),0)),\"\")","v":""},{"$f":"IFERROR(IF($L$6=\"\",\"\",VLOOKUP($L$6&\"_\"&$B22,data_entry,COLUMNS($B$11:AM21),0)),\"\")","v":""},{"$f":"IFERROR(IF($L$6=\"\",\"\",VLOOKUP($L$6&\"_\"&$B22,data_entry,COLUMNS($B$11:AN21),0)),\"\")","v":""},{"$f":"IFERROR(IF($L$6=\"\",\"\",VLOOKUP($L$6&\"_\"&$B22,data_entry,COLUMNS($B$11:AO21),0)),\"\")","v":""},{"$f":"IFERROR(IF($L$6=\"\",\"\",VLOOKUP($L$6&\"_\"&$B22,data_entry,COLUMNS($B$11:AP21),0)),\"\")","v":""},{"$f":"IFERROR(IF($L$6=\"\",\"\",VLOOKUP($L$6&\"_\"&$B22,data_entry,COLUMNS($B$11:AQ21),0)),\"\")","v":""}]
[0,12,{"$f":"IF(D23=\"\",\"\",ROWS($D$12:D23))","v":""},{"$f":"IFERROR(IF(OR($L$6=\"\",'DATA ENTRY'!C18=\"\"),\"\",VLOOKUP($L$6&\"_\"&$B23,data_entry,COLUMNS($B$11:D22),0)),\"\")","v":""},{"$f":"IFERROR(IF($L$6=\"\",\"\",VLOOKUP($L$6&\"_\"&$B23,data_entry,COLUMNS($B$11:E22),0)),\"\")","v":""},{"$f":"IFERROR(IF($L$6=\"\",\"\",VLOOKUP($L$6&\"_\"&$B23,data_entry,COLUMNS($B$11:F22),0)),\"\")","v":""},{"$f":"IFERROR(IF($L$6=\"\",\"\",VLOOKUP($L$6&\"_\"&$B23,data_entry,COLUMNS($B$11:G22),0)),\"\")","v":""},{"$f":"IFERROR(IF($L$6=\"\",\"\",VLOOKUP($L$6&\"_\"&$B23,data_entry,COLUMNS($B$11:H22),0)),\"\")","v":""},{"$f":"IFERROR(IF($L$6=\"\",\"\",VLOOKUP($L$6&\"_\"&$B23,data_entry,COLUMNS($B$11:I22),0)),\"\")","v":""},{"$f":"IFERROR(IF($L$6=\"\",\"\",VLOOKUP($L$6&\"_\"&$B23,data_entry,COLUMNS($B$11:J22),0)),\"\")","v":""},{"$f":"IFERROR(IF($L$6=\"\",\"\",VLOOKUP($L$6&\"_\"&$B23,data_entry,COLUMNS($B$11:K22),0)),\"\")","v":""},{"$f":"IFERROR(IF($L$6=\"\",\"\",VLOOKUP($L$6&\"_\"&$B23,data_entry,COLUMNS($B$11:L22),0)),\"\")","v":""},{"$f":"IFERROR(IF($L$6=\"\",\"\",VLOOKUP($L$6&\"_\"&$B23,data_entry,COLUMNS($B$11:M22),0)),\"\")","v":""},{"$f":"IFERROR(IF($L$6=\"\",\"\",VLOOKUP($L$6&\"_\"&$B23,data_entry,COLUMNS($B$11:N22),0)),\"\")","v":""},{"$f":"IFERROR(IF($L$6=\"\",\"\",VLOOKUP($L$6&\"_\"&$B23,data_entry,COLUMNS($B$11:O22),0)),\"\")","v":""},{"$f":"IFERROR(IF($L$6=\"\",\"\",VLOOKUP($L$6&\"_\"&$B23,data_entry,COLUMNS($B$11:P22),0)),\"\")","v":""},{"$f":"IFERROR(IF($L$6=\"\",\"\",VLOOKUP($L$6&\"_\"&$B23,data_entry,COLUMNS($B$11:Q22),0)),\"\")","v":""},{"$f":"IFERROR(IF($L$6=\"\",\"\",VLOOKUP($L$6&\"_\"&$B23,data_entry,COLUMNS($B$11:R22),0)),\"\")","v":""},{"$f":"IFERROR(IF($L$6=\"\",\"\",VLOOKUP($L$6&\"_\"&$B23,data_entry,COLUMNS($B$11:S22),0)),\"\")","v":""},{"$f":"IFERROR(IF($L$6=\"\",\"\",VLOOKUP($L$6&\"_\"&$B23,data_entry,COLUMNS($B$11:T22),0)),\"\")","v":""},{"$f":"IFERROR(IF($L$6=\"\",\"\",VLOOKUP($L$6&\"_\"&$B23,data_entry,COLUMNS($B$11:U22),0)),\"\")","v":""},{"$f":"IFERROR(IF($L$6=\"\",\"\",VLOOKUP($L$6&\"_\"&$B23,data_entry,COLUMNS($B$11:V22),0)),\"\")","v":""},{"$f":"IFERROR(IF($L$6=\"\",\"\",VLOOKUP($L$6&\"_\"&$B23,data_entry,COLUMNS($B$11:W22),0)),\"\")","v":""},{"$f":"IFERROR(IF($L$6=\"\",\"\",VLOOKUP($L$6&\"_\"&$B23,data_entry,COLUMNS($B$11:X22),0)),\"\")","v":""},{"$f":"IFERROR(IF($L$6=\"\",\"\",VLOOKUP($L$6&\"_\"&$B23,data_entry,COLUMNS($B$11:Y22),0)),\"\")","v":""},{"$f":"IFERROR(IF($L$6=\"\",\"\",VLOOKUP($L$6&\"_\"&$B23,data_entry,COLUMNS($B$11:Z22),0)),\"\")","v":""},{"$f":"IFERROR(IF($L$6=\"\",\"\",VLOOKUP($L$6&\"_\"&$B23,data_entry,COLUMNS($B$11:AA22),0)),\"\")","v":""},{"$f":"IFERROR(IF($L$6=\"\",\"\",VLOOKUP($L$6&\"_\"&$B23,data_entry,COLUMNS($B$11:AB22),0)),\"\")","v":""},{"$f":"IFERROR(IF($L$6=\"\",\"\",VLOOKUP($L$6&\"_\"&$B23,data_entry,COLUMNS($B$11:AC22),0)),\"\")","v":""},{"$f":"IFERROR(IF($L$6=\"\",\"\",VLOOKUP($L$6&\"_\"&$B23,data_entry,COLUMNS($B$11:AD22),0)),\"\")","v":""},{"$nulls":5},{"$f":"IFERROR(IF($L$6=\"\",\"\",VLOOKUP($L$6&\"_\"&$B23,data_entry,COLUMNS($B$11:AJ22),0)),\"\")","v":""},{"$f":"IFERROR(IF($L$6=\"\",\"\",VLOOKUP($L$6&\"_\"&$B23,data_entry,COLUMNS($B$11:AK22),0)),\"\")","v":""},{"$f":"IFERROR(IF($L$6=\"\",\"\",VLOOKUP($L$6&\"_\"&$B23,data_entry,COLUMNS($B$11:AL22),0)),\"\")","v":""},{"$f":"IFERROR(IF($L$6=\"\",\"\",VLOOKUP($L$6&\"_\"&$B23,data_entry,COLUMNS($B$11:AM22),0)),\"\")","v":""},{"$f":"IFERROR(IF($L$6=\"\",\"\",VLOOKUP($L$6&\"_\"&$B23,data_entry,COLUMNS($B$11:AN22),0)),\"\")","v":""},{"$f":"IFERROR(IF($L$6=\"\",\"\",VLOOKUP($L$6&\"_\"&$B23,data_entry,COLUMNS($B$11:AO22),0)),\"\")","v":""},{"$f":"IFERROR(IF($L$6=\"\",\"\",VLOOKUP($L$6&\"_\"&$B23,data_entry,COLUMNS($B$11:AP22),0)),\"\")","v":""},{"$f":"IFERROR(IF($L$6=\"\",\"\",VLOOKUP($L$6&\"_\"&$B23,data_entry,COLUMNS($B$11:AQ22),0)),\"\")","v":""}]
[0,13,{"$f":"IF(D24=\"\",\"\",ROWS($D$12:D24))","v":""},{"$f":"IFERROR(IF(OR($L$6=\"\",'DATA ENTRY'!C19=\"\"),\"\",VLOOKUP($L$6&\"_\"&$B24,data_entry,COLUMNS($B$11:D23),0)),\"\")","v":""},{"$f":"IFERROR(IF($L$6=\"\",\"\",VLOOKUP($L$6&\"_\"&$B24,data_entry,COLUMNS($B$11:E23),0)),\"\")","v":""},{"$f":"IFERROR(IF($L$6=\"\",\"\",VLOOKUP($L$6&\"_\"&$B24,data_entry,COLUMNS($B$11:F23),0)),\"\")","v":""},{"$f":"IFERROR(IF($L$6=\"\",\"\",VLOOKUP($L$6&\"_\"&$B24,data_entry,COLUMNS($B$11:G23),0)),\"\")","v":""},{"$f":"IFERROR(IF($L$6=\"\",\"\",VLOOKUP($L$6&\"_\"&$B24,data_entry,COLUMNS($B$11:H23),0)),\"\")","v":""},{"$f":"IFERROR(IF($L$6=\"\",\"\",VLOOKUP($L$6&\"_\"&$B24,data_entry,COLUMNS($B$11:I23),0)),\"\")","v":""},{"$f":"IFERROR(IF($L$6=\"\",\"\",VLOOKUP($L$6&\"_\"&$B24,data_entry,COLUMNS($B$11:J23),0)),\"\")","v":""},{"$f":"IFERROR(IF($L$6=\"\",\"\",VLOOKUP($L$6&\"_\"&$B24,data_entry,COLUMNS($B$11:K23),0)),\"\")","v":""},{"$f":"IFERROR(IF($L$6=\"\",\"\",VLOOKUP($L$6&\"_\"&$B24,data_entry,COLUMNS($B$11:L23),0)),\"\")","v":""},{"$f":"IFERROR(IF($L$6=\"\",\"\",VLOOKUP($L$6&\"_\"&$B24,data_entry,COLUMNS($B$11:M23),0)),\"\")","v":""},{"$f":"IFERROR(IF($L$6=\"\",\"\",VLOOKUP($L$6&\"_\"&$B24,data_entry,COLUMNS($B$11:N23),0)),\"\")","v":""},{"$f":"IFERROR(IF($L$6=\"\",\"\",VLOOKUP($L$6&\"_\"&$B24,data_entry,COLUMNS($B$11:O23),0)),\"\")","v":""},{"$f":"IFERROR(IF($L$6=\"\",\"\",VLOOKUP($L$6&\"_\"&$B24,data_entry,COLUMNS($B$11:P23),0)),\"\")","v":""},{"$f":"IFERROR(IF($L$6=\"\",\"\",VLOOKUP($L$6&\"_\"&$B24,data_entry,COLUMNS($B$11:Q23),0)),\"\")","v":""},{"$f":"IFERROR(IF($L$6=\"\",\"\",VLOOKUP($L$6&\"_\"&$B24,data_entry,COLUMNS($B$11:R23),0)),\"\")","v":""},{"$f":"IFERROR(IF($L$6=\"\",\"\",VLOOKUP($L$6&\"_\"&$B24,data_entry,COLUMNS($B$11:S23),0)),\"\")","v":""},{"$f":"IFERROR(IF($L$6=\"\",\"\",VLOOKUP($L$6&\"_\"&$B24,data_entry,COLUMNS($B$11:T23),0)),\"\")","v":""},{"$f":"IFERROR(IF($L$6=\"\",\"\",VLOOKUP($L$6&\"_\"&$B24,data_entry,COLUMNS($B$11:U23),0)),\"\")","v":""},{"$f":"IFERROR(IF($L$6=\"\",\"\",VLOOKUP($L$6&\"_\"&$B24,data_entry,COLUMNS($B$11:V23),0)),\"\")","v":""},{"$f":"IFERROR(IF($L$6=\"\",\"\",VLOOKUP($L$6&\"_\"&$B24,data_entry,COLUMNS($B$11:W23),0)),\"\")","v":""},{"$f":"IFERROR(IF($L$6=\"\",\"\",VLOOKUP($L$6&\"_\"&$B24,data_entry,COLUMNS($B$11:X23),0)),\"\")","v":""},{"$f":"IFERROR(IF($L$6=\"\",\"\",VLOOKUP($L$6&\"_\"&$B24,data_entry,COLUMNS($B$11:Y23),0)),\"\")","v":""},{"$f":"IFERROR(IF($L$6=\"\",\"\",VLOOKUP($L$6&\"_\"&$B24,data_entry,COLUMNS($B$11:Z23),0)),\"\")","v":""},{"$f":"IFERROR(IF($L$6=\"\",\"\",VLOOKUP($L$6&\"_\"&$B24,data_entry,COLUMNS($B$11:AA23),0)),\"\")","v":""},{"$f":"IFERROR(IF($L$6=\"\",\"\",VLOOKUP($L$6&\"_\"&$B24,data_entry,COLUMNS($B$11:AB23),0)),\"\")","v":""},{"$f":"IFERROR(IF($L$6=\"\",\"\",VLOOKUP($L$6&\"_\"&$B24,data_entry,COLUMNS($B$11:AC23),0)),\"\")","v":""},{"$f":"IFERROR(IF($L$6=\"\",\"\",VLOOKUP($L$6&\"_\"&$B24,data_entry,COLUMNS($B$11:AD23),0)),\"\")","v":""},{"$nulls":5},{"$f":"IFERROR(IF($L$6=\"\",\"\",VLOOKUP($L$6&\"_\"&$B24,data_entry,COLUMNS($B$11:AJ23),0)),\"\")","v":""},{"$f":"IFERROR(IF($L$6=\"\",\"\",VLOOKUP($L$6&\"_\"&$B24,data_entry,COLUMNS($B$11:AK23),0)),\"\")","v":""},{"$f":"IFERROR(IF($L$6=\"\",\"\",VLOOKUP($L$6&\"_\"&$B24,data_entry,COLUMNS($B$11:AL23),0)),\"\")","v":""},{"$f":"IFERROR(IF($L$6=\"\",\"\",VLOOKUP($L$6&\"_\"&$B24,data_entry,COLUMNS($B$11:AM23),0)),\"\")","v":""},{"$f":"IFERROR(IF($L$6=\"\",\"\",VLOOKUP($L$6&\"_\"&$B24,data_entry,COLUMNS($B$11:AN23),0)),\"\")","v":""},{"$f":"IFERROR(IF($L$6=\"\",\"\",VLOOKUP($L$6&\"_\"&$B24,data_entry,COLUMNS($B$11:AO23),0)),\"\")","v":""},{"$f":"IFERROR(IF($L$6=\"\",\"\",VLOOKUP($L$6&\"_\"&$B24,data_entry,COLUMNS($B$11:AP23),0)),\"\")","v":""},{"$f":"IFERROR(IF($L$6=\"\",\"\",VLOOKUP($L$6&\"_\"&$B24,data_entry,COLUMNS($B$11:AQ23),0)),\"\")","v":""}]
[0,14,{"$f":"IF(D25=\"\",\"\",ROWS($D$12:D25))","v":""},{"$f":"IFERROR(IF(OR($L$6=\"\",'DATA ENTRY'!C20=\"\"),\"\",VLOOKUP($L$6&\"_\"&$B25,data_entry,COLUMNS($B$11:D24),0)),\"\")","v":""},{"$f":"IFERROR(IF($L$6=\"\",\"\",VLOOKUP($L$6&\"_\"&$B25,data_entry,COLUMNS($B$11:E24),0)),\"\")","v":""},{"$f":"IFERROR(IF($L$6=\"\",\"\",VLOOKUP($L$6&\"_\"&$B25,data_entry,COLUMNS($B$11:F24),0)),\"\")","v":""},{"$f":"IFERROR(IF($L$6=\"\",\"\",VLOOKUP($L$6&\"_\"&$B25,data_entry,COLUMNS($B$11:G24),0)),\"\")","v":""},{"$f":"IFERROR(IF($L$6=\"\",\"\",VLOOKUP($L$6&\"_\"&$B25,data_entry,COLUMNS($B$11:H24),0)),\"\")","v":""},{"$f":"IFERROR(IF($L$6=\"\",\"\",VLOOKUP($L$6&\"_\"&$B25,data_entry,COLUMNS($B$11:I24),0)),\"\")","v":""},{"$f":"IFERROR(IF($L$6=\"\",\"\",VLOOKUP($L$6&\"_\"&$B25,data_entry,COLUMNS($B$11:J24),0)),\"\")","v":""},{"$f":"IFERROR(IF($L$6=\"\",\"\",VLOOKUP($L$6&\"_\"&$B25,data_entry,COLUMNS($B$11:K24),0)),\"\")","v":""},{"$f":"IFERROR(IF($L$6=\"\",\"\",VLOOKUP($L$6&\"_\"&$B25,data_entry,COLUMNS($B$11:L24),0)),\"\")","v":""},{"$f":"IFERROR(IF($L$6=\"\",\"\",VLOOKUP($L$6&\"_\"&$B25,data_entry,COLUMNS($B$11:M24),0)),\"\")","v":""},{"$f":"IFERROR(IF($L$6=\"\",\"\",VLOOKUP($L$6&\"_\"&$B25,data_entry,COLUMNS($B$11:N24),0)),\"\")","v":""},{"$f":"IFERROR(IF($L$6=\"\",\"\",VLOOKUP($L$6&\"_\"&$B25,data_entry,COLUMNS($B$11:O24),0)),\"\")","v":""},{"$f":"IFERROR(IF($L$6=\"\",\"\",VLOOKUP($L$6&\"_\"&$B25,data_entry,COLUMNS($B$11:P24),0)),\"\")","v":""},{"$f":"IFERROR(IF($L$6=\"\",\"\",VLOOKUP($L$6&\"_\"&$B25,data_entry,COLUMNS($B$11:Q24),0)),\"\")","v":""},{"$f":"IFERROR(IF($L$6=\"\",\"\",VLOOKUP($L$6&\"_\"&$B25,data_entry,COLUMNS($B$11:R24),0)),\"\")","v":""},{"$f":"IFERROR(IF($L$6=\"\",\"\",VLOOKUP($L$6&\"_\"&$B25,data_entry,COLUMNS($B$11:S24),0)),\"\")","v":""},{"$f":"IFERROR(IF($L$6=\"\",\"\",VLOOKUP($L$6&\"_\"&$B25,data_entry,COLUMNS($B$11:T24),0)),\"\")","v":""},{"$f":"IFERROR(IF($L$6=\"\",\"\",VLOOKUP($L$6&\"_\"&$B25,data_entry,COLUMNS($B$11:U24),0)),\"\")","v":""},{"$f":"IFERROR(IF($L$6=\"\",\"\",VLOOKUP($L$6&\"_\"&$B25,data_entry,COLUMNS($B$11:V24),0)),\"\")","v":""},{"$f":"IFERROR(IF($L$6=\"\",\"\",VLOOKUP($L$6&\"_\"&$B25,data_entry,COLUMNS($B$11:W24),0)),\"\")","v":""},{"$f":"IFERROR(IF($L$6=\"\",\"\",VLOOKUP($L$6&\"_\"&$B25,data_entry,COLUMNS($B$11:X24),0)),\"\")","v":""},{"$f":"IFERROR(IF($L$6=\"\",\"\",VLOOKUP($L$6&\"_\"&$B25,data_entry,COLUMNS($B$11:Y24),0)),\"\")","v":""},{"$f":"IFERROR(IF($L$6=\"\",\"\",VLOOKUP($L$6&\"_\"&$B25,data_entry,COLUMNS($B$11:Z24),0)),\"\")","v":""},{"$f":"IFERROR(IF($L$6=\"\",\"\",VLOOKUP($L$6&\"_\"&$B25,data_entry,COLUMNS($B$11:AA24),0)),\"\")","v":""},{"$f":"IFERROR(IF($L$6=\"\",\"\",VLOOKUP($L$6&\"_\"&$B25,data_entry,COLUMNS($B$11:AB24),0)),\"\")","v":""},{"$f":"IFERROR(IF($L$6=\"\",\"\",VLOOKUP($L$6&\"_\"&$B25,data_entry,COLUMNS($B$11:AC24),0)),\"\")","v":""},{"$f":"IFERROR(IF($L$6=\"\",\"\",VLOOKUP($L$6&\"_\"&$B25,data_entry,COLUMNS($B$11:AD24),0)),\"\")","v":""},{"$nulls":5},{"$f":"IFERROR(IF($L$6=\"\",\"\",VLOOKUP($L$6&\"_\"&$B25,data_entry,COLUMNS($B$11:AJ24),0)),\"\")","v":""},{"$f":"IFERROR(IF($L$6=\"\",\"\",VLOOKUP($L$6&\"_\"&$B25,data_entry,COLUMNS($B$11:AK24),0)),\"\")","v":""},{"$f":"IFERROR(IF($L$6=\"\",\"\",VLOOKUP($L$6&\"_\"&$B25,data_entry,COLUMNS($B$11:AL24),0)),\"\")","v":""},{"$f":"IFERROR(IF($L$6=\"\",\"\",VLOOKUP($L$6&\"_\"&$B25,data_entry,COLUMNS($B$11:AM24),0)),\"\")","v":""},{"$f":"IFERROR(IF($L$6=\"\",\"\",VLOOKUP($L$6&\"_\"&$B25,data_entry,COLUMNS($B$11:AN24),0)),\"\")","v":""},{"$f":"IFERROR(IF($L$6=\"\",\"\",VLOOKUP($L$6&\"_\"&$B25,data_entry,COLUMNS($B$11:AO24),0)),\"\")","v":""},{"$f":"IFERROR(IF($L$6=\"\",\"\",VLOOKUP($L$6&\"_\"&$B25,data_entry,COLUMNS($B$11:AP24),0)),\"\")","v":""},{"$f":"IFERROR(IF($L$6=\"\",\"\",VLOOKUP($L$6&\"_\"&$B25,data_entry,COLUMNS($B$11:AQ24),0)),\"\")","v":""}]
[0,15,{"$f":"IF(D26=\"\",\"\",ROWS($D$12:D26))","v":""},{"$f":"IFERROR(IF(OR($L$6=\"\",'DATA ENTRY'!C21=\"\"),\"\",VLOOKUP($L$6&\"_\"&$B26,data_entry,COLUMNS($B$11:D25),0)),\"\")","v":""},{"$f":"IFERROR(IF($L$6=\"\",\"\",VLOOKUP($L$6&\"_\"&$B26,data_entry,COLUMNS($B$11:E25),0)),\"\")","v":""},{"$f":"IFERROR(IF($L$6=\"\",\"\",VLOOKUP($L$6&\"_\"&$B26,data_entry,COLUMNS($B$11:F25),0)),\"\")","v":""},{"$f":"IFERROR(IF($L$6=\"\",\"\",VLOOKUP($L$6&\"_\"&$B26,data_entry,COLUMNS($B$11:G25),0)),\"\")","v":""},{"$f":"IFERROR(IF($L$6=\"\",\"\",VLOOKUP($L$6&\"_\"&$B26,data_entry,COLUMNS($B$11:H25),0)),\"\")","v":""},{"$f":"IFERROR(IF($L$6=\"\",\"\",VLOOKUP($L$6&\"_\"&$B26,data_entry,COLUMNS($B$11:I25),0)),\"\")","v":""},{"$f":"IFERROR(IF($L$6=\"\",\"\",VLOOKUP($L$6&\"_\"&$B26,data_entry,COLUMNS($B$11:J25),0)),\"\")","v":""},{"$f":"IFERROR(IF($L$6=\"\",\"\",VLOOKUP($L$6&\"_\"&$B26,data_entry,COLUMNS($B$11:K25),0)),\"\")","v":""},{"$f":"IFERROR(IF($L$6=\"\",\"\",VLOOKUP($L$6&\"_\"&$B26,data_entry,COLUMNS($B$11:L25),0)),\"\")","v":""},{"$f":"IFERROR(IF($L$6=\"\",\"\",VLOOKUP($L$6&\"_\"&$B26,data_entry,COLUMNS($B$11:M25),0)),\"\")","v":""},{"$f":"IFERROR(IF($L$6=\"\",\"\",VLOOKUP($L$6&\"_\"&$B26,data_entry,COLUMNS($B$11:N25),0)),\"\")","v":""},{"$f":"IFERROR(IF($L$6=\"\",\"\",VLOOKUP($L$6&\"_\"&$B26,data_entry,COLUMNS($B$11:O25),0)),\"\")","v":""},{"$f":"IFERROR(IF($L$6=\"\",\"\",VLOOKUP($L$6&\"_\"&$B26,data_entry,COLUMNS($B$11:P25),0)),\"\")","v":""},{"$f":"IFERROR(IF($L$6=\"\",\"\",VLOOKUP($L$6&\"_\"&$B26,data_entry,COLUMNS($B$11:Q25),0)),\"\")","v":""},{"$f":"IFERROR(IF($L$6=\"\",\"\",VLOOKUP($L$6&\"_\"&$B26,data_entry,COLUMNS($B$11:R25),0)),\"\")","v":""},{"$f":"IFERROR(IF($L$6=\"\",\"\",VLOOKUP($L$6&\"_\"&$B26,data_entry,COLUMNS($B$11:S25),0)),\"\")","v":""},{"$f":"IFERROR(IF($L$6=\"\",\"\",VLOOKUP($L$6&\"_\"&$B26,data_entry,COLUMNS($B$11:T25),0)),\"\")","v":""},{"$f":"IFERROR(IF($L$6=\"\",\"\",VLOOKUP($L$6&\"_\"&$B26,data_entry,COLUMNS($B$11:U25),0)),\"\")","v":""},{"$f":"IFERROR(IF($L$6=\"\",\"\",VLOOKUP($L$6&\"_\"&$B26,data_entry,COLUMNS($B$11:V25),0)),\"\")","v":""},{"$f":"IFERROR(IF($L$6=\"\",\"\",VLOOKUP($L$6&\"_\"&$B26,data_entry,COLUMNS($B$11:W25),0)),\"\")","v":""},{"$f":"IFERROR(IF($L$6=\"\",\"\",VLOOKUP($L$6&\"_\"&$B26,data_entry,COLUMNS($B$11:X25),0)),\"\")","v":""},{"$f":"IFERROR(IF($L$6=\"\",\"\",VLOOKUP($L$6&\"_\"&$B26,data_entry,COLUMNS($B$11:Y25),0)),\"\")","v":""},{"$f":"IFERROR(IF($L$6=\"\",\"\",VLOOKUP($L$6&\"_\"&$B26,data_entry,COLUMNS($B$11:Z25),0)),\"\")","v":""},{"$f":"IFERROR(IF($L$6=\"\",\"\",VLOOKUP($L$6&\"_\"&$B26,data_entry,COLUMNS($B$11:AA25),0)),\"\")","v":""},{"$f":"IFERROR(IF($L$6=\"\",\"\",VLOOKUP($L$6&\"_\"&$B26,data_entry,COLUMNS($B$11:AB25),0)),\"\")","v":""},{"$f":"IFERROR(IF($L$6=\"\",\"\",VLOOKUP($L$6&\"_\"&$B26,data_entry,COLUMNS($B$11:AC25),0)),\"\")","v":""},{"$f":"IFERROR(IF($L$6=\"\",\"\",VLOOKUP($L$6&\"_\"&$B26,data_entry,COLUMNS($B$11:AD25),0)),\"\")","v":""},{"$nulls":5},{"$f":"IFERROR(IF($L$6=\"\",\"\",VLOOKUP($L$6&\"_\"&$B26,data_entry,COLUMNS($B$11:AJ25),0)),\"\")","v":""},{"$f":"IFERROR(IF($L$6=\"\",\"\",VLOOKUP($L$6&\"_\"&$B26,data_entry,COLUMNS($B$11:AK25),0)),\"\")","v":""},{"$f":"IFERROR(IF($L$6=\"\",\"\",VLOOKUP($L$6&\"_\"&$B26,data_entry,COLUMNS($B$11:AL25),0)),\"\")","v":""},{"$f":"IFERROR(IF($L$6=\"\",\"\",VLOOKUP($L$6&\"_\"&$B26,data_entry,COLUMNS($B$11:AM25),0)),\"\")","v":""},{"$f":"IFERROR(IF($L$6=\"\",\"\",VLOOKUP($L$6&\"_\"&$B26,data_entry,COLUMNS($B$11:AN25),0)),\"\")","v":""},{"$f":"IFERROR(IF($L$6=\"\",\"\",VLOOKUP($L$6&\"_\"&$B26,data_entry,COLUMNS($B$11:AO25),0)),\"\")","v":""},{"$f":"IFERROR(IF($L$6=\"\",\"\",VLOOKUP($L$6&\"_\"&$B26,data_entry,COLUMNS($B$11:AP25),0)),\"\")","v":""},{"$f":"IFERROR(IF($L$6=\"\",\"\",VLOOKUP($L$6&\"_\"&$B26,data_entry,COLUMNS($B$11:AQ25),0)),\"\")","v":""}]
[0,16,{"$f":"IF(D27=\"\",\"\",ROWS($D$12:D27))","v":""},{"$f":"IFERROR(IF(OR($L$6=\"\",'DATA ENTRY'!C22=\"\"),\"\",VLOOKUP($L$6&\"_\"&$B27,data_entry,COLUMNS($B$11:D26),0)),\"\")","v":""},{"$f":"IFERROR(IF($L$6=\"\",\"\",VLOOKUP($L$6&\"_\"&$B27,data_entry,COLUMNS($B$11:E26),0)),\"\")","v":""},{"$f":"IFERROR(IF($L$6=\"\",\"\",VLOOKUP($L$6&\"_\"&$B27,data_entry,COLUMNS($B$11:F26),0)),\"\")","v":""},{"$f":"IFERROR(IF($L$6=\"\",\"\",VLOOKUP($L$6&\"_\"&$B27,data_entry,COLUMNS($B$11:G26),0)),\"\")","v":""},{"$f":"IFERROR(IF($L$6=\"\",\"\",VLOOKUP($L$6&\"_\"&$B27,data_entry,COLUMNS($B$11:H26),0)),\"\")","v":""},{"$f":"IFERROR(IF($L$6=\"\",\"\",VLOOKUP($L$6&\"_\"&$B27,data_entry,COLUMNS($B$11:I26),0)),\"\")","v":""},{"$f":"IFERROR(IF($L$6=\"\",\"\",VLOOKUP($L$6&\"_\"&$B27,data_entry,COLUMNS($B$11:J26),0)),\"\")","v":""},{"$f":"IFERROR(IF($L$6=\"\",\"\",VLOOKUP($L$6&\"_\"&$B27,data_entry,COLUMNS($B$11:K26),0)),\"\")","v":""},{"$f":"IFERROR(IF($L$6=\"\",\"\",VLOOKUP($L$6&\"_\"&$B27,data_entry,COLUMNS($B$11:L26),0)),\"\")","v":""},{"$f":"IFERROR(IF($L$6=\"\",\"\",VLOOKUP($L$6&\"_\"&$B27,data_entry,COLUMNS($B$11:M26),0)),\"\")","v":""},{"$f":"IFERROR(IF($L$6=\"\",\"\",VLOOKUP($L$6&\"_\"&$B27,data_entry,COLUMNS($B$11:N26),0)),\"\")","v":""},{"$f":"IFERROR(IF($L$6=\"\",\"\",VLOOKUP($L$6&\"_\"&$B27,data_entry,COLUMNS($B$11:O26),0)),\"\")","v":""},{"$f":"IFERROR(IF($L$6=\"\",\"\",VLOOKUP($L$6&\"_\"&$B27,data_entry,COLUMNS($B$11:P26),0)),\"\")","v":""},{"$f":"IFERROR(IF($L$6=\"\",\"\",VLOOKUP($L$6&\"_\"&$B27,data_entry,COLUMNS($B$11:Q26),0)),\"\")","v":""},{"$f":"IFERROR(IF($L$6=\"\",\"\",VLOOKUP($L$6&\"_\"&$B27,data_entry,COLUMNS($B$11:R26),0)),\"\")","v":""},{"$f":"IFERROR(IF($L$6=\"\",\"\",VLOOKUP($L$6&\"_\"&$B27,data_entry,COLUMNS($B$11:S26),0)),\"\")","v":""},{"$f":"IFERROR(IF($L$6=\"\",\"\",VLOOKUP($L$6&\"_\"&$B27,data_entry,COLUMNS($B$11:T26),0)),\"\")","v":""},{"$f":"IFERROR(IF($L$6=\"\",\"\",VLOOKUP($L$6&\"_\"&$B27,data_entry,COLUMNS($B$11:U26),0)),\"\")","v":""},{"$f":"IFERROR(IF($L$6=\"\",\"\",VLOOKUP($L$6&\"_\"&$B27,data_entry,COLUMNS($B$11:V26),0)),\"\")","v":""},{"$f":"IFERROR(IF($L$6=\"\",\"\",VLOOKUP($L$6&\"_\"&$B27,data_entry,COLUMNS($B$11:W26),0)),\"\")","v":""},{"$f":"IFERROR(IF($L$6=\"\",\"\",VLOOKUP($L$6&\"_\"&$B27,data_entry,COLUMNS($B$11:X26),0)),\"\")","v":""},{"$f":"IFERROR(IF($L$6=\"\",\"\",VLOOKUP($L$6&\"_\"&$B27,data_entry,COLUMNS($B$11:Y26),0)),\"\")","v":""},{"$f":"IFERROR(IF($L$6=\"\",\"\",VLOOKUP($L$6&\"_\"&$B27,data_entry,COLUMNS($B$11:Z26),0)),\"\")","v":""},{"$f":"IFERROR(IF($L$6=\"\",\"\",VLOOKUP($L$6&\"_\"&$B27,data_entry,COLUMNS($B$11:AA26),0)),\"\")","v":""},{"$f":"IFERROR(IF($L$6=\"\",\"\",VLOOKUP($L$6&\"_\"&$B27,data_entry,COLUMNS($B$11:AB26),0)),\"\")","v":""},{"$f":"IFERROR(IF($L$6=\"\",\"\",VLOOKUP($L$6&\"_\"&$B27,data_entry,COLUMNS($B$11:AC26),0)),\"\")","v":""},{"$f":"IFERROR(IF($L$6=\"\",\"\",VLOOKUP($L$6&\"_\"&$B27,data_entry,COLUMNS($B$11:AD26),0)),\"\")","v":""},{"$nulls":5},{"$f":"IFERROR(IF($L$6=\"\",\"\",VLOOKUP($L$6&\"_\"&$B27,data_entry,COLUMNS($B$11:AJ26),0)),\"\")","v":""},{"$f":"IFERROR(IF($L$6=\"\",\"\",VLOOKUP($L$6&\"_\"&$B27,data_entry,COLUMNS($B$11:AK26),0)),\"\")","v":""},{"$f":"IFERROR(IF($L$6=\"\",\"\",VLOOKUP($L$6&\"_\"&$B27,data_entry,COLUMNS($B$11:AL26),0)),\"\")","v":""},{"$f":"IFERROR(IF($L$6=\"\",\"\",VLOOKUP($L$6&\"_\"&$B27,data_entry,COLUMNS($B$11:AM26),0)),\"\")","v":""},{"$f":"IFERROR(IF($L$6=\"\",\"\",VLOOKUP($L$6&\"_\"&$B27,data_entry,COLUMNS($B$11:AN26),0)),\"\")","v":""},{"$f":"IFERROR(IF($L$6=\"\",\"\",VLOOKUP($L$6&\"_\"&$B27,data_entry,COLUMNS($B$11:AO26),0)),\"\")","v":""},{"$f":"IFERROR(IF($L$6=\"\",\"\",VLOOKUP($L$6&\"_\"&$B27,data_entry,COLUMNS($B$11:AP26),0)),\"\")","v":""},{"$f":"IFERROR(IF($L$6=\"\",\"\",VLOOKUP($L$6&\"_\"&$B27,data_entry,COLUMNS($B$11:AQ26),0)),\"\")","v":""}]
[0,17,{"$f":"IF(D28=\"\",\"\",ROWS($D$12:D28))","v":""},{"$f":"IFERROR(IF(OR($L$6=\"\",'DATA ENTRY'!C23=\"\"),\"\",VLOOKUP($L$6&\"_\"&$B28,data_entry,COLUMNS($B$11:D27),0)),\"\")","v":""},{"$f":"IFERROR(IF($L$6=\"\",\"\",VLOOKUP($L$6&\"_\"&$B28,data_entry,COLUMNS($B$11:E27),0)),\"\")","v":""},{"$f":"IFERROR(IF($L$6=\"\",\"\",VLOOKUP($L$6&\"_\"&$B28,data_entry,COLUMNS($B$11:F27),0)),\"\")","v":""},{"$f":"IFERROR(IF($L$6=\"\",\"\",VLOOKUP($L$6&\"_\"&$B28,data_entry,COLUMNS($B$11:G27),0)),\"\")","v":""},{"$f":"IFERROR(IF($L$6=\"\",\"\",VLOOKUP($L$6&\"_\"&$B28,data_entry,COLUMNS($B$11:H27),0)),\"\")","v":""},{"$f":"IFERROR(IF($L$6=\"\",\"\",VLOOKUP($L$6&\"_\"&$B28,data_entry,COLUMNS($B$11:I27),0)),\"\")","v":""},{"$f":"IFERROR(IF($L$6=\"\",\"\",VLOOKUP($L$6&\"_\"&$B28,data_entry,COLUMNS($B$11:J27),0)),\"\")","v":""},{"$f":"IFERROR(IF($L$6=\"\",\"\",VLOOKUP($L$6&\"_\"&$B28,data_entry,COLUMNS($B$11:K27),0)),\"\")","v":""},{"$f":"IFERROR(IF($L$6=\"\",\"\",VLOOKUP($L$6&\"_\"&$B28,data_entry,COLUMNS($B$11:L27),0)),\"\")","v":""},{"$f":"IFERROR(IF($L$6=\"\",\"\",VLOOKUP($L$6&\"_\"&$B28,data_entry,COLUMNS($B$11:M27),0)),\"\")","v":""},{"$f":"IFERROR(IF($L$6=\"\",\"\",VLOOKUP($L$6&\"_\"&$B28,data_entry,COLUMNS($B$11:N27),0)),\"\")","v":""},{"$f":"IFERROR(IF($L$6=\"\",\"\",VLOOKUP($L$6&\"_\"&$B28,data_entry,COLUMNS($B$11:O27),0)),\"\")","v":""},{"$f":"IFERROR(IF($L$6=\"\",\"\",VLOOKUP($L$6&\"_\"&$B28,data_entry,COLUMNS($B$11:P27),0)),\"\")","v":""},{"$f":"IFERROR(IF($L$6=\"\",\"\",VLOOKUP($L$6&\"_\"&$B28,data_entry,COLUMNS($B$11:Q27),0)),\"\")","v":""},{"$f":"IFERROR(IF($L$6=\"\",\"\",VLOOKUP($L$6&\"_\"&$B28,data_entry,COLUMNS($B$11:R27),0)),\"\")","v":""},{"$f":"IFERROR(IF($L$6=\"\",\"\",VLOOKUP($L$6&\"_\"&$B28,data_entry,COLUMNS($B$11:S27),0)),\"\")","v":""},{"$f":"IFERROR(IF($L$6=\"\",\"\",VLOOKUP($L$6&\"_\"&$B28,data_entry,COLUMNS($B$11:T27),0)),\"\")","v":""},{"$f":"IFERROR(IF($L$6=\"\",\"\",VLOOKUP($L$6&\"_\"&$B28,data_entry,COLUMNS($B$11:U27),0)),\"\")","v":""},{"$f":"IFERROR(IF($L$6=\"\",\"\",VLOOKUP($L$6&\"_\"&$B28,data_entry,COLUMNS($B$11:V27),0)),\"\")","v":""},{"$f":"IFERROR(IF($L$6=\"\",\"\",VLOOKUP($L$6&\"_\"&$B28,data_entry,COLUMNS($B$11:W27),0)),\"\")","v":""},{"$f":"IFERROR(IF($L$6=\"\",\"\",VLOOKUP($L$6&\"_\"&$B28,data_entry,COLUMNS($B$11:X27),0)),\"\")","v":""},{"$f":"IFERROR(IF($L$6=\"\",\"\",VLOOKUP($L$6&\"_\"&$B28,data_entry,COLUMNS($B$11:Y27),0)),\"\")","v":""},{"$f":"IFERROR(IF($L$6=\"\",\"\",VLOOKUP($L$6&\"_\"&$B28,data_entry,COLUMNS($B$11:Z27),0)),\"\")","v":""},{"$f":"IFERROR(IF($L$6=\"\",\"\",VLOOKUP($L$6&\"_\"&$B28,data_entry,COLUMNS($B$11:AA27),0)),\"\")","v":""},{"$f":"IFERROR(IF($L$6=\"\",\"\",VLOOKUP($L$6&\"_\"&$B28,data_entry,COLUMNS($B$11:AB27),0)),\"\")","v":""},{"$f":"IFERROR(IF($L$6=\"\",\"\",VLOOKUP($L$6&\"_\"&$B28,data_entry,COLUMNS($B$11:AC27),0)),\"\")","v":""},{"$f":"IFERROR(IF($L$6=\"\",\"\",VLOOKUP($L$6&\"_\"&$B28,data_entry,COLUMNS($B$11:AD27),0)),\"\")","v":""},{"$nulls":5},{"$f":"IFERROR(IF($L$6=\"\",\"\",VLOOKUP($L$6&\"_\"&$B28,data_entry,COLUMNS($B$11:AJ27),0)),\"\")","v":""},{"$f":"IFERROR(IF($L$6=\"\",\"\",VLOOKUP($L$6&\"_\"&$B28,data_entry,COLUMNS($B$11:AK27),0)),\"\")","v":""},{"$f":"IFERROR(IF($L$6=\"\",\"\",VLOOKUP($L$6&\"_\"&$B28,data_entry,COLUMNS($B$11:AL27),0)),\"\")","v":""},{"$f":"IFERROR(IF($L$6=\"\",\"\",VLOOKUP($L$6&\"_\"&$B28,data_entry,COLUMNS($B$11:AM27),0)),\"\")","v":""},{"$f":"IFERROR(IF($L$6=\"\",\"\",VLOOKUP($L$6&\"_\"&$B28,data_entry,COLUMNS($B$11:AN27),0)),\"\")","v":""},{"$f":"IFERROR(IF($L$6=\"\",\"\",VLOOKUP($L$6&\"_\"&$B28,data_entry,COLUMNS($B$11:AO27),0)),\"\")","v":""},{"$f":"IFERROR(IF($L$6=\"\",\"\",VLOOKUP($L$6&\"_\"&$B28,data_entry,COLUMNS($B$11:AP27),0)),\"\")","v":""},{"$f":"IFERROR(IF($L$6=\"\",\"\",VLOOKUP($L$6&\"_\"&$B28,data_entry,COLUMNS($B$11:AQ27),0)),\"\")","v":""}]
[0,18,{"$f":"IF(D29=\"\",\"\",ROWS($D$12:D29))","v":""},{"$f":"IFERROR(IF(OR($L$6=\"\",'DATA ENTRY'!C24=\"\"),\"\",VLOOKUP($L$6&\"_\"&$B29,data_entry,COLUMNS($B$11:D28),0)),\"\")","v":""},{"$f":"IFERROR(IF($L$6=\"\",\"\",VLOOKUP($L$6&\"_\"&$B29,data_entry,COLUMNS($B$11:E28),0)),\"\")","v":""},{"$f":"IFERROR(IF($L$6=\"\",\"\",VLOOKUP($L$6&\"_\"&$B29,data_entry,COLUMNS($B$11:F28),0)),\"\")","v":""},{"$f":"IFERROR(IF($L$6=\"\",\"\",VLOOKUP($L$6&\"_\"&$B29,data_entry,COLUMNS($B$11:G28),0)),\"\")","v":""},{"$f":"IFERROR(IF($L$6=\"\",\"\",VLOOKUP($L$6&\"_\"&$B29,data_entry,COLUMNS($B$11:H28),0)),\"\")","v":""},{"$f":"IFERROR(IF($L$6=\"\",\"\",VLOOKUP($L$6&\"_\"&$B29,data_entry,COLUMNS($B$11:I28),0)),\"\")","v":""},{"$f":"IFERROR(IF($L$6=\"\",\"\",VLOOKUP($L$6&\"_\"&$B29,data_entry,COLUMNS($B$11:J28),0)),\"\")","v":""},{"$f":"IFERROR(IF($L$6=\"\",\"\",VLOOKUP($L$6&\"_\"&$B29,data_entry,COLUMNS($B$11:K28),0)),\"\")","v":""},{"$f":"IFERROR(IF($L$6=\"\",\"\",VLOOKUP($L$6&\"_\"&$B29,data_entry,COLUMNS($B$11:L28),0)),\"\")","v":""},{"$f":"IFERROR(IF($L$6=\"\",\"\",VLOOKUP($L$6&\"_\"&$B29,data_entry,COLUMNS($B$11:M28),0)),\"\")","v":""},{"$f":"IFERROR(IF($L$6=\"\",\"\",VLOOKUP($L$6&\"_\"&$B29,data_entry,COLUMNS($B$11:N28),0)),\"\")","v":""},{"$f":"IFERROR(IF($L$6=\"\",\"\",VLOOKUP($L$6&\"_\"&$B29,data_entry,COLUMNS($B$11:O28),0)),\"\")","v":""},{"$f":"IFERROR(IF($L$6=\"\",\"\",VLOOKUP($L$6&\"_\"&$B29,data_entry,COLUMNS($B$11:P28),0)),\"\")","v":""},{"$f":"IFERROR(IF($L$6=\"\",\"\",VLOOKUP($L$6&\"_\"&$B29,data_entry,COLUMNS($B$11:Q28),0)),\"\")","v":""},{"$f":"IFERROR(IF($L$6=\"\",\"\",VLOOKUP($L$6&\"_\"&$B29,data_entry,COLUMNS($B$11:R28),0)),\"\")","v":""},{"$f":"IFERROR(IF($L$6=\"\",\"\",VLOOKUP($L$6&\"_\"&$B29,data_entry,COLUMNS($B$11:S28),0)),\"\")","v":""},{"$f":"IFERROR(IF($L$6=\"\",\"\",VLOOKUP($L$6&\"_\"&$B29,data_entry,COLUMNS($B$11:T28),0)),\"\")","v":""},{"$f":"IFERROR(IF($L$6=\"\",\"\",VLOOKUP($L$6&\"_\"&$B29,data_entry,COLUMNS($B$11:U28),0)),\"\")","v":""},{"$f":"IFERROR(IF($L$6=\"\",\"\",VLOOKUP($L$6&\"_\"&$B29,data_entry,COLUMNS($B$11:V28),0)),\"\")","v":""},{"$f":"IFERROR(IF($L$6=\"\",\"\",VLOOKUP($L$6&\"_\"&$B29,data_entry,COLUMNS($B$11:W28),0)),\"\")","v":""},{"$f":"IFERROR(IF($L$6=\"\",\"\",VLOOKUP($L$6&\"_\"&$B29,data_entry,COLUMNS($B$11:X28),0)),\"\")","v":""},{"$f":"IFERROR(IF($L$6=\"\",\"\",VLOOKUP($L$6&\"_\"&$B29,data_entry,COLUMNS($B$11:Y28),0)),\"\")","v":""},{"$f":"IFERROR(IF($L$6=\"\",\"\",VLOOKUP($L$6&\"_\"&$B29,data_entry,COLUMNS($B$11:Z28),0)),\"\")","v":""},{"$f":"IFERROR(IF($L$6=\"\",\"\",VLOOKUP($L$6&\"_\"&$B29,data_entry,COLUMNS($B$11:AA28),0)),\"\")","v":""},{"$f":"IFERROR(IF($L$6=\"\",\"\",VLOOKUP($L$6&\"_\"&$B29,data_entry,COLUMNS($B$11:AB28),0)),\"\")","v":""},{"$f":"IFERROR(IF($L$6=\"\",\"\",VLOOKUP($L$6&\"_\"&$B29,data_entry,COLUMNS($B$11:AC28),0)),\"\")","v":""},{"$f":"IFERROR(IF($L$6=\"\",\"\",VLOOKUP($L$6&\"_\"&$B29,data_entry,COLUMNS($B$11:AD28),0)),\"\")","v":""},{"$nulls":5},{"$f":"IFERROR(IF($L$6=\"\",\"\",VLOOKUP($L$6&\"_\"&$B29,data_entry,COLUMNS($B$11:AJ28),0)),\"\")","v":""},{"$f":"IFERROR(IF($L$6=\"\",\"\",VLOOKUP($L$6&\"_\"&$B29,data_entry,COLUMNS($B$11:AK28),0)),\"\")","v":""},{"$f":"IFERROR(IF($L$6=\"\",\"\",VLOOKUP($L$6&\"_\"&$B29,data_entry,COLUMNS($B$11:AL28),0)),\"\")","v":""},{"$f":"IFERROR(IF($L$6=\"\",\"\",VLOOKUP($L$6&\"_\"&$B29,data_entry,COLUMNS($B$11:AM28),0)),\"\")","v":""},{"$f":"IFERROR(IF($L$6=\"\",\"\",VLOOKUP($L$6&\"_\"&$B29,data_entry,COLUMNS($B$11:AN28),0)),\"\")","v":""},{"$f":"IFERROR(IF($L$6=\"\",\"\",VLOOKUP($L$6&\"_\"&$B29,data_entry,COLUMNS($B$11:AO28),0)),\"\")","v":""},{"$f":"IFERROR(IF($L$6=\"\",\"\",VLOOKUP($L$6&\"_\"&$B29,data_entry,COLUMNS($B$11:AP28),0)),\"\")","v":""},{"$f":"IFERROR(IF($L$6=\"\",\"\",VLOOKUP($L$6&\"_\"&$B29,data_entry,COLUMNS($B$11:AQ28),0)),\"\")","v":""}]
[0,19,{"$f":"IF(D30=\"\",\"\",ROWS($D$12:D30))","v":""},{"$f":"IFERROR(IF(OR($L$6=\"\",'DATA ENTRY'!C25=\"\"),\"\",VLOOKUP($L$6&\"_\"&$B30,data_entry,COLUMNS($B$11:D29),0)),\"\")","v":""},{"$f":"IFERROR(IF($L$6=\"\",\"\",VLOOKUP($L$6&\"_\"&$B30,data_entry,COLUMNS($B$11:E29),0)),\"\")","v":""},{"$f":"IFERROR(IF($L$6=\"\",\"\",VLOOKUP($L$6&\"_\"&$B30,data_entry,COLUMNS($B$11:F29),0)),\"\")","v":""},{"$f":"IFERROR(IF($L$6=\"\",\"\",VLOOKUP($L$6&\"_\"&$B30,data_entry,COLUMNS($B$11:G29),0)),\"\")","v":""},{"$f":"IFERROR(IF($L$6=\"\",\"\",VLOOKUP($L$6&\"_\"&$B30,data_entry,COLUMNS($B$11:H29),0)),\"\")","v":""},{"$f":"IFERROR(IF($L$6=\"\",\"\",VLOOKUP($L$6&\"_\"&$B30,data_entry,COLUMNS($B$11:I29),0)),\"\")","v":""},{"$f":"IFERROR(IF($L$6=\"\",\"\",VLOOKUP($L$6&\"_\"&$B30,data_entry,COLUMNS($B$11:J29),0)),\"\")","v":""},{"$f":"IFERROR(IF($L$6=\"\",\"\",VLOOKUP($L$6&\"_\"&$B30,data_entry,COLUMNS($B$11:K29),0)),\"\")","v":""},{"$f":"IFERROR(IF($L$6=\"\",\"\",VLOOKUP($L$6&\"_\"&$B30,data_entry,COLUMNS($B$11:L29),0)),\"\")","v":""},{"$f":"IFERROR(IF($L$6=\"\",\"\",VLOOKUP($L$6&\"_\"&$B30,data_entry,COLUMNS($B$11:M29),0)),\"\")","v":""},{"$f":"IFERROR(IF($L$6=\"\",\"\",VLOOKUP($L$6&\"_\"&$B30,data_entry,COLUMNS($B$11:N29),0)),\"\")","v":""},{"$f":"IFERROR(IF($L$6=\"\",\"\",VLOOKUP($L$6&\"_\"&$B30,data_entry,COLUMNS($B$11:O29),0)),\"\")","v":""},{"$f":"IFERROR(IF($L$6=\"\",\"\",VLOOKUP($L$6&\"_\"&$B30,data_entry,COLUMNS($B$11:P29),0)),\"\")","v":""},{"$f":"IFERROR(IF($L$6=\"\",\"\",VLOOKUP($L$6&\"_\"&$B30,data_entry,COLUMNS($B$11:Q29),0)),\"\")","v":""},{"$f":"IFERROR(IF($L$6=\"\",\"\",VLOOKUP($L$6&\"_\"&$B30,data_entry,COLUMNS($B$11:R29),0)),\"\")","v":""},{"$f":"IFERROR(IF($L$6=\"\",\"\",VLOOKUP($L$6&\"_\"&$B30,data_entry,COLUMNS($B$11:S29),0)),\"\")","v":""},{"$f":"IFERROR(IF($L$6=\"\",\"\",VLOOKUP($L$6&\"_\"&$B30,data_entry,COLUMNS($B$11:T29),0)),\"\")","v":""},{"$f":"IFERROR(IF($L$6=\"\",\"\",VLOOKUP($L$6&\"_\"&$B30,data_entry,COLUMNS($B$11:U29),0)),\"\")","v":""},{"$f":"IFERROR(IF($L$6=\"\",\"\",VLOOKUP($L$6&\"_\"&$B30,data_entry,COLUMNS($B$11:V29),0)),\"\")","v":""},{"$f":"IFERROR(IF($L$6=\"\",\"\",VLOOKUP($L$6&\"_\"&$B30,data_entry,COLUMNS($B$11:W29),0)),\"\")","v":""},{"$f":"IFERROR(IF($L$6=\"\",\"\",VLOOKUP($L$6&\"_\"&$B30,data_entry,COLUMNS($B$11:X29),0)),\"\")","v":""},{"$f":"IFERROR(IF($L$6=\"\",\"\",VLOOKUP($L$6&\"_\"&$B30,data_entry,COLUMNS($B$11:Y29),0)),\"\")","v":""},{"$f":"IFERROR(IF($L$6=\"\",\"\",VLOOKUP($L$6&\"_\"&$B30,data_entry,COLUMNS($B$11:Z29),0)),\"\")","v":""},{"$f":"IFERROR(IF($L$6=\"\",\"\",VLOOKUP($L$6&\"_\"&$B30,data_entry,COLUMNS($B$11:AA29),0)),\"\")","v":""},{"$f":"IFERROR(IF($L$6=\"\",\"\",VLOOKUP($L$6&\"_\"&$B30,data_entry,COLUMNS($B$11:AB29),0)),\"\")","v":""},{"$f":"IFERROR(IF($L$6=\"\",\"\",VLOOKUP($L$6&\"_\"&$B30,data_entry,COLUMNS($B$11:AC29),0)),\"\")","v":""},{"$f":"IFERROR(IF($L$6=\"\",\"\",VLOOKUP($L$6&\"_\"&$B30,data_entry,COLUMNS($B$11:AD29),0)),\"\")","v":""},{"$f":"IFERROR(IF($L$6=\"\",\"\",VLOOKUP($L$6&\"_\"&$B30,data_entry,COLUMNS($B$11:AE29),0)),\"\")","v":""},{"$f":"IFERROR(IF($L$6=\"\",\"\",VLOOKUP($L$6&\"_\"&$B30,data_entry,COLUMNS($B$11:AF29),0)),\"\")","v":""},{"$f":"IFERROR(IF($L$6=\"\",\"\",VLOOKUP($L$6&\"_\"&$B30,data_entry,COLUMNS($B$11:AG29),0)),\"\")","v":""},{"$f":"IFERROR(IF($L$6=\"\",\"\",VLOOKUP($L$6&\"_\"&$B30,data_entry,COLUMNS($B$11:AH29),0)),\"\")","v":""},{"$f":"IFERROR(IF($L$6=\"\",\"\",VLOOKUP($L$6&\"_\"&$B30,data_entry,COLUMNS($B$11:AI29),0)),\"\")","v":""},{"$f":"IFERROR(IF($L$6=\"\",\"\",VLOOKUP($L$6&\"_\"&$B30,data_entry,COLUMNS($B$11:AJ29),0)),\"\")","v":""},{"$f":"IFERROR(IF($L$6=\"\",\"\",VLOOKUP($L$6&\"_\"&$B30,data_entry,COLUMNS($B$11:AK29),0)),\"\")","v":""},{"$f":"IFERROR(IF($L$6=\"\",\"\",VLOOKUP($L$6&\"_\"&$B30,data_entry,COLUMNS($B$11:AL29),0)),\"\")","v":""},{"$f":"IFERROR(IF($L$6=\"\",\"\",VLOOKUP($L$6&\"_\"&$B30,data_entry,COLUMNS($B$11:AM29),0)),\"\")","v":""},{"$f":"IFERROR(IF($L$6=\"\",\"\",VLOOKUP($L$6&\"_\"&$B30,data_entry,COLUMNS($B$11:AN29),0)),\"\")","v":""},{"$f":"IFERROR(IF($L$6=\"\",\"\",VLOOKUP($L$6&\"_\"&$B30,data_entry,COLUMNS($B$11:AO29),0)),\"\")","v":""},{"$f":"IFERROR(IF($L$6=\"\",\"\",VLOOKUP($L$6&\"_\"&$B30,data_entry,COLUMNS($B$11:AP29),0)),\"\")","v":""},{"$f":"IFERROR(IF($L$6=\"\",\"\",VLOOKUP($L$6&\"_\"&$B30,data_entry,COLUMNS($B$11:AQ29),0)),\"\")","v":""}]
[0,20,{"$f":"IF(D31=\"\",\"\",ROWS($D$12:D31))","v":""},{"$f":"IFERROR(IF(OR($L$6=\"\",'DATA ENTRY'!C26=\"\"),\"\",VLOOKUP($L$6&\"_\"&$B31,data_entry,COLUMNS($B$11:D30),0)),\"\")","v":""},{"$f":"IFERROR(IF($L$6=\"\",\"\",VLOOKUP($L$6&\"_\"&$B31,data_entry,COLUMNS($B$11:E30),0)),\"\")","v":""},{"$f":"IFERROR(IF($L$6=\"\",\"\",VLOOKUP($L$6&\"_\"&$B31,data_entry,COLUMNS($B$11:F30),0)),\"\")","v":""},{"$f":"IFERROR(IF($L$6=\"\",\"\",VLOOKUP($L$6&\"_\"&$B31,data_entry,COLUMNS($B$11:G30),0)),\"\")","v":""},{"$f":"IFERROR(IF($L$6=\"\",\"\",VLOOKUP($L$6&\"_\"&$B31,data_entry,COLUMNS($B$11:H30),0)),\"\")","v":""},{"$f":"IFERROR(IF($L$6=\"\",\"\",VLOOKUP($L$6&\"_\"&$B31,data_entry,COLUMNS($B$11:I30),0)),\"\")","v":""},{"$f":"IFERROR(IF($L$6=\"\",\"\",VLOOKUP($L$6&\"_\"&$B31,data_entry,COLUMNS($B$11:J30),0)),\"\")","v":""},{"$f":"IFERROR(IF($L$6=\"\",\"\",VLOOKUP($L$6&\"_\"&$B31,data_entry,COLUMNS($B$11:K30),0)),\"\")","v":""},{"$f":"IFERROR(IF($L$6=\"\",\"\",VLOOKUP($L$6&\"_\"&$B31,data_entry,COLUMNS($B$11:L30),0)),\"\")","v":""},{"$f":"IFERROR(IF($L$6=\"\",\"\",VLOOKUP($L$6&\"_\"&$B31,data_entry,COLUMNS($B$11:M30),0)),\"\")","v":""},{"$f":"IFERROR(IF($L$6=\"\",\"\",VLOOKUP($L$6&\"_\"&$B31,data_entry,COLUMNS($B$11:N30),0)),\"\")","v":""},{"$f":"IFERROR(IF($L$6=\"\",\"\",VLOOKUP($L$6&\"_\"&$B31,data_entry,COLUMNS($B$11:O30),0)),\"\")","v":""},{"$f":"IFERROR(IF($L$6=\"\",\"\",VLOOKUP($L$6&\"_\"&$B31,data_entry,COLUMNS($B$11:P30),0)),\"\")","v":""},{"$f":"IFERROR(IF($L$6=\"\",\"\",VLOOKUP($L$6&\"_\"&$B31,data_entry,COLUMNS($B$11:Q30),0)),\"\")","v":""},{"$f":"IFERROR(IF($L$6=\"\",\"\",VLOOKUP($L$6&\"_\"&$B31,data_entry,COLUMNS($B$11:R30),0)),\"\")","v":""},{"$f":"IFERROR(IF($L$6=\"\",\"\",VLOOKUP($L$6&\"_\"&$B31,data_entry,COLUMNS($B$11:S30),0)),\"\")","v":""},{"$f":"IFERROR(IF($L$6=\"\",\"\",VLOOKUP($L$6&\"_\"&$B31,data_entry,COLUMNS($B$11:T30),0)),\"\")","v":""},{"$f":"IFERROR(IF($L$6=\"\",\"\",VLOOKUP($L$6&\"_\"&$B31,data_entry,COLUMNS($B$11:U30),0)),\"\")","v":""},{"$f":"IFERROR(IF($L$6=\"\",\"\",VLOOKUP($L$6&\"_\"&$B31,data_entry,COLUMNS($B$11:V30),0)),\"\")","v":""},{"$f":"IFERROR(IF($L$6=\"\",\"\",VLOOKUP($L$6&\"_\"&$B31,data_entry,COLUMNS($B$11:W30),0)),\"\")","v":""},{"$f":"IFERROR(IF($L$6=\"\",\"\",VLOOKUP($L$6&\"_\"&$B31,data_entry,COLUMNS($B$11:X30),0)),\"\")","v":""},{"$f":"IFERROR(IF($L$6=\"\",\"\",VLOOKUP($L$6&\"_\"&$B31,data_entry,COLUMNS($B$11:Y30),0)),\"\")","v":""},{"$f":"IFERROR(IF($L$6=\"\",\"\",VLOOKUP($L$6&\"_\"&$B31,data_entry,COLUMNS($B$11:Z30),0)),\"\")","v":""},{"$f":"IFERROR(IF($L$6=\"\",\"\",VLOOKUP($L$6&\"_\"&$B31,data_entry,COLUMNS($B$11:AA30),0)),\"\")","v":""},{"$f":"IFERROR(IF($L$6=\"\",\"\",VLOOKUP($L$6&\"_\"&$B31,data_entry,COLUMNS($B$11:AB30),0)),\"\")","v":""},{"$f":"IFERROR(IF($L$6=\"\",\"\",VLOOKUP($L$6&\"_\"&$B31,data_entry,COLUMNS($B$11:AC30),0)),\"\")","v":""},{"$f":"IFERROR(IF($L$6=\"\",\"\",VLOOKUP($L$6&\"_\"&$B31,data_entry,COLUMNS($B$11:AD30),0)),\"\")","v":""},{"$nulls":5},{"$f":"IFERROR(IF($L$6=\"\",\"\",VLOOKUP($L$6&\"_\"&$B31,data_entry,COLUMNS($B$11:AJ30),0)),\"\")","v":""},{"$f":"IFERROR(IF($L$6=\"\",\"\",VLOOKUP($L$6&\"_\"&$B31,data_entry,COLUMNS($B$11:AK30),0)),\"\")","v":""},{"$f":"IFERROR(IF($L$6=\"\",\"\",VLOOKUP($L$6&\"_\"&$B31,data_entry,COLUMNS($B$11:AL30),0)),\"\")","v":""},{"$f":"IFERROR(IF($L$6=\"\",\"\",VLOOKUP($L$6&\"_\"&$B31,data_entry,COLUMNS($B$11:AM30),0)),\"\")","v":""},{"$f":"IFERROR(IF($L$6=\"\",\"\",VLOOKUP($L$6&\"_\"&$B31,data_entry,COLUMNS($B$11:AN30),0)),\"\")","v":""},{"$f":"IFERROR(IF($L$6=\"\",\"\",VLOOKUP($L$6&\"_\"&$B31,data_entry,COLUMNS($B$11:AO30),0)),\"\")","v":""},{"$f":"IFERROR(IF($L$6=\"\",\"\",VLOOKUP($L$6&\"_\"&$B31,data_entry,COLUMNS($B$11:AP30),0)),\"\")","v":""},{"$f":"IFERROR(IF($L$6=\"\",\"\",VLOOKUP($L$6&\"_\"&$B31,data_entry,COLUMNS($B$11:AQ30),0)),\"\")","v":""}]
[0,21,{"$f":"IF(D32=\"\",\"\",ROWS($D$12:D32))","v":""},{"$f":"IFERROR(IF(OR($L$6=\"\",'DATA ENTRY'!C27=\"\"),\"\",VLOOKUP($L$6&\"_\"&$B32,data_entry,COLUMNS($B$11:D31),0)),\"\")","v":""},{"$f":"IFERROR(IF($L$6=\"\",\"\",VLOOKUP($L$6&\"_\"&$B32,data_entry,COLUMNS($B$11:E31),0)),\"\")","v":""},{"$f":"IFERROR(IF($L$6=\"\",\"\",VLOOKUP($L$6&\"_\"&$B32,data_entry,COLUMNS($B$11:F31),0)),\"\")","v":""},{"$f":"IFERROR(IF($L$6=\"\",\"\",VLOOKUP($L$6&\"_\"&$B32,data_entry,COLUMNS($B$11:G31),0)),\"\")","v":""},{"$f":"IFERROR(IF($L$6=\"\",\"\",VLOOKUP($L$6&\"_\"&$B32,data_entry,COLUMNS($B$11:H31),0)),\"\")","v":""},{"$f":"IFERROR(IF($L$6=\"\",\"\",VLOOKUP($L$6&\"_\"&$B32,data_entry,COLUMNS($B$11:I31),0)),\"\")","v":""},{"$f":"IFERROR(IF($L$6=\"\",\"\",VLOOKUP($L$6&\"_\"&$B32,data_entry,COLUMNS($B$11:J31),0)),\"\")","v":""},{"$f":"IFERROR(IF($L$6=\"\",\"\",VLOOKUP($L$6&\"_\"&$B32,data_entry,COLUMNS($B$11:K31),0)),\"\")","v":""},{"$f":"IFERROR(IF($L$6=\"\",\"\",VLOOKUP($L$6&\"_\"&$B32,data_entry,COLUMNS($B$11:L31),0)),\"\")","v":""},{"$f":"IFERROR(IF($L$6=\"\",\"\",VLOOKUP($L$6&\"_\"&$B32,data_entry,COLUMNS($B$11:M31),0)),\"\")","v":""},{"$f":"IFERROR(IF($L$6=\"\",\"\",VLOOKUP($L$6&\"_\"&$B32,data_entry,COLUMNS($B$11:N31),0)),\"\")","v":""},{"$f":"IFERROR(IF($L$6=\"\",\"\",VLOOKUP($L$6&\"_\"&$B32,data_entry,COLUMNS($B$11:O31),0)),\"\")","v":""},{"$f":"IFERROR(IF($L$6=\"\",\"\",VLOOKUP($L$6&\"_\"&$B32,data_entry,COLUMNS($B$11:P31),0)),\"\")","v":""},{"$f":"IFERROR(IF($L$6=\"\",\"\",VLOOKUP($L$6&\"_\"&$B32,data_entry,COLUMNS($B$11:Q31),0)),\"\")","v":""},{"$f":"IFERROR(IF($L$6=\"\",\"\",VLOOKUP($L$6&\"_\"&$B32,data_entry,COLUMNS($B$11:R31),0)),\"\")","v":""},{"$f":"IFERROR(IF($L$6=\"\",\"\",VLOOKUP($L$6&\"_\"&$B32,data_entry,COLUMNS($B$11:S31),0)),\"\")","v":""},{"$f":"IFERROR(IF($L$6=\"\",\"\",VLOOKUP($L$6&\"_\"&$B32,data_entry,COLUMNS($B$11:T31),0)),\"\")","v":""},{"$f":"IFERROR(IF($L$6=\"\",\"\",VLOOKUP($L$6&\"_\"&$B32,data_entry,COLUMNS($B$11:U31),0)),\"\")","v":""},{"$f":"IFERROR(IF($L$6=\"\",\"\",VLOOKUP($L$6&\"_\"&$B32,data_entry,COLUMNS($B$11:V31),0)),\"\")","v":""},{"$f":"IFERROR(IF($L$6=\"\",\"\",VLOOKUP($L$6&\"_\"&$B32,data_entry,COLUMNS($B$11:W31),0)),\"\")","v":""},{"$f":"IFERROR(IF($L$6=\"\",\"\",VLOOKUP($L$6&\"_\"&$B32,data_entry,COLUMNS($B$11:X31),0)),\"\")","v":""},{"$f":"IFERROR(IF($L$6=\"\",\"\",VLOOKUP($L$6&\"_\"&$B32,data_entry,COLUMNS($B$11:Y31),0)),\"\")","v":""},{"$f":"IFERROR(IF($L$6=\"\",\"\",VLOOKUP($L$6&\"_\"&$B32,data_entry,COLUMNS($B$11:Z31),0)),\"\")","v":""},{"$f":"IFERROR(IF($L$6=\"\",\"\",VLOOKUP($L$6&\"_\"&$B32,data_entry,COLUMNS($B$11:AA31),0)),\"\")","v":""},{"$f":"IFERROR(IF($L$6=\"\",\"\",VLOOKUP($L$6&\"_\"&$B32,data_entry,COLUMNS($B$11:AB31),0)),\"\")","v":""},{"$f":"IFERROR(IF($L$6=\"\",\"\",VLOOKUP($L$6&\"_\"&$B32,data_entry,COLUMNS($B$11:AC31),0)),\"\")","v":""},{"$f":"IFERROR(IF($L$6=\"\",\"\",VLOOKUP($L$6&\"_\"&$B32,data_entry,COLUMNS($B$11:AD31),0)),\"\")","v":""},{"$nulls":5},{"$f":"IFERROR(IF($L$6=\"\",\"\",VLOOKUP($L$6&\"_\"&$B32,data_entry,COLUMNS($B$11:AJ31),0)),\"\")","v":""},{"$f":"IFERROR(IF($L$6=\"\",\"\",VLOOKUP($L$6&\"_\"&$B32,data_entry,COLUMNS($B$11:AK31),0)),\"\")","v":""},{"$f":"IFERROR(IF($L$6=\"\",\"\",VLOOKUP($L$6&\"_\"&$B32,data_entry,COLUMNS($B$11:AL31),0)),\"\")","v":""},{"$f":"IFERROR(IF($L$6=\"\",\"\",VLOOKUP($L$6&\"_\"&$B32,data_entry,COLUMNS($B$11:AM31),0)),\"\")","v":""},{"$f":"IFERROR(IF($L$6=\"\",\"\",VLOOKUP($L$6&\"_\"&$B32,data_entry,COLUMNS($B$11:AN31),0)),\"\")","v":""},{"$f":"IFERROR(IF($L$6=\"\",\"\",VLOOKUP($L$6&\"_\"&$B32,data_entry,COLUMNS($B$11:AO31),0)),\"\")","v":""},{"$f":"IFERROR(IF($L$6=\"\",\"\",VLOOKUP($L$6&\"_\"&$B32,data_entry,COLUMNS($B$11:AP31),0)),\"\")","v":""},{"$f":"IFERROR(IF($L$6=\"\",\"\",VLOOKUP($L$6&\"_\"&$B32,data_entry,COLUMNS($B$11:AQ31),0)),\"\")","v":""}]
[0,22,{"$f":"IF(D33=\"\",\"\",ROWS($D$12:D33))","v":""},{"$f":"IFERROR(IF(OR($L$6=\"\",'DATA ENTRY'!C28=\"\"),\"\",VLOOKUP($L$6&\"_\"&$B33,data_entry,COLUMNS($B$11:D32),0)),\"\")","v":""},{"$f":"IFERROR(IF($L$6=\"\",\"\",VLOOKUP($L$6&\"_\"&$B33,data_entry,COLUMNS($B$11:E32),0)),\"\")","v":""},{"$f":"IFERROR(IF($L$6=\"\",\"\",VLOOKUP($L$6&\"_\"&$B33,data_entry,COLUMNS($B$11:F32),0)),\"\")","v":""},{"$f":"IFERROR(IF($L$6=\"\",\"\",VLOOKUP($L$6&\"_\"&$B33,data_entry,COLUMNS($B$11:G32),0)),\"\")","v":""},{"$f":"IFERROR(IF($L$6=\"\",\"\",VLOOKUP($L$6&\"_\"&$B33,data_entry,COLUMNS($B$11:H32),0)),\"\")","v":""},{"$f":"IFERROR(IF($L$6=\"\",\"\",VLOOKUP($L$6&\"_\"&$B33,data_entry,COLUMNS($B$11:I32),0)),\"\")","v":""},{"$f":"IFERROR(IF($L$6=\"\",\"\",VLOOKUP($L$6&\"_\"&$B33,data_entry,COLUMNS($B$11:J32),0)),\"\")","v":""},{"$f":"IFERROR(IF($L$6=\"\",\"\",VLOOKUP($L$6&\"_\"&$B33,data_entry,COLUMNS($B$11:K32),0)),\"\")","v":""},{"$f":"IFERROR(IF($L$6=\"\",\"\",VLOOKUP($L$6&\"_\"&$B33,data_entry,COLUMNS($B$11:L32),0)),\"\")","v":""},{"$f":"IFERROR(IF($L$6=\"\",\"\",VLOOKUP($L$6&\"_\"&$B33,data_entry,COLUMNS($B$11:M32),0)),\"\")","v":""},{"$f":"IFERROR(IF($L$6=\"\",\"\",VLOOKUP($L$6&\"_\"&$B33,data_entry,COLUMNS($B$11:N32),0)),\"\")","v":""},{"$f":"IFERROR(IF($L$6=\"\",\"\",VLOOKUP($L$6&\"_\"&$B33,data_entry,COLUMNS($B$11:O32),0)),\"\")","v":""},{"$f":"IFERROR(IF($L$6=\"\",\"\",VLOOKUP($L$6&\"_\"&$B33,data_entry,COLUMNS($B$11:P32),0)),\"\")","v":""},{"$f":"IFERROR(IF($L$6=\"\",\"\",VLOOKUP($L$6&\"_\"&$B33,data_entry,COLUMNS($B$11:Q32),0)),\"\")","v":""},{"$f":"IFERROR(IF($L$6=\"\",\"\",VLOOKUP($L$6&\"_\"&$B33,data_entry,COLUMNS($B$11:R32),0)),\"\")","v":""},{"$f":"IFERROR(IF($L$6=\"\",\"\",VLOOKUP($L$6&\"_\"&$B33,data_entry,COLUMNS($B$11:S32),0)),\"\")","v":""},{"$f":"IFERROR(IF($L$6=\"\",\"\",VLOOKUP($L$6&\"_\"&$B33,data_entry,COLUMNS($B$11:T32),0)),\"\")","v":""},{"$f":"IFERROR(IF($L$6=\"\",\"\",VLOOKUP($L$6&\"_\"&$B33,data_entry,COLUMNS($B$11:U32),0)),\"\")","v":""},{"$f":"IFERROR(IF($L$6=\"\",\"\",VLOOKUP($L$6&\"_\"&$B33,data_entry,COLUMNS($B$11:V32),0)),\"\")","v":""},{"$f":"IFERROR(IF($L$6=\"\",\"\",VLOOKUP($L$6&\"_\"&$B33,data_entry,COLUMNS($B$11:W32),0)),\"\")","v":""},{"$f":"IFERROR(IF($L$6=\"\",\"\",VLOOKUP($L$6&\"_\"&$B33,data_entry,COLUMNS($B$11:X32),0)),\"\")","v":""},{"$f":"IFERROR(IF($L$6=\"\",\"\",VLOOKUP($L$6&\"_\"&$B33,data_entry,COLUMNS($B$11:Y32),0)),\"\")","v":""},{"$f":"IFERROR(IF($L$6=\"\",\"\",VLOOKUP($L$6&\"_\"&$B33,data_entry,COLUMNS($B$11:Z32),0)),\"\")","v":""},{"$f":"IFERROR(IF($L$6=\"\",\"\",VLOOKUP($L$6&\"_\"&$B33,data_entry,COLUMNS($B$11:AA32),0)),\"\")","v":""},{"$f":"IFERROR(IF($L$6=\"\",\"\",VLOOKUP($L$6&\"_\"&$B33,data_entry,COLUMNS($B$11:AB32),0)),\"\")","v":""},{"$f":"IFERROR(IF($L$6=\"\",\"\",VLOOKUP($L$6&\"_\"&$B33,data_entry,COLUMNS($B$11:AC32),0)),\"\")","v":""},{"$f":"IFERROR(IF($L$6=\"\",\"\",VLOOKUP($L$6&\"_\"&$B33,data_entry,COLUMNS($B$11:AD32),0)),\"\")","v":""},{"$nulls":5},{"$f":"IFERROR(IF($L$6=\"\",\"\",VLOOKUP($L$6&\"_\"&$B33,data_entry,COLUMNS($B$11:AJ32),0)),\"\")","v":""},{"$f":"IFERROR(IF($L$6=\"\",\"\",VLOOKUP($L$6&\"_\"&$B33,data_entry,COLUMNS($B$11:AK32),0)),\"\")","v":""},{"$f":"IFERROR(IF($L$6=\"\",\"\",VLOOKUP($L$6&\"_\"&$B33,data_entry,COLUMNS($B$11:AL32),0)),\"\")","v":""},{"$f":"IFERROR(IF($L$6=\"\",\"\",VLOOKUP($L$6&\"_\"&$B33,data_entry,COLUMNS($B$11:AM32),0)),\"\")","v":""},{"$f":"IFERROR(IF($L$6=\"\",\"\",VLOOKUP($L$6&\"_\"&$B33,data_entry,COLUMNS($B$11:AN32),0)),\"\")","v":""},{"$f":"IFERROR(IF($L$6=\"\",\"\",VLOOKUP($L$6&\"_\"&$B33,data_entry,COLUMNS($B$11:AO32),0)),\"\")","v":""},{"$f":"IFERROR(IF($L$6=\"\",\"\",VLOOKUP($L$6&\"_\"&$B33,data_entry,COLUMNS($B$11:AP32),0)),\"\")","v":""},{"$f":"IFERROR(IF($L$6=\"\",\"\",VLOOKUP($L$6&\"_\"&$B33,data_entry,COLUMNS($B$11:AQ32),0)),\"\")","v":""}]
[0,23,{"$f":"IF(D34=\"\",\"\",ROWS($D$12:D34))","v":""},{"$f":"IFERROR(IF(OR($L$6=\"\",'DATA ENTRY'!C29=\"\"),\"\",VLOOKUP($L$6&\"_\"&$B34,data_entry,COLUMNS($B$11:D33),0)),\"\")","v":""},{"$f":"IFERROR(IF($L$6=\"\",\"\",VLOOKUP($L$6&\"_\"&$B34,data_entry,COLUMNS($B$11:E33),0)),\"\")","v":""},{"$f":"IFERROR(IF($L$6=\"\",\"\",VLOOKUP($L$6&\"_\"&$B34,data_entry,COLUMNS($B$11:F33),0)),\"\")","v":""},{"$f":"IFERROR(IF($L$6=\"\",\"\",VLOOKUP($L$6&\"_\"&$B34,data_entry,COLUMNS($B$11:G33),0)),\"\")","v":""},{"$f":"IFERROR(IF($L$6=\"\",\"\",VLOOKUP($L$6&\"_\"&$B34,data_entry,COLUMNS($B$11:H33),0)),\"\")","v":""},{"$f":"IFERROR(IF($L$6=\"\",\"\",VLOOKUP($L$6&\"_\"&$B34,data_entry,COLUMNS($B$11:I33),0)),\"\")","v":""},{"$f":"IFERROR(IF($L$6=\"\",\"\",VLOOKUP($L$6&\"_\"&$B34,data_entry,COLUMNS($B$11:J33),0)),\"\")","v":""},{"$f":"IFERROR(IF($L$6=\"\",\"\",VLOOKUP($L$6&\"_\"&$B34,data_entry,COLUMNS($B$11:K33),0)),\"\")","v":""},{"$f":"IFERROR(IF($L$6=\"\",\"\",VLOOKUP($L$6&\"_\"&$B34,data_entry,COLUMNS($B$11:L33),0)),\"\")","v":""},{"$f":"IFERROR(IF($L$6=\"\",\"\",VLOOKUP($L$6&\"_\"&$B34,data_entry,COLUMNS($B$11:M33),0)),\"\")","v":""},{"$f":"IFERROR(IF($L$6=\"\",\"\",VLOOKUP($L$6&\"_\"&$B34,data_entry,COLUMNS($B$11:N33),0)),\"\")","v":""},{"$f":"IFERROR(IF($L$6=\"\",\"\",VLOOKUP($L$6&\"_\"&$B34,data_entry,COLUMNS($B$11:O33),0)),\"\")","v":""},{"$f":"IFERROR(IF($L$6=\"\",\"\",VLOOKUP($L$6&\"_\"&$B34,data_entry,COLUMNS($B$11:P33),0)),\"\")","v":""},{"$f":"IFERROR(IF($L$6=\"\",\"\",VLOOKUP($L$6&\"_\"&$B34,data_entry,COLUMNS($B$11:Q33),0)),\"\")","v":""},{"$f":"IFERROR(IF($L$6=\"\",\"\",VLOOKUP($L$6&\"_\"&$B34,data_entry,COLUMNS($B$11:R33),0)),\"\")","v":""},{"$f":"IFERROR(IF($L$6=\"\",\"\",VLOOKUP($L$6&\"_\"&$B34,data_entry,COLUMNS($B$11:S33),0)),\"\")","v":""},{"$f":"IFERROR(IF($L$6=\"\",\"\",VLOOKUP($L$6&\"_\"&$B34,data_entry,COLUMNS($B$11:T33),0)),\"\")","v":""},{"$f":"IFERROR(IF($L$6=\"\",\"\",VLOOKUP($L$6&\"_\"&$B34,data_entry,COLUMNS($B$11:U33),0)),\"\")","v":""},{"$f":"IFERROR(IF($L$6=\"\",\"\",VLOOKUP($L$6&\"_\"&$B34,data_entry,COLUMNS($B$11:V33),0)),\"\")","v":""},{"$f":"IFERROR(IF($L$6=\"\",\"\",VLOOKUP($L$6&\"_\"&$B34,data_entry,COLUMNS($B$11:W33),0)),\"\")","v":""},{"$f":"IFERROR(IF($L$6=\"\",\"\",VLOOKUP($L$6&\"_\"&$B34,data_entry,COLUMNS($B$11:X33),0)),\"\")","v":""},{"$f":"IFERROR(IF($L$6=\"\",\"\",VLOOKUP($L$6&\"_\"&$B34,data_entry,COLUMNS($B$11:Y33),0)),\"\")","v":""},{"$f":"IFERROR(IF($L$6=\"\",\"\",VLOOKUP($L$6&\"_\"&$B34,data_entry,COLUMNS($B$11:Z33),0)),\"\")","v":""},{"$f":"IFERROR(IF($L$6=\"\",\"\",VLOOKUP($L$6&\"_\"&$B34,data_entry,COLUMNS($B$11:AA33),0)),\"\")","v":""},{"$f":"IFERROR(IF($L$6=\"\",\"\",VLOOKUP($L$6&\"_\"&$B34,data_entry,COLUMNS($B$11:AB33),0)),\"\")","v":""},{"$f":"IFERROR(IF($L$6=\"\",\"\",VLOOKUP($L$6&\"_\"&$B34,data_entry,COLUMNS($B$11:AC33),0)),\"\")","v":""},{"$f":"IFERROR(IF($L$6=\"\",\"\",VLOOKUP($L$6&\"_\"&$B34,data_entry,COLUMNS($B$11:AD33),0)),\"\")","v":""},{"$nulls":5},{"$f":"IFERROR(IF($L$6=\"\",\"\",VLOOKUP($L$6&\"_\"&$B34,data_entry,COLUMNS($B$11:AJ33),0)),\"\")","v":""},{"$f":"IFERROR(IF($L$6=\"\",\"\",VLOOKUP($L$6&\"_\"&$B34,data_entry,COLUMNS($B$11:AK33),0)),\"\")","v":""},{"$f":"IFERROR(IF($L$6=\"\",\"\",VLOOKUP($L$6&\"_\"&$B34,data_entry,COLUMNS($B$11:AL33),0)),\"\")","v":""},{"$f":"IFERROR(IF($L$6=\"\",\"\",VLOOKUP($L$6&\"_\"&$B34,data_entry,COLUMNS($B$11:AM33),0)),\"\")","v":""},{"$f":"IFERROR(IF($L$6=\"\",\"\",VLOOKUP($L$6&\"_\"&$B34,data_entry,COLUMNS($B$11:AN33),0)),\"\")","v":""},{"$f":"IFERROR(IF($L$6=\"\",\"\",VLOOKUP($L$6&\"_\"&$B34,data_entry,COLUMNS($B$11:AO33),0)),\"\")","v":""},{"$f":"IFERROR(IF($L$6=\"\",\"\",VLOOKUP($L$6&\"_\"&$B34,data_entry,COLUMNS($B$11:AP33),0)),\"\")","v":""},{"$f":"IFERROR(IF($L$6=\"\",\"\",VLOOKUP($L$6&\"_\"&$B34,data_entry,COLUMNS($B$11:AQ33),0)),\"\")","v":""}]
[0,24,{"$f":"IF(D35=\"\",\"\",ROWS($D$12:D35))","v":""},{"$f":"IFERROR(IF(OR($L$6=\"\",'DATA ENTRY'!C30=\"\"),\"\",VLOOKUP($L$6&\"_\"&$B35,data_entry,COLUMNS($B$11:D34),0)),\"\")","v":""},{"$f":"IFERROR(IF($L$6=\"\",\"\",VLOOKUP($L$6&\"_\"&$B35,data_entry,COLUMNS($B$11:E34),0)),\"\")","v":""},{"$f":"IFERROR(IF($L$6=\"\",\"\",VLOOKUP($L$6&\"_\"&$B35,data_entry,COLUMNS($B$11:F34),0)),\"\")","v":""},{"$f":"IFERROR(IF($L$6=\"\",\"\",VLOOKUP($L$6&\"_\"&$B35,data_entry,COLUMNS($B$11:G34),0)),\"\")","v":""},{"$f":"IFERROR(IF($L$6=\"\",\"\",VLOOKUP($L$6&\"_\"&$B35,data_entry,COLUMNS($B$11:H34),0)),\"\")","v":""},{"$f":"IFERROR(IF($L$6=\"\",\"\",VLOOKUP($L$6&\"_\"&$B35,data_entry,COLUMNS($B$11:I34),0)),\"\")","v":""},{"$f":"IFERROR(IF($L$6=\"\",\"\",VLOOKUP($L$6&\"_\"&$B35,data_entry,COLUMNS($B$11:J34),0)),\"\")","v":""},{"$f":"IFERROR(IF($L$6=\"\",\"\",VLOOKUP($L$6&\"_\"&$B35,data_entry,COLUMNS($B$11:K34),0)),\"\")","v":""},{"$f":"IFERROR(IF($L$6=\"\",\"\",VLOOKUP($L$6&\"_\"&$B35,data_entry,COLUMNS($B$11:L34),0)),\"\")","v":""},{"$f":"IFERROR(IF($L$6=\"\",\"\",VLOOKUP($L$6&\"_\"&$B35,data_entry,COLUMNS($B$11:M34),0)),\"\")","v":""},{"$f":"IFERROR(IF($L$6=\"\",\"\",VLOOKUP($L$6&\"_\"&$B35,data_entry,COLUMNS($B$11:N34),0)),\"\")","v":""},{"$f":"IFERROR(IF($L$6=\"\",\"\",VLOOKUP($L$6&\"_\"&$B35,data_entry,COLUMNS($B$11:O34),0)),\"\")","v":""},{"$f":"IFERROR(IF($L$6=\"\",\"\",VLOOKUP($L$6&\"_\"&$B35,data_entry,COLUMNS($B$11:P34),0)),\"\")","v":""},{"$f":"IFERROR(IF($L$6=\"\",\"\",VLOOKUP($L$6&\"_\"&$B35,data_entry,COLUMNS($B$11:Q34),0)),\"\")","v":""},{"$f":"IFERROR(IF($L$6=\"\",\"\",VLOOKUP($L$6&\"_\"&$B35,data_entry,COLUMNS($B$11:R34),0)),\"\")","v":""},{"$f":"IFERROR(IF($L$6=\"\",\"\",VLOOKUP($L$6&\"_\"&$B35,data_entry,COLUMNS($B$11:S34),0)),\"\")","v":""},{"$f":"IFERROR(IF($L$6=\"\",\"\",VLOOKUP($L$6&\"_\"&$B35,data_entry,COLUMNS($B$11:T34),0)),\"\")","v":""},{"$f":"IFERROR(IF($L$6=\"\",\"\",VLOOKUP($L$6&\"_\"&$B35,data_entry,COLUMNS($B$11:U34),0)),\"\")","v":""},{"$f":"IFERROR(IF($L$6=\"\",\"\",VLOOKUP($L$6&\"_\"&$B35,data_entry,COLUMNS($B$11:V34),0)),\"\")","v":""},{"$f":"IFERROR(IF($L$6=\"\",\"\",VLOOKUP($L$6&\"_\"&$B35,data_entry,COLUMNS($B$11:W34),0)),\"\")","v":""},{"$f":"IFERROR(IF($L$6=\"\",\"\",VLOOKUP($L$6&\"_\"&$B35,data_entry,COLUMNS($B$11:X34),0)),\"\")","v":""},{"$f":"IFERROR(IF($L$6=\"\",\"\",VLOOKUP($L$6&\"_\"&$B35,data_entry,COLUMNS($B$11:Y34),0)),\"\")","v":""},{"$f":"IFERROR(IF($L$6=\"\",\"\",VLOOKUP($L$6&\"_\"&$B35,data_entry,COLUMNS($B$11:Z34),0)),\"\")","v":""},{"$f":"IFERROR(IF($L$6=\"\",\"\",VLOOKUP($L$6&\"_\"&$B35,data_entry,COLUMNS($B$11:AA34),0)),\"\")","v":""},{"$f":"IFERROR(IF($L$6=\"\",\"\",VLOOKUP($L$6&\"_\"&$B35,data_entry,COLUMNS($B$11:AB34),0)),\"\")","v":""},{"$f":"IFERROR(IF($L$6=\"\",\"\",VLOOKUP($L$6&\"_\"&$B35,data_entry,COLUMNS($B$11:AC34),0)),\"\")","v":""},{"$f":"IFERROR(IF($L$6=\"\",\"\",VLOOKUP($L$6&\"_\"&$B35,data_entry,COLUMNS($B$11:AD34),0)),\"\")","v":""},{"$nulls":5},{"$f":"IFERROR(IF($L$6=\"\",\"\",VLOOKUP($L$6&\"_\"&$B35,data_entry,COLUMNS($B$11:AJ34),0)),\"\")","v":""},{"$f":"IFERROR(IF($L$6=\"\",\"\",VLOOKUP($L$6&\"_\"&$B35,data_entry,COLUMNS($B$11:AK34),0)),\"\")","v":""},{"$f":"IFERROR(IF($L$6=\"\",\"\",VLOOKUP($L$6&\"_\"&$B35,data_entry,COLUMNS($B$11:AL34),0)),\"\")","v":""},{"$f":"IFERROR(IF($L$6=\"\",\"\",VLOOKUP($L$6&\"_\"&$B35,data_entry,COLUMNS($B$11:AM34),0)),\"\")","v":""},{"$f":"IFERROR(IF($L$6=\"\",\"\",VLOOKUP($L$6&\"_\"&$B35,data_entry,COLUMNS($B$11:AN34),0)),\"\")","v":""},{"$f":"IFERROR(IF($L$6=\"\",\"\",VLOOKUP($L$6&\"_\"&$B35,data_entry,COLUMNS($B$11:AO34),0)),\"\")","v":""},{"$f":"IFERROR(IF($L$6=\"\",\"\",VLOOKUP($L$6&\"_\"&$B35,data_entry,COLUMNS($B$11:AP34),0)),\"\")","v":""},{"$f":"IFERROR(IF($L$6=\"\",\"\",VLOOKUP($L$6&\"_\"&$B35,data_entry,COLUMNS($B$11:AQ34),0)),\"\")","v":""}]
[0,25,{"$f":"IF(D36=\"\",\"\",ROWS($D$12:D36))","v":""},{"$f":"IFERROR(IF(OR($L$6=\"\",'DATA ENTRY'!C31=\"\"),\"\",VLOOKUP($L$6&\"_\"&$B36,data_entry,COLUMNS($B$11:D35),0)),\"\")","v":""},{"$f":"IFERROR(IF($L$6=\"\",\"\",VLOOKUP($L$6&\"_\"&$B36,data_entry,COLUMNS($B$11:E35),0)),\"\")","v":""},{"$f":"IFERROR(IF($L$6=\"\",\"\",VLOOKUP($L$6&\"_\"&$B36,data_entry,COLUMNS($B$11:F35),0)),\"\")","v":""},{"$f":"IFERROR(IF($L$6=\"\",\"\",VLOOKUP($L$6&\"_\"&$B36,data_entry,COLUMNS($B$11:G35),0)),\"\")","v":""},{"$f":"IFERROR(IF($L$6=\"\",\"\",VLOOKUP($L$6&\"_\"&$B36,data_entry,COLUMNS($B$11:H35),0)),\"\")","v":""},{"$f":"IFERROR(IF($L$6=\"\",\"\",VLOOKUP($L$6&\"_\"&$B36,data_entry,COLUMNS($B$11:I35),0)),\"\")","v":""},{"$f":"IFERROR(IF($L$6=\"\",\"\",VLOOKUP($L$6&\"_\"&$B36,data_entry,COLUMNS($B$11:J35),0)),\"\")","v":""},{"$f":"IFERROR(IF($L$6=\"\",\"\",VLOOKUP($L$6&\"_\"&$B36,data_entry,COLUMNS($B$11:K35),0)),\"\")","v":""},{"$f":"IFERROR(IF($L$6=\"\",\"\",VLOOKUP($L$6&\"_\"&$B36,data_entry,COLUMNS($B$11:L35),0)),\"\")","v":""},{"$f":"IFERROR(IF($L$6=\"\",\"\",VLOOKUP($L$6&\"_\"&$B36,data_entry,COLUMNS($B$11:M35),0)),\"\")","v":""},{"$f":"IFERROR(IF($L$6=\"\",\"\",VLOOKUP($L$6&\"_\"&$B36,data_entry,COLUMNS($B$11:N35),0)),\"\")","v":""},{"$f":"IFERROR(IF($L$6=\"\",\"\",VLOOKUP($L$6&\"_\"&$B36,data_entry,COLUMNS($B$11:O35),0)),\"\")","v":""},{"$f":"IFERROR(IF($L$6=\"\",\"\",VLOOKUP($L$6&\"_\"&$B36,data_entry,COLUMNS($B$11:P35),0)),\"\")","v":""},{"$f":"IFERROR(IF($L$6=\"\",\"\",VLOOKUP($L$6&\"_\"&$B36,data_entry,COLUMNS($B$11:Q35),0)),\"\")","v":""},{"$f":"IFERROR(IF($L$6=\"\",\"\",VLOOKUP($L$6&\"_\"&$B36,data_entry,COLUMNS($B$11:R35),0)),\"\")","v":""},{"$f":"IFERROR(IF($L$6=\"\",\"\",VLOOKUP($L$6&\"_\"&$B36,data_entry,COLUMNS($B$11:S35),0)),\"\")","v":""},{"$f":"IFERROR(IF($L$6=\"\",\"\",VLOOKUP($L$6&\"_\"&$B36,data_entry,COLUMNS($B$11:T35),0)),\"\")","v":""},{"$f":"IFERROR(IF($L$6=\"\",\"\",VLOOKUP($L$6&\"_\"&$B36,data_entry,COLUMNS($B$11:U35),0)),\"\")","v":""},{"$f":"IFERROR(IF($L$6=\"\",\"\",VLOOKUP($L$6&\"_\"&$B36,data_entry,COLUMNS($B$11:V35),0)),\"\")","v":""},{"$f":"IFERROR(IF($L$6=\"\",\"\",VLOOKUP($L$6&\"_\"&$B36,data_entry,COLUMNS($B$11:W35),0)),\"\")","v":""},{"$f":"IFERROR(IF($L$6=\"\",\"\",VLOOKUP($L$6&\"_\"&$B36,data_entry,COLUMNS($B$11:X35),0)),\"\")","v":""},{"$f":"IFERROR(IF($L$6=\"\",\"\",VLOOKUP($L$6&\"_\"&$B36,data_entry,COLUMNS($B$11:Y35),0)),\"\")","v":""},{"$f":"IFERROR(IF($L$6=\"\",\"\",VLOOKUP($L$6&\"_\"&$B36,data_entry,COLUMNS($B$11:Z35),0)),\"\")","v":""},{"$f":"IFERROR(IF($L$6=\"\",\"\",VLOOKUP($L$6&\"_\"&$B36,data_entry,COLUMNS($B$11:AA35),0)),\"\")","v":""},{"$f":"IFERROR(IF($L$6=\"\",\"\",VLOOKUP($L$6&\"_\"&$B36,data_entry,COLUMNS($B$11:AB35),0)),\"\")","v":""},{"$f":"IFERROR(IF($L$6=\"\",\"\",VLOOKUP($L$6&\"_\"&$B36,data_entry,COLUMNS($B$11:AC35),0)),\"\")","v":""},{"$f":"IFERROR(IF($L$6=\"\",\"\",VLOOKUP($L$6&\"_\"&$B36,data_entry,COLUMNS($B$11:AD35),0)),\"\")","v":""},{"$nulls":5},{"$f":"IFERROR(IF($L$6=\"\",\"\",VLOOKUP($L$6&\"_\"&$B36,data_entry,COLUMNS($B$11:AJ35),0)),\"\")","v":""},{"$f":"IFERROR(IF($L$6=\"\",\"\",VLOOKUP($L$6&\"_\"&$B36,data_entry,COLUMNS($B$11:AK35),0)),\"\")","v":""},{"$f":"IFERROR(IF($L$6=\"\",\"\",VLOOKUP($L$6&\"_\"&$B36,data_entry,COLUMNS($B$11:AL35),0)),\"\")","v":""},{"$f":"IFERROR(IF($L$6=\"\",\"\",VLOOKUP($L$6&\"_\"&$B36,data_entry,COLUMNS($B$11:AM35),0)),\"\")","v":""},{"$f":"IFERROR(IF($L$6=\"\",\"\",VLOOKUP($L$6&\"_\"&$B36,data_entry,COLUMNS($B$11:AN35),0)),\"\")","v":""},{"$f":"IFERROR(IF($L$6=\"\",\"\",VLOOKUP($L$6&\"_\"&$B36,data_entry,COLUMNS($B$11:AO35),0)),\"\")","v":""},{"$f":"IFERROR(IF($L$6=\"\",\"\",VLOOKUP($L$6&\"_\"&$B36,data_entry,COLUMNS($B$11:AP35),0)),\"\")","v":""},{"$f":"IFERROR(IF($L$6=\"\",\"\",VLOOKUP($L$6&\"_\"&$B36,data_entry,COLUMNS($B$11:AQ35),0)),\"\")","v":""}]
[0,26,{"$f":"IF(D37=\"\",\"\",ROWS($D$12:D37))","v":""},{"$f":"IFERROR(IF(OR($L$6=\"\",'DATA ENTRY'!C32=\"\"),\"\",VLOOKUP($L$6&\"_\"&$B37,data_entry,COLUMNS($B$11:D36),0)),\"\")","v":""},{"$f":"IFERROR(IF($L$6=\"\",\"\",VLOOKUP($L$6&\"_\"&$B37,data_entry,COLUMNS($B$11:E36),0)),\"\")","v":""},{"$f":"IFERROR(IF($L$6=\"\",\"\",VLOOKUP($L$6&\"_\"&$B37,data_entry,COLUMNS($B$11:F36),0)),\"\")","v":""},{"$f":"IFERROR(IF($L$6=\"\",\"\",VLOOKUP($L$6&\"_\"&$B37,data_entry,COLUMNS($B$11:G36),0)),\"\")","v":""},{"$f":"IFERROR(IF($L$6=\"\",\"\",VLOOKUP($L$6&\"_\"&$B37,data_entry,COLUMNS($B$11:H36),0)),\"\")","v":""},{"$f":"IFERROR(IF($L$6=\"\",\"\",VLOOKUP($L$6&\"_\"&$B37,data_entry,COLUMNS($B$11:I36),0)),\"\")","v":""},{"$f":"IFERROR(IF($L$6=\"\",\"\",VLOOKUP($L$6&\"_\"&$B37,data_entry,COLUMNS($B$11:J36),0)),\"\")","v":""},{"$f":"IFERROR(IF($L$6=\"\",\"\",VLOOKUP($L$6&\"_\"&$B37,data_entry,COLUMNS($B$11:K36),0)),\"\")","v":""},{"$f":"IFERROR(IF($L$6=\"\",\"\",VLOOKUP($L$6&\"_\"&$B37,data_entry,COLUMNS($B$11:L36),0)),\"\")","v":""},{"$f":"IFERROR(IF($L$6=\"\",\"\",VLOOKUP($L$6&\"_\"&$B37,data_entry,COLUMNS($B$11:M36),0)),\"\")","v":""},{"$f":"IFERROR(IF($L$6=\"\",\"\",VLOOKUP($L$6&\"_\"&$B37,data_entry,COLUMNS($B$11:N36),0)),\"\")","v":""},{"$f":"IFERROR(IF($L$6=\"\",\"\",VLOOKUP($L$6&\"_\"&$B37,data_entry,COLUMNS($B$11:O36),0)),\"\")","v":""},{"$f":"IFERROR(IF($L$6=\"\",\"\",VLOOKUP($L$6&\"_\"&$B37,data_entry,COLUMNS($B$11:P36),0)),\"\")","v":""},{"$f":"IFERROR(IF($L$6=\"\",\"\",VLOOKUP($L$6&\"_\"&$B37,data_entry,COLUMNS($B$11:Q36),0)),\"\")","v":""},{"$f":"IFERROR(IF($L$6=\"\",\"\",VLOOKUP($L$6&\"_\"&$B37,data_entry,COLUMNS($B$11:R36),0)),\"\")","v":""},{"$f":"IFERROR(IF($L$6=\"\",\"\",VLOOKUP($L$6&\"_\"&$B37,data_entry,COLUMNS($B$11:S36),0)),\"\")","v":""},{"$f":"IFERROR(IF($L$6=\"\",\"\",VLOOKUP($L$6&\"_\"&$B37,data_entry,COLUMNS($B$11:T36),0)),\"\")","v":""},{"$f":"IFERROR(IF($L$6=\"\",\"\",VLOOKUP($L$6&\"_\"&$B37,data_entry,COLUMNS($B$11:U36),0)),\"\")","v":""},{"$f":"IFERROR(IF($L$6=\"\",\"\",VLOOKUP($L$6&\"_\"&$B37,data_entry,COLUMNS($B$11:V36),0)),\"\")","v":""},{"$f":"IFERROR(IF($L$6=\"\",\"\",VLOOKUP($L$6&\"_\"&$B37,data_entry,COLUMNS($B$11:W36),0)),\"\")","v":""},{"$f":"IFERROR(IF($L$6=\"\",\"\",VLOOKUP($L$6&\"_\"&$B37,data_entry,COLUMNS($B$11:X36),0)),\"\")","v":""},{"$f":"IFERROR(IF($L$6=\"\",\"\",VLOOKUP($L$6&\"_\"&$B37,data_entry,COLUMNS($B$11:Y36),0)),\"\")","v":""},{"$f":"IFERROR(IF($L$6=\"\",\"\",VLOOKUP($L$6&\"_\"&$B37,data_entry,COLUMNS($B$11:Z36),0)),\"\")","v":""},{"$f":"IFERROR(IF($L$6=\"\",\"\",VLOOKUP($L$6&\"_\"&$B37,data_entry,COLUMNS($B$11:AA36),0)),\"\")","v":""},{"$f":"IFERROR(IF($L$6=\"\",\"\",VLOOKUP($L$6&\"_\"&$B37,data_entry,COLUMNS($B$11:AB36),0)),\"\")","v":""},{"$f":"IFERROR(IF($L$6=\"\",\"\",VLOOKUP($L$6&\"_\"&$B37,data_entry,COLUMNS($B$11:AC36),0)),\"\")","v":""},{"$f":"IFERROR(IF($L$6=\"\",\"\",VLOOKUP($L$6&\"_\"&$B37,data_entry,COLUMNS($B$11:AD36),0)),\"\")","v":""},{"$nulls":5},{"$f":"IFERROR(IF($L$6=\"\",\"\",VLOOKUP($L$6&\"_\"&$B37,data_entry,COLUMNS($B$11:AJ36),0)),\"\")","v":""},{"$f":"IFERROR(IF($L$6=\"\",\"\",VLOOKUP($L$6&\"_\"&$B37,data_entry,COLUMNS($B$11:AK36),0)),\"\")","v":""},{"$f":"IFERROR(IF($L$6=\"\",\"\",VLOOKUP($L$6&\"_\"&$B37,data_entry,COLUMNS($B$11:AL36),0)),\"\")","v":""},{"$f":"IFERROR(IF($L$6=\"\",\"\",VLOOKUP($L$6&\"_\"&$B37,data_entry,COLUMNS($B$11:AM36),0)),\"\")","v":""},{"$f":"IFERROR(IF($L$6=\"\",\"\",VLOOKUP($L$6&\"_\"&$B37,data_entry,COLUMNS($B$11:AN36),0)),\"\")","v":""},{"$f":"IFERROR(IF($L$6=\"\",\"\",VLOOKUP($L$6&\"_\"&$B37,data_entry,COLUMNS($B$11:AO36),0)),\"\")","v":""},{"$f":"IFERROR(IF($L$6=\"\",\"\",VLOOKUP($L$6&\"_\"&$B37,data_entry,COLUMNS($B$11:AP36),0)),\"\")","v":""},{"$f":"IFERROR(IF($L$6=\"\",\"\",VLOOKUP($L$6&\"_\"&$B37,data_entry,COLUMNS($B$11:AQ36),0)),\"\")","v":""}]
[0,27,{"$f":"IF(D38=\"\",\"\",ROWS($D$12:D38))","v":""},{"$f":"IFERROR(IF(OR($L$6=\"\",'DATA ENTRY'!C33=\"\"),\"\",VLOOKUP($L$6&\"_\"&$B38,data_entry,COLUMNS($B$11:D37),0)),\"\")","v":""},{"$f":"IFERROR(IF($L$6=\"\",\"\",VLOOKUP($L$6&\"_\"&$B38,data_entry,COLUMNS($B$11:E37),0)),\"\")","v":""},{"$f":"IFERROR(IF($L$6=\"\",\"\",VLOOKUP($L$6&\"_\"&$B38,data_entry,COLUMNS($B$11:F37),0)),\"\")","v":""},{"$f":"IFERROR(IF($L$6=\"\",\"\",VLOOKUP($L$6&\"_\"&$B38,data_entry,COLUMNS($B$11:G37),0)),\"\")","v":""},{"$f":"IFERROR(IF($L$6=\"\",\"\",VLOOKUP($L$6&\"_\"&$B38,data_entry,COLUMNS($B$11:H37),0)),\"\")","v":""},{"$f":"IFERROR(IF($L$6=\"\",\"\",VLOOKUP($L$6&\"_\"&$B38,data_entry,COLUMNS($B$11:I37),0)),\"\")","v":""},{"$f":"IFERROR(IF($L$6=\"\",\"\",VLOOKUP($L$6&\"_\"&$B38,data_entry,COLUMNS($B$11:J37),0)),\"\")","v":""},{"$f":"IFERROR(IF($L$6=\"\",\"\",VLOOKUP($L$6&\"_\"&$B38,data_entry,COLUMNS($B$11:K37),0)),\"\")","v":""},{"$f":"IFERROR(IF($L$6=\"\",\"\",VLOOKUP($L$6&\"_\"&$B38,data_entry,COLUMNS($B$11:L37),0)),\"\")","v":""},{"$f":"IFERROR(IF($L$6=\"\",\"\",VLOOKUP($L$6&\"_\"&$B38,data_entry,COLUMNS($B$11:M37),0)),\"\")","v":""},{"$f":"IFERROR(IF($L$6=\"\",\"\",VLOOKUP($L$6&\"_\"&$B38,data_entry,COLUMNS($B$11:N37),0)),\"\")","v":""},{"$f":"IFERROR(IF($L$6=\"\",\"\",VLOOKUP($L$6&\"_\"&$B38,data_entry,COLUMNS($B$11:O37),0)),\"\")","v":""},{"$f":"IFERROR(IF($L$6=\"\",\"\",VLOOKUP($L$6&\"_\"&$B38,data_entry,COLUMNS($B$11:P37),0)),\"\")","v":""},{"$f":"IFERROR(IF($L$6=\"\",\"\",VLOOKUP($L$6&\"_\"&$B38,data_entry,COLUMNS($B$11:Q37),0)),\"\")","v":""},{"$f":"IFERROR(IF($L$6=\"\",\"\",VLOOKUP($L$6&\"_\"&$B38,data_entry,COLUMNS($B$11:R37),0)),\"\")","v":""},{"$f":"IFERROR(IF($L$6=\"\",\"\",VLOOKUP($L$6&\"_\"&$B38,data_entry,COLUMNS($B$11:S37),0)),\"\")","v":""},{"$f":"IFERROR(IF($L$6=\"\",\"\",VLOOKUP($L$6&\"_\"&$B38,data_entry,COLUMNS($B$11:T37),0)),\"\")","v":""},{"$f":"IFERROR(IF($L$6=\"\",\"\",VLOOKUP($L$6&\"_\"&$B38,data_entry,COLUMNS($B$11:U37),0)),\"\")","v":""},{"$f":"IFERROR(IF($L$6=\"\",\"\",VLOOKUP($L$6&\"_\"&$B38,data_entry,COLUMNS($B$11:V37),0)),\"\")","v":""},{"$f":"IFERROR(IF($L$6=\"\",\"\",VLOOKUP($L$6&\"_\"&$B38,data_entry,COLUMNS($B$11:W37),0)),\"\")","v":""},{"$f":"IFERROR(IF($L$6=\"\",\"\",VLOOKUP($L$6&\"_\"&$B38,data_entry,COLUMNS($B$11:X37),0)),\"\")","v":""},{"$f":"IFERROR(IF($L$6=\"\",\"\",VLOOKUP($L$6&\"_\"&$B38,data_entry,COLUMNS($B$11:Y37),0)),\"\")","v":""},{"$f":"IFERROR(IF($L$6=\"\",\"\",VLOOKUP($L$6&\"_\"&$B38,data_entry,COLUMNS($B$11:Z37),0)),\"\")","v":""},{"$f":"IFERROR(IF($L$6=\"\",\"\",VLOOKUP($L$6&\"_\"&$B38,data_entry,COLUMNS($B$11:AA37),0)),\"\")","v":""},{"$f":"IFERROR(IF($L$6=\"\",\"\",VLOOKUP($L$6&\"_\"&$B38,data_entry,COLUMNS($B$11:AB37),0)),\"\")","v":""},{"$f":"IFERROR(IF($L$6=\"\",\"\",VLOOKUP($L$6&\"_\"&$B38,data_entry,COLUMNS($B$11:AC37),0)),\"\")","v":""},{"$f":"IFERROR(IF($L$6=\"\",\"\",VLOOKUP($L$6&\"_\"&$B38,data_entry,COLUMNS($B$11:AD37),0)),\"\")","v":""},{"$nulls":5},{"$f":"IFERROR(IF($L$6=\"\",\"\",VLOOKUP($L$6&\"_\"&$B38,data_entry,COLUMNS($B$11:AJ37),0)),\"\")","v":""},{"$f":"IFERROR(IF($L$6=\"\",\"\",VLOOKUP($L$6&\"_\"&$B38,data_entry,COLUMNS($B$11:AK37),0)),\"\")","v":""},{"$f":"IFERROR(IF($L$6=\"\",\"\",VLOOKUP($L$6&\"_\"&$B38,data_entry,COLUMNS($B$11:AL37),0)),\"\")","v":""},{"$f":"IFERROR(IF($L$6=\"\",\"\",VLOOKUP($L$6&\"_\"&$B38,data_entry,COLUMNS($B$11:AM37),0)),\"\")","v":""},{"$f":"IFERROR(IF($L$6=\"\",\"\",VLOOKUP($L$6&\"_\"&$B38,data_entry,COLUMNS($B$11:AN37),0)),\"\")","v":""},{"$f":"IFERROR(IF($L$6=\"\",\"\",VLOOKUP($L$6&\"_\"&$B38,data_entry,COLUMNS($B$11:AO37),0)),\"\")","v":""},{"$f":"IFERROR(IF($L$6=\"\",\"\",VLOOKUP($L$6&\"_\"&$B38,data_entry,COLUMNS($B$11:AP37),0)),\"\")","v":""},{"$f":"IFERROR(IF($L$6=\"\",\"\",VLOOKUP($L$6&\"_\"&$B38,data_entry,COLUMNS($B$11:AQ37),0)),\"\")","v":""}]
[0,28,{"$f":"IF(D39=\"\",\"\",ROWS($D$12:D39))","v":""},{"$f":"IFERROR(IF(OR($L$6=\"\",'DATA ENTRY'!C34=\"\"),\"\",VLOOKUP($L$6&\"_\"&$B39,data_entry,COLUMNS($B$11:D38),0)),\"\")","v":""},{"$f":"IFERROR(IF($L$6=\"\",\"\",VLOOKUP($L$6&\"_\"&$B39,data_entry,COLUMNS($B$11:E38),0)),\"\")","v":""},{"$f":"IFERROR(IF($L$6=\"\",\"\",VLOOKUP($L$6&\"_\"&$B39,data_entry,COLUMNS($B$11:F38),0)),\"\")","v":""},{"$f":"IFERROR(IF($L$6=\"\",\"\",VLOOKUP($L$6&\"_\"&$B39,data_entry,COLUMNS($B$11:G38),0)),\"\")","v":""},{"$f":"IFERROR(IF($L$6=\"\",\"\",VLOOKUP($L$6&\"_\"&$B39,data_entry,COLUMNS($B$11:H38),0)),\"\")","v":""},{"$f":"IFERROR(IF($L$6=\"\",\"\",VLOOKUP($L$6&\"_\"&$B39,data_entry,COLUMNS($B$11:I38),0)),\"\")","v":""},{"$f":"IFERROR(IF($L$6=\"\",\"\",VLOOKUP($L$6&\"_\"&$B39,data_entry,COLUMNS($B$11:J38),0)),\"\")","v":""},{"$f":"IFERROR(IF($L$6=\"\",\"\",VLOOKUP($L$6&\"_\"&$B39,data_entry,COLUMNS($B$11:K38),0)),\"\")","v":""},{"$f":"IFERROR(IF($L$6=\"\",\"\",VLOOKUP($L$6&\"_\"&$B39,data_entry,COLUMNS($B$11:L38),0)),\"\")","v":""},{"$f":"IFERROR(IF($L$6=\"\",\"\",VLOOKUP($L$6&\"_\"&$B39,data_entry,COLUMNS($B$11:M38),0)),\"\")","v":""},{"$f":"IFERROR(IF($L$6=\"\",\"\",VLOOKUP($L$6&\"_\"&$B39,data_entry,COLUMNS($B$11:N38),0)),\"\")","v":""},{"$f":"IFERROR(IF($L$6=\"\",\"\",VLOOKUP($L$6&\"_\"&$B39,data_entry,COLUMNS($B$11:O38),0)),\"\")","v":""},{"$f":"IFERROR(IF($L$6=\"\",\"\",VLOOKUP($L$6&\"_\"&$B39,data_entry,COLUMNS($B$11:P38),0)),\"\")","v":""},{"$f":"IFERROR(IF($L$6=\"\",\"\",VLOOKUP($L$6&\"_\"&$B39,data_entry,COLUMNS($B$11:Q38),0)),\"\")","v":""},{"$f":"IFERROR(IF($L$6=\"\",\"\",VLOOKUP($L$6&\"_\"&$B39,data_entry,COLUMNS($B$11:R38),0)),\"\")","v":""},{"$f":"IFERROR(IF($L$6=\"\",\"\",VLOOKUP($L$6&\"_\"&$B39,data_entry,COLUMNS($B$11:S38),0)),\"\")","v":""},{"$f":"IFERROR(IF($L$6=\"\",\"\",VLOOKUP($L$6&\"_\"&$B39,data_entry,COLUMNS($B$11:T38),0)),\"\")","v":""},{"$f":"IFERROR(IF($L$6=\"\",\"\",VLOOKUP($L$6&\"_\"&$B39,data_entry,COLUMNS($B$11:U38),0)),\"\")","v":""},{"$f":"IFERROR(IF($L$6=\"\",\"\",VLOOKUP($L$6&\"_\"&$B39,data_entry,COLUMNS($B$11:V38),0)),\"\")","v":""},{"$f":"IFERROR(IF($L$6=\"\",\"\",VLOOKUP($L$6&\"_\"&$B39,data_entry,COLUMNS($B$11:W38),0)),\"\")","v":""},{"$f":"IFERROR(IF($L$6=\"\",\"\",VLOOKUP($L$6&\"_\"&$B39,data_entry,COLUMNS($B$11:X38),0)),\"\")","v":""},{"$f":"IFERROR(IF($L$6=\"\",\"\",VLOOKUP($L$6&\"_\"&$B39,data_entry,COLUMNS($B$11:Y38),0)),\"\")","v":""},{"$f":"IFERROR(IF($L$6=\"\",\"\",VLOOKUP($L$6&\"_\"&$B39,data_entry,COLUMNS($B$11:Z38),0)),\"\")","v":""},{"$f":"IFERROR(IF($L$6=\"\",\"\",VLOOKUP($L$6&\"_\"&$B39,data_entry,COLUMNS($B$11:AA38),0)),\"\")","v":""},{"$f":"IFERROR(IF($L$6=\"\",\"\",VLOOKUP($L$6&\"_\"&$B39,data_entry,COLUMNS($B$11:AB38),0)),\"\")","v":""},{"$f":"IFERROR(IF($L$6=\"\",\"\",VLOOKUP($L$6&\"_\"&$B39,data_entry,COLUMNS($B$11:AC38),0)),\"\")","v":""},{"$f":"IFERROR(IF($L$6=\"\",\"\",VLOOKUP($L$6&\"_\"&$B39,data_entry,COLUMNS($B$11:AD38),0)),\"\")","v":""},{"$nulls":5},{"$f":"IFERROR(IF($L$6=\"\",\"\",VLOOKUP($L$6&\"_\"&$B39,data_entry,COLUMNS($B$11:AJ38),0)),\"\")","v":""},{"$f":"IFERROR(IF($L$6=\"\",\"\",VLOOKUP($L$6&\"_\"&$B39,data_entry,COLUMNS($B$11:AK38),0)),\"\")","v":""},{"$f":"IFERROR(IF($L$6=\"\",\"\",VLOOKUP($L$6&\"_\"&$B39,data_entry,COLUMNS($B$11:AL38),0)),\"\")","v":""},{"$f":"IFERROR(IF($L$6=\"\",\"\",VLOOKUP($L$6&\"_\"&$B39,data_entry,COLUMNS($B$11:AM38),0)),\"\")","v":""},{"$f":"IFERROR(IF($L$6=\"\",\"\",VLOOKUP($L$6&\"_\"&$B39,data_entry,COLUMNS($B$11:AN38),0)),\"\")","v":""},{"$f":"IFERROR(IF($L$6=\"\",\"\",VLOOKUP($L$6&\"_\"&$B39,data_entry,COLUMNS($B$11:AO38),0)),\"\")","v":""},{"$f":"IFERROR(IF($L$6=\"\",\"\",VLOOKUP($L$6&\"_\"&$B39,data_entry,COLUMNS($B$11:AP38),0)),\"\")","v":""},{"$f":"IFERROR(IF($L$6=\"\",\"\",VLOOKUP($L$6&\"_\"&$B39,data_entry,COLUMNS($B$11:AQ38),0)),\"\")","v":""}]
[0,29,{"$f":"IF(D40=\"\",\"\",ROWS($D$12:D40))","v":""},{"$f":"IFERROR(IF(OR($L$6=\"\",'DATA ENTRY'!C35=\"\"),\"\",VLOOKUP($L$6&\"_\"&$B40,data_entry,COLUMNS($B$11:D39),0)),\"\")","v":""},{"$f":"IFERROR(IF($L$6=\"\",\"\",VLOOKUP($L$6&\"_\"&$B40,data_entry,COLUMNS($B$11:E39),0)),\"\")","v":""},{"$f":"IFERROR(IF($L$6=\"\",\"\",VLOOKUP($L$6&\"_\"&$B40,data_entry,COLUMNS($B$11:F39),0)),\"\")","v":""},{"$f":"IFERROR(IF($L$6=\"\",\"\",VLOOKUP($L$6&\"_\"&$B40,data_entry,COLUMNS($B$11:G39),0)),\"\")","v":""},{"$f":"IFERROR(IF($L$6=\"\",\"\",VLOOKUP($L$6&\"_\"&$B40,data_entry,COLUMNS($B$11:H39),0)),\"\")","v":""},{"$f":"IFERROR(IF($L$6=\"\",\"\",VLOOKUP($L$6&\"_\"&$B40,data_entry,COLUMNS($B$11:I39),0)),\"\")","v":""},{"$f":"IFERROR(IF($L$6=\"\",\"\",VLOOKUP($L$6&\"_\"&$B40,data_entry,COLUMNS($B$11:J39),0)),\"\")","v":""},{"$f":"IFERROR(IF($L$6=\"\",\"\",VLOOKUP($L$6&\"_\"&$B40,data_entry,COLUMNS($B$11:K39),0)),\"\")","v":""},{"$f":"IFERROR(IF($L$6=\"\",\"\",VLOOKUP($L$6&\"_\"&$B40,data_entry,COLUMNS($B$11:L39),0)),\"\")","v":""},{"$f":"IFERROR(IF($L$6=\"\",\"\",VLOOKUP($L$6&\"_\"&$B40,data_entry,COLUMNS($B$11:M39),0)),\"\")","v":""},{"$f":"IFERROR(IF($L$6=\"\",\"\",VLOOKUP($L$6&\"_\"&$B40,data_entry,COLUMNS($B$11:N39),0)),\"\")","v":""},{"$f":"IFERROR(IF($L$6=\"\",\"\",VLOOKUP($L$6&\"_\"&$B40,data_entry,COLUMNS($B$11:O39),0)),\"\")","v":""},{"$f":"IFERROR(IF($L$6=\"\",\"\",VLOOKUP($L$6&\"_\"&$B40,data_entry,COLUMNS($B$11:P39),0)),\"\")","v":""},{"$f":"IFERROR(IF($L$6=\"\",\"\",VLOOKUP($L$6&\"_\"&$B40,data_entry,COLUMNS($B$11:Q39),0)),\"\")","v":""},{"$f":"IFERROR(IF($L$6=\"\",\"\",VLOOKUP($L$6&\"_\"&$B40,data_entry,COLUMNS($B$11:R39),0)),\"\")","v":""},{"$f":"IFERROR(IF($L$6=\"\",\"\",VLOOKUP($L$6&\"_\"&$B40,data_entry,COLUMNS($B$11:S39),0)),\"\")","v":""},{"$f":"IFERROR(IF($L$6=\"\",\"\",VLOOKUP($L$6&\"_\"&$B40,data_entry,COLUMNS($B$11:T39),0)),\"\")","v":""},{"$f":"IFERROR(IF($L$6=\"\",\"\",VLOOKUP($L$6&\"_\"&$B40,data_entry,COLUMNS($B$11:U39),0)),\"\")","v":""},{"$f":"IFERROR(IF($L$6=\"\",\"\",VLOOKUP($L$6&\"_\"&$B40,data_entry,COLUMNS($B$11:V39),0)),\"\")","v":""},{"$f":"IFERROR(IF($L$6=\"\",\"\",VLOOKUP($L$6&\"_\"&$B40,data_entry,COLUMNS($B$11:W39),0)),\"\")","v":""},{"$f":"IFERROR(IF($L$6=\"\",\"\",VLOOKUP($L$6&\"_\"&$B40,data_entry,COLUMNS($B$11:X39),0)),\"\")","v":""},{"$f":"IFERROR(IF($L$6=\"\",\"\",VLOOKUP($L$6&\"_\"&$B40,data_entry,COLUMNS($B$11:Y39),0)),\"\")","v":""},{"$f":"IFERROR(IF($L$6=\"\",\"\",VLOOKUP($L$6&\"_\"&$B40,data_entry,COLUMNS($B$11:Z39),0)),\"\")","v":""},{"$f":"IFERROR(IF($L$6=\"\",\"\",VLOOKUP($L$6&\"_\"&$B40,data_entry,COLUMNS($B$11:AA39),0)),\"\")","v":""},{"$f":"IFERROR(IF($L$6=\"\",\"\",VLOOKUP($L$6&\"_\"&$B40,data_entry,COLUMNS($B$11:AB39),0)),\"\")","v":""},{"$f":"IFERROR(IF($L$6=\"\",\"\",VLOOKUP($L$6&\"_\"&$B40,data_entry,COLUMNS($B$11:AC39),0)),\"\")","v":""},{"$f":"IFERROR(IF($L$6=\"\",\"\",VLOOKUP($L$6&\"_\"&$B40,data_entry,COLUMNS($B$11:AD39),0)),\"\")","v":""},{"$nulls":5},{"$f":"IFERROR(IF($L$6=\"\",\"\",VLOOKUP($L$6&\"_\"&$B40,data_entry,COLUMNS($B$11:AJ39),0)),\"\")","v":""},{"$f":"IFERROR(IF($L$6=\"\",\"\",VLOOKUP($L$6&\"_\"&$B40,data_entry,COLUMNS($B$11:AK39),0)),\"\")","v":""},{"$f":"IFERROR(IF($L$6=\"\",\"\",VLOOKUP($L$6&\"_\"&$B40,data_entry,COLUMNS($B$11:AL39),0)),\"\")","v":""},{"$f":"IFERROR(IF($L$6=\"\",\"\",VLOOKUP($L$6&\"_\"&$B40,data_entry,COLUMNS($B$11:AM39),0)),\"\")","v":""},{"$f":"IFERROR(IF($L$6=\"\",\"\",VLOOKUP($L$6&\"_\"&$B40,data_entry,COLUMNS($B$11:AN39),0)),\"\")","v":""},{"$f":"IFERROR(IF($L$6=\"\",\"\",VLOOKUP($L$6&\"_\"&$B40,data_entry,COLUMNS($B$11:AO39),0)),\"\")","v":""},{"$f":"IFERROR(IF($L$6=\"\",\"\",VLOOKUP($L$6&\"_\"&$B40,data_entry,COLUMNS($B$11:AP39),0)),\"\")","v":""},{"$f":"IFERROR(IF($L$6=\"\",\"\",VLOOKUP($L$6&\"_\"&$B40,data_entry,COLUMNS($B$11:AQ39),0)),\"\")","v":""}]
[0,30,{"$f":"IF(D41=\"\",\"\",ROWS($D$12:D41))","v":""},{"$f":"IFERROR(IF(OR($L$6=\"\",'DATA ENTRY'!C36=\"\"),\"\",VLOOKUP($L$6&\"_\"&$B41,data_entry,COLUMNS($B$11:D40),0)),\"\")","v":""},{"$f":"IFERROR(IF($L$6=\"\",\"\",VLOOKUP($L$6&\"_\"&$B41,data_entry,COLUMNS($B$11:E40),0)),\"\")","v":""},{"$f":"IFERROR(IF($L$6=\"\",\"\",VLOOKUP($L$6&\"_\"&$B41,data_entry,COLUMNS($B$11:F40),0)),\"\")","v":""},{"$f":"IFERROR(IF($L$6=\"\",\"\",VLOOKUP($L$6&\"_\"&$B41,data_entry,COLUMNS($B$11:G40),0)),\"\")","v":""},{"$f":"IFERROR(IF($L$6=\"\",\"\",VLOOKUP($L$6&\"_\"&$B41,data_entry,COLUMNS($B$11:H40),0)),\"\")","v":""},{"$f":"IFERROR(IF($L$6=\"\",\"\",VLOOKUP($L$6&\"_\"&$B41,data_entry,COLUMNS($B$11:I40),0)),\"\")","v":""},{"$f":"IFERROR(IF($L$6=\"\",\"\",VLOOKUP($L$6&\"_\"&$B41,data_entry,COLUMNS($B$11:J40),0)),\"\")","v":""},{"$f":"IFERROR(IF($L$6=\"\",\"\",VLOOKUP($L$6&\"_\"&$B41,data_entry,COLUMNS($B$11:K40),0)),\"\")","v":""},{"$f":"IFERROR(IF($L$6=\"\",\"\",VLOOKUP($L$6&\"_\"&$B41,data_entry,COLUMNS($B$11:L40),0)),\"\")","v":""},{"$f":"IFERROR(IF($L$6=\"\",\"\",VLOOKUP($L$6&\"_\"&$B41,data_entry,COLUMNS($B$11:M40),0)),\"\")","v":""},{"$f":"IFERROR(IF($L$6=\"\",\"\",VLOOKUP($L$6&\"_\"&$B41,data_entry,COLUMNS($B$11:N40),0)),\"\")","v":""},{"$f":"IFERROR(IF($L$6=\"\",\"\",VLOOKUP($L$6&\"_\"&$B41,data_entry,COLUMNS($B$11:O40),0)),\"\")","v":""},{"$f":"IFERROR(IF($L$6=\"\",\"\",VLOOKUP($L$6&\"_\"&$B41,data_entry,COLUMNS($B$11:P40),0)),\"\")","v":""},{"$f":"IFERROR(IF($L$6=\"\",\"\",VLOOKUP($L$6&\"_\"&$B41,data_entry,COLUMNS($B$11:Q40),0)),\"\")","v":""},{"$f":"IFERROR(IF($L$6=\"\",\"\",VLOOKUP($L$6&\"_\"&$B41,data_entry,COLUMNS($B$11:R40),0)),\"\")","v":""},{"$f":"IFERROR(IF($L$6=\"\",\"\",VLOOKUP($L$6&\"_\"&$B41,data_entry,COLUMNS($B$11:S40),0)),\"\")","v":""},{"$f":"IFERROR(IF($L$6=\"\",\"\",VLOOKUP($L$6&\"_\"&$B41,data_entry,COLUMNS($B$11:T40),0)),\"\")","v":""},{"$f":"IFERROR(IF($L$6=\"\",\"\",VLOOKUP($L$6&\"_\"&$B41,data_entry,COLUMNS($B$11:U40),0)),\"\")","v":""},{"$f":"IFERROR(IF($L$6=\"\",\"\",VLOOKUP($L$6&\"_\"&$B41,data_entry,COLUMNS($B$11:V40),0)),\"\")","v":""},{"$f":"IFERROR(IF($L$6=\"\",\"\",VLOOKUP($L$6&\"_\"&$B41,data_entry,COLUMNS($B$11:W40),0)),\"\")","v":""},{"$f":"IFERROR(IF($L$6=\"\",\"\",VLOOKUP($L$6&\"_\"&$B41,data_entry,COLUMNS($B$11:X40),0)),\"\")","v":""},{"$f":"IFERROR(IF($L$6=\"\",\"\",VLOOKUP($L$6&\"_\"&$B41,data_entry,COLUMNS($B$11:Y40),0)),\"\")","v":""},{"$f":"IFERROR(IF($L$6=\"\",\"\",VLOOKUP($L$6&\"_\"&$B41,data_entry,COLUMNS($B$11:Z40),0)),\"\")","v":""},{"$f":"IFERROR(IF($L$6=\"\",\"\",VLOOKUP($L$6&\"_\"&$B41,data_entry,COLUMNS($B$11:AA40),0)),\"\")","v":""},{"$f":"IFERROR(IF($L$6=\"\",\"\",VLOOKUP($L$6&\"_\"&$B41,data_entry,COLUMNS($B$11:AB40),0)),\"\")","v":""},{"$f":"IFERROR(IF($L$6=\"\",\"\",VLOOKUP($L$6&\"_\"&$B41,data_entry,COLUMNS($B$11:AC40),0)),\"\")","v":""},{"$f":"IFERROR(IF($L$6=\"\",\"\",VLOOKUP($L$6&\"_\"&$B41,data_entry,COLUMNS($B$11:AD40),0)),\"\")","v":""},{"$nulls":5},{"$f":"IFERROR(IF($L$6=\"\",\"\",VLOOKUP($L$6&\"_\"&$B41,data_entry,COLUMNS($B$11:AJ40),0)),\"\")","v":""},{"$f":"IFERROR(IF($L$6=\"\",\"\",VLOOKUP($L$6&\"_\"&$B41,data_entry,COLUMNS($B$11:AK40),0)),\"\")","v":""},{"$f":"IFERROR(IF($L$6=\"\",\"\",VLOOKUP($L$6&\"_\"&$B41,data_entry,COLUMNS($B$11:AL40),0)),\"\")","v":""},{"$f":"IFERROR(IF($L$6=\"\",\"\",VLOOKUP($L$6&\"_\"&$B41,data_entry,COLUMNS($B$11:AM40),0)),\"\")","v":""},{"$f":"IFERROR(IF($L$6=\"\",\"\",VLOOKUP($L$6&\"_\"&$B41,data_entry,COLUMNS($B$11:AN40),0)),\"\")","v":""},{"$f":"IFERROR(IF($L$6=\"\",\"\",VLOOKUP($L$6&\"_\"&$B41,data_entry,COLUMNS($B$11:AO40),0)),\"\")","v":""},{"$f":"IFERROR(IF($L$6=\"\",\"\",VLOOKUP($L$6&\"_\"&$B41,data_entry,COLUMNS($B$11:AP40),0)),\"\")","v":""},{"$f":"IFERROR(IF($L$6=\"\",\"\",VLOOKUP($L$6&\"_\"&$B41,data_entry,COLUMNS($B$11:AQ40),0)),\"\")","v":""}]
[0,31,{"$f":"IF(D42=\"\",\"\",ROWS($D$12:D42))","v":""},{"$f":"IFERROR(IF(OR($L$6=\"\",'DATA ENTRY'!C37=\"\"),\"\",VLOOKUP($L$6&\"_\"&$B42,data_entry,COLUMNS($B$11:D41),0)),\"\")","v":""},{"$f":"IFERROR(IF($L$6=\"\",\"\",VLOOKUP($L$6&\"_\"&$B42,data_entry,COLUMNS($B$11:E41),0)),\"\")","v":""},{"$f":"IFERROR(IF($L$6=\"\",\"\",VLOOKUP($L$6&\"_\"&$B42,data_entry,COLUMNS($B$11:F41),0)),\"\")","v":""},{"$f":"IFERROR(IF($L$6=\"\",\"\",VLOOKUP($L$6&\"_\"&$B42,data_entry,COLUMNS($B$11:G41),0)),\"\")","v":""},{"$f":"IFERROR(IF($L$6=\"\",\"\",VLOOKUP($L$6&\"_\"&$B42,data_entry,COLUMNS($B$11:H41),0)),\"\")","v":""},{"$f":"IFERROR(IF($L$6=\"\",\"\",VLOOKUP($L$6&\"_\"&$B42,data_entry,COLUMNS($B$11:I41),0)),\"\")","v":""},{"$f":"IFERROR(IF($L$6=\"\",\"\",VLOOKUP($L$6&\"_\"&$B42,data_entry,COLUMNS($B$11:J41),0)),\"\")","v":""},{"$f":"IFERROR(IF($L$6=\"\",\"\",VLOOKUP($L$6&\"_\"&$B42,data_entry,COLUMNS($B$11:K41),0)),\"\")","v":""},{"$f":"IFERROR(IF($L$6=\"\",\"\",VLOOKUP($L$6&\"_\"&$B42,data_entry,COLUMNS($B$11:L41),0)),\"\")","v":""},{"$f":"IFERROR(IF($L$6=\"\",\"\",VLOOKUP($L$6&\"_\"&$B42,data_entry,COLUMNS($B$11:M41),0)),\"\")","v":""},{"$f":"IFERROR(IF($L$6=\"\",\"\",VLOOKUP($L$6&\"_\"&$B42,data_entry,COLUMNS($B$11:N41),0)),\"\")","v":""},{"$f":"IFERROR(IF($L$6=\"\",\"\",VLOOKUP($L$6&\"_\"&$B42,data_entry,COLUMNS($B$11:O41),0)),\"\")","v":""},{"$f":"IFERROR(IF($L$6=\"\",\"\",VLOOKUP($L$6&\"_\"&$B42,data_entry,COLUMNS($B$11:P41),0)),\"\")","v":""},{"$f":"IFERROR(IF($L$6=\"\",\"\",VLOOKUP($L$6&\"_\"&$B42,data_entry,COLUMNS($B$11:Q41),0)),\"\")","v":""},{"$f":"IFERROR(IF($L$6=\"\",\"\",VLOOKUP($L$6&\"_\"&$B42,data_entry,COLUMNS($B$11:R41),0)),\"\")","v":""},{"$f":"IFERROR(IF($L$6=\"\",\"\",VLOOKUP($L$6&\"_\"&$B42,data_entry,COLUMNS($B$11:S41),0)),\"\")","v":""},{"$f":"IFERROR(IF($L$6=\"\",\"\",VLOOKUP($L$6&\"_\"&$B42,data_entry,COLUMNS($B$11:T41),0)),\"\")","v":""},{"$f":"IFERROR(IF($L$6=\"\",\"\",VLOOKUP($L$6&\"_\"&$B42,data_entry,COLUMNS($B$11:U41),0)),\"\")","v":""},{"$f":"IFERROR(IF($L$6=\"\",\"\",VLOOKUP($L$6&\"_\"&$B42,data_entry,COLUMNS($B$11:V41),0)),\"\")","v":""},{"$f":"IFERROR(IF($L$6=\"\",\"\",VLOOKUP($L$6&\"_\"&$B42,data_entry,COLUMNS($B$11:W41),0)),\"\")","v":""},{"$f":"IFERROR(IF($L$6=\"\",\"\",VLOOKUP($L$6&\"_\"&$B42,data_entry,COLUMNS($B$11:X41),0)),\"\")","v":""},{"$f":"IFERROR(IF($L$6=\"\",\"\",VLOOKUP($L$6&\"_\"&$B42,data_entry,COLUMNS($B$11:Y41),0)),\"\")","v":""},{"$f":"IFERROR(IF($L$6=\"\",\"\",VLOOKUP($L$6&\"_\"&$B42,data_entry,COLUMNS($B$11:Z41),0)),\"\")","v":""},{"$f":"IFERROR(IF($L$6=\"\",\"\",VLOOKUP($L$6&\"_\"&$B42,data_entry,COLUMNS($B$11:AA41),0)),\"\")","v":""},{"$f":"IFERROR(IF($L$6=\"\",\"\",VLOOKUP($L$6&\"_\"&$B42,data_entry,COLUMNS($B$11:AB41),0)),\"\")","v":""},{"$f":"IFERROR(IF($L$6=\"\",\"\",VLOOKUP($L$6&\"_\"&$B42,data_entry,COLUMNS($B$11:AC41),0)),\"\")","v":""},{"$f":"IFERROR(IF($L$6=\"\",\"\",VLOOKUP($L$6&\"_\"&$B42,data_entry,COLUMNS($B$11:AD41),0)),\"\")","v":""},{"$nulls":5},{"$f":"IFERROR(IF($L$6=\"\",\"\",VLOOKUP($L$6&\"_\"&$B42,data_entry,COLUMNS($B$11:AJ41),0)),\"\")","v":""},{"$f":"IFERROR(IF($L$6=\"\",\"\",VLOOKUP($L$6&\"_\"&$B42,data_entry,COLUMNS($B$11:AK41),0)),\"\")","v":""},{"$f":"IFERROR(IF($L$6=\"\",\"\",VLOOKUP($L$6&\"_\"&$B42,data_entry,COLUMNS($B$11:AL41),0)),\"\")","v":""},{"$f":"IFERROR(IF($L$6=\"\",\"\",VLOOKUP($L$6&\"_\"&$B42,data_entry,COLUMNS($B$11:AM41),0)),\"\")","v":""},{"$f":"IFERROR(IF($L$6=\"\",\"\",VLOOKUP($L$6&\"_\"&$B42,data_entry,COLUMNS($B$11:AN41),0)),\"\")","v":""},{"$f":"IFERROR(IF($L$6=\"\",\"\",VLOOKUP($L$6&\"_\"&$B42,data_entry,COLUMNS($B$11:AO41),0)),\"\")","v":""},{"$f":"IFERROR(IF($L$6=\"\",\"\",VLOOKUP($L$6&\"_\"&$B42,data_entry,COLUMNS($B$11:AP41),0)),\"\")","v":""},{"$f":"IFERROR(IF($L$6=\"\",\"\",VLOOKUP($L$6&\"_\"&$B42,data_entry,COLUMNS($B$11:AQ41),0)),\"\")","v":""}]
[0,32,{"$f":"IF(D43=\"\",\"\",ROWS($D$12:D43))","v":""},{"$f":"IFERROR(IF(OR($L$6=\"\",'DATA ENTRY'!C38=\"\"),\"\",VLOOKUP($L$6&\"_\"&$B43,data_entry,COLUMNS($B$11:D42),0)),\"\")","v":""},{"$f":"IFERROR(IF($L$6=\"\",\"\",VLOOKUP($L$6&\"_\"&$B43,data_entry,COLUMNS($B$11:E42),0)),\"\")","v":""},{"$f":"IFERROR(IF($L$6=\"\",\"\",VLOOKUP($L$6&\"_\"&$B43,data_entry,COLUMNS($B$11:F42),0)),\"\")","v":""},{"$f":"IFERROR(IF($L$6=\"\",\"\",VLOOKUP($L$6&\"_\"&$B43,data_entry,COLUMNS($B$11:G42),0)),\"\")","v":""},{"$f":"IFERROR(IF($L$6=\"\",\"\",VLOOKUP($L$6&\"_\"&$B43,data_entry,COLUMNS($B$11:H42),0)),\"\")","v":""},{"$f":"IFERROR(IF($L$6=\"\",\"\",VLOOKUP($L$6&\"_\"&$B43,data_entry,COLUMNS($B$11:I42),0)),\"\")","v":""},{"$f":"IFERROR(IF($L$6=\"\",\"\",VLOOKUP($L$6&\"_\"&$B43,data_entry,COLUMNS($B$11:J42),0)),\"\")","v":""},{"$f":"IFERROR(IF($L$6=\"\",\"\",VLOOKUP($L$6&\"_\"&$B43,data_entry,COLUMNS($B$11:K42),0)),\"\")","v":""},{"$f":"IFERROR(IF($L$6=\"\",\"\",VLOOKUP($L$6&\"_\"&$B43,data_entry,COLUMNS($B$11:L42),0)),\"\")","v":""},{"$f":"IFERROR(IF($L$6=\"\",\"\",VLOOKUP($L$6&\"_\"&$B43,data_entry,COLUMNS($B$11:M42),0)),\"\")","v":""},{"$f":"IFERROR(IF($L$6=\"\",\"\",VLOOKUP($L$6&\"_\"&$B43,data_entry,COLUMNS($B$11:N42),0)),\"\")","v":""},{"$f":"IFERROR(IF($L$6=\"\",\"\",VLOOKUP($L$6&\"_\"&$B43,data_entry,COLUMNS($B$11:O42),0)),\"\")","v":""},{"$f":"IFERROR(IF($L$6=\"\",\"\",VLOOKUP($L$6&\"_\"&$B43,data_entry,COLUMNS($B$11:P42),0)),\"\")","v":""},{"$f":"IFERROR(IF($L$6=\"\",\"\",VLOOKUP($L$6&\"_\"&$B43,data_entry,COLUMNS($B$11:Q42),0)),\"\")","v":""},{"$f":"IFERROR(IF($L$6=\"\",\"\",VLOOKUP($L$6&\"_\"&$B43,data_entry,COLUMNS($B$11:R42),0)),\"\")","v":""},{"$f":"IFERROR(IF($L$6=\"\",\"\",VLOOKUP($L$6&\"_\"&$B43,data_entry,COLUMNS($B$11:S42),0)),\"\")","v":""},{"$f":"IFERROR(IF($L$6=\"\",\"\",VLOOKUP($L$6&\"_\"&$B43,data_entry,COLUMNS($B$11:T42),0)),\"\")","v":""},{"$f":"IFERROR(IF($L$6=\"\",\"\",VLOOKUP($L$6&\"_\"&$B43,data_entry,COLUMNS($B$11:U42),0)),\"\")","v":""},{"$f":"IFERROR(IF($L$6=\"\",\"\",VLOOKUP($L$6&\"_\"&$B43,data_entry,COLUMNS($B$11:V42),0)),\"\")","v":""},{"$f":"IFERROR(IF($L$6=\"\",\"\",VLOOKUP($L$6&\"_\"&$B43,data_entry,COLUMNS($B$11:W42),0)),\"\")","v":""},{"$f":"IFERROR(IF($L$6=\"\",\"\",VLOOKUP($L$6&\"_\"&$B43,data_entry,COLUMNS($B$11:X42),0)),\"\")","v":""},{"$f":"IFERROR(IF($L$6=\"\",\"\",VLOOKUP($L$6&\"_\"&$B43,data_entry,COLUMNS($B$11:Y42),0)),\"\")","v":""},{"$f":"IFERROR(IF($L$6=\"\",\"\",VLOOKUP($L$6&\"_\"&$B43,data_entry,COLUMNS($B$11:Z42),0)),\"\")","v":""},{"$f":"IFERROR(IF($L$6=\"\",\"\",VLOOKUP($L$6&\"_\"&$B43,data_entry,COLUMNS($B$11:AA42),0)),\"\")","v":""},{"$f":"IFERROR(IF($L$6=\"\",\"\",VLOOKUP($L$6&\"_\"&$B43,data_entry,COLUMNS($B$11:AB42),0)),\"\")","v":""},{"$f":"IFERROR(IF($L$6=\"\",\"\",VLOOKUP($L$6&\"_\"&$B43,data_entry,COLUMNS($B$11:AC42),0)),\"\")","v":""},{"$f":"IFERROR(IF($L$6=\"\",\"\",VLOOKUP($L$6&\"_\"&$B43,data_entry,COLUMNS($B$11:AD42),0)),\"\")","v":""},{"$nulls":5},{"$f":"IFERROR(IF($L$6=\"\",\"\",VLOOKUP($L$6&\"_\"&$B43,data_entry,COLUMNS($B$11:AJ42),0)),\"\")","v":""},{"$f":"IFERROR(IF($L$6=\"\",\"\",VLOOKUP($L$6&\"_\"&$B43,data_entry,COLUMNS($B$11:AK42),0)),\"\")","v":""},{"$f":"IFERROR(IF($L$6=\"\",\"\",VLOOKUP($L$6&\"_\"&$B43,data_entry,COLUMNS($B$11:AL42),0)),\"\")","v":""},{"$f":"IFERROR(IF($L$6=\"\",\"\",VLOOKUP($L$6&\"_\"&$B43,data_entry,COLUMNS($B$11:AM42),0)),\"\")","v":""},{"$f":"IFERROR(IF($L$6=\"\",\"\",VLOOKUP($L$6&\"_\"&$B43,data_entry,COLUMNS($B$11:AN42),0)),\"\")","v":""},{"$f":"IFERROR(IF($L$6=\"\",\"\",VLOOKUP($L$6&\"_\"&$B43,data_entry,COLUMNS($B$11:AO42),0)),\"\")","v":""},{"$f":"IFERROR(IF($L$6=\"\",\"\",VLOOKUP($L$6&\"_\"&$B43,data_entry,COLUMNS($B$11:AP42),0)),\"\")","v":""},{"$f":"IFERROR(IF($L$6=\"\",\"\",VLOOKUP($L$6&\"_\"&$B43,data_entry,COLUMNS($B$11:AQ42),0)),\"\")","v":""}]
[0,33,{"$f":"IF(D44=\"\",\"\",ROWS($D$12:D44))","v":""},{"$f":"IFERROR(IF(OR($L$6=\"\",'DATA ENTRY'!C39=\"\"),\"\",VLOOKUP($L$6&\"_\"&$B44,data_entry,COLUMNS($B$11:D43),0)),\"\")","v":""},{"$f":"IFERROR(IF($L$6=\"\",\"\",VLOOKUP($L$6&\"_\"&$B44,data_entry,COLUMNS($B$11:E43),0)),\"\")","v":""},{"$f":"IFERROR(IF($L$6=\"\",\"\",VLOOKUP($L$6&\"_\"&$B44,data_entry,COLUMNS($B$11:F43),0)),\"\")","v":""},{"$f":"IFERROR(IF($L$6=\"\",\"\",VLOOKUP($L$6&\"_\"&$B44,data_entry,COLUMNS($B$11:G43),0)),\"\")","v":""},{"$f":"IFERROR(IF($L$6=\"\",\"\",VLOOKUP($L$6&\"_\"&$B44,data_entry,COLUMNS($B$11:H43),0)),\"\")","v":""},{"$f":"IFERROR(IF($L$6=\"\",\"\",VLOOKUP($L$6&\"_\"&$B44,data_entry,COLUMNS($B$11:I43),0)),\"\")","v":""},{"$f":"IFERROR(IF($L$6=\"\",\"\",VLOOKUP($L$6&\"_\"&$B44,data_entry,COLUMNS($B$11:J43),0)),\"\")","v":""},{"$f":"IFERROR(IF($L$6=\"\",\"\",VLOOKUP($L$6&\"_\"&$B44,data_entry,COLUMNS($B$11:K43),0)),\"\")","v":""},{"$f":"IFERROR(IF($L$6=\"\",\"\",VLOOKUP($L$6&\"_\"&$B44,data_entry,COLUMNS($B$11:L43),0)),\"\")","v":""},{"$f":"IFERROR(IF($L$6=\"\",\"\",VLOOKUP($L$6&\"_\"&$B44,data_entry,COLUMNS($B$11:M43),0)),\"\")","v":""},{"$f":"IFERROR(IF($L$6=\"\",\"\",VLOOKUP($L$6&\"_\"&$B44,data_entry,COLUMNS($B$11:N43),0)),\"\")","v":""},{"$f":"IFERROR(IF($L$6=\"\",\"\",VLOOKUP($L$6&\"_\"&$B44,data_entry,COLUMNS($B$11:O43),0)),\"\")","v":""},{"$f":"IFERROR(IF($L$6=\"\",\"\",VLOOKUP($L$6&\"_\"&$B44,data_entry,COLUMNS($B$11:P43),0)),\"\")","v":""},{"$f":"IFERROR(IF($L$6=\"\",\"\",VLOOKUP($L$6&\"_\"&$B44,data_entry,COLUMNS($B$11:Q43),0)),\"\")","v":""},{"$f":"IFERROR(IF($L$6=\"\",\"\",VLOOKUP($L$6&\"_\"&$B44,data_entry,COLUMNS($B$11:R43),0)),\"\")","v":""},{"$f":"IFERROR(IF($L$6=\"\",\"\",VLOOKUP($L$6&\"_\"&$B44,data_entry,COLUMNS($B$11:S43),0)),\"\")","v":""},{"$f":"IFERROR(IF($L$6=\"\",\"\",VLOOKUP($L$6&\"_\"&$B44,data_entry,COLUMNS($B$11:T43),0)),\"\")","v":""},{"$f":"IFERROR(IF($L$6=\"\",\"\",VLOOKUP($L$6&\"_\"&$B44,data_entry,COLUMNS($B$11:U43),0)),\"\")","v":""},{"$f":"IFERROR(IF($L$6=\"\",\"\",VLOOKUP($L$6&\"_\"&$B44,data_entry,COLUMNS($B$11:V43),0)),\"\")","v":""},{"$f":"IFERROR(IF($L$6=\"\",\"\",VLOOKUP($L$6&\"_\"&$B44,data_entry,COLUMNS($B$11:W43),0)),\"\")","v":""},{"$f":"IFERROR(IF($L$6=\"\",\"\",VLOOKUP($L$6&\"_\"&$B44,data_entry,COLUMNS($B$11:X43),0)),\"\")","v":""},{"$f":"IFERROR(IF($L$6=\"\",\"\",VLOOKUP($L$6&\"_\"&$B44,data_entry,COLUMNS($B$11:Y43),0)),\"\")","v":""},{"$f":"IFERROR(IF($L$6=\"\",\"\",VLOOKUP($L$6&\"_\"&$B44,data_entry,COLUMNS($B$11:Z43),0)),\"\")","v":""},{"$f":"IFERROR(IF($L$6=\"\",\"\",VLOOKUP($L$6&\"_\"&$B44,data_entry,COLUMNS($B$11:AA43),0)),\"\")","v":""},{"$f":"IFERROR(IF($L$6=\"\",\"\",VLOOKUP($L$6&\"_\"&$B44,data_entry,COLUMNS($B$11:AB43),0)),\"\")","v":""},{"$f":"IFERROR(IF($L$6=\"\",\"\",VLOOKUP($L$6&\"_\"&$B44,data_entry,COLUMNS($B$11:AC43),0)),\"\")","v":""},{"$f":"IFERROR(IF($L$6=\"\",\"\",VLOOKUP($L$6&\"_\"&$B44,data_entry,COLUMNS($B$11:AD43),0)),\"\")","v":""},{"$nulls":5},{"$f":"IFERROR(IF($L$6=\"\",\"\",VLOOKUP($L$6&\"_\"&$B44,data_entry,COLUMNS($B$11:AJ43),0)),\"\")","v":""},{"$f":"IFERROR(IF($L$6=\"\",\"\",VLOOKUP($L$6&\"_\"&$B44,data_entry,COLUMNS($B$11:AK43),0)),\"\")","v":""},{"$f":"IFERROR(IF($L$6=\"\",\"\",VLOOKUP($L$6&\"_\"&$B44,data_entry,COLUMNS($B$11:AL43),0)),\"\")","v":""},{"$f":"IFERROR(IF($L$6=\"\",\"\",VLOOKUP($L$6&\"_\"&$B44,data_entry,COLUMNS($B$11:AM43),0)),\"\")","v":""},{"$f":"IFERROR(IF($L$6=\"\",\"\",VLOOKUP($L$6&\"_\"&$B44,data_entry,COLUMNS($B$11:AN43),0)),\"\")","v":""},{"$f":"IFERROR(IF($L$6=\"\",\"\",VLOOKUP($L$6&\"_\"&$B44,data_entry,COLUMNS($B$11:AO43),0)),\"\")","v":""},{"$f":"IFERROR(IF($L$6=\"\",\"\",VLOOKUP($L$6&\"_\"&$B44,data_entry,COLUMNS($B$11:AP43),0)),\"\")","v":""},{"$f":"IFERROR(IF($L$6=\"\",\"\",VLOOKUP($L$6&\"_\"&$B44,data_entry,COLUMNS($B$11:AQ43),0)),\"\")","v":""}]
[0,34,{"$f":"IF(D45=\"\",\"\",ROWS($D$12:D45))","v":""},{"$f":"IFERROR(IF(OR($L$6=\"\",'DATA ENTRY'!C40=\"\"),\"\",VLOOKUP($L$6&\"_\"&$B45,data_entry,COLUMNS($B$11:D44),0)),\"\")","v":""},{"$f":"IFERROR(IF($L$6=\"\",\"\",VLOOKUP($L$6&\"_\"&$B45,data_entry,COLUMNS($B$11:E44),0)),\"\")","v":""},{"$f":"IFERROR(IF($L$6=\"\",\"\",VLOOKUP($L$6&\"_\"&$B45,data_entry,COLUMNS($B$11:F44),0)),\"\")","v":""},{"$f":"IFERROR(IF($L$6=\"\",\"\",VLOOKUP($L$6&\"_\"&$B45,data_entry,COLUMNS($B$11:G44),0)),\"\")","v":""},{"$f":"IFERROR(IF($L$6=\"\",\"\",VLOOKUP($L$6&\"_\"&$B45,data_entry,COLUMNS($B$11:H44),0)),\"\")","v":""},{"$f":"IFERROR(IF($L$6=\"\",\"\",VLOOKUP($L$6&\"_\"&$B45,data_entry,COLUMNS($B$11:I44),0)),\"\")","v":""},{"$f":"IFERROR(IF($L$6=\"\",\"\",VLOOKUP($L$6&\"_\"&$B45,data_entry,COLUMNS($B$11:J44),0)),\"\")","v":""},{"$f":"IFERROR(IF($L$6=\"\",\"\",VLOOKUP($L$6&\"_\"&$B45,data_entry,COLUMNS($B$11:K44),0)),\"\")","v":""},{"$f":"IFERROR(IF($L$6=\"\",\"\",VLOOKUP($L$6&\"_\"&$B45,data_entry,COLUMNS($B$11:L44),0)),\"\")","v":""},{"$f":"IFERROR(IF($L$6=\"\",\"\",VLOOKUP($L$6&\"_\"&$B45,data_entry,COLUMNS($B$11:M44),0)),\"\")","v":""},{"$f":"IFERROR(IF($L$6=\"\",\"\",VLOOKUP($L$6&\"_\"&$B45,data_entry,COLUMNS($B$11:N44),0)),\"\")","v":""},{"$f":"IFERROR(IF($L$6=\"\",\"\",VLOOKUP($L$6&\"_\"&$B45,data_entry,COLUMNS($B$11:O44),0)),\"\")","v":""},{"$f":"IFERROR(IF($L$6=\"\",\"\",VLOOKUP($L$6&\"_\"&$B45,data_entry,COLUMNS($B$11:P44),0)),\"\")","v":""},{"$f":"IFERROR(IF($L$6=\"\",\"\",VLOOKUP($L$6&\"_\"&$B45,data_entry,COLUMNS($B$11:Q44),0)),\"\")","v":""},{"$f":"IFERROR(IF($L$6=\"\",\"\",VLOOKUP($L$6&\"_\"&$B45,data_entry,COLUMNS($B$11:R44),0)),\"\")","v":""},{"$f":"IFERROR(IF($L$6=\"\",\"\",VLOOKUP($L$6&\"_\"&$B45,data_entry,COLUMNS($B$11:S44),0)),\"\")","v":""},{"$f":"IFERROR(IF($L$6=\"\",\"\",VLOOKUP($L$6&\"_\"&$B45,data_entry,COLUMNS($B$11:T44),0)),\"\")","v":""},{"$f":"IFERROR(IF($L$6=\"\",\"\",VLOOKUP($L$6&\"_\"&$B45,data_entry,COLUMNS($B$11:U44),0)),\"\")","v":""},{"$f":"IFERROR(IF($L$6=\"\",\"\",VLOOKUP($L$6&\"_\"&$B45,data_entry,COLUMNS($B$11:V44),0)),\"\")","v":""},{"$f":"IFERROR(IF($L$6=\"\",\"\",VLOOKUP($L$6&\"_\"&$B45,data_entry,COLUMNS($B$11:W44),0)),\"\")","v":""},{"$f":"IFERROR(IF($L$6=\"\",\"\",VLOOKUP($L$6&\"_\"&$B45,data_entry,COLUMNS($B$11:X44),0)),\"\")","v":""},{"$f":"IFERROR(IF($L$6=\"\",\"\",VLOOKUP($L$6&\"_\"&$B45,data_entry,COLUMNS($B$11:Y44),0)),\"\")","v":""},{"$f":"IFERROR(IF($L$6=\"\",\"\",VLOOKUP($L$6&\"_\"&$B45,data_entry,COLUMNS($B$11:Z44),0)),\"\")","v":""},{"$f":"IFERROR(IF($L$6=\"\",\"\",VLOOKUP($L$6&\"_\"&$B45,data_entry,COLUMNS($B$11:AA44),0)),\"\")","v":""},{"$f":"IFERROR(IF($L$6=\"\",\"\",VLOOKUP($L$6&\"_\"&$B45,data_entry,COLUMNS($B$11:AB44),0)),\"\")","v":""},{"$f":"IFERROR(IF($L$6=\"\",\"\",VLOOKUP($L$6&\"_\"&$B45,data_entry,COLUMNS($B$11:AC44),0)),\"\")","v":""},{"$f":"IFERROR(IF($L$6=\"\",\"\",VLOOKUP($L$6&\"_\"&$B45,data_entry,COLUMNS($B$11:AD44),0)),\"\")","v":""},{"$nulls":5},{"$f":"IFERROR(IF($L$6=\"\",\"\",VLOOKUP($L$6&\"_\"&$B45,data_entry,COLUMNS($B$11:AJ44),0)),\"\")","v":""},{"$f":"IFERROR(IF($L$6=\"\",\"\",VLOOKUP($L$6&\"_\"&$B45,data_entry,COLUMNS($B$11:AK44),0)),\"\")","v":""},{"$f":"IFERROR(IF($L$6=\"\",\"\",VLOOKUP($L$6&\"_\"&$B45,data_entry,COLUMNS($B$11:AL44),0)),\"\")","v":""},{"$f":"IFERROR(IF($L$6=\"\",\"\",VLOOKUP($L$6&\"_\"&$B45,data_entry,COLUMNS($B$11:AM44),0)),\"\")","v":""},{"$f":"IFERROR(IF($L$6=\"\",\"\",VLOOKUP($L$6&\"_\"&$B45,data_entry,COLUMNS($B$11:AN44),0)),\"\")","v":""},{"$f":"IFERROR(IF($L$6=\"\",\"\",VLOOKUP($L$6&\"_\"&$B45,data_entry,COLUMNS($B$11:AO44),0)),\"\")","v":""},{"$f":"IFERROR(IF($L$6=\"\",\"\",VLOOKUP($L$6&\"_\"&$B45,data_entry,COLUMNS($B$11:AP44),0)),\"\")","v":""},{"$f":"IFERROR(IF($L$6=\"\",\"\",VLOOKUP($L$6&\"_\"&$B45,data_entry,COLUMNS($B$11:AQ44),0)),\"\")","v":""}]
[0,35,{"$f":"IF(D46=\"\",\"\",ROWS($D$12:D46))","v":""},{"$f":"IFERROR(IF(OR($L$6=\"\",'DATA ENTRY'!C41=\"\"),\"\",VLOOKUP($L$6&\"_\"&$B46,data_entry,COLUMNS($B$11:D45),0)),\"\")","v":""},{"$f":"IFERROR(IF($L$6=\"\",\"\",VLOOKUP($L$6&\"_\"&$B46,data_entry,COLUMNS($B$11:E45),0)),\"\")","v":""},{"$f":"IFERROR(IF($L$6=\"\",\"\",VLOOKUP($L$6&\"_\"&$B46,data_entry,COLUMNS($B$11:F45),0)),\"\")","v":""},{"$f":"IFERROR(IF($L$6=\"\",\"\",VLOOKUP($L$6&\"_\"&$B46,data_entry,COLUMNS($B$11:G45),0)),\"\")","v":""},{"$f":"IFERROR(IF($L$6=\"\",\"\",VLOOKUP($L$6&\"_\"&$B46,data_entry,COLUMNS($B$11:H45),0)),\"\")","v":""},{"$f":"IFERROR(IF($L$6=\"\",\"\",VLOOKUP($L$6&\"_\"&$B46,data_entry,COLUMNS($B$11:I45),0)),\"\")","v":""},{"$f":"IFERROR(IF($L$6=\"\",\"\",VLOOKUP($L$6&\"_\"&$B46,data_entry,COLUMNS($B$11:J45),0)),\"\")","v":""},{"$f":"IFERROR(IF($L$6=\"\",\"\",VLOOKUP($L$6&\"_\"&$B46,data_entry,COLUMNS($B$11:K45),0)),\"\")","v":""},{"$f":"IFERROR(IF($L$6=\"\",\"\",VLOOKUP($L$6&\"_\"&$B46,data_entry,COLUMNS($B$11:L45),0)),\"\")","v":""},{"$f":"IFERROR(IF($L$6=\"\",\"\",VLOOKUP($L$6&\"_\"&$B46,data_entry,COLUMNS($B$11:M45),0)),\"\")","v":""},{"$f":"IFERROR(IF($L$6=\"\",\"\",VLOOKUP($L$6&\"_\"&$B46,data_entry,COLUMNS($B$11:N45),0)),\"\")","v":""},{"$f":"IFERROR(IF($L$6=\"\",\"\",VLOOKUP($L$6&\"_\"&$B46,data_entry,COLUMNS($B$11:O45),0)),\"\")","v":""},{"$f":"IFERROR(IF($L$6=\"\",\"\",VLOOKUP($L$6&\"_\"&$B46,data_entry,COLUMNS($B$11:P45),0)),\"\")","v":""},{"$f":"IFERROR(IF($L$6=\"\",\"\",VLOOKUP($L$6&\"_\"&$B46,data_entry,COLUMNS($B$11:Q45),0)),\"\")","v":""},{"$f":"IFERROR(IF($L$6=\"\",\"\",VLOOKUP($L$6&\"_\"&$B46,data_entry,COLUMNS($B$11:R45),0)),\"\")","v":""},{"$f":"IFERROR(IF($L$6=\"\",\"\",VLOOKUP($L$6&\"_\"&$B46,data_entry,COLUMNS($B$11:S45),0)),\"\")","v":""},{"$f":"IFERROR(IF($L$6=\"\",\"\",VLOOKUP($L$6&\"_\"&$B46,data_entry,COLUMNS($B$11:T45),0)),\"\")","v":""},{"$f":"IFERROR(IF($L$6=\"\",\"\",VLOOKUP($L$6&\"_\"&$B46,data_entry,COLUMNS($B$11:U45),0)),\"\")","v":""},{"$f":"IFERROR(IF($L$6=\"\",\"\",VLOOKUP($L$6&\"_\"&$B46,data_entry,COLUMNS($B$11:V45),0)),\"\")","v":""},{"$f":"IFERROR(IF($L$6=\"\",\"\",VLOOKUP($L$6&\"_\"&$B46,data_entry,COLUMNS($B$11:W45),0)),\"\")","v":""},{"$f":"IFERROR(IF($L$6=\"\",\"\",VLOOKUP($L$6&\"_\"&$B46,data_entry,COLUMNS($B$11:X45),0)),\"\")","v":""},{"$f":"IFERROR(IF($L$6=\"\",\"\",VLOOKUP($L$6&\"_\"&$B46,data_entry,COLUMNS($B$11:Y45),0)),\"\")","v":""},{"$f":"IFERROR(IF($L$6=\"\",\"\",VLOOKUP($L$6&\"_\"&$B46,data_entry,COLUMNS($B$11:Z45),0)),\"\")","v":""},{"$f":"IFERROR(IF($L$6=\"\",\"\",VLOOKUP($L$6&\"_\"&$B46,data_entry,COLUMNS($B$11:AA45),0)),\"\")","v":""},{"$f":"IFERROR(IF($L$6=\"\",\"\",VLOOKUP($L$6&\"_\"&$B46,data_entry,COLUMNS($B$11:AB45),0)),\"\")","v":""},{"$f":"IFERROR(IF($L$6=\"\",\"\",VLOOKUP($L$6&\"_\"&$B46,data_entry,COLUMNS($B$11:AC45),0)),\"\")","v":""},{"$f":"IFERROR(IF($L$6=\"\",\"\",VLOOKUP($L$6&\"_\"&$B46,data_entry,COLUMNS($B$11:AD45),0)),\"\")","v":""},{"$nulls":5},{"$f":"IFERROR(IF($L$6=\"\",\"\",VLOOKUP($L$6&\"_\"&$B46,data_entry,COLUMNS($B$11:AJ45),0)),\"\")","v":""},{"$f":"IFERROR(IF($L$6=\"\",\"\",VLOOKUP($L$6&\"_\"&$B46,data_entry,COLUMNS($B$11:AK45),0)),\"\")","v":""},{"$f":"IFERROR(IF($L$6=\"\",\"\",VLOOKUP($L$6&\"_\"&$B46,data_entry,COLUMNS($B$11:AL45),0)),\"\")","v":""},{"$f":"IFERROR(IF($L$6=\"\",\"\",VLOOKUP($L$6&\"_\"&$B46,data_entry,COLUMNS($B$11:AM45),0)),\"\")","v":""},{"$f":"IFERROR(IF($L$6=\"\",\"\",VLOOKUP($L$6&\"_\"&$B46,data_entry,COLUMNS($B$11:AN45),0)),\"\")","v":""},{"$f":"IFERROR(IF($L$6=\"\",\"\",VLOOKUP($L$6&\"_\"&$B46,data_entry,COLUMNS($B$11:AO45),0)),\"\")","v":""},{"$f":"IFERROR(IF($L$6=\"\",\"\",VLOOKUP($L$6&\"_\"&$B46,data_entry,COLUMNS($B$11:AP45),0)),\"\")","v":""},{"$f":"IFERROR(IF($L$6=\"\",\"\",VLOOKUP($L$6&\"_\"&$B46,data_entry,COLUMNS($B$11:AQ45),0)),\"\")","v":""}]
[0,36,{"$f":"IF(D47=\"\",\"\",ROWS($D$12:D47))","v":""},{"$f":"IFERROR(IF(OR($L$6=\"\",'DATA ENTRY'!C42=\"\"),\"\",VLOOKUP($L$6&\"_\"&$B47,data_entry,COLUMNS($B$11:D46),0)),\"\")","v":""},{"$f":"IFERROR(IF($L$6=\"\",\"\",VLOOKUP($L$6&\"_\"&$B47,data_entry,COLUMNS($B$11:E46),0)),\"\")","v":""},{"$f":"IFERROR(IF($L$6=\"\",\"\",VLOOKUP($L$6&\"_\"&$B47,data_entry,COLUMNS($B$11:F46),0)),\"\")","v":""},{"$f":"IFERROR(IF($L$6=\"\",\"\",VLOOKUP($L$6&\"_\"&$B47,data_entry,COLUMNS($B$11:G46),0)),\"\")","v":""},{"$f":"IFERROR(IF($L$6=\"\",\"\",VLOOKUP($L$6&\"_\"&$B47,data_entry,COLUMNS($B$11:H46),0)),\"\")","v":""},{"$f":"IFERROR(IF($L$6=\"\",\"\",VLOOKUP($L$6&\"_\"&$B47,data_entry,COLUMNS($B$11:I46),0)),\"\")","v":""},{"$f":"IFERROR(IF($L$6=\"\",\"\",VLOOKUP($L$6&\"_\"&$B47,data_entry,COLUMNS($B$11:J46),0)),\"\")","v":""},{"$f":"IFERROR(IF($L$6=\"\",\"\",VLOOKUP($L$6&\"_\"&$B47,data_entry,COLUMNS($B$11:K46),0)),\"\")","v":""},{"$f":"IFERROR(IF($L$6=\"\",\"\",VLOOKUP($L$6&\"_\"&$B47,data_entry,COLUMNS($B$11:L46),0)),\"\")","v":""},{"$f":"IFERROR(IF($L$6=\"\",\"\",VLOOKUP($L$6&\"_\"&$B47,data_entry,COLUMNS($B$11:M46),0)),\"\")","v":""},{"$f":"IFERROR(IF($L$6=\"\",\"\",VLOOKUP($L$6&\"_\"&$B47,data_entry,COLUMNS($B$11:N46),0)),\"\")","v":""},{"$f":"IFERROR(IF($L$6=\"\",\"\",VLOOKUP($L$6&\"_\"&$B47,data_entry,COLUMNS($B$11:O46),0)),\"\")","v":""},{"$f":"IFERROR(IF($L$6=\"\",\"\",VLOOKUP($L$6&\"_\"&$B47,data_entry,COLUMNS($B$11:P46),0)),\"\")","v":""},{"$f":"IFERROR(IF($L$6=\"\",\"\",VLOOKUP($L$6&\"_\"&$B47,data_entry,COLUMNS($B$11:Q46),0)),\"\")","v":""},{"$f":"IFERROR(IF($L$6=\"\",\"\",VLOOKUP($L$6&\"_\"&$B47,data_entry,COLUMNS($B$11:R46),0)),\"\")","v":""},{"$f":"IFERROR(IF($L$6=\"\",\"\",VLOOKUP($L$6&\"_\"&$B47,data_entry,COLUMNS($B$11:S46),0)),\"\")","v":""},{"$f":"IFERROR(IF($L$6=\"\",\"\",VLOOKUP($L$6&\"_\"&$B47,data_entry,COLUMNS($B$11:T46),0)),\"\")","v":""},{"$f":"IFERROR(IF($L$6=\"\",\"\",VLOOKUP($L$6&\"_\"&$B47,data_entry,COLUMNS($B$11:U46),0)),\"\")","v":""},{"$f":"IFERROR(IF($L$6=\"\",\"\",VLOOKUP($L$6&\"_\"&$B47,data_entry,COLUMNS($B$11:V46),0)),\"\")","v":""},{"$f":"IFERROR(IF($L$6=\"\",\"\",VLOOKUP($L$6&\"_\"&$B47,data_entry,COLUMNS($B$11:W46),0)),\"\")","v":""},{"$f":"IFERROR(IF($L$6=\"\",\"\",VLOOKUP($L$6&\"_\"&$B47,data_entry,COLUMNS($B$11:X46),0)),\"\")","v":""},{"$f":"IFERROR(IF($L$6=\"\",\"\",VLOOKUP($L$6&\"_\"&$B47,data_entry,COLUMNS($B$11:Y46),0)),\"\")","v":""},{"$f":"IFERROR(IF($L$6=\"\",\"\",VLOOKUP($L$6&\"_\"&$B47,data_entry,COLUMNS($B$11:Z46),0)),\"\")","v":""},{"$f":"IFERROR(IF($L$6=\"\",\"\",VLOOKUP($L$6&\"_\"&$B47,data_entry,COLUMNS($B$11:AA46),0)),\"\")","v":""},{"$f":"IFERROR(IF($L$6=\"\",\"\",VLOOKUP($L$6&\"_\"&$B47,data_entry,COLUMNS($B$11:AB46),0)),\"\")","v":""},{"$f":"IFERROR(IF($L$6=\"\",\"\",VLOOKUP($L$6&\"_\"&$B47,data_entry,COLUMNS($B$11:AC46),0)),\"\")","v":""},{"$f":"IFERROR(IF($L$6=\"\",\"\",VLOOKUP($L$6&\"_\"&$B47,data_entry,COLUMNS($B$11:AD46),0)),\"\")","v":""},{"$nulls":5},{"$f":"IFERROR(IF($L$6=\"\",\"\",VLOOKUP($L$6&\"_\"&$B47,data_entry,COLUMNS($B$11:AJ46),0)),\"\")","v":""},{"$f":"IFERROR(IF($L$6=\"\",\"\",VLOOKUP($L$6&\"_\"&$B47,data_entry,COLUMNS($B$11:AK46),0)),\"\")","v":""},{"$f":"IFERROR(IF($L$6=\"\",\"\",VLOOKUP($L$6&\"_\"&$B47,data_entry,COLUMNS($B$11:AL46),0)),\"\")","v":""},{"$f":"IFERROR(IF($L$6=\"\",\"\",VLOOKUP($L$6&\"_\"&$B47,data_entry,COLUMNS($B$11:AM46),0)),\"\")","v":""},{"$f":"IFERROR(IF($L$6=\"\",\"\",VLOOKUP($L$6&\"_\"&$B47,data_entry,COLUMNS($B$11:AN46),0)),\"\")","v":""},{"$f":"IFERROR(IF($L$6=\"\",\"\",VLOOKUP($L$6&\"_\"&$B47,data_entry,COLUMNS($B$11:AO46),0)),\"\")","v":""},{"$f":"IFERROR(IF($L$6=\"\",\"\",VLOOKUP($L$6&\"_\"&$B47,data_entry,COLUMNS($B$11:AP46),0)),\"\")","v":""},{"$f":"IFERROR(IF($L$6=\"\",\"\",VLOOKUP($L$6&\"_\"&$B47,data_entry,COLUMNS($B$11:AQ46),0)),\"\")","v":""}]
[0,37,{"$f":"IF(D48=\"\",\"\",ROWS($D$12:D48))","v":""},{"$f":"IFERROR(IF(OR($L$6=\"\",'DATA ENTRY'!C43=\"\"),\"\",VLOOKUP($L$6&\"_\"&$B48,data_entry,COLUMNS($B$11:D47),0)),\"\")","v":""},{"$f":"IFERROR(IF($L$6=\"\",\"\",VLOOKUP($L$6&\"_\"&$B48,data_entry,COLUMNS($B$11:E47),0)),\"\")","v":""},{"$f":"IFERROR(IF($L$6=\"\",\"\",VLOOKUP($L$6&\"_\"&$B48,data_entry,COLUMNS($B$11:F47),0)),\"\")","v":""},{"$f":"IFERROR(IF($L$6=\"\",\"\",VLOOKUP($L$6&\"_\"&$B48,data_entry,COLUMNS($B$11:G47),0)),\"\")","v":""},{"$f":"IFERROR(IF($L$6=\"\",\"\",VLOOKUP($L$6&\"_\"&$B48,data_entry,COLUMNS($B$11:H47),0)),\"\")","v":""},{"$f":"IFERROR(IF($L$6=\"\",\"\",VLOOKUP($L$6&\"_\"&$B48,data_entry,COLUMNS($B$11:I47),0)),\"\")","v":""},{"$f":"IFERROR(IF($L$6=\"\",\"\",VLOOKUP($L$6&\"_\"&$B48,data_entry,COLUMNS($B$11:J47),0)),\"\")","v":""},{"$f":"IFERROR(IF($L$6=\"\",\"\",VLOOKUP($L$6&\"_\"&$B48,data_entry,COLUMNS($B$11:K47),0)),\"\")","v":""},{"$f":"IFERROR(IF($L$6=\"\",\"\",VLOOKUP($L$6&\"_\"&$B48,data_entry,COLUMNS($B$11:L47),0)),\"\")","v":""},{"$f":"IFERROR(IF($L$6=\"\",\"\",VLOOKUP($L$6&\"_\"&$B48,data_entry,COLUMNS($B$11:M47),0)),\"\")","v":""},{"$f":"IFERROR(IF($L$6=\"\",\"\",VLOOKUP($L$6&\"_\"&$B48,data_entry,COLUMNS($B$11:N47),0)),\"\")","v":""},{"$f":"IFERROR(IF($L$6=\"\",\"\",VLOOKUP($L$6&\"_\"&$B48,data_entry,COLUMNS($B$11:O47),0)),\"\")","v":""},{"$f":"IFERROR(IF($L$6=\"\",\"\",VLOOKUP($L$6&\"_\"&$B48,data_entry,COLUMNS($B$11:P47),0)),\"\")","v":""},{"$f":"IFERROR(IF($L$6=\"\",\"\",VLOOKUP($L$6&\"_\"&$B48,data_entry,COLUMNS($B$11:Q47),0)),\"\")","v":""},{"$f":"IFERROR(IF($L$6=\"\",\"\",VLOOKUP($L$6&\"_\"&$B48,data_entry,COLUMNS($B$11:R47),0)),\"\")","v":""},{"$f":"IFERROR(IF($L$6=\"\",\"\",VLOOKUP($L$6&\"_\"&$B48,data_entry,COLUMNS($B$11:S47),0)),\"\")","v":""},{"$f":"IFERROR(IF($L$6=\"\",\"\",VLOOKUP($L$6&\"_\"&$B48,data_entry,COLUMNS($B$11:T47),0)),\"\")","v":""},{"$f":"IFERROR(IF($L$6=\"\",\"\",VLOOKUP($L$6&\"_\"&$B48,data_entry,COLUMNS($B$11:U47),0)),\"\")","v":""},{"$f":"IFERROR(IF($L$6=\"\",\"\",VLOOKUP($L$6&\"_\"&$B48,data_entry,COLUMNS($B$11:V47),0)),\"\")","v":""},{"$f":"IFERROR(IF($L$6=\"\",\"\",VLOOKUP($L$6&\"_\"&$B48,data_entry,COLUMNS($B$11:W47),0)),\"\")","v":""},{"$f":"IFERROR(IF($L$6=\"\",\"\",VLOOKUP($L$6&\"_\"&$B48,data_entry,COLUMNS($B$11:X47),0)),\"\")","v":""},{"$f":"IFERROR(IF($L$6=\"\",\"\",VLOOKUP($L$6&\"_\"&$B48,data_entry,COLUMNS($B$11:Y47),0)),\"\")","v":""},{"$f":"IFERROR(IF($L$6=\"\",\"\",VLOOKUP($L$6&\"_\"&$B48,data_entry,COLUMNS($B$11:Z47),0)),\"\")","v":""},{"$f":"IFERROR(IF($L$6=\"\",\"\",VLOOKUP($L$6&\"_\"&$B48,data_entry,COLUMNS($B$11:AA47),0)),\"\")","v":""},{"$f":"IFERROR(IF($L$6=\"\",\"\",VLOOKUP($L$6&\"_\"&$B48,data_entry,COLUMNS($B$11:AB47),0)),\"\")","v":""},{"$f":"IFERROR(IF($L$6=\"\",\"\",VLOOKUP($L$6&\"_\"&$B48,data_entry,COLUMNS($B$11:AC47),0)),\"\")","v":""},{"$f":"IFERROR(IF($L$6=\"\",\"\",VLOOKUP($L$6&\"_\"&$B48,data_entry,COLUMNS($B$11:AD47),0)),\"\")","v":""},{"$nulls":5},{"$f":"IFERROR(IF($L$6=\"\",\"\",VLOOKUP($L$6&\"_\"&$B48,data_entry,COLUMNS($B$11:AJ47),0)),\"\")","v":""},{"$f":"IFERROR(IF($L$6=\"\",\"\",VLOOKUP($L$6&\"_\"&$B48,data_entry,COLUMNS($B$11:AK47),0)),\"\")","v":""},{"$f":"IFERROR(IF($L$6=\"\",\"\",VLOOKUP($L$6&\"_\"&$B48,data_entry,COLUMNS($B$11:AL47),0)),\"\")","v":""},{"$f":"IFERROR(IF($L$6=\"\",\"\",VLOOKUP($L$6&\"_\"&$B48,data_entry,COLUMNS($B$11:AM47),0)),\"\")","v":""},{"$f":"IFERROR(IF($L$6=\"\",\"\",VLOOKUP($L$6&\"_\"&$B48,data_entry,COLUMNS($B$11:AN47),0)),\"\")","v":""},{"$f":"IFERROR(IF($L$6=\"\",\"\",VLOOKUP($L$6&\"_\"&$B48,data_entry,COLUMNS($B$11:AO47),0)),\"\")","v":""},{"$f":"IFERROR(IF($L$6=\"\",\"\",VLOOKUP($L$6&\"_\"&$B48,data_entry,COLUMNS($B$11:AP47),0)),\"\")","v":""},{"$f":"IFERROR(IF($L$6=\"\",\"\",VLOOKUP($L$6&\"_\"&$B48,data_entry,COLUMNS($B$11:AQ47),0)),\"\")","v":""}]
[0,38,{"$f":"IF(D49=\"\",\"\",ROWS($D$12:D49))","v":""},{"$f":"IFERROR(IF(OR($L$6=\"\",'DATA ENTRY'!C44=\"\"),\"\",VLOOKUP($L$6&\"_\"&$B49,data_entry,COLUMNS($B$11:D48),0)),\"\")","v":""},{"$f":"IFERROR(IF($L$6=\"\",\"\",VLOOKUP($L$6&\"_\"&$B49,data_entry,COLUMNS($B$11:E48),0)),\"\")","v":""},{"$f":"IFERROR(IF($L$6=\"\",\"\",VLOOKUP($L$6&\"_\"&$B49,data_entry,COLUMNS($B$11:F48),0)),\"\")","v":""},{"$f":"IFERROR(IF($L$6=\"\",\"\",VLOOKUP($L$6&\"_\"&$B49,data_entry,COLUMNS($B$11:G48),0)),\"\")","v":""},{"$f":"IFERROR(IF($L$6=\"\",\"\",VLOOKUP($L$6&\"_\"&$B49,data_entry,COLUMNS($B$11:H48),0)),\"\")","v":""},{"$f":"IFERROR(IF($L$6=\"\",\"\",VLOOKUP($L$6&\"_\"&$B49,data_entry,COLUMNS($B$11:I48),0)),\"\")","v":""},{"$f":"IFERROR(IF($L$6=\"\",\"\",VLOOKUP($L$6&\"_\"&$B49,data_entry,COLUMNS($B$11:J48),0)),\"\")","v":""},{"$f":"IFERROR(IF($L$6=\"\",\"\",VLOOKUP($L$6&\"_\"&$B49,data_entry,COLUMNS($B$11:K48),0)),\"\")","v":""},{"$f":"IFERROR(IF($L$6=\"\",\"\",VLOOKUP($L$6&\"_\"&$B49,data_entry,COLUMNS($B$11:L48),0)),\"\")","v":""},{"$f":"IFERROR(IF($L$6=\"\",\"\",VLOOKUP($L$6&\"_\"&$B49,data_entry,COLUMNS($B$11:M48),0)),\"\")","v":""},{"$f":"IFERROR(IF($L$6=\"\",\"\",VLOOKUP($L$6&\"_\"&$B49,data_entry,COLUMNS($B$11:N48),0)),\"\")","v":""},{"$f":"IFERROR(IF($L$6=\"\",\"\",VLOOKUP($L$6&\"_\"&$B49,data_entry,COLUMNS($B$11:O48),0)),\"\")","v":""},{"$f":"IFERROR(IF($L$6=\"\",\"\",VLOOKUP($L$6&\"_\"&$B49,data_entry,COLUMNS($B$11:P48),0)),\"\")","v":""},{"$f":"IFERROR(IF($L$6=\"\",\"\",VLOOKUP($L$6&\"_\"&$B49,data_entry,COLUMNS($B$11:Q48),0)),\"\")","v":""},{"$f":"IFERROR(IF($L$6=\"\",\"\",VLOOKUP($L$6&\"_\"&$B49,data_entry,COLUMNS($B$11:R48),0)),\"\")","v":""},{"$f":"IFERROR(IF($L$6=\"\",\"\",VLOOKUP($L$6&\"_\"&$B49,data_entry,COLUMNS($B$11:S48),0)),\"\")","v":""},{"$f":"IFERROR(IF($L$6=\"\",\"\",VLOOKUP($L$6&\"_\"&$B49,data_entry,COLUMNS($B$11:T48),0)),\"\")","v":""},{"$f":"IFERROR(IF($L$6=\"\",\"\",VLOOKUP($L$6&\"_\"&$B49,data_entry,COLUMNS($B$11:U48),0)),\"\")","v":""},{"$f":"IFERROR(IF($L$6=\"\",\"\",VLOOKUP($L$6&\"_\"&$B49,data_entry,COLUMNS($B$11:V48),0)),\"\")","v":""},{"$f":"IFERROR(IF($L$6=\"\",\"\",VLOOKUP($L$6&\"_\"&$B49,data_entry,COLUMNS($B$11:W48),0)),\"\")","v":""},{"$f":"IFERROR(IF($L$6=\"\",\"\",VLOOKUP($L$6&\"_\"&$B49,data_entry,COLUMNS($B$11:X48),0)),\"\")","v":""},{"$f":"IFERROR(IF($L$6=\"\",\"\",VLOOKUP($L$6&\"_\"&$B49,data_entry,COLUMNS($B$11:Y48),0)),\"\")","v":""},{"$f":"IFERROR(IF($L$6=\"\",\"\",VLOOKUP($L$6&\"_\"&$B49,data_entry,COLUMNS($B$11:Z48),0)),\"\")","v":""},{"$f":"IFERROR(IF($L$6=\"\",\"\",VLOOKUP($L$6&\"_\"&$B49,data_entry,COLUMNS($B$11:AA48),0)),\"\")","v":""},{"$f":"IFERROR(IF($L$6=\"\",\"\",VLOOKUP($L$6&\"_\"&$B49,data_entry,COLUMNS($B$11:AB48),0)),\"\")","v":""},{"$f":"IFERROR(IF($L$6=\"\",\"\",VLOOKUP($L$6&\"_\"&$B49,data_entry,COLUMNS($B$11:AC48),0)),\"\")","v":""},{"$f":"IFERROR(IF($L$6=\"\",\"\",VLOOKUP($L$6&\"_\"&$B49,data_entry,COLUMNS($B$11:AD48),0)),\"\")","v":""},{"$nulls":5},{"$f":"IFERROR(IF($L$6=\"\",\"\",VLOOKUP($L$6&\"_\"&$B49,data_entry,COLUMNS($B$11:AJ48),0)),\"\")","v":""},{"$f":"IFERROR(IF($L$6=\"\",\"\",VLOOKUP($L$6&\"_\"&$B49,data_entry,COLUMNS($B$11:AK48),0)),\"\")","v":""},{"$f":"IFERROR(IF($L$6=\"\",\"\",VLOOKUP($L$6&\"_\"&$B49,data_entry,COLUMNS($B$11:AL48),0)),\"\")","v":""},{"$f":"IFERROR(IF($L$6=\"\",\"\",VLOOKUP($L$6&\"_\"&$B49,data_entry,COLUMNS($B$11:AM48),0)),\"\")","v":""},{"$f":"IFERROR(IF($L$6=\"\",\"\",VLOOKUP($L$6&\"_\"&$B49,data_entry,COLUMNS($B$11:AN48),0)),\"\")","v":""},{"$f":"IFERROR(IF($L$6=\"\",\"\",VLOOKUP($L$6&\"_\"&$B49,data_entry,COLUMNS($B$11:AO48),0)),\"\")","v":""},{"$f":"IFERROR(IF($L$6=\"\",\"\",VLOOKUP($L$6&\"_\"&$B49,data_entry,COLUMNS($B$11:AP48),0)),\"\")","v":""},{"$f":"IFERROR(IF($L$6=\"\",\"\",VLOOKUP($L$6&\"_\"&$B49,data_entry,COLUMNS($B$11:AQ48),0)),\"\")","v":""}]
[0,39,{"$f":"IF(D50=\"\",\"\",ROWS($D$12:D50))","v":""},{"$f":"IFERROR(IF(OR($L$6=\"\",'DATA ENTRY'!C45=\"\"),\"\",VLOOKUP($L$6&\"_\"&$B50,data_entry,COLUMNS($B$11:D49),0)),\"\")","v":""},{"$f":"IFERROR(IF($L$6=\"\",\"\",VLOOKUP($L$6&\"_\"&$B50,data_entry,COLUMNS($B$11:E49),0)),\"\")","v":""},{"$f":"IFERROR(IF($L$6=\"\",\"\",VLOOKUP($L$6&\"_\"&$B50,data_entry,COLUMNS($B$11:F49),0)),\"\")","v":""},{"$f":"IFERROR(IF($L$6=\"\",\"\",VLOOKUP($L$6&\"_\"&$B50,data_entry,COLUMNS($B$11:G49),0)),\"\")","v":""},{"$f":"IFERROR(IF($L$6=\"\",\"\",VLOOKUP($L$6&\"_\"&$B50,data_entry,COLUMNS($B$11:H49),0)),\"\")","v":""},{"$f":"IFERROR(IF($L$6=\"\",\"\",VLOOKUP($L$6&\"_\"&$B50,data_entry,COLUMNS($B$11:I49),0)),\"\")","v":""},{"$f":"IFERROR(IF($L$6=\"\",\"\",VLOOKUP($L$6&\"_\"&$B50,data_entry,COLUMNS($B$11:J49),0)),\"\")","v":""},{"$f":"IFERROR(IF($L$6=\"\",\"\",VLOOKUP($L$6&\"_\"&$B50,data_entry,COLUMNS($B$11:K49),0)),\"\")","v":""},{"$f":"IFERROR(IF($L$6=\"\",\"\",VLOOKUP($L$6&\"_\"&$B50,data_entry,COLUMNS($B$11:L49),0)),\"\")","v":""},{"$f":"IFERROR(IF($L$6=\"\",\"\",VLOOKUP($L$6&\"_\"&$B50,data_entry,COLUMNS($B$11:M49),0)),\"\")","v":""},{"$f":"IFERROR(IF($L$6=\"\",\"\",VLOOKUP($L$6&\"_\"&$B50,data_entry,COLUMNS($B$11:N49),0)),\"\")","v":""},{"$f":"IFERROR(IF($L$6=\"\",\"\",VLOOKUP($L$6&\"_\"&$B50,data_entry,COLUMNS($B$11:O49),0)),\"\")","v":""},{"$f":"IFERROR(IF($L$6=\"\",\"\",VLOOKUP($L$6&\"_\"&$B50,data_entry,COLUMNS($B$11:P49),0)),\"\")","v":""},{"$f":"IFERROR(IF($L$6=\"\",\"\",VLOOKUP($L$6&\"_\"&$B50,data_entry,COLUMNS($B$11:Q49),0)),\"\")","v":""},{"$f":"IFERROR(IF($L$6=\"\",\"\",VLOOKUP($L$6&\"_\"&$B50,data_entry,COLUMNS($B$11:R49),0)),\"\")","v":""},{"$f":"IFERROR(IF($L$6=\"\",\"\",VLOOKUP($L$6&\"_\"&$B50,data_entry,COLUMNS($B$11:S49),0)),\"\")","v":""},{"$f":"IFERROR(IF($L$6=\"\",\"\",VLOOKUP($L$6&\"_\"&$B50,data_entry,COLUMNS($B$11:T49),0)),\"\")","v":""},{"$f":"IFERROR(IF($L$6=\"\",\"\",VLOOKUP($L$6&\"_\"&$B50,data_entry,COLUMNS($B$11:U49),0)),\"\")","v":""},{"$f":"IFERROR(IF($L$6=\"\",\"\",VLOOKUP($L$6&\"_\"&$B50,data_entry,COLUMNS($B$11:V49),0)),\"\")","v":""},{"$f":"IFERROR(IF($L$6=\"\",\"\",VLOOKUP($L$6&\"_\"&$B50,data_entry,COLUMNS($B$11:W49),0)),\"\")","v":""},{"$f":"IFERROR(IF($L$6=\"\",\"\",VLOOKUP($L$6&\"_\"&$B50,data_entry,COLUMNS($B$11:X49),0)),\"\")","v":""},{"$f":"IFERROR(IF($L$6=\"\",\"\",VLOOKUP($L$6&\"_\"&$B50,data_entry,COLUMNS($B$11:Y49),0)),\"\")","v":""},{"$f":"IFERROR(IF($L$6=\"\",\"\",VLOOKUP($L$6&\"_\"&$B50,data_entry,COLUMNS($B$11:Z49),0)),\"\")","v":""},{"$f":"IFERROR(IF($L$6=\"\",\"\",VLOOKUP($L$6&\"_\"&$B50,data_entry,COLUMNS($B$11:AA49),0)),\"\")","v":""},{"$f":"IFERROR(IF($L$6=\"\",\"\",VLOOKUP($L$6&\"_\"&$B50,data_entry,COLUMNS($B$11:AB49),0)),\"\")","v":""},{"$f":"IFERROR(IF($L$6=\"\",\"\",VLOOKUP($L$6&\"_\"&$B50,data_entry,COLUMNS($B$11:AC49),0)),\"\")","v":""},{"$f":"IFERROR(IF($L$6=\"\",\"\",VLOOKUP($L$6&\"_\"&$B50,data_entry,COLUMNS($B$11:AD49),0)),\"\")","v":""},{"$nulls":5},{"$f":"IFERROR(IF($L$6=\"\",\"\",VLOOKUP($L$6&\"_\"&$B50,data_entry,COLUMNS($B$11:AJ49),0)),\"\")","v":""},{"$f":"IFERROR(IF($L$6=\"\",\"\",VLOOKUP($L$6&\"_\"&$B50,data_entry,COLUMNS($B$11:AK49),0)),\"\")","v":""},{"$f":"IFERROR(IF($L$6=\"\",\"\",VLOOKUP($L$6&\"_\"&$B50,data_entry,COLUMNS($B$11:AL49),0)),\"\")","v":""},{"$f":"IFERROR(IF($L$6=\"\",\"\",VLOOKUP($L$6&\"_\"&$B50,data_entry,COLUMNS($B$11:AM49),0)),\"\")","v":""},{"$f":"IFERROR(IF($L$6=\"\",\"\",VLOOKUP($L$6&\"_\"&$B50,data_entry,COLUMNS($B$11:AN49),0)),\"\")","v":""},{"$f":"IFERROR(IF($L$6=\"\",\"\",VLOOKUP($L$6&\"_\"&$B50,data_entry,COLUMNS($B$11:AO49),0)),\"\")","v":""},{"$f":"IFERROR(IF($L$6=\"\",\"\",VLOOKUP($L$6&\"_\"&$B50,data_entry,COLUMNS($B$11:AP49),0)),\"\")","v":""},{"$f":"IFERROR(IF($L$6=\"\",\"\",VLOOKUP($L$6&\"_\"&$B50,data_entry,COLUMNS($B$11:AQ49),0)),\"\")","v":""}]
[0,40,{"$f":"IF(D51=\"\",\"\",ROWS($D$12:D51))","v":""},{"$f":"IFERROR(IF(OR($L$6=\"\",'DATA ENTRY'!C46=\"\"),\"\",VLOOKUP($L$6&\"_\"&$B51,data_entry,COLUMNS($B$11:D50),0)),\"\")","v":""},{"$f":"IFERROR(IF($L$6=\"\",\"\",VLOOKUP($L$6&\"_\"&$B51,data_entry,COLUMNS($B$11:E50),0)),\"\")","v":""},{"$f":"IFERROR(IF($L$6=\"\",\"\",VLOOKUP($L$6&\"_\"&$B51,data_entry,COLUMNS($B$11:F50),0)),\"\")","v":""},{"$f":"IFERROR(IF($L$6=\"\",\"\",VLOOKUP($L$6&\"_\"&$B51,data_entry,COLUMNS($B$11:G50),0)),\"\")","v":""},{"$f":"IFERROR(IF($L$6=\"\",\"\",VLOOKUP($L$6&\"_\"&$B51,data_entry,COLUMNS($B$11:H50),0)),\"\")","v":""},{"$f":"IFERROR(IF($L$6=\"\",\"\",VLOOKUP($L$6&\"_\"&$B51,data_entry,COLUMNS($B$11:I50),0)),\"\")","v":""},{"$f":"IFERROR(IF($L$6=\"\",\"\",VLOOKUP($L$6&\"_\"&$B51,data_entry,COLUMNS($B$11:J50),0)),\"\")","v":""},{"$f":"IFERROR(IF($L$6=\"\",\"\",VLOOKUP($L$6&\"_\"&$B51,data_entry,COLUMNS($B$11:K50),0)),\"\")","v":""},{"$f":"IFERROR(IF($L$6=\"\",\"\",VLOOKUP($L$6&\"_\"&$B51,data_entry,COLUMNS($B$11:L50),0)),\"\")","v":""},{"$f":"IFERROR(IF($L$6=\"\",\"\",VLOOKUP($L$6&\"_\"&$B51,data_entry,COLUMNS($B$11:M50),0)),\"\")","v":""},{"$f":"IFERROR(IF($L$6=\"\",\"\",VLOOKUP($L$6&\"_\"&$B51,data_entry,COLUMNS($B$11:N50),0)),\"\")","v":""},{"$f":"IFERROR(IF($L$6=\"\",\"\",VLOOKUP($L$6&\"_\"&$B51,data_entry,COLUMNS($B$11:O50),0)),\"\")","v":""},{"$f":"IFERROR(IF($L$6=\"\",\"\",VLOOKUP($L$6&\"_\"&$B51,data_entry,COLUMNS($B$11:P50),0)),\"\")","v":""},{"$f":"IFERROR(IF($L$6=\"\",\"\",VLOOKUP($L$6&\"_\"&$B51,data_entry,COLUMNS($B$11:Q50),0)),\"\")","v":""},{"$f":"IFERROR(IF($L$6=\"\",\"\",VLOOKUP($L$6&\"_\"&$B51,data_entry,COLUMNS($B$11:R50),0)),\"\")","v":""},{"$f":"IFERROR(IF($L$6=\"\",\"\",VLOOKUP($L$6&\"_\"&$B51,data_entry,COLUMNS($B$11:S50),0)),\"\")","v":""},{"$f":"IFERROR(IF($L$6=\"\",\"\",VLOOKUP($L$6&\"_\"&$B51,data_entry,COLUMNS($B$11:T50),0)),\"\")","v":""},{"$f":"IFERROR(IF($L$6=\"\",\"\",VLOOKUP($L$6&\"_\"&$B51,data_entry,COLUMNS($B$11:U50),0)),\"\")","v":""},{"$f":"IFERROR(IF($L$6=\"\",\"\",VLOOKUP($L$6&\"_\"&$B51,data_entry,COLUMNS($B$11:V50),0)),\"\")","v":""},{"$f":"IFERROR(IF($L$6=\"\",\"\",VLOOKUP($L$6&\"_\"&$B51,data_entry,COLUMNS($B$11:W50),0)),\"\")","v":""},{"$f":"IFERROR(IF($L$6=\"\",\"\",VLOOKUP($L$6&\"_\"&$B51,data_entry,COLUMNS($B$11:X50),0)),\"\")","v":""},{"$f":"IFERROR(IF($L$6=\"\",\"\",VLOOKUP($L$6&\"_\"&$B51,data_entry,COLUMNS($B$11:Y50),0)),\"\")","v":""},{"$f":"IFERROR(IF($L$6=\"\",\"\",VLOOKUP($L$6&\"_\"&$B51,data_entry,COLUMNS($B$11:Z50),0)),\"\")","v":""},{"$f":"IFERROR(IF($L$6=\"\",\"\",VLOOKUP($L$6&\"_\"&$B51,data_entry,COLUMNS($B$11:AA50),0)),\"\")","v":""},{"$f":"IFERROR(IF($L$6=\"\",\"\",VLOOKUP($L$6&\"_\"&$B51,data_entry,COLUMNS($B$11:AB50),0)),\"\")","v":""},{"$f":"IFERROR(IF($L$6=\"\",\"\",VLOOKUP($L$6&\"_\"&$B51,data_entry,COLUMNS($B$11:AC50),0)),\"\")","v":""},{"$f":"IFERROR(IF($L$6=\"\",\"\",VLOOKUP($L$6&\"_\"&$B51,data_entry,COLUMNS($B$11:AD50),0)),\"\")","v":""},{"$nulls":5},{"$f":"IFERROR(IF($L$6=\"\",\"\",VLOOKUP($L$6&\"_\"&$B51,data_entry,COLUMNS($B$11:AJ50),0)),\"\")","v":""},{"$f":"IFERROR(IF($L$6=\"\",\"\",VLOOKUP($L$6&\"_\"&$B51,data_entry,COLUMNS($B$11:AK50),0)),\"\")","v":""},{"$f":"IFERROR(IF($L$6=\"\",\"\",VLOOKUP($L$6&\"_\"&$B51,data_entry,COLUMNS($B$11:AL50),0)),\"\")","v":""},{"$f":"IFERROR(IF($L$6=\"\",\"\",VLOOKUP($L$6&\"_\"&$B51,data_entry,COLUMNS($B$11:AM50),0)),\"\")","v":""},{"$f":"IFERROR(IF($L$6=\"\",\"\",VLOOKUP($L$6&\"_\"&$B51,data_entry,COLUMNS($B$11:AN50),0)),\"\")","v":""},{"$f":"IFERROR(IF($L$6=\"\",\"\",VLOOKUP($L$6&\"_\"&$B51,data_entry,COLUMNS($B$11:AO50),0)),\"\")","v":""},{"$f":"IFERROR(IF($L$6=\"\",\"\",VLOOKUP($L$6&\"_\"&$B51,data_entry,COLUMNS($B$11:AP50),0)),\"\")","v":""},{"$f":"IFERROR(IF($L$6=\"\",\"\",VLOOKUP($L$6&\"_\"&$B51,data_entry,COLUMNS($B$11:AQ50),0)),\"\")","v":""}]
[0,41,{"$f":"IF(D52=\"\",\"\",ROWS($D$12:D52))","v":""},{"$f":"IFERROR(IF(OR($L$6=\"\",'DATA ENTRY'!C47=\"\"),\"\",VLOOKUP($L$6&\"_\"&$B52,data_entry,COLUMNS($B$11:D51),0)),\"\")","v":""},{"$f":"IFERROR(IF($L$6=\"\",\"\",VLOOKUP($L$6&\"_\"&$B52,data_entry,COLUMNS($B$11:E51),0)),\"\")","v":""},{"$f":"IFERROR(IF($L$6=\"\",\"\",VLOOKUP($L$6&\"_\"&$B52,data_entry,COLUMNS($B$11:F51),0)),\"\")","v":""},{"$f":"IFERROR(IF($L$6=\"\",\"\",VLOOKUP($L$6&\"_\"&$B52,data_entry,COLUMNS($B$11:G51),0)),\"\")","v":""},{"$f":"IFERROR(IF($L$6=\"\",\"\",VLOOKUP($L$6&\"_\"&$B52,data_entry,COLUMNS($B$11:H51),0)),\"\")","v":""},{"$f":"IFERROR(IF($L$6=\"\",\"\",VLOOKUP($L$6&\"_\"&$B52,data_entry,COLUMNS($B$11:I51),0)),\"\")","v":""},{"$f":"IFERROR(IF($L$6=\"\",\"\",VLOOKUP($L$6&\"_\"&$B52,data_entry,COLUMNS($B$11:J51),0)),\"\")","v":""},{"$f":"IFERROR(IF($L$6=\"\",\"\",VLOOKUP($L$6&\"_\"&$B52,data_entry,COLUMNS($B$11:K51),0)),\"\")","v":""},{"$f":"IFERROR(IF($L$6=\"\",\"\",VLOOKUP($L$6&\"_\"&$B52,data_entry,COLUMNS($B$11:L51),0)),\"\")","v":""},{"$f":"IFERROR(IF($L$6=\"\",\"\",VLOOKUP($L$6&\"_\"&$B52,data_entry,COLUMNS($B$11:M51),0)),\"\")","v":""},{"$f":"IFERROR(IF($L$6=\"\",\"\",VLOOKUP($L$6&\"_\"&$B52,data_entry,COLUMNS($B$11:N51),0)),\"\")","v":""},{"$f":"IFERROR(IF($L$6=\"\",\"\",VLOOKUP($L$6&\"_\"&$B52,data_entry,COLUMNS($B$11:O51),0)),\"\")","v":""},{"$f":"IFERROR(IF($L$6=\"\",\"\",VLOOKUP($L$6&\"_\"&$B52,data_entry,COLUMNS($B$11:P51),0)),\"\")","v":""},{"$f":"IFERROR(IF($L$6=\"\",\"\",VLOOKUP($L$6&\"_\"&$B52,data_entry,COLUMNS($B$11:Q51),0)),\"\")","v":""},{"$f":"IFERROR(IF($L$6=\"\",\"\",VLOOKUP($L$6&\"_\"&$B52,data_entry,COLUMNS($B$11:R51),0)),\"\")","v":""},{"$f":"IFERROR(IF($L$6=\"\",\"\",VLOOKUP($L$6&\"_\"&$B52,data_entry,COLUMNS($B$11:S51),0)),\"\")","v":""},{"$f":"IFERROR(IF($L$6=\"\",\"\",VLOOKUP($L$6&\"_\"&$B52,data_entry,COLUMNS($B$11:T51),0)),\"\")","v":""},{"$f":"IFERROR(IF($L$6=\"\",\"\",VLOOKUP($L$6&\"_\"&$B52,data_entry,COLUMNS($B$11:U51),0)),\"\")","v":""},{"$f":"IFERROR(IF($L$6=\"\",\"\",VLOOKUP($L$6&\"_\"&$B52,data_entry,COLUMNS($B$11:V51),0)),\"\")","v":""},{"$f":"IFERROR(IF($L$6=\"\",\"\",VLOOKUP($L$6&\"_\"&$B52,data_entry,COLUMNS($B$11:W51),0)),\"\")","v":""},{"$f":"IFERROR(IF($L$6=\"\",\"\",VLOOKUP($L$6&\"_\"&$B52,data_entry,COLUMNS($B$11:X51),0)),\"\")","v":""},{"$f":"IFERROR(IF($L$6=\"\",\"\",VLOOKUP($L$6&\"_\"&$B52,data_entry,COLUMNS($B$11:Y51),0)),\"\")","v":""},{"$f":"IFERROR(IF($L$6=\"\",\"\",VLOOKUP($L$6&\"_\"&$B52,data_entry,COLUMNS($B$11:Z51),0)),\"\")","v":""},{"$f":"IFERROR(IF($L$6=\"\",\"\",VLOOKUP($L$6&\"_\"&$B52,data_entry,COLUMNS($B$11:AA51),0)),\"\")","v":""},{"$f":"IFERROR(IF($L$6=\"\",\"\",VLOOKUP($L$6&\"_\"&$B52,data_entry,COLUMNS($B$11:AB51),0)),\"\")","v":""},{"$f":"IFERROR(IF($L$6=\"\",\"\",VLOOKUP($L$6&\"_\"&$B52,data_entry,COLUMNS($B$11:AC51),0)),\"\")","v":""},{"$f":"IFERROR(IF($L$6=\"\",\"\",VLOOKUP($L$6&\"_\"&$B52,data_entry,COLUMNS($B$11:AD51),0)),\"\")","v":""},{"$nulls":5},{"$f":"IFERROR(IF($L$6=\"\",\"\",VLOOKUP($L$6&\"_\"&$B52,data_entry,COLUMNS($B$11:AJ51),0)),\"\")","v":""},{"$f":"IFERROR(IF($L$6=\"\",\"\",VLOOKUP($L$6&\"_\"&$B52,data_entry,COLUMNS($B$11:AK51),0)),\"\")","v":""},{"$f":"IFERROR(IF($L$6=\"\",\"\",VLOOKUP($L$6&\"_\"&$B52,data_entry,COLUMNS($B$11:AL51),0)),\"\")","v":""},{"$f":"IFERROR(IF($L$6=\"\",\"\",VLOOKUP($L$6&\"_\"&$B52,data_entry,COLUMNS($B$11:AM51),0)),\"\")","v":""},{"$f":"IFERROR(IF($L$6=\"\",\"\",VLOOKUP($L$6&\"_\"&$B52,data_entry,COLUMNS($B$11:AN51),0)),\"\")","v":""},{"$f":"IFERROR(IF($L$6=\"\",\"\",VLOOKUP($L$6&\"_\"&$B52,data_entry,COLUMNS($B$11:AO51),0)),\"\")","v":""},{"$f":"IFERROR(IF($L$6=\"\",\"\",VLOOKUP($L$6&\"_\"&$B52,data_entry,COLUMNS($B$11:AP51),0)),\"\")","v":""},{"$f":"IFERROR(IF($L$6=\"\",\"\",VLOOKUP($L$6&\"_\"&$B52,data_entry,COLUMNS($B$11:AQ51),0)),\"\")","v":""}]
[0,42,{"$f":"IF(D53=\"\",\"\",ROWS($D$12:D53))","v":""},{"$f":"IFERROR(IF(OR($L$6=\"\",'DATA ENTRY'!C48=\"\"),\"\",VLOOKUP($L$6&\"_\"&$B53,data_entry,COLUMNS($B$11:D52),0)),\"\")","v":""},{"$f":"IFERROR(IF($L$6=\"\",\"\",VLOOKUP($L$6&\"_\"&$B53,data_entry,COLUMNS($B$11:E52),0)),\"\")","v":""},{"$f":"IFERROR(IF($L$6=\"\",\"\",VLOOKUP($L$6&\"_\"&$B53,data_entry,COLUMNS($B$11:F52),0)),\"\")","v":""},{"$f":"IFERROR(IF($L$6=\"\",\"\",VLOOKUP($L$6&\"_\"&$B53,data_entry,COLUMNS($B$11:G52),0)),\"\")","v":""},{"$f":"IFERROR(IF($L$6=\"\",\"\",VLOOKUP($L$6&\"_\"&$B53,data_entry,COLUMNS($B$11:H52),0)),\"\")","v":""},{"$f":"IFERROR(IF($L$6=\"\",\"\",VLOOKUP($L$6&\"_\"&$B53,data_entry,COLUMNS($B$11:I52),0)),\"\")","v":""},{"$f":"IFERROR(IF($L$6=\"\",\"\",VLOOKUP($L$6&\"_\"&$B53,data_entry,COLUMNS($B$11:J52),0)),\"\")","v":""},{"$f":"IFERROR(IF($L$6=\"\",\"\",VLOOKUP($L$6&\"_\"&$B53,data_entry,COLUMNS($B$11:K52),0)),\"\")","v":""},{"$f":"IFERROR(IF($L$6=\"\",\"\",VLOOKUP($L$6&\"_\"&$B53,data_entry,COLUMNS($B$11:L52),0)),\"\")","v":""},{"$f":"IFERROR(IF($L$6=\"\",\"\",VLOOKUP($L$6&\"_\"&$B53,data_entry,COLUMNS($B$11:M52),0)),\"\")","v":""},{"$f":"IFERROR(IF($L$6=\"\",\"\",VLOOKUP($L$6&\"_\"&$B53,data_entry,COLUMNS($B$11:N52),0)),\"\")","v":""},{"$f":"IFERROR(IF($L$6=\"\",\"\",VLOOKUP($L$6&\"_\"&$B53,data_entry,COLUMNS($B$11:O52),0)),\"\")","v":""},{"$f":"IFERROR(IF($L$6=\"\",\"\",VLOOKUP($L$6&\"_\"&$B53,data_entry,COLUMNS($B$11:P52),0)),\"\")","v":""},{"$f":"IFERROR(IF($L$6=\"\",\"\",VLOOKUP($L$6&\"_\"&$B53,data_entry,COLUMNS($B$11:Q52),0)),\"\")","v":""},{"$f":"IFERROR(IF($L$6=\"\",\"\",VLOOKUP($L$6&\"_\"&$B53,data_entry,COLUMNS($B$11:R52),0)),\"\")","v":""},{"$f":"IFERROR(IF($L$6=\"\",\"\",VLOOKUP($L$6&\"_\"&$B53,data_entry,COLUMNS($B$11:S52),0)),\"\")","v":""},{"$f":"IFERROR(IF($L$6=\"\",\"\",VLOOKUP($L$6&\"_\"&$B53,data_entry,COLUMNS($B$11:T52),0)),\"\")","v":""},{"$f":"IFERROR(IF($L$6=\"\",\"\",VLOOKUP($L$6&\"_\"&$B53,data_entry,COLUMNS($B$11:U52),0)),\"\")","v":""},{"$f":"IFERROR(IF($L$6=\"\",\"\",VLOOKUP($L$6&\"_\"&$B53,data_entry,COLUMNS($B$11:V52),0)),\"\")","v":""},{"$f":"IFERROR(IF($L$6=\"\",\"\",VLOOKUP($L$6&\"_\"&$B53,data_entry,COLUMNS($B$11:W52),0)),\"\")","v":""},{"$f":"IFERROR(IF($L$6=\"\",\"\",VLOOKUP($L$6&\"_\"&$B53,data_entry,COLUMNS($B$11:X52),0)),\"\")","v":""},{"$f":"IFERROR(IF($L$6=\"\",\"\",VLOOKUP($L$6&\"_\"&$B53,data_entry,COLUMNS($B$11:Y52),0)),\"\")","v":""},{"$f":"IFERROR(IF($L$6=\"\",\"\",VLOOKUP($L$6&\"_\"&$B53,data_entry,COLUMNS($B$11:Z52),0)),\"\")","v":""},{"$f":"IFERROR(IF($L$6=\"\",\"\",VLOOKUP($L$6&\"_\"&$B53,data_entry,COLUMNS($B$11:AA52),0)),\"\")","v":""},{"$f":"IFERROR(IF($L$6=\"\",\"\",VLOOKUP($L$6&\"_\"&$B53,data_entry,COLUMNS($B$11:AB52),0)),\"\")","v":""},{"$f":"IFERROR(IF($L$6=\"\",\"\",VLOOKUP($L$6&\"_\"&$B53,data_entry,COLUMNS($B$11:AC52),0)),\"\")","v":""},{"$f":"IFERROR(IF($L$6=\"\",\"\",VLOOKUP($L$6&\"_\"&$B53,data_entry,COLUMNS($B$11:AD52),0)),\"\")","v":""},{"$nulls":5},{"$f":"IFERROR(IF($L$6=\"\",\"\",VLOOKUP($L$6&\"_\"&$B53,data_entry,COLUMNS($B$11:AJ52),0)),\"\")","v":""},{"$f":"IFERROR(IF($L$6=\"\",\"\",VLOOKUP($L$6&\"_\"&$B53,data_entry,COLUMNS($B$11:AK52),0)),\"\")","v":""},{"$f":"IFERROR(IF($L$6=\"\",\"\",VLOOKUP($L$6&\"_\"&$B53,data_entry,COLUMNS($B$11:AL52),0)),\"\")","v":""},{"$f":"IFERROR(IF($L$6=\"\",\"\",VLOOKUP($L$6&\"_\"&$B53,data_entry,COLUMNS($B$11:AM52),0)),\"\")","v":""},{"$f":"IFERROR(IF($L$6=\"\",\"\",VLOOKUP($L$6&\"_\"&$B53,data_entry,COLUMNS($B$11:AN52),0)),\"\")","v":""},{"$f":"IFERROR(IF($L$6=\"\",\"\",VLOOKUP($L$6&\"_\"&$B53,data_entry,COLUMNS($B$11:AO52),0)),\"\")","v":""},{"$f":"IFERROR(IF($L$6=\"\",\"\",VLOOKUP($L$6&\"_\"&$B53,data_entry,COLUMNS($B$11:AP52),0)),\"\")","v":""},{"$f":"IFERROR(IF($L$6=\"\",\"\",VLOOKUP($L$6&\"_\"&$B53,data_entry,COLUMNS($B$11:AQ52),0)),\"\")","v":""}]
[0,43,{"$f":"IF(D54=\"\",\"\",ROWS($D$12:D54))","v":""},{"$f":"IFERROR(IF(OR($L$6=\"\",'DATA ENTRY'!C49=\"\"),\"\",VLOOKUP($L$6&\"_\"&$B54,data_entry,COLUMNS($B$11:D53),0)),\"\")","v":""},{"$f":"IFERROR(IF($L$6=\"\",\"\",VLOOKUP($L$6&\"_\"&$B54,data_entry,COLUMNS($B$11:E53),0)),\"\")","v":""},{"$f":"IFERROR(IF($L$6=\"\",\"\",VLOOKUP($L$6&\"_\"&$B54,data_entry,COLUMNS($B$11:F53),0)),\"\")","v":""},{"$f":"IFERROR(IF($L$6=\"\",\"\",VLOOKUP($L$6&\"_\"&$B54,data_entry,COLUMNS($B$11:G53),0)),\"\")","v":""},{"$f":"IFERROR(IF($L$6=\"\",\"\",VLOOKUP($L$6&\"_\"&$B54,data_entry,COLUMNS($B$11:H53),0)),\"\")","v":""},{"$f":"IFERROR(IF($L$6=\"\",\"\",VLOOKUP($L$6&\"_\"&$B54,data_entry,COLUMNS($B$11:I53),0)),\"\")","v":""},{"$f":"IFERROR(IF($L$6=\"\",\"\",VLOOKUP($L$6&\"_\"&$B54,data_entry,COLUMNS($B$11:J53),0)),\"\")","v":""},{"$f":"IFERROR(IF($L$6=\"\",\"\",VLOOKUP($L$6&\"_\"&$B54,data_entry,COLUMNS($B$11:K53),0)),\"\")","v":""},{"$f":"IFERROR(IF($L$6=\"\",\"\",VLOOKUP($L$6&\"_\"&$B54,data_entry,COLUMNS($B$11:L53),0)),\"\")","v":""},{"$f":"IFERROR(IF($L$6=\"\",\"\",VLOOKUP($L$6&\"_\"&$B54,data_entry,COLUMNS($B$11:M53),0)),\"\")","v":""},{"$f":"IFERROR(IF($L$6=\"\",\"\",VLOOKUP($L$6&\"_\"&$B54,data_entry,COLUMNS($B$11:N53),0)),\"\")","v":""},{"$f":"IFERROR(IF($L$6=\"\",\"\",VLOOKUP($L$6&\"_\"&$B54,data_entry,COLUMNS($B$11:O53),0)),\"\")","v":""},{"$f":"IFERROR(IF($L$6=\"\",\"\",VLOOKUP($L$6&\"_\"&$B54,data_entry,COLUMNS($B$11:P53),0)),\"\")","v":""},{"$f":"IFERROR(IF($L$6=\"\",\"\",VLOOKUP($L$6&\"_\"&$B54,data_entry,COLUMNS($B$11:Q53),0)),\"\")","v":""},{"$f":"IFERROR(IF($L$6=\"\",\"\",VLOOKUP($L$6&\"_\"&$B54,data_entry,COLUMNS($B$11:R53),0)),\"\")","v":""},{"$f":"IFERROR(IF($L$6=\"\",\"\",VLOOKUP($L$6&\"_\"&$B54,data_entry,COLUMNS($B$11:S53),0)),\"\")","v":""},{"$f":"IFERROR(IF($L$6=\"\",\"\",VLOOKUP($L$6&\"_\"&$B54,data_entry,COLUMNS($B$11:T53),0)),\"\")","v":""},{"$f":"IFERROR(IF($L$6=\"\",\"\",VLOOKUP($L$6&\"_\"&$B54,data_entry,COLUMNS($B$11:U53),0)),\"\")","v":""},{"$f":"IFERROR(IF($L$6=\"\",\"\",VLOOKUP($L$6&\"_\"&$B54,data_entry,COLUMNS($B$11:V53),0)),\"\")","v":""},{"$f":"IFERROR(IF($L$6=\"\",\"\",VLOOKUP($L$6&\"_\"&$B54,data_entry,COLUMNS($B$11:W53),0)),\"\")","v":""},{"$f":"IFERROR(IF($L$6=\"\",\"\",VLOOKUP($L$6&\"_\"&$B54,data_entry,COLUMNS($B$11:X53),0)),\"\")","v":""},{"$f":"IFERROR(IF($L$6=\"\",\"\",VLOOKUP($L$6&\"_\"&$B54,data_entry,COLUMNS($B$11:Y53),0)),\"\")","v":""},{"$f":"IFERROR(IF($L$6=\"\",\"\",VLOOKUP($L$6&\"_\"&$B54,data_entry,COLUMNS($B$11:Z53),0)),\"\")","v":""},{"$f":"IFERROR(IF($L$6=\"\",\"\",VLOOKUP($L$6&\"_\"&$B54,data_entry,COLUMNS($B$11:AA53),0)),\"\")","v":""},{"$f":"IFERROR(IF($L$6=\"\",\"\",VLOOKUP($L$6&\"_\"&$B54,data_entry,COLUMNS($B$11:AB53),0)),\"\")","v":""},{"$f":"IFERROR(IF($L$6=\"\",\"\",VLOOKUP($L$6&\"_\"&$B54,data_entry,COLUMNS($B$11:AC53),0)),\"\")","v":""},{"$f":"IFERROR(IF($L$6=\"\",\"\",VLOOKUP($L$6&\"_\"&$B54,data_entry,COLUMNS($B$11:AD53),0)),\"\")","v":""},{"$nulls":5},{"$f":"IFERROR(IF($L$6=\"\",\"\",VLOOKUP($L$6&\"_\"&$B54,data_entry,COLUMNS($B$11:AJ53),0)),\"\")","v":""},{"$f":"IFERROR(IF($L$6=\"\",\"\",VLOOKUP($L$6&\"_\"&$B54,data_entry,COLUMNS($B$11:AK53),0)),\"\")","v":""},{"$f":"IFERROR(IF($L$6=\"\",\"\",VLOOKUP($L$6&\"_\"&$B54,data_entry,COLUMNS($B$11:AL53),0)),\"\")","v":""},{"$f":"IFERROR(IF($L$6=\"\",\"\",VLOOKUP($L$6&\"_\"&$B54,data_entry,COLUMNS($B$11:AM53),0)),\"\")","v":""},{"$f":"IFERROR(IF($L$6=\"\",\"\",VLOOKUP($L$6&\"_\"&$B54,data_entry,COLUMNS($B$11:AN53),0)),\"\")","v":""},{"$f":"IFERROR(IF($L$6=\"\",\"\",VLOOKUP($L$6&\"_\"&$B54,data_entry,COLUMNS($B$11:AO53),0)),\"\")","v":""},{"$f":"IFERROR(IF($L$6=\"\",\"\",VLOOKUP($L$6&\"_\"&$B54,data_entry,COLUMNS($B$11:AP53),0)),\"\")","v":""},{"$f":"IFERROR(IF($L$6=\"\",\"\",VLOOKUP($L$6&\"_\"&$B54,data_entry,COLUMNS($B$11:AQ53),0)),\"\")","v":""}]
[0,44,{"$f":"IF(D55=\"\",\"\",ROWS($D$12:D55))","v":""},{"$f":"IFERROR(IF(OR($L$6=\"\",'DATA ENTRY'!C50=\"\"),\"\",VLOOKUP($L$6&\"_\"&$B55,data_entry,COLUMNS($B$11:D54),0)),\"\")","v":""},{"$f":"IFERROR(IF($L$6=\"\",\"\",VLOOKUP($L$6&\"_\"&$B55,data_entry,COLUMNS($B$11:E54),0)),\"\")","v":""},{"$f":"IFERROR(IF($L$6=\"\",\"\",VLOOKUP($L$6&\"_\"&$B55,data_entry,COLUMNS($B$11:F54),0)),\"\")","v":""},{"$f":"IFERROR(IF($L$6=\"\",\"\",VLOOKUP($L$6&\"_\"&$B55,data_entry,COLUMNS($B$11:G54),0)),\"\")","v":""},{"$f":"IFERROR(IF($L$6=\"\",\"\",VLOOKUP($L$6&\"_\"&$B55,data_entry,COLUMNS($B$11:H54),0)),\"\")","v":""},{"$f":"IFERROR(IF($L$6=\"\",\"\",VLOOKUP($L$6&\"_\"&$B55,data_entry,COLUMNS($B$11:I54),0)),\"\")","v":""},{"$f":"IFERROR(IF($L$6=\"\",\"\",VLOOKUP($L$6&\"_\"&$B55,data_entry,COLUMNS($B$11:J54),0)),\"\")","v":""},{"$f":"IFERROR(IF($L$6=\"\",\"\",VLOOKUP($L$6&\"_\"&$B55,data_entry,COLUMNS($B$11:K54),0)),\"\")","v":""},{"$f":"IFERROR(IF($L$6=\"\",\"\",VLOOKUP($L$6&\"_\"&$B55,data_entry,COLUMNS($B$11:L54),0)),\"\")","v":""},{"$f":"IFERROR(IF($L$6=\"\",\"\",VLOOKUP($L$6&\"_\"&$B55,data_entry,COLUMNS($B$11:M54),0)),\"\")","v":""},{"$f":"IFERROR(IF($L$6=\"\",\"\",VLOOKUP($L$6&\"_\"&$B55,data_entry,COLUMNS($B$11:N54),0)),\"\")","v":""},{"$f":"IFERROR(IF($L$6=\"\",\"\",VLOOKUP($L$6&\"_\"&$B55,data_entry,COLUMNS($B$11:O54),0)),\"\")","v":""},{"$f":"IFERROR(IF($L$6=\"\",\"\",VLOOKUP($L$6&\"_\"&$B55,data_entry,COLUMNS($B$11:P54),0)),\"\")","v":""},{"$f":"IFERROR(IF($L$6=\"\",\"\",VLOOKUP($L$6&\"_\"&$B55,data_entry,COLUMNS($B$11:Q54),0)),\"\")","v":""},{"$f":"IFERROR(IF($L$6=\"\",\"\",VLOOKUP($L$6&\"_\"&$B55,data_entry,COLUMNS($B$11:R54),0)),\"\")","v":""},{"$f":"IFERROR(IF($L$6=\"\",\"\",VLOOKUP($L$6&\"_\"&$B55,data_entry,COLUMNS($B$11:S54),0)),\"\")","v":""},{"$f":"IFERROR(IF($L$6=\"\",\"\",VLOOKUP($L$6&\"_\"&$B55,data_entry,COLUMNS($B$11:T54),0)),\"\")","v":""},{"$f":"IFERROR(IF($L$6=\"\",\"\",VLOOKUP($L$6&\"_\"&$B55,data_entry,COLUMNS($B$11:U54),0)),\"\")","v":""},{"$f":"IFERROR(IF($L$6=\"\",\"\",VLOOKUP($L$6&\"_\"&$B55,data_entry,COLUMNS($B$11:V54),0)),\"\")","v":""},{"$f":"IFERROR(IF($L$6=\"\",\"\",VLOOKUP($L$6&\"_\"&$B55,data_entry,COLUMNS($B$11:W54),0)),\"\")","v":""},{"$f":"IFERROR(IF($L$6=\"\",\"\",VLOOKUP($L$6&\"_\"&$B55,data_entry,COLUMNS($B$11:X54),0)),\"\")","v":""},{"$f":"IFERROR(IF($L$6=\"\",\"\",VLOOKUP($L$6&\"_\"&$B55,data_entry,COLUMNS($B$11:Y54),0)),\"\")","v":""},{"$f":"IFERROR(IF($L$6=\"\",\"\",VLOOKUP($L$6&\"_\"&$B55,data_entry,COLUMNS($B$11:Z54),0)),\"\")","v":""},{"$f":"IFERROR(IF($L$6=\"\",\"\",VLOOKUP($L$6&\"_\"&$B55,data_entry,COLUMNS($B$11:AA54),0)),\"\")","v":""},{"$f":"IFERROR(IF($L$6=\"\",\"\",VLOOKUP($L$6&\"_\"&$B55,data_entry,COLUMNS($B$11:AB54),0)),\"\")","v":""},{"$f":"IFERROR(IF($L$6=\"\",\"\",VLOOKUP($L$6&\"_\"&$B55,data_entry,COLUMNS($B$11:AC54),0)),\"\")","v":""},{"$f":"IFERROR(IF($L$6=\"\",\"\",VLOOKUP($L$6&\"_\"&$B55,data_entry,COLUMNS($B$11:AD54),0)),\"\")","v":""},{"$nulls":5},{"$f":"IFERROR(IF($L$6=\"\",\"\",VLOOKUP($L$6&\"_\"&$B55,data_entry,COLUMNS($B$11:AJ54),0)),\"\")","v":""},{"$f":"IFERROR(IF($L$6=\"\",\"\",VLOOKUP($L$6&\"_\"&$B55,data_entry,COLUMNS($B$11:AK54),0)),\"\")","v":""},{"$f":"IFERROR(IF($L$6=\"\",\"\",VLOOKUP($L$6&\"_\"&$B55,data_entry,COLUMNS($B$11:AL54),0)),\"\")","v":""},{"$f":"IFERROR(IF($L$6=\"\",\"\",VLOOKUP($L$6&\"_\"&$B55,data_entry,COLUMNS($B$11:AM54),0)),\"\")","v":""},{"$f":"IFERROR(IF($L$6=\"\",\"\",VLOOKUP($L$6&\"_\"&$B55,data_entry,COLUMNS($B$11:AN54),0)),\"\")","v":""},{"$f":"IFERROR(IF($L$6=\"\",\"\",VLOOKUP($L$6&\"_\"&$B55,data_entry,COLUMNS($B$11:AO54),0)),\"\")","v":""},{"$f":"IFERROR(IF($L$6=\"\",\"\",VLOOKUP($L$6&\"_\"&$B55,data_entry,COLUMNS($B$11:AP54),0)),\"\")","v":""},{"$f":"IFERROR(IF($L$6=\"\",\"\",VLOOKUP($L$6&\"_\"&$B55,data_entry,COLUMNS($B$11:AQ54),0)),\"\")","v":""}]
[0,45,{"$f":"IF(D56=\"\",\"\",ROWS($D$12:D56))","v":""},{"$f":"IFERROR(IF(OR($L$6=\"\",'DATA ENTRY'!C51=\"\"),\"\",VLOOKUP($L$6&\"_\"&$B56,data_entry,COLUMNS($B$11:D55),0)),\"\")","v":""},{"$f":"IFERROR(IF($L$6=\"\",\"\",VLOOKUP($L$6&\"_\"&$B56,data_entry,COLUMNS($B$11:E55),0)),\"\")","v":""},{"$f":"IFERROR(IF($L$6=\"\",\"\",VLOOKUP($L$6&\"_\"&$B56,data_entry,COLUMNS($B$11:F55),0)),\"\")","v":""},{"$f":"IFERROR(IF($L$6=\"\",\"\",VLOOKUP($L$6&\"_\"&$B56,data_entry,COLUMNS($B$11:G55),0)),\"\")","v":""},{"$f":"IFERROR(IF($L$6=\"\",\"\",VLOOKUP($L$6&\"_\"&$B56,data_entry,COLUMNS($B$11:H55),0)),\"\")","v":""},{"$f":"IFERROR(IF($L$6=\"\",\"\",VLOOKUP($L$6&\"_\"&$B56,data_entry,COLUMNS($B$11:I55),0)),\"\")","v":""},{"$f":"IFERROR(IF($L$6=\"\",\"\",VLOOKUP($L$6&\"_\"&$B56,data_entry,COLUMNS($B$11:J55),0)),\"\")","v":""},{"$f":"IFERROR(IF($L$6=\"\",\"\",VLOOKUP($L$6&\"_\"&$B56,data_entry,COLUMNS($B$11:K55),0)),\"\")","v":""},{"$f":"IFERROR(IF($L$6=\"\",\"\",VLOOKUP($L$6&\"_\"&$B56,data_entry,COLUMNS($B$11:L55),0)),\"\")","v":""},{"$f":"IFERROR(IF($L$6=\"\",\"\",VLOOKUP($L$6&\"_\"&$B56,data_entry,COLUMNS($B$11:M55),0)),\"\")","v":""},{"$f":"IFERROR(IF($L$6=\"\",\"\",VLOOKUP($L$6&\"_\"&$B56,data_entry,COLUMNS($B$11:N55),0)),\"\")","v":""},{"$f":"IFERROR(IF($L$6=\"\",\"\",VLOOKUP($L$6&\"_\"&$B56,data_entry,COLUMNS($B$11:O55),0)),\"\")","v":""},{"$f":"IFERROR(IF($L$6=\"\",\"\",VLOOKUP($L$6&\"_\"&$B56,data_entry,COLUMNS($B$11:P55),0)),\"\")","v":""},{"$f":"IFERROR(IF($L$6=\"\",\"\",VLOOKUP($L$6&\"_\"&$B56,data_entry,COLUMNS($B$11:Q55),0)),\"\")","v":""},{"$f":"IFERROR(IF($L$6=\"\",\"\",VLOOKUP($L$6&\"_\"&$B56,data_entry,COLUMNS($B$11:R55),0)),\"\")","v":""},{"$f":"IFERROR(IF($L$6=\"\",\"\",VLOOKUP($L$6&\"_\"&$B56,data_entry,COLUMNS($B$11:S55),0)),\"\")","v":""},{"$f":"IFERROR(IF($L$6=\"\",\"\",VLOOKUP($L$6&\"_\"&$B56,data_entry,COLUMNS($B$11:T55),0)),\"\")","v":""},{"$f":"IFERROR(IF($L$6=\"\",\"\",VLOOKUP($L$6&\"_\"&$B56,data_entry,COLUMNS($B$11:U55),0)),\"\")","v":""},{"$f":"IFERROR(IF($L$6=\"\",\"\",VLOOKUP($L$6&\"_\"&$B56,data_entry,COLUMNS($B$11:V55),0)),\"\")","v":""},{"$f":"IFERROR(IF($L$6=\"\",\"\",VLOOKUP($L$6&\"_\"&$B56,data_entry,COLUMNS($B$11:W55),0)),\"\")","v":""},{"$f":"IFERROR(IF($L$6=\"\",\"\",VLOOKUP($L$6&\"_\"&$B56,data_entry,COLUMNS($B$11:X55),0)),\"\")","v":""},{"$f":"IFERROR(IF($L$6=\"\",\"\",VLOOKUP($L$6&\"_\"&$B56,data_entry,COLUMNS($B$11:Y55),0)),\"\")","v":""},{"$f":"IFERROR(IF($L$6=\"\",\"\",VLOOKUP($L$6&\"_\"&$B56,data_entry,COLUMNS($B$11:Z55),0)),\"\")","v":""},{"$f":"IFERROR(IF($L$6=\"\",\"\",VLOOKUP($L$6&\"_\"&$B56,data_entry,COLUMNS($B$11:AA55),0)),\"\")","v":""},{"$f":"IFERROR(IF($L$6=\"\",\"\",VLOOKUP($L$6&\"_\"&$B56,data_entry,COLUMNS($B$11:AB55),0)),\"\")","v":""},{"$f":"IFERROR(IF($L$6=\"\",\"\",VLOOKUP($L$6&\"_\"&$B56,data_entry,COLUMNS($B$11:AC55),0)),\"\")","v":""},{"$f":"IFERROR(IF($L$6=\"\",\"\",VLOOKUP($L$6&\"_\"&$B56,data_entry,COLUMNS($B$11:AD55),0)),\"\")","v":""},{"$nulls":5},{"$f":"IFERROR(IF($L$6=\"\",\"\",VLOOKUP($L$6&\"_\"&$B56,data_entry,COLUMNS($B$11:AJ55),0)),\"\")","v":""},{"$f":"IFERROR(IF($L$6=\"\",\"\",VLOOKUP($L$6&\"_\"&$B56,data_entry,COLUMNS($B$11:AK55),0)),\"\")","v":""},{"$f":"IFERROR(IF($L$6=\"\",\"\",VLOOKUP($L$6&\"_\"&$B56,data_entry,COLUMNS($B$11:AL55),0)),\"\")","v":""},{"$f":"IFERROR(IF($L$6=\"\",\"\",VLOOKUP($L$6&\"_\"&$B56,data_entry,COLUMNS($B$11:AM55),0)),\"\")","v":""},{"$f":"IFERROR(IF($L$6=\"\",\"\",VLOOKUP($L$6&\"_\"&$B56,data_entry,COLUMNS($B$11:AN55),0)),\"\")","v":""},{"$f":"IFERROR(IF($L$6=\"\",\"\",VLOOKUP($L$6&\"_\"&$B56,data_entry,COLUMNS($B$11:AO55),0)),\"\")","v":""},{"$f":"IFERROR(IF($L$6=\"\",\"\",VLOOKUP($L$6&\"_\"&$B56,data_entry,COLUMNS($B$11:AP55),0)),\"\")","v":""},{"$f":"IFERROR(IF($L$6=\"\",\"\",VLOOKUP($L$6&\"_\"&$B56,data_entry,COLUMNS($B$11:AQ55),0)),\"\")","v":""}]
[0,46,{"$f":"IF(D57=\"\",\"\",ROWS($D$12:D57))","v":""},{"$f":"IFERROR(IF(OR($L$6=\"\",'DATA ENTRY'!C52=\"\"),\"\",VLOOKUP($L$6&\"_\"&$B57,data_entry,COLUMNS($B$11:D56),0)),\"\")","v":""},{"$f":"IFERROR(IF($L$6=\"\",\"\",VLOOKUP($L$6&\"_\"&$B57,data_entry,COLUMNS($B$11:E56),0)),\"\")","v":""},{"$f":"IFERROR(IF($L$6=\"\",\"\",VLOOKUP($L$6&\"_\"&$B57,data_entry,COLUMNS($B$11:F56),0)),\"\")","v":""},{"$f":"IFERROR(IF($L$6=\"\",\"\",VLOOKUP($L$6&\"_\"&$B57,data_entry,COLUMNS($B$11:G56),0)),\"\")","v":""},{"$f":"IFERROR(IF($L$6=\"\",\"\",VLOOKUP($L$6&\"_\"&$B57,data_entry,COLUMNS($B$11:H56),0)),\"\")","v":""},{"$f":"IFERROR(IF($L$6=\"\",\"\",VLOOKUP($L$6&\"_\"&$B57,data_entry,COLUMNS($B$11:I56),0)),\"\")","v":""},{"$f":"IFERROR(IF($L$6=\"\",\"\",VLOOKUP($L$6&\"_\"&$B57,data_entry,COLUMNS($B$11:J56),0)),\"\")","v":""},{"$f":"IFERROR(IF($L$6=\"\",\"\",VLOOKUP($L$6&\"_\"&$B57,data_entry,COLUMNS($B$11:K56),0)),\"\")","v":""},{"$f":"IFERROR(IF($L$6=\"\",\"\",VLOOKUP($L$6&\"_\"&$B57,data_entry,COLUMNS($B$11:L56),0)),\"\")","v":""},{"$f":"IFERROR(IF($L$6=\"\",\"\",VLOOKUP($L$6&\"_\"&$B57,data_entry,COLUMNS($B$11:M56),0)),\"\")","v":""},{"$f":"IFERROR(IF($L$6=\"\",\"\",VLOOKUP($L$6&\"_\"&$B57,data_entry,COLUMNS($B$11:N56),0)),\"\")","v":""},{"$f":"IFERROR(IF($L$6=\"\",\"\",VLOOKUP($L$6&\"_\"&$B57,data_entry,COLUMNS($B$11:O56),0)),\"\")","v":""},{"$f":"IFERROR(IF($L$6=\"\",\"\",VLOOKUP($L$6&\"_\"&$B57,data_entry,COLUMNS($B$11:P56),0)),\"\")","v":""},{"$f":"IFERROR(IF($L$6=\"\",\"\",VLOOKUP($L$6&\"_\"&$B57,data_entry,COLUMNS($B$11:Q56),0)),\"\")","v":""},{"$f":"IFERROR(IF($L$6=\"\",\"\",VLOOKUP($L$6&\"_\"&$B57,data_entry,COLUMNS($B$11:R56),0)),\"\")","v":""},{"$f":"IFERROR(IF($L$6=\"\",\"\",VLOOKUP($L$6&\"_\"&$B57,data_entry,COLUMNS($B$11:S56),0)),\"\")","v":""},{"$f":"IFERROR(IF($L$6=\"\",\"\",VLOOKUP($L$6&\"_\"&$B57,data_entry,COLUMNS($B$11:T56),0)),\"\")","v":""},{"$f":"IFERROR(IF($L$6=\"\",\"\",VLOOKUP($L$6&\"_\"&$B57,data_entry,COLUMNS($B$11:U56),0)),\"\")","v":""},{"$f":"IFERROR(IF($L$6=\"\",\"\",VLOOKUP($L$6&\"_\"&$B57,data_entry,COLUMNS($B$11:V56),0)),\"\")","v":""},{"$f":"IFERROR(IF($L$6=\"\",\"\",VLOOKUP($L$6&\"_\"&$B57,data_entry,COLUMNS($B$11:W56),0)),\"\")","v":""},{"$f":"IFERROR(IF($L$6=\"\",\"\",VLOOKUP($L$6&\"_\"&$B57,data_entry,COLUMNS($B$11:X56),0)),\"\")","v":""},{"$f":"IFERROR(IF($L$6=\"\",\"\",VLOOKUP($L$6&\"_\"&$B57,data_entry,COLUMNS($B$11:Y56),0)),\"\")","v":""},{"$f":"IFERROR(IF($L$6=\"\",\"\",VLOOKUP($L$6&\"_\"&$B57,data_entry,COLUMNS($B$11:Z56),0)),\"\")","v":""},{"$f":"IFERROR(IF($L$6=\"\",\"\",VLOOKUP($L$6&\"_\"&$B57,data_entry,COLUMNS($B$11:AA56),0)),\"\")","v":""},{"$f":"IFERROR(IF($L$6=\"\",\"\",VLOOKUP($L$6&\"_\"&$B57,data_entry,COLUMNS($B$11:AB56),0)),\"\")","v":""},{"$f":"IFERROR(IF($L$6=\"\",\"\",VLOOKUP($L$6&\"_\"&$B57,data_entry,COLUMNS($B$11:AC56),0)),\"\")","v":""},{"$f":"IFERROR(IF($L$6=\"\",\"\",VLOOKUP($L$6&\"_\"&$B57,data_entry,COLUMNS($B$11:AD56),0)),\"\")","v":""},{"$nulls":5},{"$f":"IFERROR(IF($L$6=\"\",\"\",VLOOKUP($L$6&\"_\"&$B57,data_entry,COLUMNS($B$11:AJ56),0)),\"\")","v":""},{"$f":"IFERROR(IF($L$6=\"\",\"\",VLOOKUP($L$6&\"_\"&$B57,data_entry,COLUMNS($B$11:AK56),0)),\"\")","v":""},{"$f":"IFERROR(IF($L$6=\"\",\"\",VLOOKUP($L$6&\"_\"&$B57,data_entry,COLUMNS($B$11:AL56),0)),\"\")","v":""},{"$f":"IFERROR(IF($L$6=\"\",\"\",VLOOKUP($L$6&\"_\"&$B57,data_entry,COLUMNS($B$11:AM56),0)),\"\")","v":""},{"$f":"IFERROR(IF($L$6=\"\",\"\",VLOOKUP($L$6&\"_\"&$B57,data_entry,COLUMNS($B$11:AN56),0)),\"\")","v":""},{"$f":"IFERROR(IF($L$6=\"\",\"\",VLOOKUP($L$6&\"_\"&$B57,data_entry,COLUMNS($B$11:AO56),0)),\"\")","v":""},{"$f":"IFERROR(IF($L$6=\"\",\"\",VLOOKUP($L$6&\"_\"&$B57,data_entry,COLUMNS($B$11:AP56),0)),\"\")","v":""},{"$f":"IFERROR(IF($L$6=\"\",\"\",VLOOKUP($L$6&\"_\"&$B57,data_entry,COLUMNS($B$11:AQ56),0)),\"\")","v":""}]
[0,47,{"$f":"IF(D58=\"\",\"\",ROWS($D$12:D58))","v":""},{"$f":"IFERROR(IF(OR($L$6=\"\",'DATA ENTRY'!C53=\"\"),\"\",VLOOKUP($L$6&\"_\"&$B58,data_entry,COLUMNS($B$11:D57),0)),\"\")","v":""},{"$f":"IFERROR(IF($L$6=\"\",\"\",VLOOKUP($L$6&\"_\"&$B58,data_entry,COLUMNS($B$11:E57),0)),\"\")","v":""},{"$f":"IFERROR(IF($L$6=\"\",\"\",VLOOKUP($L$6&\"_\"&$B58,data_entry,COLUMNS($B$11:F57),0)),\"\")","v":""},{"$f":"IFERROR(IF($L$6=\"\",\"\",VLOOKUP($L$6&\"_\"&$B58,data_entry,COLUMNS($B$11:G57),0)),\"\")","v":""},{"$f":"IFERROR(IF($L$6=\"\",\"\",VLOOKUP($L$6&\"_\"&$B58,data_entry,COLUMNS($B$11:H57),0)),\"\")","v":""},{"$f":"IFERROR(IF($L$6=\"\",\"\",VLOOKUP($L$6&\"_\"&$B58,data_entry,COLUMNS($B$11:I57),0)),\"\")","v":""},{"$f":"IFERROR(IF($L$6=\"\",\"\",VLOOKUP($L$6&\"_\"&$B58,data_entry,COLUMNS($B$11:J57),0)),\"\")","v":""},{"$f":"IFERROR(IF($L$6=\"\",\"\",VLOOKUP($L$6&\"_\"&$B58,data_entry,COLUMNS($B$11:K57),0)),\"\")","v":""},{"$f":"IFERROR(IF($L$6=\"\",\"\",VLOOKUP($L$6&\"_\"&$B58,data_entry,COLUMNS($B$11:L57),0)),\"\")","v":""},{"$f":"IFERROR(IF($L$6=\"\",\"\",VLOOKUP($L$6&\"_\"&$B58,data_entry,COLUMNS($B$11:M57),0)),\"\")","v":""},{"$f":"IFERROR(IF($L$6=\"\",\"\",VLOOKUP($L$6&\"_\"&$B58,data_entry,COLUMNS($B$11:N57),0)),\"\")","v":""},{"$f":"IFERROR(IF($L$6=\"\",\"\",VLOOKUP($L$6&\"_\"&$B58,data_entry,COLUMNS($B$11:O57),0)),\"\")","v":""},{"$f":"IFERROR(IF($L$6=\"\",\"\",VLOOKUP($L$6&\"_\"&$B58,data_entry,COLUMNS($B$11:P57),0)),\"\")","v":""},{"$f":"IFERROR(IF($L$6=\"\",\"\",VLOOKUP($L$6&\"_\"&$B58,data_entry,COLUMNS($B$11:Q57),0)),\"\")","v":""},{"$f":"IFERROR(IF($L$6=\"\",\"\",VLOOKUP($L$6&\"_\"&$B58,data_entry,COLUMNS($B$11:R57),0)),\"\")","v":""},{"$f":"IFERROR(IF($L$6=\"\",\"\",VLOOKUP($L$6&\"_\"&$B58,data_entry,COLUMNS($B$11:S57),0)),\"\")","v":""},{"$f":"IFERROR(IF($L$6=\"\",\"\",VLOOKUP($L$6&\"_\"&$B58,data_entry,COLUMNS($B$11:T57),0)),\"\")","v":""},{"$f":"IFERROR(IF($L$6=\"\",\"\",VLOOKUP($L$6&\"_\"&$B58,data_entry,COLUMNS($B$11:U57),0)),\"\")","v":""},{"$f":"IFERROR(IF($L$6=\"\",\"\",VLOOKUP($L$6&\"_\"&$B58,data_entry,COLUMNS($B$11:V57),0)),\"\")","v":""},{"$f":"IFERROR(IF($L$6=\"\",\"\",VLOOKUP($L$6&\"_\"&$B58,data_entry,COLUMNS($B$11:W57),0)),\"\")","v":""},{"$f":"IFERROR(IF($L$6=\"\",\"\",VLOOKUP($L$6&\"_\"&$B58,data_entry,COLUMNS($B$11:X57),0)),\"\")","v":""},{"$f":"IFERROR(IF($L$6=\"\",\"\",VLOOKUP($L$6&\"_\"&$B58,data_entry,COLUMNS($B$11:Y57),0)),\"\")","v":""},{"$f":"IFERROR(IF($L$6=\"\",\"\",VLOOKUP($L$6&\"_\"&$B58,data_entry,COLUMNS($B$11:Z57),0)),\"\")","v":""},{"$f":"IFERROR(IF($L$6=\"\",\"\",VLOOKUP($L$6&\"_\"&$B58,data_entry,COLUMNS($B$11:AA57),0)),\"\")","v":""},{"$f":"IFERROR(IF($L$6=\"\",\"\",VLOOKUP($L$6&\"_\"&$B58,data_entry,COLUMNS($B$11:AB57),0)),\"\")","v":""},{"$f":"IFERROR(IF($L$6=\"\",\"\",VLOOKUP($L$6&\"_\"&$B58,data_entry,COLUMNS($B$11:AC57),0)),\"\")","v":""},{"$f":"IFERROR(IF($L$6=\"\",\"\",VLOOKUP($L$6&\"_\"&$B58,data_entry,COLUMNS($B$11:AD57),0)),\"\")","v":""},{"$nulls":5},{"$f":"IFERROR(IF($L$6=\"\",\"\",VLOOKUP($L$6&\"_\"&$B58,data_entry,COLUMNS($B$11:AJ57),0)),\"\")","v":""},{"$f":"IFERROR(IF($L$6=\"\",\"\",VLOOKUP($L$6&\"_\"&$B58,data_entry,COLUMNS($B$11:AK57),0)),\"\")","v":""},{"$f":"IFERROR(IF($L$6=\"\",\"\",VLOOKUP($L$6&\"_\"&$B58,data_entry,COLUMNS($B$11:AL57),0)),\"\")","v":""},{"$f":"IFERROR(IF($L$6=\"\",\"\",VLOOKUP($L$6&\"_\"&$B58,data_entry,COLUMNS($B$11:AM57),0)),\"\")","v":""},{"$f":"IFERROR(IF($L$6=\"\",\"\",VLOOKUP($L$6&\"_\"&$B58,data_entry,COLUMNS($B$11:AN57),0)),\"\")","v":""},{"$f":"IFERROR(IF($L$6=\"\",\"\",VLOOKUP($L$6&\"_\"&$B58,data_entry,COLUMNS($B$11:AO57),0)),\"\")","v":""},{"$f":"IFERROR(IF($L$6=\"\",\"\",VLOOKUP($L$6&\"_\"&$B58,data_entry,COLUMNS($B$11:AP57),0)),\"\")","v":""},{"$f":"IFERROR(IF($L$6=\"\",\"\",VLOOKUP($L$6&\"_\"&$B58,data_entry,COLUMNS($B$11:AQ57),0)),\"\")","v":""}]
[0,48,{"$f":"IF(D59=\"\",\"\",ROWS($D$12:D59))","v":""},{"$f":"IFERROR(IF(OR($L$6=\"\",'DATA ENTRY'!C54=\"\"),\"\",VLOOKUP($L$6&\"_\"&$B59,data_entry,COLUMNS($B$11:D58),0)),\"\")","v":""},{"$f":"IFERROR(IF($L$6=\"\",\"\",VLOOKUP($L$6&\"_\"&$B59,data_entry,COLUMNS($B$11:E58),0)),\"\")","v":""},{"$f":"IFERROR(IF($L$6=\"\",\"\",VLOOKUP($L$6&\"_\"&$B59,data_entry,COLUMNS($B$11:F58),0)),\"\")","v":""},{"$f":"IFERROR(IF($L$6=\"\",\"\",VLOOKUP($L$6&\"_\"&$B59,data_entry,COLUMNS($B$11:G58),0)),\"\")","v":""},{"$f":"IFERROR(IF($L$6=\"\",\"\",VLOOKUP($L$6&\"_\"&$B59,data_entry,COLUMNS($B$11:H58),0)),\"\")","v":""},{"$f":"IFERROR(IF($L$6=\"\",\"\",VLOOKUP($L$6&\"_\"&$B59,data_entry,COLUMNS($B$11:I58),0)),\"\")","v":""},{"$f":"IFERROR(IF($L$6=\"\",\"\",VLOOKUP($L$6&\"_\"&$B59,data_entry,COLUMNS($B$11:J58),0)),\"\")","v":""},{"$f":"IFERROR(IF($L$6=\"\",\"\",VLOOKUP($L$6&\"_\"&$B59,data_entry,COLUMNS($B$11:K58),0)),\"\")","v":""},{"$f":"IFERROR(IF($L$6=\"\",\"\",VLOOKUP($L$6&\"_\"&$B59,data_entry,COLUMNS($B$11:L58),0)),\"\")","v":""},{"$f":"IFERROR(IF($L$6=\"\",\"\",VLOOKUP($L$6&\"_\"&$B59,data_entry,COLUMNS($B$11:M58),0)),\"\")","v":""},{"$f":"IFERROR(IF($L$6=\"\",\"\",VLOOKUP($L$6&\"_\"&$B59,data_entry,COLUMNS($B$11:N58),0)),\"\")","v":""},{"$f":"IFERROR(IF($L$6=\"\",\"\",VLOOKUP($L$6&\"_\"&$B59,data_entry,COLUMNS($B$11:O58),0)),\"\")","v":""},{"$f":"IFERROR(IF($L$6=\"\",\"\",VLOOKUP($L$6&\"_\"&$B59,data_entry,COLUMNS($B$11:P58),0)),\"\")","v":""},{"$f":"IFERROR(IF($L$6=\"\",\"\",VLOOKUP($L$6&\"_\"&$B59,data_entry,COLUMNS($B$11:Q58),0)),\"\")","v":""},{"$f":"IFERROR(IF($L$6=\"\",\"\",VLOOKUP($L$6&\"_\"&$B59,data_entry,COLUMNS($B$11:R58),0)),\"\")","v":""},{"$f":"IFERROR(IF($L$6=\"\",\"\",VLOOKUP($L$6&\"_\"&$B59,data_entry,COLUMNS($B$11:S58),0)),\"\")","v":""},{"$f":"IFERROR(IF($L$6=\"\",\"\",VLOOKUP($L$6&\"_\"&$B59,data_entry,COLUMNS($B$11:T58),0)),\"\")","v":""},{"$f":"IFERROR(IF($L$6=\"\",\"\",VLOOKUP($L$6&\"_\"&$B59,data_entry,COLUMNS($B$11:U58),0)),\"\")","v":""},{"$f":"IFERROR(IF($L$6=\"\",\"\",VLOOKUP($L$6&\"_\"&$B59,data_entry,COLUMNS($B$11:V58),0)),\"\")","v":""},{"$f":"IFERROR(IF($L$6=\"\",\"\",VLOOKUP($L$6&\"_\"&$B59,data_entry,COLUMNS($B$11:W58),0)),\"\")","v":""},{"$f":"IFERROR(IF($L$6=\"\",\"\",VLOOKUP($L$6&\"_\"&$B59,data_entry,COLUMNS($B$11:X58),0)),\"\")","v":""},{"$f":"IFERROR(IF($L$6=\"\",\"\",VLOOKUP($L$6&\"_\"&$B59,data_entry,COLUMNS($B$11:Y58),0)),\"\")","v":""},{"$f":"IFERROR(IF($L$6=\"\",\"\",VLOOKUP($L$6&\"_\"&$B59,data_entry,COLUMNS($B$11:Z58),0)),\"\")","v":""},{"$f":"IFERROR(IF($L$6=\"\",\"\",VLOOKUP($L$6&\"_\"&$B59,data_entry,COLUMNS($B$11:AA58),0)),\"\")","v":""},{"$f":"IFERROR(IF($L$6=\"\",\"\",VLOOKUP($L$6&\"_\"&$B59,data_entry,COLUMNS($B$11:AB58),0)),\"\")","v":""},{"$f":"IFERROR(IF($L$6=\"\",\"\",VLOOKUP($L$6&\"_\"&$B59,data_entry,COLUMNS($B$11:AC58),0)),\"\")","v":""},{"$f":"IFERROR(IF($L$6=\"\",\"\",VLOOKUP($L$6&\"_\"&$B59,data_entry,COLUMNS($B$11:AD58),0)),\"\")","v":""},{"$nulls":5},{"$f":"IFERROR(IF($L$6=\"\",\"\",VLOOKUP($L$6&\"_\"&$B59,data_entry,COLUMNS($B$11:AJ58),0)),\"\")","v":""},{"$f":"IFERROR(IF($L$6=\"\",\"\",VLOOKUP($L$6&\"_\"&$B59,data_entry,COLUMNS($B$11:AK58),0)),\"\")","v":""},{"$f":"IFERROR(IF($L$6=\"\",\"\",VLOOKUP($L$6&\"_\"&$B59,data_entry,COLUMNS($B$11:AL58),0)),\"\")","v":""},{"$f":"IFERROR(IF($L$6=\"\",\"\",VLOOKUP($L$6&\"_\"&$B59,data_entry,COLUMNS($B$11:AM58),0)),\"\")","v":""},{"$f":"IFERROR(IF($L$6=\"\",\"\",VLOOKUP($L$6&\"_\"&$B59,data_entry,COLUMNS($B$11:AN58),0)),\"\")","v":""},{"$f":"IFERROR(IF($L$6=\"\",\"\",VLOOKUP($L$6&\"_\"&$B59,data_entry,COLUMNS($B$11:AO58),0)),\"\")","v":""},{"$f":"IFERROR(IF($L$6=\"\",\"\",VLOOKUP($L$6&\"_\"&$B59,data_entry,COLUMNS($B$11:AP58),0)),\"\")","v":""},{"$f":"IFERROR(IF($L$6=\"\",\"\",VLOOKUP($L$6&\"_\"&$B59,data_entry,COLUMNS($B$11:AQ58),0)),\"\")","v":""}]
[0,49,{"$f":"IF(D60=\"\",\"\",ROWS($D$12:D60))","v":""},{"$f":"IFERROR(IF(OR($L$6=\"\",'DATA ENTRY'!C55=\"\"),\"\",VLOOKUP($L$6&\"_\"&$B60,data_entry,COLUMNS($B$11:D59),0)),\"\")","v":""},{"$f":"IFERROR(IF($L$6=\"\",\"\",VLOOKUP($L$6&\"_\"&$B60,data_entry,COLUMNS($B$11:E59),0)),\"\")","v":""},{"$f":"IFERROR(IF($L$6=\"\",\"\",VLOOKUP($L$6&\"_\"&$B60,data_entry,COLUMNS($B$11:F59),0)),\"\")","v":""},{"$f":"IFERROR(IF($L$6=\"\",\"\",VLOOKUP($L$6&\"_\"&$B60,data_entry,COLUMNS($B$11:G59),0)),\"\")","v":""},{"$f":"IFERROR(IF($L$6=\"\",\"\",VLOOKUP($L$6&\"_\"&$B60,data_entry,COLUMNS($B$11:H59),0)),\"\")","v":""},{"$f":"IFERROR(IF($L$6=\"\",\"\",VLOOKUP($L$6&\"_\"&$B60,data_entry,COLUMNS($B$11:I59),0)),\"\")","v":""},{"$f":"IFERROR(IF($L$6=\"\",\"\",VLOOKUP($L$6&\"_\"&$B60,data_entry,COLUMNS($B$11:J59),0)),\"\")","v":""},{"$f":"IFERROR(IF($L$6=\"\",\"\",VLOOKUP($L$6&\"_\"&$B60,data_entry,COLUMNS($B$11:K59),0)),\"\")","v":""},{"$f":"IFERROR(IF($L$6=\"\",\"\",VLOOKUP($L$6&\"_\"&$B60,data_entry,COLUMNS($B$11:L59),0)),\"\")","v":""},{"$f":"IFERROR(IF($L$6=\"\",\"\",VLOOKUP($L$6&\"_\"&$B60,data_entry,COLUMNS($B$11:M59),0)),\"\")","v":""},{"$f":"IFERROR(IF($L$6=\"\",\"\",VLOOKUP($L$6&\"_\"&$B60,data_entry,COLUMNS($B$11:N59),0)),\"\")","v":""},{"$f":"IFERROR(IF($L$6=\"\",\"\",VLOOKUP($L$6&\"_\"&$B60,data_entry,COLUMNS($B$11:O59),0)),\"\")","v":""},{"$f":"IFERROR(IF($L$6=\"\",\"\",VLOOKUP($L$6&\"_\"&$B60,data_entry,COLUMNS($B$11:P59),0)),\"\")","v":""},{"$f":"IFERROR(IF($L$6=\"\",\"\",VLOOKUP($L$6&\"_\"&$B60,data_entry,COLUMNS($B$11:Q59),0)),\"\")","v":""},{"$f":"IFERROR(IF($L$6=\"\",\"\",VLOOKUP($L$6&\"_\"&$B60,data_entry,COLUMNS($B$11:R59),0)),\"\")","v":""},{"$f":"IFERROR(IF($L$6=\"\",\"\",VLOOKUP($L$6&\"_\"&$B60,data_entry,COLUMNS($B$11:S59),0)),\"\")","v":""},{"$f":"IFERROR(IF($L$6=\"\",\"\",VLOOKUP($L$6&\"_\"&$B60,data_entry,COLUMNS($B$11:T59),0)),\"\")","v":""},{"$f":"IFERROR(IF($L$6=\"\",\"\",VLOOKUP($L$6&\"_\"&$B60,data_entry,COLUMNS($B$11:U59),0)),\"\")","v":""},{"$f":"IFERROR(IF($L$6=\"\",\"\",VLOOKUP($L$6&\"_\"&$B60,data_entry,COLUMNS($B$11:V59),0)),\"\")","v":""},{"$f":"IFERROR(IF($L$6=\"\",\"\",VLOOKUP($L$6&\"_\"&$B60,data_entry,COLUMNS($B$11:W59),0)),\"\")","v":""},{"$f":"IFERROR(IF($L$6=\"\",\"\",VLOOKUP($L$6&\"_\"&$B60,data_entry,COLUMNS($B$11:X59),0)),\"\")","v":""},{"$f":"IFERROR(IF($L$6=\"\",\"\",VLOOKUP($L$6&\"_\"&$B60,data_entry,COLUMNS($B$11:Y59),0)),\"\")","v":""},{"$f":"IFERROR(IF($L$6=\"\",\"\",VLOOKUP($L$6&\"_\"&$B60,data_entry,COLUMNS($B$11:Z59),0)),\"\")","v":""},{"$f":"IFERROR(IF($L$6=\"\",\"\",VLOOKUP($L$6&\"_\"&$B60,data_entry,COLUMNS($B$11:AA59),0)),\"\")","v":""},{"$f":"IFERROR(IF($L$6=\"\",\"\",VLOOKUP($L$6&\"_\"&$B60,data_entry,COLUMNS($B$11:AB59),0)),\"\")","v":""},{"$f":"IFERROR(IF($L$6=\"\",\"\",VLOOKUP($L$6&\"_\"&$B60,data_entry,COLUMNS($B$11:AC59),0)),\"\")","v":""},{"$f":"IFERROR(IF($L$6=\"\",\"\",VLOOKUP($L$6&\"_\"&$B60,data_entry,COLUMNS($B$11:AD59),0)),\"\")","v":""},{"$nulls":5},{"$f":"IFERROR(IF($L$6=\"\",\"\",VLOOKUP($L$6&\"_\"&$B60,data_entry,COLUMNS($B$11:AJ59),0)),\"\")","v":""},{"$f":"IFERROR(IF($L$6=\"\",\"\",VLOOKUP($L$6&\"_\"&$B60,data_entry,COLUMNS($B$11:AK59),0)),\"\")","v":""},{"$f":"IFERROR(IF($L$6=\"\",\"\",VLOOKUP($L$6&\"_\"&$B60,data_entry,COLUMNS($B$11:AL59),0)),\"\")","v":""},{"$f":"IFERROR(IF($L$6=\"\",\"\",VLOOKUP($L$6&\"_\"&$B60,data_entry,COLUMNS($B$11:AM59),0)),\"\")","v":""},{"$f":"IFERROR(IF($L$6=\"\",\"\",VLOOKUP($L$6&\"_\"&$B60,data_entry,COLUMNS($B$11:AN59),0)),\"\")","v":""},{"$f":"IFERROR(IF($L$6=\"\",\"\",VLOOKUP($L$6&\"_\"&$B60,data_entry,COLUMNS($B$11:AO59),0)),\"\")","v":""},{"$f":"IFERROR(IF($L$6=\"\",\"\",VLOOKUP($L$6&\"_\"&$B60,data_entry,COLUMNS($B$11:AP59),0)),\"\")","v":""},{"$f":"IFERROR(IF($L$6=\"\",\"\",VLOOKUP($L$6&\"_\"&$B60,data_entry,COLUMNS($B$11:AQ59),0)),\"\")","v":""}]
[0,50,{"$f":"IF(D61=\"\",\"\",ROWS($D$12:D61))","v":""},{"$f":"IFERROR(IF(OR($L$6=\"\",'DATA ENTRY'!C56=\"\"),\"\",VLOOKUP($L$6&\"_\"&$B61,data_entry,COLUMNS($B$11:D60),0)),\"\")","v":""},{"$f":"IFERROR(IF($L$6=\"\",\"\",VLOOKUP($L$6&\"_\"&$B61,data_entry,COLUMNS($B$11:E60),0)),\"\")","v":""},{"$f":"IFERROR(IF($L$6=\"\",\"\",VLOOKUP($L$6&\"_\"&$B61,data_entry,COLUMNS($B$11:F60),0)),\"\")","v":""},{"$f":"IFERROR(IF($L$6=\"\",\"\",VLOOKUP($L$6&\"_\"&$B61,data_entry,COLUMNS($B$11:G60),0)),\"\")","v":""},{"$f":"IFERROR(IF($L$6=\"\",\"\",VLOOKUP($L$6&\"_\"&$B61,data_entry,COLUMNS($B$11:H60),0)),\"\")","v":""},{"$f":"IFERROR(IF($L$6=\"\",\"\",VLOOKUP($L$6&\"_\"&$B61,data_entry,COLUMNS($B$11:I60),0)),\"\")","v":""},{"$f":"IFERROR(IF($L$6=\"\",\"\",VLOOKUP($L$6&\"_\"&$B61,data_entry,COLUMNS($B$11:J60),0)),\"\")","v":""},{"$f":"IFERROR(IF($L$6=\"\",\"\",VLOOKUP($L$6&\"_\"&$B61,data_entry,COLUMNS($B$11:K60),0)),\"\")","v":""},{"$f":"IFERROR(IF($L$6=\"\",\"\",VLOOKUP($L$6&\"_\"&$B61,data_entry,COLUMNS($B$11:L60),0)),\"\")","v":""},{"$f":"IFERROR(IF($L$6=\"\",\"\",VLOOKUP($L$6&\"_\"&$B61,data_entry,COLUMNS($B$11:M60),0)),\"\")","v":""},{"$f":"IFERROR(IF($L$6=\"\",\"\",VLOOKUP($L$6&\"_\"&$B61,data_entry,COLUMNS($B$11:N60),0)),\"\")","v":""},{"$f":"IFERROR(IF($L$6=\"\",\"\",VLOOKUP($L$6&\"_\"&$B61,data_entry,COLUMNS($B$11:O60),0)),\"\")","v":""},{"$f":"IFERROR(IF($L$6=\"\",\"\",VLOOKUP($L$6&\"_\"&$B61,data_entry,COLUMNS($B$11:P60),0)),\"\")","v":""},{"$f":"IFERROR(IF($L$6=\"\",\"\",VLOOKUP($L$6&\"_\"&$B61,data_entry,COLUMNS($B$11:Q60),0)),\"\")","v":""},{"$f":"IFERROR(IF($L$6=\"\",\"\",VLOOKUP($L$6&\"_\"&$B61,data_entry,COLUMNS($B$11:R60),0)),\"\")","v":""},{"$f":"IFERROR(IF($L$6=\"\",\"\",VLOOKUP($L$6&\"_\"&$B61,data_entry,COLUMNS($B$11:S60),0)),\"\")","v":""},{"$f":"IFERROR(IF($L$6=\"\",\"\",VLOOKUP($L$6&\"_\"&$B61,data_entry,COLUMNS($B$11:T60),0)),\"\")","v":""},{"$f":"IFERROR(IF($L$6=\"\",\"\",VLOOKUP($L$6&\"_\"&$B61,data_entry,COLUMNS($B$11:U60),0)),\"\")","v":""},{"$f":"IFERROR(IF($L$6=\"\",\"\",VLOOKUP($L$6&\"_\"&$B61,data_entry,COLUMNS($B$11:V60),0)),\"\")","v":""},{"$f":"IFERROR(IF($L$6=\"\",\"\",VLOOKUP($L$6&\"_\"&$B61,data_entry,COLUMNS($B$11:W60),0)),\"\")","v":""},{"$f":"IFERROR(IF($L$6=\"\",\"\",VLOOKUP($L$6&\"_\"&$B61,data_entry,COLUMNS($B$11:X60),0)),\"\")","v":""},{"$f":"IFERROR(IF($L$6=\"\",\"\",VLOOKUP($L$6&\"_\"&$B61,data_entry,COLUMNS($B$11:Y60),0)),\"\")","v":""},{"$f":"IFERROR(IF($L$6=\"\",\"\",VLOOKUP($L$6&\"_\"&$B61,data_entry,COLUMNS($B$11:Z60),0)),\"\")","v":""},{"$f":"IFERROR(IF($L$6=\"\",\"\",VLOOKUP($L$6&\"_\"&$B61,data_entry,COLUMNS($B$11:AA60),0)),\"\")","v":""},{"$f":"IFERROR(IF($L$6=\"\",\"\",VLOOKUP($L$6&\"_\"&$B61,data_entry,COLUMNS($B$11:AB60),0)),\"\")","v":""},{"$f":"IFERROR(IF($L$6=\"\",\"\",VLOOKUP($L$6&\"_\"&$B61,data_entry,COLUMNS($B$11:AC60),0)),\"\")","v":""},{"$f":"IFERROR(IF($L$6=\"\",\"\",VLOOKUP($L$6&\"_\"&$B61,data_entry,COLUMNS($B$11:AD60),0)),\"\")","v":""},{"$nulls":5},{"$f":"IFERROR(IF($L$6=\"\",\"\",VLOOKUP($L$6&\"_\"&$B61,data_entry,COLUMNS($B$11:AJ60),0)),\"\")","v":""},{"$f":"IFERROR(IF($L$6=\"\",\"\",VLOOKUP($L$6&\"_\"&$B61,data_entry,COLUMNS($B$11:AK60),0)),\"\")","v":""},{"$f":"IFERROR(IF($L$6=\"\",\"\",VLOOKUP($L$6&\"_\"&$B61,data_entry,COLUMNS($B$11:AL60),0)),\"\")","v":""},{"$f":"IFERROR(IF($L$6=\"\",\"\",VLOOKUP($L$6&\"_\"&$B61,data_entry,COLUMNS($B$11:AM60),0)),\"\")","v":""},{"$f":"IFERROR(IF($L$6=\"\",\"\",VLOOKUP($L$6&\"_\"&$B61,data_entry,COLUMNS($B$11:AN60),0)),\"\")","v":""},{"$f":"IFERROR(IF($L$6=\"\",\"\",VLOOKUP($L$6&\"_\"&$B61,data_entry,COLUMNS($B$11:AO60),0)),\"\")","v":""},{"$f":"IFERROR(IF($L$6=\"\",\"\",VLOOKUP($L$6&\"_\"&$B61,data_entry,COLUMNS($B$11:AP60),0)),\"\")","v":""},{"$f":"IFERROR(IF($L$6=\"\",\"\",VLOOKUP($L$6&\"_\"&$B61,data_entry,COLUMNS($B$11:AQ60),0)),\"\")","v":""}]
[0,51,{"$f":"IF(D62=\"\",\"\",ROWS($D$12:D62))","v":""},{"$f":"IFERROR(IF(OR($L$6=\"\",'DATA ENTRY'!C57=\"\"),\"\",VLOOKUP($L$6&\"_\"&$B62,data_entry,COLUMNS($B$11:D61),0)),\"\")","v":""},{"$f":"IFERROR(IF($L$6=\"\",\"\",VLOOKUP($L$6&\"_\"&$B62,data_entry,COLUMNS($B$11:E61),0)),\"\")","v":""},{"$f":"IFERROR(IF($L$6=\"\",\"\",VLOOKUP($L$6&\"_\"&$B62,data_entry,COLUMNS($B$11:F61),0)),\"\")","v":""},{"$f":"IFERROR(IF($L$6=\"\",\"\",VLOOKUP($L$6&\"_\"&$B62,data_entry,COLUMNS($B$11:G61),0)),\"\")","v":""},{"$f":"IFERROR(IF($L$6=\"\",\"\",VLOOKUP($L$6&\"_\"&$B62,data_entry,COLUMNS($B$11:H61),0)),\"\")","v":""},{"$f":"IFERROR(IF($L$6=\"\",\"\",VLOOKUP($L$6&\"_\"&$B62,data_entry,COLUMNS($B$11:I61),0)),\"\")","v":""},{"$f":"IFERROR(IF($L$6=\"\",\"\",VLOOKUP($L$6&\"_\"&$B62,data_entry,COLUMNS($B$11:J61),0)),\"\")","v":""},{"$f":"IFERROR(IF($L$6=\"\",\"\",VLOOKUP($L$6&\"_\"&$B62,data_entry,COLUMNS($B$11:K61),0)),\"\")","v":""},{"$f":"IFERROR(IF($L$6=\"\",\"\",VLOOKUP($L$6&\"_\"&$B62,data_entry,COLUMNS($B$11:L61),0)),\"\")","v":""},{"$f":"IFERROR(IF($L$6=\"\",\"\",VLOOKUP($L$6&\"_\"&$B62,data_entry,COLUMNS($B$11:M61),0)),\"\")","v":""},{"$f":"IFERROR(IF($L$6=\"\",\"\",VLOOKUP($L$6&\"_\"&$B62,data_entry,COLUMNS($B$11:N61),0)),\"\")","v":""},{"$f":"IFERROR(IF($L$6=\"\",\"\",VLOOKUP($L$6&\"_\"&$B62,data_entry,COLUMNS($B$11:O61),0)),\"\")","v":""},{"$f":"IFERROR(IF($L$6=\"\",\"\",VLOOKUP($L$6&\"_\"&$B62,data_entry,COLUMNS($B$11:P61),0)),\"\")","v":""},{"$f":"IFERROR(IF($L$6=\"\",\"\",VLOOKUP($L$6&\"_\"&$B62,data_entry,COLUMNS($B$11:Q61),0)),\"\")","v":""},{"$f":"IFERROR(IF($L$6=\"\",\"\",VLOOKUP($L$6&\"_\"&$B62,data_entry,COLUMNS($B$11:R61),0)),\"\")","v":""},{"$f":"IFERROR(IF($L$6=\"\",\"\",VLOOKUP($L$6&\"_\"&$B62,data_entry,COLUMNS($B$11:S61),0)),\"\")","v":""},{"$f":"IFERROR(IF($L$6=\"\",\"\",VLOOKUP($L$6&\"_\"&$B62,data_entry,COLUMNS($B$11:T61),0)),\"\")","v":""},{"$f":"IFERROR(IF($L$6=\"\",\"\",VLOOKUP($L$6&\"_\"&$B62,data_entry,COLUMNS($B$11:U61),0)),\"\")","v":""},{"$f":"IFERROR(IF($L$6=\"\",\"\",VLOOKUP($L$6&\"_\"&$B62,data_entry,COLUMNS($B$11:V61),0)),\"\")","v":""},{"$f":"IFERROR(IF($L$6=\"\",\"\",VLOOKUP($L$6&\"_\"&$B62,data_entry,COLUMNS($B$11:W61),0)),\"\")","v":""},{"$f":"IFERROR(IF($L$6=\"\",\"\",VLOOKUP($L$6&\"_\"&$B62,data_entry,COLUMNS($B$11:X61),0)),\"\")","v":""},{"$f":"IFERROR(IF($L$6=\"\",\"\",VLOOKUP($L$6&\"_\"&$B62,data_entry,COLUMNS($B$11:Y61),0)),\"\")","v":""},{"$f":"IFERROR(IF($L$6=\"\",\"\",VLOOKUP($L$6&\"_\"&$B62,data_entry,COLUMNS($B$11:Z61),0)),\"\")","v":""},{"$f":"IFERROR(IF($L$6=\"\",\"\",VLOOKUP($L$6&\"_\"&$B62,data_entry,COLUMNS($B$11:AA61),0)),\"\")","v":""},{"$f":"IFERROR(IF($L$6=\"\",\"\",VLOOKUP($L$6&\"_\"&$B62,data_entry,COLUMNS($B$11:AB61),0)),\"\")","v":""},{"$f":"IFERROR(IF($L$6=\"\",\"\",VLOOKUP($L$6&\"_\"&$B62,data_entry,COLUMNS($B$11:AC61),0)),\"\")","v":""},{"$f":"IFERROR(IF($L$6=\"\",\"\",VLOOKUP($L$6&\"_\"&$B62,data_entry,COLUMNS($B$11:AD61),0)),\"\")","v":""},{"$nulls":5},{"$f":"IFERROR(IF($L$6=\"\",\"\",VLOOKUP($L$6&\"_\"&$B62,data_entry,COLUMNS($B$11:AJ61),0)),\"\")","v":""},{"$f":"IFERROR(IF($L$6=\"\",\"\",VLOOKUP($L$6&\"_\"&$B62,data_entry,COLUMNS($B$11:AK61),0)),\"\")","v":""},{"$f":"IFERROR(IF($L$6=\"\",\"\",VLOOKUP($L$6&\"_\"&$B62,data_entry,COLUMNS($B$11:AL61),0)),\"\")","v":""},{"$f":"IFERROR(IF($L$6=\"\",\"\",VLOOKUP($L$6&\"_\"&$B62,data_entry,COLUMNS($B$11:AM61),0)),\"\")","v":""},{"$f":"IFERROR(IF($L$6=\"\",\"\",VLOOKUP($L$6&\"_\"&$B62,data_entry,COLUMNS($B$11:AN61),0)),\"\")","v":""},{"$f":"IFERROR(IF($L$6=\"\",\"\",VLOOKUP($L$6&\"_\"&$B62,data_entry,COLUMNS($B$11:AO61),0)),\"\")","v":""},{"$f":"IFERROR(IF($L$6=\"\",\"\",VLOOKUP($L$6&\"_\"&$B62,data_entry,COLUMNS($B$11:AP61),0)),\"\")","v":""},{"$f":"IFERROR(IF($L$6=\"\",\"\",VLOOKUP($L$6&\"_\"&$B62,data_entry,COLUMNS($B$11:AQ61),0)),\"\")","v":""}]
[0,52,{"$f":"IF(D63=\"\",\"\",ROWS($D$12:D63))","v":""},{"$f":"IFERROR(IF(OR($L$6=\"\",'DATA ENTRY'!C58=\"\"),\"\",VLOOKUP($L$6&\"_\"&$B63,data_entry,COLUMNS($B$11:D62),0)),\"\")","v":""},{"$f":"IFERROR(IF($L$6=\"\",\"\",VLOOKUP($L$6&\"_\"&$B63,data_entry,COLUMNS($B$11:E62),0)),\"\")","v":""},{"$f":"IFERROR(IF($L$6=\"\",\"\",VLOOKUP($L$6&\"_\"&$B63,data_entry,COLUMNS($B$11:F62),0)),\"\")","v":""},{"$f":"IFERROR(IF($L$6=\"\",\"\",VLOOKUP($L$6&\"_\"&$B63,data_entry,COLUMNS($B$11:G62),0)),\"\")","v":""},{"$f":"IFERROR(IF($L$6=\"\",\"\",VLOOKUP($L$6&\"_\"&$B63,data_entry,COLUMNS($B$11:H62),0)),\"\")","v":""},{"$f":"IFERROR(IF($L$6=\"\",\"\",VLOOKUP($L$6&\"_\"&$B63,data_entry,COLUMNS($B$11:I62),0)),\"\")","v":""},{"$f":"IFERROR(IF($L$6=\"\",\"\",VLOOKUP($L$6&\"_\"&$B63,data_entry,COLUMNS($B$11:J62),0)),\"\")","v":""},{"$f":"IFERROR(IF($L$6=\"\",\"\",VLOOKUP($L$6&\"_\"&$B63,data_entry,COLUMNS($B$11:K62),0)),\"\")","v":""},{"$f":"IFERROR(IF($L$6=\"\",\"\",VLOOKUP($L$6&\"_\"&$B63,data_entry,COLUMNS($B$11:L62),0)),\"\")","v":""},{"$f":"IFERROR(IF($L$6=\"\",\"\",VLOOKUP($L$6&\"_\"&$B63,data_entry,COLUMNS($B$11:M62),0)),\"\")","v":""},{"$f":"IFERROR(IF($L$6=\"\",\"\",VLOOKUP($L$6&\"_\"&$B63,data_entry,COLUMNS($B$11:N62),0)),\"\")","v":""},{"$f":"IFERROR(IF($L$6=\"\",\"\",VLOOKUP($L$6&\"_\"&$B63,data_entry,COLUMNS($B$11:O62),0)),\"\")","v":""},{"$f":"IFERROR(IF($L$6=\"\",\"\",VLOOKUP($L$6&\"_\"&$B63,data_entry,COLUMNS($B$11:P62),0)),\"\")","v":""},{"$f":"IFERROR(IF($L$6=\"\",\"\",VLOOKUP($L$6&\"_\"&$B63,data_entry,COLUMNS($B$11:Q62),0)),\"\")","v":""},{"$f":"IFERROR(IF($L$6=\"\",\"\",VLOOKUP($L$6&\"_\"&$B63,data_entry,COLUMNS($B$11:R62),0)),\"\")","v":""},{"$f":"IFERROR(IF($L$6=\"\",\"\",VLOOKUP($L$6&\"_\"&$B63,data_entry,COLUMNS($B$11:S62),0)),\"\")","v":""},{"$f":"IFERROR(IF($L$6=\"\",\"\",VLOOKUP($L$6&\"_\"&$B63,data_entry,COLUMNS($B$11:T62),0)),\"\")","v":""},{"$f":"IFERROR(IF($L$6=\"\",\"\",VLOOKUP($L$6&\"_\"&$B63,data_entry,COLUMNS($B$11:U62),0)),\"\")","v":""},{"$f":"IFERROR(IF($L$6=\"\",\"\",VLOOKUP($L$6&\"_\"&$B63,data_entry,COLUMNS($B$11:V62),0)),\"\")","v":""},{"$f":"IFERROR(IF($L$6=\"\",\"\",VLOOKUP($L$6&\"_\"&$B63,data_entry,COLUMNS($B$11:W62),0)),\"\")","v":""},{"$f":"IFERROR(IF($L$6=\"\",\"\",VLOOKUP($L$6&\"_\"&$B63,data_entry,COLUMNS($B$11:X62),0)),\"\")","v":""},{"$f":"IFERROR(IF($L$6=\"\",\"\",VLOOKUP($L$6&\"_\"&$B63,data_entry,COLUMNS($B$11:Y62),0)),\"\")","v":""},{"$f":"IFERROR(IF($L$6=\"\",\"\",VLOOKUP($L$6&\"_\"&$B63,data_entry,COLUMNS($B$11:Z62),0)),\"\")","v":""},{"$f":"IFERROR(IF($L$6=\"\",\"\",VLOOKUP($L$6&\"_\"&$B63,data_entry,COLUMNS($B$11:AA62),0)),\"\")","v":""},{"$f":"IFERROR(IF($L$6=\"\",\"\",VLOOKUP($L$6&\"_\"&$B63,data_entry,COLUMNS($B$11:AB62),0)),\"\")","v":""},{"$f":"IFERROR(IF($L$6=\"\",\"\",VLOOKUP($L$6&\"_\"&$B63,data_entry,COLUMNS($B$11:AC62),0)),\"\")","v":""},{"$f":"IFERROR(IF($L$6=\"\",\"\",VLOOKUP($L$6&\"_\"&$B63,data_entry,COLUMNS($B$11:AD62),0)),\"\")","v":""},{"$nulls":5},{"$f":"IFERROR(IF($L$6=\"\",\"\",VLOOKUP($L$6&\"_\"&$B63,data_entry,COLUMNS($B$11:AJ62),0)),\"\")","v":""},{"$f":"IFERROR(IF($L$6=\"\",\"\",VLOOKUP($L$6&\"_\"&$B63,data_entry,COLUMNS($B$11:AK62),0)),\"\")","v":""},{"$f":"IFERROR(IF($L$6=\"\",\"\",VLOOKUP($L$6&\"_\"&$B63,data_entry,COLUMNS($B$11:AL62),0)),\"\")","v":""},{"$f":"IFERROR(IF($L$6=\"\",\"\",VLOOKUP($L$6&\"_\"&$B63,data_entry,COLUMNS($B$11:AM62),0)),\"\")","v":""},{"$f":"IFERROR(IF($L$6=\"\",\"\",VLOOKUP($L$6&\"_\"&$B63,data_entry,COLUMNS($B$11:AN62),0)),\"\")","v":""},{"$f":"IFERROR(IF($L$6=\"\",\"\",VLOOKUP($L$6&\"_\"&$B63,data_entry,COLUMNS($B$11:AO62),0)),\"\")","v":""},{"$f":"IFERROR(IF($L$6=\"\",\"\",VLOOKUP($L$6&\"_\"&$B63,data_entry,COLUMNS($B$11:AP62),0)),\"\")","v":""},{"$f":"IFERROR(IF($L$6=\"\",\"\",VLOOKUP($L$6&\"_\"&$B63,data_entry,COLUMNS($B$11:AQ62),0)),\"\")","v":""}]
[0,53,{"$f":"IF(D64=\"\",\"\",ROWS($D$12:D64))","v":""},{"$f":"IFERROR(IF(OR($L$6=\"\",'DATA ENTRY'!C59=\"\"),\"\",VLOOKUP($L$6&\"_\"&$B64,data_entry,COLUMNS($B$11:D63),0)),\"\")","v":""},{"$f":"IFERROR(IF($L$6=\"\",\"\",VLOOKUP($L$6&\"_\"&$B64,data_entry,COLUMNS($B$11:E63),0)),\"\")","v":""},{"$f":"IFERROR(IF($L$6=\"\",\"\",VLOOKUP($L$6&\"_\"&$B64,data_entry,COLUMNS($B$11:F63),0)),\"\")","v":""},{"$f":"IFERROR(IF($L$6=\"\",\"\",VLOOKUP($L$6&\"_\"&$B64,data_entry,COLUMNS($B$11:G63),0)),\"\")","v":""},{"$f":"IFERROR(IF($L$6=\"\",\"\",VLOOKUP($L$6&\"_\"&$B64,data_entry,COLUMNS($B$11:H63),0)),\"\")","v":""},{"$f":"IFERROR(IF($L$6=\"\",\"\",VLOOKUP($L$6&\"_\"&$B64,data_entry,COLUMNS($B$11:I63),0)),\"\")","v":""},{"$f":"IFERROR(IF($L$6=\"\",\"\",VLOOKUP($L$6&\"_\"&$B64,data_entry,COLUMNS($B$11:J63),0)),\"\")","v":""},{"$f":"IFERROR(IF($L$6=\"\",\"\",VLOOKUP($L$6&\"_\"&$B64,data_entry,COLUMNS($B$11:K63),0)),\"\")","v":""},{"$f":"IFERROR(IF($L$6=\"\",\"\",VLOOKUP($L$6&\"_\"&$B64,data_entry,COLUMNS($B$11:L63),0)),\"\")","v":""},{"$f":"IFERROR(IF($L$6=\"\",\"\",VLOOKUP($L$6&\"_\"&$B64,data_entry,COLUMNS($B$11:M63),0)),\"\")","v":""},{"$f":"IFERROR(IF($L$6=\"\",\"\",VLOOKUP($L$6&\"_\"&$B64,data_entry,COLUMNS($B$11:N63),0)),\"\")","v":""},{"$f":"IFERROR(IF($L$6=\"\",\"\",VLOOKUP($L$6&\"_\"&$B64,data_entry,COLUMNS($B$11:O63),0)),\"\")","v":""},{"$f":"IFERROR(IF($L$6=\"\",\"\",VLOOKUP($L$6&\"_\"&$B64,data_entry,COLUMNS($B$11:P63),0)),\"\")","v":""},{"$f":"IFERROR(IF($L$6=\"\",\"\",VLOOKUP($L$6&\"_\"&$B64,data_entry,COLUMNS($B$11:Q63),0)),\"\")","v":""},{"$f":"IFERROR(IF($L$6=\"\",\"\",VLOOKUP($L$6&\"_\"&$B64,data_entry,COLUMNS($B$11:R63),0)),\"\")","v":""},{"$f":"IFERROR(IF($L$6=\"\",\"\",VLOOKUP($L$6&\"_\"&$B64,data_entry,COLUMNS($B$11:S63),0)),\"\")","v":""},{"$f":"IFERROR(IF($L$6=\"\",\"\",VLOOKUP($L$6&\"_\"&$B64,data_entry,COLUMNS($B$11:T63),0)),\"\")","v":""},{"$f":"IFERROR(IF($L$6=\"\",\"\",VLOOKUP($L$6&\"_\"&$B64,data_entry,COLUMNS($B$11:U63),0)),\"\")","v":""},{"$f":"IFERROR(IF($L$6=\"\",\"\",VLOOKUP($L$6&\"_\"&$B64,data_entry,COLUMNS($B$11:V63),0)),\"\")","v":""},{"$f":"IFERROR(IF($L$6=\"\",\"\",VLOOKUP($L$6&\"_\"&$B64,data_entry,COLUMNS($B$11:W63),0)),\"\")","v":""},{"$f":"IFERROR(IF($L$6=\"\",\"\",VLOOKUP($L$6&\"_\"&$B64,data_entry,COLUMNS($B$11:X63),0)),\"\")","v":""},{"$f":"IFERROR(IF($L$6=\"\",\"\",VLOOKUP($L$6&\"_\"&$B64,data_entry,COLUMNS($B$11:Y63),0)),\"\")","v":""},{"$f":"IFERROR(IF($L$6=\"\",\"\",VLOOKUP($L$6&\"_\"&$B64,data_entry,COLUMNS($B$11:Z63),0)),\"\")","v":""},{"$f":"IFERROR(IF($L$6=\"\",\"\",VLOOKUP($L$6&\"_\"&$B64,data_entry,COLUMNS($B$11:AA63),0)),\"\")","v":""},{"$f":"IFERROR(IF($L$6=\"\",\"\",VLOOKUP($L$6&\"_\"&$B64,data_entry,COLUMNS($B$11:AB63),0)),\"\")","v":""},{"$f":"IFERROR(IF($L$6=\"\",\"\",VLOOKUP($L$6&\"_\"&$B64,data_entry,COLUMNS($B$11:AC63),0)),\"\")","v":""},{"$f":"IFERROR(IF($L$6=\"\",\"\",VLOOKUP($L$6&\"_\"&$B64,data_entry,COLUMNS($B$11:AD63),0)),\"\")","v":""},{"$nulls":5},{"$f":"IFERROR(IF($L$6=\"\",\"\",VLOOKUP($L$6&\"_\"&$B64,data_entry,COLUMNS($B$11:AJ63),0)),\"\")","v":""},{"$f":"IFERROR(IF($L$6=\"\",\"\",VLOOKUP($L$6&\"_\"&$B64,data_entry,COLUMNS($B$11:AK63),0)),\"\")","v":""},{"$f":"IFERROR(IF($L$6=\"\",\"\",VLOOKUP($L$6&\"_\"&$B64,data_entry,COLUMNS($B$11:AL63),0)),\"\")","v":""},{"$f":"IFERROR(IF($L$6=\"\",\"\",VLOOKUP($L$6&\"_\"&$B64,data_entry,COLUMNS($B$11:AM63),0)),\"\")","v":""},{"$f":"IFERROR(IF($L$6=\"\",\"\",VLOOKUP($L$6&\"_\"&$B64,data_entry,COLUMNS($B$11:AN63),0)),\"\")","v":""},{"$f":"IFERROR(IF($L$6=\"\",\"\",VLOOKUP($L$6&\"_\"&$B64,data_entry,COLUMNS($B$11:AO63),0)),\"\")","v":""},{"$f":"IFERROR(IF($L$6=\"\",\"\",VLOOKUP($L$6&\"_\"&$B64,data_entry,COLUMNS($B$11:AP63),0)),\"\")","v":""},{"$f":"IFERROR(IF($L$6=\"\",\"\",VLOOKUP($L$6&\"_\"&$B64,data_entry,COLUMNS($B$11:AQ63),0)),\"\")","v":""}]
[0,54,{"$f":"IF(D65=\"\",\"\",ROWS($D$12:D65))","v":""},{"$f":"IFERROR(IF(OR($L$6=\"\",'DATA ENTRY'!C60=\"\"),\"\",VLOOKUP($L$6&\"_\"&$B65,data_entry,COLUMNS($B$11:D64),0)),\"\")","v":""},{"$f":"IFERROR(IF($L$6=\"\",\"\",VLOOKUP($L$6&\"_\"&$B65,data_entry,COLUMNS($B$11:E64),0)),\"\")","v":""},{"$f":"IFERROR(IF($L$6=\"\",\"\",VLOOKUP($L$6&\"_\"&$B65,data_entry,COLUMNS($B$11:F64),0)),\"\")","v":""},{"$f":"IFERROR(IF($L$6=\"\",\"\",VLOOKUP($L$6&\"_\"&$B65,data_entry,COLUMNS($B$11:G64),0)),\"\")","v":""},{"$f":"IFERROR(IF($L$6=\"\",\"\",VLOOKUP($L$6&\"_\"&$B65,data_entry,COLUMNS($B$11:H64),0)),\"\")","v":""},{"$f":"IFERROR(IF($L$6=\"\",\"\",VLOOKUP($L$6&\"_\"&$B65,data_entry,COLUMNS($B$11:I64),0)),\"\")","v":""},{"$f":"IFERROR(IF($L$6=\"\",\"\",VLOOKUP($L$6&\"_\"&$B65,data_entry,COLUMNS($B$11:J64),0)),\"\")","v":""},{"$f":"IFERROR(IF($L$6=\"\",\"\",VLOOKUP($L$6&\"_\"&$B65,data_entry,COLUMNS($B$11:K64),0)),\"\")","v":""},{"$f":"IFERROR(IF($L$6=\"\",\"\",VLOOKUP($L$6&\"_\"&$B65,data_entry,COLUMNS($B$11:L64),0)),\"\")","v":""},{"$f":"IFERROR(IF($L$6=\"\",\"\",VLOOKUP($L$6&\"_\"&$B65,data_entry,COLUMNS($B$11:M64),0)),\"\")","v":""},{"$f":"IFERROR(IF($L$6=\"\",\"\",VLOOKUP($L$6&\"_\"&$B65,data_entry,COLUMNS($B$11:N64),0)),\"\")","v":""},{"$f":"IFERROR(IF($L$6=\"\",\"\",VLOOKUP($L$6&\"_\"&$B65,data_entry,COLUMNS($B$11:O64),0)),\"\")","v":""},{"$f":"IFERROR(IF($L$6=\"\",\"\",VLOOKUP($L$6&\"_\"&$B65,data_entry,COLUMNS($B$11:P64),0)),\"\")","v":""},{"$f":"IFERROR(IF($L$6=\"\",\"\",VLOOKUP($L$6&\"_\"&$B65,data_entry,COLUMNS($B$11:Q64),0)),\"\")","v":""},{"$f":"IFERROR(IF($L$6=\"\",\"\",VLOOKUP($L$6&\"_\"&$B65,data_entry,COLUMNS($B$11:R64),0)),\"\")","v":""},{"$f":"IFERROR(IF($L$6=\"\",\"\",VLOOKUP($L$6&\"_\"&$B65,data_entry,COLUMNS($B$11:S64),0)),\"\")","v":""},{"$f":"IFERROR(IF($L$6=\"\",\"\",VLOOKUP($L$6&\"_\"&$B65,data_entry,COLUMNS($B$11:T64),0)),\"\")","v":""},{"$f":"IFERROR(IF($L$6=\"\",\"\",VLOOKUP($L$6&\"_\"&$B65,data_entry,COLUMNS($B$11:U64),0)),\"\")","v":""},{"$f":"IFERROR(IF($L$6=\"\",\"\",VLOOKUP($L$6&\"_\"&$B65,data_entry,COLUMNS($B$11:V64),0)),\"\")","v":""},{"$f":"IFERROR(IF($L$6=\"\",\"\",VLOOKUP($L$6&\"_\"&$B65,data_entry,COLUMNS($B$11:W64),0)),\"\")","v":""},{"$f":"IFERROR(IF($L$6=\"\",\"\",VLOOKUP($L$6&\"_\"&$B65,data_entry,COLUMNS($B$11:X64),0)),\"\")","v":""},{"$f":"IFERROR(IF($L$6=\"\",\"\",VLOOKUP($L$6&\"_\"&$B65,data_entry,COLUMNS($B$11:Y64),0)),\"\")","v":""},{"$f":"IFERROR(IF($L$6=\"\",\"\",VLOOKUP($L$6&\"_\"&$B65,data_entry,COLUMNS($B$11:Z64),0)),\"\")","v":""},{"$f":"IFERROR(IF($L$6=\"\",\"\",VLOOKUP($L$6&\"_\"&$B65,data_entry,COLUMNS($B$11:AA64),0)),\"\")","v":""},{"$f":"IFERROR(IF($L$6=\"\",\"\",VLOOKUP($L$6&\"_\"&$B65,data_entry,COLUMNS($B$11:AB64),0)),\"\")","v":""},{"$f":"IFERROR(IF($L$6=\"\",\"\",VLOOKUP($L$6&\"_\"&$B65,data_entry,COLUMNS($B$11:AC64),0)),\"\")","v":""},{"$f":"IFERROR(IF($L$6=\"\",\"\",VLOOKUP($L$6&\"_\"&$B65,data_entry,COLUMNS($B$11:AD64),0)),\"\")","v":""},{"$nulls":5},{"$f":"IFERROR(IF($L$6=\"\",\"\",VLOOKUP($L$6&\"_\"&$B65,data_entry,COLUMNS($B$11:AJ64),0)),\"\")","v":""},{"$f":"IFERROR(IF($L$6=\"\",\"\",VLOOKUP($L$6&\"_\"&$B65,data_entry,COLUMNS($B$11:AK64),0)),\"\")","v":""},{"$f":"IFERROR(IF($L$6=\"\",\"\",VLOOKUP($L$6&\"_\"&$B65,data_entry,COLUMNS($B$11:AL64),0)),\"\")","v":""},{"$f":"IFERROR(IF($L$6=\"\",\"\",VLOOKUP($L$6&\"_\"&$B65,data_entry,COLUMNS($B$11:AM64),0)),\"\")","v":""},{"$f":"IFERROR(IF($L$6=\"\",\"\",VLOOKUP($L$6&\"_\"&$B65,data_entry,COLUMNS($B$11:AN64),0)),\"\")","v":""},{"$f":"IFERROR(IF($L$6=\"\",\"\",VLOOKUP($L$6&\"_\"&$B65,data_entry,COLUMNS($B$11:AO64),0)),\"\")","v":""},{"$f":"IFERROR(IF($L$6=\"\",\"\",VLOOKUP($L$6&\"_\"&$B65,data_entry,COLUMNS($B$11:AP64),0)),\"\")","v":""},{"$f":"IFERROR(IF($L$6=\"\",\"\",VLOOKUP($L$6&\"_\"&$B65,data_entry,COLUMNS($B$11:AQ64),0)),\"\")","v":""}]
[0,55,{"$f":"IF(D66=\"\",\"\",ROWS($D$12:D66))","v":""},{"$f":"IFERROR(IF(OR($L$6=\"\",'DATA ENTRY'!C61=\"\"),\"\",VLOOKUP($L$6&\"_\"&$B66,data_entry,COLUMNS($B$11:D65),0)),\"\")","v":""},{"$f":"IFERROR(IF($L$6=\"\",\"\",VLOOKUP($L$6&\"_\"&$B66,data_entry,COLUMNS($B$11:E65),0)),\"\")","v":""},{"$f":"IFERROR(IF($L$6=\"\",\"\",VLOOKUP($L$6&\"_\"&$B66,data_entry,COLUMNS($B$11:F65),0)),\"\")","v":""},{"$f":"IFERROR(IF($L$6=\"\",\"\",VLOOKUP($L$6&\"_\"&$B66,data_entry,COLUMNS($B$11:G65),0)),\"\")","v":""},{"$f":"IFERROR(IF($L$6=\"\",\"\",VLOOKUP($L$6&\"_\"&$B66,data_entry,COLUMNS($B$11:H65),0)),\"\")","v":""},{"$f":"IFERROR(IF($L$6=\"\",\"\",VLOOKUP($L$6&\"_\"&$B66,data_entry,COLUMNS($B$11:I65),0)),\"\")","v":""},{"$f":"IFERROR(IF($L$6=\"\",\"\",VLOOKUP($L$6&\"_\"&$B66,data_entry,COLUMNS($B$11:J65),0)),\"\")","v":""},{"$f":"IFERROR(IF($L$6=\"\",\"\",VLOOKUP($L$6&\"_\"&$B66,data_entry,COLUMNS($B$11:K65),0)),\"\")","v":""},{"$f":"IFERROR(IF($L$6=\"\",\"\",VLOOKUP($L$6&\"_\"&$B66,data_entry,COLUMNS($B$11:L65),0)),\"\")","v":""},{"$f":"IFERROR(IF($L$6=\"\",\"\",VLOOKUP($L$6&\"_\"&$B66,data_entry,COLUMNS($B$11:M65),0)),\"\")","v":""},{"$f":"IFERROR(IF($L$6=\"\",\"\",VLOOKUP($L$6&\"_\"&$B66,data_entry,COLUMNS($B$11:N65),0)),\"\")","v":""},{"$f":"IFERROR(IF($L$6=\"\",\"\",VLOOKUP($L$6&\"_\"&$B66,data_entry,COLUMNS($B$11:O65),0)),\"\")","v":""},{"$f":"IFERROR(IF($L$6=\"\",\"\",VLOOKUP($L$6&\"_\"&$B66,data_entry,COLUMNS($B$11:P65),0)),\"\")","v":""},{"$f":"IFERROR(IF($L$6=\"\",\"\",VLOOKUP($L$6&\"_\"&$B66,data_entry,COLUMNS($B$11:Q65),0)),\"\")","v":""},{"$f":"IFERROR(IF($L$6=\"\",\"\",VLOOKUP($L$6&\"_\"&$B66,data_entry,COLUMNS($B$11:R65),0)),\"\")","v":""},{"$f":"IFERROR(IF($L$6=\"\",\"\",VLOOKUP($L$6&\"_\"&$B66,data_entry,COLUMNS($B$11:S65),0)),\"\")","v":""},{"$f":"IFERROR(IF($L$6=\"\",\"\",VLOOKUP($L$6&\"_\"&$B66,data_entry,COLUMNS($B$11:T65),0)),\"\")","v":""},{"$f":"IFERROR(IF($L$6=\"\",\"\",VLOOKUP($L$6&\"_\"&$B66,data_entry,COLUMNS($B$11:U65),0)),\"\")","v":""},{"$f":"IFERROR(IF($L$6=\"\",\"\",VLOOKUP($L$6&\"_\"&$B66,data_entry,COLUMNS($B$11:V65),0)),\"\")","v":""},{"$f":"IFERROR(IF($L$6=\"\",\"\",VLOOKUP($L$6&\"_\"&$B66,data_entry,COLUMNS($B$11:W65),0)),\"\")","v":""},{"$f":"IFERROR(IF($L$6=\"\",\"\",VLOOKUP($L$6&\"_\"&$B66,data_entry,COLUMNS($B$11:X65),0)),\"\")","v":""},{"$f":"IFERROR(IF($L$6=\"\",\"\",VLOOKUP($L$6&\"_\"&$B66,data_entry,COLUMNS($B$11:Y65),0)),\"\")","v":""},{"$f":"IFERROR(IF($L$6=\"\",\"\",VLOOKUP($L$6&\"_\"&$B66,data_entry,COLUMNS($B$11:Z65),0)),\"\")","v":""},{"$f":"IFERROR(IF($L$6=\"\",\"\",VLOOKUP($L$6&\"_\"&$B66,data_entry,COLUMNS($B$11:AA65),0)),\"\")","v":""},{"$f":"IFERROR(IF($L$6=\"\",\"\",VLOOKUP($L$6&\"_\"&$B66,data_entry,COLUMNS($B$11:AB65),0)),\"\")","v":""},{"$f":"IFERROR(IF($L$6=\"\",\"\",VLOOKUP($L$6&\"_\"&$B66,data_entry,COLUMNS($B$11:AC65),0)),\"\")","v":""},{"$f":"IFERROR(IF($L$6=\"\",\"\",VLOOKUP($L$6&\"_\"&$B66,data_entry,COLUMNS($B$11:AD65),0)),\"\")","v":""},{"$nulls":5},{"$f":"IFERROR(IF($L$6=\"\",\"\",VLOOKUP($L$6&\"_\"&$B66,data_entry,COLUMNS($B$11:AJ65),0)),\"\")","v":""},{"$f":"IFERROR(IF($L$6=\"\",\"\",VLOOKUP($L$6&\"_\"&$B66,data_entry,COLUMNS($B$11:AK65),0)),\"\")","v":""},{"$f":"IFERROR(IF($L$6=\"\",\"\",VLOOKUP($L$6&\"_\"&$B66,data_entry,COLUMNS($B$11:AL65),0)),\"\")","v":""},{"$f":"IFERROR(IF($L$6=\"\",\"\",VLOOKUP($L$6&\"_\"&$B66,data_entry,COLUMNS($B$11:AM65),0)),\"\")","v":""},{"$f":"IFERROR(IF($L$6=\"\",\"\",VLOOKUP($L$6&\"_\"&$B66,data_entry,COLUMNS($B$11:AN65),0)),\"\")","v":""},{"$f":"IFERROR(IF($L$6=\"\",\"\",VLOOKUP($L$6&\"_\"&$B66,data_entry,COLUMNS($B$11:AO65),0)),\"\")","v":""},{"$f":"IFERROR(IF($L$6=\"\",\"\",VLOOKUP($L$6&\"_\"&$B66,data_entry,COLUMNS($B$11:AP65),0)),\"\")","v":""},{"$f":"IFERROR(IF($L$6=\"\",\"\",VLOOKUP($L$6&\"_\"&$B66,data_entry,COLUMNS($B$11:AQ65),0)),\"\")","v":""}]
[0,56,{"$f":"IF(D67=\"\",\"\",ROWS($D$12:D67))","v":""},{"$f":"IFERROR(IF(OR($L$6=\"\",'DATA ENTRY'!C62=\"\"),\"\",VLOOKUP($L$6&\"_\"&$B67,data_entry,COLUMNS($B$11:D66),0)),\"\")","v":""},{"$f":"IFERROR(IF($L$6=\"\",\"\",VLOOKUP($L$6&\"_\"&$B67,data_entry,COLUMNS($B$11:E66),0)),\"\")","v":""},{"$f":"IFERROR(IF($L$6=\"\",\"\",VLOOKUP($L$6&\"_\"&$B67,data_entry,COLUMNS($B$11:F66),0)),\"\")","v":""},{"$f":"IFERROR(IF($L$6=\"\",\"\",VLOOKUP($L$6&\"_\"&$B67,data_entry,COLUMNS($B$11:G66),0)),\"\")","v":""},{"$f":"IFERROR(IF($L$6=\"\",\"\",VLOOKUP($L$6&\"_\"&$B67,data_entry,COLUMNS($B$11:H66),0)),\"\")","v":""},{"$f":"IFERROR(IF($L$6=\"\",\"\",VLOOKUP($L$6&\"_\"&$B67,data_entry,COLUMNS($B$11:I66),0)),\"\")","v":""},{"$f":"IFERROR(IF($L$6=\"\",\"\",VLOOKUP($L$6&\"_\"&$B67,data_entry,COLUMNS($B$11:J66),0)),\"\")","v":""},{"$f":"IFERROR(IF($L$6=\"\",\"\",VLOOKUP($L$6&\"_\"&$B67,data_entry,COLUMNS($B$11:K66),0)),\"\")","v":""},{"$f":"IFERROR(IF($L$6=\"\",\"\",VLOOKUP($L$6&\"_\"&$B67,data_entry,COLUMNS($B$11:L66),0)),\"\")","v":""},{"$f":"IFERROR(IF($L$6=\"\",\"\",VLOOKUP($L$6&\"_\"&$B67,data_entry,COLUMNS($B$11:M66),0)),\"\")","v":""},{"$f":"IFERROR(IF($L$6=\"\",\"\",VLOOKUP($L$6&\"_\"&$B67,data_entry,COLUMNS($B$11:N66),0)),\"\")","v":""},{"$f":"IFERROR(IF($L$6=\"\",\"\",VLOOKUP($L$6&\"_\"&$B67,data_entry,COLUMNS($B$11:O66),0)),\"\")","v":""},{"$f":"IFERROR(IF($L$6=\"\",\"\",VLOOKUP($L$6&\"_\"&$B67,data_entry,COLUMNS($B$11:P66),0)),\"\")","v":""},{"$f":"IFERROR(IF($L$6=\"\",\"\",VLOOKUP($L$6&\"_\"&$B67,data_entry,COLUMNS($B$11:Q66),0)),\"\")","v":""},{"$f":"IFERROR(IF($L$6=\"\",\"\",VLOOKUP($L$6&\"_\"&$B67,data_entry,COLUMNS($B$11:R66),0)),\"\")","v":""},{"$f":"IFERROR(IF($L$6=\"\",\"\",VLOOKUP($L$6&\"_\"&$B67,data_entry,COLUMNS($B$11:S66),0)),\"\")","v":""},{"$f":"IFERROR(IF($L$6=\"\",\"\",VLOOKUP($L$6&\"_\"&$B67,data_entry,COLUMNS($B$11:T66),0)),\"\")","v":""},{"$f":"IFERROR(IF($L$6=\"\",\"\",VLOOKUP($L$6&\"_\"&$B67,data_entry,COLUMNS($B$11:U66),0)),\"\")","v":""},{"$f":"IFERROR(IF($L$6=\"\",\"\",VLOOKUP($L$6&\"_\"&$B67,data_entry,COLUMNS($B$11:V66),0)),\"\")","v":""},{"$f":"IFERROR(IF($L$6=\"\",\"\",VLOOKUP($L$6&\"_\"&$B67,data_entry,COLUMNS($B$11:W66),0)),\"\")","v":""},{"$f":"IFERROR(IF($L$6=\"\",\"\",VLOOKUP($L$6&\"_\"&$B67,data_entry,COLUMNS($B$11:X66),0)),\"\")","v":""},{"$f":"IFERROR(IF($L$6=\"\",\"\",VLOOKUP($L$6&\"_\"&$B67,data_entry,COLUMNS($B$11:Y66),0)),\"\")","v":""},{"$f":"IFERROR(IF($L$6=\"\",\"\",VLOOKUP($L$6&\"_\"&$B67,data_entry,COLUMNS($B$11:Z66),0)),\"\")","v":""},{"$f":"IFERROR(IF($L$6=\"\",\"\",VLOOKUP($L$6&\"_\"&$B67,data_entry,COLUMNS($B$11:AA66),0)),\"\")","v":""},{"$f":"IFERROR(IF($L$6=\"\",\"\",VLOOKUP($L$6&\"_\"&$B67,data_entry,COLUMNS($B$11:AB66),0)),\"\")","v":""},{"$f":"IFERROR(IF($L$6=\"\",\"\",VLOOKUP($L$6&\"_\"&$B67,data_entry,COLUMNS($B$11:AC66),0)),\"\")","v":""},{"$f":"IFERROR(IF($L$6=\"\",\"\",VLOOKUP($L$6&\"_\"&$B67,data_entry,COLUMNS($B$11:AD66),0)),\"\")","v":""},{"$nulls":5},{"$f":"IFERROR(IF($L$6=\"\",\"\",VLOOKUP($L$6&\"_\"&$B67,data_entry,COLUMNS($B$11:AJ66),0)),\"\")","v":""},{"$f":"IFERROR(IF($L$6=\"\",\"\",VLOOKUP($L$6&\"_\"&$B67,data_entry,COLUMNS($B$11:AK66),0)),\"\")","v":""},{"$f":"IFERROR(IF($L$6=\"\",\"\",VLOOKUP($L$6&\"_\"&$B67,data_entry,COLUMNS($B$11:AL66),0)),\"\")","v":""},{"$f":"IFERROR(IF($L$6=\"\",\"\",VLOOKUP($L$6&\"_\"&$B67,data_entry,COLUMNS($B$11:AM66),0)),\"\")","v":""},{"$f":"IFERROR(IF($L$6=\"\",\"\",VLOOKUP($L$6&\"_\"&$B67,data_entry,COLUMNS($B$11:AN66),0)),\"\")","v":""},{"$f":"IFERROR(IF($L$6=\"\",\"\",VLOOKUP($L$6&\"_\"&$B67,data_entry,COLUMNS($B$11:AO66),0)),\"\")","v":""},{"$f":"IFERROR(IF($L$6=\"\",\"\",VLOOKUP($L$6&\"_\"&$B67,data_entry,COLUMNS($B$11:AP66),0)),\"\")","v":""},{"$f":"IFERROR(IF($L$6=\"\",\"\",VLOOKUP($L$6&\"_\"&$B67,data_entry,COLUMNS($B$11:AQ66),0)),\"\")","v":""}]
[0,57,{"$f":"IF(D68=\"\",\"\",ROWS($D$12:D68))","v":""},{"$f":"IFERROR(IF(OR($L$6=\"\",'DATA ENTRY'!C63=\"\"),\"\",VLOOKUP($L$6&\"_\"&$B68,data_entry,COLUMNS($B$11:D67),0)),\"\")","v":""},{"$f":"IFERROR(IF($L$6=\"\",\"\",VLOOKUP($L$6&\"_\"&$B68,data_entry,COLUMNS($B$11:E67),0)),\"\")","v":""},{"$f":"IFERROR(IF($L$6=\"\",\"\",VLOOKUP($L$6&\"_\"&$B68,data_entry,COLUMNS($B$11:F67),0)),\"\")","v":""},{"$f":"IFERROR(IF($L$6=\"\",\"\",VLOOKUP($L$6&\"_\"&$B68,data_entry,COLUMNS($B$11:G67),0)),\"\")","v":""},{"$f":"IFERROR(IF($L$6=\"\",\"\",VLOOKUP($L$6&\"_\"&$B68,data_entry,COLUMNS($B$11:H67),0)),\"\")","v":""},{"$f":"IFERROR(IF($L$6=\"\",\"\",VLOOKUP($L$6&\"_\"&$B68,data_entry,COLUMNS($B$11:I67),0)),\"\")","v":""},{"$f":"IFERROR(IF($L$6=\"\",\"\",VLOOKUP($L$6&\"_\"&$B68,data_entry,COLUMNS($B$11:J67),0)),\"\")","v":""},{"$f":"IFERROR(IF($L$6=\"\",\"\",VLOOKUP($L$6&\"_\"&$B68,data_entry,COLUMNS($B$11:K67),0)),\"\")","v":""},{"$f":"IFERROR(IF($L$6=\"\",\"\",VLOOKUP($L$6&\"_\"&$B68,data_entry,COLUMNS($B$11:L67),0)),\"\")","v":""},{"$f":"IFERROR(IF($L$6=\"\",\"\",VLOOKUP($L$6&\"_\"&$B68,data_entry,COLUMNS($B$11:M67),0)),\"\")","v":""},{"$f":"IFERROR(IF($L$6=\"\",\"\",VLOOKUP($L$6&\"_\"&$B68,data_entry,COLUMNS($B$11:N67),0)),\"\")","v":""},{"$f":"IFERROR(IF($L$6=\"\",\"\",VLOOKUP($L$6&\"_\"&$B68,data_entry,COLUMNS($B$11:O67),0)),\"\")","v":""},{"$f":"IFERROR(IF($L$6=\"\",\"\",VLOOKUP($L$6&\"_\"&$B68,data_entry,COLUMNS($B$11:P67),0)),\"\")","v":""},{"$f":"IFERROR(IF($L$6=\"\",\"\",VLOOKUP($L$6&\"_\"&$B68,data_entry,COLUMNS($B$11:Q67),0)),\"\")","v":""},{"$f":"IFERROR(IF($L$6=\"\",\"\",VLOOKUP($L$6&\"_\"&$B68,data_entry,COLUMNS($B$11:R67),0)),\"\")","v":""},{"$f":"IFERROR(IF($L$6=\"\",\"\",VLOOKUP($L$6&\"_\"&$B68,data_entry,COLUMNS($B$11:S67),0)),\"\")","v":""},{"$f":"IFERROR(IF($L$6=\"\",\"\",VLOOKUP($L$6&\"_\"&$B68,data_entry,COLUMNS($B$11:T67),0)),\"\")","v":""},{"$f":"IFERROR(IF($L$6=\"\",\"\",VLOOKUP($L$6&\"_\"&$B68,data_entry,COLUMNS($B$11:U67),0)),\"\")","v":""},{"$f":"IFERROR(IF($L$6=\"\",\"\",VLOOKUP($L$6&\"_\"&$B68,data_entry,COLUMNS($B$11:V67),0)),\"\")","v":""},{"$f":"IFERROR(IF($L$6=\"\",\"\",VLOOKUP($L$6&\"_\"&$B68,data_entry,COLUMNS($B$11:W67),0)),\"\")","v":""},{"$f":"IFERROR(IF($L$6=\"\",\"\",VLOOKUP($L$6&\"_\"&$B68,data_entry,COLUMNS($B$11:X67),0)),\"\")","v":""},{"$f":"IFERROR(IF($L$6=\"\",\"\",VLOOKUP($L$6&\"_\"&$B68,data_entry,COLUMNS($B$11:Y67),0)),\"\")","v":""},{"$f":"IFERROR(IF($L$6=\"\",\"\",VLOOKUP($L$6&\"_\"&$B68,data_entry,COLUMNS($B$11:Z67),0)),\"\")","v":""},{"$f":"IFERROR(IF($L$6=\"\",\"\",VLOOKUP($L$6&\"_\"&$B68,data_entry,COLUMNS($B$11:AA67),0)),\"\")","v":""},{"$f":"IFERROR(IF($L$6=\"\",\"\",VLOOKUP($L$6&\"_\"&$B68,data_entry,COLUMNS($B$11:AB67),0)),\"\")","v":""},{"$f":"IFERROR(IF($L$6=\"\",\"\",VLOOKUP($L$6&\"_\"&$B68,data_entry,COLUMNS($B$11:AC67),0)),\"\")","v":""},{"$f":"IFERROR(IF($L$6=\"\",\"\",VLOOKUP($L$6&\"_\"&$B68,data_entry,COLUMNS($B$11:AD67),0)),\"\")","v":""},{"$nulls":5},{"$f":"IFERROR(IF($L$6=\"\",\"\",VLOOKUP($L$6&\"_\"&$B68,data_entry,COLUMNS($B$11:AJ67),0)),\"\")","v":""},{"$f":"IFERROR(IF($L$6=\"\",\"\",VLOOKUP($L$6&\"_\"&$B68,data_entry,COLUMNS($B$11:AK67),0)),\"\")","v":""},{"$f":"IFERROR(IF($L$6=\"\",\"\",VLOOKUP($L$6&\"_\"&$B68,data_entry,COLUMNS($B$11:AL67),0)),\"\")","v":""},{"$f":"IFERROR(IF($L$6=\"\",\"\",VLOOKUP($L$6&\"_\"&$B68,data_entry,COLUMNS($B$11:AM67),0)),\"\")","v":""},{"$f":"IFERROR(IF($L$6=\"\",\"\",VLOOKUP($L$6&\"_\"&$B68,data_entry,COLUMNS($B$11:AN67),0)),\"\")","v":""},{"$f":"IFERROR(IF($L$6=\"\",\"\",VLOOKUP($L$6&\"_\"&$B68,data_entry,COLUMNS($B$11:AO67),0)),\"\")","v":""},{"$f":"IFERROR(IF($L$6=\"\",\"\",VLOOKUP($L$6&\"_\"&$B68,data_entry,COLUMNS($B$11:AP67),0)),\"\")","v":""},{"$f":"IFERROR(IF($L$6=\"\",\"\",VLOOKUP($L$6&\"_\"&$B68,data_entry,COLUMNS($B$11:AQ67),0)),\"\")","v":""}]
[0,58,{"$f":"IF(D69=\"\",\"\",ROWS($D$12:D69))","v":""},{"$f":"IFERROR(IF(OR($L$6=\"\",'DATA ENTRY'!C64=\"\"),\"\",VLOOKUP($L$6&\"_\"&$B69,data_entry,COLUMNS($B$11:D68),0)),\"\")","v":""},{"$f":"IFERROR(IF($L$6=\"\",\"\",VLOOKUP($L$6&\"_\"&$B69,data_entry,COLUMNS($B$11:E68),0)),\"\")","v":""},{"$f":"IFERROR(IF($L$6=\"\",\"\",VLOOKUP($L$6&\"_\"&$B69,data_entry,COLUMNS($B$11:F68),0)),\"\")","v":""},{"$f":"IFERROR(IF($L$6=\"\",\"\",VLOOKUP($L$6&\"_\"&$B69,data_entry,COLUMNS($B$11:G68),0)),\"\")","v":""},{"$f":"IFERROR(IF($L$6=\"\",\"\",VLOOKUP($L$6&\"_\"&$B69,data_entry,COLUMNS($B$11:H68),0)),\"\")","v":""},{"$f":"IFERROR(IF($L$6=\"\",\"\",VLOOKUP($L$6&\"_\"&$B69,data_entry,COLUMNS($B$11:I68),0)),\"\")","v":""},{"$f":"IFERROR(IF($L$6=\"\",\"\",VLOOKUP($L$6&\"_\"&$B69,data_entry,COLUMNS($B$11:J68),0)),\"\")","v":""},{"$f":"IFERROR(IF($L$6=\"\",\"\",VLOOKUP($L$6&\"_\"&$B69,data_entry,COLUMNS($B$11:K68),0)),\"\")","v":""},{"$f":"IFERROR(IF($L$6=\"\",\"\",VLOOKUP($L$6&\"_\"&$B69,data_entry,COLUMNS($B$11:L68),0)),\"\")","v":""},{"$f":"IFERROR(IF($L$6=\"\",\"\",VLOOKUP($L$6&\"_\"&$B69,data_entry,COLUMNS($B$11:M68),0)),\"\")","v":""},{"$f":"IFERROR(IF($L$6=\"\",\"\",VLOOKUP($L$6&\"_\"&$B69,data_entry,COLUMNS($B$11:N68),0)),\"\")","v":""},{"$f":"IFERROR(IF($L$6=\"\",\"\",VLOOKUP($L$6&\"_\"&$B69,data_entry,COLUMNS($B$11:O68),0)),\"\")","v":""},{"$f":"IFERROR(IF($L$6=\"\",\"\",VLOOKUP($L$6&\"_\"&$B69,data_entry,COLUMNS($B$11:P68),0)),\"\")","v":""},{"$f":"IFERROR(IF($L$6=\"\",\"\",VLOOKUP($L$6&\"_\"&$B69,data_entry,COLUMNS($B$11:Q68),0)),\"\")","v":""},{"$f":"IFERROR(IF($L$6=\"\",\"\",VLOOKUP($L$6&\"_\"&$B69,data_entry,COLUMNS($B$11:R68),0)),\"\")","v":""},{"$f":"IFERROR(IF($L$6=\"\",\"\",VLOOKUP($L$6&\"_\"&$B69,data_entry,COLUMNS($B$11:S68),0)),\"\")","v":""},{"$f":"IFERROR(IF($L$6=\"\",\"\",VLOOKUP($L$6&\"_\"&$B69,data_entry,COLUMNS($B$11:T68),0)),\"\")","v":""},{"$f":"IFERROR(IF($L$6=\"\",\"\",VLOOKUP($L$6&\"_\"&$B69,data_entry,COLUMNS($B$11:U68),0)),\"\")","v":""},{"$f":"IFERROR(IF($L$6=\"\",\"\",VLOOKUP($L$6&\"_\"&$B69,data_entry,COLUMNS($B$11:V68),0)),\"\")","v":""},{"$f":"IFERROR(IF($L$6=\"\",\"\",VLOOKUP($L$6&\"_\"&$B69,data_entry,COLUMNS($B$11:W68),0)),\"\")","v":""},{"$f":"IFERROR(IF($L$6=\"\",\"\",VLOOKUP($L$6&\"_\"&$B69,data_entry,COLUMNS($B$11:X68),0)),\"\")","v":""},{"$f":"IFERROR(IF($L$6=\"\",\"\",VLOOKUP($L$6&\"_\"&$B69,data_entry,COLUMNS($B$11:Y68),0)),\"\")","v":""},{"$f":"IFERROR(IF($L$6=\"\",\"\",VLOOKUP($L$6&\"_\"&$B69,data_entry,COLUMNS($B$11:Z68),0)),\"\")","v":""},{"$f":"IFERROR(IF($L$6=\"\",\"\",VLOOKUP($L$6&\"_\"&$B69,data_entry,COLUMNS($B$11:AA68),0)),\"\")","v":""},{"$f":"IFERROR(IF($L$6=\"\",\"\",VLOOKUP($L$6&\"_\"&$B69,data_entry,COLUMNS($B$11:AB68),0)),\"\")","v":""},{"$f":"IFERROR(IF($L$6=\"\",\"\",VLOOKUP($L$6&\"_\"&$B69,data_entry,COLUMNS($B$11:AC68),0)),\"\")","v":""},{"$f":"IFERROR(IF($L$6=\"\",\"\",VLOOKUP($L$6&\"_\"&$B69,data_entry,COLUMNS($B$11:AD68),0)),\"\")","v":""},{"$nulls":5},{"$f":"IFERROR(IF($L$6=\"\",\"\",VLOOKUP($L$6&\"_\"&$B69,data_entry,COLUMNS($B$11:AJ68),0)),\"\")","v":""},{"$f":"IFERROR(IF($L$6=\"\",\"\",VLOOKUP($L$6&\"_\"&$B69,data_entry,COLUMNS($B$11:AK68),0)),\"\")","v":""},{"$f":"IFERROR(IF($L$6=\"\",\"\",VLOOKUP($L$6&\"_\"&$B69,data_entry,COLUMNS($B$11:AL68),0)),\"\")","v":""},{"$f":"IFERROR(IF($L$6=\"\",\"\",VLOOKUP($L$6&\"_\"&$B69,data_entry,COLUMNS($B$11:AM68),0)),\"\")","v":""},{"$f":"IFERROR(IF($L$6=\"\",\"\",VLOOKUP($L$6&\"_\"&$B69,data_entry,COLUMNS($B$11:AN68),0)),\"\")","v":""},{"$f":"IFERROR(IF($L$6=\"\",\"\",VLOOKUP($L$6&\"_\"&$B69,data_entry,COLUMNS($B$11:AO68),0)),\"\")","v":""},{"$f":"IFERROR(IF($L$6=\"\",\"\",VLOOKUP($L$6&\"_\"&$B69,data_entry,COLUMNS($B$11:AP68),0)),\"\")","v":""},{"$f":"IFERROR(IF($L$6=\"\",\"\",VLOOKUP($L$6&\"_\"&$B69,data_entry,COLUMNS($B$11:AQ68),0)),\"\")","v":""}]
[0,59,{"$f":"IF(D70=\"\",\"\",ROWS($D$12:D70))","v":""},{"$f":"IFERROR(IF(OR($L$6=\"\",'DATA ENTRY'!C65=\"\"),\"\",VLOOKUP($L$6&\"_\"&$B70,data_entry,COLUMNS($B$11:D69),0)),\"\")","v":""},{"$f":"IFERROR(IF($L$6=\"\",\"\",VLOOKUP($L$6&\"_\"&$B70,data_entry,COLUMNS($B$11:E69),0)),\"\")","v":""},{"$f":"IFERROR(IF($L$6=\"\",\"\",VLOOKUP($L$6&\"_\"&$B70,data_entry,COLUMNS($B$11:F69),0)),\"\")","v":""},{"$f":"IFERROR(IF($L$6=\"\",\"\",VLOOKUP($L$6&\"_\"&$B70,data_entry,COLUMNS($B$11:G69),0)),\"\")","v":""},{"$f":"IFERROR(IF($L$6=\"\",\"\",VLOOKUP($L$6&\"_\"&$B70,data_entry,COLUMNS($B$11:H69),0)),\"\")","v":""},{"$f":"IFERROR(IF($L$6=\"\",\"\",VLOOKUP($L$6&\"_\"&$B70,data_entry,COLUMNS($B$11:I69),0)),\"\")","v":""},{"$f":"IFERROR(IF($L$6=\"\",\"\",VLOOKUP($L$6&\"_\"&$B70,data_entry,COLUMNS($B$11:J69),0)),\"\")","v":""},{"$f":"IFERROR(IF($L$6=\"\",\"\",VLOOKUP($L$6&\"_\"&$B70,data_entry,COLUMNS($B$11:K69),0)),\"\")","v":""},{"$f":"IFERROR(IF($L$6=\"\",\"\",VLOOKUP($L$6&\"_\"&$B70,data_entry,COLUMNS($B$11:L69),0)),\"\")","v":""},{"$f":"IFERROR(IF($L$6=\"\",\"\",VLOOKUP($L$6&\"_\"&$B70,data_entry,COLUMNS($B$11:M69),0)),\"\")","v":""},{"$f":"IFERROR(IF($L$6=\"\",\"\",VLOOKUP($L$6&\"_\"&$B70,data_entry,COLUMNS($B$11:N69),0)),\"\")","v":""},{"$f":"IFERROR(IF($L$6=\"\",\"\",VLOOKUP($L$6&\"_\"&$B70,data_entry,COLUMNS($B$11:O69),0)),\"\")","v":""},{"$f":"IFERROR(IF($L$6=\"\",\"\",VLOOKUP($L$6&\"_\"&$B70,data_entry,COLUMNS($B$11:P69),0)),\"\")","v":""},{"$f":"IFERROR(IF($L$6=\"\",\"\",VLOOKUP($L$6&\"_\"&$B70,data_entry,COLUMNS($B$11:Q69),0)),\"\")","v":""},{"$f":"IFERROR(IF($L$6=\"\",\"\",VLOOKUP($L$6&\"_\"&$B70,data_entry,COLUMNS($B$11:R69),0)),\"\")","v":""},{"$f":"IFERROR(IF($L$6=\"\",\"\",VLOOKUP($L$6&\"_\"&$B70,data_entry,COLUMNS($B$11:S69),0)),\"\")","v":""},{"$f":"IFERROR(IF($L$6=\"\",\"\",VLOOKUP($L$6&\"_\"&$B70,data_entry,COLUMNS($B$11:T69),0)),\"\")","v":""},{"$f":"IFERROR(IF($L$6=\"\",\"\",VLOOKUP($L$6&\"_\"&$B70,data_entry,COLUMNS($B$11:U69),0)),\"\")","v":""},{"$f":"IFERROR(IF($L$6=\"\",\"\",VLOOKUP($L$6&\"_\"&$B70,data_entry,COLUMNS($B$11:V69),0)),\"\")","v":""},{"$f":"IFERROR(IF($L$6=\"\",\"\",VLOOKUP($L$6&\"_\"&$B70,data_entry,COLUMNS($B$11:W69),0)),\"\")","v":""},{"$f":"IFERROR(IF($L$6=\"\",\"\",VLOOKUP($L$6&\"_\"&$B70,data_entry,COLUMNS($B$11:X69),0)),\"\")","v":""},{"$f":"IFERROR(IF($L$6=\"\",\"\",VLOOKUP($L$6&\"_\"&$B70,data_entry,COLUMNS($B$11:Y69),0)),\"\")","v":""},{"$f":"IFERROR(IF($L$6=\"\",\"\",VLOOKUP($L$6&\"_\"&$B70,data_entry,COLUMNS($B$11:Z69),0)),\"\")","v":""},{"$f":"IFERROR(IF($L$6=\"\",\"\",VLOOKUP($L$6&\"_\"&$B70,data_entry,COLUMNS($B$11:AA69),0)),\"\")","v":""},{"$f":"IFERROR(IF($L$6=\"\",\"\",VLOOKUP($L$6&\"_\"&$B70,data_entry,COLUMNS($B$11:AB69),0)),\"\")","v":""},{"$f":"IFERROR(IF($L$6=\"\",\"\",VLOOKUP($L$6&\"_\"&$B70,data_entry,COLUMNS($B$11:AC69),0)),\"\")","v":""},{"$f":"IFERROR(IF($L$6=\"\",\"\",VLOOKUP($L$6&\"_\"&$B70,data_entry,COLUMNS($B$11:AD69),0)),\"\")","v":""},{"$nulls":5},{"$f":"IFERROR(IF($L$6=\"\",\"\",VLOOKUP($L$6&\"_\"&$B70,data_entry,COLUMNS($B$11:AJ69),0)),\"\")","v":""},{"$f":"IFERROR(IF($L$6=\"\",\"\",VLOOKUP($L$6&\"_\"&$B70,data_entry,COLUMNS($B$11:AK69),0)),\"\")","v":""},{"$f":"IFERROR(IF($L$6=\"\",\"\",VLOOKUP($L$6&\"_\"&$B70,data_entry,COLUMNS($B$11:AL69),0)),\"\")","v":""},{"$f":"IFERROR(IF($L$6=\"\",\"\",VLOOKUP($L$6&\"_\"&$B70,data_entry,COLUMNS($B$11:AM69),0)),\"\")","v":""},{"$f":"IFERROR(IF($L$6=\"\",\"\",VLOOKUP($L$6&\"_\"&$B70,data_entry,COLUMNS($B$11:AN69),0)),\"\")","v":""},{"$f":"IFERROR(IF($L$6=\"\",\"\",VLOOKUP($L$6&\"_\"&$B70,data_entry,COLUMNS($B$11:AO69),0)),\"\")","v":""},{"$f":"IFERROR(IF($L$6=\"\",\"\",VLOOKUP($L$6&\"_\"&$B70,data_entry,COLUMNS($B$11:AP69),0)),\"\")","v":""},{"$f":"IFERROR(IF($L$6=\"\",\"\",VLOOKUP($L$6&\"_\"&$B70,data_entry,COLUMNS($B$11:AQ69),0)),\"\")","v":""}]
[0,60,{"$f":"IF(D71=\"\",\"\",ROWS($D$12:D71))","v":""},{"$f":"IFERROR(IF(OR($L$6=\"\",'DATA ENTRY'!C66=\"\"),\"\",VLOOKUP($L$6&\"_\"&$B71,data_entry,COLUMNS($B$11:D70),0)),\"\")","v":""},{"$f":"IFERROR(IF($L$6=\"\",\"\",VLOOKUP($L$6&\"_\"&$B71,data_entry,COLUMNS($B$11:E70),0)),\"\")","v":""},{"$f":"IFERROR(IF($L$6=\"\",\"\",VLOOKUP($L$6&\"_\"&$B71,data_entry,COLUMNS($B$11:F70),0)),\"\")","v":""},{"$f":"IFERROR(IF($L$6=\"\",\"\",VLOOKUP($L$6&\"_\"&$B71,data_entry,COLUMNS($B$11:G70),0)),\"\")","v":""},{"$f":"IFERROR(IF($L$6=\"\",\"\",VLOOKUP($L$6&\"_\"&$B71,data_entry,COLUMNS($B$11:H70),0)),\"\")","v":""},{"$f":"IFERROR(IF($L$6=\"\",\"\",VLOOKUP($L$6&\"_\"&$B71,data_entry,COLUMNS($B$11:I70),0)),\"\")","v":""},{"$f":"IFERROR(IF($L$6=\"\",\"\",VLOOKUP($L$6&\"_\"&$B71,data_entry,COLUMNS($B$11:J70),0)),\"\")","v":""},{"$f":"IFERROR(IF($L$6=\"\",\"\",VLOOKUP($L$6&\"_\"&$B71,data_entry,COLUMNS($B$11:K70),0)),\"\")","v":""},{"$f":"IFERROR(IF($L$6=\"\",\"\",VLOOKUP($L$6&\"_\"&$B71,data_entry,COLUMNS($B$11:L70),0)),\"\")","v":""},{"$f":"IFERROR(IF($L$6=\"\",\"\",VLOOKUP($L$6&\"_\"&$B71,data_entry,COLUMNS($B$11:M70),0)),\"\")","v":""},{"$f":"IFERROR(IF($L$6=\"\",\"\",VLOOKUP($L$6&\"_\"&$B71,data_entry,COLUMNS($B$11:N70),0)),\"\")","v":""},{"$f":"IFERROR(IF($L$6=\"\",\"\",VLOOKUP($L$6&\"_\"&$B71,data_entry,COLUMNS($B$11:O70),0)),\"\")","v":""},{"$f":"IFERROR(IF($L$6=\"\",\"\",VLOOKUP($L$6&\"_\"&$B71,data_entry,COLUMNS($B$11:P70),0)),\"\")","v":""},{"$f":"IFERROR(IF($L$6=\"\",\"\",VLOOKUP($L$6&\"_\"&$B71,data_entry,COLUMNS($B$11:Q70),0)),\"\")","v":""},{"$f":"IFERROR(IF($L$6=\"\",\"\",VLOOKUP($L$6&\"_\"&$B71,data_entry,COLUMNS($B$11:R70),0)),\"\")","v":""},{"$f":"IFERROR(IF($L$6=\"\",\"\",VLOOKUP($L$6&\"_\"&$B71,data_entry,COLUMNS($B$11:S70),0)),\"\")","v":""},{"$f":"IFERROR(IF($L$6=\"\",\"\",VLOOKUP($L$6&\"_\"&$B71,data_entry,COLUMNS($B$11:T70),0)),\"\")","v":""},{"$f":"IFERROR(IF($L$6=\"\",\"\",VLOOKUP($L$6&\"_\"&$B71,data_entry,COLUMNS($B$11:U70),0)),\"\")","v":""},{"$f":"IFERROR(IF($L$6=\"\",\"\",VLOOKUP($L$6&\"_\"&$B71,data_entry,COLUMNS($B$11:V70),0)),\"\")","v":""},{"$f":"IFERROR(IF($L$6=\"\",\"\",VLOOKUP($L$6&\"_\"&$B71,data_entry,COLUMNS($B$11:W70),0)),\"\")","v":""},{"$f":"IFERROR(IF($L$6=\"\",\"\",VLOOKUP($L$6&\"_\"&$B71,data_entry,COLUMNS($B$11:X70),0)),\"\")","v":""},{"$f":"IFERROR(IF($L$6=\"\",\"\",VLOOKUP($L$6&\"_\"&$B71,data_entry,COLUMNS($B$11:Y70),0)),\"\")","v":""},{"$f":"IFERROR(IF($L$6=\"\",\"\",VLOOKUP($L$6&\"_\"&$B71,data_entry,COLUMNS($B$11:Z70),0)),\"\")","v":""},{"$f":"IFERROR(IF($L$6=\"\",\"\",VLOOKUP($L$6&\"_\"&$B71,data_entry,COLUMNS($B$11:AA70),0)),\"\")","v":""},{"$f":"IFERROR(IF($L$6=\"\",\"\",VLOOKUP($L$6&\"_\"&$B71,data_entry,COLUMNS($B$11:AB70),0)),\"\")","v":""},{"$f":"IFERROR(IF($L$6=\"\",\"\",VLOOKUP($L$6&\"_\"&$B71,data_entry,COLUMNS($B$11:AC70),0)),\"\")","v":""},{"$f":"IFERROR(IF($L$6=\"\",\"\",VLOOKUP($L$6&\"_\"&$B71,data_entry,COLUMNS($B$11:AD70),0)),\"\")","v":""},{"$nulls":5},{"$f":"IFERROR(IF($L$6=\"\",\"\",VLOOKUP($L$6&\"_\"&$B71,data_entry,COLUMNS($B$11:AJ70),0)),\"\")","v":""},{"$f":"IFERROR(IF($L$6=\"\",\"\",VLOOKUP($L$6&\"_\"&$B71,data_entry,COLUMNS($B$11:AK70),0)),\"\")","v":""},{"$f":"IFERROR(IF($L$6=\"\",\"\",VLOOKUP($L$6&\"_\"&$B71,data_entry,COLUMNS($B$11:AL70),0)),\"\")","v":""},{"$f":"IFERROR(IF($L$6=\"\",\"\",VLOOKUP($L$6&\"_\"&$B71,data_entry,COLUMNS($B$11:AM70),0)),\"\")","v":""},{"$f":"IFERROR(IF($L$6=\"\",\"\",VLOOKUP($L$6&\"_\"&$B71,data_entry,COLUMNS($B$11:AN70),0)),\"\")","v":""},{"$f":"IFERROR(IF($L$6=\"\",\"\",VLOOKUP($L$6&\"_\"&$B71,data_entry,COLUMNS($B$11:AO70),0)),\"\")","v":""},{"$f":"IFERROR(IF($L$6=\"\",\"\",VLOOKUP($L$6&\"_\"&$B71,data_entry,COLUMNS($B$11:AP70),0)),\"\")","v":""},{"$f":"IFERROR(IF($L$6=\"\",\"\",VLOOKUP($L$6&\"_\"&$B71,data_entry,COLUMNS($B$11:AQ70),0)),\"\")","v":""}]
[0,61,{"$f":"IF(D72=\"\",\"\",ROWS($D$12:D72))","v":""},{"$f":"IFERROR(IF(OR($L$6=\"\",'DATA ENTRY'!C67=\"\"),\"\",VLOOKUP($L$6&\"_\"&$B72,data_entry,COLUMNS($B$11:D71),0)),\"\")","v":""},{"$f":"IFERROR(IF($L$6=\"\",\"\",VLOOKUP($L$6&\"_\"&$B72,data_entry,COLUMNS($B$11:E71),0)),\"\")","v":""},{"$f":"IFERROR(IF($L$6=\"\",\"\",VLOOKUP($L$6&\"_\"&$B72,data_entry,COLUMNS($B$11:F71),0)),\"\")","v":""},{"$f":"IFERROR(IF($L$6=\"\",\"\",VLOOKUP($L$6&\"_\"&$B72,data_entry,COLUMNS($B$11:G71),0)),\"\")","v":""},{"$f":"IFERROR(IF($L$6=\"\",\"\",VLOOKUP($L$6&\"_\"&$B72,data_entry,COLUMNS($B$11:H71),0)),\"\")","v":""},{"$f":"IFERROR(IF($L$6=\"\",\"\",VLOOKUP($L$6&\"_\"&$B72,data_entry,COLUMNS($B$11:I71),0)),\"\")","v":""},{"$f":"IFERROR(IF($L$6=\"\",\"\",VLOOKUP($L$6&\"_\"&$B72,data_entry,COLUMNS($B$11:J71),0)),\"\")","v":""},{"$f":"IFERROR(IF($L$6=\"\",\"\",VLOOKUP($L$6&\"_\"&$B72,data_entry,COLUMNS($B$11:K71),0)),\"\")","v":""},{"$f":"IFERROR(IF($L$6=\"\",\"\",VLOOKUP($L$6&\"_\"&$B72,data_entry,COLUMNS($B$11:L71),0)),\"\")","v":""},{"$f":"IFERROR(IF($L$6=\"\",\"\",VLOOKUP($L$6&\"_\"&$B72,data_entry,COLUMNS($B$11:M71),0)),\"\")","v":""},{"$f":"IFERROR(IF($L$6=\"\",\"\",VLOOKUP($L$6&\"_\"&$B72,data_entry,COLUMNS($B$11:N71),0)),\"\")","v":""},{"$f":"IFERROR(IF($L$6=\"\",\"\",VLOOKUP($L$6&\"_\"&$B72,data_entry,COLUMNS($B$11:O71),0)),\"\")","v":""},{"$f":"IFERROR(IF($L$6=\"\",\"\",VLOOKUP($L$6&\"_\"&$B72,data_entry,COLUMNS($B$11:P71),0)),\"\")","v":""},{"$f":"IFERROR(IF($L$6=\"\",\"\",VLOOKUP($L$6&\"_\"&$B72,data_entry,COLUMNS($B$11:Q71),0)),\"\")","v":""},{"$f":"IFERROR(IF($L$6=\"\",\"\",VLOOKUP($L$6&\"_\"&$B72,data_entry,COLUMNS($B$11:R71),0)),\"\")","v":""},{"$f":"IFERROR(IF($L$6=\"\",\"\",VLOOKUP($L$6&\"_\"&$B72,data_entry,COLUMNS($B$11:S71),0)),\"\")","v":""},{"$f":"IFERROR(IF($L$6=\"\",\"\",VLOOKUP($L$6&\"_\"&$B72,data_entry,COLUMNS($B$11:T71),0)),\"\")","v":""},{"$f":"IFERROR(IF($L$6=\"\",\"\",VLOOKUP($L$6&\"_\"&$B72,data_entry,COLUMNS($B$11:U71),0)),\"\")","v":""},{"$f":"IFERROR(IF($L$6=\"\",\"\",VLOOKUP($L$6&\"_\"&$B72,data_entry,COLUMNS($B$11:V71),0)),\"\")","v":""},{"$f":"IFERROR(IF($L$6=\"\",\"\",VLOOKUP($L$6&\"_\"&$B72,data_entry,COLUMNS($B$11:W71),0)),\"\")","v":""},{"$f":"IFERROR(IF($L$6=\"\",\"\",VLOOKUP($L$6&\"_\"&$B72,data_entry,COLUMNS($B$11:X71),0)),\"\")","v":""},{"$f":"IFERROR(IF($L$6=\"\",\"\",VLOOKUP($L$6&\"_\"&$B72,data_entry,COLUMNS($B$11:Y71),0)),\"\")","v":""},{"$f":"IFERROR(IF($L$6=\"\",\"\",VLOOKUP($L$6&\"_\"&$B72,data_entry,COLUMNS($B$11:Z71),0)),\"\")","v":""},{"$f":"IFERROR(IF($L$6=\"\",\"\",VLOOKUP($L$6&\"_\"&$B72,data_entry,COLUMNS($B$11:AA71),0)),\"\")","v":""},{"$f":"IFERROR(IF($L$6=\"\",\"\",VLOOKUP($L$6&\"_\"&$B72,data_entry,COLUMNS($B$11:AB71),0)),\"\")","v":""},{"$f":"IFERROR(IF($L$6=\"\",\"\",VLOOKUP($L$6&\"_\"&$B72,data_entry,COLUMNS($B$11:AC71),0)),\"\")","v":""},{"$f":"IFERROR(IF($L$6=\"\",\"\",VLOOKUP($L$6&\"_\"&$B72,data_entry,COLUMNS($B$11:AD71),0)),\"\")","v":""},{"$nulls":5},{"$f":"IFERROR(IF($L$6=\"\",\"\",VLOOKUP($L$6&\"_\"&$B72,data_entry,COLUMNS($B$11:AJ71),0)),\"\")","v":""},{"$f":"IFERROR(IF($L$6=\"\",\"\",VLOOKUP($L$6&\"_\"&$B72,data_entry,COLUMNS($B$11:AK71),0)),\"\")","v":""},{"$f":"IFERROR(IF($L$6=\"\",\"\",VLOOKUP($L$6&\"_\"&$B72,data_entry,COLUMNS($B$11:AL71),0)),\"\")","v":""},{"$f":"IFERROR(IF($L$6=\"\",\"\",VLOOKUP($L$6&\"_\"&$B72,data_entry,COLUMNS($B$11:AM71),0)),\"\")","v":""},{"$f":"IFERROR(IF($L$6=\"\",\"\",VLOOKUP($L$6&\"_\"&$B72,data_entry,COLUMNS($B$11:AN71),0)),\"\")","v":""},{"$f":"IFERROR(IF($L$6=\"\",\"\",VLOOKUP($L$6&\"_\"&$B72,data_entry,COLUMNS($B$11:AO71),0)),\"\")","v":""},{"$f":"IFERROR(IF($L$6=\"\",\"\",VLOOKUP($L$6&\"_\"&$B72,data_entry,COLUMNS($B$11:AP71),0)),\"\")","v":""},{"$f":"IFERROR(IF($L$6=\"\",\"\",VLOOKUP($L$6&\"_\"&$B72,data_entry,COLUMNS($B$11:AQ71),0)),\"\")","v":""}]
[0,62,{"$f":"IF(D73=\"\",\"\",ROWS($D$12:D73))","v":""},{"$f":"IFERROR(IF(OR($L$6=\"\",'DATA ENTRY'!C68=\"\"),\"\",VLOOKUP($L$6&\"_\"&$B73,data_entry,COLUMNS($B$11:D72),0)),\"\")","v":""},{"$f":"IFERROR(IF($L$6=\"\",\"\",VLOOKUP($L$6&\"_\"&$B73,data_entry,COLUMNS($B$11:E72),0)),\"\")","v":""},{"$f":"IFERROR(IF($L$6=\"\",\"\",VLOOKUP($L$6&\"_\"&$B73,data_entry,COLUMNS($B$11:F72),0)),\"\")","v":""},{"$f":"IFERROR(IF($L$6=\"\",\"\",VLOOKUP($L$6&\"_\"&$B73,data_entry,COLUMNS($B$11:G72),0)),\"\")","v":""},{"$f":"IFERROR(IF($L$6=\"\",\"\",VLOOKUP($L$6&\"_\"&$B73,data_entry,COLUMNS($B$11:H72),0)),\"\")","v":""},{"$f":"IFERROR(IF($L$6=\"\",\"\",VLOOKUP($L$6&\"_\"&$B73,data_entry,COLUMNS($B$11:I72),0)),\"\")","v":""},{"$f":"IFERROR(IF($L$6=\"\",\"\",VLOOKUP($L$6&\"_\"&$B73,data_entry,COLUMNS($B$11:J72),0)),\"\")","v":""},{"$f":"IFERROR(IF($L$6=\"\",\"\",VLOOKUP($L$6&\"_\"&$B73,data_entry,COLUMNS($B$11:K72),0)),\"\")","v":""},{"$f":"IFERROR(IF($L$6=\"\",\"\",VLOOKUP($L$6&\"_\"&$B73,data_entry,COLUMNS($B$11:L72),0)),\"\")","v":""},{"$f":"IFERROR(IF($L$6=\"\",\"\",VLOOKUP($L$6&\"_\"&$B73,data_entry,COLUMNS($B$11:M72),0)),\"\")","v":""},{"$f":"IFERROR(IF($L$6=\"\",\"\",VLOOKUP($L$6&\"_\"&$B73,data_entry,COLUMNS($B$11:N72),0)),\"\")","v":""},{"$f":"IFERROR(IF($L$6=\"\",\"\",VLOOKUP($L$6&\"_\"&$B73,data_entry,COLUMNS($B$11:O72),0)),\"\")","v":""},{"$f":"IFERROR(IF($L$6=\"\",\"\",VLOOKUP($L$6&\"_\"&$B73,data_entry,COLUMNS($B$11:P72),0)),\"\")","v":""},{"$f":"IFERROR(IF($L$6=\"\",\"\",VLOOKUP($L$6&\"_\"&$B73,data_entry,COLUMNS($B$11:Q72),0)),\"\")","v":""},{"$f":"IFERROR(IF($L$6=\"\",\"\",VLOOKUP($L$6&\"_\"&$B73,data_entry,COLUMNS($B$11:R72),0)),\"\")","v":""},{"$f":"IFERROR(IF($L$6=\"\",\"\",VLOOKUP($L$6&\"_\"&$B73,data_entry,COLUMNS($B$11:S72),0)),\"\")","v":""},{"$f":"IFERROR(IF($L$6=\"\",\"\",VLOOKUP($L$6&\"_\"&$B73,data_entry,COLUMNS($B$11:T72),0)),\"\")","v":""},{"$f":"IFERROR(IF($L$6=\"\",\"\",VLOOKUP($L$6&\"_\"&$B73,data_entry,COLUMNS($B$11:U72),0)),\"\")","v":""},{"$f":"IFERROR(IF($L$6=\"\",\"\",VLOOKUP($L$6&\"_\"&$B73,data_entry,COLUMNS($B$11:V72),0)),\"\")","v":""},{"$f":"IFERROR(IF($L$6=\"\",\"\",VLOOKUP($L$6&\"_\"&$B73,data_entry,COLUMNS($B$11:W72),0)),\"\")","v":""},{"$f":"IFERROR(IF($L$6=\"\",\"\",VLOOKUP($L$6&\"_\"&$B73,data_entry,COLUMNS($B$11:X72),0)),\"\")","v":""},{"$f":"IFERROR(IF($L$6=\"\",\"\",VLOOKUP($L$6&\"_\"&$B73,data_entry,COLUMNS($B$11:Y72),0)),\"\")","v":""},{"$f":"IFERROR(IF($L$6=\"\",\"\",VLOOKUP($L$6&\"_\"&$B73,data_entry,COLUMNS($B$11:Z72),0)),\"\")","v":""},{"$f":"IFERROR(IF($L$6=\"\",\"\",VLOOKUP($L$6&\"_\"&$B73,data_entry,COLUMNS($B$11:AA72),0)),\"\")","v":""},{"$f":"IFERROR(IF($L$6=\"\",\"\",VLOOKUP($L$6&\"_\"&$B73,data_entry,COLUMNS($B$11:AB72),0)),\"\")","v":""},{"$f":"IFERROR(IF($L$6=\"\",\"\",VLOOKUP($L$6&\"_\"&$B73,data_entry,COLUMNS($B$11:AC72),0)),\"\")","v":""},{"$f":"IFERROR(IF($L$6=\"\",\"\",VLOOKUP($L$6&\"_\"&$B73,data_entry,COLUMNS($B$11:AD72),0)),\"\")","v":""},{"$nulls":5},{"$f":"IFERROR(IF($L$6=\"\",\"\",VLOOKUP($L$6&\"_\"&$B73,data_entry,COLUMNS($B$11:AJ72),0)),\"\")","v":""},{"$f":"IFERROR(IF($L$6=\"\",\"\",VLOOKUP($L$6&\"_\"&$B73,data_entry,COLUMNS($B$11:AK72),0)),\"\")","v":""},{"$f":"IFERROR(IF($L$6=\"\",\"\",VLOOKUP($L$6&\"_\"&$B73,data_entry,COLUMNS($B$11:AL72),0)),\"\")","v":""},{"$f":"IFERROR(IF($L$6=\"\",\"\",VLOOKUP($L$6&\"_\"&$B73,data_entry,COLUMNS($B$11:AM72),0)),\"\")","v":""},{"$f":"IFERROR(IF($L$6=\"\",\"\",VLOOKUP($L$6&\"_\"&$B73,data_entry,COLUMNS($B$11:AN72),0)),\"\")","v":""},{"$f":"IFERROR(IF($L$6=\"\",\"\",VLOOKUP($L$6&\"_\"&$B73,data_entry,COLUMNS($B$11:AO72),0)),\"\")","v":""},{"$f":"IFERROR(IF($L$6=\"\",\"\",VLOOKUP($L$6&\"_\"&$B73,data_entry,COLUMNS($B$11:AP72),0)),\"\")","v":""},{"$f":"IFERROR(IF($L$6=\"\",\"\",VLOOKUP($L$6&\"_\"&$B73,data_entry,COLUMNS($B$11:AQ72),0)),\"\")","v":""}]
[0,63,{"$f":"IF(D74=\"\",\"\",ROWS($D$12:D74))","v":""},{"$f":"IFERROR(IF(OR($L$6=\"\",'DATA ENTRY'!C69=\"\"),\"\",VLOOKUP($L$6&\"_\"&$B74,data_entry,COLUMNS($B$11:D73),0)),\"\")","v":""},{"$f":"IFERROR(IF($L$6=\"\",\"\",VLOOKUP($L$6&\"_\"&$B74,data_entry,COLUMNS($B$11:E73),0)),\"\")","v":""},{"$f":"IFERROR(IF($L$6=\"\",\"\",VLOOKUP($L$6&\"_\"&$B74,data_entry,COLUMNS($B$11:F73),0)),\"\")","v":""},{"$f":"IFERROR(IF($L$6=\"\",\"\",VLOOKUP($L$6&\"_\"&$B74,data_entry,COLUMNS($B$11:G73),0)),\"\")","v":""},{"$f":"IFERROR(IF($L$6=\"\",\"\",VLOOKUP($L$6&\"_\"&$B74,data_entry,COLUMNS($B$11:H73),0)),\"\")","v":""},{"$f":"IFERROR(IF($L$6=\"\",\"\",VLOOKUP($L$6&\"_\"&$B74,data_entry,COLUMNS($B$11:I73),0)),\"\")","v":""},{"$f":"IFERROR(IF($L$6=\"\",\"\",VLOOKUP($L$6&\"_\"&$B74,data_entry,COLUMNS($B$11:J73),0)),\"\")","v":""},{"$f":"IFERROR(IF($L$6=\"\",\"\",VLOOKUP($L$6&\"_\"&$B74,data_entry,COLUMNS($B$11:K73),0)),\"\")","v":""},{"$f":"IFERROR(IF($L$6=\"\",\"\",VLOOKUP($L$6&\"_\"&$B74,data_entry,COLUMNS($B$11:L73),0)),\"\")","v":""},{"$f":"IFERROR(IF($L$6=\"\",\"\",VLOOKUP($L$6&\"_\"&$B74,data_entry,COLUMNS($B$11:M73),0)),\"\")","v":""},{"$f":"IFERROR(IF($L$6=\"\",\"\",VLOOKUP($L$6&\"_\"&$B74,data_entry,COLUMNS($B$11:N73),0)),\"\")","v":""},{"$f":"IFERROR(IF($L$6=\"\",\"\",VLOOKUP($L$6&\"_\"&$B74,data_entry,COLUMNS($B$11:O73),0)),\"\")","v":""},{"$f":"IFERROR(IF($L$6=\"\",\"\",VLOOKUP($L$6&\"_\"&$B74,data_entry,COLUMNS($B$11:P73),0)),\"\")","v":""},{"$f":"IFERROR(IF($L$6=\"\",\"\",VLOOKUP($L$6&\"_\"&$B74,data_entry,COLUMNS($B$11:Q73),0)),\"\")","v":""},{"$f":"IFERROR(IF($L$6=\"\",\"\",VLOOKUP($L$6&\"_\"&$B74,data_entry,COLUMNS($B$11:R73),0)),\"\")","v":""},{"$f":"IFERROR(IF($L$6=\"\",\"\",VLOOKUP($L$6&\"_\"&$B74,data_entry,COLUMNS($B$11:S73),0)),\"\")","v":""},{"$f":"IFERROR(IF($L$6=\"\",\"\",VLOOKUP($L$6&\"_\"&$B74,data_entry,COLUMNS($B$11:T73),0)),\"\")","v":""},{"$f":"IFERROR(IF($L$6=\"\",\"\",VLOOKUP($L$6&\"_\"&$B74,data_entry,COLUMNS($B$11:U73),0)),\"\")","v":""},{"$f":"IFERROR(IF($L$6=\"\",\"\",VLOOKUP($L$6&\"_\"&$B74,data_entry,COLUMNS($B$11:V73),0)),\"\")","v":""},{"$f":"IFERROR(IF($L$6=\"\",\"\",VLOOKUP($L$6&\"_\"&$B74,data_entry,COLUMNS($B$11:W73),0)),\"\")","v":""},{"$f":"IFERROR(IF($L$6=\"\",\"\",VLOOKUP($L$6&\"_\"&$B74,data_entry,COLUMNS($B$11:X73),0)),\"\")","v":""},{"$f":"IFERROR(IF($L$6=\"\",\"\",VLOOKUP($L$6&\"_\"&$B74,data_entry,COLUMNS($B$11:Y73),0)),\"\")","v":""},{"$f":"IFERROR(IF($L$6=\"\",\"\",VLOOKUP($L$6&\"_\"&$B74,data_entry,COLUMNS($B$11:Z73),0)),\"\")","v":""},{"$f":"IFERROR(IF($L$6=\"\",\"\",VLOOKUP($L$6&\"_\"&$B74,data_entry,COLUMNS($B$11:AA73),0)),\"\")","v":""},{"$f":"IFERROR(IF($L$6=\"\",\"\",VLOOKUP($L$6&\"_\"&$B74,data_entry,COLUMNS($B$11:AB73),0)),\"\")","v":""},{"$f":"IFERROR(IF($L$6=\"\",\"\",VLOOKUP($L$6&\"_\"&$B74,data_entry,COLUMNS($B$11:AC73),0)),\"\")","v":""},{"$f":"IFERROR(IF($L$6=\"\",\"\",VLOOKUP($L$6&\"_\"&$B74,data_entry,COLUMNS($B$11:AD73),0)),\"\")","v":""},{"$nulls":5},{"$f":"IFERROR(IF($L$6=\"\",\"\",VLOOKUP($L$6&\"_\"&$B74,data_entry,COLUMNS($B$11:AJ73),0)),\"\")","v":""},{"$f":"IFERROR(IF($L$6=\"\",\"\",VLOOKUP($L$6&\"_\"&$B74,data_entry,COLUMNS($B$11:AK73),0)),\"\")","v":""},{"$f":"IFERROR(IF($L$6=\"\",\"\",VLOOKUP($L$6&\"_\"&$B74,data_entry,COLUMNS($B$11:AL73),0)),\"\")","v":""},{"$f":"IFERROR(IF($L$6=\"\",\"\",VLOOKUP($L$6&\"_\"&$B74,data_entry,COLUMNS($B$11:AM73),0)),\"\")","v":""},{"$f":"IFERROR(IF($L$6=\"\",\"\",VLOOKUP($L$6&\"_\"&$B74,data_entry,COLUMNS($B$11:AN73),0)),\"\")","v":""},{"$f":"IFERROR(IF($L$6=\"\",\"\",VLOOKUP($L$6&\"_\"&$B74,data_entry,COLUMNS($B$11:AO73),0)),\"\")","v":""},{"$f":"IFERROR(IF($L$6=\"\",\"\",VLOOKUP($L$6&\"_\"&$B74,data_entry,COLUMNS($B$11:AP73),0)),\"\")","v":""},{"$f":"IFERROR(IF($L$6=\"\",\"\",VLOOKUP($L$6&\"_\"&$B74,data_entry,COLUMNS($B$11:AQ73),0)),\"\")","v":""}]
[0,64,{"$f":"IF(D75=\"\",\"\",ROWS($D$12:D75))","v":""},{"$f":"IFERROR(IF(OR($L$6=\"\",'DATA ENTRY'!C70=\"\"),\"\",VLOOKUP($L$6&\"_\"&$B75,data_entry,COLUMNS($B$11:D74),0)),\"\")","v":""},{"$f":"IFERROR(IF($L$6=\"\",\"\",VLOOKUP($L$6&\"_\"&$B75,data_entry,COLUMNS($B$11:E74),0)),\"\")","v":""},{"$f":"IFERROR(IF($L$6=\"\",\"\",VLOOKUP($L$6&\"_\"&$B75,data_entry,COLUMNS($B$11:F74),0)),\"\")","v":""},{"$f":"IFERROR(IF($L$6=\"\",\"\",VLOOKUP($L$6&\"_\"&$B75,data_entry,COLUMNS($B$11:G74),0)),\"\")","v":""},{"$f":"IFERROR(IF($L$6=\"\",\"\",VLOOKUP($L$6&\"_\"&$B75,data_entry,COLUMNS($B$11:H74),0)),\"\")","v":""},{"$f":"IFERROR(IF($L$6=\"\",\"\",VLOOKUP($L$6&\"_\"&$B75,data_entry,COLUMNS($B$11:I74),0)),\"\")","v":""},{"$f":"IFERROR(IF($L$6=\"\",\"\",VLOOKUP($L$6&\"_\"&$B75,data_entry,COLUMNS($B$11:J74),0)),\"\")","v":""},{"$f":"IFERROR(IF($L$6=\"\",\"\",VLOOKUP($L$6&\"_\"&$B75,data_entry,COLUMNS($B$11:K74),0)),\"\")","v":""},{"$f":"IFERROR(IF($L$6=\"\",\"\",VLOOKUP($L$6&\"_\"&$B75,data_entry,COLUMNS($B$11:L74),0)),\"\")","v":""},{"$f":"IFERROR(IF($L$6=\"\",\"\",VLOOKUP($L$6&\"_\"&$B75,data_entry,COLUMNS($B$11:M74),0)),\"\")","v":""},{"$f":"IFERROR(IF($L$6=\"\",\"\",VLOOKUP($L$6&\"_\"&$B75,data_entry,COLUMNS($B$11:N74),0)),\"\")","v":""},{"$f":"IFERROR(IF($L$6=\"\",\"\",VLOOKUP($L$6&\"_\"&$B75,data_entry,COLUMNS($B$11:O74),0)),\"\")","v":""},{"$f":"IFERROR(IF($L$6=\"\",\"\",VLOOKUP($L$6&\"_\"&$B75,data_entry,COLUMNS($B$11:P74),0)),\"\")","v":""},{"$f":"IFERROR(IF($L$6=\"\",\"\",VLOOKUP($L$6&\"_\"&$B75,data_entry,COLUMNS($B$11:Q74),0)),\"\")","v":""},{"$f":"IFERROR(IF($L$6=\"\",\"\",VLOOKUP($L$6&\"_\"&$B75,data_entry,COLUMNS($B$11:R74),0)),\"\")","v":""},{"$f":"IFERROR(IF($L$6=\"\",\"\",VLOOKUP($L$6&\"_\"&$B75,data_entry,COLUMNS($B$11:S74),0)),\"\")","v":""},{"$f":"IFERROR(IF($L$6=\"\",\"\",VLOOKUP($L$6&\"_\"&$B75,data_entry,COLUMNS($B$11:T74),0)),\"\")","v":""},{"$f":"IFERROR(IF($L$6=\"\",\"\",VLOOKUP($L$6&\"_\"&$B75,data_entry,COLUMNS($B$11:U74),0)),\"\")","v":""},{"$f":"IFERROR(IF($L$6=\"\",\"\",VLOOKUP($L$6&\"_\"&$B75,data_entry,COLUMNS($B$11:V74),0)),\"\")","v":""},{"$f":"IFERROR(IF($L$6=\"\",\"\",VLOOKUP($L$6&\"_\"&$B75,data_entry,COLUMNS($B$11:W74),0)),\"\")","v":""},{"$f":"IFERROR(IF($L$6=\"\",\"\",VLOOKUP($L$6&\"_\"&$B75,data_entry,COLUMNS($B$11:X74),0)),\"\")","v":""},{"$f":"IFERROR(IF($L$6=\"\",\"\",VLOOKUP($L$6&\"_\"&$B75,data_entry,COLUMNS($B$11:Y74),0)),\"\")","v":""},{"$f":"IFERROR(IF($L$6=\"\",\"\",VLOOKUP($L$6&\"_\"&$B75,data_entry,COLUMNS($B$11:Z74),0)),\"\")","v":""},{"$f":"IFERROR(IF($L$6=\"\",\"\",VLOOKUP($L$6&\"_\"&$B75,data_entry,COLUMNS($B$11:AA74),0)),\"\")","v":""},{"$f":"IFERROR(IF($L$6=\"\",\"\",VLOOKUP($L$6&\"_\"&$B75,data_entry,COLUMNS($B$11:AB74),0)),\"\")","v":""},{"$f":"IFERROR(IF($L$6=\"\",\"\",VLOOKUP($L$6&\"_\"&$B75,data_entry,COLUMNS($B$11:AC74),0)),\"\")","v":""},{"$f":"IFERROR(IF($L$6=\"\",\"\",VLOOKUP($L$6&\"_\"&$B75,data_entry,COLUMNS($B$11:AD74),0)),\"\")","v":""},{"$nulls":5},{"$f":"IFERROR(IF($L$6=\"\",\"\",VLOOKUP($L$6&\"_\"&$B75,data_entry,COLUMNS($B$11:AJ74),0)),\"\")","v":""},{"$f":"IFERROR(IF($L$6=\"\",\"\",VLOOKUP($L$6&\"_\"&$B75,data_entry,COLUMNS($B$11:AK74),0)),\"\")","v":""},{"$f":"IFERROR(IF($L$6=\"\",\"\",VLOOKUP($L$6&\"_\"&$B75,data_entry,COLUMNS($B$11:AL74),0)),\"\")","v":""},{"$f":"IFERROR(IF($L$6=\"\",\"\",VLOOKUP($L$6&\"_\"&$B75,data_entry,COLUMNS($B$11:AM74),0)),\"\")","v":""},{"$f":"IFERROR(IF($L$6=\"\",\"\",VLOOKUP($L$6&\"_\"&$B75,data_entry,COLUMNS($B$11:AN74),0)),\"\")","v":""},{"$f":"IFERROR(IF($L$6=\"\",\"\",VLOOKUP($L$6&\"_\"&$B75,data_entry,COLUMNS($B$11:AO74),0)),\"\")","v":""},{"$f":"IFERROR(IF($L$6=\"\",\"\",VLOOKUP($L$6&\"_\"&$B75,data_entry,COLUMNS($B$11:AP74),0)),\"\")","v":""},{"$f":"IFERROR(IF($L$6=\"\",\"\",VLOOKUP($L$6&\"_\"&$B75,data_entry,COLUMNS($B$11:AQ74),0)),\"\")","v":""}]
[0,65,{"$f":"IF(D76=\"\",\"\",ROWS($D$12:D76))","v":""},{"$f":"IFERROR(IF(OR($L$6=\"\",'DATA ENTRY'!C71=\"\"),\"\",VLOOKUP($L$6&\"_\"&$B76,data_entry,COLUMNS($B$11:D75),0)),\"\")","v":""},{"$f":"IFERROR(IF($L$6=\"\",\"\",VLOOKUP($L$6&\"_\"&$B76,data_entry,COLUMNS($B$11:E75),0)),\"\")","v":""},{"$f":"IFERROR(IF($L$6=\"\",\"\",VLOOKUP($L$6&\"_\"&$B76,data_entry,COLUMNS($B$11:F75),0)),\"\")","v":""},{"$f":"IFERROR(IF($L$6=\"\",\"\",VLOOKUP($L$6&\"_\"&$B76,data_entry,COLUMNS($B$11:G75),0)),\"\")","v":""},{"$f":"IFERROR(IF($L$6=\"\",\"\",VLOOKUP($L$6&\"_\"&$B76,data_entry,COLUMNS($B$11:H75),0)),\"\")","v":""},{"$f":"IFERROR(IF($L$6=\"\",\"\",VLOOKUP($L$6&\"_\"&$B76,data_entry,COLUMNS($B$11:I75),0)),\"\")","v":""},{"$f":"IFERROR(IF($L$6=\"\",\"\",VLOOKUP($L$6&\"_\"&$B76,data_entry,COLUMNS($B$11:J75),0)),\"\")","v":""},{"$f":"IFERROR(IF($L$6=\"\",\"\",VLOOKUP($L$6&\"_\"&$B76,data_entry,COLUMNS($B$11:K75),0)),\"\")","v":""},{"$f":"IFERROR(IF($L$6=\"\",\"\",VLOOKUP($L$6&\"_\"&$B76,data_entry,COLUMNS($B$11:L75),0)),\"\")","v":""},{"$f":"IFERROR(IF($L$6=\"\",\"\",VLOOKUP($L$6&\"_\"&$B76,data_entry,COLUMNS($B$11:M75),0)),\"\")","v":""},{"$f":"IFERROR(IF($L$6=\"\",\"\",VLOOKUP($L$6&\"_\"&$B76,data_entry,COLUMNS($B$11:N75),0)),\"\")","v":""},{"$f":"IFERROR(IF($L$6=\"\",\"\",VLOOKUP($L$6&\"_\"&$B76,data_entry,COLUMNS($B$11:O75),0)),\"\")","v":""},{"$f":"IFERROR(IF($L$6=\"\",\"\",VLOOKUP($L$6&\"_\"&$B76,data_entry,COLUMNS($B$11:P75),0)),\"\")","v":""},{"$f":"IFERROR(IF($L$6=\"\",\"\",VLOOKUP($L$6&\"_\"&$B76,data_entry,COLUMNS($B$11:Q75),0)),\"\")","v":""},{"$f":"IFERROR(IF($L$6=\"\",\"\",VLOOKUP($L$6&\"_\"&$B76,data_entry,COLUMNS($B$11:R75),0)),\"\")","v":""},{"$f":"IFERROR(IF($L$6=\"\",\"\",VLOOKUP($L$6&\"_\"&$B76,data_entry,COLUMNS($B$11:S75),0)),\"\")","v":""},{"$f":"IFERROR(IF($L$6=\"\",\"\",VLOOKUP($L$6&\"_\"&$B76,data_entry,COLUMNS($B$11:T75),0)),\"\")","v":""},{"$f":"IFERROR(IF($L$6=\"\",\"\",VLOOKUP($L$6&\"_\"&$B76,data_entry,COLUMNS($B$11:U75),0)),\"\")","v":""},{"$f":"IFERROR(IF($L$6=\"\",\"\",VLOOKUP($L$6&\"_\"&$B76,data_entry,COLUMNS($B$11:V75),0)),\"\")","v":""},{"$f":"IFERROR(IF($L$6=\"\",\"\",VLOOKUP($L$6&\"_\"&$B76,data_entry,COLUMNS($B$11:W75),0)),\"\")","v":""},{"$f":"IFERROR(IF($L$6=\"\",\"\",VLOOKUP($L$6&\"_\"&$B76,data_entry,COLUMNS($B$11:X75),0)),\"\")","v":""},{"$f":"IFERROR(IF($L$6=\"\",\"\",VLOOKUP($L$6&\"_\"&$B76,data_entry,COLUMNS($B$11:Y75),0)),\"\")","v":""},{"$f":"IFERROR(IF($L$6=\"\",\"\",VLOOKUP($L$6&\"_\"&$B76,data_entry,COLUMNS($B$11:Z75),0)),\"\")","v":""},{"$f":"IFERROR(IF($L$6=\"\",\"\",VLOOKUP($L$6&\"_\"&$B76,data_entry,COLUMNS($B$11:AA75),0)),\"\")","v":""},{"$f":"IFERROR(IF($L$6=\"\",\"\",VLOOKUP($L$6&\"_\"&$B76,data_entry,COLUMNS($B$11:AB75),0)),\"\")","v":""},{"$f":"IFERROR(IF($L$6=\"\",\"\",VLOOKUP($L$6&\"_\"&$B76,data_entry,COLUMNS($B$11:AC75),0)),\"\")","v":""},{"$f":"IFERROR(IF($L$6=\"\",\"\",VLOOKUP($L$6&\"_\"&$B76,data_entry,COLUMNS($B$11:AD75),0)),\"\")","v":""},{"$nulls":5},{"$f":"IFERROR(IF($L$6=\"\",\"\",VLOOKUP($L$6&\"_\"&$B76,data_entry,COLUMNS($B$11:AJ75),0)),\"\")","v":""},{"$f":"IFERROR(IF($L$6=\"\",\"\",VLOOKUP($L$6&\"_\"&$B76,data_entry,COLUMNS($B$11:AK75),0)),\"\")","v":""},{"$f":"IFERROR(IF($L$6=\"\",\"\",VLOOKUP($L$6&\"_\"&$B76,data_entry,COLUMNS($B$11:AL75),0)),\"\")","v":""},{"$f":"IFERROR(IF($L$6=\"\",\"\",VLOOKUP($L$6&\"_\"&$B76,data_entry,COLUMNS($B$11:AM75),0)),\"\")","v":""},{"$f":"IFERROR(IF($L$6=\"\",\"\",VLOOKUP($L$6&\"_\"&$B76,data_entry,COLUMNS($B$11:AN75),0)),\"\")","v":""},{"$f":"IFERROR(IF($L$6=\"\",\"\",VLOOKUP($L$6&\"_\"&$B76,data_entry,COLUMNS($B$11:AO75),0)),\"\")","v":""},{"$f":"IFERROR(IF($L$6=\"\",\"\",VLOOKUP($L$6&\"_\"&$B76,data_entry,COLUMNS($B$11:AP75),0)),\"\")","v":""},{"$f":"IFERROR(IF($L$6=\"\",\"\",VLOOKUP($L$6&\"_\"&$B76,data_entry,COLUMNS($B$11:AQ75),0)),\"\")","v":""}]
[{"$f":"IF(C77=\"\",0,C77)","v":0},66,{"$f":"IF(D77=\"\",\"\",ROWS($D$12:D77))","v":""},{"$f":"IFERROR(IF(OR($L$6=\"\",'DATA ENTRY'!C72=\"\"),\"\",VLOOKUP($L$6&\"_\"&$B77,data_entry,COLUMNS($B$11:D76),0)),\"\")","v":""},{"$f":"IFERROR(IF($L$6=\"\",\"\",VLOOKUP($L$6&\"_\"&$B77,data_entry,COLUMNS($B$11:E76),0)),\"\")","v":""},{"$f":"IFERROR(IF($L$6=\"\",\"\",VLOOKUP($L$6&\"_\"&$B77,data_entry,COLUMNS($B$11:F76),0)),\"\")","v":""},{"$f":"IFERROR(IF($L$6=\"\",\"\",VLOOKUP($L$6&\"_\"&$B77,data_entry,COLUMNS($B$11:G76),0)),\"\")","v":""},{"$f":"IFERROR(IF($L$6=\"\",\"\",VLOOKUP($L$6&\"_\"&$B77,data_entry,COLUMNS($B$11:H76),0)),\"\")","v":""},{"$f":"IFERROR(IF($L$6=\"\",\"\",VLOOKUP($L$6&\"_\"&$B77,data_entry,COLUMNS($B$11:I76),0)),\"\")","v":""},{"$f":"IFERROR(IF($L$6=\"\",\"\",VLOOKUP($L$6&\"_\"&$B77,data_entry,COLUMNS($B$11:J76),0)),\"\")","v":""},{"$f":"IFERROR(IF($L$6=\"\",\"\",VLOOKUP($L$6&\"_\"&$B77,data_entry,COLUMNS($B$11:K76),0)),\"\")","v":""},{"$f":"IFERROR(IF($L$6=\"\",\"\",VLOOKUP($L$6&\"_\"&$B77,data_entry,COLUMNS($B$11:L76),0)),\"\")","v":""},{"$f":"IFERROR(IF($L$6=\"\",\"\",VLOOKUP($L$6&\"_\"&$B77,data_entry,COLUMNS($B$11:M76),0)),\"\")","v":""},{"$f":"IFERROR(IF($L$6=\"\",\"\",VLOOKUP($L$6&\"_\"&$B77,data_entry,COLUMNS($B$11:N76),0)),\"\")","v":""},{"$f":"IFERROR(IF($L$6=\"\",\"\",VLOOKUP($L$6&\"_\"&$B77,data_entry,COLUMNS($B$11:O76),0)),\"\")","v":""},{"$f":"IFERROR(IF($L$6=\"\",\"\",VLOOKUP($L$6&\"_\"&$B77,data_entry,COLUMNS($B$11:P76),0)),\"\")","v":""},{"$f":"IFERROR(IF($L$6=\"\",\"\",VLOOKUP($L$6&\"_\"&$B77,data_entry,COLUMNS($B$11:Q76),0)),\"\")","v":""},{"$f":"IFERROR(IF($L$6=\"\",\"\",VLOOKUP($L$6&\"_\"&$B77,data_entry,COLUMNS($B$11:R76),0)),\"\")","v":""},{"$f":"IFERROR(IF($L$6=\"\",\"\",VLOOKUP($L$6&\"_\"&$B77,data_entry,COLUMNS($B$11:S76),0)),\"\")","v":""},{"$f":"IFERROR(IF($L$6=\"\",\"\",VLOOKUP($L$6&\"_\"&$B77,data_entry,COLUMNS($B$11:T76),0)),\"\")","v":""},{"$f":"IFERROR(IF($L$6=\"\",\"\",VLOOKUP($L$6&\"_\"&$B77,data_entry,COLUMNS($B$11:U76),0)),\"\")","v":""},{"$f":"IFERROR(IF($L$6=\"\",\"\",VLOOKUP($L$6&\"_\"&$B77,data_entry,COLUMNS($B$11:V76),0)),\"\")","v":""},{"$f":"IFERROR(IF($L$6=\"\",\"\",VLOOKUP($L$6&\"_\"&$B77,data_entry,COLUMNS($B$11:W76),0)),\"\")","v":""},{"$f":"IFERROR(IF($L$6=\"\",\"\",VLOOKUP($L$6&\"_\"&$B77,data_entry,COLUMNS($B$11:X76),0)),\"\")","v":""},{"$f":"IFERROR(IF($L$6=\"\",\"\",VLOOKUP($L$6&\"_\"&$B77,data_entry,COLUMNS($B$11:Y76),0)),\"\")","v":""},{"$f":"IFERROR(IF($L$6=\"\",\"\",VLOOKUP($L$6&\"_\"&$B77,data_entry,COLUMNS($B$11:Z76),0)),\"\")","v":""},{"$f":"IFERROR(IF($L$6=\"\",\"\",VLOOKUP($L$6&\"_\"&$B77,data_entry,COLUMNS($B$11:AA76),0)),\"\")","v":""},{"$f":"IFERROR(IF($L$6=\"\",\"\",VLOOKUP($L$6&\"_\"&$B77,data_entry,COLUMNS($B$11:AB76),0)),\"\")","v":""},{"$f":"IFERROR(IF($L$6=\"\",\"\",VLOOKUP($L$6&\"_\"&$B77,data_entry,COLUMNS($B$11:AC76),0)),\"\")","v":""},{"$f":"IFERROR(IF($L$6=\"\",\"\",VLOOKUP($L$6&\"_\"&$B77,data_entry,COLUMNS($B$11:AD76),0)),\"\")","v":""},{"$nulls":5},{"$f":"IFERROR(IF($L$6=\"\",\"\",VLOOKUP($L$6&\"_\"&$B77,data_entry,COLUMNS($B$11:AJ76),0)),\"\")","v":""},{"$f":"IFERROR(IF($L$6=\"\",\"\",VLOOKUP($L$6&\"_\"&$B77,data_entry,COLUMNS($B$11:AK76),0)),\"\")","v":""},{"$f":"IFERROR(IF($L$6=\"\",\"\",VLOOKUP($L$6&\"_\"&$B77,data_entry,COLUMNS($B$11:AL76),0)),\"\")","v":""},{"$f":"IFERROR(IF($L$6=\"\",\"\",VLOOKUP($L$6&\"_\"&$B77,data_entry,COLUMNS($B$11:AM76),0)),\"\")","v":""},{"$f":"IFERROR(IF($L$6=\"\",\"\",VLOOKUP($L$6&\"_\"&$B77,data_entry,COLUMNS($B$11:AN76),0)),\"\")","v":""},{"$f":"IFERROR(IF($L$6=\"\",\"\",VLOOKUP($L$6&\"_\"&$B77,data_entry,COLUMNS($B$11:AO76),0)),\"\")","v":""},{"$f":"IFERROR(IF($L$6=\"\",\"\",VLOOKUP($L$6&\"_\"&$B77,data_entry,COLUMNS($B$11:AP76),0)),\"\")","v":""},{"$f":"IFERROR(IF($L$6=\"\",\"\",VLOOKUP($L$6&\"_\"&$B77,data_entry,COLUMNS($B$11:AQ76),0)),\"\")","v":""}]
[0,{"$f":"B77+1","v":67},{"$f":"IF(D78=\"\",\"\",ROWS($D$12:D78))","v":""},{"$f":"IFERROR(IF(OR($L$6=\"\",'DATA ENTRY'!C73=\"\"),\"\",VLOOKUP($L$6&\"_\"&$B78,data_entry,COLUMNS($B$11:D77),0)),\"\")","v":""},{"$f":"IFERROR(IF($L$6=\"\",\"\",VLOOKUP($L$6&\"_\"&$B78,data_entry,COLUMNS($B$11:E77),0)),\"\")","v":""},{"$f":"IFERROR(IF($L$6=\"\",\"\",VLOOKUP($L$6&\"_\"&$B78,data_entry,COLUMNS($B$11:F77),0)),\"\")","v":""},{"$f":"IFERROR(IF($L$6=\"\",\"\",VLOOKUP($L$6&\"_\"&$B78,data_entry,COLUMNS($B$11:G77),0)),\"\")","v":""},{"$f":"IFERROR(IF($L$6=\"\",\"\",VLOOKUP($L$6&\"_\"&$B78,data_entry,COLUMNS($B$11:H77),0)),\"\")","v":""},{"$f":"IFERROR(IF($L$6=\"\",\"\",VLOOKUP($L$6&\"_\"&$B78,data_entry,COLUMNS($B$11:I77),0)),\"\")","v":""},{"$f":"IFERROR(IF($L$6=\"\",\"\",VLOOKUP($L$6&\"_\"&$B78,data_entry,COLUMNS($B$11:J77),0)),\"\")","v":""},{"$f":"IFERROR(IF($L$6=\"\",\"\",VLOOKUP($L$6&\"_\"&$B78,data_entry,COLUMNS($B$11:K77),0)),\"\")","v":""},{"$f":"IFERROR(IF($L$6=\"\",\"\",VLOOKUP($L$6&\"_\"&$B78,data_entry,COLUMNS($B$11:L77),0)),\"\")","v":""},{"$f":"IFERROR(IF($L$6=\"\",\"\",VLOOKUP($L$6&\"_\"&$B78,data_entry,COLUMNS($B$11:M77),0)),\"\")","v":""},{"$f":"IFERROR(IF($L$6=\"\",\"\",VLOOKUP($L$6&\"_\"&$B78,data_entry,COLUMNS($B$11:N77),0)),\"\")","v":""},{"$f":"IFERROR(IF($L$6=\"\",\"\",VLOOKUP($L$6&\"_\"&$B78,data_entry,COLUMNS($B$11:O77),0)),\"\")","v":""},{"$f":"IFERROR(IF($L$6=\"\",\"\",VLOOKUP($L$6&\"_\"&$B78,data_entry,COLUMNS($B$11:P77),0)),\"\")","v":""},{"$f":"IFERROR(IF($L$6=\"\",\"\",VLOOKUP($L$6&\"_\"&$B78,data_entry,COLUMNS($B$11:Q77),0)),\"\")","v":""},{"$f":"IFERROR(IF($L$6=\"\",\"\",VLOOKUP($L$6&\"_\"&$B78,data_entry,COLUMNS($B$11:R77),0)),\"\")","v":""},{"$f":"IFERROR(IF($L$6=\"\",\"\",VLOOKUP($L$6&\"_\"&$B78,data_entry,COLUMNS($B$11:S77),0)),\"\")","v":""},{"$f":"IFERROR(IF($L$6=\"\",\"\",VLOOKUP($L$6&\"_\"&$B78,data_entry,COLUMNS($B$11:T77),0)),\"\")","v":""},{"$f":"IFERROR(IF($L$6=\"\",\"\",VLOOKUP($L$6&\"_\"&$B78,data_entry,COLUMNS($B$11:U77),0)),\"\")","v":""},{"$f":"IFERROR(IF($L$6=\"\",\"\",VLOOKUP($L$6&\"_\"&$B78,data_entry,COLUMNS($B$11:V77),0)),\"\")","v":""},{"$f":"IFERROR(IF($L$6=\"\",\"\",VLOOKUP($L$6&\"_\"&$B78,data_entry,COLUMNS($B$11:W77),0)),\"\")","v":""},{"$f":"IFERROR(IF($L$6=\"\",\"\",VLOOKUP($L$6&\"_\"&$B78,data_entry,COLUMNS($B$11:X77),0)),\"\")","v":""},{"$f":"IFERROR(IF($L$6=\"\",\"\",VLOOKUP($L$6&\"_\"&$B78,data_entry,COLUMNS($B$11:Y77),0)),\"\")","v":""},{"$f":"IFERROR(IF($L$6=\"\",\"\",VLOOKUP($L$6&\"_\"&$B78,data_entry,COLUMNS($B$11:Z77),0)),\"\")","v":""},{"$f":"IFERROR(IF($L$6=\"\",\"\",VLOOKUP($L$6&\"_\"&$B78,data_entry,COLUMNS($B$11:AA77),0)),\"\")","v":""},{"$f":"IFERROR(IF($L$6=\"\",\"\",VLOOKUP($L$6&\"_\"&$B78,data_entry,COLUMNS($B$11:AB77),0)),\"\")","v":""},{"$f":"IFERROR(IF($L$6=\"\",\"\",VLOOKUP($L$6&\"_\"&$B78,data_entry,COLUMNS($B$11:AC77),0)),\"\")","v":""},{"$f":"IFERROR(IF($L$6=\"\",\"\",VLOOKUP($L$6&\"_\"&$B78,data_entry,COLUMNS($B$11:AD77),0)),\"\")","v":""},{"$nulls":5},{"$f":"IFERROR(IF($L$6=\"\",\"\",VLOOKUP($L$6&\"_\"&$B78,data_entry,COLUMNS($B$11:AJ77),0)),\"\")","v":""},{"$f":"IFERROR(IF($L$6=\"\",\"\",VLOOKUP($L$6&\"_\"&$B78,data_entry,COLUMNS($B$11:AK77),0)),\"\")","v":""},{"$f":"IFERROR(IF($L$6=\"\",\"\",VLOOKUP($L$6&\"_\"&$B78,data_entry,COLUMNS($B$11:AL77),0)),\"\")","v":""},{"$f":"IFERROR(IF($L$6=\"\",\"\",VLOOKUP($L$6&\"_\"&$B78,data_entry,COLUMNS($B$11:AM77),0)),\"\")","v":""},{"$f":"IFERROR(IF($L$6=\"\",\"\",VLOOKUP($L$6&\"_\"&$B78,data_entry,COLUMNS($B$11:AN77),0)),\"\")","v":""},{"$f":"IFERROR(IF($L$6=\"\",\"\",VLOOKUP($L$6&\"_\"&$B78,data_entry,COLUMNS($B$11:AO77),0)),\"\")","v":""},{"$f":"IFERROR(IF($L$6=\"\",\"\",VLOOKUP($L$6&\"_\"&$B78,data_entry,COLUMNS($B$11:AP77),0)),\"\")","v":""},{"$f":"IFERROR(IF($L$6=\"\",\"\",VLOOKUP($L$6&\"_\"&$B78,data_entry,COLUMNS($B$11:AQ77),0)),\"\")","v":""}]
[0,68,{"$f":"IF(D79=\"\",\"\",ROWS($D$12:D79))","v":""},{"$f":"IFERROR(IF(OR($L$6=\"\",'DATA ENTRY'!C74=\"\"),\"\",VLOOKUP($L$6&\"_\"&$B79,data_entry,COLUMNS($B$11:D78),0)),\"\")","v":""},{"$f":"IFERROR(IF($L$6=\"\",\"\",VLOOKUP($L$6&\"_\"&$B79,data_entry,COLUMNS($B$11:E78),0)),\"\")","v":""},{"$f":"IFERROR(IF($L$6=\"\",\"\",VLOOKUP($L$6&\"_\"&$B79,data_entry,COLUMNS($B$11:F78),0)),\"\")","v":""},{"$f":"IFERROR(IF($L$6=\"\",\"\",VLOOKUP($L$6&\"_\"&$B79,data_entry,COLUMNS($B$11:G78),0)),\"\")","v":""},{"$f":"IFERROR(IF($L$6=\"\",\"\",VLOOKUP($L$6&\"_\"&$B79,data_entry,COLUMNS($B$11:H78),0)),\"\")","v":""},{"$f":"IFERROR(IF($L$6=\"\",\"\",VLOOKUP($L$6&\"_\"&$B79,data_entry,COLUMNS($B$11:I78),0)),\"\")","v":""},{"$f":"IFERROR(IF($L$6=\"\",\"\",VLOOKUP($L$6&\"_\"&$B79,data_entry,COLUMNS($B$11:J78),0)),\"\")","v":""},{"$f":"IFERROR(IF($L$6=\"\",\"\",VLOOKUP($L$6&\"_\"&$B79,data_entry,COLUMNS($B$11:K78),0)),\"\")","v":""},{"$f":"IFERROR(IF($L$6=\"\",\"\",VLOOKUP($L$6&\"_\"&$B79,data_entry,COLUMNS($B$11:L78),0)),\"\")","v":""},{"$f":"IFERROR(IF($L$6=\"\",\"\",VLOOKUP($L$6&\"_\"&$B79,data_entry,COLUMNS($B$11:M78),0)),\"\")","v":""},{"$f":"IFERROR(IF($L$6=\"\",\"\",VLOOKUP($L$6&\"_\"&$B79,data_entry,COLUMNS($B$11:N78),0)),\"\")","v":""},{"$f":"IFERROR(IF($L$6=\"\",\"\",VLOOKUP($L$6&\"_\"&$B79,data_entry,COLUMNS($B$11:O78),0)),\"\")","v":""},{"$f":"IFERROR(IF($L$6=\"\",\"\",VLOOKUP($L$6&\"_\"&$B79,data_entry,COLUMNS($B$11:P78),0)),\"\")","v":""},{"$f":"IFERROR(IF($L$6=\"\",\"\",VLOOKUP($L$6&\"_\"&$B79,data_entry,COLUMNS($B$11:Q78),0)),\"\")","v":""},{"$f":"IFERROR(IF($L$6=\"\",\"\",VLOOKUP($L$6&\"_\"&$B79,data_entry,COLUMNS($B$11:R78),0)),\"\")","v":""},{"$f":"IFERROR(IF($L$6=\"\",\"\",VLOOKUP($L$6&\"_\"&$B79,data_entry,COLUMNS($B$11:S78),0)),\"\")","v":""},{"$f":"IFERROR(IF($L$6=\"\",\"\",VLOOKUP($L$6&\"_\"&$B79,data_entry,COLUMNS($B$11:T78),0)),\"\")","v":""},{"$f":"IFERROR(IF($L$6=\"\",\"\",VLOOKUP($L$6&\"_\"&$B79,data_entry,COLUMNS($B$11:U78),0)),\"\")","v":""},{"$f":"IFERROR(IF($L$6=\"\",\"\",VLOOKUP($L$6&\"_\"&$B79,data_entry,COLUMNS($B$11:V78),0)),\"\")","v":""},{"$f":"IFERROR(IF($L$6=\"\",\"\",VLOOKUP($L$6&\"_\"&$B79,data_entry,COLUMNS($B$11:W78),0)),\"\")","v":""},{"$f":"IFERROR(IF($L$6=\"\",\"\",VLOOKUP($L$6&\"_\"&$B79,data_entry,COLUMNS($B$11:X78),0)),\"\")","v":""},{"$f":"IFERROR(IF($L$6=\"\",\"\",VLOOKUP($L$6&\"_\"&$B79,data_entry,COLUMNS($B$11:Y78),0)),\"\")","v":""},{"$f":"IFERROR(IF($L$6=\"\",\"\",VLOOKUP($L$6&\"_\"&$B79,data_entry,COLUMNS($B$11:Z78),0)),\"\")","v":""},{"$f":"IFERROR(IF($L$6=\"\",\"\",VLOOKUP($L$6&\"_\"&$B79,data_entry,COLUMNS($B$11:AA78),0)),\"\")","v":""},{"$f":"IFERROR(IF($L$6=\"\",\"\",VLOOKUP($L$6&\"_\"&$B79,data_entry,COLUMNS($B$11:AB78),0)),\"\")","v":""},{"$f":"IFERROR(IF($L$6=\"\",\"\",VLOOKUP($L$6&\"_\"&$B79,data_entry,COLUMNS($B$11:AC78),0)),\"\")","v":""},{"$f":"IFERROR(IF($L$6=\"\",\"\",VLOOKUP($L$6&\"_\"&$B79,data_entry,COLUMNS($B$11:AD78),0)),\"\")","v":""},{"$nulls":5},{"$f":"IFERROR(IF($L$6=\"\",\"\",VLOOKUP($L$6&\"_\"&$B79,data_entry,COLUMNS($B$11:AJ78),0)),\"\")","v":""},{"$f":"IFERROR(IF($L$6=\"\",\"\",VLOOKUP($L$6&\"_\"&$B79,data_entry,COLUMNS($B$11:AK78),0)),\"\")","v":""},{"$f":"IFERROR(IF($L$6=\"\",\"\",VLOOKUP($L$6&\"_\"&$B79,data_entry,COLUMNS($B$11:AL78),0)),\"\")","v":""},{"$f":"IFERROR(IF($L$6=\"\",\"\",VLOOKUP($L$6&\"_\"&$B79,data_entry,COLUMNS($B$11:AM78),0)),\"\")","v":""},{"$f":"IFERROR(IF($L$6=\"\",\"\",VLOOKUP($L$6&\"_\"&$B79,data_entry,COLUMNS($B$11:AN78),0)),\"\")","v":""},{"$f":"IFERROR(IF($L$6=\"\",\"\",VLOOKUP($L$6&\"_\"&$B79,data_entry,COLUMNS($B$11:AO78),0)),\"\")","v":""},{"$f":"IFERROR(IF($L$6=\"\",\"\",VLOOKUP($L$6&\"_\"&$B79,data_entry,COLUMNS($B$11:AP78),0)),\"\")","v":""},{"$f":"IFERROR(IF($L$6=\"\",\"\",VLOOKUP($L$6&\"_\"&$B79,data_entry,COLUMNS($B$11:AQ78),0)),\"\")","v":""}]
[0,69,{"$f":"IF(D80=\"\",\"\",ROWS($D$12:D80))","v":""},{"$f":"IFERROR(IF(OR($L$6=\"\",'DATA ENTRY'!C75=\"\"),\"\",VLOOKUP($L$6&\"_\"&$B80,data_entry,COLUMNS($B$11:D79),0)),\"\")","v":""},{"$f":"IFERROR(IF($L$6=\"\",\"\",VLOOKUP($L$6&\"_\"&$B80,data_entry,COLUMNS($B$11:E79),0)),\"\")","v":""},{"$f":"IFERROR(IF($L$6=\"\",\"\",VLOOKUP($L$6&\"_\"&$B80,data_entry,COLUMNS($B$11:F79),0)),\"\")","v":""},{"$f":"IFERROR(IF($L$6=\"\",\"\",VLOOKUP($L$6&\"_\"&$B80,data_entry,COLUMNS($B$11:G79),0)),\"\")","v":""},{"$f":"IFERROR(IF($L$6=\"\",\"\",VLOOKUP($L$6&\"_\"&$B80,data_entry,COLUMNS($B$11:H79),0)),\"\")","v":""},{"$f":"IFERROR(IF($L$6=\"\",\"\",VLOOKUP($L$6&\"_\"&$B80,data_entry,COLUMNS($B$11:I79),0)),\"\")","v":""},{"$f":"IFERROR(IF($L$6=\"\",\"\",VLOOKUP($L$6&\"_\"&$B80,data_entry,COLUMNS($B$11:J79),0)),\"\")","v":""},{"$f":"IFERROR(IF($L$6=\"\",\"\",VLOOKUP($L$6&\"_\"&$B80,data_entry,COLUMNS($B$11:K79),0)),\"\")","v":""},{"$f":"IFERROR(IF($L$6=\"\",\"\",VLOOKUP($L$6&\"_\"&$B80,data_entry,COLUMNS($B$11:L79),0)),\"\")","v":""},{"$f":"IFERROR(IF($L$6=\"\",\"\",VLOOKUP($L$6&\"_\"&$B80,data_entry,COLUMNS($B$11:M79),0)),\"\")","v":""},{"$f":"IFERROR(IF($L$6=\"\",\"\",VLOOKUP($L$6&\"_\"&$B80,data_entry,COLUMNS($B$11:N79),0)),\"\")","v":""},{"$f":"IFERROR(IF($L$6=\"\",\"\",VLOOKUP($L$6&\"_\"&$B80,data_entry,COLUMNS($B$11:O79),0)),\"\")","v":""},{"$f":"IFERROR(IF($L$6=\"\",\"\",VLOOKUP($L$6&\"_\"&$B80,data_entry,COLUMNS($B$11:P79),0)),\"\")","v":""},{"$f":"IFERROR(IF($L$6=\"\",\"\",VLOOKUP($L$6&\"_\"&$B80,data_entry,COLUMNS($B$11:Q79),0)),\"\")","v":""},{"$f":"IFERROR(IF($L$6=\"\",\"\",VLOOKUP($L$6&\"_\"&$B80,data_entry,COLUMNS($B$11:R79),0)),\"\")","v":""},{"$f":"IFERROR(IF($L$6=\"\",\"\",VLOOKUP($L$6&\"_\"&$B80,data_entry,COLUMNS($B$11:S79),0)),\"\")","v":""},{"$f":"IFERROR(IF($L$6=\"\",\"\",VLOOKUP($L$6&\"_\"&$B80,data_entry,COLUMNS($B$11:T79),0)),\"\")","v":""},{"$f":"IFERROR(IF($L$6=\"\",\"\",VLOOKUP($L$6&\"_\"&$B80,data_entry,COLUMNS($B$11:U79),0)),\"\")","v":""},{"$f":"IFERROR(IF($L$6=\"\",\"\",VLOOKUP($L$6&\"_\"&$B80,data_entry,COLUMNS($B$11:V79),0)),\"\")","v":""},{"$f":"IFERROR(IF($L$6=\"\",\"\",VLOOKUP($L$6&\"_\"&$B80,data_entry,COLUMNS($B$11:W79),0)),\"\")","v":""},{"$f":"IFERROR(IF($L$6=\"\",\"\",VLOOKUP($L$6&\"_\"&$B80,data_entry,COLUMNS($B$11:X79),0)),\"\")","v":""},{"$f":"IFERROR(IF($L$6=\"\",\"\",VLOOKUP($L$6&\"_\"&$B80,data_entry,COLUMNS($B$11:Y79),0)),\"\")","v":""},{"$f":"IFERROR(IF($L$6=\"\",\"\",VLOOKUP($L$6&\"_\"&$B80,data_entry,COLUMNS($B$11:Z79),0)),\"\")","v":""},{"$f":"IFERROR(IF($L$6=\"\",\"\",VLOOKUP($L$6&\"_\"&$B80,data_entry,COLUMNS($B$11:AA79),0)),\"\")","v":""},{"$f":"IFERROR(IF($L$6=\"\",\"\",VLOOKUP($L$6&\"_\"&$B80,data_entry,COLUMNS($B$11:AB79),0)),\"\")","v":""},{"$f":"IFERROR(IF($L$6=\"\",\"\",VLOOKUP($L$6&\"_\"&$B80,data_entry,COLUMNS($B$11:AC79),0)),\"\")","v":""},{"$f":"IFERROR(IF($L$6=\"\",\"\",VLOOKUP($L$6&\"_\"&$B80,data_entry,COLUMNS($B$11:AD79),0)),\"\")","v":""},{"$nulls":5},{"$f":"IFERROR(IF($L$6=\"\",\"\",VLOOKUP($L$6&\"_\"&$B80,data_entry,COLUMNS($B$11:AJ79),0)),\"\")","v":""},{"$f":"IFERROR(IF($L$6=\"\",\"\",VLOOKUP($L$6&\"_\"&$B80,data_entry,COLUMNS($B$11:AK79),0)),\"\")","v":""},{"$f":"IFERROR(IF($L$6=\"\",\"\",VLOOKUP($L$6&\"_\"&$B80,data_entry,COLUMNS($B$11:AL79),0)),\"\")","v":""},{"$f":"IFERROR(IF($L$6=\"\",\"\",VLOOKUP($L$6&\"_\"&$B80,data_entry,COLUMNS($B$11:AM79),0)),\"\")","v":""},{"$f":"IFERROR(IF($L$6=\"\",\"\",VLOOKUP($L$6&\"_\"&$B80,data_entry,COLUMNS($B$11:AN79),0)),\"\")","v":""},{"$f":"IFERROR(IF($L$6=\"\",\"\",VLOOKUP($L$6&\"_\"&$B80,data_entry,COLUMNS($B$11:AO79),0)),\"\")","v":""},{"$f":"IFERROR(IF($L$6=\"\",\"\",VLOOKUP($L$6&\"_\"&$B80,data_entry,COLUMNS($B$11:AP79),0)),\"\")","v":""},{"$f":"IFERROR(IF($L$6=\"\",\"\",VLOOKUP($L$6&\"_\"&$B80,data_entry,COLUMNS($B$11:AQ79),0)),\"\")","v":""}]
[0,70,{"$f":"IF(D81=\"\",\"\",ROWS($D$12:D81))","v":""},{"$f":"IFERROR(IF(OR($L$6=\"\",'DATA ENTRY'!C76=\"\"),\"\",VLOOKUP($L$6&\"_\"&$B81,data_entry,COLUMNS($B$11:D80),0)),\"\")","v":""},{"$f":"IFERROR(IF($L$6=\"\",\"\",VLOOKUP($L$6&\"_\"&$B81,data_entry,COLUMNS($B$11:E80),0)),\"\")","v":""},{"$f":"IFERROR(IF($L$6=\"\",\"\",VLOOKUP($L$6&\"_\"&$B81,data_entry,COLUMNS($B$11:F80),0)),\"\")","v":""},{"$f":"IFERROR(IF($L$6=\"\",\"\",VLOOKUP($L$6&\"_\"&$B81,data_entry,COLUMNS($B$11:G80),0)),\"\")","v":""},{"$f":"IFERROR(IF($L$6=\"\",\"\",VLOOKUP($L$6&\"_\"&$B81,data_entry,COLUMNS($B$11:H80),0)),\"\")","v":""},{"$f":"IFERROR(IF($L$6=\"\",\"\",VLOOKUP($L$6&\"_\"&$B81,data_entry,COLUMNS($B$11:I80),0)),\"\")","v":""},{"$f":"IFERROR(IF($L$6=\"\",\"\",VLOOKUP($L$6&\"_\"&$B81,data_entry,COLUMNS($B$11:J80),0)),\"\")","v":""},{"$f":"IFERROR(IF($L$6=\"\",\"\",VLOOKUP($L$6&\"_\"&$B81,data_entry,COLUMNS($B$11:K80),0)),\"\")","v":""},{"$f":"IFERROR(IF($L$6=\"\",\"\",VLOOKUP($L$6&\"_\"&$B81,data_entry,COLUMNS($B$11:L80),0)),\"\")","v":""},{"$f":"IFERROR(IF($L$6=\"\",\"\",VLOOKUP($L$6&\"_\"&$B81,data_entry,COLUMNS($B$11:M80),0)),\"\")","v":""},{"$f":"IFERROR(IF($L$6=\"\",\"\",VLOOKUP($L$6&\"_\"&$B81,data_entry,COLUMNS($B$11:N80),0)),\"\")","v":""},{"$f":"IFERROR(IF($L$6=\"\",\"\",VLOOKUP($L$6&\"_\"&$B81,data_entry,COLUMNS($B$11:O80),0)),\"\")","v":""},{"$f":"IFERROR(IF($L$6=\"\",\"\",VLOOKUP($L$6&\"_\"&$B81,data_entry,COLUMNS($B$11:P80),0)),\"\")","v":""},{"$f":"IFERROR(IF($L$6=\"\",\"\",VLOOKUP($L$6&\"_\"&$B81,data_entry,COLUMNS($B$11:Q80),0)),\"\")","v":""},{"$f":"IFERROR(IF($L$6=\"\",\"\",VLOOKUP($L$6&\"_\"&$B81,data_entry,COLUMNS($B$11:R80),0)),\"\")","v":""},{"$f":"IFERROR(IF($L$6=\"\",\"\",VLOOKUP($L$6&\"_\"&$B81,data_entry,COLUMNS($B$11:S80),0)),\"\")","v":""},{"$f":"IFERROR(IF($L$6=\"\",\"\",VLOOKUP($L$6&\"_\"&$B81,data_entry,COLUMNS($B$11:T80),0)),\"\")","v":""},{"$f":"IFERROR(IF($L$6=\"\",\"\",VLOOKUP($L$6&\"_\"&$B81,data_entry,COLUMNS($B$11:U80),0)),\"\")","v":""},{"$f":"IFERROR(IF($L$6=\"\",\"\",VLOOKUP($L$6&\"_\"&$B81,data_entry,COLUMNS($B$11:V80),0)),\"\")","v":""},{"$f":"IFERROR(IF($L$6=\"\",\"\",VLOOKUP($L$6&\"_\"&$B81,data_entry,COLUMNS($B$11:W80),0)),\"\")","v":""},{"$f":"IFERROR(IF($L$6=\"\",\"\",VLOOKUP($L$6&\"_\"&$B81,data_entry,COLUMNS($B$11:X80),0)),\"\")","v":""},{"$f":"IFERROR(IF($L$6=\"\",\"\",VLOOKUP($L$6&\"_\"&$B81,data_entry,COLUMNS($B$11:Y80),0)),\"\")","v":""},{"$f":"IFERROR(IF($L$6=\"\",\"\",VLOOKUP($L$6&\"_\"&$B81,data_entry,COLUMNS($B$11:Z80),0)),\"\")","v":""},{"$f":"IFERROR(IF($L$6=\"\",\"\",VLOOKUP($L$6&\"_\"&$B81,data_entry,COLUMNS($B$11:AA80),0)),\"\")","v":""},{"$f":"IFERROR(IF($L$6=\"\",\"\",VLOOKUP($L$6&\"_\"&$B81,data_entry,COLUMNS($B$11:AB80),0)),\"\")","v":""},{"$f":"IFERROR(IF($L$6=\"\",\"\",VLOOKUP($L$6&\"_\"&$B81,data_entry,COLUMNS($B$11:AC80),0)),\"\")","v":""},{"$f":"IFERROR(IF($L$6=\"\",\"\",VLOOKUP($L$6&\"_\"&$B81,data_entry,COLUMNS($B$11:AD80),0)),\"\")","v":""},{"$nulls":5},{"$f":"IFERROR(IF($L$6=\"\",\"\",VLOOKUP($L$6&\"_\"&$B81,data_entry,COLUMNS($B$11:AJ80),0)),\"\")","v":""},{"$f":"IFERROR(IF($L$6=\"\",\"\",VLOOKUP($L$6&\"_\"&$B81,data_entry,COLUMNS($B$11:AK80),0)),\"\")","v":""},{"$f":"IFERROR(IF($L$6=\"\",\"\",VLOOKUP($L$6&\"_\"&$B81,data_entry,COLUMNS($B$11:AL80),0)),\"\")","v":""},{"$f":"IFERROR(IF($L$6=\"\",\"\",VLOOKUP($L$6&\"_\"&$B81,data_entry,COLUMNS($B$11:AM80),0)),\"\")","v":""},{"$f":"IFERROR(IF($L$6=\"\",\"\",VLOOKUP($L$6&\"_\"&$B81,data_entry,COLUMNS($B$11:AN80),0)),\"\")","v":""},{"$f":"IFERROR(IF($L$6=\"\",\"\",VLOOKUP($L$6&\"_\"&$B81,data_entry,COLUMNS($B$11:AO80),0)),\"\")","v":""},{"$f":"IFERROR(IF($L$6=\"\",\"\",VLOOKUP($L$6&\"_\"&$B81,data_entry,COLUMNS($B$11:AP80),0)),\"\")","v":""},{"$f":"IFERROR(IF($L$6=\"\",\"\",VLOOKUP($L$6&\"_\"&$B81,data_entry,COLUMNS($B$11:AQ80),0)),\"\")","v":""}]
[0,71,{"$f":"IF(D82=\"\",\"\",ROWS($D$12:D82))","v":""},{"$f":"IFERROR(IF(OR($L$6=\"\",'DATA ENTRY'!C77=\"\"),\"\",VLOOKUP($L$6&\"_\"&$B82,data_entry,COLUMNS($B$11:D81),0)),\"\")","v":""},{"$f":"IFERROR(IF($L$6=\"\",\"\",VLOOKUP($L$6&\"_\"&$B82,data_entry,COLUMNS($B$11:E81),0)),\"\")","v":""},{"$f":"IFERROR(IF($L$6=\"\",\"\",VLOOKUP($L$6&\"_\"&$B82,data_entry,COLUMNS($B$11:F81),0)),\"\")","v":""},{"$f":"IFERROR(IF($L$6=\"\",\"\",VLOOKUP($L$6&\"_\"&$B82,data_entry,COLUMNS($B$11:G81),0)),\"\")","v":""},{"$f":"IFERROR(IF($L$6=\"\",\"\",VLOOKUP($L$6&\"_\"&$B82,data_entry,COLUMNS($B$11:H81),0)),\"\")","v":""},{"$f":"IFERROR(IF($L$6=\"\",\"\",VLOOKUP($L$6&\"_\"&$B82,data_entry,COLUMNS($B$11:I81),0)),\"\")","v":""},{"$f":"IFERROR(IF($L$6=\"\",\"\",VLOOKUP($L$6&\"_\"&$B82,data_entry,COLUMNS($B$11:J81),0)),\"\")","v":""},{"$f":"IFERROR(IF($L$6=\"\",\"\",VLOOKUP($L$6&\"_\"&$B82,data_entry,COLUMNS($B$11:K81),0)),\"\")","v":""},{"$f":"IFERROR(IF($L$6=\"\",\"\",VLOOKUP($L$6&\"_\"&$B82,data_entry,COLUMNS($B$11:L81),0)),\"\")","v":""},{"$f":"IFERROR(IF($L$6=\"\",\"\",VLOOKUP($L$6&\"_\"&$B82,data_entry,COLUMNS($B$11:M81),0)),\"\")","v":""},{"$f":"IFERROR(IF($L$6=\"\",\"\",VLOOKUP($L$6&\"_\"&$B82,data_entry,COLUMNS($B$11:N81),0)),\"\")","v":""},{"$f":"IFERROR(IF($L$6=\"\",\"\",VLOOKUP($L$6&\"_\"&$B82,data_entry,COLUMNS($B$11:O81),0)),\"\")","v":""},{"$f":"IFERROR(IF($L$6=\"\",\"\",VLOOKUP($L$6&\"_\"&$B82,data_entry,COLUMNS($B$11:P81),0)),\"\")","v":""},{"$f":"IFERROR(IF($L$6=\"\",\"\",VLOOKUP($L$6&\"_\"&$B82,data_entry,COLUMNS($B$11:Q81),0)),\"\")","v":""},{"$f":"IFERROR(IF($L$6=\"\",\"\",VLOOKUP($L$6&\"_\"&$B82,data_entry,COLUMNS($B$11:R81),0)),\"\")","v":""},{"$f":"IFERROR(IF($L$6=\"\",\"\",VLOOKUP($L$6&\"_\"&$B82,data_entry,COLUMNS($B$11:S81),0)),\"\")","v":""},{"$f":"IFERROR(IF($L$6=\"\",\"\",VLOOKUP($L$6&\"_\"&$B82,data_entry,COLUMNS($B$11:T81),0)),\"\")","v":""},{"$f":"IFERROR(IF($L$6=\"\",\"\",VLOOKUP($L$6&\"_\"&$B82,data_entry,COLUMNS($B$11:U81),0)),\"\")","v":""},{"$f":"IFERROR(IF($L$6=\"\",\"\",VLOOKUP($L$6&\"_\"&$B82,data_entry,COLUMNS($B$11:V81),0)),\"\")","v":""},{"$f":"IFERROR(IF($L$6=\"\",\"\",VLOOKUP($L$6&\"_\"&$B82,data_entry,COLUMNS($B$11:W81),0)),\"\")","v":""},{"$f":"IFERROR(IF($L$6=\"\",\"\",VLOOKUP($L$6&\"_\"&$B82,data_entry,COLUMNS($B$11:X81),0)),\"\")","v":""},{"$f":"IFERROR(IF($L$6=\"\",\"\",VLOOKUP($L$6&\"_\"&$B82,data_entry,COLUMNS($B$11:Y81),0)),\"\")","v":""},{"$f":"IFERROR(IF($L$6=\"\",\"\",VLOOKUP($L$6&\"_\"&$B82,data_entry,COLUMNS($B$11:Z81),0)),\"\")","v":""},{"$f":"IFERROR(IF($L$6=\"\",\"\",VLOOKUP($L$6&\"_\"&$B82,data_entry,COLUMNS($B$11:AA81),0)),\"\")","v":""},{"$f":"IFERROR(IF($L$6=\"\",\"\",VLOOKUP($L$6&\"_\"&$B82,data_entry,COLUMNS($B$11:AB81),0)),\"\")","v":""},{"$f":"IFERROR(IF($L$6=\"\",\"\",VLOOKUP($L$6&\"_\"&$B82,data_entry,COLUMNS($B$11:AC81),0)),\"\")","v":""},{"$f":"IFERROR(IF($L$6=\"\",\"\",VLOOKUP($L$6&\"_\"&$B82,data_entry,COLUMNS($B$11:AD81),0)),\"\")","v":""},{"$nulls":5},{"$f":"IFERROR(IF($L$6=\"\",\"\",VLOOKUP($L$6&\"_\"&$B82,data_entry,COLUMNS($B$11:AJ81),0)),\"\")","v":""},{"$f":"IFERROR(IF($L$6=\"\",\"\",VLOOKUP($L$6&\"_\"&$B82,data_entry,COLUMNS($B$11:AK81),0)),\"\")","v":""},{"$f":"IFERROR(IF($L$6=\"\",\"\",VLOOKUP($L$6&\"_\"&$B82,data_entry,COLUMNS($B$11:AL81),0)),\"\")","v":""},{"$f":"IFERROR(IF($L$6=\"\",\"\",VLOOKUP($L$6&\"_\"&$B82,data_entry,COLUMNS($B$11:AM81),0)),\"\")","v":""},{"$f":"IFERROR(IF($L$6=\"\",\"\",VLOOKUP($L$6&\"_\"&$B82,data_entry,COLUMNS($B$11:AN81),0)),\"\")","v":""},{"$f":"IFERROR(IF($L$6=\"\",\"\",VLOOKUP($L$6&\"_\"&$B82,data_entry,COLUMNS($B$11:AO81),0)),\"\")","v":""},{"$f":"IFERROR(IF($L$6=\"\",\"\",VLOOKUP($L$6&\"_\"&$B82,data_entry,COLUMNS($B$11:AP81),0)),\"\")","v":""},{"$f":"IFERROR(IF($L$6=\"\",\"\",VLOOKUP($L$6&\"_\"&$B82,data_entry,COLUMNS($B$11:AQ81),0)),\"\")","v":""}]
[0,72,{"$f":"IF(D83=\"\",\"\",ROWS($D$12:D83))","v":""},{"$f":"IFERROR(IF(OR($L$6=\"\",'DATA ENTRY'!C78=\"\"),\"\",VLOOKUP($L$6&\"_\"&$B83,data_entry,COLUMNS($B$11:D82),0)),\"\")","v":""},{"$f":"IFERROR(IF($L$6=\"\",\"\",VLOOKUP($L$6&\"_\"&$B83,data_entry,COLUMNS($B$11:E82),0)),\"\")","v":""},{"$f":"IFERROR(IF($L$6=\"\",\"\",VLOOKUP($L$6&\"_\"&$B83,data_entry,COLUMNS($B$11:F82),0)),\"\")","v":""},{"$f":"IFERROR(IF($L$6=\"\",\"\",VLOOKUP($L$6&\"_\"&$B83,data_entry,COLUMNS($B$11:G82),0)),\"\")","v":""},{"$f":"IFERROR(IF($L$6=\"\",\"\",VLOOKUP($L$6&\"_\"&$B83,data_entry,COLUMNS($B$11:H82),0)),\"\")","v":""},{"$f":"IFERROR(IF($L$6=\"\",\"\",VLOOKUP($L$6&\"_\"&$B83,data_entry,COLUMNS($B$11:I82),0)),\"\")","v":""},{"$f":"IFERROR(IF($L$6=\"\",\"\",VLOOKUP($L$6&\"_\"&$B83,data_entry,COLUMNS($B$11:J82),0)),\"\")","v":""},{"$f":"IFERROR(IF($L$6=\"\",\"\",VLOOKUP($L$6&\"_\"&$B83,data_entry,COLUMNS($B$11:K82),0)),\"\")","v":""},{"$f":"IFERROR(IF($L$6=\"\",\"\",VLOOKUP($L$6&\"_\"&$B83,data_entry,COLUMNS($B$11:L82),0)),\"\")","v":""},{"$f":"IFERROR(IF($L$6=\"\",\"\",VLOOKUP($L$6&\"_\"&$B83,data_entry,COLUMNS($B$11:M82),0)),\"\")","v":""},{"$f":"IFERROR(IF($L$6=\"\",\"\",VLOOKUP($L$6&\"_\"&$B83,data_entry,COLUMNS($B$11:N82),0)),\"\")","v":""},{"$f":"IFERROR(IF($L$6=\"\",\"\",VLOOKUP($L$6&\"_\"&$B83,data_entry,COLUMNS($B$11:O82),0)),\"\")","v":""},{"$f":"IFERROR(IF($L$6=\"\",\"\",VLOOKUP($L$6&\"_\"&$B83,data_entry,COLUMNS($B$11:P82),0)),\"\")","v":""},{"$f":"IFERROR(IF($L$6=\"\",\"\",VLOOKUP($L$6&\"_\"&$B83,data_entry,COLUMNS($B$11:Q82),0)),\"\")","v":""},{"$f":"IFERROR(IF($L$6=\"\",\"\",VLOOKUP($L$6&\"_\"&$B83,data_entry,COLUMNS($B$11:R82),0)),\"\")","v":""},{"$f":"IFERROR(IF($L$6=\"\",\"\",VLOOKUP($L$6&\"_\"&$B83,data_entry,COLUMNS($B$11:S82),0)),\"\")","v":""},{"$f":"IFERROR(IF($L$6=\"\",\"\",VLOOKUP($L$6&\"_\"&$B83,data_entry,COLUMNS($B$11:T82),0)),\"\")","v":""},{"$f":"IFERROR(IF($L$6=\"\",\"\",VLOOKUP($L$6&\"_\"&$B83,data_entry,COLUMNS($B$11:U82),0)),\"\")","v":""},{"$f":"IFERROR(IF($L$6=\"\",\"\",VLOOKUP($L$6&\"_\"&$B83,data_entry,COLUMNS($B$11:V82),0)),\"\")","v":""},{"$f":"IFERROR(IF($L$6=\"\",\"\",VLOOKUP($L$6&\"_\"&$B83,data_entry,COLUMNS($B$11:W82),0)),\"\")","v":""},{"$f":"IFERROR(IF($L$6=\"\",\"\",VLOOKUP($L$6&\"_\"&$B83,data_entry,COLUMNS($B$11:X82),0)),\"\")","v":""},{"$f":"IFERROR(IF($L$6=\"\",\"\",VLOOKUP($L$6&\"_\"&$B83,data_entry,COLUMNS($B$11:Y82),0)),\"\")","v":""},{"$f":"IFERROR(IF($L$6=\"\",\"\",VLOOKUP($L$6&\"_\"&$B83,data_entry,COLUMNS($B$11:Z82),0)),\"\")","v":""},{"$f":"IFERROR(IF($L$6=\"\",\"\",VLOOKUP($L$6&\"_\"&$B83,data_entry,COLUMNS($B$11:AA82),0)),\"\")","v":""},{"$f":"IFERROR(IF($L$6=\"\",\"\",VLOOKUP($L$6&\"_\"&$B83,data_entry,COLUMNS($B$11:AB82),0)),\"\")","v":""},{"$f":"IFERROR(IF($L$6=\"\",\"\",VLOOKUP($L$6&\"_\"&$B83,data_entry,COLUMNS($B$11:AC82),0)),\"\")","v":""},{"$f":"IFERROR(IF($L$6=\"\",\"\",VLOOKUP($L$6&\"_\"&$B83,data_entry,COLUMNS($B$11:AD82),0)),\"\")","v":""},{"$nulls":5},{"$f":"IFERROR(IF($L$6=\"\",\"\",VLOOKUP($L$6&\"_\"&$B83,data_entry,COLUMNS($B$11:AJ82),0)),\"\")","v":""},{"$f":"IFERROR(IF($L$6=\"\",\"\",VLOOKUP($L$6&\"_\"&$B83,data_entry,COLUMNS($B$11:AK82),0)),\"\")","v":""},{"$f":"IFERROR(IF($L$6=\"\",\"\",VLOOKUP($L$6&\"_\"&$B83,data_entry,COLUMNS($B$11:AL82),0)),\"\")","v":""},{"$f":"IFERROR(IF($L$6=\"\",\"\",VLOOKUP($L$6&\"_\"&$B83,data_entry,COLUMNS($B$11:AM82),0)),\"\")","v":""},{"$f":"IFERROR(IF($L$6=\"\",\"\",VLOOKUP($L$6&\"_\"&$B83,data_entry,COLUMNS($B$11:AN82),0)),\"\")","v":""},{"$f":"IFERROR(IF($L$6=\"\",\"\",VLOOKUP($L$6&\"_\"&$B83,data_entry,COLUMNS($B$11:AO82),0)),\"\")","v":""},{"$f":"IFERROR(IF($L$6=\"\",\"\",VLOOKUP($L$6&\"_\"&$B83,data_entry,COLUMNS($B$11:AP82),0)),\"\")","v":""},{"$f":"IFERROR(IF($L$6=\"\",\"\",VLOOKUP($L$6&\"_\"&$B83,data_entry,COLUMNS($B$11:AQ82),0)),\"\")","v":""}]
[0,73,{"$f":"IF(D84=\"\",\"\",ROWS($D$12:D84))","v":""},{"$f":"IFERROR(IF(OR($L$6=\"\",'DATA ENTRY'!C79=\"\"),\"\",VLOOKUP($L$6&\"_\"&$B84,data_entry,COLUMNS($B$11:D83),0)),\"\")","v":""},{"$f":"IFERROR(IF($L$6=\"\",\"\",VLOOKUP($L$6&\"_\"&$B84,data_entry,COLUMNS($B$11:E83),0)),\"\")","v":""},{"$f":"IFERROR(IF($L$6=\"\",\"\",VLOOKUP($L$6&\"_\"&$B84,data_entry,COLUMNS($B$11:F83),0)),\"\")","v":""},{"$f":"IFERROR(IF($L$6=\"\",\"\",VLOOKUP($L$6&\"_\"&$B84,data_entry,COLUMNS($B$11:G83),0)),\"\")","v":""},{"$f":"IFERROR(IF($L$6=\"\",\"\",VLOOKUP($L$6&\"_\"&$B84,data_entry,COLUMNS($B$11:H83),0)),\"\")","v":""},{"$f":"IFERROR(IF($L$6=\"\",\"\",VLOOKUP($L$6&\"_\"&$B84,data_entry,COLUMNS($B$11:I83),0)),\"\")","v":""},{"$f":"IFERROR(IF($L$6=\"\",\"\",VLOOKUP($L$6&\"_\"&$B84,data_entry,COLUMNS($B$11:J83),0)),\"\")","v":""},{"$f":"IFERROR(IF($L$6=\"\",\"\",VLOOKUP($L$6&\"_\"&$B84,data_entry,COLUMNS($B$11:K83),0)),\"\")","v":""},{"$f":"IFERROR(IF($L$6=\"\",\"\",VLOOKUP($L$6&\"_\"&$B84,data_entry,COLUMNS($B$11:L83),0)),\"\")","v":""},{"$f":"IFERROR(IF($L$6=\"\",\"\",VLOOKUP($L$6&\"_\"&$B84,data_entry,COLUMNS($B$11:M83),0)),\"\")","v":""},{"$f":"IFERROR(IF($L$6=\"\",\"\",VLOOKUP($L$6&\"_\"&$B84,data_entry,COLUMNS($B$11:N83),0)),\"\")","v":""},{"$f":"IFERROR(IF($L$6=\"\",\"\",VLOOKUP($L$6&\"_\"&$B84,data_entry,COLUMNS($B$11:O83),0)),\"\")","v":""},{"$f":"IFERROR(IF($L$6=\"\",\"\",VLOOKUP($L$6&\"_\"&$B84,data_entry,COLUMNS($B$11:P83),0)),\"\")","v":""},{"$f":"IFERROR(IF($L$6=\"\",\"\",VLOOKUP($L$6&\"_\"&$B84,data_entry,COLUMNS($B$11:Q83),0)),\"\")","v":""},{"$f":"IFERROR(IF($L$6=\"\",\"\",VLOOKUP($L$6&\"_\"&$B84,data_entry,COLUMNS($B$11:R83),0)),\"\")","v":""},{"$f":"IFERROR(IF($L$6=\"\",\"\",VLOOKUP($L$6&\"_\"&$B84,data_entry,COLUMNS($B$11:S83),0)),\"\")","v":""},{"$f":"IFERROR(IF($L$6=\"\",\"\",VLOOKUP($L$6&\"_\"&$B84,data_entry,COLUMNS($B$11:T83),0)),\"\")","v":""},{"$f":"IFERROR(IF($L$6=\"\",\"\",VLOOKUP($L$6&\"_\"&$B84,data_entry,COLUMNS($B$11:U83),0)),\"\")","v":""},{"$f":"IFERROR(IF($L$6=\"\",\"\",VLOOKUP($L$6&\"_\"&$B84,data_entry,COLUMNS($B$11:V83),0)),\"\")","v":""},{"$f":"IFERROR(IF($L$6=\"\",\"\",VLOOKUP($L$6&\"_\"&$B84,data_entry,COLUMNS($B$11:W83),0)),\"\")","v":""},{"$f":"IFERROR(IF($L$6=\"\",\"\",VLOOKUP($L$6&\"_\"&$B84,data_entry,COLUMNS($B$11:X83),0)),\"\")","v":""},{"$f":"IFERROR(IF($L$6=\"\",\"\",VLOOKUP($L$6&\"_\"&$B84,data_entry,COLUMNS($B$11:Y83),0)),\"\")","v":""},{"$f":"IFERROR(IF($L$6=\"\",\"\",VLOOKUP($L$6&\"_\"&$B84,data_entry,COLUMNS($B$11:Z83),0)),\"\")","v":""},{"$f":"IFERROR(IF($L$6=\"\",\"\",VLOOKUP($L$6&\"_\"&$B84,data_entry,COLUMNS($B$11:AA83),0)),\"\")","v":""},{"$f":"IFERROR(IF($L$6=\"\",\"\",VLOOKUP($L$6&\"_\"&$B84,data_entry,COLUMNS($B$11:AB83),0)),\"\")","v":""},{"$f":"IFERROR(IF($L$6=\"\",\"\",VLOOKUP($L$6&\"_\"&$B84,data_entry,COLUMNS($B$11:AC83),0)),\"\")","v":""},{"$f":"IFERROR(IF($L$6=\"\",\"\",VLOOKUP($L$6&\"_\"&$B84,data_entry,COLUMNS($B$11:AD83),0)),\"\")","v":""},{"$nulls":5},{"$f":"IFERROR(IF($L$6=\"\",\"\",VLOOKUP($L$6&\"_\"&$B84,data_entry,COLUMNS($B$11:AJ83),0)),\"\")","v":""},{"$f":"IFERROR(IF($L$6=\"\",\"\",VLOOKUP($L$6&\"_\"&$B84,data_entry,COLUMNS($B$11:AK83),0)),\"\")","v":""},{"$f":"IFERROR(IF($L$6=\"\",\"\",VLOOKUP($L$6&\"_\"&$B84,data_entry,COLUMNS($B$11:AL83),0)),\"\")","v":""},{"$f":"IFERROR(IF($L$6=\"\",\"\",VLOOKUP($L$6&\"_\"&$B84,data_entry,COLUMNS($B$11:AM83),0)),\"\")","v":""},{"$f":"IFERROR(IF($L$6=\"\",\"\",VLOOKUP($L$6&\"_\"&$B84,data_entry,COLUMNS($B$11:AN83),0)),\"\")","v":""},{"$f":"IFERROR(IF($L$6=\"\",\"\",VLOOKUP($L$6&\"_\"&$B84,data_entry,COLUMNS($B$11:AO83),0)),\"\")","v":""},{"$f":"IFERROR(IF($L$6=\"\",\"\",VLOOKUP($L$6&\"_\"&$B84,data_entry,COLUMNS($B$11:AP83),0)),\"\")","v":""},{"$f":"IFERROR(IF($L$6=\"\",\"\",VLOOKUP($L$6&\"_\"&$B84,data_entry,COLUMNS($B$11:AQ83),0)),\"\")","v":""}]
[0,74,{"$f":"IF(D85=\"\",\"\",ROWS($D$12:D85))","v":""},{"$f":"IFERROR(IF(OR($L$6=\"\",'DATA ENTRY'!C80=\"\"),\"\",VLOOKUP($L$6&\"_\"&$B85,data_entry,COLUMNS($B$11:D84),0)),\"\")","v":""},{"$f":"IFERROR(IF($L$6=\"\",\"\",VLOOKUP($L$6&\"_\"&$B85,data_entry,COLUMNS($B$11:E84),0)),\"\")","v":""},{"$f":"IFERROR(IF($L$6=\"\",\"\",VLOOKUP($L$6&\"_\"&$B85,data_entry,COLUMNS($B$11:F84),0)),\"\")","v":""},{"$f":"IFERROR(IF($L$6=\"\",\"\",VLOOKUP($L$6&\"_\"&$B85,data_entry,COLUMNS($B$11:G84),0)),\"\")","v":""},{"$f":"IFERROR(IF($L$6=\"\",\"\",VLOOKUP($L$6&\"_\"&$B85,data_entry,COLUMNS($B$11:H84),0)),\"\")","v":""},{"$f":"IFERROR(IF($L$6=\"\",\"\",VLOOKUP($L$6&\"_\"&$B85,data_entry,COLUMNS($B$11:I84),0)),\"\")","v":""},{"$f":"IFERROR(IF($L$6=\"\",\"\",VLOOKUP($L$6&\"_\"&$B85,data_entry,COLUMNS($B$11:J84),0)),\"\")","v":""},{"$f":"IFERROR(IF($L$6=\"\",\"\",VLOOKUP($L$6&\"_\"&$B85,data_entry,COLUMNS($B$11:K84),0)),\"\")","v":""},{"$f":"IFERROR(IF($L$6=\"\",\"\",VLOOKUP($L$6&\"_\"&$B85,data_entry,COLUMNS($B$11:L84),0)),\"\")","v":""},{"$f":"IFERROR(IF($L$6=\"\",\"\",VLOOKUP($L$6&\"_\"&$B85,data_entry,COLUMNS($B$11:M84),0)),\"\")","v":""},{"$f":"IFERROR(IF($L$6=\"\",\"\",VLOOKUP($L$6&\"_\"&$B85,data_entry,COLUMNS($B$11:N84),0)),\"\")","v":""},{"$f":"IFERROR(IF($L$6=\"\",\"\",VLOOKUP($L$6&\"_\"&$B85,data_entry,COLUMNS($B$11:O84),0)),\"\")","v":""},{"$f":"IFERROR(IF($L$6=\"\",\"\",VLOOKUP($L$6&\"_\"&$B85,data_entry,COLUMNS($B$11:P84),0)),\"\")","v":""},{"$f":"IFERROR(IF($L$6=\"\",\"\",VLOOKUP($L$6&\"_\"&$B85,data_entry,COLUMNS($B$11:Q84),0)),\"\")","v":""},{"$f":"IFERROR(IF($L$6=\"\",\"\",VLOOKUP($L$6&\"_\"&$B85,data_entry,COLUMNS($B$11:R84),0)),\"\")","v":""},{"$f":"IFERROR(IF($L$6=\"\",\"\",VLOOKUP($L$6&\"_\"&$B85,data_entry,COLUMNS($B$11:S84),0)),\"\")","v":""},{"$f":"IFERROR(IF($L$6=\"\",\"\",VLOOKUP($L$6&\"_\"&$B85,data_entry,COLUMNS($B$11:T84),0)),\"\")","v":""},{"$f":"IFERROR(IF($L$6=\"\",\"\",VLOOKUP($L$6&\"_\"&$B85,data_entry,COLUMNS($B$11:U84),0)),\"\")","v":""},{"$f":"IFERROR(IF($L$6=\"\",\"\",VLOOKUP($L$6&\"_\"&$B85,data_entry,COLUMNS($B$11:V84),0)),\"\")","v":""},{"$f":"IFERROR(IF($L$6=\"\",\"\",VLOOKUP($L$6&\"_\"&$B85,data_entry,COLUMNS($B$11:W84),0)),\"\")","v":""},{"$f":"IFERROR(IF($L$6=\"\",\"\",VLOOKUP($L$6&\"_\"&$B85,data_entry,COLUMNS($B$11:X84),0)),\"\")","v":""},{"$f":"IFERROR(IF($L$6=\"\",\"\",VLOOKUP($L$6&\"_\"&$B85,data_entry,COLUMNS($B$11:Y84),0)),\"\")","v":""},{"$f":"IFERROR(IF($L$6=\"\",\"\",VLOOKUP($L$6&\"_\"&$B85,data_entry,COLUMNS($B$11:Z84),0)),\"\")","v":""},{"$f":"IFERROR(IF($L$6=\"\",\"\",VLOOKUP($L$6&\"_\"&$B85,data_entry,COLUMNS($B$11:AA84),0)),\"\")","v":""},{"$f":"IFERROR(IF($L$6=\"\",\"\",VLOOKUP($L$6&\"_\"&$B85,data_entry,COLUMNS($B$11:AB84),0)),\"\")","v":""},{"$f":"IFERROR(IF($L$6=\"\",\"\",VLOOKUP($L$6&\"_\"&$B85,data_entry,COLUMNS($B$11:AC84),0)),\"\")","v":""},{"$f":"IFERROR(IF($L$6=\"\",\"\",VLOOKUP($L$6&\"_\"&$B85,data_entry,COLUMNS($B$11:AD84),0)),\"\")","v":""},{"$nulls":5},{"$f":"IFERROR(IF($L$6=\"\",\"\",VLOOKUP($L$6&\"_\"&$B85,data_entry,COLUMNS($B$11:AJ84),0)),\"\")","v":""},{"$f":"IFERROR(IF($L$6=\"\",\"\",VLOOKUP($L$6&\"_\"&$B85,data_entry,COLUMNS($B$11:AK84),0)),\"\")","v":""},{"$f":"IFERROR(IF($L$6=\"\",\"\",VLOOKUP($L$6&\"_\"&$B85,data_entry,COLUMNS($B$11:AL84),0)),\"\")","v":""},{"$f":"IFERROR(IF($L$6=\"\",\"\",VLOOKUP($L$6&\"_\"&$B85,data_entry,COLUMNS($B$11:AM84),0)),\"\")","v":""},{"$f":"IFERROR(IF($L$6=\"\",\"\",VLOOKUP($L$6&\"_\"&$B85,data_entry,COLUMNS($B$11:AN84),0)),\"\")","v":""},{"$f":"IFERROR(IF($L$6=\"\",\"\",VLOOKUP($L$6&\"_\"&$B85,data_entry,COLUMNS($B$11:AO84),0)),\"\")","v":""},{"$f":"IFERROR(IF($L$6=\"\",\"\",VLOOKUP($L$6&\"_\"&$B85,data_entry,COLUMNS($B$11:AP84),0)),\"\")","v":""},{"$f":"IFERROR(IF($L$6=\"\",\"\",VLOOKUP($L$6&\"_\"&$B85,data_entry,COLUMNS($B$11:AQ84),0)),\"\")","v":""}]
[0,75,{"$f":"IF(D86=\"\",\"\",ROWS($D$12:D86))","v":""},{"$f":"IFERROR(IF(OR($L$6=\"\",'DATA ENTRY'!C81=\"\"),\"\",VLOOKUP($L$6&\"_\"&$B86,data_entry,COLUMNS($B$11:D85),0)),\"\")","v":""},{"$f":"IFERROR(IF($L$6=\"\",\"\",VLOOKUP($L$6&\"_\"&$B86,data_entry,COLUMNS($B$11:E85),0)),\"\")","v":""},{"$f":"IFERROR(IF($L$6=\"\",\"\",VLOOKUP($L$6&\"_\"&$B86,data_entry,COLUMNS($B$11:F85),0)),\"\")","v":""},{"$f":"IFERROR(IF($L$6=\"\",\"\",VLOOKUP($L$6&\"_\"&$B86,data_entry,COLUMNS($B$11:G85),0)),\"\")","v":""},{"$f":"IFERROR(IF($L$6=\"\",\"\",VLOOKUP($L$6&\"_\"&$B86,data_entry,COLUMNS($B$11:H85),0)),\"\")","v":""},{"$f":"IFERROR(IF($L$6=\"\",\"\",VLOOKUP($L$6&\"_\"&$B86,data_entry,COLUMNS($B$11:I85),0)),\"\")","v":""},{"$f":"IFERROR(IF($L$6=\"\",\"\",VLOOKUP($L$6&\"_\"&$B86,data_entry,COLUMNS($B$11:J85),0)),\"\")","v":""},{"$f":"IFERROR(IF($L$6=\"\",\"\",VLOOKUP($L$6&\"_\"&$B86,data_entry,COLUMNS($B$11:K85),0)),\"\")","v":""},{"$f":"IFERROR(IF($L$6=\"\",\"\",VLOOKUP($L$6&\"_\"&$B86,data_entry,COLUMNS($B$11:L85),0)),\"\")","v":""},{"$f":"IFERROR(IF($L$6=\"\",\"\",VLOOKUP($L$6&\"_\"&$B86,data_entry,COLUMNS($B$11:M85),0)),\"\")","v":""},{"$f":"IFERROR(IF($L$6=\"\",\"\",VLOOKUP($L$6&\"_\"&$B86,data_entry,COLUMNS($B$11:N85),0)),\"\")","v":""},{"$f":"IFERROR(IF($L$6=\"\",\"\",VLOOKUP($L$6&\"_\"&$B86,data_entry,COLUMNS($B$11:O85),0)),\"\")","v":""},{"$f":"IFERROR(IF($L$6=\"\",\"\",VLOOKUP($L$6&\"_\"&$B86,data_entry,COLUMNS($B$11:P85),0)),\"\")","v":""},{"$f":"IFERROR(IF($L$6=\"\",\"\",VLOOKUP($L$6&\"_\"&$B86,data_entry,COLUMNS($B$11:Q85),0)),\"\")","v":""},{"$f":"IFERROR(IF($L$6=\"\",\"\",VLOOKUP($L$6&\"_\"&$B86,data_entry,COLUMNS($B$11:R85),0)),\"\")","v":""},{"$f":"IFERROR(IF($L$6=\"\",\"\",VLOOKUP($L$6&\"_\"&$B86,data_entry,COLUMNS($B$11:S85),0)),\"\")","v":""},{"$f":"IFERROR(IF($L$6=\"\",\"\",VLOOKUP($L$6&\"_\"&$B86,data_entry,COLUMNS($B$11:T85),0)),\"\")","v":""},{"$f":"IFERROR(IF($L$6=\"\",\"\",VLOOKUP($L$6&\"_\"&$B86,data_entry,COLUMNS($B$11:U85),0)),\"\")","v":""},{"$f":"IFERROR(IF($L$6=\"\",\"\",VLOOKUP($L$6&\"_\"&$B86,data_entry,COLUMNS($B$11:V85),0)),\"\")","v":""},{"$f":"IFERROR(IF($L$6=\"\",\"\",VLOOKUP($L$6&\"_\"&$B86,data_entry,COLUMNS($B$11:W85),0)),\"\")","v":""},{"$f":"IFERROR(IF($L$6=\"\",\"\",VLOOKUP($L$6&\"_\"&$B86,data_entry,COLUMNS($B$11:X85),0)),\"\")","v":""},{"$f":"IFERROR(IF($L$6=\"\",\"\",VLOOKUP($L$6&\"_\"&$B86,data_entry,COLUMNS($B$11:Y85),0)),\"\")","v":""},{"$f":"IFERROR(IF($L$6=\"\",\"\",VLOOKUP($L$6&\"_\"&$B86,data_entry,COLUMNS($B$11:Z85),0)),\"\")","v":""},{"$f":"IFERROR(IF($L$6=\"\",\"\",VLOOKUP($L$6&\"_\"&$B86,data_entry,COLUMNS($B$11:AA85),0)),\"\")","v":""},{"$f":"IFERROR(IF($L$6=\"\",\"\",VLOOKUP($L$6&\"_\"&$B86,data_entry,COLUMNS($B$11:AB85),0)),\"\")","v":""},{"$f":"IFERROR(IF($L$6=\"\",\"\",VLOOKUP($L$6&\"_\"&$B86,data_entry,COLUMNS($B$11:AC85),0)),\"\")","v":""},{"$f":"IFERROR(IF($L$6=\"\",\"\",VLOOKUP($L$6&\"_\"&$B86,data_entry,COLUMNS($B$11:AD85),0)),\"\")","v":""},{"$nulls":5},{"$f":"IFERROR(IF($L$6=\"\",\"\",VLOOKUP($L$6&\"_\"&$B86,data_entry,COLUMNS($B$11:AJ85),0)),\"\")","v":""},{"$f":"IFERROR(IF($L$6=\"\",\"\",VLOOKUP($L$6&\"_\"&$B86,data_entry,COLUMNS($B$11:AK85),0)),\"\")","v":""},{"$f":"IFERROR(IF($L$6=\"\",\"\",VLOOKUP($L$6&\"_\"&$B86,data_entry,COLUMNS($B$11:AL85),0)),\"\")","v":""},{"$f":"IFERROR(IF($L$6=\"\",\"\",VLOOKUP($L$6&\"_\"&$B86,data_entry,COLUMNS($B$11:AM85),0)),\"\")","v":""},{"$f":"IFERROR(IF($L$6=\"\",\"\",VLOOKUP($L$6&\"_\"&$B86,data_entry,COLUMNS($B$11:AN85),0)),\"\")","v":""},{"$f":"IFERROR(IF($L$6=\"\",\"\",VLOOKUP($L$6&\"_\"&$B86,data_entry,COLUMNS($B$11:AO85),0)),\"\")","v":""},{"$f":"IFERROR(IF($L$6=\"\",\"\",VLOOKUP($L$6&\"_\"&$B86,data_entry,COLUMNS($B$11:AP85),0)),\"\")","v":""},{"$f":"IFERROR(IF($L$6=\"\",\"\",VLOOKUP($L$6&\"_\"&$B86,data_entry,COLUMNS($B$11:AQ85),0)),\"\")","v":""}]
[0,76,{"$f":"IF(D87=\"\",\"\",ROWS($D$12:D87))","v":""},{"$f":"IFERROR(IF(OR($L$6=\"\",'DATA ENTRY'!C82=\"\"),\"\",VLOOKUP($L$6&\"_\"&$B87,data_entry,COLUMNS($B$11:D86),0)),\"\")","v":""},{"$f":"IFERROR(IF($L$6=\"\",\"\",VLOOKUP($L$6&\"_\"&$B87,data_entry,COLUMNS($B$11:E86),0)),\"\")","v":""},{"$f":"IFERROR(IF($L$6=\"\",\"\",VLOOKUP($L$6&\"_\"&$B87,data_entry,COLUMNS($B$11:F86),0)),\"\")","v":""},{"$f":"IFERROR(IF($L$6=\"\",\"\",VLOOKUP($L$6&\"_\"&$B87,data_entry,COLUMNS($B$11:G86),0)),\"\")","v":""},{"$f":"IFERROR(IF($L$6=\"\",\"\",VLOOKUP($L$6&\"_\"&$B87,data_entry,COLUMNS($B$11:H86),0)),\"\")","v":""},{"$f":"IFERROR(IF($L$6=\"\",\"\",VLOOKUP($L$6&\"_\"&$B87,data_entry,COLUMNS($B$11:I86),0)),\"\")","v":""},{"$f":"IFERROR(IF($L$6=\"\",\"\",VLOOKUP($L$6&\"_\"&$B87,data_entry,COLUMNS($B$11:J86),0)),\"\")","v":""},{"$f":"IFERROR(IF($L$6=\"\",\"\",VLOOKUP($L$6&\"_\"&$B87,data_entry,COLUMNS($B$11:K86),0)),\"\")","v":""},{"$f":"IFERROR(IF($L$6=\"\",\"\",VLOOKUP($L$6&\"_\"&$B87,data_entry,COLUMNS($B$11:L86),0)),\"\")","v":""},{"$f":"IFERROR(IF($L$6=\"\",\"\",VLOOKUP($L$6&\"_\"&$B87,data_entry,COLUMNS($B$11:M86),0)),\"\")","v":""},{"$f":"IFERROR(IF($L$6=\"\",\"\",VLOOKUP($L$6&\"_\"&$B87,data_entry,COLUMNS($B$11:N86),0)),\"\")","v":""},{"$f":"IFERROR(IF($L$6=\"\",\"\",VLOOKUP($L$6&\"_\"&$B87,data_entry,COLUMNS($B$11:O86),0)),\"\")","v":""},{"$f":"IFERROR(IF($L$6=\"\",\"\",VLOOKUP($L$6&\"_\"&$B87,data_entry,COLUMNS($B$11:P86),0)),\"\")","v":""},{"$f":"IFERROR(IF($L$6=\"\",\"\",VLOOKUP($L$6&\"_\"&$B87,data_entry,COLUMNS($B$11:Q86),0)),\"\")","v":""},{"$f":"IFERROR(IF($L$6=\"\",\"\",VLOOKUP($L$6&\"_\"&$B87,data_entry,COLUMNS($B$11:R86),0)),\"\")","v":""},{"$f":"IFERROR(IF($L$6=\"\",\"\",VLOOKUP($L$6&\"_\"&$B87,data_entry,COLUMNS($B$11:S86),0)),\"\")","v":""},{"$f":"IFERROR(IF($L$6=\"\",\"\",VLOOKUP($L$6&\"_\"&$B87,data_entry,COLUMNS($B$11:T86),0)),\"\")","v":""},{"$f":"IFERROR(IF($L$6=\"\",\"\",VLOOKUP($L$6&\"_\"&$B87,data_entry,COLUMNS($B$11:U86),0)),\"\")","v":""},{"$f":"IFERROR(IF($L$6=\"\",\"\",VLOOKUP($L$6&\"_\"&$B87,data_entry,COLUMNS($B$11:V86),0)),\"\")","v":""},{"$f":"IFERROR(IF($L$6=\"\",\"\",VLOOKUP($L$6&\"_\"&$B87,data_entry,COLUMNS($B$11:W86),0)),\"\")","v":""},{"$f":"IFERROR(IF($L$6=\"\",\"\",VLOOKUP($L$6&\"_\"&$B87,data_entry,COLUMNS($B$11:X86),0)),\"\")","v":""},{"$f":"IFERROR(IF($L$6=\"\",\"\",VLOOKUP($L$6&\"_\"&$B87,data_entry,COLUMNS($B$11:Y86),0)),\"\")","v":""},{"$f":"IFERROR(IF($L$6=\"\",\"\",VLOOKUP($L$6&\"_\"&$B87,data_entry,COLUMNS($B$11:Z86),0)),\"\")","v":""},{"$f":"IFERROR(IF($L$6=\"\",\"\",VLOOKUP($L$6&\"_\"&$B87,data_entry,COLUMNS($B$11:AA86),0)),\"\")","v":""},{"$f":"IFERROR(IF($L$6=\"\",\"\",VLOOKUP($L$6&\"_\"&$B87,data_entry,COLUMNS($B$11:AB86),0)),\"\")","v":""},{"$f":"IFERROR(IF($L$6=\"\",\"\",VLOOKUP($L$6&\"_\"&$B87,data_entry,COLUMNS($B$11:AC86),0)),\"\")","v":""},{"$f":"IFERROR(IF($L$6=\"\",\"\",VLOOKUP($L$6&\"_\"&$B87,data_entry,COLUMNS($B$11:AD86),0)),\"\")","v":""},{"$nulls":5},{"$f":"IFERROR(IF($L$6=\"\",\"\",VLOOKUP($L$6&\"_\"&$B87,data_entry,COLUMNS($B$11:AJ86),0)),\"\")","v":""},{"$f":"IFERROR(IF($L$6=\"\",\"\",VLOOKUP($L$6&\"_\"&$B87,data_entry,COLUMNS($B$11:AK86),0)),\"\")","v":""},{"$f":"IFERROR(IF($L$6=\"\",\"\",VLOOKUP($L$6&\"_\"&$B87,data_entry,COLUMNS($B$11:AL86),0)),\"\")","v":""},{"$f":"IFERROR(IF($L$6=\"\",\"\",VLOOKUP($L$6&\"_\"&$B87,data_entry,COLUMNS($B$11:AM86),0)),\"\")","v":""},{"$f":"IFERROR(IF($L$6=\"\",\"\",VLOOKUP($L$6&\"_\"&$B87,data_entry,COLUMNS($B$11:AN86),0)),\"\")","v":""},{"$f":"IFERROR(IF($L$6=\"\",\"\",VLOOKUP($L$6&\"_\"&$B87,data_entry,COLUMNS($B$11:AO86),0)),\"\")","v":""},{"$f":"IFERROR(IF($L$6=\"\",\"\",VLOOKUP($L$6&\"_\"&$B87,data_entry,COLUMNS($B$11:AP86),0)),\"\")","v":""},{"$f":"IFERROR(IF($L$6=\"\",\"\",VLOOKUP($L$6&\"_\"&$B87,data_entry,COLUMNS($B$11:AQ86),0)),\"\")","v":""}]
[0,77,{"$f":"IF(D88=\"\",\"\",ROWS($D$12:D88))","v":""},{"$f":"IFERROR(IF(OR($L$6=\"\",'DATA ENTRY'!C83=\"\"),\"\",VLOOKUP($L$6&\"_\"&$B88,data_entry,COLUMNS($B$11:D87),0)),\"\")","v":""},{"$f":"IFERROR(IF($L$6=\"\",\"\",VLOOKUP($L$6&\"_\"&$B88,data_entry,COLUMNS($B$11:E87),0)),\"\")","v":""},{"$f":"IFERROR(IF($L$6=\"\",\"\",VLOOKUP($L$6&\"_\"&$B88,data_entry,COLUMNS($B$11:F87),0)),\"\")","v":""},{"$f":"IFERROR(IF($L$6=\"\",\"\",VLOOKUP($L$6&\"_\"&$B88,data_entry,COLUMNS($B$11:G87),0)),\"\")","v":""},{"$f":"IFERROR(IF($L$6=\"\",\"\",VLOOKUP($L$6&\"_\"&$B88,data_entry,COLUMNS($B$11:H87),0)),\"\")","v":""},{"$f":"IFERROR(IF($L$6=\"\",\"\",VLOOKUP($L$6&\"_\"&$B88,data_entry,COLUMNS($B$11:I87),0)),\"\")","v":""},{"$f":"IFERROR(IF($L$6=\"\",\"\",VLOOKUP($L$6&\"_\"&$B88,data_entry,COLUMNS($B$11:J87),0)),\"\")","v":""},{"$f":"IFERROR(IF($L$6=\"\",\"\",VLOOKUP($L$6&\"_\"&$B88,data_entry,COLUMNS($B$11:K87),0)),\"\")","v":""},{"$f":"IFERROR(IF($L$6=\"\",\"\",VLOOKUP($L$6&\"_\"&$B88,data_entry,COLUMNS($B$11:L87),0)),\"\")","v":""},{"$f":"IFERROR(IF($L$6=\"\",\"\",VLOOKUP($L$6&\"_\"&$B88,data_entry,COLUMNS($B$11:M87),0)),\"\")","v":""},{"$f":"IFERROR(IF($L$6=\"\",\"\",VLOOKUP($L$6&\"_\"&$B88,data_entry,COLUMNS($B$11:N87),0)),\"\")","v":""},{"$f":"IFERROR(IF($L$6=\"\",\"\",VLOOKUP($L$6&\"_\"&$B88,data_entry,COLUMNS($B$11:O87),0)),\"\")","v":""},{"$f":"IFERROR(IF($L$6=\"\",\"\",VLOOKUP($L$6&\"_\"&$B88,data_entry,COLUMNS($B$11:P87),0)),\"\")","v":""},{"$f":"IFERROR(IF($L$6=\"\",\"\",VLOOKUP($L$6&\"_\"&$B88,data_entry,COLUMNS($B$11:Q87),0)),\"\")","v":""},{"$f":"IFERROR(IF($L$6=\"\",\"\",VLOOKUP($L$6&\"_\"&$B88,data_entry,COLUMNS($B$11:R87),0)),\"\")","v":""},{"$f":"IFERROR(IF($L$6=\"\",\"\",VLOOKUP($L$6&\"_\"&$B88,data_entry,COLUMNS($B$11:S87),0)),\"\")","v":""},{"$f":"IFERROR(IF($L$6=\"\",\"\",VLOOKUP($L$6&\"_\"&$B88,data_entry,COLUMNS($B$11:T87),0)),\"\")","v":""},{"$f":"IFERROR(IF($L$6=\"\",\"\",VLOOKUP($L$6&\"_\"&$B88,data_entry,COLUMNS($B$11:U87),0)),\"\")","v":""},{"$f":"IFERROR(IF($L$6=\"\",\"\",VLOOKUP($L$6&\"_\"&$B88,data_entry,COLUMNS($B$11:V87),0)),\"\")","v":""},{"$f":"IFERROR(IF($L$6=\"\",\"\",VLOOKUP($L$6&\"_\"&$B88,data_entry,COLUMNS($B$11:W87),0)),\"\")","v":""},{"$f":"IFERROR(IF($L$6=\"\",\"\",VLOOKUP($L$6&\"_\"&$B88,data_entry,COLUMNS($B$11:X87),0)),\"\")","v":""},{"$f":"IFERROR(IF($L$6=\"\",\"\",VLOOKUP($L$6&\"_\"&$B88,data_entry,COLUMNS($B$11:Y87),0)),\"\")","v":""},{"$f":"IFERROR(IF($L$6=\"\",\"\",VLOOKUP($L$6&\"_\"&$B88,data_entry,COLUMNS($B$11:Z87),0)),\"\")","v":""},{"$f":"IFERROR(IF($L$6=\"\",\"\",VLOOKUP($L$6&\"_\"&$B88,data_entry,COLUMNS($B$11:AA87),0)),\"\")","v":""},{"$f":"IFERROR(IF($L$6=\"\",\"\",VLOOKUP($L$6&\"_\"&$B88,data_entry,COLUMNS($B$11:AB87),0)),\"\")","v":""},{"$f":"IFERROR(IF($L$6=\"\",\"\",VLOOKUP($L$6&\"_\"&$B88,data_entry,COLUMNS($B$11:AC87),0)),\"\")","v":""},{"$f":"IFERROR(IF($L$6=\"\",\"\",VLOOKUP($L$6&\"_\"&$B88,data_entry,COLUMNS($B$11:AD87),0)),\"\")","v":""},{"$nulls":5},{"$f":"IFERROR(IF($L$6=\"\",\"\",VLOOKUP($L$6&\"_\"&$B88,data_entry,COLUMNS($B$11:AJ87),0)),\"\")","v":""},{"$f":"IFERROR(IF($L$6=\"\",\"\",VLOOKUP($L$6&\"_\"&$B88,data_entry,COLUMNS($B$11:AK87),0)),\"\")","v":""},{"$f":"IFERROR(IF($L$6=\"\",\"\",VLOOKUP($L$6&\"_\"&$B88,data_entry,COLUMNS($B$11:AL87),0)),\"\")","v":""},{"$f":"IFERROR(IF($L$6=\"\",\"\",VLOOKUP($L$6&\"_\"&$B88,data_entry,COLUMNS($B$11:AM87),0)),\"\")","v":""},{"$f":"IFERROR(IF($L$6=\"\",\"\",VLOOKUP($L$6&\"_\"&$B88,data_entry,COLUMNS($B$11:AN87),0)),\"\")","v":""},{"$f":"IFERROR(IF($L$6=\"\",\"\",VLOOKUP($L$6&\"_\"&$B88,data_entry,COLUMNS($B$11:AO87),0)),\"\")","v":""},{"$f":"IFERROR(IF($L$6=\"\",\"\",VLOOKUP($L$6&\"_\"&$B88,data_entry,COLUMNS($B$11:AP87),0)),\"\")","v":""},{"$f":"IFERROR(IF($L$6=\"\",\"\",VLOOKUP($L$6&\"_\"&$B88,data_entry,COLUMNS($B$11:AQ87),0)),\"\")","v":""}]
[0,78,{"$f":"IF(D89=\"\",\"\",ROWS($D$12:D89))","v":""},{"$f":"IFERROR(IF(OR($L$6=\"\",'DATA ENTRY'!C84=\"\"),\"\",VLOOKUP($L$6&\"_\"&$B89,data_entry,COLUMNS($B$11:D88),0)),\"\")","v":""},{"$f":"IFERROR(IF($L$6=\"\",\"\",VLOOKUP($L$6&\"_\"&$B89,data_entry,COLUMNS($B$11:E88),0)),\"\")","v":""},{"$f":"IFERROR(IF($L$6=\"\",\"\",VLOOKUP($L$6&\"_\"&$B89,data_entry,COLUMNS($B$11:F88),0)),\"\")","v":""},{"$f":"IFERROR(IF($L$6=\"\",\"\",VLOOKUP($L$6&\"_\"&$B89,data_entry,COLUMNS($B$11:G88),0)),\"\")","v":""},{"$f":"IFERROR(IF($L$6=\"\",\"\",VLOOKUP($L$6&\"_\"&$B89,data_entry,COLUMNS($B$11:H88),0)),\"\")","v":""},{"$f":"IFERROR(IF($L$6=\"\",\"\",VLOOKUP($L$6&\"_\"&$B89,data_entry,COLUMNS($B$11:I88),0)),\"\")","v":""},{"$f":"IFERROR(IF($L$6=\"\",\"\",VLOOKUP($L$6&\"_\"&$B89,data_entry,COLUMNS($B$11:J88),0)),\"\")","v":""},{"$f":"IFERROR(IF($L$6=\"\",\"\",VLOOKUP($L$6&\"_\"&$B89,data_entry,COLUMNS($B$11:K88),0)),\"\")","v":""},{"$f":"IFERROR(IF($L$6=\"\",\"\",VLOOKUP($L$6&\"_\"&$B89,data_entry,COLUMNS($B$11:L88),0)),\"\")","v":""},{"$f":"IFERROR(IF($L$6=\"\",\"\",VLOOKUP($L$6&\"_\"&$B89,data_entry,COLUMNS($B$11:M88),0)),\"\")","v":""},{"$f":"IFERROR(IF($L$6=\"\",\"\",VLOOKUP($L$6&\"_\"&$B89,data_entry,COLUMNS($B$11:N88),0)),\"\")","v":""},{"$f":"IFERROR(IF($L$6=\"\",\"\",VLOOKUP($L$6&\"_\"&$B89,data_entry,COLUMNS($B$11:O88),0)),\"\")","v":""},{"$f":"IFERROR(IF($L$6=\"\",\"\",VLOOKUP($L$6&\"_\"&$B89,data_entry,COLUMNS($B$11:P88),0)),\"\")","v":""},{"$f":"IFERROR(IF($L$6=\"\",\"\",VLOOKUP($L$6&\"_\"&$B89,data_entry,COLUMNS($B$11:Q88),0)),\"\")","v":""},{"$f":"IFERROR(IF($L$6=\"\",\"\",VLOOKUP($L$6&\"_\"&$B89,data_entry,COLUMNS($B$11:R88),0)),\"\")","v":""},{"$f":"IFERROR(IF($L$6=\"\",\"\",VLOOKUP($L$6&\"_\"&$B89,data_entry,COLUMNS($B$11:S88),0)),\"\")","v":""},{"$f":"IFERROR(IF($L$6=\"\",\"\",VLOOKUP($L$6&\"_\"&$B89,data_entry,COLUMNS($B$11:T88),0)),\"\")","v":""},{"$f":"IFERROR(IF($L$6=\"\",\"\",VLOOKUP($L$6&\"_\"&$B89,data_entry,COLUMNS($B$11:U88),0)),\"\")","v":""},{"$f":"IFERROR(IF($L$6=\"\",\"\",VLOOKUP($L$6&\"_\"&$B89,data_entry,COLUMNS($B$11:V88),0)),\"\")","v":""},{"$f":"IFERROR(IF($L$6=\"\",\"\",VLOOKUP($L$6&\"_\"&$B89,data_entry,COLUMNS($B$11:W88),0)),\"\")","v":""},{"$f":"IFERROR(IF($L$6=\"\",\"\",VLOOKUP($L$6&\"_\"&$B89,data_entry,COLUMNS($B$11:X88),0)),\"\")","v":""},{"$f":"IFERROR(IF($L$6=\"\",\"\",VLOOKUP($L$6&\"_\"&$B89,data_entry,COLUMNS($B$11:Y88),0)),\"\")","v":""},{"$f":"IFERROR(IF($L$6=\"\",\"\",VLOOKUP($L$6&\"_\"&$B89,data_entry,COLUMNS($B$11:Z88),0)),\"\")","v":""},{"$f":"IFERROR(IF($L$6=\"\",\"\",VLOOKUP($L$6&\"_\"&$B89,data_entry,COLUMNS($B$11:AA88),0)),\"\")","v":""},{"$f":"IFERROR(IF($L$6=\"\",\"\",VLOOKUP($L$6&\"_\"&$B89,data_entry,COLUMNS($B$11:AB88),0)),\"\")","v":""},{"$f":"IFERROR(IF($L$6=\"\",\"\",VLOOKUP($L$6&\"_\"&$B89,data_entry,COLUMNS($B$11:AC88),0)),\"\")","v":""},{"$f":"IFERROR(IF($L$6=\"\",\"\",VLOOKUP($L$6&\"_\"&$B89,data_entry,COLUMNS($B$11:AD88),0)),\"\")","v":""},{"$nulls":5},{"$f":"IFERROR(IF($L$6=\"\",\"\",VLOOKUP($L$6&\"_\"&$B89,data_entry,COLUMNS($B$11:AJ88),0)),\"\")","v":""},{"$f":"IFERROR(IF($L$6=\"\",\"\",VLOOKUP($L$6&\"_\"&$B89,data_entry,COLUMNS($B$11:AK88),0)),\"\")","v":""},{"$f":"IFERROR(IF($L$6=\"\",\"\",VLOOKUP($L$6&\"_\"&$B89,data_entry,COLUMNS($B$11:AL88),0)),\"\")","v":""},{"$f":"IFERROR(IF($L$6=\"\",\"\",VLOOKUP($L$6&\"_\"&$B89,data_entry,COLUMNS($B$11:AM88),0)),\"\")","v":""},{"$f":"IFERROR(IF($L$6=\"\",\"\",VLOOKUP($L$6&\"_\"&$B89,data_entry,COLUMNS($B$11:AN88),0)),\"\")","v":""},{"$f":"IFERROR(IF($L$6=\"\",\"\",VLOOKUP($L$6&\"_\"&$B89,data_entry,COLUMNS($B$11:AO88),0)),\"\")","v":""},{"$f":"IFERROR(IF($L$6=\"\",\"\",VLOOKUP($L$6&\"_\"&$B89,data_entry,COLUMNS($B$11:AP88),0)),\"\")","v":""},{"$f":"IFERROR(IF($L$6=\"\",\"\",VLOOKUP($L$6&\"_\"&$B89,data_entry,COLUMNS($B$11:AQ88),0)),\"\")","v":""}]
[0,79,{"$f":"IF(D90=\"\",\"\",ROWS($D$12:D90))","v":""},{"$f":"IFERROR(IF(OR($L$6=\"\",'DATA ENTRY'!C85=\"\"),\"\",VLOOKUP($L$6&\"_\"&$B90,data_entry,COLUMNS($B$11:D89),0)),\"\")","v":""},{"$f":"IFERROR(IF($L$6=\"\",\"\",VLOOKUP($L$6&\"_\"&$B90,data_entry,COLUMNS($B$11:E89),0)),\"\")","v":""},{"$f":"IFERROR(IF($L$6=\"\",\"\",VLOOKUP($L$6&\"_\"&$B90,data_entry,COLUMNS($B$11:F89),0)),\"\")","v":""},{"$f":"IFERROR(IF($L$6=\"\",\"\",VLOOKUP($L$6&\"_\"&$B90,data_entry,COLUMNS($B$11:G89),0)),\"\")","v":""},{"$f":"IFERROR(IF($L$6=\"\",\"\",VLOOKUP($L$6&\"_\"&$B90,data_entry,COLUMNS($B$11:H89),0)),\"\")","v":""},{"$f":"IFERROR(IF($L$6=\"\",\"\",VLOOKUP($L$6&\"_\"&$B90,data_entry,COLUMNS($B$11:I89),0)),\"\")","v":""},{"$f":"IFERROR(IF($L$6=\"\",\"\",VLOOKUP($L$6&\"_\"&$B90,data_entry,COLUMNS($B$11:J89),0)),\"\")","v":""},{"$f":"IFERROR(IF($L$6=\"\",\"\",VLOOKUP($L$6&\"_\"&$B90,data_entry,COLUMNS($B$11:K89),0)),\"\")","v":""},{"$f":"IFERROR(IF($L$6=\"\",\"\",VLOOKUP($L$6&\"_\"&$B90,data_entry,COLUMNS($B$11:L89),0)),\"\")","v":""},{"$f":"IFERROR(IF($L$6=\"\",\"\",VLOOKUP($L$6&\"_\"&$B90,data_entry,COLUMNS($B$11:M89),0)),\"\")","v":""},{"$f":"IFERROR(IF($L$6=\"\",\"\",VLOOKUP($L$6&\"_\"&$B90,data_entry,COLUMNS($B$11:N89),0)),\"\")","v":""},{"$f":"IFERROR(IF($L$6=\"\",\"\",VLOOKUP($L$6&\"_\"&$B90,data_entry,COLUMNS($B$11:O89),0)),\"\")","v":""},{"$f":"IFERROR(IF($L$6=\"\",\"\",VLOOKUP($L$6&\"_\"&$B90,data_entry,COLUMNS($B$11:P89),0)),\"\")","v":""},{"$f":"IFERROR(IF($L$6=\"\",\"\",VLOOKUP($L$6&\"_\"&$B90,data_entry,COLUMNS($B$11:Q89),0)),\"\")","v":""},{"$f":"IFERROR(IF($L$6=\"\",\"\",VLOOKUP($L$6&\"_\"&$B90,data_entry,COLUMNS($B$11:R89),0)),\"\")","v":""},{"$f":"IFERROR(IF($L$6=\"\",\"\",VLOOKUP($L$6&\"_\"&$B90,data_entry,COLUMNS($B$11:S89),0)),\"\")","v":""},{"$f":"IFERROR(IF($L$6=\"\",\"\",VLOOKUP($L$6&\"_\"&$B90,data_entry,COLUMNS($B$11:T89),0)),\"\")","v":""},{"$f":"IFERROR(IF($L$6=\"\",\"\",VLOOKUP($L$6&\"_\"&$B90,data_entry,COLUMNS($B$11:U89),0)),\"\")","v":""},{"$f":"IFERROR(IF($L$6=\"\",\"\",VLOOKUP($L$6&\"_\"&$B90,data_entry,COLUMNS($B$11:V89),0)),\"\")","v":""},{"$f":"IFERROR(IF($L$6=\"\",\"\",VLOOKUP($L$6&\"_\"&$B90,data_entry,COLUMNS($B$11:W89),0)),\"\")","v":""},{"$f":"IFERROR(IF($L$6=\"\",\"\",VLOOKUP($L$6&\"_\"&$B90,data_entry,COLUMNS($B$11:X89),0)),\"\")","v":""},{"$f":"IFERROR(IF($L$6=\"\",\"\",VLOOKUP($L$6&\"_\"&$B90,data_entry,COLUMNS($B$11:Y89),0)),\"\")","v":""},{"$f":"IFERROR(IF($L$6=\"\",\"\",VLOOKUP($L$6&\"_\"&$B90,data_entry,COLUMNS($B$11:Z89),0)),\"\")","v":""},{"$f":"IFERROR(IF($L$6=\"\",\"\",VLOOKUP($L$6&\"_\"&$B90,data_entry,COLUMNS($B$11:AA89),0)),\"\")","v":""},{"$f":"IFERROR(IF($L$6=\"\",\"\",VLOOKUP($L$6&\"_\"&$B90,data_entry,COLUMNS($B$11:AB89),0)),\"\")","v":""},{"$f":"IFERROR(IF($L$6=\"\",\"\",VLOOKUP($L$6&\"_\"&$B90,data_entry,COLUMNS($B$11:AC89),0)),\"\")","v":""},{"$f":"IFERROR(IF($L$6=\"\",\"\",VLOOKUP($L$6&\"_\"&$B90,data_entry,COLUMNS($B$11:AD89),0)),\"\")","v":""},{"$nulls":5},{"$f":"IFERROR(IF($L$6=\"\",\"\",VLOOKUP($L$6&\"_\"&$B90,data_entry,COLUMNS($B$11:AJ89),0)),\"\")","v":""},{"$f":"IFERROR(IF($L$6=\"\",\"\",VLOOKUP($L$6&\"_\"&$B90,data_entry,COLUMNS($B$11:AK89),0)),\"\")","v":""},{"$f":"IFERROR(IF($L$6=\"\",\"\",VLOOKUP($L$6&\"_\"&$B90,data_entry,COLUMNS($B$11:AL89),0)),\"\")","v":""},{"$f":"IFERROR(IF($L$6=\"\",\"\",VLOOKUP($L$6&\"_\"&$B90,data_entry,COLUMNS($B$11:AM89),0)),\"\")","v":""},{"$f":"IFERROR(IF($L$6=\"\",\"\",VLOOKUP($L$6&\"_\"&$B90,data_entry,COLUMNS($B$11:AN89),0)),\"\")","v":""},{"$f":"IFERROR(IF($L$6=\"\",\"\",VLOOKUP($L$6&\"_\"&$B90,data_entry,COLUMNS($B$11:AO89),0)),\"\")","v":""},{"$f":"IFERROR(IF($L$6=\"\",\"\",VLOOKUP($L$6&\"_\"&$B90,data_entry,COLUMNS($B$11:AP89),0)),\"\")","v":""},{"$f":"IFERROR(IF($L$6=\"\",\"\",VLOOKUP($L$6&\"_\"&$B90,data_entry,COLUMNS($B$11:AQ89),0)),\"\")","v":""}]
[0,80,{"$f":"IF(D91=\"\",\"\",ROWS($D$12:D91))","v":""},{"$f":"IFERROR(IF(OR($L$6=\"\",'DATA ENTRY'!C86=\"\"),\"\",VLOOKUP($L$6&\"_\"&$B91,data_entry,COLUMNS($B$11:D90),0)),\"\")","v":""},{"$f":"IFERROR(IF($L$6=\"\",\"\",VLOOKUP($L$6&\"_\"&$B91,data_entry,COLUMNS($B$11:E90),0)),\"\")","v":""},{"$f":"IFERROR(IF($L$6=\"\",\"\",VLOOKUP($L$6&\"_\"&$B91,data_entry,COLUMNS($B$11:F90),0)),\"\")","v":""},{"$f":"IFERROR(IF($L$6=\"\",\"\",VLOOKUP($L$6&\"_\"&$B91,data_entry,COLUMNS($B$11:G90),0)),\"\")","v":""},{"$f":"IFERROR(IF($L$6=\"\",\"\",VLOOKUP($L$6&\"_\"&$B91,data_entry,COLUMNS($B$11:H90),0)),\"\")","v":""},{"$f":"IFERROR(IF($L$6=\"\",\"\",VLOOKUP($L$6&\"_\"&$B91,data_entry,COLUMNS($B$11:I90),0)),\"\")","v":""},{"$f":"IFERROR(IF($L$6=\"\",\"\",VLOOKUP($L$6&\"_\"&$B91,data_entry,COLUMNS($B$11:J90),0)),\"\")","v":""},{"$f":"IFERROR(IF($L$6=\"\",\"\",VLOOKUP($L$6&\"_\"&$B91,data_entry,COLUMNS($B$11:K90),0)),\"\")","v":""},{"$f":"IFERROR(IF($L$6=\"\",\"\",VLOOKUP($L$6&\"_\"&$B91,data_entry,COLUMNS($B$11:L90),0)),\"\")","v":""},{"$f":"IFERROR(IF($L$6=\"\",\"\",VLOOKUP($L$6&\"_\"&$B91,data_entry,COLUMNS($B$11:M90),0)),\"\")","v":""},{"$f":"IFERROR(IF($L$6=\"\",\"\",VLOOKUP($L$6&\"_\"&$B91,data_entry,COLUMNS($B$11:N90),0)),\"\")","v":""},{"$f":"IFERROR(IF($L$6=\"\",\"\",VLOOKUP($L$6&\"_\"&$B91,data_entry,COLUMNS($B$11:O90),0)),\"\")","v":""},{"$f":"IFERROR(IF($L$6=\"\",\"\",VLOOKUP($L$6&\"_\"&$B91,data_entry,COLUMNS($B$11:P90),0)),\"\")","v":""},{"$f":"IFERROR(IF($L$6=\"\",\"\",VLOOKUP($L$6&\"_\"&$B91,data_entry,COLUMNS($B$11:Q90),0)),\"\")","v":""},{"$f":"IFERROR(IF($L$6=\"\",\"\",VLOOKUP($L$6&\"_\"&$B91,data_entry,COLUMNS($B$11:R90),0)),\"\")","v":""},{"$f":"IFERROR(IF($L$6=\"\",\"\",VLOOKUP($L$6&\"_\"&$B91,data_entry,COLUMNS($B$11:S90),0)),\"\")","v":""},{"$f":"IFERROR(IF($L$6=\"\",\"\",VLOOKUP($L$6&\"_\"&$B91,data_entry,COLUMNS($B$11:T90),0)),\"\")","v":""},{"$f":"IFERROR(IF($L$6=\"\",\"\",VLOOKUP($L$6&\"_\"&$B91,data_entry,COLUMNS($B$11:U90),0)),\"\")","v":""},{"$f":"IFERROR(IF($L$6=\"\",\"\",VLOOKUP($L$6&\"_\"&$B91,data_entry,COLUMNS($B$11:V90),0)),\"\")","v":""},{"$f":"IFERROR(IF($L$6=\"\",\"\",VLOOKUP($L$6&\"_\"&$B91,data_entry,COLUMNS($B$11:W90),0)),\"\")","v":""},{"$f":"IFERROR(IF($L$6=\"\",\"\",VLOOKUP($L$6&\"_\"&$B91,data_entry,COLUMNS($B$11:X90),0)),\"\")","v":""},{"$f":"IFERROR(IF($L$6=\"\",\"\",VLOOKUP($L$6&\"_\"&$B91,data_entry,COLUMNS($B$11:Y90),0)),\"\")","v":""},{"$f":"IFERROR(IF($L$6=\"\",\"\",VLOOKUP($L$6&\"_\"&$B91,data_entry,COLUMNS($B$11:Z90),0)),\"\")","v":""},{"$f":"IFERROR(IF($L$6=\"\",\"\",VLOOKUP($L$6&\"_\"&$B91,data_entry,COLUMNS($B$11:AA90),0)),\"\")","v":""},{"$f":"IFERROR(IF($L$6=\"\",\"\",VLOOKUP($L$6&\"_\"&$B91,data_entry,COLUMNS($B$11:AB90),0)),\"\")","v":""},{"$f":"IFERROR(IF($L$6=\"\",\"\",VLOOKUP($L$6&\"_\"&$B91,data_entry,COLUMNS($B$11:AC90),0)),\"\")","v":""},{"$f":"IFERROR(IF($L$6=\"\",\"\",VLOOKUP($L$6&\"_\"&$B91,data_entry,COLUMNS($B$11:AD90),0)),\"\")","v":""},{"$nulls":5},{"$f":"IFERROR(IF($L$6=\"\",\"\",VLOOKUP($L$6&\"_\"&$B91,data_entry,COLUMNS($B$11:AJ90),0)),\"\")","v":""},{"$f":"IFERROR(IF($L$6=\"\",\"\",VLOOKUP($L$6&\"_\"&$B91,data_entry,COLUMNS($B$11:AK90),0)),\"\")","v":""},{"$f":"IFERROR(IF($L$6=\"\",\"\",VLOOKUP($L$6&\"_\"&$B91,data_entry,COLUMNS($B$11:AL90),0)),\"\")","v":""},{"$f":"IFERROR(IF($L$6=\"\",\"\",VLOOKUP($L$6&\"_\"&$B91,data_entry,COLUMNS($B$11:AM90),0)),\"\")","v":""},{"$f":"IFERROR(IF($L$6=\"\",\"\",VLOOKUP($L$6&\"_\"&$B91,data_entry,COLUMNS($B$11:AN90),0)),\"\")","v":""},{"$f":"IFERROR(IF($L$6=\"\",\"\",VLOOKUP($L$6&\"_\"&$B91,data_entry,COLUMNS($B$11:AO90),0)),\"\")","v":""},{"$f":"IFERROR(IF($L$6=\"\",\"\",VLOOKUP($L$6&\"_\"&$B91,data_entry,COLUMNS($B$11:AP90),0)),\"\")","v":""},{"$f":"IFERROR(IF($L$6=\"\",\"\",VLOOKUP($L$6&\"_\"&$B91,data_entry,COLUMNS($B$11:AQ90),0)),\"\")","v":""}]
[0,81,{"$f":"IF(D92=\"\",\"\",ROWS($D$12:D92))","v":""},{"$f":"IFERROR(IF(OR($L$6=\"\",'DATA ENTRY'!C87=\"\"),\"\",VLOOKUP($L$6&\"_\"&$B92,data_entry,COLUMNS($B$11:D91),0)),\"\")","v":""},{"$f":"IFERROR(IF($L$6=\"\",\"\",VLOOKUP($L$6&\"_\"&$B92,data_entry,COLUMNS($B$11:E91),0)),\"\")","v":""},{"$f":"IFERROR(IF($L$6=\"\",\"\",VLOOKUP($L$6&\"_\"&$B92,data_entry,COLUMNS($B$11:F91),0)),\"\")","v":""},{"$f":"IFERROR(IF($L$6=\"\",\"\",VLOOKUP($L$6&\"_\"&$B92,data_entry,COLUMNS($B$11:G91),0)),\"\")","v":""},{"$f":"IFERROR(IF($L$6=\"\",\"\",VLOOKUP($L$6&\"_\"&$B92,data_entry,COLUMNS($B$11:H91),0)),\"\")","v":""},{"$f":"IFERROR(IF($L$6=\"\",\"\",VLOOKUP($L$6&\"_\"&$B92,data_entry,COLUMNS($B$11:I91),0)),\"\")","v":""},{"$f":"IFERROR(IF($L$6=\"\",\"\",VLOOKUP($L$6&\"_\"&$B92,data_entry,COLUMNS($B$11:J91),0)),\"\")","v":""},{"$f":"IFERROR(IF($L$6=\"\",\"\",VLOOKUP($L$6&\"_\"&$B92,data_entry,COLUMNS($B$11:K91),0)),\"\")","v":""},{"$f":"IFERROR(IF($L$6=\"\",\"\",VLOOKUP($L$6&\"_\"&$B92,data_entry,COLUMNS($B$11:L91),0)),\"\")","v":""},{"$f":"IFERROR(IF($L$6=\"\",\"\",VLOOKUP($L$6&\"_\"&$B92,data_entry,COLUMNS($B$11:M91),0)),\"\")","v":""},{"$f":"IFERROR(IF($L$6=\"\",\"\",VLOOKUP($L$6&\"_\"&$B92,data_entry,COLUMNS($B$11:N91),0)),\"\")","v":""},{"$f":"IFERROR(IF($L$6=\"\",\"\",VLOOKUP($L$6&\"_\"&$B92,data_entry,COLUMNS($B$11:O91),0)),\"\")","v":""},{"$f":"IFERROR(IF($L$6=\"\",\"\",VLOOKUP($L$6&\"_\"&$B92,data_entry,COLUMNS($B$11:P91),0)),\"\")","v":""},{"$f":"IFERROR(IF($L$6=\"\",\"\",VLOOKUP($L$6&\"_\"&$B92,data_entry,COLUMNS($B$11:Q91),0)),\"\")","v":""},{"$f":"IFERROR(IF($L$6=\"\",\"\",VLOOKUP($L$6&\"_\"&$B92,data_entry,COLUMNS($B$11:R91),0)),\"\")","v":""},{"$f":"IFERROR(IF($L$6=\"\",\"\",VLOOKUP($L$6&\"_\"&$B92,data_entry,COLUMNS($B$11:S91),0)),\"\")","v":""},{"$f":"IFERROR(IF($L$6=\"\",\"\",VLOOKUP($L$6&\"_\"&$B92,data_entry,COLUMNS($B$11:T91),0)),\"\")","v":""},{"$f":"IFERROR(IF($L$6=\"\",\"\",VLOOKUP($L$6&\"_\"&$B92,data_entry,COLUMNS($B$11:U91),0)),\"\")","v":""},{"$f":"IFERROR(IF($L$6=\"\",\"\",VLOOKUP($L$6&\"_\"&$B92,data_entry,COLUMNS($B$11:V91),0)),\"\")","v":""},{"$f":"IFERROR(IF($L$6=\"\",\"\",VLOOKUP($L$6&\"_\"&$B92,data_entry,COLUMNS($B$11:W91),0)),\"\")","v":""},{"$f":"IFERROR(IF($L$6=\"\",\"\",VLOOKUP($L$6&\"_\"&$B92,data_entry,COLUMNS($B$11:X91),0)),\"\")","v":""},{"$f":"IFERROR(IF($L$6=\"\",\"\",VLOOKUP($L$6&\"_\"&$B92,data_entry,COLUMNS($B$11:Y91),0)),\"\")","v":""},{"$f":"IFERROR(IF($L$6=\"\",\"\",VLOOKUP($L$6&\"_\"&$B92,data_entry,COLUMNS($B$11:Z91),0)),\"\")","v":""},{"$f":"IFERROR(IF($L$6=\"\",\"\",VLOOKUP($L$6&\"_\"&$B92,data_entry,COLUMNS($B$11:AA91),0)),\"\")","v":""},{"$f":"IFERROR(IF($L$6=\"\",\"\",VLOOKUP($L$6&\"_\"&$B92,data_entry,COLUMNS($B$11:AB91),0)),\"\")","v":""},{"$f":"IFERROR(IF($L$6=\"\",\"\",VLOOKUP($L$6&\"_\"&$B92,data_entry,COLUMNS($B$11:AC91),0)),\"\")","v":""},{"$f":"IFERROR(IF($L$6=\"\",\"\",VLOOKUP($L$6&\"_\"&$B92,data_entry,COLUMNS($B$11:AD91),0)),\"\")","v":""},{"$nulls":5},{"$f":"IFERROR(IF($L$6=\"\",\"\",VLOOKUP($L$6&\"_\"&$B92,data_entry,COLUMNS($B$11:AJ91),0)),\"\")","v":""},{"$f":"IFERROR(IF($L$6=\"\",\"\",VLOOKUP($L$6&\"_\"&$B92,data_entry,COLUMNS($B$11:AK91),0)),\"\")","v":""},{"$f":"IFERROR(IF($L$6=\"\",\"\",VLOOKUP($L$6&\"_\"&$B92,data_entry,COLUMNS($B$11:AL91),0)),\"\")","v":""},{"$f":"IFERROR(IF($L$6=\"\",\"\",VLOOKUP($L$6&\"_\"&$B92,data_entry,COLUMNS($B$11:AM91),0)),\"\")","v":""},{"$f":"IFERROR(IF($L$6=\"\",\"\",VLOOKUP($L$6&\"_\"&$B92,data_entry,COLUMNS($B$11:AN91),0)),\"\")","v":""},{"$f":"IFERROR(IF($L$6=\"\",\"\",VLOOKUP($L$6&\"_\"&$B92,data_entry,COLUMNS($B$11:AO91),0)),\"\")","v":""},{"$f":"IFERROR(IF($L$6=\"\",\"\",VLOOKUP($L$6&\"_\"&$B92,data_entry,COLUMNS($B$11:AP91),0)),\"\")","v":""},{"$f":"IFERROR(IF($L$6=\"\",\"\",VLOOKUP($L$6&\"_\"&$B92,data_entry,COLUMNS($B$11:AQ91),0)),\"\")","v":""}]
[0,82,{"$f":"IF(D93=\"\",\"\",ROWS($D$12:D93))","v":""},{"$f":"IFERROR(IF(OR($L$6=\"\",'DATA ENTRY'!C88=\"\"),\"\",VLOOKUP($L$6&\"_\"&$B93,data_entry,COLUMNS($B$11:D92),0)),\"\")","v":""},{"$f":"IFERROR(IF($L$6=\"\",\"\",VLOOKUP($L$6&\"_\"&$B93,data_entry,COLUMNS($B$11:E92),0)),\"\")","v":""},{"$f":"IFERROR(IF($L$6=\"\",\"\",VLOOKUP($L$6&\"_\"&$B93,data_entry,COLUMNS($B$11:F92),0)),\"\")","v":""},{"$f":"IFERROR(IF($L$6=\"\",\"\",VLOOKUP($L$6&\"_\"&$B93,data_entry,COLUMNS($B$11:G92),0)),\"\")","v":""},{"$f":"IFERROR(IF($L$6=\"\",\"\",VLOOKUP($L$6&\"_\"&$B93,data_entry,COLUMNS($B$11:H92),0)),\"\")","v":""},{"$f":"IFERROR(IF($L$6=\"\",\"\",VLOOKUP($L$6&\"_\"&$B93,data_entry,COLUMNS($B$11:I92),0)),\"\")","v":""},{"$f":"IFERROR(IF($L$6=\"\",\"\",VLOOKUP($L$6&\"_\"&$B93,data_entry,COLUMNS($B$11:J92),0)),\"\")","v":""},{"$f":"IFERROR(IF($L$6=\"\",\"\",VLOOKUP($L$6&\"_\"&$B93,data_entry,COLUMNS($B$11:K92),0)),\"\")","v":""},{"$f":"IFERROR(IF($L$6=\"\",\"\",VLOOKUP($L$6&\"_\"&$B93,data_entry,COLUMNS($B$11:L92),0)),\"\")","v":""},{"$f":"IFERROR(IF($L$6=\"\",\"\",VLOOKUP($L$6&\"_\"&$B93,data_entry,COLUMNS($B$11:M92),0)),\"\")","v":""},{"$f":"IFERROR(IF($L$6=\"\",\"\",VLOOKUP($L$6&\"_\"&$B93,data_entry,COLUMNS($B$11:N92),0)),\"\")","v":""},{"$f":"IFERROR(IF($L$6=\"\",\"\",VLOOKUP($L$6&\"_\"&$B93,data_entry,COLUMNS($B$11:O92),0)),\"\")","v":""},{"$f":"IFERROR(IF($L$6=\"\",\"\",VLOOKUP($L$6&\"_\"&$B93,data_entry,COLUMNS($B$11:P92),0)),\"\")","v":""},{"$f":"IFERROR(IF($L$6=\"\",\"\",VLOOKUP($L$6&\"_\"&$B93,data_entry,COLUMNS($B$11:Q92),0)),\"\")","v":""},{"$f":"IFERROR(IF($L$6=\"\",\"\",VLOOKUP($L$6&\"_\"&$B93,data_entry,COLUMNS($B$11:R92),0)),\"\")","v":""},{"$f":"IFERROR(IF($L$6=\"\",\"\",VLOOKUP($L$6&\"_\"&$B93,data_entry,COLUMNS($B$11:S92),0)),\"\")","v":""},{"$f":"IFERROR(IF($L$6=\"\",\"\",VLOOKUP($L$6&\"_\"&$B93,data_entry,COLUMNS($B$11:T92),0)),\"\")","v":""},{"$f":"IFERROR(IF($L$6=\"\",\"\",VLOOKUP($L$6&\"_\"&$B93,data_entry,COLUMNS($B$11:U92),0)),\"\")","v":""},{"$f":"IFERROR(IF($L$6=\"\",\"\",VLOOKUP($L$6&\"_\"&$B93,data_entry,COLUMNS($B$11:V92),0)),\"\")","v":""},{"$f":"IFERROR(IF($L$6=\"\",\"\",VLOOKUP($L$6&\"_\"&$B93,data_entry,COLUMNS($B$11:W92),0)),\"\")","v":""},{"$f":"IFERROR(IF($L$6=\"\",\"\",VLOOKUP($L$6&\"_\"&$B93,data_entry,COLUMNS($B$11:X92),0)),\"\")","v":""},{"$f":"IFERROR(IF($L$6=\"\",\"\",VLOOKUP($L$6&\"_\"&$B93,data_entry,COLUMNS($B$11:Y92),0)),\"\")","v":""},{"$f":"IFERROR(IF($L$6=\"\",\"\",VLOOKUP($L$6&\"_\"&$B93,data_entry,COLUMNS($B$11:Z92),0)),\"\")","v":""},{"$f":"IFERROR(IF($L$6=\"\",\"\",VLOOKUP($L$6&\"_\"&$B93,data_entry,COLUMNS($B$11:AA92),0)),\"\")","v":""},{"$f":"IFERROR(IF($L$6=\"\",\"\",VLOOKUP($L$6&\"_\"&$B93,data_entry,COLUMNS($B$11:AB92),0)),\"\")","v":""},{"$f":"IFERROR(IF($L$6=\"\",\"\",VLOOKUP($L$6&\"_\"&$B93,data_entry,COLUMNS($B$11:AC92),0)),\"\")","v":""},{"$f":"IFERROR(IF($L$6=\"\",\"\",VLOOKUP($L$6&\"_\"&$B93,data_entry,COLUMNS($B$11:AD92),0)),\"\")","v":""},{"$nulls":5},{"$f":"IFERROR(IF($L$6=\"\",\"\",VLOOKUP($L$6&\"_\"&$B93,data_entry,COLUMNS($B$11:AJ92),0)),\"\")","v":""},{"$f":"IFERROR(IF($L$6=\"\",\"\",VLOOKUP($L$6&\"_\"&$B93,data_entry,COLUMNS($B$11:AK92),0)),\"\")","v":""},{"$f":"IFERROR(IF($L$6=\"\",\"\",VLOOKUP($L$6&\"_\"&$B93,data_entry,COLUMNS($B$11:AL92),0)),\"\")","v":""},{"$f":"IFERROR(IF($L$6=\"\",\"\",VLOOKUP($L$6&\"_\"&$B93,data_entry,COLUMNS($B$11:AM92),0)),\"\")","v":""},{"$f":"IFERROR(IF($L$6=\"\",\"\",VLOOKUP($L$6&\"_\"&$B93,data_entry,COLUMNS($B$11:AN92),0)),\"\")","v":""},{"$f":"IFERROR(IF($L$6=\"\",\"\",VLOOKUP($L$6&\"_\"&$B93,data_entry,COLUMNS($B$11:AO92),0)),\"\")","v":""},{"$f":"IFERROR(IF($L$6=\"\",\"\",VLOOKUP($L$6&\"_\"&$B93,data_entry,COLUMNS($B$11:AP92),0)),\"\")","v":""},{"$f":"IFERROR(IF($L$6=\"\",\"\",VLOOKUP($L$6&\"_\"&$B93,data_entry,COLUMNS($B$11:AQ92),0)),\"\")","v":""}]
[0,83,{"$f":"IF(D94=\"\",\"\",ROWS($D$12:D94))","v":""},{"$f":"IFERROR(IF(OR($L$6=\"\",'DATA ENTRY'!C89=\"\"),\"\",VLOOKUP($L$6&\"_\"&$B94,data_entry,COLUMNS($B$11:D93),0)),\"\")","v":""},{"$f":"IFERROR(IF($L$6=\"\",\"\",VLOOKUP($L$6&\"_\"&$B94,data_entry,COLUMNS($B$11:E93),0)),\"\")","v":""},{"$f":"IFERROR(IF($L$6=\"\",\"\",VLOOKUP($L$6&\"_\"&$B94,data_entry,COLUMNS($B$11:F93),0)),\"\")","v":""},{"$f":"IFERROR(IF($L$6=\"\",\"\",VLOOKUP($L$6&\"_\"&$B94,data_entry,COLUMNS($B$11:G93),0)),\"\")","v":""},{"$f":"IFERROR(IF($L$6=\"\",\"\",VLOOKUP($L$6&\"_\"&$B94,data_entry,COLUMNS($B$11:H93),0)),\"\")","v":""},{"$f":"IFERROR(IF($L$6=\"\",\"\",VLOOKUP($L$6&\"_\"&$B94,data_entry,COLUMNS($B$11:I93),0)),\"\")","v":""},{"$f":"IFERROR(IF($L$6=\"\",\"\",VLOOKUP($L$6&\"_\"&$B94,data_entry,COLUMNS($B$11:J93),0)),\"\")","v":""},{"$f":"IFERROR(IF($L$6=\"\",\"\",VLOOKUP($L$6&\"_\"&$B94,data_entry,COLUMNS($B$11:K93),0)),\"\")","v":""},{"$f":"IFERROR(IF($L$6=\"\",\"\",VLOOKUP($L$6&\"_\"&$B94,data_entry,COLUMNS($B$11:L93),0)),\"\")","v":""},{"$f":"IFERROR(IF($L$6=\"\",\"\",VLOOKUP($L$6&\"_\"&$B94,data_entry,COLUMNS($B$11:M93),0)),\"\")","v":""},{"$f":"IFERROR(IF($L$6=\"\",\"\",VLOOKUP($L$6&\"_\"&$B94,data_entry,COLUMNS($B$11:N93),0)),\"\")","v":""},{"$f":"IFERROR(IF($L$6=\"\",\"\",VLOOKUP($L$6&\"_\"&$B94,data_entry,COLUMNS($B$11:O93),0)),\"\")","v":""},{"$f":"IFERROR(IF($L$6=\"\",\"\",VLOOKUP($L$6&\"_\"&$B94,data_entry,COLUMNS($B$11:P93),0)),\"\")","v":""},{"$f":"IFERROR(IF($L$6=\"\",\"\",VLOOKUP($L$6&\"_\"&$B94,data_entry,COLUMNS($B$11:Q93),0)),\"\")","v":""},{"$f":"IFERROR(IF($L$6=\"\",\"\",VLOOKUP($L$6&\"_\"&$B94,data_entry,COLUMNS($B$11:R93),0)),\"\")","v":""},{"$f":"IFERROR(IF($L$6=\"\",\"\",VLOOKUP($L$6&\"_\"&$B94,data_entry,COLUMNS($B$11:S93),0)),\"\")","v":""},{"$f":"IFERROR(IF($L$6=\"\",\"\",VLOOKUP($L$6&\"_\"&$B94,data_entry,COLUMNS($B$11:T93),0)),\"\")","v":""},{"$f":"IFERROR(IF($L$6=\"\",\"\",VLOOKUP($L$6&\"_\"&$B94,data_entry,COLUMNS($B$11:U93),0)),\"\")","v":""},{"$f":"IFERROR(IF($L$6=\"\",\"\",VLOOKUP($L$6&\"_\"&$B94,data_entry,COLUMNS($B$11:V93),0)),\"\")","v":""},{"$f":"IFERROR(IF($L$6=\"\",\"\",VLOOKUP($L$6&\"_\"&$B94,data_entry,COLUMNS($B$11:W93),0)),\"\")","v":""},{"$f":"IFERROR(IF($L$6=\"\",\"\",VLOOKUP($L$6&\"_\"&$B94,data_entry,COLUMNS($B$11:X93),0)),\"\")","v":""},{"$f":"IFERROR(IF($L$6=\"\",\"\",VLOOKUP($L$6&\"_\"&$B94,data_entry,COLUMNS($B$11:Y93),0)),\"\")","v":""},{"$f":"IFERROR(IF($L$6=\"\",\"\",VLOOKUP($L$6&\"_\"&$B94,data_entry,COLUMNS($B$11:Z93),0)),\"\")","v":""},{"$f":"IFERROR(IF($L$6=\"\",\"\",VLOOKUP($L$6&\"_\"&$B94,data_entry,COLUMNS($B$11:AA93),0)),\"\")","v":""},{"$f":"IFERROR(IF($L$6=\"\",\"\",VLOOKUP($L$6&\"_\"&$B94,data_entry,COLUMNS($B$11:AB93),0)),\"\")","v":""},{"$f":"IFERROR(IF($L$6=\"\",\"\",VLOOKUP($L$6&\"_\"&$B94,data_entry,COLUMNS($B$11:AC93),0)),\"\")","v":""},{"$f":"IFERROR(IF($L$6=\"\",\"\",VLOOKUP($L$6&\"_\"&$B94,data_entry,COLUMNS($B$11:AD93),0)),\"\")","v":""},{"$nulls":5},{"$f":"IFERROR(IF($L$6=\"\",\"\",VLOOKUP($L$6&\"_\"&$B94,data_entry,COLUMNS($B$11:AJ93),0)),\"\")","v":""},{"$f":"IFERROR(IF($L$6=\"\",\"\",VLOOKUP($L$6&\"_\"&$B94,data_entry,COLUMNS($B$11:AK93),0)),\"\")","v":""},{"$f":"IFERROR(IF($L$6=\"\",\"\",VLOOKUP($L$6&\"_\"&$B94,data_entry,COLUMNS($B$11:AL93),0)),\"\")","v":""},{"$f":"IFERROR(IF($L$6=\"\",\"\",VLOOKUP($L$6&\"_\"&$B94,data_entry,COLUMNS($B$11:AM93),0)),\"\")","v":""},{"$f":"IFERROR(IF($L$6=\"\",\"\",VLOOKUP($L$6&\"_\"&$B94,data_entry,COLUMNS($B$11:AN93),0)),\"\")","v":""},{"$f":"IFERROR(IF($L$6=\"\",\"\",VLOOKUP($L$6&\"_\"&$B94,data_entry,COLUMNS($B$11:AO93),0)),\"\")","v":""},{"$f":"IFERROR(IF($L$6=\"\",\"\",VLOOKUP($L$6&\"_\"&$B94,data_entry,COLUMNS($B$11:AP93),0)),\"\")","v":""},{"$f":"IFERROR(IF($L$6=\"\",\"\",VLOOKUP($L$6&\"_\"&$B94,data_entry,COLUMNS($B$11:AQ93),0)),\"\")","v":""}]
[0,84,{"$f":"IF(D95=\"\",\"\",ROWS($D$12:D95))","v":""},{"$f":"IFERROR(IF(OR($L$6=\"\",'DATA ENTRY'!C90=\"\"),\"\",VLOOKUP($L$6&\"_\"&$B95,data_entry,COLUMNS($B$11:D94),0)),\"\")","v":""},{"$f":"IFERROR(IF($L$6=\"\",\"\",VLOOKUP($L$6&\"_\"&$B95,data_entry,COLUMNS($B$11:E94),0)),\"\")","v":""},{"$f":"IFERROR(IF($L$6=\"\",\"\",VLOOKUP($L$6&\"_\"&$B95,data_entry,COLUMNS($B$11:F94),0)),\"\")","v":""},{"$f":"IFERROR(IF($L$6=\"\",\"\",VLOOKUP($L$6&\"_\"&$B95,data_entry,COLUMNS($B$11:G94),0)),\"\")","v":""},{"$f":"IFERROR(IF($L$6=\"\",\"\",VLOOKUP($L$6&\"_\"&$B95,data_entry,COLUMNS($B$11:H94),0)),\"\")","v":""},{"$f":"IFERROR(IF($L$6=\"\",\"\",VLOOKUP($L$6&\"_\"&$B95,data_entry,COLUMNS($B$11:I94),0)),\"\")","v":""},{"$f":"IFERROR(IF($L$6=\"\",\"\",VLOOKUP($L$6&\"_\"&$B95,data_entry,COLUMNS($B$11:J94),0)),\"\")","v":""},{"$f":"IFERROR(IF($L$6=\"\",\"\",VLOOKUP($L$6&\"_\"&$B95,data_entry,COLUMNS($B$11:K94),0)),\"\")","v":""},{"$f":"IFERROR(IF($L$6=\"\",\"\",VLOOKUP($L$6&\"_\"&$B95,data_entry,COLUMNS($B$11:L94),0)),\"\")","v":""},{"$f":"IFERROR(IF($L$6=\"\",\"\",VLOOKUP($L$6&\"_\"&$B95,data_entry,COLUMNS($B$11:M94),0)),\"\")","v":""},{"$f":"IFERROR(IF($L$6=\"\",\"\",VLOOKUP($L$6&\"_\"&$B95,data_entry,COLUMNS($B$11:N94),0)),\"\")","v":""},{"$f":"IFERROR(IF($L$6=\"\",\"\",VLOOKUP($L$6&\"_\"&$B95,data_entry,COLUMNS($B$11:O94),0)),\"\")","v":""},{"$f":"IFERROR(IF($L$6=\"\",\"\",VLOOKUP($L$6&\"_\"&$B95,data_entry,COLUMNS($B$11:P94),0)),\"\")","v":""},{"$f":"IFERROR(IF($L$6=\"\",\"\",VLOOKUP($L$6&\"_\"&$B95,data_entry,COLUMNS($B$11:Q94),0)),\"\")","v":""},{"$f":"IFERROR(IF($L$6=\"\",\"\",VLOOKUP($L$6&\"_\"&$B95,data_entry,COLUMNS($B$11:R94),0)),\"\")","v":""},{"$f":"IFERROR(IF($L$6=\"\",\"\",VLOOKUP($L$6&\"_\"&$B95,data_entry,COLUMNS($B$11:S94),0)),\"\")","v":""},{"$f":"IFERROR(IF($L$6=\"\",\"\",VLOOKUP($L$6&\"_\"&$B95,data_entry,COLUMNS($B$11:T94),0)),\"\")","v":""},{"$f":"IFERROR(IF($L$6=\"\",\"\",VLOOKUP($L$6&\"_\"&$B95,data_entry,COLUMNS($B$11:U94),0)),\"\")","v":""},{"$f":"IFERROR(IF($L$6=\"\",\"\",VLOOKUP($L$6&\"_\"&$B95,data_entry,COLUMNS($B$11:V94),0)),\"\")","v":""},{"$f":"IFERROR(IF($L$6=\"\",\"\",VLOOKUP($L$6&\"_\"&$B95,data_entry,COLUMNS($B$11:W94),0)),\"\")","v":""},{"$f":"IFERROR(IF($L$6=\"\",\"\",VLOOKUP($L$6&\"_\"&$B95,data_entry,COLUMNS($B$11:X94),0)),\"\")","v":""},{"$f":"IFERROR(IF($L$6=\"\",\"\",VLOOKUP($L$6&\"_\"&$B95,data_entry,COLUMNS($B$11:Y94),0)),\"\")","v":""},{"$f":"IFERROR(IF($L$6=\"\",\"\",VLOOKUP($L$6&\"_\"&$B95,data_entry,COLUMNS($B$11:Z94),0)),\"\")","v":""},{"$f":"IFERROR(IF($L$6=\"\",\"\",VLOOKUP($L$6&\"_\"&$B95,data_entry,COLUMNS($B$11:AA94),0)),\"\")","v":""},{"$f":"IFERROR(IF($L$6=\"\",\"\",VLOOKUP($L$6&\"_\"&$B95,data_entry,COLUMNS($B$11:AB94),0)),\"\")","v":""},{"$f":"IFERROR(IF($L$6=\"\",\"\",VLOOKUP($L$6&\"_\"&$B95,data_entry,COLUMNS($B$11:AC94),0)),\"\")","v":""},{"$f":"IFERROR(IF($L$6=\"\",\"\",VLOOKUP($L$6&\"_\"&$B95,data_entry,COLUMNS($B$11:AD94),0)),\"\")","v":""},{"$nulls":5},{"$f":"IFERROR(IF($L$6=\"\",\"\",VLOOKUP($L$6&\"_\"&$B95,data_entry,COLUMNS($B$11:AJ94),0)),\"\")","v":""},{"$f":"IFERROR(IF($L$6=\"\",\"\",VLOOKUP($L$6&\"_\"&$B95,data_entry,COLUMNS($B$11:AK94),0)),\"\")","v":""},{"$f":"IFERROR(IF($L$6=\"\",\"\",VLOOKUP($L$6&\"_\"&$B95,data_entry,COLUMNS($B$11:AL94),0)),\"\")","v":""},{"$f":"IFERROR(IF($L$6=\"\",\"\",VLOOKUP($L$6&\"_\"&$B95,data_entry,COLUMNS($B$11:AM94),0)),\"\")","v":""},{"$f":"IFERROR(IF($L$6=\"\",\"\",VLOOKUP($L$6&\"_\"&$B95,data_entry,COLUMNS($B$11:AN94),0)),\"\")","v":""},{"$f":"IFERROR(IF($L$6=\"\",\"\",VLOOKUP($L$6&\"_\"&$B95,data_entry,COLUMNS($B$11:AO94),0)),\"\")","v":""},{"$f":"IFERROR(IF($L$6=\"\",\"\",VLOOKUP($L$6&\"_\"&$B95,data_entry,COLUMNS($B$11:AP94),0)),\"\")","v":""},{"$f":"IFERROR(IF($L$6=\"\",\"\",VLOOKUP($L$6&\"_\"&$B95,data_entry,COLUMNS($B$11:AQ94),0)),\"\")","v":""}]
[0,85,{"$f":"IF(D96=\"\",\"\",ROWS($D$12:D96))","v":""},{"$f":"IFERROR(IF(OR($L$6=\"\",'DATA ENTRY'!C91=\"\"),\"\",VLOOKUP($L$6&\"_\"&$B96,data_entry,COLUMNS($B$11:D95),0)),\"\")","v":""},{"$f":"IFERROR(IF($L$6=\"\",\"\",VLOOKUP($L$6&\"_\"&$B96,data_entry,COLUMNS($B$11:E95),0)),\"\")","v":""},{"$f":"IFERROR(IF($L$6=\"\",\"\",VLOOKUP($L$6&\"_\"&$B96,data_entry,COLUMNS($B$11:F95),0)),\"\")","v":""},{"$f":"IFERROR(IF($L$6=\"\",\"\",VLOOKUP($L$6&\"_\"&$B96,data_entry,COLUMNS($B$11:G95),0)),\"\")","v":""},{"$f":"IFERROR(IF($L$6=\"\",\"\",VLOOKUP($L$6&\"_\"&$B96,data_entry,COLUMNS($B$11:H95),0)),\"\")","v":""},{"$f":"IFERROR(IF($L$6=\"\",\"\",VLOOKUP($L$6&\"_\"&$B96,data_entry,COLUMNS($B$11:I95),0)),\"\")","v":""},{"$f":"IFERROR(IF($L$6=\"\",\"\",VLOOKUP($L$6&\"_\"&$B96,data_entry,COLUMNS($B$11:J95),0)),\"\")","v":""},{"$f":"IFERROR(IF($L$6=\"\",\"\",VLOOKUP($L$6&\"_\"&$B96,data_entry,COLUMNS($B$11:K95),0)),\"\")","v":""},{"$f":"IFERROR(IF($L$6=\"\",\"\",VLOOKUP($L$6&\"_\"&$B96,data_entry,COLUMNS($B$11:L95),0)),\"\")","v":""},{"$f":"IFERROR(IF($L$6=\"\",\"\",VLOOKUP($L$6&\"_\"&$B96,data_entry,COLUMNS($B$11:M95),0)),\"\")","v":""},{"$f":"IFERROR(IF($L$6=\"\",\"\",VLOOKUP($L$6&\"_\"&$B96,data_entry,COLUMNS($B$11:N95),0)),\"\")","v":""},{"$f":"IFERROR(IF($L$6=\"\",\"\",VLOOKUP($L$6&\"_\"&$B96,data_entry,COLUMNS($B$11:O95),0)),\"\")","v":""},{"$f":"IFERROR(IF($L$6=\"\",\"\",VLOOKUP($L$6&\"_\"&$B96,data_entry,COLUMNS($B$11:P95),0)),\"\")","v":""},{"$f":"IFERROR(IF($L$6=\"\",\"\",VLOOKUP($L$6&\"_\"&$B96,data_entry,COLUMNS($B$11:Q95),0)),\"\")","v":""},{"$f":"IFERROR(IF($L$6=\"\",\"\",VLOOKUP($L$6&\"_\"&$B96,data_entry,COLUMNS($B$11:R95),0)),\"\")","v":""},{"$f":"IFERROR(IF($L$6=\"\",\"\",VLOOKUP($L$6&\"_\"&$B96,data_entry,COLUMNS($B$11:S95),0)),\"\")","v":""},{"$f":"IFERROR(IF($L$6=\"\",\"\",VLOOKUP($L$6&\"_\"&$B96,data_entry,COLUMNS($B$11:T95),0)),\"\")","v":""},{"$f":"IFERROR(IF($L$6=\"\",\"\",VLOOKUP($L$6&\"_\"&$B96,data_entry,COLUMNS($B$11:U95),0)),\"\")","v":""},{"$f":"IFERROR(IF($L$6=\"\",\"\",VLOOKUP($L$6&\"_\"&$B96,data_entry,COLUMNS($B$11:V95),0)),\"\")","v":""},{"$f":"IFERROR(IF($L$6=\"\",\"\",VLOOKUP($L$6&\"_\"&$B96,data_entry,COLUMNS($B$11:W95),0)),\"\")","v":""},{"$f":"IFERROR(IF($L$6=\"\",\"\",VLOOKUP($L$6&\"_\"&$B96,data_entry,COLUMNS($B$11:X95),0)),\"\")","v":""},{"$f":"IFERROR(IF($L$6=\"\",\"\",VLOOKUP($L$6&\"_\"&$B96,data_entry,COLUMNS($B$11:Y95),0)),\"\")","v":""},{"$f":"IFERROR(IF($L$6=\"\",\"\",VLOOKUP($L$6&\"_\"&$B96,data_entry,COLUMNS($B$11:Z95),0)),\"\")","v":""},{"$f":"IFERROR(IF($L$6=\"\",\"\",VLOOKUP($L$6&\"_\"&$B96,data_entry,COLUMNS($B$11:AA95),0)),\"\")","v":""},{"$f":"IFERROR(IF($L$6=\"\",\"\",VLOOKUP($L$6&\"_\"&$B96,data_entry,COLUMNS($B$11:AB95),0)),\"\")","v":""},{"$f":"IFERROR(IF($L$6=\"\",\"\",VLOOKUP($L$6&\"_\"&$B96,data_entry,COLUMNS($B$11:AC95),0)),\"\")","v":""},{"$f":"IFERROR(IF($L$6=\"\",\"\",VLOOKUP($L$6&\"_\"&$B96,data_entry,COLUMNS($B$11:AD95),0)),\"\")","v":""},{"$nulls":5},{"$f":"IFERROR(IF($L$6=\"\",\"\",VLOOKUP($L$6&\"_\"&$B96,data_entry,COLUMNS($B$11:AJ95),0)),\"\")","v":""},{"$f":"IFERROR(IF($L$6=\"\",\"\",VLOOKUP($L$6&\"_\"&$B96,data_entry,COLUMNS($B$11:AK95),0)),\"\")","v":""},{"$f":"IFERROR(IF($L$6=\"\",\"\",VLOOKUP($L$6&\"_\"&$B96,data_entry,COLUMNS($B$11:AL95),0)),\"\")","v":""},{"$f":"IFERROR(IF($L$6=\"\",\"\",VLOOKUP($L$6&\"_\"&$B96,data_entry,COLUMNS($B$11:AM95),0)),\"\")","v":""},{"$f":"IFERROR(IF($L$6=\"\",\"\",VLOOKUP($L$6&\"_\"&$B96,data_entry,COLUMNS($B$11:AN95),0)),\"\")","v":""},{"$f":"IFERROR(IF($L$6=\"\",\"\",VLOOKUP($L$6&\"_\"&$B96,data_entry,COLUMNS($B$11:AO95),0)),\"\")","v":""},{"$f":"IFERROR(IF($L$6=\"\",\"\",VLOOKUP($L$6&\"_\"&$B96,data_entry,COLUMNS($B$11:AP95),0)),\"\")","v":""},{"$f":"IFERROR(IF($L$6=\"\",\"\",VLOOKUP($L$6&\"_\"&$B96,data_entry,COLUMNS($B$11:AQ95),0)),\"\")","v":""}]
[0,86,{"$f":"IF(D97=\"\",\"\",ROWS($D$12:D97))","v":""},{"$f":"IFERROR(IF(OR($L$6=\"\",'DATA ENTRY'!C92=\"\"),\"\",VLOOKUP($L$6&\"_\"&$B97,data_entry,COLUMNS($B$11:D96),0)),\"\")","v":""},{"$f":"IFERROR(IF($L$6=\"\",\"\",VLOOKUP($L$6&\"_\"&$B97,data_entry,COLUMNS($B$11:E96),0)),\"\")","v":""},{"$f":"IFERROR(IF($L$6=\"\",\"\",VLOOKUP($L$6&\"_\"&$B97,data_entry,COLUMNS($B$11:F96),0)),\"\")","v":""},{"$f":"IFERROR(IF($L$6=\"\",\"\",VLOOKUP($L$6&\"_\"&$B97,data_entry,COLUMNS($B$11:G96),0)),\"\")","v":""},{"$f":"IFERROR(IF($L$6=\"\",\"\",VLOOKUP($L$6&\"_\"&$B97,data_entry,COLUMNS($B$11:H96),0)),\"\")","v":""},{"$f":"IFERROR(IF($L$6=\"\",\"\",VLOOKUP($L$6&\"_\"&$B97,data_entry,COLUMNS($B$11:I96),0)),\"\")","v":""},{"$f":"IFERROR(IF($L$6=\"\",\"\",VLOOKUP($L$6&\"_\"&$B97,data_entry,COLUMNS($B$11:J96),0)),\"\")","v":""},{"$f":"IFERROR(IF($L$6=\"\",\"\",VLOOKUP($L$6&\"_\"&$B97,data_entry,COLUMNS($B$11:K96),0)),\"\")","v":""},{"$f":"IFERROR(IF($L$6=\"\",\"\",VLOOKUP($L$6&\"_\"&$B97,data_entry,COLUMNS($B$11:L96),0)),\"\")","v":""},{"$f":"IFERROR(IF($L$6=\"\",\"\",VLOOKUP($L$6&\"_\"&$B97,data_entry,COLUMNS($B$11:M96),0)),\"\")","v":""},{"$f":"IFERROR(IF($L$6=\"\",\"\",VLOOKUP($L$6&\"_\"&$B97,data_entry,COLUMNS($B$11:N96),0)),\"\")","v":""},{"$f":"IFERROR(IF($L$6=\"\",\"\",VLOOKUP($L$6&\"_\"&$B97,data_entry,COLUMNS($B$11:O96),0)),\"\")","v":""},{"$f":"IFERROR(IF($L$6=\"\",\"\",VLOOKUP($L$6&\"_\"&$B97,data_entry,COLUMNS($B$11:P96),0)),\"\")","v":""},{"$f":"IFERROR(IF($L$6=\"\",\"\",VLOOKUP($L$6&\"_\"&$B97,data_entry,COLUMNS($B$11:Q96),0)),\"\")","v":""},{"$f":"IFERROR(IF($L$6=\"\",\"\",VLOOKUP($L$6&\"_\"&$B97,data_entry,COLUMNS($B$11:R96),0)),\"\")","v":""},{"$f":"IFERROR(IF($L$6=\"\",\"\",VLOOKUP($L$6&\"_\"&$B97,data_entry,COLUMNS($B$11:S96),0)),\"\")","v":""},{"$f":"IFERROR(IF($L$6=\"\",\"\",VLOOKUP($L$6&\"_\"&$B97,data_entry,COLUMNS($B$11:T96),0)),\"\")","v":""},{"$f":"IFERROR(IF($L$6=\"\",\"\",VLOOKUP($L$6&\"_\"&$B97,data_entry,COLUMNS($B$11:U96),0)),\"\")","v":""},{"$f":"IFERROR(IF($L$6=\"\",\"\",VLOOKUP($L$6&\"_\"&$B97,data_entry,COLUMNS($B$11:V96),0)),\"\")","v":""},{"$f":"IFERROR(IF($L$6=\"\",\"\",VLOOKUP($L$6&\"_\"&$B97,data_entry,COLUMNS($B$11:W96),0)),\"\")","v":""},{"$f":"IFERROR(IF($L$6=\"\",\"\",VLOOKUP($L$6&\"_\"&$B97,data_entry,COLUMNS($B$11:X96),0)),\"\")","v":""},{"$f":"IFERROR(IF($L$6=\"\",\"\",VLOOKUP($L$6&\"_\"&$B97,data_entry,COLUMNS($B$11:Y96),0)),\"\")","v":""},{"$f":"IFERROR(IF($L$6=\"\",\"\",VLOOKUP($L$6&\"_\"&$B97,data_entry,COLUMNS($B$11:Z96),0)),\"\")","v":""},{"$f":"IFERROR(IF($L$6=\"\",\"\",VLOOKUP($L$6&\"_\"&$B97,data_entry,COLUMNS($B$11:AA96),0)),\"\")","v":""},{"$f":"IFERROR(IF($L$6=\"\",\"\",VLOOKUP($L$6&\"_\"&$B97,data_entry,COLUMNS($B$11:AB96),0)),\"\")","v":""},{"$f":"IFERROR(IF($L$6=\"\",\"\",VLOOKUP($L$6&\"_\"&$B97,data_entry,COLUMNS($B$11:AC96),0)),\"\")","v":""},{"$f":"IFERROR(IF($L$6=\"\",\"\",VLOOKUP($L$6&\"_\"&$B97,data_entry,COLUMNS($B$11:AD96),0)),\"\")","v":""},{"$nulls":5},{"$f":"IFERROR(IF($L$6=\"\",\"\",VLOOKUP($L$6&\"_\"&$B97,data_entry,COLUMNS($B$11:AJ96),0)),\"\")","v":""},{"$f":"IFERROR(IF($L$6=\"\",\"\",VLOOKUP($L$6&\"_\"&$B97,data_entry,COLUMNS($B$11:AK96),0)),\"\")","v":""},{"$f":"IFERROR(IF($L$6=\"\",\"\",VLOOKUP($L$6&\"_\"&$B97,data_entry,COLUMNS($B$11:AL96),0)),\"\")","v":""},{"$f":"IFERROR(IF($L$6=\"\",\"\",VLOOKUP($L$6&\"_\"&$B97,data_entry,COLUMNS($B$11:AM96),0)),\"\")","v":""},{"$f":"IFERROR(IF($L$6=\"\",\"\",VLOOKUP($L$6&\"_\"&$B97,data_entry,COLUMNS($B$11:AN96),0)),\"\")","v":""},{"$f":"IFERROR(IF($L$6=\"\",\"\",VLOOKUP($L$6&\"_\"&$B97,data_entry,COLUMNS($B$11:AO96),0)),\"\")","v":""},{"$f":"IFERROR(IF($L$6=\"\",\"\",VLOOKUP($L$6&\"_\"&$B97,data_entry,COLUMNS($B$11:AP96),0)),\"\")","v":""},{"$f":"IFERROR(IF($L$6=\"\",\"\",VLOOKUP($L$6&\"_\"&$B97,data_entry,COLUMNS($B$11:AQ96),0)),\"\")","v":""}]
[0,87,{"$f":"IF(D98=\"\",\"\",ROWS($D$12:D98))","v":""},{"$f":"IFERROR(IF(OR($L$6=\"\",'DATA ENTRY'!C93=\"\"),\"\",VLOOKUP($L$6&\"_\"&$B98,data_entry,COLUMNS($B$11:D97),0)),\"\")","v":""},{"$f":"IFERROR(IF($L$6=\"\",\"\",VLOOKUP($L$6&\"_\"&$B98,data_entry,COLUMNS($B$11:E97),0)),\"\")","v":""},{"$f":"IFERROR(IF($L$6=\"\",\"\",VLOOKUP($L$6&\"_\"&$B98,data_entry,COLUMNS($B$11:F97),0)),\"\")","v":""},{"$f":"IFERROR(IF($L$6=\"\",\"\",VLOOKUP($L$6&\"_\"&$B98,data_entry,COLUMNS($B$11:G97),0)),\"\")","v":""},{"$f":"IFERROR(IF($L$6=\"\",\"\",VLOOKUP($L$6&\"_\"&$B98,data_entry,COLUMNS($B$11:H97),0)),\"\")","v":""},{"$f":"IFERROR(IF($L$6=\"\",\"\",VLOOKUP($L$6&\"_\"&$B98,data_entry,COLUMNS($B$11:I97),0)),\"\")","v":""},{"$f":"IFERROR(IF($L$6=\"\",\"\",VLOOKUP($L$6&\"_\"&$B98,data_entry,COLUMNS($B$11:J97),0)),\"\")","v":""},{"$f":"IFERROR(IF($L$6=\"\",\"\",VLOOKUP($L$6&\"_\"&$B98,data_entry,COLUMNS($B$11:K97),0)),\"\")","v":""},{"$f":"IFERROR(IF($L$6=\"\",\"\",VLOOKUP($L$6&\"_\"&$B98,data_entry,COLUMNS($B$11:L97),0)),\"\")","v":""},{"$f":"IFERROR(IF($L$6=\"\",\"\",VLOOKUP($L$6&\"_\"&$B98,data_entry,COLUMNS($B$11:M97),0)),\"\")","v":""},{"$f":"IFERROR(IF($L$6=\"\",\"\",VLOOKUP($L$6&\"_\"&$B98,data_entry,COLUMNS($B$11:N97),0)),\"\")","v":""},{"$f":"IFERROR(IF($L$6=\"\",\"\",VLOOKUP($L$6&\"_\"&$B98,data_entry,COLUMNS($B$11:O97),0)),\"\")","v":""},{"$f":"IFERROR(IF($L$6=\"\",\"\",VLOOKUP($L$6&\"_\"&$B98,data_entry,COLUMNS($B$11:P97),0)),\"\")","v":""},{"$f":"IFERROR(IF($L$6=\"\",\"\",VLOOKUP($L$6&\"_\"&$B98,data_entry,COLUMNS($B$11:Q97),0)),\"\")","v":""},{"$f":"IFERROR(IF($L$6=\"\",\"\",VLOOKUP($L$6&\"_\"&$B98,data_entry,COLUMNS($B$11:R97),0)),\"\")","v":""},{"$f":"IFERROR(IF($L$6=\"\",\"\",VLOOKUP($L$6&\"_\"&$B98,data_entry,COLUMNS($B$11:S97),0)),\"\")","v":""},{"$f":"IFERROR(IF($L$6=\"\",\"\",VLOOKUP($L$6&\"_\"&$B98,data_entry,COLUMNS($B$11:T97),0)),\"\")","v":""},{"$f":"IFERROR(IF($L$6=\"\",\"\",VLOOKUP($L$6&\"_\"&$B98,data_entry,COLUMNS($B$11:U97),0)),\"\")","v":""},{"$f":"IFERROR(IF($L$6=\"\",\"\",VLOOKUP($L$6&\"_\"&$B98,data_entry,COLUMNS($B$11:V97),0)),\"\")","v":""},{"$f":"IFERROR(IF($L$6=\"\",\"\",VLOOKUP($L$6&\"_\"&$B98,data_entry,COLUMNS($B$11:W97),0)),\"\")","v":""},{"$f":"IFERROR(IF($L$6=\"\",\"\",VLOOKUP($L$6&\"_\"&$B98,data_entry,COLUMNS($B$11:X97),0)),\"\")","v":""},{"$f":"IFERROR(IF($L$6=\"\",\"\",VLOOKUP($L$6&\"_\"&$B98,data_entry,COLUMNS($B$11:Y97),0)),\"\")","v":""},{"$f":"IFERROR(IF($L$6=\"\",\"\",VLOOKUP($L$6&\"_\"&$B98,data_entry,COLUMNS($B$11:Z97),0)),\"\")","v":""},{"$f":"IFERROR(IF($L$6=\"\",\"\",VLOOKUP($L$6&\"_\"&$B98,data_entry,COLUMNS($B$11:AA97),0)),\"\")","v":""},{"$f":"IFERROR(IF($L$6=\"\",\"\",VLOOKUP($L$6&\"_\"&$B98,data_entry,COLUMNS($B$11:AB97),0)),\"\")","v":""},{"$f":"IFERROR(IF($L$6=\"\",\"\",VLOOKUP($L$6&\"_\"&$B98,data_entry,COLUMNS($B$11:AC97),0)),\"\")","v":""},{"$f":"IFERROR(IF($L$6=\"\",\"\",VLOOKUP($L$6&\"_\"&$B98,data_entry,COLUMNS($B$11:AD97),0)),\"\")","v":""},{"$nulls":5},{"$f":"IFERROR(IF($L$6=\"\",\"\",VLOOKUP($L$6&\"_\"&$B98,data_entry,COLUMNS($B$11:AJ97),0)),\"\")","v":""},{"$f":"IFERROR(IF($L$6=\"\",\"\",VLOOKUP($L$6&\"_\"&$B98,data_entry,COLUMNS($B$11:AK97),0)),\"\")","v":""},{"$f":"IFERROR(IF($L$6=\"\",\"\",VLOOKUP($L$6&\"_\"&$B98,data_entry,COLUMNS($B$11:AL97),0)),\"\")","v":""},{"$f":"IFERROR(IF($L$6=\"\",\"\",VLOOKUP($L$6&\"_\"&$B98,data_entry,COLUMNS($B$11:AM97),0)),\"\")","v":""},{"$f":"IFERROR(IF($L$6=\"\",\"\",VLOOKUP($L$6&\"_\"&$B98,data_entry,COLUMNS($B$11:AN97),0)),\"\")","v":""},{"$f":"IFERROR(IF($L$6=\"\",\"\",VLOOKUP($L$6&\"_\"&$B98,data_entry,COLUMNS($B$11:AO97),0)),\"\")","v":""},{"$f":"IFERROR(IF($L$6=\"\",\"\",VLOOKUP($L$6&\"_\"&$B98,data_entry,COLUMNS($B$11:AP97),0)),\"\")","v":""},{"$f":"IFERROR(IF($L$6=\"\",\"\",VLOOKUP($L$6&\"_\"&$B98,data_entry,COLUMNS($B$11:AQ97),0)),\"\")","v":""}]
[0,88,{"$f":"IF(D99=\"\",\"\",ROWS($D$12:D99))","v":""},{"$f":"IFERROR(IF(OR($L$6=\"\",'DATA ENTRY'!C94=\"\"),\"\",VLOOKUP($L$6&\"_\"&$B99,data_entry,COLUMNS($B$11:D98),0)),\"\")","v":""},{"$f":"IFERROR(IF($L$6=\"\",\"\",VLOOKUP($L$6&\"_\"&$B99,data_entry,COLUMNS($B$11:E98),0)),\"\")","v":""},{"$f":"IFERROR(IF($L$6=\"\",\"\",VLOOKUP($L$6&\"_\"&$B99,data_entry,COLUMNS($B$11:F98),0)),\"\")","v":""},{"$f":"IFERROR(IF($L$6=\"\",\"\",VLOOKUP($L$6&\"_\"&$B99,data_entry,COLUMNS($B$11:G98),0)),\"\")","v":""},{"$f":"IFERROR(IF($L$6=\"\",\"\",VLOOKUP($L$6&\"_\"&$B99,data_entry,COLUMNS($B$11:H98),0)),\"\")","v":""},{"$f":"IFERROR(IF($L$6=\"\",\"\",VLOOKUP($L$6&\"_\"&$B99,data_entry,COLUMNS($B$11:I98),0)),\"\")","v":""},{"$f":"IFERROR(IF($L$6=\"\",\"\",VLOOKUP($L$6&\"_\"&$B99,data_entry,COLUMNS($B$11:J98),0)),\"\")","v":""},{"$f":"IFERROR(IF($L$6=\"\",\"\",VLOOKUP($L$6&\"_\"&$B99,data_entry,COLUMNS($B$11:K98),0)),\"\")","v":""},{"$f":"IFERROR(IF($L$6=\"\",\"\",VLOOKUP($L$6&\"_\"&$B99,data_entry,COLUMNS($B$11:L98),0)),\"\")","v":""},{"$f":"IFERROR(IF($L$6=\"\",\"\",VLOOKUP($L$6&\"_\"&$B99,data_entry,COLUMNS($B$11:M98),0)),\"\")","v":""},{"$f":"IFERROR(IF($L$6=\"\",\"\",VLOOKUP($L$6&\"_\"&$B99,data_entry,COLUMNS($B$11:N98),0)),\"\")","v":""},{"$f":"IFERROR(IF($L$6=\"\",\"\",VLOOKUP($L$6&\"_\"&$B99,data_entry,COLUMNS($B$11:O98),0)),\"\")","v":""},{"$f":"IFERROR(IF($L$6=\"\",\"\",VLOOKUP($L$6&\"_\"&$B99,data_entry,COLUMNS($B$11:P98),0)),\"\")","v":""},{"$f":"IFERROR(IF($L$6=\"\",\"\",VLOOKUP($L$6&\"_\"&$B99,data_entry,COLUMNS($B$11:Q98),0)),\"\")","v":""},{"$f":"IFERROR(IF($L$6=\"\",\"\",VLOOKUP($L$6&\"_\"&$B99,data_entry,COLUMNS($B$11:R98),0)),\"\")","v":""},{"$f":"IFERROR(IF($L$6=\"\",\"\",VLOOKUP($L$6&\"_\"&$B99,data_entry,COLUMNS($B$11:S98),0)),\"\")","v":""},{"$f":"IFERROR(IF($L$6=\"\",\"\",VLOOKUP($L$6&\"_\"&$B99,data_entry,COLUMNS($B$11:T98),0)),\"\")","v":""},{"$f":"IFERROR(IF($L$6=\"\",\"\",VLOOKUP($L$6&\"_\"&$B99,data_entry,COLUMNS($B$11:U98),0)),\"\")","v":""},{"$f":"IFERROR(IF($L$6=\"\",\"\",VLOOKUP($L$6&\"_\"&$B99,data_entry,COLUMNS($B$11:V98),0)),\"\")","v":""},{"$f":"IFERROR(IF($L$6=\"\",\"\",VLOOKUP($L$6&\"_\"&$B99,data_entry,COLUMNS($B$11:W98),0)),\"\")","v":""},{"$f":"IFERROR(IF($L$6=\"\",\"\",VLOOKUP($L$6&\"_\"&$B99,data_entry,COLUMNS($B$11:X98),0)),\"\")","v":""},{"$f":"IFERROR(IF($L$6=\"\",\"\",VLOOKUP($L$6&\"_\"&$B99,data_entry,COLUMNS($B$11:Y98),0)),\"\")","v":""},{"$f":"IFERROR(IF($L$6=\"\",\"\",VLOOKUP($L$6&\"_\"&$B99,data_entry,COLUMNS($B$11:Z98),0)),\"\")","v":""},{"$f":"IFERROR(IF($L$6=\"\",\"\",VLOOKUP($L$6&\"_\"&$B99,data_entry,COLUMNS($B$11:AA98),0)),\"\")","v":""},{"$f":"IFERROR(IF($L$6=\"\",\"\",VLOOKUP($L$6&\"_\"&$B99,data_entry,COLUMNS($B$11:AB98),0)),\"\")","v":""},{"$f":"IFERROR(IF($L$6=\"\",\"\",VLOOKUP($L$6&\"_\"&$B99,data_entry,COLUMNS($B$11:AC98),0)),\"\")","v":""},{"$f":"IFERROR(IF($L$6=\"\",\"\",VLOOKUP($L$6&\"_\"&$B99,data_entry,COLUMNS($B$11:AD98),0)),\"\")","v":""},{"$nulls":5},{"$f":"IFERROR(IF($L$6=\"\",\"\",VLOOKUP($L$6&\"_\"&$B99,data_entry,COLUMNS($B$11:AJ98),0)),\"\")","v":""},{"$f":"IFERROR(IF($L$6=\"\",\"\",VLOOKUP($L$6&\"_\"&$B99,data_entry,COLUMNS($B$11:AK98),0)),\"\")","v":""},{"$f":"IFERROR(IF($L$6=\"\",\"\",VLOOKUP($L$6&\"_\"&$B99,data_entry,COLUMNS($B$11:AL98),0)),\"\")","v":""},{"$f":"IFERROR(IF($L$6=\"\",\"\",VLOOKUP($L$6&\"_\"&$B99,data_entry,COLUMNS($B$11:AM98),0)),\"\")","v":""},{"$f":"IFERROR(IF($L$6=\"\",\"\",VLOOKUP($L$6&\"_\"&$B99,data_entry,COLUMNS($B$11:AN98),0)),\"\")","v":""},{"$f":"IFERROR(IF($L$6=\"\",\"\",VLOOKUP($L$6&\"_\"&$B99,data_entry,COLUMNS($B$11:AO98),0)),\"\")","v":""},{"$f":"IFERROR(IF($L$6=\"\",\"\",VLOOKUP($L$6&\"_\"&$B99,data_entry,COLUMNS($B$11:AP98),0)),\"\")","v":""},{"$f":"IFERROR(IF($L$6=\"\",\"\",VLOOKUP($L$6&\"_\"&$B99,data_entry,COLUMNS($B$11:AQ98),0)),\"\")","v":""}]
[0,89,{"$f":"IF(D100=\"\",\"\",ROWS($D$12:D100))","v":""},{"$f":"IFERROR(IF(OR($L$6=\"\",'DATA ENTRY'!C95=\"\"),\"\",VLOOKUP($L$6&\"_\"&$B100,data_entry,COLUMNS($B$11:D99),0)),\"\")","v":""},{"$f":"IFERROR(IF($L$6=\"\",\"\",VLOOKUP($L$6&\"_\"&$B100,data_entry,COLUMNS($B$11:E99),0)),\"\")","v":""},{"$f":"IFERROR(IF($L$6=\"\",\"\",VLOOKUP($L$6&\"_\"&$B100,data_entry,COLUMNS($B$11:F99),0)),\"\")","v":""},{"$f":"IFERROR(IF($L$6=\"\",\"\",VLOOKUP($L$6&\"_\"&$B100,data_entry,COLUMNS($B$11:G99),0)),\"\")","v":""},{"$f":"IFERROR(IF($L$6=\"\",\"\",VLOOKUP($L$6&\"_\"&$B100,data_entry,COLUMNS($B$11:H99),0)),\"\")","v":""},{"$f":"IFERROR(IF($L$6=\"\",\"\",VLOOKUP($L$6&\"_\"&$B100,data_entry,COLUMNS($B$11:I99),0)),\"\")","v":""},{"$f":"IFERROR(IF($L$6=\"\",\"\",VLOOKUP($L$6&\"_\"&$B100,data_entry,COLUMNS($B$11:J99),0)),\"\")","v":""},{"$f":"IFERROR(IF($L$6=\"\",\"\",VLOOKUP($L$6&\"_\"&$B100,data_entry,COLUMNS($B$11:K99),0)),\"\")","v":""},{"$f":"IFERROR(IF($L$6=\"\",\"\",VLOOKUP($L$6&\"_\"&$B100,data_entry,COLUMNS($B$11:L99),0)),\"\")","v":""},{"$f":"IFERROR(IF($L$6=\"\",\"\",VLOOKUP($L$6&\"_\"&$B100,data_entry,COLUMNS($B$11:M99),0)),\"\")","v":""},{"$f":"IFERROR(IF($L$6=\"\",\"\",VLOOKUP($L$6&\"_\"&$B100,data_entry,COLUMNS($B$11:N99),0)),\"\")","v":""},{"$f":"IFERROR(IF($L$6=\"\",\"\",VLOOKUP($L$6&\"_\"&$B100,data_entry,COLUMNS($B$11:O99),0)),\"\")","v":""},{"$f":"IFERROR(IF($L$6=\"\",\"\",VLOOKUP($L$6&\"_\"&$B100,data_entry,COLUMNS($B$11:P99),0)),\"\")","v":""},{"$f":"IFERROR(IF($L$6=\"\",\"\",VLOOKUP($L$6&\"_\"&$B100,data_entry,COLUMNS($B$11:Q99),0)),\"\")","v":""},{"$f":"IFERROR(IF($L$6=\"\",\"\",VLOOKUP($L$6&\"_\"&$B100,data_entry,COLUMNS($B$11:R99),0)),\"\")","v":""},{"$f":"IFERROR(IF($L$6=\"\",\"\",VLOOKUP($L$6&\"_\"&$B100,data_entry,COLUMNS($B$11:S99),0)),\"\")","v":""},{"$f":"IFERROR(IF($L$6=\"\",\"\",VLOOKUP($L$6&\"_\"&$B100,data_entry,COLUMNS($B$11:T99),0)),\"\")","v":""},{"$f":"IFERROR(IF($L$6=\"\",\"\",VLOOKUP($L$6&\"_\"&$B100,data_entry,COLUMNS($B$11:U99),0)),\"\")","v":""},{"$f":"IFERROR(IF($L$6=\"\",\"\",VLOOKUP($L$6&\"_\"&$B100,data_entry,COLUMNS($B$11:V99),0)),\"\")","v":""},{"$f":"IFERROR(IF($L$6=\"\",\"\",VLOOKUP($L$6&\"_\"&$B100,data_entry,COLUMNS($B$11:W99),0)),\"\")","v":""},{"$f":"IFERROR(IF($L$6=\"\",\"\",VLOOKUP($L$6&\"_\"&$B100,data_entry,COLUMNS($B$11:X99),0)),\"\")","v":""},{"$f":"IFERROR(IF($L$6=\"\",\"\",VLOOKUP($L$6&\"_\"&$B100,data_entry,COLUMNS($B$11:Y99),0)),\"\")","v":""},{"$f":"IFERROR(IF($L$6=\"\",\"\",VLOOKUP($L$6&\"_\"&$B100,data_entry,COLUMNS($B$11:Z99),0)),\"\")","v":""},{"$f":"IFERROR(IF($L$6=\"\",\"\",VLOOKUP($L$6&\"_\"&$B100,data_entry,COLUMNS($B$11:AA99),0)),\"\")","v":""},{"$f":"IFERROR(IF($L$6=\"\",\"\",VLOOKUP($L$6&\"_\"&$B100,data_entry,COLUMNS($B$11:AB99),0)),\"\")","v":""},{"$f":"IFERROR(IF($L$6=\"\",\"\",VLOOKUP($L$6&\"_\"&$B100,data_entry,COLUMNS($B$11:AC99),0)),\"\")","v":""},{"$f":"IFERROR(IF($L$6=\"\",\"\",VLOOKUP($L$6&\"_\"&$B100,data_entry,COLUMNS($B$11:AD99),0)),\"\")","v":""},{"$nulls":5},{"$f":"IFERROR(IF($L$6=\"\",\"\",VLOOKUP($L$6&\"_\"&$B100,data_entry,COLUMNS($B$11:AJ99),0)),\"\")","v":""},{"$f":"IFERROR(IF($L$6=\"\",\"\",VLOOKUP($L$6&\"_\"&$B100,data_entry,COLUMNS($B$11:AK99),0)),\"\")","v":""},{"$f":"IFERROR(IF($L$6=\"\",\"\",VLOOKUP($L$6&\"_\"&$B100,data_entry,COLUMNS($B$11:AL99),0)),\"\")","v":""},{"$f":"IFERROR(IF($L$6=\"\",\"\",VLOOKUP($L$6&\"_\"&$B100,data_entry,COLUMNS($B$11:AM99),0)),\"\")","v":""},{"$f":"IFERROR(IF($L$6=\"\",\"\",VLOOKUP($L$6&\"_\"&$B100,data_entry,COLUMNS($B$11:AN99),0)),\"\")","v":""},{"$f":"IFERROR(IF($L$6=\"\",\"\",VLOOKUP($L$6&\"_\"&$B100,data_entry,COLUMNS($B$11:AO99),0)),\"\")","v":""},{"$f":"IFERROR(IF($L$6=\"\",\"\",VLOOKUP($L$6&\"_\"&$B100,data_entry,COLUMNS($B$11:AP99),0)),\"\")","v":""},{"$f":"IFERROR(IF($L$6=\"\",\"\",VLOOKUP($L$6&\"_\"&$B100,data_entry,COLUMNS($B$11:AQ99),0)),\"\")","v":""}]
[0,90,{"$f":"IF(D101=\"\",\"\",ROWS($D$12:D101))","v":""},{"$f":"IFERROR(IF(OR($L$6=\"\",'DATA ENTRY'!C96=\"\"),\"\",VLOOKUP($L$6&\"_\"&$B101,data_entry,COLUMNS($B$11:D100),0)),\"\")","v":""},{"$f":"IFERROR(IF($L$6=\"\",\"\",VLOOKUP($L$6&\"_\"&$B101,data_entry,COLUMNS($B$11:E100),0)),\"\")","v":""},{"$f":"IFERROR(IF($L$6=\"\",\"\",VLOOKUP($L$6&\"_\"&$B101,data_entry,COLUMNS($B$11:F100),0)),\"\")","v":""},{"$f":"IFERROR(IF($L$6=\"\",\"\",VLOOKUP($L$6&\"_\"&$B101,data_entry,COLUMNS($B$11:G100),0)),\"\")","v":""},{"$f":"IFERROR(IF($L$6=\"\",\"\",VLOOKUP($L$6&\"_\"&$B101,data_entry,COLUMNS($B$11:H100),0)),\"\")","v":""},{"$f":"IFERROR(IF($L$6=\"\",\"\",VLOOKUP($L$6&\"_\"&$B101,data_entry,COLUMNS($B$11:I100),0)),\"\")","v":""},{"$f":"IFERROR(IF($L$6=\"\",\"\",VLOOKUP($L$6&\"_\"&$B101,data_entry,COLUMNS($B$11:J100),0)),\"\")","v":""},{"$f":"IFERROR(IF($L$6=\"\",\"\",VLOOKUP($L$6&\"_\"&$B101,data_entry,COLUMNS($B$11:K100),0)),\"\")","v":""},{"$f":"IFERROR(IF($L$6=\"\",\"\",VLOOKUP($L$6&\"_\"&$B101,data_entry,COLUMNS($B$11:L100),0)),\"\")","v":""},{"$f":"IFERROR(IF($L$6=\"\",\"\",VLOOKUP($L$6&\"_\"&$B101,data_entry,COLUMNS($B$11:M100),0)),\"\")","v":""},{"$f":"IFERROR(IF($L$6=\"\",\"\",VLOOKUP($L$6&\"_\"&$B101,data_entry,COLUMNS($B$11:N100),0)),\"\")","v":""},{"$f":"IFERROR(IF($L$6=\"\",\"\",VLOOKUP($L$6&\"_\"&$B101,data_entry,COLUMNS($B$11:O100),0)),\"\")","v":""},{"$f":"IFERROR(IF($L$6=\"\",\"\",VLOOKUP($L$6&\"_\"&$B101,data_entry,COLUMNS($B$11:P100),0)),\"\")","v":""},{"$f":"IFERROR(IF($L$6=\"\",\"\",VLOOKUP($L$6&\"_\"&$B101,data_entry,COLUMNS($B$11:Q100),0)),\"\")","v":""},{"$f":"IFERROR(IF($L$6=\"\",\"\",VLOOKUP($L$6&\"_\"&$B101,data_entry,COLUMNS($B$11:R100),0)),\"\")","v":""},{"$f":"IFERROR(IF($L$6=\"\",\"\",VLOOKUP($L$6&\"_\"&$B101,data_entry,COLUMNS($B$11:S100),0)),\"\")","v":""},{"$f":"IFERROR(IF($L$6=\"\",\"\",VLOOKUP($L$6&\"_\"&$B101,data_entry,COLUMNS($B$11:T100),0)),\"\")","v":""},{"$f":"IFERROR(IF($L$6=\"\",\"\",VLOOKUP($L$6&\"_\"&$B101,data_entry,COLUMNS($B$11:U100),0)),\"\")","v":""},{"$f":"IFERROR(IF($L$6=\"\",\"\",VLOOKUP($L$6&\"_\"&$B101,data_entry,COLUMNS($B$11:V100),0)),\"\")","v":""},{"$f":"IFERROR(IF($L$6=\"\",\"\",VLOOKUP($L$6&\"_\"&$B101,data_entry,COLUMNS($B$11:W100),0)),\"\")","v":""},{"$f":"IFERROR(IF($L$6=\"\",\"\",VLOOKUP($L$6&\"_\"&$B101,data_entry,COLUMNS($B$11:X100),0)),\"\")","v":""},{"$f":"IFERROR(IF($L$6=\"\",\"\",VLOOKUP($L$6&\"_\"&$B101,data_entry,COLUMNS($B$11:Y100),0)),\"\")","v":""},{"$f":"IFERROR(IF($L$6=\"\",\"\",VLOOKUP($L$6&\"_\"&$B101,data_entry,COLUMNS($B$11:Z100),0)),\"\")","v":""},{"$f":"IFERROR(IF($L$6=\"\",\"\",VLOOKUP($L$6&\"_\"&$B101,data_entry,COLUMNS($B$11:AA100),0)),\"\")","v":""},{"$f":"IFERROR(IF($L$6=\"\",\"\",VLOOKUP($L$6&\"_\"&$B101,data_entry,COLUMNS($B$11:AB100),0)),\"\")","v":""},{"$f":"IFERROR(IF($L$6=\"\",\"\",VLOOKUP($L$6&\"_\"&$B101,data_entry,COLUMNS($B$11:AC100),0)),\"\")","v":""},{"$f":"IFERROR(IF($L$6=\"\",\"\",VLOOKUP($L$6&\"_\"&$B101,data_entry,COLUMNS($B$11:AD100),0)),\"\")","v":""},{"$nulls":5},{"$f":"IFERROR(IF($L$6=\"\",\"\",VLOOKUP($L$6&\"_\"&$B101,data_entry,COLUMNS($B$11:AJ100),0)),\"\")","v":""},{"$f":"IFERROR(IF($L$6=\"\",\"\",VLOOKUP($L$6&\"_\"&$B101,data_entry,COLUMNS($B$11:AK100),0)),\"\")","v":""},{"$f":"IFERROR(IF($L$6=\"\",\"\",VLOOKUP($L$6&\"_\"&$B101,data_entry,COLUMNS($B$11:AL100),0)),\"\")","v":""},{"$f":"IFERROR(IF($L$6=\"\",\"\",VLOOKUP($L$6&\"_\"&$B101,data_entry,COLUMNS($B$11:AM100),0)),\"\")","v":""},{"$f":"IFERROR(IF($L$6=\"\",\"\",VLOOKUP($L$6&\"_\"&$B101,data_entry,COLUMNS($B$11:AN100),0)),\"\")","v":""},{"$f":"IFERROR(IF($L$6=\"\",\"\",VLOOKUP($L$6&\"_\"&$B101,data_entry,COLUMNS($B$11:AO100),0)),\"\")","v":""},{"$f":"IFERROR(IF($L$6=\"\",\"\",VLOOKUP($L$6&\"_\"&$B101,data_entry,COLUMNS($B$11:AP100),0)),\"\")","v":""},{"$f":"IFERROR(IF($L$6=\"\",\"\",VLOOKUP($L$6&\"_\"&$B101,data_entry,COLUMNS($B$11:AQ100),0)),\"\")","v":""}]
[0,91,{"$f":"IF(D102=\"\",\"\",ROWS($D$12:D102))","v":""},{"$f":"IFERROR(IF(OR($L$6=\"\",'DATA ENTRY'!C97=\"\"),\"\",VLOOKUP($L$6&\"_\"&$B102,data_entry,COLUMNS($B$11:D101),0)),\"\")","v":""},{"$f":"IFERROR(IF($L$6=\"\",\"\",VLOOKUP($L$6&\"_\"&$B102,data_entry,COLUMNS($B$11:E101),0)),\"\")","v":""},{"$f":"IFERROR(IF($L$6=\"\",\"\",VLOOKUP($L$6&\"_\"&$B102,data_entry,COLUMNS($B$11:F101),0)),\"\")","v":""},{"$f":"IFERROR(IF($L$6=\"\",\"\",VLOOKUP($L$6&\"_\"&$B102,data_entry,COLUMNS($B$11:G101),0)),\"\")","v":""},{"$f":"IFERROR(IF($L$6=\"\",\"\",VLOOKUP($L$6&\"_\"&$B102,data_entry,COLUMNS($B$11:H101),0)),\"\")","v":""},{"$f":"IFERROR(IF($L$6=\"\",\"\",VLOOKUP($L$6&\"_\"&$B102,data_entry,COLUMNS($B$11:I101),0)),\"\")","v":""},{"$f":"IFERROR(IF($L$6=\"\",\"\",VLOOKUP($L$6&\"_\"&$B102,data_entry,COLUMNS($B$11:J101),0)),\"\")","v":""},{"$f":"IFERROR(IF($L$6=\"\",\"\",VLOOKUP($L$6&\"_\"&$B102,data_entry,COLUMNS($B$11:K101),0)),\"\")","v":""},{"$f":"IFERROR(IF($L$6=\"\",\"\",VLOOKUP($L$6&\"_\"&$B102,data_entry,COLUMNS($B$11:L101),0)),\"\")","v":""},{"$f":"IFERROR(IF($L$6=\"\",\"\",VLOOKUP($L$6&\"_\"&$B102,data_entry,COLUMNS($B$11:M101),0)),\"\")","v":""},{"$f":"IFERROR(IF($L$6=\"\",\"\",VLOOKUP($L$6&\"_\"&$B102,data_entry,COLUMNS($B$11:N101),0)),\"\")","v":""},{"$f":"IFERROR(IF($L$6=\"\",\"\",VLOOKUP($L$6&\"_\"&$B102,data_entry,COLUMNS($B$11:O101),0)),\"\")","v":""},{"$f":"IFERROR(IF($L$6=\"\",\"\",VLOOKUP($L$6&\"_\"&$B102,data_entry,COLUMNS($B$11:P101),0)),\"\")","v":""},{"$f":"IFERROR(IF($L$6=\"\",\"\",VLOOKUP($L$6&\"_\"&$B102,data_entry,COLUMNS($B$11:Q101),0)),\"\")","v":""},{"$f":"IFERROR(IF($L$6=\"\",\"\",VLOOKUP($L$6&\"_\"&$B102,data_entry,COLUMNS($B$11:R101),0)),\"\")","v":""},{"$f":"IFERROR(IF($L$6=\"\",\"\",VLOOKUP($L$6&\"_\"&$B102,data_entry,COLUMNS($B$11:S101),0)),\"\")","v":""},{"$f":"IFERROR(IF($L$6=\"\",\"\",VLOOKUP($L$6&\"_\"&$B102,data_entry,COLUMNS($B$11:T101),0)),\"\")","v":""},{"$f":"IFERROR(IF($L$6=\"\",\"\",VLOOKUP($L$6&\"_\"&$B102,data_entry,COLUMNS($B$11:U101),0)),\"\")","v":""},{"$f":"IFERROR(IF($L$6=\"\",\"\",VLOOKUP($L$6&\"_\"&$B102,data_entry,COLUMNS($B$11:V101),0)),\"\")","v":""},{"$f":"IFERROR(IF($L$6=\"\",\"\",VLOOKUP($L$6&\"_\"&$B102,data_entry,COLUMNS($B$11:W101),0)),\"\")","v":""},{"$f":"IFERROR(IF($L$6=\"\",\"\",VLOOKUP($L$6&\"_\"&$B102,data_entry,COLUMNS($B$11:X101),0)),\"\")","v":""},{"$f":"IFERROR(IF($L$6=\"\",\"\",VLOOKUP($L$6&\"_\"&$B102,data_entry,COLUMNS($B$11:Y101),0)),\"\")","v":""},{"$f":"IFERROR(IF($L$6=\"\",\"\",VLOOKUP($L$6&\"_\"&$B102,data_entry,COLUMNS($B$11:Z101),0)),\"\")","v":""},{"$f":"IFERROR(IF($L$6=\"\",\"\",VLOOKUP($L$6&\"_\"&$B102,data_entry,COLUMNS($B$11:AA101),0)),\"\")","v":""},{"$f":"IFERROR(IF($L$6=\"\",\"\",VLOOKUP($L$6&\"_\"&$B102,data_entry,COLUMNS($B$11:AB101),0)),\"\")","v":""},{"$f":"IFERROR(IF($L$6=\"\",\"\",VLOOKUP($L$6&\"_\"&$B102,data_entry,COLUMNS($B$11:AC101),0)),\"\")","v":""},{"$f":"IFERROR(IF($L$6=\"\",\"\",VLOOKUP($L$6&\"_\"&$B102,data_entry,COLUMNS($B$11:AD101),0)),\"\")","v":""},{"$nulls":5},{"$f":"IFERROR(IF($L$6=\"\",\"\",VLOOKUP($L$6&\"_\"&$B102,data_entry,COLUMNS($B$11:AJ101),0)),\"\")","v":""},{"$f":"IFERROR(IF($L$6=\"\",\"\",VLOOKUP($L$6&\"_\"&$B102,data_entry,COLUMNS($B$11:AK101),0)),\"\")","v":""},{"$f":"IFERROR(IF($L$6=\"\",\"\",VLOOKUP($L$6&\"_\"&$B102,data_entry,COLUMNS($B$11:AL101),0)),\"\")","v":""},{"$f":"IFERROR(IF($L$6=\"\",\"\",VLOOKUP($L$6&\"_\"&$B102,data_entry,COLUMNS($B$11:AM101),0)),\"\")","v":""},{"$f":"IFERROR(IF($L$6=\"\",\"\",VLOOKUP($L$6&\"_\"&$B102,data_entry,COLUMNS($B$11:AN101),0)),\"\")","v":""},{"$f":"IFERROR(IF($L$6=\"\",\"\",VLOOKUP($L$6&\"_\"&$B102,data_entry,COLUMNS($B$11:AO101),0)),\"\")","v":""},{"$f":"IFERROR(IF($L$6=\"\",\"\",VLOOKUP($L$6&\"_\"&$B102,data_entry,COLUMNS($B$11:AP101),0)),\"\")","v":""},{"$f":"IFERROR(IF($L$6=\"\",\"\",VLOOKUP($L$6&\"_\"&$B102,data_entry,COLUMNS($B$11:AQ101),0)),\"\")","v":""}]
[0,92,{"$f":"IF(D103=\"\",\"\",ROWS($D$12:D103))","v":""},{"$f":"IFERROR(IF(OR($L$6=\"\",'DATA ENTRY'!C98=\"\"),\"\",VLOOKUP($L$6&\"_\"&$B103,data_entry,COLUMNS($B$11:D102),0)),\"\")","v":""},{"$f":"IFERROR(IF($L$6=\"\",\"\",VLOOKUP($L$6&\"_\"&$B103,data_entry,COLUMNS($B$11:E102),0)),\"\")","v":""},{"$f":"IFERROR(IF($L$6=\"\",\"\",VLOOKUP($L$6&\"_\"&$B103,data_entry,COLUMNS($B$11:F102),0)),\"\")","v":""},{"$f":"IFERROR(IF($L$6=\"\",\"\",VLOOKUP($L$6&\"_\"&$B103,data_entry,COLUMNS($B$11:G102),0)),\"\")","v":""},{"$f":"IFERROR(IF($L$6=\"\",\"\",VLOOKUP($L$6&\"_\"&$B103,data_entry,COLUMNS($B$11:H102),0)),\"\")","v":""},{"$f":"IFERROR(IF($L$6=\"\",\"\",VLOOKUP($L$6&\"_\"&$B103,data_entry,COLUMNS($B$11:I102),0)),\"\")","v":""},{"$f":"IFERROR(IF($L$6=\"\",\"\",VLOOKUP($L$6&\"_\"&$B103,data_entry,COLUMNS($B$11:J102),0)),\"\")","v":""},{"$f":"IFERROR(IF($L$6=\"\",\"\",VLOOKUP($L$6&\"_\"&$B103,data_entry,COLUMNS($B$11:K102),0)),\"\")","v":""},{"$f":"IFERROR(IF($L$6=\"\",\"\",VLOOKUP($L$6&\"_\"&$B103,data_entry,COLUMNS($B$11:L102),0)),\"\")","v":""},{"$f":"IFERROR(IF($L$6=\"\",\"\",VLOOKUP($L$6&\"_\"&$B103,data_entry,COLUMNS($B$11:M102),0)),\"\")","v":""},{"$f":"IFERROR(IF($L$6=\"\",\"\",VLOOKUP($L$6&\"_\"&$B103,data_entry,COLUMNS($B$11:N102),0)),\"\")","v":""},{"$f":"IFERROR(IF($L$6=\"\",\"\",VLOOKUP($L$6&\"_\"&$B103,data_entry,COLUMNS($B$11:O102),0)),\"\")","v":""},{"$f":"IFERROR(IF($L$6=\"\",\"\",VLOOKUP($L$6&\"_\"&$B103,data_entry,COLUMNS($B$11:P102),0)),\"\")","v":""},{"$f":"IFERROR(IF($L$6=\"\",\"\",VLOOKUP($L$6&\"_\"&$B103,data_entry,COLUMNS($B$11:Q102),0)),\"\")","v":""},{"$f":"IFERROR(IF($L$6=\"\",\"\",VLOOKUP($L$6&\"_\"&$B103,data_entry,COLUMNS($B$11:R102),0)),\"\")","v":""},{"$f":"IFERROR(IF($L$6=\"\",\"\",VLOOKUP($L$6&\"_\"&$B103,data_entry,COLUMNS($B$11:S102),0)),\"\")","v":""},{"$f":"IFERROR(IF($L$6=\"\",\"\",VLOOKUP($L$6&\"_\"&$B103,data_entry,COLUMNS($B$11:T102),0)),\"\")","v":""},{"$f":"IFERROR(IF($L$6=\"\",\"\",VLOOKUP($L$6&\"_\"&$B103,data_entry,COLUMNS($B$11:U102),0)),\"\")","v":""},{"$f":"IFERROR(IF($L$6=\"\",\"\",VLOOKUP($L$6&\"_\"&$B103,data_entry,COLUMNS($B$11:V102),0)),\"\")","v":""},{"$f":"IFERROR(IF($L$6=\"\",\"\",VLOOKUP($L$6&\"_\"&$B103,data_entry,COLUMNS($B$11:W102),0)),\"\")","v":""},{"$f":"IFERROR(IF($L$6=\"\",\"\",VLOOKUP($L$6&\"_\"&$B103,data_entry,COLUMNS($B$11:X102),0)),\"\")","v":""},{"$f":"IFERROR(IF($L$6=\"\",\"\",VLOOKUP($L$6&\"_\"&$B103,data_entry,COLUMNS($B$11:Y102),0)),\"\")","v":""},{"$f":"IFERROR(IF($L$6=\"\",\"\",VLOOKUP($L$6&\"_\"&$B103,data_entry,COLUMNS($B$11:Z102),0)),\"\")","v":""},{"$f":"IFERROR(IF($L$6=\"\",\"\",VLOOKUP($L$6&\"_\"&$B103,data_entry,COLUMNS($B$11:AA102),0)),\"\")","v":""},{"$f":"IFERROR(IF($L$6=\"\",\"\",VLOOKUP($L$6&\"_\"&$B103,data_entry,COLUMNS($B$11:AB102),0)),\"\")","v":""},{"$f":"IFERROR(IF($L$6=\"\",\"\",VLOOKUP($L$6&\"_\"&$B103,data_entry,COLUMNS($B$11:AC102),0)),\"\")","v":""},{"$f":"IFERROR(IF($L$6=\"\",\"\",VLOOKUP($L$6&\"_\"&$B103,data_entry,COLUMNS($B$11:AD102),0)),\"\")","v":""},{"$nulls":5},{"$f":"IFERROR(IF($L$6=\"\",\"\",VLOOKUP($L$6&\"_\"&$B103,data_entry,COLUMNS($B$11:AJ102),0)),\"\")","v":""},{"$f":"IFERROR(IF($L$6=\"\",\"\",VLOOKUP($L$6&\"_\"&$B103,data_entry,COLUMNS($B$11:AK102),0)),\"\")","v":""},{"$f":"IFERROR(IF($L$6=\"\",\"\",VLOOKUP($L$6&\"_\"&$B103,data_entry,COLUMNS($B$11:AL102),0)),\"\")","v":""},{"$f":"IFERROR(IF($L$6=\"\",\"\",VLOOKUP($L$6&\"_\"&$B103,data_entry,COLUMNS($B$11:AM102),0)),\"\")","v":""},{"$f":"IFERROR(IF($L$6=\"\",\"\",VLOOKUP($L$6&\"_\"&$B103,data_entry,COLUMNS($B$11:AN102),0)),\"\")","v":""},{"$f":"IFERROR(IF($L$6=\"\",\"\",VLOOKUP($L$6&\"_\"&$B103,data_entry,COLUMNS($B$11:AO102),0)),\"\")","v":""},{"$f":"IFERROR(IF($L$6=\"\",\"\",VLOOKUP($L$6&\"_\"&$B103,data_entry,COLUMNS($B$11:AP102),0)),\"\")","v":""},{"$f":"IFERROR(IF($L$6=\"\",\"\",VLOOKUP($L$6&\"_\"&$B103,data_entry,COLUMNS($B$11:AQ102),0)),\"\")","v":""}]
[0,93,{"$f":"IF(D104=\"\",\"\",ROWS($D$12:D104))","v":""},{"$f":"IFERROR(IF(OR($L$6=\"\",'DATA ENTRY'!C99=\"\"),\"\",VLOOKUP($L$6&\"_\"&$B104,data_entry,COLUMNS($B$11:D103),0)),\"\")","v":""},{"$f":"IFERROR(IF($L$6=\"\",\"\",VLOOKUP($L$6&\"_\"&$B104,data_entry,COLUMNS($B$11:E103),0)),\"\")","v":""},{"$f":"IFERROR(IF($L$6=\"\",\"\",VLOOKUP($L$6&\"_\"&$B104,data_entry,COLUMNS($B$11:F103),0)),\"\")","v":""},{"$f":"IFERROR(IF($L$6=\"\",\"\",VLOOKUP($L$6&\"_\"&$B104,data_entry,COLUMNS($B$11:G103),0)),\"\")","v":""},{"$f":"IFERROR(IF($L$6=\"\",\"\",VLOOKUP($L$6&\"_\"&$B104,data_entry,COLUMNS($B$11:H103),0)),\"\")","v":""},{"$f":"IFERROR(IF($L$6=\"\",\"\",VLOOKUP($L$6&\"_\"&$B104,data_entry,COLUMNS($B$11:I103),0)),\"\")","v":""},{"$f":"IFERROR(IF($L$6=\"\",\"\",VLOOKUP($L$6&\"_\"&$B104,data_entry,COLUMNS($B$11:J103),0)),\"\")","v":""},{"$f":"IFERROR(IF($L$6=\"\",\"\",VLOOKUP($L$6&\"_\"&$B104,data_entry,COLUMNS($B$11:K103),0)),\"\")","v":""},{"$f":"IFERROR(IF($L$6=\"\",\"\",VLOOKUP($L$6&\"_\"&$B104,data_entry,COLUMNS($B$11:L103),0)),\"\")","v":""},{"$f":"IFERROR(IF($L$6=\"\",\"\",VLOOKUP($L$6&\"_\"&$B104,data_entry,COLUMNS($B$11:M103),0)),\"\")","v":""},{"$f":"IFERROR(IF($L$6=\"\",\"\",VLOOKUP($L$6&\"_\"&$B104,data_entry,COLUMNS($B$11:N103),0)),\"\")","v":""},{"$f":"IFERROR(IF($L$6=\"\",\"\",VLOOKUP($L$6&\"_\"&$B104,data_entry,COLUMNS($B$11:O103),0)),\"\")","v":""},{"$f":"IFERROR(IF($L$6=\"\",\"\",VLOOKUP($L$6&\"_\"&$B104,data_entry,COLUMNS($B$11:P103),0)),\"\")","v":""},{"$f":"IFERROR(IF($L$6=\"\",\"\",VLOOKUP($L$6&\"_\"&$B104,data_entry,COLUMNS($B$11:Q103),0)),\"\")","v":""},{"$f":"IFERROR(IF($L$6=\"\",\"\",VLOOKUP($L$6&\"_\"&$B104,data_entry,COLUMNS($B$11:R103),0)),\"\")","v":""},{"$f":"IFERROR(IF($L$6=\"\",\"\",VLOOKUP($L$6&\"_\"&$B104,data_entry,COLUMNS($B$11:S103),0)),\"\")","v":""},{"$f":"IFERROR(IF($L$6=\"\",\"\",VLOOKUP($L$6&\"_\"&$B104,data_entry,COLUMNS($B$11:T103),0)),\"\")","v":""},{"$f":"IFERROR(IF($L$6=\"\",\"\",VLOOKUP($L$6&\"_\"&$B104,data_entry,COLUMNS($B$11:U103),0)),\"\")","v":""},{"$f":"IFERROR(IF($L$6=\"\",\"\",VLOOKUP($L$6&\"_\"&$B104,data_entry,COLUMNS($B$11:V103),0)),\"\")","v":""},{"$f":"IFERROR(IF($L$6=\"\",\"\",VLOOKUP($L$6&\"_\"&$B104,data_entry,COLUMNS($B$11:W103),0)),\"\")","v":""},{"$f":"IFERROR(IF($L$6=\"\",\"\",VLOOKUP($L$6&\"_\"&$B104,data_entry,COLUMNS($B$11:X103),0)),\"\")","v":""},{"$f":"IFERROR(IF($L$6=\"\",\"\",VLOOKUP($L$6&\"_\"&$B104,data_entry,COLUMNS($B$11:Y103),0)),\"\")","v":""},{"$f":"IFERROR(IF($L$6=\"\",\"\",VLOOKUP($L$6&\"_\"&$B104,data_entry,COLUMNS($B$11:Z103),0)),\"\")","v":""},{"$f":"IFERROR(IF($L$6=\"\",\"\",VLOOKUP($L$6&\"_\"&$B104,data_entry,COLUMNS($B$11:AA103),0)),\"\")","v":""},{"$f":"IFERROR(IF($L$6=\"\",\"\",VLOOKUP($L$6&\"_\"&$B104,data_entry,COLUMNS($B$11:AB103),0)),\"\")","v":""},{"$f":"IFERROR(IF($L$6=\"\",\"\",VLOOKUP($L$6&\"_\"&$B104,data_entry,COLUMNS($B$11:AC103),0)),\"\")","v":""},{"$f":"IFERROR(IF($L$6=\"\",\"\",VLOOKUP($L$6&\"_\"&$B104,data_entry,COLUMNS($B$11:AD103),0)),\"\")","v":""},{"$nulls":5},{"$f":"IFERROR(IF($L$6=\"\",\"\",VLOOKUP($L$6&\"_\"&$B104,data_entry,COLUMNS($B$11:AJ103),0)),\"\")","v":""},{"$f":"IFERROR(IF($L$6=\"\",\"\",VLOOKUP($L$6&\"_\"&$B104,data_entry,COLUMNS($B$11:AK103),0)),\"\")","v":""},{"$f":"IFERROR(IF($L$6=\"\",\"\",VLOOKUP($L$6&\"_\"&$B104,data_entry,COLUMNS($B$11:AL103),0)),\"\")","v":""},{"$f":"IFERROR(IF($L$6=\"\",\"\",VLOOKUP($L$6&\"_\"&$B104,data_entry,COLUMNS($B$11:AM103),0)),\"\")","v":""},{"$f":"IFERROR(IF($L$6=\"\",\"\",VLOOKUP($L$6&\"_\"&$B104,data_entry,COLUMNS($B$11:AN103),0)),\"\")","v":""},{"$f":"IFERROR(IF($L$6=\"\",\"\",VLOOKUP($L$6&\"_\"&$B104,data_entry,COLUMNS($B$11:AO103),0)),\"\")","v":""},{"$f":"IFERROR(IF($L$6=\"\",\"\",VLOOKUP($L$6&\"_\"&$B104,data_entry,COLUMNS($B$11:AP103),0)),\"\")","v":""},{"$f":"IFERROR(IF($L$6=\"\",\"\",VLOOKUP($L$6&\"_\"&$B104,data_entry,COLUMNS($B$11:AQ103),0)),\"\")","v":""}]
[0,94,{"$f":"IF(D105=\"\",\"\",ROWS($D$12:D105))","v":""},{"$f":"IFERROR(IF(OR($L$6=\"\",'DATA ENTRY'!C100=\"\"),\"\",VLOOKUP($L$6&\"_\"&$B105,data_entry,COLUMNS($B$11:D104),0)),\"\")","v":""},{"$f":"IFERROR(IF($L$6=\"\",\"\",VLOOKUP($L$6&\"_\"&$B105,data_entry,COLUMNS($B$11:E104),0)),\"\")","v":""},{"$f":"IFERROR(IF($L$6=\"\",\"\",VLOOKUP($L$6&\"_\"&$B105,data_entry,COLUMNS($B$11:F104),0)),\"\")","v":""},{"$f":"IFERROR(IF($L$6=\"\",\"\",VLOOKUP($L$6&\"_\"&$B105,data_entry,COLUMNS($B$11:G104),0)),\"\")","v":""},{"$f":"IFERROR(IF($L$6=\"\",\"\",VLOOKUP($L$6&\"_\"&$B105,data_entry,COLUMNS($B$11:H104),0)),\"\")","v":""},{"$f":"IFERROR(IF($L$6=\"\",\"\",VLOOKUP($L$6&\"_\"&$B105,data_entry,COLUMNS($B$11:I104),0)),\"\")","v":""},{"$f":"IFERROR(IF($L$6=\"\",\"\",VLOOKUP($L$6&\"_\"&$B105,data_entry,COLUMNS($B$11:J104),0)),\"\")","v":""},{"$f":"IFERROR(IF($L$6=\"\",\"\",VLOOKUP($L$6&\"_\"&$B105,data_entry,COLUMNS($B$11:K104),0)),\"\")","v":""},{"$f":"IFERROR(IF($L$6=\"\",\"\",VLOOKUP($L$6&\"_\"&$B105,data_entry,COLUMNS($B$11:L104),0)),\"\")","v":""},{"$f":"IFERROR(IF($L$6=\"\",\"\",VLOOKUP($L$6&\"_\"&$B105,data_entry,COLUMNS($B$11:M104),0)),\"\")","v":""},{"$f":"IFERROR(IF($L$6=\"\",\"\",VLOOKUP($L$6&\"_\"&$B105,data_entry,COLUMNS($B$11:N104),0)),\"\")","v":""},{"$f":"IFERROR(IF($L$6=\"\",\"\",VLOOKUP($L$6&\"_\"&$B105,data_entry,COLUMNS($B$11:O104),0)),\"\")","v":""},{"$f":"IFERROR(IF($L$6=\"\",\"\",VLOOKUP($L$6&\"_\"&$B105,data_entry,COLUMNS($B$11:P104),0)),\"\")","v":""},{"$f":"IFERROR(IF($L$6=\"\",\"\",VLOOKUP($L$6&\"_\"&$B105,data_entry,COLUMNS($B$11:Q104),0)),\"\")","v":""},{"$f":"IFERROR(IF($L$6=\"\",\"\",VLOOKUP($L$6&\"_\"&$B105,data_entry,COLUMNS($B$11:R104),0)),\"\")","v":""},{"$f":"IFERROR(IF($L$6=\"\",\"\",VLOOKUP($L$6&\"_\"&$B105,data_entry,COLUMNS($B$11:S104),0)),\"\")","v":""},{"$f":"IFERROR(IF($L$6=\"\",\"\",VLOOKUP($L$6&\"_\"&$B105,data_entry,COLUMNS($B$11:T104),0)),\"\")","v":""},{"$f":"IFERROR(IF($L$6=\"\",\"\",VLOOKUP($L$6&\"_\"&$B105,data_entry,COLUMNS($B$11:U104),0)),\"\")","v":""},{"$f":"IFERROR(IF($L$6=\"\",\"\",VLOOKUP($L$6&\"_\"&$B105,data_entry,COLUMNS($B$11:V104),0)),\"\")","v":""},{"$f":"IFERROR(IF($L$6=\"\",\"\",VLOOKUP($L$6&\"_\"&$B105,data_entry,COLUMNS($B$11:W104),0)),\"\")","v":""},{"$f":"IFERROR(IF($L$6=\"\",\"\",VLOOKUP($L$6&\"_\"&$B105,data_entry,COLUMNS($B$11:X104),0)),\"\")","v":""},{"$f":"IFERROR(IF($L$6=\"\",\"\",VLOOKUP($L$6&\"_\"&$B105,data_entry,COLUMNS($B$11:Y104),0)),\"\")","v":""},{"$f":"IFERROR(IF($L$6=\"\",\"\",VLOOKUP($L$6&\"_\"&$B105,data_entry,COLUMNS($B$11:Z104),0)),\"\")","v":""},{"$f":"IFERROR(IF($L$6=\"\",\"\",VLOOKUP($L$6&\"_\"&$B105,data_entry,COLUMNS($B$11:AA104),0)),\"\")","v":""},{"$f":"IFERROR(IF($L$6=\"\",\"\",VLOOKUP($L$6&\"_\"&$B105,data_entry,COLUMNS($B$11:AB104),0)),\"\")","v":""},{"$f":"IFERROR(IF($L$6=\"\",\"\",VLOOKUP($L$6&\"_\"&$B105,data_entry,COLUMNS($B$11:AC104),0)),\"\")","v":""},{"$f":"IFERROR(IF($L$6=\"\",\"\",VLOOKUP($L$6&\"_\"&$B105,data_entry,COLUMNS($B$11:AD104),0)),\"\")","v":""},{"$nulls":5},{"$f":"IFERROR(IF($L$6=\"\",\"\",VLOOKUP($L$6&\"_\"&$B105,data_entry,COLUMNS($B$11:AJ104),0)),\"\")","v":""},{"$f":"IFERROR(IF($L$6=\"\",\"\",VLOOKUP($L$6&\"_\"&$B105,data_entry,COLUMNS($B$11:AK104),0)),\"\")","v":""},{"$f":"IFERROR(IF($L$6=\"\",\"\",VLOOKUP($L$6&\"_\"&$B105,data_entry,COLUMNS($B$11:AL104),0)),\"\")","v":""},{"$f":"IFERROR(IF($L$6=\"\",\"\",VLOOKUP($L$6&\"_\"&$B105,data_entry,COLUMNS($B$11:AM104),0)),\"\")","v":""},{"$f":"IFERROR(IF($L$6=\"\",\"\",VLOOKUP($L$6&\"_\"&$B105,data_entry,COLUMNS($B$11:AN104),0)),\"\")","v":""},{"$f":"IFERROR(IF($L$6=\"\",\"\",VLOOKUP($L$6&\"_\"&$B105,data_entry,COLUMNS($B$11:AO104),0)),\"\")","v":""},{"$f":"IFERROR(IF($L$6=\"\",\"\",VLOOKUP($L$6&\"_\"&$B105,data_entry,COLUMNS($B$11:AP104),0)),\"\")","v":""},{"$f":"IFERROR(IF($L$6=\"\",\"\",VLOOKUP($L$6&\"_\"&$B105,data_entry,COLUMNS($B$11:AQ104),0)),\"\")","v":""}]
[0,95,{"$f":"IF(D106=\"\",\"\",ROWS($D$12:D106))","v":""},{"$f":"IFERROR(IF(OR($L$6=\"\",'DATA ENTRY'!C101=\"\"),\"\",VLOOKUP($L$6&\"_\"&$B106,data_entry,COLUMNS($B$11:D105),0)),\"\")","v":""},{"$f":"IFERROR(IF($L$6=\"\",\"\",VLOOKUP($L$6&\"_\"&$B106,data_entry,COLUMNS($B$11:E105),0)),\"\")","v":""},{"$f":"IFERROR(IF($L$6=\"\",\"\",VLOOKUP($L$6&\"_\"&$B106,data_entry,COLUMNS($B$11:F105),0)),\"\")","v":""},{"$f":"IFERROR(IF($L$6=\"\",\"\",VLOOKUP($L$6&\"_\"&$B106,data_entry,COLUMNS($B$11:G105),0)),\"\")","v":""},{"$f":"IFERROR(IF($L$6=\"\",\"\",VLOOKUP($L$6&\"_\"&$B106,data_entry,COLUMNS($B$11:H105),0)),\"\")","v":""},{"$f":"IFERROR(IF($L$6=\"\",\"\",VLOOKUP($L$6&\"_\"&$B106,data_entry,COLUMNS($B$11:I105),0)),\"\")","v":""},{"$f":"IFERROR(IF($L$6=\"\",\"\",VLOOKUP($L$6&\"_\"&$B106,data_entry,COLUMNS($B$11:J105),0)),\"\")","v":""},{"$f":"IFERROR(IF($L$6=\"\",\"\",VLOOKUP($L$6&\"_\"&$B106,data_entry,COLUMNS($B$11:K105),0)),\"\")","v":""},{"$f":"IFERROR(IF($L$6=\"\",\"\",VLOOKUP($L$6&\"_\"&$B106,data_entry,COLUMNS($B$11:L105),0)),\"\")","v":""},{"$f":"IFERROR(IF($L$6=\"\",\"\",VLOOKUP($L$6&\"_\"&$B106,data_entry,COLUMNS($B$11:M105),0)),\"\")","v":""},{"$f":"IFERROR(IF($L$6=\"\",\"\",VLOOKUP($L$6&\"_\"&$B106,data_entry,COLUMNS($B$11:N105),0)),\"\")","v":""},{"$f":"IFERROR(IF($L$6=\"\",\"\",VLOOKUP($L$6&\"_\"&$B106,data_entry,COLUMNS($B$11:O105),0)),\"\")","v":""},{"$f":"IFERROR(IF($L$6=\"\",\"\",VLOOKUP($L$6&\"_\"&$B106,data_entry,COLUMNS($B$11:P105),0)),\"\")","v":""},{"$f":"IFERROR(IF($L$6=\"\",\"\",VLOOKUP($L$6&\"_\"&$B106,data_entry,COLUMNS($B$11:Q105),0)),\"\")","v":""},{"$f":"IFERROR(IF($L$6=\"\",\"\",VLOOKUP($L$6&\"_\"&$B106,data_entry,COLUMNS($B$11:R105),0)),\"\")","v":""},{"$f":"IFERROR(IF($L$6=\"\",\"\",VLOOKUP($L$6&\"_\"&$B106,data_entry,COLUMNS($B$11:S105),0)),\"\")","v":""},{"$f":"IFERROR(IF($L$6=\"\",\"\",VLOOKUP($L$6&\"_\"&$B106,data_entry,COLUMNS($B$11:T105),0)),\"\")","v":""},{"$f":"IFERROR(IF($L$6=\"\",\"\",VLOOKUP($L$6&\"_\"&$B106,data_entry,COLUMNS($B$11:U105),0)),\"\")","v":""},{"$f":"IFERROR(IF($L$6=\"\",\"\",VLOOKUP($L$6&\"_\"&$B106,data_entry,COLUMNS($B$11:V105),0)),\"\")","v":""},{"$f":"IFERROR(IF($L$6=\"\",\"\",VLOOKUP($L$6&\"_\"&$B106,data_entry,COLUMNS($B$11:W105),0)),\"\")","v":""},{"$f":"IFERROR(IF($L$6=\"\",\"\",VLOOKUP($L$6&\"_\"&$B106,data_entry,COLUMNS($B$11:X105),0)),\"\")","v":""},{"$f":"IFERROR(IF($L$6=\"\",\"\",VLOOKUP($L$6&\"_\"&$B106,data_entry,COLUMNS($B$11:Y105),0)),\"\")","v":""},{"$f":"IFERROR(IF($L$6=\"\",\"\",VLOOKUP($L$6&\"_\"&$B106,data_entry,COLUMNS($B$11:Z105),0)),\"\")","v":""},{"$f":"IFERROR(IF($L$6=\"\",\"\",VLOOKUP($L$6&\"_\"&$B106,data_entry,COLUMNS($B$11:AA105),0)),\"\")","v":""},{"$f":"IFERROR(IF($L$6=\"\",\"\",VLOOKUP($L$6&\"_\"&$B106,data_entry,COLUMNS($B$11:AB105),0)),\"\")","v":""},{"$f":"IFERROR(IF($L$6=\"\",\"\",VLOOKUP($L$6&\"_\"&$B106,data_entry,COLUMNS($B$11:AC105),0)),\"\")","v":""},{"$f":"IFERROR(IF($L$6=\"\",\"\",VLOOKUP($L$6&\"_\"&$B106,data_entry,COLUMNS($B$11:AD105),0)),\"\")","v":""},{"$nulls":5},{"$f":"IFERROR(IF($L$6=\"\",\"\",VLOOKUP($L$6&\"_\"&$B106,data_entry,COLUMNS($B$11:AJ105),0)),\"\")","v":""},{"$f":"IFERROR(IF($L$6=\"\",\"\",VLOOKUP($L$6&\"_\"&$B106,data_entry,COLUMNS($B$11:AK105),0)),\"\")","v":""},{"$f":"IFERROR(IF($L$6=\"\",\"\",VLOOKUP($L$6&\"_\"&$B106,data_entry,COLUMNS($B$11:AL105),0)),\"\")","v":""},{"$f":"IFERROR(IF($L$6=\"\",\"\",VLOOKUP($L$6&\"_\"&$B106,data_entry,COLUMNS($B$11:AM105),0)),\"\")","v":""},{"$f":"IFERROR(IF($L$6=\"\",\"\",VLOOKUP($L$6&\"_\"&$B106,data_entry,COLUMNS($B$11:AN105),0)),\"\")","v":""},{"$f":"IFERROR(IF($L$6=\"\",\"\",VLOOKUP($L$6&\"_\"&$B106,data_entry,COLUMNS($B$11:AO105),0)),\"\")","v":""},{"$f":"IFERROR(IF($L$6=\"\",\"\",VLOOKUP($L$6&\"_\"&$B106,data_entry,COLUMNS($B$11:AP105),0)),\"\")","v":""},{"$f":"IFERROR(IF($L$6=\"\",\"\",VLOOKUP($L$6&\"_\"&$B106,data_entry,COLUMNS($B$11:AQ105),0)),\"\")","v":""}]
[0,96,{"$f":"IF(D107=\"\",\"\",ROWS($D$12:D107))","v":""},{"$f":"IFERROR(IF(OR($L$6=\"\",'DATA ENTRY'!C102=\"\"),\"\",VLOOKUP($L$6&\"_\"&$B107,data_entry,COLUMNS($B$11:D106),0)),\"\")","v":""},{"$f":"IFERROR(IF($L$6=\"\",\"\",VLOOKUP($L$6&\"_\"&$B107,data_entry,COLUMNS($B$11:E106),0)),\"\")","v":""},{"$f":"IFERROR(IF($L$6=\"\",\"\",VLOOKUP($L$6&\"_\"&$B107,data_entry,COLUMNS($B$11:F106),0)),\"\")","v":""},{"$f":"IFERROR(IF($L$6=\"\",\"\",VLOOKUP($L$6&\"_\"&$B107,data_entry,COLUMNS($B$11:G106),0)),\"\")","v":""},{"$f":"IFERROR(IF($L$6=\"\",\"\",VLOOKUP($L$6&\"_\"&$B107,data_entry,COLUMNS($B$11:H106),0)),\"\")","v":""},{"$f":"IFERROR(IF($L$6=\"\",\"\",VLOOKUP($L$6&\"_\"&$B107,data_entry,COLUMNS($B$11:I106),0)),\"\")","v":""},{"$f":"IFERROR(IF($L$6=\"\",\"\",VLOOKUP($L$6&\"_\"&$B107,data_entry,COLUMNS($B$11:J106),0)),\"\")","v":""},{"$f":"IFERROR(IF($L$6=\"\",\"\",VLOOKUP($L$6&\"_\"&$B107,data_entry,COLUMNS($B$11:K106),0)),\"\")","v":""},{"$f":"IFERROR(IF($L$6=\"\",\"\",VLOOKUP($L$6&\"_\"&$B107,data_entry,COLUMNS($B$11:L106),0)),\"\")","v":""},{"$f":"IFERROR(IF($L$6=\"\",\"\",VLOOKUP($L$6&\"_\"&$B107,data_entry,COLUMNS($B$11:M106),0)),\"\")","v":""},{"$f":"IFERROR(IF($L$6=\"\",\"\",VLOOKUP($L$6&\"_\"&$B107,data_entry,COLUMNS($B$11:N106),0)),\"\")","v":""},{"$f":"IFERROR(IF($L$6=\"\",\"\",VLOOKUP($L$6&\"_\"&$B107,data_entry,COLUMNS($B$11:O106),0)),\"\")","v":""},{"$f":"IFERROR(IF($L$6=\"\",\"\",VLOOKUP($L$6&\"_\"&$B107,data_entry,COLUMNS($B$11:P106),0)),\"\")","v":""},{"$f":"IFERROR(IF($L$6=\"\",\"\",VLOOKUP($L$6&\"_\"&$B107,data_entry,COLUMNS($B$11:Q106),0)),\"\")","v":""},{"$f":"IFERROR(IF($L$6=\"\",\"\",VLOOKUP($L$6&\"_\"&$B107,data_entry,COLUMNS($B$11:R106),0)),\"\")","v":""},{"$f":"IFERROR(IF($L$6=\"\",\"\",VLOOKUP($L$6&\"_\"&$B107,data_entry,COLUMNS($B$11:S106),0)),\"\")","v":""},{"$f":"IFERROR(IF($L$6=\"\",\"\",VLOOKUP($L$6&\"_\"&$B107,data_entry,COLUMNS($B$11:T106),0)),\"\")","v":""},{"$f":"IFERROR(IF($L$6=\"\",\"\",VLOOKUP($L$6&\"_\"&$B107,data_entry,COLUMNS($B$11:U106),0)),\"\")","v":""},{"$f":"IFERROR(IF($L$6=\"\",\"\",VLOOKUP($L$6&\"_\"&$B107,data_entry,COLUMNS($B$11:V106),0)),\"\")","v":""},{"$f":"IFERROR(IF($L$6=\"\",\"\",VLOOKUP($L$6&\"_\"&$B107,data_entry,COLUMNS($B$11:W106),0)),\"\")","v":""},{"$f":"IFERROR(IF($L$6=\"\",\"\",VLOOKUP($L$6&\"_\"&$B107,data_entry,COLUMNS($B$11:X106),0)),\"\")","v":""},{"$f":"IFERROR(IF($L$6=\"\",\"\",VLOOKUP($L$6&\"_\"&$B107,data_entry,COLUMNS($B$11:Y106),0)),\"\")","v":""},{"$f":"IFERROR(IF($L$6=\"\",\"\",VLOOKUP($L$6&\"_\"&$B107,data_entry,COLUMNS($B$11:Z106),0)),\"\")","v":""},{"$f":"IFERROR(IF($L$6=\"\",\"\",VLOOKUP($L$6&\"_\"&$B107,data_entry,COLUMNS($B$11:AA106),0)),\"\")","v":""},{"$f":"IFERROR(IF($L$6=\"\",\"\",VLOOKUP($L$6&\"_\"&$B107,data_entry,COLUMNS($B$11:AB106),0)),\"\")","v":""},{"$f":"IFERROR(IF($L$6=\"\",\"\",VLOOKUP($L$6&\"_\"&$B107,data_entry,COLUMNS($B$11:AC106),0)),\"\")","v":""},{"$f":"IFERROR(IF($L$6=\"\",\"\",VLOOKUP($L$6&\"_\"&$B107,data_entry,COLUMNS($B$11:AD106),0)),\"\")","v":""},{"$nulls":5},{"$f":"IFERROR(IF($L$6=\"\",\"\",VLOOKUP($L$6&\"_\"&$B107,data_entry,COLUMNS($B$11:AJ106),0)),\"\")","v":""},{"$f":"IFERROR(IF($L$6=\"\",\"\",VLOOKUP($L$6&\"_\"&$B107,data_entry,COLUMNS($B$11:AK106),0)),\"\")","v":""},{"$f":"IFERROR(IF($L$6=\"\",\"\",VLOOKUP($L$6&\"_\"&$B107,data_entry,COLUMNS($B$11:AL106),0)),\"\")","v":""},{"$f":"IFERROR(IF($L$6=\"\",\"\",VLOOKUP($L$6&\"_\"&$B107,data_entry,COLUMNS($B$11:AM106),0)),\"\")","v":""},{"$f":"IFERROR(IF($L$6=\"\",\"\",VLOOKUP($L$6&\"_\"&$B107,data_entry,COLUMNS($B$11:AN106),0)),\"\")","v":""},{"$f":"IFERROR(IF($L$6=\"\",\"\",VLOOKUP($L$6&\"_\"&$B107,data_entry,COLUMNS($B$11:AO106),0)),\"\")","v":""},{"$f":"IFERROR(IF($L$6=\"\",\"\",VLOOKUP($L$6&\"_\"&$B107,data_entry,COLUMNS($B$11:AP106),0)),\"\")","v":""},{"$f":"IFERROR(IF($L$6=\"\",\"\",VLOOKUP($L$6&\"_\"&$B107,data_entry,COLUMNS($B$11:AQ106),0)),\"\")","v":""}]
[0,97,{"$f":"IF(D108=\"\",\"\",ROWS($D$12:D108))","v":""},{"$f":"IFERROR(IF(OR($L$6=\"\",'DATA ENTRY'!C103=\"\"),\"\",VLOOKUP($L$6&\"_\"&$B108,data_entry,COLUMNS($B$11:D107),0)),\"\")","v":""},{"$f":"IFERROR(IF($L$6=\"\",\"\",VLOOKUP($L$6&\"_\"&$B108,data_entry,COLUMNS($B$11:E107),0)),\"\")","v":""},{"$f":"IFERROR(IF($L$6=\"\",\"\",VLOOKUP($L$6&\"_\"&$B108,data_entry,COLUMNS($B$11:F107),0)),\"\")","v":""},{"$f":"IFERROR(IF($L$6=\"\",\"\",VLOOKUP($L$6&\"_\"&$B108,data_entry,COLUMNS($B$11:G107),0)),\"\")","v":""},{"$f":"IFERROR(IF($L$6=\"\",\"\",VLOOKUP($L$6&\"_\"&$B108,data_entry,COLUMNS($B$11:H107),0)),\"\")","v":""},{"$f":"IFERROR(IF($L$6=\"\",\"\",VLOOKUP($L$6&\"_\"&$B108,data_entry,COLUMNS($B$11:I107),0)),\"\")","v":""},{"$f":"IFERROR(IF($L$6=\"\",\"\",VLOOKUP($L$6&\"_\"&$B108,data_entry,COLUMNS($B$11:J107),0)),\"\")","v":""},{"$f":"IFERROR(IF($L$6=\"\",\"\",VLOOKUP($L$6&\"_\"&$B108,data_entry,COLUMNS($B$11:K107),0)),\"\")","v":""},{"$f":"IFERROR(IF($L$6=\"\",\"\",VLOOKUP($L$6&\"_\"&$B108,data_entry,COLUMNS($B$11:L107),0)),\"\")","v":""},{"$f":"IFERROR(IF($L$6=\"\",\"\",VLOOKUP($L$6&\"_\"&$B108,data_entry,COLUMNS($B$11:M107),0)),\"\")","v":""},{"$f":"IFERROR(IF($L$6=\"\",\"\",VLOOKUP($L$6&\"_\"&$B108,data_entry,COLUMNS($B$11:N107),0)),\"\")","v":""},{"$f":"IFERROR(IF($L$6=\"\",\"\",VLOOKUP($L$6&\"_\"&$B108,data_entry,COLUMNS($B$11:O107),0)),\"\")","v":""},{"$f":"IFERROR(IF($L$6=\"\",\"\",VLOOKUP($L$6&\"_\"&$B108,data_entry,COLUMNS($B$11:P107),0)),\"\")","v":""},{"$f":"IFERROR(IF($L$6=\"\",\"\",VLOOKUP($L$6&\"_\"&$B108,data_entry,COLUMNS($B$11:Q107),0)),\"\")","v":""},{"$f":"IFERROR(IF($L$6=\"\",\"\",VLOOKUP($L$6&\"_\"&$B108,data_entry,COLUMNS($B$11:R107),0)),\"\")","v":""},{"$f":"IFERROR(IF($L$6=\"\",\"\",VLOOKUP($L$6&\"_\"&$B108,data_entry,COLUMNS($B$11:S107),0)),\"\")","v":""},{"$f":"IFERROR(IF($L$6=\"\",\"\",VLOOKUP($L$6&\"_\"&$B108,data_entry,COLUMNS($B$11:T107),0)),\"\")","v":""},{"$f":"IFERROR(IF($L$6=\"\",\"\",VLOOKUP($L$6&\"_\"&$B108,data_entry,COLUMNS($B$11:U107),0)),\"\")","v":""},{"$f":"IFERROR(IF($L$6=\"\",\"\",VLOOKUP($L$6&\"_\"&$B108,data_entry,COLUMNS($B$11:V107),0)),\"\")","v":""},{"$f":"IFERROR(IF($L$6=\"\",\"\",VLOOKUP($L$6&\"_\"&$B108,data_entry,COLUMNS($B$11:W107),0)),\"\")","v":""},{"$f":"IFERROR(IF($L$6=\"\",\"\",VLOOKUP($L$6&\"_\"&$B108,data_entry,COLUMNS($B$11:X107),0)),\"\")","v":""},{"$f":"IFERROR(IF($L$6=\"\",\"\",VLOOKUP($L$6&\"_\"&$B108,data_entry,COLUMNS($B$11:Y107),0)),\"\")","v":""},{"$f":"IFERROR(IF($L$6=\"\",\"\",VLOOKUP($L$6&\"_\"&$B108,data_entry,COLUMNS($B$11:Z107),0)),\"\")","v":""},{"$f":"IFERROR(IF($L$6=\"\",\"\",VLOOKUP($L$6&\"_\"&$B108,data_entry,COLUMNS($B$11:AA107),0)),\"\")","v":""},{"$f":"IFERROR(IF($L$6=\"\",\"\",VLOOKUP($L$6&\"_\"&$B108,data_entry,COLUMNS($B$11:AB107),0)),\"\")","v":""},{"$f":"IFERROR(IF($L$6=\"\",\"\",VLOOKUP($L$6&\"_\"&$B108,data_entry,COLUMNS($B$11:AC107),0)),\"\")","v":""},{"$f":"IFERROR(IF($L$6=\"\",\"\",VLOOKUP($L$6&\"_\"&$B108,data_entry,COLUMNS($B$11:AD107),0)),\"\")","v":""},{"$nulls":5},{"$f":"IFERROR(IF($L$6=\"\",\"\",VLOOKUP($L$6&\"_\"&$B108,data_entry,COLUMNS($B$11:AJ107),0)),\"\")","v":""},{"$f":"IFERROR(IF($L$6=\"\",\"\",VLOOKUP($L$6&\"_\"&$B108,data_entry,COLUMNS($B$11:AK107),0)),\"\")","v":""},{"$f":"IFERROR(IF($L$6=\"\",\"\",VLOOKUP($L$6&\"_\"&$B108,data_entry,COLUMNS($B$11:AL107),0)),\"\")","v":""},{"$f":"IFERROR(IF($L$6=\"\",\"\",VLOOKUP($L$6&\"_\"&$B108,data_entry,COLUMNS($B$11:AM107),0)),\"\")","v":""},{"$f":"IFERROR(IF($L$6=\"\",\"\",VLOOKUP($L$6&\"_\"&$B108,data_entry,COLUMNS($B$11:AN107),0)),\"\")","v":""},{"$f":"IFERROR(IF($L$6=\"\",\"\",VLOOKUP($L$6&\"_\"&$B108,data_entry,COLUMNS($B$11:AO107),0)),\"\")","v":""},{"$f":"IFERROR(IF($L$6=\"\",\"\",VLOOKUP($L$6&\"_\"&$B108,data_entry,COLUMNS($B$11:AP107),0)),\"\")","v":""},{"$f":"IFERROR(IF($L$6=\"\",\"\",VLOOKUP($L$6&\"_\"&$B108,data_entry,COLUMNS($B$11:AQ107),0)),\"\")","v":""}]
[0,98,{"$f":"IF(D109=\"\",\"\",ROWS($D$12:D109))","v":""},{"$f":"IFERROR(IF(OR($L$6=\"\",'DATA ENTRY'!C104=\"\"),\"\",VLOOKUP($L$6&\"_\"&$B109,data_entry,COLUMNS($B$11:D108),0)),\"\")","v":""},{"$f":"IFERROR(IF($L$6=\"\",\"\",VLOOKUP($L$6&\"_\"&$B109,data_entry,COLUMNS($B$11:E108),0)),\"\")","v":""},{"$f":"IFERROR(IF($L$6=\"\",\"\",VLOOKUP($L$6&\"_\"&$B109,data_entry,COLUMNS($B$11:F108),0)),\"\")","v":""},{"$f":"IFERROR(IF($L$6=\"\",\"\",VLOOKUP($L$6&\"_\"&$B109,data_entry,COLUMNS($B$11:G108),0)),\"\")","v":""},{"$f":"IFERROR(IF($L$6=\"\",\"\",VLOOKUP($L$6&\"_\"&$B109,data_entry,COLUMNS($B$11:H108),0)),\"\")","v":""},{"$f":"IFERROR(IF($L$6=\"\",\"\",VLOOKUP($L$6&\"_\"&$B109,data_entry,COLUMNS($B$11:I108),0)),\"\")","v":""},{"$f":"IFERROR(IF($L$6=\"\",\"\",VLOOKUP($L$6&\"_\"&$B109,data_entry,COLUMNS($B$11:J108),0)),\"\")","v":""},{"$f":"IFERROR(IF($L$6=\"\",\"\",VLOOKUP($L$6&\"_\"&$B109,data_entry,COLUMNS($B$11:K108),0)),\"\")","v":""},{"$f":"IFERROR(IF($L$6=\"\",\"\",VLOOKUP($L$6&\"_\"&$B109,data_entry,COLUMNS($B$11:L108),0)),\"\")","v":""},{"$f":"IFERROR(IF($L$6=\"\",\"\",VLOOKUP($L$6&\"_\"&$B109,data_entry,COLUMNS($B$11:M108),0)),\"\")","v":""},{"$f":"IFERROR(IF($L$6=\"\",\"\",VLOOKUP($L$6&\"_\"&$B109,data_entry,COLUMNS($B$11:N108),0)),\"\")","v":""},{"$f":"IFERROR(IF($L$6=\"\",\"\",VLOOKUP($L$6&\"_\"&$B109,data_entry,COLUMNS($B$11:O108),0)),\"\")","v":""},{"$f":"IFERROR(IF($L$6=\"\",\"\",VLOOKUP($L$6&\"_\"&$B109,data_entry,COLUMNS($B$11:P108),0)),\"\")","v":""},{"$f":"IFERROR(IF($L$6=\"\",\"\",VLOOKUP($L$6&\"_\"&$B109,data_entry,COLUMNS($B$11:Q108),0)),\"\")","v":""},{"$f":"IFERROR(IF($L$6=\"\",\"\",VLOOKUP($L$6&\"_\"&$B109,data_entry,COLUMNS($B$11:R108),0)),\"\")","v":""},{"$f":"IFERROR(IF($L$6=\"\",\"\",VLOOKUP($L$6&\"_\"&$B109,data_entry,COLUMNS($B$11:S108),0)),\"\")","v":""},{"$f":"IFERROR(IF($L$6=\"\",\"\",VLOOKUP($L$6&\"_\"&$B109,data_entry,COLUMNS($B$11:T108),0)),\"\")","v":""},{"$f":"IFERROR(IF($L$6=\"\",\"\",VLOOKUP($L$6&\"_\"&$B109,data_entry,COLUMNS($B$11:U108),0)),\"\")","v":""},{"$f":"IFERROR(IF($L$6=\"\",\"\",VLOOKUP($L$6&\"_\"&$B109,data_entry,COLUMNS($B$11:V108),0)),\"\")","v":""},{"$f":"IFERROR(IF($L$6=\"\",\"\",VLOOKUP($L$6&\"_\"&$B109,data_entry,COLUMNS($B$11:W108),0)),\"\")","v":""},{"$f":"IFERROR(IF($L$6=\"\",\"\",VLOOKUP($L$6&\"_\"&$B109,data_entry,COLUMNS($B$11:X108),0)),\"\")","v":""},{"$f":"IFERROR(IF($L$6=\"\",\"\",VLOOKUP($L$6&\"_\"&$B109,data_entry,COLUMNS($B$11:Y108),0)),\"\")","v":""},{"$f":"IFERROR(IF($L$6=\"\",\"\",VLOOKUP($L$6&\"_\"&$B109,data_entry,COLUMNS($B$11:Z108),0)),\"\")","v":""},{"$f":"IFERROR(IF($L$6=\"\",\"\",VLOOKUP($L$6&\"_\"&$B109,data_entry,COLUMNS($B$11:AA108),0)),\"\")","v":""},{"$f":"IFERROR(IF($L$6=\"\",\"\",VLOOKUP($L$6&\"_\"&$B109,data_entry,COLUMNS($B$11:AB108),0)),\"\")","v":""},{"$f":"IFERROR(IF($L$6=\"\",\"\",VLOOKUP($L$6&\"_\"&$B109,data_entry,COLUMNS($B$11:AC108),0)),\"\")","v":""},{"$f":"IFERROR(IF($L$6=\"\",\"\",VLOOKUP($L$6&\"_\"&$B109,data_entry,COLUMNS($B$11:AD108),0)),\"\")","v":""},{"$nulls":5},{"$f":"IFERROR(IF($L$6=\"\",\"\",VLOOKUP($L$6&\"_\"&$B109,data_entry,COLUMNS($B$11:AJ108),0)),\"\")","v":""},{"$f":"IFERROR(IF($L$6=\"\",\"\",VLOOKUP($L$6&\"_\"&$B109,data_entry,COLUMNS($B$11:AK108),0)),\"\")","v":""},{"$f":"IFERROR(IF($L$6=\"\",\"\",VLOOKUP($L$6&\"_\"&$B109,data_entry,COLUMNS($B$11:AL108),0)),\"\")","v":""},{"$f":"IFERROR(IF($L$6=\"\",\"\",VLOOKUP($L$6&\"_\"&$B109,data_entry,COLUMNS($B$11:AM108),0)),\"\")","v":""},{"$f":"IFERROR(IF($L$6=\"\",\"\",VLOOKUP($L$6&\"_\"&$B109,data_entry,COLUMNS($B$11:AN108),0)),\"\")","v":""},{"$f":"IFERROR(IF($L$6=\"\",\"\",VLOOKUP($L$6&\"_\"&$B109,data_entry,COLUMNS($B$11:AO108),0)),\"\")","v":""},{"$f":"IFERROR(IF($L$6=\"\",\"\",VLOOKUP($L$6&\"_\"&$B109,data_entry,COLUMNS($B$11:AP108),0)),\"\")","v":""},{"$f":"IFERROR(IF($L$6=\"\",\"\",VLOOKUP($L$6&\"_\"&$B109,data_entry,COLUMNS($B$11:AQ108),0)),\"\")","v":""}]
[0,99,{"$f":"IF(D110=\"\",\"\",ROWS($D$12:D110))","v":""},{"$f":"IFERROR(IF(OR($L$6=\"\",'DATA ENTRY'!C105=\"\"),\"\",VLOOKUP($L$6&\"_\"&$B110,data_entry,COLUMNS($B$11:D109),0)),\"\")","v":""},{"$f":"IFERROR(IF($L$6=\"\",\"\",VLOOKUP($L$6&\"_\"&$B110,data_entry,COLUMNS($B$11:E109),0)),\"\")","v":""},{"$f":"IFERROR(IF($L$6=\"\",\"\",VLOOKUP($L$6&\"_\"&$B110,data_entry,COLUMNS($B$11:F109),0)),\"\")","v":""},{"$f":"IFERROR(IF($L$6=\"\",\"\",VLOOKUP($L$6&\"_\"&$B110,data_entry,COLUMNS($B$11:G109),0)),\"\")","v":""},{"$f":"IFERROR(IF($L$6=\"\",\"\",VLOOKUP($L$6&\"_\"&$B110,data_entry,COLUMNS($B$11:H109),0)),\"\")","v":""},{"$f":"IFERROR(IF($L$6=\"\",\"\",VLOOKUP($L$6&\"_\"&$B110,data_entry,COLUMNS($B$11:I109),0)),\"\")","v":""},{"$f":"IFERROR(IF($L$6=\"\",\"\",VLOOKUP($L$6&\"_\"&$B110,data_entry,COLUMNS($B$11:J109),0)),\"\")","v":""},{"$f":"IFERROR(IF($L$6=\"\",\"\",VLOOKUP($L$6&\"_\"&$B110,data_entry,COLUMNS($B$11:K109),0)),\"\")","v":""},{"$f":"IFERROR(IF($L$6=\"\",\"\",VLOOKUP($L$6&\"_\"&$B110,data_entry,COLUMNS($B$11:L109),0)),\"\")","v":""},{"$f":"IFERROR(IF($L$6=\"\",\"\",VLOOKUP($L$6&\"_\"&$B110,data_entry,COLUMNS($B$11:M109),0)),\"\")","v":""},{"$f":"IFERROR(IF($L$6=\"\",\"\",VLOOKUP($L$6&\"_\"&$B110,data_entry,COLUMNS($B$11:N109),0)),\"\")","v":""},{"$f":"IFERROR(IF($L$6=\"\",\"\",VLOOKUP($L$6&\"_\"&$B110,data_entry,COLUMNS($B$11:O109),0)),\"\")","v":""},{"$f":"IFERROR(IF($L$6=\"\",\"\",VLOOKUP($L$6&\"_\"&$B110,data_entry,COLUMNS($B$11:P109),0)),\"\")","v":""},{"$f":"IFERROR(IF($L$6=\"\",\"\",VLOOKUP($L$6&\"_\"&$B110,data_entry,COLUMNS($B$11:Q109),0)),\"\")","v":""},{"$f":"IFERROR(IF($L$6=\"\",\"\",VLOOKUP($L$6&\"_\"&$B110,data_entry,COLUMNS($B$11:R109),0)),\"\")","v":""},{"$f":"IFERROR(IF($L$6=\"\",\"\",VLOOKUP($L$6&\"_\"&$B110,data_entry,COLUMNS($B$11:S109),0)),\"\")","v":""},{"$f":"IFERROR(IF($L$6=\"\",\"\",VLOOKUP($L$6&\"_\"&$B110,data_entry,COLUMNS($B$11:T109),0)),\"\")","v":""},{"$f":"IFERROR(IF($L$6=\"\",\"\",VLOOKUP($L$6&\"_\"&$B110,data_entry,COLUMNS($B$11:U109),0)),\"\")","v":""},{"$f":"IFERROR(IF($L$6=\"\",\"\",VLOOKUP($L$6&\"_\"&$B110,data_entry,COLUMNS($B$11:V109),0)),\"\")","v":""},{"$f":"IFERROR(IF($L$6=\"\",\"\",VLOOKUP($L$6&\"_\"&$B110,data_entry,COLUMNS($B$11:W109),0)),\"\")","v":""},{"$f":"IFERROR(IF($L$6=\"\",\"\",VLOOKUP($L$6&\"_\"&$B110,data_entry,COLUMNS($B$11:X109),0)),\"\")","v":""},{"$f":"IFERROR(IF($L$6=\"\",\"\",VLOOKUP($L$6&\"_\"&$B110,data_entry,COLUMNS($B$11:Y109),0)),\"\")","v":""},{"$f":"IFERROR(IF($L$6=\"\",\"\",VLOOKUP($L$6&\"_\"&$B110,data_entry,COLUMNS($B$11:Z109),0)),\"\")","v":""},{"$f":"IFERROR(IF($L$6=\"\",\"\",VLOOKUP($L$6&\"_\"&$B110,data_entry,COLUMNS($B$11:AA109),0)),\"\")","v":""},{"$f":"IFERROR(IF($L$6=\"\",\"\",VLOOKUP($L$6&\"_\"&$B110,data_entry,COLUMNS($B$11:AB109),0)),\"\")","v":""},{"$f":"IFERROR(IF($L$6=\"\",\"\",VLOOKUP($L$6&\"_\"&$B110,data_entry,COLUMNS($B$11:AC109),0)),\"\")","v":""},{"$f":"IFERROR(IF($L$6=\"\",\"\",VLOOKUP($L$6&\"_\"&$B110,data_entry,COLUMNS($B$11:AD109),0)),\"\")","v":""},{"$nulls":5},{"$f":"IFERROR(IF($L$6=\"\",\"\",VLOOKUP($L$6&\"_\"&$B110,data_entry,COLUMNS($B$11:AJ109),0)),\"\")","v":""},{"$f":"IFERROR(IF($L$6=\"\",\"\",VLOOKUP($L$6&\"_\"&$B110,data_entry,COLUMNS($B$11:AK109),0)),\"\")","v":""},{"$f":"IFERROR(IF($L$6=\"\",\"\",VLOOKUP($L$6&\"_\"&$B110,data_entry,COLUMNS($B$11:AL109),0)),\"\")","v":""},{"$f":"IFERROR(IF($L$6=\"\",\"\",VLOOKUP($L$6&\"_\"&$B110,data_entry,COLUMNS($B$11:AM109),0)),\"\")","v":""},{"$f":"IFERROR(IF($L$6=\"\",\"\",VLOOKUP($L$6&\"_\"&$B110,data_entry,COLUMNS($B$11:AN109),0)),\"\")","v":""},{"$f":"IFERROR(IF($L$6=\"\",\"\",VLOOKUP($L$6&\"_\"&$B110,data_entry,COLUMNS($B$11:AO109),0)),\"\")","v":""},{"$f":"IFERROR(IF($L$6=\"\",\"\",VLOOKUP($L$6&\"_\"&$B110,data_entry,COLUMNS($B$11:AP109),0)),\"\")","v":""},{"$f":"IFERROR(IF($L$6=\"\",\"\",VLOOKUP($L$6&\"_\"&$B110,data_entry,COLUMNS($B$11:AQ109),0)),\"\")","v":""}]
[0,100,{"$f":"IF(D111=\"\",\"\",ROWS($D$12:D111))","v":""},{"$f":"IFERROR(IF(OR($L$6=\"\",'DATA ENTRY'!C106=\"\"),\"\",VLOOKUP($L$6&\"_\"&$B111,data_entry,COLUMNS($B$11:D110),0)),\"\")","v":""},{"$f":"IFERROR(IF($L$6=\"\",\"\",VLOOKUP($L$6&\"_\"&$B111,data_entry,COLUMNS($B$11:E110),0)),\"\")","v":""},{"$f":"IFERROR(IF($L$6=\"\",\"\",VLOOKUP($L$6&\"_\"&$B111,data_entry,COLUMNS($B$11:F110),0)),\"\")","v":""},{"$f":"IFERROR(IF($L$6=\"\",\"\",VLOOKUP($L$6&\"_\"&$B111,data_entry,COLUMNS($B$11:G110),0)),\"\")","v":""},{"$f":"IFERROR(IF($L$6=\"\",\"\",VLOOKUP($L$6&\"_\"&$B111,data_entry,COLUMNS($B$11:H110),0)),\"\")","v":""},{"$f":"IFERROR(IF($L$6=\"\",\"\",VLOOKUP($L$6&\"_\"&$B111,data_entry,COLUMNS($B$11:I110),0)),\"\")","v":""},{"$f":"IFERROR(IF($L$6=\"\",\"\",VLOOKUP($L$6&\"_\"&$B111,data_entry,COLUMNS($B$11:J110),0)),\"\")","v":""},{"$f":"IFERROR(IF($L$6=\"\",\"\",VLOOKUP($L$6&\"_\"&$B111,data_entry,COLUMNS($B$11:K110),0)),\"\")","v":""},{"$f":"IFERROR(IF($L$6=\"\",\"\",VLOOKUP($L$6&\"_\"&$B111,data_entry,COLUMNS($B$11:L110),0)),\"\")","v":""},{"$f":"IFERROR(IF($L$6=\"\",\"\",VLOOKUP($L$6&\"_\"&$B111,data_entry,COLUMNS($B$11:M110),0)),\"\")","v":""},{"$f":"IFERROR(IF($L$6=\"\",\"\",VLOOKUP($L$6&\"_\"&$B111,data_entry,COLUMNS($B$11:N110),0)),\"\")","v":""},{"$f":"IFERROR(IF($L$6=\"\",\"\",VLOOKUP($L$6&\"_\"&$B111,data_entry,COLUMNS($B$11:O110),0)),\"\")","v":""},{"$f":"IFERROR(IF($L$6=\"\",\"\",VLOOKUP($L$6&\"_\"&$B111,data_entry,COLUMNS($B$11:P110),0)),\"\")","v":""},{"$f":"IFERROR(IF($L$6=\"\",\"\",VLOOKUP($L$6&\"_\"&$B111,data_entry,COLUMNS($B$11:Q110),0)),\"\")","v":""},{"$f":"IFERROR(IF($L$6=\"\",\"\",VLOOKUP($L$6&\"_\"&$B111,data_entry,COLUMNS($B$11:R110),0)),\"\")","v":""},{"$f":"IFERROR(IF($L$6=\"\",\"\",VLOOKUP($L$6&\"_\"&$B111,data_entry,COLUMNS($B$11:S110),0)),\"\")","v":""},{"$f":"IFERROR(IF($L$6=\"\",\"\",VLOOKUP($L$6&\"_\"&$B111,data_entry,COLUMNS($B$11:T110),0)),\"\")","v":""},{"$f":"IFERROR(IF($L$6=\"\",\"\",VLOOKUP($L$6&\"_\"&$B111,data_entry,COLUMNS($B$11:U110),0)),\"\")","v":""},{"$f":"IFERROR(IF($L$6=\"\",\"\",VLOOKUP($L$6&\"_\"&$B111,data_entry,COLUMNS($B$11:V110),0)),\"\")","v":""},{"$f":"IFERROR(IF($L$6=\"\",\"\",VLOOKUP($L$6&\"_\"&$B111,data_entry,COLUMNS($B$11:W110),0)),\"\")","v":""},{"$f":"IFERROR(IF($L$6=\"\",\"\",VLOOKUP($L$6&\"_\"&$B111,data_entry,COLUMNS($B$11:X110),0)),\"\")","v":""},{"$f":"IFERROR(IF($L$6=\"\",\"\",VLOOKUP($L$6&\"_\"&$B111,data_entry,COLUMNS($B$11:Y110),0)),\"\")","v":""},{"$f":"IFERROR(IF($L$6=\"\",\"\",VLOOKUP($L$6&\"_\"&$B111,data_entry,COLUMNS($B$11:Z110),0)),\"\")","v":""},{"$f":"IFERROR(IF($L$6=\"\",\"\",VLOOKUP($L$6&\"_\"&$B111,data_entry,COLUMNS($B$11:AA110),0)),\"\")","v":""},{"$f":"IFERROR(IF($L$6=\"\",\"\",VLOOKUP($L$6&\"_\"&$B111,data_entry,COLUMNS($B$11:AB110),0)),\"\")","v":""},{"$f":"IFERROR(IF($L$6=\"\",\"\",VLOOKUP($L$6&\"_\"&$B111,data_entry,COLUMNS($B$11:AC110),0)),\"\")","v":""},{"$f":"IFERROR(IF($L$6=\"\",\"\",VLOOKUP($L$6&\"_\"&$B111,data_entry,COLUMNS($B$11:AD110),0)),\"\")","v":""},{"$nulls":5},{"$f":"IFERROR(IF($L$6=\"\",\"\",VLOOKUP($L$6&\"_\"&$B111,data_entry,COLUMNS($B$11:AJ110),0)),\"\")","v":""},{"$f":"IFERROR(IF($L$6=\"\",\"\",VLOOKUP($L$6&\"_\"&$B111,data_entry,COLUMNS($B$11:AK110),0)),\"\")","v":""},{"$f":"IFERROR(IF($L$6=\"\",\"\",VLOOKUP($L$6&\"_\"&$B111,data_entry,COLUMNS($B$11:AL110),0)),\"\")","v":""},{"$f":"IFERROR(IF($L$6=\"\",\"\",VLOOKUP($L$6&\"_\"&$B111,data_entry,COLUMNS($B$11:AM110),0)),\"\")","v":""},{"$f":"IFERROR(IF($L$6=\"\",\"\",VLOOKUP($L$6&\"_\"&$B111,data_entry,COLUMNS($B$11:AN110),0)),\"\")","v":""},{"$f":"IFERROR(IF($L$6=\"\",\"\",VLOOKUP($L$6&\"_\"&$B111,data_entry,COLUMNS($B$11:AO110),0)),\"\")","v":""},{"$f":"IFERROR(IF($L$6=\"\",\"\",VLOOKUP($L$6&\"_\"&$B111,data_entry,COLUMNS($B$11:AP110),0)),\"\")","v":""},{"$f":"IFERROR(IF($L$6=\"\",\"\",VLOOKUP($L$6&\"_\"&$B111,data_entry,COLUMNS($B$11:AQ110),0)),\"\")","v":""}]

{"sheet":"Enrolment","index":6,"n_rows":19,"n_cols":21,"rows_kept":19,"merged":[[1,1,1,20],[4,1,5,1],[4,2,5,2],[4,3,4,5],[4,6,4,8],[4,9,4,11],[4,12,4,14],[4,15,4,17],[4,18,4,20],[18,1,18,2]]}
[]
[null,{"$f":"DASHBOARD!B2","v":"कार्यालय प्रधानाचार्य राजकीय उच्च माध्यमिक विद्यालय 13डीओएल, श्री गंगानगर"}]
[]
[]
[null,"Sr.No.","Class","General",null,null,"ST",null,null,"SC",null,null,"OBC",null,null,"SBC",null,null,"Total Enrollment"]
[{"$nulls":3},"Boys","Girls","Total","Boys","Girls","Total","Boys","Girls","Total","Boys","Girls","Total","Boys","Girls","Total","Boys","Girls","Total"]
[null,1,1,{"$f":"COUNTIFS(STUDATA!$C:$C,C7,STUDATA!$G:$G,\"M\",STUDATA!$H:$H,\"GEN\")","v":0},{"$f":"COUNTIFS(STUDATA!$C:$C,C7,STUDATA!$G:$G,\"F\",STUDATA!$H:$H,\"GEN\")","v":0},{"$f":"SUM(D7:E7)","v":0},{"$f":"COUNTIFS(STUDATA!$C:$C,C7,STUDATA!$G:$G,\"M\",STUDATA!$H:$H,\"ST\")","v":0},{"$f":"COUNTIFS(STUDATA!$C:$C,C7,STUDATA!$G:$G,\"F\",STUDATA!$H:$H,\"ST\")","v":0},{"$f":"SUM(G7:H7)","v":0},{"$f":"COUNTIFS(STUDATA!$C:$C,C7,STUDATA!$G:$G,\"M\",STUDATA!$H:$H,\"SC\")","v":2},{"$f":"COUNTIFS(STUDATA!$C:$C,C7,STUDATA!$G:$G,\"F\",STUDATA!$H:$H,\"SC\")","v":1},{"$f":"SUM(J7:K7)","v":3},{"$f":"COUNTIFS(STUDATA!$C:$C,C7,STUDATA!$G:$G,\"M\",STUDATA!$H:$H,\"OBC\")","v":0},{"$f":"COUNTIFS(STUDATA!$C:$C,C7,STUDATA!$G:$G,\"F\",STUDATA!$H:$H,\"OBC\")","v":3},{"$f":"SUM(M7:N7)","v":3},{"$f":"COUNTIFS(STUDATA!$C:$C,C7,STUDATA!$G:$G,\"M\",STUDATA!$H:$H,\"SBC\")","v":0},{"$f":"COUNTIFS(STUDATA!$C:$C,C7,STUDATA!$G:$G,\"F\",STUDATA!$H:$H,\"SBC\")","v":1},{"$f":"SUM(P7:Q7)","v":1},{"$f":"SUM(D7+G7+J7+M7+P7)","v":2},{"$f":"E7+H7+K7+N7+Q7","v":5},{"$f":"SUM(S7:T7)","v":7}]
[null,2,2,{"$f":"COUNTIFS(STUDATA!$C:$C,C8,STUDATA!$G:$G,\"M\",STUDATA!$H:$H,\"GEN\")","v":0},{"$f":"COUNTIFS(STUDATA!$C:$C,C8,STUDATA!$G:$G,\"F\",STUDATA!$H:$H,\"GEN\")","v":0},{"$f":"SUM(D8:E8)","v":0},{"$f":"COUNTIFS(STUDATA!$C:$C,C8,STUDATA!$G:$G,\"M\",STUDATA!$H:$H,\"ST\")","v":0},{"$f":"COUNTIFS(STUDATA!$C:$C,C8,STUDATA!$G:$G,\"F\",STUDATA!$H:$H,\"ST\")","v":0},{"$f":"SUM(G8:H8)","v":0},{"$f":"COUNTIFS(STUDATA!$C:$C,C8,STUDATA!$G:$G,\"M\",STUDATA!$H:$H,\"SC\")","v":10},{"$f":"COUNTIFS(STUDATA!$C:$C,C8,STUDATA!$G:$G,\"F\",STUDATA!$H:$H,\"SC\")","v":2},{"$f":"SUM(J8:K8)","v":12},{"$f":"COUNTIFS(STUDATA!$C:$C,C8,STUDATA!$G:$G,\"M\",STUDATA!$H:$H,\"OBC\")","v":7},{"$f":"COUNTIFS(STUDATA!$C:$C,C8,STUDATA!$G:$G,\"F\",STUDATA!$H:$H,\"OBC\")","v":5},{"$f":"SUM(M8:N8)","v":12},{"$f":"COUNTIFS(STUDATA!$C:$C,C8,STUDATA!$G:$G,\"M\",STUDATA!$H:$H,\"SBC\")","v":0},{"$f":"COUNTIFS(STUDATA!$C:$C,C8,STUDATA!$G:$G,\"F\",STUDATA!$H:$H,\"SBC\")","v":0},{"$f":"SUM(P8:Q8)","v":0},{"$f":"SUM(D8+G8+J8+M8+P8)","v":17},{"$f":"E8+H8+K8+N8+Q8","v":7},{"$f":"SUM(S8:T8)","v":24}]
[null,3,3,{"$f":"COUNTIFS(STUDATA!$C:$C,C9,STUDATA!$G:$G,\"M\",STUDATA!$H:$H,\"GEN\")","v":0},{"$f":"COUNTIFS(STUDATA!$C:$C,C9,STUDATA!$G:$G,\"F\",STUDATA!$H:$H,\"GEN\")","v":0},0,{"$f":"COUNTIFS(STUDATA!$C:$C,C9,STUDATA!$G:$G,\"M\",STUDATA!$H:$H,\"ST\")","v":0},{"$f":"COUNTIFS(STUDATA!$C:$C,C9,STUDATA!$G:$G,\"F\",STUDATA!$H:$H,\"ST\")","v":1},1,{"$f":"COUNTIFS(STUDATA!$C:$C,C9,STUDATA!$G:$G,\"M\",STUDATA!$H:$H,\"SC\")","v":2},{"$f":"COUNTIFS(STUDATA!$C:$C,C9,STUDATA!$G:$G,\"F\",STUDATA!$H:$H,\"SC\")","v":5},7,{"$f":"COUNTIFS(STUDATA!$C:$C,C9,STUDATA!$G:$G,\"M\",STUDATA!$H:$H,\"OBC\")","v":3},{"$f":"COUNTIFS(STUDATA!$C:$C,C9,STUDATA!$G:$G,\"F\",STUDATA!$H:$H,\"OBC\")","v":2},5,{"$f":"COUNTIFS(STUDATA!$C:$C,C9,STUDATA!$G:$G,\"M\",STUDATA!$H:$H,\"SBC\")","v":0},{"$f":"COUNTIFS(STUDATA!$C:$C,C9,STUDATA!$G:$G,\"F\",STUDATA!$H:$H,\"SBC\")","v":0},0,5,8,13]
[null,4,4,{"$f":"COUNTIFS(STUDATA!$C:$C,C10,STUDATA!$G:$G,\"M\",STUDATA!$H:$H,\"GEN\")","v":0},{"$f":"COUNTIFS(STUDATA!$C:$C,C10,STUDATA!$G:$G,\"F\",STUDATA!$H:$H,\"GEN\")","v":0},0,{"$f":"COUNTIFS(STUDATA!$C:$C,C10,STUDATA!$G:$G,\"M\",STUDATA!$H:$H,\"ST\")","v":1},{"$f":"COUNTIFS(STUDATA!$C:$C,C10,STUDATA!$G:$G,\"F\",STUDATA!$H:$H,\"ST\")","v":1},2,{"$f":"COUNTIFS(STUDATA!$C:$C,C10,STUDATA!$G:$G,\"M\",STUDATA!$H:$H,\"SC\")","v":5},{"$f":"COUNTIFS(STUDATA!$C:$C,C10,STUDATA!$G:$G,\"F\",STUDATA!$H:$H,\"SC\")","v":3},8,{"$f":"COUNTIFS(STUDATA!$C:$C,C10,STUDATA!$G:$G,\"M\",STUDATA!$H:$H,\"OBC\")","v":2},{"$f":"COUNTIFS(STUDATA!$C:$C,C10,STUDATA!$G:$G,\"F\",STUDATA!$H:$H,\"OBC\")","v":4},6,{"$f":"COUNTIFS(STUDATA!$C:$C,C10,STUDATA!$G:$G,\"M\",STUDATA!$H:$H,\"SBC\")","v":0},{"$f":"COUNTIFS(STUDATA!$C:$C,C10,STUDATA!$G:$G,\"F\",STUDATA!$H:$H,\"SBC\")","v":0},0,8,8,16]
[null,5,5,{"$f":"COUNTIFS(STUDATA!$C:$C,C11,STUDATA!$G:$G,\"M\",STUDATA!$H:$H,\"GEN\")","v":0},{"$f":"COUNTIFS(STUDATA!$C:$C,C11,STUDATA!$G:$G,\"F\",STUDATA!$H:$H,\"GEN\")","v":0},0,{"$f":"COUNTIFS(STUDATA!$C:$C,C11,STUDATA!$G:$G,\"M\",STUDATA!$H:$H,\"ST\")","v":0},{"$f":"COUNTIFS(STUDATA!$C:$C,C11,STUDATA!$G:$G,\"F\",STUDATA!$H:$H,\"ST\")","v":0},0,{"$f":"COUNTIFS(STUDATA!$C:$C,C11,STUDATA!$G:$G,\"M\",STUDATA!$H:$H,\"SC\")","v":4},{"$f":"COUNTIFS(STUDATA!$C:$C,C11,STUDATA!$G:$G,\"F\",STUDATA!$H:$H,\"SC\")","v":5},9,{"$f":"COUNTIFS(STUDATA!$C:$C,C11,STUDATA!$G:$G,\"M\",STUDATA!$H:$H,\"OBC\")","v":3},{"$f":"COUNTIFS(STUDATA!$C:$C,C11,STUDATA!$G:$G,\"F\",STUDATA!$H:$H,\"OBC\")","v":5},8,{"$f":"COUNTIFS(STUDATA!$C:$C,C11,STUDATA!$G:$G,\"M\",STUDATA!$H:$H,\"SBC\")","v":0},{"$f":"COUNTIFS(STUDATA!$C:$C,C11,STUDATA!$G:$G,\"F\",STUDATA!$H:$H,\"SBC\")","v":0},0,7,10,{"$f":"SUM(S11:T11)","v":17}]
[null,6,6,{"$f":"COUNTIFS(STUDATA!$C:$C,C12,STUDATA!$G:$G,\"M\",STUDATA!$H:$H,\"GEN\")","v":0},{"$f":"COUNTIFS(STUDATA!$C:$C,C12,STUDATA!$G:$G,\"F\",STUDATA!$H:$H,\"GEN\")","v":0},0,{"$f":"COUNTIFS(STUDATA!$C:$C,C12,STUDATA!$G:$G,\"M\",STUDATA!$H:$H,\"ST\")","v":0},{"$f":"COUNTIFS(STUDATA!$C:$C,C12,STUDATA!$G:$G,\"F\",STUDATA!$H:$H,\"ST\")","v":2},2,{"$f":"COUNTIFS(STUDATA!$C:$C,C12,STUDATA!$G:$G,\"M\",STUDATA!$H:$H,\"SC\")","v":3},{"$f":"COUNTIFS(STUDATA!$C:$C,C12,STUDATA!$G:$G,\"F\",STUDATA!$H:$H,\"SC\")","v":5},8,{"$f":"COUNTIFS(STUDATA!$C:$C,C12,STUDATA!$G:$G,\"M\",STUDATA!$H:$H,\"OBC\")","v":4},{"$f":"COUNTIFS(STUDATA!$C:$C,C12,STUDATA!$G:$G,\"F\",STUDATA!$H:$H,\"OBC\")","v":9},13,{"$f":"COUNTIFS(STUDATA!$C:$C,C12,STUDATA!$G:$G,\"M\",STUDATA!$H:$H,\"SBC\")","v":0},{"$f":"COUNTIFS(STUDATA!$C:$C,C12,STUDATA!$G:$G,\"F\",STUDATA!$H:$H,\"SBC\")","v":0},0,7,16,23]
[null,7,7,{"$f":"COUNTIFS(STUDATA!$C:$C,C13,STUDATA!$G:$G,\"M\",STUDATA!$H:$H,\"GEN\")","v":0},{"$f":"COUNTIFS(STUDATA!$C:$C,C13,STUDATA!$G:$G,\"F\",STUDATA!$H:$H,\"GEN\")","v":0},0,{"$f":"COUNTIFS(STUDATA!$C:$C,C13,STUDATA!$G:$G,\"M\",STUDATA!$H:$H,\"ST\")","v":0},{"$f":"COUNTIFS(STUDATA!$C:$C,C13,STUDATA!$G:$G,\"F\",STUDATA!$H:$H,\"ST\")","v":1},1,{"$f":"COUNTIFS(STUDATA!$C:$C,C13,STUDATA!$G:$G,\"M\",STUDATA!$H:$H,\"SC\")","v":4},{"$f":"COUNTIFS(STUDATA!$C:$C,C13,STUDATA!$G:$G,\"F\",STUDATA!$H:$H,\"SC\")","v":6},10,{"$f":"COUNTIFS(STUDATA!$C:$C,C13,STUDATA!$G:$G,\"M\",STUDATA!$H:$H,\"OBC\")","v":6},{"$f":"COUNTIFS(STUDATA!$C:$C,C13,STUDATA!$G:$G,\"F\",STUDATA!$H:$H,\"OBC\")","v":2},8,{"$f":"COUNTIFS(STUDATA!$C:$C,C13,STUDATA!$G:$G,\"M\",STUDATA!$H:$H,\"SBC\")","v":0},{"$f":"COUNTIFS(STUDATA!$C:$C,C13,STUDATA!$G:$G,\"F\",STUDATA!$H:$H,\"SBC\")","v":0},0,10,9,19]
[null,8,8,{"$f":"COUNTIFS(STUDATA!$C:$C,C14,STUDATA!$G:$G,\"M\",STUDATA!$H:$H,\"GEN\")","v":0},{"$f":"COUNTIFS(STUDATA!$C:$C,C14,STUDATA!$G:$G,\"F\",STUDATA!$H:$H,\"GEN\")","v":0},0,{"$f":"COUNTIFS(STUDATA!$C:$C,C14,STUDATA!$G:$G,\"M\",STUDATA!$H:$H,\"ST\")","v":1},{"$f":"COUNTIFS(STUDATA!$C:$C,C14,STUDATA!$G:$G,\"F\",STUDATA!$H:$H,\"ST\")","v":1},2,{"$f":"COUNTIFS(STUDATA!$C:$C,C14,STUDATA!$G:$G,\"M\",STUDATA!$H:$H,\"SC\")","v":0},{"$f":"COUNTIFS(STUDATA!$C:$C,C14,STUDATA!$G:$G,\"F\",STUDATA!$H:$H,\"SC\")","v":13},13,{"$f":"COUNTIFS(STUDATA!$C:$C,C14,STUDATA!$G:$G,\"M\",STUDATA!$H:$H,\"OBC\")","v":1},{"$f":"COUNTIFS(STUDATA!$C:$C,C14,STUDATA!$G:$G,\"F\",STUDATA!$H:$H,\"OBC\")","v":2},3,{"$f":"COUNTIFS(STUDATA!$C:$C,C14,STUDATA!$G:$G,\"M\",STUDATA!$H:$H,\"SBC\")","v":0},{"$f":"COUNTIFS(STUDATA!$C:$C,C14,STUDATA!$G:$G,\"F\",STUDATA!$H:$H,\"SBC\")","v":0},0,2,16,18]
[null,9,9,{"$f":"COUNTIFS(STUDATA!$C:$C,C15,STUDATA!$G:$G,\"M\",STUDATA!$H:$H,\"GEN\")","v":1},{"$f":"COUNTIFS(STUDATA!$C:$C,C15,STUDATA!$G:$G,\"F\",STUDATA!$H:$H,\"GEN\")","v":0},{"$f":"SUM(D15:E15)","v":1},{"$f":"COUNTIFS(STUDATA!$C:$C,C15,STUDATA!$G:$G,\"M\",STUDATA!$H:$H,\"ST\")","v":0},{"$f":"COUNTIFS(STUDATA!$C:$C,C15,STUDATA!$G:$G,\"F\",STUDATA!$H:$H,\"ST\")","v":0},{"$f":"SUM(G15:H15)","v":0},{"$f":"COUNTIFS(STUDATA!$C:$C,C15,STUDATA!$G:$G,\"M\",STUDATA!$H:$H,\"SC\")","v":4},{"$f":"COUNTIFS(STUDATA!$C:$C,C15,STUDATA!$G:$G,\"F\",STUDATA!$H:$H,\"SC\")","v":8},{"$f":"SUM(J15:K15)","v":12},{"$f":"COUNTIFS(STUDATA!$C:$C,C15,STUDATA!$G:$G,\"M\",STUDATA!$H:$H,\"OBC\")","v":8},{"$f":"COUNTIFS(STUDATA!$C:$C,C15,STUDATA!$G:$G,\"F\",STUDATA!$H:$H,\"OBC\")","v":1},{"$f":"SUM(M15:N15)","v":9},{"$f":"COUNTIFS(STUDATA!$C:$C,C15,STUDATA!$G:$G,\"M\",STUDATA!$H:$H,\"SBC\")","v":0},{"$f":"COUNTIFS(STUDATA!$C:$C,C15,STUDATA!$G:$G,\"F\",STUDATA!$H:$H,\"SBC\")","v":0},{"$f":"SUM(P15:Q15)","v":0},{"$f":"SUM(D15+G15+J15+M15+P15)","v":13},{"$f":"E15+H15+K15+N15+Q15","v":9},{"$f":"SUM(S15:T15)","v":22}]
[null,10,10,{"$f":"COUNTIFS(STUDATA!$C:$C,C16,STUDATA!$G:$G,\"M\",STUDATA!$H:$H,\"GEN\")","v":0},{"$f":"COUNTIFS(STUDATA!$C:$C,C16,STUDATA!$G:$G,\"F\",STUDATA!$H:$H,\"GEN\")","v":0},0,{"$f":"COUNTIFS(STUDATA!$C:$C,C16,STUDATA!$G:$G,\"M\",STUDATA!$H:$H,\"ST\")","v":0},{"$f":"COUNTIFS(STUDATA!$C:$C,C16,STUDATA!$G:$G,\"F\",STUDATA!$H:$H,\"ST\")","v":0},0,{"$f":"COUNTIFS(STUDATA!$C:$C,C16,STUDATA!$G:$G,\"M\",STUDATA!$H:$H,\"SC\")","v":11},{"$f":"COUNTIFS(STUDATA!$C:$C,C16,STUDATA!$G:$G,\"F\",STUDATA!$H:$H,\"SC\")","v":10},21,{"$f":"COUNTIFS(STUDATA!$C:$C,C16,STUDATA!$G:$G,\"M\",STUDATA!$H:$H,\"OBC\")","v":9},{"$f":"COUNTIFS(STUDATA!$C:$C,C16,STUDATA!$G:$G,\"F\",STUDATA!$H:$H,\"OBC\")","v":9},18,{"$f":"COUNTIFS(STUDATA!$C:$C,C16,STUDATA!$G:$G,\"M\",STUDATA!$H:$H,\"SBC\")","v":0},{"$f":"COUNTIFS(STUDATA!$C:$C,C16,STUDATA!$G:$G,\"F\",STUDATA!$H:$H,\"SBC\")","v":0},0,20,19,39]
[null,11,11,{"$f":"COUNTIFS(STUDATA!$C:$C,C17,STUDATA!$G:$G,\"M\",STUDATA!$H:$H,\"GEN\")","v":0},{"$f":"COUNTIFS(STUDATA!$C:$C,C17,STUDATA!$G:$G,\"F\",STUDATA!$H:$H,\"GEN\")","v":1},1,{"$f":"COUNTIFS(STUDATA!$C:$C,C17,STUDATA!$G:$G,\"M\",STUDATA!$H:$H,\"ST\")","v":1},{"$f":"COUNTIFS(STUDATA!$C:$C,C17,STUDATA!$G:$G,\"F\",STUDATA!$H:$H,\"ST\")","v":1},2,{"$f":"COUNTIFS(STUDATA!$C:$C,C17,STUDATA!$G:$G,\"M\",STUDATA!$H:$H,\"SC\")","v":12},{"$f":"COUNTIFS(STUDATA!$C:$C,C17,STUDATA!$G:$G,\"F\",STUDATA!$H:$H,\"SC\")","v":12},24,{"$f":"COUNTIFS(STUDATA!$C:$C,C17,STUDATA!$G:$G,\"M\",STUDATA!$H:$H,\"OBC\")","v":10},{"$f":"COUNTIFS(STUDATA!$C:$C,C17,STUDATA!$G:$G,\"F\",STUDATA!$H:$H,\"OBC\")","v":11},21,{"$f":"COUNTIFS(STUDATA!$C:$C,C17,STUDATA!$G:$G,\"M\",STUDATA!$H:$H,\"SBC\")","v":0},{"$f":"COUNTIFS(STUDATA!$C:$C,C17,STUDATA!$G:$G,\"F\",STUDATA!$H:$H,\"SBC\")","v":0},0,23,25,48]
[null,12,12,{"$f":"COUNTIFS(STUDATA!$C:$C,C18,STUDATA!$G:$G,\"M\",STUDATA!$H:$H,\"GEN\")","v":0},{"$f":"COUNTIFS(STUDATA!$C:$C,C18,STUDATA!$G:$G,\"F\",STUDATA!$H:$H,\"GEN\")","v":0},0,{"$f":"COUNTIFS(STUDATA!$C:$C,C18,STUDATA!$G:$G,\"M\",STUDATA!$H:$H,\"ST\")","v":0},{"$f":"COUNTIFS(STUDATA!$C:$C,C18,STUDATA!$G:$G,\"F\",STUDATA!$H:$H,\"ST\")","v":0},0,{"$f":"COUNTIFS(STUDATA!$C:$C,C18,STUDATA!$G:$G,\"M\",STUDATA!$H:$H,\"SC\")","v":9},{"$f":"COUNTIFS(STUDATA!$C:$C,C18,STUDATA!$G:$G,\"F\",STUDATA!$H:$H,\"SC\")","v":4},13,{"$f":"COUNTIFS(STUDATA!$C:$C,C18,STUDATA!$G:$G,\"M\",STUDATA!$H:$H,\"OBC\")","v":7},{"$f":"COUNTIFS(STUDATA!$C:$C,C18,STUDATA!$G:$G,\"F\",STUDATA!$H:$H,\"OBC\")","v":5},12,{"$f":"COUNTIFS(STUDATA!$C:$C,C18,STUDATA!$G:$G,\"M\",STUDATA!$H:$H,\"SBC\")","v":0},{"$f":"COUNTIFS(STUDATA!$C:$C,C18,STUDATA!$G:$G,\"F\",STUDATA!$H:$H,\"SBC\")","v":0},0,16,9,25]
[null,"TOTAL",null,{"$f":"SUM(D7:D18)","v":1},{"$f":"SUM(E7:E18)","v":1},2,3,7,10,66,74,140,60,58,118,0,1,1,130,141,271]

{"sheet":"REPORTS","index":7,"n_rows":23,"n_cols":18,"rows_kept":23,"hidden":true,"merged":[[1,1,1,16],[2,1,2,16],[3,5,3,6],[3,7,3,11],[3,12,3,16],[6,1,17,1],[6,2,17,2],[18,1,18,2],[20,14,20,16],[21,14,21,16],[22,14,22,16]]}
[]
[null,{"$f":"DASHBOARD!B2","v":"कार्यालय प्रधानाचार्य राजकीय उच्च माध्यमिक विद्यालय 13डीओएल, श्री गंगानगर"},{"$nulls":15},"WEEK"]
[null,"स्माइल 2 के अन्तर्गत विद्याथियों के अध्ययन हेतु गृहकार्य वितरण एवं संकलन हेतु शिक्षको के द्वारा भरे जाना वाला ( प्रपत्र -अ)",{"$nulls":15},2]
[{"$nulls":5},"WEEKLY QUIZ",null,"गृहकार्य वितरण से सबंधित सूचना ",{"$nulls":4},"गृहकार्य संकलन  से सबंधित सूचना "]
[null,"SN","विद्यालय  का नाम ","कक्षा ","कुल नामाकन ","QUIZ में भाग लेने वाले विद्यार्थी","QUIZ में भाग लेने से वंचित विद्यार्थी","ऑनलाइन माध्यम से विध्यार्थियों की संख्या  ","ऑफलाइन माध्यम से विध्यार्थियों की संख्या  ","गृहकार्य प्राप्त करने वाले विध्यार्थियों की कुल संख्या (5+6)","शेष विध्यार्थियों की संख्या ","बिंदु संख्या 8 में गृहकार्य वितरण से वंचित रहने वाले विध्यार्थियों का वंचित रहने का कारण / विवरण ","ऑनलाइन माध्यम से विध्यार्थियों की संख्या  ","ऑफलाइन माध्यम से विध्यार्थियों की संख्या  ","गृहकार्य पूर्ण  कर जमा करवाने  वाले विध्यार्थियों की कुल संख्या (10+11)","शेष विध्यार्थियों की संख्या ","बिंदु संख्या 13 में गृहकार्य संकलन  से वंचित रहने वाले विध्यार्थियों का वंचित रहने का कारण / विवरण ","संकलन पश्चात विध्यार्थियों का गृहकार्य पोर्टफोलियो तैयार कर लिया गया है, हां अथवा नहीं "]
[null,null,1,2,3,4,null,5,6,7,8,9,10,11,12,13,14,15]
[null,1,{"$f":"CONCATENATE(DASHBOARD!S4,DASHBOARD!S5)","v":"राजकीय उच्च माध्यमिक विद्यालय13डीओएल, श्री गंगानगर"},1,{"$f":"COUNTIF('DATA ENTRY'!$F$9:$F$1000,D7)","v":7},{"$f":"IF($R$3=1,COUNTIFS('DATA ENTRY'!$F$9:$F$1000,REPORTS!$D7,'DATA ENTRY'!$K$9:$K$1000,\"YES\"),IF($R$3=2,COUNTIFS('DATA ENTRY'!$F$9:$F$1000,REPORTS!$D7,'DATA ENTRY'!$L$9:$L$1000,\"YES\"),IF($R$3=3,COUNTIFS('DATA ENTRY'!$F$9:$F$1000,REPORTS!$D7,'DATA ENTRY'!$M$9:$M$1000,\"YES\"),IF($R$3=4,COUNTIFS('DATA ENTRY'!$F$9:$F$1000,REPORTS!$D7,'DATA ENTRY'!$N$9:$N$1000,\"YES\"),IF($R$3=5,COUNTIFS('DATA ENTRY'!$F$9:$F$1000,REPORTS!$D7,'DATA ENTRY'!$O$9:$O$1000,\"YES\"),\"\")))))","v":0},null,{"$f":"IF($R$3=1,COUNTIFS('DATA ENTRY'!$F$9:$F$1000,REPORTS!$D7,'DATA ENTRY'!$T$9:$T$1000,\"ONLINE\"),IF($R$3=2,COUNTIFS('DATA ENTRY'!$F$9:$F$1000,REPORTS!$D7,'DATA ENTRY'!$U$9:$U$1000,\"ONLINE\"),IF($R$3=3,COUNTIFS('DATA ENTRY'!$F$9:$F$1000,REPORTS!$D7,'DATA ENTRY'!$V$9:$V$1000,\"ONLINE\"),IF($R$3=4,COUNTIFS('DATA ENTRY'!$F$9:$F$1000,REPORTS!$D7,'DATA ENTRY'!$W$9:$W$1000,\"ONLINE\"),IF($R$3=5,COUNTIFS('DATA ENTRY'!$F$9:$F$1000,REPORTS!$D7,'DATA ENTRY'!$X$9:$X$1000,\"ONLINE\"),\"\")))))","v":0},{"$f":"IF($R$3=1,COUNTIFS('DATA ENTRY'!$F$9:$F$1000,REPORTS!$D7,'DATA ENTRY'!$T$9:$T$1000,\"OFFLINE\"),IF($R$3=2,COUNTIFS('DATA ENTRY'!$F$9:$F$1000,REPORTS!$D7,'DATA ENTRY'!$U$9:$U$1000,\"OFFLINE\"),IF($R$3=3,COUNTIFS('DATA ENTRY'!$F$9:$F$1000,REPORTS!$D7,'DATA ENTRY'!$V$9:$V$1000,\"OFFLINE\"),IF($R$3=4,COUNTIFS('DATA ENTRY'!$F$9:$F$1000,REPORTS!$D7,'DATA ENTRY'!$W$9:$W$1000,\"OFFLINE\"),IF($R$3=5,COUNTIFS('DATA ENTRY'!$F$9:$F$1000,REPORTS!$D7,'DATA ENTRY'!$X$9:$X$1000,\"OFFLINE\"),\"\")))))","v":0},{"$f":"H7+I7","v":0},{"$f":"E7-J7","v":7},null,{"$f":"IF($R$3=1,COUNTIFS('DATA ENTRY'!$F$9:$F$1000,REPORTS!$D7,'DATA ENTRY'!$Y$9:$Y$1000,\"ONLINE\"),IF($R$3=2,COUNTIFS('DATA ENTRY'!$F$9:$F$1000,REPORTS!$D7,'DATA ENTRY'!$Z$9:$Z$1000,\"ONLINE\"),IF($R$3=3,COUNTIFS('DATA ENTRY'!$F$9:$F$1000,REPORTS!$D7,'DATA ENTRY'!$AA$9:$AA$1000,\"ONLINE\"),IF($R$3=4,COUNTIFS('DATA ENTRY'!$F$9:$F$1000,REPORTS!$D7,'DATA ENTRY'!$AB$9:$AB$1000,\"ONLINE\"),IF($R$3=5,COUNTIFS('DATA ENTRY'!$F$9:$F$1000,REPORTS!$D7,'DATA ENTRY'!$AC$9:$AC$1000,\"ONLINE\"),\"\")))))","v":0},{"$f":"IF($R$3=1,COUNTIFS('DATA ENTRY'!$F$9:$F$1000,REPORTS!$D7,'DATA ENTRY'!$Y$9:$Y$1000,\"OFFLINE\"),IF($R$3=2,COUNTIFS('DATA ENTRY'!$F$9:$F$1000,REPORTS!$D7,'DATA ENTRY'!$Z$9:$Z$1000,\"OFFLINE\"),IF($R$3=3,COUNTIFS('DATA ENTRY'!$F$9:$F$1000,REPORTS!$D7,'DATA ENTRY'!$AA$9:$AA$1000,\"OFFLINE\"),IF($R$3=4,COUNTIFS('DATA ENTRY'!$F$9:$F$1000,REPORTS!$D7,'DATA ENTRY'!$AB$9:$AB$1000,\"OFFLINE\"),IF($R$3=5,COUNTIFS('DATA ENTRY'!$F$9:$F$1000,REPORTS!$D7,'DATA ENTRY'!$AC$9:$AC$1000,\"OFFLINE\"),\"\")))))","v":0},{"$f":"M7+N7","v":0},{"$f":"E7-O7","v":7},null,"YES"]
[{"$nulls":3},2,{"$f":"COUNTIF('DATA ENTRY'!$F$9:$F$1000,D8)","v":24},{"$f":"IF($R$3=1,COUNTIFS('DATA ENTRY'!$F$9:$F$1000,REPORTS!$D8,'DATA ENTRY'!$K$9:$K$1000,\"YES\"),IF($R$3=2,COUNTIFS('DATA ENTRY'!$F$9:$F$1000,REPORTS!$D8,'DATA ENTRY'!$L$9:$L$1000,\"YES\"),IF($R$3=3,COUNTIFS('DATA ENTRY'!$F$9:$F$1000,REPORTS!$D8,'DATA ENTRY'!$M$9:$M$1000,\"YES\"),IF($R$3=4,COUNTIFS('DATA ENTRY'!$F$9:$F$1000,REPORTS!$D8,'DATA ENTRY'!$N$9:$N$1000,\"YES\"),IF($R$3=5,COUNTIFS('DATA ENTRY'!$F$9:$F$1000,REPORTS!$D8,'DATA ENTRY'!$O$9:$O$1000,\"YES\"),\"\")))))","v":0},null,{"$f":"IF($R$3=1,COUNTIFS('DATA ENTRY'!$F$9:$F$1000,REPORTS!$D8,'DATA ENTRY'!$T$9:$T$1000,\"ONLINE\"),IF($R$3=2,COUNTIFS('DATA ENTRY'!$F$9:$F$1000,REPORTS!$D8,'DATA ENTRY'!$U$9:$U$1000,\"ONLINE\"),IF($R$3=3,COUNTIFS('DATA ENTRY'!$F$9:$F$1000,REPORTS!$D8,'DATA ENTRY'!$V$9:$V$1000,\"ONLINE\"),IF($R$3=4,COUNTIFS('DATA ENTRY'!$F$9:$F$1000,REPORTS!$D8,'DATA ENTRY'!$W$9:$W$1000,\"ONLINE\"),IF($R$3=5,COUNTIFS('DATA ENTRY'!$F$9:$F$1000,REPORTS!$D8,'DATA ENTRY'!$X$9:$X$1000,\"ONLINE\"),\"\")))))","v":0},{"$f":"IF($R$3=1,COUNTIFS('DATA ENTRY'!$F$9:$F$1000,REPORTS!$D8,'DATA ENTRY'!$T$9:$T$1000,\"OFFLINE\"),IF($R$3=2,COUNTIFS('DATA ENTRY'!$F$9:$F$1000,REPORTS!$D8,'DATA ENTRY'!$U$9:$U$1000,\"OFFLINE\"),IF($R$3=3,COUNTIFS('DATA ENTRY'!$F$9:$F$1000,REPORTS!$D8,'DATA ENTRY'!$V$9:$V$1000,\"OFFLINE\"),IF($R$3=4,COUNTIFS('DATA ENTRY'!$F$9:$F$1000,REPORTS!$D8,'DATA ENTRY'!$W$9:$W$1000,\"OFFLINE\"),IF($R$3=5,COUNTIFS('DATA ENTRY'!$F$9:$F$1000,REPORTS!$D8,'DATA ENTRY'!$X$9:$X$1000,\"OFFLINE\"),\"\")))))","v":0},0,24,null,{"$f":"IF($R$3=1,COUNTIFS('DATA ENTRY'!$F$9:$F$1000,REPORTS!$D8,'DATA ENTRY'!$Y$9:$Y$1000,\"ONLINE\"),IF($R$3=2,COUNTIFS('DATA ENTRY'!$F$9:$F$1000,REPORTS!$D8,'DATA ENTRY'!$Z$9:$Z$1000,\"ONLINE\"),IF($R$3=3,COUNTIFS('DATA ENTRY'!$F$9:$F$1000,REPORTS!$D8,'DATA ENTRY'!$AA$9:$AA$1000,\"ONLINE\"),IF($R$3=4,COUNTIFS('DATA ENTRY'!$F$9:$F$1000,REPORTS!$D8,'DATA ENTRY'!$AB$9:$AB$1000,\"ONLINE\"),IF($R$3=5,COUNTIFS('DATA ENTRY'!$F$9:$F$1000,REPORTS!$D8,'DATA ENTRY'!$AC$9:$AC$1000,\"ONLINE\"),\"\")))))","v":0},{"$f":"IF($R$3=1,COUNTIFS('DATA ENTRY'!$F$9:$F$1000,REPORTS!$D8,'DATA ENTRY'!$Y$9:$Y$1000,\"OFFLINE\"),IF($R$3=2,COUNTIFS('DATA ENTRY'!$F$9:$F$1000,REPORTS!$D8,'DATA ENTRY'!$Z$9:$Z$1000,\"OFFLINE\"),IF($R$3=3,COUNTIFS('DATA ENTRY'!$F$9:$F$1000,REPORTS!$D8,'DATA ENTRY'!$AA$9:$AA$1000,\"OFFLINE\"),IF($R$3=4,COUNTIFS('DATA ENTRY'!$F$9:$F$1000,REPORTS!$D8,'DATA ENTRY'!$AB$9:$AB$1000,\"OFFLINE\"),IF($R$3=5,COUNTIFS('DATA ENTRY'!$F$9:$F$1000,REPORTS!$D8,'DATA ENTRY'!$AC$9:$AC$1000,\"OFFLINE\"),\"\")))))","v":0},0,24,null,"YES"]
[{"$nulls":3},3,{"$f":"COUNTIF('DATA ENTRY'!$F$9:$F$1000,D9)","v":13},{"$f":"IF($R$3=1,COUNTIFS('DATA ENTRY'!$F$9:$F$1000,REPORTS!$D9,'DATA ENTRY'!$K$9:$K$1000,\"YES\"),IF($R$3=2,COUNTIFS('DATA ENTRY'!$F$9:$F$1000,REPORTS!$D9,'DATA ENTRY'!$L$9:$L$1000,\"YES\"),IF($R$3=3,COUNTIFS('DATA ENTRY'!$F$9:$F$1000,REPORTS!$D9,'DATA ENTRY'!$M$9:$M$1000,\"YES\"),IF($R$3=4,COUNTIFS('DATA ENTRY'!$F$9:$F$1000,REPORTS!$D9,'DATA ENTRY'!$N$9:$N$1000,\"YES\"),IF($R$3=5,COUNTIFS('DATA ENTRY'!$F$9:$F$1000,REPORTS!$D9,'DATA ENTRY'!$O$9:$O$1000,\"YES\"),\"\")))))","v":0},null,{"$f":"IF($R$3=1,COUNTIFS('DATA ENTRY'!$F$9:$F$1000,REPORTS!$D9,'DATA ENTRY'!$T$9:$T$1000,\"ONLINE\"),IF($R$3=2,COUNTIFS('DATA ENTRY'!$F$9:$F$1000,REPORTS!$D9,'DATA ENTRY'!$U$9:$U$1000,\"ONLINE\"),IF($R$3=3,COUNTIFS('DATA ENTRY'!$F$9:$F$1000,REPORTS!$D9,'DATA ENTRY'!$V$9:$V$1000,\"ONLINE\"),IF($R$3=4,COUNTIFS('DATA ENTRY'!$F$9:$F$1000,REPORTS!$D9,'DATA ENTRY'!$W$9:$W$1000,\"ONLINE\"),IF($R$3=5,COUNTIFS('DATA ENTRY'!$F$9:$F$1000,REPORTS!$D9,'DATA ENTRY'!$X$9:$X$1000,\"ONLINE\"),\"\")))))","v":0},{"$f":"IF($R$3=1,COUNTIFS('DATA ENTRY'!$F$9:$F$1000,REPORTS!$D9,'DATA ENTRY'!$T$9:$T$1000,\"OFFLINE\"),IF($R$3=2,COUNTIFS('DATA ENTRY'!$F$9:$F$1000,REPORTS!$D9,'DATA ENTRY'!$U$9:$U$1000,\"OFFLINE\"),IF($R$3=3,COUNTIFS('DATA ENTRY'!$F$9:$F$1000,REPORTS!$D9,'DATA ENTRY'!$V$9:$V$1000,\"OFFLINE\"),IF($R$3=4,COUNTIFS('DATA ENTRY'!$F$9:$F$1000,REPORTS!$D9,'DATA ENTRY'!$W$9:$W$1000,\"OFFLINE\"),IF($R$3=5,COUNTIFS('DATA ENTRY'!$F$9:$F$1000,REPORTS!$D9,'DATA ENTRY'!$X$9:$X$1000,\"OFFLINE\"),\"\")))))","v":0},0,13,null,{"$f":"IF($R$3=1,COUNTIFS('DATA ENTRY'!$F$9:$F$1000,REPORTS!$D9,'DATA ENTRY'!$Y$9:$Y$1000,\"ONLINE\"),IF($R$3=2,COUNTIFS('DATA ENTRY'!$F$9:$F$1000,REPORTS!$D9,'DATA ENTRY'!$Z$9:$Z$1000,\"ONLINE\"),IF($R$3=3,COUNTIFS('DATA ENTRY'!$F$9:$F$1000,REPORTS!$D9,'DATA ENTRY'!$AA$9:$AA$1000,\"ONLINE\"),IF($R$3=4,COUNTIFS('DATA ENTRY'!$F$9:$F$1000,REPORTS!$D9,'DATA ENTRY'!$AB$9:$AB$1000,\"ONLINE\"),IF($R$3=5,COUNTIFS('DATA ENTRY'!$F$9:$F$1000,REPORTS!$D9,'DATA ENTRY'!$AC$9:$AC$1000,\"ONLINE\"),\"\")))))","v":0},{"$f":"IF($R$3=1,COUNTIFS('DATA ENTRY'!$F$9:$F$1000,REPORTS!$D9,'DATA ENTRY'!$Y$9:$Y$1000,\"OFFLINE\"),IF($R$3=2,COUNTIFS('DATA ENTRY'!$F$9:$F$1000,REPORTS!$D9,'DATA ENTRY'!$Z$9:$Z$1000,\"OFFLINE\"),IF($R$3=3,COUNTIFS('DATA ENTRY'!$F$9:$F$1000,REPORTS!$D9,'DATA ENTRY'!$AA$9:$AA$1000,\"OFFLINE\"),IF($R$3=4,COUNTIFS('DATA ENTRY'!$F$9:$F$1000,REPORTS!$D9,'DATA ENTRY'!$AB$9:$AB$1000,\"OFFLINE\"),IF($R$3=5,COUNTIFS('DATA ENTRY'!$F$9:$F$1000,REPORTS!$D9,'DATA ENTRY'!$AC$9:$AC$1000,\"OFFLINE\"),\"\")))))","v":0},0,13,null,"YES"]
[{"$nulls":3},4,{"$f":"COUNTIF('DATA ENTRY'!$F$9:$F$1000,D10)","v":16},{"$f":"IF($R$3=1,COUNTIFS('DATA ENTRY'!$F$9:$F$1000,REPORTS!$D10,'DATA ENTRY'!$K$9:$K$1000,\"YES\"),IF($R$3=2,COUNTIFS('DATA ENTRY'!$F$9:$F$1000,REPORTS!$D10,'DATA ENTRY'!$L$9:$L$1000,\"YES\"),IF($R$3=3,COUNTIFS('DATA ENTRY'!$F$9:$F$1000,REPORTS!$D10,'DATA ENTRY'!$M$9:$M$1000,\"YES\"),IF($R$3=4,COUNTIFS('DATA ENTRY'!$F$9:$F$1000,REPORTS!$D10,'DATA ENTRY'!$N$9:$N$1000,\"YES\"),IF($R$3=5,COUNTIFS('DATA ENTRY'!$F$9:$F$1000,REPORTS!$D10,'DATA ENTRY'!$O$9:$O$1000,\"YES\"),\"\")))))","v":0},null,{"$f":"IF($R$3=1,COUNTIFS('DATA ENTRY'!$F$9:$F$1000,REPORTS!$D10,'DATA ENTRY'!$T$9:$T$1000,\"ONLINE\"),IF($R$3=2,COUNTIFS('DATA ENTRY'!$F$9:$F$1000,REPORTS!$D10,'DATA ENTRY'!$U$9:$U$1000,\"ONLINE\"),IF($R$3=3,COUNTIFS('DATA ENTRY'!$F$9:$F$1000,REPORTS!$D10,'DATA ENTRY'!$V$9:$V$1000,\"ONLINE\"),IF($R$3=4,COUNTIFS('DATA ENTRY'!$F$9:$F$1000,REPORTS!$D10,'DATA ENTRY'!$W$9:$W$1000,\"ONLINE\"),IF($R$3=5,COUNTIFS('DATA ENTRY'!$F$9:$F$1000,REPORTS!$D10,'DATA ENTRY'!$X$9:$X$1000,\"ONLINE\"),\"\")))))","v":0},{"$f":"IF($R$3=1,COUNTIFS('DATA ENTRY'!$F$9:$F$1000,REPORTS!$D10,'DATA ENTRY'!$T$9:$T$1000,\"OFFLINE\"),IF($R$3=2,COUNTIFS('DATA ENTRY'!$F$9:$F$1000,REPORTS!$D10,'DATA ENTRY'!$U$9:$U$1000,\"OFFLINE\"),IF($R$3=3,COUNTIFS('DATA ENTRY'!$F$9:$F$1000,REPORTS!$D10,'DATA ENTRY'!$V$9:$V$1000,\"OFFLINE\"),IF($R$3=4,COUNTIFS('DATA ENTRY'!$F$9:$F$1000,REPORTS!$D10,'DATA ENTRY'!$W$9:$W$1000,\"OFFLINE\"),IF($R$3=5,COUNTIFS('DATA ENTRY'!$F$9:$F$1000,REPORTS!$D10,'DATA ENTRY'!$X$9:$X$1000,\"OFFLINE\"),\"\")))))","v":0},0,16,null,{"$f":"IF($R$3=1,COUNTIFS('DATA ENTRY'!$F$9:$F$1000,REPORTS!$D10,'DATA ENTRY'!$Y$9:$Y$1000,\"ONLINE\"),IF($R$3=2,COUNTIFS('DATA ENTRY'!$F$9:$F$1000,REPORTS!$D10,'DATA ENTRY'!$Z$9:$Z$1000,\"ONLINE\"),IF($R$3=3,COUNTIFS('DATA ENTRY'!$F$9:$F$1000,REPORTS!$D10,'DATA ENTRY'!$AA$9:$AA$1000,\"ONLINE\"),IF($R$3=4,COUNTIFS('DATA ENTRY'!$F$9:$F$1000,REPORTS!$D10,'DATA ENTRY'!$AB$9:$AB$1000,\"ONLINE\"),IF($R$3=5,COUNTIFS('DATA ENTRY'!$F$9:$F$1000,REPORTS!$D10,'DATA ENTRY'!$AC$9:$AC$1000,\"ONLINE\"),\"\")))))","v":0},{"$f":"IF($R$3=1,COUNTIFS('DATA ENTRY'!$F$9:$F$1000,REPORTS!$D10,'DATA ENTRY'!$Y$9:$Y$1000,\"OFFLINE\"),IF($R$3=2,COUNTIFS('DATA ENTRY'!$F$9:$F$1000,REPORTS!$D10,'DATA ENTRY'!$Z$9:$Z$1000,\"OFFLINE\"),IF($R$3=3,COUNTIFS('DATA ENTRY'!$F$9:$F$1000,REPORTS!$D10,'DATA ENTRY'!$AA$9:$AA$1000,\"OFFLINE\"),IF($R$3=4,COUNTIFS('DATA ENTRY'!$F$9:$F$1000,REPORTS!$D10,'DATA ENTRY'!$AB$9:$AB$1000,\"OFFLINE\"),IF($R$3=5,COUNTIFS('DATA ENTRY'!$F$9:$F$1000,REPORTS!$D10,'DATA ENTRY'!$AC$9:$AC$1000,\"OFFLINE\"),\"\")))))","v":0},0,16,null,"YES"]
[{"$nulls":3},5,{"$f":"COUNTIF('DATA ENTRY'!$F$9:$F$1000,D11)","v":17},{"$f":"IF($R$3=1,COUNTIFS('DATA ENTRY'!$F$9:$F$1000,REPORTS!$D11,'DATA ENTRY'!$K$9:$K$1000,\"YES\"),IF($R$3=2,COUNTIFS('DATA ENTRY'!$F$9:$F$1000,REPORTS!$D11,'DATA ENTRY'!$L$9:$L$1000,\"YES\"),IF($R$3=3,COUNTIFS('DATA ENTRY'!$F$9:$F$1000,REPORTS!$D11,'DATA ENTRY'!$M$9:$M$1000,\"YES\"),IF($R$3=4,COUNTIFS('DATA ENTRY'!$F$9:$F$1000,REPORTS!$D11,'DATA ENTRY'!$N$9:$N$1000,\"YES\"),IF($R$3=5,COUNTIFS('DATA ENTRY'!$F$9:$F$1000,REPORTS!$D11,'DATA ENTRY'!$O$9:$O$1000,\"YES\"),\"\")))))","v":0},null,{"$f":"IF($R$3=1,COUNTIFS('DATA ENTRY'!$F$9:$F$1000,REPORTS!$D11,'DATA ENTRY'!$T$9:$T$1000,\"ONLINE\"),IF($R$3=2,COUNTIFS('DATA ENTRY'!$F$9:$F$1000,REPORTS!$D11,'DATA ENTRY'!$U$9:$U$1000,\"ONLINE\"),IF($R$3=3,COUNTIFS('DATA ENTRY'!$F$9:$F$1000,REPORTS!$D11,'DATA ENTRY'!$V$9:$V$1000,\"ONLINE\"),IF($R$3=4,COUNTIFS('DATA ENTRY'!$F$9:$F$1000,REPORTS!$D11,'DATA ENTRY'!$W$9:$W$1000,\"ONLINE\"),IF($R$3=5,COUNTIFS('DATA ENTRY'!$F$9:$F$1000,REPORTS!$D11,'DATA ENTRY'!$X$9:$X$1000,\"ONLINE\"),\"\")))))","v":0},{"$f":"IF($R$3=1,COUNTIFS('DATA ENTRY'!$F$9:$F$1000,REPORTS!$D11,'DATA ENTRY'!$T$9:$T$1000,\"OFFLINE\"),IF($R$3=2,COUNTIFS('DATA ENTRY'!$F$9:$F$1000,REPORTS!$D11,'DATA ENTRY'!$U$9:$U$1000,\"OFFLINE\"),IF($R$3=3,COUNTIFS('DATA ENTRY'!$F$9:$F$1000,REPORTS!$D11,'DATA ENTRY'!$V$9:$V$1000,\"OFFLINE\"),IF($R$3=4,COUNTIFS('DATA ENTRY'!$F$9:$F$1000,REPORTS!$D11,'DATA ENTRY'!$W$9:$W$1000,\"OFFLINE\"),IF($R$3=5,COUNTIFS('DATA ENTRY'!$F$9:$F$1000,REPORTS!$D11,'DATA ENTRY'!$X$9:$X$1000,\"OFFLINE\"),\"\")))))","v":0},0,17,null,{"$f":"IF($R$3=1,COUNTIFS('DATA ENTRY'!$F$9:$F$1000,REPORTS!$D11,'DATA ENTRY'!$Y$9:$Y$1000,\"ONLINE\"),IF($R$3=2,COUNTIFS('DATA ENTRY'!$F$9:$F$1000,REPORTS!$D11,'DATA ENTRY'!$Z$9:$Z$1000,\"ONLINE\"),IF($R$3=3,COUNTIFS('DATA ENTRY'!$F$9:$F$1000,REPORTS!$D11,'DATA ENTRY'!$AA$9:$AA$1000,\"ONLINE\"),IF($R$3=4,COUNTIFS('DATA ENTRY'!$F$9:$F$1000,REPORTS!$D11,'DATA ENTRY'!$AB$9:$AB$1000,\"ONLINE\"),IF($R$3=5,COUNTIFS('DATA ENTRY'!$F$9:$F$1000,REPORTS!$D11,'DATA ENTRY'!$AC$9:$AC$1000,\"ONLINE\"),\"\")))))","v":0},{"$f":"IF($R$3=1,COUNTIFS('DATA ENTRY'!$F$9:$F$1000,REPORTS!$D11,'DATA ENTRY'!$Y$9:$Y$1000,\"OFFLINE\"),IF($R$3=2,COUNTIFS('DATA ENTRY'!$F$9:$F$1000,REPORTS!$D11,'DATA ENTRY'!$Z$9:$Z$1000,\"OFFLINE\"),IF($R$3=3,COUNTIFS('DATA ENTRY'!$F$9:$F$1000,REPORTS!$D11,'DATA ENTRY'!$AA$9:$AA$1000,\"OFFLINE\"),IF($R$3=4,COUNTIFS('DATA ENTRY'!$F$9:$F$1000,REPORTS!$D11,'DATA ENTRY'!$AB$9:$AB$1000,\"OFFLINE\"),IF($R$3=5,COUNTIFS('DATA ENTRY'!$F$9:$F$1000,REPORTS!$D11,'DATA ENTRY'!$AC$9:$AC$1000,\"OFFLINE\"),\"\")))))","v":0},0,17,null,"YES"]
[{"$nulls":3},6,{"$f":"COUNTIF('DATA ENTRY'!$F$9:$F$1000,D12)","v":23},{"$f":"IF($R$3=1,COUNTIFS('DATA ENTRY'!$F$9:$F$1000,REPORTS!$D12,'DATA ENTRY'!$K$9:$K$1000,\"YES\"),IF($R$3=2,COUNTIFS('DATA ENTRY'!$F$9:$F$1000,REPORTS!$D12,'DATA ENTRY'!$L$9:$L$1000,\"YES\"),IF($R$3=3,COUNTIFS('DATA ENTRY'!$F$9:$F$1000,REPORTS!$D12,'DATA ENTRY'!$M$9:$M$1000,\"YES\"),IF($R$3=4,COUNTIFS('DATA ENTRY'!$F$9:$F$1000,REPORTS!$D12,'DATA ENTRY'!$N$9:$N$1000,\"YES\"),IF($R$3=5,COUNTIFS('DATA ENTRY'!$F$9:$F$1000,REPORTS!$D12,'DATA ENTRY'!$O$9:$O$1000,\"YES\"),\"\")))))","v":0},null,{"$f":"IF($R$3=1,COUNTIFS('DATA ENTRY'!$F$9:$F$1000,REPORTS!$D12,'DATA ENTRY'!$T$9:$T$1000,\"ONLINE\"),IF($R$3=2,COUNTIFS('DATA ENTRY'!$F$9:$F$1000,REPORTS!$D12,'DATA ENTRY'!$U$9:$U$1000,\"ONLINE\"),IF($R$3=3,COUNTIFS('DATA ENTRY'!$F$9:$F$1000,REPORTS!$D12,'DATA ENTRY'!$V$9:$V$1000,\"ONLINE\"),IF($R$3=4,COUNTIFS('DATA ENTRY'!$F$9:$F$1000,REPORTS!$D12,'DATA ENTRY'!$W$9:$W$1000,\"ONLINE\"),IF($R$3=5,COUNTIFS('DATA ENTRY'!$F$9:$F$1000,REPORTS!$D12,'DATA ENTRY'!$X$9:$X$1000,\"ONLINE\"),\"\")))))","v":0},{"$f":"IF($R$3=1,COUNTIFS('DATA ENTRY'!$F$9:$F$1000,REPORTS!$D12,'DATA ENTRY'!$T$9:$T$1000,\"OFFLINE\"),IF($R$3=2,COUNTIFS('DATA ENTRY'!$F$9:$F$1000,REPORTS!$D12,'DATA ENTRY'!$U$9:$U$1000,\"OFFLINE\"),IF($R$3=3,COUNTIFS('DATA ENTRY'!$F$9:$F$1000,REPORTS!$D12,'DATA ENTRY'!$V$9:$V$1000,\"OFFLINE\"),IF($R$3=4,COUNTIFS('DATA ENTRY'!$F$9:$F$1000,REPORTS!$D12,'DATA ENTRY'!$W$9:$W$1000,\"OFFLINE\"),IF($R$3=5,COUNTIFS('DATA ENTRY'!$F$9:$F$1000,REPORTS!$D12,'DATA ENTRY'!$X$9:$X$1000,\"OFFLINE\"),\"\")))))","v":0},0,23,null,{"$f":"IF($R$3=1,COUNTIFS('DATA ENTRY'!$F$9:$F$1000,REPORTS!$D12,'DATA ENTRY'!$Y$9:$Y$1000,\"ONLINE\"),IF($R$3=2,COUNTIFS('DATA ENTRY'!$F$9:$F$1000,REPORTS!$D12,'DATA ENTRY'!$Z$9:$Z$1000,\"ONLINE\"),IF($R$3=3,COUNTIFS('DATA ENTRY'!$F$9:$F$1000,REPORTS!$D12,'DATA ENTRY'!$AA$9:$AA$1000,\"ONLINE\"),IF($R$3=4,COUNTIFS('DATA ENTRY'!$F$9:$F$1000,REPORTS!$D12,'DATA ENTRY'!$AB$9:$AB$1000,\"ONLINE\"),IF($R$3=5,COUNTIFS('DATA ENTRY'!$F$9:$F$1000,REPORTS!$D12,'DATA ENTRY'!$AC$9:$AC$1000,\"ONLINE\"),\"\")))))","v":0},{"$f":"IF($R$3=1,COUNTIFS('DATA ENTRY'!$F$9:$F$1000,REPORTS!$D12,'DATA ENTRY'!$Y$9:$Y$1000,\"OFFLINE\"),IF($R$3=2,COUNTIFS('DATA ENTRY'!$F$9:$F$1000,REPORTS!$D12,'DATA ENTRY'!$Z$9:$Z$1000,\"OFFLINE\"),IF($R$3=3,COUNTIFS('DATA ENTRY'!$F$9:$F$1000,REPORTS!$D12,'DATA ENTRY'!$AA$9:$AA$1000,\"OFFLINE\"),IF($R$3=4,COUNTIFS('DATA ENTRY'!$F$9:$F$1000,REPORTS!$D12,'DATA ENTRY'!$AB$9:$AB$1000,\"OFFLINE\"),IF($R$3=5,COUNTIFS('DATA ENTRY'!$F$9:$F$1000,REPORTS!$D12,'DATA ENTRY'!$AC$9:$AC$1000,\"OFFLINE\"),\"\")))))","v":0},0,23,null,"YES"]
[{"$nulls":3},7,{"$f":"COUNTIF('DATA ENTRY'!$F$9:$F$1000,D13)","v":19},{"$f":"IF($R$3=1,COUNTIFS('DATA ENTRY'!$F$9:$F$1000,REPORTS!$D13,'DATA ENTRY'!$K$9:$K$1000,\"YES\"),IF($R$3=2,COUNTIFS('DATA ENTRY'!$F$9:$F$1000,REPORTS!$D13,'DATA ENTRY'!$L$9:$L$1000,\"YES\"),IF($R$3=3,COUNTIFS('DATA ENTRY'!$F$9:$F$1000,REPORTS!$D13,'DATA ENTRY'!$M$9:$M$1000,\"YES\"),IF($R$3=4,COUNTIFS('DATA ENTRY'!$F$9:$F$1000,REPORTS!$D13,'DATA ENTRY'!$N$9:$N$1000,\"YES\"),IF($R$3=5,COUNTIFS('DATA ENTRY'!$F$9:$F$1000,REPORTS!$D13,'DATA ENTRY'!$O$9:$O$1000,\"YES\"),\"\")))))","v":0},null,{"$f":"IF($R$3=1,COUNTIFS('DATA ENTRY'!$F$9:$F$1000,REPORTS!$D13,'DATA ENTRY'!$T$9:$T$1000,\"ONLINE\"),IF($R$3=2,COUNTIFS('DATA ENTRY'!$F$9:$F$1000,REPORTS!$D13,'DATA ENTRY'!$U$9:$U$1000,\"ONLINE\"),IF($R$3=3,COUNTIFS('DATA ENTRY'!$F$9:$F$1000,REPORTS!$D13,'DATA ENTRY'!$V$9:$V$1000,\"ONLINE\"),IF($R$3=4,COUNTIFS('DATA ENTRY'!$F$9:$F$1000,REPORTS!$D13,'DATA ENTRY'!$W$9:$W$1000,\"ONLINE\"),IF($R$3=5,COUNTIFS('DATA ENTRY'!$F$9:$F$1000,REPORTS!$D13,'DATA ENTRY'!$X$9:$X$1000,\"ONLINE\"),\"\")))))","v":0},{"$f":"IF($R$3=1,COUNTIFS('DATA ENTRY'!$F$9:$F$1000,REPORTS!$D13,'DATA ENTRY'!$T$9:$T$1000,\"OFFLINE\"),IF($R$3=2,COUNTIFS('DATA ENTRY'!$F$9:$F$1000,REPORTS!$D13,'DATA ENTRY'!$U$9:$U$1000,\"OFFLINE\"),IF($R$3=3,COUNTIFS('DATA ENTRY'!$F$9:$F$1000,REPORTS!$D13,'DATA ENTRY'!$V$9:$V$1000,\"OFFLINE\"),IF($R$3=4,COUNTIFS('DATA ENTRY'!$F$9:$F$1000,REPORTS!$D13,'DATA ENTRY'!$W$9:$W$1000,\"OFFLINE\"),IF($R$3=5,COUNTIFS('DATA ENTRY'!$F$9:$F$1000,REPORTS!$D13,'DATA ENTRY'!$X$9:$X$1000,\"OFFLINE\"),\"\")))))","v":0},0,19,null,{"$f":"IF($R$3=1,COUNTIFS('DATA ENTRY'!$F$9:$F$1000,REPORTS!$D13,'DATA ENTRY'!$Y$9:$Y$1000,\"ONLINE\"),IF($R$3=2,COUNTIFS('DATA ENTRY'!$F$9:$F$1000,REPORTS!$D13,'DATA ENTRY'!$Z$9:$Z$1000,\"ONLINE\"),IF($R$3=3,COUNTIFS('DATA ENTRY'!$F$9:$F$1000,REPORTS!$D13,'DATA ENTRY'!$AA$9:$AA$1000,\"ONLINE\"),IF($R$3=4,COUNTIFS('DATA ENTRY'!$F$9:$F$1000,REPORTS!$D13,'DATA ENTRY'!$AB$9:$AB$1000,\"ONLINE\"),IF($R$3=5,COUNTIFS('DATA ENTRY'!$F$9:$F$1000,REPORTS!$D13,'DATA ENTRY'!$AC$9:$AC$1000,\"ONLINE\"),\"\")))))","v":0},{"$f":"IF($R$3=1,COUNTIFS('DATA ENTRY'!$F$9:$F$1000,REPORTS!$D13,'DATA ENTRY'!$Y$9:$Y$1000,\"OFFLINE\"),IF($R$3=2,COUNTIFS('DATA ENTRY'!$F$9:$F$1000,REPORTS!$D13,'DATA ENTRY'!$Z$9:$Z$1000,\"OFFLINE\"),IF($R$3=3,COUNTIFS('DATA ENTRY'!$F$9:$F$1000,REPORTS!$D13,'DATA ENTRY'!$AA$9:$AA$1000,\"OFFLINE\"),IF($R$3=4,COUNTIFS('DATA ENTRY'!$F$9:$F$1000,REPORTS!$D13,'DATA ENTRY'!$AB$9:$AB$1000,\"OFFLINE\"),IF($R$3=5,COUNTIFS('DATA ENTRY'!$F$9:$F$1000,REPORTS!$D13,'DATA ENTRY'!$AC$9:$AC$1000,\"OFFLINE\"),\"\")))))","v":0},0,19,null,"YES"]
[{"$nulls":3},8,{"$f":"COUNTIF('DATA ENTRY'!$F$9:$F$1000,D14)","v":18},{"$f":"IF($R$3=1,COUNTIFS('DATA ENTRY'!$F$9:$F$1000,REPORTS!$D14,'DATA ENTRY'!$K$9:$K$1000,\"YES\"),IF($R$3=2,COUNTIFS('DATA ENTRY'!$F$9:$F$1000,REPORTS!$D14,'DATA ENTRY'!$L$9:$L$1000,\"YES\"),IF($R$3=3,COUNTIFS('DATA ENTRY'!$F$9:$F$1000,REPORTS!$D14,'DATA ENTRY'!$M$9:$M$1000,\"YES\"),IF($R$3=4,COUNTIFS('DATA ENTRY'!$F$9:$F$1000,REPORTS!$D14,'DATA ENTRY'!$N$9:$N$1000,\"YES\"),IF($R$3=5,COUNTIFS('DATA ENTRY'!$F$9:$F$1000,REPORTS!$D14,'DATA ENTRY'!$O$9:$O$1000,\"YES\"),\"\")))))","v":18},null,{"$f":"IF($R$3=1,COUNTIFS('DATA ENTRY'!$F$9:$F$1000,REPORTS!$D14,'DATA ENTRY'!$T$9:$T$1000,\"ONLINE\"),IF($R$3=2,COUNTIFS('DATA ENTRY'!$F$9:$F$1000,REPORTS!$D14,'DATA ENTRY'!$U$9:$U$1000,\"ONLINE\"),IF($R$3=3,COUNTIFS('DATA ENTRY'!$F$9:$F$1000,REPORTS!$D14,'DATA ENTRY'!$V$9:$V$1000,\"ONLINE\"),IF($R$3=4,COUNTIFS('DATA ENTRY'!$F$9:$F$1000,REPORTS!$D14,'DATA ENTRY'!$W$9:$W$1000,\"ONLINE\"),IF($R$3=5,COUNTIFS('DATA ENTRY'!$F$9:$F$1000,REPORTS!$D14,'DATA ENTRY'!$X$9:$X$1000,\"ONLINE\"),\"\")))))","v":13},{"$f":"IF($R$3=1,COUNTIFS('DATA ENTRY'!$F$9:$F$1000,REPORTS!$D14,'DATA ENTRY'!$T$9:$T$1000,\"OFFLINE\"),IF($R$3=2,COUNTIFS('DATA ENTRY'!$F$9:$F$1000,REPORTS!$D14,'DATA ENTRY'!$U$9:$U$1000,\"OFFLINE\"),IF($R$3=3,COUNTIFS('DATA ENTRY'!$F$9:$F$1000,REPORTS!$D14,'DATA ENTRY'!$V$9:$V$1000,\"OFFLINE\"),IF($R$3=4,COUNTIFS('DATA ENTRY'!$F$9:$F$1000,REPORTS!$D14,'DATA ENTRY'!$W$9:$W$1000,\"OFFLINE\"),IF($R$3=5,COUNTIFS('DATA ENTRY'!$F$9:$F$1000,REPORTS!$D14,'DATA ENTRY'!$X$9:$X$1000,\"OFFLINE\"),\"\")))))","v":5},18,0,null,{"$f":"IF($R$3=1,COUNTIFS('DATA ENTRY'!$F$9:$F$1000,REPORTS!$D14,'DATA ENTRY'!$Y$9:$Y$1000,\"ONLINE\"),IF($R$3=2,COUNTIFS('DATA ENTRY'!$F$9:$F$1000,REPORTS!$D14,'DATA ENTRY'!$Z$9:$Z$1000,\"ONLINE\"),IF($R$3=3,COUNTIFS('DATA ENTRY'!$F$9:$F$1000,REPORTS!$D14,'DATA ENTRY'!$AA$9:$AA$1000,\"ONLINE\"),IF($R$3=4,COUNTIFS('DATA ENTRY'!$F$9:$F$1000,REPORTS!$D14,'DATA ENTRY'!$AB$9:$AB$1000,\"ONLINE\"),IF($R$3=5,COUNTIFS('DATA ENTRY'!$F$9:$F$1000,REPORTS!$D14,'DATA ENTRY'!$AC$9:$AC$1000,\"ONLINE\"),\"\")))))","v":1},{"$f":"IF($R$3=1,COUNTIFS('DATA ENTRY'!$F$9:$F$1000,REPORTS!$D14,'DATA ENTRY'!$Y$9:$Y$1000,\"OFFLINE\"),IF($R$3=2,COUNTIFS('DATA ENTRY'!$F$9:$F$1000,REPORTS!$D14,'DATA ENTRY'!$Z$9:$Z$1000,\"OFFLINE\"),IF($R$3=3,COUNTIFS('DATA ENTRY'!$F$9:$F$1000,REPORTS!$D14,'DATA ENTRY'!$AA$9:$AA$1000,\"OFFLINE\"),IF($R$3=4,COUNTIFS('DATA ENTRY'!$F$9:$F$1000,REPORTS!$D14,'DATA ENTRY'!$AB$9:$AB$1000,\"OFFLINE\"),IF($R$3=5,COUNTIFS('DATA ENTRY'!$F$9:$F$1000,REPORTS!$D14,'DATA ENTRY'!$AC$9:$AC$1000,\"OFFLINE\"),\"\")))))","v":16},17,1,null,"YES"]
[{"$nulls":3},9,{"$f":"COUNTIF('DATA ENTRY'!$F$9:$F$1000,D15)","v":22},{"$f":"IF($R$3=1,COUNTIFS('DATA ENTRY'!$F$9:$F$1000,REPORTS!$D15,'DATA ENTRY'!$K$9:$K$1000,\"YES\"),IF($R$3=2,COUNTIFS('DATA ENTRY'!$F$9:$F$1000,REPORTS!$D15,'DATA ENTRY'!$L$9:$L$1000,\"YES\"),IF($R$3=3,COUNTIFS('DATA ENTRY'!$F$9:$F$1000,REPORTS!$D15,'DATA ENTRY'!$M$9:$M$1000,\"YES\"),IF($R$3=4,COUNTIFS('DATA ENTRY'!$F$9:$F$1000,REPORTS!$D15,'DATA ENTRY'!$N$9:$N$1000,\"YES\"),IF($R$3=5,COUNTIFS('DATA ENTRY'!$F$9:$F$1000,REPORTS!$D15,'DATA ENTRY'!$O$9:$O$1000,\"YES\"),\"\")))))","v":16},null,{"$f":"IF($R$3=1,COUNTIFS('DATA ENTRY'!$F$9:$F$1000,REPORTS!$D15,'DATA ENTRY'!$T$9:$T$1000,\"ONLINE\"),IF($R$3=2,COUNTIFS('DATA ENTRY'!$F$9:$F$1000,REPORTS!$D15,'DATA ENTRY'!$U$9:$U$1000,\"ONLINE\"),IF($R$3=3,COUNTIFS('DATA ENTRY'!$F$9:$F$1000,REPORTS!$D15,'DATA ENTRY'!$V$9:$V$1000,\"ONLINE\"),IF($R$3=4,COUNTIFS('DATA ENTRY'!$F$9:$F$1000,REPORTS!$D15,'DATA ENTRY'!$W$9:$W$1000,\"ONLINE\"),IF($R$3=5,COUNTIFS('DATA ENTRY'!$F$9:$F$1000,REPORTS!$D15,'DATA ENTRY'!$X$9:$X$1000,\"ONLINE\"),\"\")))))","v":15},{"$f":"IF($R$3=1,COUNTIFS('DATA ENTRY'!$F$9:$F$1000,REPORTS!$D15,'DATA ENTRY'!$T$9:$T$1000,\"OFFLINE\"),IF($R$3=2,COUNTIFS('DATA ENTRY'!$F$9:$F$1000,REPORTS!$D15,'DATA ENTRY'!$U$9:$U$1000,\"OFFLINE\"),IF($R$3=3,COUNTIFS('DATA ENTRY'!$F$9:$F$1000,REPORTS!$D15,'DATA ENTRY'!$V$9:$V$1000,\"OFFLINE\"),IF($R$3=4,COUNTIFS('DATA ENTRY'!$F$9:$F$1000,REPORTS!$D15,'DATA ENTRY'!$W$9:$W$1000,\"OFFLINE\"),IF($R$3=5,COUNTIFS('DATA ENTRY'!$F$9:$F$1000,REPORTS!$D15,'DATA ENTRY'!$X$9:$X$1000,\"OFFLINE\"),\"\")))))","v":7},{"$f":"H15+I15","v":22},{"$f":"E15-J15","v":0},null,{"$f":"IF($R$3=1,COUNTIFS('DATA ENTRY'!$F$9:$F$1000,REPORTS!$D15,'DATA ENTRY'!$Y$9:$Y$1000,\"ONLINE\"),IF($R$3=2,COUNTIFS('DATA ENTRY'!$F$9:$F$1000,REPORTS!$D15,'DATA ENTRY'!$Z$9:$Z$1000,\"ONLINE\"),IF($R$3=3,COUNTIFS('DATA ENTRY'!$F$9:$F$1000,REPORTS!$D15,'DATA ENTRY'!$AA$9:$AA$1000,\"ONLINE\"),IF($R$3=4,COUNTIFS('DATA ENTRY'!$F$9:$F$1000,REPORTS!$D15,'DATA ENTRY'!$AB$9:$AB$1000,\"ONLINE\"),IF($R$3=5,COUNTIFS('DATA ENTRY'!$F$9:$F$1000,REPORTS!$D15,'DATA ENTRY'!$AC$9:$AC$1000,\"ONLINE\"),\"\")))))","v":1},{"$f":"IF($R$3=1,COUNTIFS('DATA ENTRY'!$F$9:$F$1000,REPORTS!$D15,'DATA ENTRY'!$Y$9:$Y$1000,\"OFFLINE\"),IF($R$3=2,COUNTIFS('DATA ENTRY'!$F$9:$F$1000,REPORTS!$D15,'DATA ENTRY'!$Z$9:$Z$1000,\"OFFLINE\"),IF($R$3=3,COUNTIFS('DATA ENTRY'!$F$9:$F$1000,REPORTS!$D15,'DATA ENTRY'!$AA$9:$AA$1000,\"OFFLINE\"),IF($R$3=4,COUNTIFS('DATA ENTRY'!$F$9:$F$1000,REPORTS!$D15,'DATA ENTRY'!$AB$9:$AB$1000,\"OFFLINE\"),IF($R$3=5,COUNTIFS('DATA ENTRY'!$F$9:$F$1000,REPORTS!$D15,'DATA ENTRY'!$AC$9:$AC$1000,\"OFFLINE\"),\"\")))))","v":21},{"$f":"M15+N15","v":22},{"$f":"E15-O15","v":0}]
[{"$nulls":3},10,{"$f":"COUNTIF('DATA ENTRY'!$F$9:$F$1000,D16)","v":39},{"$f":"IF($R$3=1,COUNTIFS('DATA ENTRY'!$F$9:$F$1000,REPORTS!$D16,'DATA ENTRY'!$K$9:$K$1000,\"YES\"),IF($R$3=2,COUNTIFS('DATA ENTRY'!$F$9:$F$1000,REPORTS!$D16,'DATA ENTRY'!$L$9:$L$1000,\"YES\"),IF($R$3=3,COUNTIFS('DATA ENTRY'!$F$9:$F$1000,REPORTS!$D16,'DATA ENTRY'!$M$9:$M$1000,\"YES\"),IF($R$3=4,COUNTIFS('DATA ENTRY'!$F$9:$F$1000,REPORTS!$D16,'DATA ENTRY'!$N$9:$N$1000,\"YES\"),IF($R$3=5,COUNTIFS('DATA ENTRY'!$F$9:$F$1000,REPORTS!$D16,'DATA ENTRY'!$O$9:$O$1000,\"YES\"),\"\")))))","v":0},null,{"$f":"IF($R$3=1,COUNTIFS('DATA ENTRY'!$F$9:$F$1000,REPORTS!$D16,'DATA ENTRY'!$T$9:$T$1000,\"ONLINE\"),IF($R$3=2,COUNTIFS('DATA ENTRY'!$F$9:$F$1000,REPORTS!$D16,'DATA ENTRY'!$U$9:$U$1000,\"ONLINE\"),IF($R$3=3,COUNTIFS('DATA ENTRY'!$F$9:$F$1000,REPORTS!$D16,'DATA ENTRY'!$V$9:$V$1000,\"ONLINE\"),IF($R$3=4,COUNTIFS('DATA ENTRY'!$F$9:$F$1000,REPORTS!$D16,'DATA ENTRY'!$W$9:$W$1000,\"ONLINE\"),IF($R$3=5,COUNTIFS('DATA ENTRY'!$F$9:$F$1000,REPORTS!$D16,'DATA ENTRY'!$X$9:$X$1000,\"ONLINE\"),\"\")))))","v":0},{"$f":"IF($R$3=1,COUNTIFS('DATA ENTRY'!$F$9:$F$1000,REPORTS!$D16,'DATA ENTRY'!$T$9:$T$1000,\"OFFLINE\"),IF($R$3=2,COUNTIFS('DATA ENTRY'!$F$9:$F$1000,REPORTS!$D16,'DATA ENTRY'!$U$9:$U$1000,\"OFFLINE\"),IF($R$3=3,COUNTIFS('DATA ENTRY'!$F$9:$F$1000,REPORTS!$D16,'DATA ENTRY'!$V$9:$V$1000,\"OFFLINE\"),IF($R$3=4,COUNTIFS('DATA ENTRY'!$F$9:$F$1000,REPORTS!$D16,'DATA ENTRY'!$W$9:$W$1000,\"OFFLINE\"),IF($R$3=5,COUNTIFS('DATA ENTRY'!$F$9:$F$1000,REPORTS!$D16,'DATA ENTRY'!$X$9:$X$1000,\"OFFLINE\"),\"\")))))","v":0},0,39,null,{"$f":"IF($R$3=1,COUNTIFS('DATA ENTRY'!$F$9:$F$1000,REPORTS!$D16,'DATA ENTRY'!$Y$9:$Y$1000,\"ONLINE\"),IF($R$3=2,COUNTIFS('DATA ENTRY'!$F$9:$F$1000,REPORTS!$D16,'DATA ENTRY'!$Z$9:$Z$1000,\"ONLINE\"),IF($R$3=3,COUNTIFS('DATA ENTRY'!$F$9:$F$1000,REPORTS!$D16,'DATA ENTRY'!$AA$9:$AA$1000,\"ONLINE\"),IF($R$3=4,COUNTIFS('DATA ENTRY'!$F$9:$F$1000,REPORTS!$D16,'DATA ENTRY'!$AB$9:$AB$1000,\"ONLINE\"),IF($R$3=5,COUNTIFS('DATA ENTRY'!$F$9:$F$1000,REPORTS!$D16,'DATA ENTRY'!$AC$9:$AC$1000,\"ONLINE\"),\"\")))))","v":0},{"$f":"IF($R$3=1,COUNTIFS('DATA ENTRY'!$F$9:$F$1000,REPORTS!$D16,'DATA ENTRY'!$Y$9:$Y$1000,\"OFFLINE\"),IF($R$3=2,COUNTIFS('DATA ENTRY'!$F$9:$F$1000,REPORTS!$D16,'DATA ENTRY'!$Z$9:$Z$1000,\"OFFLINE\"),IF($R$3=3,COUNTIFS('DATA ENTRY'!$F$9:$F$1000,REPORTS!$D16,'DATA ENTRY'!$AA$9:$AA$1000,\"OFFLINE\"),IF($R$3=4,COUNTIFS('DATA ENTRY'!$F$9:$F$1000,REPORTS!$D16,'DATA ENTRY'!$AB$9:$AB$1000,\"OFFLINE\"),IF($R$3=5,COUNTIFS('DATA ENTRY'!$F$9:$F$1000,REPORTS!$D16,'DATA ENTRY'!$AC$9:$AC$1000,\"OFFLINE\"),\"\")))))","v":0},0,39]
[{"$nulls":3},11,{"$f":"COUNTIF('DATA ENTRY'!$F$9:$F$1000,D17)","v":48},{"$f":"IF($R$3=1,COUNTIFS('DATA ENTRY'!$F$9:$F$1000,REPORTS!$D17,'DATA ENTRY'!$K$9:$K$1000,\"YES\"),IF($R$3=2,COUNTIFS('DATA ENTRY'!$F$9:$F$1000,REPORTS!$D17,'DATA ENTRY'!$L$9:$L$1000,\"YES\"),IF($R$3=3,COUNTIFS('DATA ENTRY'!$F$9:$F$1000,REPORTS!$D17,'DATA ENTRY'!$M$9:$M$1000,\"YES\"),IF($R$3=4,COUNTIFS('DATA ENTRY'!$F$9:$F$1000,REPORTS!$D17,'DATA ENTRY'!$N$9:$N$1000,\"YES\"),IF($R$3=5,COUNTIFS('DATA ENTRY'!$F$9:$F$1000,REPORTS!$D17,'DATA ENTRY'!$O$9:$O$1000,\"YES\"),\"\")))))","v":0},null,{"$f":"IF($R$3=1,COUNTIFS('DATA ENTRY'!$F$9:$F$1000,REPORTS!$D17,'DATA ENTRY'!$T$9:$T$1000,\"ONLINE\"),IF($R$3=2,COUNTIFS('DATA ENTRY'!$F$9:$F$1000,REPORTS!$D17,'DATA ENTRY'!$U$9:$U$1000,\"ONLINE\"),IF($R$3=3,COUNTIFS('DATA ENTRY'!$F$9:$F$1000,REPORTS!$D17,'DATA ENTRY'!$V$9:$V$1000,\"ONLINE\"),IF($R$3=4,COUNTIFS('DATA ENTRY'!$F$9:$F$1000,REPORTS!$D17,'DATA ENTRY'!$W$9:$W$1000,\"ONLINE\"),IF($R$3=5,COUNTIFS('DATA ENTRY'!$F$9:$F$1000,REPORTS!$D17,'DATA ENTRY'!$X$9:$X$1000,\"ONLINE\"),\"\")))))","v":45},{"$f":"IF($R$3=1,COUNTIFS('DATA ENTRY'!$F$9:$F$1000,REPORTS!$D17,'DATA ENTRY'!$T$9:$T$1000,\"OFFLINE\"),IF($R$3=2,COUNTIFS('DATA ENTRY'!$F$9:$F$1000,REPORTS!$D17,'DATA ENTRY'!$U$9:$U$1000,\"OFFLINE\"),IF($R$3=3,COUNTIFS('DATA ENTRY'!$F$9:$F$1000,REPORTS!$D17,'DATA ENTRY'!$V$9:$V$1000,\"OFFLINE\"),IF($R$3=4,COUNTIFS('DATA ENTRY'!$F$9:$F$1000,REPORTS!$D17,'DATA ENTRY'!$W$9:$W$1000,\"OFFLINE\"),IF($R$3=5,COUNTIFS('DATA ENTRY'!$F$9:$F$1000,REPORTS!$D17,'DATA ENTRY'!$X$9:$X$1000,\"OFFLINE\"),\"\")))))","v":3},48,0,null,{"$f":"IF($R$3=1,COUNTIFS('DATA ENTRY'!$F$9:$F$1000,REPORTS!$D17,'DATA ENTRY'!$Y$9:$Y$1000,\"ONLINE\"),IF($R$3=2,COUNTIFS('DATA ENTRY'!$F$9:$F$1000,REPORTS!$D17,'DATA ENTRY'!$Z$9:$Z$1000,\"ONLINE\"),IF($R$3=3,COUNTIFS('DATA ENTRY'!$F$9:$F$1000,REPORTS!$D17,'DATA ENTRY'!$AA$9:$AA$1000,\"ONLINE\"),IF($R$3=4,COUNTIFS('DATA ENTRY'!$F$9:$F$1000,REPORTS!$D17,'DATA ENTRY'!$AB$9:$AB$1000,\"ONLINE\"),IF($R$3=5,COUNTIFS('DATA ENTRY'!$F$9:$F$1000,REPORTS!$D17,'DATA ENTRY'!$AC$9:$AC$1000,\"ONLINE\"),\"\")))))","v":33},{"$f":"IF($R$3=1,COUNTIFS('DATA ENTRY'!$F$9:$F$1000,REPORTS!$D17,'DATA ENTRY'!$Y$9:$Y$1000,\"OFFLINE\"),IF($R$3=2,COUNTIFS('DATA ENTRY'!$F$9:$F$1000,REPORTS!$D17,'DATA ENTRY'!$Z$9:$Z$1000,\"OFFLINE\"),IF($R$3=3,COUNTIFS('DATA ENTRY'!$F$9:$F$1000,REPORTS!$D17,'DATA ENTRY'!$AA$9:$AA$1000,\"OFFLINE\"),IF($R$3=4,COUNTIFS('DATA ENTRY'!$F$9:$F$1000,REPORTS!$D17,'DATA ENTRY'!$AB$9:$AB$1000,\"OFFLINE\"),IF($R$3=5,COUNTIFS('DATA ENTRY'!$F$9:$F$1000,REPORTS!$D17,'DATA ENTRY'!$AC$9:$AC$1000,\"OFFLINE\"),\"\")))))","v":11},44,4]
[{"$nulls":3},12,{"$f":"COUNTIF('DATA ENTRY'!$F$9:$F$1000,D18)","v":25},{"$f":"IF($R$3=1,COUNTIFS('DATA ENTRY'!$F$9:$F$1000,REPORTS!$D18,'DATA ENTRY'!$K$9:$K$1000,\"YES\"),IF($R$3=2,COUNTIFS('DATA ENTRY'!$F$9:$F$1000,REPORTS!$D18,'DATA ENTRY'!$L$9:$L$1000,\"YES\"),IF($R$3=3,COUNTIFS('DATA ENTRY'!$F$9:$F$1000,REPORTS!$D18,'DATA ENTRY'!$M$9:$M$1000,\"YES\"),IF($R$3=4,COUNTIFS('DATA ENTRY'!$F$9:$F$1000,REPORTS!$D18,'DATA ENTRY'!$N$9:$N$1000,\"YES\"),IF($R$3=5,COUNTIFS('DATA ENTRY'!$F$9:$F$1000,REPORTS!$D18,'DATA ENTRY'!$O$9:$O$1000,\"YES\"),\"\")))))","v":24},null,{"$f":"IF($R$3=1,COUNTIFS('DATA ENTRY'!$F$9:$F$1000,REPORTS!$D18,'DATA ENTRY'!$T$9:$T$1000,\"ONLINE\"),IF($R$3=2,COUNTIFS('DATA ENTRY'!$F$9:$F$1000,REPORTS!$D18,'DATA ENTRY'!$U$9:$U$1000,\"ONLINE\"),IF($R$3=3,COUNTIFS('DATA ENTRY'!$F$9:$F$1000,REPORTS!$D18,'DATA ENTRY'!$V$9:$V$1000,\"ONLINE\"),IF($R$3=4,COUNTIFS('DATA ENTRY'!$F$9:$F$1000,REPORTS!$D18,'DATA ENTRY'!$W$9:$W$1000,\"ONLINE\"),IF($R$3=5,COUNTIFS('DATA ENTRY'!$F$9:$F$1000,REPORTS!$D18,'DATA ENTRY'!$X$9:$X$1000,\"ONLINE\"),\"\")))))","v":25},{"$f":"IF($R$3=1,COUNTIFS('DATA ENTRY'!$F$9:$F$1000,REPORTS!$D18,'DATA ENTRY'!$T$9:$T$1000,\"OFFLINE\"),IF($R$3=2,COUNTIFS('DATA ENTRY'!$F$9:$F$1000,REPORTS!$D18,'DATA ENTRY'!$U$9:$U$1000,\"OFFLINE\"),IF($R$3=3,COUNTIFS('DATA ENTRY'!$F$9:$F$1000,REPORTS!$D18,'DATA ENTRY'!$V$9:$V$1000,\"OFFLINE\"),IF($R$3=4,COUNTIFS('DATA ENTRY'!$F$9:$F$1000,REPORTS!$D18,'DATA ENTRY'!$W$9:$W$1000,\"OFFLINE\"),IF($R$3=5,COUNTIFS('DATA ENTRY'!$F$9:$F$1000,REPORTS!$D18,'DATA ENTRY'!$X$9:$X$1000,\"OFFLINE\"),\"\")))))","v":0},25,0,null,{"$f":"IF($R$3=1,COUNTIFS('DATA ENTRY'!$F$9:$F$1000,REPORTS!$D18,'DATA ENTRY'!$Y$9:$Y$1000,\"ONLINE\"),IF($R$3=2,COUNTIFS('DATA ENTRY'!$F$9:$F$1000,REPORTS!$D18,'DATA ENTRY'!$Z$9:$Z$1000,\"ONLINE\"),IF($R$3=3,COUNTIFS('DATA ENTRY'!$F$9:$F$1000,REPORTS!$D18,'DATA ENTRY'!$AA$9:$AA$1000,\"ONLINE\"),IF($R$3=4,COUNTIFS('DATA ENTRY'!$F$9:$F$1000,REPORTS!$D18,'DATA ENTRY'!$AB$9:$AB$1000,\"ONLINE\"),IF($R$3=5,COUNTIFS('DATA ENTRY'!$F$9:$F$1000,REPORTS!$D18,'DATA ENTRY'!$AC$9:$AC$1000,\"ONLINE\"),\"\")))))","v":19},{"$f":"IF($R$3=1,COUNTIFS('DATA ENTRY'!$F$9:$F$1000,REPORTS!$D18,'DATA ENTRY'!$Y$9:$Y$1000,\"OFFLINE\"),IF($R$3=2,COUNTIFS('DATA ENTRY'!$F$9:$F$1000,REPORTS!$D18,'DATA ENTRY'!$Z$9:$Z$1000,\"OFFLINE\"),IF($R$3=3,COUNTIFS('DATA ENTRY'!$F$9:$F$1000,REPORTS!$D18,'DATA ENTRY'!$AA$9:$AA$1000,\"OFFLINE\"),IF($R$3=4,COUNTIFS('DATA ENTRY'!$F$9:$F$1000,REPORTS!$D18,'DATA ENTRY'!$AB$9:$AB$1000,\"OFFLINE\"),IF($R$3=5,COUNTIFS('DATA ENTRY'!$F$9:$F$1000,REPORTS!$D18,'DATA ENTRY'!$AC$9:$AC$1000,\"OFFLINE\"),\"\")))))","v":5},24,1]
[null,"कुल ",null,null,{"$f":"SUM(E7:E18)","v":271},{"$f":"SUM(F7:F18)","v":58},null,98,15,113,158,null,54,53,107,164]
[]
[{"$nulls":14},{"$f":"DASHBOARD!S3","v":"प्रधानाचार्य"}]
[{"$nulls":14},{"$f":"DASHBOARD!S4","v":"राजकीय उच्च माध्यमिक विद्यालय"}]
[{"$nulls":14},{"$f":"DASHBOARD!S5","v":"13डीओएल, श्री गंगानगर"}]

{"sheet":"PRAPTRA-A","index":8,"n_rows":23,"n_cols":17,"rows_kept":23,"merged":[[1,1,1,15],[2,1,2,15],[3,6,3,10],[3,11,3,15],[6,1,17,1],[6,2,17,2],[18,1,18,2],[20,13,20,15],[21,13,21,15],[22,13,22,15]]}
[]
[null,{"$f":"DASHBOARD!B2","v":"कार्यालय प्रधानाचार्य राजकीय उच्च माध्यमिक विद्यालय 13डीओएल, श्री गंगानगर"},{"$nulls":14},"WEEK"]
[null,"स्माइल 3.0 के अन्तर्गत विद्याथियों के अध्ययन हेतु गृहकार्य वितरण एवं संकलन हेतु शिक्षको के द्वारा भरे जाना वाला ( प्रपत्र -अ)",{"$nulls":14},2]
[{"$nulls":6},"गृहकार्य वितरण से सबंधित सूचना ",{"$nulls":4},"गृहकार्य संकलन  से सबंधित सूचना "]
[null,"SN","विद्यालय  का नाम ","कक्षा ","कुल नामाकन ","गृहकार्य विवरण ( विषयवार )","ऑनलाइन माध्यम से विध्यार्थियों की संख्या  ","ऑफलाइन माध्यम से विध्यार्थियों की संख्या  ","गृहकार्य प्राप्त करने वाले विध्यार्थियों की कुल संख्या (5+6)","शेष विध्यार्थियों की संख्या ","बिंदु संख्या 8 में गृहकार्य वितरण से वंचित रहने वाले विध्यार्थियों का वंचित रहने का कारण / विवरण ","ऑनलाइन माध्यम से विध्यार्थियों की संख्या  ","ऑफलाइन माध्यम से विध्यार्थियों की संख्या  ","गृहकार्य पूर्ण  कर जमा करवाने  वाले विध्यार्थियों की कुल संख्या (10+11)","शेष विध्यार्थियों की संख्या ","बिंदु संख्या 13 में गृहकार्य संकलन  से वंचित रहने वाले विध्यार्थियों का वंचित रहने का कारण / विवरण ","संकलन पश्चात विध्यार्थियों का गृहकार्य पोर्टफोलियो तैयार कर लिया गया है, हां अथवा नहीं "]
[null,null,1,2,3,4,5,6,7,8,9,10,11,12,13,14,15]
[null,1,{"$f":"CONCATENATE(DASHBOARD!S4,DASHBOARD!S5)","v":"राजकीय उच्च माध्यमिक विद्यालय13डीओएल, श्री गंगानगर"},1,{"$f":"COUNTIF('DATA ENTRY'!$F$9:$F$1000,D7)","v":7},"सभी अनिवार्य विषय ",{"$f":"IF($Q$3=1,COUNTIFS('DATA ENTRY'!$F$9:$F$1000,'PRAPTRA-A'!$D7,'DATA ENTRY'!$T$9:$T$1000,\"ONLINE\"),IF($Q$3=2,COUNTIFS('DATA ENTRY'!$F$9:$F$1000,'PRAPTRA-A'!$D7,'DATA ENTRY'!$U$9:$U$1000,\"ONLINE\"),IF($Q$3=3,COUNTIFS('DATA ENTRY'!$F$9:$F$1000,'PRAPTRA-A'!$D7,'DATA ENTRY'!$V$9:$V$1000,\"ONLINE\"),IF($Q$3=4,COUNTIFS('DATA ENTRY'!$F$9:$F$1000,'PRAPTRA-A'!$D7,'DATA ENTRY'!$W$9:$W$1000,\"ONLINE\"),IF($Q$3=5,COUNTIFS('DATA ENTRY'!$F$9:$F$1000,'PRAPTRA-A'!$D7,'DATA ENTRY'!$X$9:$X$1000,\"ONLINE\"),\"\")))))","v":0},{"$f":"IF($Q$3=1,COUNTIFS('DATA ENTRY'!$F$9:$F$1000,'PRAPTRA-A'!$D7,'DATA ENTRY'!$T$9:$T$1000,\"OFFLINE\"),IF($Q$3=2,COUNTIFS('DATA ENTRY'!$F$9:$F$1000,'PRAPTRA-A'!$D7,'DATA ENTRY'!$U$9:$U$1000,\"OFFLINE\"),IF($Q$3=3,COUNTIFS('DATA ENTRY'!$F$9:$F$1000,'PRAPTRA-A'!$D7,'DATA ENTRY'!$V$9:$V$1000,\"OFFLINE\"),IF($Q$3=4,COUNTIFS('DATA ENTRY'!$F$9:$F$1000,'PRAPTRA-A'!$D7,'DATA ENTRY'!$W$9:$W$1000,\"OFFLINE\"),IF($Q$3=5,COUNTIFS('DATA ENTRY'!$F$9:$F$1000,'PRAPTRA-A'!$D7,'DATA ENTRY'!$X$9:$X$1000,\"OFFLINE\"),\"\")))))","v":0},{"$f":"G7+H7","v":0},{"$f":"E7-I7","v":7},null,{"$f":"IF($Q$3=1,COUNTIFS('DATA ENTRY'!$F$9:$F$1000,'PRAPTRA-A'!$D7,'DATA ENTRY'!$Y$9:$Y$1000,\"ONLINE\"),IF($Q$3=2,COUNTIFS('DATA ENTRY'!$F$9:$F$1000,'PRAPTRA-A'!$D7,'DATA ENTRY'!$Z$9:$Z$1000,\"ONLINE\"),IF($Q$3=3,COUNTIFS('DATA ENTRY'!$F$9:$F$1000,'PRAPTRA-A'!$D7,'DATA ENTRY'!$AA$9:$AA$1000,\"ONLINE\"),IF($Q$3=4,COUNTIFS('DATA ENTRY'!$F$9:$F$1000,'PRAPTRA-A'!$D7,'DATA ENTRY'!$AB$9:$AB$1000,\"ONLINE\"),IF($Q$3=5,COUNTIFS('DATA ENTRY'!$F$9:$F$1000,'PRAPTRA-A'!$D7,'DATA ENTRY'!$AC$9:$AC$1000,\"ONLINE\"),\"\")))))","v":0},{"$f":"IF($Q$3=1,COUNTIFS('DATA ENTRY'!$F$9:$F$1000,'PRAPTRA-A'!$D7,'DATA ENTRY'!$Y$9:$Y$1000,\"OFFLINE\"),IF($Q$3=2,COUNTIFS('DATA ENTRY'!$F$9:$F$1000,'PRAPTRA-A'!$D7,'DATA ENTRY'!$Z$9:$Z$1000,\"OFFLINE\"),IF($Q$3=3,COUNTIFS('DATA ENTRY'!$F$9:$F$1000,'PRAPTRA-A'!$D7,'DATA ENTRY'!$AA$9:$AA$1000,\"OFFLINE\"),IF($Q$3=4,COUNTIFS('DATA ENTRY'!$F$9:$F$1000,'PRAPTRA-A'!$D7,'DATA ENTRY'!$AB$9:$AB$1000,\"OFFLINE\"),IF($Q$3=5,COUNTIFS('DATA ENTRY'!$F$9:$F$1000,'PRAPTRA-A'!$D7,'DATA ENTRY'!$AC$9:$AC$1000,\"OFFLINE\"),\"\")))))","v":0},{"$f":"L7+M7","v":0},{"$f":"E7-N7","v":7},null,"YES"]
[{"$nulls":3},2,{"$f":"COUNTIF('DATA ENTRY'!$F$9:$F$1000,D8)","v":24},"सभी अनिवार्य विषय ",{"$f":"IF($Q$3=1,COUNTIFS('DATA ENTRY'!$F$9:$F$1000,'PRAPTRA-A'!$D8,'DATA ENTRY'!$T$9:$T$1000,\"ONLINE\"),IF($Q$3=2,COUNTIFS('DATA ENTRY'!$F$9:$F$1000,'PRAPTRA-A'!$D8,'DATA ENTRY'!$U$9:$U$1000,\"ONLINE\"),IF($Q$3=3,COUNTIFS('DATA ENTRY'!$F$9:$F$1000,'PRAPTRA-A'!$D8,'DATA ENTRY'!$V$9:$V$1000,\"ONLINE\"),IF($Q$3=4,COUNTIFS('DATA ENTRY'!$F$9:$F$1000,'PRAPTRA-A'!$D8,'DATA ENTRY'!$W$9:$W$1000,\"ONLINE\"),IF($Q$3=5,COUNTIFS('DATA ENTRY'!$F$9:$F$1000,'PRAPTRA-A'!$D8,'DATA ENTRY'!$X$9:$X$1000,\"ONLINE\"),\"\")))))","v":0},{"$f":"IF($Q$3=1,COUNTIFS('DATA ENTRY'!$F$9:$F$1000,'PRAPTRA-A'!$D8,'DATA ENTRY'!$T$9:$T$1000,\"OFFLINE\"),IF($Q$3=2,COUNTIFS('DATA ENTRY'!$F$9:$F$1000,'PRAPTRA-A'!$D8,'DATA ENTRY'!$U$9:$U$1000,\"OFFLINE\"),IF($Q$3=3,COUNTIFS('DATA ENTRY'!$F$9:$F$1000,'PRAPTRA-A'!$D8,'DATA ENTRY'!$V$9:$V$1000,\"OFFLINE\"),IF($Q$3=4,COUNTIFS('DATA ENTRY'!$F$9:$F$1000,'PRAPTRA-A'!$D8,'DATA ENTRY'!$W$9:$W$1000,\"OFFLINE\"),IF($Q$3=5,COUNTIFS('DATA ENTRY'!$F$9:$F$1000,'PRAPTRA-A'!$D8,'DATA ENTRY'!$X$9:$X$1000,\"OFFLINE\"),\"\")))))","v":0},0,24,null,{"$f":"IF($Q$3=1,COUNTIFS('DATA ENTRY'!$F$9:$F$1000,'PRAPTRA-A'!$D8,'DATA ENTRY'!$Y$9:$Y$1000,\"ONLINE\"),IF($Q$3=2,COUNTIFS('DATA ENTRY'!$F$9:$F$1000,'PRAPTRA-A'!$D8,'DATA ENTRY'!$Z$9:$Z$1000,\"ONLINE\"),IF($Q$3=3,COUNTIFS('DATA ENTRY'!$F$9:$F$1000,'PRAPTRA-A'!$D8,'DATA ENTRY'!$AA$9:$AA$1000,\"ONLINE\"),IF($Q$3=4,COUNTIFS('DATA ENTRY'!$F$9:$F$1000,'PRAPTRA-A'!$D8,'DATA ENTRY'!$AB$9:$AB$1000,\"ONLINE\"),IF($Q$3=5,COUNTIFS('DATA ENTRY'!$F$9:$F$1000,'PRAPTRA-A'!$D8,'DATA ENTRY'!$AC$9:$AC$1000,\"ONLINE\"),\"\")))))","v":0},{"$f":"IF($Q$3=1,COUNTIFS('DATA ENTRY'!$F$9:$F$1000,'PRAPTRA-A'!$D8,'DATA ENTRY'!$Y$9:$Y$1000,\"OFFLINE\"),IF($Q$3=2,COUNTIFS('DATA ENTRY'!$F$9:$F$1000,'PRAPTRA-A'!$D8,'DATA ENTRY'!$Z$9:$Z$1000,\"OFFLINE\"),IF($Q$3=3,COUNTIFS('DATA ENTRY'!$F$9:$F$1000,'PRAPTRA-A'!$D8,'DATA ENTRY'!$AA$9:$AA$1000,\"OFFLINE\"),IF($Q$3=4,COUNTIFS('DATA ENTRY'!$F$9:$F$1000,'PRAPTRA-A'!$D8,'DATA ENTRY'!$AB$9:$AB$1000,\"OFFLINE\"),IF($Q$3=5,COUNTIFS('DATA ENTRY'!$F$9:$F$1000,'PRAPTRA-A'!$D8,'DATA ENTRY'!$AC$9:$AC$1000,\"OFFLINE\"),\"\")))))","v":0},0,24,null,"YES"]
[{"$nulls":3},3,{"$f":"COUNTIF('DATA ENTRY'!$F$9:$F$1000,D9)","v":13},"सभी अनिवार्य विषय ",{"$f":"IF($Q$3=1,COUNTIFS('DATA ENTRY'!$F$9:$F$1000,'PRAPTRA-A'!$D9,'DATA ENTRY'!$T$9:$T$1000,\"ONLINE\"),IF($Q$3=2,COUNTIFS('DATA ENTRY'!$F$9:$F$1000,'PRAPTRA-A'!$D9,'DATA ENTRY'!$U$9:$U$1000,\"ONLINE\"),IF($Q$3=3,COUNTIFS('DATA ENTRY'!$F$9:$F$1000,'PRAPTRA-A'!$D9,'DATA ENTRY'!$V$9:$V$1000,\"ONLINE\"),IF($Q$3=4,COUNTIFS('DATA ENTRY'!$F$9:$F$1000,'PRAPTRA-A'!$D9,'DATA ENTRY'!$W$9:$W$1000,\"ONLINE\"),IF($Q$3=5,COUNTIFS('DATA ENTRY'!$F$9:$F$1000,'PRAPTRA-A'!$D9,'DATA ENTRY'!$X$9:$X$1000,\"ONLINE\"),\"\")))))","v":0},{"$f":"IF($Q$3=1,COUNTIFS('DATA ENTRY'!$F$9:$F$1000,'PRAPTRA-A'!$D9,'DATA ENTRY'!$T$9:$T$1000,\"OFFLINE\"),IF($Q$3=2,COUNTIFS('DATA ENTRY'!$F$9:$F$1000,'PRAPTRA-A'!$D9,'DATA ENTRY'!$U$9:$U$1000,\"OFFLINE\"),IF($Q$3=3,COUNTIFS('DATA ENTRY'!$F$9:$F$1000,'PRAPTRA-A'!$D9,'DATA ENTRY'!$V$9:$V$1000,\"OFFLINE\"),IF($Q$3=4,COUNTIFS('DATA ENTRY'!$F$9:$F$1000,'PRAPTRA-A'!$D9,'DATA ENTRY'!$W$9:$W$1000,\"OFFLINE\"),IF($Q$3=5,COUNTIFS('DATA ENTRY'!$F$9:$F$1000,'PRAPTRA-A'!$D9,'DATA ENTRY'!$X$9:$X$1000,\"OFFLINE\"),\"\")))))","v":0},0,13,null,{"$f":"IF($Q$3=1,COUNTIFS('DATA ENTRY'!$F$9:$F$1000,'PRAPTRA-A'!$D9,'DATA ENTRY'!$Y$9:$Y$1000,\"ONLINE\"),IF($Q$3=2,COUNTIFS('DATA ENTRY'!$F$9:$F$1000,'PRAPTRA-A'!$D9,'DATA ENTRY'!$Z$9:$Z$1000,\"ONLINE\"),IF($Q$3=3,COUNTIFS('DATA ENTRY'!$F$9:$F$1000,'PRAPTRA-A'!$D9,'DATA ENTRY'!$AA$9:$AA$1000,\"ONLINE\"),IF($Q$3=4,COUNTIFS('DATA ENTRY'!$F$9:$F$1000,'PRAPTRA-A'!$D9,'DATA ENTRY'!$AB$9:$AB$1000,\"ONLINE\"),IF($Q$3=5,COUNTIFS('DATA ENTRY'!$F$9:$F$1000,'PRAPTRA-A'!$D9,'DATA ENTRY'!$AC$9:$AC$1000,\"ONLINE\"),\"\")))))","v":0},{"$f":"IF($Q$3=1,COUNTIFS('DATA ENTRY'!$F$9:$F$1000,'PRAPTRA-A'!$D9,'DATA ENTRY'!$Y$9:$Y$1000,\"OFFLINE\"),IF($Q$3=2,COUNTIFS('DATA ENTRY'!$F$9:$F$1000,'PRAPTRA-A'!$D9,'DATA ENTRY'!$Z$9:$Z$1000,\"OFFLINE\"),IF($Q$3=3,COUNTIFS('DATA ENTRY'!$F$9:$F$1000,'PRAPTRA-A'!$D9,'DATA ENTRY'!$AA$9:$AA$1000,\"OFFLINE\"),IF($Q$3=4,COUNTIFS('DATA ENTRY'!$F$9:$F$1000,'PRAPTRA-A'!$D9,'DATA ENTRY'!$AB$9:$AB$1000,\"OFFLINE\"),IF($Q$3=5,COUNTIFS('DATA ENTRY'!$F$9:$F$1000,'PRAPTRA-A'!$D9,'DATA ENTRY'!$AC$9:$AC$1000,\"OFFLINE\"),\"\")))))","v":0},0,13,null,"YES"]
[{"$nulls":3},4,{"$f":"COUNTIF('DATA ENTRY'!$F$9:$F$1000,D10)","v":16},"सभी अनिवार्य विषय ",{"$f":"IF($Q$3=1,COUNTIFS('DATA ENTRY'!$F$9:$F$1000,'PRAPTRA-A'!$D10,'DATA ENTRY'!$T$9:$T$1000,\"ONLINE\"),IF($Q$3=2,COUNTIFS('DATA ENTRY'!$F$9:$F$1000,'PRAPTRA-A'!$D10,'DATA ENTRY'!$U$9:$U$1000,\"ONLINE\"),IF($Q$3=3,COUNTIFS('DATA ENTRY'!$F$9:$F$1000,'PRAPTRA-A'!$D10,'DATA ENTRY'!$V$9:$V$1000,\"ONLINE\"),IF($Q$3=4,COUNTIFS('DATA ENTRY'!$F$9:$F$1000,'PRAPTRA-A'!$D10,'DATA ENTRY'!$W$9:$W$1000,\"ONLINE\"),IF($Q$3=5,COUNTIFS('DATA ENTRY'!$F$9:$F$1000,'PRAPTRA-A'!$D10,'DATA ENTRY'!$X$9:$X$1000,\"ONLINE\"),\"\")))))","v":0},{"$f":"IF($Q$3=1,COUNTIFS('DATA ENTRY'!$F$9:$F$1000,'PRAPTRA-A'!$D10,'DATA ENTRY'!$T$9:$T$1000,\"OFFLINE\"),IF($Q$3=2,COUNTIFS('DATA ENTRY'!$F$9:$F$1000,'PRAPTRA-A'!$D10,'DATA ENTRY'!$U$9:$U$1000,\"OFFLINE\"),IF($Q$3=3,COUNTIFS('DATA ENTRY'!$F$9:$F$1000,'PRAPTRA-A'!$D10,'DATA ENTRY'!$V$9:$V$1000,\"OFFLINE\"),IF($Q$3=4,COUNTIFS('DATA ENTRY'!$F$9:$F$1000,'PRAPTRA-A'!$D10,'DATA ENTRY'!$W$9:$W$1000,\"OFFLINE\"),IF($Q$3=5,COUNTIFS('DATA ENTRY'!$F$9:$F$1000,'PRAPTRA-A'!$D10,'DATA ENTRY'!$X$9:$X$1000,\"OFFLINE\"),\"\")))))","v":0},0,16,null,{"$f":"IF($Q$3=1,COUNTIFS('DATA ENTRY'!$F$9:$F$1000,'PRAPTRA-A'!$D10,'DATA ENTRY'!$Y$9:$Y$1000,\"ONLINE\"),IF($Q$3=2,COUNTIFS('DATA ENTRY'!$F$9:$F$1000,'PRAPTRA-A'!$D10,'DATA ENTRY'!$Z$9:$Z$1000,\"ONLINE\"),IF($Q$3=3,COUNTIFS('DATA ENTRY'!$F$9:$F$1000,'PRAPTRA-A'!$D10,'DATA ENTRY'!$AA$9:$AA$1000,\"ONLINE\"),IF($Q$3=4,COUNTIFS('DATA ENTRY'!$F$9:$F$1000,'PRAPTRA-A'!$D10,'DATA ENTRY'!$AB$9:$AB$1000,\"ONLINE\"),IF($Q$3=5,COUNTIFS('DATA ENTRY'!$F$9:$F$1000,'PRAPTRA-A'!$D10,'DATA ENTRY'!$AC$9:$AC$1000,\"ONLINE\"),\"\")))))","v":0},{"$f":"IF($Q$3=1,COUNTIFS('DATA ENTRY'!$F$9:$F$1000,'PRAPTRA-A'!$D10,'DATA ENTRY'!$Y$9:$Y$1000,\"OFFLINE\"),IF($Q$3=2,COUNTIFS('DATA ENTRY'!$F$9:$F$1000,'PRAPTRA-A'!$D10,'DATA ENTRY'!$Z$9:$Z$1000,\"OFFLINE\"),IF($Q$3=3,COUNTIFS('DATA ENTRY'!$F$9:$F$1000,'PRAPTRA-A'!$D10,'DATA ENTRY'!$AA$9:$AA$1000,\"OFFLINE\"),IF($Q$3=4,COUNTIFS('DATA ENTRY'!$F$9:$F$1000,'PRAPTRA-A'!$D10,'DATA ENTRY'!$AB$9:$AB$1000,\"OFFLINE\"),IF($Q$3=5,COUNTIFS('DATA ENTRY'!$F$9:$F$1000,'PRAPTRA-A'!$D10,'DATA ENTRY'!$AC$9:$AC$1000,\"OFFLINE\"),\"\")))))","v":0},0,16,null,"YES"]
[{"$nulls":3},5,{"$f":"COUNTIF('DATA ENTRY'!$F$9:$F$1000,D11)","v":17},"सभी अनिवार्य विषय ",{"$f":"IF($Q$3=1,COUNTIFS('DATA ENTRY'!$F$9:$F$1000,'PRAPTRA-A'!$D11,'DATA ENTRY'!$T$9:$T$1000,\"ONLINE\"),IF($Q$3=2,COUNTIFS('DATA ENTRY'!$F$9:$F$1000,'PRAPTRA-A'!$D11,'DATA ENTRY'!$U$9:$U$1000,\"ONLINE\"),IF($Q$3=3,COUNTIFS('DATA ENTRY'!$F$9:$F$1000,'PRAPTRA-A'!$D11,'DATA ENTRY'!$V$9:$V$1000,\"ONLINE\"),IF($Q$3=4,COUNTIFS('DATA ENTRY'!$F$9:$F$1000,'PRAPTRA-A'!$D11,'DATA ENTRY'!$W$9:$W$1000,\"ONLINE\"),IF($Q$3=5,COUNTIFS('DATA ENTRY'!$F$9:$F$1000,'PRAPTRA-A'!$D11,'DATA ENTRY'!$X$9:$X$1000,\"ONLINE\"),\"\")))))","v":0},{"$f":"IF($Q$3=1,COUNTIFS('DATA ENTRY'!$F$9:$F$1000,'PRAPTRA-A'!$D11,'DATA ENTRY'!$T$9:$T$1000,\"OFFLINE\"),IF($Q$3=2,COUNTIFS('DATA ENTRY'!$F$9:$F$1000,'PRAPTRA-A'!$D11,'DATA ENTRY'!$U$9:$U$1000,\"OFFLINE\"),IF($Q$3=3,COUNTIFS('DATA ENTRY'!$F$9:$F$1000,'PRAPTRA-A'!$D11,'DATA ENTRY'!$V$9:$V$1000,\"OFFLINE\"),IF($Q$3=4,COUNTIFS('DATA ENTRY'!$F$9:$F$1000,'PRAPTRA-A'!$D11,'DATA ENTRY'!$W$9:$W$1000,\"OFFLINE\"),IF($Q$3=5,COUNTIFS('DATA ENTRY'!$F$9:$F$1000,'PRAPTRA-A'!$D11,'DATA ENTRY'!$X$9:$X$1000,\"OFFLINE\"),\"\")))))","v":0},0,17,null,{"$f":"IF($Q$3=1,COUNTIFS('DATA ENTRY'!$F$9:$F$1000,'PRAPTRA-A'!$D11,'DATA ENTRY'!$Y$9:$Y$1000,\"ONLINE\"),IF($Q$3=2,COUNTIFS('DATA ENTRY'!$F$9:$F$1000,'PRAPTRA-A'!$D11,'DATA ENTRY'!$Z$9:$Z$1000,\"ONLINE\"),IF($Q$3=3,COUNTIFS('DATA ENTRY'!$F$9:$F$1000,'PRAPTRA-A'!$D11,'DATA ENTRY'!$AA$9:$AA$1000,\"ONLINE\"),IF($Q$3=4,COUNTIFS('DATA ENTRY'!$F$9:$F$1000,'PRAPTRA-A'!$D11,'DATA ENTRY'!$AB$9:$AB$1000,\"ONLINE\"),IF($Q$3=5,COUNTIFS('DATA ENTRY'!$F$9:$F$1000,'PRAPTRA-A'!$D11,'DATA ENTRY'!$AC$9:$AC$1000,\"ONLINE\"),\"\")))))","v":0},{"$f":"IF($Q$3=1,COUNTIFS('DATA ENTRY'!$F$9:$F$1000,'PRAPTRA-A'!$D11,'DATA ENTRY'!$Y$9:$Y$1000,\"OFFLINE\"),IF($Q$3=2,COUNTIFS('DATA ENTRY'!$F$9:$F$1000,'PRAPTRA-A'!$D11,'DATA ENTRY'!$Z$9:$Z$1000,\"OFFLINE\"),IF($Q$3=3,COUNTIFS('DATA ENTRY'!$F$9:$F$1000,'PRAPTRA-A'!$D11,'DATA ENTRY'!$AA$9:$AA$1000,\"OFFLINE\"),IF($Q$3=4,COUNTIFS('DATA ENTRY'!$F$9:$F$1000,'PRAPTRA-A'!$D11,'DATA ENTRY'!$AB$9:$AB$1000,\"OFFLINE\"),IF($Q$3=5,COUNTIFS('DATA ENTRY'!$F$9:$F$1000,'PRAPTRA-A'!$D11,'DATA ENTRY'!$AC$9:$AC$1000,\"OFFLINE\"),\"\")))))","v":0},0,17,null,"YES"]
[{"$nulls":3},6,{"$f":"COUNTIF('DATA ENTRY'!$F$9:$F$1000,D12)","v":23},"सभी अनिवार्य विषय ",{"$f":"IF($Q$3=1,COUNTIFS('DATA ENTRY'!$F$9:$F$1000,'PRAPTRA-A'!$D12,'DATA ENTRY'!$T$9:$T$1000,\"ONLINE\"),IF($Q$3=2,COUNTIFS('DATA ENTRY'!$F$9:$F$1000,'PRAPTRA-A'!$D12,'DATA ENTRY'!$U$9:$U$1000,\"ONLINE\"),IF($Q$3=3,COUNTIFS('DATA ENTRY'!$F$9:$F$1000,'PRAPTRA-A'!$D12,'DATA ENTRY'!$V$9:$V$1000,\"ONLINE\"),IF($Q$3=4,COUNTIFS('DATA ENTRY'!$F$9:$F$1000,'PRAPTRA-A'!$D12,'DATA ENTRY'!$W$9:$W$1000,\"ONLINE\"),IF($Q$3=5,COUNTIFS('DATA ENTRY'!$F$9:$F$1000,'PRAPTRA-A'!$D12,'DATA ENTRY'!$X$9:$X$1000,\"ONLINE\"),\"\")))))","v":0},{"$f":"IF($Q$3=1,COUNTIFS('DATA ENTRY'!$F$9:$F$1000,'PRAPTRA-A'!$D12,'DATA ENTRY'!$T$9:$T$1000,\"OFFLINE\"),IF($Q$3=2,COUNTIFS('DATA ENTRY'!$F$9:$F$1000,'PRAPTRA-A'!$D12,'DATA ENTRY'!$U$9:$U$1000,\"OFFLINE\"),IF($Q$3=3,COUNTIFS('DATA ENTRY'!$F$9:$F$1000,'PRAPTRA-A'!$D12,'DATA ENTRY'!$V$9:$V$1000,\"OFFLINE\"),IF($Q$3=4,COUNTIFS('DATA ENTRY'!$F$9:$F$1000,'PRAPTRA-A'!$D12,'DATA ENTRY'!$W$9:$W$1000,\"OFFLINE\"),IF($Q$3=5,COUNTIFS('DATA ENTRY'!$F$9:$F$1000,'PRAPTRA-A'!$D12,'DATA ENTRY'!$X$9:$X$1000,\"OFFLINE\"),\"\")))))","v":0},0,23,null,{"$f":"IF($Q$3=1,COUNTIFS('DATA ENTRY'!$F$9:$F$1000,'PRAPTRA-A'!$D12,'DATA ENTRY'!$Y$9:$Y$1000,\"ONLINE\"),IF($Q$3=2,COUNTIFS('DATA ENTRY'!$F$9:$F$1000,'PRAPTRA-A'!$D12,'DATA ENTRY'!$Z$9:$Z$1000,\"ONLINE\"),IF($Q$3=3,COUNTIFS('DATA ENTRY'!$F$9:$F$1000,'PRAPTRA-A'!$D12,'DATA ENTRY'!$AA$9:$AA$1000,\"ONLINE\"),IF($Q$3=4,COUNTIFS('DATA ENTRY'!$F$9:$F$1000,'PRAPTRA-A'!$D12,'DATA ENTRY'!$AB$9:$AB$1000,\"ONLINE\"),IF($Q$3=5,COUNTIFS('DATA ENTRY'!$F$9:$F$1000,'PRAPTRA-A'!$D12,'DATA ENTRY'!$AC$9:$AC$1000,\"ONLINE\"),\"\")))))","v":0},{"$f":"IF($Q$3=1,COUNTIFS('DATA ENTRY'!$F$9:$F$1000,'PRAPTRA-A'!$D12,'DATA ENTRY'!$Y$9:$Y$1000,\"OFFLINE\"),IF($Q$3=2,COUNTIFS('DATA ENTRY'!$F$9:$F$1000,'PRAPTRA-A'!$D12,'DATA ENTRY'!$Z$9:$Z$1000,\"OFFLINE\"),IF($Q$3=3,COUNTIFS('DATA ENTRY'!$F$9:$F$1000,'PRAPTRA-A'!$D12,'DATA ENTRY'!$AA$9:$AA$1000,\"OFFLINE\"),IF($Q$3=4,COUNTIFS('DATA ENTRY'!$F$9:$F$1000,'PRAPTRA-A'!$D12,'DATA ENTRY'!$AB$9:$AB$1000,\"OFFLINE\"),IF($Q$3=5,COUNTIFS('DATA ENTRY'!$F$9:$F$1000,'PRAPTRA-A'!$D12,'DATA ENTRY'!$AC$9:$AC$1000,\"OFFLINE\"),\"\")))))","v":0},0,23,null,"YES"]
[{"$nulls":3},7,{"$f":"COUNTIF('DATA ENTRY'!$F$9:$F$1000,D13)","v":19},"सभी अनिवार्य विषय ",{"$f":"IF($Q$3=1,COUNTIFS('DATA ENTRY'!$F$9:$F$1000,'PRAPTRA-A'!$D13,'DATA ENTRY'!$T$9:$T$1000,\"ONLINE\"),IF($Q$3=2,COUNTIFS('DATA ENTRY'!$F$9:$F$1000,'PRAPTRA-A'!$D13,'DATA ENTRY'!$U$9:$U$1000,\"ONLINE\"),IF($Q$3=3,COUNTIFS('DATA ENTRY'!$F$9:$F$1000,'PRAPTRA-A'!$D13,'DATA ENTRY'!$V$9:$V$1000,\"ONLINE\"),IF($Q$3=4,COUNTIFS('DATA ENTRY'!$F$9:$F$1000,'PRAPTRA-A'!$D13,'DATA ENTRY'!$W$9:$W$1000,\"ONLINE\"),IF($Q$3=5,COUNTIFS('DATA ENTRY'!$F$9:$F$1000,'PRAPTRA-A'!$D13,'DATA ENTRY'!$X$9:$X$1000,\"ONLINE\"),\"\")))))","v":0},{"$f":"IF($Q$3=1,COUNTIFS('DATA ENTRY'!$F$9:$F$1000,'PRAPTRA-A'!$D13,'DATA ENTRY'!$T$9:$T$1000,\"OFFLINE\"),IF($Q$3=2,COUNTIFS('DATA ENTRY'!$F$9:$F$1000,'PRAPTRA-A'!$D13,'DATA ENTRY'!$U$9:$U$1000,\"OFFLINE\"),IF($Q$3=3,COUNTIFS('DATA ENTRY'!$F$9:$F$1000,'PRAPTRA-A'!$D13,'DATA ENTRY'!$V$9:$V$1000,\"OFFLINE\"),IF($Q$3=4,COUNTIFS('DATA ENTRY'!$F$9:$F$1000,'PRAPTRA-A'!$D13,'DATA ENTRY'!$W$9:$W$1000,\"OFFLINE\"),IF($Q$3=5,COUNTIFS('DATA ENTRY'!$F$9:$F$1000,'PRAPTRA-A'!$D13,'DATA ENTRY'!$X$9:$X$1000,\"OFFLINE\"),\"\")))))","v":0},0,19,null,{"$f":"IF($Q$3=1,COUNTIFS('DATA ENTRY'!$F$9:$F$1000,'PRAPTRA-A'!$D13,'DATA ENTRY'!$Y$9:$Y$1000,\"ONLINE\"),IF($Q$3=2,COUNTIFS('DATA ENTRY'!$F$9:$F$1000,'PRAPTRA-A'!$D13,'DATA ENTRY'!$Z$9:$Z$1000,\"ONLINE\"),IF($Q$3=3,COUNTIFS('DATA ENTRY'!$F$9:$F$1000,'PRAPTRA-A'!$D13,'DATA ENTRY'!$AA$9:$AA$1000,\"ONLINE\"),IF($Q$3=4,COUNTIFS('DATA ENTRY'!$F$9:$F$1000,'PRAPTRA-A'!$D13,'DATA ENTRY'!$AB$9:$AB$1000,\"ONLINE\"),IF($Q$3=5,COUNTIFS('DATA ENTRY'!$F$9:$F$1000,'PRAPTRA-A'!$D13,'DATA ENTRY'!$AC$9:$AC$1000,\"ONLINE\"),\"\")))))","v":0},{"$f":"IF($Q$3=1,COUNTIFS('DATA ENTRY'!$F$9:$F$1000,'PRAPTRA-A'!$D13,'DATA ENTRY'!$Y$9:$Y$1000,\"OFFLINE\"),IF($Q$3=2,COUNTIFS('DATA ENTRY'!$F$9:$F$1000,'PRAPTRA-A'!$D13,'DATA ENTRY'!$Z$9:$Z$1000,\"OFFLINE\"),IF($Q$3=3,COUNTIFS('DATA ENTRY'!$F$9:$F$1000,'PRAPTRA-A'!$D13,'DATA ENTRY'!$AA$9:$AA$1000,\"OFFLINE\"),IF($Q$3=4,COUNTIFS('DATA ENTRY'!$F$9:$F$1000,'PRAPTRA-A'!$D13,'DATA ENTRY'!$AB$9:$AB$1000,\"OFFLINE\"),IF($Q$3=5,COUNTIFS('DATA ENTRY'!$F$9:$F$1000,'PRAPTRA-A'!$D13,'DATA ENTRY'!$AC$9:$AC$1000,\"OFFLINE\"),\"\")))))","v":0},0,19,null,"YES"]
[{"$nulls":3},8,{"$f":"COUNTIF('DATA ENTRY'!$F$9:$F$1000,D14)","v":18},"सभी अनिवार्य विषय ",{"$f":"IF($Q$3=1,COUNTIFS('DATA ENTRY'!$F$9:$F$1000,'PRAPTRA-A'!$D14,'DATA ENTRY'!$T$9:$T$1000,\"ONLINE\"),IF($Q$3=2,COUNTIFS('DATA ENTRY'!$F$9:$F$1000,'PRAPTRA-A'!$D14,'DATA ENTRY'!$U$9:$U$1000,\"ONLINE\"),IF($Q$3=3,COUNTIFS('DATA ENTRY'!$F$9:$F$1000,'PRAPTRA-A'!$D14,'DATA ENTRY'!$V$9:$V$1000,\"ONLINE\"),IF($Q$3=4,COUNTIFS('DATA ENTRY'!$F$9:$F$1000,'PRAPTRA-A'!$D14,'DATA ENTRY'!$W$9:$W$1000,\"ONLINE\"),IF($Q$3=5,COUNTIFS('DATA ENTRY'!$F$9:$F$1000,'PRAPTRA-A'!$D14,'DATA ENTRY'!$X$9:$X$1000,\"ONLINE\"),\"\")))))","v":13},{"$f":"IF($Q$3=1,COUNTIFS('DATA ENTRY'!$F$9:$F$1000,'PRAPTRA-A'!$D14,'DATA ENTRY'!$T$9:$T$1000,\"OFFLINE\"),IF($Q$3=2,COUNTIFS('DATA ENTRY'!$F$9:$F$1000,'PRAPTRA-A'!$D14,'DATA ENTRY'!$U$9:$U$1000,\"OFFLINE\"),IF($Q$3=3,COUNTIFS('DATA ENTRY'!$F$9:$F$1000,'PRAPTRA-A'!$D14,'DATA ENTRY'!$V$9:$V$1000,\"OFFLINE\"),IF($Q$3=4,COUNTIFS('DATA ENTRY'!$F$9:$F$1000,'PRAPTRA-A'!$D14,'DATA ENTRY'!$W$9:$W$1000,\"OFFLINE\"),IF($Q$3=5,COUNTIFS('DATA ENTRY'!$F$9:$F$1000,'PRAPTRA-A'!$D14,'DATA ENTRY'!$X$9:$X$1000,\"OFFLINE\"),\"\")))))","v":5},18,0,null,{"$f":"IF($Q$3=1,COUNTIFS('DATA ENTRY'!$F$9:$F$1000,'PRAPTRA-A'!$D14,'DATA ENTRY'!$Y$9:$Y$1000,\"ONLINE\"),IF($Q$3=2,COUNTIFS('DATA ENTRY'!$F$9:$F$1000,'PRAPTRA-A'!$D14,'DATA ENTRY'!$Z$9:$Z$1000,\"ONLINE\"),IF($Q$3=3,COUNTIFS('DATA ENTRY'!$F$9:$F$1000,'PRAPTRA-A'!$D14,'DATA ENTRY'!$AA$9:$AA$1000,\"ONLINE\"),IF($Q$3=4,COUNTIFS('DATA ENTRY'!$F$9:$F$1000,'PRAPTRA-A'!$D14,'DATA ENTRY'!$AB$9:$AB$1000,\"ONLINE\"),IF($Q$3=5,COUNTIFS('DATA ENTRY'!$F$9:$F$1000,'PRAPTRA-A'!$D14,'DATA ENTRY'!$AC$9:$AC$1000,\"ONLINE\"),\"\")))))","v":1},{"$f":"IF($Q$3=1,COUNTIFS('DATA ENTRY'!$F$9:$F$1000,'PRAPTRA-A'!$D14,'DATA ENTRY'!$Y$9:$Y$1000,\"OFFLINE\"),IF($Q$3=2,COUNTIFS('DATA ENTRY'!$F$9:$F$1000,'PRAPTRA-A'!$D14,'DATA ENTRY'!$Z$9:$Z$1000,\"OFFLINE\"),IF($Q$3=3,COUNTIFS('DATA ENTRY'!$F$9:$F$1000,'PRAPTRA-A'!$D14,'DATA ENTRY'!$AA$9:$AA$1000,\"OFFLINE\"),IF($Q$3=4,COUNTIFS('DATA ENTRY'!$F$9:$F$1000,'PRAPTRA-A'!$D14,'DATA ENTRY'!$AB$9:$AB$1000,\"OFFLINE\"),IF($Q$3=5,COUNTIFS('DATA ENTRY'!$F$9:$F$1000,'PRAPTRA-A'!$D14,'DATA ENTRY'!$AC$9:$AC$1000,\"OFFLINE\"),\"\")))))","v":16},17,1,null,"YES"]
[{"$nulls":3},9,{"$f":"COUNTIF('DATA ENTRY'!$F$9:$F$1000,D15)","v":22},null,{"$f":"IF($Q$3=1,COUNTIFS('DATA ENTRY'!$F$9:$F$1000,'PRAPTRA-A'!$D15,'DATA ENTRY'!$T$9:$T$1000,\"ONLINE\"),IF($Q$3=2,COUNTIFS('DATA ENTRY'!$F$9:$F$1000,'PRAPTRA-A'!$D15,'DATA ENTRY'!$U$9:$U$1000,\"ONLINE\"),IF($Q$3=3,COUNTIFS('DATA ENTRY'!$F$9:$F$1000,'PRAPTRA-A'!$D15,'DATA ENTRY'!$V$9:$V$1000,\"ONLINE\"),IF($Q$3=4,COUNTIFS('DATA ENTRY'!$F$9:$F$1000,'PRAPTRA-A'!$D15,'DATA ENTRY'!$W$9:$W$1000,\"ONLINE\"),IF($Q$3=5,COUNTIFS('DATA ENTRY'!$F$9:$F$1000,'PRAPTRA-A'!$D15,'DATA ENTRY'!$X$9:$X$1000,\"ONLINE\"),\"\")))))","v":15},{"$f":"IF($Q$3=1,COUNTIFS('DATA ENTRY'!$F$9:$F$1000,'PRAPTRA-A'!$D15,'DATA ENTRY'!$T$9:$T$1000,\"OFFLINE\"),IF($Q$3=2,COUNTIFS('DATA ENTRY'!$F$9:$F$1000,'PRAPTRA-A'!$D15,'DATA ENTRY'!$U$9:$U$1000,\"OFFLINE\"),IF($Q$3=3,COUNTIFS('DATA ENTRY'!$F$9:$F$1000,'PRAPTRA-A'!$D15,'DATA ENTRY'!$V$9:$V$1000,\"OFFLINE\"),IF($Q$3=4,COUNTIFS('DATA ENTRY'!$F$9:$F$1000,'PRAPTRA-A'!$D15,'DATA ENTRY'!$W$9:$W$1000,\"OFFLINE\"),IF($Q$3=5,COUNTIFS('DATA ENTRY'!$F$9:$F$1000,'PRAPTRA-A'!$D15,'DATA ENTRY'!$X$9:$X$1000,\"OFFLINE\"),\"\")))))","v":7},{"$f":"G15+H15","v":22},{"$f":"E15-I15","v":0},null,{"$f":"IF($Q$3=1,COUNTIFS('DATA ENTRY'!$F$9:$F$1000,'PRAPTRA-A'!$D15,'DATA ENTRY'!$Y$9:$Y$1000,\"ONLINE\"),IF($Q$3=2,COUNTIFS('DATA ENTRY'!$F$9:$F$1000,'PRAPTRA-A'!$D15,'DATA ENTRY'!$Z$9:$Z$1000,\"ONLINE\"),IF($Q$3=3,COUNTIFS('DATA ENTRY'!$F$9:$F$1000,'PRAPTRA-A'!$D15,'DATA ENTRY'!$AA$9:$AA$1000,\"ONLINE\"),IF($Q$3=4,COUNTIFS('DATA ENTRY'!$F$9:$F$1000,'PRAPTRA-A'!$D15,'DATA ENTRY'!$AB$9:$AB$1000,\"ONLINE\"),IF($Q$3=5,COUNTIFS('DATA ENTRY'!$F$9:$F$1000,'PRAPTRA-A'!$D15,'DATA ENTRY'!$AC$9:$AC$1000,\"ONLINE\"),\"\")))))","v":1},{"$f":"IF($Q$3=1,COUNTIFS('DATA ENTRY'!$F$9:$F$1000,'PRAPTRA-A'!$D15,'DATA ENTRY'!$Y$9:$Y$1000,\"OFFLINE\"),IF($Q$3=2,COUNTIFS('DATA ENTRY'!$F$9:$F$1000,'PRAPTRA-A'!$D15,'DATA ENTRY'!$Z$9:$Z$1000,\"OFFLINE\"),IF($Q$3=3,COUNTIFS('DATA ENTRY'!$F$9:$F$1000,'PRAPTRA-A'!$D15,'DATA ENTRY'!$AA$9:$AA$1000,\"OFFLINE\"),IF($Q$3=4,COUNTIFS('DATA ENTRY'!$F$9:$F$1000,'PRAPTRA-A'!$D15,'DATA ENTRY'!$AB$9:$AB$1000,\"OFFLINE\"),IF($Q$3=5,COUNTIFS('DATA ENTRY'!$F$9:$F$1000,'PRAPTRA-A'!$D15,'DATA ENTRY'!$AC$9:$AC$1000,\"OFFLINE\"),\"\")))))","v":21},{"$f":"L15+M15","v":22},{"$f":"E15-N15","v":0},null,"YES"]
[{"$nulls":3},10,{"$f":"COUNTIF('DATA ENTRY'!$F$9:$F$1000,D16)","v":39},null,{"$f":"IF($Q$3=1,COUNTIFS('DATA ENTRY'!$F$9:$F$1000,'PRAPTRA-A'!$D16,'DATA ENTRY'!$T$9:$T$1000,\"ONLINE\"),IF($Q$3=2,COUNTIFS('DATA ENTRY'!$F$9:$F$1000,'PRAPTRA-A'!$D16,'DATA ENTRY'!$U$9:$U$1000,\"ONLINE\"),IF($Q$3=3,COUNTIFS('DATA ENTRY'!$F$9:$F$1000,'PRAPTRA-A'!$D16,'DATA ENTRY'!$V$9:$V$1000,\"ONLINE\"),IF($Q$3=4,COUNTIFS('DATA ENTRY'!$F$9:$F$1000,'PRAPTRA-A'!$D16,'DATA ENTRY'!$W$9:$W$1000,\"ONLINE\"),IF($Q$3=5,COUNTIFS('DATA ENTRY'!$F$9:$F$1000,'PRAPTRA-A'!$D16,'DATA ENTRY'!$X$9:$X$1000,\"ONLINE\"),\"\")))))","v":0},{"$f":"IF($Q$3=1,COUNTIFS('DATA ENTRY'!$F$9:$F$1000,'PRAPTRA-A'!$D16,'DATA ENTRY'!$T$9:$T$1000,\"OFFLINE\"),IF($Q$3=2,COUNTIFS('DATA ENTRY'!$F$9:$F$1000,'PRAPTRA-A'!$D16,'DATA ENTRY'!$U$9:$U$1000,\"OFFLINE\"),IF($Q$3=3,COUNTIFS('DATA ENTRY'!$F$9:$F$1000,'PRAPTRA-A'!$D16,'DATA ENTRY'!$V$9:$V$1000,\"OFFLINE\"),IF($Q$3=4,COUNTIFS('DATA ENTRY'!$F$9:$F$1000,'PRAPTRA-A'!$D16,'DATA ENTRY'!$W$9:$W$1000,\"OFFLINE\"),IF($Q$3=5,COUNTIFS('DATA ENTRY'!$F$9:$F$1000,'PRAPTRA-A'!$D16,'DATA ENTRY'!$X$9:$X$1000,\"OFFLINE\"),\"\")))))","v":0},0,39,null,{"$f":"IF($Q$3=1,COUNTIFS('DATA ENTRY'!$F$9:$F$1000,'PRAPTRA-A'!$D16,'DATA ENTRY'!$Y$9:$Y$1000,\"ONLINE\"),IF($Q$3=2,COUNTIFS('DATA ENTRY'!$F$9:$F$1000,'PRAPTRA-A'!$D16,'DATA ENTRY'!$Z$9:$Z$1000,\"ONLINE\"),IF($Q$3=3,COUNTIFS('DATA ENTRY'!$F$9:$F$1000,'PRAPTRA-A'!$D16,'DATA ENTRY'!$AA$9:$AA$1000,\"ONLINE\"),IF($Q$3=4,COUNTIFS('DATA ENTRY'!$F$9:$F$1000,'PRAPTRA-A'!$D16,'DATA ENTRY'!$AB$9:$AB$1000,\"ONLINE\"),IF($Q$3=5,COUNTIFS('DATA ENTRY'!$F$9:$F$1000,'PRAPTRA-A'!$D16,'DATA ENTRY'!$AC$9:$AC$1000,\"ONLINE\"),\"\")))))","v":0},{"$f":"IF($Q$3=1,COUNTIFS('DATA ENTRY'!$F$9:$F$1000,'PRAPTRA-A'!$D16,'DATA ENTRY'!$Y$9:$Y$1000,\"OFFLINE\"),IF($Q$3=2,COUNTIFS('DATA ENTRY'!$F$9:$F$1000,'PRAPTRA-A'!$D16,'DATA ENTRY'!$Z$9:$Z$1000,\"OFFLINE\"),IF($Q$3=3,COUNTIFS('DATA ENTRY'!$F$9:$F$1000,'PRAPTRA-A'!$D16,'DATA ENTRY'!$AA$9:$AA$1000,\"OFFLINE\"),IF($Q$3=4,COUNTIFS('DATA ENTRY'!$F$9:$F$1000,'PRAPTRA-A'!$D16,'DATA ENTRY'!$AB$9:$AB$1000,\"OFFLINE\"),IF($Q$3=5,COUNTIFS('DATA ENTRY'!$F$9:$F$1000,'PRAPTRA-A'!$D16,'DATA ENTRY'!$AC$9:$AC$1000,\"OFFLINE\"),\"\")))))","v":0},0,39,null,"YES"]
[{"$nulls":3},11,{"$f":"COUNTIF('DATA ENTRY'!$F$9:$F$1000,D17)","v":48},null,{"$f":"IF($Q$3=1,COUNTIFS('DATA ENTRY'!$F$9:$F$1000,'PRAPTRA-A'!$D17,'DATA ENTRY'!$T$9:$T$1000,\"ONLINE\"),IF($Q$3=2,COUNTIFS('DATA ENTRY'!$F$9:$F$1000,'PRAPTRA-A'!$D17,'DATA ENTRY'!$U$9:$U$1000,\"ONLINE\"),IF($Q$3=3,COUNTIFS('DATA ENTRY'!$F$9:$F$1000,'PRAPTRA-A'!$D17,'DATA ENTRY'!$V$9:$V$1000,\"ONLINE\"),IF($Q$3=4,COUNTIFS('DATA ENTRY'!$F$9:$F$1000,'PRAPTRA-A'!$D17,'DATA ENTRY'!$W$9:$W$1000,\"ONLINE\"),IF($Q$3=5,COUNTIFS('DATA ENTRY'!$F$9:$F$1000,'PRAPTRA-A'!$D17,'DATA ENTRY'!$X$9:$X$1000,\"ONLINE\"),\"\")))))","v":45},{"$f":"IF($Q$3=1,COUNTIFS('DATA ENTRY'!$F$9:$F$1000,'PRAPTRA-A'!$D17,'DATA ENTRY'!$T$9:$T$1000,\"OFFLINE\"),IF($Q$3=2,COUNTIFS('DATA ENTRY'!$F$9:$F$1000,'PRAPTRA-A'!$D17,'DATA ENTRY'!$U$9:$U$1000,\"OFFLINE\"),IF($Q$3=3,COUNTIFS('DATA ENTRY'!$F$9:$F$1000,'PRAPTRA-A'!$D17,'DATA ENTRY'!$V$9:$V$1000,\"OFFLINE\"),IF($Q$3=4,COUNTIFS('DATA ENTRY'!$F$9:$F$1000,'PRAPTRA-A'!$D17,'DATA ENTRY'!$W$9:$W$1000,\"OFFLINE\"),IF($Q$3=5,COUNTIFS('DATA ENTRY'!$F$9:$F$1000,'PRAPTRA-A'!$D17,'DATA ENTRY'!$X$9:$X$1000,\"OFFLINE\"),\"\")))))","v":3},48,0,null,{"$f":"IF($Q$3=1,COUNTIFS('DATA ENTRY'!$F$9:$F$1000,'PRAPTRA-A'!$D17,'DATA ENTRY'!$Y$9:$Y$1000,\"ONLINE\"),IF($Q$3=2,COUNTIFS('DATA ENTRY'!$F$9:$F$1000,'PRAPTRA-A'!$D17,'DATA ENTRY'!$Z$9:$Z$1000,\"ONLINE\"),IF($Q$3=3,COUNTIFS('DATA ENTRY'!$F$9:$F$1000,'PRAPTRA-A'!$D17,'DATA ENTRY'!$AA$9:$AA$1000,\"ONLINE\"),IF($Q$3=4,COUNTIFS('DATA ENTRY'!$F$9:$F$1000,'PRAPTRA-A'!$D17,'DATA ENTRY'!$AB$9:$AB$1000,\"ONLINE\"),IF($Q$3=5,COUNTIFS('DATA ENTRY'!$F$9:$F$1000,'PRAPTRA-A'!$D17,'DATA ENTRY'!$AC$9:$AC$1000,\"ONLINE\"),\"\")))))","v":33},{"$f":"IF($Q$3=1,COUNTIFS('DATA ENTRY'!$F$9:$F$1000,'PRAPTRA-A'!$D17,'DATA ENTRY'!$Y$9:$Y$1000,\"OFFLINE\"),IF($Q$3=2,COUNTIFS('DATA ENTRY'!$F$9:$F$1000,'PRAPTRA-A'!$D17,'DATA ENTRY'!$Z$9:$Z$1000,\"OFFLINE\"),IF($Q$3=3,COUNTIFS('DATA ENTRY'!$F$9:$F$1000,'PRAPTRA-A'!$D17,'DATA ENTRY'!$AA$9:$AA$1000,\"OFFLINE\"),IF($Q$3=4,COUNTIFS('DATA ENTRY'!$F$9:$F$1000,'PRAPTRA-A'!$D17,'DATA ENTRY'!$AB$9:$AB$1000,\"OFFLINE\"),IF($Q$3=5,COUNTIFS('DATA ENTRY'!$F$9:$F$1000,'PRAPTRA-A'!$D17,'DATA ENTRY'!$AC$9:$AC$1000,\"OFFLINE\"),\"\")))))","v":11},44,4,null,"YES"]
[{"$nulls":3},12,{"$f":"COUNTIF('DATA ENTRY'!$F$9:$F$1000,D18)","v":25},null,{"$f":"IF($Q$3=1,COUNTIFS('DATA ENTRY'!$F$9:$F$1000,'PRAPTRA-A'!$D18,'DATA ENTRY'!$T$9:$T$1000,\"ONLINE\"),IF($Q$3=2,COUNTIFS('DATA ENTRY'!$F$9:$F$1000,'PRAPTRA-A'!$D18,'DATA ENTRY'!$U$9:$U$1000,\"ONLINE\"),IF($Q$3=3,COUNTIFS('DATA ENTRY'!$F$9:$F$1000,'PRAPTRA-A'!$D18,'DATA ENTRY'!$V$9:$V$1000,\"ONLINE\"),IF($Q$3=4,COUNTIFS('DATA ENTRY'!$F$9:$F$1000,'PRAPTRA-A'!$D18,'DATA ENTRY'!$W$9:$W$1000,\"ONLINE\"),IF($Q$3=5,COUNTIFS('DATA ENTRY'!$F$9:$F$1000,'PRAPTRA-A'!$D18,'DATA ENTRY'!$X$9:$X$1000,\"ONLINE\"),\"\")))))","v":25},{"$f":"IF($Q$3=1,COUNTIFS('DATA ENTRY'!$F$9:$F$1000,'PRAPTRA-A'!$D18,'DATA ENTRY'!$T$9:$T$1000,\"OFFLINE\"),IF($Q$3=2,COUNTIFS('DATA ENTRY'!$F$9:$F$1000,'PRAPTRA-A'!$D18,'DATA ENTRY'!$U$9:$U$1000,\"OFFLINE\"),IF($Q$3=3,COUNTIFS('DATA ENTRY'!$F$9:$F$1000,'PRAPTRA-A'!$D18,'DATA ENTRY'!$V$9:$V$1000,\"OFFLINE\"),IF($Q$3=4,COUNTIFS('DATA ENTRY'!$F$9:$F$1000,'PRAPTRA-A'!$D18,'DATA ENTRY'!$W$9:$W$1000,\"OFFLINE\"),IF($Q$3=5,COUNTIFS('DATA ENTRY'!$F$9:$F$1000,'PRAPTRA-A'!$D18,'DATA ENTRY'!$X$9:$X$1000,\"OFFLINE\"),\"\")))))","v":0},25,0,null,{"$f":"IF($Q$3=1,COUNTIFS('DATA ENTRY'!$F$9:$F$1000,'PRAPTRA-A'!$D18,'DATA ENTRY'!$Y$9:$Y$1000,\"ONLINE\"),IF($Q$3=2,COUNTIFS('DATA ENTRY'!$F$9:$F$1000,'PRAPTRA-A'!$D18,'DATA ENTRY'!$Z$9:$Z$1000,\"ONLINE\"),IF($Q$3=3,COUNTIFS('DATA ENTRY'!$F$9:$F$1000,'PRAPTRA-A'!$D18,'DATA ENTRY'!$AA$9:$AA$1000,\"ONLINE\"),IF($Q$3=4,COUNTIFS('DATA ENTRY'!$F$9:$F$1000,'PRAPTRA-A'!$D18,'DATA ENTRY'!$AB$9:$AB$1000,\"ONLINE\"),IF($Q$3=5,COUNTIFS('DATA ENTRY'!$F$9:$F$1000,'PRAPTRA-A'!$D18,'DATA ENTRY'!$AC$9:$AC$1000,\"ONLINE\"),\"\")))))","v":19},{"$f":"IF($Q$3=1,COUNTIFS('DATA ENTRY'!$F$9:$F$1000,'PRAPTRA-A'!$D18,'DATA ENTRY'!$Y$9:$Y$1000,\"OFFLINE\"),IF($Q$3=2,COUNTIFS('DATA ENTRY'!$F$9:$F$1000,'PRAPTRA-A'!$D18,'DATA ENTRY'!$Z$9:$Z$1000,\"OFFLINE\"),IF($Q$3=3,COUNTIFS('DATA ENTRY'!$F$9:$F$1000,'PRAPTRA-A'!$D18,'DATA ENTRY'!$AA$9:$AA$1000,\"OFFLINE\"),IF($Q$3=4,COUNTIFS('DATA ENTRY'!$F$9:$F$1000,'PRAPTRA-A'!$D18,'DATA ENTRY'!$AB$9:$AB$1000,\"OFFLINE\"),IF($Q$3=5,COUNTIFS('DATA ENTRY'!$F$9:$F$1000,'PRAPTRA-A'!$D18,'DATA ENTRY'!$AC$9:$AC$1000,\"OFFLINE\"),\"\")))))","v":5},24,1,null,"YES"]
[null,"कुल ",null,null,{"$f":"SUM(E7:E18)","v":271},null,{"$f":"SUM(G7:G18)","v":98},15,113,158,null,54,53,107,164,null,0]
[]
[{"$nulls":13},{"$f":"DASHBOARD!S3","v":"प्रधानाचार्य"}]
[{"$nulls":13},{"$f":"DASHBOARD!S4","v":"राजकीय उच्च माध्यमिक विद्यालय"}]
[{"$nulls":13},{"$f":"DASHBOARD!S5","v":"13डीओएल, श्री गंगानगर"}]

{"sheet":"PRAPTRA-B","index":9,"n_rows":13,"n_cols":25,"rows_kept":13,"merged":[[1,1,1,13],[2,1,2,13],[3,1,4,2],[3,3,4,3],[3,4,4,4],[3,5,4,5],[3,6,3,9],[3,10,3,13],[5,1,5,2],[10,11,10,13],[11,11,11,13],[12,11,12,13]]}
[]
[null,{"$f":"DASHBOARD!B2","v":"कार्यालय प्रधानाचार्य राजकीय उच्च माध्यमिक विद्यालय 13डीओएल, श्री गंगानगर"},{"$nulls":12},"WEEK",{"$nulls":8},"नामांकन 1से8","PORTFOLIO COMPLETE"]
[null,"स्माइल 2 के अन्तर्गत विद्याथियों के अध्ययन हेतु गृहकार्य वितरण एवं संकलन हेतु शिक्षको के द्वारा भरे जाना वाला ( प्रपत्र -ब)",{"$nulls":12},{"$f":"'PRAPTRA-A'!Q3","v":2},{"$nulls":8},{"$f":"DASHBOARD!P12","v":137},{"$f":"COUNTIFS('DATA ENTRY'!F9:F1000,\"<9\",'DATA ENTRY'!AI9:AI1000,\"YES\")","v":17}]
[null,"विद्यालय  का नाम ",null,"कक्षा ","कुल नामाकन ","गृहकार्य विवरण ( विषयवार )","गृहकार्य वितरण से सबंधित सूचना ",{"$nulls":3},"गृहकार्य संकलन  से सबंधित सूचना "]
[{"$nulls":6},"ऑनलाइन माध्यम से विध्यार्थियों का प्रतिशत  ","ऑफलाइन माध्यम से विध्यार्थियों का प्रतिशत  ","गृहकार्य प्राप्त करने वाले विध्यार्थियों का प्रतिशत(5+6)","गृहकार्य वितरण से वंचित रहने वाले विध्यार्थियों का प्रतिशत","ऑनलाइन माध्यम से वितरित गृहकार्य प्राप्त करने वाले विध्यार्थियों का प्रतिशत ","ऑफलाइन माध्यम से वितरित गृहकार्य प्राप्त करने वाले विध्यार्थियों का प्रतिशत ","गृहकार्य पूर्ण  कर जमा करवाने  वाले विध्यार्थियों का  कुल प्रतिशत (9+10)","गृहकार्य संकलन से वंचित रहे शेष विध्यार्थियों का कुल प्रतिशत","संकलन पश्चात विध्यार्थियों का गृहकार्य पोर्टफोलियो तैयार कर लिया गया है।(प्रतिशत)"]
[null,1,null,2,3,4,5,6,7,8,9,10,11,12,13]
[null,1,{"$f":"CONCATENATE(DASHBOARD!S4,DASHBOARD!S5)","v":"राजकीय उच्च माध्यमिक विद्यालय13डीओएल, श्री गंगानगर"},"1  to 12",{"$f":"'PRAPTRA-A'!E19","v":271},"सभी अनिवार्य विषय ",{"$f":"'PRAPTRA-A'!G19/E7","v":{"v":0.36162361623616235,"d":"36.16%"}},{"$f":"'PRAPTRA-A'!H19/'PRAPTRA-B'!E7","v":{"v":0.055350553505535055,"d":"5.54%"}},{"$f":"G7+H7","v":{"v":0.41697416974169743,"d":"41.70%"}},{"$f":"'PRAPTRA-A'!J19/'PRAPTRA-B'!E7","v":{"v":0.5830258302583026,"d":"58.30%"}},{"$f":"'PRAPTRA-A'!L19/'PRAPTRA-B'!E7","v":{"v":0.1992619926199262,"d":"19.93%"}},{"$f":"'PRAPTRA-A'!M19/'PRAPTRA-B'!E7","v":{"v":0.19557195571955718,"d":"19.56%"}},{"$f":"K7+L7","v":{"v":0.3948339483394834,"d":"39.48%"}},{"$f":"'PRAPTRA-A'!O19/'PRAPTRA-B'!E7","v":{"v":0.6051660516605166,"d":"60.52%"}},{"$f":"Y3/X3","v":{"v":0.12408759124087591,"d":"12.41%"}}]
[]
[]
[]
[{"$nulls":11},{"$f":"DASHBOARD!S3","v":"प्रधानाचार्य"}]
[{"$nulls":11},{"$f":"DASHBOARD!S4","v":"राजकीय उच्च माध्यमिक विद्यालय"}]
[{"$nulls":11},{"$f":"DASHBOARD!S5","v":"13डीओएल, श्री गंगानगर"}]

{"sheet":"Monitor_DATA","index":10,"n_rows":19,"n_cols":15,"rows_kept":19,"merged":[[1,1,1,14],[2,1,2,13],[3,4,3,9],[3,10,3,12],[6,1,17,1]]}
[]
[null,{"$f":"DASHBOARD!B2","v":"कार्यालय प्रधानाचार्य राजकीय उच्च माध्यमिक विद्यालय 13डीओएल, श्री गंगानगर"}]
[null,"स्माइल 3.0 Monitoring Data",{"$nulls":12},"WEEK"]
[{"$nulls":4},"SMILE लाभान्वित",{"$nulls":5},"पाठ्यपुस्तक/वर्कबुक",{"$nulls":3},1]
[null,"विद्यालय  का नाम ","कक्षा ","कुल नामाकन ","व्हाट्सएप्प के माध्यम से स्माइल 3.0 से लाभान्वित ","टेलीविज़न (शिक्षादर्शन) के माध्यम से स्माइल 3.0 से लाभान्वित","रेडियो (शिक्षावाणी)के माध्यम से स्माइल 3.0 से लाभान्वित","ऑफलाइन माध्यम से स्माइल 3.0 से लाभान्वित","क्विज (QUIZ) अटेण्ड करने वाले विध्यार्थी","TEACHER'S CALLING  संख्या","निशुल्क पाठ्यपुस्तक प्राप्त विध्यार्थियों की संख्या","वर्कबुक प्राप्त विध्यार्थियों की संख्या AT GRADE","वर्कबुक प्राप्त विध्यार्थियों की संख्या BELOW GRADE","संकलन पश्चात विध्यार्थियों का गृहकार्य पोर्टफोलियो तैयार कर लिया गया है, हां अथवा नहीं ","पोर्टफोलियो संधारित संख्या"]
[null,1,2,3,4,5,null,6,7,8,9,10,11,23,24]
[null,{"$f":"CONCATENATE(DASHBOARD!S4,DASHBOARD!S5)","v":"राजकीय उच्च माध्यमिक विद्यालय13डीओएल, श्री गंगानगर"},1,{"$f":"COUNTIF('DATA ENTRY'!$F$9:$F$1000,C7)","v":7},{"$f":"COUNTIFS('DATA ENTRY'!$F$9:$F$1000,$C7,'DATA ENTRY'!$G$9:$G$1000,\"YES\")","v":2},{"$f":"COUNTIFS('DATA ENTRY'!$F$9:$F$1000,$C7,'DATA ENTRY'!$H$9:$H$1000,\"YES\")","v":0},{"$f":"COUNTIFS('DATA ENTRY'!$F$9:$F$1000,$C7,'DATA ENTRY'!$I$9:$I$1000,\"YES\")","v":1},{"$f":"COUNTIFS('DATA ENTRY'!$F$9:$F$1000,$C7,'DATA ENTRY'!$J$9:$J$1000,\"YES\")","v":5},{"$f":"IF($O$4=1,COUNTIFS('DATA ENTRY'!$F$9:$F$1000,$C7,'DATA ENTRY'!$K$9:$K$1000,\"YES\"),IF($O$4=2,COUNTIFS('DATA ENTRY'!$F$9:$F$1000,$C7,'DATA ENTRY'!$L$9:$L$1000,\"YES\"),IF($O$4=3,COUNTIFS('DATA ENTRY'!$F$9:$F$1000,$C7,'DATA ENTRY'!$M$9:$M$1000,\"YES\"),IF($O$4=4,COUNTIFS('DATA ENTRY'!$F$9:$F$1000,$C7,'DATA ENTRY'!$N$9:$N$1000,\"YES\"),IF($O$4=5,COUNTIFS('DATA ENTRY'!$F$9:$F$1000,$C7,'DATA ENTRY'!$O$9:$O$1000,\"YES\"),\"\")))))","v":0},{"$f":"IF($O$4=1,COUNTIFS('DATA ENTRY'!$F$9:$F$1000,$C7,'DATA ENTRY'!$AL$9:$AL$1000,\"YES\"),IF($O$4=2,COUNTIFS('DATA ENTRY'!$F$9:$F$1000,$C7,'DATA ENTRY'!$AM$9:$AM$1000,\"YES\"),IF($O$4=3,COUNTIFS('DATA ENTRY'!$F$9:$F$1000,$C7,'DATA ENTRY'!$AN$9:$AN$1000,\"YES\"),IF($O$4=4,COUNTIFS('DATA ENTRY'!$F$9:$F$1000,$C7,'DATA ENTRY'!$AO$9:$AO$1000,\"YES\"),IF($O$4=5,COUNTIFS('DATA ENTRY'!$F$9:$F$1000,$C7,'DATA ENTRY'!$AP$9:$AP$1000,\"YES\"),\"\")))))","v":2},{"$f":"COUNTIFS('DATA ENTRY'!$F$9:$F$1000,$C7,'DATA ENTRY'!$P$9:$P$1000,\"YES\")","v":0},{"$f":"COUNTIFS('DATA ENTRY'!$F$9:$F$1000,$C7,'DATA ENTRY'!$Q$9:$Q$1000,\"YES\")","v":0},{"$f":"COUNTIFS('DATA ENTRY'!$F$9:$F$1000,$C7,'DATA ENTRY'!$R$9:$R$1000,\"YES\")","v":0},"YES",{"$f":"COUNTIFS('DATA ENTRY'!$F$9:$F$1000,$C7,'DATA ENTRY'!$AI$9:$AI$1000,\"YES\")","v":0}]
[null,null,2,{"$f":"COUNTIF('DATA ENTRY'!$F$9:$F$1000,C8)","v":24},{"$f":"COUNTIFS('DATA ENTRY'!$F$9:$F$1000,$C8,'DATA ENTRY'!$G$9:$G$1000,\"YES\")","v":17},{"$f":"COUNTIFS('DATA ENTRY'!$F$9:$F$1000,$C8,'DATA ENTRY'!$H$9:$H$1000,\"YES\")","v":0},{"$f":"COUNTIFS('DATA ENTRY'!$F$9:$F$1000,$C8,'DATA ENTRY'!$I$9:$I$1000,\"YES\")","v":0},{"$f":"COUNTIFS('DATA ENTRY'!$F$9:$F$1000,$C8,'DATA ENTRY'!$J$9:$J$1000,\"YES\")","v":7},{"$f":"IF($O$4=1,COUNTIFS('DATA ENTRY'!$F$9:$F$1000,$C8,'DATA ENTRY'!$K$9:$K$1000,\"YES\"),IF($O$4=2,COUNTIFS('DATA ENTRY'!$F$9:$F$1000,$C8,'DATA ENTRY'!$L$9:$L$1000,\"YES\"),IF($O$4=3,COUNTIFS('DATA ENTRY'!$F$9:$F$1000,$C8,'DATA ENTRY'!$M$9:$M$1000,\"YES\"),IF($O$4=4,COUNTIFS('DATA ENTRY'!$F$9:$F$1000,$C8,'DATA ENTRY'!$N$9:$N$1000,\"YES\"),IF($O$4=5,COUNTIFS('DATA ENTRY'!$F$9:$F$1000,$C8,'DATA ENTRY'!$O$9:$O$1000,\"YES\"),\"\")))))","v":0},{"$f":"IF($O$4=1,COUNTIFS('DATA ENTRY'!$F$9:$F$1000,$C8,'DATA ENTRY'!$AL$9:$AL$1000,\"YES\"),IF($O$4=2,COUNTIFS('DATA ENTRY'!$F$9:$F$1000,$C8,'DATA ENTRY'!$AM$9:$AM$1000,\"YES\"),IF($O$4=3,COUNTIFS('DATA ENTRY'!$F$9:$F$1000,$C8,'DATA ENTRY'!$AN$9:$AN$1000,\"YES\"),IF($O$4=4,COUNTIFS('DATA ENTRY'!$F$9:$F$1000,$C8,'DATA ENTRY'!$AO$9:$AO$1000,\"YES\"),IF($O$4=5,COUNTIFS('DATA ENTRY'!$F$9:$F$1000,$C8,'DATA ENTRY'!$AP$9:$AP$1000,\"YES\"),\"\")))))","v":0},{"$f":"COUNTIFS('DATA ENTRY'!$F$9:$F$1000,$C8,'DATA ENTRY'!$P$9:$P$1000,\"YES\")","v":0},{"$f":"COUNTIFS('DATA ENTRY'!$F$9:$F$1000,$C8,'DATA ENTRY'!$Q$9:$Q$1000,\"YES\")","v":0},{"$f":"COUNTIFS('DATA ENTRY'!$F$9:$F$1000,$C8,'DATA ENTRY'!$R$9:$R$1000,\"YES\")","v":0},"YES",{"$f":"COUNTIFS('DATA ENTRY'!$F$9:$F$1000,$C8,'DATA ENTRY'!$AI$9:$AI$1000,\"YES\")","v":0}]
[null,null,3,{"$f":"COUNTIF('DATA ENTRY'!$F$9:$F$1000,C9)","v":13},{"$f":"COUNTIFS('DATA ENTRY'!$F$9:$F$1000,$C9,'DATA ENTRY'!$G$9:$G$1000,\"YES\")","v":5},{"$f":"COUNTIFS('DATA ENTRY'!$F$9:$F$1000,$C9,'DATA ENTRY'!$H$9:$H$1000,\"YES\")","v":0},{"$f":"COUNTIFS('DATA ENTRY'!$F$9:$F$1000,$C9,'DATA ENTRY'!$I$9:$I$1000,\"YES\")","v":0},{"$f":"COUNTIFS('DATA ENTRY'!$F$9:$F$1000,$C9,'DATA ENTRY'!$J$9:$J$1000,\"YES\")","v":8},{"$f":"IF($O$4=1,COUNTIFS('DATA ENTRY'!$F$9:$F$1000,$C9,'DATA ENTRY'!$K$9:$K$1000,\"YES\"),IF($O$4=2,COUNTIFS('DATA ENTRY'!$F$9:$F$1000,$C9,'DATA ENTRY'!$L$9:$L$1000,\"YES\"),IF($O$4=3,COUNTIFS('DATA ENTRY'!$F$9:$F$1000,$C9,'DATA ENTRY'!$M$9:$M$1000,\"YES\"),IF($O$4=4,COUNTIFS('DATA ENTRY'!$F$9:$F$1000,$C9,'DATA ENTRY'!$N$9:$N$1000,\"YES\"),IF($O$4=5,COUNTIFS('DATA ENTRY'!$F$9:$F$1000,$C9,'DATA ENTRY'!$O$9:$O$1000,\"YES\"),\"\")))))","v":0},{"$f":"IF($O$4=1,COUNTIFS('DATA ENTRY'!$F$9:$F$1000,$C9,'DATA ENTRY'!$AL$9:$AL$1000,\"YES\"),IF($O$4=2,COUNTIFS('DATA ENTRY'!$F$9:$F$1000,$C9,'DATA ENTRY'!$AM$9:$AM$1000,\"YES\"),IF($O$4=3,COUNTIFS('DATA ENTRY'!$F$9:$F$1000,$C9,'DATA ENTRY'!$AN$9:$AN$1000,\"YES\"),IF($O$4=4,COUNTIFS('DATA ENTRY'!$F$9:$F$1000,$C9,'DATA ENTRY'!$AO$9:$AO$1000,\"YES\"),IF($O$4=5,COUNTIFS('DATA ENTRY'!$F$9:$F$1000,$C9,'DATA ENTRY'!$AP$9:$AP$1000,\"YES\"),\"\")))))","v":0},{"$f":"COUNTIFS('DATA ENTRY'!$F$9:$F$1000,$C9,'DATA ENTRY'!$P$9:$P$1000,\"YES\")","v":0},{"$f":"COUNTIFS('DATA ENTRY'!$F$9:$F$1000,$C9,'DATA ENTRY'!$Q$9:$Q$1000,\"YES\")","v":0},{"$f":"COUNTIFS('DATA ENTRY'!$F$9:$F$1000,$C9,'DATA ENTRY'!$R$9:$R$1000,\"YES\")","v":0},"YES",{"$f":"COUNTIFS('DATA ENTRY'!$F$9:$F$1000,$C9,'DATA ENTRY'!$AI$9:$AI$1000,\"YES\")","v":0}]
[null,null,4,{"$f":"COUNTIF('DATA ENTRY'!$F$9:$F$1000,C10)","v":16},{"$f":"COUNTIFS('DATA ENTRY'!$F$9:$F$1000,$C10,'DATA ENTRY'!$G$9:$G$1000,\"YES\")","v":5},{"$f":"COUNTIFS('DATA ENTRY'!$F$9:$F$1000,$C10,'DATA ENTRY'!$H$9:$H$1000,\"YES\")","v":0},{"$f":"COUNTIFS('DATA ENTRY'!$F$9:$F$1000,$C10,'DATA ENTRY'!$I$9:$I$1000,\"YES\")","v":0},{"$f":"COUNTIFS('DATA ENTRY'!$F$9:$F$1000,$C10,'DATA ENTRY'!$J$9:$J$1000,\"YES\")","v":6},{"$f":"IF($O$4=1,COUNTIFS('DATA ENTRY'!$F$9:$F$1000,$C10,'DATA ENTRY'!$K$9:$K$1000,\"YES\"),IF($O$4=2,COUNTIFS('DATA ENTRY'!$F$9:$F$1000,$C10,'DATA ENTRY'!$L$9:$L$1000,\"YES\"),IF($O$4=3,COUNTIFS('DATA ENTRY'!$F$9:$F$1000,$C10,'DATA ENTRY'!$M$9:$M$1000,\"YES\"),IF($O$4=4,COUNTIFS('DATA ENTRY'!$F$9:$F$1000,$C10,'DATA ENTRY'!$N$9:$N$1000,\"YES\"),IF($O$4=5,COUNTIFS('DATA ENTRY'!$F$9:$F$1000,$C10,'DATA ENTRY'!$O$9:$O$1000,\"YES\"),\"\")))))","v":0},{"$f":"IF($O$4=1,COUNTIFS('DATA ENTRY'!$F$9:$F$1000,$C10,'DATA ENTRY'!$AL$9:$AL$1000,\"YES\"),IF($O$4=2,COUNTIFS('DATA ENTRY'!$F$9:$F$1000,$C10,'DATA ENTRY'!$AM$9:$AM$1000,\"YES\"),IF($O$4=3,COUNTIFS('DATA ENTRY'!$F$9:$F$1000,$C10,'DATA ENTRY'!$AN$9:$AN$1000,\"YES\"),IF($O$4=4,COUNTIFS('DATA ENTRY'!$F$9:$F$1000,$C10,'DATA ENTRY'!$AO$9:$AO$1000,\"YES\"),IF($O$4=5,COUNTIFS('DATA ENTRY'!$F$9:$F$1000,$C10,'DATA ENTRY'!$AP$9:$AP$1000,\"YES\"),\"\")))))","v":0},{"$f":"COUNTIFS('DATA ENTRY'!$F$9:$F$1000,$C10,'DATA ENTRY'!$P$9:$P$1000,\"YES\")","v":0},{"$f":"COUNTIFS('DATA ENTRY'!$F$9:$F$1000,$C10,'DATA ENTRY'!$Q$9:$Q$1000,\"YES\")","v":0},{"$f":"COUNTIFS('DATA ENTRY'!$F$9:$F$1000,$C10,'DATA ENTRY'!$R$9:$R$1000,\"YES\")","v":0},"YES",{"$f":"COUNTIFS('DATA ENTRY'!$F$9:$F$1000,$C10,'DATA ENTRY'!$AI$9:$AI$1000,\"YES\")","v":0}]
[null,null,5,{"$f":"COUNTIF('DATA ENTRY'!$F$9:$F$1000,C11)","v":17},{"$f":"COUNTIFS('DATA ENTRY'!$F$9:$F$1000,$C11,'DATA ENTRY'!$G$9:$G$1000,\"YES\")","v":9},{"$f":"COUNTIFS('DATA ENTRY'!$F$9:$F$1000,$C11,'DATA ENTRY'!$H$9:$H$1000,\"YES\")","v":0},{"$f":"COUNTIFS('DATA ENTRY'!$F$9:$F$1000,$C11,'DATA ENTRY'!$I$9:$I$1000,\"YES\")","v":0},{"$f":"COUNTIFS('DATA ENTRY'!$F$9:$F$1000,$C11,'DATA ENTRY'!$J$9:$J$1000,\"YES\")","v":9},{"$f":"IF($O$4=1,COUNTIFS('DATA ENTRY'!$F$9:$F$1000,$C11,'DATA ENTRY'!$K$9:$K$1000,\"YES\"),IF($O$4=2,COUNTIFS('DATA ENTRY'!$F$9:$F$1000,$C11,'DATA ENTRY'!$L$9:$L$1000,\"YES\"),IF($O$4=3,COUNTIFS('DATA ENTRY'!$F$9:$F$1000,$C11,'DATA ENTRY'!$M$9:$M$1000,\"YES\"),IF($O$4=4,COUNTIFS('DATA ENTRY'!$F$9:$F$1000,$C11,'DATA ENTRY'!$N$9:$N$1000,\"YES\"),IF($O$4=5,COUNTIFS('DATA ENTRY'!$F$9:$F$1000,$C11,'DATA ENTRY'!$O$9:$O$1000,\"YES\"),\"\")))))","v":0},{"$f":"IF($O$4=1,COUNTIFS('DATA ENTRY'!$F$9:$F$1000,$C11,'DATA ENTRY'!$AL$9:$AL$1000,\"YES\"),IF($O$4=2,COUNTIFS('DATA ENTRY'!$F$9:$F$1000,$C11,'DATA ENTRY'!$AM$9:$AM$1000,\"YES\"),IF($O$4=3,COUNTIFS('DATA ENTRY'!$F$9:$F$1000,$C11,'DATA ENTRY'!$AN$9:$AN$1000,\"YES\"),IF($O$4=4,COUNTIFS('DATA ENTRY'!$F$9:$F$1000,$C11,'DATA ENTRY'!$AO$9:$AO$1000,\"YES\"),IF($O$4=5,COUNTIFS('DATA ENTRY'!$F$9:$F$1000,$C11,'DATA ENTRY'!$AP$9:$AP$1000,\"YES\"),\"\")))))","v":0},{"$f":"COUNTIFS('DATA ENTRY'!$F$9:$F$1000,$C11,'DATA ENTRY'!$P$9:$P$1000,\"YES\")","v":0},{"$f":"COUNTIFS('DATA ENTRY'!$F$9:$F$1000,$C11,'DATA ENTRY'!$Q$9:$Q$1000,\"YES\")","v":0},{"$f":"COUNTIFS('DATA ENTRY'!$F$9:$F$1000,$C11,'DATA ENTRY'!$R$9:$R$1000,\"YES\")","v":0},"YES",{"$f":"COUNTIFS('DATA ENTRY'!$F$9:$F$1000,$C11,'DATA ENTRY'!$AI$9:$AI$1000,\"YES\")","v":0}]
[null,null,6,{"$f":"COUNTIF('DATA ENTRY'!$F$9:$F$1000,C12)","v":23},{"$f":"COUNTIFS('DATA ENTRY'!$F$9:$F$1000,$C12,'DATA ENTRY'!$G$9:$G$1000,\"YES\")","v":23},{"$f":"COUNTIFS('DATA ENTRY'!$F$9:$F$1000,$C12,'DATA ENTRY'!$H$9:$H$1000,\"YES\")","v":0},{"$f":"COUNTIFS('DATA ENTRY'!$F$9:$F$1000,$C12,'DATA ENTRY'!$I$9:$I$1000,\"YES\")","v":0},{"$f":"COUNTIFS('DATA ENTRY'!$F$9:$F$1000,$C12,'DATA ENTRY'!$J$9:$J$1000,\"YES\")","v":0},{"$f":"IF($O$4=1,COUNTIFS('DATA ENTRY'!$F$9:$F$1000,$C12,'DATA ENTRY'!$K$9:$K$1000,\"YES\"),IF($O$4=2,COUNTIFS('DATA ENTRY'!$F$9:$F$1000,$C12,'DATA ENTRY'!$L$9:$L$1000,\"YES\"),IF($O$4=3,COUNTIFS('DATA ENTRY'!$F$9:$F$1000,$C12,'DATA ENTRY'!$M$9:$M$1000,\"YES\"),IF($O$4=4,COUNTIFS('DATA ENTRY'!$F$9:$F$1000,$C12,'DATA ENTRY'!$N$9:$N$1000,\"YES\"),IF($O$4=5,COUNTIFS('DATA ENTRY'!$F$9:$F$1000,$C12,'DATA ENTRY'!$O$9:$O$1000,\"YES\"),\"\")))))","v":0},{"$f":"IF($O$4=1,COUNTIFS('DATA ENTRY'!$F$9:$F$1000,$C12,'DATA ENTRY'!$AL$9:$AL$1000,\"YES\"),IF($O$4=2,COUNTIFS('DATA ENTRY'!$F$9:$F$1000,$C12,'DATA ENTRY'!$AM$9:$AM$1000,\"YES\"),IF($O$4=3,COUNTIFS('DATA ENTRY'!$F$9:$F$1000,$C12,'DATA ENTRY'!$AN$9:$AN$1000,\"YES\"),IF($O$4=4,COUNTIFS('DATA ENTRY'!$F$9:$F$1000,$C12,'DATA ENTRY'!$AO$9:$AO$1000,\"YES\"),IF($O$4=5,COUNTIFS('DATA ENTRY'!$F$9:$F$1000,$C12,'DATA ENTRY'!$AP$9:$AP$1000,\"YES\"),\"\")))))","v":0},{"$f":"COUNTIFS('DATA ENTRY'!$F$9:$F$1000,$C12,'DATA ENTRY'!$P$9:$P$1000,\"YES\")","v":0},{"$f":"COUNTIFS('DATA ENTRY'!$F$9:$F$1000,$C12,'DATA ENTRY'!$Q$9:$Q$1000,\"YES\")","v":0},{"$f":"COUNTIFS('DATA ENTRY'!$F$9:$F$1000,$C12,'DATA ENTRY'!$R$9:$R$1000,\"YES\")","v":0},"YES",{"$f":"COUNTIFS('DATA ENTRY'!$F$9:$F$1000,$C12,'DATA ENTRY'!$AI$9:$AI$1000,\"YES\")","v":0}]
[null,null,7,{"$f":"COUNTIF('DATA ENTRY'!$F$9:$F$1000,C13)","v":19},{"$f":"COUNTIFS('DATA ENTRY'!$F$9:$F$1000,$C13,'DATA ENTRY'!$G$9:$G$1000,\"YES\")","v":19},{"$f":"COUNTIFS('DATA ENTRY'!$F$9:$F$1000,$C13,'DATA ENTRY'!$H$9:$H$1000,\"YES\")","v":0},{"$f":"COUNTIFS('DATA ENTRY'!$F$9:$F$1000,$C13,'DATA ENTRY'!$I$9:$I$1000,\"YES\")","v":0},{"$f":"COUNTIFS('DATA ENTRY'!$F$9:$F$1000,$C13,'DATA ENTRY'!$J$9:$J$1000,\"YES\")","v":0},{"$f":"IF($O$4=1,COUNTIFS('DATA ENTRY'!$F$9:$F$1000,$C13,'DATA ENTRY'!$K$9:$K$1000,\"YES\"),IF($O$4=2,COUNTIFS('DATA ENTRY'!$F$9:$F$1000,$C13,'DATA ENTRY'!$L$9:$L$1000,\"YES\"),IF($O$4=3,COUNTIFS('DATA ENTRY'!$F$9:$F$1000,$C13,'DATA ENTRY'!$M$9:$M$1000,\"YES\"),IF($O$4=4,COUNTIFS('DATA ENTRY'!$F$9:$F$1000,$C13,'DATA ENTRY'!$N$9:$N$1000,\"YES\"),IF($O$4=5,COUNTIFS('DATA ENTRY'!$F$9:$F$1000,$C13,'DATA ENTRY'!$O$9:$O$1000,\"YES\"),\"\")))))","v":0},{"$f":"IF($O$4=1,COUNTIFS('DATA ENTRY'!$F$9:$F$1000,$C13,'DATA ENTRY'!$AL$9:$AL$1000,\"YES\"),IF($O$4=2,COUNTIFS('DATA ENTRY'!$F$9:$F$1000,$C13,'DATA ENTRY'!$AM$9:$AM$1000,\"YES\"),IF($O$4=3,COUNTIFS('DATA ENTRY'!$F$9:$F$1000,$C13,'DATA ENTRY'!$AN$9:$AN$1000,\"YES\"),IF($O$4=4,COUNTIFS('DATA ENTRY'!$F$9:$F$1000,$C13,'DATA ENTRY'!$AO$9:$AO$1000,\"YES\"),IF($O$4=5,COUNTIFS('DATA ENTRY'!$F$9:$F$1000,$C13,'DATA ENTRY'!$AP$9:$AP$1000,\"YES\"),\"\")))))","v":0},{"$f":"COUNTIFS('DATA ENTRY'!$F$9:$F$1000,$C13,'DATA ENTRY'!$P$9:$P$1000,\"YES\")","v":0},{"$f":"COUNTIFS('DATA ENTRY'!$F$9:$F$1000,$C13,'DATA ENTRY'!$Q$9:$Q$1000,\"YES\")","v":0},{"$f":"COUNTIFS('DATA ENTRY'!$F$9:$F$1000,$C13,'DATA ENTRY'!$R$9:$R$1000,\"YES\")","v":0},"YES",{"$f":"COUNTIFS('DATA ENTRY'!$F$9:$F$1000,$C13,'DATA ENTRY'!$AI$9:$AI$1000,\"YES\")","v":0}]
[null,null,8,{"$f":"COUNTIF('DATA ENTRY'!$F$9:$F$1000,C14)","v":18},{"$f":"COUNTIFS('DATA ENTRY'!$F$9:$F$1000,$C14,'DATA ENTRY'!$G$9:$G$1000,\"YES\")","v":13},{"$f":"COUNTIFS('DATA ENTRY'!$F$9:$F$1000,$C14,'DATA ENTRY'!$H$9:$H$1000,\"YES\")","v":0},{"$f":"COUNTIFS('DATA ENTRY'!$F$9:$F$1000,$C14,'DATA ENTRY'!$I$9:$I$1000,\"YES\")","v":0},{"$f":"COUNTIFS('DATA ENTRY'!$F$9:$F$1000,$C14,'DATA ENTRY'!$J$9:$J$1000,\"YES\")","v":5},{"$f":"IF($O$4=1,COUNTIFS('DATA ENTRY'!$F$9:$F$1000,$C14,'DATA ENTRY'!$K$9:$K$1000,\"YES\"),IF($O$4=2,COUNTIFS('DATA ENTRY'!$F$9:$F$1000,$C14,'DATA ENTRY'!$L$9:$L$1000,\"YES\"),IF($O$4=3,COUNTIFS('DATA ENTRY'!$F$9:$F$1000,$C14,'DATA ENTRY'!$M$9:$M$1000,\"YES\"),IF($O$4=4,COUNTIFS('DATA ENTRY'!$F$9:$F$1000,$C14,'DATA ENTRY'!$N$9:$N$1000,\"YES\"),IF($O$4=5,COUNTIFS('DATA ENTRY'!$F$9:$F$1000,$C14,'DATA ENTRY'!$O$9:$O$1000,\"YES\"),\"\")))))","v":18},{"$f":"IF($O$4=1,COUNTIFS('DATA ENTRY'!$F$9:$F$1000,$C14,'DATA ENTRY'!$AL$9:$AL$1000,\"YES\"),IF($O$4=2,COUNTIFS('DATA ENTRY'!$F$9:$F$1000,$C14,'DATA ENTRY'!$AM$9:$AM$1000,\"YES\"),IF($O$4=3,COUNTIFS('DATA ENTRY'!$F$9:$F$1000,$C14,'DATA ENTRY'!$AN$9:$AN$1000,\"YES\"),IF($O$4=4,COUNTIFS('DATA ENTRY'!$F$9:$F$1000,$C14,'DATA ENTRY'!$AO$9:$AO$1000,\"YES\"),IF($O$4=5,COUNTIFS('DATA ENTRY'!$F$9:$F$1000,$C14,'DATA ENTRY'!$AP$9:$AP$1000,\"YES\"),\"\")))))","v":17},{"$f":"COUNTIFS('DATA ENTRY'!$F$9:$F$1000,$C14,'DATA ENTRY'!$P$9:$P$1000,\"YES\")","v":0},{"$f":"COUNTIFS('DATA ENTRY'!$F$9:$F$1000,$C14,'DATA ENTRY'!$Q$9:$Q$1000,\"YES\")","v":0},{"$f":"COUNTIFS('DATA ENTRY'!$F$9:$F$1000,$C14,'DATA ENTRY'!$R$9:$R$1000,\"YES\")","v":0},"YES",{"$f":"COUNTIFS('DATA ENTRY'!$F$9:$F$1000,$C14,'DATA ENTRY'!$AI$9:$AI$1000,\"YES\")","v":17}]
[null,null,9,{"$f":"COUNTIF('DATA ENTRY'!$F$9:$F$1000,C15)","v":22},{"$f":"COUNTIFS('DATA ENTRY'!$F$9:$F$1000,$C15,'DATA ENTRY'!$G$9:$G$1000,\"YES\")","v":15},{"$f":"COUNTIFS('DATA ENTRY'!$F$9:$F$1000,$C15,'DATA ENTRY'!$H$9:$H$1000,\"YES\")","v":0},{"$f":"COUNTIFS('DATA ENTRY'!$F$9:$F$1000,$C15,'DATA ENTRY'!$I$9:$I$1000,\"YES\")","v":0},{"$f":"COUNTIFS('DATA ENTRY'!$F$9:$F$1000,$C15,'DATA ENTRY'!$J$9:$J$1000,\"YES\")","v":7},{"$f":"IF($O$4=1,COUNTIFS('DATA ENTRY'!$F$9:$F$1000,$C15,'DATA ENTRY'!$K$9:$K$1000,\"YES\"),IF($O$4=2,COUNTIFS('DATA ENTRY'!$F$9:$F$1000,$C15,'DATA ENTRY'!$L$9:$L$1000,\"YES\"),IF($O$4=3,COUNTIFS('DATA ENTRY'!$F$9:$F$1000,$C15,'DATA ENTRY'!$M$9:$M$1000,\"YES\"),IF($O$4=4,COUNTIFS('DATA ENTRY'!$F$9:$F$1000,$C15,'DATA ENTRY'!$N$9:$N$1000,\"YES\"),IF($O$4=5,COUNTIFS('DATA ENTRY'!$F$9:$F$1000,$C15,'DATA ENTRY'!$O$9:$O$1000,\"YES\"),\"\")))))","v":16},{"$f":"IF($O$4=1,COUNTIFS('DATA ENTRY'!$F$9:$F$1000,$C15,'DATA ENTRY'!$AL$9:$AL$1000,\"YES\"),IF($O$4=2,COUNTIFS('DATA ENTRY'!$F$9:$F$1000,$C15,'DATA ENTRY'!$AM$9:$AM$1000,\"YES\"),IF($O$4=3,COUNTIFS('DATA ENTRY'!$F$9:$F$1000,$C15,'DATA ENTRY'!$AN$9:$AN$1000,\"YES\"),IF($O$4=4,COUNTIFS('DATA ENTRY'!$F$9:$F$1000,$C15,'DATA ENTRY'!$AO$9:$AO$1000,\"YES\"),IF($O$4=5,COUNTIFS('DATA ENTRY'!$F$9:$F$1000,$C15,'DATA ENTRY'!$AP$9:$AP$1000,\"YES\"),\"\")))))","v":20},{"$f":"COUNTIFS('DATA ENTRY'!$F$9:$F$1000,$C15,'DATA ENTRY'!$P$9:$P$1000,\"YES\")","v":0},{"$f":"COUNTIFS('DATA ENTRY'!$F$9:$F$1000,$C15,'DATA ENTRY'!$Q$9:$Q$1000,\"YES\")","v":0},{"$f":"COUNTIFS('DATA ENTRY'!$F$9:$F$1000,$C15,'DATA ENTRY'!$R$9:$R$1000,\"YES\")","v":0},"YES",{"$f":"COUNTIFS('DATA ENTRY'!$F$9:$F$1000,$C15,'DATA ENTRY'!$AI$9:$AI$1000,\"YES\")","v":22}]
[null,null,10,{"$f":"COUNTIF('DATA ENTRY'!$F$9:$F$1000,C16)","v":39},{"$f":"COUNTIFS('DATA ENTRY'!$F$9:$F$1000,$C16,'DATA ENTRY'!$G$9:$G$1000,\"YES\")","v":0},{"$f":"COUNTIFS('DATA ENTRY'!$F$9:$F$1000,$C16,'DATA ENTRY'!$H$9:$H$1000,\"YES\")","v":0},{"$f":"COUNTIFS('DATA ENTRY'!$F$9:$F$1000,$C16,'DATA ENTRY'!$I$9:$I$1000,\"YES\")","v":0},{"$f":"COUNTIFS('DATA ENTRY'!$F$9:$F$1000,$C16,'DATA ENTRY'!$J$9:$J$1000,\"YES\")","v":0},{"$f":"IF($O$4=1,COUNTIFS('DATA ENTRY'!$F$9:$F$1000,$C16,'DATA ENTRY'!$K$9:$K$1000,\"YES\"),IF($O$4=2,COUNTIFS('DATA ENTRY'!$F$9:$F$1000,$C16,'DATA ENTRY'!$L$9:$L$1000,\"YES\"),IF($O$4=3,COUNTIFS('DATA ENTRY'!$F$9:$F$1000,$C16,'DATA ENTRY'!$M$9:$M$1000,\"YES\"),IF($O$4=4,COUNTIFS('DATA ENTRY'!$F$9:$F$1000,$C16,'DATA ENTRY'!$N$9:$N$1000,\"YES\"),IF($O$4=5,COUNTIFS('DATA ENTRY'!$F$9:$F$1000,$C16,'DATA ENTRY'!$O$9:$O$1000,\"YES\"),\"\")))))","v":0},{"$f":"IF($O$4=1,COUNTIFS('DATA ENTRY'!$F$9:$F$1000,$C16,'DATA ENTRY'!$AL$9:$AL$1000,\"YES\"),IF($O$4=2,COUNTIFS('DATA ENTRY'!$F$9:$F$1000,$C16,'DATA ENTRY'!$AM$9:$AM$1000,\"YES\"),IF($O$4=3,COUNTIFS('DATA ENTRY'!$F$9:$F$1000,$C16,'DATA ENTRY'!$AN$9:$AN$1000,\"YES\"),IF($O$4=4,COUNTIFS('DATA ENTRY'!$F$9:$F$1000,$C16,'DATA ENTRY'!$AO$9:$AO$1000,\"YES\"),IF($O$4=5,COUNTIFS('DATA ENTRY'!$F$9:$F$1000,$C16,'DATA ENTRY'!$AP$9:$AP$1000,\"YES\"),\"\")))))","v":0},{"$f":"COUNTIFS('DATA ENTRY'!$F$9:$F$1000,$C16,'DATA ENTRY'!$P$9:$P$1000,\"YES\")","v":0},{"$f":"COUNTIFS('DATA ENTRY'!$F$9:$F$1000,$C16,'DATA ENTRY'!$Q$9:$Q$1000,\"YES\")","v":0},{"$f":"COUNTIFS('DATA ENTRY'!$F$9:$F$1000,$C16,'DATA ENTRY'!$R$9:$R$1000,\"YES\")","v":0},"YES",{"$f":"COUNTIFS('DATA ENTRY'!$F$9:$F$1000,$C16,'DATA ENTRY'!$AI$9:$AI$1000,\"YES\")","v":0}]
[null,null,11,{"$f":"COUNTIF('DATA ENTRY'!$F$9:$F$1000,C17)","v":48},{"$f":"COUNTIFS('DATA ENTRY'!$F$9:$F$1000,$C17,'DATA ENTRY'!$G$9:$G$1000,\"YES\")","v":48},{"$f":"COUNTIFS('DATA ENTRY'!$F$9:$F$1000,$C17,'DATA ENTRY'!$H$9:$H$1000,\"YES\")","v":0},{"$f":"COUNTIFS('DATA ENTRY'!$F$9:$F$1000,$C17,'DATA ENTRY'!$I$9:$I$1000,\"YES\")","v":0},{"$f":"COUNTIFS('DATA ENTRY'!$F$9:$F$1000,$C17,'DATA ENTRY'!$J$9:$J$1000,\"YES\")","v":0},{"$f":"IF($O$4=1,COUNTIFS('DATA ENTRY'!$F$9:$F$1000,$C17,'DATA ENTRY'!$K$9:$K$1000,\"YES\"),IF($O$4=2,COUNTIFS('DATA ENTRY'!$F$9:$F$1000,$C17,'DATA ENTRY'!$L$9:$L$1000,\"YES\"),IF($O$4=3,COUNTIFS('DATA ENTRY'!$F$9:$F$1000,$C17,'DATA ENTRY'!$M$9:$M$1000,\"YES\"),IF($O$4=4,COUNTIFS('DATA ENTRY'!$F$9:$F$1000,$C17,'DATA ENTRY'!$N$9:$N$1000,\"YES\"),IF($O$4=5,COUNTIFS('DATA ENTRY'!$F$9:$F$1000,$C17,'DATA ENTRY'!$O$9:$O$1000,\"YES\"),\"\")))))","v":33},{"$f":"IF($O$4=1,COUNTIFS('DATA ENTRY'!$F$9:$F$1000,$C17,'DATA ENTRY'!$AL$9:$AL$1000,\"YES\"),IF($O$4=2,COUNTIFS('DATA ENTRY'!$F$9:$F$1000,$C17,'DATA ENTRY'!$AM$9:$AM$1000,\"YES\"),IF($O$4=3,COUNTIFS('DATA ENTRY'!$F$9:$F$1000,$C17,'DATA ENTRY'!$AN$9:$AN$1000,\"YES\"),IF($O$4=4,COUNTIFS('DATA ENTRY'!$F$9:$F$1000,$C17,'DATA ENTRY'!$AO$9:$AO$1000,\"YES\"),IF($O$4=5,COUNTIFS('DATA ENTRY'!$F$9:$F$1000,$C17,'DATA ENTRY'!$AP$9:$AP$1000,\"YES\"),\"\")))))","v":48},{"$f":"COUNTIFS('DATA ENTRY'!$F$9:$F$1000,$C17,'DATA ENTRY'!$P$9:$P$1000,\"YES\")","v":0},{"$f":"COUNTIFS('DATA ENTRY'!$F$9:$F$1000,$C17,'DATA ENTRY'!$Q$9:$Q$1000,\"YES\")","v":0},{"$f":"COUNTIFS('DATA ENTRY'!$F$9:$F$1000,$C17,'DATA ENTRY'!$R$9:$R$1000,\"YES\")","v":0},"YES",{"$f":"COUNTIFS('DATA ENTRY'!$F$9:$F$1000,$C17,'DATA ENTRY'!$AI$9:$AI$1000,\"YES\")","v":48}]
[null,null,12,{"$f":"COUNTIF('DATA ENTRY'!$F$9:$F$1000,C18)","v":25},{"$f":"COUNTIFS('DATA ENTRY'!$F$9:$F$1000,$C18,'DATA ENTRY'!$G$9:$G$1000,\"YES\")","v":25},{"$f":"COUNTIFS('DATA ENTRY'!$F$9:$F$1000,$C18,'DATA ENTRY'!$H$9:$H$1000,\"YES\")","v":0},{"$f":"COUNTIFS('DATA ENTRY'!$F$9:$F$1000,$C18,'DATA ENTRY'!$I$9:$I$1000,\"YES\")","v":0},{"$f":"COUNTIFS('DATA ENTRY'!$F$9:$F$1000,$C18,'DATA ENTRY'!$J$9:$J$1000,\"YES\")","v":0},{"$f":"IF($O$4=1,COUNTIFS('DATA ENTRY'!$F$9:$F$1000,$C18,'DATA ENTRY'!$K$9:$K$1000,\"YES\"),IF($O$4=2,COUNTIFS('DATA ENTRY'!$F$9:$F$1000,$C18,'DATA ENTRY'!$L$9:$L$1000,\"YES\"),IF($O$4=3,COUNTIFS('DATA ENTRY'!$F$9:$F$1000,$C18,'DATA ENTRY'!$M$9:$M$1000,\"YES\"),IF($O$4=4,COUNTIFS('DATA ENTRY'!$F$9:$F$1000,$C18,'DATA ENTRY'!$N$9:$N$1000,\"YES\"),IF($O$4=5,COUNTIFS('DATA ENTRY'!$F$9:$F$1000,$C18,'DATA ENTRY'!$O$9:$O$1000,\"YES\"),\"\")))))","v":24},{"$f":"IF($O$4=1,COUNTIFS('DATA ENTRY'!$F$9:$F$1000,$C18,'DATA ENTRY'!$AL$9:$AL$1000,\"YES\"),IF($O$4=2,COUNTIFS('DATA ENTRY'!$F$9:$F$1000,$C18,'DATA ENTRY'!$AM$9:$AM$1000,\"YES\"),IF($O$4=3,COUNTIFS('DATA ENTRY'!$F$9:$F$1000,$C18,'DATA ENTRY'!$AN$9:$AN$1000,\"YES\"),IF($O$4=4,COUNTIFS('DATA ENTRY'!$F$9:$F$1000,$C18,'DATA ENTRY'!$AO$9:$AO$1000,\"YES\"),IF($O$4=5,COUNTIFS('DATA ENTRY'!$F$9:$F$1000,$C18,'DATA ENTRY'!$AP$9:$AP$1000,\"YES\"),\"\")))))","v":25},{"$f":"COUNTIFS('DATA ENTRY'!$F$9:$F$1000,$C18,'DATA ENTRY'!$P$9:$P$1000,\"YES\")","v":0},{"$f":"COUNTIFS('DATA ENTRY'!$F$9:$F$1000,$C18,'DATA ENTRY'!$Q$9:$Q$1000,\"YES\")","v":0},{"$f":"COUNTIFS('DATA ENTRY'!$F$9:$F$1000,$C18,'DATA ENTRY'!$R$9:$R$1000,\"YES\")","v":0},"YES",{"$f":"COUNTIFS('DATA ENTRY'!$F$9:$F$1000,$C18,'DATA ENTRY'!$AI$9:$AI$1000,\"YES\")","v":25}]
[null,"योग",null,{"$f":"SUM(D7:D18)","v":271},{"$f":"SUM(E7:E18)","v":181},0,1,47,91,112,0,0,0,null,112]

{"sheet":"smile content","index":11,"n_rows":20,"n_cols":33,"rows_kept":20,"merged":[[1,1,1,17],[3,20,3,21],[4,1,7,1],[4,2,7,2],[4,3,4,8],[4,9,4,14],[4,15,4,20],[4,21,4,26],[4,27,4,32],[7,3,7,8],[7,9,7,14],[7,15,7,20],[7,21,7,26],[7,27,7,32]]}
[]
[null,{"$f":"DASHBOARD!B2","v":"कार्यालय प्रधानाचार्य राजकीय उच्च माध्यमिक विद्यालय 13डीओएल, श्री गंगानगर"}]
[{"$nulls":19},"इस शीट में प्रतिदिन स्माइल के अंतर्गत प्राप्त कंटैंट  विषयवार विवरण दर्ज करे"]
[{"$nulls":19},"माह नाम"]
[null,"क्र.स.","कक्षा","1ST WEEK (Date)",{"$nulls":5},"2nd WEEK(Date)",{"$nulls":5},"3rd WEEK(Date)",{"$nulls":5},"4thWEEK(Date)",{"$nulls":5},"5th WEEK(Date)"]
[{"$nulls":3},"2020-11-12","2020-12-14"]
[{"$nulls":3},"MON","TUE","WED","THU","FRI","SAT","MON","TUE","WED","THU","FRI","SAT","MON","TUE","WED","THU","FRI","SAT","MON","TUE","WED","THU","FRI","SAT","MON","TUE","WED","THU","FRI","SAT"]
[{"$nulls":3},"Subject",{"$nulls":5},"Subject",{"$nulls":5},"Subject",{"$nulls":5},"Subject",{"$nulls":5},"Subject"]
[null,1,"1st",{"$nulls":12},"hindi"]
[null,2,"2nd","history"]
[null,3,"3rd"]
[null,4,"4th"]
[null,5,"5th"]
[null,6,"6th"]
[null,7,"7th"]
[null,8,"8th"]
[null,9,"9th"]
[null,10,"10th"]
[null,11,"11th"]
[null,12,"12th"]

{"sheet":"PEEO_SCH","index":12,"n_rows":103,"n_cols":17,"rows_kept":103,"hidden":true,"merged":[[1,1,1,16],[2,1,2,14],[3,6,3,10],[3,11,3,15],[4,1,4,2],[5,1,5,2],[6,1,13,1],[6,2,13,2],[15,1,23,1],[15,2,22,2],[25,1,29,1],[25,2,29,2],[32,1,37,1],[32,2,36,2],[39,1,43,1],[39,2,43,2],[47,1,52,1],[47,2,51,2],[54,1,59,1],[54,2,58,2],[61,1,66,1],[61,2,65,2],[68,1,73,1],[68,2,72,2],[75,1,80,1],[75,2,79,2],[82,1,87,1],[82,2,86,2],[89,1,94,1],[89,2,93,2],[96,1,101,1],[96,2,100,2]]}
[]
[null,"कार्यालय पंचायत प्रारम्भिक शिक्षा अधिकारी एवं प्रधानाचार्य राजकीय उच्च माध्यमिक विद्यालय 13 डीओएल घडसाना"]
[null,"स्माइल 2 के अन्तर्गत विद्याथियों के अध्ययन हेतु गृहकार्य वितरण एवं संकलन हेतु शिक्षको के द्वारा भरे जाना वाला ( प्रपत्र -अ)",{"$nulls":13},"WEEK",2]
[{"$nulls":6},"गृहकार्य वितरण से सबंधित सूचना ",{"$nulls":4},"गृहकार्य संकलन  से सबंधित सूचना "]
[null,"विद्यालय  का नाम ",null,"कक्षा ","कुल नामाकन ","गृहकार्य विवरण ( विषयवार )","ऑनलाइन माध्यम से विध्यार्थियों की संख्या  ","ऑफलाइन माध्यम से विध्यार्थियों की संख्या  ","गृहकार्य प्राप्त करने वाले विध्यार्थियों की कुल संख्या (5+6)","शेष विध्यार्थियों की संख्या ","बिंदु संख्या 8 में गृहकार्य वितरण से वंचित रहने वाले विध्यार्थियों का वंचित रहने का कारण / विवरण ","ऑनलाइन माध्यम से विध्यार्थियों की संख्या  ","ऑफलाइन माध्यम से विध्यार्थियों की संख्या  ","गृहकार्य पूर्ण  कर जमा करवाने  वाले विध्यार्थियों की कुल संख्या (10+11)","शेष विध्यार्थियों की संख्या ","बिंदु संख्या 13 में गृहकार्य संकलन  से वंचित रहने वाले विध्यार्थियों का वंचित रहने का कारण / विवरण ","संकलन पश्चात विध्यार्थियों का गृहकार्य पोर्टफोलियो तैयार कर लिया गया है, (संख्या) "]
[null,1,null,2,3,4,5,6,7,8,9,10,11,12,13,14,15]
[null,1,"राउमावि 13 डीओएल",1,{"$f":"COUNTIF('DATA ENTRY'!$F$9:$F$1000,D7)","v":7},"सभी अनिवार्य विषय ",{"$f":"IF($Q$3=1,COUNTIFS('DATA ENTRY'!$F$9:$F$1000,'PRAPTRA-A'!$D7,'DATA ENTRY'!$T$9:$T$1000,\"ONLINE\"),IF($Q$3=2,COUNTIFS('DATA ENTRY'!$F$9:$F$1000,'PRAPTRA-A'!$D7,'DATA ENTRY'!$U$9:$U$1000,\"ONLINE\"),IF($Q$3=3,COUNTIFS('DATA ENTRY'!$F$9:$F$1000,'PRAPTRA-A'!$D7,'DATA ENTRY'!$V$9:$V$1000,\"ONLINE\"),IF($Q$3=4,COUNTIFS('DATA ENTRY'!$F$9:$F$1000,'PRAPTRA-A'!$D7,'DATA ENTRY'!$W$9:$W$1000,\"ONLINE\"),IF($Q$3=5,COUNTIFS('DATA ENTRY'!$F$9:$F$1000,'PRAPTRA-A'!$D7,'DATA ENTRY'!$X$9:$X$1000,\"ONLINE\"),\"\")))))","v":0},{"$f":"IF($Q$3=1,COUNTIFS('DATA ENTRY'!$F$9:$F$1000,'PRAPTRA-A'!$D7,'DATA ENTRY'!$T$9:$T$1000,\"OFFLINE\"),IF($Q$3=2,COUNTIFS('DATA ENTRY'!$F$9:$F$1000,'PRAPTRA-A'!$D7,'DATA ENTRY'!$U$9:$U$1000,\"OFFLINE\"),IF($Q$3=3,COUNTIFS('DATA ENTRY'!$F$9:$F$1000,'PRAPTRA-A'!$D7,'DATA ENTRY'!$V$9:$V$1000,\"OFFLINE\"),IF($Q$3=4,COUNTIFS('DATA ENTRY'!$F$9:$F$1000,'PRAPTRA-A'!$D7,'DATA ENTRY'!$W$9:$W$1000,\"OFFLINE\"),IF($Q$3=5,COUNTIFS('DATA ENTRY'!$F$9:$F$1000,'PRAPTRA-A'!$D7,'DATA ENTRY'!$X$9:$X$1000,\"OFFLINE\"),\"\")))))","v":0},{"$f":"G7+H7","v":0},{"$f":"E7-I7","v":7},"NOT AT HOME",{"$f":"IF($Q$3=1,COUNTIFS('DATA ENTRY'!$F$9:$F$1000,'PRAPTRA-A'!$D7,'DATA ENTRY'!$Y$9:$Y$1000,\"ONLINE\"),IF($Q$3=2,COUNTIFS('DATA ENTRY'!$F$9:$F$1000,'PRAPTRA-A'!$D7,'DATA ENTRY'!$Z$9:$Z$1000,\"ONLINE\"),IF($Q$3=3,COUNTIFS('DATA ENTRY'!$F$9:$F$1000,'PRAPTRA-A'!$D7,'DATA ENTRY'!$AA$9:$AA$1000,\"ONLINE\"),IF($Q$3=4,COUNTIFS('DATA ENTRY'!$F$9:$F$1000,'PRAPTRA-A'!$D7,'DATA ENTRY'!$AB$9:$AB$1000,\"ONLINE\"),IF($Q$3=5,COUNTIFS('DATA ENTRY'!$F$9:$F$1000,'PRAPTRA-A'!$D7,'DATA ENTRY'!$AC$9:$AC$1000,\"ONLINE\"),\"\")))))","v":0},{"$f":"IF($Q$3=1,COUNTIFS('DATA ENTRY'!$F$9:$F$1000,'PRAPTRA-A'!$D7,'DATA ENTRY'!$Y$9:$Y$1000,\"OFFLINE\"),IF($Q$3=2,COUNTIFS('DATA ENTRY'!$F$9:$F$1000,'PRAPTRA-A'!$D7,'DATA ENTRY'!$Z$9:$Z$1000,\"OFFLINE\"),IF($Q$3=3,COUNTIFS('DATA ENTRY'!$F$9:$F$1000,'PRAPTRA-A'!$D7,'DATA ENTRY'!$AA$9:$AA$1000,\"OFFLINE\"),IF($Q$3=4,COUNTIFS('DATA ENTRY'!$F$9:$F$1000,'PRAPTRA-A'!$D7,'DATA ENTRY'!$AB$9:$AB$1000,\"OFFLINE\"),IF($Q$3=5,COUNTIFS('DATA ENTRY'!$F$9:$F$1000,'PRAPTRA-A'!$D7,'DATA ENTRY'!$AC$9:$AC$1000,\"OFFLINE\"),\"\")))))","v":0},{"$f":"L7+M7","v":0},{"$f":"E7-N7","v":7},"NOT AT HOME",{"$f":"COUNTIFS('DATA ENTRY'!$F$9:$F$1000,$D7,'DATA ENTRY'!$AI$9:$AI$1000,\"YES\")","v":0}]
[{"$nulls":3},2,{"$f":"COUNTIF('DATA ENTRY'!$F$9:$F$1000,D8)","v":24},"सभी अनिवार्य विषय ",{"$f":"IF($Q$3=1,COUNTIFS('DATA ENTRY'!$F$9:$F$1000,'PRAPTRA-A'!$D8,'DATA ENTRY'!$T$9:$T$1000,\"ONLINE\"),IF($Q$3=2,COUNTIFS('DATA ENTRY'!$F$9:$F$1000,'PRAPTRA-A'!$D8,'DATA ENTRY'!$U$9:$U$1000,\"ONLINE\"),IF($Q$3=3,COUNTIFS('DATA ENTRY'!$F$9:$F$1000,'PRAPTRA-A'!$D8,'DATA ENTRY'!$V$9:$V$1000,\"ONLINE\"),IF($Q$3=4,COUNTIFS('DATA ENTRY'!$F$9:$F$1000,'PRAPTRA-A'!$D8,'DATA ENTRY'!$W$9:$W$1000,\"ONLINE\"),IF($Q$3=5,COUNTIFS('DATA ENTRY'!$F$9:$F$1000,'PRAPTRA-A'!$D8,'DATA ENTRY'!$X$9:$X$1000,\"ONLINE\"),\"\")))))","v":0},{"$f":"IF($Q$3=1,COUNTIFS('DATA ENTRY'!$F$9:$F$1000,'PRAPTRA-A'!$D8,'DATA ENTRY'!$T$9:$T$1000,\"OFFLINE\"),IF($Q$3=2,COUNTIFS('DATA ENTRY'!$F$9:$F$1000,'PRAPTRA-A'!$D8,'DATA ENTRY'!$U$9:$U$1000,\"OFFLINE\"),IF($Q$3=3,COUNTIFS('DATA ENTRY'!$F$9:$F$1000,'PRAPTRA-A'!$D8,'DATA ENTRY'!$V$9:$V$1000,\"OFFLINE\"),IF($Q$3=4,COUNTIFS('DATA ENTRY'!$F$9:$F$1000,'PRAPTRA-A'!$D8,'DATA ENTRY'!$W$9:$W$1000,\"OFFLINE\"),IF($Q$3=5,COUNTIFS('DATA ENTRY'!$F$9:$F$1000,'PRAPTRA-A'!$D8,'DATA ENTRY'!$X$9:$X$1000,\"OFFLINE\"),\"\")))))","v":0},0,24,"NOT AT HOME",{"$f":"IF($Q$3=1,COUNTIFS('DATA ENTRY'!$F$9:$F$1000,'PRAPTRA-A'!$D8,'DATA ENTRY'!$Y$9:$Y$1000,\"ONLINE\"),IF($Q$3=2,COUNTIFS('DATA ENTRY'!$F$9:$F$1000,'PRAPTRA-A'!$D8,'DATA ENTRY'!$Z$9:$Z$1000,\"ONLINE\"),IF($Q$3=3,COUNTIFS('DATA ENTRY'!$F$9:$F$1000,'PRAPTRA-A'!$D8,'DATA ENTRY'!$AA$9:$AA$1000,\"ONLINE\"),IF($Q$3=4,COUNTIFS('DATA ENTRY'!$F$9:$F$1000,'PRAPTRA-A'!$D8,'DATA ENTRY'!$AB$9:$AB$1000,\"ONLINE\"),IF($Q$3=5,COUNTIFS('DATA ENTRY'!$F$9:$F$1000,'PRAPTRA-A'!$D8,'DATA ENTRY'!$AC$9:$AC$1000,\"ONLINE\"),\"\")))))","v":0},{"$f":"IF($Q$3=1,COUNTIFS('DATA ENTRY'!$F$9:$F$1000,'PRAPTRA-A'!$D8,'DATA ENTRY'!$Y$9:$Y$1000,\"OFFLINE\"),IF($Q$3=2,COUNTIFS('DATA ENTRY'!$F$9:$F$1000,'PRAPTRA-A'!$D8,'DATA ENTRY'!$Z$9:$Z$1000,\"OFFLINE\"),IF($Q$3=3,COUNTIFS('DATA ENTRY'!$F$9:$F$1000,'PRAPTRA-A'!$D8,'DATA ENTRY'!$AA$9:$AA$1000,\"OFFLINE\"),IF($Q$3=4,COUNTIFS('DATA ENTRY'!$F$9:$F$1000,'PRAPTRA-A'!$D8,'DATA ENTRY'!$AB$9:$AB$1000,\"OFFLINE\"),IF($Q$3=5,COUNTIFS('DATA ENTRY'!$F$9:$F$1000,'PRAPTRA-A'!$D8,'DATA ENTRY'!$AC$9:$AC$1000,\"OFFLINE\"),\"\")))))","v":0},0,{"$f":"E8-N8","v":24},"NOT AT HOME",{"$f":"COUNTIFS('DATA ENTRY'!$F$9:$F$1000,$D8,'DATA ENTRY'!$AI$9:$AI$1000,\"YES\")","v":0}]
[{"$nulls":3},3,{"$f":"COUNTIF('DATA ENTRY'!$F$9:$F$1000,D9)","v":13},"सभी अनिवार्य विषय ",{"$f":"IF($Q$3=1,COUNTIFS('DATA ENTRY'!$F$9:$F$1000,'PRAPTRA-A'!$D9,'DATA ENTRY'!$T$9:$T$1000,\"ONLINE\"),IF($Q$3=2,COUNTIFS('DATA ENTRY'!$F$9:$F$1000,'PRAPTRA-A'!$D9,'DATA ENTRY'!$U$9:$U$1000,\"ONLINE\"),IF($Q$3=3,COUNTIFS('DATA ENTRY'!$F$9:$F$1000,'PRAPTRA-A'!$D9,'DATA ENTRY'!$V$9:$V$1000,\"ONLINE\"),IF($Q$3=4,COUNTIFS('DATA ENTRY'!$F$9:$F$1000,'PRAPTRA-A'!$D9,'DATA ENTRY'!$W$9:$W$1000,\"ONLINE\"),IF($Q$3=5,COUNTIFS('DATA ENTRY'!$F$9:$F$1000,'PRAPTRA-A'!$D9,'DATA ENTRY'!$X$9:$X$1000,\"ONLINE\"),\"\")))))","v":0},{"$f":"IF($Q$3=1,COUNTIFS('DATA ENTRY'!$F$9:$F$1000,'PRAPTRA-A'!$D9,'DATA ENTRY'!$T$9:$T$1000,\"OFFLINE\"),IF($Q$3=2,COUNTIFS('DATA ENTRY'!$F$9:$F$1000,'PRAPTRA-A'!$D9,'DATA ENTRY'!$U$9:$U$1000,\"OFFLINE\"),IF($Q$3=3,COUNTIFS('DATA ENTRY'!$F$9:$F$1000,'PRAPTRA-A'!$D9,'DATA ENTRY'!$V$9:$V$1000,\"OFFLINE\"),IF($Q$3=4,COUNTIFS('DATA ENTRY'!$F$9:$F$1000,'PRAPTRA-A'!$D9,'DATA ENTRY'!$W$9:$W$1000,\"OFFLINE\"),IF($Q$3=5,COUNTIFS('DATA ENTRY'!$F$9:$F$1000,'PRAPTRA-A'!$D9,'DATA ENTRY'!$X$9:$X$1000,\"OFFLINE\"),\"\")))))","v":0},0,13,"NOT AT HOME",{"$f":"IF($Q$3=1,COUNTIFS('DATA ENTRY'!$F$9:$F$1000,'PRAPTRA-A'!$D9,'DATA ENTRY'!$Y$9:$Y$1000,\"ONLINE\"),IF($Q$3=2,COUNTIFS('DATA ENTRY'!$F$9:$F$1000,'PRAPTRA-A'!$D9,'DATA ENTRY'!$Z$9:$Z$1000,\"ONLINE\"),IF($Q$3=3,COUNTIFS('DATA ENTRY'!$F$9:$F$1000,'PRAPTRA-A'!$D9,'DATA ENTRY'!$AA$9:$AA$1000,\"ONLINE\"),IF($Q$3=4,COUNTIFS('DATA ENTRY'!$F$9:$F$1000,'PRAPTRA-A'!$D9,'DATA ENTRY'!$AB$9:$AB$1000,\"ONLINE\"),IF($Q$3=5,COUNTIFS('DATA ENTRY'!$F$9:$F$1000,'PRAPTRA-A'!$D9,'DATA ENTRY'!$AC$9:$AC$1000,\"ONLINE\"),\"\")))))","v":0},{"$f":"IF($Q$3=1,COUNTIFS('DATA ENTRY'!$F$9:$F$1000,'PRAPTRA-A'!$D9,'DATA ENTRY'!$Y$9:$Y$1000,\"OFFLINE\"),IF($Q$3=2,COUNTIFS('DATA ENTRY'!$F$9:$F$1000,'PRAPTRA-A'!$D9,'DATA ENTRY'!$Z$9:$Z$1000,\"OFFLINE\"),IF($Q$3=3,COUNTIFS('DATA ENTRY'!$F$9:$F$1000,'PRAPTRA-A'!$D9,'DATA ENTRY'!$AA$9:$AA$1000,\"OFFLINE\"),IF($Q$3=4,COUNTIFS('DATA ENTRY'!$F$9:$F$1000,'PRAPTRA-A'!$D9,'DATA ENTRY'!$AB$9:$AB$1000,\"OFFLINE\"),IF($Q$3=5,COUNTIFS('DATA ENTRY'!$F$9:$F$1000,'PRAPTRA-A'!$D9,'DATA ENTRY'!$AC$9:$AC$1000,\"OFFLINE\"),\"\")))))","v":0},0,13,"NOT AT HOME",{"$f":"COUNTIFS('DATA ENTRY'!$F$9:$F$1000,$D9,'DATA ENTRY'!$AI$9:$AI$1000,\"YES\")","v":0}]
[{"$nulls":3},4,{"$f":"COUNTIF('DATA ENTRY'!$F$9:$F$1000,D10)","v":16},"सभी अनिवार्य विषय ",{"$f":"IF($Q$3=1,COUNTIFS('DATA ENTRY'!$F$9:$F$1000,'PRAPTRA-A'!$D10,'DATA ENTRY'!$T$9:$T$1000,\"ONLINE\"),IF($Q$3=2,COUNTIFS('DATA ENTRY'!$F$9:$F$1000,'PRAPTRA-A'!$D10,'DATA ENTRY'!$U$9:$U$1000,\"ONLINE\"),IF($Q$3=3,COUNTIFS('DATA ENTRY'!$F$9:$F$1000,'PRAPTRA-A'!$D10,'DATA ENTRY'!$V$9:$V$1000,\"ONLINE\"),IF($Q$3=4,COUNTIFS('DATA ENTRY'!$F$9:$F$1000,'PRAPTRA-A'!$D10,'DATA ENTRY'!$W$9:$W$1000,\"ONLINE\"),IF($Q$3=5,COUNTIFS('DATA ENTRY'!$F$9:$F$1000,'PRAPTRA-A'!$D10,'DATA ENTRY'!$X$9:$X$1000,\"ONLINE\"),\"\")))))","v":0},{"$f":"IF($Q$3=1,COUNTIFS('DATA ENTRY'!$F$9:$F$1000,'PRAPTRA-A'!$D10,'DATA ENTRY'!$T$9:$T$1000,\"OFFLINE\"),IF($Q$3=2,COUNTIFS('DATA ENTRY'!$F$9:$F$1000,'PRAPTRA-A'!$D10,'DATA ENTRY'!$U$9:$U$1000,\"OFFLINE\"),IF($Q$3=3,COUNTIFS('DATA ENTRY'!$F$9:$F$1000,'PRAPTRA-A'!$D10,'DATA ENTRY'!$V$9:$V$1000,\"OFFLINE\"),IF($Q$3=4,COUNTIFS('DATA ENTRY'!$F$9:$F$1000,'PRAPTRA-A'!$D10,'DATA ENTRY'!$W$9:$W$1000,\"OFFLINE\"),IF($Q$3=5,COUNTIFS('DATA ENTRY'!$F$9:$F$1000,'PRAPTRA-A'!$D10,'DATA ENTRY'!$X$9:$X$1000,\"OFFLINE\"),\"\")))))","v":0},0,16,"NOT AT HOME",{"$f":"IF($Q$3=1,COUNTIFS('DATA ENTRY'!$F$9:$F$1000,'PRAPTRA-A'!$D10,'DATA ENTRY'!$Y$9:$Y$1000,\"ONLINE\"),IF($Q$3=2,COUNTIFS('DATA ENTRY'!$F$9:$F$1000,'PRAPTRA-A'!$D10,'DATA ENTRY'!$Z$9:$Z$1000,\"ONLINE\"),IF($Q$3=3,COUNTIFS('DATA ENTRY'!$F$9:$F$1000,'PRAPTRA-A'!$D10,'DATA ENTRY'!$AA$9:$AA$1000,\"ONLINE\"),IF($Q$3=4,COUNTIFS('DATA ENTRY'!$F$9:$F$1000,'PRAPTRA-A'!$D10,'DATA ENTRY'!$AB$9:$AB$1000,\"ONLINE\"),IF($Q$3=5,COUNTIFS('DATA ENTRY'!$F$9:$F$1000,'PRAPTRA-A'!$D10,'DATA ENTRY'!$AC$9:$AC$1000,\"ONLINE\"),\"\")))))","v":0},{"$f":"IF($Q$3=1,COUNTIFS('DATA ENTRY'!$F$9:$F$1000,'PRAPTRA-A'!$D10,'DATA ENTRY'!$Y$9:$Y$1000,\"OFFLINE\"),IF($Q$3=2,COUNTIFS('DATA ENTRY'!$F$9:$F$1000,'PRAPTRA-A'!$D10,'DATA ENTRY'!$Z$9:$Z$1000,\"OFFLINE\"),IF($Q$3=3,COUNTIFS('DATA ENTRY'!$F$9:$F$1000,'PRAPTRA-A'!$D10,'DATA ENTRY'!$AA$9:$AA$1000,\"OFFLINE\"),IF($Q$3=4,COUNTIFS('DATA ENTRY'!$F$9:$F$1000,'PRAPTRA-A'!$D10,'DATA ENTRY'!$AB$9:$AB$1000,\"OFFLINE\"),IF($Q$3=5,COUNTIFS('DATA ENTRY'!$F$9:$F$1000,'PRAPTRA-A'!$D10,'DATA ENTRY'!$AC$9:$AC$1000,\"OFFLINE\"),\"\")))))","v":0},0,16,"NOT AT HOME",{"$f":"COUNTIFS('DATA ENTRY'!$F$9:$F$1000,$D10,'DATA ENTRY'!$AI$9:$AI$1000,\"YES\")","v":0}]
[{"$nulls":3},5,{"$f":"COUNTIF('DATA ENTRY'!$F$9:$F$1000,D11)","v":17},"सभी अनिवार्य विषय ",{"$f":"IF($Q$3=1,COUNTIFS('DATA ENTRY'!$F$9:$F$1000,'PRAPTRA-A'!$D11,'DATA ENTRY'!$T$9:$T$1000,\"ONLINE\"),IF($Q$3=2,COUNTIFS('DATA ENTRY'!$F$9:$F$1000,'PRAPTRA-A'!$D11,'DATA ENTRY'!$U$9:$U$1000,\"ONLINE\"),IF($Q$3=3,COUNTIFS('DATA ENTRY'!$F$9:$F$1000,'PRAPTRA-A'!$D11,'DATA ENTRY'!$V$9:$V$1000,\"ONLINE\"),IF($Q$3=4,COUNTIFS('DATA ENTRY'!$F$9:$F$1000,'PRAPTRA-A'!$D11,'DATA ENTRY'!$W$9:$W$1000,\"ONLINE\"),IF($Q$3=5,COUNTIFS('DATA ENTRY'!$F$9:$F$1000,'PRAPTRA-A'!$D11,'DATA ENTRY'!$X$9:$X$1000,\"ONLINE\"),\"\")))))","v":0},{"$f":"IF($Q$3=1,COUNTIFS('DATA ENTRY'!$F$9:$F$1000,'PRAPTRA-A'!$D11,'DATA ENTRY'!$T$9:$T$1000,\"OFFLINE\"),IF($Q$3=2,COUNTIFS('DATA ENTRY'!$F$9:$F$1000,'PRAPTRA-A'!$D11,'DATA ENTRY'!$U$9:$U$1000,\"OFFLINE\"),IF($Q$3=3,COUNTIFS('DATA ENTRY'!$F$9:$F$1000,'PRAPTRA-A'!$D11,'DATA ENTRY'!$V$9:$V$1000,\"OFFLINE\"),IF($Q$3=4,COUNTIFS('DATA ENTRY'!$F$9:$F$1000,'PRAPTRA-A'!$D11,'DATA ENTRY'!$W$9:$W$1000,\"OFFLINE\"),IF($Q$3=5,COUNTIFS('DATA ENTRY'!$F$9:$F$1000,'PRAPTRA-A'!$D11,'DATA ENTRY'!$X$9:$X$1000,\"OFFLINE\"),\"\")))))","v":0},0,17,"NOT AT HOME",{"$f":"IF($Q$3=1,COUNTIFS('DATA ENTRY'!$F$9:$F$1000,'PRAPTRA-A'!$D11,'DATA ENTRY'!$Y$9:$Y$1000,\"ONLINE\"),IF($Q$3=2,COUNTIFS('DATA ENTRY'!$F$9:$F$1000,'PRAPTRA-A'!$D11,'DATA ENTRY'!$Z$9:$Z$1000,\"ONLINE\"),IF($Q$3=3,COUNTIFS('DATA ENTRY'!$F$9:$F$1000,'PRAPTRA-A'!$D11,'DATA ENTRY'!$AA$9:$AA$1000,\"ONLINE\"),IF($Q$3=4,COUNTIFS('DATA ENTRY'!$F$9:$F$1000,'PRAPTRA-A'!$D11,'DATA ENTRY'!$AB$9:$AB$1000,\"ONLINE\"),IF($Q$3=5,COUNTIFS('DATA ENTRY'!$F$9:$F$1000,'PRAPTRA-A'!$D11,'DATA ENTRY'!$AC$9:$AC$1000,\"ONLINE\"),\"\")))))","v":0},{"$f":"IF($Q$3=1,COUNTIFS('DATA ENTRY'!$F$9:$F$1000,'PRAPTRA-A'!$D11,'DATA ENTRY'!$Y$9:$Y$1000,\"OFFLINE\"),IF($Q$3=2,COUNTIFS('DATA ENTRY'!$F$9:$F$1000,'PRAPTRA-A'!$D11,'DATA ENTRY'!$Z$9:$Z$1000,\"OFFLINE\"),IF($Q$3=3,COUNTIFS('DATA ENTRY'!$F$9:$F$1000,'PRAPTRA-A'!$D11,'DATA ENTRY'!$AA$9:$AA$1000,\"OFFLINE\"),IF($Q$3=4,COUNTIFS('DATA ENTRY'!$F$9:$F$1000,'PRAPTRA-A'!$D11,'DATA ENTRY'!$AB$9:$AB$1000,\"OFFLINE\"),IF($Q$3=5,COUNTIFS('DATA ENTRY'!$F$9:$F$1000,'PRAPTRA-A'!$D11,'DATA ENTRY'!$AC$9:$AC$1000,\"OFFLINE\"),\"\")))))","v":0},0,17,"NOT AT HOME",{"$f":"COUNTIFS('DATA ENTRY'!$F$9:$F$1000,$D11,'DATA ENTRY'!$AI$9:$AI$1000,\"YES\")","v":0}]
[{"$nulls":3},6,{"$f":"COUNTIF('DATA ENTRY'!$F$9:$F$1000,D12)","v":23},"सभी अनिवार्य विषय ",{"$f":"IF($Q$3=1,COUNTIFS('DATA ENTRY'!$F$9:$F$1000,'PRAPTRA-A'!$D12,'DATA ENTRY'!$T$9:$T$1000,\"ONLINE\"),IF($Q$3=2,COUNTIFS('DATA ENTRY'!$F$9:$F$1000,'PRAPTRA-A'!$D12,'DATA ENTRY'!$U$9:$U$1000,\"ONLINE\"),IF($Q$3=3,COUNTIFS('DATA ENTRY'!$F$9:$F$1000,'PRAPTRA-A'!$D12,'DATA ENTRY'!$V$9:$V$1000,\"ONLINE\"),IF($Q$3=4,COUNTIFS('DATA ENTRY'!$F$9:$F$1000,'PRAPTRA-A'!$D12,'DATA ENTRY'!$W$9:$W$1000,\"ONLINE\"),IF($Q$3=5,COUNTIFS('DATA ENTRY'!$F$9:$F$1000,'PRAPTRA-A'!$D12,'DATA ENTRY'!$X$9:$X$1000,\"ONLINE\"),\"\")))))","v":0},{"$f":"IF($Q$3=1,COUNTIFS('DATA ENTRY'!$F$9:$F$1000,'PRAPTRA-A'!$D12,'DATA ENTRY'!$T$9:$T$1000,\"OFFLINE\"),IF($Q$3=2,COUNTIFS('DATA ENTRY'!$F$9:$F$1000,'PRAPTRA-A'!$D12,'DATA ENTRY'!$U$9:$U$1000,\"OFFLINE\"),IF($Q$3=3,COUNTIFS('DATA ENTRY'!$F$9:$F$1000,'PRAPTRA-A'!$D12,'DATA ENTRY'!$V$9:$V$1000,\"OFFLINE\"),IF($Q$3=4,COUNTIFS('DATA ENTRY'!$F$9:$F$1000,'PRAPTRA-A'!$D12,'DATA ENTRY'!$W$9:$W$1000,\"OFFLINE\"),IF($Q$3=5,COUNTIFS('DATA ENTRY'!$F$9:$F$1000,'PRAPTRA-A'!$D12,'DATA ENTRY'!$X$9:$X$1000,\"OFFLINE\"),\"\")))))","v":0},0,23,"NOT AT HOME",{"$f":"IF($Q$3=1,COUNTIFS('DATA ENTRY'!$F$9:$F$1000,'PRAPTRA-A'!$D12,'DATA ENTRY'!$Y$9:$Y$1000,\"ONLINE\"),IF($Q$3=2,COUNTIFS('DATA ENTRY'!$F$9:$F$1000,'PRAPTRA-A'!$D12,'DATA ENTRY'!$Z$9:$Z$1000,\"ONLINE\"),IF($Q$3=3,COUNTIFS('DATA ENTRY'!$F$9:$F$1000,'PRAPTRA-A'!$D12,'DATA ENTRY'!$AA$9:$AA$1000,\"ONLINE\"),IF($Q$3=4,COUNTIFS('DATA ENTRY'!$F$9:$F$1000,'PRAPTRA-A'!$D12,'DATA ENTRY'!$AB$9:$AB$1000,\"ONLINE\"),IF($Q$3=5,COUNTIFS('DATA ENTRY'!$F$9:$F$1000,'PRAPTRA-A'!$D12,'DATA ENTRY'!$AC$9:$AC$1000,\"ONLINE\"),\"\")))))","v":0},{"$f":"IF($Q$3=1,COUNTIFS('DATA ENTRY'!$F$9:$F$1000,'PRAPTRA-A'!$D12,'DATA ENTRY'!$Y$9:$Y$1000,\"OFFLINE\"),IF($Q$3=2,COUNTIFS('DATA ENTRY'!$F$9:$F$1000,'PRAPTRA-A'!$D12,'DATA ENTRY'!$Z$9:$Z$1000,\"OFFLINE\"),IF($Q$3=3,COUNTIFS('DATA ENTRY'!$F$9:$F$1000,'PRAPTRA-A'!$D12,'DATA ENTRY'!$AA$9:$AA$1000,\"OFFLINE\"),IF($Q$3=4,COUNTIFS('DATA ENTRY'!$F$9:$F$1000,'PRAPTRA-A'!$D12,'DATA ENTRY'!$AB$9:$AB$1000,\"OFFLINE\"),IF($Q$3=5,COUNTIFS('DATA ENTRY'!$F$9:$F$1000,'PRAPTRA-A'!$D12,'DATA ENTRY'!$AC$9:$AC$1000,\"OFFLINE\"),\"\")))))","v":0},0,23,"NOT AT HOME",{"$f":"COUNTIFS('DATA ENTRY'!$F$9:$F$1000,$D12,'DATA ENTRY'!$AI$9:$AI$1000,\"YES\")","v":0}]
[{"$nulls":3},7,{"$f":"COUNTIF('DATA ENTRY'!$F$9:$F$1000,D13)","v":19},"सभी अनिवार्य विषय ",{"$f":"IF($Q$3=1,COUNTIFS('DATA ENTRY'!$F$9:$F$1000,'PRAPTRA-A'!$D13,'DATA ENTRY'!$T$9:$T$1000,\"ONLINE\"),IF($Q$3=2,COUNTIFS('DATA ENTRY'!$F$9:$F$1000,'PRAPTRA-A'!$D13,'DATA ENTRY'!$U$9:$U$1000,\"ONLINE\"),IF($Q$3=3,COUNTIFS('DATA ENTRY'!$F$9:$F$1000,'PRAPTRA-A'!$D13,'DATA ENTRY'!$V$9:$V$1000,\"ONLINE\"),IF($Q$3=4,COUNTIFS('DATA ENTRY'!$F$9:$F$1000,'PRAPTRA-A'!$D13,'DATA ENTRY'!$W$9:$W$1000,\"ONLINE\"),IF($Q$3=5,COUNTIFS('DATA ENTRY'!$F$9:$F$1000,'PRAPTRA-A'!$D13,'DATA ENTRY'!$X$9:$X$1000,\"ONLINE\"),\"\")))))","v":0},{"$f":"IF($Q$3=1,COUNTIFS('DATA ENTRY'!$F$9:$F$1000,'PRAPTRA-A'!$D13,'DATA ENTRY'!$T$9:$T$1000,\"OFFLINE\"),IF($Q$3=2,COUNTIFS('DATA ENTRY'!$F$9:$F$1000,'PRAPTRA-A'!$D13,'DATA ENTRY'!$U$9:$U$1000,\"OFFLINE\"),IF($Q$3=3,COUNTIFS('DATA ENTRY'!$F$9:$F$1000,'PRAPTRA-A'!$D13,'DATA ENTRY'!$V$9:$V$1000,\"OFFLINE\"),IF($Q$3=4,COUNTIFS('DATA ENTRY'!$F$9:$F$1000,'PRAPTRA-A'!$D13,'DATA ENTRY'!$W$9:$W$1000,\"OFFLINE\"),IF($Q$3=5,COUNTIFS('DATA ENTRY'!$F$9:$F$1000,'PRAPTRA-A'!$D13,'DATA ENTRY'!$X$9:$X$1000,\"OFFLINE\"),\"\")))))","v":0},0,19,"NOT AT HOME",{"$f":"IF($Q$3=1,COUNTIFS('DATA ENTRY'!$F$9:$F$1000,'PRAPTRA-A'!$D13,'DATA ENTRY'!$Y$9:$Y$1000,\"ONLINE\"),IF($Q$3=2,COUNTIFS('DATA ENTRY'!$F$9:$F$1000,'PRAPTRA-A'!$D13,'DATA ENTRY'!$Z$9:$Z$1000,\"ONLINE\"),IF($Q$3=3,COUNTIFS('DATA ENTRY'!$F$9:$F$1000,'PRAPTRA-A'!$D13,'DATA ENTRY'!$AA$9:$AA$1000,\"ONLINE\"),IF($Q$3=4,COUNTIFS('DATA ENTRY'!$F$9:$F$1000,'PRAPTRA-A'!$D13,'DATA ENTRY'!$AB$9:$AB$1000,\"ONLINE\"),IF($Q$3=5,COUNTIFS('DATA ENTRY'!$F$9:$F$1000,'PRAPTRA-A'!$D13,'DATA ENTRY'!$AC$9:$AC$1000,\"ONLINE\"),\"\")))))","v":0},{"$f":"IF($Q$3=1,COUNTIFS('DATA ENTRY'!$F$9:$F$1000,'PRAPTRA-A'!$D13,'DATA ENTRY'!$Y$9:$Y$1000,\"OFFLINE\"),IF($Q$3=2,COUNTIFS('DATA ENTRY'!$F$9:$F$1000,'PRAPTRA-A'!$D13,'DATA ENTRY'!$Z$9:$Z$1000,\"OFFLINE\"),IF($Q$3=3,COUNTIFS('DATA ENTRY'!$F$9:$F$1000,'PRAPTRA-A'!$D13,'DATA ENTRY'!$AA$9:$AA$1000,\"OFFLINE\"),IF($Q$3=4,COUNTIFS('DATA ENTRY'!$F$9:$F$1000,'PRAPTRA-A'!$D13,'DATA ENTRY'!$AB$9:$AB$1000,\"OFFLINE\"),IF($Q$3=5,COUNTIFS('DATA ENTRY'!$F$9:$F$1000,'PRAPTRA-A'!$D13,'DATA ENTRY'!$AC$9:$AC$1000,\"OFFLINE\"),\"\")))))","v":0},0,19,"NOT AT HOME",{"$f":"COUNTIFS('DATA ENTRY'!$F$9:$F$1000,$D13,'DATA ENTRY'!$AI$9:$AI$1000,\"YES\")","v":0}]
[{"$nulls":3},8,{"$f":"COUNTIF('DATA ENTRY'!$F$9:$F$1000,D14)","v":18},"सभी अनिवार्य विषय ",{"$f":"IF($Q$3=1,COUNTIFS('DATA ENTRY'!$F$9:$F$1000,'PRAPTRA-A'!$D14,'DATA ENTRY'!$T$9:$T$1000,\"ONLINE\"),IF($Q$3=2,COUNTIFS('DATA ENTRY'!$F$9:$F$1000,'PRAPTRA-A'!$D14,'DATA ENTRY'!$U$9:$U$1000,\"ONLINE\"),IF($Q$3=3,COUNTIFS('DATA ENTRY'!$F$9:$F$1000,'PRAPTRA-A'!$D14,'DATA ENTRY'!$V$9:$V$1000,\"ONLINE\"),IF($Q$3=4,COUNTIFS('DATA ENTRY'!$F$9:$F$1000,'PRAPTRA-A'!$D14,'DATA ENTRY'!$W$9:$W$1000,\"ONLINE\"),IF($Q$3=5,COUNTIFS('DATA ENTRY'!$F$9:$F$1000,'PRAPTRA-A'!$D14,'DATA ENTRY'!$X$9:$X$1000,\"ONLINE\"),\"\")))))","v":13},{"$f":"IF($Q$3=1,COUNTIFS('DATA ENTRY'!$F$9:$F$1000,'PRAPTRA-A'!$D14,'DATA ENTRY'!$T$9:$T$1000,\"OFFLINE\"),IF($Q$3=2,COUNTIFS('DATA ENTRY'!$F$9:$F$1000,'PRAPTRA-A'!$D14,'DATA ENTRY'!$U$9:$U$1000,\"OFFLINE\"),IF($Q$3=3,COUNTIFS('DATA ENTRY'!$F$9:$F$1000,'PRAPTRA-A'!$D14,'DATA ENTRY'!$V$9:$V$1000,\"OFFLINE\"),IF($Q$3=4,COUNTIFS('DATA ENTRY'!$F$9:$F$1000,'PRAPTRA-A'!$D14,'DATA ENTRY'!$W$9:$W$1000,\"OFFLINE\"),IF($Q$3=5,COUNTIFS('DATA ENTRY'!$F$9:$F$1000,'PRAPTRA-A'!$D14,'DATA ENTRY'!$X$9:$X$1000,\"OFFLINE\"),\"\")))))","v":5},18,0,"NOT AT HOME",{"$f":"IF($Q$3=1,COUNTIFS('DATA ENTRY'!$F$9:$F$1000,'PRAPTRA-A'!$D14,'DATA ENTRY'!$Y$9:$Y$1000,\"ONLINE\"),IF($Q$3=2,COUNTIFS('DATA ENTRY'!$F$9:$F$1000,'PRAPTRA-A'!$D14,'DATA ENTRY'!$Z$9:$Z$1000,\"ONLINE\"),IF($Q$3=3,COUNTIFS('DATA ENTRY'!$F$9:$F$1000,'PRAPTRA-A'!$D14,'DATA ENTRY'!$AA$9:$AA$1000,\"ONLINE\"),IF($Q$3=4,COUNTIFS('DATA ENTRY'!$F$9:$F$1000,'PRAPTRA-A'!$D14,'DATA ENTRY'!$AB$9:$AB$1000,\"ONLINE\"),IF($Q$3=5,COUNTIFS('DATA ENTRY'!$F$9:$F$1000,'PRAPTRA-A'!$D14,'DATA ENTRY'!$AC$9:$AC$1000,\"ONLINE\"),\"\")))))","v":1},{"$f":"IF($Q$3=1,COUNTIFS('DATA ENTRY'!$F$9:$F$1000,'PRAPTRA-A'!$D14,'DATA ENTRY'!$Y$9:$Y$1000,\"OFFLINE\"),IF($Q$3=2,COUNTIFS('DATA ENTRY'!$F$9:$F$1000,'PRAPTRA-A'!$D14,'DATA ENTRY'!$Z$9:$Z$1000,\"OFFLINE\"),IF($Q$3=3,COUNTIFS('DATA ENTRY'!$F$9:$F$1000,'PRAPTRA-A'!$D14,'DATA ENTRY'!$AA$9:$AA$1000,\"OFFLINE\"),IF($Q$3=4,COUNTIFS('DATA ENTRY'!$F$9:$F$1000,'PRAPTRA-A'!$D14,'DATA ENTRY'!$AB$9:$AB$1000,\"OFFLINE\"),IF($Q$3=5,COUNTIFS('DATA ENTRY'!$F$9:$F$1000,'PRAPTRA-A'!$D14,'DATA ENTRY'!$AC$9:$AC$1000,\"OFFLINE\"),\"\")))))","v":16},17,1,"NOT AT HOME",{"$f":"COUNTIFS('DATA ENTRY'!$F$9:$F$1000,$D14,'DATA ENTRY'!$AI$9:$AI$1000,\"YES\")","v":17}]
[null,null,"कुल ",null,{"$f":"SUM(E7:E14)","v":137},null,{"$f":"SUM(G7:G14)","v":13},{"$f":"SUM(H7:H14)","v":5},{"$f":"SUM(I7:I14)","v":18},{"$f":"SUM(J7:J14)","v":119},null,{"$f":"SUM(L7:L14)","v":1},{"$f":"SUM(M7:M14)","v":16},{"$f":"SUM(N7:N14)","v":17},{"$f":"SUM(O7:O14)","v":120},null,{"$f":"SUM(Q7:Q14)","v":17}]
[null,2,"राउमावि 7 डीओएल",1,11,"सभी अनिवार्य विषय ",7,3,{"$f":"G16+H16","v":10},{"$f":"E16-I16","v":1},null,2,3,{"$f":"L16+M16","v":5},{"$f":"E16-N16","v":6},"NOT AT HOME"]
[{"$nulls":3},2,22,"सभी अनिवार्य विषय ",12,8,20,2,null,3,7,10,{"$f":"E17-N17","v":12},"NOT AT HOME"]
[{"$nulls":3},3,14,"सभी अनिवार्य विषय ",9,5,14,0,null,2,5,7,7,"NOT AT HOME"]
[{"$nulls":3},4,18,"सभी अनिवार्य विषय ",12,6,18,0,null,1,5,6,12,"NOT AT HOME"]
[{"$nulls":3},5,16,"सभी अनिवार्य विषय ",8,5,13,3,null,2,5,7,9,"NOT AT HOME"]
[{"$nulls":3},6,23,"सभी अनिवार्य विषय ",13,8,21,2,null,3,7,10,13,"NOT AT HOME"]
[{"$nulls":3},7,26,"सभी अनिवार्य विषय ",3,4,7,19,null,0,3,3,23,"NOT AT HOME"]
[{"$nulls":3},8,26,"सभी अनिवार्य विषय ",17,8,25,1,null,4,7,11,15,"NOT AT HOME"]
[null,null,"कुल ",null,{"$f":"SUM(E16:E23)","v":156},null,{"$f":"SUM(G16:G23)","v":81},47,128,28,0,17,42,59,97,0]
[]
[null,3,"राप्रावि 6 डीओएल ",1,5,"सभी अनिवार्य विषय ",5,0,{"$f":"G26+H26","v":5},{"$f":"E26-I26","v":0},null,0,5,{"$f":"L26+M26","v":5},{"$f":"E26-N26","v":0}]
[{"$nulls":3},2,8,"सभी अनिवार्य विषय ",8,0,8,0,null,0,8,8,{"$f":"E27-N27","v":0}]
[{"$nulls":3},3,5,"सभी अनिवार्य विषय ",5,0,5,0,null,0,5,5,0]
[{"$nulls":3},4,6,"सभी अनिवार्य विषय ",5,1,6,0,null,0,6,6,0]
[{"$nulls":3},5,6,"सभी अनिवार्य विषय ",4,2,6,{"$f":"E30-I30","v":0},null,0,6,6,0]
[null,null,"कुल ",null,{"$f":"SUM(E26:E30)","v":30},null,{"$f":"SUM(G26:G30)","v":27},3,30,0,0,0,30,30,0]
[]
[null,4,"राप्रावि 9 डीओएल ",1,1,"सभी अनिवार्य विषय ",1,0,{"$f":"G33+H33","v":1},{"$f":"E33-I33","v":0},null,0,1,{"$f":"L33+M33","v":1},{"$f":"E33-N33","v":0}]
[{"$nulls":3},2,1,"सभी अनिवार्य विषय ",1,0,1,0,null,0,1,1,{"$f":"E34-N34","v":0}]
[{"$nulls":3},3,8,"सभी अनिवार्य विषय ",6,2,8,0,null,0,8,8,0]
[{"$nulls":3},4,5,"सभी अनिवार्य विषय ",3,2,5,0,null,0,5,5,0]
[{"$nulls":3},5,5,"सभी अनिवार्य विषय ",2,3,5,0,null,0,5,5,0]
[null,null,"कुल ",null,{"$f":"SUM(E33:E37)","v":20},null,{"$f":"SUM(G33:G37)","v":13},7,20,0,0,0,20,20,0]
[]
[null,5,"राप्रावि 14 डीओएल ",1,8,"सभी अनिवार्य विषय ",4,4,{"$f":"G40+H40","v":8},{"$f":"E40-I40","v":0},null,0,6,{"$f":"L40+M40","v":6},{"$f":"E40-N40","v":2},"NOT AT HOME"]
[{"$nulls":3},2,5,"सभी अनिवार्य विषय ",2,3,5,0,null,0,3,3,{"$f":"E41-N41","v":2},"NOT AT HOME"]
[{"$nulls":3},3,6,"सभी अनिवार्य विषय ",1,5,6,0,null,0,4,4,2,"NOT AT HOME"]
[{"$nulls":3},4,4,"सभी अनिवार्य विषय ",2,2,4,0,null,0,2,2,2,"NOT AT HOME"]
[{"$nulls":3},5,8,"सभी अनिवार्य विषय ",5,3,8,0,null,1,5,6,2,"NOT AT HOME"]
[null,null,"कुल ",null,{"$f":"SUM(E40:E44)","v":31},null,14,17,31,0,0,1,20,21,10]
[]
[]
[null,6,"राप्रावि 14 डीओएल ",1,null,"सभी अनिवार्य विषय ",null,null,{"$f":"G48+H48","v":0},{"$f":"E48-I48","v":0},{"$nulls":3},{"$f":"L48+M48","v":0},{"$f":"E48-N48","v":0},"NOT AT HOME"]
[{"$nulls":3},2,null,"सभी अनिवार्य विषय ",null,null,0,0,{"$nulls":3},0,{"$f":"E49-N49","v":0},"NOT AT HOME"]
[{"$nulls":3},3,null,"सभी अनिवार्य विषय ",null,null,0,0,{"$nulls":3},0,0,"NOT AT HOME"]
[{"$nulls":3},4,null,"सभी अनिवार्य विषय ",null,null,0,0,{"$nulls":3},0,0,"NOT AT HOME"]
[{"$nulls":3},5,null,"सभी अनिवार्य विषय ",null,null,0,0,{"$nulls":3},0,0,"NOT AT HOME"]
[null,null,"कुल ",null,{"$f":"SUM(E48:E52)","v":0},null,{"$f":"SUM(G48:G52)","v":0},0,0,0,0,0,0,0,0]
[]
[null,7,"राप्रावि 14 डीओएल ",1,null,"सभी अनिवार्य विषय ",null,null,{"$f":"G55+H55","v":0},{"$f":"E55-I55","v":0},{"$nulls":3},{"$f":"L55+M55","v":0},{"$f":"E55-N55","v":0},"NOT AT HOME"]
[{"$nulls":3},2,null,"सभी अनिवार्य विषय ",null,null,0,0,{"$nulls":3},0,{"$f":"E56-N56","v":0},"NOT AT HOME"]
[{"$nulls":3},3,null,"सभी अनिवार्य विषय ",null,null,0,0,{"$nulls":3},0,0,"NOT AT HOME"]
[{"$nulls":3},4,null,"सभी अनिवार्य विषय ",null,null,0,0,{"$nulls":3},0,0,"NOT AT HOME"]
[{"$nulls":3},5,null,"सभी अनिवार्य विषय ",null,null,0,0,{"$nulls":3},0,0,"NOT AT HOME"]
[null,null,"कुल ",null,{"$f":"SUM(E55:E59)","v":0},null,{"$f":"SUM(G55:G59)","v":0},0,0,0,0,0,0,0,0]
[]
[null,8,"राप्रावि 14 डीओएल ",1,null,"सभी अनिवार्य विषय ",null,null,{"$f":"G62+H62","v":0},{"$f":"E62-I62","v":0},{"$nulls":3},{"$f":"L62+M62","v":0},{"$f":"E62-N62","v":0},"NOT AT HOME"]
[{"$nulls":3},2,null,"सभी अनिवार्य विषय ",null,null,0,0,{"$nulls":3},0,{"$f":"E63-N63","v":0},"NOT AT HOME"]
[{"$nulls":3},3,null,"सभी अनिवार्य विषय ",null,null,0,0,{"$nulls":3},0,0,"NOT AT HOME"]
[{"$nulls":3},4,null,"सभी अनिवार्य विषय ",null,null,0,0,{"$nulls":3},0,0,"NOT AT HOME"]
[{"$nulls":3},5,null,"सभी अनिवार्य विषय ",null,null,0,0,{"$nulls":3},0,0,"NOT AT HOME"]
[null,null,"कुल ",null,{"$f":"SUM(E62:E66)","v":0},null,{"$f":"SUM(G62:G66)","v":0},0,0,0,0,0,0,0,0]
[]
[null,9,"राप्रावि 14 डीओएल ",1,null,"सभी अनिवार्य विषय ",null,null,{"$f":"G69+H69","v":0},{"$f":"E69-I69","v":0},{"$nulls":3},{"$f":"L69+M69","v":0},{"$f":"E69-N69","v":0},"NOT AT HOME"]
[{"$nulls":3},2,null,"सभी अनिवार्य विषय ",null,null,0,0,{"$nulls":3},0,{"$f":"E70-N70","v":0},"NOT AT HOME"]
[{"$nulls":3},3,null,"सभी अनिवार्य विषय ",null,null,0,0,{"$nulls":3},0,0,"NOT AT HOME"]
[{"$nulls":3},4,null,"सभी अनिवार्य विषय ",null,null,0,0,{"$nulls":3},0,0,"NOT AT HOME"]
[{"$nulls":3},5,null,"सभी अनिवार्य विषय ",null,null,0,0,{"$nulls":3},0,0,"NOT AT HOME"]
[null,null,"कुल ",null,{"$f":"SUM(E69:E73)","v":0},null,{"$f":"SUM(G69:G73)","v":0},0,0,0,0,0,0,0,0]
[]
[null,10,"राप्रावि 14 डीओएल ",1,null,"सभी अनिवार्य विषय ",null,null,{"$f":"G76+H76","v":0},{"$f":"E76-I76","v":0},{"$nulls":3},{"$f":"L76+M76","v":0},{"$f":"E76-N76","v":0},"NOT AT HOME"]
[{"$nulls":3},2,null,"सभी अनिवार्य विषय ",null,null,0,0,{"$nulls":3},0,{"$f":"E77-N77","v":0},"NOT AT HOME"]
[{"$nulls":3},3,null,"सभी अनिवार्य विषय ",null,null,0,0,{"$nulls":3},0,0,"NOT AT HOME"]
[{"$nulls":3},4,null,"सभी अनिवार्य विषय ",null,null,0,0,{"$nulls":3},0,0,"NOT AT HOME"]
[{"$nulls":3},5,null,"सभी अनिवार्य विषय ",null,null,0,0,{"$nulls":3},0,0,"NOT AT HOME"]
[null,null,"कुल ",null,{"$f":"SUM(E76:E80)","v":0},null,{"$f":"SUM(G76:G80)","v":0},0,0,0,0,0,0,0,0]
[]
[null,11,"राप्रावि 14 डीओएल ",1,null,"सभी अनिवार्य विषय ",null,null,{"$f":"G83+H83","v":0},{"$f":"E83-I83","v":0},{"$nulls":3},{"$f":"L83+M83","v":0},{"$f":"E83-N83","v":0},"NOT AT HOME"]
[{"$nulls":3},2,null,"सभी अनिवार्य विषय ",null,null,0,0,{"$nulls":3},0,{"$f":"E84-N84","v":0},"NOT AT HOME"]
[{"$nulls":3},3,null,"सभी अनिवार्य विषय ",null,null,0,0,{"$nulls":3},0,0,"NOT AT HOME"]
[{"$nulls":3},4,null,"सभी अनिवार्य विषय ",null,null,0,0,{"$nulls":3},0,0,"NOT AT HOME"]
[{"$nulls":3},5,null,"सभी अनिवार्य विषय ",null,null,0,0,{"$nulls":3},0,0,"NOT AT HOME"]
[null,null,"कुल ",null,{"$f":"SUM(E83:E87)","v":0},null,{"$f":"SUM(G83:G87)","v":0},0,0,0,0,0,0,0,0]
[]
[null,12,"राप्रावि 14 डीओएल ",1,null,"सभी अनिवार्य विषय ",null,null,{"$f":"G90+H90","v":0},{"$f":"E90-I90","v":0},{"$nulls":3},{"$f":"L90+M90","v":0},{"$f":"E90-N90","v":0},"NOT AT HOME"]
[{"$nulls":3},2,null,"सभी अनिवार्य विषय ",null,null,0,0,{"$nulls":3},0,{"$f":"E91-N91","v":0},"NOT AT HOME"]
[{"$nulls":3},3,null,"सभी अनिवार्य विषय ",null,null,0,0,{"$nulls":3},0,0,"NOT AT HOME"]
[{"$nulls":3},4,null,"सभी अनिवार्य विषय ",null,null,0,0,{"$nulls":3},0,0,"NOT AT HOME"]
[{"$nulls":3},5,null,"सभी अनिवार्य विषय ",null,null,0,0,{"$nulls":3},0,0,"NOT AT HOME"]
[null,null,"कुल ",null,{"$f":"SUM(E90:E94)","v":0},null,{"$f":"SUM(G90:G94)","v":0},0,0,0,0,0,0,0,0]
[]
[null,13,"राप्रावि 14 डीओएल ",1,null,"सभी अनिवार्य विषय ",null,null,{"$f":"G97+H97","v":0},{"$f":"E97-I97","v":0},{"$nulls":3},{"$f":"L97+M97","v":0},{"$f":"E97-N97","v":0},"NOT AT HOME"]
[{"$nulls":3},2,null,"सभी अनिवार्य विषय ",null,null,0,0,{"$nulls":3},0,{"$f":"E98-N98","v":0},"NOT AT HOME"]
[{"$nulls":3},3,null,"सभी अनिवार्य विषय ",null,null,0,0,{"$nulls":3},0,0,"NOT AT HOME"]
[{"$nulls":3},4,null,"सभी अनिवार्य विषय ",null,null,0,0,{"$nulls":3},0,0,"NOT AT HOME"]
[{"$nulls":3},5,null,"सभी अनिवार्य विषय ",null,null,0,0,{"$nulls":3},0,0,"NOT AT HOME"]
[null,null,"कुल ",null,{"$f":"SUM(E97:E101)","v":0},null,{"$f":"SUM(G97:G101)","v":0},0,0,0,0,0,0,0,0]
[null,null,"GRAND TOTAL",null,{"$f":"SUM(E15,E24,E31,E38,E45,E53,E60,E67,E74,E81,E88,E95,E102)","v":374},null,{"$f":"SUM(G15,G24,G31,G38,G45,G53,G60,G67,G74,G81,G88,G95,G102)","v":148},79,227,147,null,19,128,147,227,null,17]

{"sheet":"PEEO_A","index":13,"n_rows":21,"n_cols":16,"rows_kept":21,"hidden":true,"merged":[[0,0,0,15],[1,0,1,14],[2,4,2,8],[2,9,2,13],[5,0,12,0],[17,12,17,14],[18,12,18,14],[19,12,19,14],[20,12,20,14]]}
["कार्यालय पंचायत प्रारम्भिक शिक्षा अधिकारी एवं प्रधानाचार्य राजकीय उच्च माध्यमिक विद्यालय 13 डीओएल घडसाना"]
["स्माइल 2 के अन्तर्गत विद्याथियों के अध्ययन हेतु गृहकार्य वितरण एवं संकलन हेतु शिक्षको के द्वारा भरे जाना वाला ( प्रपत्र -अ)",{"$nulls":14},"WEEK"]
[{"$nulls":4},"गृहकार्य वितरण से सबंधित सूचना ",{"$nulls":4},"गृहकार्य संकलन  से सबंधित सूचना ",{"$nulls":5},{"$f":"PEEO_SCH!Q3","v":2}]
["विद्यालय  का नाम ","कक्षा ","कुल नामाकन ","गृहकार्य विवरण ( विषयवार )","ऑनलाइन माध्यम से विध्यार्थियों की संख्या  ","ऑफलाइन माध्यम से विध्यार्थियों की संख्या  ","गृहकार्य प्राप्त करने वाले विध्यार्थियों की कुल संख्या (5+6)","शेष विध्यार्थियों की संख्या ","बिंदु संख्या 8 में गृहकार्य वितरण से वंचित रहने वाले विध्यार्थियों का वंचित रहने का कारण / विवरण ","ऑनलाइन माध्यम से विध्यार्थियों की संख्या  ","ऑफलाइन माध्यम से विध्यार्थियों की संख्या  ","गृहकार्य पूर्ण  कर जमा करवाने  वाले विध्यार्थियों की कुल संख्या (10+11)","शेष विध्यार्थियों की संख्या ","बिंदु संख्या 13 में गृहकार्य संकलन  से वंचित रहने वाले विध्यार्थियों का वंचित रहने का कारण / विवरण ","संकलन पश्चात विध्यार्थियों का गृहकार्य पोर्टफोलियो तैयार कर लिया गया है, हां अथवा नहीं ","पोर्टफोलियो संधारित संख्या"]
[1,2,3,4,5,6,7,8,9,10,11,12,13,14,15,16]
["राउमावि 13 डीओएल",1,{"$f":"SUMIF(PEEO_SCH!$D$7:$D$101,$B6,PEEO_SCH!$E$7:$E$102)","v":32},"सभी अनिवार्य विषय ",{"$f":"SUMIF(PEEO_SCH!$D$7:$D$101,$B6,PEEO_SCH!$G$7:$G$102)","v":17},{"$f":"SUMIF(PEEO_SCH!$D$7:$D$101,$B6,PEEO_SCH!$H$7:$H$102)","v":7},{"$f":"E6+F6","v":24},{"$f":"C6-G6","v":8},"NOT AT HOME",{"$f":"SUMIF(PEEO_SCH!$D$7:$D$101,$B6,PEEO_SCH!$L$7:$L$102)","v":2},{"$f":"SUMIF(PEEO_SCH!$D$7:$D$101,$B6,PEEO_SCH!$M$7:$M$102)","v":15},{"$f":"J6+K6","v":17},{"$f":"C6-L6","v":15},"NOT AT HOME","YES",{"$f":"COUNTIFS('DATA ENTRY'!$F$9:$F$1000,$B6,'DATA ENTRY'!$AI$9:$AI$1000,\"YES\")","v":0}]
[null,2,{"$f":"SUMIF(PEEO_SCH!$D$7:$D$101,$B7,PEEO_SCH!$E$7:$E$102)","v":60},"सभी अनिवार्य विषय ",{"$f":"SUMIF(PEEO_SCH!$D$7:$D$101,$B7,PEEO_SCH!$G$7:$G$102)","v":23},{"$f":"SUMIF(PEEO_SCH!$D$7:$D$101,$B7,PEEO_SCH!$H$7:$H$102)","v":11},34,26,"NOT AT HOME",{"$f":"SUMIF(PEEO_SCH!$D$7:$D$101,$B7,PEEO_SCH!$L$7:$L$102)","v":3},{"$f":"SUMIF(PEEO_SCH!$D$7:$D$101,$B7,PEEO_SCH!$M$7:$M$102)","v":19},22,{"$f":"C7-L7","v":38},"NOT AT HOME","YES",{"$f":"COUNTIFS('DATA ENTRY'!$F$9:$F$1000,$B7,'DATA ENTRY'!$AI$9:$AI$1000,\"YES\")","v":0}]
[null,3,{"$f":"SUMIF(PEEO_SCH!$D$7:$D$101,$B8,PEEO_SCH!$E$7:$E$102)","v":46},"सभी अनिवार्य विषय ",{"$f":"SUMIF(PEEO_SCH!$D$7:$D$101,$B8,PEEO_SCH!$G$7:$G$102)","v":21},{"$f":"SUMIF(PEEO_SCH!$D$7:$D$101,$B8,PEEO_SCH!$H$7:$H$102)","v":12},33,13,"NOT AT HOME",{"$f":"SUMIF(PEEO_SCH!$D$7:$D$101,$B8,PEEO_SCH!$L$7:$L$102)","v":2},{"$f":"SUMIF(PEEO_SCH!$D$7:$D$101,$B8,PEEO_SCH!$M$7:$M$102)","v":22},24,22,"NOT AT HOME","YES",{"$f":"COUNTIFS('DATA ENTRY'!$F$9:$F$1000,$B8,'DATA ENTRY'!$AI$9:$AI$1000,\"YES\")","v":0}]
[null,4,{"$f":"SUMIF(PEEO_SCH!$D$7:$D$101,$B9,PEEO_SCH!$E$7:$E$102)","v":49},"सभी अनिवार्य विषय ",{"$f":"SUMIF(PEEO_SCH!$D$7:$D$101,$B9,PEEO_SCH!$G$7:$G$102)","v":22},{"$f":"SUMIF(PEEO_SCH!$D$7:$D$101,$B9,PEEO_SCH!$H$7:$H$102)","v":11},33,16,"NOT AT HOME",{"$f":"SUMIF(PEEO_SCH!$D$7:$D$101,$B9,PEEO_SCH!$L$7:$L$102)","v":1},{"$f":"SUMIF(PEEO_SCH!$D$7:$D$101,$B9,PEEO_SCH!$M$7:$M$102)","v":18},19,30,"NOT AT HOME","YES",{"$f":"COUNTIFS('DATA ENTRY'!$F$9:$F$1000,$B9,'DATA ENTRY'!$AI$9:$AI$1000,\"YES\")","v":0}]
[null,5,{"$f":"SUMIF(PEEO_SCH!$D$7:$D$101,$B10,PEEO_SCH!$E$7:$E$102)","v":52},"सभी अनिवार्य विषय ",{"$f":"SUMIF(PEEO_SCH!$D$7:$D$101,$B10,PEEO_SCH!$G$7:$G$102)","v":19},{"$f":"SUMIF(PEEO_SCH!$D$7:$D$101,$B10,PEEO_SCH!$H$7:$H$102)","v":13},32,20,"NOT AT HOME",{"$f":"SUMIF(PEEO_SCH!$D$7:$D$101,$B10,PEEO_SCH!$L$7:$L$102)","v":3},{"$f":"SUMIF(PEEO_SCH!$D$7:$D$101,$B10,PEEO_SCH!$M$7:$M$102)","v":21},24,28,"NOT AT HOME","YES",{"$f":"COUNTIFS('DATA ENTRY'!$F$9:$F$1000,$B10,'DATA ENTRY'!$AI$9:$AI$1000,\"YES\")","v":0}]
[null,6,{"$f":"SUMIF(PEEO_SCH!$D$7:$D$101,$B11,PEEO_SCH!$E$7:$E$102)","v":46},"सभी अनिवार्य विषय ",{"$f":"SUMIF(PEEO_SCH!$D$7:$D$101,$B11,PEEO_SCH!$G$7:$G$102)","v":13},{"$f":"SUMIF(PEEO_SCH!$D$7:$D$101,$B11,PEEO_SCH!$H$7:$H$102)","v":8},21,25,"NOT AT HOME",{"$f":"SUMIF(PEEO_SCH!$D$7:$D$101,$B11,PEEO_SCH!$L$7:$L$102)","v":3},{"$f":"SUMIF(PEEO_SCH!$D$7:$D$101,$B11,PEEO_SCH!$M$7:$M$102)","v":7},10,36,"NOT AT HOME","YES",{"$f":"COUNTIFS('DATA ENTRY'!$F$9:$F$1000,$B11,'DATA ENTRY'!$AI$9:$AI$1000,\"YES\")","v":0}]
[null,7,{"$f":"SUMIF(PEEO_SCH!$D$7:$D$101,$B12,PEEO_SCH!$E$7:$E$102)","v":45},"सभी अनिवार्य विषय ",{"$f":"SUMIF(PEEO_SCH!$D$7:$D$101,$B12,PEEO_SCH!$G$7:$G$102)","v":3},{"$f":"SUMIF(PEEO_SCH!$D$7:$D$101,$B12,PEEO_SCH!$H$7:$H$102)","v":4},7,38,"NOT AT HOME",{"$f":"SUMIF(PEEO_SCH!$D$7:$D$101,$B12,PEEO_SCH!$L$7:$L$102)","v":0},{"$f":"SUMIF(PEEO_SCH!$D$7:$D$101,$B12,PEEO_SCH!$M$7:$M$102)","v":3},3,42,"NOT AT HOME","YES",{"$f":"COUNTIFS('DATA ENTRY'!$F$9:$F$1000,$B12,'DATA ENTRY'!$AI$9:$AI$1000,\"YES\")","v":0}]
[null,8,{"$f":"SUMIF(PEEO_SCH!$D$7:$D$101,$B13,PEEO_SCH!$E$7:$E$102)","v":44},"सभी अनिवार्य विषय ",{"$f":"SUMIF(PEEO_SCH!$D$7:$D$101,$B13,PEEO_SCH!$G$7:$G$102)","v":30},{"$f":"SUMIF(PEEO_SCH!$D$7:$D$101,$B13,PEEO_SCH!$H$7:$H$102)","v":13},43,1,"NOT AT HOME",{"$f":"SUMIF(PEEO_SCH!$D$7:$D$101,$B13,PEEO_SCH!$L$7:$L$102)","v":5},{"$f":"SUMIF(PEEO_SCH!$D$7:$D$101,$B13,PEEO_SCH!$M$7:$M$102)","v":23},28,16,"NOT AT HOME","YES",{"$f":"COUNTIFS('DATA ENTRY'!$F$9:$F$1000,$B13,'DATA ENTRY'!$AI$9:$AI$1000,\"YES\")","v":17}]
["कुल ",null,{"$f":"SUM(C6:C13)","v":374},null,{"$f":"SUM(E6:E13)","v":148},79,227,147,null,{"$f":"SUM(J6:J13)","v":19},128,147,227,null,{"$f":"SUM(O6:O13)","v":0},{"$f":"SUM(P6:P13)","v":17}]
[]
[]
[]
[{"$nulls":12},"( हंसराज जोशी )"]
[{"$nulls":12},{"$f":"DASHBOARD!W3","v":"पंचायत प्रारम्भिक शिक्षा अधिकारी"}]
[{"$nulls":12},{"$f":"DASHBOARD!W4","v":"राजकीय उच्च माध्यमिक विद्यालय"}]
[{"$nulls":12},{"$f":"DASHBOARD!W5","v":"13डीओएल, श्री गंगानगर"}]

{"sheet":"PEEO_B","index":14,"n_rows":13,"n_cols":14,"rows_kept":13,"hidden":true,"merged":[[0,0,0,13],[1,0,1,12],[2,0,3,1],[2,2,3,2],[2,3,3,3],[2,4,3,4],[2,5,2,8],[2,9,2,12],[4,0,4,1],[9,10,9,13],[10,10,10,13],[11,10,11,13],[12,10,12,13]]}
["कार्यालय पंचायत प्रारम्भिक शिक्षा अधिकारी एवं प्रधानाचार्य राजकीय उच्च माध्यमिक विद्यालय 13 डीओएल घडसाना"]
["स्माइल 2 के अन्तर्गत विद्याथियों के अध्ययन हेतु गृहकार्य वितरण एवं संकलन हेतु शिक्षको के द्वारा भरे जाना वाला ( प्रपत्र -ब)",{"$nulls":12},"WEEK"]
["विद्यालय  का नाम ",null,"कक्षा ","कुल नामाकन ","गृहकार्य विवरण ( विषयवार )","गृहकार्य वितरण से सबंधित सूचना ",{"$nulls":3},"गृहकार्य संकलन  से सबंधित सूचना ",{"$nulls":3},{"$f":"PEEO_SCH!Q3","v":2}]
[{"$nulls":5},"ऑनलाइन माध्यम से विध्यार्थियों की संख्या  ","ऑफलाइन माध्यम से विध्यार्थियों की संख्या  ","गृहकार्य प्राप्त करने वाले विध्यार्थियों का प्रतिशत(5+6)","गृहकार्य वितरण से वंचित रहने वाले विध्यार्थियों का प्रतिशत","ऑनलाइन माध्यम से वितरित गृहकार्य प्राप्त करने वाले विध्यार्थियों का प्रतिशत ","ऑफलाइन माध्यम से वितरित गृहकार्य प्राप्त करने वाले विध्यार्थियों का प्रतिशत ","गृहकार्य पूर्ण  कर जमा करवाने  वाले विध्यार्थियों का  कुल प्रतिशत (9+10)","गृहकार्य संकलन से वंचित रहे शेष विध्यार्थियों का कुल प्रतिशत","संकलन पश्चात विध्यार्थियों का गृहकार्य पोर्टफोलियो तैयार कर लिया गया है।(प्रतिशत)"]
[1,null,2,3,4,5,6,7,8,9,10,11,12,13]
[1,"राउमावि 13 डीओएल","1  to 8",{"$f":"PEEO_A!C14","v":374},"सभी अनिवार्य विषय ",{"$f":"PEEO_A!E14/PEEO_B!D6","v":{"v":0.39572192513368987,"d":"39.57%"}},{"$f":"PEEO_A!F14/PEEO_B!D6","v":{"v":0.21122994652406418,"d":"21.12%"}},{"$f":"F6+G6","v":{"v":0.606951871657754,"d":"60.70%"}},{"$f":"'[3]PRAPTRA-A'!H14/'[3]PRAPTRA B'!D6","v":{"v":0.11977715877437325,"d":"11.98%"}},{"$f":"PEEO_A!J14/PEEO_B!D6","v":{"v":0.05080213903743316,"d":"5.08%"}},{"$f":"PEEO_A!K14/PEEO_B!D6","v":{"v":0.3422459893048128,"d":"34.22%"}},{"$f":"J6+K6","v":{"v":0.39304812834224595,"d":"39.30%"}},{"$f":"PEEO_A!M14/PEEO_B!D6","v":{"v":0.606951871657754,"d":"60.70%"}},{"$f":"PEEO_A!P14/PEEO_B!D6","v":{"v":0.045454545454545456,"d":"4.55%"}}]
[]
[]
[]
[]
[{"$nulls":10},{"$f":"DASHBOARD!W3","v":"पंचायत प्रारम्भिक शिक्षा अधिकारी"}]
[{"$nulls":10},{"$f":"DASHBOARD!W4","v":"राजकीय उच्च माध्यमिक विद्यालय"}]
[{"$nulls":10},{"$f":"DASHBOARD!W5","v":"13डीओएल, श्री गंगानगर"}]

{"sheet":"New Format1","index":15,"n_rows":10,"n_cols":12,"rows_kept":10,"merged":[[0,0,0,11],[1,0,2,9],[1,10,2,10],[1,11,2,11]]}
["कार्यालय PEEO राजकीय उच्च माध्यमिक विद्यालय 13 डीओएल  ब्लॉक घड़साना (श्रीगंगानगर )"]
["सत्रारम्भ  कक्षाध्यापक /अध्यापक करणीय कार्य सूचना संकलन ",{"$nulls":9},"दिनांक ","2021-12-07"]
[]
["क्रम संख्या ","नाम विद्यालय ","कक्षा ","विद्यालय नामांकन ","क्रमोन्नति प्रमाण पत्र वितरण ","पाठ्य पुस्तक वितरण ","छात्र उपस्थिति  संधारण ","कक्षा व्हाट्सएप ग्रुप निर्माण ","ऑनलाइन शिक्षण /व्हाट्सएप्प से जुड़ने वाले विद्यर्थियों की संख्या ","ऑफलाइन शिक्षण /व्हाट्सएप्प से जुड़ने वाले विद्यर्थियों की संख्या ","शाला दर्पण स्टाफ लॉगिन में विद्यालयों विद्यार्थियों का गृह कार्य  वितरण वर्गीकरण ","हस्ताक्षर संस्था प्रधान "]
[1,"राउमावि 13 DOL ","1 से 12 ",277,180,103,"YES",12,185,80,223]
[2,"राउप्रावि  7DOL ","1 से 8 ",150,175,0,"YES",8,91,59,150]
[3,"राप्रावि  6 DOL ","1 से 5 ",27,31,0,"YES",5,27,0,27]
[4,"राप्रावि  9 DOL  B ","1  से 5",16,21,0,"YES",5,8,8,16]
[5,"राप्रावि  14  DOL ","1  से 5",30,30,0,"YES",5,21,9,30]
[null,"स्ज्का"]

{"sheet":"Daily Info","index":16,"n_rows":88,"n_cols":51,"rows_kept":88,"merged":[[0,0,0,50],[1,0,1,1],[1,13,1,36],[2,2,2,8],[2,9,2,15],[2,16,2,22],[2,23,2,29],[2,30,2,36],[2,37,2,43],[2,44,3,50],[3,2,3,8],[3,9,3,15],[3,16,3,22],[3,23,3,29],[3,30,3,36],[3,37,3,43],[19,2,19,8],[19,9,19,15],[19,16,19,22],[19,23,19,29],[19,30,19,36],[19,37,19,43],[19,44,20,50],[20,2,20,8],[20,9,20,15],[20,16,20,22],[20,23,20,29],[20,30,20,36],[20,37,20,43],[36,2,36,8],[36,9,36,15],[36,16,36,22],[36,23,36,29],[36,30,36,36],[36,37,36,43],[36,44,37,50],[37,2,37,8],[37,9,37,15],[37,16,37,22],[37,23,37,29],[37,30,37,36],[37,37,37,43],[55,2,55,8],[55,9,55,15],[55,16,55,22],[55,23,55,29],[55,30,55,36],[55,37,55,43],[55,44,56,50],[56,2,56,8],[56,9,56,15],[56,16,56,22],[56,23,56,29],[56,30,56,36],[56,37,56,43],[72,2,72,8],[72,9,72,15],[72,16,72,22],[72,23,72,29],[72,30,72,36],[72,37,72,43],[72,44,73,50],[73,2,73,8],[73,9,73,15],[73,16,73,22],[73,23,73,29],[73,30,73,36],[73,37,73,43]]}
["कार्यालय PEEO राजकीय उच्च माध्यमिक विद्यालय 13 डीओएल  ब्लॉक घड़साना (श्रीगंगानगर )"]
["GO TO WEEK ENTRY ",null,1,null,2,null,3,null,4,null,5,null,null,"आओ घर में सीखे 2.0 ,स्माइल 3.0 राजस्थान के तहत दैनिक /साप्ताहिक PEEO क्षेत्र विद्यालय समेकित सूचना "]
["Week","दिनांक ",{"$nulls":14},"2021-07-01",{"$nulls":6},"2021-07-02",{"$nulls":6},"2021-07-03",{"$nulls":6},"2021-07-04",{"$nulls":6},"साप्ताहिक समेकित सूचना "]
[1,"वार ","सोमवार ",{"$nulls":6},"मंगलवार ",{"$nulls":6},"बुधवार ",{"$nulls":6},"गुरुवार ",{"$nulls":6},"शुक्रवार ",{"$nulls":6},"शनिवार "]
["क्रम संख्या ","नाम विद्यालय ","स्माइल कॉलिंग संख्या ","गृह कार्य वितरण विद्यार्थियों की संख्या ","गृह कार्य संकलन  विद्यार्थियों की संख्या ","गृह कार्य जाँच  विद्यार्थियों की संख्या ","क़्विज में भाग लेने वाले  विद्यार्थियों की संख्या ","अभिभावक संपर्क संख्या ","अध्यापक दैनन्दिनी संधारण हाँ या नहीं ","स्माइल कॉलिंग संख्या ","गृह कार्य वितरण विद्यार्थियों की संख्या ","गृह कार्य संकलन  विद्यार्थियों की संख्या ","गृह कार्य जाँच  विद्यार्थियों की संख्या ","क़्विज में भाग लेने वाले  विद्यार्थियों की संख्या ","अभिभावक संपर्क संख्या ","अध्यापक दैनन्दिनी संधारण हाँ या नहीं ","स्माइल कॉलिंग संख्या ","गृह कार्य वितरण विद्यार्थियों की संख्या ","गृह कार्य संकलन  विद्यार्थियों की संख्या ","गृह कार्य जाँच  विद्यार्थियों की संख्या ","क़्विज में भाग लेने वाले  विद्यार्थियों की संख्या ","अभिभावक संपर्क संख्या ","अध्यापक दैनन्दिनी संधारण हाँ या नहीं ","स्माइल कॉलिंग संख्या ","गृह कार्य वितरण विद्यार्थियों की संख्या ","गृह कार्य संकलन  विद्यार्थियों की संख्या ","गृह कार्य जाँच  विद्यार्थियों की संख्या ","क़्विज में भाग लेने वाले  विद्यार्थियों की संख्या ","अभिभावक संपर्क संख्या ","अध्यापक दैनन्दिनी संधारण हाँ या नहीं ","स्माइल कॉलिंग संख्या ","गृह कार्य वितरण विद्यार्थियों की संख्या ","गृह कार्य संकलन  विद्यार्थियों की संख्या ","गृह कार्य जाँच  विद्यार्थियों की संख्या ","क़्विज में भाग लेने वाले  विद्यार्थियों की संख्या ","अभिभावक संपर्क संख्या ","अध्यापक दैनन्दिनी संधारण हाँ या नहीं ","स्माइल कॉलिंग संख्या ","गृह कार्य वितरण विद्यार्थियों की संख्या ","गृह कार्य संकलन  विद्यार्थियों की संख्या ","गृह कार्य जाँच  विद्यार्थियों की संख्या ","क़्विज में भाग लेने वाले  विद्यार्थियों की संख्या ","अभिभावक संपर्क संख्या ","अध्यापक दैनन्दिनी संधारण हाँ या नहीं ","स्माइल कॉलिंग संख्या ","गृह कार्य वितरण विद्यार्थियों की संख्या ","गृह कार्य संकलन  विद्यार्थियों की संख्या ","गृह कार्य जाँच  विद्यार्थियों की संख्या ","क़्विज में भाग लेने वाले  विद्यार्थियों की संख्या ","अभिभावक संपर्क संख्या ","अध्यापक दैनन्दिनी संधारण हाँ या नहीं "]
[null,null,1,2,3,4,5,6,7,1,2,3,4,5,6,7,1,2,3,4,5,6,7,1,2,3,4,5,6,7,1,2,3,4,5,6,7,1,2,3,4,5,6,7,1,2,3,4,5,6,7]
[1,"राउमावि 13 DOL ",60,215,154,149,50,127,"YES",60,213,150,150,30,110,"YES",60,190,125,125,25,80,"YES",{"$nulls":21},{"$f":"SUM(C7,J7,X7,AE7,AL7)","v":120},{"$f":"SUM(D7,K7,Y7,AF7,AM7)","v":428},304,299,80,237,"YES"]
[2,"राउप्रावि  7DOL ",35,38,24,24,14,28,"YES",35,43,27,27,17,26,"YES",35,43,30,30,16,29,"YES",{"$nulls":21},{"$f":"SUM(C8,J8,X8,AE8,AL8)","v":70},{"$f":"SUM(D8,K8,Y8,AF8,AM8)","v":81},{"$f":"SUM(E8,L8,Z8,AG8,AN8)","v":51},{"$f":"SUM(F8,M8,AA8,AH8,AO8)","v":51},{"$f":"SUM(G8,N8,AB8,AI8,AP8)","v":31},{"$f":"SUM(H8,O8,AC8,AJ8,AQ8)","v":54},"YES"]
[3,"राप्रावि  6 DOL ",10,7,2,2,1,5,"YES",10,10,3,3,2,4,"YES",10,10,5,5,1,9,"YES",{"$nulls":21},20,17,5,5,3,9,"YES"]
[4,"राप्रावि  9 DOL  B ",5,16,16,16,2,5,"YES",5,16,16,16,1,5,"YES",5,16,16,16,1,5,"YES",{"$nulls":21},10,32,32,32,3,10,"YES"]
[5,"राप्रावि  14  DOL ",5,8,4,4,3,5,"YES",10,3,1,1,3,10,"YES",5,5,1,1,3,5,"YES",{"$nulls":21},15,11,5,5,6,15,"YES"]
[{"$nulls":44},{"$f":"SUM(C12,J12,X12,AE12,AL12)","v":0},{"$f":"SUM(D12,K12,Y12,AF12,AM12)","v":0},{"$f":"SUM(E12,L12,Z12,AG12,AN12)","v":0},{"$f":"SUM(F12,M12,AA12,AH12,AO12)","v":0},{"$f":"SUM(G12,N12,AB12,AI12,AP12)","v":0},{"$f":"SUM(H12,O12,AC12,AJ12,AQ12)","v":0}]
[{"$nulls":44},0,0,0,0,0,0]
[{"$nulls":44},0,0,0,0,0,0]
[{"$nulls":44},0,0,0,0,0,0]
[{"$nulls":44},0,0,0,0,0,0]
[{"$nulls":44},0,0,0,0,0,0]
[null,"TOTAL",{"$f":"SUM(C7:C17)","v":115},{"$f":"SUM(D7:D17)","v":284},200,195,70,170,0,120,285,197,197,53,155,0,115,264,177,177,46,128,0,0,0,0,0,0,0,0,0,0,0,0,0,0,0,0,0,0,0,0,0,0,235,569,397,392,123,325]
[]
[null,"दिनांक ","2021-07-05",{"$nulls":6},"2021-07-06",{"$nulls":6},"2021-07-07",{"$nulls":6},"2021-07-08",{"$nulls":6},"2021-07-09",{"$nulls":6},"2021-07-10",{"$nulls":6},"साप्ताहिक समेकित सूचना "]
[2,"वार ","सोमवार ",{"$nulls":6},"मंगलवार ",{"$nulls":6},"बुधवार ",{"$nulls":6},"गुरुवार ",{"$nulls":6},"शुक्रवार ",{"$nulls":6},"शनिवार "]
["क्रम संख्या ","नाम विद्यालय ","स्माइल कॉलिंग संख्या ","गृह कार्य वितरण विद्यार्थियों की संख्या ","गृह कार्य संकलन  विद्यार्थियों की संख्या ","गृह कार्य जाँच  विद्यार्थियों की संख्या ","क़्विज में भाग लेने वाले  विद्यार्थियों की संख्या ","अभिभावक संपर्क संख्या ","अध्यापक दैनन्दिनी संधारण हाँ या नहीं ","स्माइल कॉलिंग संख्या ","गृह कार्य वितरण विद्यार्थियों की संख्या ","गृह कार्य संकलन  विद्यार्थियों की संख्या ","गृह कार्य जाँच  विद्यार्थियों की संख्या ","क़्विज में भाग लेने वाले  विद्यार्थियों की संख्या ","अभिभावक संपर्क संख्या ","अध्यापक दैनन्दिनी संधारण हाँ या नहीं ","स्माइल कॉलिंग संख्या ","गृह कार्य वितरण विद्यार्थियों की संख्या ","गृह कार्य संकलन  विद्यार्थियों की संख्या ","गृह कार्य जाँच  विद्यार्थियों की संख्या ","क़्विज में भाग लेने वाले  विद्यार्थियों की संख्या ","अभिभावक संपर्क संख्या ","अध्यापक दैनन्दिनी संधारण हाँ या नहीं ","स्माइल कॉलिंग संख्या ","गृह कार्य वितरण विद्यार्थियों की संख्या ","गृह कार्य संकलन  विद्यार्थियों की संख्या ","गृह कार्य जाँच  विद्यार्थियों की संख्या ","क़्विज में भाग लेने वाले  विद्यार्थियों की संख्या ","अभिभावक संपर्क संख्या ","अध्यापक दैनन्दिनी संधारण हाँ या नहीं ","स्माइल कॉलिंग संख्या ","गृह कार्य वितरण विद्यार्थियों की संख्या ","गृह कार्य संकलन  विद्यार्थियों की संख्या ","गृह कार्य जाँच  विद्यार्थियों की संख्या ","क़्विज में भाग लेने वाले  विद्यार्थियों की संख्या ","अभिभावक संपर्क संख्या ","अध्यापक दैनन्दिनी संधारण हाँ या नहीं ","स्माइल कॉलिंग संख्या ","गृह कार्य वितरण विद्यार्थियों की संख्या ","गृह कार्य संकलन  विद्यार्थियों की संख्या ","गृह कार्य जाँच  विद्यार्थियों की संख्या ","क़्विज में भाग लेने वाले  विद्यार्थियों की संख्या ","अभिभावक संपर्क संख्या ","अध्यापक दैनन्दिनी संधारण हाँ या नहीं ","स्माइल कॉलिंग संख्या ","गृह कार्य वितरण विद्यार्थियों की संख्या ","गृह कार्य संकलन  विद्यार्थियों की संख्या ","गृह कार्य जाँच  विद्यार्थियों की संख्या ","क़्विज में भाग लेने वाले  विद्यार्थियों की संख्या ","अभिभावक संपर्क संख्या ","अध्यापक दैनन्दिनी संधारण हाँ या नहीं "]
[null,null,1,2,3,4,5,6,7,1,2,3,4,5,6,7,1,2,3,4,5,6,7,1,2,3,4,5,6,7,1,2,3,4,5,6,7,1,2,3,4,5,6,7,1,2,3,4,5,6,7]
[1,"राउमावि 13 DOL ",60,215,154,149,50,127,"YES",60,213,150,150,30,110,"YES",60,190,125,125,25,80,"YES",{"$nulls":21},{"$f":"SUM(C24,J24,X24,AE24,AL24)","v":120},{"$f":"SUM(D24,K24,Y24,AF24,AM24)","v":428},{"$f":"SUM(E24,L24,Z24,AG24,AN24)","v":304},{"$f":"SUM(F24,M24,AA24,AH24,AO24)","v":299},{"$f":"SUM(G24,N24,AB24,AI24,AP24)","v":80},{"$f":"SUM(H24,O24,AC24,AJ24,AQ24)","v":237},"YES"]
[2,"राउप्रावि  7DOL ",35,38,24,24,14,28,"YES",35,43,27,27,17,26,"YES",35,43,30,30,16,29,"YES",{"$nulls":21},{"$f":"SUM(C25,J25,X25,AE25,AL25)","v":70},81,51,51,31,54,"YES"]
[3,"राप्रावि  6 DOL ",10,7,2,2,1,5,"YES",10,10,3,3,2,4,"YES",10,10,5,5,1,9,"YES",{"$nulls":21},20,17,5,5,3,9,"YES"]
[4,"राप्रावि  9 DOL  B ",5,16,16,16,2,5,"YES",5,16,16,16,1,5,"YES",5,16,16,16,1,5,"YES",{"$nulls":21},10,32,32,32,3,10,"YES"]
[5,"राप्रावि  14  DOL ",5,8,4,4,3,5,"YES",10,3,1,1,3,10,"YES",5,5,1,1,3,5,"YES",{"$nulls":21},15,11,5,5,6,15,"YES"]
[{"$nulls":44},{"$f":"SUM(C29,J29,X29,AE29,AL29)","v":0},{"$f":"SUM(D29,K29,Y29,AF29,AM29)","v":0},{"$f":"SUM(E29,L29,Z29,AG29,AN29)","v":0},{"$f":"SUM(F29,M29,AA29,AH29,AO29)","v":0},{"$f":"SUM(G29,N29,AB29,AI29,AP29)","v":0},{"$f":"SUM(H29,O29,AC29,AJ29,AQ29)","v":0}]
[{"$nulls":44},0,0,0,0,0,0]
[{"$nulls":44},0,0,0,0,0,0]
[{"$nulls":44},0,0,0,0,0,0]
[{"$nulls":44},0,0,0,0,0,0]
[{"$nulls":44},0,0,0,0,0,0]
[null,"TOTAL",{"$f":"SUM(C24:C34)","v":115},{"$f":"SUM(D24:D34)","v":284},{"$f":"SUM(E24:E34)","v":200},{"$f":"SUM(F24:F34)","v":195},{"$f":"SUM(G24:G34)","v":70},{"$f":"SUM(H24:H34)","v":170},{"$f":"SUM(I24:I34)","v":0},{"$f":"SUM(J24:J34)","v":120},{"$f":"SUM(K24:K34)","v":285},{"$f":"SUM(L24:L34)","v":197},{"$f":"SUM(M24:M34)","v":197},{"$f":"SUM(N24:N34)","v":53},{"$f":"SUM(O24:O34)","v":155},{"$f":"SUM(P24:P34)","v":0},{"$f":"SUM(Q24:Q34)","v":115},{"$f":"SUM(R24:R34)","v":264},{"$f":"SUM(S24:S34)","v":177},{"$f":"SUM(T24:T34)","v":177},{"$f":"SUM(U24:U34)","v":46},{"$f":"SUM(V24:V34)","v":128},{"$f":"SUM(W24:W34)","v":0},{"$f":"SUM(X24:X34)","v":0},{"$f":"SUM(Y24:Y34)","v":0},{"$f":"SUM(Z24:Z34)","v":0},{"$f":"SUM(AA24:AA34)","v":0},{"$f":"SUM(AB24:AB34)","v":0},{"$f":"SUM(AC24:AC34)","v":0},{"$f":"SUM(AD24:AD34)","v":0},{"$f":"SUM(AE24:AE34)","v":0},{"$f":"SUM(AF24:AF34)","v":0},{"$f":"SUM(AG24:AG34)","v":0},{"$f":"SUM(AH24:AH34)","v":0},{"$f":"SUM(AI24:AI34)","v":0},{"$f":"SUM(AJ24:AJ34)","v":0},{"$f":"SUM(AK24:AK34)","v":0},{"$f":"SUM(AL24:AL34)","v":0},{"$f":"SUM(AM24:AM34)","v":0},{"$f":"SUM(AN24:AN34)","v":0},{"$f":"SUM(AO24:AO34)","v":0},{"$f":"SUM(AP24:AP34)","v":0},{"$f":"SUM(AQ24:AQ34)","v":0},{"$f":"SUM(AR24:AR34)","v":0},{"$f":"SUM(AS24:AS34)","v":235},{"$f":"SUM(AT24:AT34)","v":569},{"$f":"SUM(AU24:AU34)","v":397},{"$f":"SUM(AV24:AV34)","v":392},{"$f":"SUM(AW24:AW34)","v":123},{"$f":"SUM(AX24:AX34)","v":325}]
["TOP "]
[null,"दिनांक ","2021-07-12",{"$nulls":6},"2021-07-13",{"$nulls":6},"2021-07-14",{"$nulls":6},"2021-07-15",{"$nulls":6},"2021-07-16",{"$nulls":6},"2021-07-17",{"$nulls":6},"साप्ताहिक समेकित सूचना "]
[3,"वार ","सोमवार ",{"$nulls":6},"मंगलवार ",{"$nulls":6},"बुधवार ",{"$nulls":6},"गुरुवार ",{"$nulls":6},"शुक्रवार ",{"$nulls":6},"शनिवार "]
["क्रम संख्या ","नाम विद्यालय ","स्माइल कॉलिंग संख्या ","गृह कार्य वितरण विद्यार्थियों की संख्या ","गृह कार्य संकलन  विद्यार्थियों की संख्या ","गृह कार्य जाँच  विद्यार्थियों की संख्या ","क़्विज में भाग लेने वाले  विद्यार्थियों की संख्या ","अभिभावक संपर्क संख्या ","अध्यापक दैनन्दिनी संधारण हाँ या नहीं ","स्माइल कॉलिंग संख्या ","गृह कार्य वितरण विद्यार्थियों की संख्या ","गृह कार्य संकलन  विद्यार्थियों की संख्या ","गृह कार्य जाँच  विद्यार्थियों की संख्या ","क़्विज में भाग लेने वाले  विद्यार्थियों की संख्या ","अभिभावक संपर्क संख्या ","अध्यापक दैनन्दिनी संधारण हाँ या नहीं ","स्माइल कॉलिंग संख्या ","गृह कार्य वितरण विद्यार्थियों की संख्या ","गृह कार्य संकलन  विद्यार्थियों की संख्या ","गृह कार्य जाँच  विद्यार्थियों की संख्या ","क़्विज में भाग लेने वाले  विद्यार्थियों की संख्या ","अभिभावक संपर्क संख्या ","अध्यापक दैनन्दिनी संधारण हाँ या नहीं ","स्माइल कॉलिंग संख्या ","गृह कार्य वितरण विद्यार्थियों की संख्या ","गृह कार्य संकलन  विद्यार्थियों की संख्या ","गृह कार्य जाँच  विद्यार्थियों की संख्या ","क़्विज में भाग लेने वाले  विद्यार्थियों की संख्या ","अभिभावक संपर्क संख्या ","अध्यापक दैनन्दिनी संधारण हाँ या नहीं ","स्माइल कॉलिंग संख्या ","गृह कार्य वितरण विद्यार्थियों की संख्या ","गृह कार्य संकलन  विद्यार्थियों की संख्या ","गृह कार्य जाँच  विद्यार्थियों की संख्या ","क़्विज में भाग लेने वाले  विद्यार्थियों की संख्या ","अभिभावक संपर्क संख्या ","अध्यापक दैनन्दिनी संधारण हाँ या नहीं ","स्माइल कॉलिंग संख्या ","गृह कार्य वितरण विद्यार्थियों की संख्या ","गृह कार्य संकलन  विद्यार्थियों की संख्या ","गृह कार्य जाँच  विद्यार्थियों की संख्या ","क़्विज में भाग लेने वाले  विद्यार्थियों की संख्या ","अभिभावक संपर्क संख्या ","अध्यापक दैनन्दिनी संधारण हाँ या नहीं ","स्माइल कॉलिंग संख्या ","गृह कार्य वितरण विद्यार्थियों की संख्या ","गृह कार्य संकलन  विद्यार्थियों की संख्या ","गृह कार्य जाँच  विद्यार्थियों की संख्या ","क़्विज में भाग लेने वाले  विद्यार्थियों की संख्या ","अभिभावक संपर्क संख्या ","अध्यापक दैनन्दिनी संधारण हाँ या नहीं "]
[null,null,1,2,3,4,5,6,7,1,2,3,4,5,6,7,1,2,3,4,5,6,7,1,2,3,4,5,6,7,1,2,3,4,5,6,7,1,2,3,4,5,6,7,1,2,3,4,5,6,7]
[1,"राउमावि 13 DOL ",60,215,154,149,50,127,"YES",60,213,150,150,30,110,"YES",60,190,125,125,25,80,"YES",{"$nulls":21},{"$f":"SUM(C41,J41,X41,AE41,AL41)","v":120},{"$f":"SUM(D41,K41,Y41,AF41,AM41)","v":428},{"$f":"SUM(E41,L41,Z41,AG41,AN41)","v":304},{"$f":"SUM(F41,M41,AA41,AH41,AO41)","v":299},{"$f":"SUM(G41,N41,AB41,AI41,AP41)","v":80},{"$f":"SUM(H41,O41,AC41,AJ41,AQ41)","v":237},"YES"]
[2,"राउप्रावि  7DOL ",35,38,24,24,14,28,"YES",35,43,27,27,17,26,"YES",35,43,30,30,16,29,"YES",{"$nulls":21},{"$f":"SUM(C42,J42,X42,AE42,AL42)","v":70},81,51,51,31,54,"YES"]
[3,"राप्रावि  6 DOL ",10,7,2,2,1,5,"YES",10,10,3,3,2,4,"YES",10,10,5,5,1,9,"YES",{"$nulls":21},20,17,5,5,3,9,"YES"]
[4,"राप्रावि  9 DOL  B ",5,16,16,16,2,5,"YES",5,16,16,16,1,5,"YES",5,16,16,16,1,5,"YES",{"$nulls":21},10,32,32,32,3,10,"YES"]
[5,"राप्रावि  14  DOL ",5,8,4,4,3,5,"YES",10,3,1,1,3,10,"YES",5,5,1,1,3,5,"YES",{"$nulls":21},15,11,5,5,6,15,"YES"]
[{"$nulls":44},{"$f":"SUM(C46,J46,X46,AE46,AL46)","v":0},{"$f":"SUM(D46,K46,Y46,AF46,AM46)","v":0},{"$f":"SUM(E46,L46,Z46,AG46,AN46)","v":0},{"$f":"SUM(F46,M46,AA46,AH46,AO46)","v":0},{"$f":"SUM(G46,N46,AB46,AI46,AP46)","v":0},{"$f":"SUM(H46,O46,AC46,AJ46,AQ46)","v":0}]
[{"$nulls":44},0,0,0,0,0,0]
[{"$nulls":44},0,0,0,0,0,0]
[{"$nulls":44},0,0,0,0,0,0]
[{"$nulls":44},0,0,0,0,0,0]
[{"$nulls":44},0,0,0,0,0,0]
[null,"TOTAL",{"$f":"SUM(C41:C51)","v":115},{"$f":"SUM(D41:D51)","v":284},{"$f":"SUM(E41:E51)","v":200},{"$f":"SUM(F41:F51)","v":195},{"$f":"SUM(G41:G51)","v":70},{"$f":"SUM(H41:H51)","v":170},{"$f":"SUM(I41:I51)","v":0},{"$f":"SUM(J41:J51)","v":120},{"$f":"SUM(K41:K51)","v":285},{"$f":"SUM(L41:L51)","v":197},{"$f":"SUM(M41:M51)","v":197},{"$f":"SUM(N41:N51)","v":53},{"$f":"SUM(O41:O51)","v":155},{"$f":"SUM(P41:P51)","v":0},{"$f":"SUM(Q41:Q51)","v":115},{"$f":"SUM(R41:R51)","v":264},{"$f":"SUM(S41:S51)","v":177},{"$f":"SUM(T41:T51)","v":177},{"$f":"SUM(U41:U51)","v":46},{"$f":"SUM(V41:V51)","v":128},{"$f":"SUM(W41:W51)","v":0},{"$f":"SUM(X41:X51)","v":0},{"$f":"SUM(Y41:Y51)","v":0},{"$f":"SUM(Z41:Z51)","v":0},{"$f":"SUM(AA41:AA51)","v":0},{"$f":"SUM(AB41:AB51)","v":0},{"$f":"SUM(AC41:AC51)","v":0},{"$f":"SUM(AD41:AD51)","v":0},{"$f":"SUM(AE41:AE51)","v":0},{"$f":"SUM(AF41:AF51)","v":0},{"$f":"SUM(AG41:AG51)","v":0},{"$f":"SUM(AH41:AH51)","v":0},{"$f":"SUM(AI41:AI51)","v":0},{"$f":"SUM(AJ41:AJ51)","v":0},{"$f":"SUM(AK41:AK51)","v":0},{"$f":"SUM(AL41:AL51)","v":0},{"$f":"SUM(AM41:AM51)","v":0},{"$f":"SUM(AN41:AN51)","v":0},{"$f":"SUM(AO41:AO51)","v":0},{"$f":"SUM(AP41:AP51)","v":0},{"$f":"SUM(AQ41:AQ51)","v":0},{"$f":"SUM(AR41:AR51)","v":0},{"$f":"SUM(AS41:AS51)","v":235},{"$f":"SUM(AT41:AT51)","v":569},{"$f":"SUM(AU41:AU51)","v":397},{"$f":"SUM(AV41:AV51)","v":392},{"$f":"SUM(AW41:AW51)","v":123},{"$f":"SUM(AX41:AX51)","v":325}]
[]
[]
["TOP "]
["TOP ","दिनांक ","2021-07-19",{"$nulls":6},"2021-07-20",{"$nulls":6},"2021-07-21",{"$nulls":6},"2021-07-22",{"$nulls":6},"2021-07-23",{"$nulls":6},"2021-07-24",{"$nulls":6},"साप्ताहिक समेकित सूचना "]
[4,"वार ","सोमवार ",{"$nulls":6},"मंगलवार ",{"$nulls":6},"बुधवार ",{"$nulls":6},"गुरुवार ",{"$nulls":6},"शुक्रवार ",{"$nulls":6},"शनिवार "]
["क्रम संख्या ","नाम विद्यालय ","स्माइल कॉलिंग संख्या ","गृह कार्य वितरण विद्यार्थियों की संख्या ","गृह कार्य संकलन  विद्यार्थियों की संख्या ","गृह कार्य जाँच  विद्यार्थियों की संख्या ","क़्विज में भाग लेने वाले  विद्यार्थियों की संख्या ","अभिभावक संपर्क संख्या ","अध्यापक दैनन्दिनी संधारण हाँ या नहीं ","स्माइल कॉलिंग संख्या ","गृह कार्य वितरण विद्यार्थियों की संख्या ","गृह कार्य संकलन  विद्यार्थियों की संख्या ","गृह कार्य जाँच  विद्यार्थियों की संख्या ","क़्विज में भाग लेने वाले  विद्यार्थियों की संख्या ","अभिभावक संपर्क संख्या ","अध्यापक दैनन्दिनी संधारण हाँ या नहीं ","स्माइल कॉलिंग संख्या ","गृह कार्य वितरण विद्यार्थियों की संख्या ","गृह कार्य संकलन  विद्यार्थियों की संख्या ","गृह कार्य जाँच  विद्यार्थियों की संख्या ","क़्विज में भाग लेने वाले  विद्यार्थियों की संख्या ","अभिभावक संपर्क संख्या ","अध्यापक दैनन्दिनी संधारण हाँ या नहीं ","स्माइल कॉलिंग संख्या ","गृह कार्य वितरण विद्यार्थियों की संख्या ","गृह कार्य संकलन  विद्यार्थियों की संख्या ","गृह कार्य जाँच  विद्यार्थियों की संख्या ","क़्विज में भाग लेने वाले  विद्यार्थियों की संख्या ","अभिभावक संपर्क संख्या ","अध्यापक दैनन्दिनी संधारण हाँ या नहीं ","स्माइल कॉलिंग संख्या ","गृह कार्य वितरण विद्यार्थियों की संख्या ","गृह कार्य संकलन  विद्यार्थियों की संख्या ","गृह कार्य जाँच  विद्यार्थियों की संख्या ","क़्विज में भाग लेने वाले  विद्यार्थियों की संख्या ","अभिभावक संपर्क संख्या ","अध्यापक दैनन्दिनी संधारण हाँ या नहीं ","स्माइल कॉलिंग संख्या ","गृह कार्य वितरण विद्यार्थियों की संख्या ","गृह कार्य संकलन  विद्यार्थियों की संख्या ","गृह कार्य जाँच  विद्यार्थियों की संख्या ","क़्विज में भाग लेने वाले  विद्यार्थियों की संख्या ","अभिभावक संपर्क संख्या ","अध्यापक दैनन्दिनी संधारण हाँ या नहीं ","स्माइल कॉलिंग संख्या ","गृह कार्य वितरण विद्यार्थियों की संख्या ","गृह कार्य संकलन  विद्यार्थियों की संख्या ","गृह कार्य जाँच  विद्यार्थियों की संख्या ","क़्विज में भाग लेने वाले  विद्यार्थियों की संख्या ","अभिभावक संपर्क संख्या ","अध्यापक दैनन्दिनी संधारण हाँ या नहीं "]
[null,null,1,2,3,4,5,6,7,1,2,3,4,5,6,7,1,2,3,4,5,6,7,1,2,3,4,5,6,7,1,2,3,4,5,6,7,1,2,3,4,5,6,7,1,2,3,4,5,6,7]
[1,"राउमावि 13 DOL ",60,215,154,149,50,127,"YES",60,213,150,150,30,110,"YES",60,190,125,125,25,80,"YES",{"$nulls":21},{"$f":"SUM(C60,J60,X60,AE60,AL60)","v":120},{"$f":"SUM(D60,K60,Y60,AF60,AM60)","v":428},{"$f":"SUM(E60,L60,Z60,AG60,AN60)","v":304},{"$f":"SUM(F60,M60,AA60,AH60,AO60)","v":299},{"$f":"SUM(G60,N60,AB60,AI60,AP60)","v":80},{"$f":"SUM(H60,O60,AC60,AJ60,AQ60)","v":237},"YES"]
[2,"राउप्रावि  7DOL ",35,38,24,24,14,28,"YES",35,43,27,27,17,26,"YES",35,43,30,30,16,29,"YES",{"$nulls":21},{"$f":"SUM(C61,J61,X61,AE61,AL61)","v":70},81,51,51,31,54,"YES"]
[3,"राप्रावि  6 DOL ",10,7,2,2,1,5,"YES",10,10,3,3,2,4,"YES",10,10,5,5,1,9,"YES",{"$nulls":21},20,17,5,5,3,9,"YES"]
[4,"राप्रावि  9 DOL  B ",5,16,16,16,2,5,"YES",5,16,16,16,1,5,"YES",5,16,16,16,1,5,"YES",{"$nulls":21},10,32,32,32,3,10,"YES"]
[5,"राप्रावि  14  DOL ",5,8,4,4,3,5,"YES",10,3,1,1,3,10,"YES",5,5,1,1,3,5,"YES",{"$nulls":21},15,11,5,5,6,15,"YES"]
[{"$nulls":44},{"$f":"SUM(C65,J65,X65,AE65,AL65)","v":0},{"$f":"SUM(D65,K65,Y65,AF65,AM65)","v":0},{"$f":"SUM(E65,L65,Z65,AG65,AN65)","v":0},{"$f":"SUM(F65,M65,AA65,AH65,AO65)","v":0},{"$f":"SUM(G65,N65,AB65,AI65,AP65)","v":0},{"$f":"SUM(H65,O65,AC65,AJ65,AQ65)","v":0}]
[{"$nulls":44},0,0,0,0,0,0]
[{"$nulls":44},0,0,0,0,0,0]
[{"$nulls":44},0,0,0,0,0,0]
[{"$nulls":44},0,0,0,0,0,0]
[{"$nulls":44},0,0,0,0,0,0]
[null,"TOTAL",{"$f":"SUM(C60:C70)","v":115},{"$f":"SUM(D60:D70)","v":284},{"$f":"SUM(E60:E70)","v":200},{"$f":"SUM(F60:F70)","v":195},{"$f":"SUM(G60:G70)","v":70},{"$f":"SUM(H60:H70)","v":170},{"$f":"SUM(I60:I70)","v":0},{"$f":"SUM(J60:J70)","v":120},{"$f":"SUM(K60:K70)","v":285},{"$f":"SUM(L60:L70)","v":197},{"$f":"SUM(M60:M70)","v":197},{"$f":"SUM(N60:N70)","v":53},{"$f":"SUM(O60:O70)","v":155},{"$f":"SUM(P60:P70)","v":0},{"$f":"SUM(Q60:Q70)","v":115},{"$f":"SUM(R60:R70)","v":264},{"$f":"SUM(S60:S70)","v":177},{"$f":"SUM(T60:T70)","v":177},{"$f":"SUM(U60:U70)","v":46},{"$f":"SUM(V60:V70)","v":128},{"$f":"SUM(W60:W70)","v":0},{"$f":"SUM(X60:X70)","v":0},{"$f":"SUM(Y60:Y70)","v":0},{"$f":"SUM(Z60:Z70)","v":0},{"$f":"SUM(AA60:AA70)","v":0},{"$f":"SUM(AB60:AB70)","v":0},{"$f":"SUM(AC60:AC70)","v":0},{"$f":"SUM(AD60:AD70)","v":0},{"$f":"SUM(AE60:AE70)","v":0},{"$f":"SUM(AF60:AF70)","v":0},{"$f":"SUM(AG60:AG70)","v":0},{"$f":"SUM(AH60:AH70)","v":0},{"$f":"SUM(AI60:AI70)","v":0},{"$f":"SUM(AJ60:AJ70)","v":0},{"$f":"SUM(AK60:AK70)","v":0},{"$f":"SUM(AL60:AL70)","v":0},{"$f":"SUM(AM60:AM70)","v":0},{"$f":"SUM(AN60:AN70)","v":0},{"$f":"SUM(AO60:AO70)","v":0},{"$f":"SUM(AP60:AP70)","v":0},{"$f":"SUM(AQ60:AQ70)","v":0},{"$f":"SUM(AR60:AR70)","v":0},{"$f":"SUM(AS60:AS70)","v":235},{"$f":"SUM(AT60:AT70)","v":569},{"$f":"SUM(AU60:AU70)","v":397},{"$f":"SUM(AV60:AV70)","v":392},{"$f":"SUM(AW60:AW70)","v":123},{"$f":"SUM(AX60:AX70)","v":325}]
[]
[null,"दिनांक ","2021-07-26",{"$nulls":6},"2021-07-27",{"$nulls":6},"2021-07-28",{"$nulls":6},"2021-07-29",{"$nulls":6},"2021-07-30",{"$nulls":6},"2021-07-31",{"$nulls":6},"साप्ताहिक समेकित सूचना "]
[5,"वार ","सोमवार ",{"$nulls":6},"मंगलवार ",{"$nulls":6},"बुधवार ",{"$nulls":6},"गुरुवार ",{"$nulls":6},"शुक्रवार ",{"$nulls":6},"शनिवार "]
["क्रम संख्या ","नाम विद्यालय ","स्माइल कॉलिंग संख्या ","गृह कार्य वितरण विद्यार्थियों की संख्या ","गृह कार्य संकलन  विद्यार्थियों की संख्या ","गृह कार्य जाँच  विद्यार्थियों की संख्या ","क़्विज में भाग लेने वाले  विद्यार्थियों की संख्या ","अभिभावक संपर्क संख्या ","अध्यापक दैनन्दिनी संधारण हाँ या नहीं ","स्माइल कॉलिंग संख्या ","गृह कार्य वितरण विद्यार्थियों की संख्या ","गृह कार्य संकलन  विद्यार्थियों की संख्या ","गृह कार्य जाँच  विद्यार्थियों की संख्या ","क़्विज में भाग लेने वाले  विद्यार्थियों की संख्या ","अभिभावक संपर्क संख्या ","अध्यापक दैनन्दिनी संधारण हाँ या नहीं ","स्माइल कॉलिंग संख्या ","गृह कार्य वितरण विद्यार्थियों की संख्या ","गृह कार्य संकलन  विद्यार्थियों की संख्या ","गृह कार्य जाँच  विद्यार्थियों की संख्या ","क़्विज में भाग लेने वाले  विद्यार्थियों की संख्या ","अभिभावक संपर्क संख्या ","अध्यापक दैनन्दिनी संधारण हाँ या नहीं ","स्माइल कॉलिंग संख्या ","गृह कार्य वितरण विद्यार्थियों की संख्या ","गृह कार्य संकलन  विद्यार्थियों की संख्या ","गृह कार्य जाँच  विद्यार्थियों की संख्या ","क़्विज में भाग लेने वाले  विद्यार्थियों की संख्या ","अभिभावक संपर्क संख्या ","अध्यापक दैनन्दिनी संधारण हाँ या नहीं ","स्माइल कॉलिंग संख्या ","गृह कार्य वितरण विद्यार्थियों की संख्या ","गृह कार्य संकलन  विद्यार्थियों की संख्या ","गृह कार्य जाँच  विद्यार्थियों की संख्या ","क़्विज में भाग लेने वाले  विद्यार्थियों की संख्या ","अभिभावक संपर्क संख्या ","अध्यापक दैनन्दिनी संधारण हाँ या नहीं ","स्माइल कॉलिंग संख्या ","गृह कार्य वितरण विद्यार्थियों की संख्या ","गृह कार्य संकलन  विद्यार्थियों की संख्या ","गृह कार्य जाँच  विद्यार्थियों की संख्या ","क़्विज में भाग लेने वाले  विद्यार्थियों की संख्या ","अभिभावक संपर्क संख्या ","अध्यापक दैनन्दिनी संधारण हाँ या नहीं ","स्माइल कॉलिंग संख्या ","गृह कार्य वितरण विद्यार्थियों की संख्या ","गृह कार्य संकलन  विद्यार्थियों की संख्या ","गृह कार्य जाँच  विद्यार्थियों की संख्या ","क़्विज में भाग लेने वाले  विद्यार्थियों की संख्या ","अभिभावक संपर्क संख्या ","अध्यापक दैनन्दिनी संधारण हाँ या नहीं "]
[null,null,1,2,3,4,5,6,7,1,2,3,4,5,6,7,1,2,3,4,5,6,7,1,2,3,4,5,6,7,1,2,3,4,5,6,7,1,2,3,4,5,6,7,1,2,3,4,5,6,7]
[1,"राउमावि 13 DOL ",60,215,154,149,50,127,"YES",60,213,150,150,30,110,"YES",60,190,125,125,25,80,"YES",{"$nulls":21},{"$f":"SUM(C77,J77,X77,AE77,AL77)","v":120},{"$f":"SUM(D77,K77,Y77,AF77,AM77)","v":428},{"$f":"SUM(E77,L77,Z77,AG77,AN77)","v":304},{"$f":"SUM(F77,M77,AA77,AH77,AO77)","v":299},{"$f":"SUM(G77,N77,AB77,AI77,AP77)","v":80},{"$f":"SUM(H77,O77,AC77,AJ77,AQ77)","v":237},"YES"]
[2,"राउप्रावि  7DOL ",35,38,24,24,14,28,"YES",35,43,27,27,17,26,"YES",35,43,30,30,16,29,"YES",{"$nulls":21},{"$f":"SUM(C78,J78,X78,AE78,AL78)","v":70},81,51,51,31,54,"YES"]
[3,"राप्रावि  6 DOL ",10,7,2,2,1,5,"YES",10,10,3,3,2,4,"YES",10,10,5,5,1,9,"YES",{"$nulls":21},20,17,5,5,3,9,"YES"]
[4,"राप्रावि  9 DOL  B ",5,16,16,16,2,5,"YES",5,16,16,16,1,5,"YES",5,16,16,16,1,5,"YES",{"$nulls":21},10,32,32,32,3,10,"YES"]
[5,"राप्रावि  14  DOL ",5,8,4,4,3,5,"YES",10,3,1,1,3,10,"YES",5,5,1,1,3,5,"YES",{"$nulls":21},15,11,5,5,6,15,"YES"]
[{"$nulls":44},{"$f":"SUM(C82,J82,X82,AE82,AL82)","v":0},{"$f":"SUM(D82,K82,Y82,AF82,AM82)","v":0},{"$f":"SUM(E82,L82,Z82,AG82,AN82)","v":0},{"$f":"SUM(F82,M82,AA82,AH82,AO82)","v":0},{"$f":"SUM(G82,N82,AB82,AI82,AP82)","v":0},{"$f":"SUM(H82,O82,AC82,AJ82,AQ82)","v":0}]
[{"$nulls":44},0,0,0,0,0,0]
[{"$nulls":44},0,0,0,0,0,0]
[{"$nulls":44},0,0,0,0,0,0]
[{"$nulls":44},0,0,0,0,0,0]
[{"$nulls":44},0,0,0,0,0,0]
[null,"TOTAL",{"$f":"SUM(C77:C87)","v":115},{"$f":"SUM(D77:D87)","v":284},{"$f":"SUM(E77:E87)","v":200},{"$f":"SUM(F77:F87)","v":195},{"$f":"SUM(G77:G87)","v":70},{"$f":"SUM(H77:H87)","v":170},{"$f":"SUM(I77:I87)","v":0},{"$f":"SUM(J77:J87)","v":120},{"$f":"SUM(K77:K87)","v":285},{"$f":"SUM(L77:L87)","v":197},{"$f":"SUM(M77:M87)","v":197},{"$f":"SUM(N77:N87)","v":53},{"$f":"SUM(O77:O87)","v":155},{"$f":"SUM(P77:P87)","v":0},{"$f":"SUM(Q77:Q87)","v":115},{"$f":"SUM(R77:R87)","v":264},{"$f":"SUM(S77:S87)","v":177},{"$f":"SUM(T77:T87)","v":177},{"$f":"SUM(U77:U87)","v":46},{"$f":"SUM(V77:V87)","v":128},{"$f":"SUM(W77:W87)","v":0},{"$f":"SUM(X77:X87)","v":0},{"$f":"SUM(Y77:Y87)","v":0},{"$f":"SUM(Z77:Z87)","v":0},{"$f":"SUM(AA77:AA87)","v":0},{"$f":"SUM(AB77:AB87)","v":0},{"$f":"SUM(AC77:AC87)","v":0},{"$f":"SUM(AD77:AD87)","v":0},{"$f":"SUM(AE77:AE87)","v":0},{"$f":"SUM(AF77:AF87)","v":0},{"$f":"SUM(AG77:AG87)","v":0},{"$f":"SUM(AH77:AH87)","v":0},{"$f":"SUM(AI77:AI87)","v":0},{"$f":"SUM(AJ77:AJ87)","v":0},{"$f":"SUM(AK77:AK87)","v":0},{"$f":"SUM(AL77:AL87)","v":0},{"$f":"SUM(AM77:AM87)","v":0},{"$f":"SUM(AN77:AN87)","v":0},{"$f":"SUM(AO77:AO87)","v":0},{"$f":"SUM(AP77:AP87)","v":0},{"$f":"SUM(AQ77:AQ87)","v":0},{"$f":"SUM(AR77:AR87)","v":0},{"$f":"SUM(AS77:AS87)","v":235},{"$f":"SUM(AT77:AT87)","v":569},{"$f":"SUM(AU77:AU87)","v":397},{"$f":"SUM(AV77:AV87)","v":392},{"$f":"SUM(AW77:AW87)","v":123},{"$f":"SUM(AX77:AX87)","v":325}]