Workbook
Name SCHOLARSR: Table1[[#All],[SRNO]]
Name SRNO: 'scholarship form'!$P$4:$P$814
Name TABLE6: 'sd data'!$D$3:$AG$800
Name TABLES: 'sd data'!$A$3:$AE$800
Name TABLES2: Table1[#All]

Sheet info
B2: SCHOLARSHIP ALL IN ONE SOFTWARE में आपका स्वागत है
B3: आपके विद्यालय का नाम | F3: GOVT. SR. SEC.SCHOOL ALNIYAWAS,NAGAUR
B4: यह प्रोग्राम विशेषकर छात्रहित एंव छात्रवृत्ति प्रभारी हेतु सरल,सहज,एंव स्मार्ट तरीके से बनाया गया है
B5: 1 | C5: SHALADARPAN
C6: इस sheet में आपको शालादार्पण से download student record list को A1 SELECT कॉपी करके इस sheet में A1 में PASTE करनी है 1
B7: 2 | C7: STUDENT RECORD BY SD
C8: यह sheet लॉक है
B9: 3 | C9: SCHOLARSHIP फॉर्म
C10: इस sheet में सर्वप्रथम आपको पूर्व या उत्तर मैट्रिक एंव प्रवेशांक का चयन करके फार्म में छात्रवृत्ति का चुनाव करके विद्यार्थी के आधार जनआधार इत्यादि लिखने है i
B11: 4 | C11: INCOME CERTIFICATE
C12: इस sheet में अभिभावक की सामान्य जानकारी लिखकर print ले सकते है I
B13: 5 | C13: BLANK SCHOLARSHIP फॉर्म
C14: यह रिक्त छात्रवृत्ति फार्म है आप इसका print ले सकते है और मैन्युअल भर सकते हैi
B15: 6 | C15: blank INCOME CERTIFICATE
C16: यह आय प्रमाण पत्र भी आप print लेकर मैन्युअल भर सकते है I
C17: FONT USE - Times New Roman
B18: आपकी सुरक्षा ही मेरी उर्जा है अतः कोविड नियमो का पालन करे | F18: आप मेरा youtube चैनल भी देख और SUBSCRIBE और LIKE कर सकते है | L18: https://youtu.be/3yHQVnwH1W0
D20: दोस्तों यह PROGRAMME आपको कैसा लगा मेरी MAIL ID पर जरुर बताये
D21: आपका विजय कुमार प्रजापत अध्यापक
D22: राजकीय उच्च माध्यमिक विद्यालय आलनियावास तह. रियां बड़ी जिला- नागौर
G23: 9828120697 | I23: कृपया इस नम्बर पर केवल MASSAGE करे CALL नहीं करे
D24: मेरे प्रेरणास्रोत --- अश्विनीकुमारजी,किशन जी सेन,विष्णुजी शर्मा,मोहम्मद शरीफ जी,राजेश जी सामरिया,हीरालाल जी जाट ,परमानन्द जी और आप
D25: https://rajteachers.net/vijay-kumar-prajapat | G25: http://www.rajsevak.com/VIJAY-KUMAR-PRAJAPAT-SOFTWARE/ | J25: http://www.ashwinisharma.com/p/vijay-kumar-excel-sheet-expert.html | N25: http://www.shalasugam.com/vijay-kumar-excel-expert/
D28: आपका स्नेह यूहीं मिलता रहे
B30: KEEP YOUR FACE ALWAYS IN SUNSHINE | H30: ANY SUGGESTION AND QUERY PLS CONTACT ME | K30: MAIL ID- gupskalani@gmail.com

Sheet shaladarppn
A1: Class | B1: Section | C1: SRNO | D1: DOA | E1: Name | F1: Late Status | G1: FatherName | H1: MotherName | I1: Gender | J1: Dob | K1: ClassRollNo | L1: ExamRollNumber | M1: School Total Working Days | N1: Student Total Attendence | O1: Category | P1: Religion | Q1: Previous Year Marks | R1: Name Of School | S1: School UDise Code | T1: Aadhar No of Student | U1: Bhamashash Card | V1: Mobile No Student(Father/Mother/Guardian | W1: Student Permanent Address | X1: Annual Parental Income | Y1: CWSN Status | Z1: BPL Status | AA1: Minority Status | AB1: Age On Present(In Years) | AC1: Co-Curricular Activity | AD1: Distance From School
A2: 1 | B2: A | C2: 4914 | E2: Aarju | G2: Suresh Kumar | H2: Seema Devi | I2: F | J2: 42526 | O2: OBC | R2: GOVT. SENIOR SECONDARY SCHOOL ALNIYAWAS (219445) | S2: 8140200308 | V2: 9636784929 | W2: SHYAMPURA ALNIYAWAS,RIYAN,AINIYAWAS,341487 | Y2: N | Z2: Y | AB2: 5 | AD2: 1
A3: 1 | B3: A | C3: 4913 | E3: Aarju | G3: Suresh Kumar | H3: Seema Devi | I3: F | J3: 42527 | O3: OBC | R3: GOVT. SENIOR SECONDARY SCHOOL ALNIYAWAS (219445) | S3: 8140200308 | V3: 9636784929 | W3: SHYAMPURA ALNIYAWAS,RIYAN,AINIYAWAS,341488 | Y3: N | Z3: Y | AB3: 7 | AD3: 1
A4: 1 | B4: A | C4: 4931 | E4: Aarju | G4: Suresh Kumar | H4: Seema Devi | I4: M | J4: 42528 | O4: OBC | R4: GOVT. SENIOR SECONDARY SCHOOL ALNIYAWAS (219445) | S4: 8140200308 | V4: 9636784929 | W4: SHYAMPURA ALNIYAWAS,RIYAN,AINIYAWAS,341489 | Y4: N | Z4: Y | AB4: 5 | AD4: 1
A5: 1 | B5: A | C5: 4917 | E5: Aarju | G5: Suresh Kumar | H5: Seema Devi | I5: M | J5: 42529 | O5: OBC | R5: GOVT. SENIOR SECONDARY SCHOOL ALNIYAWAS (219445) | S5: 8140200308 | V5: 9636784929 | W5: SHYAMPURA ALNIYAWAS,RIYAN,AINIYAWAS,341490 | Y5: N | Z5: Y | AB5: 5 | AD5: 1
A6: 1 | B6: A | C6: 4911 | E6: Aarju | G6: Suresh Kumar | H6: Seema Devi | I6: F | J6: 42530 | O6: OBC | R6: GOVT. SENIOR SECONDARY SCHOOL ALNIYAWAS (219445) | S6: 8140200308 | V6: 9636784929 | W6: SHYAMPURA ALNIYAWAS,RIYAN,AINIYAWAS,341491 | Y6: N | Z6: Y | AB6: 6 | AD6: 1
A7: 1 | B7: A | C7: 4916 | E7: Aarju | G7: Suresh Kumar | H7: Seema Devi | I7: M | J7: 42531 | O7: OBC | R7: GOVT. SENIOR SECONDARY SCHOOL ALNIYAWAS (219445) | S7: 8140200308 | V7: 9636784929 | W7: SHYAMPURA ALNIYAWAS,RIYAN,AINIYAWAS,341492 | Y7: N | Z7: Y | AB7: 6 | AD7: 1
A8: 1 | B8: A | C8: 4920 | E8: Aarju | G8: Suresh Kumar | H8: Seema Devi | I8: F | J8: 42532 | O8: OBC | R8: GOVT. SENIOR SECONDARY SCHOOL ALNIYAWAS (219445) | S8: 8140200308 | V8: 9636784929 | W8: SHYAMPURA ALNIYAWAS,RIYAN,AINIYAWAS,341493 | Y8: N | Z8: Y | AB8: 6 | AD8: 1
A9: 1 | B9: A | C9: 4915 | E9: Aarju | G9: Suresh Kumar | H9: Seema Devi | I9: F | J9: 42533 | O9: SBC | R9: GOVT. SENIOR SECONDARY SCHOOL ALNIYAWAS (219445) | S9: 8140200308 | V9: 9636784929 | W9: SHYAMPURA ALNIYAWAS,RIYAN,AINIYAWAS,341494 | Y9: N | Z9: Y | AB9: 5 | AD9: 1
A10: 1 | B10: A | C10: 4918 | E10: Aarju | G10: Suresh Kumar | H10: Seema Devi | I10: M | J10: 42534 | O10: OBC | R10: GOVT. SENIOR SECONDARY SCHOOL ALNIYAWAS (219445) | S10: 8140200308 | V10: 9636784929 | W10: SHYAMPURA ALNIYAWAS,RIYAN,AINIYAWAS,341495 | Y10: N | Z10: Y | AB10: 6 | AD10: 1
A11: 1 | B11: A | C11: 4921 | E11: Aarju | G11: Suresh Kumar | H11: Seema Devi | I11: M | J11: 42535 | O11: OBC | R11: GOVT. SENIOR SECONDARY SCHOOL ALNIYAWAS (219445) | S11: 8140200308 | V11: 9636784929 | W11: SHYAMPURA ALNIYAWAS,RIYAN,AINIYAWAS,341496 | Y11: N | Z11: Y | AB11: 7 | AD11: 1
A12: 1 | B12: A | C12: 4932 | E12: Aarju | G12: Suresh Kumar | H12: Seema Devi | I12: M | J12: 42536 | O12: OBC | R12: GOVT. SENIOR SECONDARY SCHOOL ALNIYAWAS (219445) | S12: 8140200308 | V12: 9636784929 | W12: SHYAMPURA ALNIYAWAS,RIYAN,AINIYAWAS,341497 | Y12: N | Z12: Y | AB12: 6 | AD12: 1
A13: 1 | B13: A | C13: 4910 | E13: Aarju | G13: Suresh Kumar | H13: Seema Devi | I13: M | J13: 42537 | O13: OBC | R13: GOVT. SENIOR SECONDARY SCHOOL ALNIYAWAS (219445) | S13: 8140200308 | V13: 9636784929 | W13: SHYAMPURA ALNIYAWAS,RIYAN,AINIYAWAS,341498 | Y13: N | Z13: Y | AB13: 7 | AD13: 1
... A19: 2 | B19: A | C19: 4860 | E19: Aarju | G19: Suresh Kumar | H19: Seema Devi | I19: M | J19: 42543 | O19: GEN | R19: GOVT. SENIOR SECONDARY SCHOOL ALNIYAWAS (219445) | S19: 8140200308 | V19: 9636784929 | W19: SHYAMPURA ALNIYAWAS,RIYAN,AINIYAWAS,341504 | Y19: N | Z19: Y | AB19: 7 | AD19: 1
A20: 2 | B20: A | C20: 4791 | D20: 44016 | E20: Aarju | G20: Suresh Kumar | H20: Seema Devi | I20: F | J20: 42544 | O20: SC | P20: Hindu | R20: GOVT. SENIOR SECONDARY SCHOOL ALNIYAWAS (219445) | S20: 8140200308 | V20: 9636784929 | W20: SHYAMPURA ALNIYAWAS,RIYAN,AINIYAWAS,341505 | X20: 25000 | Y20: N | Z20: N | AA20: No | AB20: 6 | AC20: None | AD20: 1
A21: 2 | B21: A | C21: 4864 | E21: Aarju | G21: Suresh Kumar | H21: Seema Devi | I21: M | J21: 42545 | O21: OBC | R21: GOVT. SENIOR SECONDARY SCHOOL ALNIYAWAS (219445) | S21: 8140200308 | V21: 9636784929 | W21: SHYAMPURA ALNIYAWAS,RIYAN,AINIYAWAS,341506 | Y21: N | Z21: Y | AB21: 7 | AD21: 0
A22: 2 | B22: A | C22: 4865 | E22: Aarju | G22: Suresh Kumar | H22: Seema Devi | I22: F | J22: 42546 | O22: OBC | R22: GOVT. SENIOR SECONDARY SCHOOL ALNIYAWAS (219445) | S22: 8140200308 | V22: 9636784929 | W22: SHYAMPURA ALNIYAWAS,RIYAN,AINIYAWAS,341507 | Y22: N | Z22: Y | AB22: 6 | AD22: 0
A23: 2 | B23: A | C23: 4795 | E23: Aarju | G23: Suresh Kumar | H23: Seema Devi | I23: F | J23: 42547 | O23: SBC | R23: GOVT. SENIOR SECONDARY SCHOOL ALNIYAWAS (219445) | S23: 8140200308 | V23: 9636784929 | W23: SHYAMPURA ALNIYAWAS,RIYAN,AINIYAWAS,341508 | Y23: N | Z23: Y | AB23: 9 | AD23: 1
A24: 2 | B24: A | C24: 4793 | D24: 44026 | E24: Aarju | G24: Suresh Kumar | H24: Seema Devi | I24: M | J24: 42548 | O24: OBC | P24: Muslim | R24: GOVT. SENIOR SECONDARY SCHOOL ALNIYAWAS (219445) | S24: 8140200308 | V24: 9636784929 | W24: SHYAMPURA ALNIYAWAS,RIYAN,AINIYAWAS,341509 | X24: 40000 | Y24: N | Z24: N | AA24: Yes | AB24: 8 | AC24: None | AD24: 0
A25: 2 | B25: A | C25: 4805 | E25: Aarju | G25: Suresh Kumar | H25: Seema Devi | I25: M | J25: 42549 | O25: OBC | R25: GOVT. SENIOR SECONDARY SCHOOL ALNIYAWAS (219445) | S25: 8140200308 | V25: 9636784929 | W25: SHYAMPURA ALNIYAWAS,RIYAN,AINIYAWAS,341510 | Y25: N | Z25: Y | AB25: 7 | AD25: 0
A26: 2 | B26: A | C26: 4790 | D26: 44016 | E26: Aarju | G26: Suresh Kumar | H26: Seema Devi | I26: M | J26: 42550 | O26: SC | P26: Hindu | R26: GOVT. SENIOR SECONDARY SCHOOL ALNIYAWAS (219445) | S26: 8140200308 | V26: 9636784929 | W26: SHYAMPURA ALNIYAWAS,RIYAN,AINIYAWAS,341511 | X26: 25000 | Y26: N | Z26: N | AA26: No | AB26: 6 | AC26: None | AD26: 1
A27: 2 | B27: A | C27: 4788 | D27: 44016 | E27: Aarju | G27: Suresh Kumar | H27: Seema Devi | I27: M | J27: 42551 | O27: SC | P27: Hindu | R27: GOVT. SENIOR SECONDARY SCHOOL ALNIYAWAS (219445) | S27: 8140200308 | T27: XXXX8724 | V27: 9636784929 | W27: SHYAMPURA ALNIYAWAS,RIYAN,AINIYAWAS,341512 | X27: 25000 | Y27: N | Z27: N | AA27: No | AB27: 7 | AC27: None | AD27: 1
A28: 2 | B28: A | C28: 4789 | D28: 44016 | E28: Aarju | G28: Suresh Kumar | H28: Seema Devi | I28: M | J28: 42552 | O28: OBC | P28: Hindu | R28: GOVT. SENIOR SECONDARY SCHOOL ALNIYAWAS (219445) | S28: 8140200308 | V28: 9636784929 | W28: SHYAMPURA ALNIYAWAS,RIYAN,AINIYAWAS,341513 | X28: 30000 | Y28: N | Z28: N | AA28: No | AB28: 6 | AC28: None | AD28: 1
A29: 2 | B29: A | C29: 4859 | E29: Aarju | G29: Suresh Kumar | H29: Seema Devi | I29: F | J29: 42553 | O29: OBC | R29: GOVT. SENIOR SECONDARY SCHOOL ALNIYAWAS (219445) | S29: 8140200308 | V29: 9636784929 | W29: SHYAMPURA ALNIYAWAS,RIYAN,AINIYAWAS,341514 | Y29: N | Z29: Y | AB29: 6 | AD29: 1
A30: 2 | B30: A | C30: 4794 | E30: Aarju | G30: Suresh Kumar | H30: Seema Devi | I30: M | J30: 42554 | O30: GEN | R30: GOVT. SENIOR SECONDARY SCHOOL ALNIYAWAS (219445) | S30: 8140200308 | V30: 9636784929 | W30: SHYAMPURA ALNIYAWAS,RIYAN,AINIYAWAS,341515 | Y30: N | Z30: Y | AB30: 7 | AD30: 1
A31: 2 | B31: A | C31: 4874 | E31: Aarju | G31: Suresh Kumar | H31: Seema Devi | I31: F | J31: 42555 | O31: OBC | R31: GOVT. SENIOR SECONDARY SCHOOL ALNIYAWAS (219445) | S31: 8140200308 | V31: 9636784929 | W31: SHYAMPURA ALNIYAWAS,RIYAN,AINIYAWAS,341516 | Y31: N | Z31: Y | AB31: 6 | AD31: 0
A32: 2 | B32: A | C32: 4862 | E32: Aarju | G32: Suresh Kumar | H32: Seema Devi | I32: F | J32: 42556 | O32: OBC | R32: GOVT. SENIOR SECONDARY SCHOOL ALNIYAWAS (219445) | S32: 8140200308 | V32: 9636784929 | W32: SHYAMPURA ALNIYAWAS,RIYAN,AINIYAWAS,341517 | Y32: N | Z32: Y | AB32: 6 | AD32: 0
A33: 2 | B33: A | C33: 4867 | E33: Aarju | G33: Suresh Kumar | H33: Seema Devi | I33: F | J33: 42557 | O33: OBC | R33: GOVT. SENIOR SECONDARY SCHOOL ALNIYAWAS (219445) | S33: 8140200308 | V33: 9636784929 | W33: SHYAMPURA ALNIYAWAS,RIYAN,AINIYAWAS,341518 | Y33: N | Z33: Y | AB33: 6 | AD33: 0
A34: 2 | B34: A | C34: 4869 | E34: Aarju | G34: Suresh Kumar | H34: Seema Devi | I34: F | J34: 42558 | O34: OBC | R34: GOVT. SENIOR SECONDARY SCHOOL ALNIYAWAS (219445) | S34: 8140200308 | V34: 9636784929 | W34: SHYAMPURA ALNIYAWAS,RIYAN,AINIYAWAS,341519 | Y34: N | Z34: Y | AB34: 7 | AD34: 0
A35: 2 | B35: A | C35: 4868 | E35: Aarju | G35: Suresh Kumar | H35: Seema Devi | I35: F | J35: 42559 | O35: OBC | R35: GOVT. SENIOR SECONDARY SCHOOL ALNIYAWAS (219445) | S35: 8140200308 | V35: 9636784929 | W35: SHYAMPURA ALNIYAWAS,RIYAN,AINIYAWAS,341520 | Y35: N | Z35: Y | AB35: 9 | AD35: 0
A36: 2 | B36: A | C36: 4803 | E36: Aarju | G36: Suresh Kumar | H36: Seema Devi | I36: M | J36: 42560 | O36: OBC | R36: GOVT. SENIOR SECONDARY SCHOOL ALNIYAWAS (219445) | S36: 8140200308 | V36: 9636784929 | W36: SHYAMPURA ALNIYAWAS,RIYAN,AINIYAWAS,341521 | Y36: N | Z36: Y | AB36: 7 | AD36: 1
A37: 2 | B37: A | C37: 4807 | E37: Aarju | G37: Suresh Kumar | H37: Seema Devi | I37: F | J37: 42561 | O37: OBC | R37: GOVT. SENIOR SECONDARY SCHOOL ALNIYAWAS (219445) | S37: 8140200308 | V37: 9636784929 | W37: SHYAMPURA ALNIYAWAS,RIYAN,AINIYAWAS,341522 | Y37: N | Z37: Y | AB37: 8 | AD37: 1
A38: 2 | B38: A | C38: 4870 | E38: Aarju | G38: Suresh Kumar | H38: Seema Devi | I38: F | J38: 42562 | O38: OBC | R38: GOVT. SENIOR SECONDARY SCHOOL ALNIYAWAS (219445) | S38: 8140200308 | V38: 9636784929 | W38: SHYAMPURA ALNIYAWAS,RIYAN,AINIYAWAS,341523 | Y38: N | Z38: Y | AB38: 6 | AD38: 0
A39: 2 | B39: A | C39: 4804 | E39: Aarju | G39: Suresh Kumar | H39: Seema Devi | I39: F | J39: 42563 | O39: OBC | R39: GOVT. SENIOR SECONDARY SCHOOL ALNIYAWAS (219445) | S39: 8140200308 | V39: 9636784929 | W39: SHYAMPURA ALNIYAWAS,RIYAN,AINIYAWAS,341524 | Y39: N | Z39: Y | AB39: 6 | AD39: 1
A40: 2 | B40: A | C40: 4806 | E40: Aarju | G40: Suresh Kumar | H40: Seema Devi | I40: M | J40: 42564 | O40: OBC | R40: GOVT. SENIOR SECONDARY SCHOOL ALNIYAWAS (219445) | S40: 8140200308 | V40: 9636784929 | W40: SHYAMPURA ALNIYAWAS,RIYAN,AINIYAWAS,341525 | Y40: N | Z40: Y | AB40: 7 | AD40: 0
... A42: 2 | B42: A | C42: 4861 | E42: Aarju | G42: Suresh Kumar | H42: Seema Devi | I42: F | J42: 42566 | O42: OBC | R42: GOVT. SENIOR SECONDARY SCHOOL ALNIYAWAS (219445) | S42: 8140200308 | V42: 9636784929 | W42: SHYAMPURA ALNIYAWAS,RIYAN,AINIYAWAS,341527 | Y42: N | Z42: Y | AB42: 6 | AD42: 1
A43: 3 | B43: A | C43: 4718 | D43: 43658 | E43: Aarju | G43: Suresh Kumar | H43: Seema Devi | I43: F | J43: 42567 | O43: OBC | P43: Muslim | R43: GOVT. SENIOR SECONDARY SCHOOL ALNIYAWAS (219445) | S43: 8140200308 | T43: XXXX0872 | U43: yswuiqb | V43: 9636784929 | W43: SHYAMPURA ALNIYAWAS,RIYAN,AINIYAWAS,341528 | X43: 50000 | Y43: N | Z43: N | AA43: Yes | AB43: 7 | AC43: None | AD43: 0
A44: 3 | B44: A | C44: 4729 | D44: 43659 | E44: Aarju | G44: Suresh Kumar | H44: Seema Devi | I44: M | J44: 42568 | O44: OBC | P44: Muslim | R44: GOVT. SENIOR SECONDARY SCHOOL ALNIYAWAS (219445) | S44: 8140200308 | T44: XXXX1543 | U44: vxozzoh | V44: 9636784929 | W44: SHYAMPURA ALNIYAWAS,RIYAN,AINIYAWAS,341529 | X44: 50000 | Y44: N | Z44: N | AA44: Yes | AB44: 7 | AC44: None | AD44: 0
A45: 3 | B45: A | C45: 4630 | D45: 43648 | E45: Aarju | G45: Suresh Kumar | H45: Seema Devi | I45: F | J45: 42569 | O45: OBC | P45: Muslim | R45: GOVT. SENIOR SECONDARY SCHOOL ALNIYAWAS (219445) | S45: 8140200308 | T45: XXXX2071 | V45: 9636784929 | W45: SHYAMPURA ALNIYAWAS,RIYAN,AINIYAWAS,341530 | X45: 60000 | Y45: N | Z45: N | AA45: Yes | AB45: 7 | AC45: None | AD45: 0
A46: 3 | B46: A | C46: 4676 | D46: 43654 | E46: Aarju | G46: Suresh Kumar | H46: Seema Devi | I46: F | J46: 42570 | O46: OBC | P46: Muslim | R46: GOVT. SENIOR SECONDARY SCHOOL ALNIYAWAS (219445) | S46: 8140200308 | V46: 9636784929 | W46: SHYAMPURA ALNIYAWAS,RIYAN,AINIYAWAS,341531 | X46: 60000 | Y46: N | Z46: N | AA46: Yes | AB46: 7 | AC46: None | AD46: 0
A47: 3 | B47: A | C47: 4710 | D47: 43657 | E47: Aarju | G47: Suresh Kumar | H47: Seema Devi | I47: F | J47: 42571 | O47: SC | P47: Hindu | R47: GOVT. SENIOR SECONDARY SCHOOL ALNIYAWAS (219445) | S47: 8140200308 | V47: 9636784929 | W47: SHYAMPURA ALNIYAWAS,RIYAN,AINIYAWAS,341532 | X47: 50000 | Y47: N | Z47: N | AA47: No | AB47: 8 | AC47: None | AD47: 1
A48: 3 | B48: A | C48: 4628 | D48: 43593 | E48: Aarju | G48: Suresh Kumar | H48: Seema Devi | I48: F | J48: 42572 | O48: OBC | P48: Hindu | R48: GOVT. SENIOR SECONDARY SCHOOL ALNIYAWAS (219445) | S48: 8140200308 | U48: vxkbntn | V48: 9636784929 | W48: SHYAMPURA ALNIYAWAS,RIYAN,AINIYAWAS,341533 | X48: 50000 | Y48: N | Z48: N | AA48: No | AB48: 7 | AC48: None | AD48: 0
A49: 3 | B49: A | C49: 4728 | D49: 43659 | E49: Aarju | G49: Suresh Kumar | H49: Seema Devi | I49: M | J49: 42573 | O49: OBC | P49: Hindu | R49: GOVT. SENIOR SECONDARY SCHOOL ALNIYAWAS (219445) | S49: 8140200308 | T49: XXXX1233 | U49: ymuicow | V49: 9636784929 | W49: SHYAMPURA ALNIYAWAS,RIYAN,AINIYAWAS,341534 | X49: 50000 | Y49: N | Z49: N | AA49: No | AB49: 7 | AC49: None | AD49: 0
A50: 3 | B50: A | C50: 4695 | D50: 43656 | E50: Aarju | G50: Suresh Kumar | H50: Seema Devi | I50: M | J50: 42574 | O50: OBC | P50: Muslim | R50: GOVT. SENIOR SECONDARY SCHOOL ALNIYAWAS (219445) | S50: 8140200308 | V50: 9636784929 | W50: SHYAMPURA ALNIYAWAS,RIYAN,AINIYAWAS,341535 | X50: 60000 | Y50: N | Z50: N | AA50: Yes | AB50: 7 | AC50: None | AD50: 0
A51: 3 | B51: A | C51: 4627 | D51: 43593 | E51: Aarju | G51: Suresh Kumar | H51: Seema Devi | I51: F | J51: 42575 | O51: OBC | P51: Hindu | R51: GOVT. SENIOR SECONDARY SCHOOL ALNIYAWAS (219445) | S51: 8140200308 | V51: 9636784929 | W51: SHYAMPURA ALNIYAWAS,RIYAN,AINIYAWAS,341536 | X51: 60000 | Y51: N | Z51: N | AA51: No | AB51: 7 | AC51: None | AD51: 0
A52: 3 | B52: A | C52: 4711 | D52: 43657 | E52: Aarju | G52: Suresh Kumar | H52: Seema Devi | I52: F | J52: 42576 | O52: SC | P52: Hindu | R52: GOVT. SENIOR SECONDARY SCHOOL ALNIYAWAS (219445) | S52: 8140200308 | V52: 9636784929 | W52: SHYAMPURA ALNIYAWAS,RIYAN,AINIYAWAS,341537 | X52: 200000 | Y52: N | Z52: N | AA52: No | AB52: 9 | AC52: None | AD52: 1
A53: 3 | B53: A | C53: 4787 | E53: Aarju | G53: Suresh Kumar | H53: Seema Devi | I53: F | J53: 42577 | O53: SC | R53: GOVT. SENIOR SECONDARY SCHOOL ALNIYAWAS (219445) | S53: 8140200308 | V53: 9636784929 | W53: SHYAMPURA ALNIYAWAS,RIYAN,AINIYAWAS,341538 | Y53: N | Z53: Y | AB53: 9 | AD53: 1
A54: 3 | B54: A | C54: 4948 | E54: Aarju | G54: Suresh Kumar | H54: Seema Devi | I54: M | J54: 42578 | O54: OBC | R54: GOVT. SENIOR SECONDARY SCHOOL ALNIYAWAS (219445) | S54: 8140200308 | V54: 9636784929 | W54: SHYAMPURA ALNIYAWAS,RIYAN,AINIYAWAS,341539 | Y54: N | Z54: Y | AB54: 12 | AD54: 1
A55: 3 | B55: A | C55: 4642 | D55: 43650 | E55: Aarju | G55: Suresh Kumar | H55: Seema Devi | I55: F | J55: 42579 | O55: OBC | P55: Muslim | R55: GOVT. SENIOR SECONDARY SCHOOL ALNIYAWAS (219445) | S55: 8140200308 | U55: vvxsxhr | V55: 9636784929 | W55: SHYAMPURA ALNIYAWAS,RIYAN,AINIYAWAS,341540 | X55: 60000 | Y55: N | Z55: N | AA55: Yes | AB55: 6 | AC55: None | AD55: 0
A56: 3 | B56: A | C56: 4738 | D56: 43661 | E56: Aarju | G56: Suresh Kumar | H56: Seema Devi | I56: F | J56: 42580 | O56: SC | P56: Hindu | R56: GOVT. SENIOR SECONDARY SCHOOL ALNIYAWAS (219445) | S56: 8140200308 | U56: yobayib | V56: 9636784929 | W56: SHYAMPURA ALNIYAWAS,RIYAN,AINIYAWAS,341541 | X56: 50000 | Y56: N | Z56: N | AA56: No | AB56: 8 | AC56: None | AD56: 0
A57: 3 | B57: A | C57: 4690 | D57: 43655 | E57: Aarju | G57: Suresh Kumar | H57: Seema Devi | I57: M | J57: 42581 | O57: SC | P57: Hindu | R57: GOVT. SENIOR SECONDARY SCHOOL ALNIYAWAS (219445) | S57: 8140200308 | V57: 9636784929 | W57: SHYAMPURA ALNIYAWAS,RIYAN,AINIYAWAS,341542 | X57: 60000 | Y57: N | Z57: N | AA57: No | AB57: 7 | AC57: None | AD57: 0
A58: 3 | B58: A | C58: 4957 | E58: Aarju | G58: Suresh Kumar | H58: Seema Devi | I58: M | J58: 42582 | O58: OBC | R58: GOVT. SENIOR SECONDARY SCHOOL ALNIYAWAS (219445) | S58: 8140200308 | V58: 9636784929 | W58: SHYAMPURA ALNIYAWAS,RIYAN,AINIYAWAS,341543 | Y58: N | Z58: Y | AB58: 7 | AD58: 1
A59: 3 | B59: A | C59: 4873 | E59: Aarju | G59: Suresh Kumar | H59: Seema Devi | I59: M | J59: 42583 | O59: OBC | R59: GOVT. SENIOR SECONDARY SCHOOL ALNIYAWAS (219445) | S59: 8140200308 | V59: 9636784929 | W59: SHYAMPURA ALNIYAWAS,RIYAN,AINIYAWAS,341544 | Y59: N | Z59: Y | AB59: 7 | AD59: 1
A60: 3 | B60: A | C60: 4626 | D60: 43593 | E60: Aarju | G60: Suresh Kumar | H60: Seema Devi | I60: F | J60: 42584 | O60: OBC | P60: Muslim | R60: GOVT. SENIOR SECONDARY SCHOOL ALNIYAWAS (219445) | S60: 8140200308 | T60: XXXX4865 | V60: 9636784929 | W60: SHYAMPURA ALNIYAWAS,RIYAN,AINIYAWAS,341545 | X60: 60000 | Y60: N | Z60: N | AA60: Yes | AB60: 7 | AC60: None | AD60: 0
A61: 3 | B61: A | C61: 4698 | D61: 43656 | E61: Aarju | G61: Suresh Kumar | H61: Seema Devi | I61: M | J61: 42585 | O61: OBC | P61: Muslim | R61: GOVT. SENIOR SECONDARY SCHOOL ALNIYAWAS (219445) | S61: 8140200308 | V61: 9636784929 | W61: SHYAMPURA ALNIYAWAS,RIYAN,AINIYAWAS,341546 | X61: 50000 | Y61: N | Z61: N | AA61: Yes | AB61: 9 | AC61: None | AD61: 1
A62: 3 | B62: A | C62: 4633 | D62: 43649 | E62: Aarju | G62: Suresh Kumar | H62: Seema Devi | I62: F | J62: 42586 | O62: GEN | P62: Muslim | R62: GOVT. SENIOR SECONDARY SCHOOL ALNIYAWAS (219445) | S62: 8140200308 | T62: XXXX0826 | U62: tmsuucc | V62: 9636784929 | W62: SHYAMPURA ALNIYAWAS,RIYAN,AINIYAWAS,341547 | X62: 60000 | Y62: N | Z62: N | AA62: Yes | AB62: 9 | AC62: None | AD62: 0
A63: 3 | B63: A | C63: 4780 | D63: 43680 | E63: Aarju | G63: Suresh Kumar | H63: Seema Devi | I63: F | J63: 42587 | O63: OBC | P63: Muslim | R63: GOVT. SENIOR SECONDARY SCHOOL ALNIYAWAS (219445) | S63: 8140200308 | U63: ysqcywo | V63: 9636784929 | W63: SHYAMPURA ALNIYAWAS,RIYAN,AINIYAWAS,341548 | X63: 60000 | Y63: N | Z63: N | AA63: Yes | AB63: 7 | AC63: None | AD63: 0
A64: 3 | B64: A | C64: 4949 | E64: Aarju | G64: Suresh Kumar | H64: Seema Devi | I64: M | J64: 42588 | O64: OBC | R64: GOVT. SENIOR SECONDARY SCHOOL ALNIYAWAS (219445) | S64: 8140200308 | V64: 9636784929 | W64: SHYAMPURA ALNIYAWAS,RIYAN,AINIYAWAS,341549 | Y64: N | Z64: Y | AB64: 10 | AD64: 1
A65: 4 | B65: A | C65: 4522 | D65: 43288 | E65: Aarju | G65: Suresh Kumar | H65: Seema Devi | I65: F | J65: 42589 | O65: OBC | P65: Muslim | R65: GOVT. SENIOR SECONDARY SCHOOL ALNIYAWAS (219445) | S65: 8140200308 | T65: XXXX8462 | U65: VXKBNTN | V65: 9636784929 | W65: SHYAMPURA ALNIYAWAS,RIYAN,AINIYAWAS,341550 | X65: 40000 | Y65: N | Z65: N | AA65: Yes | AB65: 9 | AC65: None | AD65: 1
A66: 4 | B66: A | C66: 4582 | D66: 43299 | E66: Aarju | G66: Suresh Kumar | H66: Seema Devi | I66: F | J66: 42590 | O66: OBC | P66: Muslim | R66: GOVT. SENIOR SECONDARY SCHOOL ALNIYAWAS (219445) | S66: 8140200308 | V66: 9636784929 | W66: SHYAMPURA ALNIYAWAS,RIYAN,AINIYAWAS,341551 | X66: 40000 | Y66: N | Z66: N | AA66: Yes | AB66: 9 | AC66: None | AD66: 0
A67: 4 | B67: A | C67: 4620 | D67: 43367 | E67: Aarju | G67: Suresh Kumar | H67: Seema Devi | I67: M | J67: 42591 | O67: OBC | P67: Muslim | R67: GOVT. SENIOR SECONDARY SCHOOL ALNIYAWAS (219445) | S67: 8140200308 | T67: XXXX0705 | U67: YQQGUEG | V67: 9636784929 | W67: SHYAMPURA ALNIYAWAS,RIYAN,AINIYAWAS,341552 | X67: 40000 | Y67: N | Z67: N | AA67: Yes | AB67: 9 | AC67: None | AD67: 0
A68: 4 | B68: A | C68: 4925 | E68: Aarju | G68: Suresh Kumar | H68: Seema Devi | I68: M | J68: 42592 | O68: SC | R68: GOVT. SENIOR SECONDARY SCHOOL ALNIYAWAS (219445) | S68: 8140200308 | V68: 9636784929 | W68: SHYAMPURA ALNIYAWAS,RIYAN,AINIYAWAS,341553 | Y68: N | Z68: Y | AB68: 9 | AD68: 1
A69: 4 | B69: A | C69: 4581 | D69: 43299 | E69: Aarju | G69: Suresh Kumar | H69: Seema Devi | I69: M | J69: 42593 | O69: OBC | P69: Hindu | R69: GOVT. SENIOR SECONDARY SCHOOL ALNIYAWAS (219445) | S69: 8140200308 | T69: XXXX0449 | U69: VPWJVGR | V69: 9636784929 | W69: SHYAMPURA ALNIYAWAS,RIYAN,AINIYAWAS,341554 | X69: 36000 | Y69: N | Z69: N | AA69: No | AB69: 9 | AC69: None | AD69: 1
A70: 4 | B70: A | C70: 4855 | E70: Aarju | G70: Suresh Kumar | H70: Seema Devi | I70: F | J70: 42594 | O70: SBC | R70: GOVT. SENIOR SECONDARY SCHOOL ALNIYAWAS (219445) | S70: 8140200308 | V70: 9636784929 | W70: SHYAMPURA ALNIYAWAS,RIYAN,AINIYAWAS,341555 | Y70: N | Z70: Y | AB70: 9 | AD70: 1
A71: 4 | B71: A | C71: 4526 | D71: 43288 | E71: Aarju | G71: Suresh Kumar | H71: Seema Devi | I71: F | J71: 42595 | O71: OBC | P71: Muslim | R71: GOVT. SENIOR SECONDARY SCHOOL ALNIYAWAS (219445) | S71: 8140200308 | T71: XXXX8261 | V71: 9636784929 | W71: SHYAMPURA ALNIYAWAS,RIYAN,AINIYAWAS,341556 | X71: 40000 | Y71: N | Z71: N | AA71: Yes | AB71: 9 | AC71: None | AD71: 0
A72: 4 | B72: A | C72: 4610 | D72: 43314 | E72: Aarju | G72: Suresh Kumar | H72: Seema Devi | I72: F | J72: 42596 | O72: OBC | P72: Muslim | R72: GOVT. SENIOR SECONDARY SCHOOL ALNIYAWAS (219445) | S72: 8140200308 | T72: XXXX7614 | V72: 9636784929 | W72: SHYAMPURA ALNIYAWAS,RIYAN,AINIYAWAS,341557 | X72: 40000 | Y72: N | Z72: N | AA72: Yes | AB72: 8 | AC72: None | AD72: 0
A73: 4 | B73: A | C73: 4591 | D73: 43302 | E73: Aarju | G73: Suresh Kumar | H73: Seema Devi | I73: F | J73: 42597 | O73: OBC | P73: Muslim | R73: GOVT. SENIOR SECONDARY SCHOOL ALNIYAWAS (219445) | S73: 8140200308 | V73: 9636784929 | W73: SHYAMPURA ALNIYAWAS,RIYAN,AINIYAWAS,341558 | X73: 40000 | Y73: N | Z73: N | AA73: Yes | AB73: 8 | AC73: None | AD73: 0
A74: 4 | B74: A | C74: 4520 | D74: 43288 | E74: Aarju | G74: Suresh Kumar | H74: Seema Devi | I74: F | J74: 42598 | O74: OBC | P74: Muslim | R74: GOVT. SENIOR SECONDARY SCHOOL ALNIYAWAS (219445) | S74: 8140200308 | T74: XXXX9420 | U74: VONSWJT | V74: 9636784929 | W74: SHYAMPURA ALNIYAWAS,RIYAN,AINIYAWAS,341559 | X74: 40000 | Y74: N | Z74: N | AA74: Yes | AB74: 8 | AC74: None | AD74: 0
A75: 4 | B75: A | C75: 4480 | D75: 43285 | E75: Aarju | G75: Suresh Kumar | H75: Seema Devi | I75: F | J75: 42599 | O75: SC | P75: Hindu | R75: GOVT. SENIOR SECONDARY SCHOOL ALNIYAWAS (219445) | S75: 8140200308 | V75: 9636784929 | W75: SHYAMPURA ALNIYAWAS,RIYAN,AINIYAWAS,341560 | X75: 40000 | Y75: N | Z75: N | AA75: No | AB75: 9 | AC75: None | AD75: 1
A76: 4 | B76: A | C76: 4856 | E76: Aarju | G76: Suresh Kumar | H76: Seema Devi | I76: M | J76: 42600 | O76: GEN | R76: GOVT. SENIOR SECONDARY SCHOOL ALNIYAWAS (219445) | S76: 8140200308 | V76: 9636784929 | W76: SHYAMPURA ALNIYAWAS,RIYAN,AINIYAWAS,341561 | Y76: N | Z76: Y | AB76: 11 | AD76: 1
A77: 4 | B77: A | C77: 4950 | E77: Aarju | G77: Suresh Kumar | H77: Seema Devi | I77: M | J77: 42601 | O77: OBC | R77: GOVT. SENIOR SECONDARY SCHOOL ALNIYAWAS (219445) | S77: 8140200308 | V77: 9636784929 | W77: SHYAMPURA ALNIYAWAS,RIYAN,AINIYAWAS,341562 | Y77: N | Z77: Y | AB77: 9 | AD77: 1
A78: 4 | B78: A | C78: 4499 | D78: 43286 | E78: Aarju | G78: Suresh Kumar | H78: Seema Devi | I78: M | J78: 42602 | O78: OBC | P78: Muslim | R78: GOVT. SENIOR SECONDARY SCHOOL ALNIYAWAS (219445) | S78: 8140200308 | T78: XXXX0260 | V78: 9636784929 | W78: SHYAMPURA ALNIYAWAS,RIYAN,AINIYAWAS,341563 | X78: 40000 | Y78: N | Z78: N | AA78: Yes | AB78: 11 | AC78: None | AD78: 1
A79: 4 | B79: A | C79: 4622 | D79: 43367 | E79: Aarju | G79: Suresh Kumar | H79: Seema Devi | I79: M | J79: 42603 | O79: OBC | P79: Muslim | R79: GOVT. SENIOR SECONDARY SCHOOL ALNIYAWAS (219445) | S79: 8140200308 | T79: XXXX9555 | U79: yqqmbcw | V79: 9636784929 | W79: SHYAMPURA ALNIYAWAS,RIYAN,AINIYAWAS,341564 | X79: 36000 | Y79: N | Z79: N | AA79: Yes | AB79: 9 | AC79: None | AD79: 0
A80: 4 | B80: A | C80: 4537 | D80: 43291 | E80: Aarju | G80: Suresh Kumar | H80: Seema Devi | I80: M | J80: 42604 | O80: OBC | P80: Hindu | R80: GOVT. SENIOR SECONDARY SCHOOL ALNIYAWAS (219445) | S80: 8140200308 | T80: XXXX6106 | V80: 9636784929 | W80: SHYAMPURA ALNIYAWAS,RIYAN,AINIYAWAS,341565 | X80: 36000 | Y80: N | Z80: N | AA80: No | AB80: 8 | AC80: None | AD80: 1
A81: 4 | B81: A | C81: 4565 | D81: 43295 | E81: Aarju | G81: Suresh Kumar | H81: Seema Devi | I81: M | J81: 42605 | O81: SC | P81: Hindu | R81: GOVT. SENIOR SECONDARY SCHOOL ALNIYAWAS (219445) | S81: 8140200308 | V81: 9636784929 | W81: SHYAMPURA ALNIYAWAS,RIYAN,AINIYAWAS,341566 | X81: 36000 | Y81: N | Z81: N | AA81: No | AB81: 9 | AC81: None | AD81: 1
A82: 4 | B82: A | C82: 4474 | D82: 43285 | E82: Aarju | G82: Suresh Kumar | H82: Seema Devi | I82: F | J82: 42606 | O82: OBC | P82: Muslim | R82: GOVT. SENIOR SECONDARY SCHOOL ALNIYAWAS (219445) | S82: 8140200308 | T82: XXXX2246 | V82: 9636784929 | W82: SHYAMPURA ALNIYAWAS,RIYAN,AINIYAWAS,341567 | X82: 30000 | Y82: N | Z82: N | AA82: Yes | AB82: 8 | AC82: None | AD82: 0
A83: 4 | B83: A | C83: 4478 | D83: 43285 | E83: Aarju | G83: Suresh Kumar | H83: Seema Devi | I83: F | J83: 42607 | O83: OBC | P83: Hindu | R83: GOVT. SENIOR SECONDARY SCHOOL ALNIYAWAS (219445) | S83: 8140200308 | T83: XXXX0646 | U83: vxkbntn | V83: 9636784929 | W83: SHYAMPURA ALNIYAWAS,RIYAN,AINIYAWAS,341568 | X83: 50000 | Y83: N | Z83: N | AA83: No | AB83: 9 | AC83: None | AD83: 0
A84: 4 | B84: A | C84: 4727 | D84: 43659 | E84: Aarju | G84: Suresh Kumar | H84: Seema Devi | I84: F | J84: 42608 | O84: OBC | P84: Hindu | R84: GOVT. SENIOR SECONDARY SCHOOL ALNIYAWAS (219445) | S84: 8140200308 | V84: 9636784929 | W84: SHYAMPURA ALNIYAWAS,RIYAN,AINIYAWAS,341569 | X84: 60000 | Y84: N | Z84: N | AA84: No | AB84: 8 | AC84: None | AD84: 0
A85: 4 | B85: A | C85: 4601 | D85: 43307 | E85: Aarju | G85: Suresh Kumar | H85: Seema Devi | I85: F | J85: 42609 | O85: OBC | P85: Hindu | R85: GOVT. SENIOR SECONDARY SCHOOL ALNIYAWAS (219445) | S85: 8140200308 | V85: 9636784929 | W85: SHYAMPURA ALNIYAWAS,RIYAN,AINIYAWAS,341570 | X85: 36000 | Y85: N | Z85: N | AA85: No | AB85: 9 | AC85: None | AD85: 0
A86: 4 | B86: A | C86: 4521 | D86: 43288 | E86: Aarju | G86: Suresh Kumar | H86: Seema Devi | I86: M | J86: 42610 | O86: OBC | P86: Muslim | R86: GOVT. SENIOR SECONDARY SCHOOL ALNIYAWAS (219445) | S86: 8140200308 | T86: XXXX1195 | U86: YQGYEBS | V86: 9636784929 | W86: SHYAMPURA ALNIYAWAS,RIYAN,AINIYAWAS,341571 | X86: 40000 | Y86: N | Z86: N | AA86: Yes | AB86: 8 | AC86: None | AD86: 0
A87: 4 | B87: A | C87: 4473 | D87: 43285 | E87: Aarju | G87: Suresh Kumar | H87: Seema Devi | I87: M | J87: 42611 | O87: OBC | P87: Muslim | R87: GOVT. SENIOR SECONDARY SCHOOL ALNIYAWAS (219445) | S87: 8140200308 | U87: VWSPONV | V87: 9636784929 | W87: SHYAMPURA ALNIYAWAS,RIYAN,AINIYAWAS,341572 | X87: 40000 | Y87: N | Z87: N | AA87: Yes | AB87: 9 | AC87: None | AD87: 1
A88: 4 | B88: A | C88: 4475 | D88: 43285 | E88: Aarju | G88: Suresh Kumar | H88: Seema Devi | I88: F | J88: 42612 | O88: OBC | P88: Muslim | R88: GOVT. SENIOR SECONDARY SCHOOL ALNIYAWAS (219445) | S88: 8140200308 | V88: 9636784929 | W88: SHYAMPURA ALNIYAWAS,RIYAN,AINIYAWAS,341573 | X88: 40000 | Y88: N | Z88: N | AA88: Yes | AB88: 9 | AC88: None | AD88: 0
A89: 4 | B89: A | C89: 4611 | D89: 43319 | E89: Aarju | G89: Suresh Kumar | H89: Seema Devi | I89: F | J89: 42613 | O89: OBC | P89: Muslim | R89: GOVT. SENIOR SECONDARY SCHOOL ALNIYAWAS (219445) | S89: 8140200308 | T89: XXXX3442 | U89: YMKQMYO | V89: 9636784929 | W89: SHYAMPURA ALNIYAWAS,RIYAN,AINIYAWAS,341574 | X89: 40000 | Y89: N | Z89: N | AA89: Yes | AB89: 9 | AC89: None | AD89: 0
A90: 4 | B90: A | C90: 4694 | D90: 43656 | E90: Aarju | G90: Suresh Kumar | H90: Seema Devi | I90: M | J90: 42614 | O90: OBC | P90: Muslim | R90: GOVT. SENIOR SECONDARY SCHOOL ALNIYAWAS (219445) | S90: 8140200308 | V90: 9636784929 | W90: SHYAMPURA ALNIYAWAS,RIYAN,AINIYAWAS,341575 | X90: 60000 | Y90: N | Z90: N | AA90: Yes | AB90: 11 | AC90: None | AD90: 0
A91: 4 | B91: A | C91: 4527 | D91: 43288 | E91: Aarju | G91: Suresh Kumar | H91: Seema Devi | I91: M | J91: 42615 | O91: OBC | P91: Muslim | R91: GOVT. SENIOR SECONDARY SCHOOL ALNIYAWAS (219445) | S91: 8140200308 | U91: VPGZNOJ | V91: 9636784929 | W91: SHYAMPURA ALNIYAWAS,RIYAN,AINIYAWAS,341576 | X91: 40000 | Y91: N | Z91: N | AA91: Yes | AB91: 8 | AC91: None | AD91: 0
A92: 4 | B92: A | C92: 4538 | D92: 43291 | E92: Aarju | G92: Suresh Kumar | H92: Seema Devi | I92: M | J92: 42616 | O92: OBC | P92: Hindu | R92: GOVT. SENIOR SECONDARY SCHOOL ALNIYAWAS (219445) | S92: 8140200308 | T92: XXXX4404 | V92: 9636784929 | W92: SHYAMPURA ALNIYAWAS,RIYAN,AINIYAWAS,341577 | X92: 40000 | Y92: N | Z92: N | AA92: No | AB92: 8 | AC92: None | AD92: 2
A93: 4 | B93: A | C93: 4497 | D93: 43286 | E93: Aarju | G93: Suresh Kumar | H93: Seema Devi | I93: F | J93: 42617 | O93: SC | P93: Muslim | R93: GOVT. SENIOR SECONDARY SCHOOL ALNIYAWAS (219445) | S93: 8140200308 | T93: XXXX3195 | U93: VBGRPSH | V93: 9636784929 | W93: SHYAMPURA ALNIYAWAS,RIYAN,AINIYAWAS,341578 | X93: 36000 | Y93: N | Z93: N | AA93: Yes | AB93: 9 | AC93: None | AD93: 1
A94: 4 | B94: A | C94: 4700 | D94: 43656 | E94: Aarju | G94: Suresh Kumar | H94: Seema Devi | I94: M | J94: 42618 | O94: SC | P94: Hindu | R94: GOVT. SENIOR SECONDARY SCHOOL ALNIYAWAS (219445) | S94: 8140200308 | V94: 9636784929 | W94: SHYAMPURA ALNIYAWAS,RIYAN,AINIYAWAS,341579 | X94: 60000 | Y94: N | Z94: N | AA94: No | AB94: 9 | AC94: None | AD94: 0
A95: 4 | B95: A | C95: 4691 | D95: 43655 | E95: Aarju | G95: Suresh Kumar | H95: Seema Devi | I95: F | J95: 42619 | O95: SC | P95: Hindu | R95: GOVT. SENIOR SECONDARY SCHOOL ALNIYAWAS (219445) | S95: 8140200308 | V95: 9636784929 | W95: SHYAMPURA ALNIYAWAS,RIYAN,AINIYAWAS,341580 | X95: 60000 | Y95: N | Z95: N | AA95: No | AB95: 8 | AC95: None | AD95: 1
A96: 4 | B96: A | C96: 4621 | D96: 43367 | E96: Aarju | G96: Suresh Kumar | H96: Seema Devi | I96: F | J96: 42620 | O96: OBC | P96: Muslim | R96: GOVT. SENIOR SECONDARY SCHOOL ALNIYAWAS (219445) | S96: 8140200308 | U96: YIEUBQF | V96: 9636784929 | W96: SHYAMPURA ALNIYAWAS,RIYAN,AINIYAWAS,341581 | X96: 40000 | Y96: N | Z96: N | AA96: Yes | AB96: 9 | AC96: None | AD96: 0
A97: 4 | B97: A | C97: 4750 | D97: 43663 | E97: Aarju | G97: Suresh Kumar | H97: Seema Devi | I97: M | J97: 42621 | O97: SC | P97: Hindu | R97: GOVT. SENIOR SECONDARY SCHOOL ALNIYAWAS (219445) | S97: 8140200308 | T97: XXXX9540 | V97: 9636784929 | W97: SHYAMPURA ALNIYAWAS,RIYAN,AINIYAWAS,341582 | X97: 60000 | Y97: N | Z97: N | AA97: No | AB97: 10 | AC97: None | AD97: 0
A98: 4 | B98: A | C98: 4477 | D98: 43285 | E98: Aarju | G98: Suresh Kumar | H98: Seema Devi | I98: M | J98: 42622 | O98: SC | P98: Hindu | R98: GOVT. SENIOR SECONDARY SCHOOL ALNIYAWAS (219445) | S98: 8140200308 | T98: XXXX5557 | U98: YBCQKQK | V98: 9636784929 | W98: SHYAMPURA ALNIYAWAS,RIYAN,AINIYAWAS,341583 | X98: 40000 | Y98: N | Z98: N | AA98: No | AB98: 9 | AC98: None | AD98: 1
A99: 5 | B99: A | C99: 4367 | D99: 42926 | E99: Aarju | G99: Suresh Kumar | H99: Seema Devi | I99: F | J99: 42623 | O99: OBC | P99: Muslim | R99: GOVT. SENIOR SECONDARY SCHOOL ALNIYAWAS (219445) | S99: 8140200308 | T99: XXXX4827 | V99: 9636784929 | W99: SHYAMPURA ALNIYAWAS,RIYAN,AINIYAWAS,341584 | X99: 35000 | Y99: N | Z99: N | AA99: Yes | AB99: 9 | AC99: None | AD99: 1
A100: 5 | B100: A | C100: 4277 | D100: 42915 | E100: Aarju | G100: Suresh Kumar | H100: Seema Devi | I100: F | J100: 42624 | O100: OBC | R100: GOVT. SENIOR SECONDARY SCHOOL ALNIYAWAS (219445) | S100: 8140200308 | T100: XXXX3992 | V100: 9636784929 | W100: SHYAMPURA ALNIYAWAS,RIYAN,AINIYAWAS,341585 | X100: 48000 | Y100: N | Z100: N | AB100: 11 | AC100: None | AD100: 1
A101: 5 | B101: A | C101: 4370 | D101: 42926 | E101: Aarju | G101: Suresh Kumar | H101: Seema Devi | I101: M | J101: 42625 | O101: OBC | P101: Muslim | R101: GOVT. SENIOR SECONDARY SCHOOL ALNIYAWAS (219445) | S101: 8140200308 | T101: XXXX8044 | V101: 9636784929 | W101: SHYAMPURA ALNIYAWAS,RIYAN,AINIYAWAS,341586 | X101: 40000 | Y101: N | Z101: N | AA101: Yes | AB101: 10 | AC101: None | AD101: 1
A102: 5 | B102: A | C102: 4673 | D102: 43654 | E102: Aarju | G102: Suresh Kumar | H102: Seema Devi | I102: M | J102: 42626 | O102: OBC | P102: Muslim | R102: GOVT. SENIOR SECONDARY SCHOOL ALNIYAWAS (219445) | S102: 8140200308 | T102: XXXX7051 | U102: ymwegoc | V102: 9636784929 | W102: SHYAMPURA ALNIYAWAS,RIYAN,AINIYAWAS,341587 | X102: 60000 | Y102: Y | Z102: N | AA102: Yes | AB102: 11 | AC102: None | AD102: 0
A103: 5 | B103: A | C103: 4431 | D103: 42972 | E103: Aarju | G103: Suresh Kumar | H103: Seema Devi | I103: F | J103: 42627 | O103: OBC | P103: Muslim | R103: GOVT. SENIOR SECONDARY SCHOOL ALNIYAWAS (219445) | S103: 8140200308 | T103: XXXX1922 | V103: 9636784929 | W103: SHYAMPURA ALNIYAWAS,RIYAN,AINIYAWAS,341588 | X103: 30000 | Y103: N | Z103: N | AA103: Yes | AB103: 9 | AC103: None | AD103: 1
A104: 5 | B104: A | C104: 4433 | D104: 42972 | E104: Aarju | G104: Suresh Kumar | H104: Seema Devi | I104: M | J104: 42628 | O104: OBC | P104: Hindu | R104: GOVT. SENIOR SECONDARY SCHOOL ALNIYAWAS (219445) | S104: 8140200308 | V104: 9636784929 | W104: SHYAMPURA ALNIYAWAS,RIYAN,AINIYAWAS,341589 | X104: 50000 | Y104: N | Z104: N | AA104: No | AB104: 9 | AC104: None | AD104: 1
A105: 5 | B105: A | C105: 4337 | D105: 42920 | E105: Aarju | G105: Suresh Kumar | H105: Seema Devi | I105: F | J105: 42629 | O105: OBC | P105: Muslim | R105: GOVT. SENIOR SECONDARY SCHOOL ALNIYAWAS (219445) | S105: 8140200308 | T105: XXXX5784 | V105: 9636784929 | W105: SHYAMPURA ALNIYAWAS,RIYAN,AINIYAWAS,341590 | X105: 0 | Y105: N | Z105: N | AA105: Yes | AB105: 11 | AC105: None | AD105: 1
A106: 5 | B106: A | C106: 4438 | D106: 42983 | E106: Aarju | G106: Suresh Kumar | H106: Seema Devi | I106: M | J106: 42630 | O106: SC | P106: Hindu | R106: GOVT. SENIOR SECONDARY SCHOOL ALNIYAWAS (219445) | S106: 8140200308 | T106: XXXX1370 | V106: 9636784929 | W106: SHYAMPURA ALNIYAWAS,RIYAN,AINIYAWAS,341591 | X106: 0 | Y106: N | Z106: N | AA106: No | AB106: 14 | AC106: None | AD106: 1
...

Sheet sd data
B1: =info!F3 -> GOVT. SR. SEC.SCHOOL ALNIYAWAS,NAGAUR
D2: 1 | E2: 2 | F2: 3 | G2: 4 | H2: 5 | I2: 6 | J2: 7 | K2: 8 | L2: 9 | M2: 10 | N2: 11 | O2: 12 | P2: 13 | Q2: 14 | R2: 15 | S2: 16 | T2: 17 | U2: 18 | V2: 19 | W2: 20 | X2: 21 | Y2: 22 | Z2: 23 | AA2: 24 | AB2: 25 | AC2: 26 | AD2: 27 | AE2: 28 | AF2: 29 | AG2: 30
A3: sno | B3: Class | C3: Section | D3: SRNO | E3: DOA | F3: Name | G3: Late Status | H3: FatherName | I3: MotherName | J3: Gender | K3: Dob | L3: ClassRollNo | M3: ExamRollNumber | N3: School Total Working Days | O3: Student Total Attendence | P3: Category | Q3: Religion | R3: Previous Year Marks | S3: Name Of School | T3: School UDise Code | U3: Aadhar No of Student | V3: Bhamashash Card | W3: Mobile No Student(Father/Mother/Guardian | X3: Student Permanent Address | Y3: Annual Parental Income | Z3: CWSN Status | AA3: BPL Status | AB3: Minority Status | AC3: Age On Present(In Years) | AD3: Co-Curricular Activity | AE3: Distance From School | AF3: Column1 | AG3: Column2
A4: =IF(F4="","",ROWS($F$4:F4)) -> 1 | B4: =shaladarppn!A2 -> 1 | C4: =shaladarppn!B2 -> A | D4: =shaladarppn!C2 -> 4914 | E4: =shaladarppn!D2 -> 0 | F4: =shaladarppn!E2 -> Aarju | G4: =shaladarppn!F2 -> 0 | H4: =shaladarppn!G2 -> Suresh Kumar | I4: =shaladarppn!H2 -> Seema Devi | ... AE4: =shaladarppn!AD2 -> 1 | AF4: =Table1[[#This Row],[Class]] -> 1 | AG4: =Table1[[#This Row],[Section]] -> A
A5: =IF(F5="","",ROWS($F$4:F5)) -> 2 | B5: =shaladarppn!A3 -> 1 | C5: =shaladarppn!B3 -> A | D5: =shaladarppn!C3 -> 4913 | E5: =shaladarppn!D3 -> 0 | F5: =shaladarppn!E3 -> Aarju | G5: =shaladarppn!F3 -> 0 | H5: =shaladarppn!G3 -> Suresh Kumar | I5: =shaladarppn!H3 -> Seema Devi | ... AE5: =shaladarppn!AD3 -> 1 | AF5: =Table1[[#This Row],[Class]] -> 1 | AG5: =Table1[[#This Row],[Section]] -> A
A6: =IF(F6="","",ROWS($F$4:F6)) -> 3 | B6: =shaladarppn!A4 -> 1 | C6: =shaladarppn!B4 -> A | D6: =shaladarppn!C4 -> 4931 | E6: =shaladarppn!D4 -> 0 | F6: =shaladarppn!E4 -> Aarju | G6: =shaladarppn!F4 -> 0 | H6: =shaladarppn!G4 -> Suresh Kumar | I6: =shaladarppn!H4 -> Seema Devi | ... AE6: =shaladarppn!AD4 -> 1 | AF6: =Table1[[#This Row],[Class]] -> 1 | AG6: =Table1[[#This Row],[Section]] -> A
A7: =IF(F7="","",ROWS($F$4:F7)) -> 4 | B7: =shaladarppn!A5 -> 1 | C7: =shaladarppn!B5 -> A | D7: =shaladarppn!C5 -> 4917 | E7: =shaladarppn!D5 -> 0 | F7: =shaladarppn!E5 -> Aarju | G7: =shaladarppn!F5 -> 0 | H7: =shaladarppn!G5 -> Suresh Kumar | I7: =shaladarppn!H5 -> Seema Devi | ... AE7: =shaladarppn!AD5 -> 1 | AF7: =Table1[[#This Row],[Class]] -> 1 | AG7: =Table1[[#This Row],[Section]] -> A
A8: =IF(F8="","",ROWS($F$4:F8)) -> 5 | B8: =shaladarppn!A6 -> 1 | C8: =shaladarppn!B6 -> A | D8: =shaladarppn!C6 -> 4911 | E8: =shaladarppn!D6 -> 0 | F8: =shaladarppn!E6 -> Aarju | G8: =shaladarppn!F6 -> 0 | H8: =shaladarppn!G6 -> Suresh Kumar | I8: =shaladarppn!H6 -> Seema Devi | ... AE8: =shaladarppn!AD6 -> 1 | AF8: =Table1[[#This Row],[Class]] -> 1 | AG8: =Table1[[#This Row],[Section]] -> A
A9: =IF(F9="","",ROWS($F$4:F9)) -> 6 | B9: =shaladarppn!A7 -> 1 | C9: =shaladarppn!B7 -> A | D9: =shaladarppn!C7 -> 4916 | E9: =shaladarppn!D7 -> 0 | F9: =shaladarppn!E7 -> Aarju | G9: =shaladarppn!F7 -> 0 | H9: =shaladarppn!G7 -> Suresh Kumar | I9: =shaladarppn!H7 -> Seema Devi | ... AE9: =shaladarppn!AD7 -> 1 | AF9: =Table1[[#This Row],[Class]] -> 1 | AG9: =Table1[[#This Row],[Section]] -> A
A10: =IF(F10="","",ROWS($F$4:F10)) -> 7 | B10: =shaladarppn!A8 -> 1 | C10: =shaladarppn!B8 -> A | D10: =shaladarppn!C8 -> 4920 | E10: =shaladarppn!D8 -> 0 | F10: =shaladarppn!E8 -> Aarju | G10: =shaladarppn!F8 -> 0 | H10: =shaladarppn!G8 -> Suresh Kumar | I10: =shaladarppn!H8 -> Seema Devi | ... AE10: =shaladarppn!AD8 -> 1 | AF10: =Table1[[#This Row],[Class]] -> 1 | AG10: =Table1[[#This Row],[Section]] -> A
A11: =IF(F11="","",ROWS($F$4:F11)) -> 8 | B11: =shaladarppn!A9 -> 1 | C11: =shaladarppn!B9 -> A | D11: =shaladarppn!C9 -> 4915 | E11: =shaladarppn!D9 -> 0 | F11: =shaladarppn!E9 -> Aarju | G11: =shaladarppn!F9 -> 0 | H11: =shaladarppn!G9 -> Suresh Kumar | I11: =shaladarppn!H9 -> Seema Devi | ... AE11: =shaladarppn!AD9 -> 1 | AF11: =Table1[[#This Row],[Class]] -> 1 | AG11: =Table1[[#This Row],[Section]] -> A
A12: =IF(F12="","",ROWS($F$4:F12)) -> 9 | B12: =shaladarppn!A10 -> 1 | C12: =shaladarppn!B10 -> A | D12: =shaladarppn!C10 -> 4918 | E12: =shaladarppn!D10 -> 0 | F12: =shaladarppn!E10 -> Aarju | G12: =shaladarppn!F10 -> 0 | H12: =shaladarppn!G10 -> Suresh Kumar | I12: =shaladarppn!H10 -> Seema Devi | ... AE12: =shaladarppn!AD10 -> 1 | AF12: =Table1[[#This Row],[Class]] -> 1 | AG12: =Table1[[#This Row],[Section]] -> A
A13: =IF(F13="","",ROWS($F$4:F13)) -> 10 | B13: =shaladarppn!A11 -> 1 | C13: =shaladarppn!B11 -> A | D13: =shaladarppn!C11 -> 4921 | E13: =shaladarppn!D11 -> 0 | F13: =shaladarppn!E11 -> Aarju | G13: =shaladarppn!F11 -> 0 | H13: =shaladarppn!G11 -> Suresh Kumar | I13: =shaladarppn!H11 -> Seema Devi | ... AE13: =shaladarppn!AD11 -> 1 | AF13: =Table1[[#This Row],[Class]] -> 1 | AG13: =Table1[[#This Row],[Section]] -> A
A14: =IF(F14="","",ROWS($F$4:F14)) -> 11 | B14: =shaladarppn!A12 -> 1 | C14: =shaladarppn!B12 -> A | D14: =shaladarppn!C12 -> 4932 | E14: =shaladarppn!D12 -> 0 | F14: =shaladarppn!E12 -> Aarju | G14: =shaladarppn!F12 -> 0 | H14: =shaladarppn!G12 -> Suresh Kumar | I14: =shaladarppn!H12 -> Seema Devi | ... AE14: =shaladarppn!AD12 -> 1 | AF14: =Table1[[#This Row],[Class]] -> 1 | AG14: =Table1[[#This Row],[Section]] -> A
A15: =IF(F15="","",ROWS($F$4:F15)) -> 12 | B15: =shaladarppn!A13 -> 1 | C15: =shaladarppn!B13 -> A | D15: =shaladarppn!C13 -> 4910 | E15: =shaladarppn!D13 -> 0 | F15: =shaladarppn!E13 -> Aarju | G15: =shaladarppn!F13 -> 0 | H15: =shaladarppn!G13 -> Suresh Kumar | I15: =shaladarppn!H13 -> Seema Devi | ... AE15: =shaladarppn!AD13 -> 1 | AF15: =Table1[[#This Row],[Class]] -> 1 | AG15: =Table1[[#This Row],[Section]] -> A
... A800: =IF(F800="","",ROWS($F$4:F800)) -> 797 | B800: =shaladarppn!A798 -> 0 | C800: =shaladarppn!B798 -> 0 | D800: =shaladarppn!C798 -> 0 | E800: =shaladarppn!D798 -> 0 | F800: =shaladarppn!E798 -> 0 | G800: =shaladarppn!F798 -> 0 | H800: =shaladarppn!G798 -> 0 | I800: =shaladarppn!H798 -> 0 | ... AE800: =shaladarppn!AD798 -> 0 | AF800: =Table1[[#This Row],[Class]] -> 0 | AG800: =Table1[[#This Row],[Section]] -> 0

Sheet scholarship form
B2: राजस्थान सरकार | J2: विद्यार्थी का स्वप्रमाणित फोटो | N2: पूर्व मैट्रिक
C3: =N2 -> पूर्व मैट्रिक | E3: छात्रवृत्ति योजनाओं के लिए आवेदन पत्र प्रारूप
B4: वर्ष 2021-22 | N4: 4674
B5: विद्यार्थी की छात्रवृत्ति यूनीक आई.डी. | P5: 1 | Q5: पूर्व मैट्रिक अनुसूचित जाति छात्रवृत्ति कक्षा 6 से 8
B6: (पूर्ति संस्था प्रधान द्वारा शालादर्पण पोर्टल से की जायेगी | P6: 2 | Q6: पूर्व मैट्रिक अनुसूचित जनजाति छात्रवृत्ति कक्षा 6 से 8
B7: विद्यालय का नाम | F7: =info!F3 -> GOVT. SR. SEC.SCHOOL ALNIYAWAS,NAGAUR | P7: 3 | Q7: पूर्व मैट्रिक अनुसूचित जाति छात्रवृत्ति कक्षा 9 से 10
B8: छात्रवृत्ति योजना का नाम जिसके लिए आवेदन किया जा रहा है | | F8: पूर्व मैट्रिक अनुसूचित जाति छात्रवृत्ति कक्षा 9 से 10 | P8: 4 | Q8: पूर्व मैट्रिक अनुसूचित जनजाति छात्रवृत्ति कक्षा 9 से 10
B9: विद्यार्थी का विवरण | P9: 5 | Q9: पूर्व मैट्रिक अन्य पिछड़ा वर्ग छात्रवृत्ति कक्षा 6 से 10
B10: 1 | C10: विद्यार्थी का नाम | G10: =VLOOKUP(N4,TABLE6,3,0) -> Aarju | P10: 6 | Q10: पूर्व मैट्रिक अन्य पिछड़ा वर्ग ( विशेष समूह-,एम.बी.सी. )छात्रवृत्ति कक्षा 6 से 11
B11: 2 | C11: जन्म तिथि | E11: =VLOOKUP(N4,TABLE6,8,0) -> 42678 | G11: DD | H11: MM | J11: YYYY | P11: 7 | Q11: सफाई से जुड़े और स्वास्थ्य के लिए जोखिमपूर्ण व्यवसाय में लगे व्यक्तियों के बच्चोके लिए पूर्व मैट्रिक छात्रवृत्ति (कक्षा 01 से 10)
G12: =E11 -> 42678 | H12: =E11 -> 42678 | J12: =E11 -> 42678 | P12: 8 | Q12: कारगिल युद्ध में यानि 01.04.1999 एंव इसके बाद युधो में शहीद/स्थाई विकलांग व्यक्तियों के बच्चोके लिए पूर्व मैट्रिक छात्रवृत्ति (कक्षा 01 से 10)
B13: 3 | C13: धर्म (हिन्दू / मुस्लिम / सिख / ईसाई / पारसी/ बौद्ध / जैन /अन्य ) | G13: =VLOOKUP(N4,TABLE6,14,0) -> Muslim | P13: 9 | Q13: प्री कारगिल युद्ध में यानि 01.04.1999 से पूर्व युधो में शहीद/स्थाई विकलांग व्यक्तियों के बच्चोके लिए पूर्व मैट्रिक छात्रवृत्ति (कक्षा 01 से 10)
B14: 4 | C14: लिंग (पुरुष/ महिला/ ट्रांसजेंडर) | G14: =VLOOKUP($N$4,TABLE6,7,0) -> M | P14: 10 | Q14: भूतपूर्व सैनिको की कक्षा 11 व 12 में नियमित अध्ययनरत प्रतिभावान पुत्रियों को देय छात्रवृत्ति
B15: 5 | C15: कक्षा जिसमे अध्ययनरत है | G15: =VLOOKUP(N4,TABLE6,29,0) -> 6
B16: 6 | C16: विद्यार्थी का S.R. नम्बर (विद्यालय द्वारा भरा जाये) | G16: =N4 -> 4674 | P16: 11 | Q16: उत्तर मैट्रिक अनुसूचित जाति छात्रवृत्ति कक्षा 11 से 12
B17: 7 | C17: गत कक्षा के विद्यालय का नाम व पता | P17: 12 | Q17: उत्तर मैट्रिक अनुसूचित जनजाति छात्रवृत्ति कक्षा 11 से 12
B18: 8 | C18: गत वर्ष की कक्षा का क्रमोन्नत प्रमाण पत्र | G18: कक्षा | H18: पूर्णांक | I18: प्राप्तांक | J18: ग्रेड/प्रतिशत | K18: कक्षा क्रमोन्नत | P18: 13 | Q18: उत्तर मैट्रिक अति पिछड़ा वर्ग छात्रवृत्ति कक्षा 11 से 12
P19: 14 | Q19: उत्तर मैट्रिक अन्य पिछड़ा वर्ग छात्रवृत्ति कक्षा 11 से 12
B20: 9 | C20: जाति वर्ग (अजा/अजजा / अन्य पिछड़ा वर्ग/अति पिछड़ा वर्ग/ सामान्य / अल्पसंख्यक) | G20: =VLOOKUP($N$4,TABLE6,13,0) -> OBC
B21: 10 | C21: डे-स्कॉलर / होस्टलर | G21: डे-स्कॉलर
B22: 11 | C22: विद्यार्थी का आधार नम्बर/एनरोलमेंट नम्बर | G22: =VLOOKUP($N$4,TABLE6,18,0) -> XXXX0503
B23: 12 | C23: जन-आधार/ एनरोलमेंट नम्बर
B24: 13 | C24: छात्र का बैंक खाता जन-आधार कार्ड से लिंक है (हाँ / नहीं) | G24: नहीं
B25: 14 | C25: विद्यार्थी का मोबाइल नम्बर | G25: =VLOOKUP($N$4,TABLE6,20,0) -> 9636784929
B26: 15 | C26: विद्यार्थी का ई-मेल आई.डी. या जनाधार नम्बर
B27: विद्यार्थी के परिवार का विवरण
B28: 16 | C28: पिता का नाम | G28: =VLOOKUP($N$4,TABLE6,5,0) -> Suresh Kumar
B29: 17 | C29: माता का नाम | G29: =VLOOKUP($N$4,TABLE6,6,0) -> Seema Devi
B30: 18 | C30: संरक्षक का नाम (माता-पिता के जीवित ना होने पर) | G30: =VLOOKUP($N$4,TABLE6,6,0) -> Seema Devi
B31: 19 | C31: परिवार की वार्षिक आय
B32: 20 | C32: स्थाई पता/जिले का नाम / राज्य का नाम | G32: =VLOOKUP($N$4,TABLE6,21,0) -> SHYAMPURA ALNIYAWAS,RIYAN,AINIYAWAS,341639
B33: 21 | C33: राशन कार्ड नम्बर
B34: 22 | C34: क्या विद्यार्थी इस छात्रवृति के अतिरिक्त अन्य किसी संस्था या सरकारी विभाग से कोई सहायता प्राप्त कर रहा है (हां नहीं) यदि हाँ तो विवरण दे
B35: 23 | C35: केवल अस्वच्छकार योजनान्तर्गत अग्रलिखित प्रमाण-पत्र का उल्लेख करें जैसे:- (1) हाथ से मैला ढोने का (2) टेनर और फ्लेयर्स (चर्म एवं चर्मशोध से संबंधित) (3)कचरा बीनने का, (4) जोखिम के कार्यों में लगे होने का
B39: क्र.सं. | C39: योजना के विस्तृत दिशानिर्देशों के अनुसार संलग्न किए जाने वाले दस्तावेज | J39: संलग्न कर टिक करें
B40: 1 | C40: माता-पिता (माता-पिता के जीवित न होने पर संरक्षक) का आय स्वघोषणा-पत्र | J40: P
B41: 2 | C41: छात्र/छात्रा की गत वर्ष की परीक्षा की अकवालिका/ कमोन्नत प्रमाण पत्र (स्वप्रमाणित प्रति) | | J41: P
B42: 3 | C42: विद्यार्थी का स्वयं का जाति प्रमाण-पत्र (स्वप्रमाणित प्रति) | J42: P
B43: 4 | C43: विद्यार्थी की आधार कार्ड तथा जन-आधार / भामाशाह कार्ड (स्वप्रमाणित प्रति) | J43: P
B44: 5 | C44: माता-पिता (माता-पिता के जीवित न होने पर संरक्षक) के सफाई से जुड़े और स्वास्थ्य के लिए जोखिमपूर्ण व्यवसाय में लिप्त होने का प्रमाण-पत्र | J44: P
B45: 6 | C45: माता-पिता के प्री-करगिल एवं पोस्ट करगिल युद्धों तथा विभिन्न इमरजेन्सी काउन्टरों में शहीद / स्थायी रूप से विकलांग सैनिक होने का प्रमाणपत्र | J45: P
B46: 7 | C46: भूतपूर्व सैनिक होने का प्रमाणपत्र (डिस्चार्ज प्रमाण-पत्र एवं परिचय पत्र अथवा जिला सैनिक कल्याण अधिकारी द्वारा जारी प्रमाणपत्र ) | J46: P
B47: नोट :- वांछित दस्तावेज संलग्न करते हुए सामने के कॉलम में टिक का निशान अंकित करें |
I50: हस्ताक्षर विद्यार्थी
I51: =G10 -> Aarju
B54: माता-पिता/संरक्षक द्वारा घोषणा
B55: मै | E55: ( माता पिता या संरक्षक ) घोषणा करता / करती हूँ कि मैंने योजना
B56: सम्बन्धी सभी नियमो /निर्देशों की भली भांति अध्ययन कर लिया है I छात्र / छात्रा के मूल दस्तावेज में अंकित
B57: आधार नंबर, जन-आधार कार्ड, सही है एंव छात्र/छात्रा किसी अन्य प्रकार की छात्रवृत्ति प्राप्त नहीं कर रहा
B58: है I विद्यार्थी का बैंक खाता उसके आधार से सीडेड तथा जन-आधार कार्ड से लिंक है I मेरे द्वारा प्रस्तुत
B59: उपरोक्त विवरण ,संलग्न दस्तावेज, इस घोषणा में अंकित सूचनाये गलत पाए जाने की स्तिथि में यदि छात्रवृत्ति
B60: प्राप्त नहीं होती है तो इसका समस्त दायित्व मेरा स्वयम का होगा I भविष्य में किसी प्रकार की जाँच प्रक्रिया
B61: में मेरे द्वारा प्रस्तुत सूचनाये अथवा दस्तावेज गलत पाए जाने की स्तिथि में मेरे विरुद्ध पुलिस/वैधानिक
B62: कार्यवाही की जा सकेगी तथा मै प्राप्त छात्रवृत्ति वापिस जमा करवाने का वचन देता/देती हूँ I
B65: दिनांक :: | D65: =TODAY() -> 44429 | F65: हस्ताक्षर जांचकर्ता/कक्षाध्यापक | I65: माता-पिता/संरक्षक के हस्ताक्षर
B68: संस्थाप्रधान द्वारा प्रमाणीकरण
B69: प्रमाणित किया जाता है की | F69: =G10 -> Aarju | H69: पुत्र/पुत्री | I69: =G28 -> Suresh Kumar
B70: के छात्रवृत्ति आवेदन कीजाँच कर ली गयी है आवेदन पत्र के साथ समस्त वांछित संलग्नक लगे हुए है I
B71: छात्र / छात्रा द्वारा प्रस्तुत आधार नंबर ,जन आधार एंव आय घोषणा पत्र आदि को शाला दर्पण पोर्टल पर
B72: अपडेट कर लिया गया है I अतः छात्र / छात्रा को सत्र 2021-22 की छात्रवृत्ति स्वीकृत की जाती है I
I76: संस्था प्रधान के हस्ताक्षर मय मोहर

Sheet income certificate
C2: आय का घोषणा पत्र
C3: (विद्यार्थी के पिता/ माता / संरक्षक द्वारा भरा जायेगा)
C4: पूर्व मैट्रिक छात्रवृति योजना में वर्ष 2021-22 के लिए
D6: मै | H6: पुत्र/पुत्री/पत्नी
C7: उम्र | E7: वर्ष | F7: वर्ग ( केटेगरी ) | I7: निवासी
C8: तहसील | F8: जिला | H8: राज्य - | I8: राजस्थान | J8: घोषणा करता /करती हूँ
C9: की मेरी समस्त स्रोतों से कुल वार्षिक आय | G9: ='scholarship form'!G31 -> 0 | I9: रूपये है I
C10: आय संबंधी उक्त विवरण मेरी जानकारी एवं विश्वास के अनुसार सही है। मुझे इस तथ्य की जानकारी है कि मेरे द्वारा उद्घोषित आय गलत अथवा मिथ्या होना भारतीय दंड संहिता के अंतर्गत दण्डनीय अपराध है।
C12: विद्यार्थी का नाम | F12: ='scholarship form'!G10 -> Aarju
C13: विद्यार्थी की कक्षा | F13: ='scholarship form'!G15 -> 6
C14: विद्यार्थी से घोषणाकर्ता का संबंध
J16: हस्ताक्षर घोषणाकर्ता

Sheet BLANK FORM 
B2: राजस्थान सरकार | J2: विद्यार्थी का स्वप्रमाणित फोटो
C3: पूर्व / उत्तर मैट्रिक | E3: छात्रवृत्ति योजनाओं के लिए आवेदन पत्र प्रारूप
B4: वर्ष 2021-22
B5: विद्यार्थी की छात्रवृत्ति यूनीक आई.डी. | P5: 1 | Q5: पूर्व मैट्रिक अनुसूचित जाति छात्रवृत्ति कक्षा 6 से 8
B6: (पूर्ति संस्था प्रधान द्वारा शालादर्पण पोर्टल से की जायेगी | P6: 2 | Q6: पूर्व मैट्रिक अनुसूचित जनजाति छात्रवृत्ति कक्षा 6 से 8
B7: विद्यालय का नाम | P7: 3 | Q7: पूर्व मैट्रिक अनुसूचित जाति छात्रवृत्ति कक्षा 9 से 10
B8: छात्रवृत्ति योजना का नाम जिसके लिए आवेदन किया जा रहा है | | P8: 4 | Q8: पूर्व मैट्रिक अनुसूचित जनजाति छात्रवृत्ति कक्षा 9 से 10
B9: विद्यार्थी का विवरण | P9: 5 | Q9: पूर्व मैट्रिक अन्य पिछड़ा वर्ग छात्रवृत्ति कक्षा 6 से 10
B10: 1 | C10: विद्यार्थी का नाम | P10: 6 | Q10: पूर्व मैट्रिक अन्य पिछड़ा वर्ग ( विशेष समूह-,एम.बी.सी. )छात्रवृत्ति कक्षा 6 से 11
B11: 2 | C11: जन्म तिथि | G11: DD | H11: MM | J11: YYYY | P11: 7 | Q11: सफाई से जुड़े और स्वास्थ्य के लिए जोखिमपूर्ण व्यवसाय में लगे व्यक्तियों के बच्चोके लिए पूर्व मैट्रिक छात्रवृत्ति (कक्षा 01 से 10)
P12: 8 | Q12: कारगिल युद्ध में यानि 01.04.1999 एंव इसके बाद युधो में शहीद/स्थाई विकलांग व्यक्तियों के बच्चोके लिए पूर्व मैट्रिक छात्रवृत्ति (कक्षा 01 से 10)
B13: 3 | C13: धर्म (हिन्दू / मुस्लिम / सिख / ईसाई / पारसी/ बौद्ध / जैन /अन्य ) | P13: 9 | Q13: प्री कारगिल युद्ध में यानि 01.04.1999 से पूर्व युधो में शहीद/स्थाई विकलांग व्यक्तियों के बच्चोके लिए पूर्व मैट्रिक छात्रवृत्ति (कक्षा 01 से 10)
B14: 4 | C14: लिंग (पुरुष/ महिला/ ट्रांसजेंडर) | P14: 10 | Q14: भूतपूर्व सैनिको की कक्षा 11 व 12 में नियमित अध्ययनरत प्रतिभावान पुत्रियों को देय छात्रवृत्ति
B15: 5 | C15: कक्षा जिसमे अध्ययनरत है
B16: 6 | C16: विद्यार्थी का S.R. नम्बर (विद्यालय द्वारा भरा जाये) | P16: 11 | Q16: उत्तर मैट्रिक अनुसूचित जाति छात्रवृत्ति कक्षा 11 से 12
B17: 7 | C17: गत कक्षा के विद्यालय का नाम व पता | P17: 12 | Q17: उत्तर मैट्रिक अनुसूचित जनजाति छात्रवृत्ति कक्षा 11 से 12
B18: 8 | C18: गत वर्ष की कक्षा का क्रमोन्नत प्रमाण पत्र | G18: कक्षा | H18: पूर्णांक | I18: प्राप्तांक | J18: ग्रेड/प्रतिशत | K18: कक्षा क्रमोन्नत | P18: 13 | Q18: उत्तर मैट्रिक अति पिछड़ा वर्ग छात्रवृत्ति कक्षा 11 से 12
P19: 14 | Q19: उत्तर मैट्रिक अन्य पिछड़ा वर्ग छात्रवृत्ति कक्षा 11 से 12
B20: 9 | C20: जाति वर्ग (अजा/अजजा / अन्य पिछड़ा वर्ग/अति पिछड़ा वर्ग/ सामान्य / अल्पसंख्यक)
B21: 10 | C21: डे-स्कॉलर / होस्टलर
B22: 11 | C22: विद्यार्थी का आधार नम्बर/एनरोलमेंट नम्बर
B23: 12 | C23: जन-आधार/ एनरोलमेंट नम्बर
B24: 13 | C24: छात्र का बैंक खाता जन-आधार कार्ड से लिंक है (हाँ / नहीं)
B25: 14 | C25: विद्यार्थी का मोबाइल नम्बर
B26: 15 | C26: विद्यार्थी का ई-मेल आई.डी. या जनाधार नम्बर
B27: विद्यार्थी के परिवार का विवरण
B28: 16 | C28: पिता का नाम
B29: 17 | C29: माता का नाम
B30: 18 | C30: संरक्षक का नाम (माता-पिता के जीवित ना होने पर)
B31: 19 | C31: परिवार की वार्षिक आय
B32: 20 | C32: स्थाई पता/जिले का नाम / राज्य का नाम
B33: 21 | C33: राशन कार्ड नम्बर
B34: 22 | C34: क्या विद्यार्थी इस छात्रवृति के अतिरिक्त अन्य किसी संस्था या सरकारी विभाग से कोई सहायता प्राप्त कर रहा है (हां नहीं) यदि हाँ तो विवरण दे
B35: 23 | C35: केवल अस्वच्छकार योजनान्तर्गत अग्रलिखित प्रमाण-पत्र का उल्लेख करें जैसे:- (1) हाथ से मैला ढोने का (2) टेनर और फ्लेयर्स (चर्म एवं चर्मशोध से संबंधित) (3)कचरा बीनने का, (4) जोखिम के कार्यों में लगे होने का
B39: क्र.सं. | C39: योजना के विस्तृत दिशानिर्देशों के अनुसार संलग्न किए जाने वाले दस्तावेज | J39: संलग्न कर टिक करें
B40: 1 | C40: माता-पिता (माता-पिता के जीवित न होने पर संरक्षक) का आय स्वघोषणा-पत्र
B41: 2 | C41: छात्र/छात्रा की गत वर्ष की परीक्षा की अकवालिका/ कमोन्नत प्रमाण पत्र (स्वप्रमाणित प्रति) |
B42: 3 | C42: विद्यार्थी का स्वयं का जाति प्रमाण-पत्र (स्वप्रमाणित प्रति)
B43: 4 | C43: विद्यार्थी की आधार कार्ड तथा जन-आधार / भामाशाह कार्ड (स्वप्रमाणित प्रति)
B44: 5 | C44: माता-पिता (माता-पिता के जीवित न होने पर संरक्षक) के सफाई से जुड़े और स्वास्थ्य के लिए जोखिमपूर्ण व्यवसाय में लिप्त होने का प्रमाण-पत्र
B45: 6 | C45: माता-पिता के प्री-करगिल एवं पोस्ट करगिल युद्धों तथा विभिन्न इमरजेन्सी काउन्टरों में शहीद / स्थायी रूप से विकलांग सैनिक होने का प्रमाणपत्र
B46: 7 | C46: भूतपूर्व सैनिक होने का प्रमाणपत्र (डिस्चार्ज प्रमाण-पत्र एवं परिचय पत्र अथवा जिला सैनिक कल्याण अधिकारी द्वारा जारी प्रमाणपत्र )
B47: नोट :- वांछित दस्तावेज संलग्न करते हुए सामने के कॉलम में टिक का निशान अंकित करें |
I50: हस्ताक्षर विद्यार्थी
B54: माता-पिता/संरक्षक द्वारा घोषणा
B55: मै | E55: ( माता पिता या संरक्षक ) घोषणा करता / करती हूँ कि मैंने योजना
B56: सम्बन्धी सभी नियमो /निर्देशों की भली भांति अध्ययन कर लिया है I छात्र / छात्रा के मूल दस्तावेज में अंकित
B57: आधार नंबर, जन-आधार कार्ड, सही है एंव छात्र/छात्रा किसी अन्य प्रकार की छात्रवृत्ति प्राप्त नहीं कर रहा
B58: है I विद्यार्थी का बैंक खाता उसके आधार से सीडेड तथा जन-आधार कार्ड से लिंक है I मेरे द्वारा प्रस्तुत
B59: उपरोक्त विवरण ,संलग्न दस्तावेज, इस घोषणा में अंकित सूचनाये गलत पाए जाने की स्तिथि में यदि छात्रवृत्ति
B60: प्राप्त नहीं होती है तो इसका समस्त दायित्व मेरा स्वयम का होगा I भविष्य में किसी प्रकार की जाँच प्रक्रिया
B61: में मेरे द्वारा प्रस्तुत सूचनाये अथवा दस्तावेज गलत पाए जाने की स्तिथि में मेरे विरुद्ध पुलिस/वैधानिक
B62: कार्यवाही की जा सकेगी तथा मै प्राप्त छात्रवृत्ति वापिस जमा करवाने का वचन देता/देती हूँ I
B65: दिनांक :: | F65: हस्ताक्षर जांचकर्ता/कक्षाध्यापक | I65: माता-पिता/संरक्षक के हस्ताक्षर
B68: संस्थाप्रधान द्वारा प्रमाणीकरण
B69: प्रमाणित किया जाता है की | H69: पुत्र/पुत्री
B70: के छात्रवृत्ति आवेदन कीजाँच कर ली गयी है आवेदन पत्र के साथ समस्त वांछित संलग्नक लगे हुए है I
B71: छात्र / छात्रा द्वारा प्रस्तुत आधार नंबर ,जन आधार एंव आय घोषणा पत्र आदि को शाला दर्पण पोर्टल पर
B72: अपडेट कर लिया गया है I अतः छात्र / छात्रा को सत्र 2021-22 की छात्रवृत्ति स्वीकृत की जाती है I
I76: संस्था प्रधान के हस्ताक्षर मय मोहर

Sheet BLANK INCOME
C2: आय का घोषणा पत्र
C3: (विद्यार्थी के पिता/ माता / संरक्षक द्वारा भरा जायेगा)
C4: पूर्व मैट्रिक छात्रवृति योजना में वर्ष 2021-22 के लिए
D6: मै | H6: पुत्र/पुत्री/पत्नी
C7: उम्र | E7: वर्ष | F7: वर्ग ( केटेगरी ) | I7: निवासी
C8: तहसील | F8: जिला | H8: राज्य - | I8: राजस्थान | J8: घोषणा करता /करती
C9: हूँ की मेरी समस्त स्रोतों से कुल वार्षिक आय | I9: रूपये है I
C10: आय संबंधी उक्त विवरण मेरी जानकारी एवं विश्वास के अनुसार सही है। मुझे इस तथ्य की जानकारी है कि मेरे द्वारा उद्घोषित आय गलत अथवा मिथ्या होना भारतीय दंड संहिता के अंतर्गत दण्डनीय अपराध है।
C12: विद्यार्थी का नाम
C13: विद्यार्थी की कक्षा
C14: विद्यार्थी से घोषणाकर्ता का संबंध
J16: हस्ताक्षर घोषणाकर्ता
