Workbook
Name a: #REF!
Name a: #REF!
Name BEEO: #REF!
Name Excel_BuiltIn__FilterDatabase_1: #REF!
Name Excel_BuiltIn__FilterDatabase_10: #REF!
Name Excel_BuiltIn__FilterDatabase_2: #REF!
Name Excel_BuiltIn__FilterDatabase_3: #REF!
Name Excel_BuiltIn__FilterDatabase_4: #REF!
Name Excel_BuiltIn__FilterDatabase_5: #REF!
Name Excel_BuiltIn__FilterDatabase_6: #REF!
Name Excel_BuiltIn__FilterDatabase_7: #REF!
Name Excel_BuiltIn__FilterDatabase_8: #REF!
Name Excel_BuiltIn__FilterDatabase_9: #REF!
Name Ganesh: #REF!
Name JAH: #REF!
Name jah.: #REF!
Name jahajpur: #REF!
Name no: #REF!
Name PRAPATRA: #REF!
Name RAJU: #REF!
Name RAJU: #REF!
Name rosghu: #REF!
Name rosghu: #REF!
Name SATISH: #REF!
Name SATISH: #REF!
Name tjtsj: #REF!

Sheet Increment 7th Pay
A1: dk;kZy; iz/kkukpk;Z] jktdh; mPp ek/;fed fo|ky; /kus: JhMwaxjx<+
A2: dk;kZy;&vkns'k
B3: jkT; ljdkj ds foRr foHkkx ds vkns'k Øekad%& F.15(1)FD(Rules)/2017 Jaipur Dated 30 Oct. 2017
A4: ,oa lela[;d vkns'k la'kks/ku fnukad 09-12-2017 ds vuqlj.k esa bl fo|ky; esa dk;Zjr fuEufyf[kr dkfeZdksa dks muds }kjk ,d o"kZ dh larks"ktud lsok iw.kZ djus ij fnukad 01/07/2021 ls okf"kZd osru o`f} muds uke ds lEeq[k vafdr dkWYke la[;k 4 esa vafdr ysoy esfVªDl esa dkWye la[;k 09 esa vafdr osru vuqlkj Lohd`r dh tkdj rnuqlkj osru ,ao HkRrs fn;s tkus dh Lohd`fr iznku dh tkrh gSA osru o`f) tqykbZ ekg dh izFke rkjh[k dks dkfeZd ds vkdfLed vodk'k ds vfrfjDr vU; vodk'k ij gksus dh fLFkfr esa osru o`f) dk ykHk dk;Zxzg.k djus dh frfFk ls ns; gksxkA
A5: S.N. | B5: Name of Incumbent | C5: Post | D5: Pay Level | E5: Date From Present Pay is being taken | F5: Date of Increment | G5: Annual Increment Amount | J5: Personal Pay | M5: Next Increment Date
G6: Pay in the Level in the Pay Matrix | H6: Increment amount @3% | I6: Total Basic Pay | J6: Opening Balance of P.P. under Rule 11(6) | K6: Adjusted P.P. under Rule 11(6) | L6: Balace P.P. amt
A10: 1 | B10: =A10+1 -> 2 | C10: =B10+1 -> 3 | D10: =C10+1 -> 4 | E10: =D10+1 -> 5 | F10: =E10+1 -> 6 | G10: =F10+1 -> 7 | H10: =G10+1 -> 8 | I10: =H10+1 -> 9 | ... L10: =K10+1 -> 12 | M10: 13
A11: 1 | B11: Jh eqds'k 'kekZ | C11: O;k[;krk | D11: L-12 | E11: 44013 | F11: 44378 | G11: 44300 | H11: =IF(G11="","",ROUND((G11*0.03),-2)) -> 1300 | I11: =IF(G11="","",(G11+H11)) -> 45600 | K11: =IF(B11="","",IF(J11>0,MIN(H11,J11),0)) -> 0 | L11: =IF(J11>0,J11-K11,"") | M11: =F11+365 -> 44743
A12: 2 | B12: Jh iq[kjkt es?koky | C12: o- v/;kid | D12: L-11 | E12: 44013 | F12: 44378 | G12: 45100 | H12: =IF(G12="","",ROUND((G12*0.03),-2)) -> 1400 | I12: =IF(G12="","",(G12+H12)) -> 46500 | K12: =IF(B12="","",IF(J12>0,MIN(H12,J12),0)) -> 0 | L12: =IF(J12="","",J12-K12) | M12: =F12+365 -> 44743
A13: 3 | B13: Jh ekuflag | C13: o- v/;kid | D13: L-11 | E13: 44013 | F13: 44378 | G13: 42500 | H13: =IF(G13="","",ROUND((G13*0.03),-2)) -> 1300 | I13: =IF(G13="","",(G13+H13)) -> 43800 | K13: =IF(B13="","",IF(J13>0,MIN(H13,J13),0)) -> 0 | L13: =IF(J13="","",J13-K13) | M13: =F13+365 -> 44743
A14: 4 | B14: Jh f'kojke eh.kk | C14: o- v/;kid | D14: L-11 | E14: 44013 | F14: 44378 | G14: 52300 | H14: =IF(G14="","",ROUND((G14*0.03),-2)) -> 1600 | I14: =IF(G14="","",(G14+H14)) -> 53900 | K14: =IF(B14="","",IF(J14>0,MIN(H14,J14),0)) -> 0 | L14: =IF(J14="","",J14-K14) | M14: =F14+365 -> 44743
A15: 5 | B15: Jh fouksn dqekj | C15: o- v/;kid | D15: L-11 | E15: 44013 | F15: 44378 | G15: 41300 | H15: =IF(G15="","",ROUND((G15*0.03),-2)) -> 1200 | I15: =IF(G15="","",(G15+H15)) -> 42500 | K15: =IF(B15="","",IF(J15>0,MIN(H15,J15),0)) -> 0 | L15: =IF(J15="","",J15-K15) | M15: =F15+365 -> 44743
A16: 6 | B16: Jh egsUnz dqekj | C16: o- v/;kid | D16: L-11 | E16: 44013 | F16: 44378 | G16: 52300 | H16: =IF(G16="","",ROUND((G16*0.03),-2)) -> 1600 | I16: =IF(G16="","",(G16+H16)) -> 53900 | K16: =IF(B16="","",IF(J16>0,MIN(H16,J16),0)) -> 0 | L16: =IF(J16="","",J16-K16) | M16: =F16+365 -> 44743
A17: 7 | B17: Jh fot; flag | C17: v/;kid | D17: L-11 | E17: 44013 | F17: 44378 | G17: 52300 | H17: =IF(G17="","",ROUND((G17*0.03),-2)) -> 1600 | I17: =IF(G17="","",(G17+H17)) -> 53900 | K17: =IF(B17="","",IF(J17>0,MIN(H17,J17),0)) -> 0 | L17: =IF(J17="","",J17-K17) | M17: =F17+365 -> 44743
A18: 8 | B18: Jh cynso flag | C18: v/;kid | D18: L-11 | E18: 44013 | F18: 44378 | G18: 52300 | H18: =IF(G18="","",ROUND((G18*0.03),-2)) -> 1600 | I18: =IF(G18="","",(G18+H18)) -> 53900 | K18: =IF(B18="","",IF(J18>0,MIN(H18,J18),0)) -> 0 | L18: =IF(J18="","",J18-K18) | M18: =F18+365 -> 44743
A19: 9 | B19: Jh fouksn dqekjh | C19: v/;kid | D19: L-10 | E19: 44013 | F19: 44378 | G19: 33800 | H19: =IF(G19="","",ROUND((G19*0.03),-2)) -> 1000 | I19: =IF(G19="","",(G19+H19)) -> 34800 | K19: =IF(B19="","",IF(J19>0,MIN(H19,J19),0)) -> 0 | L19: =IF(J19="","",J19-K19) | M19: =F19+365 -> 44743
A20: 10 | B20: Jh eukst dqekj | C20: v/;kid | D20: L-11 | E20: 44013 | F20: 44378 | G20: 46500 | H20: =IF(G20="","",ROUND((G20*0.03),-2)) -> 1400 | I20: =IF(G20="","",(G20+H20)) -> 47900 | K20: =IF(B20="","",IF(J20>0,MIN(H20,J20),0)) -> 0 | L20: =IF(J20="","",J20-K20) | M20: =F20+365 -> 44743
A21: 11 | B21: Jh Jhjke pkScs | C21: v/;kid | D21: L-11 | E21: 44013 | F21: 44378 | G21: 45100 | H21: =IF(G21="","",ROUND((G21*0.03),-2)) -> 1400 | I21: =IF(G21="","",(G21+H21)) -> 46500 | K21: =IF(B21="","",IF(J21>0,MIN(H21,J21),0)) -> 0 | L21: =IF(J21="","",J21-K21) | M21: =F21+365 -> 44743
A22: 12 | B22: Jh QSSyhjke | C22: v/;kid | D22: L-11 | E22: 44013 | F22: 44378 | G22: 46500 | H22: =IF(G22="","",ROUND((G22*0.03),-2)) -> 1400 | I22: =IF(G22="","",(G22+H22)) -> 47900 | K22: =IF(B22="","",IF(J22>0,MIN(H22,J22),0)) -> 0 | L22: =IF(J22="","",J22-K22) | M22: =F22+365 -> 44743
A23: 13 | B23: Jh ckcwyky | C23: v/;kid | D23: L-10 | E23: 44013 | F23: 44378 | G23: 40300 | H23: =IF(G23="","",ROUND((G23*0.03),-2)) -> 1200 | I23: =IF(G23="","",(G23+H23)) -> 41500 | K23: =IF(B23="","",IF(J23>0,MIN(H23,J23),0)) -> 0 | L23: =IF(J23="","",J23-K23) | M23: =F23+365 -> 44743
A24: 14 | B24: Jh Hkokuh'kadj | C24: 'kk- f'k{kd | D24: L-13 | E24: 44013 | F24: 44378 | G24: 65200 | H24: =IF(G24="","",ROUND((G24*0.03),-2)) -> 2000 | I24: =IF(G24="","",(G24+H24)) -> 67200 | K24: =IF(B24="","",IF(J24>0,MIN(H24,J24),0)) -> 0 | L24: =IF(J24="","",J24-K24) | M24: =F24+365 -> 44743
A25: 15 | H25: =IF(G25="","",ROUND((G25*0.03),-2)) | I25: =IF(G25="","",(G25+H25)) | K25: =IF(B25="","",IF(J25>0,MIN(H25,J25),0)) | L25: =IF(J25="","",J25-K25) | M25: =F25+365 -> 365
A26: 16 | H26: =IF(G26="","",ROUND((G26*0.03),-2)) | I26: =IF(G26="","",(G26+H26)) | K26: =IF(B26="","",IF(J26>0,MIN(H26,J26),0)) | L26: =IF(J26="","",J26-K26) | M26: =F26+365 -> 365
A27: izekf.kr fd;k tkrk gS fd mDr dkfeZdksa us ,sls fdlh vodk'k dk miHkksx ughs fd;k gS ftlls mudh osru o`f) izHkkfor gksrh gksA Lohd`r osru o`f} dk bUnzkt dkfeZd dh lsok iqfLrdk esa dj fn;k x;k gSaA
H29: iz/kkukpk;Z
H30: jktdh; mPp ek/;fed
H31: fo|ky; /kus:
A32: Øekad %& jkmekfo@/kus:@laLFkk@ok0os0o`0@2021@ | F32: fnukad%&
A33: izfrfyfi%& fuEukfdr dks lwpukFkZ ,ao ;Fkko';d dk;Zokgh gsrq izsf"kr gS A
A34: 01- Jheku midks"kkf/kdkjh JhMwaxjx<+
A35: 02- ys[kk 'kk[kk LFkkuh; dk;kZy;
A36: 03- lacaf/kr dkfeZd ----------------------------------------------------------------------------------------------------------------------
A37: 04- jf{kr i=koyh
H38: iz/kkukpk;Z
H39: =H30 -> jktdh; mPp ek/;fed
H40: =H31 -> fo|ky; /kus:

Sheet 6th pay com.
A1: ='Increment 7th Pay'!A1 -> dk;kZy; iz/kkukpk;Z] jktdh; mPp ek/;fed fo|ky; /kus: JhMwaxjx<+
C2: dk;kZy;&vkns'k
A3: jkT; ljdkj ds foRr foHkkx ds vkns'k dzekad%& F.11(7)FD(Rules)/2008 Jaipur Dated
A4: 12-09-2008 ¼NBs osrueku ds vquqlkj ½ ds vuqlj.k esa bl fo|ky; esa dk;Zjr fuEufyf[kr dkfeZdksa dks muds }kjk ,d o"kZ dh larks"ktud lsok iw.kZ djus ij fnukad 01/07/2021 ls okf"kZd osru o`f} muds uke ds lEeq[k vafdr dkWye la[;k 07 ds vuqlkj Lohd`r dh tkdj rnuqlkj osru ,ao HkRrs fn;s tkus dh Lohd`fr iznku dh tkrh gS A osru o`f) tqykbZ ekg dh izFke rkjh[k dks dkfeZd ds vkdfLed vodk'k ds vfrfjDr vU; vodk'k ij gksus dh fLFkfr esa osru o`f) dk ykHk dk;Zxzg.k djus dh frfFk ls ns; gksxkA
A5: Ø-la- | B5: uke dkfeZd | C5: in | D5: 30-6-2021 dks izkIr dj jgs osru | G5: osru o`f) fnukad | H5: ok-os-o`- jkf'k @3% | I5: osru o`f) Ik'pkr osru | L5: vkxkeh osru o`f+) frfFk
D6: csfld | E6: xzsM is | F6: ;ksx | I6: csfld | J6: xzsM is | K6: ;ksx
A7: 1 | B7: 2 | C7: 3 | D7: 4 | F7: 5 | G7: 6 | I7: 7 | K7: 8 | L7: 9
A8: 1 | B8: Jh yfyr dqekj | C8: v/;kid L-1 | D8: =F8-E8 -> 16130 | E8: 4200 | F8: 20330 | G8: 44378 | H8: =ROUNDUP(ROUND(F8*3%,0),-1) -> 610 | I8: =D8+H8 -> 16740 | J8: =IF(AND(B8=""),"",E8) -> 4200 | K8: =IF(AND(B8=""),"",ROUNDUP(ROUND(1.03*F8,0),-1)) -> 20940 | L8: 44743
A9: 2 | B9: jke fuokl | D9: =F9-E9 -> 17000 | E9: 3600 | F9: 20600 | G9: 44378 | H9: =ROUNDUP(ROUND(F9*3%,0),-1) -> 620 | I9: =D9+H9 -> 17620 | J9: =IF(AND(B9=""),"",E9) -> 3600 | K9: =IF(J9="","",I9+J9) -> 21220 | L9: 44743
A10: 3 | D10: =F10-E10 -> 0 | G10: 44378 | H10: =ROUNDUP(ROUND(F10*3%,0),-1) -> 0 | I10: =D10+H10 -> 0 | J10: =IF(AND(B10=""),"",E10) | K10: =IF(J10="","",I10+J10) | L10: 44743
A11: 4 | D11: =F11-E11 -> 0 | G11: 44378 | H11: =ROUNDUP(ROUND(F11*3%,0),-1) -> 0 | K11: =IF(J11="","",I11+J11) | L11: 44743
A12: 5 | D12: =F12-E12 -> 0 | G12: 44378 | H12: =ROUNDUP(ROUND(F12*3%,0),-1) -> 0 | K12: =IF(J12="","",I12+J12)
A13: 6 | D13: =F13-E13 -> 0 | G13: 44378 | H13: =ROUNDUP(ROUND(F13*3%,0),-1) -> 0 | K13: =IF(J13="","",I13+J13)
A14: 7 | D14: =F14-E14 -> 0 | G14: 44378 | H14: =ROUNDUP(ROUND(F14*3%,0),-1) -> 0 | K14: =IF(J14="","",I14+J14)
A15: 8 | D15: =F15-E15 -> 0 | G15: 44378 | H15: =ROUNDUP(ROUND(F15*3%,0),-1) -> 0 | K15: =IF(J15="","",I15+J15)
A16: 9 | D16: =F16-E16 -> 0 | G16: 44378 | H16: =ROUNDUP(ROUND(F16*3%,0),-1) -> 0 | K16: =IF(J16="","",I16+J16)
A17: 10 | D17: =F17-E17 -> 0 | G17: 44378 | H17: =ROUNDUP(ROUND(F17*3%,0),-1) -> 0 | I17: =IF(AND(B17=""),"",K17-J17) | J17: =IF(AND(B17=""),"",E17) | K17: =IF(J17="","",I17+J17)
A18: izekf.kr fd;k tkrk gS fd mDr dkfeZd@dkfeZdksa us ,sls fdlh vodk'k dk miHkksx ughs fd;k gS ftlls mudh osru o`f) izHkkfor gksrh gksA
I20: iz/kkukpk;Z
I21: jktdh; mPp ek/;fed fo|ky; /kus:
A22: dzekad %& jkmekfo@/kus:@ys[kk@ok0os0o`0@2021@ | I22: fnukad%&
A23: izfrfyfi%& lwpukFkZ ,ao dk;ZokFkZ
A24: 01-lacaf/kr dks"kkf/kdkjh@midks"kkf/kdkjh
A25: 02- ys[kk 'kk[kk LFkkuh; dk;kZy;
A26: 03- lacaf/kr dkfeZd ----------------------------------------------------------------------------------------------------------------------
A27: 04- jf{kr i=koyh
I28: =I20 -> iz/kkukpk;Z
I29: =I21 -> jktdh; mPp ek/;fed fo|ky; /kus:

Sheet GA 92
B1: GA 92 | D1: GOVERNMENT OF RAJASTHAN | J1: New Form
B2: GFAR 196 & 197 | J2: No. G.A. 41
J3: Rule 155
A4: ='Increment 7th Pay'!A1:L1 -> dk;kZy; iz/kkukpk;Z] jktdh; mPp ek/;fed fo|ky; /kus: JhMwaxjx<+
A5: Periodical Increment Certificate
A6: lkef;d osru&o`f) izek.k&i=
A7: 1 | B7: Certified that the Government Servants named below have earned the prescribed perodical increments from the date cited in column 7, having been the incumbment of the posts specified for not less than …......... year from the date in column 6, after deducting periods of suspension for misconduct, etc. and absence on leave without pay and, in the case those holding the post in officiating capacity, all other kind of leave.
A8: 2 | B8: Certified that the Government Servants named below have earned / will earn perodical increments from the date cited, for reasons stated in the explanatory memo, attached hereto.
A9: Øe la- | B9: o`f)&Hkksxh dk uke | C9: LFkkbZ ;k LFkkukiUu | D9: in ds osru dh nj | E9: orZeku osru | F9: fnukad ftlls orZeku osru fy;k gS | G9: orZeku osru o``f) dk fnukad | H9: Hkkoh osru | I9: vuqfpr O;ogkj ds dkj.k inP;qfr vkSj ,slh vU; mifLFkfr] tks osruo`f) ds fy, vekU; gks | L9: voSrfud NqV~Vh vkSj LFkkukiUu vf/kdkjh ds fy, dksbZ Hkh vU; NqV~Vh | N9: fo'ks"k fooj.k
I10: o.kZu | J10: dc ls | K10: dc rd | L10: dc ls | M10: dc rd
A11: 1 | B11: 2 | C11: 3 | D11: 4 | E11: 5 | F11: 6 | G11: 7 | H11: 8 | I11: 9 | J11: 10 | K11: 11 | L11: 12 | M11: 13 | N11: 14
A12: 1 | B12: ='Increment 7th Pay'!B11 -> Jh eqds'k 'kekZ | C12: LFkkbZ | D12: ='Increment 7th Pay'!D11 -> L-12 | E12: ='Increment 7th Pay'!G11 -> 44300 | F12: ='Increment 7th Pay'!E11 -> 44013 | G12: ='Increment 7th Pay'!F11 -> 44378 | H12: ='Increment 7th Pay'!I11 -> 45600 | I12: - | J12: - | K12: - | L12: - | M12: - | N12: -
A13: 2 | B13: ='Increment 7th Pay'!B12 -> Jh iq[kjkt es?koky | C13: LFkkbZ | D13: ='Increment 7th Pay'!D12 -> L-11 | E13: ='Increment 7th Pay'!G12 -> 45100 | F13: ='Increment 7th Pay'!E12 -> 44013 | G13: ='Increment 7th Pay'!F12 -> 44378 | H13: ='Increment 7th Pay'!I12 -> 46500 | I13: - | J13: - | K13: - | L13: - | M13: - | N13: -
A14: 3 | B14: ='Increment 7th Pay'!B13 -> Jh ekuflag | C14: LFkkbZ | D14: ='Increment 7th Pay'!D13 -> L-11 | E14: ='Increment 7th Pay'!G13 -> 42500 | F14: ='Increment 7th Pay'!E13 -> 44013 | G14: ='Increment 7th Pay'!F13 -> 44378 | H14: ='Increment 7th Pay'!I13 -> 43800 | I14: - | J14: - | K14: - | L14: - | M14: - | N14: -
A15: 4 | B15: ='Increment 7th Pay'!B14 -> Jh f'kojke eh.kk | C15: LFkkbZ | D15: ='Increment 7th Pay'!D14 -> L-11 | E15: ='Increment 7th Pay'!G14 -> 52300 | F15: ='Increment 7th Pay'!E14 -> 44013 | G15: ='Increment 7th Pay'!F14 -> 44378 | H15: ='Increment 7th Pay'!I14 -> 53900 | I15: - | J15: - | K15: - | L15: - | M15: - | N15: -
A16: 5 | B16: ='Increment 7th Pay'!B15 -> Jh fouksn dqekj | C16: LFkkbZ | D16: ='Increment 7th Pay'!D15 -> L-11 | E16: ='Increment 7th Pay'!G15 -> 41300 | F16: ='Increment 7th Pay'!E15 -> 44013 | G16: ='Increment 7th Pay'!F15 -> 44378 | H16: ='Increment 7th Pay'!I15 -> 42500 | I16: - | J16: - | K16: - | L16: - | M16: - | N16: -
A17: 6 | B17: ='Increment 7th Pay'!B16 -> Jh egsUnz dqekj | C17: LFkkbZ | D17: ='Increment 7th Pay'!D16 -> L-11 | E17: ='Increment 7th Pay'!G16 -> 52300 | F17: ='Increment 7th Pay'!E16 -> 44013 | G17: ='Increment 7th Pay'!F16 -> 44378 | H17: ='Increment 7th Pay'!I16 -> 53900 | I17: - | J17: - | K17: - | L17: - | M17: - | N17: -
A18: 7 | B18: ='Increment 7th Pay'!B17 -> Jh fot; flag | C18: LFkkbZ | D18: ='Increment 7th Pay'!D17 -> L-11 | E18: ='Increment 7th Pay'!G17 -> 52300 | F18: ='Increment 7th Pay'!E17 -> 44013 | G18: ='Increment 7th Pay'!F17 -> 44378 | H18: ='Increment 7th Pay'!I17 -> 53900 | I18: - | J18: - | K18: - | L18: - | M18: - | N18: -
A19: 8 | B19: ='Increment 7th Pay'!B18 -> Jh cynso flag | C19: LFkkbZ | D19: ='Increment 7th Pay'!D18 -> L-11 | E19: ='Increment 7th Pay'!G18 -> 52300 | F19: ='Increment 7th Pay'!E18 -> 44013 | G19: ='Increment 7th Pay'!F18 -> 44378 | H19: ='Increment 7th Pay'!I18 -> 53900 | I19: - | J19: - | K19: - | L19: - | M19: - | N19: -
A20: 9 | B20: ='Increment 7th Pay'!B19 -> Jh fouksn dqekjh | C20: LFkkbZ | D20: ='Increment 7th Pay'!D19 -> L-10 | E20: ='Increment 7th Pay'!G19 -> 33800 | F20: ='Increment 7th Pay'!E19 -> 44013 | G20: ='Increment 7th Pay'!F19 -> 44378 | H20: ='Increment 7th Pay'!I19 -> 34800 | I20: - | J20: - | K20: - | L20: - | M20: - | N20: -
A21: 10 | B21: ='Increment 7th Pay'!B20 -> Jh eukst dqekj | C21: LFkkbZ | D21: ='Increment 7th Pay'!D20 -> L-11 | E21: ='Increment 7th Pay'!G20 -> 46500 | F21: ='Increment 7th Pay'!E20 -> 44013 | G21: ='Increment 7th Pay'!F20 -> 44378 | H21: ='Increment 7th Pay'!I20 -> 47900 | I21: - | J21: - | K21: - | L21: - | M21: - | N21: -
A22: 11 | B22: ='Increment 7th Pay'!B21 -> Jh Jhjke pkScs | C22: LFkkbZ | D22: ='Increment 7th Pay'!D21 -> L-11 | E22: ='Increment 7th Pay'!G21 -> 45100 | F22: ='Increment 7th Pay'!E21 -> 44013 | G22: ='Increment 7th Pay'!F21 -> 44378 | H22: ='Increment 7th Pay'!I21 -> 46500 | I22: - | J22: - | K22: - | L22: - | M22: - | N22: -
A23: 12 | B23: ='Increment 7th Pay'!B22 -> Jh QSSyhjke | C23: LFkkbZ | D23: ='Increment 7th Pay'!D22 -> L-11 | E23: ='Increment 7th Pay'!G22 -> 46500 | F23: ='Increment 7th Pay'!E22 -> 44013 | G23: ='Increment 7th Pay'!F22 -> 44378 | H23: ='Increment 7th Pay'!I22 -> 47900 | I23: - | J23: - | K23: - | L23: - | M23: - | N23: -
... A26: 15 | B26: ='Increment 7th Pay'!B25 -> 0 | C26: LFkkbZ | D26: ='Increment 7th Pay'!D25 -> 0 | E26: ='Increment 7th Pay'!G25 -> 0 | F26: ='Increment 7th Pay'!E25 -> 0 | G26: ='Increment 7th Pay'!F25 -> 0 | H26: ='Increment 7th Pay'!I25 | I26: - | J26: - | K26: - | L26: - | M26: - | N26: -
I28: Signature and designation of Drawing officer

Sheet Metrix chart
A1: Pay Metrix of State Government Servents wef 01-10-2017
A2: Existing Pay Band | B2: PB-1 (5200-20200) | K2: PB-2 (9300-34800) | O2: PB-3 (15600-39100) | V2: PB-4 (37400-67000)
A3: Existing Grade Pay | B3: 1700 | C3: 1750 | D3: 1900 | E3: 2000 | F3: 2400 | G3: 2400 | H3: 2400 | I3: 2800 | J3: 2800 | K3: 3600 | L3: 4200 | M3: 4800 | N3: 5400 | O3: 5400 | P3: 6000 | Q3: 6600 | R3: 6800 | S3: 7200 | T3: 7600 | U3: 8200 | V3: 8700 | W3: 8900 | X3: 9500 | Y3: 10000
A4: Existing Grade Pay No. | B4: 2 | C4: 3 | D4: 4 | E4: 5 | F4: 9 | G4: 9A | H4: 9B | I4: 10 | J4: 10A | K4: 11 | L4: 12 | M4: 13 | N4: 15 | O4: 15 | P4: 16 | Q4: 17 | R4: 18 | S4: 19 | T4: 20 | U4: 21 | V4: 22 | W4: 23 | X4: 23A | Y4: 24
A5: Level | B5: L-1 | C5: L-2 | D5: L-3 | E5: L-4 | F5: L-5 | G5: L-6 | H5: L-7 | I5: L-8 | J5: L-9 | K5: L-10 | L5: L-11 | M5: L-12 | N5: L-13 | O5: L-14 | P5: L-15 | Q5: L-16 | R5: L-17 | S5: L-18 | T5: L-19 | U5: L-20 | V5: L-21 | W5: L-22 | X5: L-23 | Y5: L-24
A6: Cell No. | B6: Pay Metrix (Amount in Rs.)
A7: 1 | B7: 17700 | C7: 17900 | D7: 18200 | E7: 19200 | F7: 20800 | G7: 21500 | H7: 22400 | I7: 26300 | J7: 28700 | K7: 33800 | L7: 37800 | M7: 44300 | N7: 53100 | O7: 56100 | P7: 60700 | Q7: 67300 | R7: 71000 | S7: 75300 | T7: 79900 | U7: 88900 | V7: 123100 | W7: 129700 | X7: 145800 | Y7: 148800
A8: 2 | B8: 18200 | C8: 18400 | D8: 18700 | E8: 19800 | F8: 21400 | G8: 22100 | H8: 23100 | I8: 27100 | J8: 29600 | K8: 34800 | L8: 38900 | M8: 45600 | N8: 54700 | O8: 57800 | P8: 62500 | Q8: 69300 | R8: 73100 | S8: 77600 | T8: 82300 | U8: 91600 | V8: 126800 | W8: 133600 | X8: 150200 | Y8: 153300
A9: 3 | B9: 18700 | C9: 19000 | D9: 19300 | E9: 20400 | F9: 22000 | G9: 22800 | H9: 23800 | I9: 27900 | J9: 30500 | K9: 35800 | L9: 40100 | M9: 47000 | N9: 56300 | O9: 59500 | P9: 64400 | Q9: 71400 | R9: 75300 | S9: 79900 | T9: 84800 | U9: 94300 | V9: 130600 | W9: 137600 | X9: 154700 | Y9: 157900
A10: 4 | B10: 19300 | C10: 19600 | D10: 19900 | E10: 21000 | F10: 22700 | G10: 23500 | H10: 24500 | I10: 28700 | J10: 31400 | K10: 36900 | L10: 41300 | M10: 48400 | N10: 58000 | O10: 61300 | P10: 66300 | Q10: 73500 | R10: 77600 | S10: 82300 | T10: 87300 | U10: 97100 | V10: 134500 | W10: 141700 | X10: 159300 | Y10: 162600
A11: 5 | B11: 19900 | C11: 20200 | D11: 20500 | E11: 21600 | F11: 23400 | G11: 24200 | H11: 25200 | I11: 29600 | J11: 32300 | K11: 38000 | L11: 42500 | M11: 49900 | N11: 59700 | O11: 63100 | P11: 68300 | Q11: 75700 | R11: 79900 | S11: 84800 | T11: 89900 | U11: 100000 | V11: 138500 | W11: 146000 | X11: 164100 | Y11: 167500
A12: 6 | B12: 20500 | C12: 20800 | D12: 21100 | E12: 22200 | F12: 24100 | G12: 24900 | H12: 26000 | I12: 30500 | J12: 33300 | K12: 39100 | L12: 43800 | M12: 51400 | N12: 61500 | O12: 65000 | P12: 70300 | Q12: 78000 | R12: 82300 | S12: 87300 | T12: 92600 | U12: 103000 | V12: 142700 | W12: 150400 | X12: 169000 | Y12: 172500
A13: 7 | B13: 21100 | C13: 21400 | D13: 21700 | E13: 22900 | F13: 24800 | G13: 25600 | H13: 26800 | I13: 31400 | J13: 34300 | K13: 40300 | L13: 45100 | M13: 52900 | N13: 63300 | O13: 67000 | P13: 72400 | Q13: 80300 | R13: 84800 | S13: 89900 | T13: 95400 | U13: 106100 | V13: 147000 | W13: 154900 | X13: 174100 | Y13: 177700
A14: 8 | B14: 21700 | C14: 22000 | D14: 22400 | E14: 23600 | F14: 25500 | G14: 26400 | H14: 27600 | I14: 32300 | J14: 35300 | K14: 41500 | L14: 46500 | M14: 54500 | N14: 65200 | O14: 69000 | P14: 74600 | Q14: 82700 | R14: 87300 | S14: 92600 | T14: 98300 | U14: 109300 | V14: 151400 | W14: 159500 | X14: 179300 | Y14: 183000
A15: 9 | B15: 22400 | C15: 22700 | D15: 23100 | E15: 24300 | F15: 26300 | G15: 27200 | H15: 28400 | I15: 33300 | J15: 36400 | K15: 42700 | L15: 47900 | M15: 56100 | N15: 67200 | O15: 71100 | P15: 76800 | Q15: 85200 | R15: 89900 | S15: 95400 | T15: 101200 | U15: 112600 | V15: 155900 | W15: 164300 | X15: 184700 | Y15: 188500
A16: 10 | B16: 23100 | C16: 23400 | D16: 23800 | E16: 25000 | F16: 27100 | G16: 28000 | H16: 29300 | I16: 34300 | J16: 37500 | K16: 44000 | L16: 49300 | M16: 57800 | N16: 69200 | O16: 73200 | P16: 79100 | Q16: 87800 | R16: 92600 | S16: 98300 | T16: 104200 | U16: 116000 | V16: 160600 | W16: 169200 | X16: 190200 | Y16: 194200
A17: 11 | B17: 23800 | C17: 24100 | D17: 24500 | E17: 25800 | F17: 27900 | G17: 28800 | H17: 30200 | I17: 35300 | J17: 38600 | K17: 45300 | L17: 50800 | M17: 59500 | N17: 71300 | O17: 75400 | P17: 81500 | Q17: 90400 | R17: 95400 | S17: 101200 | T17: 107300 | U17: 119500 | V17: 165400 | W17: 174300 | X17: 195900 | Y17: 200000
A18: 12 | B18: 24500 | C18: 24800 | D18: 25200 | E18: 26600 | F18: 28700 | G18: 29700 | H18: 31100 | I18: 36400 | J18: 39800 | K18: 46700 | L18: 52300 | M18: 61300 | N18: 73400 | O18: 77700 | P18: 83900 | Q18: 93100 | R18: 98300 | S18: 104200 | T18: 110500 | U18: 123100 | V18: 170400 | W18: 179500 | X18: 201800 | Y18: 206000
... A20: 14 | B20: 26000 | C20: 26300 | D20: 26800 | E20: 28200 | F20: 30500 | G20: 31500 | H20: 33000 | I20: 38600 | J20: 42200 | K20: 49500 | L20: 55500 | M20: 65000 | N20: 77900 | O20: 82400 | P20: 89000 | Q20: 98800 | R20: 104200 | S20: 110500 | T20: 117200 | U20: 130600 | V20: 180800 | W20: 190400 | X20: 214100 | Y20: 218600
A21: 15 | B21: 26800 | C21: 27100 | D21: 27600 | E21: 29000 | F21: 31400 | G21: 32400 | H21: 34000 | I21: 39800 | J21: 43500 | K21: 51000 | L21: 57200 | M21: 67000 | N21: 80200 | O21: 84900 | P21: 91700 | Q21: 101800 | R21: 107300 | S21: 113800 | T21: 120700 | U21: 134500 | V21: 186200 | W21: 196100
A22: 16 | B22: 27600 | C22: 27900 | D22: 28400 | E22: 29900 | F22: 32300 | G22: 33400 | H22: 35000 | I22: 41000 | J22: 44800 | K22: 52500 | L22: 58900 | M22: 69000 | N22: 82600 | O22: 87400 | P22: 94500 | Q22: 104900 | R22: 110500 | S22: 117200 | T22: 124300 | U22: 138500 | V22: 191800 | W22: 202000
A23: 17 | B23: 28400 | C23: 28700 | D23: 29300 | E23: 30800 | F23: 33300 | G23: 34400 | H23: 36100 | I23: 42200 | J23: 46100 | K23: 54100 | L23: 60700 | M23: 71100 | N23: 85100 | O23: 90000 | P23: 97300 | Q23: 108000 | R23: 113800 | S23: 120700 | T23: 128000 | U23: 142700 | V23: 197600 | W23: 208100
A24: 18 | B24: 29300 | C24: 29600 | D24: 30200 | E24: 31700 | F24: 34300 | G24: 35400 | H24: 37200 | I24: 43500 | J24: 47500 | K24: 55700 | L24: 62500 | M24: 73200 | N24: 87700 | O24: 92700 | P24: 100200 | Q24: 111200 | R24: 117200 | S24: 124300 | T24: 131800 | U24: 147000 | V24: 203500
A25: 19 | B25: 30200 | C25: 30500 | D25: 31100 | E25: 32700 | F25: 35300 | G25: 36500 | H25: 38300 | I25: 44800 | J25: 48900 | K25: 57400 | L25: 64400 | M25: 75400 | N25: 90300 | O25: 95500 | P25: 103200 | Q25: 114500 | R25: 120700 | S25: 128000 | T25: 135800 | U25: 151400
A26: 20 | B26: 31100 | C26: 31400 | D26: 32000 | E26: 33700 | F26: 36400 | G26: 37600 | H26: 39400 | I26: 46100 | J26: 50400 | K26: 59100 | L26: 66300 | M26: 77700 | N26: 93000 | O26: 98400 | P26: 106300 | Q26: 117900 | R26: 124300 | S26: 131800 | T26: 139900 | U26: 155900
A27: 21 | B27: 32000 | C27: 32300 | D27: 33000 | E27: 34700 | F27: 37500 | G27: 38700 | H27: 40600 | I27: 47500 | J27: 51900 | K27: 60900 | L27: 68300 | M27: 80000 | N27: 95800 | O27: 101400 | P27: 109500 | Q27: 121400 | R27: 128000 | S27: 135800 | T27: 144100 | U27: 160600
A28: 22 | B28: 33000 | C28: 33300 | D28: 34000 | E28: 35700 | F28: 38600 | G28: 39900 | H28: 41800 | I28: 48900 | J28: 53500 | K28: 62700 | L28: 70300 | M28: 82400 | N28: 98700 | O28: 104400 | P28: 112800 | Q28: 125000 | R28: 131800 | S28: 139900 | T28: 148400 | U28: 165400
A29: 23 | B29: 34000 | C29: 34300 | D29: 35000 | E29: 36800 | F29: 39800 | G29: 41100 | H29: 43100 | I29: 50400 | J29: 55100 | K29: 64600 | L29: 72400 | M29: 84900 | N29: 101700 | O29: 107500 | P29: 116200 | Q29: 128800 | R29: 135800 | S29: 144100 | T29: 152900 | U29: 170400
A30: 24 | B30: 35000 | C30: 35300 | D30: 36100 | E30: 37900 | F30: 41000 | G30: 42300 | H30: 44400 | I30: 51900 | J30: 56800 | K30: 66500 | L30: 74600 | M30: 87400 | N30: 104800 | O30: 110700 | P30: 119700 | Q30: 132700 | R30: 139900 | S30: 148400 | T30: 157500 | U30: 175500
A31: 25 | B31: 36100 | C31: 36400 | D31: 37200 | E31: 39000 | F31: 42200 | G31: 43600 | H31: 45700 | I31: 53500 | J31: 58500 | K31: 68500 | L31: 76800 | M31: 90000 | N31: 107900 | O31: 114000 | P31: 123300 | Q31: 136700 | R31: 144100 | S31: 152900 | T31: 162200 | U31: 180800
A32: 26 | B32: 37200 | C32: 37500 | D32: 38300 | E32: 40200 | F32: 43500 | G32: 44900 | H32: 47100 | I32: 55100 | J32: 60300 | K32: 70600 | L32: 79100 | M32: 92700 | N32: 111100 | O32: 117400 | P32: 127000 | Q32: 140800 | R32: 148400 | S32: 157500 | T32: 167100 | U32: 186200
A33: 27 | B33: 38300 | C33: 38600 | D33: 39400 | E33: 41400 | F33: 44800 | G33: 46200 | H33: 48500 | I33: 56800 | J33: 62100 | K33: 72700 | L33: 81500 | M33: 95500 | N33: 114400 | O33: 120900 | P33: 130800 | Q33: 145000 | R33: 152900 | S33: 162200 | T33: 172100 | U33: 191800
A34: 28 | B34: 39400 | C34: 39800 | D34: 40600 | E34: 42600 | F34: 46100 | G34: 47600 | H34: 50000 | I34: 58500 | J34: 64000 | K34: 74900 | L34: 83900 | M34: 98400 | N34: 117800 | O34: 124500 | P34: 134700 | Q34: 149400 | R34: 157500 | S34: 167100 | T34: 177300 | U34: 197600
A35: 29 | B35: 40600 | C35: 41000 | D35: 41800 | E35: 43900 | F35: 47500 | G35: 49000 | H35: 51500 | I35: 60300 | J35: 65900 | K35: 77100 | L35: 86400 | M35: 101400 | N35: 121300 | O35: 128200 | P35: 138700 | Q35: 153900 | R35: 162200 | S35: 172100 | T35: 182600 | U35: 203500
A36: 30 | B36: 41800 | C36: 42200 | D36: 43100 | E36: 45200 | F36: 48900 | G36: 50500 | H36: 53000 | I36: 62100 | J36: 67900 | K36: 79400 | L36: 89000 | M36: 104400 | N36: 124900 | O36: 132000 | P36: 142900 | Q36: 158500 | R36: 167100 | S36: 177300 | T36: 188100
A37: 31 | B37: 43100 | C37: 43500 | D37: 44400 | E37: 46600 | F37: 50400 | G37: 52000 | H37: 54600 | I37: 64000 | J37: 69900 | K37: 81800 | L37: 91700 | M37: 107500 | N37: 128600 | O37: 136000 | P37: 147200 | Q37: 163300 | R37: 172100 | S37: 182600 | T37: 193700
A38: 32 | B38: 44400 | C38: 44800 | D38: 45700 | E38: 48000 | F38: 51900 | G38: 53600 | H38: 56200 | I38: 65900 | J38: 72000 | K38: 84300 | L38: 94500 | M38: 110700 | N38: 132500 | O38: 140100 | P38: 151600 | Q38: 168200 | R38: 177300 | S38: 188100 | T38: 199500
A39: 33 | B39: 45700 | C39: 46100 | D39: 47100 | E39: 49400 | F39: 53500 | G39: 55200 | H39: 57900 | I39: 67900 | J39: 74200 | K39: 86800 | L39: 97300 | M39: 114000 | N39: 136500 | O39: 144300 | P39: 156100 | Q39: 173200 | R39: 182600 | S39: 193700
A40: 34 | B40: 47100 | C40: 47500 | D40: 48500 | E40: 50900 | F40: 55100 | G40: 56900 | H40: 59600 | I40: 69900 | J40: 76400 | K40: 89400 | L40: 100200 | M40: 117400 | N40: 140600 | O40: 148600 | P40: 160800 | Q40: 178400 | R40: 188100 | S40: 199500
A41: 35 | B41: 48500 | C41: 48900 | D41: 50000 | E41: 52400 | F41: 56800 | G41: 58600 | H41: 61400 | I41: 72000 | J41: 78700 | K41: 92100 | L41: 103200 | M41: 120900 | N41: 144800 | O41: 153100 | P41: 165600 | Q41: 183800 | R41: 193700
A42: 36 | B42: 50000 | C42: 50400 | D42: 51500 | E42: 54000 | F42: 58500 | G42: 60400 | H42: 63200 | I42: 74200 | J42: 81100 | K42: 94900 | L42: 106300 | M42: 124500 | N42: 149100 | O42: 157700 | P42: 170600 | Q42: 189300 | R42: 199500
A43: 37 | B43: 51500 | C43: 51900 | D43: 53000 | E43: 55600 | F43: 60300 | G43: 62200 | H43: 65100 | I43: 76400 | J43: 83500 | K43: 97700 | L43: 109500 | M43: 128200 | N43: 153600 | O43: 162400 | P43: 175700 | Q43: 195000
A44: 38 | B44: 53000 | C44: 53500 | D44: 54600 | E44: 57300 | F44: 62100 | G44: 64100 | H44: 67100 | I44: 78700 | J44: 86000 | K44: 100600 | L44: 112800 | M44: 132000 | N44: 158200 | O44: 167300 | P44: 181000
A45: 39 | B45: 54600 | C45: 55100 | D45: 56200 | E45: 59000 | F45: 64000 | G45: 66000 | H45: 69100 | I45: 81100 | J45: 88600 | K45: 103600 | L45: 116200 | M45: 136000 | N45: 162900 | O45: 172300 | P45: 186400
A46: 40 | B46: 56200 | C46: 56800 | D46: 57900 | E46: 60800 | F46: 65900 | G46: 68000 | H46: 71200 | I46: 83500 | J46: 91300 | K46: 106700 | L46: 119700 | M46: 140100 | N46: 167800 | O46: 177500 | P46: 192000
