Workbook
Name OLE_LINK1: '10 DAYS PL SENCTION'!$A$2

Sheet HOW TO USE
A1: t; Jh jke
B2: ;g ,Dlsy izksxzke esjs bZ"V izHkq Jh jke Hkxoku ,oa ije iwT; xq:nso Jh guqeku th egkjkt dks lefiZr gSA
B3: esjs ekrk firk ,oa xq:tuksa ds vk'khZokn ls ;g izksxzke f'k{kd cU/kqvksa ds lkFk lHkh foHkkx ds dkfeZdksa dh lsok esa lefiZr gSA
B5: MOST IMPORTANT
A6: 1 | B6: ;g cgqmn~ns'; dk;kZy; dk;Z izksxzke MULTIPURPOSE OFFICE WORK SOFTWARE cukus esa Jheku nqxkZ 'kadj th esukfj;k] Jheku toku flag th HkkVh] is esustj bUQks xzqi pSuy ds ,Mfeu iSuy lnL;ksa rFkk vU; lHkh lnL;ksa ftUgksuas izR;{k ;k vizR;{k :i ls lg;ksx fn;k gS] mudk eSa vkHkkjh gwWaA
A7: 2 | B7: bl cgqmn~ns'; dk;kZy; dk;Z izksxzke esa vkidks dsoy ekLVj 'khV esa ihys jax ds CELL esa MkVk Hkjuk gSA lkFk gh dqN 'khVksa esa ihys jax ds CELL esa viuh vko';drkuqlkj MkVk Hkj dj fizUV ysossaA
A8: 3 | B8: fdlh Hkh izdkj dh =qfV] leL;k ;k lq>ko gks rks lknj vkefU=r gS ysfdu d`i;k eq>s Qksu ugha djsaA dsoy WHATS APP ij eSlst dj nsosaA vkidh leL;k dk lek/kku fuf'pr :i ls gks tk;sxkA vfrvko';d gksus ij eSa Lo;a vkidks t:j Qksu d:axkA bldks vkSj vf/kd csgrj cukus gsrq vkids vewY; lq>ko dsoy WHATS APP ij lknj vkeaf=r gSA
A9: 4 | B9: esjh bl fuLokFkZ lsok dk ewy mÌs'; vkidk o jkT; ljdkj dk le;] Je o /ku dh cpr djus dk iz;kl gSA
A10: 5 | B10: ;g cgqmn~ns'; dk;kZy; dk;Z izksxzke lHkh foHkkx ds dkfeZdkas ds fy, leku :i ls rS;kj fd;k x;k gSA ladyu ,oa x.kuk esa iw.kZ lko/kkuh j[kh xbZ gS ] fQj Hkh =qfV ;k fdlh Hkh izdkj dh fofHkUurk dh fLFkfr esa foHkkx ds fu;e gh loksZijh ekU; gkssxsaA rS;kj drkZ dk dksbZ mRrjnkf;Ro ugha gksxkA
B11: HOW TO USE THIS PROGRAMME
A12: 1 | B12: lcls igys WWW.RAJSEVAK.COM APP ls vki ;g izksxzke MkmuyksM djsaA
A13: 2 | B13: bl cgqmn~ns'; dk;kZy; dk;Z izksxzke esa dsoy ekLVj MASTER 'khV esa ihys dyj ds CELL esa ,oa lkFk gh dqN 'khVksa esa ihys dyj dh CELL esa lko/kkuhiwoZd ,oa viuh vko';drkuqlkj Hkjdj lso djuk gSA flQZ A4 lkbZt esa fizUV fudkyuk gSA
A14: 3 | B14: bl cgqmn~ns'; dk;kZy; dk;Z izksxzke esa ns; vodk'k ds izdkj o jktLFkku lsok fu;e] laLFkkiu 'kk[kk] ys[kk 'kk[kk] lkekU; 'kk[kk] Hk.Mkj 'kk[kk rFkk fjDr izi= dk lekos'k fd;k x;k gS A
A15: 4 | B15: ns; vodk'k ds izdkj o jktLFkku lsok fu;e] laLFkkiu 'kk[kk] ys[kk 'kk[kk] lkekU; 'kk[kk] Hk.Mkj 'kk[kk rFkk fjDr izi= dh 'khVksa ij lh/ks gh tkus gsrq ekLVj 'khV esa rFkk 'khV ls iqu% ekLVj 'khV ij vkus gsrq cVu fn;k x;k gS] ftldk mi;ksx djsaA
B16: MY SUGGESTION
B17: fuEu xzqi Þ lh[kks vkSj fl[kkvks ß ds y{; dks /;ku esa j[krs gq, lapkfyr fd, tk jgs gSaA xzqi lapkyu dk eq[; mÌs'; gekjs jktdh; dkfeZdksa dh leL;kvksa dk Rofjr lek/kku djuk gSA bu xzqiksa ls tqM+sA
A18: 1 | B18: Qslcqd isesustj bUQksxzqi esa vius iz'u j[ksaA fyad %& https://www.facebook.com/groups/113882522815088/
A19: 2 | B19: Vsyhxzke ds isesustj bUQks pSuy esa ,M gksus ds fy, fyad %& http://t.me/paymanagerinfogroup
A20: 3 | B20: f'k{kk foHkkxh; leL;k o lek/kku ds fy, bl xzqi esa iz'u j[ksaA fyad %& http://www.facebook.com/groups/2110617352519518/?ref=share
A21: 4 | B21: f'k{kk foHkkx ds dkfeZd 'kkykniZ.k dh leL;k bl xzqi esa 'ks;j djsaA fyad %& http://www.facebook.com/groups/929245394269809/?ref=share
A22: 5 | B22: jktLFkku ea=kkyf;d dkfeZd iz'uksRrjh eap esa fefufLVª;y LVkQ ds lkFkh vius iz'u j[ksa bl fyad }kjk dsoy ea=kyf;d dkfed gh xzqi tkWbu djsaA fyad %& http://www.facebook.com/groups/750980092151800/?ref=share
A23: 6 | B23: ßjkstkuk ,d iz'uÞ Vsfyxzke xzqi tkWbu djsaA fyad %& https://t.me/rojanaekprashan uksV %& lHkh iz'uksa dk ,d lkFk ladyu vki bl fyad ij ns[k ldrs gSa %& http://www.ashwinisharma.com/p/paymanager-info-group.html?m=1
B24: MY THOUGHT
A25: 1 | B25: fcuq lRlax foosd u gksbZA jke d`ik fcuq lqyHk u lksbZAA Jhjkepfjrekul&pkSikbZA
A26: 2 | B26: esjk Hkkjr egku A t; toku t; fd'kku A
A27: 3 | B27: LoPN Hkkjr ] LoPN jktLFkku A csVh cpkvks ] csVh i<kvks A
A28: 4 | B28: dke dk vkyl vkSj iSlksa dk ykyp] gesa egku cuus ugha nsrkA
B29: rS;kjdrkZ
B30: BHAGWATI LAL SANADHAYA
B31: Hkxorh yky luk<++;
B32: lgk;d iz'kklfud vf/kdkjh
B33: Jh ckyd`".k fo/kk Hkou jktdh; mPp ek/;fed fo/kky; ] dkadjksyh ftyk & jktleUn fiudksM & 313324
B34: WHATS APP NO. 8209921634
B35: E MAIL - BLSANADHYA@GMAIL.COM

Sheet MASTER
A1: t; Jh jke
N4: jksx vkjksX; izek.k i= ¼ jktif=r ½
L5: jksx vkjksX; izek.k i= ¼ vjktif=r ½ | M5: jksx vkjksX; izek.k i= ¼ vjktif=r ½
A6: 1 | B6: dk;kZy; dk iw.kZ irk | C6: Jh ckyd`".k fo/kk Hkou jktdh; mPp ek/;fed fo|ky; dkadjksyh ftyk & jktleUn
A7: 2 | B7: Mh-Mh-vks- dk inuke | C7: iz/kkukpk;Z | G7: Mh-Mh-vks- ls mPp vf/kdkjh dk inuke | K7: ftyk f'k{kk vf/kdkjh
A8: 3 | B8: Mh-Mh-vks- dk;kZy; dk irk | C8: jktdh; mPp ek/;fed fo|ky; | G8: Mh-Mh-vks- ls mPp vf/kdkjh dk dk;kZy; dk irk | K8: ftyk f'k{kk vf/kdkjh] eq[;ky;] ek/;fed
A9: 4 | B9: Mh-Mh-vks- dk;kZy; dk LFkku | C9: dkadjksyh ftyk & jktleUn | G9: Mh-Mh-vks- ls mPp vf/kdkjh dk dk;kZy; dk LFkku | K9: jktleUn ftyk & jktleUn
A10: 5 | B10: Mh-Mh-vks- dksM uEcj | C10: 18341 | D10: dks"k dk;kZy; dk uke | G10: jktleUn ftyk & jktleUn | J10: foHkkx dk uke | M10: f'k{kk
A11: dz-la- | B11: uke | C11: in | D11: is esfVd ysoy | E11: ewy osru | F11: tUe frfFk | G11: izFke fu;qfDr frfFk | H11: lsok fuo`fr frfFk | I11: fy, x, vodk'k dh vof/k
I12: fnukad ls | J12: fnukad rd | K12: dqy fnu | L12: vodk'k dk izdkj | M12: vodk'k ysus dk dkj.k | N12: vodk'k dk irk
A13: 1 | B13: Jh izeksn dqekj ikyhoky | C13: प्रधानाचार्य | D13: L - 16 | E13: 82700 | F13: 24421 | G13: 34516 | H13: 46356 | I13: 44197 | J13: 44203 | K13: =J13-I13+1 -> 7 | L13: रूपांतरित अवकाश | M13: chekjh ds dkj.k | N13: iapjRu dksEiysDl ]dkadjksyh
A14: 2 | B14: Jh 'kadj yky pkS/kjh | C14: व्याख्याता स्कूल(शिक्षा) | D14: L - 13 | E14: 77900 | F14: 24086 | G14: 33420 | H14: 46022 | I14: 44216 | J14: 44217 | K14: =J14-I14+1 -> 2 | L14: उपार्जित अवकाश | M14: vko';d dkj.k ls | N14: dey rykbZ ]dkadjksyh
A15: 3 | B15: Jh ';ke lqUnj lkyoh | C15: व्याख्याता स्कूल(शिक्षा) | D15: L - 12 | E15: 63100 | F15: 28418 | G15: 38467 | H15: 50344 | I15: 44201 | J15: 44201 | K15: =J15-I15+1 -> 1 | L15: आकस्मिक अवकाश | M15: vko';d dkj.k ls | N15: dey rykbZ ]dkadjksyh
A16: 4 | B16: Jh e/kqlwnu vkpk;Z | C16: व्याख्याता स्कूल(शिक्षा) | D16: L - 12 | E16: 63100 | F16: 26515 | G16: 35412 | H16: 48457 | I16: 44197 | J16: 44211 | K16: =J16-I16+1 -> 15 | L16: पितृत्व अवकाश | M16: vko';d dkj.k ls | N16: eksgh ] jktleUn
A17: 5 | B17: Jh dSyk'k pUnz lkaphgj | C17: वरिष्ठ अध्यापक | D17: L - 13 | E17: 75600 | F17: 23513 | G17: 31750 | H17: 45443 | I17: 44201 | J17: 44205 | K17: =J17-I17+1 -> 5 | L17: रूपांतरित अवकाश | M17: chekjh ds dkj.k | N17: d`".kk uxj ]dkadjksyh
A18: 6 | B18: Jh Hkxorh yky luk<; | C18: सहायक प्रशासनिक अधिकारी | D18: L - 11 | E18: 57200 | F18: 25392 | G18: 31668 | H18: 47330 | I18: 44181 | J18: 44183 | K18: =J18-I18+1 -> 3 | L18: क्षतिपूर्ति अवकाश | M18: chekjh ds dkj.k | N18: dey rykbZ ]dkadjksyh] jktleUn
A19: 7 | B19: Jherh uhyw f=osnh | C19: वरिष्ठ सहायक | D19: L - 8 | E19: 36400 | F19: 30900 | G19: 38150 | H19: 52840 | I19: 44197 | J19: 44221 | K19: =J19-I19+1 -> 25 | L19: बच्चों की देखभाल हेतु अवकाश | M19: cPpksa dh ns[kHkky gsrq | N19: cztHkwfe ]dkadjksyh] jktleUn
A20: 8 | K20: =J20-I20+1 -> 1
A21: 9 | K21: =J21-I21+1 -> 1
A22: 10 | K22: =J22-I22+1 -> 1
A23: 11 | K23: =J23-I23+1 -> 1
A24: 12 | K24: =J24-I24+1 -> 1
A25: 13 | K25: =J25-I25+1 -> 1
A26: 14 | K26: =J26-I26+1 -> 1
A27: 15 | K27: =J27-I27+1 -> 1
A28: 16 | K28: =J28-I28+1 -> 1
A29: 17 | K29: =J29-I29+1 -> 1
A30: 18 | K30: =J30-I30+1 -> 1
A31: 19 | K31: =J31-I31+1 -> 1
... A47: 35 | K47: =J47-I47+1 -> 1
B48: Mªksi Mkmu fyLV
B49: in dk uke | C49: PAY MATRIK LEAVEL | D49: vodk'k dk uke
B50: प्रधानाचार्य | C50: L - 1 | D50: उपार्जित अवकाश
B51: व्याख्याता स्कूल(शिक्षा) | C51: L - 2 | D51: अर्ध वेतनिक अवकाश
B52: वरिष्ठ अध्यापक | C52: L - 3 | D52: रूपांतरित अवकाश
B53: अध्यापक | C53: L - 4 | D53: अदेय अवकाश
B54: शारीरिक शिक्षक श्रेणी I | C54: L - 5 | D54: असाधारण अवकाश
B55: शारीरिक शिक्षक श्रेणी II | C55: L - 6 | D55: प्रसूति अवकाश
B56: शारीरिक शिक्षक श्रेणी III | C56: L - 7 | D56: बच्चों की देखभाल हेतु अवकाश
B57: पुस्तकालय अध्यक्ष श्रेणी I | C57: L - 8 | D57: चिकित्सालय अवकाश
...

Sheet LEAVE RULES
A1: t; Jh jke
A2: ns; vodk'k ds izdkj o jktLFkku lsok fu;e
A3: dze la[;k | B3: vodk'k dk uke fgUnh esa | E3: vodk'k dk uke vaxzsth esa | H3: jktLFkku lsok fu;e | I3: 'khV ij MkbZjsDV tkus gsrq ;gka fDyd djsa | L3: ekLVj 'khV
A4: 1 | B4: mikftZr vodk'k | E4: PRIVILEGE LEAVE | H4: 91 o 92
A5: 2 | B5: v)Zosru vodk'k | E5: HALF PAY LEAVE | H5: 93¼1½ o 94
A6: 3 | B6: :ikUrfjr vodk'k | E6: CAMMUTED LEAVE | H6: 93¼2½ o 94
A7: 4 | B7: vns; vodk'k | E7: LEAVE NOT DUE LEAVE | H7: 93¼3½ o 94
A8: 5 | B8: vlk/kkj.k vodk'k | E8: EXTRA ORDINARY LEAVE | H8: 96
A9: 6 | B9: fo'ks"k vleZFkrk vodk'k | E9: SPECIAL DISABILITY LEAVE | H9: 99 ls 102
A10: 7 | B10: izlwfr@ekr`Ro vodk'k | E10: MATERNITY LEAVE | H10: 103
A11: 8 | B11: fir`Ro vodk'k | E11: PATERNITY LEAVE | H11: 103A
A12: 9 | B12: larku nÙkdxzg.k vodk'k | E12: CHILD ADOPTION LEAVE | H12: 103B
A13: 10 | B13: larku ns[kHkky vodk'k | E13: CHILD CARE LEAVE | H13: 103C
A14: 11 | B14: fpfdRlky; vodk'k | E14: HOSPITAL LEAVE | H14: 105 ls 108
A15: 12 | B15: v/;;u vodk'k | E15: STUDY LEAVE | H15: 109 ls 121
A16: 13 | B16: vkdfLed vodk'k | E16: CASUAL LEAVE | H16: jk-ls-fu- Hkkx 2 ifjf'k"V&1¼III½
A17: 14 | B17: fo'ks"k vkdfLed vodk'k | E17: SPECIAL CASUAL LEAVE | H17: jk-ls-fu- Hkkx 2 ifjf'k"V&1¼III½
A18: 15 | B18: cU/;kdj.k vodk'k | E18: NON PUERPERAL /VASECTOMY LEAVE | H18: jk-ls-fu- Hkkx 2 ifjf'k"V&1¼III½
A19: 16 | B19: {kfriwfrZ vkdfLed vodk'k | E19: COMPENSATION CASUAL LEAVE | H19: jk-ls-fu- Hkkx 2 ifjf'k"V&1¼IIIA½
A20: 17 | B20: laØked jksx fujks/kkodk'k | E20: QUARENTINE LEAVE | H20: jk-ls-fu- Hkkx 2 ifjf'k"V&1¼IV½
A21: 1 | B21: vodk'k lsok iqfLrdk esa ,UVªh gsrq | E21: RULES LEAVE SERVICE BOOK ENTRY

Sheet SHEET DIRECT GO CLICK SANSTHAPA
A1: t; Jh jke
A2: laLFkkiu 'kk[kk
A3: 'khV ij MkbZjsDV tkus gsrq
A4: dze la[;k | B4: dk;Z dk uke | E4: 'khV dk uke | H4: 'khV ij MkbZjsDV tkus gsrq ;gka fDyd djsa
A5: 1 | B5: vodk'k izkFkZuk i= ¼dk;kZy;k/;{k gsrq½ | E5: LEAVE APPLICATION DDO | K5: vodk'k izkFkZuk i=
A6: 2 | B6: vodk'k ls iqu% dk;ZHHkkj xzg.k djus dk izkFkZuk i= ¼dk;kZy;k/;{k gsrq½ | E6: LEAVE JOINING DDO | J6: vodk'k izkFkZuk i=
A7: 3 | B7: vodk'k izkFkZuk i= ¼dkfeZd gsrq½ | E7: LEAVE APPLICATION EMPLOYEE | J7: vodk'k izkFkZuk i=
A8: 4 | B8: vodk'k ls iqu% dk;ZHHkkj xzg.k djus dk izkFkZuk i= ¼dkfeZd gsrq½ | E8: LEAVE JOINING EMPLOYEE
A9: 5 | B9: vodk'k izkFkZuk i= QkeZ | E9: LEAVE FORM | O9: ekLVj 'khV
A10: 6 | B10: vodk'k Lohd`fr vkns'k | E10: LEAVE SENCTION ORDER
A11: 7 | B11: pkbZM ds;j vodk'k izkFkZuk i= | E11: APPLICATION FOR CHILD CARE LEAVE
A12: 8 | B12: pkbZM ds;j vodk'k Lohd`fr vkns'k | E12: CHILD CARE LEAVE SENCTION ORDER
A13: 9 | B13: pkbZM ds;j vodk'k [kkrk | E13: CHILD CARE LEAVE ACCOUNT
A14: 10 | B14: dk;Zxzg.k dky ds ,ot esa mikftZr vodk'k tksM+us ckcr izkFkZuk i= | E14: APPLICATION FOR JOINING TIME REMAINING PL
A15: 11 | B15: dk;Zxzg.k dky ds ,ot esa mikftZr vodk'k Lohd`fr vkns'k | E15: APPLICATION FOR JOINING TIME PL SENCTION
A16: 12 | B16: dk;Zxzg.k dky ds ,ot esa mikftZr vodk'k gsrq mifLFkfr izek.k i= | E16: ON DUTY PL
A17: 13 | B17: jksx vkjksX; izek.k i= ¼vjktif=r½ | E17: SICKNESS & FITNESS CERTIFICATE
A18: 14 | B18: jksx vkjksX; izek.k i= ¼jktif=r½ | E18: SICKNESS & FITNESS GAZETTED HINDI
A19: 15 | B19: okf"kZd osru o`f) vkns'k | E19: ANNUAL INCERMENT ORDER
A20: 16 | B20: lefiZr vodk'k dh lgefr gsrq vkns'k | E20: PL SURRENDER CONSENT
A21: 17 | B21: lefiZr vodk'k dh x.kuk gsrq jQ dk;Z | E21: SURRENDER RAF WORK
... A39: 35 | B39: LFkkukUrj.k@inkSUufr ij dk;Zxzg.k djus dk izkFkZuk i= | E39: TRANSFER PARMOTION JOINING APPLICATION

Sheet SHEET DIRECT GO CLICK LEKHA SHA
A1: t; Jh jke
A2: ys[kk 'kk[kk
A3: 'khV ij MkbZjsDV tkus gsrq
A4: dze la[;k | B4: dk;Z dk uke | E4: 'khV dk uke | H4: 'khV ij MkbZjsDV tkus gsrq ;gka fDyd djsa
A5: 1 | B5: fgrdkjh fu/kh bZ-lh-,l-fLyi o dVkSfr i= | E5: HITKARI NIDHI ECS SCHEDULE
A6: 2 | B6: vk;dj x.kuk izi= Hkjus gsrq vkns'k ekg Qjojh gsrq | E6: INCOME TAX FEBURARY
A7: 3 | B7: vk;dj x.kuk izi= QkeZ uEcj 16 nsuas gsrq izkfIr jlhn ysus gsrq vkns'k | E7: INCOME TAX FORM 16 | J7: vodk'k izkFkZuk i=
A8: 4 | B8: 'kqYd fooj.k | E8: FEES DETAIL
A9: 5 | B9: fo/kkFkhZ 'kqYd C;kSjk | E9: STUDENT FEES DETAIL
A10: 6 | B10: ctV fMek.M izi= | E10: BUDGET DEMAND FORMATE
A11: 7 | B11: ctV lefiZr izi= | E11: BUDGET SURRENDER
A12: 8 | B12: cSad [kkrk la[;k dk fooj.k | E12: BANK ACCOUNT DETAIL
A13: 9 | B13: {kfrZiwfrZ ck.M izk:i | E13: COMPENSATION BOND FORM
A14: 10 | B14: osfyfMVh izk:i | E14: VALIDITY CERTIFICATE
A15: 11 | B15: Vs.Mj rqyukRed fooj.k izk:Ik ¼ fdrkcksa ds fy, ½ | E15: TENDER COMPARISION DETAIL FOR BOOKS
A16: 12 | B16: Vs.Mj rqyukRed fooj.k izk:Ik ¼ vU; dk;Z ds fy, ½ | E16: TENDER COMPARISON DETAIL FOR OTHER WORKS
A17: 13 | B17: edku fdjk;k HkRrk izkIr djus gsrq izkFkZuk i= | E17: HRA APPLICATION
A18: 14 | B18: edku fdjk;k HkRrk iznku djus gsrq Lohd`fr vkns'k | E18: HRA SANCTION ORDER
A19: 15 | B19: edku fdjk;k HkRrk dh vk;dj gsrq NqV gsrq edku fdjk;k jlhn | E19: HRA RENT RECIEPT
... A27: 23 | B27: 7 is fMVsy pkVZ | E27: CSS AAO PAY CHART

Sheet SHEET DIRECT GO CLICK GENERAL S
A1: t; Jh jke
A2: lkekU; 'kk[kk
A3: 'khV ij MkbZjsDV tkus gsrq
A4: dze la[;k | B4: dk;Z dk uke | E4: 'khV dk uke | H4: 'khV ij MkbZjsDV tkus gsrq ;gka fDyd djsa
A5: 1 | B5: ukekadu lwpuk | E5: NAMANKAN
A6: 2 | B6: ukekadu lwpuk ladk;okj | E6: NAMAKAN FACULTY WISE
A7: 3 | B7: f'k{kd nSufUnuh izkfIr gLrk{kj djkus gsrq | E7: TEACHER'S DIARY ISSUE
A8: 4 | B8: Ldkyj jftLVj uEcjksa dh lwph | E8: SCHOLAR REGER NUMBER
A9: 5 | B9: QkbZyksa dh lwph | E9: FILE LIST
A10: 6 | B10: dkfeZdksa ds nkf;Ro dk fooj.k | E10: EMPLOYEE WORK CHARGE
A11: 7 | B11: d{kk/;kidksa ds uke dh lwph | E11: CLASS TEACHER NAME
A12: 8 | B12: izos'k lfefr ds uke dh lwph | E12: ADMISSION SAMITI
A13: 9 | B13: LFkkukUrj.k izek.k i= pkgus gsrq izkFkZuk i= vkWQykbZu | E13: TC APPLICATION
A14: 10 | B14: LFkkukUrj.k izek.k i= vkWQykbZu | E14: TC OFFILINE
A15: 11
A16: 12
A17: 13

Sheet SHEET DIRECT GO CLICK BHANDAR S
A1: t; Jh jke
A2: Hk.Mkj 'kk[kk
A3: 'khV ij MkbZjsDV tkus gsrq
A4: dze la[;k | B4: dk;Z dk uke | E4: 'khV dk uke | H4: 'khV ij MkbZjsDV tkus gsrq ;gka fDyd djsa
A5: 1 | B5: mi;ksfxrk izek.k i= lexz f'k{kk | E5: SAMSA UC
A6: 2 | B6: fodkl en ls lelk en esa O;; LFkkukUrfjr djus dk Lohd`fr vkns'k | E6: VIKAS TO SAMSA
A7: 3 | B7: Nk=dks"k en ls lelk en esa O;; LFkkukUrfjr djus dk Lohd`fr vkns'k | E7: BOYS FUND TO SAMSA
A8: 4 | B8: foHkkxh; vads{k.k vkfMV vuqikyuk izfrosnu ¼ fpfdRlk dk isjk ½ | E8: ICP AUDIT PALNA MEDICAL
A9: 5 | B9: foHkkxh; vads{k.k vkfMV vuqikyuk izfrosnu | E9: ICP AUDIT PALNA
A10: 6 | B10: foHkkxh; vads{k.k vkfMV vuqikyuk gsrq dk;ksZRrj@iz'kklfud Lohd`fr gsrq | E10: KARIYOTAR PURCHASE SANCTION
A11: 7 | B11: lkekU; foRrh; ,oa ys[kk fu;e&89 ds rgr Hkqxrku izek.k&i= | E11: GF&AR 89 CERTIFICATE
A12: 8 | B12: lkekU; foRrh; ,oa ys[kk fu;e&89 ds rgr Hkqxrku izek.k&i= ¼ flaxy ½ | E12: GF AND AR 89 CERTIFICATE
A13: 9 | B13: egkys[kkdkj vads{k.k vkfMV vuqikyuk izfrosnu | E13: AG AUDIT PALNA
A14: 10
A15: 11
A16: 12
A17: 13
A18: 14
A19: 15
A20: 16
A21: 17

Sheet SHEET DIRECT GO CLICK BLANKFORM
A1: t; Jh jke
A2: fjDr izi=
A3: 'khV ij MkbZjsDV tkus gsrq
A4: dze la[;k | B4: dk;Z dk uke | E4: 'khV dk uke | H4: 'khV ij MkbZjsDV tkus gsrq ;gka fDyd djsa
A5: 1 | B5: vodk'k izkFkZuk i= fgUnh esa | E5: BLANK LEAVE APPLICATION HINDI | K5: vodk'k izkFkZuk i=
A6: 2 | B6: vodk'k izkFkZuk i= vaxzsth esa | E6: BLANK LEAVE APPLICATION ENGLISH | J6: vodk'k izkFkZuk i=
A7: 3 | B7: vodk'k QkeZ | E7: BLANK LEAVE FORM | J7: vodk'k izkFkZuk i=
A8: 4 | B8: pkbZM ds;j vodk'k izkFkZuk i= | E8: BLANK APPLICATION FOR CHILD CARE
A9: 5 | B9: jksx vkjksX; izek.k i= ¼ vjktif=r ½ | E9: BLANK SICKNESS & FITNESS CERTIFI
A10: 6 | B10: jksx vkjksX; izek.k i= ¼ jktif=r ½ ¼ vaxzsth ½ | E10: BLANK SICKNESS&FITNESS GAZETD
A11: 7 | B11: jksx vkjksX; izek.k i= ¼ jktif=r ½ ¼ fgUnh ½ | E11: BLANK SICKNESS FITNESS GAZETTED
A12: 8 | B12: vizpfyr ,oa vuqi;ksxh lkekuksa dk jftLVj | E12: BLANK SR 5
A13: 9 | B13: losZ{k.k izfrosnu | E13: BLANK SR 6
A14: 10 | B14: fodz; ys[kk | E14: BLANK SR 7
A15: 11 | B15: fo/kky; Hk.Mkj lkexzh dh HkkSfrd lR;kiu lwph | E15: BLANK BHAUTIK SATYAPAN SUCI
A16: 12 | B16: okLrfod ;k=k izksxzke | E16: BLANK ACTUAL JOURNEY PROGRAMME
A17: 13 | B17: okmpj | E17: BLANK VOUCHER
A18: 14
A19: 15
A20: 16
A21: 17

Sheet RULES PRIVILEGE LEAVE
A1: t; Jh jke
A2: vodk'k ds fu;e
A3: ¼mikftZr vodk'k vkj-,l-vkj- 91&92 ½
A4: 1- fQDl osru ij dk;Zjr dkfeZd dks mikftZr vodk'k ns; ugha gksxkA
A5: 2- mikftZr vodk'k fdlh Hkh dkj.k ls fy;k tk ldrk gSA
A6: 3- mikftZr vodk'k [kkrk loZ izFke fu;qfDr frfFk ls 31 fnlEcj rd dk gh ysuk gSA blds i'pkr~ 01 tuojh ls 31 fnlEcj rd dk la/kkfjr djuk gSA
A8: 4- dksbZ Hkh dkfeZd mikftZr vodk'k th-,- 45 esa Hkjdj vkosnu djrk gS rks mls xr o"kZ ds
A9: cSysal ds vk/kkj ij gh mikftZr vodk'k ns; gksxkA D;ksafd ljdkj us lqfo/kk iznku dh gS
A10: tc rd iwjs o"kZ dkfeZd dk;Z ugha djsxk mls mikftZr vodk'k ykHk ns; ugha gksxkA
A11: 5- mikftZr vodk'k iw.kZ osru ds vk/kkj ij ns; gksrk gSA
A12: 6- mikftZr vodk'k izR;sd CykWd o"kZ esa 01 vizSy ls 31 ekpZ ds chp 15 fnu dk lefiZr
A13: vodk'k udn Hkqxrku ds :i esa Lohd`r djk;k tk ldrk gSA bldk yky L;kgh ls
... A24: yxk;k tkrk gS rks mls 3 fnol ds cnys 1 fnu dk mikftZr vodk'k ns; gksxkA

Sheet RULES HALF PAY LEAVE
A1: t; Jh jke
A2: vodk'k ds fu;e
A3: v/kZ osru vodk'k ¼,p-ih-,y-½ vkj-,l-vkj-93¼1½ o 94
A4: 1- fQDl osru&ijhoh{kkdky esa yxs dkfeZd dks ,p-ih-,y- dk ykHk ns; ugha gksxk ijhoh{kkdky
A5: iw.kZ gksus ij gh bldk ykHk ns; gSA
A6: 2- ,d o"kZ esa 20 ,p-ih-,y- ns; gksxhA
A7: 3- ,p-ih-,y- futh dk;Z ;k chekjh ds dkj.kksa ls Hkh ns; gksxk bl gsrq jksx@vkjksX; izek.k
A8: i=ksa dh vko';Drk ugha gSA
A9: 4- ;fn dksbZ dkfeZd mPp v/;;u ;k ih-,p-Mh- ¼ 'kks/k dk;Z ½ djuk pkgrk gS rks og ,p-ih-
A10: ,y dk miHkksx dj ldrk gSA
A11: 5- ,p-ih-,y- dk rkRi;Z v/kZ osru vodk'k ls gS tks dkfeZd ftrus fnukaas dk ,p-ih-,y- miHkksx
A12: djsssxk mls mrus fnukas dk vk/kk osru ns; gksxkA
... A23: 11- v/kZ osru vodk'k ,d eq'r 360 fnol rd dk ns; gksrk gSSA

Sheet RULES LEAVE NOT DUE LEAVE
A1: t; Jh jke
A2: vodk'k ds fu;e
A3: ¼ vns; vodk'k vkj-,l-vkj- 93 ¼+3½ o 94 ½
A5: 1- dkfeZd dh lsok iqfLrdk esa dksbZ Hkh vodk'k 'ks"k ugha gksus dh fLFkfr esa vns; vodk'k Lohd`r fd;k tk ldrk gSA
A6: 2- lkekU;r% ,d fujUrj vof/k esa 90 fnol dk vns; vodk'k Lohd`r fd;k tk ldrk gSA
A7: 3- ;fn dksbZ xaHkhj chekjh dk izdj.k gks rks mls fujUrj 180 fnol dk vns; vodk'k Lohd`r fd;k tk ldrk gSA
A8: 4- vns; vodk'k Lohd`r drkZ vf/kdkjh ds larq"V gksus ij gh Lohd``r fd;k tk ldrk gSA tSls dksbZ dkfeZd vuqifLFkr jgus dk vknh ughs gksA
A9: 5- vns; vodk'k lEiw.kZ lsokdky esa 360 ls vf/kd fnol dk ns; ughaa gksxkA
A10: 6- vns; vodk'k dk lek;kstu ,p-ih-,y- ls djuk gksxk ;fn fdlh dkfeZd dh lsok fuo`fr fudV gS vkSj og vns; vodk'k dk le;kstu djokus dh fLFkfr esa ugha gS rks mls vns; vodk'k Lohd`r ugha fd;k tkosA
A11: 7- vns; vodk'k dh vof/k esa v)Zosru ds cjkcj osru ns; gksxkA
A12: 8- vns; vodk'k vU; vodk'kksa dh fujUrjrk esa Lohd`r fd;k tk ldrk gSA

Sheet RULES EXTRA ORDINARY LEAVE
A1: t; Jh jke
A2: vodk'k ds fu;e
A3: ¼ vlk/kkj.k vodk'k vkj-,l-vkj- 96 ½
A4: 1- ijhoh{kkdky esa yxs fnukad 11-6-2014 ls iwoZ fu;qDr dkfeZd dk 90 fnol rd dk vlk/kkj.k vodk'k fu;qfDr vf/kdkjh }kjk Lohd`r fd;k tk,xk mlds fujUrjrk esa ;fn vkSj vof/k gS rks Lohd`fr gsrq jkT; ljdkj l{ke gSA
A5: 2- ijhoh{kkdky esas fnukad 11-6-2014 ds i'pkr~ yxs dkfeZd dks 30 fnol ls vf/kd vof/k dk vlk/kkj.k vodk'k ns; ugha gksxkA ;fn fdlh dkfeZd us 30 fnol ls vf/kd dh vof/k dk vlk/kkj.k vodk'k miHkksx fd;k rks mldk izdj.k jkT; ljdkj dks vkj,l,l- 96 ¼ch½ f'kfFkyu gsrq jkT; ljdkj dks izf"kr fd;k tk,xkA
A6: 3- vlk/kkj.k vodk'k lsok iqfLrdk esa fdlh izdkj dk vodk'k 'ks"k ugha gksus ij Lohd`r fd;k tkrk gSA
A7: 4- vlk/kkj.k vodk'k futh dkj.kksa@fpfdRlk izek.k i=ksa@ftl izf'k{k.k@mPp v/;;u esa tgkW v/;;u vodk'k ns; ugha gks ml fLFkfr esa vlk/kkj.k vodk'k Lohd`r fd;k tk ldrk gSA
A8: 5- l{ke fpfdRlk vf/kdkjh dk fpfdRlk izek.k i= @esfMdy cksMZ dh fjiksVZ ds vk/kkj ij Hkh vlk/kkj.k vodk'k Lohd`r fd;k tk ldrk gSA mDr vof/k dk okf"kZd osru o`f+) ij izHkko ugha iM+sxk rFkk ;g vof/k isa'ku x.kuk gsrq Hkh ekU; gksxhA
A9: 6- ;fn vlk/kkj.k vodk'k l{ke fpfdRld ds jksx@vkjksX; fpfdRlk izek.k i=ksa ds vk/kkj ij Lohd`r fd;k tkrk gS rks dkfeZd ds okf"kZd osru o`f) ij izHkko ugha iM+sxkA
A10: 7- ;fn l{ke fpfdRld ds izek.k i=ksa ds fcuk vFkok fdlh vU; dkj.kksa ls vlk/kkj.k vodk'k dk miHkksx fd;k tkrk gS rks vlk/kkj.k vodk'k dh vof/k dk okf"kZdk osru o`f) ij izHkko iM+sxkA

Sheet RULES MATERNITY LEAVE
A1: t; Jh jke
A2: vodk'k ds fu;e
A3: ¼ izlwfr vodk'k vkj-,l-vkj- 103 ½
A4: 1- efgyk dkfeZd dks izlwfr vodk'k ykHk lsokdky esa nks ckj ns; gksxk tks ,d ckj esa 180
A5: fnol dk gksxkA
A6: 2- ;fn dksbZ larku thfor ugha gksrh ij rhljh ckj Hkh ns; gksxkA
A7: 3- izlwfr vodk'k dky dk iw.kZ osru ns; gksxkA
A8: 4- efgyk dkfeZd dks xHkZikr gksus ij 6 lIrkg ;kfu 42 fnol dk izlwfr vodk'k ns; gksxkA
A9: ;g vodk'k muds izlwfr vodk'k esa 'kkfey ugha gksxkA izlwfr vodk'k Lohd`fr dk bUnzkt
A10: lsok izek.khdj.k djus okys i`"B ij fd;k tkuk pkfg,A
A11: 5- izlwfr vodk'k ,oa xHkZikr ¼vcksj'ku½ vodk'k l{ke fpfdRlk vf/kdkjh }kjk tkjh fpfdRlk
A12: izek.k i=ksa ds vk/kkj ij ns; gksxkA ;fn ljdkjh vFkok jftLVMZ gkWLihVy }kjk izek.k i=
... A25: 10- izlwfr vodk'k ds lkFk vU; izdkj dk vodk'k Hkh Lohd`r fd;k tk ldrk gSA

Sheet RULES CASUAL LEAVE
A1: t; Jh jke
A2: vodk'k ds fu;e
A3: vkdfLed vodk'k ¼lh,y½ jk-ls-fu- Hkkx 2 ifjf'k"V&1¼III½
A4: 1- mifLFkfr jftLVj esa dkfeZdksa ds uke ,oa in uke inokj dzeokj fy[ksaA
A5: 2- mifLFkfr jftLVj esa lh,y [kkrk izfrekg la/kkfjr fd;k tkosaA
A6: 3- 'kkyk&dk;kZy; fujh{k.k ds le; loZizFke mifLFkfr jftLVj dh tkWap gksrh gS blfy;s bls
A7: iw.kZ j[kk tkuk vko';d gSA
A8: 4- ifjoh{kkdky esa yxus okys dkfeZd dks 15 vkdfLed vodk'k ns; gSA
A9: 5- ea=kyf;d dkfeZdksa dks 1 tuojh ls 31 fnlEcj rd 15 lh,y ns; gSA f'k{kd oxZ gsrq
A10: 1 tqykbZ ls 30 twu rd 15 lh,y ns; gSA
A11: 6- lh,y ds lkFk vU; vodk'k tSls ih-,y-@,p-ih-,y-@vns; ;k vU; dksbZ Hkh izdkj dk
A12: vodk'k ns; ugha gS D;ksafd lh,y dks vodk'k dh Js.kh esa ugha fxuk tkrk gSA
... A36: 12- lh,y dks vk/ks vk/ks fnu dk Hkh fy;k tk ldrk gSA

Sheet RULES COMPENSATORY CASUAL LEAVE
A1: t; Jh jke
A2: vodk'k ds fu;e
A3: lh-lh-,y- ¼{kfriwfrZ vodk'k½ jk-ls-fu- Hkkx 2 ifjf'k"V&1¼IIIA½
A4: 1- ;g vodk'k dsoy ea=kyf;d deZpkjh ¼ lgk;d deZpkjh@fyfid xzsM izFke@
A5: f}rh;@lgk;d dk;kZy; v/kh{kd vkfn inksa dks ns; gksrk gSA
A6: 2- v/;kid ;k vU; in ij dk;Zjr fdlh Hkh deZpkjh@vf/kdkjh dks {kfriwfrZ vodk'k
A7: ns; ugha gksxkA
A8: 3- jktLFkku ljdkj f'k{kk ¼xzqi 2½ foHkkx ds vkns'k dzekad i Q 11 ¼14½ 1&¼,½@xzqi 2@73 t;iqj fnukad 01-12-1973 ds )kjk ¼ ;g vkKk lkekU; iz'kklu ¼1½ foHkkx dh lgefr ls fd mudh vUrfoZHkkxh; la[;k 410@lk-iz-@d@23 fnukad 17-11-1973 ds )kjk izkIr gqbZ gS] izpfyr dh tkrh gSA½ ,oa vkj-Vh-vkbZ-ds rgr nh xbZ lwpuk dk lgk;d funs'kd ¼ iz'kklu ½ ek/;fed f'k{kk ]jktLFkku] chdkusj ds vkns'k dzekad@f'kfojk@ek/;@lkiz@,&3@mn;iqj@2014@33 fnukad 01-11-2017 ds )kjk f)rh; 'kfuokj dh ,ot esa ,oa jktif=r vodk'k fnol esa fd, x, dk;Z ds cnys ea=kyf;d deZpkfj;ksa dks {kfriwfrZ vodk'k ns; gksxkA
A9: 4- fQDl osru ij dk;Z djus okys dkfeZd dks mlds vkdfLed vodk'k ds cjkcj
A10: ns; gksxkA ¼,d o"kZ esa 15 fnu ls vf?kd ns; ughaA½
A11: 5- {kfriwfrZ vodk'k dk ,d lkFk miHkksx fujUrj 10 fnol rd fd;k tk ldrk gSA
A12: 6- {kfriwfrZ vodk'k dks vkdfLed vodk'k dh Js.kh esa j[kk x;k gSA
... A25: +

Sheet RULES COVID 19 QUARENTINE LEAVE
A1: t; Jh jke
A2: vodk'k ds fu;e
A3: ¼ DokjUVkbu vodk'k ½ jk-ls-fu- Hkkx 2 ifjf'k"V&1¼IV½
A4: 1- foRr foHkkx vkns'k fnukad 12-05-2020 ds fcUnq la[;k 1 ls Li"B gS fdTHE QUARANTINE LEAVE MAY BE SANCTIONED TO GOVERNMENT SERVANT AS PER EXISTING PROVISIONS, WHO HAS BEEN QUARANTINED BY MEDICAL AUTHORITIES DUE TO COVID- 19 blls Li"B gS fd tks rsr es bl lacU/k es izksfotu fn, x, gSA ogh dkWfoM 19 ij Hkh ykxq jgsxsA vFkkZr Lo;a dkfeZd iksftfVo gS rks mikftZr ifjofrZr vodk'k tks vftZr gSA og vodk'k ysuk gksxkA
A5: 2- tcfd dkfeZd ds ifjtu ds dksjksuk lafdzer gksus ;k vU; dkj.k ls AS PER GOVT, GUIDELINES DR }kjk dkfeZd dks Hkh DokjUVkbu fd;k x;k gks rks mls fpfdRlk izek.k i= ds vk/kkj ij fujks/kkodk'k DokjUVkbu vodk'k ns; gksxkA
A6: 3- ysfdu fcUnq la[;k 2- ds }kjk bl iksfotu es rhu o"kZ ls de lsok okys dkfeZd dks Lo;a lafdzer gksus ij Hkh tks dsoy fcUnq la[;k 2 es gh fy[kk gqvk gSA HE/SHE IS IINFECTED WITH COVID-19 QUARANTINE LEAVE dk izko/kku dj fn;k x;k D;ksafd muds ikl ysus ds fy, vkSj dksbZ vodk'k tek ugh gksrk gSA
A7: 4- QUARANTINE LEAVE CMHO / PRINCIPAL MEDICAL HOSPITAL ds izek.k i= ds vk/kkj ij gh Lohd`r dh tk ldsxhA
A8: jktdh; lsod ftudh lsok 3 lky ls de gqbZ gks
A9: 1- bl fLFkfr es jktdh; lsod ds [kqn ;k vU; ikfjokfjd tu ds dksfoM 19 ladzfer gksus ij dkfeZd dks gkse DokjuVkbu fd;k x;k gksA rks mls lsok fu;eks ds vuqlkj DokjuVkbu vodk'k ns; gksxkA
A10: ljdkjh izko/kkuks ds vuqlkj ljdkjh deZpkjh dks DokjaVkbu vodk'k Lohd`r fd;k tk ldrk gS tks dksfoM 19 ds dkj.k fpfdRlk }kjk DokjVkbu fd;k x;k gSA DokjuVkbu vodk'k Hkh ,ls ljdkjh deZpkjh dks Lohd`r fd;k tk,xkA ftlus rhu o"kZ dh lsok iwjh ugh fd xbZ gSA vkSj og dksfoM 19 ladzfer gS ;k blds dkj.k fpfdRlk vf/kdkjh;ks }kjk DokjVkbu gSA DokjVkbu dks muds }kjk vuq'kaflr vof/k ds fy, lacaf/kr lh,e,pvks fizafliy esfMdky dkWyst dh lhQkjh'k ij vuqeksfnr fd;k x;k gSA
A11: jktdh; lsod ftudh lsok 3 lky ls T;knk gks xbZ gks
A12: 1-dkfeZd ds ifjokj dksbZ lnL; dksfoM 19 iksftfVo ik;k tkrk gS vkSj dkfeZd dks gkse DokjuVkbu fd;k x;k gksA l{ke izkf/kdjh }kjk izek.k i= gS rks mldks DokjVkbu yho ns; gksxhA dkfeZd Loa; dksfoM 19 ikssftfVo gks ysfdu oks dksfoM M;wVh ij uk gks rks mudks DokjVkbu yho ns; ugh gksxhA mudks fpfdRlk vodk'k ;k mikftZr vodk'k Lohd`r fd;k tk,xkA dkfeZd Lo;a dksfoM iksftfVo ik;k x;k gks ysfdu bl vof/k es dksfoM 19 M;wfV ds nkSjku gh dksfoM iksftfVo gqvk gks rks dkfeZd dks DokjuVkbu yho ns; gksxhA

Sheet RULES VASECTOMY SCL LEAVE
A1: t; Jh jke
A2: vodk'k ds fu;e
A3: ¼ cU/;kdj.k vodk'k jk-ls-fu- Hkkx 2 ifjf'k"V&1¼III½½
A4: 1- iq:"k deZpkjh dks Lo;a dh ulcUnh djkus gsrq 6 fnu dk cU/;kdj.k vodk'k ns; gksrk gSA
A5: 2- efgyk deZpkjh dks Lo;a dh ulcUnh djkus gsrq 14 fnu dk cU/;kdj.k vodk'k ns; gksrk gSA
A6: 3- iRuh )kjk Lo;a dh ulcUnh djkus ij iq:"k deZpkjh dks 7 fnu dk fo'ks"k vodk'k ns; gksrk gSA
A10: t; Jh jke
A11: vodk'k ds fu;e
A12: ¼ fo'ks"k vkdfLed vodk'k jk-ls-fu- Hkkx 2 ifjf'k"V&1¼III½ ½
A13: 1- jktLFkku esa jDrnku djus ij lHkh rjg ds ljdkjh deZpkfj;ksa dks fo'ks"k vkdfLed vodk'k
A14: feyrk gS A
A15: 2- jkT; deZpkjh ,d dys.Mj o"kZ esa ;fn 5 ckj jDrnku djrs gS rks mUgSa 5 ckj fo'ks"k vkdfLed
... A21: lkFk vodk'k dk ykHk ysaosa A

Sheet RULES LEAVE SERVICE BOOK ENTRY
A1: t; Jh jke
A2: vodk'k ds fu;e
A3: ¼ lsok iqfLrdk laca/kh fcUnq ½
A4: 1- dkfeZd dk uke firk@ifr dk uke lqUnj v{kjksa esa fy[ksaA | K4: ekLVj 'khV
A5: 2- tUe frfFk vadksa o 'kCnksa esa Li"V :i ls fy[ksaA
A6: 3- fuokl LFkku rFkk LFkkbZ irk vafdr fd;k tkosA
A7: 4- 'kSf{kd iz'kSf{kd ;ksX;rk dk bUnzkt fd;k tkosA
A8: 5- ftl cksMZ@fo'ofo|ky; ls ;ksX;rk izkIr dh gS mldk uke fy[ksa lkFk gh ftl o"kZ dk vaadu djsaA+
A9: 6- lsokdky esa dksbZ 'kSf{kd iz'kSf{kd ;ksX;rk izkIr dh gS rks mldk fu/kkZfjr dkWye esa bUnzkt djsaA
A10: 7- lsok izek.khdj.k ges'kk 1 vizSy ls 31 ekpZ rd dk gksA
A11: 8- dksbZ dkfeZd vlk/kkj.k vodk'k ij jgk gS rks mldk bUnzkt yky L;kgh ls gksuk pkfg;sA
A12: 9- vodk'k [kkrk izR;sd o"kZ la/kkfjr gksuk pkfg;s pkgs dkfeZd us vodk'k dk miHkksx fd;k gks ;k u gkA
A13: 10- lefiZr vodk'k Lohd`fr dk bUnzkt yky L;kgh ls gksA
A14: 11- dksbZ Hkh dkfeZd yEcs vodk'k ij py jgk gS rks mldh lsok iqfLrdk esa 'ks"k vodk'k ds i'pkr~ vlk/kkj.k vodk'k Lohd`r fd;k tkos fdlh Hkh izdkj ds 'ks"k vodk'k gksrs gq, vlk/kkj.k vodk'k Lohd`r ugha fd;k tkosA
A15: 12- dksbZ Hkh dkfeZd vU;= LFkku ls LFkkukUrfjr@inksUufr ij 'kkyk esa dk;Z xzg.k djrk gS rks mldk ls-iq- esa bUnzkt djsA
A16: 13- ;fn fdlh dkfeZd dks nf.Mr fd;k x;k gS rks mldk bUnzkt Hkh lspk iqfLrdk esa fd;k tkuk okfg;s
A17: 14- dksbZ Hkh dkfed fdlh Hkh izdkj ds izf'k{k.k @ mPp v/;;u ds fy, dk;ZeqDr gksrk gS vkSj dkWyst@fo-fo- ls dk;ZeqDr gksdj iqu% 'kkyky esa dk;Zxzg.k djrk gS rks mldk lsokiqfLrdk esa bUnzkt vo'; djsaA

Sheet LEAVE APPLICATION DDO
B1: ekLVj 'khV esa dkfeZd dk flfj;y uEcj %& | E1: 1
A2: =MASTER!C6 -> Jh ckyd`".k fo/kk Hkou jktdh; mPp ek/;fed fo|ky; dkadjksyh ftyk & jktleUn
A3: Øekad@jkmekfo@dakdjksyh@laLFkkiu@Qk&104@2020&21@ fnukad 01@01@2021
B4: lsokesa
C5: Jheku | D5: =MASTER!K7 -> ftyk f'k{kk vf/kdkjh
C6: =MASTER!K8 -> ftyk f'k{kk vf/kdkjh] eq[;ky;] ek/;fed
C7: =MASTER!K9 -> jktleUn ftyk & jktleUn
C9: fo"k; %& vodk'k pkgus ckcr A
B11: egksn;
C12: mi;qZDr fo"k;kUrxZr fuosnu gS fd eSa fnukad | F12: =(INDEX(MASTER!I13:I47,MATCH('LEAVE APPLICATION DDO'!E1,MASTER!A13:A47,0))) -> 44197 | G12: ls fnukad | H12: =(INDEX(MASTER!J13:J47,MATCH('LEAVE APPLICATION DDO'!E1,MASTER!A13:A47,0))) -> 44203
B13: rd | C13: =(INDEX(MASTER!L13:L47,MATCH('LEAVE APPLICATION DDO'!E1,MASTER!A13:A47,0))) -> रूपांतरित अवकाश | E13: ij | F13: =(INDEX(MASTER!M13:M47,MATCH('LEAVE APPLICATION DDO'!E1,MASTER!A13:A47,0))) -> chekjh ds dkj.k | G13: dkj.k ls jguk pkgrk gwa A
C14: d`i;k esjk vodk'k Lohd`r djus dh d`ik djkosa A
B15: layXu %&
B16: 1- | C16: vodk'k QkeZ
B17: 2- | C17: jksx o vkjksX; izek.k i=
B18: fnukad %& | C18: =F12 -> 44197
F19: izkFkhZ
D21: uke %& | E21: =(INDEX(MASTER!B13:B47,MATCH('LEAVE APPLICATION DDO'!E1,MASTER!A13:A47,0))) -> Jh izeksn dqekj ikyhoky
D22: in %& | E22: =(INDEX(MASTER!C13:C47,MATCH('LEAVE APPLICATION DDO'!E1,MASTER!A13:A47,0))) -> प्रधानाचार्य
D23: inLFkkiu LFkku %& | E23: =A2 -> Jh ckyd`".k fo/kk Hkou jktdh; mPp ek/;fed fo|ky; dkadjksyh ftyk & jktleUn
A27: vodk'k izkFkZuk i=
A28: 1- | B28: uke %& | C28: =(INDEX(MASTER!B13:B47,MATCH('LEAVE APPLICATION DDO'!E1,MASTER!A13:A47,0))) -> Jh izeksn dqekj ikyhoky | F28: in %& | G28: =(INDEX(MASTER!C13:C47,MATCH('LEAVE APPLICATION DDO'!E1,MASTER!A13:A47,0))) -> प्रधानाचार्य
A29: 2- | B29: vodk'k ysus dh fnukad | D29: =(INDEX(MASTER!I13:I47,MATCH('LEAVE APPLICATION DDO'!E1,MASTER!A13:A47,0))) -> 44197 | E29: ls | F29: =(INDEX(MASTER!J13:J47,MATCH('LEAVE APPLICATION DDO'!E1,MASTER!A13:A47,0))) -> 44203 | G29: rd
A30: 3- | B30: fnukas dh dqy la[;k %& | D30: =(INDEX(MASTER!K13:K47,MATCH('LEAVE APPLICATION DDO'!E1,MASTER!A13:A47,0))) -> 7 | E30: vodk'k dk izdkj %& | G30: =(INDEX(MASTER!L13:L47,MATCH('LEAVE APPLICATION DDO'!E1,MASTER!A13:A47,0))) -> रूपांतरित अवकाश
A31: 4- | B31: vodk'k dk dkj.k %& | D31: =(INDEX(MASTER!M13:M47,MATCH('LEAVE APPLICATION DDO'!E1,MASTER!A13:A47,0))) -> chekjh ds dkj.k
A32: 5- | B32: vodk'k dk irk %& | D32: =(INDEX(MASTER!N13:N47,MATCH('LEAVE APPLICATION DDO'!E1,MASTER!A13:A47,0))) -> iapjRu dksEiysDl ]dkadjksyh
B34: fnukad %& | C34: =C18 -> 44197 | F34: gLrk{kj dkfeZd
A35: dk;kZy; mi;ksx gsrq
A36: 1- | B36: dqy tek vodk'k %& | D36: 314
A37: 2- | B37: vHkh miHkksx fd;s x;s vodk'k dh la[;k %& | F37: 6
A38: 3- | B38: vkt fnukad rd 'ks"k vodk'k dh la[;k %& | E38: =D36-F37 -> 308
F40: dk;kZy; izHkkjh ds gLrk{kj
A41: dk;kZy;k/;{k mi;ksx gsrq
B42: =D30 -> 7 | C42: fnu dk vkdfLed@ifjofrZr@mikftZr vodk'k Lohd`r@vLohd`r fd;k tkrk gSA
F44: l{ke vf/kdkjh ds gLrk{kj

Sheet LEAVE JOINING DDO
B1: ekLVj 'khV esa dkfeZd dk flfj;y uEcj %& | E1: 1
A2: =MASTER!C6 -> Jh ckyd`".k fo/kk Hkou jktdh; mPp ek/;fed fo|ky; dkadjksyh ftyk & jktleUn
A3: Øekad@jkmekfo@dakdjksyh@laLFkkiu@Qk&104@2020&21@ fnukad 08@01@2021
B5: lsokesa
C6: Jheku | D6: =MASTER!K7 -> ftyk f'k{kk vf/kdkjh
C7: =MASTER!K8 -> ftyk f'k{kk vf/kdkjh] eq[;ky;] ek/;fed
C8: =MASTER!K9 -> jktleUn ftyk & jktleUn
C10: fo"k; %& vodk'k ls yksV dj iqu% dk;ZHkkj xzg.k djus ckcr A
B12: egksn;
C13: mi;qZDr fo"k;kUrxZr fuosnu gS fd eSa fnukad | F13: =(INDEX(MASTER!I13:I47,MATCH('LEAVE JOINING DDO'!E1,MASTER!A13:A47,0))) -> 44197 | G13: ls fnukad | H13: =(INDEX(MASTER!J13:J47,MATCH('LEAVE JOINING DDO'!E1,MASTER!A13:A47,0))) -> 44203
B14: rd | C14: =(INDEX(MASTER!L13:L47,MATCH('LEAVE JOINING DDO'!E1,MASTER!A13:A47,0))) -> रूपांतरित अवकाश | E14: ij jgk Fkk A vc vkt fnukad | H14: 44204
B15: dks fo/kky;@dk;kZy; le; ij viuh M;qVh ij mifLFkr gks x;k gwa A
C16: d`i;k dk;Zxzg.k djkus o esjk vodk'k Lohd`r djus dh d`ik djkosa A
B17: layXu %&
B18: 1- | C18: vodk'k QkeZ
B19: 2- | C19: jksx o vkjksX; izek.k i=
B20: fnukad %& | C20: =H14 -> 44204 | F20: izkFkhZ
D22: uke %& | E22: =(INDEX(MASTER!B13:B47,MATCH('LEAVE JOINING DDO'!E1,MASTER!A13:A47,0))) -> Jh izeksn dqekj ikyhoky
D23: in %& | E23: =(INDEX(MASTER!C13:C47,MATCH('LEAVE JOINING DDO'!E1,MASTER!A13:A47,0))) -> प्रधानाचार्य
D24: inLFkkiu LFkku %& | E24: =A2 -> Jh ckyd`".k fo/kk Hkou jktdh; mPp ek/;fed fo|ky; dkadjksyh ftyk & jktleUn
A28: =A3 -> Øekad@jkmekfo@dakdjksyh@laLFkkiu@Qk&104@2020&21@ fnukad 08@01@2021
A29: izfrfyfi lqpukFkZ ,oa ikyukFkZ %&
B30: 1 ys[kk 'kk[kk nks izfrA
B31: 2 lEcfU/kr dkfeZd | D31: =E22 -> Jh izeksn dqekj ikyhoky | F31: =E23 -> प्रधानाचार्य
B32: 3 O;fDrxr iaftdk | D32: =E22 -> Jh izeksn dqekj ikyhoky | F32: =E23 -> प्रधानाचार्य
B33: 4 dk;kZy; izfrA
E35: =MASTER!C7 -> iz/kkukpk;Z
E36: =MASTER!C8 -> jktdh; mPp ek/;fed fo|ky;
E37: =MASTER!C9 -> dkadjksyh ftyk & jktleUn

Sheet LEAVE APPLICATION EMPLOYEE
B1: ekLVj 'khV esa dkfeZd dk flfj;y uEcj %& | E1: 1
A2: =MASTER!C6 -> Jh ckyd`".k fo/kk Hkou jktdh; mPp ek/;fed fo|ky; dkadjksyh ftyk & jktleUn
B4: lsokesa
C5: Jheku | D5: =MASTER!C7 -> iz/kkukpk;Z
C6: =MASTER!C8 -> jktdh; mPp ek/;fed fo|ky;
C7: =MASTER!C9 -> dkadjksyh ftyk & jktleUn
C9: fo"k; %& vodk'k pkgus ckcr A
B11: egksn;
C12: mi;qZDr fo"k;kUrxZr fuosnu gS fd eSa fnukad | F12: =(INDEX(MASTER!I13:I47,MATCH('LEAVE APPLICATION EMPLOYEE'!E1,MASTER!A13:A47,0))) -> 44197 | G12: ls fnukad | H12: =(INDEX(MASTER!J13:J47,MATCH('LEAVE APPLICATION EMPLOYEE'!E1,MASTER!A13:A47,0))) -> 44203
B13: rd | C13: =(INDEX(MASTER!L13:L47,MATCH('LEAVE APPLICATION EMPLOYEE'!E1,MASTER!A13:A47,0))) -> रूपांतरित अवकाश | E13: ij | F13: =(INDEX(MASTER!M13:M47,MATCH('LEAVE APPLICATION EMPLOYEE'!E1,MASTER!A13:A47,0))) -> chekjh ds dkj.k | G13: dkj.k ls jguk pkgrk gwa A
C14: d`i;k esjk vodk'k Lohd`r djus dh d`ik djkosa A
B15: layXu %&
B16: 1- | C16: vodk'k QkeZ
B17: 2- | C17: jksx o vkjksX; izek.k i=
B18: fnukad %& | C18: =F12 -> 44197
F19: izkFkhZ
D21: uke %& | E21: =(INDEX(MASTER!B13:B47,MATCH('LEAVE APPLICATION EMPLOYEE'!E1,MASTER!A13:A47,0))) -> Jh izeksn dqekj ikyhoky
D22: in %& | E22: =(INDEX(MASTER!C13:C47,MATCH('LEAVE APPLICATION EMPLOYEE'!E1,MASTER!A13:A47,0))) -> प्रधानाचार्य
D23: inLFkkiu LFkku %& | E23: =A2 -> Jh ckyd`".k fo/kk Hkou jktdh; mPp ek/;fed fo|ky; dkadjksyh ftyk & jktleUn
A27: vodk'k izkFkZuk i=
A28: 1- | B28: uke %& | C28: =(INDEX(MASTER!B13:B47,MATCH('LEAVE APPLICATION EMPLOYEE'!E1,MASTER!A13:A47,0))) -> Jh izeksn dqekj ikyhoky | F28: in %& | G28: =(INDEX(MASTER!C13:C47,MATCH('LEAVE APPLICATION EMPLOYEE'!E1,MASTER!A13:A47,0))) -> प्रधानाचार्य
A29: 2- | B29: vodk'k ysus dh fnukad | D29: =(INDEX(MASTER!I13:I47,MATCH('LEAVE APPLICATION EMPLOYEE'!E1,MASTER!A13:A47,0))) -> 44197 | E29: ls | F29: =(INDEX(MASTER!J13:J47,MATCH('LEAVE APPLICATION EMPLOYEE'!E1,MASTER!A13:A47,0))) -> 44203 | G29: rd
A30: 3- | B30: fnukas dh dqy la[;k %& | D30: =(INDEX(MASTER!K13:K47,MATCH('LEAVE APPLICATION EMPLOYEE'!E1,MASTER!A13:A47,0))) -> 7 | E30: vodk'k dk izdkj %& | G30: =(INDEX(MASTER!L13:L47,MATCH('LEAVE APPLICATION EMPLOYEE'!E1,MASTER!A13:A47,0))) -> रूपांतरित अवकाश
A31: 4- | B31: vodk'k dk dkj.k %& | D31: =(INDEX(MASTER!M13:M47,MATCH('LEAVE APPLICATION EMPLOYEE'!E1,MASTER!A13:A47,0))) -> chekjh ds dkj.k
A32: 5- | B32: vodk'k dk irk %& | D32: =(INDEX(MASTER!N13:N47,MATCH('LEAVE APPLICATION EMPLOYEE'!E1,MASTER!A13:A47,0))) -> iapjRu dksEiysDl ]dkadjksyh
B34: fnukad %& | C34: =C18 -> 44197 | F34: gLrk{kj dkfeZd
A35: dk;kZy; mi;ksx gsrq
A36: 1- | B36: dqy tek vodk'k %& | D36: 324
A37: 2- | B37: vHkh miHkksx fd;s x;s vodk'k dh la[;k %& | F37: 10
A38: 3- | B38: vkt fnukad rd 'ks"k vodk'k dh la[;k %& | E38: =D36-F37 -> 314
F40: dk;kZy; izHkkjh ds gLrk{kj
A41: dk;kZy;k/;{k mi;ksx gsrq
B42: =D30 -> 7 | C42: fnu dk vkdfLed@ifjofrZr@mikftZr vodk'k Lohd`r@vLohd`r fd;k tkrk gSA
F44: l{ke vf/kdkjh ds gLrk{kj

Sheet LEAVE JOINING EMPLOYEE
B1: ekLVj 'khV esa dkfeZd dk flfj;y uEcj %& | E1: 1
A4: =MASTER!C6 -> Jh ckyd`".k fo/kk Hkou jktdh; mPp ek/;fed fo|ky; dkadjksyh ftyk & jktleUn
B6: lsokesa
C7: Jheku | D7: =MASTER!C7 -> iz/kkukpk;Z
C8: =MASTER!C8 -> jktdh; mPp ek/;fed fo|ky;
C9: =MASTER!C9 -> dkadjksyh ftyk & jktleUn
C11: fo"k; %& vodk'k ls yksV dj iqu% dk;ZHkkj xzg.k djus ckcr A
B13: egksn;
C14: mi;qZDr fo"k;kUrxZr fuosnu gS fd eSa fnukad | F14: =(INDEX(MASTER!I13:I47,MATCH('LEAVE JOINING EMPLOYEE'!E1,MASTER!A13:A47,0))) -> 44197 | G14: ls fnukad | H14: =(INDEX(MASTER!J13:J47,MATCH('LEAVE JOINING EMPLOYEE'!E1,MASTER!A13:A47,0))) -> 44203
B15: rd | C15: =(INDEX(MASTER!L13:L47,MATCH('LEAVE JOINING EMPLOYEE'!E1,MASTER!A13:A47,0))) -> रूपांतरित अवकाश | E15: ij jgk Fkk A vc vkt fnukad | H15: 44207
B16: dks fo/kky;@dk;kZy; le; ij viuh M;qVh ij mifLFkr gks x;k gwa A
C17: d`i;k dk;Zxzg.k djkus o esjk vodk'k Lohd`r djus dh d`ik djkosa A
B18: layXu %&
B19: 1- | C19: vodk'k QkeZ
B20: 2- | C20: jksx o vkjksX; izek.k i=
B21: fnukad %& | C21: =H15 -> 44207
F22: izkFkhZ
D25: uke %& | E25: =(INDEX(MASTER!B13:B47,MATCH('LEAVE JOINING EMPLOYEE'!E1,MASTER!A13:A47,0))) -> Jh izeksn dqekj ikyhoky
D26: in %& | E26: =(INDEX(MASTER!C13:C47,MATCH('LEAVE JOINING EMPLOYEE'!E1,MASTER!A13:A47,0))) -> प्रधानाचार्य
D27: inLFkkiu LFkku %& | E27: =A4 -> Jh ckyd`".k fo/kk Hkou jktdh; mPp ek/;fed fo|ky; dkadjksyh ftyk & jktleUn

Sheet LEAVE FORM
B1: ekLVj 'khV esa dkfeZd dk flfj;y uEcj %& | F1: 1
B2: jktLFkku lsok fu;eksa ds vUrxZr vodk'k ds fy;s vksosnu i= dk izi=
B3: 1- | C3: vkosnd dk uke % ------------------------------------------------------------------------------------------------ | F3: =(INDEX(MASTER!B13:B47,MATCH('LEAVE FORM'!F1,MASTER!A13:A47,0))) -> Jh izeksn dqekj ikyhoky
B4: 2- | C4: in dk uke | F4: =(INDEX(MASTER!C13:C47,MATCH('LEAVE FORM'!F1,MASTER!A13:A47,0))) -> प्रधानाचार्य
B5: 3- | C5: foHkkx] dk;kZy; dk uke | F5: =MASTER!M10 -> f'k{kk | G5: =MASTER!C6 -> Jh ckyd`".k fo/kk Hkou jktdh; mPp ek/;fed fo|ky; dkadjksyh ftyk & jktleUn
B6: 4- | C6: osru | F6: =(INDEX(MASTER!E13:E47,MATCH('LEAVE FORM'!F1,MASTER!A13:A47,0))) -> 82700
B7: 5- | C7: edku fdjk;k HkRrk] lokjh HkRrk ;k orZeku in ij izkIr vU; {kfriwfrZ HkRrk | F7: fu;ekuqqlkj
B8: 6- | C8: vkosfnr vodk'k dk izdkj vkSj mldh vof/k rFkk fnukad ftlesa mldh vko';Drk gS | F8: =(INDEX(MASTER!L13:L47,MATCH('LEAVE FORM'!F1,MASTER!A13:A47,0))) -> रूपांतरित अवकाश | G8: =(INDEX(MASTER!I13:I47,MATCH('LEAVE FORM'!F1,MASTER!A13:A47,0))) -> 44197 | H8: =(INDEX(MASTER!J13:J47,MATCH('LEAVE FORM'!F1,MASTER!A13:A47,0))) -> 44203
B9: 7- | C9: jfookj rFkk NqfV~V;ka ;fn dksbZ gks] mUgsa vodk'k ds igys@ckn esa tksM+us dk izLrko | F9: ugha
B10: 8- | C10: vodk'k ds fy;s vkosnu dk dkj.k | F10: =(INDEX(MASTER!M13:M47,MATCH('LEAVE FORM'!F1,MASTER!A13:A47,0))) -> chekjh ds dkj.k
B11: 9- | C11: xr vodk'k ls ykSVus dh fnukad rFkk mDr vodk'k dk izdkj rFkk vof/k
B12: 10- | C12: ¼d½ esa mikftZr :ikUrfjr vodk'k ds nkSjku izkIr fd;k x;k vodk'k osru vkSj v)Zosru vodk'k ml n'kk esa tcfd jktLFkku lfoZl :Yl fu;e 93 ds mifu;e x ds [k.M 3 ds uhps fn; x;s ijUrq ^d^ ds izko/kku mDr vodk'k dh lekfIr ij vFkok mlds nkSjku lfoZl esa esjs lsokfuo`r gksus dh fLFkfr esa iz;qDr ugha fd;s x;s gks rks vuqer ugha gksrk fd vof/k esa vuqer osru dh vUrj jkf'k okil vnk djus dk opu nsrk gwWaA | F12: gka
B19: 11- | C19: vodk'k dky esa jgus dk irk | F19: =(INDEX(MASTER!N13:N47,MATCH('LEAVE FORM'!F1,MASTER!A13:A47,0))) -> iapjRu dksEiysDl ]dkadjksyh
B20: 12- | C20: fu;a=.k vf/kdkjh dk vkKk ;k flWQkfj'k | F20: Lohd`r
F23: vkosnd ds gLrk{kj ¼fnukad lfgr½
E24: in %& | F24: =F4 -> प्रधानाचार्य
B26: vodk'k vuqer gksus lEcU/kh i=
B27: ¼jktif=r vf/kdkfj;ksa ds ekeys esa egkys[kkdkj }kjk½
B28: izekf.kr fd;k tkrk gS fd jkt-lsok fu;e | F28: ds v/khu fnukad | G28: =G8 -> 44197 | H28: ls
B29: =H8 -> 44203 | D29: rd | E29: =F8 -> रूपांतरित अवकाश | F29: vodk'k | G29: dqy fnu %& | H29: =(INDEX(MASTER!K13:K47,MATCH('LEAVE FORM'!F1,MASTER!A13:A47,0))) -> 7
B30: ¼vodk'k dk izdkj½ dk vuqer gSA
B32: vodk'k dh Lohd`fr nsus okys izkf/kdkjh dh vkKk
F33: gLrk{kj ¼fnukd lfgr½
E34: in %& | F34: =MASTER!C7 -> iz/kkukpk;Z
F35: =MASTER!C8 -> jktdh; mPp ek/;fed fo|ky;
F36: =MASTER!C9 -> dkadjksyh ftyk & jktleUn

Sheet LEAVE SENCTION ORDER
B1: ekLVj 'khV esa dkfeZd dk flfj;y uEcj %& | E1: 1
A2: =MASTER!C6 -> Jh ckyd`".k fo/kk Hkou jktdh; mPp ek/;fed fo|ky; dkadjksyh ftyk & jktleUn
A3: dk;kZy; vkns'k
B4: =(INDEX(MASTER!B13:B47,MATCH('LEAVE SENCTION ORDER'!E1,MASTER!A13:A47,0))) -> Jh izeksn dqekj ikyhoky | D4: in | E4: =(INDEX(MASTER!C13:C47,MATCH('LEAVE SENCTION ORDER'!E1,MASTER!A13:A47,0))) -> प्रधानाचार्य
A5: dk fuEukuqlkj vodk'k Loh—r fd;k tkrk gSA
A6: Øa-l- | B6: vof/k | D6: dqy fnu | E6: vodk'k dk izdkj
B7: fnukad ls | C7: fnukad rd
A8: =A29 -> 1 | B8: =(INDEX(MASTER!I13:I47,MATCH('LEAVE SENCTION ORDER'!E1,MASTER!A13:A47,0))) -> 44197 | C8: =(INDEX(MASTER!J13:J47,MATCH('LEAVE SENCTION ORDER'!E1,MASTER!A13:A47,0))) -> 44203 | D8: =(INDEX(MASTER!K13:K47,MATCH('LEAVE SENCTION ORDER'!E1,MASTER!A13:A47,0))) -> 7 | E8: =(INDEX(MASTER!L13:L47,MATCH('LEAVE SENCTION ORDER'!E1,MASTER!A13:A47,0))) -> रूपांतरित अवकाश
E10: gLrk{kj vf/kdkjh
A12: Øekad@jkmekfo@dakdjksyh@laLFkkiu@Qk&104@2020&21@ fnukad 19@01@2021
A13: izfrfyfi lqpukFkZ ,oa ikyukFkZ %&
B14: 1 ys[kk 'kk[kk nks izfrA
B15: 2 lEcfU/kr dkfeZd | C15: =B4 -> Jh izeksn dqekj ikyhoky | E15: =E4 -> प्रधानाचार्य
B16: 3 O;fDrxr iaftdk | C16: =C15 -> Jh izeksn dqekj ikyhoky | E16: =E15 -> प्रधानाचार्य
B17: 4 dk;kZy; izfrA
E19: gLrk{kj vf/kdkjh
A23: dk;kZy; iz/kkukpk;Z jktdh; mPp ek/;fed fo|ky; dakdjksyh
A24: dk;kZy; vkns'k
B25: =B4 -> Jh izeksn dqekj ikyhoky | D25: in | E25: =E4 -> प्रधानाचार्य
A26: dk fuEukuqlkj vodk'k Loh—r fd;k tkrk gSA
A27: Øa-l- | B27: vof/k | D27: dqy fnu | E27: vodk'k dk izdkj
B28: fnukad ls | C28: fnukad rd
A29: 1 | B29: =B8 -> 44197 | C29: =C8 -> 44203 | D29: =D8 -> 7 | E29: =E8 -> रूपांतरित अवकाश
E31: gLrk{kj vf/kdkjh
A33: =A12 -> Øekad@jkmekfo@dakdjksyh@laLFkkiu@Qk&104@2020&21@ fnukad 19@01@2021
A34: izfrfyfi lqpukFkZ ,oa ikyukFkZ %&
B35: 1 ys[kk 'kk[kk nks izfrA
B36: 2 lEcfU/kr | C36: =C16 -> Jh izeksn dqekj ikyhoky | E36: =E16 -> प्रधानाचार्य
B37: 3 O;fDrxr iaftdk | C37: =C36 -> Jh izeksn dqekj ikyhoky | E37: =E36 -> प्रधानाचार्य
B38: 4 dk;kZy; izfrA
E40: gLrk{kj vf/kdkjh

Sheet APPLICATION FOR CHILD CARE LEAV
B1: ekLVj 'khV esa dkfeZd dk flfj;y uEcj %& | D1: 1
A3: APPLICATION FOR CHILD CARE LEAVE
A4: 1 | B4: NAME OF THE APPLICANT | C4: % | D4: =(INDEX(MASTER!B13:B47,MATCH('APPLICATION FOR CHILD CARE LEAV'!D1,MASTER!A13:A47,0))) -> Jh izeksn dqekj ikyhoky
A5: 2 | B5: DESIGNATION | C5: % | D5: =(INDEX(MASTER!C13:C47,MATCH('APPLICATION FOR CHILD CARE LEAV'!D1,MASTER!A13:A47,0))) -> प्रधानाचार्य
A6: 3 | B6: DEPT/OFFICE/SECTION | C6: % | D6: =MASTER!$C$6 -> Jh ckyd`".k fo/kk Hkou jktdh; mPp ek/;fed fo|ky; dkadjksyh ftyk & jktleUn
A7: 4 | B7: DETAIL OF CHILD/CHILDREN | C7: % | D7: NAME - BHASKAR SANADHYA DATE OF BIRTH- 19.04.2002
A8: 5 | B8: NAME OF SPECIALLY ABLED | C8: %
A9: 6 | B9: NAME OF CHILD FOR WHOM CHILD CARE LEAVE IS APPLIED FOR | C9: % | D9: BHASKAR SANADHYA
A10: 7 | B10: DATE OF BIRTH OF THE CHILD | C10: % | D10: 19.04.2002
A11: 8 | B11: DATE OF WHICH CHILD WILL BE ATTAINING AGE OF 18 YEARS | C11: % | D11: 19.04.2002
A12: 9 | B12: IS THE CHILD AMONG THE TWO ELDEST CHILDEREN | C12: % | D12: YES/NO
A13: 10 | B13: PERIOD OF LEAVE & NUMBER OF DAYS PREFIX/SUFFIX OF HOLIDAYS, IF ANY | C13: % | D13: FROM 01.01.2020 TO 02.01.2020 DAYS - 2
A14: 11 | B14: REASON (S) FOR LEAVE APPLIED FOR | C14: % | D14: CHILD CARE
A15: 12 | B15: TOTAL CHILD CARE LEAVE AVAILED TILL DATE | C15: % | D15: 77
A16: 13 | B16: (A)- WHETHER PERMISSION TO LEAVE STATION IS REQUIRED | C16: % | D16: YES/NO
B17: (B) IF YES, ADDRESS DURING LEAVE PERIOD | C17: % | D17: YES/NO
A18: 14 | B18: DATE OF RETURN FROM LAST LEAVE, & NATURE AND PERIOD OF THAT LEAVE | C18: %
A20: DATE : 01.01.2020 | D20: SIGNATURE OF APPLICANT
B21: EMPLOYEE ID NO. | D21: RJRA198631004041
A22: LEAVE SANCTION AUTHORITY
A23: REMARK OF CONTROLLING OFFICER LEAVE RECOMMENDED / LEAVE NOT RECOMMENDED
A26: DATE : 01.01.2020 | D26: SIGNATURE OF DDO
A27: DESIGNATION : PRINCIPAL | D27: OFFICE: G.S.S.S.KANKROLI

Sheet CHILD CARE LEAVE SENCTION
B1: ekLVj 'khV esa dkfeZd dk flfj;y uEcj %& | E1: 1
A2: dk;kZy; iz/kkukpk;Z] jktdh; mPPk ek/;fed fo|ky;] dkadjksyh ftyk&jktleUn
A3: dzekad@jkmekfo@dkadjksyh@ys[kk@Qk- 103@2020&21@ fnuakd 28-06-2021
A5: dk;kZy; vkns’k
A7: Jhefr | B7: =(INDEX(MASTER!B13:B47,MATCH('CHILD CARE LEAVE SENCTION'!E1,MASTER!A13:A47,0))) -> Jh izeksn dqekj ikyhoky | D7: us vius vkosnu i= fnukad | F7: 20.02.2021
A8: ds }kjk fpfdRld dh lykg ij vius iq= | D8: Jh HkkLdj luk<; | F8: dh ns[kHkky @
A9: v/;;u gsrq fnukad | B9: =(INDEX(MASTER!I13:I47,MATCH('CHILD CARE LEAVE SENCTION'!E1,MASTER!A13:A47,0))) -> 44197 | C9: ls | D9: =(INDEX(MASTER!J13:J47,MATCH('CHILD CARE LEAVE SENCTION'!E1,MASTER!A13:A47,0))) -> 44203 | E9: rd dqy | F9: =(INDEX(MASTER!K13:K47,MATCH('CHILD CARE LEAVE SENCTION'!E1,MASTER!A13:A47,0))) -> 7
A10: fnol dh pkbYM ds;j yho gsrq vkosnu fd;k gS A
B11: jkT; ljdkj dh vf/klwpuk dzaekd NO.F.1(6)FD/RULES/2011/ t;iqj
A12: fnukad 22 ebZ 2018 esa of.kZr funsZ'kkuqlkj jktLFkku lsok fu;e 103 lh ds rgr | F12: Jhefr
A13: =B7 -> Jh izeksn dqekj ikyhoky | C13: dh dqy | D13: =F9 -> 7 | E13: fnol dh pkbYM ds;j yho
A14: mDr vkns'k esa of.kZr 'krksZ ds v/khu Lohdqr dh tkrh gS A
B15: jktLFkku lsok fu;e 103 lh ds fcUnq la[;k 2 ¼ k ½ ds vuqlkj bUgsa mDr
A16: vodkl vof/k dk vodkl osru ns; gksxk A bl vodk'k Lohd`fr vkns'k dh izfof"B lEcfU/kr
A17: dkfeZd dh lsok iqfLrdk esa dj nh x;h gS A
D19: =MASTER!C7 -> iz/kkukpk;Z
D20: =MASTER!C8 -> jktdh; mPp ek/;fed fo|ky;
D21: =MASTER!C9 -> dkadjksyh ftyk & jktleUn
A22: =A3 -> dzekad@jkmekfo@dkadjksyh@ys[kk@Qk- 103@2020&21@ fnuakd 28-06-2021
A23: izfrfyfi vko';d dk;Zokgh ,oa lqpukFkZ %&
A24: 1-Jheku ftyk f'k{kk vf/kdkjh ek/;fed | D24: eq[;ky;]jktleUn
A25: 2-lEcfU/kr Jhefr | B25: =B7 -> Jh izeksn dqekj ikyhoky | D25: =(INDEX(MASTER!C13:C47,MATCH('CHILD CARE LEAVE SENCTION'!E1,MASTER!A13:A47,0))) -> प्रधानाचार्य
A26: 3-O;fDrxr iaftdk | B26: =B25 -> Jh izeksn dqekj ikyhoky | D26: =D25 -> प्रधानाचार्य
A27: 4-dk;kZy; izfrA
D28: =D19 -> iz/kkukpk;Z
D29: =D20 -> jktdh; mPp ek/;fed fo|ky;
D30: =D21 -> dkadjksyh ftyk & jktleUn

Sheet CHILD CARE LEAVE ACCOUNT
B1: ekLVj 'khV esa dkfeZd dk flfj;y uEcj %& | E1: 1
A3: Proforma for maintaining Child Care Leave Account
A5: uke deZpkjh& | B5: =(INDEX(MASTER!B13:B47,MATCH('CHILD CARE LEAVE ACCOUNT'!E1,MASTER!A13:A47,0))) -> Jh izeksn dqekj ikyhoky | D5: in %& | E5: =(INDEX(MASTER!C13:C47,MATCH('CHILD CARE LEAVE ACCOUNT'!E1,MASTER!A13:A47,0))) -> प्रधानाचार्य
A6: iwjs lsokdky esa ns; dqy @ 'ks"k pkbzM ds;j yho | E6: 730
A7: Period of Child care Leave Taken | D7: Balance of Child Care Leave | F7: Signature and designation the certifying officer
A8: From | B8: To | C8: Total Days | D8: Balance | E8: Date
A9: ¼1½ | B9: ¼2½ | C9: ¼3½ | D9: ¼4½ | E9: ¼5½ | F9: ¼6½
A10: =(INDEX(MASTER!I13:I47,MATCH('CHILD CARE LEAVE ACCOUNT'!E1,MASTER!A13:A47,0))) -> 44197 | B10: =(INDEX(MASTER!J13:J47,MATCH('CHILD CARE LEAVE ACCOUNT'!E1,MASTER!A13:A47,0))) -> 44203 | C10: =(INDEX(MASTER!K13:K47,MATCH('CHILD CARE LEAVE ACCOUNT'!E1,MASTER!A13:A47,0))) -> 7 | D10: =E6-C10 -> 723 | E10: 02.02.2021
F11: =MASTER!C7 -> iz/kkukpk;Z
F12: =MASTER!C8 -> jktdh; mPp ek/;fed fo|ky;
F13: =MASTER!C9 -> dkadjksyh ftyk & jktleUn
F15: =F11 -> iz/kkukpk;Z
F16: =F12 -> jktdh; mPp ek/;fed fo|ky;
F17: =F13 -> dkadjksyh ftyk & jktleUn
F19: =F11 -> iz/kkukpk;Z
F20: =F12 -> jktdh; mPp ek/;fed fo|ky;
F21: =F13 -> dkadjksyh ftyk & jktleUn
F23: =F11 -> iz/kkukpk;Z
F24: =F12 -> jktdh; mPp ek/;fed fo|ky;
F25: =F13 -> dkadjksyh ftyk & jktleUn
F27: =F11 -> iz/kkukpk;Z
F28: =F12 -> jktdh; mPp ek/;fed fo|ky;
F29: =F13 -> dkadjksyh ftyk & jktleUn

Sheet 10 DAYS PL
B1: ekLVj 'khV esa dkfeZd dk flfj;y uEcj %& | E1: 1
A4: dk;Zxzg.k dky ds cnys mikftZr vodk'k izi=
A6: 1 | B6: uke deZpkjh %& | D6: =(INDEX(MASTER!B13:B47,MATCH('10 DAYS PL'!E1,MASTER!A13:A47,0))) -> Jh izeksn dqekj ikyhoky
A7: 2 | B7: in %& | D7: =(INDEX(MASTER!C13:C47,MATCH('10 DAYS PL'!E1,MASTER!A13:A47,0))) -> प्रधानाचार्य
A8: 3 | B8: iwoZ inLFkkiu LFkku %& | D8: =MASTER!C6 -> Jh ckyd`".k fo/kk Hkou jktdh; mPp ek/;fed fo|ky; dkadjksyh ftyk & jktleUn
A9: 4 | B9: u;k inLFkkiu LFkku %& | D9: =MASTER!C6 -> Jh ckyd`".k fo/kk Hkou jktdh; mPp ek/;fed fo|ky; dkadjksyh ftyk & jktleUn
A10: 5 | B10: inksUufr @ LFkkukUrj.k vkns'k dk dzekad ,oa fnukad ¼ izfr layXu djsa ½ %&
B11: Jheku funs'kd egksn;]ek/;fed f'k{kk]jktLFkku]chdkusj ds vkns'k dzekad@f'kfojk@ek/;@
B12: fnukad 15-03-2021
A13: 6 | B13: iwoZ LFkku ij dk;ZHkkj NksMus dh frfFk iwokZUg @ vijkUg %& | G13: 01.07.2021
A14: 7 | B14: dk;ZHkkj LFkkukUrj.k dh izfrfyfi %& | G14: layXu gS
A15: 8 | B15: u;s LFkku ij dk;ZHkkj lEHkkyus dh frfFk iwokZUg @ vijkUg %& | G15: 01.07.2021
A16: 9 | B16: iwoZ LFkku ls u;s LFkku dh nwjh ¼ fdyks ehVj esa ½ %& | G16: 500
A17: 10 | B17: ftl lk/ku ls ;k=k dh mldk fooj.k nsosa %& | G17: cl@Vªsu
A18: 11 | B18: inksUufr @ LFkkukUrj.k Lo;a dh izkFkZuk @ jkT;fgr esaa %& | G18: jkT;fgr esaa
A19: 12 | B19: dk;Zxzg.k dky dk mi;ksx u djus ds cnys esa fdrus fnu dk mikftZr vodk'k pkgk gS %&
C20: dqy | D20: 10 | E20: fnu
B22: layXu %&
A23: 1- | B23: inkSUufr@LFkkukUrj.k vkns'k dh nks izfrfyfi A
A24: 2- | B24: inkSUufr@LFkkukUrj.k ij dk;ZeqfDr vkns'k dh nks izfrfyfi A
A25: 3- | B25: inkSUufr@LFkkukUrj.k ij dk;Zxzg.k vkns'k dh nks izfrfyfi A
B26: vkosnu i= izLrqr djus dh fnukad %& | E26: 01.07.2021
E30: gLrk{kj deZpkjh
D32: in %& | E32: =D7 -> प्रधानाचार्य
B33: inLFkkiu dk LFkku %& | D33: =D9 -> Jh ckyd`".k fo/kk Hkou jktdh; mPp ek/;fed fo|ky; dkadjksyh ftyk & jktleUn

Sheet 10 DAYS PL SENCTION
B1: ekLVj 'khV esa dkfeZd dk flfj;y uEcj %& | E1: 1
A2: =MASTER!C6 -> Jh ckyd`".k fo/kk Hkou jktdh; mPp ek/;fed fo|ky; dkadjksyh ftyk & jktleUn
A3: dk;kZy; vkns’k
A4: Jheku funs’kd egksn; ] ek/;fed f’k{kk ] jktLFkku ] chdkusj ds vkns’k Øekad
A5: f’kfojk&ek@LkaLFkk@lh&3@xf.kr ¼iq#"k½@Mhihlh&inLFkkiu@2013 fnukad 24-05-2013
A6: ds vuqlkj bl fo|ky; ds fuEukfdar deZpkjh dh inkSUufr jkT; fgr esa | F6: jk-m-ek-fo-
A7: dkadjksyh ftyk & jktleUn | E7: ls LFkkuh; | F7: fo|ky; esa
A8: gksus ds QyLo:Ik uohu inLFkkiu LFkku ij dk;Z xzg.k dky dk miHkksx ugh djus ds
A9: dkj.k jkT; ljdkj ds vkns’k Øekd %& ,Q&2¼6½ ,l-Mh@xzqi&2 fnukda 17-03-1981 ds
A10: vuqlkj muds uke ds lkeus vfdar fnukad dk mikftZr vodk’k dk ykHk LoRo iznku
A11: fd;k tkrk gS A
A12: Ø-l- | B12: uke dkfeZd e; in | C12: fo|ky; | D12: dk;ZeqDr fnukad | E12: dk;Zxzg.k fnukd | F12: mikftZr vodk’k
A13: 1- | B13: 2- | C13: 3- | D13: 4- | E13: 5- | F13: 6-
A14: 1 | B14: =(INDEX(MASTER!B13:B47,MATCH('10 DAYS PL SENCTION'!E1,MASTER!A13:A47,0))) -> Jh izeksn dqekj ikyhoky | C14: jktdh; mPp ek/;fed fo|ky; dkadjksyh ftyk & jktleUn | D14: 22&07&2013 | E14: 22&07&2013 | F14: 10 fnu
B15: =(INDEX(MASTER!C13:C47,MATCH('10 DAYS PL SENCTION'!E1,MASTER!A13:A47,0))) -> प्रधानाचार्य | D15: iqokZgu ckn M~;qVh | E15: vijkgu esa
D19: =MASTER!C7 -> iz/kkukpk;Z
D20: =MASTER!C8 -> jktdh; mPp ek/;fed fo|ky;
D21: =MASTER!C9 -> dkadjksyh ftyk & jktleUn
A22: Øekad@jkmekfo@dakdjksyh@laLFkkiu@Qk&104@2020&21@ fnukad 17@12@2020
A23: izfrfyfi lwpukFkZ ,oa ikyukFkZ % &
A24: 1- | B24: ys[kk ’kk[kk e; nks izfrfyfi A
A25: 2- | B25: lacaf/kr dkfeZd | C25: =B14 -> Jh izeksn dqekj ikyhoky | E25: =B15 -> प्रधानाचार्य
A26: 3- | B26: O;fDrxr iaftdk dkfeZd | C26: =C25 -> Jh izeksn dqekj ikyhoky | E26: =B15 -> प्रधानाचार्य
A27: 4- | B27: dk;kZy; izfr A
D29: =D19 -> iz/kkukpk;Z
D30: =D20 -> jktdh; mPp ek/;fed fo|ky;
D31: =D21 -> dkadjksyh ftyk & jktleUn

Sheet ON DUTY PL
A1: =MASTER!C6 -> Jh ckyd`".k fo/kk Hkou jktdh; mPp ek/;fed fo|ky; dkadjksyh ftyk & jktleUn
A2: dk;kZy; vkns'k
A3: Jheku lfpo egksn; jktLFkku LVsV vksiu Ldwy t;iqj ds vkns'k dzaekd@i 9 ¼11½
A4: vkj,lvks,l@,l,l,l@ihlhih@ijh{kk 14&15@9041&9076 fnukad 03-12-2019 ds }kjk
A5: fuEukafdr vf/kdkfj;ks@deZpkfj;ks dh izfrfu;qfDr 15 fnolh; O;fDrxr lEidZ f'kfoj esa
A6: fnukad 25 fnlEcj 2019 ls 08 tuojh 2020 rd jk-m-ek-fo-dkadjksyh esa dh xbZA
A7: vkns'k dh ikyuk esa LFkkuh; fo/kky; ds fuEu vafdr vf/kdkfj;ksa@f'k{kdks
A8: us 'khrdkyhu vodk'k vof/k esa RSOS t;iqj ds 15 fnolh; O;fDrxr lEidZ f'kfoj esa
A9: LFkkuh; fo/kky; ifjlj esa muds uke ds lkeus vfdar fnuksa rd mifLFkrh nh gS A
A11: dza-la- | B11: uke vf/kdkjh@deZpkjh | C11: in | D11: dk;kZof/k | G11: dqy dk;Z fnol
D12: fnukad | E12: ls | F12: fnukad
A13: 1 | B13: Jh izeksn dqekj ikyhoky | C13: iz/kkukpk;Z | D13: 25.12.2019 | E13: ls | F13: 08.01.2020 | G13: 15
A14: 2 | B14: Jh izeksn dqekj ikyhoky | C14: iz/kkukpk;Z | D14: 25.12.2020 | E14: ls | F14: 08.01.2021 | G14: 16
A15: 3 | B15: Jh izeksn dqekj ikyhoky | C15: iz/kkukpk;Z | D15: 25.12.2021 | E15: ls | F15: 08.01.2022 | G15: 17
A16: 4 | B16: Jh izeksn dqekj ikyhoky | C16: iz/kkukpk;Z | D16: 25.12.2022 | E16: ls | F16: 08.01.2023 | G16: 18
A17: 5 | B17: Jh izeksn dqekj ikyhoky | C17: iz/kkukpk;Z | D17: 25.12.2023 | E17: ls | F17: 08.01.2024 | G17: 19
A18: 6 | B18: Jh izeksn dqekj ikyhoky | C18: iz/kkukpk;Z | D18: 25.12.2024 | E18: ls | F18: 08.01.2025 | G18: 20
A19: 7 | B19: Jh izeksn dqekj ikyhoky | C19: iz/kkukpk;Z | D19: 25.12.2025 | E19: ls | F19: 08.01.2026 | G19: 21
A20: 8 | B20: Jh izeksn dqekj ikyhoky | C20: iz/kkukpk;Z | D20: 25.12.2026 | E20: ls | F20: 08.01.2027 | G20: 22
A21: 9 | B21: Jh izeksn dqekj ikyhoky | C21: iz/kkukpk;Z | D21: 25.12.2027 | E21: ls | F21: 08.01.2028 | G21: 23
A22: 10 | B22: Jh izeksn dqekj ikyhoky | C22: iz/kkukpk;Z | D22: 25.12.2028 | E22: ls | F22: 08.01.2029 | G22: 24
D25: =MASTER!C7 -> iz/kkukpk;Z
D26: =MASTER!C8 -> jktdh; mPp ek/;fed fo|ky;
D27: =MASTER!C9 -> dkadjksyh ftyk & jktleUn
A28: Øekad %&jkmekfo@dkadjksyh@Qk&103@laLFkkiu@2021&22@266 fnaukd %&01-04-2021
A29: izfrfyih vko';d dk;Zokgh ,oa lwpukFkZ izsf"kr %&
A30: 1 | B30: Jheku ftyk f'k{kk vf/kdkjh egksn;]eq[;ky;]ek/;fed | E30: jktleUn A
A31: 2 | B31: lEcafU/kr dkfeZd Jh@Jherh@lqJh
A32: 3 | B32: O;fDrxr iaftdk Jh@Jherh@lqJh
A33: 4 | B33: ys[kk 'kk[kk@jf{kr i=koyh A
D35: =D25 -> iz/kkukpk;Z
D36: =D26 -> jktdh; mPp ek/;fed fo|ky;
D37: =D27 -> dkadjksyh ftyk & jktleUn

Sheet SICKNESS & FITNESS CERTIFICATE
A1: ekLVj 'khV esa dkfeZd dk flfj;y uEcj %& | F1: 18
B3: jksx izek.k i=
B4: fpfdRlk ,oa LOkkLF; foHkkx ] jktLFkku
B6: eSa | C6: MkW- jkgqy egkRek | F6: izdj.k dh O;fDr'k% lko/kkukiwoZd
B7: tkWap djus ds ckn izekf.kr djrk gwa fd Jh@Jhefr | G7: =(INDEX(MASTER!B13:B47,MATCH('SICKNESS & FITNESS CERTIFICATE'!F1,MASTER!A13:A47,0))) -> 0
B8: ftuds gLrk{kj uhps fn;s gSa | E8: Toj @ Rod fodkj | G8: ls ihfMr gS vkSj eSa
B9: le>rk gwa fd fnukad | D9: =(INDEX(MASTER!I13:I47,MATCH('SICKNESS & FITNESS CERTIFICATE'!F1,MASTER!A13:A47,0))) -> 0 | F9: ls | G9: =(INDEX(MASTER!J13:J47,MATCH('SICKNESS & FITNESS CERTIFICATE'!F1,MASTER!A13:A47,0))) -> 0 | H9: rd
B10: =(INDEX(MASTER!K13:K47,MATCH('SICKNESS & FITNESS CERTIFICATE'!F1,MASTER!A13:A47,0))) -> 1 | C10: fnu ds dk;Z ls vuqifLFkfr dk le; muds LokLF; dh iqu% izkfIr
B11: ds fy, ije vko';d gSa A
B12: fnukad %& | C12: =D9 -> 0
B14: gLrk{kj jksxh
F15: ljdkjh fpfdRlk ifjpkjd
F16: ;k vU; iathd`r fpfdRld
F17: ¼ iath;u la[;k ½
B21: vkjksX; izek.k i=
B22: fpfdRlk ,oa LOkkLF; foHkkx ] jktLFkku
B24: eSa | C24: =C6 -> MkW- jkgqy egkRek | F24: izekf.kr djrk gw fd eSaus Jh@Jhefr
B25: =G7 -> 0 | D25: dks tks | F25: =MASTER!M10 -> f'k{kk | H25: foHkkx esa gS
B26: Hkyh izdkj tkWp djds ns[k fy;k gS fd os vc viuh chekjh | H26: =E8 -> Toj @ Rod fodkj
B27: ls eqDr gks x;s gSa vkSj os vc jkT; lsok dk;Z djus iw.kZ ;ksX; gSA
C28: eSa ;g izekf.kr djrk gwa fd bl fu.kZ; ls igwapus ls igys eSaus ml ewy
B29: vLokLF; izek.k&i= ,oa jksxh ds rF;ksa dh vFkok i=ksa dh lHkh izfr;ksa dh ftuds
B30: vk/kkj ij mudks vodk'k Lohd`r fd;k x;k Fkk vFkok c<k;k x;k Fkk ] dh tkWp
B31: dj fopkj dj fy;k gS A
B32: fnukad %& | C32: =G9 -> 0 | D32: lka;dky
F34: iz/kku fpfdRld
F35: ¼ iath;u la[;k ½

Sheet SICKNESS FITNESS GAZETTED HINDI
A1: ekLVj 'khV esa dkfeZd dk flfj;y uEcj %& | E1: 1
A4: jktif=r vf/kdkfj;ksa ds fy, fpfdRlk izek.k&i= | J4: ekLVj 'khV
D5: fcekjh | F5: ds ekeys dk fooj.k
A6: uke | C6: =(INDEX(MASTER!B13:B47,MATCH('SICKNESS FITNESS GAZETTED HINDI'!E1,MASTER!A13:A47,0))) -> Jh izeksn dqekj ikyhoky
A7: fu;qfDr | C7: =MASTER!C6 -> Jh ckyd`".k fo/kk Hkou jktdh; mPp ek/;fed fo|ky; dkadjksyh ftyk & jktleUn
A8: vk;q | C8: 50 o"kZ
A9: dqy lsok | C9: 31 o"kZ
A10: vodk'k dk iwoZ le; ;fn igys fpfdRlk izek.k&i= vuqifLFkr jgk gSA
A11: vknrs | C11: lkekU;
A12: jksx | C12: dkl Toj
A13: eSa] | B13: Mka- oh-ds- egkRek | E13: dk flfoy ltZu fpfdRlk vf/kdkjh ekeys dh O;fDrxr :Ik ls
A14: lko/kkuhiwoZd tkWp djus ds ckn ,rn }kjk ;g izekf.kr djrk gwa fd Jh | G14: =C6 -> Jh izeksn dqekj ikyhoky
A15: fd n'kk xEHkhj gS rFkk eSa fu"BkiwoZd ,oe xEHkhjrk iwoZd ?kks"k.kk djrk gwW fd esjs loksZre fu.kZ; ds vuqlkj LoLFk
A16: gksus ds fy, lsok ls mldk vuqifLFkr jguk vko';d gS rFkk ;g flQkfj'k djrk gwW fd mls
A17: uoEcj fnlEcj | D17: ekg dk vodk'k fnukad | F17: =(INDEX(MASTER!I13:I47,MATCH('SICKNESS FITNESS GAZETTED HINDI'!E1,MASTER!A13:A47,0))) -> 44197 | G17: ls Lohd`r fd;k tk;sA ¼esjh jk; esa
A18: vf/kdkjh ds fy, fpfdRlk&e.My ds lEeq[k mifLFkr gksuk vko';d@ vko';d ugha gSA½
A20: fnukad | B20: =F17 -> 44197
B23: eSa | C23: =B13 -> Mka- oh-ds- egkRek | E23: ij flfoy 'kY; fpfdRld fpfdRlk vf/kdkjh ,rn }kjk ;g
A24: izekf.kr djrk gwW fd eSus Jh | D24: =G14 -> Jh izeksn dqekj ikyhoky | F24: in | G24: =(INDEX(MASTER!C13:C47,MATCH('SICKNESS FITNESS GAZETTED HINDI'!E1,MASTER!A13:A47,0))) -> प्रधानाचार्य
A25: foHkkx | B25: =MASTER!M10 -> f'k{kk | C25: dk /;kuiwoZd ijh{k.k dj fy;k gS vkSj bl fu.kZ; ij igqWpk gwW fd og chekjh ls LoLFk ¼ Bhd ½
A26: gks x;k gS vkSj vc dRrZO; ij vkus ;ksX; gSA eSa ;g Hkh izekf.kr djrk gwW fd eSus bl ekeys eS eq[; fpfdRlk
A27: izek.k i= vkSj LVsVesaVks ftuds vk/kkj ij mls vodk'k dh Lohd`fr o`f) dh xbZ gS] fd ewy :i ls tkWp fy;k
A28: x;k gS vkSj ;g fu.kZ; gksus ds iwoZ mu ij fopkj dj fy;k gSA
A30: fnukad | B30: =(INDEX(MASTER!J13:J47,MATCH('SICKNESS FITNESS GAZETTED HINDI'!E1,MASTER!A13:A47,0))) -> 44203 | D30: lka;dky
G32: izkf/kd`r ifjpkjd ;k
G33: flfoy 'kY; fpfdRld

Sheet INCERMENT ORDER
A1: =MASTER!C6 -> Jh ckyd`".k fo/kk Hkou jktdh; mPp ek/;fed fo|ky; dkadjksyh ftyk & jktleUn
A2: &% lkef;d osru o`f) vkns'k %&
A3: jkT; ljdkj ds foRr foHkkx ds vkns'k dzekad%& No. F. 15(1)FD/Rules/ 2017 Dated : 30th October, 2017 & Revised Order No. F. 15 (1 )FD(Rules)/2017 dated : 09.12.2017 ds vuqlj.k esa bl fo|ky;@dk;kZy; esa dk;Zjr fuEufyf[kr dkfeZdksa dks muds uke ds lEeq[k vafdr vuqlkj muds }kjk ,d o"kZ dh larks"ktud lsok iw.kZ djus ij
A4: fnukad %& | C4: 01.07.2021 | E4: ls okf"kZd osru o`f} Lohd`r dh tkdj rnuqlkj osru
A5: ,oa HkRrs fn;s tkus dh Lohd`fr iznku dh tkrh gS A osru o`f) tqykbZ ekg dh izFke rkjh[k dks dkfeZd ds vkdfLed vodk'k ds vfrfjDr vU; vodk'k ij gksus dh fLFkfr esa osru o`f) dk ykHk dk;Zxzg.k djus dh frfFk ls ns; gksxkA
A6: Ø-la- | B6: uke vf/kdkjh @dkfeZd | C6: in | D6: LFkk;h@ vLFkk;h | E6: in dk osru ysoy | F6: orZeku osru | G6: orZeku osruo`f) dh fnukad | H6: okf"kZd osru o`f) dh jkf'k | I6: Hkkoh osru | J6: vkxkeh osruo`f) dh fnukad
A7: 1 | B7: 2 | C7: 3 | D7: 4 | E7: 5 | F7: 6 | G7: 7 | H7: 8 | I7: 9 | J7: 10
A8: =MASTER!A13 -> 1 | B8: =MASTER!B13 -> Jh izeksn dqekj ikyhoky | C8: =MASTER!C13 -> प्रधानाचार्य | D8: LFkk;h | E8: =MASTER!D13 -> L - 16 | F8: =MASTER!E13 -> 82700 | G8: =C4 -> 01.07.2021 | H8: =ROUND(F8*3%,-2) -> 2500 | I8: =MROUND(F8*1.03,100) -> 85200 | J8: 01.07.2022
A9: =MASTER!A14 -> 2 | B9: =MASTER!B14 -> Jh 'kadj yky pkS/kjh | C9: =MASTER!C14 -> व्याख्याता स्कूल(शिक्षा) | D9: LFkk;h | E9: =MASTER!D14 -> L - 13 | F9: =MASTER!E14 -> 77900 | G9: =G8 -> 01.07.2021 | H9: =ROUND(F9*3%,-2) -> 2300 | I9: =MROUND(F9*1.03,100) -> 80200 | J9: =J8 -> 01.07.2022
A10: =MASTER!A15 -> 3 | B10: =MASTER!B15 -> Jh ';ke lqUnj lkyoh | C10: =MASTER!C15 -> व्याख्याता स्कूल(शिक्षा) | D10: LFkk;h | E10: =MASTER!D15 -> L - 12 | F10: =MASTER!E15 -> 63100 | G10: =G9 -> 01.07.2021 | H10: =ROUND(F10*3%,-2) -> 1900 | I10: =MROUND(F10*1.03,100) -> 65000 | J10: =J9 -> 01.07.2022
