Workbook
Name _tds1: #REF!
Name _tds1: #REF!
Name _tds2: #REF!
Name _tds2: #REF!
Name AIR.Code001: #REF!
Name AIR.Code001: #REF!
Name AIR.Code002: #REF!
Name AIR.Code002: #REF!
Name AIR.Code003: #REF!
Name AIR.Code003: #REF!
Name AIR.Code004: #REF!
Name AIR.Code004: #REF!
Name AIR.Code005: #REF!
Name AIR.Code005: #REF!
Name AIR.Code006: #REF!
Name AIR.Code006: #REF!
Name AIR.Code007: #REF!
Name AIR.Code007: #REF!
Name AIR.Code008: #REF!
Name AIR.Code008: #REF!
Name AIR.TaxExmpIntInc: #REF!
Name AIR.TaxExmpIntInc: #REF!
Name Bank1: #REF!
Name Bank1: #REF!
Name Bank10: #REF!
Name Bank10: #REF!
Name Bank11: #REF!
Name Bank11: #REF!
Name Bank12: #REF!
Name Bank12: #REF!
Name Bank2: #REF!
Name Bank2: #REF!
Name Bank3: #REF!
Name Bank3: #REF!
Name Bank4: #REF!
Name Bank4: #REF!
Name Bank5: #REF!
Name Bank5: #REF!
Name Bank6: #REF!
Name Bank6: #REF!
Name Bank6PCAR: #REF!
Name Bank6PCAR: #REF!
Name Bank7: #REF!
Name Bank7: #REF!
Name Bank8: #REF!
Name Bank8: #REF!
Name Bank9: #REF!
Name Bank9: #REF!
Name BankAccNo: #REF!
Name BankAccNo: #REF!
Name BankArrear: #REF!
Name BankArrear: #REF!
Name BankArrear0: #REF!
Name BankArrear0: #REF!
Name BankArrear1: #REF!
Name BankArrear1: #REF!
Name BankArrear2: #REF!
Name BankArrear2: #REF!
Name BankArrear3: #REF!
Name BankArrear3: #REF!

Sheet GA-55
C1: Please Install - Devlys 10 & Krutidev 10 Fonts | AD1: Yes | AE1: Yes
C2: GPF 2004 | D2: No | F2: Surrender | I2: Yes | K2: Surrender Month | O2: 4 | P2: HRA | R2: 0.09 | S2: Bounus | V2: Yes | X2: Senior Citizen | AB2: No | AD2: No | AE2: No
AD3: 0.09
C4: कार्यालय पुलिस अधीक्षक, जिला बाराँ | AD4: 0.18
C5: INCOME TAX CALCULATION (GA-55) 2022-23
C6: NAME : | D6: KRISHAN MURARI | K6: HEAD CONSTABLE | O6: PAN : | P6: BHOPK4299K | T6: TAN: | Y6: A/C NO. | AB6: 51032608489 | AD6: Yes | AE6: Yes
M7: RAJTEACHERS.NET | Y7: MOB NO. | AB7: 7976239088 | AD7: No | AE7: No
C8: Month | D8: ALLOWANCES | O8: DEDUCTIONS | AC8: Bill No. & T.V. No.
D9: Basic Pay | E9: Dearness Pay | F9: Leave Pay | G9: Spl. Pay | H9: D.A. | I9: H.R.A. | J9: Mess Allowance | K9: ROP (If any, put the value in minus) | L9: H.D.A. | M9: F.T.A. | N9: Gross Salary | O9: =IF(D2="No","GPF","GPF 2004") -> GPF | P9: =IF(D2="No","GPF LOAN","") -> GPF LOAN | Q9: SI | R9: SI LOAN + INT | S9: RPMF/RGHS | T9: LIC | U9: Group Insurance Accidental | V9: HBA Premium | W9: HBA Interest | X9: Income Tax / TDS | Y9: HITKARI NIDHI | Z9: CM Corona Fund | AA9: Total Deduction | AB9: Net Payment
B10: 3 | C10: 44621 | D10: 44000 | E10: 0 | F10: 0 | G10: 0 | H10: =ROUND(31%*D10,0) -> 13640 | I10: =IF($R$2=18%,ROUND(0.18*D10,0),ROUND(0.09*D10,0)) -> 3960 | J10: 2000 | K10: -1791 | L10: =ROUND((D10+H10)/12,0) -> 4803 | M10: 750 | N10: =SUM(D10:M10) -> 67362 | O10: 6000 | P10: 0 | Q10: 2200 | R10: 0 | S10: =IF(D10<18001,265,IF(D10<33501,440,IF(D10<54001,658,875))) -> 658 | T10: 2270 | U10: 0 | X10: 1500 | AA10: =SUM(O10:Y10) -> 12628 | AB10: =N10-AA10 -> 54734 | AE10: 4
B11: 4 | C11: 44652 | D11: =D10 -> 44000 | E11: =IF(E$10=0,0,ROUND(D11/2,0)) -> 0 | F11: =IF(F$10=0,0,F10) -> 0 | G11: =IF(G$10=0,0,G10) -> 0 | H11: =ROUND(34%*D11,0) -> 14960 | I11: =IF($R$2=18%,ROUND(0.18*D11,0),ROUND(0.09*D11,0)) -> 3960 | J11: 2200 | L11: =ROUND((D11+H11)/12,0) -> 4913 | M11: =IF(M$10=0,0,M10) -> 750 | N11: =SUM(D11:M11) -> 70783 | O11: 6000 | P11: =P10 -> 0 | Q11: =Q10 -> 2200 | R11: =R10 -> 0 | S11: =IF(D11<18001,265,IF(D11<33501,440,IF(D11<54001,658,875))) -> 658 | T11: =T10 -> 2270 | V11: =V10 -> 0 | W11: =W10 -> 0 | X11: =X10 -> 1500 | Y11: =Y10 -> 0 | AA11: =SUM(O11:Y11) -> 12628 | AB11: =N11-AA11 -> 58155 | AE11: 5
B12: 5 | C12: 44682 | D12: =D11 -> 44000 | E12: =IF($E$10=0,0,ROUND(D12/2,0)) -> 0 | F12: =IF(F$10=0,0,F11) -> 0 | G12: =IF(G$10=0,0,G11) -> 0 | H12: =ROUND(34%*D12,0) -> 14960 | I12: =IF($R$2=18%,ROUND(0.18*D12,0),ROUND(0.09*D12,0)) -> 3960 | J12: =IF(J$10=0,0,J11) -> 2200 | L12: =ROUND((D12+H12)/12,0) -> 4913 | M12: =IF(M$10=0,0,M11) -> 750 | N12: =SUM(D12:M12) -> 70783 | O12: 6000 | P12: =P11 -> 0 | Q12: =Q11 -> 2200 | R12: =R11 -> 0 | S12: =IF(D12<18001,265,IF(D12<33501,440,IF(D12<54001,658,875))) -> 658 | T12: =T11 -> 2270 | U12: 0 | V12: =V11 -> 0 | W12: =W11 -> 0 | X12: =X11 -> 1500 | Y12: =Y11 -> 0 | AA12: =SUM(O12:Y12) -> 12628 | AB12: =N12-AA12 -> 58155 | AE12: 6
B13: 6 | C13: 44713 | D13: =D12 -> 44000 | E13: =IF($E$10=0,0,ROUND(D13/2,0)) -> 0 | F13: =IF(F$10=0,0,F12) -> 0 | G13: =IF(G$10=0,0,G12) -> 0 | H13: =ROUND(34%*D13,0) -> 14960 | I13: =IF($R$2=18%,ROUND(0.18*D13,0),ROUND(0.09*D13,0)) -> 3960 | J13: =IF(J$10=0,0,J12) -> 2200 | L13: =ROUND((D13+H13)/12,0) -> 4913 | M13: =IF(M$10=0,0,M12) -> 750 | N13: =SUM(D13:M13) -> 70783 | O13: 6000 | P13: =P12 -> 0 | Q13: =Q12 -> 2200 | R13: =R12 -> 0 | S13: =IF(D13<18001,265,IF(D13<33501,440,IF(D13<54001,658,875))) -> 658 | T13: =T12 -> 2270 | U13: 0 | V13: =V12 -> 0 | W13: =W12 -> 0 | X13: =X12 -> 1500 | Y13: =Y12 -> 0 | AA13: =SUM(O13:Y13) -> 12628 | AB13: =N13-AA13 -> 58155 | AE13: 7
B14: 7 | C14: 44743 | D14: =MROUND(ROUND(1.03*D13,0),100) -> 45300 | E14: =IF($E$10=0,0,ROUND(D14/2,0)) -> 0 | F14: =IF(F$10=0,0,F13) -> 0 | G14: =IF(G$10=0,0,G13) -> 0 | H14: =ROUND(34%*D14,0) -> 15402 | I14: =IF($R$2=18%,ROUND(0.18*D14,0),ROUND(0.09*D14,0)) -> 4077 | J14: =IF(J$10=0,0,J13) -> 2200 | L14: =ROUND((D14+H14)/12,0) -> 5059 | M14: =IF(M$10=0,0,M13) -> 750 | N14: =SUM(D14:M14) -> 72788 | O14: 6000 | P14: =P13 -> 0 | Q14: =Q13 -> 2200 | R14: =R13 -> 0 | S14: =IF(D14<18001,265,IF(D14<33501,440,IF(D14<54001,658,875))) -> 658 | T14: =T13 -> 2270 | U14: 0 | V14: =V13 -> 0 | W14: =W13 -> 0 | X14: =X13 -> 1500 | Y14: =Y13 -> 0 | AA14: =SUM(O14:Y14) -> 12628 | AB14: =N14-AA14 -> 60160 | AE14: 8
B15: 8 | C15: 44774 | D15: =D14 -> 45300 | E15: =IF($E$10=0,0,ROUND(D15/2,0)) -> 0 | F15: =IF(F$10=0,0,F14) -> 0 | G15: =IF(G$10=0,0,G14) -> 0 | H15: =ROUND(34%*D15,0) -> 15402 | I15: =IF($R$2=18%,ROUND(0.18*D15,0),ROUND(0.09*D15,0)) -> 4077 | J15: =IF(J$10=0,0,J14) -> 2200 | L15: =ROUND((D15+H15)/12,0) -> 5059 | M15: =IF(M$10=0,0,M14) -> 750 | N15: =SUM(D15:M15) -> 72788 | O15: 6000 | P15: =P14 -> 0 | Q15: =Q14 -> 2200 | R15: =R14 -> 0 | S15: =IF(D15<18001,265,IF(D15<33501,440,IF(D15<54001,658,875))) -> 658 | T15: =T14 -> 2270 | U15: 0 | V15: =V14 -> 0 | W15: =W14 -> 0 | X15: =X14 -> 1500 | Y15: =Y14 -> 0 | AA15: =SUM(O15:Y15) -> 12628 | AB15: =N15-AA15 -> 60160 | AE15: 9
B16: 9 | C16: 44805 | D16: =D15 -> 45300 | E16: =IF($E$10=0,0,ROUND(D16/2,0)) -> 0 | F16: =IF(F$10=0,0,F15) -> 0 | G16: =IF(G$10=0,0,G15) -> 0 | H16: =ROUND(34%*D16,0) -> 15402 | I16: =IF($R$2=18%,ROUND(0.18*D16,0),ROUND(0.09*D16,0)) -> 4077 | J16: =IF(J$10=0,0,J15) -> 2200 | L16: =ROUND((D16+H16)/12,0) -> 5059 | M16: =IF(M$10=0,0,M15) -> 750 | N16: =SUM(D16:M16) -> 72788 | O16: 6000 | P16: =P15 -> 0 | Q16: =Q15 -> 2200 | R16: =R15 -> 0 | S16: =IF(D16<18001,265,IF(D16<33501,440,IF(D16<54001,658,875))) -> 658 | T16: =T15 -> 2270 | U16: 0 | V16: =V15 -> 0 | W16: =W15 -> 0 | X16: =X15 -> 1500 | Y16: =Y15 -> 0 | AA16: =SUM(O16:Y16) -> 12628 | AB16: =N16-AA16 -> 60160 | AE16: 10
B17: 10 | C17: 44835 | D17: =D16 -> 45300 | E17: =IF($E$10=0,0,ROUND(D17/2,0)) -> 0 | F17: =IF(F$10=0,0,F16) -> 0 | G17: =IF(G$10=0,0,G16) -> 0 | H17: =ROUND(38%*D17,0) -> 17214 | I17: =IF($R$2=18%,ROUND(0.18*D17,0),ROUND(0.09*D17,0)) -> 4077 | J17: =IF(J$10=0,0,J16) -> 2200 | L17: =ROUND((D17+H17)/12,0) -> 5210 | M17: =IF(M$10=0,0,M16) -> 750 | N17: =SUM(D17:M17) -> 74751 | O17: 6000 | P17: =P16 -> 0 | Q17: =Q16 -> 2200 | R17: =R16 -> 0 | S17: =IF(D17<18001,265,IF(D17<33501,440,IF(D17<54001,658,875))) -> 658 | T17: =T16 -> 2270 | U17: 0 | V17: =V16 -> 0 | W17: =W16 -> 0 | X17: =X16 -> 1500 | Y17: =Y16 -> 0 | AA17: =SUM(O17:Y17) -> 12628 | AB17: =N17-AA17 -> 62123 | AE17: 11
B18: 11 | C18: 44866 | D18: =D17 -> 45300 | E18: =IF($E$10=0,0,ROUND(D18/2,0)) -> 0 | F18: =IF(F$10=0,0,F17) -> 0 | G18: =IF(G$10=0,0,G17) -> 0 | H18: =ROUND(38%*D18,0) -> 17214 | I18: =IF($R$2=18%,ROUND(0.18*D18,0),ROUND(0.09*D18,0)) -> 4077 | J18: =IF(J$10=0,0,J17) -> 2200 | L18: =ROUND((D18+H18)/12,0) -> 5210 | M18: =IF(M$10=0,0,M17) -> 750 | N18: =SUM(D18:M18) -> 74751 | O18: 6000 | P18: =P17 -> 0 | Q18: =Q17 -> 2200 | R18: =R17 -> 0 | S18: =IF(D18<18001,265,IF(D18<33501,440,IF(D18<54001,658,875))) -> 658 | T18: =T17 -> 2270 | U18: 0 | V18: =V17 -> 0 | W18: =W17 -> 0 | X18: =X17 -> 1500 | Y18: =Y17 -> 0 | AA18: =SUM(O18:Y18) -> 12628 | AB18: =N18-AA18 -> 62123 | AE18: 12
B19: 12 | C19: 44896 | D19: =D18 -> 45300 | E19: =IF($E$10=0,0,ROUND(D19/2,0)) -> 0 | F19: =IF(F$10=0,0,F18) -> 0 | G19: =IF(G$10=0,0,G18) -> 0 | H19: =ROUND(38%*D19,0) -> 17214 | I19: =IF($R$2=18%,ROUND(0.18*D19,0),ROUND(0.09*D19,0)) -> 4077 | J19: =IF(J$10=0,0,J18) -> 2200 | L19: =ROUND((D19+H19)/12,0) -> 5210 | M19: =IF(M$10=0,0,M18) -> 750 | N19: =SUM(D19:M19) -> 74751 | O19: 6000 | P19: =P18 -> 0 | Q19: =Q18 -> 2200 | R19: =R18 -> 0 | S19: =IF(D19<18001,265,IF(D19<33501,440,IF(D19<54001,658,875))) -> 658 | T19: =T18 -> 2270 | U19: 0 | V19: =V18 -> 0 | W19: =W18 -> 0 | X19: =X18 -> 1500 | AA19: =SUM(O19:Y19) -> 12628 | AB19: =N19-AA19 -> 62123 | AE19: 1
B20: 1 | C20: 44927 | D20: =D19 -> 45300 | E20: =IF($E$10=0,0,ROUND(D20/2,0)) -> 0 | F20: =IF(F$10=0,0,F19) -> 0 | G20: =IF(G$10=0,0,G19) -> 0 | H20: =ROUND(38%*D20,0) -> 17214 | I20: =IF($R$2=18%,ROUND(0.18*D20,0),ROUND(0.09*D20,0)) -> 4077 | J20: =IF(J$10=0,0,J19) -> 2200 | L20: =ROUND((D20+H20)/12,0) -> 5210 | M20: =IF(M$10=0,0,M19) -> 750 | N20: =SUM(D20:M20) -> 74751 | O20: 6000 | P20: =P19 -> 0 | Q20: =Q19 -> 2200 | R20: =R19 -> 0 | S20: =IF(D20<18001,265,IF(D20<33501,440,IF(D20<54001,658,875))) -> 658 | T20: =T19 -> 2270 | U20: 0 | V20: =V19 -> 0 | W20: =W19 -> 0 | X20: 10000 | AA20: =SUM(O20:Y20) -> 21128 | AB20: =N20-AA20 -> 53623 | AE20: 2
B21: 2 | C21: 44958 | D21: =D20 -> 45300 | E21: =IF($E$10=0,0,ROUND(D21/2,0)) -> 0 | F21: =IF(F$10=0,0,F20) -> 0 | G21: =IF(G$10=0,0,G20) -> 0 | H21: =ROUND(38%*D21,0) -> 17214 | I21: =IF($R$2=18%,ROUND(0.18*D21,0),ROUND(0.09*D21,0)) -> 4077 | J21: =IF(J$10=0,0,J20) -> 2200 | L21: =ROUND((D21+H21)/12,0) -> 5210 | M21: =IF(M$10=0,0,M20) -> 750 | N21: =SUM(D21:M21) -> 74751 | O21: 6000 | P21: =P20 -> 0 | Q21: =Q20 -> 2200 | R21: =R20 -> 0 | S21: =IF(D21<18001,265,IF(D21<33501,440,IF(D21<54001,658,875))) -> 658 | T21: =T20 -> 2270 | U21: 0 | V21: =V20 -> 0 | W21: =W20 -> 0 | AA21: =SUM(O21:Y21) -> 11128 | AB21: =N21-AA21 -> 63623 | AE21: 3
C22: DA Arrear 34% | H22: =(ROUND(34%*D10,0)-ROUND(31%*D10,0))*3 -> 3960 | N22: =H22 -> 3960 | O22: =H22 -> 3960 | T22: 0 | AA22: =SUM(O22:Y22) -> 3960 | AB22: =N22-AA22 -> 0
C23: DA Arrear 38% | H23: =(ROUND(38%*D16,0)-ROUND(34%*D16,0))*3 -> 5436 | L23: 453 | N23: =SUM(D23:M23) -> 5889 | O23: =H23 -> 5436 | T23: 0 | AA23: =SUM(O23:Y23) -> 5436 | AB23: =N23-AA23 -> 453
C24: Surrender | D24: =IF(I2="NO",0,IF(O2=3,D21,VLOOKUP(O2,B10:D21,3,FALSE)))/2 -> 22000 | H24: =IF(AND(O2>3,O2<7),ROUND(34%*D24,0),ROUND(38%*D24,0)) -> 7480 | N24: =SUM(D24:M24) -> 29480 | AA24: =SUM(O24:Y24) -> 0 | AB24: =N24-AA24 -> 29480
C25: Bonus | D25: =IF(V2="Yes",6774,0) -> 6774 | N25: =SUM(D25:M25) -> 6774 | O25: =ROUND(D25*25/100,0) -> 1694 | AA25: =SUM(O25:Y25) -> 1694 | AB25: =N25-AA25 -> 5080
C26: Fixation Arrear | N26: =SUM(D26:M26) -> 0 | AA26: =SUM(O26:Y26) -> 0 | AB26: =N26-AA26 -> 0
C27: Salary Arrear 1 | D27: 2600 | H27: 884 | I27: 234 | M27: 292 | N27: =SUM(D27:M27) -> 4010 | AA27: =SUM(O27:Y27) -> 0 | AB27: =N27-AA27 -> 4010
C28: Salary Arrear 2 | N28: =SUM(D28:M28) -> 0 | AA28: =SUM(O28:Y28) -> 0 | AB28: =N28-AA28 -> 0
C29: Salary Arrear 3 | N29: =SUM(D29:M29) -> 0 | AA29: =SUM(O29:Y29) -> 0 | AB29: =N29-AA29 -> 0
C30: Other | E30: 0 | F30: 0 | N30: =SUM(D30:M30) -> 0 | AA30: =SUM(O30:Y30) -> 0 | AB30: =N30-AA30 -> 0
C31: TOTAL | D31: =SUM(D10:D30) -> 569774 | E31: =SUM(E10:E30) -> 0 | F31: =SUM(F10:F30) -> 0 | G31: =SUM(G10:G30) -> 0 | H31: =SUM(H10:H30) -> 208556 | I31: =SUM(I10:I30) -> 48690 | J31: =SUM(J10:J30) -> 26200 | K31: =SUM(K10:K30) -> -1791 | ... AB31: =SUM(AB10:AB30) -> 752317
E36: Signature of Employee | AB36: Signature of DDO

Sheet Other Deduction
A1: osru ds vfrfjDr dVkSfr;k¡] vk;@tek jkf'k ,oa NwV dk fooj.k
A2: ='GA-55'!D6& " , " &'GA-55'!K6&" PAN- "&'GA-55'!P6 -> KRISHAN MURARI , HEAD CONSTABLE PAN- BHOPK4299K
A3: 1- edku fdjk;k HkRrk ¼ NwV tks ysuh gS½ | B3: 48456 | D3: 18- cpr [kkrs dh tek jkf'k ij izkIr C;kt (80 TTA/80 TTB) gsrq | E3: 0 | F3: BASIC+D.A. | DR3: UPS Kuhada Khurd
A4: 2- euksjatu Hkrk /kkjk 16 ¼ii½ ds vUrxZr | B4: 0 | D4: 19- vU; vk; ¼,Q Mh ij C;kt] vU; C;kt ;k vU; L=ks+= ls vk; vkfn dk ;ksx½ | E4: 0 | F4: ='GA-55'!N31-'GA-55'!I31 -> 873253
A5: 3- O;o;k; dj /kkjk 16 ¼iii½ ds vUrxrZ | B5: 0 | D5: 20- vU; tek jkf'k ¼/kkjk 80 lh ds vUrxZr½ | E5: 0 | F5: Taxable Amt
A6: 4- x`g lEifr ls izkIr fdjk;k & vk; | B6: 0 | D6: 21- /kkjk 80CCC - isa'ku Iyku gsrq va'knku ¼,u-ih-,l- ds avykok½ | E6: 0 | F6: ='Tax Old Regime'!Q47 -> 673490
A7: 5- x`gdj | B7: 0 | D7: 22- /kkjk 80CCD(1B) -uohu isa'ku ;kstuk esa vfrfjDr va'knku ¼vf/kdre :- 50]000½ | E7: 0 | F7: Tax Deposited
A8: 6- x`g _.k fdLr ewy ¼tks osru ls ugha dkVk x;k½ | B8: 0 | D8: 23- /kkjk 80D - fpfdRlk chek izhfe;e ¼lkekU; 25000] ofj"B ukxfjd 50000½ | E8: 0 | F8: ='GA-55'!X31 -> 25000
A9: 7- x`g _.k fdLr C;kt ¼tks osru ls ugha dkVk x;k½ | B9: 0 | D9: 24- /kkjk 80DD - fodykax vkfJrksa ds fpfdRlk mipkj¼vf/kdre 75000] 80% fodykaxrk 125000½ | E9: 0 | F9: Rebate Under Section 80C, 80CCC, 80CCD(1)
A10: 8- thou chek izhfe;e ¼tks osru ls ugh dkVk x;k½ LIC | B10: 0 | D10: 25- /kkjk 80DDB - fof'k"V jksxksa ds mipkj gsrq dVkSrh ¼lkekU; 40000] ofj"B ukxfjd 1 yk[k½ | E10: 0 | DR10: UPS Banediya Charnan
A11: 9- ih-,y-vkbZ- (PLI) | B11: 0 | D11: 26- /kkjk 80E - mPp f'k{kk gsrq fy, _.k dk C;kt ¼/kkjk 80E½ | E11: 0 | DR11: UPS Laxmipura Dhakaran
A12: 10- V;w'ku Qhl (Tution Fees) | B12: 15000 | D12: 27- /kkjk 80G - /kekZFkZ laLFkkvksa vkfn dks fn;s nku ¼d Js.kh 100% ,oa [k Js.kh 50%½ | E12: 0 | F12: ='Tax Old Regime'!Q31 -> 150000 | DR12: UPS Pathraj Kala
A13: 11- ;w- ,y- vkbZ- ih-@okf"kZd Iyku | B13: 0 | D13: 28- /kkjk 80U - LFkkbZ 'kkjhfjd fodykaxrk ¼vf/kdre 75000] 80% fodykaxrk 125000½ | E13: 0
A14: 12- jk"Vªh; cpr i= (NSC) | B14: 0 | D14: 29- /kkjk 80 GGA - vuqeksfnr oSKkfud]lkekftd]xzkeh.k fodkl vkfn gsrq fn;k x;k nku | E14: 0 | F14: edku fdjk;k NwV ds fy, jlhn dh vko';drk | DR14: PS Aarampura
A15: 13- jk"Vªh; cpr i= ij vnr C;kt | B15: 0 | D15: 30- bfDoVh fyad lsfoax Ldhe | E15: 0 | DR15: UPS Laxmipura Dhakaran
A16: 14- yksd Hkfo"; fuf/k (PPF) | B16: 0 | D16: 31- LFkfxr okf"kZdh | E16: 0 | DR16: UPS Raghunathpura
A17: 15- jk"Vªh; cpr Ldhe | B17: 0 | D17: 32- jkgr /kkjk 89 ds rgr | E17: 0 | F17: =IF(B3>=1,(F4*10%+B3),0) -> 135781.3 | DR17: UPS Manda
A18: 16- lqdU;k le`f) ;kstuk (SSY) | B18: 0 | D18: 33- osru fcy ds vykok tek djk;k x;k aavk;dj (TDS) | E18: 0 | DR18: UPS Sandla
A19: 17- /kkjk 10¼14½ds vUrxrZ vU; Hkrs | B19: 0 | D19: 34- /kkjk 80 GGC jktfufrd ikfVZ;ksa dks fn;k x;k nku | E19: 0
A20: ='Tax Old Regime'!B63 -> Income Tax Payable | D20: ='Tax Old Regime'!Q63 -> 24086 | E20: HRA | F20: ='GA-55'!I31 -> 48690 | DR20: UPS Ramsinghpura
A21: ="Total Rebate of (US 80C, 80CCC,80CCD(1)) = "&'Tax Old Regime'!Q31 -> Total Rebate of (US 80C, 80CCC,80CCD(1)) = 150000 | D21: ="Investable Amount = "&(150000-'Tax Old Regime'!Q31) -> Investable Amount = 0 | DR21: GSS Ganeshganj
A22: WWW.RAJTEACHERS.NET

Sheet Tax Old Regime
B1: ='GA-55'!C4 -> कार्यालय पुलिस अधीक्षक, जिला बाराँ
B2: vk;dj x.kuk izi= o"kZ 2022&2023 ¼dj fu/kkZj.k o"kZ 2023&2024½
B3: 1 | C3: uke deZpkjh % | E3: ='GA-55'!D6 -> KRISHAN MURARI | K3: in % | L3: ='GA-55'!K6 -> HEAD CONSTABLE | O3: PAN : | P3: =IF('GA-55'!P6="","",'GA-55'!P6) -> BHOPK4299K
B4: 2 | C4: vk; % o"kZ&2022&23 esa izkIr dqy osru ¼ dj ;ksX; lqfo/kkvksa ds eqY; lfgr ½ | P4: #- | Q4: ='GA-55'!N31 -> 921943
B5: 3 | C5: ¼i½ x`g fdjk;k] /kkjk 10¼13&A½ ds vUrxrZ tks dj eqDÙk gSA | P5: #- | Q5: ='Other Deduction'!B3 -> 48456
C6: ¼ii½ /kkjk 10¼14½ds vUrxrZ vU; Hkrs | P6: #- | Q6: ='Other Deduction'!B19 -> 0
B7: 4 | C7: 'ks"k ¼2&3½ | P7: #- | Q7: =Q4-Q5-Q6 -> 873487
B8: 5 | C8: ¼i½ euksjatu Hkrk /kkjk 16 ¼ii½ ds vUrxrZ ¼ vf/kdre lhek : 5000 ½ | M8: ='Other Deduction'!B4 -> 0
C9: ¼ii½ O;o;k; dj /kkjk 16 ¼iii½ ds vUrxrZ | M9: ='Other Deduction'!B5 -> 0
C10: ¼iiI½ LVs.MMZ fMMsD'ku (Standard Deduction) 50]000 ¼vf/kdre½ | M10: =IF(Q7<50000,Q7,50000) -> 50000 | P10: #- | Q10: =SUM(M8:O10) -> 50000
B11: 6 | C11: 'ks"k ¼4&5½ | P11: #- | Q11: =Q7-Q10 -> 823487
B12: 7 | C12: ¼v½x`g lEifr ls vk;%¼1½ Loa; ds mi;ksx esa &'kwU; | K12: ¼2½ izkIr fdjk;k #- | M12: ='Other Deduction'!B6 -> 0
C13: ¼c½ ?kVk;sa | E13: fdjk;s dk 30% | H13: x`g _.k ij C;kt | K13: x`gdj | M13: ;ksx 7¼c½
E14: =ROUND(M12*0.3,0) -> 0 | H14: =IF(('GA-55'!W31+'Other Deduction'!B9)>200000,200000,('GA-55'!W31+'Other Deduction'!B9)) -> 0 | K14: ='Other Deduction'!B7 -> 0 | M14: =E14+H14+K14 -> 0
C15: 'ks"k &@$¼7¼v½ ,oa ;ksx 7¼c½ dk½ | P15: #- | Q15: =M12-M14 -> 0
B16: 8 | C16: dqy 'ks"k &@$¼6,oa 7½ | P16: #- | Q16: =Q11+Q15 -> 823487
B17: 9 | C17: vU; vk; | P17: #- | Q17: ='Other Deduction'!E3+'Other Deduction'!E4 -> 0
B18: 10 | C18: ldy vk; ;ksx ¼8$9½ | P18: #- | Q18: =Q16+Q17 -> 823487
B19: 11 | C19: ?kVkb;s dVkSSfr;k¡ %& /kkjk US 80C, 80CCC,80CCD (1)
C20: (A) vf/kdre lhek 1]50]000@& ¼/kkjk 80CCE ½ ds vykok
C21: (i) | D21: jkT; chek ¼SI) | H21: #- | I21: ='GA-55'!Q31 -> 26400 | J21: (x) | K21: isa'ku Iyku gsrq va'knku¼/kkjk 80ccc½ | N21: #- | O21: ='Other Deduction'!E6 -> 0
C22: (ii) | D22: thou chek izhfe;e ¼LIC) | H22: #- | I22: ='GA-55'!T31+'Other Deduction'!B10 -> 27240 | J22: (xi) | K22: jk"Vªh; cpr i= ij vnr C;kt | N22: #- | O22: ='Other Deduction'!B15 -> 0
C23: (iii) | D23: jk"Vªh; cpr i= ¼NSC) | H23: #- | I23: ='Other Deduction'!B14 -> 0 | J23: (xii) | K23: V;w'ku Qhl | N23: #- | O23: ='Other Deduction'!B12 -> 15000
C24: (iv) | D24: yksd Hkfo"; fuf/k ¼PPF) | H24: #- | I24: ='Other Deduction'!B16 -> 0 | J24: (xiii) | K24: bfDoVh fyad lsfoax Ldhe | N24: #- | O24: ='Other Deduction'!E15 -> 0
C25: (v) | D25: jk"Vªh; cpr Ldhe ¼NSS) | H25: #- | I25: ='Other Deduction'!B17 -> 0 | J25: (xv) | K25: LFkfxr okf"kZdh ¼Defferred Annuty) | N25: #- | O25: ='Other Deduction'!E16 -> 0
C26: (vi) | D26: lkekU; izko/kk;h fuf/k ¼GPF/GPF 2004) | H26: #- | I26: ='GA-55'!O31 -> 83090 | J26: (xiv) | K26: ih-,y-vkbZ- ¼PLI) | N26: #- | O26: ='Other Deduction'!B11 -> 0
C27: (vii) | D27: lkewfgd chek izhfe;e ¼G.Ins.) | H27: #- | I27: ='GA-55'!U11 -> 0 | J27: (xvi) | K27: vU; tekjkf'k ¼/kkjk 80 lh ds vUrxZr½ | N27: #- | O27: ='Other Deduction'!E5 -> 0
C28: (viii) | D28: ;w- ,y- vkbZ- ih-@okf"kZd Iyku | H28: #- | I28: ='Other Deduction'!B13 -> 0 | J28: (xvii) | K28: lqdU;k le`f) ;kstuk esa tek jkf'k | N28: #- | O28: ='Other Deduction'!B18 -> 0
C29: (ix) | D29: x`g _.k fdLr ¼HBA Premium) | H29: #- | I29: ='GA-55'!V31+'Other Deduction'!B8 -> 0 | J29: (xviii) | N29: #-
C30: ;ksx ( i ls xviii ) | N30: #- | O30: =SUM(I21:I29)+SUM(O21:O29) -> 151730
C31: vf/kdre dVkSrh dh jkf'k 1-50 yk[k #i, rd | P31: #- | Q31: =IF(O30<150001,ROUND(O30,0),150000) -> 150000
C32: (B) ?kVkb;s & /kkjk 80CCD (1B) uohu isa'ku ;kstuk esa vfrfjDr va'knku ¼vf/kdre :- 50]000) | P32: #- | Q32: ='Other Deduction'!E7 -> 0
C33: ;ksx 11(A+B+C) | P33: #- | Q33: =SUM(Q31:Q32) -> 150000
B34: 12 | C34: vU; dVkSfr;k¡
C35: 1- /kkjk 80 D ,fpfdRlk chek izhfe;e ¼Lo;a]ifr@iRuh o cPpksa ds fy, : 25000] ekrk&firk ds fy, : 25000]lhfu;j flVhtu : 50000½ | P35: #- | Q35: ='Other Deduction'!E8 -> 0
C36: 2- /kkjk 80DD fodykax vkfJrksa ds fpfdRlk mipkj ¼vf/kdre 75]000 rFkk 80% ;k vf/kd fodykaxrk 125]000½ | P36: #- | Q36: ='Other Deduction'!E9 -> 0
C37: 3- /kkjk 80DDB fof'k"V jksaxksa ds mipkj gsrq dVkSrh ¼vf/kdre : 40]000] lhfu;j flVhtu gsrq : 100]000½ | P37: #- | Q37: ='Other Deduction'!E10 -> 0
C38: 4- /kkjk 80E mPp f'k{kk gsrq fy, _.k dk C;kt | P38: #- | Q38: ='Other Deduction'!E11 -> 0
C39: 5- /kkjk 80G /kekZFkZ laLFkkvksa vkfn dks fn;s nku ¼ d Js.kh esa 100 izfr'kr ,oa [k Js.kh esa 50 izfr'kr½ | P39: #- | Q39: ='Other Deduction'!E12 -> 0
C40: 6- /kkjk 80U LFkkbZ :i ls 'kkjhfjd vleFkZrrk dh n'kk esa ¼vf/kdre 75]000 rFkk vf/kfu;e 1995ds vuqlkj 125]000½ | P40: #- | Q40: ='Other Deduction'!E13 -> 0
...

Sheet Tax New Regime
B1: ='GA-55'!C4 -> कार्यालय पुलिस अधीक्षक, जिला बाराँ
B2: vk;dj x.kuk izi= o"kZ 2022&2023 ¼dj fu/kkZj.k o"kZ 2023&2024½
B3: 1 | C3: uke deZpkjh % | E3: ='GA-55'!D6 -> KRISHAN MURARI | K3: in % | L3: ='GA-55'!K6 -> HEAD CONSTABLE | O3: PAN : | P3: =IF('GA-55'!P6="","",'GA-55'!P6) -> BHOPK4299K
B4: 2 | C4: vk; % o"kZ&2022&23 esa izkIr dqy osru ¼ dj ;ksX; lqfo/kkvksa ds eqY; lfgr ½ | P4: #- | Q4: ='GA-55'!N31 -> 921943
B5: 3 | C5: ¼i½ x`g fdjk;k] /kkjk 10¼13&A½ ds vUrxrZ tks dj eqDÙk gSA | P5: #- | Q5: 0
C6: ¼ii½ /kkjk 10¼14½ds vUrxrZ vU; Hkrs | P6: #- | Q6: 0
B7: 4 | C7: 'ks"k ¼2&3½ | P7: #- | Q7: =Q4-Q5-Q6 -> 921943
B8: 5 | C8: ¼i½euksjatu Hkrk /kkjk 16 ¼ii½ ds vUrxrZ ¼ vf/kdre lhek : 5000 ½ | M8: ='Other Deduction'!B4 -> 0
C9: ¼ii½ O;o;k; dj /kkjk 16 ¼iii½ ds vUrxrZ | M9: ='Other Deduction'!B5 -> 0
C10: ¼iiI½ LVs.MMZ fMMsD'ku (Standard Deduction) 50]000 ¼vf/kdre½ | M10: 0 | P10: #- | Q10: =SUM(M8:O10) -> 0
B11: 6 | C11: 'ks"k ¼4&5½ | P11: #- | Q11: =Q7-Q10 -> 921943
B12: 7 | C12: ¼v½x`g lEifr ls vk;%¼1½ Loa; ds mi;ksx esa &'kwU; | K12: ¼2½ izkIr fdjk;k #- | M12: 0
C13: ¼c½ ?kVk;sa | E13: fdjk;s dk 30% | H13: x`g _.k ij C;kt | K13: x`gdj | M13: ;ksx 7¼c½
E14: =ROUND(M12*0.3,0) -> 0 | H14: 0 | K14: ='Other Deduction'!B7 -> 0 | M14: =E14+H14+K14 -> 0
C15: 'ks"k &@$¼7¼v½ ,oa ;ksx 7¼c½ dk½ | P15: #- | Q15: =M12-M14 -> 0
B16: 8 | C16: dqy 'ks"k &@$¼6,oa 7½ | P16: #- | Q16: =Q11+Q15 -> 921943
B17: 9 | C17: vU; vk; | P17: #- | Q17: ='Other Deduction'!E3+'Other Deduction'!E4 -> 0
B18: 10 | C18: ldy vk; ;ksx ¼8$9½ | P18: #- | Q18: =Q16+Q17 -> 921943
B19: 11 | C19: ?kVkb;s dVkSSfr;k¡ %& /kkjk US 80C, 80CCC,80CCD (1)
C20: (A) vf/kdre lhek 1]50]000@& ¼/kkjk 80CCE ½ ] ¼/kkjk 80CCD (2), ds vykok
C21: (i) | D21: jkT; chek ¼SI) | H21: #- | I21: ='GA-55'!Q31 -> 26400 | J21: (x) | K21: isa'ku Iyku gsrq va'knku¼/kkjk 80ccc½ | N21: #- | O21: ='Other Deduction'!E6 -> 0
C22: (ii) | D22: thou chek izhfe;e ¼LIC) | H22: #- | I22: ='GA-55'!T31+'Other Deduction'!B10 -> 27240 | J22: (xi) | K22: jk"Vªh; cpr i= ij vnr C;kt | N22: #- | O22: ='Other Deduction'!B15 -> 0
C23: (iii) | D23: jk"Vªh; cpr i= ¼NSC) | H23: #- | I23: ='Other Deduction'!B14 -> 0 | J23: (xii) | K23: V;w'ku Qhl | N23: #- | O23: ='Other Deduction'!B12 -> 15000
C24: (iv) | D24: yksd Hkfo"; fuf/k ¼PPF) | H24: #- | I24: ='Other Deduction'!B16 -> 0 | J24: (xiii) | K24: bfDoVh fyad lsfoax Ldhe | N24: #- | O24: ='Other Deduction'!E15 -> 0
C25: (v) | D25: jk"Vªh; cpr Ldhe ¼NSS) | H25: #- | I25: ='Other Deduction'!B17 -> 0 | J25: (xv) | K25: LFkfxr okf"kZdh ¼Defferred Annuty) | N25: #- | O25: ='Other Deduction'!E16 -> 0
C26: (vi) | D26: lkekU; izko/kk;h fuf/k ¼GPF/GPF 2004) | H26: #- | I26: ='GA-55'!O31 -> 83090 | J26: (xiv) | K26: ih-,y-vkbZ- ¼PLI) | N26: #- | O26: ='Other Deduction'!B11 -> 0
C27: (vii) | D27: lkewfgd chek izhfe;e ¼G.Ins.) | H27: #- | I27: ='GA-55'!U11 -> 0 | J27: (xvi) | K27: vU; tekjkf'k ¼/kkjk 80 lh ds vUrxZr½ | N27: #- | O27: ='Other Deduction'!E5 -> 0
C28: (viii) | D28: ;w- ,y- vkbZ- ih-@okf"kZd Iyku | H28: #- | I28: ='Other Deduction'!B13 -> 0 | J28: (xvii) | K28: lqdU;k le`f) ;kstuk esa tek jkf'k | N28: #- | O28: ='Other Deduction'!B18 -> 0
C29: (ix) | D29: x`g _.k fdLr ¼HBA Premium) | H29: #- | I29: ='GA-55'!V31+'Other Deduction'!B8 -> 0 | J29: (xviii) | N29: #-
C30: ;ksx ( i ls xviii ) | N30: #- | O30: =SUM(I21:I29)+SUM(O21:O29) -> 151730
C31: vf/kdre dVkSrh dh jkf'k 1-50 yk[k #i, rd | P31: #- | Q31: 0
C32: (B) ?kVkb;s & /kkjk 80CCD (1B) uohu isa'ku ;kstuk esa vfrfjDr va'knku ¼vf/kdre :- 50]000) | Q32: ='Other Deduction'!E7 -> 0
C33: ;ksx 11(A+B+C) | P33: #- | Q33: =SUM(Q31:Q31) -> 0
B34: 12 | C34: vU; dVkSfr;k¡
C35: 1-/kkjk 80 D ,fpfdRlk chek izhfe;e ¼Lo;a]ifr@iRuh o cPpksa ds fy, : 25000] ekrk&firk ds fy, : 25000]lhfu;j flVhtu : 50000½ | P35: #- | Q35: 0
C36: 2- /kkjk 80DD fodykax vkfJrksa ds fpfdRlk mipkj ¼vf/kdre 75]000 rFkk 80% ;k vf/kd fodykaxrk 125]000½ | P36: #- | Q36: 0
C37: 3- /kkjk 80DDB fof'k"V jksaxksa ds mipkj gsrq dVkSrh ¼vf/kdre : 40]000] lhfu;j flVhtu gsrq : 100]000½ | P37: #- | Q37: 0
C38: 4- /kkjk 80E mPp f'k{kk gsrq fy, _.k dk C;kt | P38: #- | Q38: 0
C39: 5- /kkjk 80G /kekZFkZ laLFkkvksa vkfn dks fn;s nku ¼ d Js.kh esa 100 izfr'kr ,oa [k Js.kh esa 50 izfr'kr½ | P39: #- | Q39: 0
C40: 6- /kkjk 80U LFkkbZ :i ls 'kkjhfjd vleFkZrrk dh n'kk esa ¼vf/kdre 75]000 rFkk vf/kfu;e 1995ds vuqlkj 125]000½ | P40: #- | Q40: 0
...

Sheet Form 16
A1: FORM NO.16
A2: [See rule 31 (1) (a)]
A3: Part A
A4: Certificate under section 203 of the Income Tax Act, 1961 for tax deducted
A5: at source from income chargeable under the head “ Salaries “
A6: Name and address of the employer | G6: Name and Designation of the employee
A7: ='[1]Basic Profile'!D6 -> HANUMAN SAHAY REGAR | G7: ='GA-55'!D6 -> KRISHAN MURARI
A8: ='[1]Basic Profile'!D8 -> PRINCIPAL | G8: ='GA-55'!K6 -> HEAD CONSTABLE
A9: ='GA-55'!C4 -> कार्यालय पुलिस अधीक्षक, जिला बाराँ | G9: =A9 -> कार्यालय पुलिस अधीक्षक, जिला बाराँ
A11: PAN of the Deducter | D11: TAN of the Deducter | G11: PAN of the Employee
D12: ='GA-55'!U6 -> 0 | G12: ='GA-55'!P6 -> BHOPK4299K
A13: TDS Circle where annual | G13: PERIOD | J13: Assessment Year
A14: return / statement under | G14: FROM | I14: TO | J14: 2023-24
A15: section 206 is to be filed | G15: 01.04.2022 | I15: 31.03.2023
A16: Smmary of amount Paid/credited and tax Deducted at source thereon in respect of the Employee
A17: Quarter(s) | C17: Receipt Numbersof Original Quaterly Statements of TDS Under Sub-Section (3) of Section 200 | F17: Amount Paid cridited | H17: Amount of Tax Deducted (Rs) | K17: Amount of Tax Deposited / Remitted (Rs)
A18: Quarter 1 | F18: =SUM('GA-55'!N10+'GA-55'!N11+'GA-55'!N12) -> 208928 | H18: =SUM('GA-55'!X10:X12) -> 4500 | K18: =H18 -> 4500
A19: Quarter 2 | F19: =SUM('GA-55'!N13+'GA-55'!N14+'GA-55'!N15+'GA-55'!N22) -> 220319 | H19: =SUM('GA-55'!X13:X15)+'GA-55'!X22 -> 4500 | K19: =H19 -> 4500
A20: Quarter 3 | F20: =SUM('GA-55'!N16+'GA-55'!N17+'GA-55'!N18+'GA-55'!N25) -> 229064 | H20: =SUM('GA-55'!X16:X18)+'GA-55'!X25 -> 4500 | K20: =H20 -> 4500
A21: Quarter 4 | F21: =SUM('GA-55'!N19+'GA-55'!N20+'GA-55'!N21+'GA-55'!N22+'GA-55'!N24+'GA-55'!N26+'GA-55'!N227+'GA-55'!N28+'GA-55'!N29+'GA-55'!N30) -> 257693 | H21: =SUM('GA-55'!X19:X30) -> 11500 | K21: =H21 -> 11500
A22: Total | F22: =SUM(F18:F21) -> 916004 | H22: =SUM(H18:H21) -> 25000 | K22: =SUM(K18:K21) -> 25000
A23: I.DETAILS TAX DEDUCTED AND DEPOSITED INTO CENTRAL GOVERNMENT ACCOUNT THROUGH BOOK ADJUSTMENT
A24: S.No | B24: Tax Deposited In Respect | E24: Book Identification Number (BIN)
B25: of the deducter | E25: Receipt Numbers of | G25: DDO Serial No in | I25: Date Of Transfer | K25: Status of Maching
C26: (Rs) | E26: Form No.24G | G26: Form No.24G | I26: Form No.24G | K26: with Form.No 24G
I27: (dd/mm/yyyy)
A28: 1 | B28: ='GA-55'!X10 -> 1500
A29: 2 | B29: ='GA-55'!X11 -> 1500
A30: 3 | B30: ='GA-55'!X12 -> 1500
A31: 4 | B31: ='GA-55'!X13 -> 1500
A32: 5 | B32: ='GA-55'!X14 -> 1500
A33: 6 | B33: ='GA-55'!X15 -> 1500
A34: 7 | B34: ='GA-55'!X16 -> 1500
A35: 8 | B35: ='GA-55'!X17 -> 1500
A36: 9 | B36: ='GA-55'!X18 -> 1500
A37: 10 | B37: ='GA-55'!X19 -> 1500
A38: 11 | B38: ='GA-55'!X20 -> 10000
A39: 12 | B39: ='GA-55'!X21 -> 0
A40: 13 | B40: =SUM('GA-55'!X22+'GA-55'!X23+'GA-55'!X24+'GA-55'!X25+'GA-55'!X26+'GA-55'!X27+'GA-55'!X28+'GA-55'!X29+'GA-55'!X30) -> 0
A41: Total (Rs) | B41: =SUM(B28:B40) -> 25000
...
