Workbook
Name ANAND: 'MASTER SHEET'!#REF!
Name ANANDD: 'MASTER SHEET'!#REF!

Sheet MASTER SHEET
A1: bl Vscy dks iw.kZ Hkjus ds ckn D.A. AREAR SHEET esa tk;sa ,oa ,fj;j 'khV dk PRINT fudkysaA
A2: GOVT SR. SECONDARY SCHOOL, GORDHANPURA, ATRU (BARAN)
A3: S.N. | B3: NAME OF EMPLOYEE | C3: DESIGNATION | D3: BASIC (01.07.2022) | E3: TAX % | F3: SURRENDER (JULY TO SEP) 2022
A4: 1 | B4: PARMANAND MEGHWAL | C4: SR TEACHER | D4: 46500 | E4: 0 | F4: NO | G4: YES
A5: 2 | G5: NO
A6: 3
A7: 4
A8: 5
A9: 6
A10: 7
A11: 8
A12: 9
A13: 10
A14: 11
A15: 12
A16: 13
A17: 14
... A19: 16

Sheet D.A.ARREAR 8-EMPLOYEE
A1: ='MASTER SHEET'!A2:F2 -> GOVT SR. SECONDARY SCHOOL, GORDHANPURA, ATRU (BARAN)
A2: D.A. AREAR 01-07-2022 TO 30-09-2022 | R2: 6
A3: S.No. | B3: Employee Name | C3: Designation | D3: Month | E3: Due | H3: DRAWN | K3: DIFFERENCE | N3: DEDUCTION | P3: TOTAL DEDUCTION | Q3: NET PAY AMMOUNT | R3: TV NUMBER & DATE
E4: BASIC | F4: DA | G4: TOTAL | H4: BASIC | I4: DA | J4: TOTAL | K4: BASIC | L4: DA | M4: TOTAL | N4: GPF / GPF 2004 | O4: I TAX
A5: 1 | B5: =VLOOKUP('D.A.ARREAR 8-EMPLOYEE'!T5,'MASTER SHEET'!A3:F19,2,0) -> PARMANAND MEGHWAL | C5: =VLOOKUP('D.A.ARREAR 8-EMPLOYEE'!T5,'MASTER SHEET'!A3:F19,3,0) -> SR TEACHER | D5: 44743 | E5: =VLOOKUP('D.A.ARREAR 8-EMPLOYEE'!T5,'MASTER SHEET'!A3:F19,4,0) -> 46500 | F5: =ROUND(E5*38/100,0) -> 17670 | G5: =SUM(E5:F5) -> 64170 | H5: =VLOOKUP('D.A.ARREAR 8-EMPLOYEE'!T5,'MASTER SHEET'!A3:F19,4,0) -> 46500 | I5: =ROUND(H5*34/100,0) -> 15810 | J5: =SUM(H5:I5) -> 62310 | K5: =E5-H5 -> 0 | L5: =F5-I5 -> 1860 | M5: =SUM(K5:L5) -> 1860 | N5: =M5 -> 1860 | O5: 0 | P5: =SUM(N5:O5) -> 1860 | Q5: =M5-P5 -> 0 | T5: 1
D6: 44774 | E6: =E5 -> 46500 | F6: =ROUND(E6*38/100,0) -> 17670 | G6: =SUM(E6:F6) -> 64170 | H6: =H5 -> 46500 | I6: =ROUND(H6*34/100,0) -> 15810 | J6: =SUM(H6:I6) -> 62310 | K6: =E6-H6 -> 0 | L6: =F6-I6 -> 1860 | M6: =SUM(K6:L6) -> 1860 | N6: =M6 -> 1860 | O6: 0 | P6: =SUM(N6:O6) -> 1860 | Q6: =M6-P6 -> 0 | T6: 2
D7: 44805 | E7: =E6 -> 46500 | F7: =ROUND(E7*38/100,0) -> 17670 | G7: =SUM(E7:F7) -> 64170 | H7: =H6 -> 46500 | I7: =ROUND(H7*34/100,0) -> 15810 | J7: =SUM(H7:I7) -> 62310 | K7: =E7-H7 -> 0 | L7: =F7-I7 -> 1860 | M7: =SUM(K7:L7) -> 1860 | N7: =M7 -> 1860 | O7: 0 | P7: =SUM(N7:O7) -> 1860 | Q7: =M7-P7 -> 0 | T7: 3
D8: Surrender | E8: =IF(S8="NO",0,IF(S8="YES",E5/2,0)) -> 0 | F8: =ROUND(E8*38/100,0) -> 0 | G8: =SUM(E8:F8) -> 0 | H8: =IF(S8="NO",0,IF(S8="YES",E5/2,0)) -> 0 | I8: =ROUND(E8*34/100,0) -> 0 | J8: =SUM(H8:I8) -> 0 | K8: =E8-H8 -> 0 | L8: =F8-I8 -> 0 | M8: =SUM(K8:L8) -> 0 | N8: =M8 -> 0 | O8: 0 | P8: =SUM(N8:O8) -> 0 | Q8: =M8-P8 -> 0 | S8: ='MASTER SHEET'!F4 -> NO | T8: 4
A9: 2 | B9: =VLOOKUP('D.A.ARREAR 8-EMPLOYEE'!T6,'MASTER SHEET'!A3:F19,2,0) -> 0 | C9: =VLOOKUP('D.A.ARREAR 8-EMPLOYEE'!T6,'MASTER SHEET'!A3:F19,3,0) -> 0 | D9: 44743 | E9: =VLOOKUP('D.A.ARREAR 8-EMPLOYEE'!T6,'MASTER SHEET'!A3:F19,4,0) -> 0 | F9: =ROUND(E9*38/100,0) -> 0 | G9: =SUM(E9:F9) -> 0 | H9: =VLOOKUP('D.A.ARREAR 8-EMPLOYEE'!T6,'MASTER SHEET'!A3:F19,4,0) -> 0 | I9: =ROUND(H9*34/100,0) -> 0 | J9: =SUM(H9:I9) -> 0 | K9: =E9-H9 -> 0 | L9: =F9-I9 -> 0 | M9: =SUM(K9:L9) -> 0 | N9: =M9 -> 0 | O9: 0 | P9: =SUM(N9:O9) -> 0 | Q9: =M9-P9 -> 0 | T9: 5
D10: 44774 | E10: =E9 -> 0 | F10: =ROUND(E10*38/100,0) -> 0 | G10: =SUM(E10:F10) -> 0 | H10: =H9 -> 0 | I10: =ROUND(H10*34/100,0) -> 0 | J10: =SUM(H10:I10) -> 0 | K10: =E10-H10 -> 0 | L10: =F10-I10 -> 0 | M10: =SUM(K10:L10) -> 0 | N10: =M10 -> 0 | O10: 0 | P10: =SUM(N10:O10) -> 0 | Q10: =M10-P10 -> 0 | T10: 6
D11: 44805 | E11: =E10 -> 0 | F11: =ROUND(E11*38/100,0) -> 0 | G11: =SUM(E11:F11) -> 0 | H11: =H10 -> 0 | I11: =ROUND(H11*34/100,0) -> 0 | J11: =SUM(H11:I11) -> 0 | K11: =E11-H11 -> 0 | L11: =F11-I11 -> 0 | M11: =SUM(K11:L11) -> 0 | N11: =M11 -> 0 | O11: 0 | P11: =SUM(N11:O11) -> 0 | Q11: =M11-P11 -> 0 | T11: 7
D12: Surrender | E12: =IF(S12="NO",0,IF(S12="YES",E9/2,0)) -> 0 | F12: =ROUND(E12*38/100,0) -> 0 | G12: =SUM(E12:F12) -> 0 | H12: =IF(S12="NO",0,IF(S12="YES",E9/2,0)) -> 0 | I12: =ROUND(E12*34/100,0) -> 0 | J12: =SUM(H12:I12) -> 0 | K12: =E12-H12 -> 0 | L12: =F12-I12 -> 0 | M12: =SUM(K12:L12) -> 0 | N12: =M12 -> 0 | O12: 0 | P12: =SUM(N12:O12) -> 0 | Q12: =M12-P12 -> 0 | S12: ='MASTER SHEET'!F5 -> 0 | T12: 8
A13: 3 | B13: =VLOOKUP('D.A.ARREAR 8-EMPLOYEE'!T7,'MASTER SHEET'!A3:F19,2,0) -> 0 | C13: =VLOOKUP('D.A.ARREAR 8-EMPLOYEE'!T7,'MASTER SHEET'!A3:F19,3,0) -> 0 | D13: 44743 | E13: =VLOOKUP('D.A.ARREAR 8-EMPLOYEE'!T7,'MASTER SHEET'!A3:F19,4,0) -> 0 | F13: =ROUND(E13*38/100,0) -> 0 | G13: =SUM(E13:F13) -> 0 | H13: =VLOOKUP('D.A.ARREAR 8-EMPLOYEE'!T7,'MASTER SHEET'!A3:F19,4,0) -> 0 | I13: =ROUND(H13*34/100,0) -> 0 | J13: =SUM(H13:I13) -> 0 | K13: =E13-H13 -> 0 | L13: =F13-I13 -> 0 | M13: =SUM(K13:L13) -> 0 | N13: =M13 -> 0 | O13: 0 | P13: =SUM(N13:O13) -> 0 | Q13: =M13-P13 -> 0
D14: 44774 | E14: =E13 -> 0 | F14: =ROUND(E14*38/100,0) -> 0 | G14: =SUM(E14:F14) -> 0 | H14: =H13 -> 0 | I14: =ROUND(H14*34/100,0) -> 0 | J14: =SUM(H14:I14) -> 0 | K14: =E14-H14 -> 0 | L14: =F14-I14 -> 0 | M14: =SUM(K14:L14) -> 0 | N14: =M14 -> 0 | O14: 0 | P14: =SUM(N14:O14) -> 0 | Q14: =M14-P14 -> 0
D15: 44805 | E15: =E14 -> 0 | F15: =ROUND(E15*38/100,0) -> 0 | G15: =SUM(E15:F15) -> 0 | H15: =H14 -> 0 | I15: =ROUND(H15*34/100,0) -> 0 | J15: =SUM(H15:I15) -> 0 | K15: =E15-H15 -> 0 | L15: =F15-I15 -> 0 | M15: =SUM(K15:L15) -> 0 | N15: =M15 -> 0 | O15: 0 | P15: =SUM(N15:O15) -> 0 | Q15: =M15-P15 -> 0
D16: Surrender | E16: =IF(S16="NO",0,IF(S16="YES",E13/2,0)) -> 0 | F16: =ROUND(E16*38/100,0) -> 0 | G16: =SUM(E16:F16) -> 0 | H16: =IF(S16="NO",0,IF(S16="YES",E13/2,0)) -> 0 | I16: =ROUND(E16*34/100,0) -> 0 | J16: =SUM(H16:I16) -> 0 | K16: =E16-H16 -> 0 | L16: =F16-I16 -> 0 | M16: =SUM(K16:L16) -> 0 | N16: =M16 -> 0 | O16: 0 | P16: =SUM(N16:O16) -> 0 | Q16: =M16-P16 -> 0 | S16: ='MASTER SHEET'!F6 -> 0
A17: 4 | B17: =VLOOKUP('D.A.ARREAR 8-EMPLOYEE'!T8,'MASTER SHEET'!A3:F19,2,0) -> 0 | C17: =VLOOKUP('D.A.ARREAR 8-EMPLOYEE'!T8,'MASTER SHEET'!A3:F19,3,0) -> 0 | D17: 44743 | E17: =VLOOKUP('D.A.ARREAR 8-EMPLOYEE'!T8,'MASTER SHEET'!A3:F19,4,0) -> 0 | F17: =ROUND(E17*38/100,0) -> 0 | G17: =SUM(E17:F17) -> 0 | H17: =VLOOKUP('D.A.ARREAR 8-EMPLOYEE'!T8,'MASTER SHEET'!A3:F19,4,0) -> 0 | I17: =ROUND(H17*34/100,0) -> 0 | J17: =SUM(H17:I17) -> 0 | K17: =E17-H17 -> 0 | L17: =F17-I17 -> 0 | M17: =SUM(K17:L17) -> 0 | N17: =M17 -> 0 | O17: 0 | P17: =SUM(N17:O17) -> 0 | Q17: =M17-P17 -> 0
D18: 44774 | E18: =E17 -> 0 | F18: =ROUND(E18*38/100,0) -> 0 | G18: =SUM(E18:F18) -> 0 | H18: =H17 -> 0 | I18: =ROUND(H18*34/100,0) -> 0 | J18: =SUM(H18:I18) -> 0 | K18: =E18-H18 -> 0 | L18: =F18-I18 -> 0 | M18: =SUM(K18:L18) -> 0 | N18: =M18 -> 0 | O18: 0 | P18: =SUM(N18:O18) -> 0 | Q18: =M18-P18 -> 0
D19: 44805 | E19: =E18 -> 0 | F19: =ROUND(E19*38/100,0) -> 0 | G19: =SUM(E19:F19) -> 0 | H19: =H18 -> 0 | I19: =ROUND(H19*34/100,0) -> 0 | J19: =SUM(H19:I19) -> 0 | K19: =E19-H19 -> 0 | L19: =F19-I19 -> 0 | M19: =SUM(K19:L19) -> 0 | N19: =M19 -> 0 | O19: 0 | P19: =SUM(N19:O19) -> 0 | Q19: =M19-P19 -> 0
D20: Surrender | E20: =IF(S20="NO",0,IF(S20="YES",E17/2,0)) -> 0 | F20: =ROUND(E20*38/100,0) -> 0 | G20: =SUM(E20:F20) -> 0 | H20: =IF(S20="NO",0,IF(S20="YES",E17/2,0)) -> 0 | I20: =ROUND(E20*34/100,0) -> 0 | J20: =SUM(H20:I20) -> 0 | K20: =E20-H20 -> 0 | L20: =F20-I20 -> 0 | M20: =SUM(K20:L20) -> 0 | N20: =M20 -> 0 | O20: 0 | P20: =SUM(N20:O20) -> 0 | Q20: =M20-P20 -> 0 | S20: ='MASTER SHEET'!F7 -> 0
A21: 5 | B21: =VLOOKUP('D.A.ARREAR 8-EMPLOYEE'!T9,'MASTER SHEET'!A3:F19,2,0) -> 0 | C21: =VLOOKUP('D.A.ARREAR 8-EMPLOYEE'!T9,'MASTER SHEET'!A3:F19,3,0) -> 0 | D21: 44743 | E21: =VLOOKUP('D.A.ARREAR 8-EMPLOYEE'!T9,'MASTER SHEET'!A3:F19,4,0) -> 0 | F21: =ROUND(E21*38/100,0) -> 0 | G21: =SUM(E21:F21) -> 0 | H21: =VLOOKUP('D.A.ARREAR 8-EMPLOYEE'!T9,'MASTER SHEET'!A7:F23,4,0) -> 0 | I21: =ROUND(H21*34/100,0) -> 0 | J21: =SUM(H21:I21) -> 0 | K21: =E21-H21 -> 0 | L21: =F21-I21 -> 0 | M21: =SUM(K21:L21) -> 0 | N21: =M21 -> 0 | O21: 0 | P21: =SUM(N21:O21) -> 0 | Q21: =M21-P21 -> 0
D22: 44774 | E22: =E21 -> 0 | F22: =ROUND(E22*38/100,0) -> 0 | G22: =SUM(E22:F22) -> 0 | H22: =H21 -> 0 | I22: =ROUND(H22*34/100,0) -> 0 | J22: =SUM(H22:I22) -> 0 | K22: =E22-H22 -> 0 | L22: =F22-I22 -> 0 | M22: =SUM(K22:L22) -> 0 | N22: =M22 -> 0 | O22: 0 | P22: =SUM(N22:O22) -> 0 | Q22: =M22-P22 -> 0
D23: 44805 | E23: =E22 -> 0 | F23: =ROUND(E23*38/100,0) -> 0 | G23: =SUM(E23:F23) -> 0 | H23: =H22 -> 0 | I23: =ROUND(H23*34/100,0) -> 0 | J23: =SUM(H23:I23) -> 0 | K23: =E23-H23 -> 0 | L23: =F23-I23 -> 0 | M23: =SUM(K23:L23) -> 0 | N23: =M23 -> 0 | O23: 0 | P23: =SUM(N23:O23) -> 0 | Q23: =M23-P23 -> 0
D24: Surrender | E24: =IF(S24="NO",0,IF(S24="YES",E21/2,0)) -> 0 | F24: =ROUND(E24*38/100,0) -> 0 | G24: =SUM(E24:F24) -> 0 | H24: =IF(S24="NO",0,IF(S24="YES",E21/2,0)) -> 0 | I24: =ROUND(E24*34/100,0) -> 0 | J24: =SUM(H24:I24) -> 0 | K24: =E24-H24 -> 0 | L24: =F24-I24 -> 0 | M24: =SUM(K24:L24) -> 0 | N24: =M24 -> 0 | O24: 0 | P24: =SUM(N24:O24) -> 0 | Q24: =M24-P24 -> 0 | S24: ='MASTER SHEET'!F8 -> 0
A25: 6 | B25: =VLOOKUP('D.A.ARREAR 8-EMPLOYEE'!T10,'MASTER SHEET'!A3:F19,2,0) -> 0 | C25: =VLOOKUP('D.A.ARREAR 8-EMPLOYEE'!T10,'MASTER SHEET'!A3:F19,3,0) -> 0 | D25: 44743 | E25: =VLOOKUP('D.A.ARREAR 8-EMPLOYEE'!T10,'MASTER SHEET'!A7:F23,4,0) -> 0 | F25: =ROUND(E25*38/100,0) -> 0 | G25: =SUM(E25:F25) -> 0 | H25: =VLOOKUP('D.A.ARREAR 8-EMPLOYEE'!T10,'MASTER SHEET'!A7:F23,4,0) -> 0 | I25: =ROUND(H25*34/100,0) -> 0 | J25: =SUM(H25:I25) -> 0 | K25: =E25-H25 -> 0 | L25: =F25-I25 -> 0 | M25: =SUM(K25:L25) -> 0 | N25: =M25 -> 0 | O25: 0 | P25: =SUM(N25:O25) -> 0 | Q25: =M25-P25 -> 0
D26: 44774 | E26: =E25 -> 0 | F26: =ROUND(E26*38/100,0) -> 0 | G26: =SUM(E26:F26) -> 0 | H26: =H25 -> 0 | I26: =ROUND(H26*34/100,0) -> 0 | J26: =SUM(H26:I26) -> 0 | K26: =E26-H26 -> 0 | L26: =F26-I26 -> 0 | M26: =SUM(K26:L26) -> 0 | N26: =M26 -> 0 | O26: 0 | P26: =SUM(N26:O26) -> 0 | Q26: =M26-P26 -> 0
D27: 44805 | E27: =E26 -> 0 | F27: =ROUND(E27*38/100,0) -> 0 | G27: =SUM(E27:F27) -> 0 | H27: =H26 -> 0 | I27: =ROUND(H27*34/100,0) -> 0 | J27: =SUM(H27:I27) -> 0 | K27: =E27-H27 -> 0 | L27: =F27-I27 -> 0 | M27: =SUM(K27:L27) -> 0 | N27: =M27 -> 0 | O27: 0 | P27: =SUM(N27:O27) -> 0 | Q27: =M27-P27 -> 0
D28: Surrender | E28: =IF(S28="NO",0,IF(S28="YES",E25/2,0)) -> 0 | F28: =ROUND(E28*38/100,0) -> 0 | G28: =SUM(E28:F28) -> 0 | H28: =IF(S28="NO",0,IF(S28="YES",E25/2,0)) -> 0 | I28: =ROUND(E28*34/100,0) -> 0 | J28: =SUM(H28:I28) -> 0 | K28: =E28-H28 -> 0 | L28: =F28-I28 -> 0 | M28: =SUM(K28:L28) -> 0 | N28: =M28 -> 0 | O28: 0 | P28: =SUM(N28:O28) -> 0 | Q28: =M28-P28 -> 0 | S28: ='MASTER SHEET'!F9 -> 0
A29: 7 | B29: =VLOOKUP('D.A.ARREAR 8-EMPLOYEE'!T11,'MASTER SHEET'!A3:F19,2,0) -> 0 | C29: =VLOOKUP('D.A.ARREAR 8-EMPLOYEE'!T11,'MASTER SHEET'!A3:F19,3,0) -> 0 | D29: 44743 | E29: =VLOOKUP('D.A.ARREAR 8-EMPLOYEE'!T11,'MASTER SHEET'!A7:F23,4,0) -> 0 | F29: =ROUND(E29*38/100,0) -> 0 | G29: =SUM(E29:F29) -> 0 | H29: =VLOOKUP('D.A.ARREAR 8-EMPLOYEE'!T11,'MASTER SHEET'!A7:F23,4,0) -> 0 | I29: =ROUND(H29*34/100,0) -> 0 | J29: =SUM(H29:I29) -> 0 | K29: =E29-H29 -> 0 | L29: =F29-I29 -> 0 | M29: =SUM(K29:L29) -> 0 | N29: =M29 -> 0 | O29: 0 | P29: =SUM(N29:O29) -> 0 | Q29: =M29-P29 -> 0
D30: 44774 | E30: =E29 -> 0 | F30: =ROUND(E30*38/100,0) -> 0 | G30: =SUM(E30:F30) -> 0 | H30: =H29 -> 0 | I30: =ROUND(H30*34/100,0) -> 0 | J30: =SUM(H30:I30) -> 0 | K30: =E30-H30 -> 0 | L30: =F30-I30 -> 0 | M30: =SUM(K30:L30) -> 0 | N30: =M30 -> 0 | O30: 0 | P30: =SUM(N30:O30) -> 0 | Q30: =M30-P30 -> 0
D31: 44805 | E31: =E30 -> 0 | F31: =ROUND(E31*38/100,0) -> 0 | G31: =SUM(E31:F31) -> 0 | H31: =H30 -> 0 | I31: =ROUND(H31*34/100,0) -> 0 | J31: =SUM(H31:I31) -> 0 | K31: =E31-H31 -> 0 | L31: =F31-I31 -> 0 | M31: =SUM(K31:L31) -> 0 | N31: =M31 -> 0 | O31: 0 | P31: =SUM(N31:O31) -> 0 | Q31: =M31-P31 -> 0
D32: Surrender | E32: =IF(S32="NO",0,IF(S32="YES",E29/2,0)) -> 0 | F32: =ROUND(E32*38/100,0) -> 0 | G32: =SUM(E32:F32) -> 0 | H32: =IF(S32="NO",0,IF(S32="YES",E29/2,0)) -> 0 | I32: =ROUND(E32*34/100,0) -> 0 | J32: =SUM(H32:I32) -> 0 | K32: =E32-H32 -> 0 | L32: =F32-I32 -> 0 | M32: =SUM(K32:L32) -> 0 | N32: =M32 -> 0 | O32: 0 | P32: =SUM(N32:O32) -> 0 | Q32: =M32-P32 -> 0 | S32: ='MASTER SHEET'!F10 -> 0
A33: 8 | B33: =VLOOKUP('D.A.ARREAR 8-EMPLOYEE'!T12,'MASTER SHEET'!A3:F19,2,0) -> 0 | C33: =VLOOKUP('D.A.ARREAR 8-EMPLOYEE'!T12,'MASTER SHEET'!A3:F19,3,0) -> 0 | D33: 44743 | E33: =VLOOKUP('D.A.ARREAR 8-EMPLOYEE'!T12,'MASTER SHEET'!A7:F23,4,0) -> 0 | F33: =ROUND(E33*38/100,0) -> 0 | G33: =SUM(E33:F33) -> 0 | H33: =VLOOKUP('D.A.ARREAR 8-EMPLOYEE'!T12,'MASTER SHEET'!A7:F23,4,0) -> 0 | I33: =ROUND(H33*34/100,0) -> 0 | J33: =SUM(H33:I33) -> 0 | K33: =E33-H33 -> 0 | L33: =F33-I33 -> 0 | M33: =SUM(K33:L33) -> 0 | N33: =M33 -> 0 | O33: 0 | P33: =SUM(N33:O33) -> 0 | Q33: =M33-P33 -> 0
D34: 44774 | E34: =E33 -> 0 | F34: =ROUND(E34*38/100,0) -> 0 | G34: =SUM(E34:F34) -> 0 | H34: =H33 -> 0 | I34: =ROUND(H34*34/100,0) -> 0 | J34: =SUM(H34:I34) -> 0 | K34: =E34-H34 -> 0 | L34: =F34-I34 -> 0 | M34: =SUM(K34:L34) -> 0 | N34: =M34 -> 0 | O34: 0 | P34: =SUM(N34:O34) -> 0 | Q34: =M34-P34 -> 0
D35: 44805 | E35: =E34 -> 0 | F35: =ROUND(E35*38/100,0) -> 0 | G35: =SUM(E35:F35) -> 0 | H35: =H34 -> 0 | I35: =ROUND(H35*34/100,0) -> 0 | J35: =SUM(H35:I35) -> 0 | K35: =E35-H35 -> 0 | L35: =F35-I35 -> 0 | M35: =SUM(K35:L35) -> 0 | N35: =M35 -> 0 | O35: 0 | P35: =SUM(N35:O35) -> 0 | Q35: =M35-P35 -> 0
D36: Surrender | E36: =IF(S36="NO",0,IF(S36="YES",E33/2,0)) -> 0 | F36: =ROUND(E36*38/100,0) -> 0 | G36: =SUM(E36:F36) -> 0 | H36: =IF(S36="NO",0,IF(S36="YES",E33/2,0)) -> 0 | I36: =ROUND(E36*34/100,0) -> 0 | J36: =SUM(H36:I36) -> 0 | K36: =E36-H36 -> 0 | L36: =F36-I36 -> 0 | M36: =SUM(K36:L36) -> 0 | N36: =M36 -> 0 | O36: 0 | P36: =SUM(N36:O36) -> 0 | Q36: =M36-P36 -> 0 | S36: ='MASTER SHEET'!F11 -> 0
A37: GRAND TOTAL | E37: =SUM(E5:E36) -> 139500 | F37: =SUM(F5:F36) -> 53010 | G37: =SUM(G5:G36) -> 192510 | H37: =SUM(H5:H36) -> 139500 | I37: =SUM(I5:I36) -> 47430 | J37: =SUM(J5:J36) -> 186930 | K37: =SUM(K5:K36) -> 0 | L37: =SUM(L5:L36) -> 5580 | ... Q37: =SUM(Q5:Q36) -> 0
Q40: DDO SIGN

Sheet D.A.ARREAR 16-EMPLOYEE
A1: ='MASTER SHEET'!A2:F2 -> GOVT SR. SECONDARY SCHOOL, GORDHANPURA, ATRU (BARAN)
A2: D.A. AREAR 01-07-2022 TO 30-09-2022 | R2: 6
A3: S.No. | B3: Employee Name | C3: Designation | D3: Month | E3: Due | H3: DRAWN | K3: DIFFERENCE | N3: DEDUCTION | P3: TOTAL DEDUCTION | Q3: NET PAY AMMOUNT | R3: TV NUMBER & DATE
E4: BASIC | F4: DA | G4: TOTAL | H4: BASIC | I4: DA | J4: TOTAL | K4: BASIC | L4: DA | M4: TOTAL | N4: GPF | O4: I TAX
A5: 9 | B5: =VLOOKUP('D.A.ARREAR 16-EMPLOYEE'!T5,'MASTER SHEET'!A3:F19,2,0) -> 0 | C5: =VLOOKUP('D.A.ARREAR 16-EMPLOYEE'!T5,'MASTER SHEET'!A3:F19,3,0) -> 0 | D5: 44743 | E5: =VLOOKUP('D.A.ARREAR 16-EMPLOYEE'!T5,'MASTER SHEET'!A3:F19,4,0) -> 0 | F5: =ROUND(E5*38/100,0) -> 0 | G5: =SUM(E5:F5) -> 0 | H5: =VLOOKUP('D.A.ARREAR 16-EMPLOYEE'!T5,'MASTER SHEET'!A3:F19,4,0) -> 0 | I5: =ROUND(H5*34/100,0) -> 0 | J5: =SUM(H5:I5) -> 0 | K5: =E5-H5 -> 0 | L5: =F5-I5 -> 0 | M5: =SUM(K5:L5) -> 0 | N5: =M5 -> 0 | O5: 0 | P5: =SUM(N5:O5) -> 0 | Q5: =M5-P5 -> 0 | T5: 9
D6: 44774 | E6: =E5 -> 0 | F6: =ROUND(E6*38/100,0) -> 0 | G6: =SUM(E6:F6) -> 0 | H6: =H5 -> 0 | I6: =ROUND(H6*34/100,0) -> 0 | J6: =SUM(H6:I6) -> 0 | K6: =E6-H6 -> 0 | L6: =F6-I6 -> 0 | M6: =SUM(K6:L6) -> 0 | N6: =M6 -> 0 | O6: 0 | P6: =SUM(N6:O6) -> 0 | Q6: =M6-P6 -> 0 | T6: 10
D7: 44805 | E7: =E6 -> 0 | F7: =ROUND(E7*38/100,0) -> 0 | G7: =SUM(E7:F7) -> 0 | H7: =H6 -> 0 | I7: =ROUND(H7*34/100,0) -> 0 | J7: =SUM(H7:I7) -> 0 | K7: =E7-H7 -> 0 | L7: =F7-I7 -> 0 | M7: =SUM(K7:L7) -> 0 | N7: =M7 -> 0 | O7: 0 | P7: =SUM(N7:O7) -> 0 | Q7: =M7-P7 -> 0 | T7: 11
D8: Surrender | E8: =IF(S8="NO",0,IF(S8="YES",E5/2,0)) -> 0 | F8: =ROUND(E8*38/100,0) -> 0 | G8: =SUM(E8:F8) -> 0 | H8: =IF(S8="NO",0,IF(S8="YES",E5/2,0)) -> 0 | I8: =ROUND(E8*34/100,0) -> 0 | J8: =SUM(H8:I8) -> 0 | K8: =E8-H8 -> 0 | L8: =F8-I8 -> 0 | M8: =SUM(K8:L8) -> 0 | N8: =M8 -> 0 | O8: 0 | P8: =SUM(N8:O8) -> 0 | Q8: =M8-P8 -> 0 | S8: ='MASTER SHEET'!F12 -> 0 | T8: 12
A9: 10 | B9: =VLOOKUP('D.A.ARREAR 16-EMPLOYEE'!T6,'MASTER SHEET'!A3:F19,2,0) -> 0 | C9: =VLOOKUP('D.A.ARREAR 16-EMPLOYEE'!T6,'MASTER SHEET'!A3:F19,3,0) -> 0 | D9: 44743 | E9: =VLOOKUP('D.A.ARREAR 16-EMPLOYEE'!T6,'MASTER SHEET'!A7:F23,4,0) -> 0 | F9: =ROUND(E9*38/100,0) -> 0 | G9: =SUM(E9:F9) -> 0 | H9: =VLOOKUP('D.A.ARREAR 16-EMPLOYEE'!T6,'MASTER SHEET'!A7:F23,4,0) -> 0 | I9: =ROUND(H9*34/100,0) -> 0 | J9: =SUM(H9:I9) -> 0 | K9: =E9-H9 -> 0 | L9: =F9-I9 -> 0 | M9: =SUM(K9:L9) -> 0 | N9: =M9 -> 0 | O9: 0 | P9: =SUM(N9:O9) -> 0 | Q9: =M9-P9 -> 0 | T9: 13
D10: 44774 | E10: =E9 -> 0 | F10: =ROUND(E10*38/100,0) -> 0 | G10: =SUM(E10:F10) -> 0 | H10: =H9 -> 0 | I10: =ROUND(H10*34/100,0) -> 0 | J10: =SUM(H10:I10) -> 0 | K10: =E10-H10 -> 0 | L10: =F10-I10 -> 0 | M10: =SUM(K10:L10) -> 0 | N10: =M10 -> 0 | O10: 0 | P10: =SUM(N10:O10) -> 0 | Q10: =M10-P10 -> 0 | T10: 14
D11: 44805 | E11: =E10 -> 0 | F11: =ROUND(E11*38/100,0) -> 0 | G11: =SUM(E11:F11) -> 0 | H11: =H10 -> 0 | I11: =ROUND(H11*34/100,0) -> 0 | J11: =SUM(H11:I11) -> 0 | K11: =E11-H11 -> 0 | L11: =F11-I11 -> 0 | M11: =SUM(K11:L11) -> 0 | N11: =M11 -> 0 | O11: 0 | P11: =SUM(N11:O11) -> 0 | Q11: =M11-P11 -> 0 | T11: 15
D12: Surrender | E12: =IF(S12="NO",0,IF(S12="YES",E9/2,0)) -> 0 | F12: =ROUND(E12*38/100,0) -> 0 | G12: =SUM(E12:F12) -> 0 | H12: =IF(S12="NO",0,IF(S12="YES",E9/2,0)) -> 0 | I12: =ROUND(E12*34/100,0) -> 0 | J12: =SUM(H12:I12) -> 0 | K12: =E12-H12 -> 0 | L12: =F12-I12 -> 0 | M12: =SUM(K12:L12) -> 0 | N12: =M12 -> 0 | O12: 0 | P12: =SUM(N12:O12) -> 0 | Q12: =M12-P12 -> 0 | S12: ='MASTER SHEET'!F13 -> 0 | T12: 16
A13: 11 | B13: =VLOOKUP('D.A.ARREAR 16-EMPLOYEE'!T7,'MASTER SHEET'!A3:F19,2,0) -> 0 | C13: =VLOOKUP('D.A.ARREAR 16-EMPLOYEE'!T7,'MASTER SHEET'!A3:F19,3,0) -> 0 | D13: 44743 | E13: =VLOOKUP('D.A.ARREAR 16-EMPLOYEE'!T7,'MASTER SHEET'!A11:F27,4,0) -> 0 | F13: =ROUND(E13*38/100,0) -> 0 | G13: =SUM(E13:F13) -> 0 | H13: =VLOOKUP('D.A.ARREAR 16-EMPLOYEE'!T7,'MASTER SHEET'!A11:F27,4,0) -> 0 | I13: =ROUND(H13*34/100,0) -> 0 | J13: =SUM(H13:I13) -> 0 | K13: =E13-H13 -> 0 | L13: =F13-I13 -> 0 | M13: =SUM(K13:L13) -> 0 | N13: =M13 -> 0 | O13: 0 | P13: =SUM(N13:O13) -> 0 | Q13: =M13-P13 -> 0
D14: 44774 | E14: =E13 -> 0 | F14: =ROUND(E14*38/100,0) -> 0 | G14: =SUM(E14:F14) -> 0 | H14: =H13 -> 0 | I14: =ROUND(H14*34/100,0) -> 0 | J14: =SUM(H14:I14) -> 0 | K14: =E14-H14 -> 0 | L14: =F14-I14 -> 0 | M14: =SUM(K14:L14) -> 0 | N14: =M14 -> 0 | O14: 0 | P14: =SUM(N14:O14) -> 0 | Q14: =M14-P14 -> 0
D15: 44805 | E15: =E14 -> 0 | F15: =ROUND(E15*38/100,0) -> 0 | G15: =SUM(E15:F15) -> 0 | H15: =H14 -> 0 | I15: =ROUND(H15*34/100,0) -> 0 | J15: =SUM(H15:I15) -> 0 | K15: =E15-H15 -> 0 | L15: =F15-I15 -> 0 | M15: =SUM(K15:L15) -> 0 | N15: =M15 -> 0 | O15: 0 | P15: =SUM(N15:O15) -> 0 | Q15: =M15-P15 -> 0
D16: Surrender | E16: =IF(S16="NO",0,IF(S16="YES",E13/2,0)) -> 0 | F16: =ROUND(E16*38/100,0) -> 0 | G16: =SUM(E16:F16) -> 0 | H16: =IF(S16="NO",0,IF(S16="YES",E13/2,0)) -> 0 | I16: =ROUND(E16*34/100,0) -> 0 | J16: =SUM(H16:I16) -> 0 | K16: =E16-H16 -> 0 | L16: =F16-I16 -> 0 | M16: =SUM(K16:L16) -> 0 | N16: =M16 -> 0 | O16: 0 | P16: =SUM(N16:O16) -> 0 | Q16: =M16-P16 -> 0 | S16: ='MASTER SHEET'!F14 -> 0
A17: 12 | B17: =VLOOKUP('D.A.ARREAR 16-EMPLOYEE'!T8,'MASTER SHEET'!A3:F19,2,0) -> 0 | C17: =VLOOKUP('D.A.ARREAR 16-EMPLOYEE'!T8,'MASTER SHEET'!A3:F19,3,0) -> 0 | D17: 44743 | E17: =VLOOKUP('D.A.ARREAR 16-EMPLOYEE'!T8,'MASTER SHEET'!A3:F19,4,0) -> 0 | F17: =ROUND(E17*38/100,0) -> 0 | G17: =SUM(E17:F17) -> 0 | H17: =VLOOKUP('D.A.ARREAR 16-EMPLOYEE'!T8,'MASTER SHEET'!A3:F19,4,0) -> 0 | I17: =ROUND(H17*34/100,0) -> 0 | J17: =SUM(H17:I17) -> 0 | K17: =E17-H17 -> 0 | L17: =F17-I17 -> 0 | M17: =SUM(K17:L17) -> 0 | N17: =M17 -> 0 | O17: 0 | P17: =SUM(N17:O17) -> 0 | Q17: =M17-P17 -> 0
D18: 44774 | E18: =E17 -> 0 | F18: =ROUND(E18*38/100,0) -> 0 | G18: =SUM(E18:F18) -> 0 | H18: =H17 -> 0 | I18: =ROUND(H18*34/100,0) -> 0 | J18: =SUM(H18:I18) -> 0 | K18: =E18-H18 -> 0 | L18: =F18-I18 -> 0 | M18: =SUM(K18:L18) -> 0 | N18: =M18 -> 0 | O18: 0 | P18: =SUM(N18:O18) -> 0 | Q18: =M18-P18 -> 0
D19: 44805 | E19: =E18 -> 0 | F19: =ROUND(E19*38/100,0) -> 0 | G19: =SUM(E19:F19) -> 0 | H19: =H18 -> 0 | I19: =ROUND(H19*34/100,0) -> 0 | J19: =SUM(H19:I19) -> 0 | K19: =E19-H19 -> 0 | L19: =F19-I19 -> 0 | M19: =SUM(K19:L19) -> 0 | N19: =M19 -> 0 | O19: 0 | P19: =SUM(N19:O19) -> 0 | Q19: =M19-P19 -> 0
D20: Surrender | E20: =IF(S20="NO",0,IF(S20="YES",E17/2,0)) -> 0 | F20: =ROUND(E20*38/100,0) -> 0 | G20: =SUM(E20:F20) -> 0 | H20: =IF(S20="NO",0,IF(S20="YES",E17/2,0)) -> 0 | I20: =ROUND(E20*34/100,0) -> 0 | J20: =SUM(H20:I20) -> 0 | K20: =E20-H20 -> 0 | L20: =F20-I20 -> 0 | M20: =SUM(K20:L20) -> 0 | N20: =M20 -> 0 | O20: 0 | P20: =SUM(N20:O20) -> 0 | Q20: =M20-P20 -> 0 | S20: ='MASTER SHEET'!F15 -> 0
A21: 13 | B21: =VLOOKUP('D.A.ARREAR 16-EMPLOYEE'!T9,'MASTER SHEET'!A3:F19,2,0) -> 0 | C21: =VLOOKUP('D.A.ARREAR 16-EMPLOYEE'!T9,'MASTER SHEET'!A3:F19,3,0) -> 0 | D21: 44743 | E21: =VLOOKUP('D.A.ARREAR 16-EMPLOYEE'!T9,'MASTER SHEET'!A3:F19,4,0) -> 0 | F21: =ROUND(E21*38/100,0) -> 0 | G21: =SUM(E21:F21) -> 0 | H21: =VLOOKUP('D.A.ARREAR 16-EMPLOYEE'!T9,'MASTER SHEET'!A3:F19,4,0) -> 0 | I21: =ROUND(H21*34/100,0) -> 0 | J21: =SUM(H21:I21) -> 0 | K21: =E21-H21 -> 0 | L21: =F21-I21 -> 0 | M21: =SUM(K21:L21) -> 0 | N21: =M21 -> 0 | O21: 0 | P21: =SUM(N21:O21) -> 0 | Q21: =M21-P21 -> 0
D22: 44774 | E22: =E21 -> 0 | F22: =ROUND(E22*38/100,0) -> 0 | G22: =SUM(E22:F22) -> 0 | H22: =H21 -> 0 | I22: =ROUND(H22*34/100,0) -> 0 | J22: =SUM(H22:I22) -> 0 | K22: =E22-H22 -> 0 | L22: =F22-I22 -> 0 | M22: =SUM(K22:L22) -> 0 | N22: =M22 -> 0 | O22: 0 | P22: =SUM(N22:O22) -> 0 | Q22: =M22-P22 -> 0
D23: 44805 | E23: =E22 -> 0 | F23: =ROUND(E23*38/100,0) -> 0 | G23: =SUM(E23:F23) -> 0 | H23: =H22 -> 0 | I23: =ROUND(H23*34/100,0) -> 0 | J23: =SUM(H23:I23) -> 0 | K23: =E23-H23 -> 0 | L23: =F23-I23 -> 0 | M23: =SUM(K23:L23) -> 0 | N23: =M23 -> 0 | O23: 0 | P23: =SUM(N23:O23) -> 0 | Q23: =M23-P23 -> 0
D24: Surrender | E24: =IF(S24="NO",0,IF(S24="YES",E21/2,0)) -> 0 | F24: =ROUND(E24*38/100,0) -> 0 | G24: =SUM(E24:F24) -> 0 | H24: =IF(S24="NO",0,IF(S24="YES",E21/2,0)) -> 0 | I24: =ROUND(E24*34/100,0) -> 0 | J24: =SUM(H24:I24) -> 0 | K24: =E24-H24 -> 0 | L24: =F24-I24 -> 0 | M24: =SUM(K24:L24) -> 0 | N24: =M24 -> 0 | O24: 0 | P24: =SUM(N24:O24) -> 0 | Q24: =M24-P24 -> 0 | S24: ='MASTER SHEET'!F16 -> 0
A25: 14 | B25: =VLOOKUP('D.A.ARREAR 16-EMPLOYEE'!T10,'MASTER SHEET'!A3:F19,2,0) -> 0 | C25: =VLOOKUP('D.A.ARREAR 16-EMPLOYEE'!T10,'MASTER SHEET'!A3:F19,3,0) -> 0 | D25: 44743 | E25: =VLOOKUP('D.A.ARREAR 16-EMPLOYEE'!T10,'MASTER SHEET'!A3:F19,4,0) -> 0 | F25: =ROUND(E25*38/100,0) -> 0 | G25: =SUM(E25:F25) -> 0 | H25: =VLOOKUP('D.A.ARREAR 16-EMPLOYEE'!T10,'MASTER SHEET'!A3:F19,4,0) -> 0 | I25: =ROUND(H25*34/100,0) -> 0 | J25: =SUM(H25:I25) -> 0 | K25: =E25-H25 -> 0 | L25: =F25-I25 -> 0 | M25: =SUM(K25:L25) -> 0 | N25: =M25 -> 0 | O25: 0 | P25: =SUM(N25:O25) -> 0 | Q25: =M25-P25 -> 0
D26: 44774 | E26: =E25 -> 0 | F26: =ROUND(E26*38/100,0) -> 0 | G26: =SUM(E26:F26) -> 0 | H26: =H25 -> 0 | I26: =ROUND(H26*34/100,0) -> 0 | J26: =SUM(H26:I26) -> 0 | K26: =E26-H26 -> 0 | L26: =F26-I26 -> 0 | M26: =SUM(K26:L26) -> 0 | N26: =M26 -> 0 | O26: 0 | P26: =SUM(N26:O26) -> 0 | Q26: =M26-P26 -> 0
D27: 44805 | E27: =E26 -> 0 | F27: =ROUND(E27*38/100,0) -> 0 | G27: =SUM(E27:F27) -> 0 | H27: =H26 -> 0 | I27: =ROUND(H27*34/100,0) -> 0 | J27: =SUM(H27:I27) -> 0 | K27: =E27-H27 -> 0 | L27: =F27-I27 -> 0 | M27: =SUM(K27:L27) -> 0 | N27: =M27 -> 0 | O27: 0 | P27: =SUM(N27:O27) -> 0 | Q27: =M27-P27 -> 0
D28: Surrender | E28: =IF(S28="NO",0,IF(S28="YES",E25/2,0)) -> 0 | F28: =ROUND(E28*38/100,0) -> 0 | G28: =SUM(E28:F28) -> 0 | H28: =IF(S28="NO",0,IF(S28="YES",E25/2,0)) -> 0 | I28: =ROUND(E28*34/100,0) -> 0 | J28: =SUM(H28:I28) -> 0 | K28: =E28-H28 -> 0 | L28: =F28-I28 -> 0 | M28: =SUM(K28:L28) -> 0 | N28: =M28 -> 0 | O28: 0 | P28: =SUM(N28:O28) -> 0 | Q28: =M28-P28 -> 0 | S28: ='MASTER SHEET'!F17 -> 0
A29: 15 | B29: =VLOOKUP('D.A.ARREAR 16-EMPLOYEE'!T11,'MASTER SHEET'!A3:F19,2,0) -> 0 | C29: =VLOOKUP('D.A.ARREAR 16-EMPLOYEE'!T11,'MASTER SHEET'!A3:F19,3,0) -> 0 | D29: 44743 | E29: =VLOOKUP('D.A.ARREAR 16-EMPLOYEE'!T11,'MASTER SHEET'!A3:F19,4,0) -> 0 | F29: =ROUND(E29*38/100,0) -> 0 | G29: =SUM(E29:F29) -> 0 | H29: =VLOOKUP('D.A.ARREAR 16-EMPLOYEE'!T11,'MASTER SHEET'!A3:F19,4,0) -> 0 | I29: =ROUND(H29*34/100,0) -> 0 | J29: =SUM(H29:I29) -> 0 | K29: =E29-H29 -> 0 | L29: =F29-I29 -> 0 | M29: =SUM(K29:L29) -> 0 | N29: =M29 -> 0 | O29: 0 | P29: =SUM(N29:O29) -> 0 | Q29: =M29-P29 -> 0
D30: 44774 | E30: =E29 -> 0 | F30: =ROUND(E30*38/100,0) -> 0 | G30: =SUM(E30:F30) -> 0 | H30: =H29 -> 0 | I30: =ROUND(H30*34/100,0) -> 0 | J30: =SUM(H30:I30) -> 0 | K30: =E30-H30 -> 0 | L30: =F30-I30 -> 0 | M30: =SUM(K30:L30) -> 0 | N30: =M30 -> 0 | O30: 0 | P30: =SUM(N30:O30) -> 0 | Q30: =M30-P30 -> 0
D31: 44805 | E31: =E30 -> 0 | F31: =ROUND(E31*38/100,0) -> 0 | G31: =SUM(E31:F31) -> 0 | H31: =H30 -> 0 | I31: =ROUND(H31*34/100,0) -> 0 | J31: =SUM(H31:I31) -> 0 | K31: =E31-H31 -> 0 | L31: =F31-I31 -> 0 | M31: =SUM(K31:L31) -> 0 | N31: =M31 -> 0 | O31: 0 | P31: =SUM(N31:O31) -> 0 | Q31: =M31-P31 -> 0
D32: Surrender | E32: =IF(S32="NO",0,IF(S32="YES",E29/2,0)) -> 0 | F32: =ROUND(E32*38/100,0) -> 0 | G32: =SUM(E32:F32) -> 0 | H32: =IF(S32="NO",0,IF(S32="YES",E29/2,0)) -> 0 | I32: =ROUND(E32*34/100,0) -> 0 | J32: =SUM(H32:I32) -> 0 | K32: =E32-H32 -> 0 | L32: =F32-I32 -> 0 | M32: =SUM(K32:L32) -> 0 | N32: =M32 -> 0 | O32: 0 | P32: =SUM(N32:O32) -> 0 | Q32: =M32-P32 -> 0 | S32: ='MASTER SHEET'!F18 -> 0
A33: 16 | B33: =VLOOKUP('D.A.ARREAR 16-EMPLOYEE'!T12,'MASTER SHEET'!A3:F19,2,0) -> 0 | C33: =VLOOKUP('D.A.ARREAR 16-EMPLOYEE'!T12,'MASTER SHEET'!A3:F19,3,0) -> 0 | D33: 44743 | E33: =VLOOKUP('D.A.ARREAR 16-EMPLOYEE'!T12,'MASTER SHEET'!A3:F19,4,0) -> 0 | F33: =ROUND(E33*38/100,0) -> 0 | G33: =SUM(E33:F33) -> 0 | H33: =VLOOKUP('D.A.ARREAR 16-EMPLOYEE'!T12,'MASTER SHEET'!A3:F19,4,0) -> 0 | I33: =ROUND(H33*34/100,0) -> 0 | J33: =SUM(H33:I33) -> 0 | K33: =E33-H33 -> 0 | L33: =F33-I33 -> 0 | M33: =SUM(K33:L33) -> 0 | N33: =M33 -> 0 | O33: 0 | P33: =SUM(N33:O33) -> 0 | Q33: =M33-P33 -> 0
D34: 44774 | E34: =E33 -> 0 | F34: =ROUND(E34*38/100,0) -> 0 | G34: =SUM(E34:F34) -> 0 | H34: =H33 -> 0 | I34: =ROUND(H34*34/100,0) -> 0 | J34: =SUM(H34:I34) -> 0 | K34: =E34-H34 -> 0 | L34: =F34-I34 -> 0 | M34: =SUM(K34:L34) -> 0 | N34: =M34 -> 0 | O34: 0 | P34: =SUM(N34:O34) -> 0 | Q34: =M34-P34 -> 0
D35: 44805 | E35: =E34 -> 0 | F35: =ROUND(E35*38/100,0) -> 0 | G35: =SUM(E35:F35) -> 0 | H35: =H34 -> 0 | I35: =ROUND(H35*34/100,0) -> 0 | J35: =SUM(H35:I35) -> 0 | K35: =E35-H35 -> 0 | L35: =F35-I35 -> 0 | M35: =SUM(K35:L35) -> 0 | N35: =M35 -> 0 | O35: 0 | P35: =SUM(N35:O35) -> 0 | Q35: =M35-P35 -> 0
D36: Surrender | E36: =IF(S36="NO",0,IF(S36="YES",E33/2,0)) -> 0 | F36: =ROUND(E36*38/100,0) -> 0 | G36: =SUM(E36:F36) -> 0 | H36: =IF(S36="NO",0,IF(S36="YES",E33/2,0)) -> 0 | I36: =ROUND(E36*34/100,0) -> 0 | J36: =SUM(H36:I36) -> 0 | K36: =E36-H36 -> 0 | L36: =F36-I36 -> 0 | M36: =SUM(K36:L36) -> 0 | N36: =M36 -> 0 | O36: 0 | P36: =SUM(N36:O36) -> 0 | Q36: =M36-P36 -> 0 | S36: ='MASTER SHEET'!F19 -> 0
E37: =SUM(E5:E36) -> 0 | F37: =SUM(F5:F36) -> 0 | G37: =SUM(G5:G36) -> 0 | H37: =SUM(H5:H36) -> 0 | I37: =SUM(I5:I36) -> 0 | J37: =SUM(J5:J36) -> 0 | K37: =SUM(K5:K36) -> 0 | L37: =SUM(L5:L36) -> 0 | ... P37: =SUM(P5:P36) -> 0 | Q37: =M37-P37 -> 0
E38: ='D.A.ARREAR 8-EMPLOYEE'!E37 -> 139500 | F38: ='D.A.ARREAR 8-EMPLOYEE'!F37 -> 53010 | G38: ='D.A.ARREAR 8-EMPLOYEE'!G37 -> 192510 | H38: ='D.A.ARREAR 8-EMPLOYEE'!H37 -> 139500 | I38: ='D.A.ARREAR 8-EMPLOYEE'!I37 -> 47430 | J38: ='D.A.ARREAR 8-EMPLOYEE'!J37 -> 186930 | K38: ='D.A.ARREAR 8-EMPLOYEE'!K37 -> 0 | L38: ='D.A.ARREAR 8-EMPLOYEE'!L37 -> 5580 | ... P38: ='D.A.ARREAR 8-EMPLOYEE'!P37 -> 5580 | Q38: =M38-P38 -> 0
A39: GRAND TOTAL | E39: =SUM(E37:E38) -> 139500 | F39: =SUM(F37:F38) -> 53010 | G39: =SUM(G37:G38) -> 192510 | H39: =SUM(H37:H38) -> 139500 | I39: =SUM(I37:I38) -> 47430 | J39: =SUM(J37:J38) -> 186930 | K39: =SUM(K37:K38) -> 0 | L39: =SUM(L37:L38) -> 5580 | ... P39: =SUM(P37:P38) -> 5580 | Q39: =M39-P39 -> 0
Q42: DDO SIGN
