Workbook
Name ANAND: 'MASTER SHEET'!#REF!
Name ANANDD: 'MASTER SHEET'!#REF!

Sheet MASTER SHEET
A1: bl Vscy dks iw.kZ Hkjus ds ckn AREAR SHEET esa tk;sa ,oa vius dzekad dks Mkydj ,fj;j 'khV fudkysaA
A2: GOVT SR. SECONDARY SCHOOL, DILOD HATHI, ATRU (BARAN)
A3: S.N. | B3: NAME OF EMPLOYEE | C3: DESIGNATION | D3: BASIC (01.07.2022) | E3: TAX % | F3: SURRENDER (JULY TO SEP) 2022
A4: 1 | B4: PARMANAND MEGHWAL | C4: SR TEACHER | D4: 47900 | E4: 0 | F4: YES | G4: YES
A5: 2 | B5: BAL KRISAN | C5: TEACHER | D5: 65000 | E5: 0 | F5: YES | G5: NO
A6: 3 | B6: INDER GAJ NAGAR | C6: TEACHER | D6: 42500 | E6: 0 | F6: NO
A7: 4 | B7: KAMLESH KUMARI | C7: TEACHER | D7: 41500 | E7: 0 | F7: NO
A8: 5 | B8: BHOJRAJ PARETA | C8: TEACHER | D8: 34800 | E8: 0 | F8: YES
A9: 6
A10: 7
A11: 8
A12: 9
A13: 10
A14: 11
A15: 12
A16: 13
A17: 14
A18: 15
A19: 16
A20: 17
... A43: 40

Sheet AREAR SHEET
A1: ='MASTER SHEET'!A2:F2 -> GOVT SR. SECONDARY SCHOOL, DILOD HATHI, ATRU (BARAN) | V1: 1
A2: D.A. AREAR 01-07-2022 TO 30-09-2022 | S2: 6 | T2: SURRENDER
A3: =VLOOKUP('AREAR SHEET'!V1,'MASTER SHEET'!A3:F43,2,0) -> PARMANAND MEGHWAL | I3: =VLOOKUP('AREAR SHEET'!V1,'MASTER SHEET'!A3:F43,3,0) -> SR TEACHER | T3: =VLOOKUP('AREAR SHEET'!V1,'MASTER SHEET'!A3:F43,6,0) -> YES
A4: S.No. | B4: Month | C4: Due | G4: DRAWN | K4: DIFFERENCE | O4: DEDUCTION | Q4: TOTAL DEDUCTION | R4: NET PAY AMMOUNT | S4: TV NUMBER & DATE | V4: CLICK HERE
C5: BASIC | D5: DA | E5: HRA | F5: TOTAL | G5: BASIC | H5: DA | I5: HRA | J5: TOTAL | K5: BASIC | L5: DA | M5: HRA | N5: TOTAL | O5: GPF | P5: I TAX
A6: 1 | B6: 44743 | C6: =VLOOKUP('AREAR SHEET'!V1,'MASTER SHEET'!A3:F43,4,0) -> 47900 | D6: =ROUND(C6*38/100,0) -> 18202 | F6: =SUM(C6:E6) -> 66102 | G6: =VLOOKUP('AREAR SHEET'!V1,'MASTER SHEET'!A3:F43,4,0) -> 47900 | H6: =ROUND(G6*34/100,0) -> 16286 | J6: =SUM(G6:I6) -> 64186 | K6: =C6-G6 -> 0 | L6: =D6-H6 -> 1916 | M6: =E7-I6 -> 0 | N6: =SUM(K6:M6) -> 1916 | O6: =N6 -> 1916 | Q6: =SUM(O6:P6) -> 1916 | R6: =N6-Q6 -> 0
A7: 2 | B7: 44774 | C7: =C6 -> 47900 | D7: =ROUND(C7*38/100,0) -> 18202 | F7: =SUM(C7:E7) -> 66102 | G7: =G6 -> 47900 | H7: =ROUND(G7*34/100,0) -> 16286 | J7: =SUM(G7:I7) -> 64186 | K7: =C7-G7 -> 0 | L7: =D7-H7 -> 1916 | M7: 0 | N7: =SUM(K7:M7) -> 1916 | O7: =N7 -> 1916 | P7: 0 | Q7: =SUM(O7:P7) -> 1916 | R7: =N7-Q7 -> 0
A8: 3 | B8: 44805 | C8: =C7 -> 47900 | D8: =ROUND(C8*38/100,0) -> 18202 | F8: =SUM(C8:E8) -> 66102 | G8: =G7 -> 47900 | H8: =ROUND(G8*34/100,0) -> 16286 | J8: =SUM(G8:I8) -> 64186 | K8: =C8-G8 -> 0 | L8: =D8-H8 -> 1916 | M8: =E8-I8 -> 0 | N8: =SUM(K8:M8) -> 1916 | O8: =N8 -> 1916 | P8: 0 | Q8: =SUM(O8:P8) -> 1916 | R8: =N8-Q8 -> 0
A9: 9 | B9: Surrender | C9: =IF(T3="NO",0,IF(T3="YES",C6/2)) -> 23950 | D9: =ROUND(C9*38/100,0) -> 9101 | F9: =SUM(C9:E9) -> 33051 | G9: =IF(T3="NO",0,IF(T3="YES",C6/2)) -> 23950 | H9: =ROUND(G9*34/100,0) -> 8143 | J9: =SUM(G9:I9) -> 32093 | K9: =C9-G9 -> 0 | L9: =D9-H9 -> 958 | M9: =E9-I9 -> 0 | N9: =SUM(K9:M9) -> 958 | O9: =N9 -> 958 | P9: 0 | Q9: =SUM(O9:P9) -> 958 | R9: =N9-Q9 -> 0
A10: TOTAL | C10: =SUM(C6:C9) -> 167650 | D10: =SUM(D6:D9) -> 63707 | F10: =SUM(F6:F9) -> 231357 | G10: =SUM(G6:G9) -> 167650 | H10: =SUM(H6:H9) -> 57001 | J10: =SUM(J6:J9) -> 224651 | K10: =SUM(K6:K9) -> 0 | L10: =SUM(L6:L9) -> 6706 | M10: =SUM(M6:M9) -> 0 | N10: =SUM(N6:N9) -> 6706 | O10: =SUM(O6:O9) -> 6706 | P10: =SUM(P6:P9) -> 0 | Q10: =SUM(Q6:Q9) -> 6706 | R10: =SUM(R6:R9) -> 0
R16: DDO SIGN
