Workbook
Name CLASS: OFFSET(HOME!$AI$2:$AI$13,,,COUNTIF(HOME!$AI$2:$AI$13,"?*"))
Name MONTH: HOME!$AF$17:$AF$28
Name YEAR: HOME!$AR$7:$AR$8
Name YES: HOME!$AQ$2
Name कक्षा: OFFSET(HOME!$AL$2:$AL$13,,,COUNTIF(HOME!$AL$2:$AL$13,"?*"))
Name निशान: 'P-1'!$P$1
Name प्रकार: HOME!$AC$1:$AC$3
Name प्रवेशांक: OFFSET(ATT.!$E$9:$E$2008,,,COUNTIF(ATT.!$D$9:$D$2008,">=1"))
Name लिंग: HOME!$AE$2:$AE$4
Name वर्ग: HOME!$AV$2:$AV$6
Name सत्र: HOME!$AU$2:$AU$6
Name स्तर: HOME!$AO$2:$AO$5

Sheet RAF
A1: इस शीट में शाला दर्पण/दर्शन साईट से विद्यार्थी डाटा COPY करके नीचे Paste करें तथा यहाँ से आवश्यकतानुसार डाटा COPY करके DATA शीट में Paste करें

Sheet HOME
AC1: राजकीय ग्रामीण | AD1: 1
B2: राजकीय माध्यमिक विद्यालय मण्डली चारणा भोपालगढ़-जोधपुर | AC2: राजकीय शहरी | AD2: 2 | AE2: BOY | AF2: 1 | AG2: I | AH2: 1 | AI2: =IFERROR(IF($AC$6>=AF2,AG2,""),"") -> I | AJ2: =IFERROR(IF($AC$9>=AF2,(IF($AC$8<=AF2,AF2,0)),0),0) -> 0 | AK2: =IFERROR(IF($AJ$14>=AF2,SMALL($AJ$2:$AJ$13,$AJ$15+AF2),0),0) -> 3 | AL2: =IFERROR(IF(AK2>=1,VLOOKUP(AK2,$AF$2:$AG$13,2,0),""),"") -> III | AO2: प्राथमिक | AP2: 5 | AQ2: YES | AR2: =TODAY() -> 44174 | AS2: =IF(AR4=1,YEAR(AR2)-3,0) -> 2017 | AT2: =IF(AS2>=2000,RIGHT(AS2,2)+1,0) -> 18 | AU2: =IF($AR$4=1,CONCATENATE(AS2,$AS$7,AT2),"") -> 2017-18 | AV2: GEN
AC3: मॉडल विद्यालय | AD3: 3 | AE3: GIRL | AF3: 2 | AG3: II | AH3: 2 | AI3: =IFERROR(IF($AC$6>=AF3,AG3,""),"") -> II | AJ3: =IFERROR(IF($AC$9>=AF3,(IF($AC$8<=AF3,AF3,0)),0),0) -> 0 | AK3: =IFERROR(IF($AJ$14>=AF3,SMALL($AJ$2:$AJ$13,$AJ$15+AF3),0),0) -> 4 | AL3: =IFERROR(IF(AK3>=1,VLOOKUP(AK3,$AF$2:$AG$13,2,0),""),"") -> IV | AO3: उच्च प्राथमिक | AP3: 8 | AR3: 36526 | AS3: =IF(AS2>=2000,AS2+1,0) -> 2018 | AT3: =IF(AT2>=1,AT2+1,0) -> 19 | AU3: =IF($AR$4=1,CONCATENATE(AS3,$AS$7,AT3),"") -> 2018-19 | AV3: OBC
B4: विद्यालय प्रकार- | E4: मॉडल विद्यालय | K4: सत्र- | M4: 2019-20 | R4: विद्यालय स्तर- | U4: उच्च प्राथमिक | AC4: =IFERROR(VLOOKUP(E4,AC1:AD3,2,0),0) -> 3 | AE4: OTH | AF4: 3 | AG4: III | AH4: 3 | AI4: =IFERROR(IF($AC$6>=AF4,AG4,""),"") -> III | AJ4: =IFERROR(IF($AC$9>=AF4,(IF($AC$8<=AF4,AF4,0)),0),0) -> 3 | AK4: =IFERROR(IF($AJ$14>=AF4,SMALL($AJ$2:$AJ$13,$AJ$15+AF4),0),0) -> 5 | AL4: =IFERROR(IF(AK4>=1,VLOOKUP(AK4,$AF$2:$AG$13,2,0),""),"") -> V | AO4: माध्यमिक | AP4: 10 | AR4: =IFERROR(IF(AR2>=AR3,1,0),0) -> 1 | AS4: =IF(AS3>=2000,AS3+1,0) -> 2019 | AT4: =IF(AT3>=1,AT3+1,0) -> 20 | AU4: =IF($AR$4=1,CONCATENATE(AS4,$AS$7,AT4),"") -> 2019-20 | AV4: SBC
AF5: 4 | AG5: IV | AH5: 4 | AI5: =IFERROR(IF($AC$6>=AF5,AG5,""),"") -> IV | AJ5: =IFERROR(IF($AC$9>=AF5,(IF($AC$8<=AF5,AF5,0)),0),0) -> 4 | AK5: =IFERROR(IF($AJ$14>=AF5,SMALL($AJ$2:$AJ$13,$AJ$15+AF5),0),0) -> 6 | AL5: =IFERROR(IF(AK5>=1,VLOOKUP(AK5,$AF$2:$AG$13,2,0),""),"") -> VI | AO5: उच्च माध्यमिक | AP5: 12 | AS5: =IF(AS4>=2000,AS4+1,0) -> 2020 | AT5: =IF(AT4>=1,AT4+1,0) -> 21 | AU5: =IF($AR$4=1,CONCATENATE(AS5,$AS$7,AT5),"") -> 2020-21 | AV5: SC
B6: निम्नतम कक्षा- | E6: III | K6: सत्रारंभ- | M6: मई | T6: उच्चतम कक्षा- | W6: VIII | AC6: =IFERROR(VLOOKUP(U4,AO2:AP5,2,0),0) -> 8 | AF6: 5 | AG6: V | AH6: 5 | AI6: =IFERROR(IF($AC$6>=AF6,AG6,""),"") -> V | AJ6: =IFERROR(IF($AC$9>=AF6,(IF($AC$8<=AF6,AF6,0)),0),0) -> 5 | AK6: =IFERROR(IF($AJ$14>=AF6,SMALL($AJ$2:$AJ$13,$AJ$15+AF6),0),0) -> 7 | AL6: =IFERROR(IF(AK6>=1,VLOOKUP(AK6,$AF$2:$AG$13,2,0),""),"") -> VII | AS6: =IF(AS5>=2000,AS5+1,0) -> 2021 | AT6: =IF(AT5>=1,AT5+1,0) -> 22 | AU6: =IF($AR$4=1,CONCATENATE(AS6,$AS$7,AT6),"") -> 2021-22 | AV6: ST
AC7: =OFFSET($AL$2:$AL$13,,,COUNTIF($AL$2:$AL$13,"?*")) -> VIII | AF7: 6 | AG7: VI | AH7: 6 | AI7: =IFERROR(IF($AC$6>=AF7,AG7,""),"") -> VI | AJ7: =IFERROR(IF($AC$9>=AF7,(IF($AC$8<=AF7,AF7,0)),0),0) -> 6 | AK7: =IFERROR(IF($AJ$14>=AF7,SMALL($AJ$2:$AJ$13,$AJ$15+AF7),0),0) -> 8 | AL7: =IFERROR(IF(AK7>=1,VLOOKUP(AK7,$AF$2:$AG$13,2,0),""),"") -> VIII | AR7: =IFERROR(IF(LEN(M4)>=7,LEFT(M4,4)*1,0),0) -> 2019 | AS7: -
AC8: =IFERROR(VLOOKUP(E6,AG2:AH13,2,0),0) -> 3 | AF8: 7 | AG8: VII | AH8: 7 | AI8: =IFERROR(IF($AC$6>=AF8,AG8,""),"") -> VII | AJ8: =IFERROR(IF($AC$9>=AF8,(IF($AC$8<=AF8,AF8,0)),0),0) -> 7 | AK8: =IFERROR(IF($AJ$14>=AF8,SMALL($AJ$2:$AJ$13,$AJ$15+AF8),0),0) -> 0 | AL8: =IFERROR(IF(AK8>=1,VLOOKUP(AK8,$AF$2:$AG$13,2,0),""),"") | AR8: =IFERROR(IF(AR7>=2000,AR7+1,0),0) -> 2020
B9: कुशालराम चौधरी (अध्यापक) एक्सेल प्रोग्राम निर्माता | AC9: =IFERROR(VLOOKUP(W6,AG2:AH13,2,0),0) -> 8 | AF9: 8 | AG9: VIII | AH9: 8 | AI9: =IFERROR(IF($AC$6>=AF9,AG9,""),"") -> VIII | AJ9: =IFERROR(IF($AC$9>=AF9,(IF($AC$8<=AF9,AF9,0)),0),0) -> 8 | AK9: =IFERROR(IF($AJ$14>=AF9,SMALL($AJ$2:$AJ$13,$AJ$15+AF9),0),0) -> 0 | AL9: =IFERROR(IF(AK9>=1,VLOOKUP(AK9,$AF$2:$AG$13,2,0),""),"")
AF10: 9 | AG10: IX | AH10: 9 | AI10: =IFERROR(IF($AC$6>=AF10,AG10,""),"") | AJ10: =IFERROR(IF($AC$9>=AF10,(IF($AC$8<=AF10,AF10,0)),0),0) -> 0 | AK10: =IFERROR(IF($AJ$14>=AF10,SMALL($AJ$2:$AJ$13,$AJ$15+AF10),0),0) -> 0 | AL10: =IFERROR(IF(AK10>=1,VLOOKUP(AK10,$AF$2:$AG$13,2,0),""),"")
B11: विद्यालय में कुल नामांकन | Q11: विद्यालय में T.V.S. लाभार्थी सं. | AF11: 10 | AG11: X | AH11: 10 | AI11: =IFERROR(IF($AC$6>=AF11,AG11,""),"") | AJ11: =IFERROR(IF($AC$9>=AF11,(IF($AC$8<=AF11,AF11,0)),0),0) -> 0 | AK11: =IFERROR(IF($AJ$14>=AF11,SMALL($AJ$2:$AJ$13,$AJ$15+AF11),0),0) -> 0 | AL11: =IFERROR(IF(AK11>=1,VLOOKUP(AK11,$AF$2:$AG$13,2,0),""),"")
AF12: 11 | AG12: XI | AH12: 11 | AI12: =IFERROR(IF($AC$6>=AF12,AG12,""),"") | AJ12: =IFERROR(IF($AC$9>=AF12,(IF($AC$8<=AF12,AF12,0)),0),0) -> 0 | AK12: =IFERROR(IF($AJ$14>=AF12,SMALL($AJ$2:$AJ$13,$AJ$15+AF12),0),0) -> 0 | AL12: =IFERROR(IF(AK12>=1,VLOOKUP(AK12,$AF$2:$AG$13,2,0),""),"")
C13: छात्र | E13: छात्रा | G13: योग | R13: छात्र | T13: छात्रा | V13: योग | AF13: 12 | AG13: XII | AH13: 12 | AI13: =IFERROR(IF($AC$6>=AF13,AG13,""),"") | AJ13: =IFERROR(IF($AC$9>=AF13,(IF($AC$8<=AF13,AF13,0)),0),0) -> 0 | AK13: =IFERROR(IF($AJ$14>=AF13,SMALL($AJ$2:$AJ$13,$AJ$15+AF13),0),0) -> 0 | AL13: =IFERROR(IF(AK13>=1,VLOOKUP(AK13,$AF$2:$AG$13,2,0),""),"")
C14: =COUNTIF(STUDENT!F4:F2003,"BOY")+COUNTIF(STUDENT!F4:F2003,"OTH") -> 1 | E14: =COUNTIF(STUDENT!F4:F2003,"GIRL") -> 1 | G14: =C14+E14 -> 2 | R14: =REPORT!Y21+REPORT!AA21 -> 0 | T14: =REPORT!Z21 -> 1 | V14: =R14+T14 -> 1 | AJ14: =COUNTIF(AJ2:AJ13,">=1") -> 6
AJ15: =COUNTIF(AJ2:AJ13,"0") -> 6
AE16: =IFERROR(VLOOKUP(M6,AF17:AG28,2,0),0) -> 5
AE17: 1 | AF17: जनवरी | AG17: 1
C18: =SUM(PRAPTI!H8:H19) -> 7000 | R18: =SUM(PRAPTI!L8:L19) -> 200 | AE18: 2 | AF18: फ़रवरी | AG18: 2
AE19: 3 | AF19: मार्च | AG19: 3
B20: T.V.S. में प्राप्त रकम | Q20: T.V.S. में भुगतान रकम | AE20: 4 | AF20: अप्रैल | AG20: 4
AE21: 5 | AF21: मई | AG21: 5
AE22: 6 | AF22: जून | AG22: 6
B23: रा.प्रा.वि. नटियों की ढाणी, हरिओम नगर, कजनाऊ खुर्द, बावड़ी-जोधपुर | AE23: 7 | AF23: जुलाई | AG23: 7
AE24: 8 | AF24: अगस्त | AG24: 8
B25: राजकीय विद्यालयों एवं मॉडल विद्यालयों हेतु ट्रांसपोर्ट वाउचर योजना पात्रता हेतु मापदंड व नियम | AE25: 9 | AF25: सितम्बर | AG25: 9
B26: विद्यालय प्रकार | E26: कक्षा | G26: लिंग | I26: निवास स्थान से विद्यालय की दूरी | L26: दर (प्रति उपस्थिति दिवस) | N26: ट्रांसपोर्ट वाउचर योजना पात्रता हेतु निर्देश व नियम | W26: भुगतान प्रक्रिया | AE26: 10 | AF26: अक्टूम्बर | AG26: 10
B27: ग्रामीण क्षेत्र के रा.प्रा.वि. | E27: 1 से 5 | G27: छात्र व छात्रा | I27: 1 km से अधिक | L27: 10 रुपये | N27: ट्रांसपोर्ट वाउचर योजना के अंतर्गत ग्रामीण क्षेत्र के राजकीय विद्यालयों में अध्ययनरत कक्षा 1 से 8 के बालक व बालिकाएँ एवं कक्षा 9 से 12 के नि:शुल्क साईकिल अप्राप्त बालिकाएँ, जो निर्धारित दूरी से अधिक दूरी से आ रही है, उन्हें इस योजना का लाभ मिल सकता है| साईकिल योजना के तहत किसी भी वर्ष में लाभान्वित होने वाली बालिकाएँ ट्रांसपोर्ट वाउचर योजना के लिए पात्र नहीं होगी| इस योजना के पात्र विद्यार्थियों का डाटा शाला दर्पण/दर्शन पोर्टल पर जारी दिशा-निर्देश के अनुसार अपडेट तय समय सीमा तक आवश्यक रूप से करावे| | W27: इस योजना के अवयस्क लाभार्थी, जिनका स्वयं का बैंक खाता नहीं है, उनके माता-पिता या अभिभावक के खाते में भुगतान ऑनलाइन किया जायेगा , जहाँ ऑनलाइन सुविधा उपलब्ध नहीं है तो चैक द्वारा भुगतान किया जायेगा| | AE27: 11 | AF27: नवम्बर | AG27: 11
B28: ग्रामीण क्षेत्र के रा.उ.प्रा.वि. | E28: 1 से 5 | G28: छात्र व छात्रा | I28: 1 km से अधिक | L28: 10 रुपये | AE28: 12 | AF28: दिसम्बर | AG28: 12
E29: 6 से 8 | I29: 2 km से अधिक | L29: 15 रुपये
B30: ग्रामीण क्षेत्र के रा.मा.वि. | E30: 1 से 5 | G30: छात्र व छात्रा | I30: 1 km से अधिक | L30: 10 रुपये
E31: 6 से 8 | I31: 2 km से अधिक | L31: 15 रुपये
E32: 9 से 10 | G32: केवल छात्रा | I32: 5 km से अधिक | L32: 20 रुपये
B33: ग्रामीण क्षेत्र के रा.उ.मा.वि. | E33: 1 से 5 | G33: छात्र व छात्रा | I33: 1 km से अधिक | L33: 10 रुपये
E34: 6 से 8 | I34: 2 km से अधिक | L34: 15 रुपये
E35: 9 से 12 | G35: केवल छात्रा | I35: 5 km से अधिक | L35: 20 रुपये
B36: विवेकानन्द मॉडल विद्यालय | E36: 6 से 8 | G36: केवल छात्रा | I36: 2 km से अधिक | L36: 20 रुपये | N36: विवेकानन्द मॉडल विद्यालय में कक्षा 6 से 12 में अध्ययनरत उसी पंचायत समिति की बालिकाएँ, जो निर्धारित दूरी से अधिक दूरी से आ रही है, उन्हें इस योजना का लाभ मिल सकता है|
E37: 9 से 12 | I37: 5 km से अधिक | L37: 25 रुपये
B38: शहारी क्षेत्र के रा.उ.मा.वि. | E38: 11 से 12 | G38: केवल छात्रा | I38: 5 km से अधिक | L38: 20 रुपये | N38: ग्रामीण क्षेत्र के राजकीय विद्यालय में वांछित संकाय या विषय नहीं होने पर निकट शहरी क्षेत्र के राजकीय विद्यालय में अध्ययनरत कक्षा 11 व 12 की बालिकाएं इस योजना का लाभ ले सकती है|

Sheet DATA
A1: इस शीट में RAF-WORK शीट से शाला दर्पण/दर्शन साईट से Copy-Paste किये गए विद्यार्थी डाटा COPY करके संबंधित कॉलम में Paste करें
A4: क्र.सं. | B4: प्रवेशांक | C4: विद्यार्थी का नाम | D4: पिता का नाम
B5: 325 | C5: राम | D5: घमन्दारण
B6: 426 | C6: राजू | D6: देवाराम

Sheet STUDENT
A1: इस शीट में विद्यार्थी के नाम, पिता के नाम, जन्मतिथि, प्रवेशांक, आयु (ये सभी DATA शीट पर) के अलावा अन्य जानकारी शाला दर्पण पोर्टल पर अपडेट कर उसी के अनुरूप भरें | R1: Km | S1: =HOME!AC4 -> 3 | U1: निवास के | V1: की परिधि में | W1: नहीं है | Z1: रा.प्रा.वि.
A2: DATA शीट से स्वत: पूर्ति होगी अत: डाटा में सुधार हेतु 'DATA' शीट में संशोधन करें | E2: ड्रॉपडाउन सूची से चयन करें | H2: निवास स्थान का पता लिखें | I2: निवास स्थान से विद्यालय की दूरी (किमी में) पहले सैल में लिखें | K2: यदि है तो 'YES' चयन करें | S2: YES | U2: संकाय नहीं है | Z2: रा.उ.प्रा.वि.
A3: क्र.सं. | B3: प्रवेशांक | C3: विद्यार्थी का नाम | D3: पिता का नाम | E3: कक्षा | F3: लिंग | G3: वर्ग | K3: निवास स्थान से विद्यालय की दूरी सम्बन्धी निम्नलिखित पात्रता रखता है तो उसके आगे वाले सैल में 'YES' चयन करें यदि नहीं तो उसके आगे वाले सैल को खाली छोड़े | M3: क्या ग्रामीण निवासी है (केवल शहरी विद्यालय हेतु) | N3: साईकिल योजना लाभार्थी (केवल ग्रामीण वि. हेतु) | O3: BPL | P3: CWSN | Q3: अल्प संख्यक | U3: विद्यालय की पंचायत समिति का निवासी है | Z3: रा.मा.वि.
A4: =IFERROR(IF(B4=0,0,1),0) -> 1 | B4: =DATA!B5 -> 325 | C4: =DATA!C5 -> राम | D4: =DATA!D5 -> घमन्दारण | E4: I | F4: BOY | G4: OBC | I4: 3 | J4: =IFERROR(IF(A4>=1,(IF(I4>0,$R$1,"")),""),"") -> Km | K4: =IFERROR(IF(T4=1,(IF($S$1=1,CONCATENATE($U$1,U4,$V$1,V4,$W$1),IF($S$1=2,CONCATENATE($U$1,U4,$V$1,$U$2),IF($S$1=3,$U$3,"")))),""),"") | L4: YES | Q4: YES | R4: =IFERROR(IF(A4>=1,VLOOKUP(E4,HOME!$AG$2:$AH$13,2,0),0),0) -> 1 | S4: =IFERROR(IF(A4>=1,VLOOKUP(F4,HOME!$AE$2:$AF$4,2,0),0),0) -> 1 | T4: =IFERROR(IF(A4>=1,(IF($S$1=1,(IF(R4>=9,(IF(S4=2,(IF(I4>5,1,0)),0)),IF(R4>=6,(IF(I4>2,1,0)),IF(R4>=1,(IF(I4>1,1,0)),0)))),IF($S$1=2,(IF(R4>=9,(IF(S4=2,(IF(I4>5,1,0)),0)),0)),IF($S$1=3,(IF(S4=2,(IF(R4>=9,(IF(I4>5,1,0)),IF(R4>=6,(IF(I4>2,1,0)),0))),0)),0)))),0),0) -> 0 | U4: =IFERROR(IF(T4=1,(IF(R4>=9,5,IF(R4>=6,2,IF(R4>=1,1,0)))),0),0) -> 0 | V4: =IFERROR(IF(T4=1,(IF(L4=$S$2,(IF($S$1=1,(IF(N4=$S$2,0,A4)),IF($S$1=2,(IF(M4=$S$2,A4,0)),IF($S$1=3,A4,0)))),0)),0),0) -> 0 | W4: =IFERROR(IF(V4>=1,(IF(R4>=9,(IF($S$1>=3,25,IF($S$1>=1,20,0))),IF(R4>=6,(IF($S$1>=3,20,IF($S$1>=1,15,0))),IF(R4>=1,(IF($S$1>=3,0,IF($S$1>=1,10,0))),0)))),0),0) -> 0 | Z4: रा.उ.मा.वि.
A5: =IFERROR(IF(B5=0,0,A4+1),0) -> 2 | B5: =DATA!B6 -> 426 | C5: =DATA!C6 -> राजू | D5: =DATA!D6 -> देवाराम | E5: XII | F5: GIRL | G5: SC | H5: मण्डली, भोपालगढ़ | I5: 6 | J5: =IFERROR(IF(A5>=1,(IF(I5>0,$R$1,"")),""),"") -> Km | K5: =IFERROR(IF(T5=1,(IF($S$1=1,CONCATENATE($U$1,U5,$V$1,V5,$W$1),IF($S$1=2,CONCATENATE($U$1,U5,$V$1,$U$2),IF($S$1=3,$U$3,"")))),""),"") -> विद्यालय की पंचायत समिति का निवासी है | L5: YES | P5: YES | R5: =IFERROR(IF(A5>=1,VLOOKUP(E5,HOME!$AG$2:$AH$13,2,0),0),0) -> 12 | S5: =IFERROR(IF(A5>=1,VLOOKUP(F5,HOME!$AE$2:$AF$4,2,0),0),0) -> 2 | T5: =IFERROR(IF(A5>=1,(IF($S$1=1,(IF(R5>=9,(IF(S5=2,(IF(I5>5,1,0)),0)),IF(R5>=6,(IF(I5>2,1,0)),IF(R5>=1,(IF(I5>1,1,0)),0)))),IF($S$1=2,(IF(R5>=9,(IF(S5=2,(IF(I5>5,1,0)),0)),0)),IF($S$1=3,(IF(S5=2,(IF(R5>=9,(IF(I5>5,1,0)),IF(R5>=6,(IF(I5>2,1,0)),0))),0)),0)))),0),0) -> 1 | U5: =IFERROR(IF(T5=1,(IF(R5>=9,5,IF(R5>=6,2,IF(R5>=1,1,0)))),0),0) -> 5 | V5: =IFERROR(IF(T5=1,(IF(L5=$S$2,(IF($S$1=1,(IF(N5=$S$2,0,A5)),IF($S$1=2,(IF(M5=$S$2,A5,0)),IF($S$1=3,A5,0)))),0)),0),0) -> 2 | W5: =IFERROR(IF(V5>=1,(IF(R5>=9,(IF($S$1>=3,25,IF($S$1>=1,20,0))),IF(R5>=6,(IF($S$1>=3,20,IF($S$1>=1,15,0))),IF(R5>=1,(IF($S$1>=3,0,IF($S$1>=1,10,0))),0)))),0),0) -> 25
A6: =IFERROR(IF(B6=0,0,A5+1),0) -> 0 | B6: =DATA!B7 -> 0 | C6: =DATA!C7 -> 0 | D6: =DATA!D7 -> 0 | J6: =IFERROR(IF(A6>=1,(IF(I6>0,$R$1,"")),""),"") | K6: =IFERROR(IF(T6=1,(IF($S$1=1,CONCATENATE($U$1,U6,$V$1,V6,$W$1),IF($S$1=2,CONCATENATE($U$1,U6,$V$1,$U$2),IF($S$1=3,$U$3,"")))),""),"") | R6: =IFERROR(IF(A6>=1,VLOOKUP(E6,HOME!$AG$2:$AH$13,2,0),0),0) -> 0 | S6: =IFERROR(IF(A6>=1,VLOOKUP(F6,HOME!$AE$2:$AF$4,2,0),0),0) -> 0 | T6: =IFERROR(IF(A6>=1,(IF($S$1=1,(IF(R6>=9,(IF(S6=2,(IF(I6>5,1,0)),0)),IF(R6>=6,(IF(I6>2,1,0)),IF(R6>=1,(IF(I6>1,1,0)),0)))),IF($S$1=2,(IF(R6>=9,(IF(S6=2,(IF(I6>5,1,0)),0)),0)),IF($S$1=3,(IF(S6=2,(IF(R6>=9,(IF(I6>5,1,0)),IF(R6>=6,(IF(I6>2,1,0)),0))),0)),0)))),0),0) -> 0 | U6: =IFERROR(IF(T6=1,(IF(R6>=9,5,IF(R6>=6,2,IF(R6>=1,1,0)))),0),0) -> 0 | V6: =IFERROR(IF(T6=1,(IF(L6=$S$2,(IF($S$1=1,(IF(N6=$S$2,0,A6)),IF($S$1=2,(IF(M6=$S$2,A6,0)),IF($S$1=3,A6,0)))),0)),0),0) -> 0 | W6: =IFERROR(IF(V6>=1,(IF(R6>=9,(IF($S$1>=3,25,IF($S$1>=1,20,0))),IF(R6>=6,(IF($S$1>=3,20,IF($S$1>=1,15,0))),IF(R6>=1,(IF($S$1>=3,0,IF($S$1>=1,10,0))),0)))),0),0) -> 0
A7: =IFERROR(IF(B7=0,0,A6+1),0) -> 0 | B7: =DATA!B8 -> 0 | C7: =DATA!C8 -> 0 | D7: =DATA!D8 -> 0 | J7: =IFERROR(IF(A7>=1,(IF(I7>0,$R$1,"")),""),"") | K7: =IFERROR(IF(T7=1,(IF($S$1=1,CONCATENATE($U$1,U7,$V$1,V7,$W$1),IF($S$1=2,CONCATENATE($U$1,U7,$V$1,$U$2),IF($S$1=3,$U$3,"")))),""),"") | R7: =IFERROR(IF(A7>=1,VLOOKUP(E7,HOME!$AG$2:$AH$13,2,0),0),0) -> 0 | S7: =IFERROR(IF(A7>=1,VLOOKUP(F7,HOME!$AE$2:$AF$4,2,0),0),0) -> 0 | T7: =IFERROR(IF(A7>=1,(IF($S$1=1,(IF(R7>=9,(IF(S7=2,(IF(I7>5,1,0)),0)),IF(R7>=6,(IF(I7>2,1,0)),IF(R7>=1,(IF(I7>1,1,0)),0)))),IF($S$1=2,(IF(R7>=9,(IF(S7=2,(IF(I7>5,1,0)),0)),0)),IF($S$1=3,(IF(S7=2,(IF(R7>=9,(IF(I7>5,1,0)),IF(R7>=6,(IF(I7>2,1,0)),0))),0)),0)))),0),0) -> 0 | U7: =IFERROR(IF(T7=1,(IF(R7>=9,5,IF(R7>=6,2,IF(R7>=1,1,0)))),0),0) -> 0 | V7: =IFERROR(IF(T7=1,(IF(L7=$S$2,(IF($S$1=1,(IF(N7=$S$2,0,A7)),IF($S$1=2,(IF(M7=$S$2,A7,0)),IF($S$1=3,A7,0)))),0)),0),0) -> 0 | W7: =IFERROR(IF(V7>=1,(IF(R7>=9,(IF($S$1>=3,25,IF($S$1>=1,20,0))),IF(R7>=6,(IF($S$1>=3,20,IF($S$1>=1,15,0))),IF(R7>=1,(IF($S$1>=3,0,IF($S$1>=1,10,0))),0)))),0),0) -> 0
A8: =IFERROR(IF(B8=0,0,A7+1),0) -> 0 | B8: =DATA!B9 -> 0 | C8: =DATA!C9 -> 0 | D8: =DATA!D9 -> 0 | J8: =IFERROR(IF(A8>=1,(IF(I8>0,$R$1,"")),""),"") | K8: =IFERROR(IF(T8=1,(IF($S$1=1,CONCATENATE($U$1,U8,$V$1,V8,$W$1),IF($S$1=2,CONCATENATE($U$1,U8,$V$1,$U$2),IF($S$1=3,$U$3,"")))),""),"") | R8: =IFERROR(IF(A8>=1,VLOOKUP(E8,HOME!$AG$2:$AH$13,2,0),0),0) -> 0 | S8: =IFERROR(IF(A8>=1,VLOOKUP(F8,HOME!$AE$2:$AF$4,2,0),0),0) -> 0 | T8: =IFERROR(IF(A8>=1,(IF($S$1=1,(IF(R8>=9,(IF(S8=2,(IF(I8>5,1,0)),0)),IF(R8>=6,(IF(I8>2,1,0)),IF(R8>=1,(IF(I8>1,1,0)),0)))),IF($S$1=2,(IF(R8>=9,(IF(S8=2,(IF(I8>5,1,0)),0)),0)),IF($S$1=3,(IF(S8=2,(IF(R8>=9,(IF(I8>5,1,0)),IF(R8>=6,(IF(I8>2,1,0)),0))),0)),0)))),0),0) -> 0 | U8: =IFERROR(IF(T8=1,(IF(R8>=9,5,IF(R8>=6,2,IF(R8>=1,1,0)))),0),0) -> 0 | V8: =IFERROR(IF(T8=1,(IF(L8=$S$2,(IF($S$1=1,(IF(N8=$S$2,0,A8)),IF($S$1=2,(IF(M8=$S$2,A8,0)),IF($S$1=3,A8,0)))),0)),0),0) -> 0 | W8: =IFERROR(IF(V8>=1,(IF(R8>=9,(IF($S$1>=3,25,IF($S$1>=1,20,0))),IF(R8>=6,(IF($S$1>=3,20,IF($S$1>=1,15,0))),IF(R8>=1,(IF($S$1>=3,0,IF($S$1>=1,10,0))),0)))),0),0) -> 0
A9: =IFERROR(IF(B9=0,0,A8+1),0) -> 0 | B9: =DATA!B10 -> 0 | C9: =DATA!C10 -> 0 | D9: =DATA!D10 -> 0 | J9: =IFERROR(IF(A9>=1,(IF(I9>0,$R$1,"")),""),"") | K9: =IFERROR(IF(T9=1,(IF($S$1=1,CONCATENATE($U$1,U9,$V$1,V9,$W$1),IF($S$1=2,CONCATENATE($U$1,U9,$V$1,$U$2),IF($S$1=3,$U$3,"")))),""),"") | R9: =IFERROR(IF(A9>=1,VLOOKUP(E9,HOME!$AG$2:$AH$13,2,0),0),0) -> 0 | S9: =IFERROR(IF(A9>=1,VLOOKUP(F9,HOME!$AE$2:$AF$4,2,0),0),0) -> 0 | T9: =IFERROR(IF(A9>=1,(IF($S$1=1,(IF(R9>=9,(IF(S9=2,(IF(I9>5,1,0)),0)),IF(R9>=6,(IF(I9>2,1,0)),IF(R9>=1,(IF(I9>1,1,0)),0)))),IF($S$1=2,(IF(R9>=9,(IF(S9=2,(IF(I9>5,1,0)),0)),0)),IF($S$1=3,(IF(S9=2,(IF(R9>=9,(IF(I9>5,1,0)),IF(R9>=6,(IF(I9>2,1,0)),0))),0)),0)))),0),0) -> 0 | U9: =IFERROR(IF(T9=1,(IF(R9>=9,5,IF(R9>=6,2,IF(R9>=1,1,0)))),0),0) -> 0 | V9: =IFERROR(IF(T9=1,(IF(L9=$S$2,(IF($S$1=1,(IF(N9=$S$2,0,A9)),IF($S$1=2,(IF(M9=$S$2,A9,0)),IF($S$1=3,A9,0)))),0)),0),0) -> 0 | W9: =IFERROR(IF(V9>=1,(IF(R9>=9,(IF($S$1>=3,25,IF($S$1>=1,20,0))),IF(R9>=6,(IF($S$1>=3,20,IF($S$1>=1,15,0))),IF(R9>=1,(IF($S$1>=3,0,IF($S$1>=1,10,0))),0)))),0),0) -> 0
A10: =IFERROR(IF(B10=0,0,A9+1),0) -> 0 | B10: =DATA!B11 -> 0 | C10: =DATA!C11 -> 0 | D10: =DATA!D11 -> 0 | J10: =IFERROR(IF(A10>=1,(IF(I10>0,$R$1,"")),""),"") | K10: =IFERROR(IF(T10=1,(IF($S$1=1,CONCATENATE($U$1,U10,$V$1,V10,$W$1),IF($S$1=2,CONCATENATE($U$1,U10,$V$1,$U$2),IF($S$1=3,$U$3,"")))),""),"") | R10: =IFERROR(IF(A10>=1,VLOOKUP(E10,HOME!$AG$2:$AH$13,2,0),0),0) -> 0 | S10: =IFERROR(IF(A10>=1,VLOOKUP(F10,HOME!$AE$2:$AF$4,2,0),0),0) -> 0 | T10: =IFERROR(IF(A10>=1,(IF($S$1=1,(IF(R10>=9,(IF(S10=2,(IF(I10>5,1,0)),0)),IF(R10>=6,(IF(I10>2,1,0)),IF(R10>=1,(IF(I10>1,1,0)),0)))),IF($S$1=2,(IF(R10>=9,(IF(S10=2,(IF(I10>5,1,0)),0)),0)),IF($S$1=3,(IF(S10=2,(IF(R10>=9,(IF(I10>5,1,0)),IF(R10>=6,(IF(I10>2,1,0)),0))),0)),0)))),0),0) -> 0 | U10: =IFERROR(IF(T10=1,(IF(R10>=9,5,IF(R10>=6,2,IF(R10>=1,1,0)))),0),0) -> 0 | V10: =IFERROR(IF(T10=1,(IF(L10=$S$2,(IF($S$1=1,(IF(N10=$S$2,0,A10)),IF($S$1=2,(IF(M10=$S$2,A10,0)),IF($S$1=3,A10,0)))),0)),0),0) -> 0 | W10: =IFERROR(IF(V10>=1,(IF(R10>=9,(IF($S$1>=3,25,IF($S$1>=1,20,0))),IF(R10>=6,(IF($S$1>=3,20,IF($S$1>=1,15,0))),IF(R10>=1,(IF($S$1>=3,0,IF($S$1>=1,10,0))),0)))),0),0) -> 0
A11: =IFERROR(IF(B11=0,0,A10+1),0) -> 0 | B11: =DATA!B12 -> 0 | C11: =DATA!C12 -> 0 | D11: =DATA!D12 -> 0 | J11: =IFERROR(IF(A11>=1,(IF(I11>0,$R$1,"")),""),"") | K11: =IFERROR(IF(T11=1,(IF($S$1=1,CONCATENATE($U$1,U11,$V$1,V11,$W$1),IF($S$1=2,CONCATENATE($U$1,U11,$V$1,$U$2),IF($S$1=3,$U$3,"")))),""),"") | R11: =IFERROR(IF(A11>=1,VLOOKUP(E11,HOME!$AG$2:$AH$13,2,0),0),0) -> 0 | S11: =IFERROR(IF(A11>=1,VLOOKUP(F11,HOME!$AE$2:$AF$4,2,0),0),0) -> 0 | T11: =IFERROR(IF(A11>=1,(IF($S$1=1,(IF(R11>=9,(IF(S11=2,(IF(I11>5,1,0)),0)),IF(R11>=6,(IF(I11>2,1,0)),IF(R11>=1,(IF(I11>1,1,0)),0)))),IF($S$1=2,(IF(R11>=9,(IF(S11=2,(IF(I11>5,1,0)),0)),0)),IF($S$1=3,(IF(S11=2,(IF(R11>=9,(IF(I11>5,1,0)),IF(R11>=6,(IF(I11>2,1,0)),0))),0)),0)))),0),0) -> 0 | U11: =IFERROR(IF(T11=1,(IF(R11>=9,5,IF(R11>=6,2,IF(R11>=1,1,0)))),0),0) -> 0 | V11: =IFERROR(IF(T11=1,(IF(L11=$S$2,(IF($S$1=1,(IF(N11=$S$2,0,A11)),IF($S$1=2,(IF(M11=$S$2,A11,0)),IF($S$1=3,A11,0)))),0)),0),0) -> 0 | W11: =IFERROR(IF(V11>=1,(IF(R11>=9,(IF($S$1>=3,25,IF($S$1>=1,20,0))),IF(R11>=6,(IF($S$1>=3,20,IF($S$1>=1,15,0))),IF(R11>=1,(IF($S$1>=3,0,IF($S$1>=1,10,0))),0)))),0),0) -> 0
A12: =IFERROR(IF(B12=0,0,A11+1),0) -> 0 | B12: =DATA!B13 -> 0 | C12: =DATA!C13 -> 0 | D12: =DATA!D13 -> 0 | J12: =IFERROR(IF(A12>=1,(IF(I12>0,$R$1,"")),""),"") | K12: =IFERROR(IF(T12=1,(IF($S$1=1,CONCATENATE($U$1,U12,$V$1,V12,$W$1),IF($S$1=2,CONCATENATE($U$1,U12,$V$1,$U$2),IF($S$1=3,$U$3,"")))),""),"") | R12: =IFERROR(IF(A12>=1,VLOOKUP(E12,HOME!$AG$2:$AH$13,2,0),0),0) -> 0 | S12: =IFERROR(IF(A12>=1,VLOOKUP(F12,HOME!$AE$2:$AF$4,2,0),0),0) -> 0 | T12: =IFERROR(IF(A12>=1,(IF($S$1=1,(IF(R12>=9,(IF(S12=2,(IF(I12>5,1,0)),0)),IF(R12>=6,(IF(I12>2,1,0)),IF(R12>=1,(IF(I12>1,1,0)),0)))),IF($S$1=2,(IF(R12>=9,(IF(S12=2,(IF(I12>5,1,0)),0)),0)),IF($S$1=3,(IF(S12=2,(IF(R12>=9,(IF(I12>5,1,0)),IF(R12>=6,(IF(I12>2,1,0)),0))),0)),0)))),0),0) -> 0 | U12: =IFERROR(IF(T12=1,(IF(R12>=9,5,IF(R12>=6,2,IF(R12>=1,1,0)))),0),0) -> 0 | V12: =IFERROR(IF(T12=1,(IF(L12=$S$2,(IF($S$1=1,(IF(N12=$S$2,0,A12)),IF($S$1=2,(IF(M12=$S$2,A12,0)),IF($S$1=3,A12,0)))),0)),0),0) -> 0 | W12: =IFERROR(IF(V12>=1,(IF(R12>=9,(IF($S$1>=3,25,IF($S$1>=1,20,0))),IF(R12>=6,(IF($S$1>=3,20,IF($S$1>=1,15,0))),IF(R12>=1,(IF($S$1>=3,0,IF($S$1>=1,10,0))),0)))),0),0) -> 0
A13: =IFERROR(IF(B13=0,0,A12+1),0) -> 0 | B13: =DATA!B14 -> 0 | C13: =DATA!C14 -> 0 | D13: =DATA!D14 -> 0 | J13: =IFERROR(IF(A13>=1,(IF(I13>0,$R$1,"")),""),"") | K13: =IFERROR(IF(T13=1,(IF($S$1=1,CONCATENATE($U$1,U13,$V$1,V13,$W$1),IF($S$1=2,CONCATENATE($U$1,U13,$V$1,$U$2),IF($S$1=3,$U$3,"")))),""),"") | R13: =IFERROR(IF(A13>=1,VLOOKUP(E13,HOME!$AG$2:$AH$13,2,0),0),0) -> 0 | S13: =IFERROR(IF(A13>=1,VLOOKUP(F13,HOME!$AE$2:$AF$4,2,0),0),0) -> 0 | T13: =IFERROR(IF(A13>=1,(IF($S$1=1,(IF(R13>=9,(IF(S13=2,(IF(I13>5,1,0)),0)),IF(R13>=6,(IF(I13>2,1,0)),IF(R13>=1,(IF(I13>1,1,0)),0)))),IF($S$1=2,(IF(R13>=9,(IF(S13=2,(IF(I13>5,1,0)),0)),0)),IF($S$1=3,(IF(S13=2,(IF(R13>=9,(IF(I13>5,1,0)),IF(R13>=6,(IF(I13>2,1,0)),0))),0)),0)))),0),0) -> 0 | U13: =IFERROR(IF(T13=1,(IF(R13>=9,5,IF(R13>=6,2,IF(R13>=1,1,0)))),0),0) -> 0 | V13: =IFERROR(IF(T13=1,(IF(L13=$S$2,(IF($S$1=1,(IF(N13=$S$2,0,A13)),IF($S$1=2,(IF(M13=$S$2,A13,0)),IF($S$1=3,A13,0)))),0)),0),0) -> 0 | W13: =IFERROR(IF(V13>=1,(IF(R13>=9,(IF($S$1>=3,25,IF($S$1>=1,20,0))),IF(R13>=6,(IF($S$1>=3,20,IF($S$1>=1,15,0))),IF(R13>=1,(IF($S$1>=3,0,IF($S$1>=1,10,0))),0)))),0),0) -> 0
A14: =IFERROR(IF(B14=0,0,A13+1),0) -> 0 | B14: =DATA!B15 -> 0 | C14: =DATA!C15 -> 0 | D14: =DATA!D15 -> 0 | J14: =IFERROR(IF(A14>=1,(IF(I14>0,$R$1,"")),""),"") | K14: =IFERROR(IF(T14=1,(IF($S$1=1,CONCATENATE($U$1,U14,$V$1,V14,$W$1),IF($S$1=2,CONCATENATE($U$1,U14,$V$1,$U$2),IF($S$1=3,$U$3,"")))),""),"") | R14: =IFERROR(IF(A14>=1,VLOOKUP(E14,HOME!$AG$2:$AH$13,2,0),0),0) -> 0 | S14: =IFERROR(IF(A14>=1,VLOOKUP(F14,HOME!$AE$2:$AF$4,2,0),0),0) -> 0 | T14: =IFERROR(IF(A14>=1,(IF($S$1=1,(IF(R14>=9,(IF(S14=2,(IF(I14>5,1,0)),0)),IF(R14>=6,(IF(I14>2,1,0)),IF(R14>=1,(IF(I14>1,1,0)),0)))),IF($S$1=2,(IF(R14>=9,(IF(S14=2,(IF(I14>5,1,0)),0)),0)),IF($S$1=3,(IF(S14=2,(IF(R14>=9,(IF(I14>5,1,0)),IF(R14>=6,(IF(I14>2,1,0)),0))),0)),0)))),0),0) -> 0 | U14: =IFERROR(IF(T14=1,(IF(R14>=9,5,IF(R14>=6,2,IF(R14>=1,1,0)))),0),0) -> 0 | V14: =IFERROR(IF(T14=1,(IF(L14=$S$2,(IF($S$1=1,(IF(N14=$S$2,0,A14)),IF($S$1=2,(IF(M14=$S$2,A14,0)),IF($S$1=3,A14,0)))),0)),0),0) -> 0 | W14: =IFERROR(IF(V14>=1,(IF(R14>=9,(IF($S$1>=3,25,IF($S$1>=1,20,0))),IF(R14>=6,(IF($S$1>=3,20,IF($S$1>=1,15,0))),IF(R14>=1,(IF($S$1>=3,0,IF($S$1>=1,10,0))),0)))),0),0) -> 0
A15: =IFERROR(IF(B15=0,0,A14+1),0) -> 0 | B15: =DATA!B16 -> 0 | C15: =DATA!C16 -> 0 | D15: =DATA!D16 -> 0 | J15: =IFERROR(IF(A15>=1,(IF(I15>0,$R$1,"")),""),"") | K15: =IFERROR(IF(T15=1,(IF($S$1=1,CONCATENATE($U$1,U15,$V$1,V15,$W$1),IF($S$1=2,CONCATENATE($U$1,U15,$V$1,$U$2),IF($S$1=3,$U$3,"")))),""),"") | R15: =IFERROR(IF(A15>=1,VLOOKUP(E15,HOME!$AG$2:$AH$13,2,0),0),0) -> 0 | S15: =IFERROR(IF(A15>=1,VLOOKUP(F15,HOME!$AE$2:$AF$4,2,0),0),0) -> 0 | T15: =IFERROR(IF(A15>=1,(IF($S$1=1,(IF(R15>=9,(IF(S15=2,(IF(I15>5,1,0)),0)),IF(R15>=6,(IF(I15>2,1,0)),IF(R15>=1,(IF(I15>1,1,0)),0)))),IF($S$1=2,(IF(R15>=9,(IF(S15=2,(IF(I15>5,1,0)),0)),0)),IF($S$1=3,(IF(S15=2,(IF(R15>=9,(IF(I15>5,1,0)),IF(R15>=6,(IF(I15>2,1,0)),0))),0)),0)))),0),0) -> 0 | U15: =IFERROR(IF(T15=1,(IF(R15>=9,5,IF(R15>=6,2,IF(R15>=1,1,0)))),0),0) -> 0 | V15: =IFERROR(IF(T15=1,(IF(L15=$S$2,(IF($S$1=1,(IF(N15=$S$2,0,A15)),IF($S$1=2,(IF(M15=$S$2,A15,0)),IF($S$1=3,A15,0)))),0)),0),0) -> 0 | W15: =IFERROR(IF(V15>=1,(IF(R15>=9,(IF($S$1>=3,25,IF($S$1>=1,20,0))),IF(R15>=6,(IF($S$1>=3,20,IF($S$1>=1,15,0))),IF(R15>=1,(IF($S$1>=3,0,IF($S$1>=1,10,0))),0)))),0),0) -> 0
A16: =IFERROR(IF(B16=0,0,A15+1),0) -> 0 | B16: =DATA!B17 -> 0 | C16: =DATA!C17 -> 0 | D16: =DATA!D17 -> 0 | J16: =IFERROR(IF(A16>=1,(IF(I16>0,$R$1,"")),""),"") | K16: =IFERROR(IF(T16=1,(IF($S$1=1,CONCATENATE($U$1,U16,$V$1,V16,$W$1),IF($S$1=2,CONCATENATE($U$1,U16,$V$1,$U$2),IF($S$1=3,$U$3,"")))),""),"") | R16: =IFERROR(IF(A16>=1,VLOOKUP(E16,HOME!$AG$2:$AH$13,2,0),0),0) -> 0 | S16: =IFERROR(IF(A16>=1,VLOOKUP(F16,HOME!$AE$2:$AF$4,2,0),0),0) -> 0 | T16: =IFERROR(IF(A16>=1,(IF($S$1=1,(IF(R16>=9,(IF(S16=2,(IF(I16>5,1,0)),0)),IF(R16>=6,(IF(I16>2,1,0)),IF(R16>=1,(IF(I16>1,1,0)),0)))),IF($S$1=2,(IF(R16>=9,(IF(S16=2,(IF(I16>5,1,0)),0)),0)),IF($S$1=3,(IF(S16=2,(IF(R16>=9,(IF(I16>5,1,0)),IF(R16>=6,(IF(I16>2,1,0)),0))),0)),0)))),0),0) -> 0 | U16: =IFERROR(IF(T16=1,(IF(R16>=9,5,IF(R16>=6,2,IF(R16>=1,1,0)))),0),0) -> 0 | V16: =IFERROR(IF(T16=1,(IF(L16=$S$2,(IF($S$1=1,(IF(N16=$S$2,0,A16)),IF($S$1=2,(IF(M16=$S$2,A16,0)),IF($S$1=3,A16,0)))),0)),0),0) -> 0 | W16: =IFERROR(IF(V16>=1,(IF(R16>=9,(IF($S$1>=3,25,IF($S$1>=1,20,0))),IF(R16>=6,(IF($S$1>=3,20,IF($S$1>=1,15,0))),IF(R16>=1,(IF($S$1>=3,0,IF($S$1>=1,10,0))),0)))),0),0) -> 0
A17: =IFERROR(IF(B17=0,0,A16+1),0) -> 0 | B17: =DATA!B18 -> 0 | C17: =DATA!C18 -> 0 | D17: =DATA!D18 -> 0 | J17: =IFERROR(IF(A17>=1,(IF(I17>0,$R$1,"")),""),"") | K17: =IFERROR(IF(T17=1,(IF($S$1=1,CONCATENATE($U$1,U17,$V$1,V17,$W$1),IF($S$1=2,CONCATENATE($U$1,U17,$V$1,$U$2),IF($S$1=3,$U$3,"")))),""),"") | R17: =IFERROR(IF(A17>=1,VLOOKUP(E17,HOME!$AG$2:$AH$13,2,0),0),0) -> 0 | S17: =IFERROR(IF(A17>=1,VLOOKUP(F17,HOME!$AE$2:$AF$4,2,0),0),0) -> 0 | T17: =IFERROR(IF(A17>=1,(IF($S$1=1,(IF(R17>=9,(IF(S17=2,(IF(I17>5,1,0)),0)),IF(R17>=6,(IF(I17>2,1,0)),IF(R17>=1,(IF(I17>1,1,0)),0)))),IF($S$1=2,(IF(R17>=9,(IF(S17=2,(IF(I17>5,1,0)),0)),0)),IF($S$1=3,(IF(S17=2,(IF(R17>=9,(IF(I17>5,1,0)),IF(R17>=6,(IF(I17>2,1,0)),0))),0)),0)))),0),0) -> 0 | U17: =IFERROR(IF(T17=1,(IF(R17>=9,5,IF(R17>=6,2,IF(R17>=1,1,0)))),0),0) -> 0 | V17: =IFERROR(IF(T17=1,(IF(L17=$S$2,(IF($S$1=1,(IF(N17=$S$2,0,A17)),IF($S$1=2,(IF(M17=$S$2,A17,0)),IF($S$1=3,A17,0)))),0)),0),0) -> 0 | W17: =IFERROR(IF(V17>=1,(IF(R17>=9,(IF($S$1>=3,25,IF($S$1>=1,20,0))),IF(R17>=6,(IF($S$1>=3,20,IF($S$1>=1,15,0))),IF(R17>=1,(IF($S$1>=3,0,IF($S$1>=1,10,0))),0)))),0),0) -> 0
... A2003: =IFERROR(IF(B2003=0,0,A2002+1),0) -> 0 | B2003: =DATA!B2004 -> 0 | C2003: =DATA!C2004 -> 0 | D2003: =DATA!D2004 -> 0 | J2003: =IFERROR(IF(A2003>=1,(IF(I2003>0,$R$1,"")),""),"") | K2003: =IFERROR(IF(T2003=1,(IF($S$1=1,CONCATENATE($U$1,U2003,$V$1,V2003,$W$1),IF($S$1=2,CONCATENATE($U$1,U2003,$V$1,$U$2),IF($S$1=3,$U$3,"")))),""),"") | R2003: =IFERROR(IF(A2003>=1,VLOOKUP(E2003,HOME!$AG$2:$AH$13,2,0),0),0) -> 0 | S2003: =IFERROR(IF(A2003>=1,VLOOKUP(F2003,HOME!$AE$2:$AF$4,2,0),0),0) -> 0 | T2003: =IFERROR(IF(A2003>=1,(IF($S$1=1,(IF(R2003>=9,(IF(S2003=2,(IF(I2003>5,1,0)),0)),IF(R2003>=6,(IF(I2003>2,1,0)),IF(R2003>=1,(IF(I2003>1,1,0)),0)))),IF($S$1=2,(IF(R2003>=9,(IF(S2003=2,(IF(I2003>5,1,0)),0)),0)),IF($S$1=3,(IF(S2003=2,(IF(R2003>=9,(IF(I2003>5,1,0)),IF(R2003>=6,(IF(I2003>2,1,0)),0))),0)),0)))),0),0) -> 0 | U2003: =IFERROR(IF(T2003=1,(IF(R2003>=9,5,IF(R2003>=6,2,IF(R2003>=1,1,0)))),0),0) -> 0 | V2003: =IFERROR(IF(T2003=1,(IF(L2003=$S$2,(IF($S$1=1,(IF(N2003=$S$2,0,A2003)),IF($S$1=2,(IF(M2003=$S$2,A2003,0)),IF($S$1=3,A2003,0)))),0)),0),0) -> 0 | W2003: =IFERROR(IF(V2003>=1,(IF(R2003>=9,(IF($S$1>=3,25,IF($S$1>=1,20,0))),IF(R2003>=6,(IF($S$1>=3,20,IF($S$1>=1,15,0))),IF(R2003>=1,(IF($S$1>=3,0,IF($S$1>=1,10,0))),0)))),0),0) -> 0

Sheet ATT.
C1: =COUNTIF(STUDENT!$V$4:$V$2003,">=1") -> 1 | E1: 2 | F1: 3 | G1: 4 | H1: 5 | I1: =HOME!AE16 -> 5 | J1: =IFERROR(IF(I1>=12,1,IF(I1>=1,I1+1,0)),0) -> 6 | K1: =IFERROR(IF(J1>=12,1,IF(J1>=1,J1+1,0)),0) -> 7 | L1: =IFERROR(IF(K1>=12,1,IF(K1>=1,K1+1,0)),0) -> 8 | M1: =IFERROR(IF(L1>=12,1,IF(L1>=1,L1+1,0)),0) -> 9 | N1: =IFERROR(IF(M1>=12,1,IF(M1>=1,M1+1,0)),0) -> 10 | O1: =IFERROR(IF(N1>=12,1,IF(N1>=1,N1+1,0)),0) -> 11 | P1: =IFERROR(IF(O1>=12,1,IF(O1>=1,O1+1,0)),0) -> 12 | Q1: =IFERROR(IF(P1>=12,1,IF(P1>=1,P1+1,0)),0) -> 1 | ... T1: =IFERROR(IF(S1>=12,1,IF(S1>=1,S1+1,0)),0) -> 4 | V1: =BHUGTAN!W1 -> 202009 | W1: =BHUGTAN!X1 -> 202102 | X1: =U.C.!N1 -> 202006 | Y1: =U.C.!O1 -> 202010 | Z1: =I3 -> 201905 | AA1: =Y1 -> 202010 | AC1: =TODAY() -> 44174
I2: =HOME!AR7 -> 2019 | J2: =IFERROR(IF(I1>=1,(IF(J1>=I1,I2,IF(J1<I1,I2+1,0))),0),0) -> 2019 | K2: =IFERROR(IF(J1>=1,(IF(K1>=J1,J2,IF(K1<J1,J2+1,0))),0),0) -> 2019 | L2: =IFERROR(IF(K1>=1,(IF(L1>=K1,K2,IF(L1<K1,K2+1,0))),0),0) -> 2019 | M2: =IFERROR(IF(L1>=1,(IF(M1>=L1,L2,IF(M1<L1,L2+1,0))),0),0) -> 2019 | N2: =IFERROR(IF(M1>=1,(IF(N1>=M1,M2,IF(N1<M1,M2+1,0))),0),0) -> 2019 | O2: =IFERROR(IF(N1>=1,(IF(O1>=N1,N2,IF(O1<N1,N2+1,0))),0),0) -> 2019 | P2: =IFERROR(IF(O1>=1,(IF(P1>=O1,O2,IF(P1<O1,O2+1,0))),0),0) -> 2019 | Q2: =IFERROR(IF(P1>=1,(IF(Q1>=P1,P2,IF(Q1<P1,P2+1,0))),0),0) -> 2020 | ... T2: =IFERROR(IF(S1>=1,(IF(T1>=S1,S2,IF(T1<S1,S2+1,0))),0),0) -> 2020 | AC2: 36526
I3: =IFERROR(IF(I1>=1,(IF(I2>=2000,I2*100+I1,0)),0),0) -> 201905 | J3: =IFERROR(IF(J1>=1,(IF(J2>=2000,J2*100+J1,0)),0),0) -> 201906 | K3: =IFERROR(IF(K1>=1,(IF(K2>=2000,K2*100+K1,0)),0),0) -> 201907 | L3: =IFERROR(IF(L1>=1,(IF(L2>=2000,L2*100+L1,0)),0),0) -> 201908 | M3: =IFERROR(IF(M1>=1,(IF(M2>=2000,M2*100+M1,0)),0),0) -> 201909 | N3: =IFERROR(IF(N1>=1,(IF(N2>=2000,N2*100+N1,0)),0),0) -> 201910 | O3: =IFERROR(IF(O1>=1,(IF(O2>=2000,O2*100+O1,0)),0),0) -> 201911 | P3: =IFERROR(IF(P1>=1,(IF(P2>=2000,P2*100+P1,0)),0),0) -> 201912 | ... T3: =IFERROR(IF(T1>=1,(IF(T2>=2000,T2*100+T1,0)),0),0) -> 202004
C6: =COUNTIF(STUDENT!$V$4:$V$2003,"0") -> 1999 | D6: इस शीट में सत्र के आरम्भ के माह (HOME शीट के अनुसार) के नीचे रंगीन (हल्के लाल) सैल में संबंधित माह के कुल कार्य दिवस एवं नीचे संबंधित विद्यार्थी के संबंधित माह के कुल उपस्थिति दिवस लिखें
D7: क्र.सं. | E7: प्रवेशांक | F7: विद्यार्थी का नाम | G7: पिता का नाम | H7: कक्षा | I7: =IFERROR(IF(I1>=1,VLOOKUP(I1,HOME!$AE$17:$AF$28,2,0),""),"") -> मई | J7: =IFERROR(IF(J1>=1,VLOOKUP(J1,HOME!$AE$17:$AF$28,2,0),""),"") -> जून | K7: =IFERROR(IF(K1>=1,VLOOKUP(K1,HOME!$AE$17:$AF$28,2,0),""),"") -> जुलाई | L7: =IFERROR(IF(L1>=1,VLOOKUP(L1,HOME!$AE$17:$AF$28,2,0),""),"") -> अगस्त | M7: =IFERROR(IF(M1>=1,VLOOKUP(M1,HOME!$AE$17:$AF$28,2,0),""),"") -> सितम्बर | N7: =IFERROR(IF(N1>=1,VLOOKUP(N1,HOME!$AE$17:$AF$28,2,0),""),"") -> अक्टूम्बर | O7: =IFERROR(IF(O1>=1,VLOOKUP(O1,HOME!$AE$17:$AF$28,2,0),""),"") -> नवम्बर | P7: =IFERROR(IF(P1>=1,VLOOKUP(P1,HOME!$AE$17:$AF$28,2,0),""),"") -> दिसम्बर | ... T7: =IFERROR(IF(T1>=1,VLOOKUP(T1,HOME!$AE$17:$AF$28,2,0),""),"") -> अप्रैल | U7: योग
I8: 25 | J8: 28 | K8: 20 | L8: 15 | M8: 25 | N8: 22 | O8: 21 | P8: 15 | Q8: 18 | R8: 20 | S8: 22 | T8: 21 | U8: =SUM(I8:T8) -> 252 | Y8: =SUM(Y9:Y2008) -> 0 | AA8: =SUM(AA9:AA2008) -> 4075
A9: =IFERROR(IF(W9>=1,D9,0),0) -> 0 | B9: 1 | C9: =IFERROR(IF($C$1>=B9,SMALL(STUDENT!$V$4:$V$2003,$C$6+B9),0),0) -> 2 | D9: =IFERROR(IF(C9>=1,B9,0),0) -> 1 | E9: =IFERROR(IF($D9>=1,VLOOKUP($C9,STUDENT!$A$4:$E$2003,E$1,0),""),"") -> 426 | F9: =IFERROR(IF($D9>=1,VLOOKUP($C9,STUDENT!$A$4:$E$2003,F$1,0),""),"") -> राजू | G9: =IFERROR(IF($D9>=1,VLOOKUP($C9,STUDENT!$A$4:$E$2003,G$1,0),""),"") -> देवाराम | H9: =IFERROR(IF($D9>=1,VLOOKUP($C9,STUDENT!$A$4:$E$2003,H$1,0),""),"") -> XII | I9: 15 | J9: 17 | K9: 10 | L9: 10 | M9: 12 | N9: 15 | O9: 18 | P9: 17 | Q9: 12 | R9: 15 | S9: 10 | T9: 12 | U9: =SUM(I9:T9) -> 163 | V9: =IFERROR(IF(D9>=1,(IF($V$1>=1,(IF($W$1>=1,SUMIFS(I9:T9,$I$3:$T$3,">="&$V$1,$I$3:$T$3,"<="&$W$1),0)),0)),0),0) -> 0 | W9: =IFERROR(IF(V9>=1,V9*VLOOKUP(E9,STUDENT!$B$4:$W$2003,22,0),0),0) -> 0 | X9: =IFERROR(IF(D9>=1,(IF($X$1>=1,(IF($Y$1>=1,SUMIFS(I9:T9,$I$3:$T$3,">="&$X$1,$I$3:$T$3,"<="&$Y$1),0)),0)),0),0) -> 0 | Y9: =IFERROR(IF(X9>=1,X9*VLOOKUP(E9,STUDENT!$B$4:$W$2003,22,0),0),0) -> 0 | Z9: =IFERROR(IF(D9>=1,(IF($Z$1>=1,(IF($AA$1>=1,SUMIFS(I9:T9,$I$3:$T$3,">="&$Z$1,$I$3:$T$3,"<="&$AA$1),0)),0)),0),0) -> 163 | AA9: =IFERROR(IF(Z9>=1,Z9*VLOOKUP(E9,STUDENT!$B$4:$W$2003,22,0),0),0) -> 4075
A10: =IFERROR(IF(W10>=1,D10,0),0) -> 0 | B10: 2 | C10: =IFERROR(IF($C$1>=B10,SMALL(STUDENT!$V$4:$V$2003,$C$6+B10),0),0) -> 0 | D10: =IFERROR(IF(C10>=1,B10,0),0) -> 0 | E10: =IFERROR(IF($D10>=1,VLOOKUP($C10,STUDENT!$A$4:$E$2003,E$1,0),""),"") | F10: =IFERROR(IF($D10>=1,VLOOKUP($C10,STUDENT!$A$4:$E$2003,F$1,0),""),"") | G10: =IFERROR(IF($D10>=1,VLOOKUP($C10,STUDENT!$A$4:$E$2003,G$1,0),""),"") | H10: =IFERROR(IF($D10>=1,VLOOKUP($C10,STUDENT!$A$4:$E$2003,H$1,0),""),"") | O10: 10 | U10: =SUM(I10:T10) -> 10 | V10: =IFERROR(IF(D10>=1,(IF($V$1>=1,(IF($W$1>=1,SUMIFS(I10:T10,$I$3:$T$3,">="&$V$1,$I$3:$T$3,"<="&$W$1),0)),0)),0),0) -> 0 | W10: =IFERROR(IF(V10>=1,V10*VLOOKUP(E10,STUDENT!$B$4:$W$2003,22,0),0),0) -> 0 | X10: =IFERROR(IF(D10>=1,(IF($X$1>=1,(IF($Y$1>=1,SUMIFS(I10:T10,$I$3:$T$3,">="&$X$1,$I$3:$T$3,"<="&$Y$1),0)),0)),0),0) -> 0 | Y10: =IFERROR(IF(X10>=1,X10*VLOOKUP(E10,STUDENT!$B$4:$W$2003,22,0),0),0) -> 0 | Z10: =IFERROR(IF(D10>=1,(IF($Z$1>=1,(IF($AA$1>=1,SUMIFS(I10:T10,$I$3:$T$3,">="&$Z$1,$I$3:$T$3,"<="&$AA$1),0)),0)),0),0) -> 0 | AA10: =IFERROR(IF(Z10>=1,Z10*VLOOKUP(E10,STUDENT!$B$4:$W$2003,22,0),0),0) -> 0
A11: =IFERROR(IF(W11>=1,D11,0),0) -> 0 | B11: 3 | C11: =IFERROR(IF($C$1>=B11,SMALL(STUDENT!$V$4:$V$2003,$C$6+B11),0),0) -> 0 | D11: =IFERROR(IF(C11>=1,B11,0),0) -> 0 | E11: =IFERROR(IF($D11>=1,VLOOKUP($C11,STUDENT!$A$4:$E$2003,E$1,0),""),"") | F11: =IFERROR(IF($D11>=1,VLOOKUP($C11,STUDENT!$A$4:$E$2003,F$1,0),""),"") | G11: =IFERROR(IF($D11>=1,VLOOKUP($C11,STUDENT!$A$4:$E$2003,G$1,0),""),"") | H11: =IFERROR(IF($D11>=1,VLOOKUP($C11,STUDENT!$A$4:$E$2003,H$1,0),""),"") | U11: =SUM(I11:T11) -> 0 | V11: =IFERROR(IF(D11>=1,(IF($V$1>=1,(IF($W$1>=1,SUMIFS(I11:T11,$I$3:$T$3,">="&$V$1,$I$3:$T$3,"<="&$W$1),0)),0)),0),0) -> 0 | W11: =IFERROR(IF(V11>=1,V11*VLOOKUP(E11,STUDENT!$B$4:$W$2003,22,0),0),0) -> 0 | X11: =IFERROR(IF(D11>=1,(IF($X$1>=1,(IF($Y$1>=1,SUMIFS(I11:T11,$I$3:$T$3,">="&$X$1,$I$3:$T$3,"<="&$Y$1),0)),0)),0),0) -> 0 | Y11: =IFERROR(IF(X11>=1,X11*VLOOKUP(E11,STUDENT!$B$4:$W$2003,22,0),0),0) -> 0 | Z11: =IFERROR(IF(D11>=1,(IF($Z$1>=1,(IF($AA$1>=1,SUMIFS(I11:T11,$I$3:$T$3,">="&$Z$1,$I$3:$T$3,"<="&$AA$1),0)),0)),0),0) -> 0 | AA11: =IFERROR(IF(Z11>=1,Z11*VLOOKUP(E11,STUDENT!$B$4:$W$2003,22,0),0),0) -> 0
A12: =IFERROR(IF(W12>=1,D12,0),0) -> 0 | B12: 4 | C12: =IFERROR(IF($C$1>=B12,SMALL(STUDENT!$V$4:$V$2003,$C$6+B12),0),0) -> 0 | D12: =IFERROR(IF(C12>=1,B12,0),0) -> 0 | E12: =IFERROR(IF($D12>=1,VLOOKUP($C12,STUDENT!$A$4:$E$2003,E$1,0),""),"") | F12: =IFERROR(IF($D12>=1,VLOOKUP($C12,STUDENT!$A$4:$E$2003,F$1,0),""),"") | G12: =IFERROR(IF($D12>=1,VLOOKUP($C12,STUDENT!$A$4:$E$2003,G$1,0),""),"") | H12: =IFERROR(IF($D12>=1,VLOOKUP($C12,STUDENT!$A$4:$E$2003,H$1,0),""),"") | U12: =SUM(I12:T12) -> 0 | V12: =IFERROR(IF(D12>=1,(IF($V$1>=1,(IF($W$1>=1,SUMIFS(I12:T12,$I$3:$T$3,">="&$V$1,$I$3:$T$3,"<="&$W$1),0)),0)),0),0) -> 0 | W12: =IFERROR(IF(V12>=1,V12*VLOOKUP(E12,STUDENT!$B$4:$W$2003,22,0),0),0) -> 0 | X12: =IFERROR(IF(D12>=1,(IF($X$1>=1,(IF($Y$1>=1,SUMIFS(I12:T12,$I$3:$T$3,">="&$X$1,$I$3:$T$3,"<="&$Y$1),0)),0)),0),0) -> 0 | Y12: =IFERROR(IF(X12>=1,X12*VLOOKUP(E12,STUDENT!$B$4:$W$2003,22,0),0),0) -> 0 | Z12: =IFERROR(IF(D12>=1,(IF($Z$1>=1,(IF($AA$1>=1,SUMIFS(I12:T12,$I$3:$T$3,">="&$Z$1,$I$3:$T$3,"<="&$AA$1),0)),0)),0),0) -> 0 | AA12: =IFERROR(IF(Z12>=1,Z12*VLOOKUP(E12,STUDENT!$B$4:$W$2003,22,0),0),0) -> 0
A13: =IFERROR(IF(W13>=1,D13,0),0) -> 0 | B13: 5 | C13: =IFERROR(IF($C$1>=B13,SMALL(STUDENT!$V$4:$V$2003,$C$6+B13),0),0) -> 0 | D13: =IFERROR(IF(C13>=1,B13,0),0) -> 0 | E13: =IFERROR(IF($D13>=1,VLOOKUP($C13,STUDENT!$A$4:$E$2003,E$1,0),""),"") | F13: =IFERROR(IF($D13>=1,VLOOKUP($C13,STUDENT!$A$4:$E$2003,F$1,0),""),"") | G13: =IFERROR(IF($D13>=1,VLOOKUP($C13,STUDENT!$A$4:$E$2003,G$1,0),""),"") | H13: =IFERROR(IF($D13>=1,VLOOKUP($C13,STUDENT!$A$4:$E$2003,H$1,0),""),"") | U13: =SUM(I13:T13) -> 0 | V13: =IFERROR(IF(D13>=1,(IF($V$1>=1,(IF($W$1>=1,SUMIFS(I13:T13,$I$3:$T$3,">="&$V$1,$I$3:$T$3,"<="&$W$1),0)),0)),0),0) -> 0 | W13: =IFERROR(IF(V13>=1,V13*VLOOKUP(E13,STUDENT!$B$4:$W$2003,22,0),0),0) -> 0 | X13: =IFERROR(IF(D13>=1,(IF($X$1>=1,(IF($Y$1>=1,SUMIFS(I13:T13,$I$3:$T$3,">="&$X$1,$I$3:$T$3,"<="&$Y$1),0)),0)),0),0) -> 0 | Y13: =IFERROR(IF(X13>=1,X13*VLOOKUP(E13,STUDENT!$B$4:$W$2003,22,0),0),0) -> 0 | Z13: =IFERROR(IF(D13>=1,(IF($Z$1>=1,(IF($AA$1>=1,SUMIFS(I13:T13,$I$3:$T$3,">="&$Z$1,$I$3:$T$3,"<="&$AA$1),0)),0)),0),0) -> 0 | AA13: =IFERROR(IF(Z13>=1,Z13*VLOOKUP(E13,STUDENT!$B$4:$W$2003,22,0),0),0) -> 0
A14: =IFERROR(IF(W14>=1,D14,0),0) -> 0 | B14: 6 | C14: =IFERROR(IF($C$1>=B14,SMALL(STUDENT!$V$4:$V$2003,$C$6+B14),0),0) -> 0 | D14: =IFERROR(IF(C14>=1,B14,0),0) -> 0 | E14: =IFERROR(IF($D14>=1,VLOOKUP($C14,STUDENT!$A$4:$E$2003,E$1,0),""),"") | F14: =IFERROR(IF($D14>=1,VLOOKUP($C14,STUDENT!$A$4:$E$2003,F$1,0),""),"") | G14: =IFERROR(IF($D14>=1,VLOOKUP($C14,STUDENT!$A$4:$E$2003,G$1,0),""),"") | H14: =IFERROR(IF($D14>=1,VLOOKUP($C14,STUDENT!$A$4:$E$2003,H$1,0),""),"") | U14: =SUM(I14:T14) -> 0 | V14: =IFERROR(IF(D14>=1,(IF($V$1>=1,(IF($W$1>=1,SUMIFS(I14:T14,$I$3:$T$3,">="&$V$1,$I$3:$T$3,"<="&$W$1),0)),0)),0),0) -> 0 | W14: =IFERROR(IF(V14>=1,V14*VLOOKUP(E14,STUDENT!$B$4:$W$2003,22,0),0),0) -> 0 | X14: =IFERROR(IF(D14>=1,(IF($X$1>=1,(IF($Y$1>=1,SUMIFS(I14:T14,$I$3:$T$3,">="&$X$1,$I$3:$T$3,"<="&$Y$1),0)),0)),0),0) -> 0 | Y14: =IFERROR(IF(X14>=1,X14*VLOOKUP(E14,STUDENT!$B$4:$W$2003,22,0),0),0) -> 0 | Z14: =IFERROR(IF(D14>=1,(IF($Z$1>=1,(IF($AA$1>=1,SUMIFS(I14:T14,$I$3:$T$3,">="&$Z$1,$I$3:$T$3,"<="&$AA$1),0)),0)),0),0) -> 0 | AA14: =IFERROR(IF(Z14>=1,Z14*VLOOKUP(E14,STUDENT!$B$4:$W$2003,22,0),0),0) -> 0
A15: =IFERROR(IF(W15>=1,D15,0),0) -> 0 | B15: 7 | C15: =IFERROR(IF($C$1>=B15,SMALL(STUDENT!$V$4:$V$2003,$C$6+B15),0),0) -> 0 | D15: =IFERROR(IF(C15>=1,B15,0),0) -> 0 | E15: =IFERROR(IF($D15>=1,VLOOKUP($C15,STUDENT!$A$4:$E$2003,E$1,0),""),"") | F15: =IFERROR(IF($D15>=1,VLOOKUP($C15,STUDENT!$A$4:$E$2003,F$1,0),""),"") | G15: =IFERROR(IF($D15>=1,VLOOKUP($C15,STUDENT!$A$4:$E$2003,G$1,0),""),"") | H15: =IFERROR(IF($D15>=1,VLOOKUP($C15,STUDENT!$A$4:$E$2003,H$1,0),""),"") | U15: =SUM(I15:T15) -> 0 | V15: =IFERROR(IF(D15>=1,(IF($V$1>=1,(IF($W$1>=1,SUMIFS(I15:T15,$I$3:$T$3,">="&$V$1,$I$3:$T$3,"<="&$W$1),0)),0)),0),0) -> 0 | W15: =IFERROR(IF(V15>=1,V15*VLOOKUP(E15,STUDENT!$B$4:$W$2003,22,0),0),0) -> 0 | X15: =IFERROR(IF(D15>=1,(IF($X$1>=1,(IF($Y$1>=1,SUMIFS(I15:T15,$I$3:$T$3,">="&$X$1,$I$3:$T$3,"<="&$Y$1),0)),0)),0),0) -> 0 | Y15: =IFERROR(IF(X15>=1,X15*VLOOKUP(E15,STUDENT!$B$4:$W$2003,22,0),0),0) -> 0 | Z15: =IFERROR(IF(D15>=1,(IF($Z$1>=1,(IF($AA$1>=1,SUMIFS(I15:T15,$I$3:$T$3,">="&$Z$1,$I$3:$T$3,"<="&$AA$1),0)),0)),0),0) -> 0 | AA15: =IFERROR(IF(Z15>=1,Z15*VLOOKUP(E15,STUDENT!$B$4:$W$2003,22,0),0),0) -> 0
A16: =IFERROR(IF(W16>=1,D16,0),0) -> 0 | B16: 8 | C16: =IFERROR(IF($C$1>=B16,SMALL(STUDENT!$V$4:$V$2003,$C$6+B16),0),0) -> 0 | D16: =IFERROR(IF(C16>=1,B16,0),0) -> 0 | E16: =IFERROR(IF($D16>=1,VLOOKUP($C16,STUDENT!$A$4:$E$2003,E$1,0),""),"") | F16: =IFERROR(IF($D16>=1,VLOOKUP($C16,STUDENT!$A$4:$E$2003,F$1,0),""),"") | G16: =IFERROR(IF($D16>=1,VLOOKUP($C16,STUDENT!$A$4:$E$2003,G$1,0),""),"") | H16: =IFERROR(IF($D16>=1,VLOOKUP($C16,STUDENT!$A$4:$E$2003,H$1,0),""),"") | U16: =SUM(I16:T16) -> 0 | V16: =IFERROR(IF(D16>=1,(IF($V$1>=1,(IF($W$1>=1,SUMIFS(I16:T16,$I$3:$T$3,">="&$V$1,$I$3:$T$3,"<="&$W$1),0)),0)),0),0) -> 0 | W16: =IFERROR(IF(V16>=1,V16*VLOOKUP(E16,STUDENT!$B$4:$W$2003,22,0),0),0) -> 0 | X16: =IFERROR(IF(D16>=1,(IF($X$1>=1,(IF($Y$1>=1,SUMIFS(I16:T16,$I$3:$T$3,">="&$X$1,$I$3:$T$3,"<="&$Y$1),0)),0)),0),0) -> 0 | Y16: =IFERROR(IF(X16>=1,X16*VLOOKUP(E16,STUDENT!$B$4:$W$2003,22,0),0),0) -> 0 | Z16: =IFERROR(IF(D16>=1,(IF($Z$1>=1,(IF($AA$1>=1,SUMIFS(I16:T16,$I$3:$T$3,">="&$Z$1,$I$3:$T$3,"<="&$AA$1),0)),0)),0),0) -> 0 | AA16: =IFERROR(IF(Z16>=1,Z16*VLOOKUP(E16,STUDENT!$B$4:$W$2003,22,0),0),0) -> 0
A17: =IFERROR(IF(W17>=1,D17,0),0) -> 0 | B17: 9 | C17: =IFERROR(IF($C$1>=B17,SMALL(STUDENT!$V$4:$V$2003,$C$6+B17),0),0) -> 0 | D17: =IFERROR(IF(C17>=1,B17,0),0) -> 0 | E17: =IFERROR(IF($D17>=1,VLOOKUP($C17,STUDENT!$A$4:$E$2003,E$1,0),""),"") | F17: =IFERROR(IF($D17>=1,VLOOKUP($C17,STUDENT!$A$4:$E$2003,F$1,0),""),"") | G17: =IFERROR(IF($D17>=1,VLOOKUP($C17,STUDENT!$A$4:$E$2003,G$1,0),""),"") | H17: =IFERROR(IF($D17>=1,VLOOKUP($C17,STUDENT!$A$4:$E$2003,H$1,0),""),"") | U17: =SUM(I17:T17) -> 0 | V17: =IFERROR(IF(D17>=1,(IF($V$1>=1,(IF($W$1>=1,SUMIFS(I17:T17,$I$3:$T$3,">="&$V$1,$I$3:$T$3,"<="&$W$1),0)),0)),0),0) -> 0 | W17: =IFERROR(IF(V17>=1,V17*VLOOKUP(E17,STUDENT!$B$4:$W$2003,22,0),0),0) -> 0 | X17: =IFERROR(IF(D17>=1,(IF($X$1>=1,(IF($Y$1>=1,SUMIFS(I17:T17,$I$3:$T$3,">="&$X$1,$I$3:$T$3,"<="&$Y$1),0)),0)),0),0) -> 0 | Y17: =IFERROR(IF(X17>=1,X17*VLOOKUP(E17,STUDENT!$B$4:$W$2003,22,0),0),0) -> 0 | Z17: =IFERROR(IF(D17>=1,(IF($Z$1>=1,(IF($AA$1>=1,SUMIFS(I17:T17,$I$3:$T$3,">="&$Z$1,$I$3:$T$3,"<="&$AA$1),0)),0)),0),0) -> 0 | AA17: =IFERROR(IF(Z17>=1,Z17*VLOOKUP(E17,STUDENT!$B$4:$W$2003,22,0),0),0) -> 0
A18: =IFERROR(IF(W18>=1,D18,0),0) -> 0 | B18: 10 | C18: =IFERROR(IF($C$1>=B18,SMALL(STUDENT!$V$4:$V$2003,$C$6+B18),0),0) -> 0 | D18: =IFERROR(IF(C18>=1,B18,0),0) -> 0 | E18: =IFERROR(IF($D18>=1,VLOOKUP($C18,STUDENT!$A$4:$E$2003,E$1,0),""),"") | F18: =IFERROR(IF($D18>=1,VLOOKUP($C18,STUDENT!$A$4:$E$2003,F$1,0),""),"") | G18: =IFERROR(IF($D18>=1,VLOOKUP($C18,STUDENT!$A$4:$E$2003,G$1,0),""),"") | H18: =IFERROR(IF($D18>=1,VLOOKUP($C18,STUDENT!$A$4:$E$2003,H$1,0),""),"") | U18: =SUM(I18:T18) -> 0 | V18: =IFERROR(IF(D18>=1,(IF($V$1>=1,(IF($W$1>=1,SUMIFS(I18:T18,$I$3:$T$3,">="&$V$1,$I$3:$T$3,"<="&$W$1),0)),0)),0),0) -> 0 | W18: =IFERROR(IF(V18>=1,V18*VLOOKUP(E18,STUDENT!$B$4:$W$2003,22,0),0),0) -> 0 | X18: =IFERROR(IF(D18>=1,(IF($X$1>=1,(IF($Y$1>=1,SUMIFS(I18:T18,$I$3:$T$3,">="&$X$1,$I$3:$T$3,"<="&$Y$1),0)),0)),0),0) -> 0 | Y18: =IFERROR(IF(X18>=1,X18*VLOOKUP(E18,STUDENT!$B$4:$W$2003,22,0),0),0) -> 0 | Z18: =IFERROR(IF(D18>=1,(IF($Z$1>=1,(IF($AA$1>=1,SUMIFS(I18:T18,$I$3:$T$3,">="&$Z$1,$I$3:$T$3,"<="&$AA$1),0)),0)),0),0) -> 0 | AA18: =IFERROR(IF(Z18>=1,Z18*VLOOKUP(E18,STUDENT!$B$4:$W$2003,22,0),0),0) -> 0
A19: =IFERROR(IF(W19>=1,D19,0),0) -> 0 | B19: 11 | C19: =IFERROR(IF($C$1>=B19,SMALL(STUDENT!$V$4:$V$2003,$C$6+B19),0),0) -> 0 | D19: =IFERROR(IF(C19>=1,B19,0),0) -> 0 | E19: =IFERROR(IF($D19>=1,VLOOKUP($C19,STUDENT!$A$4:$E$2003,E$1,0),""),"") | F19: =IFERROR(IF($D19>=1,VLOOKUP($C19,STUDENT!$A$4:$E$2003,F$1,0),""),"") | G19: =IFERROR(IF($D19>=1,VLOOKUP($C19,STUDENT!$A$4:$E$2003,G$1,0),""),"") | H19: =IFERROR(IF($D19>=1,VLOOKUP($C19,STUDENT!$A$4:$E$2003,H$1,0),""),"") | U19: =SUM(I19:T19) -> 0 | V19: =IFERROR(IF(D19>=1,(IF($V$1>=1,(IF($W$1>=1,SUMIFS(I19:T19,$I$3:$T$3,">="&$V$1,$I$3:$T$3,"<="&$W$1),0)),0)),0),0) -> 0 | W19: =IFERROR(IF(V19>=1,V19*VLOOKUP(E19,STUDENT!$B$4:$W$2003,22,0),0),0) -> 0 | X19: =IFERROR(IF(D19>=1,(IF($X$1>=1,(IF($Y$1>=1,SUMIFS(I19:T19,$I$3:$T$3,">="&$X$1,$I$3:$T$3,"<="&$Y$1),0)),0)),0),0) -> 0 | Y19: =IFERROR(IF(X19>=1,X19*VLOOKUP(E19,STUDENT!$B$4:$W$2003,22,0),0),0) -> 0 | Z19: =IFERROR(IF(D19>=1,(IF($Z$1>=1,(IF($AA$1>=1,SUMIFS(I19:T19,$I$3:$T$3,">="&$Z$1,$I$3:$T$3,"<="&$AA$1),0)),0)),0),0) -> 0 | AA19: =IFERROR(IF(Z19>=1,Z19*VLOOKUP(E19,STUDENT!$B$4:$W$2003,22,0),0),0) -> 0
A20: =IFERROR(IF(W20>=1,D20,0),0) -> 0 | B20: 12 | C20: =IFERROR(IF($C$1>=B20,SMALL(STUDENT!$V$4:$V$2003,$C$6+B20),0),0) -> 0 | D20: =IFERROR(IF(C20>=1,B20,0),0) -> 0 | E20: =IFERROR(IF($D20>=1,VLOOKUP($C20,STUDENT!$A$4:$E$2003,E$1,0),""),"") | F20: =IFERROR(IF($D20>=1,VLOOKUP($C20,STUDENT!$A$4:$E$2003,F$1,0),""),"") | G20: =IFERROR(IF($D20>=1,VLOOKUP($C20,STUDENT!$A$4:$E$2003,G$1,0),""),"") | H20: =IFERROR(IF($D20>=1,VLOOKUP($C20,STUDENT!$A$4:$E$2003,H$1,0),""),"") | U20: =SUM(I20:T20) -> 0 | V20: =IFERROR(IF(D20>=1,(IF($V$1>=1,(IF($W$1>=1,SUMIFS(I20:T20,$I$3:$T$3,">="&$V$1,$I$3:$T$3,"<="&$W$1),0)),0)),0),0) -> 0 | W20: =IFERROR(IF(V20>=1,V20*VLOOKUP(E20,STUDENT!$B$4:$W$2003,22,0),0),0) -> 0 | X20: =IFERROR(IF(D20>=1,(IF($X$1>=1,(IF($Y$1>=1,SUMIFS(I20:T20,$I$3:$T$3,">="&$X$1,$I$3:$T$3,"<="&$Y$1),0)),0)),0),0) -> 0 | Y20: =IFERROR(IF(X20>=1,X20*VLOOKUP(E20,STUDENT!$B$4:$W$2003,22,0),0),0) -> 0 | Z20: =IFERROR(IF(D20>=1,(IF($Z$1>=1,(IF($AA$1>=1,SUMIFS(I20:T20,$I$3:$T$3,">="&$Z$1,$I$3:$T$3,"<="&$AA$1),0)),0)),0),0) -> 0 | AA20: =IFERROR(IF(Z20>=1,Z20*VLOOKUP(E20,STUDENT!$B$4:$W$2003,22,0),0),0) -> 0
A21: =IFERROR(IF(W21>=1,D21,0),0) -> 0 | B21: 13 | C21: =IFERROR(IF($C$1>=B21,SMALL(STUDENT!$V$4:$V$2003,$C$6+B21),0),0) -> 0 | D21: =IFERROR(IF(C21>=1,B21,0),0) -> 0 | E21: =IFERROR(IF($D21>=1,VLOOKUP($C21,STUDENT!$A$4:$E$2003,E$1,0),""),"") | F21: =IFERROR(IF($D21>=1,VLOOKUP($C21,STUDENT!$A$4:$E$2003,F$1,0),""),"") | G21: =IFERROR(IF($D21>=1,VLOOKUP($C21,STUDENT!$A$4:$E$2003,G$1,0),""),"") | H21: =IFERROR(IF($D21>=1,VLOOKUP($C21,STUDENT!$A$4:$E$2003,H$1,0),""),"") | U21: =SUM(I21:T21) -> 0 | V21: =IFERROR(IF(D21>=1,(IF($V$1>=1,(IF($W$1>=1,SUMIFS(I21:T21,$I$3:$T$3,">="&$V$1,$I$3:$T$3,"<="&$W$1),0)),0)),0),0) -> 0 | W21: =IFERROR(IF(V21>=1,V21*VLOOKUP(E21,STUDENT!$B$4:$W$2003,22,0),0),0) -> 0 | X21: =IFERROR(IF(D21>=1,(IF($X$1>=1,(IF($Y$1>=1,SUMIFS(I21:T21,$I$3:$T$3,">="&$X$1,$I$3:$T$3,"<="&$Y$1),0)),0)),0),0) -> 0 | Y21: =IFERROR(IF(X21>=1,X21*VLOOKUP(E21,STUDENT!$B$4:$W$2003,22,0),0),0) -> 0 | Z21: =IFERROR(IF(D21>=1,(IF($Z$1>=1,(IF($AA$1>=1,SUMIFS(I21:T21,$I$3:$T$3,">="&$Z$1,$I$3:$T$3,"<="&$AA$1),0)),0)),0),0) -> 0 | AA21: =IFERROR(IF(Z21>=1,Z21*VLOOKUP(E21,STUDENT!$B$4:$W$2003,22,0),0),0) -> 0
A22: =IFERROR(IF(W22>=1,D22,0),0) -> 0 | B22: 14 | C22: =IFERROR(IF($C$1>=B22,SMALL(STUDENT!$V$4:$V$2003,$C$6+B22),0),0) -> 0 | D22: =IFERROR(IF(C22>=1,B22,0),0) -> 0 | E22: =IFERROR(IF($D22>=1,VLOOKUP($C22,STUDENT!$A$4:$E$2003,E$1,0),""),"") | F22: =IFERROR(IF($D22>=1,VLOOKUP($C22,STUDENT!$A$4:$E$2003,F$1,0),""),"") | G22: =IFERROR(IF($D22>=1,VLOOKUP($C22,STUDENT!$A$4:$E$2003,G$1,0),""),"") | H22: =IFERROR(IF($D22>=1,VLOOKUP($C22,STUDENT!$A$4:$E$2003,H$1,0),""),"") | U22: =SUM(I22:T22) -> 0 | V22: =IFERROR(IF(D22>=1,(IF($V$1>=1,(IF($W$1>=1,SUMIFS(I22:T22,$I$3:$T$3,">="&$V$1,$I$3:$T$3,"<="&$W$1),0)),0)),0),0) -> 0 | W22: =IFERROR(IF(V22>=1,V22*VLOOKUP(E22,STUDENT!$B$4:$W$2003,22,0),0),0) -> 0 | X22: =IFERROR(IF(D22>=1,(IF($X$1>=1,(IF($Y$1>=1,SUMIFS(I22:T22,$I$3:$T$3,">="&$X$1,$I$3:$T$3,"<="&$Y$1),0)),0)),0),0) -> 0 | Y22: =IFERROR(IF(X22>=1,X22*VLOOKUP(E22,STUDENT!$B$4:$W$2003,22,0),0),0) -> 0 | Z22: =IFERROR(IF(D22>=1,(IF($Z$1>=1,(IF($AA$1>=1,SUMIFS(I22:T22,$I$3:$T$3,">="&$Z$1,$I$3:$T$3,"<="&$AA$1),0)),0)),0),0) -> 0 | AA22: =IFERROR(IF(Z22>=1,Z22*VLOOKUP(E22,STUDENT!$B$4:$W$2003,22,0),0),0) -> 0
... A2008: =IFERROR(IF(W2008>=1,D2008,0),0) -> 0 | B2008: 2000 | C2008: =IFERROR(IF($C$1>=B2008,SMALL(STUDENT!$V$4:$V$2003,$C$6+B2008),0),0) -> 0 | D2008: =IFERROR(IF(C2008>=1,B2008,0),0) -> 0 | E2008: =IFERROR(IF($D2008>=1,VLOOKUP($C2008,STUDENT!$A$4:$E$2003,E$1,0),""),"") | F2008: =IFERROR(IF($D2008>=1,VLOOKUP($C2008,STUDENT!$A$4:$E$2003,F$1,0),""),"") | G2008: =IFERROR(IF($D2008>=1,VLOOKUP($C2008,STUDENT!$A$4:$E$2003,G$1,0),""),"") | H2008: =IFERROR(IF($D2008>=1,VLOOKUP($C2008,STUDENT!$A$4:$E$2003,H$1,0),""),"") | U2008: =SUM(I2008:T2008) -> 0 | V2008: =IFERROR(IF(D2008>=1,(IF($V$1>=1,(IF($W$1>=1,SUMIFS(I2008:T2008,$I$3:$T$3,">="&$V$1,$I$3:$T$3,"<="&$W$1),0)),0)),0),0) -> 0 | W2008: =IFERROR(IF(V2008>=1,V2008*VLOOKUP(E2008,STUDENT!$B$4:$W$2003,22,0),0),0) -> 0 | X2008: =IFERROR(IF(D2008>=1,(IF($X$1>=1,(IF($Y$1>=1,SUMIFS(I2008:T2008,$I$3:$T$3,">="&$X$1,$I$3:$T$3,"<="&$Y$1),0)),0)),0),0) -> 0 | Y2008: =IFERROR(IF(X2008>=1,X2008*VLOOKUP(E2008,STUDENT!$B$4:$W$2003,22,0),0),0) -> 0 | Z2008: =IFERROR(IF(D2008>=1,(IF($Z$1>=1,(IF($AA$1>=1,SUMIFS(I2008:T2008,$I$3:$T$3,">="&$Z$1,$I$3:$T$3,"<="&$AA$1),0)),0)),0),0) -> 0 | AA2008: =IFERROR(IF(Z2008>=1,Z2008*VLOOKUP(E2008,STUDENT!$B$4:$W$2003,22,0),0),0) -> 0

Sheet DETAIL
E4: इस शीट में यदि विद्यार्थी का बैंक खाता है तो स्वयं अन्यथा अपने परिवार के भामाशाह कार्ड में वर्णित किसी अभिभावक के बैंक खाता का विवरण लिखें
E5: क्र.सं. | F5: प्रवेशांक | G5: विद्यार्थी का नाम | H5: पिता का नाम | I5: कक्षा | J5: भामाशाह बैंक खाताधारक अभिभावक का नाम | K5: बैंक खाता विवरण
K6: बैंक का नाम | L6: शाखा का नाम | M6: IFSC कोड | N6: खाता संख्या
E7: =ATT.!D9 -> 1 | F7: =ATT.!E9 -> 426 | G7: =ATT.!F9 -> राजू | H7: =ATT.!G9 -> देवाराम | I7: =ATT.!H9 -> XII
E8: =ATT.!D10 -> 0 | F8: =ATT.!E10 | G8: =ATT.!F10 | H8: =ATT.!G10 | I8: =ATT.!H10
E9: =ATT.!D11 -> 0 | F9: =ATT.!E11 | G9: =ATT.!F11 | H9: =ATT.!G11 | I9: =ATT.!H11
E10: =ATT.!D12 -> 0 | F10: =ATT.!E12 | G10: =ATT.!F12 | H10: =ATT.!G12 | I10: =ATT.!H12
E11: =ATT.!D13 -> 0 | F11: =ATT.!E13 | G11: =ATT.!F13 | H11: =ATT.!G13 | I11: =ATT.!H13
E12: =ATT.!D14 -> 0 | F12: =ATT.!E14 | G12: =ATT.!F14 | H12: =ATT.!G14 | I12: =ATT.!H14
E13: =ATT.!D15 -> 0 | F13: =ATT.!E15 | G13: =ATT.!F15 | H13: =ATT.!G15 | I13: =ATT.!H15
E14: =ATT.!D16 -> 0 | F14: =ATT.!E16 | G14: =ATT.!F16 | H14: =ATT.!G16 | I14: =ATT.!H16
E15: =ATT.!D17 -> 0 | F15: =ATT.!E17 | G15: =ATT.!F17 | H15: =ATT.!G17 | I15: =ATT.!H17
E16: =ATT.!D18 -> 0 | F16: =ATT.!E18 | G16: =ATT.!F18 | H16: =ATT.!G18 | I16: =ATT.!H18
E17: =ATT.!D19 -> 0 | F17: =ATT.!E19 | G17: =ATT.!F19 | H17: =ATT.!G19 | I17: =ATT.!H19
E18: =ATT.!D20 -> 0 | F18: =ATT.!E20 | G18: =ATT.!F20 | H18: =ATT.!G20 | I18: =ATT.!H20
... E2006: =ATT.!D2008 -> 0 | F2006: =ATT.!E2008 | G2006: =ATT.!F2008 | H2006: =ATT.!G2008 | I2006: =ATT.!H2008

Sheet P-1
A1: =HOME!B2 -> राजकीय माध्यमिक विद्यालय मण्डली चारणा भोपालगढ़-जोधपुर | M1: नीचे बॉक्स में प्रवेशांक चयन कर आवेदन प्रपत्र भरें | P1: ü
A2: प्रपत्र -1
A3: ट्रांसपोर्ट वाउचर योजना के तहत लाभ लेने हेतु प्रार्थना पत्र | N3: 426
A4: भाग- क (विद्यार्थी/अभिभावक द्वारा भरा जायेगा)
A5: 1- | B5: विद्यार्थी का नाम: | F5: =IFERROR(IF(LEN(N3)>=1,VLOOKUP(N3,STUDENT!$B$4:$Q$2003,2,0),""),"") -> राजू
A6: 2- | B6: पिता/अभिभावक का नाम : | F6: =IFERROR(IF(LEN(N3)>=1,VLOOKUP(N3,STUDENT!$B$4:$Q$2003,3,0),""),"") -> देवाराम
A7: 3- | B7: विद्यालय का नाम: | E7: =IFERROR(IF(LEN(N3)>=1,A1,""),"") -> राजकीय माध्यमिक विद्यालय मण्डली चारणा भोपालगढ़-जोधपुर
A8: 4- | B8: कक्षा: | D8: =IFERROR(IF(LEN(N3)>=1,VLOOKUP(N3,STUDENT!$B$4:$Q$2003,4,0),""),"") -> XII | G8: 5- | H8: लिंग- | J8: =IFERROR(IF(LEN(N3)>=1,VLOOKUP(N3,STUDENT!$B$4:$Q$2003,5,0),""),"") -> GIRL
A9: 6- | B9: निवास स्थान: | D9: =IFERROR(IF(LEN(N3)>=1,VLOOKUP(N3,STUDENT!$B$4:$Q$2003,7,0),""),"") -> मण्डली, भोपालगढ़
A10: 7- | B10: निवास स्थान से विद्यालय की दूरी : | G10: =IFERROR(IF(LEN(N3)>=1,CONCATENATE(VLOOKUP(N3,STUDENT!$B$4:$Q$2003,8,0)," ",VLOOKUP(N3,STUDENT!$B$4:$Q$2003,9,0)),""),"") -> 6 Km
B11: निवास स्थान से विद्यालय की निर्धारित दूरी - कक्षा 1-5 (1 किमी), कक्षा 6-8 (2 किमी), कक्षा 9-12 (5 किमी) से अधिक होने पर नीचे किसी एक कारण के सामने बॉक्स में ü का निशान लगावें-
B13: (i) | C13: विद्यार्थी के निवास स्थान से निर्धारित दूरी की परिधि में अध्ययनरत कक्षा स्तर का राजकीय विद्यालय है परन्तु स्वेच्छा या अन्य कारण से अध्ययनरत है|
B16: (ii) | C16: विद्यार्थी के निवास स्थान से निर्धारित दूरी की परिधि में अध्ययनरत कक्षा स्तर का राजकीय विद्यालय नहीं है इस कारण से अध्ययनरत है|
A19: 8- | B19: ट्रांसपोर्ट वाउचर योजना हेतु सही विकल्प के आगे बॉक्स में ü का निशान लगावें-
B21: (i) | C21: SDMC/SMC के माध्यम से ट्रांसपोर्ट व्यवस्था
B23: (ii) | C23: स्वयं के स्तर पर ट्रांसपोर्ट व्यवस्था
A25: 9- | B25: निःशुल्क साइकिल योजना लाभार्थी
A27: 10- | B27: अन्य जानकारी (जो देना चाहे)
A30: अभिभावक के हस्ताक्षर | I30: छात्रा के हस्ताक्षर
R31: /
A32: भाग- ख (कार्यालय उपयोग हेतु)
A33: (संस्था प्रधान द्वारा प्रमाणीकरण पात्रता की शर्त 2.1 एवं 2.2 के अनुसार पात्र विद्यार्थियों हेतु)
A35: =IFERROR(IF(LEN(N3)>=1,CONCATENATE(R35,F5,R31,F6,R36,D8,R37,N3,R38),""),"") -> प्रमाणित किया जाता है कि इस आवेदन में वर्णित समस्त तथ्य मेरी जानकारी में सत्य है| विद्यार्थी राजू / देवाराम, कक्षा - XII में अध्ययनरत है जिसके प्रवेशांक - 426 है| अत: उक्त विद्यार्थी का आवेदन पत्र परिवहन भत्ता नियमानुसार दिये जाने की जाँच एवं अनुशंषा हेतु SMC/SDMC के समक्ष प्रस्तुत है| | R35: प्रमाणित किया जाता है कि इस आवेदन में वर्णित समस्त तथ्य मेरी जानकारी में सत्य है| विद्यार्थी
R36: , कक्षा -
R37: में अध्ययनरत है जिसके प्रवेशांक -
R38: है| अत: उक्त विद्यार्थी का आवेदन पत्र परिवहन भत्ता नियमानुसार दिये जाने की जाँच एवं अनुशंषा हेतु SMC/SDMC के समक्ष प्रस्तुत है|
A40: दिनांक- | I40: संस्था प्रधान के हस्ताक्षर मय मोहर

Sheet P-2
A1: =IFERROR(IF($I$4>=2000,DAY($I$4),0),0) -> 3 | C1: एसएमसी/एसडीएमसी की बैठक दिनांक | D1: =IFERROR(IF(I4>=2000,CONCATENATE(A4,A7,A5,A7,A6),""),"") -> 03-02-2000 | E1: को हुई जिसमें ट्रांसपोर्ट वाउचर योजना के तहत आवेदन करने वाली निम्नांकित बालिकाओं के आवेदनों की जांच कर ट्रांसपोर्ट वाउचर योजना की पात्रता शर्त संख्या 2 के अनुसार योजना का लाभ दिये जाने की अनुशंषा करती है ।
A2: =IFERROR(IF($I$4>=2000,MONTH($I$4),0),0) -> 2 | C2: प्रपत्र-2 | H2: नीचे बॉक्स में SMC बैठक की दिनांक लिखकर प्रपत्र तैयार करें
A3: =IFERROR(IF($I$4>=2000,YEAR($I$4),0),0) -> 2000 | C3: SMC/SDMC द्वारा जाँच एवं अनुशंषा
A4: =IFERROR(IF(A1>=10,A1,(IF(A1>=1,TEXT(A1,"00"),""))),"") -> 03 | C4: Government Senior Secondary School, Rooppura | I4: 36559
A5: =IFERROR(IF(A2>=10,A2,(IF(A2>=1,TEXT(A2,"00"),""))),"") -> 02 | C5: क्रमांक- | F5: दिनांक- | G5: =I4 -> 36559
A6: =IFERROR(IF(A3>=1,A3,""),"") -> 2000 | C6: =IFERROR(IF(I4>=2000,CONCATENATE(C1,D1,E1),""),"") -> एसएमसी/एसडीएमसी की बैठक दिनांक 03-02-2000 को हुई जिसमें ट्रांसपोर्ट वाउचर योजना के तहत आवेदन करने वाली निम्नांकित बालिकाओं के आवेदनों की जांच कर ट्रांसपोर्ट वाउचर योजना की पात्रता शर्त संख्या 2 के अनुसार योजना का लाभ दिये जाने की अनुशंषा करती है ।
A7: - | C7: क्र.सं. | D7: बालिका का नाम | E7: पिता/अभिभावक का नाम | F7: कक्षा | G7: प्रवेशांक
C8: =DETAIL!E7 -> 1 | D8: =DETAIL!G7 -> राजू | E8: =DETAIL!H7 -> देवाराम | F8: =DETAIL!I7 -> XII | G8: =DETAIL!F7 -> 426
C9: =DETAIL!E8 -> 0 | D9: =DETAIL!G8 | E9: =DETAIL!H8 | F9: =DETAIL!I8 | G9: =DETAIL!F8
C10: =DETAIL!E9 -> 0 | D10: =DETAIL!G9 | E10: =DETAIL!H9 | F10: =DETAIL!I9 | G10: =DETAIL!F9
C11: =DETAIL!E10 -> 0 | D11: =DETAIL!G10 | E11: =DETAIL!H10 | F11: =DETAIL!I10 | G11: =DETAIL!F10
C12: =DETAIL!E11 -> 0 | D12: =DETAIL!G11 | E12: =DETAIL!H11 | F12: =DETAIL!I11 | G12: =DETAIL!F11
C13: =DETAIL!E12 -> 0 | D13: =DETAIL!G12 | E13: =DETAIL!H12 | F13: =DETAIL!I12 | G13: =DETAIL!F12
C14: =DETAIL!E13 -> 0 | D14: =DETAIL!G13 | E14: =DETAIL!H13 | F14: =DETAIL!I13 | G14: =DETAIL!F13
C15: =DETAIL!E14 -> 0 | D15: =DETAIL!G14 | E15: =DETAIL!H14 | F15: =DETAIL!I14 | G15: =DETAIL!F14
C16: =DETAIL!E15 -> 0 | D16: =DETAIL!G15 | E16: =DETAIL!H15 | F16: =DETAIL!I15 | G16: =DETAIL!F15
C17: =DETAIL!E16 -> 0 | D17: =DETAIL!G16 | E17: =DETAIL!H16 | F17: =DETAIL!I16 | G17: =DETAIL!F16
C18: =DETAIL!E17 -> 0 | D18: =DETAIL!G17 | E18: =DETAIL!H17 | F18: =DETAIL!I17 | G18: =DETAIL!F17
C19: =DETAIL!E18 -> 0 | D19: =DETAIL!G18 | E19: =DETAIL!H18 | F19: =DETAIL!I18 | G19: =DETAIL!F18
... C2007: =DETAIL!E2006 -> 0 | D2007: =DETAIL!G2006 | E2007: =DETAIL!H2006 | F2007: =DETAIL!I2006 | G2007: =DETAIL!F2006

Sheet PRAPTI
N1: ट्रांसपोर्ट वाउचर योजना आय-व्यय विवरण
D3: =HOME!B2 -> राजकीय माध्यमिक विद्यालय मण्डली चारणा भोपालगढ़-जोधपुर | P3: इस शीट में क्र.सं. एवं अधिशेष रकम के अलावा प्राप्ति विवरण (विद्यालय बैंक पासबुक की सहायता से) तथा वितरण विवरण ('BHUGTAN' शीट की सहायता से) भरें
D4: =CONCATENATE(N1,HOME!K4,HOME!M4) -> ट्रांसपोर्ट वाउचर योजना आय-व्यय विवरण सत्र-2019-20
D5: क्र.सं. | E5: प्राप्ति विवरण | I5: वितरण विवरण | M5: अधिशेष रकम
E6: कार्यालय का नाम, जिससे राशि प्राप्त हुई | F6: प्राप्ति दिनांक | G6: चैक नम्बर | H6: प्राप्त रकम | I6: वितरण दिनांक | J6: वितरण की अवधि माह | L6: वितरित रकम
J7: कब से | K7: कब तक
D8: =IFERROR(IF(O8>=1,1,0),0) -> 1 | F8: 44044 | H8: 5000 | J8: अक्टूम्बर | L8: 100 | M8: =H8-L8 -> 4900 | N8: =F8 -> 44044 | O8: =H8+L8 -> 5100
D9: =IFERROR(IF(O9>=1,D8+1,0),0) -> 2 | L9: 100 | M9: =M8+H9-L9 -> 4800 | N9: =F9 -> 0 | O9: =H9+L9 -> 100
D10: =IFERROR(IF(O10>=1,D9+1,0),0) -> 3 | F10: 44197 | H10: 2000 | M10: =M9+H10-L10 -> 6800 | N10: =F10 -> 44197 | O10: =H10+L10 -> 2000
D11: =IFERROR(IF(O11>=1,D10+1,0),0) -> 0 | M11: =M10+H11-L11 -> 6800 | N11: =F11 -> 0 | O11: =H11+L11 -> 0
D12: =IFERROR(IF(O12>=1,D11+1,0),0) -> 0 | M12: =M11+H12-L12 -> 6800 | N12: =F12 -> 0 | O12: =H12+L12 -> 0
D13: =IFERROR(IF(O13>=1,D12+1,0),0) -> 0 | M13: =M12+H13-L13 -> 6800 | N13: =F13 -> 0 | O13: =H13+L13 -> 0
D14: =IFERROR(IF(O14>=1,D13+1,0),0) -> 0 | M14: =M13+H14-L14 -> 6800 | N14: =F14 -> 0 | O14: =H14+L14 -> 0
D15: =IFERROR(IF(O15>=1,D14+1,0),0) -> 0 | M15: =M14+H15-L15 -> 6800 | N15: =F15 -> 0 | O15: =H15+L15 -> 0
D16: =IFERROR(IF(O16>=1,D15+1,0),0) -> 0 | M16: =M15+H16-L16 -> 6800 | N16: =F16 -> 0 | O16: =H16+L16 -> 0
D17: =IFERROR(IF(O17>=1,D16+1,0),0) -> 0 | M17: =M16+H17-L17 -> 6800 | N17: =F17 -> 0 | O17: =H17+L17 -> 0
D18: =IFERROR(IF(O18>=1,D17+1,0),0) -> 0 | M18: =M17+H18-L18 -> 6800 | N18: =F18 -> 0 | O18: =H18+L18 -> 0
D19: =IFERROR(IF(O19>=1,D18+1,0),0) -> 0 | M19: =M18+H19-L19 -> 6800 | N19: =F19 -> 0 | O19: =H19+L19 -> 0

Sheet BHUGTAN
F1: 2 | G1: 3 | H1: 4 | I1: 5 | J1: 19 | L1: 20 | W1: =IFERROR(IF(W2=1,Y2*100+W4,0),0) -> 202009 | X1: =IFERROR(IF(W2=1,Y3*100+X4,0),0) -> 202102
E2: =HOME!B2 -> राजकीय माध्यमिक विद्यालय मण्डली चारणा भोपालगढ़-जोधपुर | O2: ट्रांसपोर्ट वाउचर योजना भुगतान प्रपत्र तैयार करने हेतु नीचे FROM वाले सैल के आगे के सैल में भुगतान जिस माह से करना है तथा TO वाले सैल के आगे के सैल में भुगतान जिस माह तक करना है, माह व वर्ष चयन करें | V2: /- | W2: =IFERROR(IF(X2>=2000,(IF(X3>=2000,(IF(Y2>=2000,(IF(Y3>=2000,(IF(W4>=1,(IF(X4>=1,1)),0)),0)),0)),0)),0),0) -> 1 | X2: =U.C.!O2 -> 2019 | Y2: =Q6 -> 2020
D3: =COUNTIF(ATT.!A9:A2008,">=1") -> 0 | E3: ट्रांसपोर्ट वाउचर योजना भुगतान विवरण | X3: =U.C.!O3 -> 2020 | Y3: =T6 -> 2021
D4: =COUNTIF(ATT.!A9:A2008,"0") -> 2000 | E4: क्रमांक- | L4: दिनांक- | W4: =IFERROR(IF(LEN(P6)>=3,VLOOKUP(P6,HOME!AF17:AG28,2,0),0),0) -> 9 | X4: =IFERROR(IF(LEN(S6)>=3,VLOOKUP(S6,HOME!AF17:AG28,2,0),0),0) -> 2
E5: क्र.सं. | F5: प्रवेशांक | G5: विद्यार्थी का नाम | H5: पिता का नाम | I5: कक्षा | J5: कुल उपस्थिति | K5: दर | L5: कुल राशि | M5: हस्ताक्षर प्राप्तकर्ता | N5: हस्ताक्षर अभिभावक | O5: FROM- | P5: Month | Q5: Year | R5: TO- | S5: Month | T5: Year
P6: सितम्बर | Q6: 2020 | S6: फ़रवरी | T6: 2021
C7: 1 | D7: =IFERROR(IF($D$3>=C7,SMALL(ATT.!$A$9:$A$2008,$D$4+C7),0),0) -> 0 | E7: =IFERROR(IF(D7>=1,C7,0),0) -> 0 | F7: =IFERROR(IF($E7>=1,VLOOKUP($E7,ATT.!$D$9:$W$2008,F$1,0),0),0) -> 0 | G7: =IFERROR(IF($E7>=1,VLOOKUP($E7,ATT.!$D$9:$W$2008,G$1,0),0),0) -> 0 | H7: =IFERROR(IF($E7>=1,VLOOKUP($E7,ATT.!$D$9:$W$2008,H$1,0),0),0) -> 0 | I7: =IFERROR(IF($E7>=1,VLOOKUP($E7,ATT.!$D$9:$W$2008,I$1,0),0),0) -> 0 | J7: =IFERROR(IF($E7>=1,VLOOKUP($E7,ATT.!$D$9:$W$2008,J$1,0),0),0) -> 0 | K7: =IFERROR(IF(E7>=1,CONCATENATE(VLOOKUP(F7,STUDENT!$B$4:$W$2003,22,0),$V$2),""),"") | L7: =IFERROR(IF($E7>=1,VLOOKUP($E7,ATT.!$D$9:$W$2008,L$1,0),0),0) -> 0
C8: 2 | D8: =IFERROR(IF($D$3>=C8,SMALL(ATT.!$A$9:$A$2008,$D$4+C8),0),0) -> 0 | E8: =IFERROR(IF(D8>=1,C8,0),0) -> 0 | F8: =IFERROR(IF($E8>=1,VLOOKUP($E8,ATT.!$D$9:$W$2008,F$1,0),0),0) -> 0 | G8: =IFERROR(IF($E8>=1,VLOOKUP($E8,ATT.!$D$9:$W$2008,G$1,0),0),0) -> 0 | H8: =IFERROR(IF($E8>=1,VLOOKUP($E8,ATT.!$D$9:$W$2008,H$1,0),0),0) -> 0 | I8: =IFERROR(IF($E8>=1,VLOOKUP($E8,ATT.!$D$9:$W$2008,I$1,0),0),0) -> 0 | J8: =IFERROR(IF($E8>=1,VLOOKUP($E8,ATT.!$D$9:$W$2008,J$1,0),0),0) -> 0 | K8: =IFERROR(IF(E8>=1,CONCATENATE(VLOOKUP(F8,STUDENT!$B$4:$W$2003,22,0),$V$2),""),"") | L8: =IFERROR(IF($E8>=1,VLOOKUP($E8,ATT.!$D$9:$W$2008,L$1,0),0),0) -> 0
C9: 3 | D9: =IFERROR(IF($D$3>=C9,SMALL(ATT.!$A$9:$A$2008,$D$4+C9),0),0) -> 0 | E9: =IFERROR(IF(D9>=1,C9,0),0) -> 0 | F9: =IFERROR(IF($E9>=1,VLOOKUP($E9,ATT.!$D$9:$W$2008,F$1,0),0),0) -> 0 | G9: =IFERROR(IF($E9>=1,VLOOKUP($E9,ATT.!$D$9:$W$2008,G$1,0),0),0) -> 0 | H9: =IFERROR(IF($E9>=1,VLOOKUP($E9,ATT.!$D$9:$W$2008,H$1,0),0),0) -> 0 | I9: =IFERROR(IF($E9>=1,VLOOKUP($E9,ATT.!$D$9:$W$2008,I$1,0),0),0) -> 0 | J9: =IFERROR(IF($E9>=1,VLOOKUP($E9,ATT.!$D$9:$W$2008,J$1,0),0),0) -> 0 | K9: =IFERROR(IF(E9>=1,CONCATENATE(VLOOKUP(F9,STUDENT!$B$4:$W$2003,22,0),$V$2),""),"") | L9: =IFERROR(IF($E9>=1,VLOOKUP($E9,ATT.!$D$9:$W$2008,L$1,0),0),0) -> 0
