Workbook
Name _tds1: #REF!
Name _tds2: #REF!
Name AIR.Code001: #REF!
Name AIR.Code002: #REF!
Name AIR.Code003: #REF!
Name AIR.Code004: #REF!
Name AIR.Code005: #REF!
Name AIR.Code006: #REF!
Name AIR.Code007: #REF!
Name AIR.Code008: #REF!
Name AIR.TaxExmpIntInc: #REF!
Name All_India_Service: 'Master Data'!$AJ$10:$AJ$13
Name Bank1: #REF!
Name Bank10: #REF!
Name Bank11: #REF!
Name Bank12: #REF!
Name Bank2: #REF!
Name Bank3: #REF!
Name Bank4: #REF!
Name Bank5: #REF!
Name Bank6: #REF!
Name Bank6PCAR: #REF!
Name Bank7: #REF!
Name Bank8: #REF!
Name Bank9: #REF!
Name BankAccNo: #REF!
Name BankArrear: #REF!
Name BankArrear0: #REF!
Name BankArrear1: #REF!
Name BankArrear2: #REF!
Name BankArrear3: #REF!
Name BankBonus: #REF!
Name BankDA10: #REF!
Name BankDA5: #REF!
Name BankDA6: #REF!
Name BankDA8: #REF!
Name BankPL: #REF!
Name cmb_IncD.BankAccountType: #REF!
Name cmb_IncD.EcsRequired: #REF!
Name cmb_TDSal.StateCode: #REF!
Name cmb_TDSoth.StateCode: #REF!
Name i_general: #REF!
Name i_general2: #REF!
Name i_tds: #REF!
Name IncD.AdvanceTax: #REF!
Name IncD.AggregateIncome: #REF!
Name IncD.BalTaxPayable: #REF!
Name IncD.BankAccountNumber: #REF!
Name IncD.BankAccountType: #REF!
Name IncD.EcsRequired: #REF!
Name IncD.EducationCess: #REF!
Name IncD.FamPension: #REF!
Name IncD.GrossTaxLiability: #REF!
Name IncD.GrossTotIncome: #REF!
Name IncD.IncomeFromOS: #REF!
Name IncD.IncomeFromSal: #REF!
Name IncD.IndInterest: #REF!
Name IncD.IntrstPayUs234A: #REF!
Name IncD.IntrstPayUs234B: #REF!
Name IncD.IntrstPayUs234C: #REF!

Sheet Master Data
C1: USE DEVLYS 10 FONT
D2: ;fn vki 01-01-2004 dks ;k mlds i'pkr fu;qDr dkfeZd gSa rks Drop Down Menu esa ls "Yes" pqusa] vU;Fkk "No" pqusaA | AC2: Yes | AF2: HRA
D3: D;k vkius o"kZ 2020&21 esa lefiZr osru fy;k gS \ | M3: Yes | N3: ;fn gk¡ rks ftl ekg esa fcy cuk mldk Øekad pqusaA | Z3: 7
D4: D;k vkius o"kZ 2019&20 esa lefiZr osru fy;k gS \ | M4: Yes | N4: ;fn gk¡ rks ftl ekg esa fcy cuk mldk Øekad pqusaA | Z4: 8
D5: D;k vki ofj"B ukxfjd Js.kh ¼60-80 vk;qoxZ½ esa vkrs gS \ | Q5: No | T5: D;k vkidks cksul feyk gS \ | AC5: Yes | AF5: 0.08
D6: MARCH - 2020 BASIC | L6: 47800 | N6: SERVICE CATEGORY | W6: SUBORDINATE | AC6: RAJTEACHERS.NET
C8: GOVT SR. SEC SCHOOL DILOD HATHI, ATRU BARAN
C9: INCOME TAX CALCULATION (GA-55) 2020-21
C10: NAME : | D10: PARMANAND MEGHWAL | I10: DESIGNATION | P10: SENIOR TEACHER | U10: PAN: | W10: ABCD1122D | AC10: A/C NO. | AE10: 123456789
I11: GPF/PRAN NUMBER: | U11: TAN: | W11: JDHG03597G | AC11: MOB NO. | AE11: 9784379510
C12: Month | D12: Basic Pay | E12: Dearness Pay | F12: Leave Pay | G12: Spl. Pay | H12: D.A. | I12: H.R.A. | J12: Emp. C.Pen.F. | K12: Washing Allow. | L12: ROP (If any, put the value in minus) | M12: Other Allowance 1 | N12: Gross Salary | O12: =IF(AC2="No","GPF","Emp. C.Pen.F.") -> Emp. C.Pen.F. | P12: =IF(AC2="No","Emp. C.Pen.F.","Emp. C.Pen.F.") -> Emp. C.Pen.F. | Q12: GPF LOAN | R12: SI | S12: SI Arear | T12: SI LOAN + INT | U12: RPMF | V12: LIC | W12: Group Insurance Accidental | X12: HBA Premium | Y12: HBA Interest | Z12: Income Tax / TDS | AA12: GPF 2004 (NPS) | AB12: Hitkari Nidhi | AC12: CM Corona Fund | AD12: Total Deduction | AE12: Net Payment | AF12: Bill No. & T.V. No.
B13: 3 | C13: 43891 | D13: =IF($W$6="All India Service",ROUND(L6*15/31,0),IF($W$6="State service",ROUND(L6*15/31,0),IF($W$6="Subordinate",ROUND(L6*15/31,0),IF($W$6="Ministrial",ROUND(L6*22/31,0),IF($W$6="Class IV",ROUND(L6*31/31,0)))))) -> 23129 | E13: 0 | F13: 0 | G13: 0 | H13: =ROUND(17%*D13,0) -> 3932 | I13: =IF($W$6="All India Service",ROUND(L6*AF5*15/31,0),IF($W$6="State service",ROUND(L6*AF5*15/31,0),IF($W$6="Subordinate",ROUND(L6*AF5*15/31,0),IF($W$6="Ministrial",ROUND(L6*AF5*22/31,0),IF($W$6="Class IV",ROUND(L6*AF5*31/31,0)))))) -> 1850 | J13: =IF($AC$2="Yes",ROUND((D13+H13)*0.1,0),IF($AC$2="No",0)) -> 2706 | K13: 0 | L13: 0 | M13: 0 | N13: =SUM(D13:M13) -> 31617 | O13: =IF($AC$2="Yes",ROUND((D13+H13)*0.1,0),IF($AC$2="No",0)) -> 2706 | P13: =IF($AC$2="Yes",ROUND((D13+H13)*0.1,0),IF($AC$2="No",0)) -> 2706 | Q13: 0 | R13: 0 | T13: 0 | U13: =IF($AC$2="No",IF(L6<18001,242,IF(L6<33501,402,IF(L6<54001,602,800))),0) -> 0 | V13: 3023 | W13: 0 | AC13: =IF($W$6="All India Service",ROUND(L6*5/31,0),IF($W$6="State service",ROUND(L6*5/31,0),IF($W$6="Subordinate",ROUND(L6*3/31,0),IF($W$6="Ministrial",ROUND(L6*2/31,0),IF($W$6="Class IV",ROUND(L6*1/31,0)))))) -> 4626 | AD13: =SUM(O13:AC13) -> 13061 | AE13: =N13-AD13 -> 18556 | AJ13: STATE SERVICE
B14: 4 | C14: 43922 | D14: =L6 -> 47800 | E14: =IF(E$13=0,0,ROUND(D14/2,0)) -> 0 | F14: =IF(F$13=0,0,F13) -> 0 | G14: =IF(G$13=0,0,G13) -> 0 | H14: =ROUND(17%*D14,0) -> 8126 | I14: =IF($AF$5=16%,ROUND(0.16*D14,0),ROUND(0.08*D14,0)) -> 3824 | J14: =IF($AC$2="Yes",ROUND((D14+H14)*0.1,0),IF($AC$2="No",0)) -> 5593 | K14: =IF(K$13=0,0,K13) -> 0 | L14: =IF(L$13=0,0,L13) -> 0 | M14: =IF(M$13=0,0,M13) -> 0 | N14: =SUM(D14:M14) -> 65343 | O14: =IF($AC$2="Yes",ROUND((D14+H14)*0.1,0),IF($AC$2="No",IF(D14<23101,1450,IF(D14<28501,1625,IF(D14<38501,2100,IF(D14<51501,2850,IF(D14<62001,3575,IF(D14<72001,4200,IF(D14<80001,4800,IF(D14<116001,6150,IF(D14<167001,8900,10500))))))))),0)) -> 5593 | P14: =IF($AC$2="Yes",ROUND((D14+H14)*0.1,0),IF($AC$2="No",0)) -> 5593 | Q14: =Q13 -> 0 | R14: 2200 | T14: =T13 -> 0 | U14: =IF($AC$2="No",IF(D14<18001,242,IF(D14<33501,402,IF(D14<54001,602,800))),0) -> 0 | V14: =V13 -> 3023 | W14: 220 | X14: =X13 -> 0 | Y14: =Y13 -> 0 | Z14: =Z13 -> 0 | AD14: =SUM(O14:AC14) -> 16629 | AE14: =N14-AD14 -> 48714 | AJ14: SUBORDINATE
B15: 5 | C15: 43952 | D15: =D14 -> 47800 | E15: =IF($E$13=0,0,ROUND(D15/2,0)) -> 0 | F15: =IF(F$13=0,0,F14) -> 0 | G15: =IF(G$13=0,0,G14) -> 0 | H15: =ROUND(17%*D15,0) -> 8126 | I15: =IF($AF$5=16%,ROUND(0.16*D15,0),ROUND(0.08*D15,0)) -> 3824 | J15: =IF($AC$2="Yes",ROUND((D15+H15)*0.1,0),IF($AC$2="No",0)) -> 5593 | K15: =IF(K$13=0,0,K14) -> 0 | M15: =IF(M$13=0,0,M14) -> 0 | N15: =SUM(D15:M15) -> 65343 | O15: =IF($AC$2="Yes",ROUND((D15+H15)*0.1,0),IF($AC$2="No",IF(D15<23101,1450,IF(D15<28501,1625,IF(D15<38501,2100,IF(D15<51501,2850,IF(D15<62001,3575,IF(D15<72001,4200,IF(D15<80001,4800,IF(D15<116001,6150,IF(D15<167001,8900,10500))))))))),0)) -> 5593 | P15: =IF($AC$2="Yes",ROUND((D15+H15)*0.1,0),IF($AC$2="No",0)) -> 5593 | Q15: =Q14 -> 0 | R15: =R14 -> 2200 | S15: =R14 -> 2200 | T15: =T14 -> 0 | U15: =IF($AC$2="No",IF(D15<18001,288,IF(D15<33501,478,IF(D15<54001,714,950))),0) -> 0 | V15: =V14 -> 3023 | W15: 0 | X15: =X14 -> 0 | Y15: =Y14 -> 0 | Z15: =Z14 -> 0 | AD15: =SUM(O15:AC15) -> 18609 | AE15: =N15-AD15 -> 46734 | AJ15: MINISTRIAL
B16: 6 | C16: 43983 | D16: =D15 -> 47800 | E16: =IF($E$13=0,0,ROUND(D16/2,0)) -> 0 | F16: =IF(F$13=0,0,F15) -> 0 | G16: =IF(G$13=0,0,G15) -> 0 | H16: =ROUND(17%*D16,0) -> 8126 | I16: =IF($AF$5=16%,ROUND(0.16*D16,0),ROUND(0.08*D16,0)) -> 3824 | J16: =IF($AC$2="Yes",ROUND((D16+H16)*0.1,0),IF($AC$2="No",0)) -> 5593 | K16: =IF(K$13=0,0,K15) -> 0 | L16: =IF(L$13=0,0,L15) -> 0 | N16: =SUM(D16:M16) -> 65343 | O16: =IF($AC$2="Yes",ROUND((D16+H16)*0.1,0),IF($AC$2="No",IF(D16<23101,1450,IF(D16<28501,1625,IF(D16<38501,2100,IF(D16<51501,2850,IF(D16<62001,3575,IF(D16<72001,4200,IF(D16<80001,4800,IF(D16<116001,6150,IF(D16<167001,8900,10500))))))))),0)) -> 5593 | P16: =IF($AC$2="Yes",ROUND((D16+H16)*0.1,0),IF($AC$2="No",0)) -> 5593 | Q16: =Q15 -> 0 | R16: =R15 -> 2200 | T16: =T15 -> 0 | U16: =IF($AC$2="No",IF(D16<18001,265,IF(D16<33501,440,IF(D16<54001,658,875))),0) -> 0 | V16: =V15 -> 3023 | W16: 0 | X16: =X15 -> 0 | Y16: =Y15 -> 0 | Z16: =Z15 -> 0 | AD16: =SUM(O16:AC16) -> 16409 | AE16: =N16-AD16 -> 48934 | AJ16: CLASS IV
B17: 7 | C17: 44013 | D17: =MROUND(ROUND(1.03*D16,0),100) -> 49200 | E17: =IF($E$13=0,0,ROUND(D17/2,0)) -> 0 | F17: =IF(F$13=0,0,F16) -> 0 | G17: =IF(G$13=0,0,G16) -> 0 | H17: =ROUND(17%*D17,0) -> 8364 | I17: =IF($AF$5=16%,ROUND(0.16*D17,0),ROUND(0.08*D17,0)) -> 3936 | J17: =IF($AC$2="Yes",ROUND((D17+H17)*0.1,0),IF($AC$2="No",0)) -> 5756 | K17: =IF(K$13=0,0,K16) -> 0 | L17: =IF(L$13=0,0,L16) -> 0 | M17: =IF(M$13=0,0,M16) -> 0 | N17: =SUM(D17:M17) -> 67256 | O17: =IF($AC$2="Yes",ROUND((D17+H17)*0.1,0),IF($AC$2="No",IF(D17<23101,1450,IF(D17<28501,1625,IF(D17<38501,2100,IF(D17<51501,2850,IF(D17<62001,3575,IF(D17<72001,4200,IF(D17<80001,4800,IF(D17<116001,6150,IF(D17<167001,8900,10500))))))))),0)) -> 5756 | P17: =IF($AC$2="Yes",ROUND((D17+H17)*0.1,0),IF($AC$2="No",0)) -> 5756 | Q17: =Q16 -> 0 | R17: =R16 -> 2200 | T17: =T16 -> 0 | U17: =IF($AC$2="No",IF(D17<18001,265,IF(D17<33501,440,IF(D17<54001,658,875))),0) -> 0 | V17: =V16 -> 3023 | W17: 0 | X17: =X16 -> 0 | Y17: =Y16 -> 0 | Z17: =Z16 -> 0 | AD17: =SUM(O17:AC17) -> 16735 | AE17: =N17-AD17 -> 50521 | AJ17: ALL INDIA SERVICE
B18: 8 | C18: 44044 | D18: =D17 -> 49200 | E18: =IF($E$13=0,0,ROUND(D18/2,0)) -> 0 | F18: =IF(F$13=0,0,F17) -> 0 | G18: =IF(G$13=0,0,G17) -> 0 | H18: =ROUND(17%*D18,0) -> 8364 | I18: =IF($AF$5=16%,ROUND(0.16*D18,0),ROUND(0.08*D18,0)) -> 3936 | J18: =IF($AC$2="Yes",ROUND((D18+H18)*0.1,0),IF($AC$2="No",0)) -> 5756 | K18: =IF(K$13=0,0,K17) -> 0 | L18: =IF(L$13=0,0,L17) -> 0 | M18: =IF(M$13=0,0,M17) -> 0 | N18: =SUM(D18:M18) -> 67256 | O18: =IF($AC$2="Yes",ROUND((D18+H18)*0.1,0),IF($AC$2="No",IF(D18<23101,1450,IF(D18<28501,1625,IF(D18<38501,2100,IF(D18<51501,2850,IF(D18<62001,3575,IF(D18<72001,4200,IF(D18<80001,4800,IF(D18<116001,6150,IF(D18<167001,8900,10500))))))))),0)) -> 5756 | P18: =IF($AC$2="Yes",ROUND((D18+H18)*0.1,0),IF($AC$2="No",0)) -> 5756 | Q18: =Q17 -> 0 | R18: =R17 -> 2200 | T18: =T17 -> 0 | U18: =IF($AC$2="No",IF(D18<18001,265,IF(D18<33501,440,IF(D18<54001,658,875))),0) -> 0 | V18: =V17 -> 3023 | W18: 0 | X18: =X17 -> 0 | Y18: =Y17 -> 0 | Z18: =Z17 -> 0 | AD18: =SUM(O18:AC18) -> 16735 | AE18: =N18-AD18 -> 50521
B19: 9 | C19: 44075 | D19: =D18 -> 49200 | E19: =IF($E$13=0,0,ROUND(D19/2,0)) -> 0 | F19: =IF(F$13=0,0,F18) -> 0 | G19: =IF(G$13=0,0,G18) -> 0 | H19: =ROUND(17%*D19,0) -> 8364 | I19: =IF($AF$5=16%,ROUND(0.16*D19,0),ROUND(0.08*D19,0)) -> 3936 | J19: =IF($AC$2="Yes",ROUND((D19+H19)*0.1,0),IF($AC$2="No",0)) -> 5756 | K19: =IF(K$13=0,0,K18) -> 0 | L19: =IF(L$13=0,0,L18) -> 0 | M19: =IF(M$13=0,0,M18) -> 0 | N19: =SUM(D19:M19) -> 67256 | O19: =IF($AC$2="Yes",ROUND((D19+H19)*0.1,0),IF($AC$2="No",IF(D19<23101,1450,IF(D19<28501,1625,IF(D19<38501,2100,IF(D19<51501,2850,IF(D19<62001,3575,IF(D19<72001,4200,IF(D19<80001,4800,IF(D19<116001,6150,IF(D19<167001,8900,10500))))))))),0)) -> 5756 | P19: =IF($AC$2="Yes",ROUND((D19+H19)*0.1,0),IF($AC$2="No",0)) -> 5756 | Q19: =Q18 -> 0 | R19: =R18 -> 2200 | T19: =T18 -> 0 | U19: =IF($AC$2="No",IF(D19<18001,265,IF(D19<33501,440,IF(D19<54001,658,875))),0) -> 0 | V19: =V18 -> 3023 | W19: 0 | X19: =X18 -> 0 | Y19: =Y18 -> 0 | Z19: =Z18 -> 0 | AC19: =IF($W$6="All India Service",ROUND((D19+H19+I19)*2/30,0),IF($W$6="State service",ROUND((D19+H19+I19)*2/30,0),IF($W$6="Subordinate",ROUND((D19+H19+I19)*1/30,0),IF($W$6="Ministrial",ROUND((D19+H19+I19)*1/30,0),IF($W$6="Class IV",ROUND((D19+H19+I19)*1/30,0)))))) -> 2050 | AD19: =SUM(O19:AC19) -> 18785 | AE19: =N19-AD19 -> 48471
B20: 10 | C20: 44105 | D20: =D19 -> 49200 | E20: =IF($E$13=0,0,ROUND(D20/2,0)) -> 0 | F20: =IF(F$13=0,0,F19) -> 0 | G20: =IF(G$13=0,0,G19) -> 0 | H20: =ROUND(17%*D20,0) -> 8364 | I20: =IF($AF$5=16%,ROUND(0.16*D20,0),ROUND(0.08*D20,0)) -> 3936 | J20: =IF($AC$2="Yes",ROUND((D20+H20)*0.1,0),IF($AC$2="No",0)) -> 5756 | K20: =IF(K$13=0,0,K19) -> 0 | L20: =IF(L$13=0,0,L19) -> 0 | M20: =IF(M$13=0,0,M19) -> 0 | N20: =SUM(D20:M20) -> 67256 | O20: =IF($AC$2="Yes",ROUND((D20+H20)*0.1,0),IF($AC$2="No",IF(D20<23101,1450,IF(D20<28501,1625,IF(D20<38501,2100,IF(D20<51501,2850,IF(D20<62001,3575,IF(D20<72001,4200,IF(D20<80001,4800,IF(D20<116001,6150,IF(D20<167001,8900,10500))))))))),0)) -> 5756 | P20: =IF($AC$2="Yes",ROUND((D20+H20)*0.1,0),IF($AC$2="No",0)) -> 5756 | Q20: =Q19 -> 0 | R20: =R19 -> 2200 | T20: =T19 -> 0 | U20: =IF($AC$2="No",IF(D20<18001,265,IF(D20<33501,440,IF(D20<54001,658,875))),0) -> 0 | V20: =V19 -> 3023 | W20: 0 | X20: =X19 -> 0 | Y20: =Y19 -> 0 | Z20: =Z19 -> 0 | AC20: =IF($W$6="All India Service",ROUND((D20+H20+I20)*2/31,0),IF($W$6="State service",ROUND((D20+H20+I20)*2/31,0),IF($W$6="Subordinate",ROUND((D20+H20+I20)*1/31,0),IF($W$6="Ministrial",ROUND((D20+H20+I20)*1/31,0),IF($W$6="Class IV",ROUND((D20+H20+I20)*1/31,0)))))) -> 1984 | AD20: =SUM(O20:AC20) -> 18719 | AE20: =N20-AD20 -> 48537
B21: 11 | C21: 44136 | D21: =D20 -> 49200 | E21: =IF($E$13=0,0,ROUND(D21/2,0)) -> 0 | F21: =IF(F$13=0,0,F20) -> 0 | G21: =IF(G$13=0,0,G20) -> 0 | H21: =ROUND(17%*D21,0) -> 8364 | I21: =IF($AF$5=16%,ROUND(0.16*D21,0),ROUND(0.08*D21,0)) -> 3936 | J21: =IF($AC$2="Yes",ROUND((D21+H21)*0.1,0),IF($AC$2="No",0)) -> 5756 | K21: =IF(K$13=0,0,K20) -> 0 | L21: =IF(L$13=0,0,L20) -> 0 | M21: =IF(M$13=0,0,M20) -> 0 | N21: =SUM(D21:M21) -> 67256 | O21: =IF($AC$2="Yes",ROUND((D21+H21)*0.1,0),IF($AC$2="No",IF(D21<23101,1450,IF(D21<28501,1625,IF(D21<38501,2100,IF(D21<51501,2850,IF(D21<62001,3575,IF(D21<72001,4200,IF(D21<80001,4800,IF(D21<116001,6150,IF(D21<167001,8900,10500))))))))),0)) -> 5756 | P21: =IF($AC$2="Yes",ROUND((D21+H21)*0.1,0),IF($AC$2="No",0)) -> 5756 | Q21: =Q20 -> 0 | R21: =R20 -> 2200 | T21: =T20 -> 0 | U21: =IF($AC$2="No",IF(D21<18001,265,IF(D21<33501,440,IF(D21<54001,658,875))),0) -> 0 | V21: =V20 -> 3023 | W21: 0 | X21: =X20 -> 0 | Y21: =Y20 -> 0 | Z21: =Z20 -> 0 | AD21: =SUM(O21:AC21) -> 16735 | AE21: =N21-AD21 -> 50521
B22: 12 | C22: 44166 | D22: =D21 -> 49200 | E22: =IF($E$13=0,0,ROUND(D22/2,0)) -> 0 | F22: =IF(F$13=0,0,F21) -> 0 | G22: =IF(G$13=0,0,G21) -> 0 | H22: =ROUND(17%*D22,0) -> 8364 | I22: =IF($AF$5=16%,ROUND(0.16*D22,0),ROUND(0.08*D22,0)) -> 3936 | J22: =IF($AC$2="Yes",ROUND((D22+H22)*0.1,0),IF($AC$2="No",0)) -> 5756 | K22: =IF(K$13=0,0,K21) -> 0 | L22: =IF(L$13=0,0,L21) -> 0 | M22: =IF(M$13=0,0,M21) -> 0 | N22: =SUM(D22:M22) -> 67256 | O22: =IF($AC$2="Yes",ROUND((D22+H22)*0.1,0),IF($AC$2="No",IF(D22<23101,1450,IF(D22<28501,1625,IF(D22<38501,2100,IF(D22<51501,2850,IF(D22<62001,3575,IF(D22<72001,4200,IF(D22<80001,4800,IF(D22<116001,6150,IF(D22<167001,8900,10500))))))))),0)) -> 5756 | P22: =IF($AC$2="Yes",ROUND((D22+H22)*0.1,0),IF($AC$2="No",0)) -> 5756 | Q22: =Q21 -> 0 | R22: =R21 -> 2200 | T22: =T21 -> 0 | U22: =IF($AC$2="No",IF(D22<18001,265,IF(D22<33501,440,IF(D22<54001,658,875))),0) -> 0 | V22: =V21 -> 3023 | W22: 0 | X22: =X21 -> 0 | Y22: =Y21 -> 0 | Z22: =Z21 -> 0 | AB22: =IF(W6="State Service",500,250) -> 250 | AD22: =SUM(O22:AC22) -> 16985 | AE22: =N22-AD22 -> 50271
B23: 1 | C23: 44197 | D23: =D22 -> 49200 | E23: =IF($E$13=0,0,ROUND(D23/2,0)) -> 0 | F23: =IF(F$13=0,0,F22) -> 0 | G23: =IF(G$13=0,0,G22) -> 0 | H23: =ROUND(17%*D23,0) -> 8364 | I23: =IF($AF$5=16%,ROUND(0.16*D23,0),ROUND(0.08*D23,0)) -> 3936 | J23: =IF($AC$2="Yes",ROUND((D23+H23)*0.1,0),IF($AC$2="No",0)) -> 5756 | K23: =IF(K$13=0,0,K22) -> 0 | L23: =IF(L$13=0,0,L22) -> 0 | M23: =IF(M$13=0,0,M22) -> 0 | N23: =SUM(D23:M23) -> 67256 | O23: =IF($AC$2="Yes",ROUND((D23+H23)*0.1,0),IF($AC$2="No",IF(D23<23101,1450,IF(D23<28501,1625,IF(D23<38501,2100,IF(D23<51501,2850,IF(D23<62001,3575,IF(D23<72001,4200,IF(D23<80001,4800,IF(D23<116001,6150,IF(D23<167001,8900,10500))))))))),0)) -> 5756 | P23: =IF($AC$2="Yes",ROUND((D23+H23)*0.1,0),IF($AC$2="No",0)) -> 5756 | Q23: =Q22 -> 0 | R23: =R22 -> 2200 | T23: =T22 -> 0 | U23: =IF($AC$2="No",IF(D23<18001,265,IF(D23<33501,440,IF(D23<54001,658,875))),0) -> 0 | V23: =V22 -> 3023 | W23: 0 | X23: =X22 -> 0 | Y23: =Y22 -> 0 | Z23: =Z22 -> 0 | AD23: =SUM(O23:AC23) -> 16735 | AE23: =N23-AD23 -> 50521
B24: 2 | C24: 44228 | D24: =D23 -> 49200 | E24: =IF($E$13=0,0,ROUND(D24/2,0)) -> 0 | F24: =IF(F$13=0,0,F23) -> 0 | G24: =IF(G$13=0,0,G23) -> 0 | H24: =ROUND(17%*D24,0) -> 8364 | I24: =IF($AF$5=16%,ROUND(0.16*D24,0),ROUND(0.08*D24,0)) -> 3936 | J24: =IF($AC$2="Yes",ROUND((D24+H24)*0.1,0),IF($AC$2="No",0)) -> 5756 | K24: =IF(K$13=0,0,K23) -> 0 | L24: =IF(L$13=0,0,L23) -> 0 | M24: =IF(M$13=0,0,M23) -> 0 | N24: =SUM(D24:M24) -> 67256 | O24: =IF($AC$2="Yes",ROUND((D24+H24)*0.1,0),IF($AC$2="No",IF(D24<23101,1450,IF(D24<28501,1625,IF(D24<38501,2100,IF(D24<51501,2850,IF(D24<62001,3575,IF(D24<72001,4200,IF(D24<80001,4800,IF(D24<116001,6150,IF(D24<167001,8900,10500))))))))),0)) -> 5756 | P24: =IF($AC$2="Yes",ROUND((D24+H24)*0.1,0),IF($AC$2="No",0)) -> 5756 | Q24: =Q23 -> 0 | R24: =R23 -> 2200 | T24: =T23 -> 0 | U24: =IF($AC$2="No",IF(D24<18001,265,IF(D24<33501,440,IF(D24<54001,658,875))),0) -> 0 | V24: =V23 -> 3023 | W24: 0 | X24: =X23 -> 0 | Y24: =Y23 -> 0 | Z24: =Z23 -> 0 | AD24: =SUM(O24:AC24) -> 16735 | AE24: =N24-AD24 -> 50521
C25: DA Arrear 17% (July 19 To Dec. 19) | H25: =(ROUND(17%*D14,0)-ROUND(12%*D14,0))*6+IF(M4="NO",0,IF(AND(Z4>6,Z4<13),ROUND(17%*D14/2,0)-ROUND(12%*D14/2,0),0)) -> 15535 | J25: =IF($AC$2="Yes",ROUND((H25/6)*0.1,0),IF($AC$2="No",0))*6 -> 1554 | N25: =SUM(D25:M25) -> 17089 | O25: =IF($AC$2="Yes",ROUND((H25/6)*0.1,0),IF($AC$2="No",0))*6 -> 1554 | P25: =IF($AC$2="Yes",ROUND((H25/6)*0.1,0),IF($AC$2="No",0))*6 -> 1554 | R25: 0 | V25: 0 | AD25: =SUM(O25:AC25) -> 3108 | AE25: =N25-AD25 -> 13981
C26: DA Arrear 17% (Jan 20 To Feb. 20) | H26: =(ROUND(17%*D14,0)-ROUND(12%*D14,0))*2+IF(M4="NO",0,IF(AND(Z4>0,Z4<4),ROUND(17%*D14,0)-ROUND(12%*D14,0),0)) -> 4780 | J26: =IF($AC$2="Yes",ROUND((H26/2)*0.1,0),IF($AC$2="No",0))*2 -> 478 | N26: =SUM(D26:M26) -> 5258 | O26: =IF($AC$2="Yes",ROUND((H26/2)*0.1,0),IF($AC$2="No",0))*2 -> 478 | P26: =IF($AC$2="Yes",ROUND((H26/2)*0.1,0),IF($AC$2="No",0))*2 -> 478 | R26: 0 | V26: 0 | AD26: =SUM(O26:AC26) -> 956 | AE26: =N26-AD26 -> 4302
C27: Surrender Arrear
C28: Surrender | D28: =IF(M3="NO",0,IF(Z3=3,D24,VLOOKUP(Z3,B13:D24,3,FALSE)))/2 -> 24600 | H28: =IF(AND(Z3>3,Z3<9),ROUND(17%*D28,0),ROUND(17%*D28,0)) -> 4182 | N28: =SUM(D28:M28) -> 28782 | AD28: =SUM(O28:AC28) -> 0 | AE28: =N28-AD28 -> 28782
C29: Bonus | D29: =IF(AC5="Yes",6774,0) -> 6774 | N29: =SUM(D29:M29) -> 6774 | AA29: =IF($AC$2="Yes",ROUND(D29*75/100,0),IF($AC$2="YES",D29,0)) -> 5081 | AD29: =SUM(O29:AC29) -> 5081 | AE29: =N29-AD29 -> 1693
C30: Fixation Arrear | J30: =IF($AC$2="Yes",ROUND((D30+H30)*0.1,0),IF($AC$2="No",0)) -> 0 | N30: =SUM(D30:M30) -> 0 | O30: =IF($AC$2="Yes",ROUND((D30+H30)*0.1,0),IF($AC$2="No",IF(D30<23101,1450,IF(D30<28501,1625,IF(D30<38501,2100,IF(D30<51501,2850,IF(D30<62001,3575,IF(D30<72001,4200,IF(D30<80001,4800,IF(D30<116001,6150,IF(D30<167001,8900,10500))))))))),0)) -> 0 | P30: =IF($AC$2="Yes",ROUND((D30+H30)*0.1,0),IF($AC$2="No",0)) -> 0 | AD30: =SUM(O30:AC30) -> 0 | AE30: =N30-AD30 -> 0
C31: Salary Arrear 1 | J31: =IF($AC$2="Yes",ROUND((D31+H31)*0.1,0),IF($AC$2="No",0)) -> 0 | O31: =IF($AC$2="Yes",ROUND((D31+H31)*0.1,0),IF($AC$2="No",IF(D31<23101,1450,IF(D31<28501,1625,IF(D31<38501,2100,IF(D31<51501,2850,IF(D31<62001,3575,IF(D31<72001,4200,IF(D31<80001,4800,IF(D31<116001,6150,IF(D31<167001,8900,10500))))))))),0)) -> 0 | P31: =IF($AC$2="Yes",ROUND((D31+H31)*0.1,0),IF($AC$2="No",0)) -> 0 | AD31: =SUM(O31:AC31) -> 0 | AE31: =N31-AD31 -> 0
C32: Salary Arrear 2 | J32: =IF($AC$2="Yes",ROUND((D32+H32)*0.1,0),IF($AC$2="No",0)) -> 0 | O32: =IF($AC$2="Yes",ROUND((D32+H32)*0.1,0),IF($AC$2="No",IF(D32<23101,1450,IF(D32<28501,1625,IF(D32<38501,2100,IF(D32<51501,2850,IF(D32<62001,3575,IF(D32<72001,4200,IF(D32<80001,4800,IF(D32<116001,6150,IF(D32<167001,8900,10500))))))))),0)) -> 0 | P32: =IF($AC$2="Yes",ROUND((D32+H32)*0.1,0),IF($AC$2="No",0)) -> 0 | AD32: =SUM(O32:AC32) -> 0 | AE32: =N32-AD32 -> 0
C33: Extra Sallary | J33: =IF($AC$2="Yes",ROUND((D33+H33)*0.1,0),IF($AC$2="No",0)) -> 0 | N33: =SUM(D33:M33) -> 0 | O33: =IF($AC$2="Yes",ROUND((D33+H33)*0.1,0),IF($AC$2="No",IF(D33<23101,1450,IF(D33<28501,1625,IF(D33<38501,2100,IF(D33<51501,2850,IF(D33<62001,3575,IF(D33<72001,4200,IF(D33<80001,4800,IF(D33<116001,6150,IF(D33<167001,8900,10500))))))))),0)) -> 0 | P33: =IF($AC$2="Yes",ROUND((D33+H33)*0.1,0),IF($AC$2="No",0)) -> 0 | Z33: =ROUNDUP(N33*0.2,-1) -> 0 | AA33: =AA30 -> 0 | AC33: =AC30 -> 0 | AD33: =SUM(O33:AC33) -> 0 | AE33: =N33-AD33 -> 0
C34: TOTAL | D34: =SUM(D13:D33) -> 591503 | E34: =SUM(E13:E33) -> 0 | F34: =SUM(F13:F33) -> 0 | G34: =SUM(G13:G33) -> 0 | H34: =SUM(H13:H33) -> 119719 | I34: =SUM(I13:I33) -> 44810 | J34: =SUM(J13:J33) -> 67565 | K34: =SUM(K13:K33) -> 0 | ... AE34: =SUM(AE13:AE33) -> 611580
E39: Signature of Employee | AE39: Signature of DDO

Sheet Other Deduction
A1: osru ds vfrfjDr dVkSfr;k¡] vk;@tek jkf'k ,oa NwV dk fooj.k
A2: ='Master Data'!D10& " , " &'Master Data'!I10&" PAN- "&'Master Data'!Q10 -> PARMANAND MEGHWAL , DESIGNATION PAN-
A3: 1- edku fdjk;k HkRrk ¼ NwV tks ysuh gS½ | B3: 0 | D3: 17- cpr [kkrs dh tek jkf'k ij izkIr C;kt (80 TTA/80 TTB) gsrq | E3: 0 | F3: BASIC+D.A. | DR3: UPS Kuhada Khurd
A4: 2- euksjatu Hkrk /kkjk 16 ¼ii½ ds vUrxZr | B4: 0 | D4: 18- vU; vk; ¼,Q Mh ij C;kt] vU; C;kt ;k vU; L=ks+= ls vk; vkfn dk ;ksx½ | E4: 0 | F4: ='Master Data'!N34-'Master Data'!I34 -> 778787
A5: 3- O;o;k; dj /kkjk 16 ¼iii½ ds vUrxrZ | B5: 0 | D5: 19- vU; tek jkf'k ¼/kkjk 80 lh ds vUrxZr½ | E5: 0 | F5: Taxable Amt
A6: 4- x`g lEifr ls izkIr fdjk;k & vk; | B6: 0 | D6: 20- /kkjk 80CCC - isa'ku Iyku gsrq va'knku ¼,u-ih-,l- ds avykok½ | E6: 0 | F6: ='Tax Calculation (Old)'!Q47 -> 561830
A7: 5- x`gdj | B7: 0 | D7: 21- /kkjk 80CCD(1B) -uohu isa'ku ;kstuk esa vfrfjDr va'knku ¼vf/kdre :- 50]000½ | E7: 0 | F7: Tax Deposited
A8: 6- x`g _.k fdLr ewy ¼tks osru ls ugha dkVk x;k½ | B8: 0 | D8: 22- /kkjk 80D - fpfdRlk chek izhfe;e ¼lkekU; 25000] ofj"B ukxfjd 50000½ | E8: 0 | F8: ='Master Data'!Z34 -> 0
A9: 7- x`g _.k fdLr C;kt ¼tks osru ls ugha dkVk x;k½ | B9: 0 | D9: 23- /kkjk 80DD - fodykax vkfJrksa ds fpfdRlk mipkj¼vf/kdre 75000] 80% fodykaxrk 125000½ | E9: 0 | F9: Rebate Under Section 80C, 80CCC, 80CCD(1)
A10: 8- thou chek izhfe;e ¼tks osru ls ugh dkVk x;k½ LIC | B10: 0 | D10: 24- /kkjk 80DDB - fof'k"V jksxksa ds mipkj gsrq dVkSrh ¼lkekU; 40000] ofj"B ukxfjd 1 yk[k½ | E10: 0 | DR10: UPS Banediya Charnan
A11: 9- ih-,y-vkbZ- (PLI) | B11: 0 | D11: 25- /kkjk 80E - mPp f'k{kk gsrq fy, _.k dk C;kt ¼/kkjk 80E½ | E11: 0 | DR11: UPS Laxmipura Dhakaran
A12: 10- V;w'ku Qhl (Tution Fees) | B12: 0 | D12: 26- /kkjk 80G - /kekZFkZ laLFkkvksa vkfn dks fn;s nku ¼d Js.kh 100% ,oa [k Js.kh 50%½ | E12: ='Master Data'!AC34 -> 8660 | F12: ='Tax Calculation (Old)'!Q31 -> 135542 | DR12: UPS Pathraj Kala
A13: 11- ;w- ,y- vkbZ- ih-@okf"kZd Iyku | B13: 0 | D13: 27- /kkjk 80U - LFkkbZ 'kkjhfjd fodykaxrk ¼vf/kdre 75000] 80% fodykaxrk 125000½ | E13: 0
A14: 12- jk"Vªh; cpr i= (NSC) | B14: 0 | D14: 28- /kkjk 80 GGA - vuqeksfnr oSKkfud]lkekftd]xzkeh.k fodkl vkfn gsrq fn;k x;k nku | E14: 0 | F14: edku fdjk;k NwV ds fy, jlhn dh vko';drk | DR14: PS Aarampura
A15: 13- jk"Vªh; cpr i= ij vnr C;kt | B15: 0 | D15: 29- bfDoVh fyad lsfoax Ldhe | E15: 0 | DR15: UPS Laxmipura Dhakaran
A16: 14- yksd Hkfo"; fuf/k (PPF) | B16: 0 | D16: 30- LFkfxr okf"kZdh | E16: 0 | DR16: UPS Raghunathpura
A17: 15- jk"Vªh; cpr Ldhe | B17: 0 | D17: 31- jkgr /kkjk 89 ds rgr | E17: 0 | F17: =ROUND((F4*10%+F19),0) -> 122689 | DR17: UPS Manda
A18: 16- lqdU;k le`f) ;kstuk (SSY) | B18: 0 | D18: 32- osru fcy ds vykok tek djk;k x;k aavk;dj (TDS) | E18: 0 | DR18: UPS Sandla
A19: ='Tax Calculation (Old)'!B63 -> Income Tax Payable | D19: ='Tax Calculation (Old)'!Q63 -> 25861 | E19: HRA | F19: ='Master Data'!I34 -> 44810 | DR19: UPS Ramsinghpura
A20: ="Total Rebate of (US 80C, 80CCC,80CCD(1)) = "&'Tax Calculation (Old)'!Q31 -> Total Rebate of (US 80C, 80CCC,80CCD(1)) = 135542 | D20: ="Investable Amount = "&(150000-'Tax Calculation (Old)'!Q31) -> Investable Amount = 14458 | DR20: GSS Ganeshganj
A21: WWW.RAJTEACHERS.NET

Sheet Tax Calculation (Old)
B1: ='Master Data'!C8 -> GOVT SR. SEC SCHOOL DILOD HATHI, ATRU BARAN
B2: vk;dj x.kuk izi= o"kZ 2020&2021 ¼dj fu/kkZj.k o"kZ 2021&2022½
B3: 1 | C3: uke deZpkjh % | E3: ='Master Data'!D10 -> PARMANAND MEGHWAL | K3: in % | L3: ='Master Data'!P10 -> SENIOR TEACHER | O3: PAN : | P3: =IF('Master Data'!W10="","",'Master Data'!W10) -> ABCD1122D
B4: 2 | C4: vk; % o"kZ&2020&21 esa izkIr dqy osru ¼ dj ;ksX; lqfo/kkvksa ds eqY; lfgr ½ | P4: #- | Q4: ='Master Data'!N34 -> 823597
B5: 3 | C5: x`g fdjk;k] /kkjk 10¼13&A½ ds vUrxrZ ,oa /kkjk 10¼14½ds vUrxrZ vU; Hkrs tks dj eqDÙk gSA | P5: #- | Q5: ='Other Deduction'!B3 -> 0
B6: 4 | C6: 'ks"k ¼2&3½ | P6: #- | Q6: =Q4-Q5 -> 823597
B7: 5 | C7: ¼i½euksjatu Hkrk /kkjk 16 ¼ii½ ds vUrxrZ ¼ vf/kdre lhek : 5000 ½ | M7: ='Other Deduction'!B4 -> 0
C8: ¼ii½ O;o;k; dj /kkjk 16 ¼iii½ ds vUrxrZ | M8: ='Other Deduction'!B5 -> 0
C9: ¼iiI½ LVs.MMZ fMMsD'ku (Standard Deduction) 50]000 ¼vf/kdre½ | M9: =IF(Q6<50000,Q6,50000) -> 50000 | P9: #- | Q9: =SUM(M7:O9) -> 50000
B10: 6 | C10: 'ks"k ¼4&5½ | P10: #- | Q10: =Q6-Q9 -> 773597
B11: 7 | C11: ¼v½x`g lEifr ls vk;%¼1½ Loa; ds mi;ksx esa &'kwU; | K11: ¼2½ izkIr fdjk;k #- | M11: ='Other Deduction'!B6 -> 0
C12: ¼c½ ?kVk;sa | E12: fdjk;s dk 30% | H12: x`g _.k ij C;kt | K12: x`gdj | M12: ;ksx 7¼c½
E13: =ROUND(M11*0.3,0) -> 0 | H13: =IF(('Master Data'!Y34+'Other Deduction'!B9)>200000,200000,('Master Data'!Y34+'Other Deduction'!B9)) -> 0 | K13: ='Other Deduction'!B7 -> 0 | M13: =E13+H13+K13 -> 0
C14: 'ks"k &@$¼7¼v½ ,oa ;ksx 7¼c½ dk½ | P14: #- | Q14: =M11-M13 -> 0
B15: 8 | C15: dqy 'ks"k &@$¼6,oa 7½ | P15: #- | Q15: =Q10+Q14 -> 773597
B16: 9 | C16: vU; vk; | P16: #- | Q16: ='Other Deduction'!E3+'Other Deduction'!E4 -> 0
B17: 10 | C17: ldy vk; ;ksx ¼8$9½ | P17: #- | Q17: =Q15+Q16 -> 773597
B18: 11 | C18: ?kVkb;s dVkSSfr;k¡ %& /kkjk US 80C, 80CCC,80CCD (1)
C19: (A) vf/kdre lhek 1]50]000@& ¼/kkjk 80CCE ½ ] ¼/kkjk 80CCD (2), ds vykok
C20: (i) | D20: jkT; chek ¼SI) | H20: #- | I20: ='Master Data'!R34+'Master Data'!S34 -> 26400 | J20: (x) | K20: ljdkjh isa'ku ;kstuk esa va'knku ECPF vf/kdre osru dk 10%¼/kkjk 80ccd½ | N20: #- | O20: =IF('Master Data'!AC2="Yes",'Master Data'!P34,0)-Q33 -> 67565
C21: (ii) | D21: thou chek izhfe;e ¼LIC) | H21: #- | I21: ='Master Data'!V34+'Other Deduction'!B10 -> 36276 | J21: (xi) | K21: isa'ku Iyku gsrq va'knku¼/kkjk 80ccc½ | N21: #- | O21: ='Other Deduction'!E6 -> 0
C22: (iii) | D22: jk"Vªh; cpr i= ¼NSC) | H22: #- | I22: ='Other Deduction'!B14 -> 0 | J22: (xii) | K22: jk"Vªh; cpr i= ij vnr C;kt | N22: #- | O22: ='Other Deduction'!B15 -> 0
C23: (iv) | D23: yksd Hkfo"; fuf/k ¼PPF) | H23: #- | I23: ='Other Deduction'!B16 -> 0 | J23: (xiii) | K23: V;w'ku Qhl | N23: #- | O23: ='Other Deduction'!B12 -> 0
C24: (v) | D24: jk"Vªh; cpr Ldhe ¼NSS) | H24: #- | I24: ='Other Deduction'!B17 -> 0 | J24: (xiv) | K24: bfDoVh fyad lsfoax Ldhe | N24: #- | O24: ='Other Deduction'!E15 -> 0
C25: (vi) | D25: lkekU; izko/kk;h fuf/k ¼GPF) | H25: #- | I25: =IF('Master Data'!AC2="No",'Master Data'!P34,0) -> 0 | J25: (xv) | K25: LFkfxr okf"kZdh ¼Defferred Annuty) | N25: #- | O25: ='Other Deduction'!E16 -> 0
C26: (vii) | D26: lkewfgd chek izhfe;e ¼G.Ins.) | H26: #- | I26: =IF(OR('Master Data'!W14=0,'Master Data'!W14=""),0,220) -> 220 | J26: (xvi) | K26: ih-,y-vkbZ- ¼PLI) | N26: #- | O26: ='Other Deduction'!B11 -> 0
C27: (viii) | D27: ;w- ,y- vkbZ- ih-@okf"kZd Iyku | H27: #- | I27: ='Other Deduction'!B13 -> 0 | J27: (xvii) | K27: vU; tekjkf'k ¼/kkjk 80 lh ds vUrxZr½ | N27: #- | O27: ='Other Deduction'!E5 -> 0
C28: (ix) | D28: x`g _.k fdLr ¼HBA Premium) | H28: #- | I28: ='Master Data'!X34+'Other Deduction'!B8 -> 0 | J28: (xviii) | K28: lqdU;k le`f) ;kstuk esa tek jkf'k | N28: #- | O28: ='Other Deduction'!B18 -> 0
C29: (xix) | D29: GPF 2004 (NPS) | H29: #- | I29: =IF('Master Data'!AC2="Yes",'Master Data'!AA34,0) -> 5081 | N29: #-
C30: ;ksx ( i ls xviii ) | N30: #- | O30: =SUM(I20:I29)+SUM(O20:O29) -> 135542
C31: vf/kdre dVkSrh dh jkf'k 1-50 yk[k #i, rd | P31: #- | Q31: =IF(O30<150001,ROUND(O30,0),150000) -> 135542
C32: (B) ?kVkb;s& /kkjk 80CCD(2) fu;ksDrk }kjk isa'ku va'knku dh jkf'k ¼vf/kdre osru dk 10%) i`Fkd ls NwV | Q32: =IF('Master Data'!AC2="Yes",'Master Data'!P34,0) -> 67565
C33: (C) ?kVkb;s & /kkjk 80CCD (1B) uohu isa'ku ;kstuk esa vfrfjDr va'knku ¼vf/kdre :- 50]000) | P33: #- | Q33: =IF('Master Data'!AC2="Yes",'Other Deduction'!E7,0) -> 0
C34: ;ksx 11(A+B+C) | P34: #- | Q34: =SUM(Q31:Q33) -> 203107
B35: 12 | C35: vU; dVkSfr;k¡
C36: 1-/kkjk 80 D ,fpfdRlk chek izhfe;e ¼Lo;a]ifr@iRuh o cPpksa ds fy, : 25000] ekrk&firk ds fy, : 25000]lhfu;j flVhtu : 50000½ | P36: #- | Q36: ='Other Deduction'!E8 -> 0
C37: 2- /kkjk 80DD fodykax vkfJrksa ds fpfdRlk mipkj ¼vf/kdre 75]000 rFkk 80% ;k vf/kd fodykaxrk 125]000½ | P37: #- | Q37: ='Other Deduction'!E9 -> 0
C38: 3- /kkjk 80DDB fof'k"V jksaxksa ds mipkj gsrq dVkSrh ¼vf/kdre : 40]000] lhfu;j flVhtu gsrq : 100]000½ | P38: #- | Q38: ='Other Deduction'!E10 -> 0
C39: 4- /kkjk 80E mPp f'k{kk gsrq fy, _.k dk C;kt | P39: #- | Q39: ='Other Deduction'!E11 -> 0
C40: 5- /kkjk 80G /kekZFkZ laLFkkvksa vkfn dks fn;s nku ¼ d Js.kh esa 100 izfr'kr ,oa [k Js.kh esa 50 izfr'kr½ | P40: #- | Q40: ='Other Deduction'!E12 -> 8660
...

Sheet Tax Calculation (New)
B1: ='Master Data'!C8 -> GOVT SR. SEC SCHOOL DILOD HATHI, ATRU BARAN
B2: vk;dj x.kuk izi= o"kZ 2020&2021 ¼dj fu/kkZj.k o"kZ 2021&2022½
B3: 1 | C3: uke deZpkjh % | E3: ='Master Data'!D10 -> PARMANAND MEGHWAL | K3: in % | L3: ='Master Data'!P10 -> SENIOR TEACHER | O3: PAN : | P3: =IF('Master Data'!W10="","",'Master Data'!W10) -> ABCD1122D
B4: 2 | C4: vk; % o"kZ&2020&21 esa izkIr dqy osru ¼ dj ;ksX; lqfo/kkvksa ds eqY; lfgr ½ | P4: #- | Q4: ='Master Data'!N34 -> 823597
B5: 3 | C5: x`g fdjk;k] /kkjk 10¼13&A½ ds vUrxrZ ,oa /kkjk 10¼14½ds vUrxrZ vU; Hkrs tks dj eqDÙk gSA | P5: #- | Q5: 0
B6: 4 | C6: 'ks"k ¼2&3½ | P6: #- | Q6: =Q4-Q5 -> 823597
B7: 5 | C7: ¼i½euksjatu Hkrk /kkjk 16 ¼ii½ ds vUrxrZ ¼ vf/kdre lhek : 5000 ½ | M7: ='Other Deduction'!B4 -> 0
C8: ¼ii½ O;o;k; dj /kkjk 16 ¼iii½ ds vUrxrZ | M8: ='Other Deduction'!B5 -> 0
C9: ¼iiI½ LVs.MMZ fMMsD'ku (Standard Deduction) 50]000 ¼vf/kdre½ | M9: 0 | P9: #- | Q9: 0
B10: 6 | C10: 'ks"k ¼4&5½ | P10: #- | Q10: =Q6-Q9 -> 823597
B11: 7 | C11: ¼v½x`g lEifr ls vk;%¼1½ Loa; ds mi;ksx esa &'kwU; | K11: ¼2½ izkIr fdjk;k #- | M11: ='Other Deduction'!B6 -> 0
C12: ¼c½ ?kVk;sa | E12: fdjk;s dk 30% | H12: x`g _.k ij C;kt | K12: x`gdj | M12: ;ksx 7¼c½
E13: =ROUND(M11*0.3,0) -> 0 | H13: 0 | K13: ='Other Deduction'!B7 -> 0 | M13: =E13+H13+K13 -> 0
C14: 'ks"k &@$¼7¼v½ ,oa ;ksx 7¼c½ dk½ | P14: #- | Q14: =E13 -> 0
B15: 8 | C15: dqy 'ks"k &@$¼6,oa 7½ | P15: #- | Q15: =Q10+Q14 -> 823597
B16: 9 | C16: vU; vk; | P16: #- | Q16: ='Other Deduction'!E3+'Other Deduction'!E4 -> 0
B17: 10 | C17: ldy vk; ;ksx ¼8$9½ | P17: #- | Q17: =Q15+Q16 -> 823597
B18: 11 | C18: ?kVkb;s dVkSSfr;k¡ %& /kkjk US 80C, 80CCC,80CCD (1)
C19: (A) vf/kdre lhek 1]50]000@& ¼/kkjk 80CCE ½ ] ¼/kkjk 80CCD (2), ds vykok
C20: (i) | D20: jkT; chek ¼SI) | H20: #- | I20: ='Master Data'!R34+'Master Data'!S34 -> 26400 | J20: (x) | K20: ljdkjh isa'ku ;kstuk esa va'knku ECPF vf/kdre osru dk 10%¼/kkjk 80ccd½ | N20: #- | O20: =IF('Master Data'!AC2="Yes",'Master Data'!P34,0)-Q33 -> 67565
C21: (ii) | D21: thou chek izhfe;e ¼LIC) | H21: #- | I21: ='Master Data'!V34+'Other Deduction'!B10 -> 36276 | J21: (xi) | K21: isa'ku Iyku gsrq va'knku¼/kkjk 80ccc½ | N21: #- | O21: ='Other Deduction'!E6 -> 0
C22: (iii) | D22: jk"Vªh; cpr i= ¼NSC) | H22: #- | I22: ='Other Deduction'!B14 -> 0 | J22: (xii) | K22: jk"Vªh; cpr i= ij vnr C;kt | N22: #- | O22: ='Other Deduction'!B15 -> 0
C23: (iv) | D23: yksd Hkfo"; fuf/k ¼PPF) | H23: #- | I23: ='Other Deduction'!B16 -> 0 | J23: (xiii) | K23: V;w'ku Qhl | N23: #- | O23: ='Other Deduction'!B12 -> 0
C24: (v) | D24: jk"Vªh; cpr Ldhe ¼NSS) | H24: #- | I24: ='Other Deduction'!B17 -> 0 | J24: (xiv) | K24: bfDoVh fyad lsfoax Ldhe | N24: #- | O24: ='Other Deduction'!E15 -> 0
C25: (vi) | D25: lkekU; izko/kk;h fuf/k ¼GPF) | H25: #- | I25: =IF('Master Data'!AC2="No",'Master Data'!P34,0) -> 0 | J25: (xv) | K25: LFkfxr okf"kZdh ¼Defferred Annuty) | N25: #- | O25: ='Other Deduction'!E16 -> 0
C26: (vii) | D26: lkewfgd chek izhfe;e ¼G.Ins.) | H26: #- | I26: =IF(OR('Master Data'!W14=0,'Master Data'!W14=""),0,220) -> 220 | J26: (xvi) | K26: ih-,y-vkbZ- ¼PLI) | N26: #- | O26: ='Other Deduction'!B11 -> 0
C27: (viii) | D27: ;w- ,y- vkbZ- ih-@okf"kZd Iyku | H27: #- | I27: ='Other Deduction'!B13 -> 0 | J27: (xvii) | K27: vU; tekjkf'k ¼/kkjk 80 lh ds vUrxZr½ | N27: #- | O27: ='Other Deduction'!E5 -> 0
C28: (ix) | D28: x`g _.k fdLr ¼HBA Premium) | H28: #- | I28: ='Master Data'!X34+'Other Deduction'!B8 -> 0 | J28: (xviii) | K28: lqdU;k le`f) ;kstuk esa tek jkf'k | N28: #- | O28: ='Other Deduction'!B18 -> 0
C29: (xix) | D29: GPF 2004 (NPS) | H29: #- | I29: =IF('Master Data'!AC2="Yes",'Master Data'!AA34,0) -> 5081 | N29: #-
C30: ;ksx ( i ls xviii ) | N30: #- | O30: =SUM(I20:I29)+SUM(O20:O29) -> 135542
C31: vf/kdre dVkSrh dh jkf'k 1-50 yk[k #i, rd | P31: #- | Q31: 0
C32: (B) ?kVkb;s& /kkjk 80CCD(2) fu;ksDrk }kjk isa'ku va'knku dh jkf'k ¼vf/kdre osru dk 10%) i`Fkd ls NwV | Q32: =IF('Master Data'!AC2="Yes",'Master Data'!P34,0) -> 67565
C33: (C) ?kVkb;s & /kkjk 80CCD (1B) uohu isa'ku ;kstuk esa vfrfjDr va'knku ¼vf/kdre :- 50]000) | P33: #- | Q33: ='Other Deduction'!E7 -> 0
C34: ;ksx 11(A+B+C) | P34: #- | Q34: =SUM(Q31:Q33) -> 67565
B35: 12 | C35: vU; dVkSfr;k¡
C36: 1-/kkjk 80 D ,fpfdRlk chek izhfe;e ¼Lo;a]ifr@iRuh o cPpksa ds fy, : 25000] ekrk&firk ds fy, : 25000]lhfu;j flVhtu : 50000½ | P36: #- | Q36: ='Other Deduction'!E8 -> 0
C37: 2- /kkjk 80DD fodykax vkfJrksa ds fpfdRlk mipkj ¼vf/kdre 75]000 rFkk 80% ;k vf/kd fodykaxrk 125]000½ | P37: #- | Q37: ='Other Deduction'!E9 -> 0
C38: 3- /kkjk 80DDB fof'k"V jksaxksa ds mipkj gsrq dVkSrh ¼vf/kdre : 40]000] lhfu;j flVhtu gsrq : 100]000½ | P38: #- | Q38: ='Other Deduction'!E10 -> 0
C39: 4- /kkjk 80E mPp f'k{kk gsrq fy, _.k dk C;kt | P39: #- | Q39: ='Other Deduction'!E11 -> 0
C40: 5- /kkjk 80G /kekZFkZ laLFkkvksa vkfn dks fn;s nku ¼ d Js.kh esa 100 izfr'kr ,oa [k Js.kh esa 50 izfr'kr½ | P40: #- | Q40: 0
...

Sheet HRA Receipt
A1: RECEIPT OF HOUSE RENT
A3: (Under section 1 (13-A) of Income Tax Act)
I5: Date :- | J5: 11.12.2020
B7: I Owner
C8: Received with Thanks from Sri/Smt. | G8: ='Master Data'!D10 -> PARMANAND MEGHWAL | J8: ='Master Data'!P10 -> SENIOR TEACHER
B9: Address- | C9: ='Master Data'!C8:AF8 -> GOVT SR. SEC SCHOOL DILOD HATHI, ATRU BARAN
B10: The sum of | C10: Rs.= | D10: ='Other Deduction'!F17 -> 122689 | F10: In word Type Here | J10: Only
B11: Towards the House Rent @ Rs. = | E11: =D10/12 -> 10224.083 | F11: In word Type Here | J11: Only
B12: Per Month From :- | D12: April 2020 To March 2021
B14: Rs. = | C14: =D10 -> 122689
B16: Date:- | C16: =J5 -> 11.12.2020
H18: (Signature of House Owner)
H19: Name-
