Workbook

Sheet sub code 1,2,7,8,9,71
A1: jktdh; mPp ek/;fed fo|ky; fnyksn gkFkh ia-la- vV# ftyk ¼ckjka½
A2: l=kad 'khV l=~% 2019&2020
A3: d{kk%& 10 | K3: fo"k;%& | M3: Science
A4: dz- la- | B4: fo|kFkhZ dk uke | C4: d{kk jksy uEcj | D4: cksMZ jksy uEcj | E4: izFke ij[k | F4: f}rh; ij[k | G4: r`rh; ij[k | H4: v)Zokf"kZd | I4: dqy ;ksx v)Z okf"kZd rd | J4: fyf[kr l=kad | K4: dqy mifLFkfr | L4: fo|kFkhZ dh mifLFkfr | M4: mifLFkfr izfr'kr | N4: mifLFkfr l=kad | O4: izkstsDV | P4: O;ogkj | Q4: dqy l=kad
E7: 10 | F7: 10 | G7: 10 | H7: 70 | I7: 100 | J7: 10 | N7: 3 | O7: 5 | P7: 2 | Q7: 20
A8: 1 | B8: AAKASH HARIJAN | C8: 1001 | D8: 2136002 | E8: 10 | F8: 10 | G8: 10 | H8: 62 | I8: =SUM(E8:H8) -> 92
A9: 2 | B9: AARIF MOHAMMAD | C9: 1002 | D9: 2136003 | E9: 10 | F9: 10 | G9: 10 | H9: 65 | I9: =SUM(E9:H9) -> 95
A10: 3 | B10: ANKUR BHARATI | C10: 1003 | D10: 2136004 | E10: 10 | F10: 10 | G10: 10 | H10: 62 | I10: =SUM(E10:H10) -> 92
A11: 4 | B11: GOLU BAIRWA | C11: 1004 | D11: 2136005 | E11: 10 | F11: 10 | G11: 10 | H11: 61 | I11: =SUM(E11:H11) -> 91
A12: 5 | B12: GOLU BAIRWA | C12: 1005 | D12: 2136006 | E12: 10 | F12: 10 | G12: 10 | H12: 62 | I12: =SUM(E12:H12) -> 92
A13: 6 | B13: HARI OM MEENA | C13: 1006 | D13: 2136007 | E13: 10 | F13: 10 | G13: 10 | H13: 61 | I13: =SUM(E13:H13) -> 91
A14: 7 | B14: HARISHA MEENA | C14: 1007 | D14: 2136008 | E14: 10 | F14: 10 | G14: 10 | H14: 68 | I14: =SUM(E14:H14) -> 98
A15: 8 | B15: JYOTI MEENA | C15: 1008 | D15: 2136009 | E15: 10 | F15: 10 | G15: 10 | H15: 61 | I15: =SUM(E15:H15) -> 91
A16: 9 | B16: KARISHMA MEENA | C16: 1009 | D16: 2136010 | E16: 10 | F16: 10 | G16: 10 | H16: 63 | I16: =SUM(E16:H16) -> 93
A17: 10 | B17: LAXMI PARETA | C17: 1010 | D17: 2136011 | E17: 10 | F17: 10 | G17: 10 | H17: 65 | I17: =SUM(E17:H17) -> 95
A18: 11 | B18: MANISHA GURJAR | C18: 1011 | D18: 2136012 | E18: 10 | F18: 10 | G18: 10 | H18: 65 | I18: =SUM(E18:H18) -> 95
A19: 12 | B19: MANISHA GURJAR | C19: 1012 | D19: 2136013 | E19: 10 | F19: 10 | G19: 10 | H19: 65 | I19: =SUM(E19:H19) -> 95
... A25: 18 | B25: UJITA RATHOR | C25: 1018 | D25: 2136019 | E25: 10 | F25: 10 | G25: 10 | H25: 63 | I25: =SUM(E25:H25) -> 93
B29: gLrk{kj fo"k;k/;kid | E29: gLrk{kj ijh{kk izHkkjh | K29: gLrk{kj laaLFkk iz/kku

Sheet sub code 80,82
A1: jktdh; mPp ek/;fed fo|ky; fnyksn gkFkh ia-la- vV# ftyk ¼ckjka½
A2: ='sub code 1,2,7,8,9,71'!A2:P2 -> l=kad 'khV l=~% 2019&2020
A3: ='sub code 1,2,7,8,9,71'!A3:C3 -> d{kk%& 10 | E3: fo"k;%& | F3: Foundation Information technology
A4: dz-la- | B4: uke | C4: d{kk jksy uEcj | D4: cksMZ jksy uEcj | E4: izFke ij[k | F4: f}rh; ij[k | G4: r`rh; ij[k | H4: v)Z okf"kZd ijh{kk | J4: dqy | K4: xzsM
H5: lS)k- | I5: izk;ksa-
E6: 10 | F6: 10 | G6: 10 | H6: 50 | I6: 20 | J6: 100
A7: 1 | B7: =IF(AND('sub code 1,2,7,8,9,71'!B9=""),"",'sub code 1,2,7,8,9,71'!B9) -> AARIF MOHAMMAD | C7: =IF(AND('sub code 1,2,7,8,9,71'!C9=""),"",'sub code 1,2,7,8,9,71'!C9) -> 1002 | D7: =IF(AND('sub code 1,2,7,8,9,71'!D9=""),"",'sub code 1,2,7,8,9,71'!D9) -> 2136003 | K7: =IFERROR(IF(AND(J7=""),"",IF(AND(J7>80),"A",IF(AND(J7>60),"B",IF(AND(J7>40),"C",IF(AND(J7>=20),"D",IF(AND(J7<=0),"E","")))))),"")
A8: 2 | B8: =IF(AND('sub code 1,2,7,8,9,71'!B10=""),"",'sub code 1,2,7,8,9,71'!B10) -> ANKUR BHARATI | C8: =IF(AND('sub code 1,2,7,8,9,71'!C10=""),"",'sub code 1,2,7,8,9,71'!C10) -> 1003 | D8: =IF(AND('sub code 1,2,7,8,9,71'!D10=""),"",'sub code 1,2,7,8,9,71'!D10) -> 2136004 | K8: =IFERROR(IF(AND(J8=""),"",IF(AND(J8>80),"A",IF(AND(J8>60),"B",IF(AND(J8>40),"C",IF(AND(J8>=20),"D",IF(AND(J8<=0),"E","")))))),"")
A9: 3 | B9: =IF(AND('sub code 1,2,7,8,9,71'!B11=""),"",'sub code 1,2,7,8,9,71'!B11) -> GOLU BAIRWA | C9: =IF(AND('sub code 1,2,7,8,9,71'!C11=""),"",'sub code 1,2,7,8,9,71'!C11) -> 1004 | D9: =IF(AND('sub code 1,2,7,8,9,71'!D11=""),"",'sub code 1,2,7,8,9,71'!D11) -> 2136005 | K9: =IFERROR(IF(AND(J9=""),"",IF(AND(J9>80),"A",IF(AND(J9>60),"B",IF(AND(J9>40),"C",IF(AND(J9>=20),"D",IF(AND(J9<=0),"E","")))))),"")
A10: 4 | B10: =IF(AND('sub code 1,2,7,8,9,71'!B12=""),"",'sub code 1,2,7,8,9,71'!B12) -> GOLU BAIRWA | C10: =IF(AND('sub code 1,2,7,8,9,71'!C12=""),"",'sub code 1,2,7,8,9,71'!C12) -> 1005 | D10: =IF(AND('sub code 1,2,7,8,9,71'!D12=""),"",'sub code 1,2,7,8,9,71'!D12) -> 2136006 | K10: =IFERROR(IF(AND(J10=""),"",IF(AND(J10>80),"A",IF(AND(J10>60),"B",IF(AND(J10>40),"C",IF(AND(J10>=20),"D",IF(AND(J10<=0),"E","")))))),"")
A11: 5 | B11: =IF(AND('sub code 1,2,7,8,9,71'!B13=""),"",'sub code 1,2,7,8,9,71'!B13) -> HARI OM MEENA | C11: =IF(AND('sub code 1,2,7,8,9,71'!C13=""),"",'sub code 1,2,7,8,9,71'!C13) -> 1006 | D11: =IF(AND('sub code 1,2,7,8,9,71'!D13=""),"",'sub code 1,2,7,8,9,71'!D13) -> 2136007 | K11: =IFERROR(IF(AND(J11=""),"",IF(AND(J11>80),"A",IF(AND(J11>60),"B",IF(AND(J11>40),"C",IF(AND(J11>=20),"D",IF(AND(J11<=0),"E","")))))),"")
A12: 6 | B12: =IF(AND('sub code 1,2,7,8,9,71'!B14=""),"",'sub code 1,2,7,8,9,71'!B14) -> HARISHA MEENA | C12: =IF(AND('sub code 1,2,7,8,9,71'!C14=""),"",'sub code 1,2,7,8,9,71'!C14) -> 1007 | D12: =IF(AND('sub code 1,2,7,8,9,71'!D14=""),"",'sub code 1,2,7,8,9,71'!D14) -> 2136008 | K12: =IFERROR(IF(AND(J12=""),"",IF(AND(J12>80),"A",IF(AND(J12>60),"B",IF(AND(J12>40),"C",IF(AND(J12>=20),"D",IF(AND(J12<=0),"E","")))))),"")
A13: 7 | B13: =IF(AND('sub code 1,2,7,8,9,71'!B15=""),"",'sub code 1,2,7,8,9,71'!B15) -> JYOTI MEENA | C13: =IF(AND('sub code 1,2,7,8,9,71'!C15=""),"",'sub code 1,2,7,8,9,71'!C15) -> 1008 | D13: =IF(AND('sub code 1,2,7,8,9,71'!D15=""),"",'sub code 1,2,7,8,9,71'!D15) -> 2136009 | K13: =IFERROR(IF(AND(J13=""),"",IF(AND(J13>80),"A",IF(AND(J13>60),"B",IF(AND(J13>40),"C",IF(AND(J13>=20),"D",IF(AND(J13<=0),"E","")))))),"")
A14: 8 | B14: =IF(AND('sub code 1,2,7,8,9,71'!B16=""),"",'sub code 1,2,7,8,9,71'!B16) -> KARISHMA MEENA | C14: =IF(AND('sub code 1,2,7,8,9,71'!C16=""),"",'sub code 1,2,7,8,9,71'!C16) -> 1009 | D14: =IF(AND('sub code 1,2,7,8,9,71'!D16=""),"",'sub code 1,2,7,8,9,71'!D16) -> 2136010 | K14: =IFERROR(IF(AND(J14=""),"",IF(AND(J14>80),"A",IF(AND(J14>60),"B",IF(AND(J14>40),"C",IF(AND(J14>=20),"D",IF(AND(J14<=0),"E","")))))),"")
A15: 9 | B15: =IF(AND('sub code 1,2,7,8,9,71'!B17=""),"",'sub code 1,2,7,8,9,71'!B17) -> LAXMI PARETA | C15: =IF(AND('sub code 1,2,7,8,9,71'!C17=""),"",'sub code 1,2,7,8,9,71'!C17) -> 1010 | D15: =IF(AND('sub code 1,2,7,8,9,71'!D17=""),"",'sub code 1,2,7,8,9,71'!D17) -> 2136011 | K15: =IFERROR(IF(AND(J15=""),"",IF(AND(J15>80),"A",IF(AND(J15>60),"B",IF(AND(J15>40),"C",IF(AND(J15>=20),"D",IF(AND(J15<=0),"E","")))))),"")
A16: 10 | B16: =IF(AND('sub code 1,2,7,8,9,71'!B18=""),"",'sub code 1,2,7,8,9,71'!B18) -> MANISHA GURJAR | C16: =IF(AND('sub code 1,2,7,8,9,71'!C18=""),"",'sub code 1,2,7,8,9,71'!C18) -> 1011 | D16: =IF(AND('sub code 1,2,7,8,9,71'!D18=""),"",'sub code 1,2,7,8,9,71'!D18) -> 2136012 | K16: =IFERROR(IF(AND(J16=""),"",IF(AND(J16>80),"A",IF(AND(J16>60),"B",IF(AND(J16>40),"C",IF(AND(J16>=20),"D",IF(AND(J16<=0),"E","")))))),"")
A17: 11 | B17: =IF(AND('sub code 1,2,7,8,9,71'!B19=""),"",'sub code 1,2,7,8,9,71'!B19) -> MANISHA GURJAR | C17: =IF(AND('sub code 1,2,7,8,9,71'!C19=""),"",'sub code 1,2,7,8,9,71'!C19) -> 1012 | D17: =IF(AND('sub code 1,2,7,8,9,71'!D19=""),"",'sub code 1,2,7,8,9,71'!D19) -> 2136013 | K17: =IFERROR(IF(AND(J17=""),"",IF(AND(J17>80),"A",IF(AND(J17>60),"B",IF(AND(J17>40),"C",IF(AND(J17>=20),"D",IF(AND(J17<=0),"E","")))))),"")
A18: 12 | B18: =IF(AND('sub code 1,2,7,8,9,71'!B20=""),"",'sub code 1,2,7,8,9,71'!B20) -> MOHIT MEENA | C18: =IF(AND('sub code 1,2,7,8,9,71'!C20=""),"",'sub code 1,2,7,8,9,71'!C20) -> 1013 | D18: =IF(AND('sub code 1,2,7,8,9,71'!D20=""),"",'sub code 1,2,7,8,9,71'!D20) -> 2136014 | K18: =IFERROR(IF(AND(J18=""),"",IF(AND(J18>80),"A",IF(AND(J18>60),"B",IF(AND(J18>40),"C",IF(AND(J18>=20),"D",IF(AND(J18<=0),"E","")))))),"")
... A23: 17 | B23: =IF(AND('sub code 1,2,7,8,9,71'!B25=""),"",'sub code 1,2,7,8,9,71'!B25) -> UJITA RATHOR | C23: =IF(AND('sub code 1,2,7,8,9,71'!C25=""),"",'sub code 1,2,7,8,9,71'!C25) -> 1018 | D23: =IF(AND('sub code 1,2,7,8,9,71'!D25=""),"",'sub code 1,2,7,8,9,71'!D25) -> 2136019 | K23: =IFERROR(IF(AND(J23=""),"",IF(AND(J23>80),"A",IF(AND(J23>60),"B",IF(AND(J23>40),"C",IF(AND(J23>=20),"D",IF(AND(J23<=0),"E","")))))),"")
A26: gLrk{kj fo"k;k/;kid | C26: gLrk{kj ijh{kk izHkkjh | G26: gLrk{kj laaLFkk iz/kku

Sheet SUPW
A1: jktdh; mPp ek/;fed fo|ky; fnyksn gkFkh ia-la- vV# ftyk ¼ckjka½
A2: ='sub code 1,2,7,8,9,71'!A2:P2 -> l=kad 'khV l=~% 2019&2020
A3: ='sub code 1,2,7,8,9,71'!A3:C3 -> d{kk%& 10 | E3: fo"k;%&
A4: dz-la- | B4: uke | C4: d{kk jksy uEcj | D4: cksMZ jksy uEcj | E4: izFke ij[k | F4: v)Z okf"kZd ijh{kk | H4: dqy | I4: xzsM
F5: eksf[kd | G5: izk;ksa-
E6: 25 (Or.) | F6: 30 (Or.) | G6: 45 | H6: 100
A7: 1 | B7: =IF(AND('sub code 1,2,7,8,9,71'!B9=""),"",'sub code 1,2,7,8,9,71'!B9) -> AARIF MOHAMMAD | C7: =IF(AND('sub code 1,2,7,8,9,71'!C9=""),"",'sub code 1,2,7,8,9,71'!C9) -> 1002 | D7: =IF(AND('sub code 1,2,7,8,9,71'!D9=""),"",'sub code 1,2,7,8,9,71'!D9) -> 2136003 | I7: =IFERROR(IF(AND(H7=""),"",IF(AND(H7>80),"A",IF(AND(H7>60),"B",IF(AND(H7>40),"C",IF(AND(H7>=20),"D",IF(AND(H7<=0),"E","")))))),"")
A8: 2 | B8: =IF(AND('sub code 1,2,7,8,9,71'!B10=""),"",'sub code 1,2,7,8,9,71'!B10) -> ANKUR BHARATI | C8: =IF(AND('sub code 1,2,7,8,9,71'!C10=""),"",'sub code 1,2,7,8,9,71'!C10) -> 1003 | D8: =IF(AND('sub code 1,2,7,8,9,71'!D10=""),"",'sub code 1,2,7,8,9,71'!D10) -> 2136004 | I8: =IFERROR(IF(AND(H8=""),"",IF(AND(H8>80),"A",IF(AND(H8>60),"B",IF(AND(H8>40),"C",IF(AND(H8>=20),"D",IF(AND(H8<=0),"E","")))))),"")
A9: 3 | B9: =IF(AND('sub code 1,2,7,8,9,71'!B11=""),"",'sub code 1,2,7,8,9,71'!B11) -> GOLU BAIRWA | C9: =IF(AND('sub code 1,2,7,8,9,71'!C11=""),"",'sub code 1,2,7,8,9,71'!C11) -> 1004 | D9: =IF(AND('sub code 1,2,7,8,9,71'!D11=""),"",'sub code 1,2,7,8,9,71'!D11) -> 2136005 | I9: =IFERROR(IF(AND(H9=""),"",IF(AND(H9>80),"A",IF(AND(H9>60),"B",IF(AND(H9>40),"C",IF(AND(H9>=20),"D",IF(AND(H9<=0),"E","")))))),"")
A10: 4 | B10: =IF(AND('sub code 1,2,7,8,9,71'!B12=""),"",'sub code 1,2,7,8,9,71'!B12) -> GOLU BAIRWA | C10: =IF(AND('sub code 1,2,7,8,9,71'!C12=""),"",'sub code 1,2,7,8,9,71'!C12) -> 1005 | D10: =IF(AND('sub code 1,2,7,8,9,71'!D12=""),"",'sub code 1,2,7,8,9,71'!D12) -> 2136006 | I10: =IFERROR(IF(AND(H10=""),"",IF(AND(H10>80),"A",IF(AND(H10>60),"B",IF(AND(H10>40),"C",IF(AND(H10>=20),"D",IF(AND(H10<=0),"E","")))))),"")
A11: 5 | B11: =IF(AND('sub code 1,2,7,8,9,71'!B13=""),"",'sub code 1,2,7,8,9,71'!B13) -> HARI OM MEENA | C11: =IF(AND('sub code 1,2,7,8,9,71'!C13=""),"",'sub code 1,2,7,8,9,71'!C13) -> 1006 | D11: =IF(AND('sub code 1,2,7,8,9,71'!D13=""),"",'sub code 1,2,7,8,9,71'!D13) -> 2136007 | I11: =IFERROR(IF(AND(H11=""),"",IF(AND(H11>80),"A",IF(AND(H11>60),"B",IF(AND(H11>40),"C",IF(AND(H11>=20),"D",IF(AND(H11<=0),"E","")))))),"")
A12: 6 | B12: =IF(AND('sub code 1,2,7,8,9,71'!B14=""),"",'sub code 1,2,7,8,9,71'!B14) -> HARISHA MEENA | C12: =IF(AND('sub code 1,2,7,8,9,71'!C14=""),"",'sub code 1,2,7,8,9,71'!C14) -> 1007 | D12: =IF(AND('sub code 1,2,7,8,9,71'!D14=""),"",'sub code 1,2,7,8,9,71'!D14) -> 2136008 | I12: =IFERROR(IF(AND(H12=""),"",IF(AND(H12>80),"A",IF(AND(H12>60),"B",IF(AND(H12>40),"C",IF(AND(H12>=20),"D",IF(AND(H12<=0),"E","")))))),"")
A13: 7 | B13: =IF(AND('sub code 1,2,7,8,9,71'!B15=""),"",'sub code 1,2,7,8,9,71'!B15) -> JYOTI MEENA | C13: =IF(AND('sub code 1,2,7,8,9,71'!C15=""),"",'sub code 1,2,7,8,9,71'!C15) -> 1008 | D13: =IF(AND('sub code 1,2,7,8,9,71'!D15=""),"",'sub code 1,2,7,8,9,71'!D15) -> 2136009 | I13: =IFERROR(IF(AND(H13=""),"",IF(AND(H13>80),"A",IF(AND(H13>60),"B",IF(AND(H13>40),"C",IF(AND(H13>=20),"D",IF(AND(H13<=0),"E","")))))),"")
A14: 8 | B14: =IF(AND('sub code 1,2,7,8,9,71'!B16=""),"",'sub code 1,2,7,8,9,71'!B16) -> KARISHMA MEENA | C14: =IF(AND('sub code 1,2,7,8,9,71'!C16=""),"",'sub code 1,2,7,8,9,71'!C16) -> 1009 | D14: =IF(AND('sub code 1,2,7,8,9,71'!D16=""),"",'sub code 1,2,7,8,9,71'!D16) -> 2136010 | I14: =IFERROR(IF(AND(H14=""),"",IF(AND(H14>80),"A",IF(AND(H14>60),"B",IF(AND(H14>40),"C",IF(AND(H14>=20),"D",IF(AND(H14<=0),"E","")))))),"")
A15: 9 | B15: =IF(AND('sub code 1,2,7,8,9,71'!B17=""),"",'sub code 1,2,7,8,9,71'!B17) -> LAXMI PARETA | C15: =IF(AND('sub code 1,2,7,8,9,71'!C17=""),"",'sub code 1,2,7,8,9,71'!C17) -> 1010 | D15: =IF(AND('sub code 1,2,7,8,9,71'!D17=""),"",'sub code 1,2,7,8,9,71'!D17) -> 2136011 | I15: =IFERROR(IF(AND(H15=""),"",IF(AND(H15>80),"A",IF(AND(H15>60),"B",IF(AND(H15>40),"C",IF(AND(H15>=20),"D",IF(AND(H15<=0),"E","")))))),"")
A16: 10 | B16: =IF(AND('sub code 1,2,7,8,9,71'!B18=""),"",'sub code 1,2,7,8,9,71'!B18) -> MANISHA GURJAR | C16: =IF(AND('sub code 1,2,7,8,9,71'!C18=""),"",'sub code 1,2,7,8,9,71'!C18) -> 1011 | D16: =IF(AND('sub code 1,2,7,8,9,71'!D18=""),"",'sub code 1,2,7,8,9,71'!D18) -> 2136012 | I16: =IFERROR(IF(AND(H16=""),"",IF(AND(H16>80),"A",IF(AND(H16>60),"B",IF(AND(H16>40),"C",IF(AND(H16>=20),"D",IF(AND(H16<=0),"E","")))))),"")
A17: 11 | B17: =IF(AND('sub code 1,2,7,8,9,71'!B19=""),"",'sub code 1,2,7,8,9,71'!B19) -> MANISHA GURJAR | C17: =IF(AND('sub code 1,2,7,8,9,71'!C19=""),"",'sub code 1,2,7,8,9,71'!C19) -> 1012 | D17: =IF(AND('sub code 1,2,7,8,9,71'!D19=""),"",'sub code 1,2,7,8,9,71'!D19) -> 2136013 | I17: =IFERROR(IF(AND(H17=""),"",IF(AND(H17>80),"A",IF(AND(H17>60),"B",IF(AND(H17>40),"C",IF(AND(H17>=20),"D",IF(AND(H17<=0),"E","")))))),"")
A18: 12 | B18: =IF(AND('sub code 1,2,7,8,9,71'!B20=""),"",'sub code 1,2,7,8,9,71'!B20) -> MOHIT MEENA | C18: =IF(AND('sub code 1,2,7,8,9,71'!C20=""),"",'sub code 1,2,7,8,9,71'!C20) -> 1013 | D18: =IF(AND('sub code 1,2,7,8,9,71'!D20=""),"",'sub code 1,2,7,8,9,71'!D20) -> 2136014 | I18: =IFERROR(IF(AND(H18=""),"",IF(AND(H18>80),"A",IF(AND(H18>60),"B",IF(AND(H18>40),"C",IF(AND(H18>=20),"D",IF(AND(H18<=0),"E","")))))),"")
... A23: 17 | B23: =IF(AND('sub code 1,2,7,8,9,71'!B25=""),"",'sub code 1,2,7,8,9,71'!B25) -> UJITA RATHOR | C23: =IF(AND('sub code 1,2,7,8,9,71'!C25=""),"",'sub code 1,2,7,8,9,71'!C25) -> 1018 | D23: =IF(AND('sub code 1,2,7,8,9,71'!D25=""),"",'sub code 1,2,7,8,9,71'!D25) -> 2136019 | I23: =IFERROR(IF(AND(H23=""),"",IF(AND(H23>80),"A",IF(AND(H23>60),"B",IF(AND(H23>40),"C",IF(AND(H23>=20),"D",IF(AND(H23<=0),"E","")))))),"")
A26: gLrk{kj fo"k;k/;kid | C26: gLrk{kj ijh{kk izHkkjh

Sheet Art Edu
A1: jktdh; mPp ek/;fed fo|ky; fnyksn gkFkh ia-la- vV# ftyk ¼ckjka½
A2: ='sub code 1,2,7,8,9,71'!A2:P2 -> l=kad 'khV l=~% 2019&2020
A3: ='sub code 1,2,7,8,9,71'!A3:C3 -> d{kk%& 10 | E3: fo"k;%&
A4: dz-la- | B4: uke | C4: d{kk jksy uEcj | D4: cksMZ jksy uEcj | E4: izFke ij[k | F4: r`rh; ij[k | G4: v)Z okf"kZd ijh{kk | I4: dqy | J4: xzsM
G5: eksf[kd | H5: izk;ksa-
E6: 25 (Or.) | F6: 30 (Or.) | G6: 15 (Or.) | H6: 30 | I6: 100
A7: 1 | B7: =IF(AND('sub code 1,2,7,8,9,71'!B9=""),"",'sub code 1,2,7,8,9,71'!B9) -> AARIF MOHAMMAD | C7: =IF(AND('sub code 1,2,7,8,9,71'!C9=""),"",'sub code 1,2,7,8,9,71'!C9) -> 1002 | D7: =IF(AND('sub code 1,2,7,8,9,71'!D9=""),"",'sub code 1,2,7,8,9,71'!D9) -> 2136003 | J7: =IFERROR(IF(AND(I7=""),"",IF(AND(I7>80),"A",IF(AND(I7>60),"B",IF(AND(I7>40),"C",IF(AND(I7>=20),"D",IF(AND(I7<=0),"E","")))))),"")
A8: 2 | B8: =IF(AND('sub code 1,2,7,8,9,71'!B10=""),"",'sub code 1,2,7,8,9,71'!B10) -> ANKUR BHARATI | C8: =IF(AND('sub code 1,2,7,8,9,71'!C10=""),"",'sub code 1,2,7,8,9,71'!C10) -> 1003 | D8: =IF(AND('sub code 1,2,7,8,9,71'!D10=""),"",'sub code 1,2,7,8,9,71'!D10) -> 2136004 | J8: =IFERROR(IF(AND(I8=""),"",IF(AND(I8>80),"A",IF(AND(I8>60),"B",IF(AND(I8>40),"C",IF(AND(I8>=20),"D",IF(AND(I8<=0),"E","")))))),"")
A9: 3 | B9: =IF(AND('sub code 1,2,7,8,9,71'!B11=""),"",'sub code 1,2,7,8,9,71'!B11) -> GOLU BAIRWA | C9: =IF(AND('sub code 1,2,7,8,9,71'!C11=""),"",'sub code 1,2,7,8,9,71'!C11) -> 1004 | D9: =IF(AND('sub code 1,2,7,8,9,71'!D11=""),"",'sub code 1,2,7,8,9,71'!D11) -> 2136005 | J9: =IFERROR(IF(AND(I9=""),"",IF(AND(I9>80),"A",IF(AND(I9>60),"B",IF(AND(I9>40),"C",IF(AND(I9>=20),"D",IF(AND(I9<=0),"E","")))))),"")
A10: 4 | B10: =IF(AND('sub code 1,2,7,8,9,71'!B12=""),"",'sub code 1,2,7,8,9,71'!B12) -> GOLU BAIRWA | C10: =IF(AND('sub code 1,2,7,8,9,71'!C12=""),"",'sub code 1,2,7,8,9,71'!C12) -> 1005 | D10: =IF(AND('sub code 1,2,7,8,9,71'!D12=""),"",'sub code 1,2,7,8,9,71'!D12) -> 2136006 | J10: =IFERROR(IF(AND(I10=""),"",IF(AND(I10>80),"A",IF(AND(I10>60),"B",IF(AND(I10>40),"C",IF(AND(I10>=20),"D",IF(AND(I10<=0),"E","")))))),"")
A11: 5 | B11: =IF(AND('sub code 1,2,7,8,9,71'!B13=""),"",'sub code 1,2,7,8,9,71'!B13) -> HARI OM MEENA | C11: =IF(AND('sub code 1,2,7,8,9,71'!C13=""),"",'sub code 1,2,7,8,9,71'!C13) -> 1006 | D11: =IF(AND('sub code 1,2,7,8,9,71'!D13=""),"",'sub code 1,2,7,8,9,71'!D13) -> 2136007 | J11: =IFERROR(IF(AND(I11=""),"",IF(AND(I11>80),"A",IF(AND(I11>60),"B",IF(AND(I11>40),"C",IF(AND(I11>=20),"D",IF(AND(I11<=0),"E","")))))),"")
A12: 6 | B12: =IF(AND('sub code 1,2,7,8,9,71'!B14=""),"",'sub code 1,2,7,8,9,71'!B14) -> HARISHA MEENA | C12: =IF(AND('sub code 1,2,7,8,9,71'!C14=""),"",'sub code 1,2,7,8,9,71'!C14) -> 1007 | D12: =IF(AND('sub code 1,2,7,8,9,71'!D14=""),"",'sub code 1,2,7,8,9,71'!D14) -> 2136008 | J12: =IFERROR(IF(AND(I12=""),"",IF(AND(I12>80),"A",IF(AND(I12>60),"B",IF(AND(I12>40),"C",IF(AND(I12>=20),"D",IF(AND(I12<=0),"E","")))))),"")
A13: 7 | B13: =IF(AND('sub code 1,2,7,8,9,71'!B15=""),"",'sub code 1,2,7,8,9,71'!B15) -> JYOTI MEENA | C13: =IF(AND('sub code 1,2,7,8,9,71'!C15=""),"",'sub code 1,2,7,8,9,71'!C15) -> 1008 | D13: =IF(AND('sub code 1,2,7,8,9,71'!D15=""),"",'sub code 1,2,7,8,9,71'!D15) -> 2136009 | J13: =IFERROR(IF(AND(I13=""),"",IF(AND(I13>80),"A",IF(AND(I13>60),"B",IF(AND(I13>40),"C",IF(AND(I13>=20),"D",IF(AND(I13<=0),"E","")))))),"")
A14: 8 | B14: =IF(AND('sub code 1,2,7,8,9,71'!B16=""),"",'sub code 1,2,7,8,9,71'!B16) -> KARISHMA MEENA | C14: =IF(AND('sub code 1,2,7,8,9,71'!C16=""),"",'sub code 1,2,7,8,9,71'!C16) -> 1009 | D14: =IF(AND('sub code 1,2,7,8,9,71'!D16=""),"",'sub code 1,2,7,8,9,71'!D16) -> 2136010 | J14: =IFERROR(IF(AND(I14=""),"",IF(AND(I14>80),"A",IF(AND(I14>60),"B",IF(AND(I14>40),"C",IF(AND(I14>=20),"D",IF(AND(I14<=0),"E","")))))),"")
A15: 9 | B15: =IF(AND('sub code 1,2,7,8,9,71'!B17=""),"",'sub code 1,2,7,8,9,71'!B17) -> LAXMI PARETA | C15: =IF(AND('sub code 1,2,7,8,9,71'!C17=""),"",'sub code 1,2,7,8,9,71'!C17) -> 1010 | D15: =IF(AND('sub code 1,2,7,8,9,71'!D17=""),"",'sub code 1,2,7,8,9,71'!D17) -> 2136011 | J15: =IFERROR(IF(AND(I15=""),"",IF(AND(I15>80),"A",IF(AND(I15>60),"B",IF(AND(I15>40),"C",IF(AND(I15>=20),"D",IF(AND(I15<=0),"E","")))))),"")
A16: 10 | B16: =IF(AND('sub code 1,2,7,8,9,71'!B18=""),"",'sub code 1,2,7,8,9,71'!B18) -> MANISHA GURJAR | C16: =IF(AND('sub code 1,2,7,8,9,71'!C18=""),"",'sub code 1,2,7,8,9,71'!C18) -> 1011 | D16: =IF(AND('sub code 1,2,7,8,9,71'!D18=""),"",'sub code 1,2,7,8,9,71'!D18) -> 2136012 | J16: =IFERROR(IF(AND(I16=""),"",IF(AND(I16>80),"A",IF(AND(I16>60),"B",IF(AND(I16>40),"C",IF(AND(I16>=20),"D",IF(AND(I16<=0),"E","")))))),"")
A17: 11 | B17: =IF(AND('sub code 1,2,7,8,9,71'!B19=""),"",'sub code 1,2,7,8,9,71'!B19) -> MANISHA GURJAR | C17: =IF(AND('sub code 1,2,7,8,9,71'!C19=""),"",'sub code 1,2,7,8,9,71'!C19) -> 1012 | D17: =IF(AND('sub code 1,2,7,8,9,71'!D19=""),"",'sub code 1,2,7,8,9,71'!D19) -> 2136013 | J17: =IFERROR(IF(AND(I17=""),"",IF(AND(I17>80),"A",IF(AND(I17>60),"B",IF(AND(I17>40),"C",IF(AND(I17>=20),"D",IF(AND(I17<=0),"E","")))))),"")
A18: 12 | B18: =IF(AND('sub code 1,2,7,8,9,71'!B20=""),"",'sub code 1,2,7,8,9,71'!B20) -> MOHIT MEENA | C18: =IF(AND('sub code 1,2,7,8,9,71'!C20=""),"",'sub code 1,2,7,8,9,71'!C20) -> 1013 | D18: =IF(AND('sub code 1,2,7,8,9,71'!D20=""),"",'sub code 1,2,7,8,9,71'!D20) -> 2136014 | J18: =IFERROR(IF(AND(I18=""),"",IF(AND(I18>80),"A",IF(AND(I18>60),"B",IF(AND(I18>40),"C",IF(AND(I18>=20),"D",IF(AND(I18<=0),"E","")))))),"")
... A23: 17 | B23: =IF(AND('sub code 1,2,7,8,9,71'!B25=""),"",'sub code 1,2,7,8,9,71'!B25) -> UJITA RATHOR | C23: =IF(AND('sub code 1,2,7,8,9,71'!C25=""),"",'sub code 1,2,7,8,9,71'!C25) -> 1018 | D23: =IF(AND('sub code 1,2,7,8,9,71'!D25=""),"",'sub code 1,2,7,8,9,71'!D25) -> 2136019 | J23: =IFERROR(IF(AND(I23=""),"",IF(AND(I23>80),"A",IF(AND(I23>60),"B",IF(AND(I23>40),"C",IF(AND(I23>=20),"D",IF(AND(I23<=0),"E","")))))),"")
A26: gLrk{kj fo"k;k/;kid | C26: gLrk{kj ijh{kk izHkkjh
