Workbook
Name _GoBack: 'Data '!$D$49

Sheet Data 
A1: jktLFkku ljdkj
A2: funs’kky;] ek/;fed f’k{kk jktLFkku chdkusj
A3: ¼lkaf[;dh vuqHkkx½
A4: ‘’kkyk lead izi=
A5: (School Stastitics Proforma)---(S.S.P.)
A6: o"kZ 2019&2020
A7: ¼lUnHkZ frfFk 30 flrEcj 2019½
H8: izi= dh iwfrZ dj ft f’k-v- ¼ek-½ dk;kZy; dks 05 vDVwcj rd vfuok;Zr% miyC/k djkosaA
A11: 'kkyk ls lacaf/kr lkekU; fooj.k%& | O11: t; xq:nso oklqnsok;% ue%
A12: 1-1’kkyk dk uke ,oa irk% | C12: jktdh; mPp ek/;fed fo|ky; bUnjokM+k] jkuh ¼ikyh½
A13: 1-2 'kkyk dh vkWfQl vkbZ- | C13: 221420
A14: 1-3 nwjHkk"k uEcj dksM uEcj lfgr% | E14: 1-4 iz/kkukpk;Z dk eksckbZy u- % | H14: 9928221487
A15: lwpuk rS;kj djus okys ds eksckbZy u-% | D15: 9001884272
A16: 1-5 'kkyk dk bZ&esy vkbZ-Mh-% | C16: gssindarwara@gmail.com
A17: 1-6 ftyk% | B17: ikyh | D17: 1-7 rglhy% | E17: jkuh | G17: 1-8 iapk;r lfefr% | I17: jkuh
A18: 1-9 xzke iapk;r% | B18: bUnjokM+k | D18: 1-10 fo/kku lHkk% | E18: ekjokM+ taD'ku | G18: 1-11 uxj ikfydk@ifj"kn@fuxe%
A19: 1-12 Mkd?kj% | B19: bUnjokM+k | D19: 1-13 fiudksM% | E19: 306503 | G19: 1-14 ’kgj@xzke dh tula[;k% | I19: 1000
G20: ¼tux.kuk 2011 ds vuqlkj½
A21: 1-15 utnhdh ek/;fed fo|ky;ksa dh nwjh¼fd-eh½% | E21: 2
A22: 1-16 utnhdh lhfu;j ek/;fed fo|ky; dh nwjh¼fd-eh-½% | E22: 6
A23: 1-17 futh lhfu;j ek/;fed fo|ky;ksa dh nwjh¼fd-eh-½% | E23: 15 | Q23: PROGRAMMER
A24: 1-18 futh ek/;fed fo|ky; dh nwjh¼fd-eh½% | E24: 15 | Q24: HEERA LAL JAT
A25: 1-19 ’kkyk ØeksUur o"kZ ¼jkT;kns’k Øekad lfgr½% | E25: 2012 | Q25: Sr. TEACHER AT GOVT SR. SEC. SCHOOL INDERWARA
A26: izkFkfed Lrj%& | E26: mPp izkFkfed Lrj%& | Q26: V./P.- Chandawal Nagar, Sojat (Pali)
A27: ¼k½ ek/;fed Lrj%& | B27: 2012 | E27: ¼kk½ m-ek- Lrj%& | G27: 2015 | Q27: WHATS APP No. 9001884272
O28: heeralaljatchandawal@gmail.com
A29: 2- ’kkyk Lrj] izcU/k ,oa ikB~;Øe ¼tks ykxw gks mlds lkeus gkW okys dkWye esa fpfàr djsa½
A30: 2-1 ’kkyk Lrj
A31: ¼v½ ek/;fed lg f'k{kk %&
A32: ¼k½ d{kk 1 ls 10 | C32: ¼kk½ d{kk 06 ls 10 | G32: ¼kkk½ d{kk 9 ls 10
A33: ¼c½ ek/;fed Nk=k
A34: ¼k½ d{kk 1 ls 10 | C34: ¼kk½ d{kk 06 ls 10 | G34: ¼kkk½ d{kk 9 ls 10
A35: ¼l½ lhfu;j ek/;fed lg f'k{kk
A36: ¼k½ d{kk 1 ls 12 | C36: ¼kk½ d{kk 06 ls 12 | G36: ¼kkk½ d{kk 9 ls 12
A37: ¼n½ lhfu;j ek/;fed Nk=k
A38: ¼k½ d{kk 1 ls 12 | C38: ¼kk½ d{kk 06 ls 12 | G38: ¼kkk½ d{kk 9 ls 12
A39: lapkfyr ladk;@fo"k;& leLr mPp ek/;fed fo|ky; gsrq %& | AJ39: FALSE | AK39: FALSE | AL39: FALSE
A40: ladk; | B40: lapkfyr fo"k; | AJ40: FALSE | AK40: FALSE | AL40: FALSE
A41: dyk | B41: jktuhfr foKku | D41: bfrgkl | F41: Hkwxksy | AJ41: TRUE | AK41: FALSE | AL41: FALSE
A42: okf.kT; | AJ42: FALSE | AK42: FALSE | AL42: FALSE
...

Sheet Bhag1 Report
A1: jktLFkku ljdkj
A2: funs’kky;] ek/;fed f’k{kk jktLFkku chdkusj
A3: ¼lkaf[;dh vuqHkkx½
A4: ‘’kkyk lead izi=
A5: (School Stastitics Proforma)---(S.S.P.)
A6: o"kZ 2019&2020
A7: ¼lUnHkZ frfFk 30 flrEcj 2019½
H8: izi= dh iwfrZ dj ft f’k-v- ¼ek-½ dk;kZy; dks 05 vDVwcj rd vfuok;Zr% miyC/k djkosaA
A11: 'kkyk ls lacaf/kr lkekU; fooj.k%&
A12: 1-1’kkyk dk uke ,oa irk% | C12: =IF(AND('Data '!C12=""),"",'Data '!C12) -> jktdh; mPp ek/;fed fo|ky; bUnjokM+k] jkuh ¼ikyh½
A13: 1-2 'kkyk dh vkWfQl vkbZ- | C13: =IF(AND('Data '!C13=""),"",'Data '!C13) -> 221420
A14: 1-3 nwjHkk"k uEcj dksM uEcj lfgr% | C14: =IF(AND('Data '!C14=""),"",'Data '!C14) | E14: 1-4 iz/kkukpk;Z dk eksckbZy u- % | H14: =IF(AND('Data '!H14=""),"",'Data '!H14) -> 9928221487
A15: lwpuk rS;kj djus okys ds eksckbZy u-% | D15: =IF(AND('Data '!D15=""),"",'Data '!D15) -> 9001884272
A16: 1-5 'kkyk dk bZ&esy vkbZ-Mh-% | C16: =IF(AND('Data '!C16=""),"",'Data '!C16) -> gssindarwara@gmail.com
A17: 1-6 ftyk% | B17: =IF(AND('Data '!B17=""),"",'Data '!B17) -> ikyh | D17: 1-7 rglhy% | E17: =IF(AND('Data '!E17=""),"",'Data '!E17) -> jkuh | G17: 1-8 iapk;r lfefr% | I17: =IF(AND('Data '!I17=""),"",'Data '!I17) -> jkuh
A18: 1-9 xzke iapk;r% | B18: =IF(AND('Data '!B18=""),"",'Data '!B18) -> bUnjokM+k | D18: 1-10 fo/kku lHkk% | E18: =IF(AND('Data '!E18=""),"",'Data '!E18) -> ekjokM+ taD'ku | G18: 1-11 uxj ikfydk@ifj"kn@fuxe% | I18: =IF(AND('Data '!I18=""),"",'Data '!I18)
A19: 1-12 Mkd?kj% | B19: =IF(AND('Data '!B19=""),"",'Data '!B19) -> bUnjokM+k | D19: 1-13 fiudksM% | E19: =IF(AND('Data '!E19=""),"",'Data '!E19) -> 306503 | G19: 1-14 ’kgj@xzke dh tula[;k% | I19: =IF(AND('Data '!I19=""),"",'Data '!I19) -> 1000
G20: ¼tux.kuk 2011 ds vuqlkj½
A21: 1-15 utnhdh ek/;fed fo|ky;ksa dh nwjh¼fd-eh½% | E21: =IF(AND('Data '!E21=""),"",'Data '!E21) -> 2
A22: 1-16 utnhdh lhfu;j ek/;fed fo|ky; dh nwjh¼fd-eh-½% | E22: =IF(AND('Data '!E22=""),"",'Data '!E22) -> 6
A23: 1-17 futh lhfu;j ek/;fed fo|ky;ksa dh nwjh¼fd-eh-½% | E23: =IF(AND('Data '!E23=""),"",'Data '!E23) -> 15
A24: 1-18 futh ek/;fed fo|ky; dh nwjh¼fd-eh½% | E24: =IF(AND('Data '!E24=""),"",'Data '!E24) -> 15
A25: 1-19 ’kkyk ØeksUur o"kZ ¼jkT;kns’k Øekad lfgr½% | E25: =IF(AND('Data '!E25=""),"",'Data '!E25) -> 2012
A26: izkFkfed Lrj%& | B26: =IF(AND('Data '!B26=""),"",'Data '!B26) | E26: mPp izkFkfed Lrj%& | G26: =IF(AND('Data '!G26=""),"",'Data '!G26)
A27: ¼k½ ek/;fed Lrj%& | B27: =IF(AND('Data '!B27=""),"",'Data '!B27) -> 2012 | E27: ¼kk½ m-ek- Lrj%& | G27: =IF(AND('Data '!G27=""),"",'Data '!G27) -> 2015
A29: 2- ’kkyk Lrj] izcU/k ,oa ikB~;Øe ¼tks ykxw gks mls fpfàr djsa½
A30: 2-1 ’kkyk Lrj
A31: ¼v½ ek/;fed lg f'k{kk %&
A32: ¼k½ d{kk 1 ls 10 | B32: =IF(AND('Data '!AJ39=TRUE),"þ","") | C32: ¼kk½ d{kk 06 ls 10 | E32: =IF(AND('Data '!AK39=TRUE),"þ","") | G32: ¼kkk½ d{kk 9 ls 10 | I32: =IF(AND('Data '!AL39=TRUE),"þ","")
A33: ¼c½ ek/;fed Nk=k
A34: ¼k½ d{kk 1 ls 10 | B34: =IF(AND('Data '!AJ40=TRUE),"þ","") | C34: ¼kk½ d{kk 06 ls 10 | E34: =IF(AND('Data '!AK40=TRUE),"þ","") | G34: ¼kkk½ d{kk 9 ls 10 | I34: =IF(AND('Data '!AL40=TRUE),"þ","")
A35: ¼l½ lhfu;j ek/;fed lg f'k{kk
A36: ¼k½ d{kk 1 ls 12 | B36: =IF(AND('Data '!AJ41=TRUE),"þ","") -> þ | C36: ¼kk½ d{kk 06 ls 12 | E36: =IF(AND('Data '!AK41=TRUE),"þ","") | G36: ¼kkk½ d{kk 9 ls 12 | I36: =IF(AND('Data '!AL41=TRUE),"þ","")
A37: ¼n½ lhfu;j ek/;fed Nk=k
A38: ¼k½ d{kk 1 ls 12 | B38: =IF(AND('Data '!AJ42=TRUE),"þ","") | C38: ¼kk½ d{kk 06 ls 12 | E38: =IF(AND('Data '!AK42=TRUE),"þ","") | G38: ¼kkk½ d{kk 9 ls 12 | I38: =IF(AND('Data '!AL42=TRUE),"þ","")
A39: lapkfyr ladk;@fo"k;& leLr mPp ek/;fed fo|ky; gsrq %&
A40: ladk; | B40: lapkfyr fo"k;
A41: dyk | B41: =IF(AND('Data '!B41=""),"",'Data '!B41) -> jktuhfr foKku | D41: =IF(AND('Data '!D41=""),"",'Data '!D41) -> bfrgkl | F41: =IF(AND('Data '!F41=""),"",'Data '!F41) -> Hkwxksy | H41: =IF(AND('Data '!H41=""),"",'Data '!H41) | J41: =IF(AND('Data '!J41=""),"",'Data '!J41)
A42: okf.kT; | B42: =IF(AND('Data '!B42=""),"",'Data '!B42) | D42: =IF(AND('Data '!D42=""),"",'Data '!D42) | F42: =IF(AND('Data '!F42=""),"",'Data '!F42) | H42: =IF(AND('Data '!H42=""),"",'Data '!H42) | J42: =IF(AND('Data '!J42=""),"",'Data '!J42)
A43: foKku | B43: =IF(AND('Data '!B43=""),"",'Data '!B43) | D43: =IF(AND('Data '!D43=""),"",'Data '!D43) | F43: =IF(AND('Data '!F43=""),"",'Data '!F43) | H43: =IF(AND('Data '!H43=""),"",'Data '!H43) | J43: =IF(AND('Data '!J43=""),"",'Data '!J43)
...

Sheet Bhag 2 sarni 1& 2
A1: ='Data '!C12 -> jktdh; mPp ek/;fed fo|ky; bUnjokM+k] jkuh ¼ikyh½
A4: lkj.kh la[;k&1
A5: v/;kidksa dh la[;k
B7: izf’kf{kr | D7: vizf’kf{kr | F7: ;ksx
A8: fooj.k | B8: iq:"k | C8: efgyk | D8: iq:"k | E8: efgyk | F8: iq:"k | G8: efgyk | H8: ;ksx
A9: 1 | B9: 2 | C9: 3 | D9: 4 | E9: 5 | F9: 6 | G9: 7 | H9: 8
A10: 1- vuq- tkfr | B10: 3 | C10: 0 | D10: 0 | E10: 0 | F10: =B10+D10 -> 3 | G10: =C10+E10 -> 0 | H10: =G10+F10 -> 3
A11: 2- vuq- tutkfr | B11: 0 | C11: 0 | D11: 0 | E11: 0 | F11: =B11+D11 -> 0 | G11: =C11+E11 -> 0 | H11: =G11+F11 -> 0
A12: 3- vks- ch- lh- | B12: 4 | C12: 1 | D12: 0 | E12: 0 | F12: =B12+D12 -> 4 | G12: =C12+E12 -> 1 | H12: =G12+F12 -> 5
A13: 4- ,l-ch-lh- | B13: 0 | C13: 0 | D13: 0 | E13: 0 | F13: =B13+D13 -> 0 | G13: =C13+E13 -> 0 | H13: =G13+F13 -> 0
A14: 5- lkekU; | B14: 2 | C14: 0 | D14: 0 | E14: 0 | F14: =B14+D14 -> 2 | G14: =C14+E14 -> 0 | H14: =G14+F14 -> 2
A15: ;ksx | B15: =SUM(B10:B14) -> 9 | C15: =SUM(C10:C14) -> 1 | D15: =SUM(D10:D14) -> 0 | E15: =SUM(E10:E14) -> 0 | F15: =SUM(F10:F14) -> 9 | G15: =SUM(G10:G14) -> 1 | H15: =SUM(H10:H14) -> 10
A21: lkj.kh la[;k&2
A22: inokj v/;kidksa dk oxhZdj.k
A23: in | D23: iq:"k | E23: efgyk | F23: ;ksx
A24: iz/kkukpk;Z¼m-ek-½ | D24: 1 | E24: 0 | F24: =E24+D24 -> 1
A25: iz/kkuk/;kid ¼ek/;fed½ | D25: 0 | E25: 0 | F25: =E25+D25 -> 0
A26: O;k[;krk ¼Ldwy f’k{kk½ | F26: =E26+D26 -> 0
A27: O;k[;krk ¼Ldwy f’k{kk½ dyk | D27: 2 | E27: 0 | F27: =E27+D27 -> 2
A28: O;k[;krk ¼Ldwy f’k{kk½ foKku | D28: 0 | E28: 0 | F28: =E28+D28 -> 0
A29: O;k[;krk ¼Ldwy f’k{kk½ okf.kT; | D29: 0 | E29: 0 | F29: =E29+D29 -> 0
A30: O;k[;krk ¼Ldwy f’k{kk½ d`f"k | D30: 0 | E30: 0 | F30: =E30+D30 -> 0
A31: ofj"B v/;kid ¼xzsM&kk½ | D31: 3 | E31: 1 | F31: =E31+D31 -> 4
A32: v/;kid ysoy&1 ,oa 2 | D32: 5 | E32: 0 | F32: =E32+D32 -> 5
A33: 'kkjhfjd f’k{kd ¼xzsM&k½ | D33: 0 | E33: 0 | F33: =E33+D33 -> 0
A34: 'kkjhfjd f’k{kd ¼xzsM&kk½ | D34: 0 | E34: 0 | F34: =E34+D34 -> 0
A35: 'kkjhfjd f’k{kd ¼xzsM&kkk½ | D35: 1 | E35: 0 | F35: =E35+D35 -> 1
A36: ;ksx | D36: =SUM(D24:D35) -> 12 | E36: =SUM(E24:E35) -> 1 | F36: =SUM(F24:F35) -> 13

Sheet sarni 3 A & 3 B
A1: ='Bhag 2 sarni 1& 2'!$A$1 -> jktdh; mPp ek/;fed fo|ky; bUnjokM+k] jkuh ¼ikyh½
A2: lkj.kh&3 vU; deZpkjh
A3: ¼ea=kfy;d deZpkjh½ ¼v½
C5: dk;Zjr
A6: in | B6: Lohd`r | C6: iq:"k | D6: efgyk
A7: lgk;d dk;kZy; v/kh{kd | B7: 0 | C7: 0 | D7: 0
A8: fyfid xzsM k | B8: 0 | C8: 0 | D8: 0
A9: fyfid xzsM kk | B9: 0 | C9: 0 | D9: 0
A10: teknkj | B10: 0 | C10: 0 | D10: 0
A11: lgk;d deZpkjh | B11: 1 | C11: 0 | D11: 1
A12: ;ksx | B12: =SUM(B7:B11) -> 1 | C12: =SUM(C7:C11) -> 0 | D12: =SUM(D7:D11) -> 1
A18: xSj 'kS{kf.kd deZpkjh ¼c½
C19: dk;Zjr
A20: in | B20: Lohd`r | C20: iq:"k | D20: efgyk
A21: iqLrdky;k/;{k&k | B21: 0 | C21: 0 | D21: 0
A22: iqLrdky;k/;{k&kk | B22: 0 | C22: 0 | D22: 0
A23: iqLrdky;k/;{k&kkk | B23: 0 | C23: 0 | D23: 0
A24: iz;ksx’kkyk lgk;d | B24: 0 | C24: 0 | D24: 0
A25: iz;ksx’kkyk ckyd | B25: 0 | C25: 0 | D25: 0
A26: ;ksx | B26: =SUM(B21:B25) -> 0 | C26: =SUM(C21:C25) -> 0 | D26: =SUM(D21:D25) -> 0

Sheet sarni 4
A1: ='Bhag 2 sarni 1& 2'!$A$1 -> jktdh; mPp ek/;fed fo|ky; bUnjokM+k] jkuh ¼ikyh½
A2: lkj.kh&4-1 d{kkokj ukekadu rFkk lSD’ku la[;k
A3: d{kk | B3: [k.M | C3: vuqlwfpr tkfr | E3: vuqlwfpr tutkfr | G3: vkschlh | I3: ,lchlh | K3: lkekU; | M3: dqy ukekadu
A4: 1 | B4: 2 | C4: Nk= 3 | D4: Nk=k 4 | E4: Nk= 5 | F4: Nk=k 6 | G4: Nk= 7 | H4: Nk=k 8 | I4: Nk= 9 | J4: Nk=k 10 | K4: Nk= 11 | L4: Nk=k 12 | M4: Nk= | N4: Nk=
A5: iwoZ izkFkfed | C5: 0 | D5: 0 | E5: 0 | F5: 0 | G5: 0 | H5: 0 | I5: 0 | J5: 0 | K5: 0 | L5: 0 | M5: =C5+E5+G5+I5+K5 -> 0 | N5: =D5+F5+H5+J5+L5 -> 0
A6: d{kk 01 | C6: 3 | D6: 5 | E6: 0 | F6: 0 | G6: 8 | H6: 8 | I6: 0 | J6: 0 | K6: 2 | L6: 0 | M6: =C6+E6+G6+I6+K6 -> 13 | N6: =D6+F6+H6+J6+L6 -> 13
A7: d{kk 02 | C7: 8 | D7: 10 | E7: 0 | F7: 0 | G7: 5 | H7: 3 | I7: 0 | J7: 0 | K7: 1 | L7: 2 | M7: =C7+E7+G7+I7+K7 -> 14 | N7: =D7+F7+H7+J7+L7 -> 15
A8: d{kk 03 | C8: 2 | D8: 6 | E8: 2 | F8: 0 | G8: 7 | H8: 9 | I8: 0 | J8: 0 | K8: 2 | L8: 1 | M8: =C8+E8+G8+I8+K8 -> 13 | N8: =D8+F8+H8+J8+L8 -> 16
A9: d{kk 04 | C9: 5 | D9: 5 | E9: 0 | F9: 0 | G9: 9 | H9: 8 | I9: 0 | J9: 0 | K9: 0 | L9: 2 | M9: =C9+E9+G9+I9+K9 -> 14 | N9: =D9+F9+H9+J9+L9 -> 15
A10: d{kk 05 | C10: 6 | D10: 7 | E10: 1 | F10: 1 | G10: 6 | H10: 10 | I10: 0 | J10: 0 | K10: 3 | L10: 2 | M10: =C10+E10+G10+I10+K10 -> 16 | N10: =D10+F10+H10+J10+L10 -> 20
A11: ;ksx | C11: =SUM(C5:C10) -> 24 | D11: =SUM(D5:D10) -> 33 | E11: =SUM(E5:E10) -> 3 | F11: =SUM(F5:F10) -> 1 | G11: =SUM(G5:G10) -> 35 | H11: =SUM(H5:H10) -> 38 | I11: =SUM(I5:I10) -> 0 | J11: =SUM(J5:J10) -> 0 | ... N11: =SUM(N5:N10) -> 79
A13: 4.2
A14: d{kk | B14: [k.M | C14: vuqlwfpr tkfr | E14: vuqlwfpr tutkfr | G14: vkschlh | I14: ,lchlh | K14: lkekU; | M14: dqy ukekadu
C16: Nk= | D16: Nk=k | E16: Nk= | F16: Nk=k | G16: Nk= | H16: Nk=k | I16: Nk= | J16: Nk=k | K16: Nk= | L16: Nk=k | M16: Nk= | N16: Nk=k
A17: d{kk 06 | C17: 3 | D17: 3 | E17: 0 | F17: 0 | G17: 6 | H17: 9 | I17: 2 | J17: 2 | K17: 0 | L17: 2 | M17: =C17+E17+G17+I17+K17 -> 11 | N17: =D17+F17+H17+J17+L17 -> 16
A18: d{kk 07 | C18: 6 | D18: 6 | E18: 1 | F18: 1 | G18: 10 | H18: 8 | I18: 0 | J18: 0 | K18: 1 | L18: 2 | M18: =C18+E18+G18+I18+K18 -> 18 | N18: =D18+F18+H18+J18+L18 -> 17
A19: d{kk 08 | C19: 5 | D19: 6 | E19: 0 | F19: 0 | G19: 11 | H19: 12 | I19: 2 | J19: 1 | K19: 1 | L19: 0 | M19: =C19+E19+G19+I19+K19 -> 19 | N19: =D19+F19+H19+J19+L19 -> 19
A20: ;ksx | C20: =SUM(C17:C19) -> 14 | D20: =SUM(D17:D19) -> 15 | E20: =SUM(E17:E19) -> 1 | F20: =SUM(F17:F19) -> 1 | G20: =SUM(G17:G19) -> 27 | H20: =SUM(H17:H19) -> 29 | I20: =SUM(I17:I19) -> 4 | J20: =SUM(J17:J19) -> 3 | ... N20: =SUM(N17:N19) -> 52
A22: 4.3
A23: d{kk | B23: [k.M | C23: vuqlwfpr tkfr | E23: vuqlwfpr tutkfr | G23: vkschlh | I23: ,lchlh | K23: lkekU; | M23: dqy ukekadu
C25: Nk= | D25: Nk=k | E25: Nk= | F25: Nk=k | G25: Nk= | H25: Nk=k | I25: Nk= | J25: Nk=k | K25: Nk= | L25: Nk=k | M25: Nk= | N25: Nk=k
A26: d{kk 09 | C26: 15 | D26: 13 | E26: 0 | F26: 0 | G26: 12 | H26: 11 | I26: 2 | J26: 3 | K26: 3 | L26: 2 | M26: =C26+E26+G26+I26+K26 -> 32 | N26: =D26+F26+H26+J26+L26 -> 29
A27: d{kk 10 | C27: 9 | D27: 9 | E27: 1 | F27: 0 | G27: 12 | H27: 11 | I27: 2 | J27: 1 | K27: 1 | L27: 2 | M27: =C27+E27+G27+I27+K27 -> 25 | N27: =D27+F27+H27+J27+L27 -> 23
A28: ;ksx | C28: =SUM(C26:C27) -> 24 | D28: =SUM(D26:D27) -> 22 | E28: =SUM(E26:E27) -> 1 | F28: =SUM(F26:F27) -> 0 | G28: =SUM(G26:G27) -> 24 | H28: =SUM(H26:H27) -> 22 | I28: =SUM(I26:I27) -> 4 | J28: =SUM(J26:J27) -> 4 | ... N28: =SUM(N26:N27) -> 52
A30: ='Bhag 2 sarni 1& 2'!$A$1 -> jktdh; mPp ek/;fed fo|ky; bUnjokM+k] jkuh ¼ikyh½
A31: ladk;okj ukekadu&d{kk&11
A32: d{kk | B32: [k.M | C32: vuqlwfpr tkfr | E32: vuqlwfpr tutkfr | G32: vkschlh | I32: ,lchlh | K32: lkekU; | M32: dqy ukekadu
C34: Nk= | D34: Nk=k | E34: Nk= | F34: Nk=k | G34: Nk= | H34: Nk=k | I34: Nk= | J34: Nk=k | K34: Nk= | L34: Nk=k | M34: Nk= | N34: Nk=k
A35: dyk | C35: 2 | D35: 2 | E35: 1 | F35: 0 | G35: 5 | H35: 9 | I35: 0 | J35: 0 | K35: 0 | L35: 0 | M35: =C35+E35+G35+I35+K35 -> 8 | N35: =D35+F35+H35+J35+L35 -> 11
A36: foKku | C36: 0 | D36: 0 | E36: 0 | F36: 0 | G36: 0 | H36: 0 | I36: 0 | J36: 0 | K36: 0 | L36: 0 | M36: =C36+E36+G36+I36+K36 -> 0 | N36: =D36+F36+H36+J36+L36 -> 0
A37: okf.kT; | C37: 0 | D37: 0 | E37: 0 | F37: 0 | G37: 0 | H37: 0 | I37: 0 | J37: 0 | K37: 0 | L37: 0 | M37: =C37+E37+G37+I37+K37 -> 0 | N37: =D37+F37+H37+J37+L37 -> 0
A38: d`f"k | C38: 0 | D38: 0 | E38: 0 | F38: 0 | G38: 0 | H38: 0 | I38: 0 | J38: 0 | K38: 0 | L38: 0 | M38: =C38+E38+G38+I38+K38 -> 0 | N38: =D38+F38+H38+J38+L38 -> 0
A39: ;ksx | C39: =SUM(C35:C38) -> 2 | D39: =SUM(D35:D38) -> 2 | E39: =SUM(E35:E38) -> 1 | F39: =SUM(F35:F38) -> 0 | G39: =SUM(G35:G38) -> 5 | H39: =SUM(H35:H38) -> 9 | I39: =SUM(I35:I38) -> 0 | J39: =SUM(J35:J38) -> 0 | ... N39: =SUM(N35:N38) -> 11
A41: ladk;okj ukekadu&d{kk&12
A42: d{kk | B42: [k.M | C42: vuqlwfpr tkfr | E42: vuqlwfpr tutkfr | G42: vkschlh | I42: ,lchlh | K42: lkekU; | M42: dqy ukekadu
C44: Nk= | D44: Nk=k | E44: Nk= | F44: Nk=k | G44: Nk= | H44: Nk=k | I44: Nk= | J44: Nk=k | K44: Nk= | L44: Nk=k | M44: Nk= | N44: Nk=k
A45: dyk | C45: 6 | D45: 4 | E45: 1 | F45: 1 | G45: 13 | H45: 12 | I45: 0 | J45: 2 | K45: 5 | L45: 2 | M45: =C45+E45+G45+I45+K45 -> 25 | N45: =D45+F45+H45+J45+L45 -> 21
A46: foKku | C46: 0 | D46: 0 | E46: 0 | F46: 0 | G46: 0 | H46: 0 | I46: 0 | J46: 0 | K46: 0 | L46: 0 | M46: =C46+E46+G46+I46+K46 -> 0 | N46: =D46+F46+H46+J46+L46 -> 0
A47: okf.kT; | C47: 0 | D47: 0 | E47: 0 | F47: 0 | G47: 0 | H47: 0 | I47: 0 | J47: 0 | K47: 0 | L47: 0 | M47: =C47+E47+G47+I47+K47 -> 0 | N47: =D47+F47+H47+J47+L47 -> 0
A48: d`f"k | C48: 0 | D48: 0 | E48: 0 | F48: 0 | G48: 0 | H48: 0 | I48: 1 | J48: 0 | K48: 0 | L48: 0 | M48: =C48+E48+G48+I48+K48 -> 1 | N48: =D48+F48+H48+J48+L48 -> 0
...

Sheet sarni 5
A1: ='Bhag 2 sarni 1& 2'!$A$1 -> jktdh; mPp ek/;fed fo|ky; bUnjokM+k] jkuh ¼ikyh½
A2: lkj.kh la[;k&5
A3: d{kkokj vYila[;dksa dk ukekadu ¼lkj.kh la0&4 esa lfEefyr esa ls ½
A5: ¼1½ eqfLye fo|kfFkZ;ksa dk ukekadu | J5: 5.1
A6: d{kk | B6: jktdh; | E6: xSj jktdh; | H6: ;ksx
B7: Nk= | C7: Nk=k | D7: ;ksx | E7: Nk= | F7: Nk=k | G7: ;ksx | H7: Nk= | I7: Nk=k | J7: ;ksx
A8: 1 | B8: 2 | C8: 3 | D8: 4 | E8: 5 | F8: 6 | G8: 7 | H8: 8 | I8: 9 | J8: 10
A9: iwoZ izkFkfed ls 5 oha rd | B9: 8 | C9: 7 | D9: =B9+C9 -> 15 | E9: 0 | F9: 0 | G9: =F9+E9 -> 0 | H9: =B9+E9 -> 8 | I9: =C9+F9 -> 7 | J9: =H9+I9 -> 15
A10: 6 ls 8 | B10: 5 | C10: 5 | D10: =B10+C10 -> 10 | E10: 0 | F10: 0 | G10: =F10+E10 -> 0 | H10: =B10+E10 -> 5 | I10: =C10+F10 -> 5 | J10: =H10+I10 -> 10
A11: 9 ls 12 | B11: 0 | C11: 0 | D11: =B11+C11 -> 0 | G11: =F11+E11 -> 0 | H11: =B11+E11 -> 0 | I11: =C11+F11 -> 0 | J11: =H11+I11 -> 0
A12: ;ksx | B12: =B9+B10+B11 -> 13 | C12: =C9+C10+C11 -> 12 | D12: =D9+D10+D11 -> 25 | E12: =E9+E10+E11 -> 0 | F12: =F9+F10+F11 -> 0 | G12: =G9+G10+G11 -> 0 | H12: =H9+H10+H11 -> 13 | I12: =I9+I10+I11 -> 12 | J12: =J9+J10+J11 -> 25
A14: ¼2½ tSu fo|kfFkZ;ksa dk ukekadu | J14: 5.2
A15: d{kk | B15: jktdh; | E15: xSj jktdh; | H15: ;ksx
B16: Nk= | C16: Nk=k | D16: ;ksx | E16: Nk= | F16: Nk=k | G16: ;ksx | H16: Nk= | I16: Nk=k | J16: ;ksx
A17: 1 | B17: 2 | C17: 3 | D17: 4 | E17: 5 | F17: 6 | G17: 7 | H17: 8 | I17: 9 | J17: 10
A18: iwoZ izkFkfed ls 5 oha rd | B18: 0 | C18: 0 | D18: =B18+C18 -> 0 | E18: 0 | F18: 0 | G18: =F18+E18 -> 0 | H18: =B18+E18 -> 0 | I18: =C18+F18 -> 0 | J18: =H18+I18 -> 0
A19: 6 ls 8 | B19: 0 | C19: 0 | D19: =B19+C19 -> 0 | E19: 0 | F19: 0 | G19: =F19+E19 -> 0 | H19: =B19+E19 -> 0 | I19: =C19+F19 -> 0 | J19: =H19+I19 -> 0
A20: 9 ls 12 | B20: 0 | C20: 0 | D20: =B20+C20 -> 0 | E20: 0 | F20: 0 | G20: =F20+E20 -> 0 | H20: =B20+E20 -> 0 | I20: =C20+F20 -> 0 | J20: =H20+I20 -> 0
A21: ;ksx | B21: =B18+B19+B20 -> 0 | C21: =C18+C19+C20 -> 0 | D21: =D18+D19+D20 -> 0 | E21: =E18+E19+E20 -> 0 | F21: =F18+F19+F20 -> 0 | G21: =G18+G19+G20 -> 0 | H21: =H18+H19+H20 -> 0 | I21: =I18+I19+I20 -> 0 | J21: =J18+J19+J20 -> 0
A23: ¼3½ ikjlh fo|kfFkZ;ksa dk ukekadu | J23: 5.3
A24: d{kk | B24: jktdh; | E24: xSj jktdh; | H24: ;ksx
B25: Nk= | C25: Nk=k | D25: ;ksx | E25: Nk= | F25: Nk=k | G25: ;ksx | H25: Nk= | I25: Nk=k | J25: ;ksx
A26: 1 | B26: 2 | C26: 3 | D26: 4 | E26: 5 | F26: 6 | G26: 7 | H26: 8 | I26: 9 | J26: 10
A27: iwoZ izkFkfed ls 5 oha rd | B27: 0 | C27: 0 | D27: =B27+C27 -> 0 | E27: 0 | F27: 0 | G27: =F27+E27 -> 0 | H27: =B27+E27 -> 0 | I27: =C27+F27 -> 0 | J27: =H27+I27 -> 0
A28: 6 ls 8 | B28: 0 | C28: 0 | D28: =B28+C28 -> 0 | E28: 0 | F28: 0 | G28: =F28+E28 -> 0 | H28: =B28+E28 -> 0 | I28: =C28+F28 -> 0 | J28: =H28+I28 -> 0
A29: 9 ls 12 | B29: 0 | C29: 0 | D29: =B29+C29 -> 0 | E29: 0 | F29: 0 | G29: =F29+E29 -> 0 | H29: =B29+E29 -> 0 | I29: =C29+F29 -> 0 | J29: =H29+I29 -> 0
A30: ;ksx | B30: =B27+B28+B29 -> 0 | C30: =C27+C28+C29 -> 0 | D30: =D27+D28+D29 -> 0 | E30: =E27+E28+E29 -> 0 | F30: =F27+F28+F29 -> 0 | G30: =G27+G28+G29 -> 0 | H30: =H27+H28+H29 -> 0 | I30: =I27+I28+I29 -> 0 | J30: =J27+J28+J29 -> 0
A32: ¼4½ ckS) fo|kfFkZ;ksa dk ukekadu | J32: 5.4
A33: d{kk | B33: jktdh; | E33: xSj jktdh; | H33: ;ksx
B34: Nk= | C34: Nk=k | D34: ;ksx | E34: Nk= | F34: Nk=k | G34: ;ksx | H34: Nk= | I34: Nk=k | J34: ;ksx
A35: 1 | B35: 2 | C35: 3 | D35: 4 | E35: 5 | F35: 6 | G35: 7 | H35: 8 | I35: 9 | J35: 10
A36: iwoZ izkFkfed ls 5 oha rd | B36: 0 | C36: 0 | D36: =B36+C36 -> 0 | E36: 0 | F36: 0 | G36: =F36+E36 -> 0 | H36: =B36+E36 -> 0 | I36: =C36+F36 -> 0 | J36: =H36+I36 -> 0
A37: 6 ls 8 | B37: 0 | C37: 0 | D37: =B37+C37 -> 0 | E37: 0 | F37: 0 | G37: =F37+E37 -> 0 | H37: =B37+E37 -> 0 | I37: =C37+F37 -> 0 | J37: =H37+I37 -> 0
A38: 9 ls 12 | B38: 0 | C38: 0 | D38: =B38+C38 -> 0 | E38: 0 | F38: 0 | G38: =F38+E38 -> 0 | H38: =B38+E38 -> 0 | I38: =C38+F38 -> 0 | J38: =H38+I38 -> 0
A39: ;ksx | B39: =B36+B37+B38 -> 0 | C39: =C36+C37+C38 -> 0 | D39: =D36+D37+D38 -> 0 | E39: =E36+E37+E38 -> 0 | F39: =F36+F37+F38 -> 0 | G39: =G36+G37+G38 -> 0 | H39: =H36+H37+H38 -> 0 | I39: =I36+I37+I38 -> 0 | J39: =J36+J37+J38 -> 0
A41: ¼5½ bZlkb fo|kfFkZ;ksa dk ukekadu | J41: 5.5
A42: d{kk | B42: jktdh; | E42: xSj jktdh; | H42: ;ksx
B43: Nk= | C43: Nk=k | D43: ;ksx | E43: Nk= | F43: Nk=k | G43: ;ksx | H43: Nk= | I43: Nk=k | J43: ;ksx
A44: 1 | B44: 2 | C44: 3 | D44: 4 | E44: 5 | F44: 6 | G44: 7 | H44: 8 | I44: 9 | J44: 10
A45: iwoZ izkFkfed ls 5 oha rd | B45: 0 | C45: 0 | D45: =B45+C45 -> 0 | E45: 0 | F45: 0 | G45: =F45+E45 -> 0 | H45: =B45+E45 -> 0 | I45: =C45+F45 -> 0 | J45: =H45+I45 -> 0
...

Sheet sarni 6 & 7
A1: ='sarni 5'!$A$1 -> jktdh; mPp ek/;fed fo|ky; bUnjokM+k] jkuh ¼ikyh½
A2: r`rh; Hkk"kk ysus okys fo|kfFkZ;ksa dk ukekadu
A3: lkj.kh la[;k&6
B4: ¼lkj.kh 4 esa lfEeyfr esa ls½
A5: Hkk"kk | B5: d{kk 6 | D5: d{kk 7 | F5: d{kk 8 | H5: d{kk 9 | J5: d{kk 10 | L5: egk;ksx
B6: Nk= | C6: Nk=k | D6: Nk= | E6: Nk=k | F6: Nk= | G6: Nk=k | H6: Nk= | I6: Nk=k | J6: Nk= | K6: Nk=k | L6: Nk= | M6: Nk=k | N6: ;ksx
A7: laLd`r | B7: 10 | C7: 11 | D7: 14 | E7: 16 | F7: 10 | G7: 12 | H7: 14 | I7: 17 | J7: 9 | K7: 7 | L7: =B7+D7+F7+H7+J7 -> 57 | M7: =C7+E7+G7+I7+K7 -> 63 | N7: =L7+M7 -> 120
A8: mnwZ | B8: 1 | C8: 2 | D8: 3 | E8: 1 | F8: 2 | G8: 3 | H8: 1 | I8: 2 | J8: 1 | K8: 1 | L8: =B8+D8+F8+H8+J8 -> 8 | M8: =C8+E8+G8+I8+K8 -> 9 | N8: =L8+M8 -> 17
A9: fla/kh | B9: 0 | C9: 0 | D9: 0 | E9: 0 | F9: 0 | G9: 0 | H9: 0 | I9: 0 | J9: 0 | K9: 0 | L9: =B9+D9+F9+H9+J9 -> 0 | M9: =C9+E9+G9+I9+K9 -> 0 | N9: =L9+M9 -> 0
A10: iatkch | B10: 0 | C10: 0 | D10: 0 | E10: 0 | F10: 0 | G10: 0 | H10: 0 | I10: 0 | J10: 0 | K10: 0 | L10: =B10+D10+F10+H10+J10 -> 0 | M10: =C10+E10+G10+I10+K10 -> 0 | N10: =L10+M10 -> 0
A11: xqtjkrh | B11: 0 | C11: 0 | D11: 0 | E11: 0 | F11: 0 | G11: 0 | H11: 0 | I11: 0 | J11: 0 | K11: 0 | L11: =B11+D11+F11+H11+J11 -> 0 | M11: =C11+E11+G11+I11+K11 -> 0 | N11: =L11+M11 -> 0
A12: ;ksx | B12: =SUM(B7:B11) -> 11 | C12: =SUM(C7:C11) -> 13 | D12: =SUM(D7:D11) -> 17 | E12: =SUM(E7:E11) -> 17 | F12: =SUM(F7:F11) -> 12 | G12: =SUM(G7:G11) -> 15 | H12: =SUM(H7:H11) -> 15 | I12: =SUM(I7:I11) -> 19 | ... M12: =SUM(M7:M11) -> 72 | N12: =L12+M12 -> 137
A14: lkj.kh la[;k&7
A15: lkekU; f’k{kk ds fy, fo|ky;ksa esa v/;;ujr~ fnO;kax cPpksa dh la[;k
A16: ¼lkj.kh&4 esa lfEeyfr esa ls½
A17: d{kk | B17: n`f"V fnO;kax | D17: Jo.k fnO;kax | F17: vfLFk fnO;kax | H17: ekufld fnO;kax | J17: vU; fnO;kax | L17: egk;ksx
B19: Nk= | C19: Nk=k | D19: Nk= | E19: Nk=k | F19: Nk= | G19: Nk=k | H19: Nk= | I19: Nk=k | J19: Nk= | K19: Nk=k | L19: Nk= | M19: Nk=k | N19: ;ksx
A20: iwoZ izkFkfed | B20: 0 | C20: 0 | D20: 0 | E20: 0 | F20: 0 | G20: 0 | H20: 0 | I20: 0 | J20: 0 | K20: 0 | L20: =B20+D20+F20+H20+J20 -> 0 | M20: =C20+E20+G20+I20+K20 -> 0 | N20: =L20+M20 -> 0
A21: d{kk 01 | B21: 0 | C21: 0 | D21: 0 | E21: 0 | F21: 0 | G21: 0 | H21: 0 | I21: 0 | J21: 0 | K21: 0 | L21: =B21+D21+F21+H21+J21 -> 0 | M21: =C21+E21+G21+I21+K21 -> 0 | N21: =L21+M21 -> 0
A22: d{kk 02 | B22: 0 | C22: 1 | D22: 0 | E22: 0 | F22: 0 | G22: 0 | H22: 1 | I22: 0 | J22: 0 | K22: 0 | L22: =B22+D22+F22+H22+J22 -> 1 | M22: =C22+E22+G22+I22+K22 -> 1 | N22: =L22+M22 -> 2
A23: d{kk 03 | B23: 0 | C23: 0 | D23: 0 | E23: 0 | F23: 0 | G23: 0 | H23: 0 | I23: 0 | J23: 0 | K23: 0 | L23: =B23+D23+F23+H23+J23 -> 0 | M23: =C23+E23+G23+I23+K23 -> 0 | N23: =L23+M23 -> 0
A24: d{kk 04 | B24: 0 | C24: 0 | D24: 1 | E24: 0 | F24: 0 | G24: 0 | H24: 0 | I24: 0 | J24: 0 | K24: 0 | L24: =B24+D24+F24+H24+J24 -> 1 | M24: =C24+E24+G24+I24+K24 -> 0 | N24: =L24+M24 -> 1
A25: d{kk 05 | B25: 0 | C25: 0 | D25: 0 | E25: 0 | F25: 0 | G25: 0 | H25: 0 | I25: 0 | J25: 0 | K25: 0 | L25: =B25+D25+F25+H25+J25 -> 0 | M25: =C25+E25+G25+I25+K25 -> 0 | N25: =L25+M25 -> 0
A26: d{kk 06 | B26: 0 | C26: 0 | D26: 0 | E26: 0 | F26: 1 | G26: 0 | H26: 0 | I26: 0 | J26: 0 | K26: 0 | L26: =B26+D26+F26+H26+J26 -> 1 | M26: =C26+E26+G26+I26+K26 -> 0 | N26: =L26+M26 -> 1
A27: d{kk 07 | B27: 0 | C27: 0 | D27: 0 | E27: 0 | F27: 0 | G27: 0 | H27: 0 | I27: 0 | J27: 0 | K27: 0 | L27: =B27+D27+F27+H27+J27 -> 0 | M27: =C27+E27+G27+I27+K27 -> 0 | N27: =L27+M27 -> 0
A28: d{kk 08 | B28: 0 | C28: 0 | D28: 0 | E28: 0 | F28: 0 | G28: 0 | H28: 0 | I28: 0 | J28: 0 | K28: 0 | L28: =B28+D28+F28+H28+J28 -> 0 | M28: =C28+E28+G28+I28+K28 -> 0 | N28: =L28+M28 -> 0
A29: d{kk 09 | B29: 0 | C29: 0 | D29: 0 | E29: 0 | F29: 0 | G29: 0 | H29: 0 | I29: 0 | J29: 0 | K29: 0 | L29: =B29+D29+F29+H29+J29 -> 0 | M29: =C29+E29+G29+I29+K29 -> 0 | N29: =L29+M29 -> 0
A30: d{kk 10 | B30: 0 | C30: 0 | D30: 2 | E30: 0 | F30: 0 | G30: 0 | H30: 0 | I30: 0 | J30: 0 | K30: 0 | L30: =B30+D30+F30+H30+J30 -> 2 | M30: =C30+E30+G30+I30+K30 -> 0 | N30: =L30+M30 -> 2
A31: d{kk 11 | B31: 0 | C31: 0 | D31: 0 | E31: 0 | F31: 0 | G31: 0 | H31: 0 | I31: 0 | J31: 0 | K31: 0 | L31: =B31+D31+F31+H31+J31 -> 0 | M31: =C31+E31+G31+I31+K31 -> 0 | N31: =L31+M31 -> 0
A32: d{kk 12 | B32: 0 | C32: 0 | D32: 0 | E32: 0 | F32: 0 | G32: 0 | H32: 0 | I32: 0 | J32: 0 | K32: 0 | L32: =B32+D32+F32+H32+J32 -> 0 | M32: =C32+E32+G32+I32+K32 -> 0 | N32: =L32+M32 -> 0
A33: ;ksx | B33: =SUM(B20:B32) -> 0 | C33: =SUM(C20:C32) -> 1 | D33: =SUM(D20:D32) -> 3 | E33: =SUM(E20:E32) -> 0 | F33: =SUM(F20:F32) -> 1 | G33: =SUM(G20:G32) -> 0 | H33: =SUM(H20:H32) -> 1 | I33: =SUM(I20:I32) -> 0 | ... N33: =SUM(N20:N32) -> 6

Sheet sarni 8
A1: ='sarni 6 & 7'!$A$1 -> jktdh; mPp ek/;fed fo|ky; bUnjokM+k] jkuh ¼ikyh½
A2: m-ek-fo- esa v/;kidksaa dk ladk;okj@fo"k;okj oxhZdj.k rFkk d{kk 11 o 12 esa ukekadu ¼lkj.kh&8½
A3: Ø-l- | B3: in | C3: Lohd`r | D3: dk;Zjr | E3: d{kk 11 esa v/;;ujr | G3: d{kk 12 esa v/;;ujr | I3: dqy ;ksx ¼d{kk 11 o 12½
C4: in | D4: v/;kid | E4: Nk= | F4: Nk=k | G4: Nk= | H4: Nk=k | I4: Nk= | J4: Nk=k
A5: 1- | B5: iz/kkukpk;Z | C5: 1 | D5: 1 | I5: =E5+G5 -> 0 | J5: =F5+H5 -> 0
A6: 2- | B6: O;k[;krk | I6: =E6+G6 -> 0 | J6: =F6+H6 -> 0
B7: dyk%& fo"k; dk uke | I7: =E7+G7 -> 0 | J7: =F7+H7 -> 0
A8: 1 | B8: jktuhfr foKku | C8: 1 | D8: 0 | E8: 10 | F8: 12 | G8: 13 | H8: 12 | I8: =E8+G8 -> 23 | J8: =F8+H8 -> 24
A9: 2 | B9: bfrgkl | C9: 1 | D9: 1 | E9: 8 | F9: 9 | G9: 8 | H9: 9 | I9: =E9+G9 -> 16 | J9: =F9+H9 -> 18
A10: 3 | B10: Hkwxksy | C10: 1 | D10: 1 | E10: 10 | F10: 11 | G10: 5 | H10: 5 | I10: =E10+G10 -> 15 | J10: =F10+H10 -> 16
A11: 4 | I11: =E11+G11 -> 0 | J11: =F11+H11 -> 0
A12: 5 | I12: =E12+G12 -> 0 | J12: =F12+H12 -> 0
A13: 6 | I13: =E13+G13 -> 0 | J13: =F13+H13 -> 0
A14: 7 | I14: =E14+G14 -> 0 | J14: =F14+H14 -> 0
B15: foKku%& fo"k; dk uke | I15: =E15+G15 -> 0 | J15: =F15+H15 -> 0
A16: 1 | I16: =E16+G16 -> 0 | J16: =F16+H16 -> 0
A17: 2 | I17: =E17+G17 -> 0 | J17: =F17+H17 -> 0
A18: 3 | I18: =E18+G18 -> 0 | J18: =F18+H18 -> 0
A19: 4 | I19: =E19+G19 -> 0 | J19: =F19+H19 -> 0
A20: 5 | I20: =E20+G20 -> 0 | J20: =F20+H20 -> 0
A21: 6- | I21: =E21+G21 -> 0 | J21: =F21+H21 -> 0
B22: fo"k; dk uke & okf.kT; | I22: =E22+G22 -> 0 | J22: =F22+H22 -> 0
A23: 1 | I23: =E23+G23 -> 0 | J23: =F23+H23 -> 0
A24: 2 | I24: =E24+G24 -> 0 | J24: =F24+H24 -> 0
A25: 3 | I25: =E25+G25 -> 0 | J25: =F25+H25 -> 0
B26: ofj"B v/;kid xzsM&kk | C26: 4 | D26: 4 | I26: =E26+G26 -> 0 | J26: =F26+H26 -> 0
B27: v/;kid ¼ch-,M½ ysoy& kk | C27: 3 | D27: 2 | I27: =E27+G27 -> 0 | J27: =F27+H27 -> 0
B28: v/;kid ¼ch,lVhlh½ ysoy&k | C28: 3 | D28: 3 | I28: =E28+G28 -> 0 | J28: =F28+H28 -> 0
B29: ;ksx ¼v/;kid Lohd`r ,o dk;Zjr½ | C29: =SUM(C5:C28) -> 14 | D29: =SUM(D5:D28) -> 12

Sheet sarni 9
A1: ='Data '!C12 -> jktdh; mPp ek/;fed fo|ky; bUnjokM+k] jkuh ¼ikyh½
A2: lkj.kh la[;k&9
A3: fo|ky;ksa dk ijh{kk ifj.kke ¼o"kZ 2018&19½
A4: d{kk | B4: iathd`r | E4: izfo"V | H4: mRrh.kZ | K4: mŸkh.kZ izfr’kr
B5: Nk= | C5: Nk=k | D5: ;ksx | E5: Nk= | F5: Nk=k | G5: ;ksx | H5: Nk= | I5: Nk=k | J5: ;ksx | K5: Nk= | L5: Nk=k | M5: dqy
A6: d{kk&8 cksMZ | B6: 12 | C6: 15 | D6: =B6+C6 -> 27 | E6: 12 | F6: 15 | G6: =E6+F6 -> 27 | H6: 12 | I6: 15 | J6: =H6+I6 -> 27 | K6: =H6/E6*100 -> 100 | L6: =I6/F6*100 -> 100 | M6: =(J6)*100/G6 -> 100
A7: d{kk&10 cksMZ | B7: 13 | C7: 8 | D7: =B7+C7 -> 21 | E7: 13 | F7: 8 | G7: =E7+F7 -> 21 | H7: 10 | I7: 7 | J7: =H7+I7 -> 17 | K7: =H7/E7*100 -> 76.923077 | L7: =I7/F7*100 -> 87.5 | M7: =(J7)*100/G7 -> 80.952381
A8: d{kk&12 cksMZ dyk & | B8: 5 | C8: 6 | D8: =B8+C8 -> 11 | E8: 5 | F8: 6 | G8: =E8+F8 -> 11 | H8: 4 | I8: 6 | J8: =H8+I8 -> 10 | K8: =H8/E8*100 -> 80 | L8: =I8/F8*100 -> 100 | M8: =(J8)*100/G8 -> 90.909091
A9: foKku& | B9: 0 | C9: 0 | D9: =B9+C9 -> 0 | E9: 0 | F9: 0 | G9: =E9+F9 -> 0 | H9: 0 | I9: 0 | J9: =H9+I9 -> 0 | K9: 0 | L9: 0 | M9: 0
A10: okf.kT;& | B10: 0 | C10: 0 | D10: =B10+C10 -> 0 | E10: 0 | F10: 0 | G10: 0 | H10: 0 | I10: 0 | J10: =H10+I10 -> 0 | K10: 0 | L10: 0 | M10: 0
A12: lkj.kh la[;k&10
A13: fo|ky;ksa esa iqu% izos’kh fo|kfFkZ;ksa dh la[;k ¼o"kZ 2019&20½
A14: d{kk | B14: leLr tkfr | E14: vuqlwfpr tkfr ¼leLr esa ls½ | H14: vuqlwfpr tutkfr ¼leLr esa ls½
B15: Nk= | C15: Nk=k | D15: ;ksx | E15: Nk= | F15: Nk=k | G15: ;ksx | H15: Nk= | I15: Nk=k | J15: ;ksx
A16: d{kk&9 | B16: 12 | C16: 15 | D16: =B16+C16 -> 27 | E16: 5 | F16: 3 | G16: =E16+F16 -> 8 | H16: 2 | I16: 0 | J16: =H16+I16 -> 2
A17: d{kk&10 | B17: 13 | C17: 8 | D17: =B17+C17 -> 21 | E17: 3 | F17: 2 | G17: =E17+F17 -> 5 | H17: 2 | I17: 1 | J17: =H17+I17 -> 3
A18: d{kk&11 | B18: 10 | C18: 8 | D18: =B18+C18 -> 18 | E18: 5 | F18: 2 | G18: =E18+F18 -> 7 | H18: 0 | I18: 1 | J18: =H18+I18 -> 1
A19: d{kk&12 | B19: 0 | C19: 0 | D19: =B19+C19 -> 0 | E19: 0 | F19: 0 | G19: =E19+F19 -> 0 | H19: 0 | I19: 0 | J19: =H19+I19 -> 0
A20: ;ksx | B20: =SUM(B16:B19) -> 35 | C20: =SUM(C16:C19) -> 31 | D20: =SUM(D16:D19) -> 66 | E20: =SUM(E16:E19) -> 13 | F20: =SUM(F16:F19) -> 7 | G20: =SUM(G16:G19) -> 20 | H20: =SUM(H16:H19) -> 4 | I20: =SUM(I16:I19) -> 2 | J20: =SUM(J16:J19) -> 6
A21: izekf.kr fd;k tkrk gS fd mDr lwpuk iw.kZ :is.k fo|ky; fjdkMZ ls feyku dj gh rS;kj dh xbZ | K21: laLFkk iz/kku dk uke] gLrk{kj e; lhy
A23: gLrk{kj rS;kjdrkZ | K23: fnukad%& | L23: =TODAY() -> 43808
