Workbook

Sheet Master Sheet
C1: fo|ky; dk uke %& | E1: jktdh; vkn'kZ mPPk ek/;fed fo|ky; bUnjokM+k] ia-l-& jkuh ¼ikyh½
C2: ihbZbZvks dk;kZy; %& | E2: jktdh; vkn'kZ mPPk ek/;fed fo|ky; bUnjokM+k] ia-l-& jkuh ¼ikyh½ | R2: ije~ iwT; xq:nso oklqnso th egkjkt dks ueu
C3: ihbZbZvks vf/kdkjh dk uke %& | E3: Jh feJhyky | I3: eksckbZy uEcj | K3: 9460444246
C4: iz/kkuk/;kid dk uke %& | E4: Jh ekaxhyky | I4: eksckbZy uEcj | K4: 9829607409
C5: ijh{kk izHkkjh dk uke %& | E5: Jh lkaojey ;kno | I5: eksckbZy uEcj | K5: 9001884272
A6: आठवीं बोर्ड परीक्षा सत्रांक सूची
A7: Ø-l- | B7: izos'kkad | C7: tUefrfFk | D7: uke ijh{kkFkhZ | E7: cksMZ }kjk tkjh jksy ua- | F7: mifLFkfr foo.k | L7: fo"k; & | N7: fgUnh | R7: dqy l=kad ¼vad o mi-½ | S7: fo"k; & | U7: vaxzsth | Y7: dqy l=kad ¼vad o mi-½ | Z7: fo"k; & | AB7: xf.kr | AF7: dqy l=kad ¼vad o mi-½ | AG7: fo"k; & | AI7: laLd`r | AM7: dqy l=kad ¼vad o mi-½ | AN7: fo"k; & | AP7: foKku | AT7: dqy l=kad ¼vad o mi-½ | AU7: fo"k; & | AW7: lkekftd foKku | BA7: dqy l=kad ¼vad o mi-½ | BB7: dk;kZuqHko | BI7: dyk f'k{kk | BP7: Lok-'kk- f'k{kk
F8: dqy dk;Z fnol | G8: fo|kFkhZ dh mifLFkfr | H8: mifLFkfr izfr'kr | I8: t:jr iM+us ij 10% mi- laLFkk iz/kku }kjk ns; | J8: dqy mifLFkfr izfr'kr | K8: mifLFkfr ds 5% vad | L8: izFke ij[k | M8: f}rh; ij[k | N8: r`rh; ij[k | O8: v)Zokf"kZd ijh{kk | P8: dqy | Q8: dqy izkIrkad dk 15% | S8: izFke ij[k | T8: f}rh; ij[k | U8: r`rh; ij[k | V8: v)Zokf"kZd ijh{kk | W8: dqy | X8: dqy izkIrkad dk 15% | Z8: izFke ij[k | AA8: f}rh; ij[k | AB8: r`rh; ij[k | AC8: v)Zokf"kZd ijh{kk | AD8: dqy | AE8: dqy izkIrkad dk 15% | AG8: izFke ij[k | AH8: f}rh; ij[k | AI8: r`rh; ij[k | AJ8: v)Zokf"kZd ijh{kk | AK8: dqy | AL8: dqy izkIrkad dk 15% | AN8: izFke ij[k | AO8: f}rh; ij[k | AP8: r`rh; ij[k | AQ8: v)Zokf"kZd ijh{kk | AR8: dqy | AS8: dqy izkIrkad dk 15% | AU8: izFke ij[k | AV8: f}rh; ij[k | AW8: r`rh; ij[k | AX8: v)Zokf"kZd ijh{kk | AY8: dqy | AZ8: dqy izkIrkad dk 15% | BB8: I | BC8: II | BD8: III | BE8: IV | BF8: V | BG8: ;ksx | BH8: xzsM | BI8: I | BJ8: II | BK8: III | BL8: IV | BM8: V | BN8: ;ksx | BO8: xzsM | BP8: I | BQ8: II | BR8: III | BS8: IV | BT8: V | BU8: ;ksx | BV8: xzsM | CK8: This Programme Developed by: HEERALAL JAT
L9: izkIrkad | M9: izkIrkad | N9: izkIrkad | O9: izkIrkad | P9: izkIrkad | S9: izkIrkad | T9: izkIrkad | U9: izkIrkad | V9: izkIrkad | W9: izkIrkad | Z9: izkIrkad | AA9: izkIrkad | AB9: izkIrkad | AC9: izkIrkad | AD9: izkIrkad | AG9: izkIrkad | AH9: izkIrkad | AI9: izkIrkad | AJ9: izkIrkad | AK9: izkIrkad | AN9: izkIrkad | AO9: izkIrkad | AP9: izkIrkad | AQ9: izkIrkad | AR9: izkIrkad | AU9: izkIrkad | AV9: izkIrkad | AW9: izkIrkad | AX9: izkIrkad | AY9: izkIrkad | BB9: 20 | BC9: 20 | BD9: 20 | BE9: 20 | BF9: 20 | BG9: 100 | BI9: 20 | BJ9: 20 | BK9: 20 | BL9: 20 | BM9: 20 | BN9: 100 | BP9: 20 | BQ9: 20 | BR9: 20 | BS9: 20 | BT9: 20 | BU9: 100 | CK9: Sr. Teacher
F10: 240 | K10: 0.05 | L10: 10 | M10: 10 | N10: 10 | O10: 70 | P10: 100 | Q10: 0.15 | R10: 0.2 | S10: 10 | T10: 10 | U10: 10 | V10: 70 | W10: 100 | X10: 0.15 | Y10: 0.2 | Z10: 10 | AA10: 10 | AB10: 10 | AC10: 70 | AD10: 100 | AE10: 0.15 | AF10: 0.2 | AG10: 10 | AH10: 10 | AI10: 10 | AJ10: 70 | AK10: 100 | AL10: 0.15 | AM10: 0.2 | AN10: 10 | AO10: 10 | AP10: 10 | AQ10: 70 | AR10: 100 | AS10: 0.15 | AT10: 0.2 | AU10: 10 | AV10: 10 | AW10: 10 | AX10: 70 | AY10: 100 | AZ10: 0.15 | BA10: 0.2 | CK10: Block- Sojat City
A11: 1 | B11: 555 | C11: 39204 | D11: Anil | E11: 208600 | F11: =IF(AND(B11=""),"",F$10) -> 240 | G11: 212 | H11: =IF(AND(F11=""),"",IF(AND(G11=""),"",G11/F11*100)) -> 88.333333 | J11: =IF(AND(F11=""),"",IF(AND(G11=""),"",SUM(H11+I11))) -> 88.333333 | K11: =IF(J11="","",IF(J11>=86,5,IF(J11>=75,4,IF(J11>=65,3,"NON ELIGIBLE")))) -> 5 | L11: 3 | M11: 1 | N11: 3 | O11: 13 | P11: =IF(AND(K11=""),"",SUM(L11:O11)) -> 20 | Q11: =IF(AND(K11=""),"",ROUNDUP(P11*15%,0)) -> 3 | R11: =IF(AND(K11=""),"",IF(AND(K11="NON ELIGIBLE"),Q11,(Q11+K11))) -> 8 | S11: 3 | T11: 1 | U11: 3 | V11: 13 | W11: =IF(AND(K11=""),"",SUM(S11:V11)) -> 20 | X11: =IF(AND(K11=""),"",ROUNDUP(W11*15%,0)) -> 3 | Y11: =IF(AND(K11=""),"",IF(AND(K11="NON ELIGIBLE"),X11,(X11+K11))) -> 8 | Z11: 3 | AA11: 1 | AB11: 3 | AC11: 13 | AD11: =IF(AND(K11=""),"",SUM(Z11:AC11)) -> 20 | AE11: =IF(AND(K11=""),"",ROUNDUP(AD11*15%,0)) -> 3 | AF11: =IF(AND(K11=""),"",IF(AND(K11="NON ELIGIBLE"),AE11,(AE11+K11))) -> 8 | AG11: 3 | AH11: 1 | AI11: 3 | AJ11: 13 | AK11: =IF(AND(K11=""),"",SUM(AG11:AJ11)) -> 20 | AL11: =IF(AND(K11=""),"",ROUNDUP(AK11*15%,0)) -> 3 | AM11: =IF(AND(K11=""),"",IF(AND(K11="NON ELIGIBLE"),AL11,(AL11+K11))) -> 8 | AN11: 3 | AO11: 1 | AP11: 3 | AQ11: 13 | AR11: =IF(AND(K11=""),"",SUM(AN11:AQ11)) -> 20 | AS11: =IF(AND(K11=""),"",ROUNDUP(AR11*15%,0)) -> 3 | AT11: =IF(AND(K11=""),"",IF(AND(K11="NON ELIGIBLE"),AS11,(AS11+K11))) -> 8 | AU11: 3 | AV11: 1 | AW11: 3 | AX11: 13 | AY11: =IF(AND(K11=""),"",SUM(AU11:AX11)) -> 20 | AZ11: =IF(AND(K11=""),"",ROUNDUP(AY11*15%,0)) -> 3 | BA11: =IF(AND(K11=""),"",IF(AND(K11="NON ELIGIBLE"),AZ11,(AZ11+K11))) -> 8 | BB11: 17 | BC11: 18 | BD11: 17 | BE11: 18 | BF11: 17 | BG11: =IF(AND(E11=""),"",SUM(BB11,BC11,BD11,BE11,BF11)) -> 87 | BH11: =IF(BG11=""," ",IF(BG11>90,"A+",IF(BG11>75,"A",IF(BG11>60,"B",IF(BG11>40,"C","D"))))) -> A | BI11: 18 | BJ11: 18 | BK11: 17 | BL11: 18 | BM11: 18 | BN11: =IF(AND(E11=""),"",SUM(BI11,BJ11,BK11,BL11,BM11)) -> 89 | BO11: =IF(BN11=""," ",IF(BN11>90,"A+",IF(BN11>75,"A",IF(BN11>60,"B",IF(BN11>40,"C","D"))))) -> A | BP11: 18 | BQ11: 17 | BR11: 18 | BS11: 17 | BT11: 18 | BU11: =IF(AND(E11=""),"",SUM(BP11,BQ11,BR11,BS11,BT11)) -> 88 | BV11: =IF(BU11=""," ",IF(BU11>90,"A+",IF(BU11>75,"A",IF(BU11>60,"B",IF(BU11>40,"C","D"))))) -> A | CK11: Dist- Pali
A12: 2 | B12: 560 | C12: 39205 | D12: Akash | E12: 208601 | F12: =IF(AND(B12=""),"",F$10) -> 240 | G12: 214 | H12: =IF(AND(F12=""),"",IF(AND(G12=""),"",G12/F12*100)) -> 89.166667 | J12: =IF(AND(F12=""),"",IF(AND(G12=""),"",SUM(H12+I12))) -> 89.166667 | K12: =IF(J12="","",IF(J12>=86,5,IF(J12>=75,4,IF(J12>=65,3,"NON ELIGIBLE")))) -> 5 | L12: 10 | M12: 5 | N12: 7 | O12: 45 | P12: =IF(AND(K12=""),"",SUM(L12:O12)) -> 67 | Q12: =IF(AND(K12=""),"",ROUNDUP(P12*15%,0)) -> 11 | R12: =IF(AND(K12=""),"",IF(AND(K12="NON ELIGIBLE"),Q12,(Q12+K12))) -> 16 | S12: 10 | T12: 5 | U12: 7 | V12: 45 | W12: =IF(AND(K12=""),"",SUM(S12:V12)) -> 67 | X12: =IF(AND(K12=""),"",ROUNDUP(W12*15%,0)) -> 11 | Y12: =IF(AND(K12=""),"",IF(AND(K12="NON ELIGIBLE"),X12,(X12+K12))) -> 16 | Z12: 10 | AA12: 5 | AB12: 7 | AC12: 45 | AD12: =IF(AND(K12=""),"",SUM(Z12:AC12)) -> 67 | AE12: =IF(AND(K12=""),"",ROUNDUP(AD12*15%,0)) -> 11 | AF12: =IF(AND(K12=""),"",IF(AND(K12="NON ELIGIBLE"),AE12,(AE12+K12))) -> 16 | AG12: 10 | AH12: 5 | AI12: 7 | AJ12: 45 | AK12: =IF(AND(K12=""),"",SUM(AG12:AJ12)) -> 67 | AL12: =IF(AND(K12=""),"",ROUNDUP(AK12*15%,0)) -> 11 | AM12: =IF(AND(K12=""),"",IF(AND(K12="NON ELIGIBLE"),AL12,(AL12+K12))) -> 16 | AN12: 10 | AO12: 5 | AP12: 7 | AQ12: 45 | AR12: =IF(AND(K12=""),"",SUM(AN12:AQ12)) -> 67 | AS12: =IF(AND(K12=""),"",ROUNDUP(AR12*15%,0)) -> 11 | AT12: =IF(AND(K12=""),"",IF(AND(K12="NON ELIGIBLE"),AS12,(AS12+K12))) -> 16 | AU12: 10 | AV12: 5 | AW12: 7 | AX12: 45 | AY12: =IF(AND(K12=""),"",SUM(AU12:AX12)) -> 67 | AZ12: =IF(AND(K12=""),"",ROUNDUP(AY12*15%,0)) -> 11 | BA12: =IF(AND(K12=""),"",IF(AND(K12="NON ELIGIBLE"),AZ12,(AZ12+K12))) -> 16 | BB12: 16 | BC12: 17 | BD12: 17 | BE12: 16 | BF12: 17 | BG12: =IF(AND(E12=""),"",SUM(BB12,BC12,BD12,BE12,BF12)) -> 83 | BH12: =IF(BG12=""," ",IF(BG12>90,"A+",IF(BG12>75,"A",IF(BG12>60,"B",IF(BG12>40,"C","D"))))) -> A | BI12: 17 | BJ12: 17 | BK12: 16 | BL12: 16 | BM12: 17 | BN12: =IF(AND(E12=""),"",SUM(BI12,BJ12,BK12,BL12,BM12)) -> 83 | BO12: =IF(BN12=""," ",IF(BN12>90,"A+",IF(BN12>75,"A",IF(BN12>60,"B",IF(BN12>40,"C","D"))))) -> A | BP12: 18 | BQ12: 17 | BR12: 17 | BS12: 17 | BT12: 18 | BU12: =IF(AND(E12=""),"",SUM(BP12,BQ12,BR12,BS12,BT12)) -> 87 | BV12: =IF(BU12=""," ",IF(BU12>90,"A+",IF(BU12>75,"A",IF(BU12>60,"B",IF(BU12>40,"C","D"))))) -> A | CK12: Ph. 9001884272 (
A13: 3 | B13: 578 | C13: 39572 | D13: Ashish | E13: 208602 | F13: =IF(AND(B13=""),"",F$10) -> 240 | G13: 170 | H13: =IF(AND(F13=""),"",IF(AND(G13=""),"",G13/F13*100)) -> 70.833333 | J13: =IF(AND(F13=""),"",IF(AND(G13=""),"",SUM(H13+I13))) -> 70.833333 | K13: =IF(J13="","",IF(J13>=86,5,IF(J13>=75,4,IF(J13>=65,3,"NON ELIGIBLE")))) -> 3 | L13: 3 | M13: 6 | N13: 9 | O13: 38 | P13: =IF(AND(K13=""),"",SUM(L13:O13)) -> 56 | Q13: =IF(AND(K13=""),"",ROUNDUP(P13*15%,0)) -> 9 | R13: =IF(AND(K13=""),"",IF(AND(K13="NON ELIGIBLE"),Q13,(Q13+K13))) -> 12 | S13: 3 | T13: 6 | U13: 9 | V13: 38 | W13: =IF(AND(K13=""),"",SUM(S13:V13)) -> 56 | X13: =IF(AND(K13=""),"",ROUNDUP(W13*15%,0)) -> 9 | Y13: =IF(AND(K13=""),"",IF(AND(K13="NON ELIGIBLE"),X13,(X13+K13))) -> 12 | Z13: 3 | AA13: 6 | AB13: 9 | AC13: 38 | AD13: =IF(AND(K13=""),"",SUM(Z13:AC13)) -> 56 | AE13: =IF(AND(K13=""),"",ROUNDUP(AD13*15%,0)) -> 9 | AF13: =IF(AND(K13=""),"",IF(AND(K13="NON ELIGIBLE"),AE13,(AE13+K13))) -> 12 | AG13: 3 | AH13: 6 | AI13: 9 | AJ13: 38 | AK13: =IF(AND(K13=""),"",SUM(AG13:AJ13)) -> 56 | AL13: =IF(AND(K13=""),"",ROUNDUP(AK13*15%,0)) -> 9 | AM13: =IF(AND(K13=""),"",IF(AND(K13="NON ELIGIBLE"),AL13,(AL13+K13))) -> 12 | AN13: 3 | AO13: 6 | AP13: 9 | AQ13: 38 | AR13: =IF(AND(K13=""),"",SUM(AN13:AQ13)) -> 56 | AS13: =IF(AND(K13=""),"",ROUNDUP(AR13*15%,0)) -> 9 | AT13: =IF(AND(K13=""),"",IF(AND(K13="NON ELIGIBLE"),AS13,(AS13+K13))) -> 12 | AU13: 3 | AV13: 6 | AW13: 9 | AX13: 38 | AY13: =IF(AND(K13=""),"",SUM(AU13:AX13)) -> 56 | AZ13: =IF(AND(K13=""),"",ROUNDUP(AY13*15%,0)) -> 9 | BA13: =IF(AND(K13=""),"",IF(AND(K13="NON ELIGIBLE"),AZ13,(AZ13+K13))) -> 12 | BB13: 17 | BC13: 17 | BD13: 17 | BE13: 16 | BF13: 17 | BG13: =IF(AND(E13=""),"",SUM(BB13,BC13,BD13,BE13,BF13)) -> 84 | BH13: =IF(BG13=""," ",IF(BG13>90,"A+",IF(BG13>75,"A",IF(BG13>60,"B",IF(BG13>40,"C","D"))))) -> A | BI13: 16 | BJ13: 16 | BK13: 17 | BL13: 17 | BM13: 17 | BN13: =IF(AND(E13=""),"",SUM(BI13,BJ13,BK13,BL13,BM13)) -> 83 | BO13: =IF(BN13=""," ",IF(BN13>90,"A+",IF(BN13>75,"A",IF(BN13>60,"B",IF(BN13>40,"C","D"))))) -> A | BP13: 17 | BQ13: 17 | BR13: 18 | BS13: 17 | BT13: 17 | BU13: =IF(AND(E13=""),"",SUM(BP13,BQ13,BR13,BS13,BT13)) -> 86 | BV13: =IF(BU13=""," ",IF(BU13>90,"A+",IF(BU13>75,"A",IF(BU13>60,"B",IF(BU13>40,"C","D"))))) -> A | CK13: heeralaljatchandawal@gmail.com
A14: 4 | B14: 622 | C14: 39574 | D14: Arun | E14: 208603 | F14: =IF(AND(B14=""),"",F$10) -> 240 | G14: 210 | H14: =IF(AND(F14=""),"",IF(AND(G14=""),"",G14/F14*100)) -> 87.5 | J14: =IF(AND(F14=""),"",IF(AND(G14=""),"",SUM(H14+I14))) -> 87.5 | K14: =IF(J14="","",IF(J14>=86,5,IF(J14>=75,4,IF(J14>=65,3,"NON ELIGIBLE")))) -> 5 | L14: 7 | M14: 6 | N14: 8 | O14: 56 | P14: =IF(AND(K14=""),"",SUM(L14:O14)) -> 77 | Q14: =IF(AND(K14=""),"",ROUNDUP(P14*15%,0)) -> 12 | R14: =IF(AND(K14=""),"",IF(AND(K14="NON ELIGIBLE"),Q14,(Q14+K14))) -> 17 | S14: 7 | T14: 6 | U14: 8 | V14: 56 | W14: =IF(AND(K14=""),"",SUM(S14:V14)) -> 77 | X14: =IF(AND(K14=""),"",ROUNDUP(W14*15%,0)) -> 12 | Y14: =IF(AND(K14=""),"",IF(AND(K14="NON ELIGIBLE"),X14,(X14+K14))) -> 17 | Z14: 7 | AA14: 6 | AB14: 8 | AC14: 56 | AD14: =IF(AND(K14=""),"",SUM(Z14:AC14)) -> 77 | AE14: =IF(AND(K14=""),"",ROUNDUP(AD14*15%,0)) -> 12 | AF14: =IF(AND(K14=""),"",IF(AND(K14="NON ELIGIBLE"),AE14,(AE14+K14))) -> 17 | AG14: 7 | AH14: 6 | AI14: 8 | AJ14: 56 | AK14: =IF(AND(K14=""),"",SUM(AG14:AJ14)) -> 77 | AL14: =IF(AND(K14=""),"",ROUNDUP(AK14*15%,0)) -> 12 | AM14: =IF(AND(K14=""),"",IF(AND(K14="NON ELIGIBLE"),AL14,(AL14+K14))) -> 17 | AN14: 7 | AO14: 6 | AP14: 8 | AQ14: 56 | AR14: =IF(AND(K14=""),"",SUM(AN14:AQ14)) -> 77 | AS14: =IF(AND(K14=""),"",ROUNDUP(AR14*15%,0)) -> 12 | AT14: =IF(AND(K14=""),"",IF(AND(K14="NON ELIGIBLE"),AS14,(AS14+K14))) -> 17 | AU14: 7 | AV14: 6 | AW14: 8 | AX14: 56 | AY14: =IF(AND(K14=""),"",SUM(AU14:AX14)) -> 77 | AZ14: =IF(AND(K14=""),"",ROUNDUP(AY14*15%,0)) -> 12 | BA14: =IF(AND(K14=""),"",IF(AND(K14="NON ELIGIBLE"),AZ14,(AZ14+K14))) -> 17 | BB14: 16 | BC14: 16 | BD14: 17 | BE14: 16 | BF14: 17 | BG14: =IF(AND(E14=""),"",SUM(BB14,BC14,BD14,BE14,BF14)) -> 82 | BH14: =IF(BG14=""," ",IF(BG14>90,"A+",IF(BG14>75,"A",IF(BG14>60,"B",IF(BG14>40,"C","D"))))) -> A | BI14: 17 | BJ14: 18 | BK14: 18 | BL14: 17 | BM14: 18 | BN14: =IF(AND(E14=""),"",SUM(BI14,BJ14,BK14,BL14,BM14)) -> 88 | BO14: =IF(BN14=""," ",IF(BN14>90,"A+",IF(BN14>75,"A",IF(BN14>60,"B",IF(BN14>40,"C","D"))))) -> A | BP14: 16 | BQ14: 17 | BR14: 17 | BS14: 16 | BT14: 16 | BU14: =IF(AND(E14=""),"",SUM(BP14,BQ14,BR14,BS14,BT14)) -> 82 | BV14: =IF(BU14=""," ",IF(BU14>90,"A+",IF(BU14>75,"A",IF(BU14>60,"B",IF(BU14>40,"C","D"))))) -> A | CK14: V./P. - Chandawal Nagar, Teh.- sojat city, Dist.- Pali (Raj) 306306
A15: 5 | B15: 392 | C15: 38477 | D15: Abhisek | E15: 208604 | F15: =IF(AND(B15=""),"",F$10) -> 240 | G15: 198 | H15: =IF(AND(F15=""),"",IF(AND(G15=""),"",G15/F15*100)) -> 82.5 | J15: =IF(AND(F15=""),"",IF(AND(G15=""),"",SUM(H15+I15))) -> 82.5 | K15: =IF(J15="","",IF(J15>=86,5,IF(J15>=75,4,IF(J15>=65,3,"NON ELIGIBLE")))) -> 4 | L15: 5 | M15: 5 | N15: 5 | O15: 56 | P15: =IF(AND(K15=""),"",SUM(L15:O15)) -> 71 | Q15: =IF(AND(K15=""),"",ROUNDUP(P15*15%,0)) -> 11 | R15: =IF(AND(K15=""),"",IF(AND(K15="NON ELIGIBLE"),Q15,(Q15+K15))) -> 15 | S15: 5 | T15: 5 | U15: 5 | V15: 56 | W15: =IF(AND(K15=""),"",SUM(S15:V15)) -> 71 | X15: =IF(AND(K15=""),"",ROUNDUP(W15*15%,0)) -> 11 | Y15: =IF(AND(K15=""),"",IF(AND(K15="NON ELIGIBLE"),X15,(X15+K15))) -> 15 | Z15: 5 | AA15: 5 | AB15: 5 | AC15: 15 | AD15: =IF(AND(K15=""),"",SUM(Z15:AC15)) -> 30 | AE15: =IF(AND(K15=""),"",ROUNDUP(AD15*15%,0)) -> 5 | AF15: =IF(AND(K15=""),"",IF(AND(K15="NON ELIGIBLE"),AE15,(AE15+K15))) -> 9 | AG15: 5 | AH15: 5 | AI15: 5 | AJ15: 30 | AK15: =IF(AND(K15=""),"",SUM(AG15:AJ15)) -> 45 | AL15: =IF(AND(K15=""),"",ROUNDUP(AK15*15%,0)) -> 7 | AM15: =IF(AND(K15=""),"",IF(AND(K15="NON ELIGIBLE"),AL15,(AL15+K15))) -> 11 | AN15: 5 | AO15: 5 | AP15: 5 | AQ15: 56 | AR15: =IF(AND(K15=""),"",SUM(AN15:AQ15)) -> 71 | AS15: =IF(AND(K15=""),"",ROUNDUP(AR15*15%,0)) -> 11 | AT15: =IF(AND(K15=""),"",IF(AND(K15="NON ELIGIBLE"),AS15,(AS15+K15))) -> 15 | AU15: 5 | AV15: 5 | AW15: 5 | AX15: 56 | AY15: =IF(AND(K15=""),"",SUM(AU15:AX15)) -> 71 | AZ15: =IF(AND(K15=""),"",ROUNDUP(AY15*15%,0)) -> 11 | BA15: =IF(AND(K15=""),"",IF(AND(K15="NON ELIGIBLE"),AZ15,(AZ15+K15))) -> 15 | BB15: 18 | BC15: 18 | BD15: 17 | BE15: 18 | BF15: 18 | BG15: =IF(AND(E15=""),"",SUM(BB15,BC15,BD15,BE15,BF15)) -> 89 | BH15: =IF(BG15=""," ",IF(BG15>90,"A+",IF(BG15>75,"A",IF(BG15>60,"B",IF(BG15>40,"C","D"))))) -> A | BI15: 18 | BJ15: 18 | BK15: 17 | BL15: 17 | BM15: 17 | BN15: =IF(AND(E15=""),"",SUM(BI15,BJ15,BK15,BL15,BM15)) -> 87 | BO15: =IF(BN15=""," ",IF(BN15>90,"A+",IF(BN15>75,"A",IF(BN15>60,"B",IF(BN15>40,"C","D"))))) -> A | BP15: 18 | BQ15: 18 | BR15: 18 | BS15: 17 | BT15: 18 | BU15: =IF(AND(E15=""),"",SUM(BP15,BQ15,BR15,BS15,BT15)) -> 89 | BV15: =IF(BU15=""," ",IF(BU15>90,"A+",IF(BU15>75,"A",IF(BU15>60,"B",IF(BU15>40,"C","D"))))) -> A
A16: 6 | B16: 610 | C16: 38874 | D16: Adesh | E16: 208605 | F16: =IF(AND(B16=""),"",F$10) -> 240 | G16: 170 | H16: =IF(AND(F16=""),"",IF(AND(G16=""),"",G16/F16*100)) -> 70.833333 | J16: =IF(AND(F16=""),"",IF(AND(G16=""),"",SUM(H16+I16))) -> 70.833333 | K16: =IF(J16="","",IF(J16>=86,5,IF(J16>=75,4,IF(J16>=65,3,"NON ELIGIBLE")))) -> 3 | L16: 6 | M16: 6 | N16: 6 | O16: 58 | P16: =IF(AND(K16=""),"",SUM(L16:O16)) -> 76 | Q16: =IF(AND(K16=""),"",ROUNDUP(P16*15%,0)) -> 12 | R16: =IF(AND(K16=""),"",IF(AND(K16="NON ELIGIBLE"),Q16,(Q16+K16))) -> 15 | S16: 6 | T16: 6 | U16: 6 | V16: 58 | W16: =IF(AND(K16=""),"",SUM(S16:V16)) -> 76 | X16: =IF(AND(K16=""),"",ROUNDUP(W16*15%,0)) -> 12 | Y16: =IF(AND(K16=""),"",IF(AND(K16="NON ELIGIBLE"),X16,(X16+K16))) -> 15 | Z16: 6 | AA16: 6 | AB16: 6 | AC16: 58 | AD16: =IF(AND(K16=""),"",SUM(Z16:AC16)) -> 76 | AE16: =IF(AND(K16=""),"",ROUNDUP(AD16*15%,0)) -> 12 | AF16: =IF(AND(K16=""),"",IF(AND(K16="NON ELIGIBLE"),AE16,(AE16+K16))) -> 15 | AG16: 6 | AH16: 6 | AI16: 6 | AJ16: 58 | AK16: =IF(AND(K16=""),"",SUM(AG16:AJ16)) -> 76 | AL16: =IF(AND(K16=""),"",ROUNDUP(AK16*15%,0)) -> 12 | AM16: =IF(AND(K16=""),"",IF(AND(K16="NON ELIGIBLE"),AL16,(AL16+K16))) -> 15 | AN16: 6 | AO16: 6 | AP16: 6 | AQ16: 58 | AR16: =IF(AND(K16=""),"",SUM(AN16:AQ16)) -> 76 | AS16: =IF(AND(K16=""),"",ROUNDUP(AR16*15%,0)) -> 12 | AT16: =IF(AND(K16=""),"",IF(AND(K16="NON ELIGIBLE"),AS16,(AS16+K16))) -> 15 | AU16: 6 | AV16: 6 | AW16: 6 | AX16: 58 | AY16: =IF(AND(K16=""),"",SUM(AU16:AX16)) -> 76 | AZ16: =IF(AND(K16=""),"",ROUNDUP(AY16*15%,0)) -> 12 | BA16: =IF(AND(K16=""),"",IF(AND(K16="NON ELIGIBLE"),AZ16,(AZ16+K16))) -> 15 | BB16: 18 | BG16: =IF(AND(E16=""),"",SUM(BB16,BC16,BD16,BE16,BF16)) -> 18 | BH16: =IF(BG16=""," ",IF(BG16>90,"A+",IF(BG16>75,"A",IF(BG16>60,"B",IF(BG16>40,"C","D"))))) -> D | BI16: 17 | BN16: =IF(AND(E16=""),"",SUM(BI16,BJ16,BK16,BL16,BM16)) -> 17 | BO16: =IF(BN16=""," ",IF(BN16>90,"A+",IF(BN16>75,"A",IF(BN16>60,"B",IF(BN16>40,"C","D"))))) -> D | BP16: 18 | BU16: =IF(AND(E16=""),"",SUM(BP16,BQ16,BR16,BS16,BT16)) -> 18 | BV16: =IF(BU16=""," ",IF(BU16>90,"A+",IF(BU16>75,"A",IF(BU16>60,"B",IF(BU16>40,"C","D"))))) -> D
A17: 7 | B17: 615 | C17: 39297 | D17: Ankur | E17: 208606 | F17: =IF(AND(B17=""),"",F$10) -> 240 | G17: 202 | H17: =IF(AND(F17=""),"",IF(AND(G17=""),"",G17/F17*100)) -> 84.166667 | J17: =IF(AND(F17=""),"",IF(AND(G17=""),"",SUM(H17+I17))) -> 84.166667 | K17: =IF(J17="","",IF(J17>=86,5,IF(J17>=75,4,IF(J17>=65,3,"NON ELIGIBLE")))) -> 4 | L17: 7 | M17: 5 | N17: 7 | O17: 67 | P17: =IF(AND(K17=""),"",SUM(L17:O17)) -> 86 | Q17: =IF(AND(K17=""),"",ROUNDUP(P17*15%,0)) -> 13 | R17: =IF(AND(K17=""),"",IF(AND(K17="NON ELIGIBLE"),Q17,(Q17+K17))) -> 17 | S17: 7 | T17: 7 | U17: 7 | V17: 67 | W17: =IF(AND(K17=""),"",SUM(S17:V17)) -> 88 | X17: =IF(AND(K17=""),"",ROUNDUP(W17*15%,0)) -> 14 | Y17: =IF(AND(K17=""),"",IF(AND(K17="NON ELIGIBLE"),X17,(X17+K17))) -> 18 | Z17: 7 | AA17: 7 | AB17: 7 | AC17: 67 | AD17: =IF(AND(K17=""),"",SUM(Z17:AC17)) -> 88 | AE17: =IF(AND(K17=""),"",ROUNDUP(AD17*15%,0)) -> 14 | AF17: =IF(AND(K17=""),"",IF(AND(K17="NON ELIGIBLE"),AE17,(AE17+K17))) -> 18 | AG17: 7 | AH17: 7 | AI17: 7 | AJ17: 67 | AK17: =IF(AND(K17=""),"",SUM(AG17:AJ17)) -> 88 | AL17: =IF(AND(K17=""),"",ROUNDUP(AK17*15%,0)) -> 14 | AM17: =IF(AND(K17=""),"",IF(AND(K17="NON ELIGIBLE"),AL17,(AL17+K17))) -> 18 | AN17: 7 | AO17: 7 | AP17: 7 | AQ17: 67 | AR17: =IF(AND(K17=""),"",SUM(AN17:AQ17)) -> 88 | AS17: =IF(AND(K17=""),"",ROUNDUP(AR17*15%,0)) -> 14 | AT17: =IF(AND(K17=""),"",IF(AND(K17="NON ELIGIBLE"),AS17,(AS17+K17))) -> 18 | AU17: 7 | AV17: 7 | AW17: 7 | AX17: 67 | AY17: =IF(AND(K17=""),"",SUM(AU17:AX17)) -> 88 | AZ17: =IF(AND(K17=""),"",ROUNDUP(AY17*15%,0)) -> 14 | BA17: =IF(AND(K17=""),"",IF(AND(K17="NON ELIGIBLE"),AZ17,(AZ17+K17))) -> 18 | BB17: 19 | BC17: 19 | BD17: 18 | BE17: 19 | BF17: 19 | BG17: =IF(AND(E17=""),"",SUM(BB17,BC17,BD17,BE17,BF17)) -> 94 | BH17: =IF(BG17=""," ",IF(BG17>90,"A+",IF(BG17>75,"A",IF(BG17>60,"B",IF(BG17>40,"C","D"))))) -> A+ | BI17: 18 | BJ17: 18 | BK17: 19 | BL17: 18 | BM17: 19 | BN17: =IF(AND(E17=""),"",SUM(BI17,BJ17,BK17,BL17,BM17)) -> 92 | BO17: =IF(BN17=""," ",IF(BN17>90,"A+",IF(BN17>75,"A",IF(BN17>60,"B",IF(BN17>40,"C","D"))))) -> A+ | BP17: 19 | BQ17: 19 | BR17: 18 | BS17: 19 | BT17: 18 | BU17: =IF(AND(E17=""),"",SUM(BP17,BQ17,BR17,BS17,BT17)) -> 93 | BV17: =IF(BU17=""," ",IF(BU17>90,"A+",IF(BU17>75,"A",IF(BU17>60,"B",IF(BU17>40,"C","D"))))) -> A+
A18: 8 | F18: =IF(AND(B18=""),"",F$10) | G18: 160 | H18: =IF(AND(F18=""),"",IF(AND(G18=""),"",G18/F18*100)) | J18: =IF(AND(F18=""),"",IF(AND(G18=""),"",SUM(H18+I18))) | K18: =IF(J18="","",IF(J18>=86,5,IF(J18>=75,4,IF(J18>=65,3,"NON ELIGIBLE")))) | L18: 8 | M18: 8 | N18: 8 | O18: 56 | P18: =IF(AND(K18=""),"",SUM(L18:O18)) | Q18: =IF(AND(K18=""),"",ROUNDUP(P18*15%,0)) | R18: =IF(AND(K18=""),"",IF(AND(K18="NON ELIGIBLE"),Q18,(Q18+K18))) | S18: 8 | T18: 8 | U18: 8 | V18: 56 | W18: =IF(AND(K18=""),"",SUM(S18:V18)) | X18: =IF(AND(K18=""),"",ROUNDUP(W18*15%,0)) | Y18: =IF(AND(K18=""),"",IF(AND(K18="NON ELIGIBLE"),X18,(X18+K18))) | Z18: 8 | AA18: 8 | AB18: 8 | AC18: 56 | AD18: =IF(AND(K18=""),"",SUM(Z18:AC18)) | AE18: =IF(AND(K18=""),"",ROUNDUP(AD18*15%,0)) | AF18: =IF(AND(K18=""),"",IF(AND(K18="NON ELIGIBLE"),AE18,(AE18+K18))) | AG18: 8 | AH18: 8 | AI18: 8 | AJ18: 56 | AK18: =IF(AND(K18=""),"",SUM(AG18:AJ18)) | AL18: =IF(AND(K18=""),"",ROUNDUP(AK18*15%,0)) | AM18: =IF(AND(K18=""),"",IF(AND(K18="NON ELIGIBLE"),AL18,(AL18+K18))) | AN18: 8 | AO18: 8 | AP18: 8 | AQ18: 56 | AR18: =IF(AND(K18=""),"",SUM(AN18:AQ18)) | AS18: =IF(AND(K18=""),"",ROUNDUP(AR18*15%,0)) | AT18: =IF(AND(K18=""),"",IF(AND(K18="NON ELIGIBLE"),AS18,(AS18+K18))) | AU18: 8 | AV18: 8 | AW18: 8 | AX18: 56 | AY18: =IF(AND(K18=""),"",SUM(AU18:AX18)) | AZ18: =IF(AND(K18=""),"",ROUNDUP(AY18*15%,0)) | BA18: =IF(AND(K18=""),"",IF(AND(K18="NON ELIGIBLE"),AZ18,(AZ18+K18))) | BB18: 17 | BC18: 18 | BD18: 17 | BE18: 18 | BF18: 18 | BG18: =IF(AND(E18=""),"",SUM(BB18,BC18,BD18,BE18,BF18)) | BH18: =IF(BG18=""," ",IF(BG18>90,"A+",IF(BG18>75,"A",IF(BG18>60,"B",IF(BG18>40,"C","D"))))) | BI18: 18 | BJ18: 19 | BK18: 18 | BL18: 19 | BM18: 19 | BN18: =IF(AND(E18=""),"",SUM(BI18,BJ18,BK18,BL18,BM18)) | BO18: =IF(BN18=""," ",IF(BN18>90,"A+",IF(BN18>75,"A",IF(BN18>60,"B",IF(BN18>40,"C","D"))))) | BP18: 18 | BQ18: 19 | BR18: 19 | BS18: 19 | BT18: 19 | BU18: =IF(AND(E18=""),"",SUM(BP18,BQ18,BR18,BS18,BT18)) | BV18: =IF(BU18=""," ",IF(BU18>90,"A+",IF(BU18>75,"A",IF(BU18>60,"B",IF(BU18>40,"C","D")))))
A19: 9 | F19: =IF(AND(B19=""),"",F$10) | G19: 150 | H19: =IF(AND(F19=""),"",IF(AND(G19=""),"",G19/F19*100)) | J19: =IF(AND(F19=""),"",IF(AND(G19=""),"",SUM(H19+I19))) | K19: =IF(J19="","",IF(J19>=86,5,IF(J19>=75,4,IF(J19>=65,3,"NON ELIGIBLE")))) | L19: 9 | M19: 9 | N19: 9 | O19: 45 | P19: =IF(AND(K19=""),"",SUM(L19:O19)) | Q19: =IF(AND(K19=""),"",ROUNDUP(P19*15%,0)) | R19: =IF(AND(K19=""),"",IF(AND(K19="NON ELIGIBLE"),Q19,(Q19+K19))) | S19: 9 | T19: 9 | U19: 9 | V19: 45 | W19: =IF(AND(K19=""),"",SUM(S19:V19)) | X19: =IF(AND(K19=""),"",ROUNDUP(W19*15%,0)) | Y19: =IF(AND(K19=""),"",IF(AND(K19="NON ELIGIBLE"),X19,(X19+K19))) | Z19: 9 | AA19: 9 | AB19: 9 | AC19: 45 | AD19: =IF(AND(K19=""),"",SUM(Z19:AC19)) | AE19: =IF(AND(K19=""),"",ROUNDUP(AD19*15%,0)) | AF19: =IF(AND(K19=""),"",IF(AND(K19="NON ELIGIBLE"),AE19,(AE19+K19))) | AG19: 9 | AH19: 9 | AI19: 9 | AJ19: 45 | AK19: =IF(AND(K19=""),"",SUM(AG19:AJ19)) | AL19: =IF(AND(K19=""),"",ROUNDUP(AK19*15%,0)) | AM19: =IF(AND(K19=""),"",IF(AND(K19="NON ELIGIBLE"),AL19,(AL19+K19))) | AN19: 9 | AO19: 9 | AP19: 9 | AQ19: 45 | AR19: =IF(AND(K19=""),"",SUM(AN19:AQ19)) | AS19: =IF(AND(K19=""),"",ROUNDUP(AR19*15%,0)) | AT19: =IF(AND(K19=""),"",IF(AND(K19="NON ELIGIBLE"),AS19,(AS19+K19))) | AU19: 9 | AV19: 9 | AW19: 9 | AX19: 45 | AY19: =IF(AND(K19=""),"",SUM(AU19:AX19)) | AZ19: =IF(AND(K19=""),"",ROUNDUP(AY19*15%,0)) | BA19: =IF(AND(K19=""),"",IF(AND(K19="NON ELIGIBLE"),AZ19,(AZ19+K19))) | BB19: 17 | BC19: 17 | BD19: 16 | BE19: 17 | BF19: 17 | BG19: =IF(AND(E19=""),"",SUM(BB19,BC19,BD19,BE19,BF19)) | BH19: =IF(BG19=""," ",IF(BG19>90,"A+",IF(BG19>75,"A",IF(BG19>60,"B",IF(BG19>40,"C","D"))))) | BI19: 17 | BJ19: 17 | BK19: 17 | BL19: 16 | BM19: 16 | BN19: =IF(AND(E19=""),"",SUM(BI19,BJ19,BK19,BL19,BM19)) | BO19: =IF(BN19=""," ",IF(BN19>90,"A+",IF(BN19>75,"A",IF(BN19>60,"B",IF(BN19>40,"C","D"))))) | BP19: 17 | BQ19: 17 | BR19: 17 | BS19: 16 | BT19: 17 | BU19: =IF(AND(E19=""),"",SUM(BP19,BQ19,BR19,BS19,BT19)) | BV19: =IF(BU19=""," ",IF(BU19>90,"A+",IF(BU19>75,"A",IF(BU19>60,"B",IF(BU19>40,"C","D")))))
A20: 10 | F20: =IF(AND(B20=""),"",F$10) | G20: 146 | H20: =IF(AND(F20=""),"",IF(AND(G20=""),"",G20/F20*100)) | I20: 10 | J20: =IF(AND(F20=""),"",IF(AND(G20=""),"",SUM(H20+I20))) | K20: =IF(J20="","",IF(J20>=86,5,IF(J20>=75,4,IF(J20>=65,3,"NON ELIGIBLE")))) | L20: 7 | M20: 7 | N20: 7 | O20: 45 | P20: =IF(AND(K20=""),"",SUM(L20:O20)) | Q20: =IF(AND(K20=""),"",ROUNDUP(P20*15%,0)) | R20: =IF(AND(K20=""),"",IF(AND(K20="NON ELIGIBLE"),Q20,(Q20+K20))) | S20: 7 | T20: 7 | U20: 7 | V20: 45 | W20: =IF(AND(K20=""),"",SUM(S20:V20)) | X20: =IF(AND(K20=""),"",ROUNDUP(W20*15%,0)) | Y20: =IF(AND(K20=""),"",IF(AND(K20="NON ELIGIBLE"),X20,(X20+K20))) | Z20: 7 | AA20: 7 | AB20: 7 | AC20: 45 | AD20: =IF(AND(K20=""),"",SUM(Z20:AC20)) | AE20: =IF(AND(K20=""),"",ROUNDUP(AD20*15%,0)) | AF20: =IF(AND(K20=""),"",IF(AND(K20="NON ELIGIBLE"),AE20,(AE20+K20))) | AG20: 7 | AH20: 7 | AI20: 7 | AJ20: 45 | AK20: =IF(AND(K20=""),"",SUM(AG20:AJ20)) | AL20: =IF(AND(K20=""),"",ROUNDUP(AK20*15%,0)) | AM20: =IF(AND(K20=""),"",IF(AND(K20="NON ELIGIBLE"),AL20,(AL20+K20))) | AN20: 7 | AO20: 7 | AP20: 7 | AQ20: 45 | AR20: =IF(AND(K20=""),"",SUM(AN20:AQ20)) | AS20: =IF(AND(K20=""),"",ROUNDUP(AR20*15%,0)) | AT20: =IF(AND(K20=""),"",IF(AND(K20="NON ELIGIBLE"),AS20,(AS20+K20))) | AU20: 7 | AV20: 7 | AW20: 7 | AX20: 45 | AY20: =IF(AND(K20=""),"",SUM(AU20:AX20)) | AZ20: =IF(AND(K20=""),"",ROUNDUP(AY20*15%,0)) | BA20: =IF(AND(K20=""),"",IF(AND(K20="NON ELIGIBLE"),AZ20,(AZ20+K20))) | BB20: 19 | BC20: 18 | BD20: 19 | BE20: 18 | BF20: 19 | BG20: =IF(AND(E20=""),"",SUM(BB20,BC20,BD20,BE20,BF20)) | BH20: =IF(BG20=""," ",IF(BG20>90,"A+",IF(BG20>75,"A",IF(BG20>60,"B",IF(BG20>40,"C","D"))))) | BI20: 19 | BJ20: 19 | BK20: 19 | BL20: 18 | BM20: 19 | BN20: =IF(AND(E20=""),"",SUM(BI20,BJ20,BK20,BL20,BM20)) | BO20: =IF(BN20=""," ",IF(BN20>90,"A+",IF(BN20>75,"A",IF(BN20>60,"B",IF(BN20>40,"C","D"))))) | BP20: 18 | BQ20: 18 | BR20: 19 | BS20: 18 | BT20: 18 | BU20: =IF(AND(E20=""),"",SUM(BP20,BQ20,BR20,BS20,BT20)) | BV20: =IF(BU20=""," ",IF(BU20>90,"A+",IF(BU20>75,"A",IF(BU20>60,"B",IF(BU20>40,"C","D")))))
A21: 11 | F21: =IF(AND(B21=""),"",F$10) | G21: 178 | H21: =IF(AND(F21=""),"",IF(AND(G21=""),"",G21/F21*100)) | J21: =IF(AND(F21=""),"",IF(AND(G21=""),"",SUM(H21+I21))) | K21: =IF(J21="","",IF(J21>=86,5,IF(J21>=75,4,IF(J21>=65,3,"NON ELIGIBLE")))) | L21: 8 | M21: 8 | N21: 8 | O21: 37 | P21: =IF(AND(K21=""),"",SUM(L21:O21)) | Q21: =IF(AND(K21=""),"",ROUNDUP(P21*15%,0)) | R21: =IF(AND(K21=""),"",IF(AND(K21="NON ELIGIBLE"),Q21,(Q21+K21))) | S21: 8 | T21: 8 | U21: 8 | V21: 37 | W21: =IF(AND(K21=""),"",SUM(S21:V21)) | X21: =IF(AND(K21=""),"",ROUNDUP(W21*15%,0)) | Y21: =IF(AND(K21=""),"",IF(AND(K21="NON ELIGIBLE"),X21,(X21+K21))) | Z21: 8 | AA21: 8 | AB21: 8 | AC21: 37 | AD21: =IF(AND(K21=""),"",SUM(Z21:AC21)) | AE21: =IF(AND(K21=""),"",ROUNDUP(AD21*15%,0)) | AF21: =IF(AND(K21=""),"",IF(AND(K21="NON ELIGIBLE"),AE21,(AE21+K21))) | AG21: 8 | AH21: 8 | AI21: 8 | AJ21: 50 | AK21: =IF(AND(K21=""),"",SUM(AG21:AJ21)) | AL21: =IF(AND(K21=""),"",ROUNDUP(AK21*15%,0)) | AM21: =IF(AND(K21=""),"",IF(AND(K21="NON ELIGIBLE"),AL21,(AL21+K21))) | AN21: 8 | AO21: 8 | AP21: 8 | AQ21: 37 | AR21: =IF(AND(K21=""),"",SUM(AN21:AQ21)) | AS21: =IF(AND(K21=""),"",ROUNDUP(AR21*15%,0)) | AT21: =IF(AND(K21=""),"",IF(AND(K21="NON ELIGIBLE"),AS21,(AS21+K21))) | AU21: 8 | AV21: 8 | AW21: 8 | AX21: 37 | AY21: =IF(AND(K21=""),"",SUM(AU21:AX21)) | AZ21: =IF(AND(K21=""),"",ROUNDUP(AY21*15%,0)) | BA21: =IF(AND(K21=""),"",IF(AND(K21="NON ELIGIBLE"),AZ21,(AZ21+K21))) | BB21: 17 | BC21: 17 | BD21: 18 | BE21: 17 | BF21: 18 | BG21: =IF(AND(E21=""),"",SUM(BB21,BC21,BD21,BE21,BF21)) | BH21: =IF(BG21=""," ",IF(BG21>90,"A+",IF(BG21>75,"A",IF(BG21>60,"B",IF(BG21>40,"C","D"))))) | BI21: 17 | BJ21: 17 | BK21: 17 | BL21: 16 | BM21: 17 | BN21: =IF(AND(E21=""),"",SUM(BI21,BJ21,BK21,BL21,BM21)) | BO21: =IF(BN21=""," ",IF(BN21>90,"A+",IF(BN21>75,"A",IF(BN21>60,"B",IF(BN21>40,"C","D"))))) | BP21: 18 | BQ21: 18 | BR21: 19 | BS21: 18 | BT21: 18 | BU21: =IF(AND(E21=""),"",SUM(BP21,BQ21,BR21,BS21,BT21)) | BV21: =IF(BU21=""," ",IF(BU21>90,"A+",IF(BU21>75,"A",IF(BU21>60,"B",IF(BU21>40,"C","D")))))
A22: 12 | F22: =IF(AND(B22=""),"",F$10) | G22: 202 | H22: =IF(AND(F22=""),"",IF(AND(G22=""),"",G22/F22*100)) | J22: =IF(AND(F22=""),"",IF(AND(G22=""),"",SUM(H22+I22))) | K22: =IF(J22="","",IF(J22>=86,5,IF(J22>=75,4,IF(J22>=65,3,"NON ELIGIBLE")))) | L22: 6 | M22: 6 | N22: 6 | O22: 67 | P22: =IF(AND(K22=""),"",SUM(L22:O22)) | Q22: =IF(AND(K22=""),"",ROUNDUP(P22*15%,0)) | R22: =IF(AND(K22=""),"",IF(AND(K22="NON ELIGIBLE"),Q22,(Q22+K22))) | S22: 6 | T22: 6 | U22: 6 | V22: 67 | W22: =IF(AND(K22=""),"",SUM(S22:V22)) | X22: =IF(AND(K22=""),"",ROUNDUP(W22*15%,0)) | Y22: =IF(AND(K22=""),"",IF(AND(K22="NON ELIGIBLE"),X22,(X22+K22))) | Z22: 6 | AA22: 6 | AB22: 6 | AC22: 67 | AD22: =IF(AND(K22=""),"",SUM(Z22:AC22)) | AE22: =IF(AND(K22=""),"",ROUNDUP(AD22*15%,0)) | AF22: =IF(AND(K22=""),"",IF(AND(K22="NON ELIGIBLE"),AE22,(AE22+K22))) | AG22: 6 | AH22: 6 | AI22: 6 | AJ22: 67 | AK22: =IF(AND(K22=""),"",SUM(AG22:AJ22)) | AL22: =IF(AND(K22=""),"",ROUNDUP(AK22*15%,0)) | AM22: =IF(AND(K22=""),"",IF(AND(K22="NON ELIGIBLE"),AL22,(AL22+K22))) | AN22: 6 | AO22: 6 | AP22: 6 | AQ22: 67 | AR22: =IF(AND(K22=""),"",SUM(AN22:AQ22)) | AS22: =IF(AND(K22=""),"",ROUNDUP(AR22*15%,0)) | AT22: =IF(AND(K22=""),"",IF(AND(K22="NON ELIGIBLE"),AS22,(AS22+K22))) | AU22: 6 | AV22: 6 | AW22: 6 | AX22: 67 | AY22: =IF(AND(K22=""),"",SUM(AU22:AX22)) | AZ22: =IF(AND(K22=""),"",ROUNDUP(AY22*15%,0)) | BA22: =IF(AND(K22=""),"",IF(AND(K22="NON ELIGIBLE"),AZ22,(AZ22+K22))) | BB22: 18 | BC22: 18 | BD22: 18 | BE22: 17 | BF22: 18 | BG22: =IF(AND(E22=""),"",SUM(BB22,BC22,BD22,BE22,BF22)) | BH22: =IF(BG22=""," ",IF(BG22>90,"A+",IF(BG22>75,"A",IF(BG22>60,"B",IF(BG22>40,"C","D"))))) | BI22: 18 | BJ22: 18 | BK22: 17 | BL22: 18 | BM22: 18 | BN22: =IF(AND(E22=""),"",SUM(BI22,BJ22,BK22,BL22,BM22)) | BO22: =IF(BN22=""," ",IF(BN22>90,"A+",IF(BN22>75,"A",IF(BN22>60,"B",IF(BN22>40,"C","D"))))) | BP22: 17 | BQ22: 18 | BR22: 19 | BS22: 18 | BT22: 18 | BU22: =IF(AND(E22=""),"",SUM(BP22,BQ22,BR22,BS22,BT22)) | BV22: =IF(BU22=""," ",IF(BU22>90,"A+",IF(BU22>75,"A",IF(BU22>60,"B",IF(BU22>40,"C","D")))))
A23: 13 | F23: =IF(AND(B23=""),"",F$10) | G23: 210 | H23: =IF(AND(F23=""),"",IF(AND(G23=""),"",G23/F23*100)) | J23: =IF(AND(F23=""),"",IF(AND(G23=""),"",SUM(H23+I23))) | K23: =IF(J23="","",IF(J23>=86,5,IF(J23>=75,4,IF(J23>=65,3,"NON ELIGIBLE")))) | L23: 10 | M23: 10 | N23: 8 | O23: 66 | P23: =IF(AND(K23=""),"",SUM(L23:O23)) | Q23: =IF(AND(K23=""),"",ROUNDUP(P23*15%,0)) | R23: =IF(AND(K23=""),"",IF(AND(K23="NON ELIGIBLE"),Q23,(Q23+K23))) | S23: 5 | T23: 5 | U23: 5 | V23: 56 | W23: =IF(AND(K23=""),"",SUM(S23:V23)) | X23: =IF(AND(K23=""),"",ROUNDUP(W23*15%,0)) | Y23: =IF(AND(K23=""),"",IF(AND(K23="NON ELIGIBLE"),X23,(X23+K23))) | Z23: 5 | AA23: 5 | AB23: 5 | AC23: 56 | AD23: =IF(AND(K23=""),"",SUM(Z23:AC23)) | AE23: =IF(AND(K23=""),"",ROUNDUP(AD23*15%,0)) | AF23: =IF(AND(K23=""),"",IF(AND(K23="NON ELIGIBLE"),AE23,(AE23+K23))) | AG23: 5 | AH23: 5 | AI23: 5 | AJ23: 56 | AK23: =IF(AND(K23=""),"",SUM(AG23:AJ23)) | AL23: =IF(AND(K23=""),"",ROUNDUP(AK23*15%,0)) | AM23: =IF(AND(K23=""),"",IF(AND(K23="NON ELIGIBLE"),AL23,(AL23+K23))) | AN23: 5 | AO23: 5 | AP23: 5 | AQ23: 56 | AR23: =IF(AND(K23=""),"",SUM(AN23:AQ23)) | AS23: =IF(AND(K23=""),"",ROUNDUP(AR23*15%,0)) | AT23: =IF(AND(K23=""),"",IF(AND(K23="NON ELIGIBLE"),AS23,(AS23+K23))) | AU23: 5 | AV23: 5 | AW23: 5 | AX23: 56 | AY23: =IF(AND(K23=""),"",SUM(AU23:AX23)) | AZ23: =IF(AND(K23=""),"",ROUNDUP(AY23*15%,0)) | BA23: =IF(AND(K23=""),"",IF(AND(K23="NON ELIGIBLE"),AZ23,(AZ23+K23))) | BB23: 17 | BC23: 18 | BD23: 18 | BE23: 18 | BF23: 18 | BG23: =IF(AND(E23=""),"",SUM(BB23,BC23,BD23,BE23,BF23)) | BH23: =IF(BG23=""," ",IF(BG23>90,"A+",IF(BG23>75,"A",IF(BG23>60,"B",IF(BG23>40,"C","D"))))) | BI23: 18 | BJ23: 17 | BK23: 18 | BL23: 17 | BM23: 18 | BN23: =IF(AND(E23=""),"",SUM(BI23,BJ23,BK23,BL23,BM23)) | BO23: =IF(BN23=""," ",IF(BN23>90,"A+",IF(BN23>75,"A",IF(BN23>60,"B",IF(BN23>40,"C","D"))))) | BP23: 17 | BQ23: 17 | BR23: 18 | BS23: 17 | BT23: 18 | BU23: =IF(AND(E23=""),"",SUM(BP23,BQ23,BR23,BS23,BT23)) | BV23: =IF(BU23=""," ",IF(BU23>90,"A+",IF(BU23>75,"A",IF(BU23>60,"B",IF(BU23>40,"C","D")))))
A24: 14 | F24: =IF(AND(B24=""),"",F$10) | G24: 210 | H24: =IF(AND(F24=""),"",IF(AND(G24=""),"",G24/F24*100)) | J24: =IF(AND(F24=""),"",IF(AND(G24=""),"",SUM(H24+I24))) | K24: =IF(J24="","",IF(J24>=86,5,IF(J24>=75,4,IF(J24>=65,3,"NON ELIGIBLE")))) | L24: 10 | M24: 10 | N24: 10 | O24: 65 | P24: =IF(AND(K24=""),"",SUM(L24:O24)) | Q24: =IF(AND(K24=""),"",ROUNDUP(P24*15%,0)) | R24: =IF(AND(K24=""),"",IF(AND(K24="NON ELIGIBLE"),Q24,(Q24+K24))) | S24: 5 | T24: 5 | U24: 5 | V24: 56 | W24: =IF(AND(K24=""),"",SUM(S24:V24)) | X24: =IF(AND(K24=""),"",ROUNDUP(W24*15%,0)) | Y24: =IF(AND(K24=""),"",IF(AND(K24="NON ELIGIBLE"),X24,(X24+K24))) | Z24: 5 | AA24: 5 | AB24: 5 | AC24: 56 | AD24: =IF(AND(K24=""),"",SUM(Z24:AC24)) | AE24: =IF(AND(K24=""),"",ROUNDUP(AD24*15%,0)) | AF24: =IF(AND(K24=""),"",IF(AND(K24="NON ELIGIBLE"),AE24,(AE24+K24))) | AG24: 5 | AH24: 5 | AI24: 5 | AJ24: 56 | AK24: =IF(AND(K24=""),"",SUM(AG24:AJ24)) | AL24: =IF(AND(K24=""),"",ROUNDUP(AK24*15%,0)) | AM24: =IF(AND(K24=""),"",IF(AND(K24="NON ELIGIBLE"),AL24,(AL24+K24))) | AN24: 5 | AO24: 5 | AP24: 5 | AQ24: 56 | AR24: =IF(AND(K24=""),"",SUM(AN24:AQ24)) | AS24: =IF(AND(K24=""),"",ROUNDUP(AR24*15%,0)) | AT24: =IF(AND(K24=""),"",IF(AND(K24="NON ELIGIBLE"),AS24,(AS24+K24))) | AU24: 5 | AV24: 5 | AW24: 5 | AX24: 56 | AY24: =IF(AND(K24=""),"",SUM(AU24:AX24)) | AZ24: =IF(AND(K24=""),"",ROUNDUP(AY24*15%,0)) | BA24: =IF(AND(K24=""),"",IF(AND(K24="NON ELIGIBLE"),AZ24,(AZ24+K24))) | BB24: 17 | BC24: 17 | BD24: 17 | BE24: 18 | BF24: 18 | BG24: =IF(AND(E24=""),"",SUM(BB24,BC24,BD24,BE24,BF24)) | BH24: =IF(BG24=""," ",IF(BG24>90,"A+",IF(BG24>75,"A",IF(BG24>60,"B",IF(BG24>40,"C","D"))))) | BI24: 17 | BJ24: 17 | BK24: 17 | BL24: 17 | BM24: 17 | BN24: =IF(AND(E24=""),"",SUM(BI24,BJ24,BK24,BL24,BM24)) | BO24: =IF(BN24=""," ",IF(BN24>90,"A+",IF(BN24>75,"A",IF(BN24>60,"B",IF(BN24>40,"C","D"))))) | BP24: 18 | BQ24: 17 | BR24: 18 | BS24: 17 | BT24: 18 | BU24: =IF(AND(E24=""),"",SUM(BP24,BQ24,BR24,BS24,BT24)) | BV24: =IF(BU24=""," ",IF(BU24>90,"A+",IF(BU24>75,"A",IF(BU24>60,"B",IF(BU24>40,"C","D")))))
A25: 15 | F25: =IF(AND(B25=""),"",F$10) | G25: 210 | H25: =IF(AND(F25=""),"",IF(AND(G25=""),"",G25/F25*100)) | J25: =IF(AND(F25=""),"",IF(AND(G25=""),"",SUM(H25+I25))) | K25: =IF(J25="","",IF(J25>=86,5,IF(J25>=75,4,IF(J25>=65,3,"NON ELIGIBLE")))) | L25: 5 | M25: 5 | N25: 5 | O25: 56 | P25: =IF(AND(K25=""),"",SUM(L25:O25)) | Q25: =IF(AND(K25=""),"",ROUNDUP(P25*15%,0)) | R25: =IF(AND(K25=""),"",IF(AND(K25="NON ELIGIBLE"),Q25,(Q25+K25))) | S25: 5 | T25: 5 | U25: 5 | V25: 56 | W25: =IF(AND(K25=""),"",SUM(S25:V25)) | X25: =IF(AND(K25=""),"",ROUNDUP(W25*15%,0)) | Y25: =IF(AND(K25=""),"",IF(AND(K25="NON ELIGIBLE"),X25,(X25+K25))) | Z25: 5 | AA25: 5 | AB25: 5 | AC25: 56 | AD25: =IF(AND(K25=""),"",SUM(Z25:AC25)) | AE25: =IF(AND(K25=""),"",ROUNDUP(AD25*15%,0)) | AF25: =IF(AND(K25=""),"",IF(AND(K25="NON ELIGIBLE"),AE25,(AE25+K25))) | AG25: 5 | AH25: 5 | AI25: 5 | AJ25: 56 | AK25: =IF(AND(K25=""),"",SUM(AG25:AJ25)) | AL25: =IF(AND(K25=""),"",ROUNDUP(AK25*15%,0)) | AM25: =IF(AND(K25=""),"",IF(AND(K25="NON ELIGIBLE"),AL25,(AL25+K25))) | AN25: 5 | AO25: 5 | AP25: 5 | AQ25: 56 | AR25: =IF(AND(K25=""),"",SUM(AN25:AQ25)) | AS25: =IF(AND(K25=""),"",ROUNDUP(AR25*15%,0)) | AT25: =IF(AND(K25=""),"",IF(AND(K25="NON ELIGIBLE"),AS25,(AS25+K25))) | AU25: 5 | AV25: 5 | AW25: 5 | AX25: 56 | AY25: =IF(AND(K25=""),"",SUM(AU25:AX25)) | AZ25: =IF(AND(K25=""),"",ROUNDUP(AY25*15%,0)) | BA25: =IF(AND(K25=""),"",IF(AND(K25="NON ELIGIBLE"),AZ25,(AZ25+K25))) | BB25: 19 | BC25: 19 | BD25: 19 | BE25: 19 | BF25: 19 | BG25: =IF(AND(E25=""),"",SUM(BB25,BC25,BD25,BE25,BF25)) | BH25: =IF(BG25=""," ",IF(BG25>90,"A+",IF(BG25>75,"A",IF(BG25>60,"B",IF(BG25>40,"C","D"))))) | BI25: 19 | BJ25: 19 | BK25: 19 | BL25: 19 | BM25: 19 | BN25: =IF(AND(E25=""),"",SUM(BI25,BJ25,BK25,BL25,BM25)) | BO25: =IF(BN25=""," ",IF(BN25>90,"A+",IF(BN25>75,"A",IF(BN25>60,"B",IF(BN25>40,"C","D"))))) | BP25: 18 | BQ25: 19 | BR25: 19 | BS25: 19 | BT25: 19 | BU25: =IF(AND(E25=""),"",SUM(BP25,BQ25,BR25,BS25,BT25)) | BV25: =IF(BU25=""," ",IF(BU25>90,"A+",IF(BU25>75,"A",IF(BU25>60,"B",IF(BU25>40,"C","D")))))
A26: 16 | F26: =IF(AND(B26=""),"",F$10) | G26: 210 | H26: =IF(AND(F26=""),"",IF(AND(G26=""),"",G26/F26*100)) | J26: =IF(AND(F26=""),"",IF(AND(G26=""),"",SUM(H26+I26))) | K26: =IF(J26="","",IF(J26>=86,5,IF(J26>=75,4,IF(J26>=65,3,"NON ELIGIBLE")))) | L26: 5 | M26: 5 | N26: 5 | O26: 56 | P26: =IF(AND(K26=""),"",SUM(L26:O26)) | Q26: =IF(AND(K26=""),"",ROUNDUP(P26*15%,0)) | R26: =IF(AND(K26=""),"",IF(AND(K26="NON ELIGIBLE"),Q26,(Q26+K26))) | S26: 5 | T26: 5 | U26: 5 | V26: 56 | W26: =IF(AND(K26=""),"",SUM(S26:V26)) | X26: =IF(AND(K26=""),"",ROUNDUP(W26*15%,0)) | Y26: =IF(AND(K26=""),"",IF(AND(K26="NON ELIGIBLE"),X26,(X26+K26))) | Z26: 5 | AA26: 5 | AB26: 5 | AC26: 56 | AD26: =IF(AND(K26=""),"",SUM(Z26:AC26)) | AE26: =IF(AND(K26=""),"",ROUNDUP(AD26*15%,0)) | AF26: =IF(AND(K26=""),"",IF(AND(K26="NON ELIGIBLE"),AE26,(AE26+K26))) | AG26: 5 | AH26: 5 | AI26: 5 | AJ26: 56 | AK26: =IF(AND(K26=""),"",SUM(AG26:AJ26)) | AL26: =IF(AND(K26=""),"",ROUNDUP(AK26*15%,0)) | AM26: =IF(AND(K26=""),"",IF(AND(K26="NON ELIGIBLE"),AL26,(AL26+K26))) | AN26: 5 | AO26: 5 | AP26: 5 | AQ26: 56 | AR26: =IF(AND(K26=""),"",SUM(AN26:AQ26)) | AS26: =IF(AND(K26=""),"",ROUNDUP(AR26*15%,0)) | AT26: =IF(AND(K26=""),"",IF(AND(K26="NON ELIGIBLE"),AS26,(AS26+K26))) | AU26: 5 | AV26: 5 | AW26: 5 | AX26: 56 | AY26: =IF(AND(K26=""),"",SUM(AU26:AX26)) | AZ26: =IF(AND(K26=""),"",ROUNDUP(AY26*15%,0)) | BA26: =IF(AND(K26=""),"",IF(AND(K26="NON ELIGIBLE"),AZ26,(AZ26+K26))) | BB26: 19 | BC26: 19 | BD26: 19 | BE26: 19 | BF26: 19 | BG26: =IF(AND(E26=""),"",SUM(BB26,BC26,BD26,BE26,BF26)) | BH26: =IF(BG26=""," ",IF(BG26>90,"A+",IF(BG26>75,"A",IF(BG26>60,"B",IF(BG26>40,"C","D"))))) | BI26: 18 | BJ26: 19 | BK26: 19 | BL26: 19 | BM26: 19 | BN26: =IF(AND(E26=""),"",SUM(BI26,BJ26,BK26,BL26,BM26)) | BO26: =IF(BN26=""," ",IF(BN26>90,"A+",IF(BN26>75,"A",IF(BN26>60,"B",IF(BN26>40,"C","D"))))) | BP26: 19 | BQ26: 19 | BR26: 19 | BS26: 19 | BT26: 19 | BU26: =IF(AND(E26=""),"",SUM(BP26,BQ26,BR26,BS26,BT26)) | BV26: =IF(BU26=""," ",IF(BU26>90,"A+",IF(BU26>75,"A",IF(BU26>60,"B",IF(BU26>40,"C","D")))))
A27: 17 | F27: =IF(AND(B27=""),"",F$10) | G27: 135 | H27: =IF(AND(F27=""),"",IF(AND(G27=""),"",G27/F27*100)) | J27: =IF(AND(F27=""),"",IF(AND(G27=""),"",SUM(H27+I27))) | K27: =IF(J27="","",IF(J27>=86,5,IF(J27>=75,4,IF(J27>=65,3,"NON ELIGIBLE")))) | L27: 5 | M27: 5 | N27: 5 | O27: 57 | P27: =IF(AND(K27=""),"",SUM(L27:O27)) | Q27: =IF(AND(K27=""),"",ROUNDUP(P27*15%,0)) | R27: =IF(AND(K27=""),"",IF(AND(K27="NON ELIGIBLE"),Q27,(Q27+K27))) | S27: 5 | T27: 5 | U27: 5 | V27: 56 | W27: =IF(AND(K27=""),"",SUM(S27:V27)) | X27: =IF(AND(K27=""),"",ROUNDUP(W27*15%,0)) | Y27: =IF(AND(K27=""),"",IF(AND(K27="NON ELIGIBLE"),X27,(X27+K27))) | Z27: 5 | AA27: 5 | AB27: 5 | AC27: 56 | AD27: =IF(AND(K27=""),"",SUM(Z27:AC27)) | AE27: =IF(AND(K27=""),"",ROUNDUP(AD27*15%,0)) | AF27: =IF(AND(K27=""),"",IF(AND(K27="NON ELIGIBLE"),AE27,(AE27+K27))) | AG27: 5 | AH27: 5 | AI27: 5 | AJ27: 56 | AK27: =IF(AND(K27=""),"",SUM(AG27:AJ27)) | AL27: =IF(AND(K27=""),"",ROUNDUP(AK27*15%,0)) | AM27: =IF(AND(K27=""),"",IF(AND(K27="NON ELIGIBLE"),AL27,(AL27+K27))) | AN27: 5 | AO27: 5 | AP27: 5 | AQ27: 56 | AR27: =IF(AND(K27=""),"",SUM(AN27:AQ27)) | AS27: =IF(AND(K27=""),"",ROUNDUP(AR27*15%,0)) | AT27: =IF(AND(K27=""),"",IF(AND(K27="NON ELIGIBLE"),AS27,(AS27+K27))) | AU27: 5 | AV27: 5 | AW27: 5 | AX27: 56 | AY27: =IF(AND(K27=""),"",SUM(AU27:AX27)) | AZ27: =IF(AND(K27=""),"",ROUNDUP(AY27*15%,0)) | BA27: =IF(AND(K27=""),"",IF(AND(K27="NON ELIGIBLE"),AZ27,(AZ27+K27))) | BB27: 18 | BC27: 18 | BD27: 18 | BE27: 19 | BF27: 19 | BG27: =IF(AND(E27=""),"",SUM(BB27,BC27,BD27,BE27,BF27)) | BH27: =IF(BG27=""," ",IF(BG27>90,"A+",IF(BG27>75,"A",IF(BG27>60,"B",IF(BG27>40,"C","D"))))) | BI27: 18 | BJ27: 18 | BK27: 19 | BL27: 18 | BM27: 19 | BN27: =IF(AND(E27=""),"",SUM(BI27,BJ27,BK27,BL27,BM27)) | BO27: =IF(BN27=""," ",IF(BN27>90,"A+",IF(BN27>75,"A",IF(BN27>60,"B",IF(BN27>40,"C","D"))))) | BP27: 18 | BQ27: 18 | BR27: 19 | BS27: 18 | BT27: 19 | BU27: =IF(AND(E27=""),"",SUM(BP27,BQ27,BR27,BS27,BT27)) | BV27: =IF(BU27=""," ",IF(BU27>90,"A+",IF(BU27>75,"A",IF(BU27>60,"B",IF(BU27>40,"C","D")))))
A28: 18 | F28: =IF(AND(B28=""),"",F$10) | G28: 210 | H28: =IF(AND(F28=""),"",IF(AND(G28=""),"",G28/F28*100)) | J28: =IF(AND(F28=""),"",IF(AND(G28=""),"",SUM(H28+I28))) | K28: =IF(J28="","",IF(J28>=86,5,IF(J28>=75,4,IF(J28>=65,3,"NON ELIGIBLE")))) | L28: 5 | M28: 5 | N28: 5 | O28: 58 | P28: =IF(AND(K28=""),"",SUM(L28:O28)) | Q28: =IF(AND(K28=""),"",ROUNDUP(P28*15%,0)) | R28: =IF(AND(K28=""),"",IF(AND(K28="NON ELIGIBLE"),Q28,(Q28+K28))) | S28: 5 | T28: 5 | U28: 5 | V28: 56 | W28: =IF(AND(K28=""),"",SUM(S28:V28)) | X28: =IF(AND(K28=""),"",ROUNDUP(W28*15%,0)) | Y28: =IF(AND(K28=""),"",IF(AND(K28="NON ELIGIBLE"),X28,(X28+K28))) | Z28: 5 | AA28: 5 | AB28: 5 | AC28: 56 | AD28: =IF(AND(K28=""),"",SUM(Z28:AC28)) | AE28: =IF(AND(K28=""),"",ROUNDUP(AD28*15%,0)) | AF28: =IF(AND(K28=""),"",IF(AND(K28="NON ELIGIBLE"),AE28,(AE28+K28))) | AG28: 5 | AH28: 5 | AI28: 5 | AJ28: 56 | AK28: =IF(AND(K28=""),"",SUM(AG28:AJ28)) | AL28: =IF(AND(K28=""),"",ROUNDUP(AK28*15%,0)) | AM28: =IF(AND(K28=""),"",IF(AND(K28="NON ELIGIBLE"),AL28,(AL28+K28))) | AN28: 5 | AO28: 5 | AP28: 5 | AQ28: 56 | AR28: =IF(AND(K28=""),"",SUM(AN28:AQ28)) | AS28: =IF(AND(K28=""),"",ROUNDUP(AR28*15%,0)) | AT28: =IF(AND(K28=""),"",IF(AND(K28="NON ELIGIBLE"),AS28,(AS28+K28))) | AU28: 5 | AV28: 5 | AW28: 5 | AX28: 56 | AY28: =IF(AND(K28=""),"",SUM(AU28:AX28)) | AZ28: =IF(AND(K28=""),"",ROUNDUP(AY28*15%,0)) | BA28: =IF(AND(K28=""),"",IF(AND(K28="NON ELIGIBLE"),AZ28,(AZ28+K28))) | BB28: 19 | BC28: 19 | BD28: 19 | BE28: 18 | BF28: 18 | BG28: =IF(AND(E28=""),"",SUM(BB28,BC28,BD28,BE28,BF28)) | BH28: =IF(BG28=""," ",IF(BG28>90,"A+",IF(BG28>75,"A",IF(BG28>60,"B",IF(BG28>40,"C","D"))))) | BI28: 19 | BJ28: 19 | BK28: 18 | BL28: 19 | BM28: 18 | BN28: =IF(AND(E28=""),"",SUM(BI28,BJ28,BK28,BL28,BM28)) | BO28: =IF(BN28=""," ",IF(BN28>90,"A+",IF(BN28>75,"A",IF(BN28>60,"B",IF(BN28>40,"C","D"))))) | BP28: 19 | BQ28: 18 | BR28: 18 | BS28: 19 | BT28: 19 | BU28: =IF(AND(E28=""),"",SUM(BP28,BQ28,BR28,BS28,BT28)) | BV28: =IF(BU28=""," ",IF(BU28>90,"A+",IF(BU28>75,"A",IF(BU28>60,"B",IF(BU28>40,"C","D")))))
A29: 19 | F29: =IF(AND(B29=""),"",F$10) | G29: 210 | H29: =IF(AND(F29=""),"",IF(AND(G29=""),"",G29/F29*100)) | J29: =IF(AND(F29=""),"",IF(AND(G29=""),"",SUM(H29+I29))) | K29: =IF(J29="","",IF(J29>=86,5,IF(J29>=75,4,IF(J29>=65,3,"NON ELIGIBLE")))) | L29: 5 | M29: 5 | N29: 5 | O29: 59 | P29: =IF(AND(K29=""),"",SUM(L29:O29)) | Q29: =IF(AND(K29=""),"",ROUNDUP(P29*15%,0)) | R29: =IF(AND(K29=""),"",IF(AND(K29="NON ELIGIBLE"),Q29,(Q29+K29))) | S29: 5 | T29: 5 | U29: 5 | V29: 56 | W29: =IF(AND(K29=""),"",SUM(S29:V29)) | X29: =IF(AND(K29=""),"",ROUNDUP(W29*15%,0)) | Y29: =IF(AND(K29=""),"",IF(AND(K29="NON ELIGIBLE"),X29,(X29+K29))) | Z29: 5 | AA29: 5 | AB29: 5 | AC29: 56 | AD29: =IF(AND(K29=""),"",SUM(Z29:AC29)) | AE29: =IF(AND(K29=""),"",ROUNDUP(AD29*15%,0)) | AF29: =IF(AND(K29=""),"",IF(AND(K29="NON ELIGIBLE"),AE29,(AE29+K29))) | AG29: 10 | AH29: 10 | AI29: 10 | AJ29: 56 | AK29: =IF(AND(K29=""),"",SUM(AG29:AJ29)) | AL29: =IF(AND(K29=""),"",ROUNDUP(AK29*15%,0)) | AM29: =IF(AND(K29=""),"",IF(AND(K29="NON ELIGIBLE"),AL29,(AL29+K29))) | AN29: 5 | AO29: 5 | AP29: 5 | AQ29: 56 | AR29: =IF(AND(K29=""),"",SUM(AN29:AQ29)) | AS29: =IF(AND(K29=""),"",ROUNDUP(AR29*15%,0)) | AT29: =IF(AND(K29=""),"",IF(AND(K29="NON ELIGIBLE"),AS29,(AS29+K29))) | AU29: 5 | AV29: 5 | AW29: 5 | AX29: 56 | AY29: =IF(AND(K29=""),"",SUM(AU29:AX29)) | AZ29: =IF(AND(K29=""),"",ROUNDUP(AY29*15%,0)) | BA29: =IF(AND(K29=""),"",IF(AND(K29="NON ELIGIBLE"),AZ29,(AZ29+K29))) | BB29: 18 | BC29: 18 | BG29: =IF(AND(E29=""),"",SUM(BB29,BC29,BD29,BE29,BF29)) | BH29: =IF(BG29=""," ",IF(BG29>90,"A+",IF(BG29>75,"A",IF(BG29>60,"B",IF(BG29>40,"C","D"))))) | BI29: 17 | BJ29: 18 | BN29: =IF(AND(E29=""),"",SUM(BI29,BJ29,BK29,BL29,BM29)) | BO29: =IF(BN29=""," ",IF(BN29>90,"A+",IF(BN29>75,"A",IF(BN29>60,"B",IF(BN29>40,"C","D"))))) | BP29: 19 | BQ29: 19 | BU29: =IF(AND(E29=""),"",SUM(BP29,BQ29,BR29,BS29,BT29)) | BV29: =IF(BU29=""," ",IF(BU29>90,"A+",IF(BU29>75,"A",IF(BU29>60,"B",IF(BU29>40,"C","D")))))
A30: 20 | F30: =IF(AND(B30=""),"",F$10) | G30: 210 | H30: =IF(AND(F30=""),"",IF(AND(G30=""),"",G30/F30*100)) | J30: =IF(AND(F30=""),"",IF(AND(G30=""),"",SUM(H30+I30))) | K30: =IF(J30="","",IF(J30>=86,5,IF(J30>=75,4,IF(J30>=65,3,"NON ELIGIBLE")))) | L30: 5 | M30: 5 | N30: 5 | O30: 60 | P30: =IF(AND(K30=""),"",SUM(L30:O30)) | Q30: =IF(AND(K30=""),"",ROUNDUP(P30*15%,0)) | R30: =IF(AND(K30=""),"",IF(AND(K30="NON ELIGIBLE"),Q30,(Q30+K30))) | S30: 5 | T30: 5 | U30: 5 | V30: 56 | W30: =IF(AND(K30=""),"",SUM(S30:V30)) | X30: =IF(AND(K30=""),"",ROUNDUP(W30*15%,0)) | Y30: =IF(AND(K30=""),"",IF(AND(K30="NON ELIGIBLE"),X30,(X30+K30))) | Z30: 5 | AA30: 5 | AB30: 5 | AC30: 56 | AD30: =IF(AND(K30=""),"",SUM(Z30:AC30)) | AE30: =IF(AND(K30=""),"",ROUNDUP(AD30*15%,0)) | AF30: =IF(AND(K30=""),"",IF(AND(K30="NON ELIGIBLE"),AE30,(AE30+K30))) | AG30: 5 | AH30: 5 | AI30: 5 | AJ30: 56 | AK30: =IF(AND(K30=""),"",SUM(AG30:AJ30)) | AL30: =IF(AND(K30=""),"",ROUNDUP(AK30*15%,0)) | AM30: =IF(AND(K30=""),"",IF(AND(K30="NON ELIGIBLE"),AL30,(AL30+K30))) | AN30: 5 | AO30: 5 | AP30: 5 | AQ30: 56 | AR30: =IF(AND(K30=""),"",SUM(AN30:AQ30)) | AS30: =IF(AND(K30=""),"",ROUNDUP(AR30*15%,0)) | AT30: =IF(AND(K30=""),"",IF(AND(K30="NON ELIGIBLE"),AS30,(AS30+K30))) | AU30: 5 | AV30: 5 | AW30: 5 | AX30: 56 | AY30: =IF(AND(K30=""),"",SUM(AU30:AX30)) | AZ30: =IF(AND(K30=""),"",ROUNDUP(AY30*15%,0)) | BA30: =IF(AND(K30=""),"",IF(AND(K30="NON ELIGIBLE"),AZ30,(AZ30+K30))) | BB30: 18 | BC30: 19 | BD30: 19 | BE30: 18 | BF30: 18 | BG30: =IF(AND(E30=""),"",SUM(BB30,BC30,BD30,BE30,BF30)) | BH30: =IF(BG30=""," ",IF(BG30>90,"A+",IF(BG30>75,"A",IF(BG30>60,"B",IF(BG30>40,"C","D"))))) | BI30: 18 | BJ30: 18 | BK30: 17 | BL30: 18 | BM30: 17 | BN30: =IF(AND(E30=""),"",SUM(BI30,BJ30,BK30,BL30,BM30)) | BO30: =IF(BN30=""," ",IF(BN30>90,"A+",IF(BN30>75,"A",IF(BN30>60,"B",IF(BN30>40,"C","D"))))) | BP30: 18 | BQ30: 17 | BR30: 18 | BS30: 17 | BT30: 18 | BU30: =IF(AND(E30=""),"",SUM(BP30,BQ30,BR30,BS30,BT30)) | BV30: =IF(BU30=""," ",IF(BU30>90,"A+",IF(BU30>75,"A",IF(BU30>60,"B",IF(BU30>40,"C","D")))))
A31: 21 | F31: =IF(AND(B31=""),"",F$10) | G31: 210 | H31: =IF(AND(F31=""),"",IF(AND(G31=""),"",G31/F31*100)) | J31: =IF(AND(F31=""),"",IF(AND(G31=""),"",SUM(H31+I31))) | K31: =IF(J31="","",IF(J31>=86,5,IF(J31>=75,4,IF(J31>=65,3,"NON ELIGIBLE")))) | L31: 5 | M31: 6 | N31: 5 | O31: 61 | P31: =IF(AND(K31=""),"",SUM(L31:O31)) | Q31: =IF(AND(K31=""),"",ROUNDUP(P31*15%,0)) | R31: =IF(AND(K31=""),"",IF(AND(K31="NON ELIGIBLE"),Q31,(Q31+K31))) | S31: 5 | T31: 5 | U31: 5 | V31: 56 | W31: =IF(AND(K31=""),"",SUM(S31:V31)) | X31: =IF(AND(K31=""),"",ROUNDUP(W31*15%,0)) | Y31: =IF(AND(K31=""),"",IF(AND(K31="NON ELIGIBLE"),X31,(X31+K31))) | Z31: 5 | AA31: 5 | AB31: 5 | AC31: 56 | AD31: =IF(AND(K31=""),"",SUM(Z31:AC31)) | AE31: =IF(AND(K31=""),"",ROUNDUP(AD31*15%,0)) | AF31: =IF(AND(K31=""),"",IF(AND(K31="NON ELIGIBLE"),AE31,(AE31+K31))) | AG31: 5 | AH31: 5 | AI31: 5 | AJ31: 56 | AK31: =IF(AND(K31=""),"",SUM(AG31:AJ31)) | AL31: =IF(AND(K31=""),"",ROUNDUP(AK31*15%,0)) | AM31: =IF(AND(K31=""),"",IF(AND(K31="NON ELIGIBLE"),AL31,(AL31+K31))) | AN31: 5 | AO31: 5 | AP31: 5 | AQ31: 56 | AR31: =IF(AND(K31=""),"",SUM(AN31:AQ31)) | AS31: =IF(AND(K31=""),"",ROUNDUP(AR31*15%,0)) | AT31: =IF(AND(K31=""),"",IF(AND(K31="NON ELIGIBLE"),AS31,(AS31+K31))) | AU31: 5 | AV31: 5 | AW31: 5 | AX31: 56 | AY31: =IF(AND(K31=""),"",SUM(AU31:AX31)) | AZ31: =IF(AND(K31=""),"",ROUNDUP(AY31*15%,0)) | BA31: =IF(AND(K31=""),"",IF(AND(K31="NON ELIGIBLE"),AZ31,(AZ31+K31))) | BB31: 18 | BC31: 18 | BD31: 19 | BE31: 18 | BF31: 18 | BG31: =IF(AND(E31=""),"",SUM(BB31,BC31,BD31,BE31,BF31)) | BH31: =IF(BG31=""," ",IF(BG31>90,"A+",IF(BG31>75,"A",IF(BG31>60,"B",IF(BG31>40,"C","D"))))) | BI31: 17 | BJ31: 17 | BK31: 17 | BL31: 18 | BM31: 18 | BN31: =IF(AND(E31=""),"",SUM(BI31,BJ31,BK31,BL31,BM31)) | BO31: =IF(BN31=""," ",IF(BN31>90,"A+",IF(BN31>75,"A",IF(BN31>60,"B",IF(BN31>40,"C","D"))))) | BP31: 19 | BQ31: 18 | BR31: 18 | BS31: 19 | BT31: 18 | BU31: =IF(AND(E31=""),"",SUM(BP31,BQ31,BR31,BS31,BT31)) | BV31: =IF(BU31=""," ",IF(BU31>90,"A+",IF(BU31>75,"A",IF(BU31>60,"B",IF(BU31>40,"C","D")))))
A32: 22 | F32: =IF(AND(B32=""),"",F$10) | G32: 210 | H32: =IF(AND(F32=""),"",IF(AND(G32=""),"",G32/F32*100)) | J32: =IF(AND(F32=""),"",IF(AND(G32=""),"",SUM(H32+I32))) | K32: =IF(J32="","",IF(J32>=86,5,IF(J32>=75,4,IF(J32>=65,3,"NON ELIGIBLE")))) | L32: 5 | M32: 7 | N32: 5 | O32: 62 | P32: =IF(AND(K32=""),"",SUM(L32:O32)) | Q32: =IF(AND(K32=""),"",ROUNDUP(P32*15%,0)) | R32: =IF(AND(K32=""),"",IF(AND(K32="NON ELIGIBLE"),Q32,(Q32+K32))) | S32: 5 | T32: 5 | U32: 5 | V32: 56 | W32: =IF(AND(K32=""),"",SUM(S32:V32)) | X32: =IF(AND(K32=""),"",ROUNDUP(W32*15%,0)) | Y32: =IF(AND(K32=""),"",IF(AND(K32="NON ELIGIBLE"),X32,(X32+K32))) | Z32: 5 | AA32: 5 | AB32: 5 | AC32: 56 | AD32: =IF(AND(K32=""),"",SUM(Z32:AC32)) | AE32: =IF(AND(K32=""),"",ROUNDUP(AD32*15%,0)) | AF32: =IF(AND(K32=""),"",IF(AND(K32="NON ELIGIBLE"),AE32,(AE32+K32))) | AG32: 5 | AH32: 5 | AI32: 5 | AJ32: 56 | AK32: =IF(AND(K32=""),"",SUM(AG32:AJ32)) | AL32: =IF(AND(K32=""),"",ROUNDUP(AK32*15%,0)) | AM32: =IF(AND(K32=""),"",IF(AND(K32="NON ELIGIBLE"),AL32,(AL32+K32))) | AN32: 5 | AO32: 5 | AP32: 5 | AQ32: 56 | AR32: =IF(AND(K32=""),"",SUM(AN32:AQ32)) | AS32: =IF(AND(K32=""),"",ROUNDUP(AR32*15%,0)) | AT32: =IF(AND(K32=""),"",IF(AND(K32="NON ELIGIBLE"),AS32,(AS32+K32))) | AU32: 5 | AV32: 5 | AW32: 5 | AX32: 56 | AY32: =IF(AND(K32=""),"",SUM(AU32:AX32)) | AZ32: =IF(AND(K32=""),"",ROUNDUP(AY32*15%,0)) | BA32: =IF(AND(K32=""),"",IF(AND(K32="NON ELIGIBLE"),AZ32,(AZ32+K32))) | BB32: 18 | BG32: =IF(AND(E32=""),"",SUM(BB32,BC32,BD32,BE32,BF32)) | BH32: =IF(BG32=""," ",IF(BG32>90,"A+",IF(BG32>75,"A",IF(BG32>60,"B",IF(BG32>40,"C","D"))))) | BI32: 17 | BN32: =IF(AND(E32=""),"",SUM(BI32,BJ32,BK32,BL32,BM32)) | BO32: =IF(BN32=""," ",IF(BN32>90,"A+",IF(BN32>75,"A",IF(BN32>60,"B",IF(BN32>40,"C","D"))))) | BP32: 18 | BU32: =IF(AND(E32=""),"",SUM(BP32,BQ32,BR32,BS32,BT32)) | BV32: =IF(BU32=""," ",IF(BU32>90,"A+",IF(BU32>75,"A",IF(BU32>60,"B",IF(BU32>40,"C","D")))))
A33: 23 | F33: =IF(AND(B33=""),"",F$10) | G33: 210 | H33: =IF(AND(F33=""),"",IF(AND(G33=""),"",G33/F33*100)) | J33: =IF(AND(F33=""),"",IF(AND(G33=""),"",SUM(H33+I33))) | K33: =IF(J33="","",IF(J33>=86,5,IF(J33>=75,4,IF(J33>=65,3,"NON ELIGIBLE")))) | L33: 5 | M33: 8 | N33: 5 | O33: 63 | P33: =IF(AND(K33=""),"",SUM(L33:O33)) | Q33: =IF(AND(K33=""),"",ROUNDUP(P33*15%,0)) | R33: =IF(AND(K33=""),"",IF(AND(K33="NON ELIGIBLE"),Q33,(Q33+K33))) | S33: 5 | T33: 5 | U33: 5 | V33: 56 | W33: =IF(AND(K33=""),"",SUM(S33:V33)) | X33: =IF(AND(K33=""),"",ROUNDUP(W33*15%,0)) | Y33: =IF(AND(K33=""),"",IF(AND(K33="NON ELIGIBLE"),X33,(X33+K33))) | Z33: 5 | AA33: 5 | AB33: 5 | AC33: 56 | AD33: =IF(AND(K33=""),"",SUM(Z33:AC33)) | AE33: =IF(AND(K33=""),"",ROUNDUP(AD33*15%,0)) | AF33: =IF(AND(K33=""),"",IF(AND(K33="NON ELIGIBLE"),AE33,(AE33+K33))) | AG33: 5 | AH33: 5 | AI33: 5 | AJ33: 56 | AK33: =IF(AND(K33=""),"",SUM(AG33:AJ33)) | AL33: =IF(AND(K33=""),"",ROUNDUP(AK33*15%,0)) | AM33: =IF(AND(K33=""),"",IF(AND(K33="NON ELIGIBLE"),AL33,(AL33+K33))) | AN33: 5 | AO33: 5 | AP33: 5 | AQ33: 56 | AR33: =IF(AND(K33=""),"",SUM(AN33:AQ33)) | AS33: =IF(AND(K33=""),"",ROUNDUP(AR33*15%,0)) | AT33: =IF(AND(K33=""),"",IF(AND(K33="NON ELIGIBLE"),AS33,(AS33+K33))) | AU33: 5 | AV33: 5 | AW33: 5 | AX33: 56 | AY33: =IF(AND(K33=""),"",SUM(AU33:AX33)) | AZ33: =IF(AND(K33=""),"",ROUNDUP(AY33*15%,0)) | BA33: =IF(AND(K33=""),"",IF(AND(K33="NON ELIGIBLE"),AZ33,(AZ33+K33))) | BB33: 17 | BC33: 17 | BD33: 16 | BE33: 17 | BF33: 17 | BG33: =IF(AND(E33=""),"",SUM(BB33,BC33,BD33,BE33,BF33)) | BH33: =IF(BG33=""," ",IF(BG33>90,"A+",IF(BG33>75,"A",IF(BG33>60,"B",IF(BG33>40,"C","D"))))) | BI33: 17 | BJ33: 17 | BK33: 17 | BL33: 17 | BM33: 17 | BN33: =IF(AND(E33=""),"",SUM(BI33,BJ33,BK33,BL33,BM33)) | BO33: =IF(BN33=""," ",IF(BN33>90,"A+",IF(BN33>75,"A",IF(BN33>60,"B",IF(BN33>40,"C","D"))))) | BP33: 17 | BQ33: 17 | BR33: 18 | BS33: 17 | BT33: 18 | BU33: =IF(AND(E33=""),"",SUM(BP33,BQ33,BR33,BS33,BT33)) | BV33: =IF(BU33=""," ",IF(BU33>90,"A+",IF(BU33>75,"A",IF(BU33>60,"B",IF(BU33>40,"C","D")))))
A34: 24 | F34: =IF(AND(B34=""),"",F$10) | G34: 210 | H34: =IF(AND(F34=""),"",IF(AND(G34=""),"",G34/F34*100)) | J34: =IF(AND(F34=""),"",IF(AND(G34=""),"",SUM(H34+I34))) | K34: =IF(J34="","",IF(J34>=86,5,IF(J34>=75,4,IF(J34>=65,3,"NON ELIGIBLE")))) | L34: 5 | M34: 9 | N34: 5 | O34: 64 | P34: =IF(AND(K34=""),"",SUM(L34:O34)) | Q34: =IF(AND(K34=""),"",ROUNDUP(P34*15%,0)) | R34: =IF(AND(K34=""),"",IF(AND(K34="NON ELIGIBLE"),Q34,(Q34+K34))) | S34: 5 | T34: 5 | U34: 5 | V34: 56 | W34: =IF(AND(K34=""),"",SUM(S34:V34)) | X34: =IF(AND(K34=""),"",ROUNDUP(W34*15%,0)) | Y34: =IF(AND(K34=""),"",IF(AND(K34="NON ELIGIBLE"),X34,(X34+K34))) | Z34: 5 | AA34: 5 | AB34: 5 | AC34: 56 | AD34: =IF(AND(K34=""),"",SUM(Z34:AC34)) | AE34: =IF(AND(K34=""),"",ROUNDUP(AD34*15%,0)) | AF34: =IF(AND(K34=""),"",IF(AND(K34="NON ELIGIBLE"),AE34,(AE34+K34))) | AG34: 5 | AH34: 5 | AI34: 5 | AJ34: 56 | AK34: =IF(AND(K34=""),"",SUM(AG34:AJ34)) | AL34: =IF(AND(K34=""),"",ROUNDUP(AK34*15%,0)) | AM34: =IF(AND(K34=""),"",IF(AND(K34="NON ELIGIBLE"),AL34,(AL34+K34))) | AN34: 5 | AO34: 5 | AP34: 5 | AQ34: 56 | AR34: =IF(AND(K34=""),"",SUM(AN34:AQ34)) | AS34: =IF(AND(K34=""),"",ROUNDUP(AR34*15%,0)) | AT34: =IF(AND(K34=""),"",IF(AND(K34="NON ELIGIBLE"),AS34,(AS34+K34))) | AU34: 5 | AV34: 5 | AW34: 5 | AX34: 56 | AY34: =IF(AND(K34=""),"",SUM(AU34:AX34)) | AZ34: =IF(AND(K34=""),"",ROUNDUP(AY34*15%,0)) | BA34: =IF(AND(K34=""),"",IF(AND(K34="NON ELIGIBLE"),AZ34,(AZ34+K34))) | BB34: 17 | BC34: 18 | BD34: 17 | BE34: 18 | BF34: 18 | BG34: =IF(AND(E34=""),"",SUM(BB34,BC34,BD34,BE34,BF34)) | BH34: =IF(BG34=""," ",IF(BG34>90,"A+",IF(BG34>75,"A",IF(BG34>60,"B",IF(BG34>40,"C","D"))))) | BI34: 18 | BJ34: 17 | BK34: 18 | BL34: 17 | BM34: 18 | BN34: =IF(AND(E34=""),"",SUM(BI34,BJ34,BK34,BL34,BM34)) | BO34: =IF(BN34=""," ",IF(BN34>90,"A+",IF(BN34>75,"A",IF(BN34>60,"B",IF(BN34>40,"C","D"))))) | BP34: 17 | BQ34: 17 | BR34: 17 | BS34: 18 | BT34: 17 | BU34: =IF(AND(E34=""),"",SUM(BP34,BQ34,BR34,BS34,BT34)) | BV34: =IF(BU34=""," ",IF(BU34>90,"A+",IF(BU34>75,"A",IF(BU34>60,"B",IF(BU34>40,"C","D")))))
A35: 25 | F35: =IF(AND(B35=""),"",F$10) | G35: 210 | H35: =IF(AND(F35=""),"",IF(AND(G35=""),"",G35/F35*100)) | J35: =IF(AND(F35=""),"",IF(AND(G35=""),"",SUM(H35+I35))) | K35: =IF(J35="","",IF(J35>=86,5,IF(J35>=75,4,IF(J35>=65,3,"NON ELIGIBLE")))) | L35: 5 | M35: 10 | N35: 5 | O35: 65 | P35: =IF(AND(K35=""),"",SUM(L35:O35)) | Q35: =IF(AND(K35=""),"",ROUNDUP(P35*15%,0)) | R35: =IF(AND(K35=""),"",IF(AND(K35="NON ELIGIBLE"),Q35,(Q35+K35))) | S35: 5 | T35: 5 | U35: 5 | V35: 56 | W35: =IF(AND(K35=""),"",SUM(S35:V35)) | X35: =IF(AND(K35=""),"",ROUNDUP(W35*15%,0)) | Y35: =IF(AND(K35=""),"",IF(AND(K35="NON ELIGIBLE"),X35,(X35+K35))) | Z35: 5 | AA35: 5 | AB35: 5 | AC35: 56 | AD35: =IF(AND(K35=""),"",SUM(Z35:AC35)) | AE35: =IF(AND(K35=""),"",ROUNDUP(AD35*15%,0)) | AF35: =IF(AND(K35=""),"",IF(AND(K35="NON ELIGIBLE"),AE35,(AE35+K35))) | AG35: 5 | AH35: 5 | AI35: 5 | AJ35: 56 | AK35: =IF(AND(K35=""),"",SUM(AG35:AJ35)) | AL35: =IF(AND(K35=""),"",ROUNDUP(AK35*15%,0)) | AM35: =IF(AND(K35=""),"",IF(AND(K35="NON ELIGIBLE"),AL35,(AL35+K35))) | AN35: 5 | AO35: 5 | AP35: 5 | AQ35: 56 | AR35: =IF(AND(K35=""),"",SUM(AN35:AQ35)) | AS35: =IF(AND(K35=""),"",ROUNDUP(AR35*15%,0)) | AT35: =IF(AND(K35=""),"",IF(AND(K35="NON ELIGIBLE"),AS35,(AS35+K35))) | AU35: 5 | AV35: 5 | AW35: 5 | AX35: 56 | AY35: =IF(AND(K35=""),"",SUM(AU35:AX35)) | AZ35: =IF(AND(K35=""),"",ROUNDUP(AY35*15%,0)) | BA35: =IF(AND(K35=""),"",IF(AND(K35="NON ELIGIBLE"),AZ35,(AZ35+K35))) | BC35: 19 | BD35: 19 | BE35: 19 | BF35: 18 | BG35: =IF(AND(E35=""),"",SUM(BB35,BC35,BD35,BE35,BF35)) | BH35: =IF(BG35=""," ",IF(BG35>90,"A+",IF(BG35>75,"A",IF(BG35>60,"B",IF(BG35>40,"C","D"))))) | BJ35: 19 | BK35: 19 | BL35: 19 | BM35: 19 | BN35: =IF(AND(E35=""),"",SUM(BI35,BJ35,BK35,BL35,BM35)) | BO35: =IF(BN35=""," ",IF(BN35>90,"A+",IF(BN35>75,"A",IF(BN35>60,"B",IF(BN35>40,"C","D"))))) | BQ35: 19 | BR35: 18 | BS35: 19 | BT35: 19 | BU35: =IF(AND(E35=""),"",SUM(BP35,BQ35,BR35,BS35,BT35)) | BV35: =IF(BU35=""," ",IF(BU35>90,"A+",IF(BU35>75,"A",IF(BU35>60,"B",IF(BU35>40,"C","D")))))
A36: 26 | F36: =IF(AND(B36=""),"",F$10) | G36: 210 | H36: =IF(AND(F36=""),"",IF(AND(G36=""),"",G36/F36*100)) | J36: =IF(AND(F36=""),"",IF(AND(G36=""),"",SUM(H36+I36))) | K36: =IF(J36="","",IF(J36>=86,5,IF(J36>=75,4,IF(J36>=65,3,"NON ELIGIBLE")))) | L36: 5 | M36: 6 | N36: 5 | O36: 66 | P36: =IF(AND(K36=""),"",SUM(L36:O36)) | Q36: =IF(AND(K36=""),"",ROUNDUP(P36*15%,0)) | R36: =IF(AND(K36=""),"",IF(AND(K36="NON ELIGIBLE"),Q36,(Q36+K36))) | S36: 5 | T36: 5 | U36: 5 | V36: 56 | W36: =IF(AND(K36=""),"",SUM(S36:V36)) | X36: =IF(AND(K36=""),"",ROUNDUP(W36*15%,0)) | Y36: =IF(AND(K36=""),"",IF(AND(K36="NON ELIGIBLE"),X36,(X36+K36))) | Z36: 5 | AA36: 5 | AB36: 5 | AC36: 56 | AD36: =IF(AND(K36=""),"",SUM(Z36:AC36)) | AE36: =IF(AND(K36=""),"",ROUNDUP(AD36*15%,0)) | AF36: =IF(AND(K36=""),"",IF(AND(K36="NON ELIGIBLE"),AE36,(AE36+K36))) | AG36: 5 | AH36: 5 | AI36: 5 | AJ36: 56 | AK36: =IF(AND(K36=""),"",SUM(AG36:AJ36)) | AL36: =IF(AND(K36=""),"",ROUNDUP(AK36*15%,0)) | AM36: =IF(AND(K36=""),"",IF(AND(K36="NON ELIGIBLE"),AL36,(AL36+K36))) | AN36: 5 | AO36: 5 | AP36: 5 | AQ36: 56 | AR36: =IF(AND(K36=""),"",SUM(AN36:AQ36)) | AS36: =IF(AND(K36=""),"",ROUNDUP(AR36*15%,0)) | AT36: =IF(AND(K36=""),"",IF(AND(K36="NON ELIGIBLE"),AS36,(AS36+K36))) | AU36: 5 | AV36: 5 | AW36: 5 | AX36: 56 | AY36: =IF(AND(K36=""),"",SUM(AU36:AX36)) | AZ36: =IF(AND(K36=""),"",ROUNDUP(AY36*15%,0)) | BA36: =IF(AND(K36=""),"",IF(AND(K36="NON ELIGIBLE"),AZ36,(AZ36+K36))) | BG36: =IF(AND(E36=""),"",SUM(BB36,BC36,BD36,BE36,BF36)) | BH36: =IF(BG36=""," ",IF(BG36>90,"A+",IF(BG36>75,"A",IF(BG36>60,"B",IF(BG36>40,"C","D"))))) | BN36: =IF(AND(E36=""),"",SUM(BI36,BJ36,BK36,BL36,BM36)) | BO36: =IF(BN36=""," ",IF(BN36>90,"A+",IF(BN36>75,"A",IF(BN36>60,"B",IF(BN36>40,"C","D"))))) | BU36: =IF(AND(E36=""),"",SUM(BP36,BQ36,BR36,BS36,BT36)) | BV36: =IF(BU36=""," ",IF(BU36>90,"A+",IF(BU36>75,"A",IF(BU36>60,"B",IF(BU36>40,"C","D")))))
