Workbook

Sheet Master Sheet
C1: fo|ky; dk uke %& | E1: jktdh; vkn'kZ mPPk ek/;fed fo|ky; bUnjokM+k] ia-l-& jkuh ¼ikyh½
C2: ihbZbZvks dk;kZy; %& | E2: jktdh; vkn'kZ mPPk ek/;fed fo|ky; bUnjokM+k] ia-l-& jkuh ¼ikyh½ | R2: ije~ iwT; xq:nso oklqnso th egkjkt dks ueu
C3: ihbZbZvks vf/kdkjh dk uke %& | E3: Jh feJhyky | I3: eksckbZy uEcj | K3: 9460444246
C4: iz/kkuk/;kid dk uke %& | E4: Jh ekaxhyky | I4: eksckbZy uEcj | K4: 9829607409
C5: ijh{kk izHkkjh dk uke %& | E5: Jh lkaojey ;kno | I5: eksckbZy uEcj | K5: 9001884272
A6: आठवीं बोर्ड परीक्षा सत्रांक सूची
A7: Ø-l- | B7: izos'kkad | C7: tUefrfFk | D7: uke ijh{kkFkhZ | E7: cksMZ }kjk tkjh jksy ua- | F7: mifLFkfr foo.k | L7: fo"k; & | N7: fgUnh | R7: dqy l=kad ¼vad o mi-½ | S7: fo"k; & | U7: vaxzsth | Y7: dqy l=kad ¼vad o mi-½ | Z7: fo"k; & | AB7: xf.kr | AF7: dqy l=kad ¼vad o mi-½ | AG7: fo"k; & | AI7: laLd`r | AM7: dqy l=kad ¼vad o mi-½ | AN7: fo"k; & | AP7: foKku | AT7: dqy l=kad ¼vad o mi-½ | AU7: fo"k; & | AW7: lkekftd foKku | BA7: dqy l=kad ¼vad o mi-½ | BB7: dk;kZuqHko | BI7: dyk f'k{kk | BP7: Lok-'kk- f'k{kk
F8: dqy dk;Z fnol | G8: fo|kFkhZ dh mifLFkfr | H8: mifLFkfr izfr'kr | I8: t:jr iM+us ij 10% mi- laLFkk iz/kku }kjk ns; | J8: dqy mifLFkfr izfr'kr | K8: mifLFkfr ds 5% vad | L8: izFke ij[k | M8: f}rh; ij[k | N8: r`rh; ij[k | O8: v)Zokf"kZd ijh{kk | P8: dqy | Q8: dqy izkIrkad dk 15% | S8: izFke ij[k | T8: f}rh; ij[k | U8: r`rh; ij[k | V8: v)Zokf"kZd ijh{kk | W8: dqy | X8: dqy izkIrkad dk 15% | Z8: izFke ij[k | AA8: f}rh; ij[k | AB8: r`rh; ij[k | AC8: v)Zokf"kZd ijh{kk | AD8: dqy | AE8: dqy izkIrkad dk 15% | AG8: izFke ij[k | AH8: f}rh; ij[k | AI8: r`rh; ij[k | AJ8: v)Zokf"kZd ijh{kk | AK8: dqy | AL8: dqy izkIrkad dk 15% | AN8: izFke ij[k | AO8: f}rh; ij[k | AP8: r`rh; ij[k | AQ8: v)Zokf"kZd ijh{kk | AR8: dqy | AS8: dqy izkIrkad dk 15% | AU8: izFke ij[k | AV8: f}rh; ij[k | AW8: r`rh; ij[k | AX8: v)Zokf"kZd ijh{kk | AY8: dqy | AZ8: dqy izkIrkad dk 15% | BB8: I | BC8: II | BD8: III | BE8: IV | BF8: V | BG8: ;ksx | BH8: xzsM | BI8: I | BJ8: II | BK8: III | BL8: IV | BM8: V | BN8: ;ksx | BO8: xzsM | BP8: I | BQ8: II | BR8: III | BS8: IV | BT8: V | BU8: ;ksx | BV8: xzsM | CK8: This Programme Developed by: HEERALAL JAT
L9: izkIrkad | M9: izkIrkad | N9: izkIrkad | O9: izkIrkad | P9: izkIrkad | S9: izkIrkad | T9: izkIrkad | U9: izkIrkad | V9: izkIrkad | W9: izkIrkad | Z9: izkIrkad | AA9: izkIrkad | AB9: izkIrkad | AC9: izkIrkad | AD9: izkIrkad | AG9: izkIrkad | AH9: izkIrkad | AI9: izkIrkad | AJ9: izkIrkad | AK9: izkIrkad | AN9: izkIrkad | AO9: izkIrkad | AP9: izkIrkad | AQ9: izkIrkad | AR9: izkIrkad | AU9: izkIrkad | AV9: izkIrkad | AW9: izkIrkad | AX9: izkIrkad | AY9: izkIrkad | BB9: 20 | BC9: 20 | BD9: 20 | BE9: 20 | BF9: 20 | BG9: 100 | BI9: 20 | BJ9: 20 | BK9: 20 | BL9: 20 | BM9: 20 | BN9: 100 | BP9: 20 | BQ9: 20 | BR9: 20 | BS9: 20 | BT9: 20 | BU9: 100 | CK9: Sr. Teacher
F10: 240 | K10: 0.05 | L10: 10 | M10: 10 | N10: 10 | O10: 70 | P10: 100 | Q10: 0.15 | R10: 0.2 | S10: 10 | T10: 10 | U10: 10 | V10: 70 | W10: 100 | X10: 0.15 | Y10: 0.2 | Z10: 10 | AA10: 10 | AB10: 10 | AC10: 70 | AD10: 100 | AE10: 0.15 | AF10: 0.2 | AG10: 10 | AH10: 10 | AI10: 10 | AJ10: 70 | AK10: 100 | AL10: 0.15 | AM10: 0.2 | AN10: 10 | AO10: 10 | AP10: 10 | AQ10: 70 | AR10: 100 | AS10: 0.15 | AT10: 0.2 | AU10: 10 | AV10: 10 | AW10: 10 | AX10: 70 | AY10: 100 | AZ10: 0.15 | BA10: 0.2 | CK10: Block- Sojat City
A11: 1 | B11: 555 | C11: 39204 | D11: Anil | E11: 208600 | F11: =IF(AND(B11=""),"",F$10) -> 240 | G11: 212 | H11: =IF(AND(F11=""),"",IF(AND(G11=""),"",G11/F11*100)) -> 88.333333 | J11: =IF(AND(F11=""),"",IF(AND(G11=""),"",SUM(H11+I11))) -> 88.333333 | K11: =IF(J11="","",IF(J11>=86,5,IF(J11>=75,4,IF(J11>=65,3,"NON ELIGIBLE")))) -> 5 | L11: 3 | M11: 1 | N11: 3 | O11: 13 | P11: =IF(AND(K11=""),"",SUM(L11:O11)) -> 20 | Q11: =IF(AND(K11=""),"",ROUNDUP(P11*15%,0)) -> 3 | R11: =IF(AND(K11=""),"",IF(AND(K11="NON ELIGIBLE"),Q11,(Q11+K11))) -> 8 | S11: 3 | T11: 1 | U11: 3 | V11: 13 | W11: =IF(AND(K11=""),"",SUM(S11:V11)) -> 20 | X11: =IF(AND(K11=""),"",ROUNDUP(W11*15%,0)) -> 3 | Y11: =IF(AND(K11=""),"",IF(AND(K11="NON ELIGIBLE"),X11,(X11+K11))) -> 8 | Z11: 3 | AA11: 1 | AB11: 3 | AC11: 13 | AD11: =IF(AND(K11=""),"",SUM(Z11:AC11)) -> 20 | AE11: =IF(AND(K11=""),"",ROUNDUP(AD11*15%,0)) -> 3 | AF11: =IF(AND(K11=""),"",IF(AND(K11="NON ELIGIBLE"),AE11,(AE11+K11))) -> 8 | AG11: 3 | AH11: 1 | AI11: 3 | AJ11: 13 | AK11: =IF(AND(K11=""),"",SUM(AG11:AJ11)) -> 20 | AL11: =IF(AND(K11=""),"",ROUNDUP(AK11*15%,0)) -> 3 | AM11: =IF(AND(K11=""),"",IF(AND(K11="NON ELIGIBLE"),AL11,(AL11+K11))) -> 8 | AN11: 3 | AO11: 1 | AP11: 3 | AQ11: 13 | AR11: =IF(AND(K11=""),"",SUM(AN11:AQ11)) -> 20 | AS11: =IF(AND(K11=""),"",ROUNDUP(AR11*15%,0)) -> 3 | AT11: =IF(AND(K11=""),"",IF(AND(K11="NON ELIGIBLE"),AS11,(AS11+K11))) -> 8 | AU11: 3 | AV11: 1 | AW11: 3 | AX11: 13 | AY11: =IF(AND(K11=""),"",SUM(AU11:AX11)) -> 20 | AZ11: =IF(AND(K11=""),"",ROUNDUP(AY11*15%,0)) -> 3 | BA11: =IF(AND(K11=""),"",IF(AND(K11="NON ELIGIBLE"),AZ11,(AZ11+K11))) -> 8 | BB11: 17 | BC11: 18 | BD11: 17 | BE11: 18 | BF11: 17 | BG11: =IF(AND(E11=""),"",SUM(BB11,BC11,BD11,BE11,BF11)) -> 87 | BH11: =IF(BG11=""," ",IF(BG11>90,"A+",IF(BG11>75,"A",IF(BG11>60,"B",IF(BG11>40,"C","D"))))) -> A | BI11: 18 | BJ11: 18 | BK11: 17 | BL11: 18 | BM11: 18 | BN11: =IF(AND(E11=""),"",SUM(BI11,BJ11,BK11,BL11,BM11)) -> 89 | BO11: =IF(BN11=""," ",IF(BN11>90,"A+",IF(BN11>75,"A",IF(BN11>60,"B",IF(BN11>40,"C","D"))))) -> A | BP11: 18 | BQ11: 17 | BR11: 18 | BS11: 17 | BT11: 18 | BU11: =IF(AND(E11=""),"",SUM(BP11,BQ11,BR11,BS11,BT11)) -> 88 | BV11: =IF(BU11=""," ",IF(BU11>90,"A+",IF(BU11>75,"A",IF(BU11>60,"B",IF(BU11>40,"C","D"))))) -> A | CK11: Dist- Pali
A12: 2 | B12: 560 | C12: 39205 | D12: Akash | E12: 208601 | F12: =IF(AND(B12=""),"",F$10) -> 240 | G12: 214 | H12: =IF(AND(F12=""),"",IF(AND(G12=""),"",G12/F12*100)) -> 89.166667 | J12: =IF(AND(F12=""),"",IF(AND(G12=""),"",SUM(H12+I12))) -> 89.166667 | K12: =IF(J12="","",IF(J12>=86,5,IF(J12>=75,4,IF(J12>=65,3,"NON ELIGIBLE")))) -> 5 | L12: 10 | M12: 5 | N12: 7 | O12: 45 | P12: =IF(AND(K12=""),"",SUM(L12:O12)) -> 67 | Q12: =IF(AND(K12=""),"",ROUNDUP(P12*15%,0)) -> 11 | R12: =IF(AND(K12=""),"",IF(AND(K12="NON ELIGIBLE"),Q12,(Q12+K12))) -> 16 | S12: 10 | T12: 5 | U12: 7 | V12: 45 | W12: =IF(AND(K12=""),"",SUM(S12:V12)) -> 67 | X12: =IF(AND(K12=""),"",ROUNDUP(W12*15%,0)) -> 11 | Y12: =IF(AND(K12=""),"",IF(AND(K12="NON ELIGIBLE"),X12,(X12+K12))) -> 16 | Z12: 10 | AA12: 5 | AB12: 7 | AC12: 45 | AD12: =IF(AND(K12=""),"",SUM(Z12:AC12)) -> 67 | AE12: =IF(AND(K12=""),"",ROUNDUP(AD12*15%,0)) -> 11 | AF12: =IF(AND(K12=""),"",IF(AND(K12="NON ELIGIBLE"),AE12,(AE12+K12))) -> 16 | AG12: 10 | AH12: 5 | AI12: 7 | AJ12: 45 | AK12: =IF(AND(K12=""),"",SUM(AG12:AJ12)) -> 67 | AL12: =IF(AND(K12=""),"",ROUNDUP(AK12*15%,0)) -> 11 | AM12: =IF(AND(K12=""),"",IF(AND(K12="NON ELIGIBLE"),AL12,(AL12+K12))) -> 16 | AN12: 10 | AO12: 5 | AP12: 7 | AQ12: 45 | AR12: =IF(AND(K12=""),"",SUM(AN12:AQ12)) -> 67 | AS12: =IF(AND(K12=""),"",ROUNDUP(AR12*15%,0)) -> 11 | AT12: =IF(AND(K12=""),"",IF(AND(K12="NON ELIGIBLE"),AS12,(AS12+K12))) -> 16 | AU12: 10 | AV12: 5 | AW12: 7 | AX12: 45 | AY12: =IF(AND(K12=""),"",SUM(AU12:AX12)) -> 67 | AZ12: =IF(AND(K12=""),"",ROUNDUP(AY12*15%,0)) -> 11 | BA12: =IF(AND(K12=""),"",IF(AND(K12="NON ELIGIBLE"),AZ12,(AZ12+K12))) -> 16 | BB12: 16 | BC12: 17 | BD12: 17 | BE12: 16 | BF12: 17 | BG12: =IF(AND(E12=""),"",SUM(BB12,BC12,BD12,BE12,BF12)) -> 83 | BH12: =IF(BG12=""," ",IF(BG12>90,"A+",IF(BG12>75,"A",IF(BG12>60,"B",IF(BG12>40,"C","D"))))) -> A | BI12: 17 | BJ12: 17 | BK12: 16 | BL12: 16 | BM12: 17 | BN12: =IF(AND(E12=""),"",SUM(BI12,BJ12,BK12,BL12,BM12)) -> 83 | BO12: =IF(BN12=""," ",IF(BN12>90,"A+",IF(BN12>75,"A",IF(BN12>60,"B",IF(BN12>40,"C","D"))))) -> A | BP12: 18 | BQ12: 17 | BR12: 17 | BS12: 17 | BT12: 18 | BU12: =IF(AND(E12=""),"",SUM(BP12,BQ12,BR12,BS12,BT12)) -> 87 | BV12: =IF(BU12=""," ",IF(BU12>90,"A+",IF(BU12>75,"A",IF(BU12>60,"B",IF(BU12>40,"C","D"))))) -> A | CK12: Ph. 9001884272 (
A13: 3 | B13: 578 | C13: 39572 | D13: Ashish | E13: 208602 | F13: =IF(AND(B13=""),"",F$10) -> 240 | G13: 170 | H13: =IF(AND(F13=""),"",IF(AND(G13=""),"",G13/F13*100)) -> 70.833333 | J13: =IF(AND(F13=""),"",IF(AND(G13=""),"",SUM(H13+I13))) -> 70.833333 | K13: =IF(J13="","",IF(J13>=86,5,IF(J13>=75,4,IF(J13>=65,3,"NON ELIGIBLE")))) -> 3 | L13: 3 | M13: 6 | N13: 9 | O13: 38 | P13: =IF(AND(K13=""),"",SUM(L13:O13)) -> 56 | Q13: =IF(AND(K13=""),"",ROUNDUP(P13*15%,0)) -> 9 | R13: =IF(AND(K13=""),"",IF(AND(K13="NON ELIGIBLE"),Q13,(Q13+K13))) -> 12 | S13: 3 | T13: 6 | U13: 9 | V13: 38 | W13: =IF(AND(K13=""),"",SUM(S13:V13)) -> 56 | X13: =IF(AND(K13=""),"",ROUNDUP(W13*15%,0)) -> 9 | Y13: =IF(AND(K13=""),"",IF(AND(K13="NON ELIGIBLE"),X13,(X13+K13))) -> 12 | Z13: 3 | AA13: 6 | AB13: 9 | AC13: 38 | AD13: =IF(AND(K13=""),"",SUM(Z13:AC13)) -> 56 | AE13: =IF(AND(K13=""),"",ROUNDUP(AD13*15%,0)) -> 9 | AF13: =IF(AND(K13=""),"",IF(AND(K13="NON ELIGIBLE"),AE13,(AE13+K13))) -> 12 | AG13: 3 | AH13: 6 | AI13: 9 | AJ13: 38 | AK13: =IF(AND(K13=""),"",SUM(AG13:AJ13)) -> 56 | AL13: =IF(AND(K13=""),"",ROUNDUP(AK13*15%,0)) -> 9 | AM13: =IF(AND(K13=""),"",IF(AND(K13="NON ELIGIBLE"),AL13,(AL13+K13))) -> 12 | AN13: 3 | AO13: 6 | AP13: 9 | AQ13: 38 | AR13: =IF(AND(K13=""),"",SUM(AN13:AQ13)) -> 56 | AS13: =IF(AND(K13=""),"",ROUNDUP(AR13*15%,0)) -> 9 | AT13: =IF(AND(K13=""),"",IF(AND(K13="NON ELIGIBLE"),AS13,(AS13+K13))) -> 12 | AU13: 3 | AV13: 6 | AW13: 9 | AX13: 38 | AY13: =IF(AND(K13=""),"",SUM(AU13:AX13)) -> 56 | AZ13: =IF(AND(K13=""),"",ROUNDUP(AY13*15%,0)) -> 9 | BA13: =IF(AND(K13=""),"",IF(AND(K13="NON ELIGIBLE"),AZ13,(AZ13+K13))) -> 12 | BB13: 17 | BC13: 17 | BD13: 17 | BE13: 16 | BF13: 17 | BG13: =IF(AND(E13=""),"",SUM(BB13,BC13,BD13,BE13,BF13)) -> 84 | BH13: =IF(BG13=""," ",IF(BG13>90,"A+",IF(BG13>75,"A",IF(BG13>60,"B",IF(BG13>40,"C","D"))))) -> A | BI13: 16 | BJ13: 16 | BK13: 17 | BL13: 17 | BM13: 17 | BN13: =IF(AND(E13=""),"",SUM(BI13,BJ13,BK13,BL13,BM13)) -> 83 | BO13: =IF(BN13=""," ",IF(BN13>90,"A+",IF(BN13>75,"A",IF(BN13>60,"B",IF(BN13>40,"C","D"))))) -> A | BP13: 17 | BQ13: 17 | BR13: 18 | BS13: 17 | BT13: 17 | BU13: =IF(AND(E13=""),"",SUM(BP13,BQ13,BR13,BS13,BT13)) -> 86 | BV13: =IF(BU13=""," ",IF(BU13>90,"A+",IF(BU13>75,"A",IF(BU13>60,"B",IF(BU13>40,"C","D"))))) -> A | CK13: heeralaljatchandawal@gmail.com
A14: 4 | B14: 622 | C14: 39574 | D14: Arun | E14: 208603 | F14: =IF(AND(B14=""),"",F$10) -> 240 | G14: 210 | H14: =IF(AND(F14=""),"",IF(AND(G14=""),"",G14/F14*100)) -> 87.5 | J14: =IF(AND(F14=""),"",IF(AND(G14=""),"",SUM(H14+I14))) -> 87.5 | K14: =IF(J14="","",IF(J14>=86,5,IF(J14>=75,4,IF(J14>=65,3,"NON ELIGIBLE")))) -> 5 | L14: 7 | M14: 6 | N14: 8 | O14: 56 | P14: =IF(AND(K14=""),"",SUM(L14:O14)) -> 77 | Q14: =IF(AND(K14=""),"",ROUNDUP(P14*15%,0)) -> 12 | R14: =IF(AND(K14=""),"",IF(AND(K14="NON ELIGIBLE"),Q14,(Q14+K14))) -> 17 | S14: 7 | T14: 6 | U14: 8 | V14: 56 | W14: =IF(AND(K14=""),"",SUM(S14:V14)) -> 77 | X14: =IF(AND(K14=""),"",ROUNDUP(W14*15%,0)) -> 12 | Y14: =IF(AND(K14=""),"",IF(AND(K14="NON ELIGIBLE"),X14,(X14+K14))) -> 17 | Z14: 7 | AA14: 6 | AB14: 8 | AC14: 56 | AD14: =IF(AND(K14=""),"",SUM(Z14:AC14)) -> 77 | AE14: =IF(AND(K14=""),"",ROUNDUP(AD14*15%,0)) -> 12 | AF14: =IF(AND(K14=""),"",IF(AND(K14="NON ELIGIBLE"),AE14,(AE14+K14))) -> 17 | AG14: 7 | AH14: 6 | AI14: 8 | AJ14: 56 | AK14: =IF(AND(K14=""),"",SUM(AG14:AJ14)) -> 77 | AL14: =IF(AND(K14=""),"",ROUNDUP(AK14*15%,0)) -> 12 | AM14: =IF(AND(K14=""),"",IF(AND(K14="NON ELIGIBLE"),AL14,(AL14+K14))) -> 17 | AN14: 7 | AO14: 6 | AP14: 8 | AQ14: 56 | AR14: =IF(AND(K14=""),"",SUM(AN14:AQ14)) -> 77 | AS14: =IF(AND(K14=""),"",ROUNDUP(AR14*15%,0)) -> 12 | AT14: =IF(AND(K14=""),"",IF(AND(K14="NON ELIGIBLE"),AS14,(AS14+K14))) -> 17 | AU14: 7 | AV14: 6 | AW14: 8 | AX14: 56 | AY14: =IF(AND(K14=""),"",SUM(AU14:AX14)) -> 77 | AZ14: =IF(AND(K14=""),"",ROUNDUP(AY14*15%,0)) -> 12 | BA14: =IF(AND(K14=""),"",IF(AND(K14="NON ELIGIBLE"),AZ14,(AZ14+K14))) -> 17 | BB14: 16 | BC14: 16 | BD14: 17 | BE14: 16 | BF14: 17 | BG14: =IF(AND(E14=""),"",SUM(BB14,BC14,BD14,BE14,BF14)) -> 82 | BH14: =IF(BG14=""," ",IF(BG14>90,"A+",IF(BG14>75,"A",IF(BG14>60,"B",IF(BG14>40,"C","D"))))) -> A | BI14: 17 | BJ14: 18 | BK14: 18 | BL14: 17 | BM14: 18 | BN14: =IF(AND(E14=""),"",SUM(BI14,BJ14,BK14,BL14,BM14)) -> 88 | BO14: =IF(BN14=""," ",IF(BN14>90,"A+",IF(BN14>75,"A",IF(BN14>60,"B",IF(BN14>40,"C","D"))))) -> A | BP14: 16 | BQ14: 17 | BR14: 17 | BS14: 16 | BT14: 16 | BU14: =IF(AND(E14=""),"",SUM(BP14,BQ14,BR14,BS14,BT14)) -> 82 | BV14: =IF(BU14=""," ",IF(BU14>90,"A+",IF(BU14>75,"A",IF(BU14>60,"B",IF(BU14>40,"C","D"))))) -> A | CK14: V./P. - Chandawal Nagar, Teh.- sojat city, Dist.- Pali (Raj) 306306
A15: 5 | B15: 392 | C15: 38477 | D15: Abhisek | E15: 208604 | F15: =IF(AND(B15=""),"",F$10) -> 240 | G15: 198 | H15: =IF(AND(F15=""),"",IF(AND(G15=""),"",G15/F15*100)) -> 82.5 | J15: =IF(AND(F15=""),"",IF(AND(G15=""),"",SUM(H15+I15))) -> 82.5 | K15: =IF(J15="","",IF(J15>=86,5,IF(J15>=75,4,IF(J15>=65,3,"NON ELIGIBLE")))) -> 4 | L15: 5 | M15: 5 | N15: 5 | O15: 56 | P15: =IF(AND(K15=""),"",SUM(L15:O15)) -> 71 | Q15: =IF(AND(K15=""),"",ROUNDUP(P15*15%,0)) -> 11 | R15: =IF(AND(K15=""),"",IF(AND(K15="NON ELIGIBLE"),Q15,(Q15+K15))) -> 15 | S15: 5 | T15: 5 | U15: 5 | V15: 56 | W15: =IF(AND(K15=""),"",SUM(S15:V15)) -> 71 | X15: =IF(AND(K15=""),"",ROUNDUP(W15*15%,0)) -> 11 | Y15: =IF(AND(K15=""),"",IF(AND(K15="NON ELIGIBLE"),X15,(X15+K15))) -> 15 | Z15: 5 | AA15: 5 | AB15: 5 | AC15: 15 | AD15: =IF(AND(K15=""),"",SUM(Z15:AC15)) -> 30 | AE15: =IF(AND(K15=""),"",ROUNDUP(AD15*15%,0)) -> 5 | AF15: =IF(AND(K15=""),"",IF(AND(K15="NON ELIGIBLE"),AE15,(AE15+K15))) -> 9 | AG15: 5 | AH15: 5 | AI15: 5 | AJ15: 30 | AK15: =IF(AND(K15=""),"",SUM(AG15:AJ15)) -> 45 | AL15: =IF(AND(K15=""),"",ROUNDUP(AK15*15%,0)) -> 7 | AM15: =IF(AND(K15=""),"",IF(AND(K15="NON ELIGIBLE"),AL15,(AL15+K15))) -> 11 | AN15: 5 | AO15: 5 | AP15: 5 | AQ15: 56 | AR15: =IF(AND(K15=""),"",SUM(AN15:AQ15)) -> 71 | AS15: =IF(AND(K15=""),"",ROUNDUP(AR15*15%,0)) -> 11 | AT15: =IF(AND(K15=""),"",IF(AND(K15="NON ELIGIBLE"),AS15,(AS15+K15))) -> 15 | AU15: 5 | AV15: 5 | AW15: 5 | AX15: 56 | AY15: =IF(AND(K15=""),"",SUM(AU15:AX15)) -> 71 | AZ15: =IF(AND(K15=""),"",ROUNDUP(AY15*15%,0)) -> 11 | BA15: =IF(AND(K15=""),"",IF(AND(K15="NON ELIGIBLE"),AZ15,(AZ15+K15))) -> 15 | BB15: 18 | BC15: 18 | BD15: 17 | BE15: 18 | BF15: 18 | BG15: =IF(AND(E15=""),"",SUM(BB15,BC15,BD15,BE15,BF15)) -> 89 | BH15: =IF(BG15=""," ",IF(BG15>90,"A+",IF(BG15>75,"A",IF(BG15>60,"B",IF(BG15>40,"C","D"))))) -> A | BI15: 18 | BJ15: 18 | BK15: 17 | BL15: 17 | BM15: 17 | BN15: =IF(AND(E15=""),"",SUM(BI15,BJ15,BK15,BL15,BM15)) -> 87 | BO15: =IF(BN15=""," ",IF(BN15>90,"A+",IF(BN15>75,"A",IF(BN15>60,"B",IF(BN15>40,"C","D"))))) -> A | BP15: 18 | BQ15: 18 | BR15: 18 | BS15: 17 | BT15: 18 | BU15: =IF(AND(E15=""),"",SUM(BP15,BQ15,BR15,BS15,BT15)) -> 89 | BV15: =IF(BU15=""," ",IF(BU15>90,"A+",IF(BU15>75,"A",IF(BU15>60,"B",IF(BU15>40,"C","D"))))) -> A
A16: 6 | B16: 610 | C16: 38874 | D16: Adesh | E16: 208605 | F16: =IF(AND(B16=""),"",F$10) -> 240 | G16: 170 | H16: =IF(AND(F16=""),"",IF(AND(G16=""),"",G16/F16*100)) -> 70.833333 | J16: =IF(AND(F16=""),"",IF(AND(G16=""),"",SUM(H16+I16))) -> 70.833333 | K16: =IF(J16="","",IF(J16>=86,5,IF(J16>=75,4,IF(J16>=65,3,"NON ELIGIBLE")))) -> 3 | L16: 6 | M16: 6 | N16: 6 | O16: 58 | P16: =IF(AND(K16=""),"",SUM(L16:O16)) -> 76 | Q16: =IF(AND(K16=""),"",ROUNDUP(P16*15%,0)) -> 12 | R16: =IF(AND(K16=""),"",IF(AND(K16="NON ELIGIBLE"),Q16,(Q16+K16))) -> 15 | S16: 6 | T16: 6 | U16: 6 | V16: 58 | W16: =IF(AND(K16=""),"",SUM(S16:V16)) -> 76 | X16: =IF(AND(K16=""),"",ROUNDUP(W16*15%,0)) -> 12 | Y16: =IF(AND(K16=""),"",IF(AND(K16="NON ELIGIBLE"),X16,(X16+K16))) -> 15 | Z16: 6 | AA16: 6 | AB16: 6 | AC16: 58 | AD16: =IF(AND(K16=""),"",SUM(Z16:AC16)) -> 76 | AE16: =IF(AND(K16=""),"",ROUNDUP(AD16*15%,0)) -> 12 | AF16: =IF(AND(K16=""),"",IF(AND(K16="NON ELIGIBLE"),AE16,(AE16+K16))) -> 15 | AG16: 6 | AH16: 6 | AI16: 6 | AJ16: 58 | AK16: =IF(AND(K16=""),"",SUM(AG16:AJ16)) -> 76 | AL16: =IF(AND(K16=""),"",ROUNDUP(AK16*15%,0)) -> 12 | AM16: =IF(AND(K16=""),"",IF(AND(K16="NON ELIGIBLE"),AL16,(AL16+K16))) -> 15 | AN16: 6 | AO16: 6 | AP16: 6 | AQ16: 58 | AR16: =IF(AND(K16=""),"",SUM(AN16:AQ16)) -> 76 | AS16: =IF(AND(K16=""),"",ROUNDUP(AR16*15%,0)) -> 12 | AT16: =IF(AND(K16=""),"",IF(AND(K16="NON ELIGIBLE"),AS16,(AS16+K16))) -> 15 | AU16: 6 | AV16: 6 | AW16: 6 | AX16: 58 | AY16: =IF(AND(K16=""),"",SUM(AU16:AX16)) -> 76 | AZ16: =IF(AND(K16=""),"",ROUNDUP(AY16*15%,0)) -> 12 | BA16: =IF(AND(K16=""),"",IF(AND(K16="NON ELIGIBLE"),AZ16,(AZ16+K16))) -> 15 | BB16: 18 | BG16: =IF(AND(E16=""),"",SUM(BB16,BC16,BD16,BE16,BF16)) -> 18 | BH16: =IF(BG16=""," ",IF(BG16>90,"A+",IF(BG16>75,"A",IF(BG16>60,"B",IF(BG16>40,"C","D"))))) -> D | BI16: 17 | BN16: =IF(AND(E16=""),"",SUM(BI16,BJ16,BK16,BL16,BM16)) -> 17 | BO16: =IF(BN16=""," ",IF(BN16>90,"A+",IF(BN16>75,"A",IF(BN16>60,"B",IF(BN16>40,"C","D"))))) -> D | BP16: 18 | BU16: =IF(AND(E16=""),"",SUM(BP16,BQ16,BR16,BS16,BT16)) -> 18 | BV16: =IF(BU16=""," ",IF(BU16>90,"A+",IF(BU16>75,"A",IF(BU16>60,"B",IF(BU16>40,"C","D"))))) -> D
A17: 7 | B17: 615 | C17: 39297 | D17: Ankur | E17: 208606 | F17: =IF(AND(B17=""),"",F$10) -> 240 | G17: 202 | H17: =IF(AND(F17=""),"",IF(AND(G17=""),"",G17/F17*100)) -> 84.166667 | J17: =IF(AND(F17=""),"",IF(AND(G17=""),"",SUM(H17+I17))) -> 84.166667 | K17: =IF(J17="","",IF(J17>=86,5,IF(J17>=75,4,IF(J17>=65,3,"NON ELIGIBLE")))) -> 4 | L17: 7 | M17: 5 | N17: 7 | O17: 67 | P17: =IF(AND(K17=""),"",SUM(L17:O17)) -> 86 | Q17: =IF(AND(K17=""),"",ROUNDUP(P17*15%,0)) -> 13 | R17: =IF(AND(K17=""),"",IF(AND(K17="NON ELIGIBLE"),Q17,(Q17+K17))) -> 17 | S17: 7 | T17: 7 | U17: 7 | V17: 67 | W17: =IF(AND(K17=""),"",SUM(S17:V17)) -> 88 | X17: =IF(AND(K17=""),"",ROUNDUP(W17*15%,0)) -> 14 | Y17: =IF(AND(K17=""),"",IF(AND(K17="NON ELIGIBLE"),X17,(X17+K17))) -> 18 | Z17: 7 | AA17: 7 | AB17: 7 | AC17: 67 | AD17: =IF(AND(K17=""),"",SUM(Z17:AC17)) -> 88 | AE17: =IF(AND(K17=""),"",ROUNDUP(AD17*15%,0)) -> 14 | AF17: =IF(AND(K17=""),"",IF(AND(K17="NON ELIGIBLE"),AE17,(AE17+K17))) -> 18 | AG17: 7 | AH17: 7 | AI17: 7 | AJ17: 67 | AK17: =IF(AND(K17=""),"",SUM(AG17:AJ17)) -> 88 | AL17: =IF(AND(K17=""),"",ROUNDUP(AK17*15%,0)) -> 14 | AM17: =IF(AND(K17=""),"",IF(AND(K17="NON ELIGIBLE"),AL17,(AL17+K17))) -> 18 | AN17: 7 | AO17: 7 | AP17: 7 | AQ17: 67 | AR17: =IF(AND(K17=""),"",SUM(AN17:AQ17)) -> 88 | AS17: =IF(AND(K17=""),"",ROUNDUP(AR17*15%,0)) -> 14 | AT17: =IF(AND(K17=""),"",IF(AND(K17="NON ELIGIBLE"),AS17,(AS17+K17))) -> 18 | AU17: 7 | AV17: 7 | AW17: 7 | AX17: 67 | AY17: =IF(AND(K17=""),"",SUM(AU17:AX17)) -> 88 | AZ17: =IF(AND(K17=""),"",ROUNDUP(AY17*15%,0)) -> 14 | BA17: =IF(AND(K17=""),"",IF(AND(K17="NON ELIGIBLE"),AZ17,(AZ17+K17))) -> 18 | BB17: 19 | BC17: 19 | BD17: 18 | BE17: 19 | BF17: 19 | BG17: =IF(AND(E17=""),"",SUM(BB17,BC17,BD17,BE17,BF17)) -> 94 | BH17: =IF(BG17=""," ",IF(BG17>90,"A+",IF(BG17>75,"A",IF(BG17>60,"B",IF(BG17>40,"C","D"))))) -> A+ | BI17: 18 | BJ17: 18 | BK17: 19 | BL17: 18 | BM17: 19 | BN17: =IF(AND(E17=""),"",SUM(BI17,BJ17,BK17,BL17,BM17)) -> 92 | BO17: =IF(BN17=""," ",IF(BN17>90,"A+",IF(BN17>75,"A",IF(BN17>60,"B",IF(BN17>40,"C","D"))))) -> A+ | BP17: 19 | BQ17: 19 | BR17: 18 | BS17: 19 | BT17: 18 | BU17: =IF(AND(E17=""),"",SUM(BP17,BQ17,BR17,BS17,BT17)) -> 93 | BV17: =IF(BU17=""," ",IF(BU17>90,"A+",IF(BU17>75,"A",IF(BU17>60,"B",IF(BU17>40,"C","D"))))) -> A+
A18: 8 | F18: =IF(AND(B18=""),"",F$10) | G18: 160 | H18: =IF(AND(F18=""),"",IF(AND(G18=""),"",G18/F18*100)) | J18: =IF(AND(F18=""),"",IF(AND(G18=""),"",SUM(H18+I18))) | K18: =IF(J18="","",IF(J18>=86,5,IF(J18>=75,4,IF(J18>=65,3,"NON ELIGIBLE")))) | L18: 8 | M18: 8 | N18: 8 | O18: 56 | P18: =IF(AND(K18=""),"",SUM(L18:O18)) | Q18: =IF(AND(K18=""),"",ROUNDUP(P18*15%,0)) | R18: =IF(AND(K18=""),"",IF(AND(K18="NON ELIGIBLE"),Q18,(Q18+K18))) | S18: 8 | T18: 8 | U18: 8 | V18: 56 | W18: =IF(AND(K18=""),"",SUM(S18:V18)) | X18: =IF(AND(K18=""),"",ROUNDUP(W18*15%,0)) | Y18: =IF(AND(K18=""),"",IF(AND(K18="NON ELIGIBLE"),X18,(X18+K18))) | Z18: 8 | AA18: 8 | AB18: 8 | AC18: 56 | AD18: =IF(AND(K18=""),"",SUM(Z18:AC18)) | AE18: =IF(AND(K18=""),"",ROUNDUP(AD18*15%,0)) | AF18: =IF(AND(K18=""),"",IF(AND(K18="NON ELIGIBLE"),AE18,(AE18+K18))) | AG18: 8 | AH18: 8 | AI18: 8 | AJ18: 56 | AK18: =IF(AND(K18=""),"",SUM(AG18:AJ18)) | AL18: =IF(AND(K18=""),"",ROUNDUP(AK18*15%,0)) | AM18: =IF(AND(K18=""),"",IF(AND(K18="NON ELIGIBLE"),AL18,(AL18+K18))) | AN18: 8 | AO18: 8 | AP18: 8 | AQ18: 56 | AR18: =IF(AND(K18=""),"",SUM(AN18:AQ18)) | AS18: =IF(AND(K18=""),"",ROUNDUP(AR18*15%,0)) | AT18: =IF(AND(K18=""),"",IF(AND(K18="NON ELIGIBLE"),AS18,(AS18+K18))) | AU18: 8 | AV18: 8 | AW18: 8 | AX18: 56 | AY18: =IF(AND(K18=""),"",SUM(AU18:AX18)) | AZ18: =IF(AND(K18=""),"",ROUNDUP(AY18*15%,0)) | BA18: =IF(AND(K18=""),"",IF(AND(K18="NON ELIGIBLE"),AZ18,(AZ18+K18))) | BB18: 17 | BC18: 18 | BD18: 17 | BE18: 18 | BF18: 18 | BG18: =IF(AND(E18=""),"",SUM(BB18,BC18,BD18,BE18,BF18)) | BH18: =IF(BG18=""," ",IF(BG18>90,"A+",IF(BG18>75,"A",IF(BG18>60,"B",IF(BG18>40,"C","D"))))) | BI18: 18 | BJ18: 19 | BK18: 18 | BL18: 19 | BM18: 19 | BN18: =IF(AND(E18=""),"",SUM(BI18,BJ18,BK18,BL18,BM18)) | BO18: =IF(BN18=""," ",IF(BN18>90,"A+",IF(BN18>75,"A",IF(BN18>60,"B",IF(BN18>40,"C","D"))))) | BP18: 18 | BQ18: 19 | BR18: 19 | BS18: 19 | BT18: 19 | BU18: =IF(AND(E18=""),"",SUM(BP18,BQ18,BR18,BS18,BT18)) | BV18: =IF(BU18=""," ",IF(BU18>90,"A+",IF(BU18>75,"A",IF(BU18>60,"B",IF(BU18>40,"C","D")))))
A19: 9 | F19: =IF(AND(B19=""),"",F$10) | G19: 150 | H19: =IF(AND(F19=""),"",IF(AND(G19=""),"",G19/F19*100)) | J19: =IF(AND(F19=""),"",IF(AND(G19=""),"",SUM(H19+I19))) | K19: =IF(J19="","",IF(J19>=86,5,IF(J19>=75,4,IF(J19>=65,3,"NON ELIGIBLE")))) | L19: 9 | M19: 9 | N19: 9 | O19: 45 | P19: =IF(AND(K19=""),"",SUM(L19:O19)) | Q19: =IF(AND(K19=""),"",ROUNDUP(P19*15%,0)) | R19: =IF(AND(K19=""),"",IF(AND(K19="NON ELIGIBLE"),Q19,(Q19+K19))) | S19: 9 | T19: 9 | U19: 9 | V19: 45 | W19: =IF(AND(K19=""),"",SUM(S19:V19)) | X19: =IF(AND(K19=""),"",ROUNDUP(W19*15%,0)) | Y19: =IF(AND(K19=""),"",IF(AND(K19="NON ELIGIBLE"),X19,(X19+K19))) | Z19: 9 | AA19: 9 | AB19: 9 | AC19: 45 | AD19: =IF(AND(K19=""),"",SUM(Z19:AC19)) | AE19: =IF(AND(K19=""),"",ROUNDUP(AD19*15%,0)) | AF19: =IF(AND(K19=""),"",IF(AND(K19="NON ELIGIBLE"),AE19,(AE19+K19))) | AG19: 9 | AH19: 9 | AI19: 9 | AJ19: 45 | AK19: =IF(AND(K19=""),"",SUM(AG19:AJ19)) | AL19: =IF(AND(K19=""),"",ROUNDUP(AK19*15%,0)) | AM19: =IF(AND(K19=""),"",IF(AND(K19="NON ELIGIBLE"),AL19,(AL19+K19))) | AN19: 9 | AO19: 9 | AP19: 9 | AQ19: 45 | AR19: =IF(AND(K19=""),"",SUM(AN19:AQ19)) | AS19: =IF(AND(K19=""),"",ROUNDUP(AR19*15%,0)) | AT19: =IF(AND(K19=""),"",IF(AND(K19="NON ELIGIBLE"),AS19,(AS19+K19))) | AU19: 9 | AV19: 9 | AW19: 9 | AX19: 45 | AY19: =IF(AND(K19=""),"",SUM(AU19:AX19)) | AZ19: =IF(AND(K19=""),"",ROUNDUP(AY19*15%,0)) | BA19: =IF(AND(K19=""),"",IF(AND(K19="NON ELIGIBLE"),AZ19,(AZ19+K19))) | BB19: 17 | BC19: 17 | BD19: 16 | BE19: 17 | BF19: 17 | BG19: =IF(AND(E19=""),"",SUM(BB19,BC19,BD19,BE19,BF19)) | BH19: =IF(BG19=""," ",IF(BG19>90,"A+",IF(BG19>75,"A",IF(BG19>60,"B",IF(BG19>40,"C","D"))))) | BI19: 17 | BJ19: 17 | BK19: 17 | BL19: 16 | BM19: 16 | BN19: =IF(AND(E19=""),"",SUM(BI19,BJ19,BK19,BL19,BM19)) | BO19: =IF(BN19=""," ",IF(BN19>90,"A+",IF(BN19>75,"A",IF(BN19>60,"B",IF(BN19>40,"C","D"))))) | BP19: 17 | BQ19: 17 | BR19: 17 | BS19: 16 | BT19: 17 | BU19: =IF(AND(E19=""),"",SUM(BP19,BQ19,BR19,BS19,BT19)) | BV19: =IF(BU19=""," ",IF(BU19>90,"A+",IF(BU19>75,"A",IF(BU19>60,"B",IF(BU19>40,"C","D")))))
A20: 10 | F20: =IF(AND(B20=""),"",F$10) | G20: 146 | H20: =IF(AND(F20=""),"",IF(AND(G20=""),"",G20/F20*100)) | I20: 10 | J20: =IF(AND(F20=""),"",IF(AND(G20=""),"",SUM(H20+I20))) | K20: =IF(J20="","",IF(J20>=86,5,IF(J20>=75,4,IF(J20>=65,3,"NON ELIGIBLE")))) | L20: 7 | M20: 7 | N20: 7 | O20: 45 | P20: =IF(AND(K20=""),"",SUM(L20:O20)) | Q20: =IF(AND(K20=""),"",ROUNDUP(P20*15%,0)) | R20: =IF(AND(K20=""),"",IF(AND(K20="NON ELIGIBLE"),Q20,(Q20+K20))) | S20: 7 | T20: 7 | U20: 7 | V20: 45 | W20: =IF(AND(K20=""),"",SUM(S20:V20)) | X20: =IF(AND(K20=""),"",ROUNDUP(W20*15%,0)) | Y20: =IF(AND(K20=""),"",IF(AND(K20="NON ELIGIBLE"),X20,(X20+K20))) | Z20: 7 | AA20: 7 | AB20: 7 | AC20: 45 | AD20: =IF(AND(K20=""),"",SUM(Z20:AC20)) | AE20: =IF(AND(K20=""),"",ROUNDUP(AD20*15%,0)) | AF20: =IF(AND(K20=""),"",IF(AND(K20="NON ELIGIBLE"),AE20,(AE20+K20))) | AG20: 7 | AH20: 7 | AI20: 7 | AJ20: 45 | AK20: =IF(AND(K20=""),"",SUM(AG20:AJ20)) | AL20: =IF(AND(K20=""),"",ROUNDUP(AK20*15%,0)) | AM20: =IF(AND(K20=""),"",IF(AND(K20="NON ELIGIBLE"),AL20,(AL20+K20))) | AN20: 7 | AO20: 7 | AP20: 7 | AQ20: 45 | AR20: =IF(AND(K20=""),"",SUM(AN20:AQ20)) | AS20: =IF(AND(K20=""),"",ROUNDUP(AR20*15%,0)) | AT20: =IF(AND(K20=""),"",IF(AND(K20="NON ELIGIBLE"),AS20,(AS20+K20))) | AU20: 7 | AV20: 7 | AW20: 7 | AX20: 45 | AY20: =IF(AND(K20=""),"",SUM(AU20:AX20)) | AZ20: =IF(AND(K20=""),"",ROUNDUP(AY20*15%,0)) | BA20: =IF(AND(K20=""),"",IF(AND(K20="NON ELIGIBLE"),AZ20,(AZ20+K20))) | BB20: 19 | BC20: 18 | BD20: 19 | BE20: 18 | BF20: 19 | BG20: =IF(AND(E20=""),"",SUM(BB20,BC20,BD20,BE20,BF20)) | BH20: =IF(BG20=""," ",IF(BG20>90,"A+",IF(BG20>75,"A",IF(BG20>60,"B",IF(BG20>40,"C","D"))))) | BI20: 19 | BJ20: 19 | BK20: 19 | BL20: 18 | BM20: 19 | BN20: =IF(AND(E20=""),"",SUM(BI20,BJ20,BK20,BL20,BM20)) | BO20: =IF(BN20=""," ",IF(BN20>90,"A+",IF(BN20>75,"A",IF(BN20>60,"B",IF(BN20>40,"C","D"))))) | BP20: 18 | BQ20: 18 | BR20: 19 | BS20: 18 | BT20: 18 | BU20: =IF(AND(E20=""),"",SUM(BP20,BQ20,BR20,BS20,BT20)) | BV20: =IF(BU20=""," ",IF(BU20>90,"A+",IF(BU20>75,"A",IF(BU20>60,"B",IF(BU20>40,"C","D")))))
A21: 11 | F21: =IF(AND(B21=""),"",F$10) | G21: 178 | H21: =IF(AND(F21=""),"",IF(AND(G21=""),"",G21/F21*100)) | J21: =IF(AND(F21=""),"",IF(AND(G21=""),"",SUM(H21+I21))) | K21: =IF(J21="","",IF(J21>=86,5,IF(J21>=75,4,IF(J21>=65,3,"NON ELIGIBLE")))) | L21: 8 | M21: 8 | N21: 8 | O21: 37 | P21: =IF(AND(K21=""),"",SUM(L21:O21)) | Q21: =IF(AND(K21=""),"",ROUNDUP(P21*15%,0)) | R21: =IF(AND(K21=""),"",IF(AND(K21="NON ELIGIBLE"),Q21,(Q21+K21))) | S21: 8 | T21: 8 | U21: 8 | V21: 37 | W21: =IF(AND(K21=""),"",SUM(S21:V21)) | X21: =IF(AND(K21=""),"",ROUNDUP(W21*15%,0)) | Y21: =IF(AND(K21=""),"",IF(AND(K21="NON ELIGIBLE"),X21,(X21+K21))) | Z21: 8 | AA21: 8 | AB21: 8 | AC21: 37 | AD21: =IF(AND(K21=""),"",SUM(Z21:AC21)) | AE21: =IF(AND(K21=""),"",ROUNDUP(AD21*15%,0)) | AF21: =IF(AND(K21=""),"",IF(AND(K21="NON ELIGIBLE"),AE21,(AE21+K21))) | AG21: 8 | AH21: 8 | AI21: 8 | AJ21: 50 | AK21: =IF(AND(K21=""),"",SUM(AG21:AJ21)) | AL21: =IF(AND(K21=""),"",ROUNDUP(AK21*15%,0)) | AM21: =IF(AND(K21=""),"",IF(AND(K21="NON ELIGIBLE"),AL21,(AL21+K21))) | AN21: 8 | AO21: 8 | AP21: 8 | AQ21: 37 | AR21: =IF(AND(K21=""),"",SUM(AN21:AQ21)) | AS21: =IF(AND(K21=""),"",ROUNDUP(AR21*15%,0)) | AT21: =IF(AND(K21=""),"",IF(AND(K21="NON ELIGIBLE"),AS21,(AS21+K21))) | AU21: 8 | AV21: 8 | AW21: 8 | AX21: 37 | AY21: =IF(AND(K21=""),"",SUM(AU21:AX21)) | AZ21: =IF(AND(K21=""),"",ROUNDUP(AY21*15%,0)) | BA21: =IF(AND(K21=""),"",IF(AND(K21="NON ELIGIBLE"),AZ21,(AZ21+K21))) | BB21: 17 | BC21: 17 | BD21: 18 | BE21: 17 | BF21: 18 | BG21: =IF(AND(E21=""),"",SUM(BB21,BC21,BD21,BE21,BF21)) | BH21: =IF(BG21=""," ",IF(BG21>90,"A+",IF(BG21>75,"A",IF(BG21>60,"B",IF(BG21>40,"C","D"))))) | BI21: 17 | BJ21: 17 | BK21: 17 | BL21: 16 | BM21: 17 | BN21: =IF(AND(E21=""),"",SUM(BI21,BJ21,BK21,BL21,BM21)) | BO21: =IF(BN21=""," ",IF(BN21>90,"A+",IF(BN21>75,"A",IF(BN21>60,"B",IF(BN21>40,"C","D"))))) | BP21: 18 | BQ21: 18 | BR21: 19 | BS21: 18 | BT21: 18 | BU21: =IF(AND(E21=""),"",SUM(BP21,BQ21,BR21,BS21,BT21)) | BV21: =IF(BU21=""," ",IF(BU21>90,"A+",IF(BU21>75,"A",IF(BU21>60,"B",IF(BU21>40,"C","D")))))
A22: 12 | F22: =IF(AND(B22=""),"",F$10) | G22: 202 | H22: =IF(AND(F22=""),"",IF(AND(G22=""),"",G22/F22*100)) | J22: =IF(AND(F22=""),"",IF(AND(G22=""),"",SUM(H22+I22))) | K22: =IF(J22="","",IF(J22>=86,5,IF(J22>=75,4,IF(J22>=65,3,"NON ELIGIBLE")))) | L22: 6 | M22: 6 | N22: 6 | O22: 67 | P22: =IF(AND(K22=""),"",SUM(L22:O22)) | Q22: =IF(AND(K22=""),"",ROUNDUP(P22*15%,0)) | R22: =IF(AND(K22=""),"",IF(AND(K22="NON ELIGIBLE"),Q22,(Q22+K22))) | S22: 6 | T22: 6 | U22: 6 | V22: 67 | W22: =IF(AND(K22=""),"",SUM(S22:V22)) | X22: =IF(AND(K22=""),"",ROUNDUP(W22*15%,0)) | Y22: =IF(AND(K22=""),"",IF(AND(K22="NON ELIGIBLE"),X22,(X22+K22))) | Z22: 6 | AA22: 6 | AB22: 6 | AC22: 67 | AD22: =IF(AND(K22=""),"",SUM(Z22:AC22)) | AE22: =IF(AND(K22=""),"",ROUNDUP(AD22*15%,0)) | AF22: =IF(AND(K22=""),"",IF(AND(K22="NON ELIGIBLE"),AE22,(AE22+K22))) | AG22: 6 | AH22: 6 | AI22: 6 | AJ22: 67 | AK22: =IF(AND(K22=""),"",SUM(AG22:AJ22)) | AL22: =IF(AND(K22=""),"",ROUNDUP(AK22*15%,0)) | AM22: =IF(AND(K22=""),"",IF(AND(K22="NON ELIGIBLE"),AL22,(AL22+K22))) | AN22: 6 | AO22: 6 | AP22: 6 | AQ22: 67 | AR22: =IF(AND(K22=""),"",SUM(AN22:AQ22)) | AS22: =IF(AND(K22=""),"",ROUNDUP(AR22*15%,0)) | AT22: =IF(AND(K22=""),"",IF(AND(K22="NON ELIGIBLE"),AS22,(AS22+K22))) | AU22: 6 | AV22: 6 | AW22: 6 | AX22: 67 | AY22: =IF(AND(K22=""),"",SUM(AU22:AX22)) | AZ22: =IF(AND(K22=""),"",ROUNDUP(AY22*15%,0)) | BA22: =IF(AND(K22=""),"",IF(AND(K22="NON ELIGIBLE"),AZ22,(AZ22+K22))) | BB22: 18 | BC22: 18 | BD22: 18 | BE22: 17 | BF22: 18 | BG22: =IF(AND(E22=""),"",SUM(BB22,BC22,BD22,BE22,BF22)) | BH22: =IF(BG22=""," ",IF(BG22>90,"A+",IF(BG22>75,"A",IF(BG22>60,"B",IF(BG22>40,"C","D"))))) | BI22: 18 | BJ22: 18 | BK22: 17 | BL22: 18 | BM22: 18 | BN22: =IF(AND(E22=""),"",SUM(BI22,BJ22,BK22,BL22,BM22)) | BO22: =IF(BN22=""," ",IF(BN22>90,"A+",IF(BN22>75,"A",IF(BN22>60,"B",IF(BN22>40,"C","D"))))) | BP22: 17 | BQ22: 18 | BR22: 19 | BS22: 18 | BT22: 18 | BU22: =IF(AND(E22=""),"",SUM(BP22,BQ22,BR22,BS22,BT22)) | BV22: =IF(BU22=""," ",IF(BU22>90,"A+",IF(BU22>75,"A",IF(BU22>60,"B",IF(BU22>40,"C","D")))))
A23: 13 | F23: =IF(AND(B23=""),"",F$10) | G23: 210 | H23: =IF(AND(F23=""),"",IF(AND(G23=""),"",G23/F23*100)) | J23: =IF(AND(F23=""),"",IF(AND(G23=""),"",SUM(H23+I23))) | K23: =IF(J23="","",IF(J23>=86,5,IF(J23>=75,4,IF(J23>=65,3,"NON ELIGIBLE")))) | L23: 10 | M23: 10 | N23: 8 | O23: 66 | P23: =IF(AND(K23=""),"",SUM(L23:O23)) | Q23: =IF(AND(K23=""),"",ROUNDUP(P23*15%,0)) | R23: =IF(AND(K23=""),"",IF(AND(K23="NON ELIGIBLE"),Q23,(Q23+K23))) | S23: 5 | T23: 5 | U23: 5 | V23: 56 | W23: =IF(AND(K23=""),"",SUM(S23:V23)) | X23: =IF(AND(K23=""),"",ROUNDUP(W23*15%,0)) | Y23: =IF(AND(K23=""),"",IF(AND(K23="NON ELIGIBLE"),X23,(X23+K23))) | Z23: 5 | AA23: 5 | AB23: 5 | AC23: 56 | AD23: =IF(AND(K23=""),"",SUM(Z23:AC23)) | AE23: =IF(AND(K23=""),"",ROUNDUP(AD23*15%,0)) | AF23: =IF(AND(K23=""),"",IF(AND(K23="NON ELIGIBLE"),AE23,(AE23+K23))) | AG23: 5 | AH23: 5 | AI23: 5 | AJ23: 56 | AK23: =IF(AND(K23=""),"",SUM(AG23:AJ23)) | AL23: =IF(AND(K23=""),"",ROUNDUP(AK23*15%,0)) | AM23: =IF(AND(K23=""),"",IF(AND(K23="NON ELIGIBLE"),AL23,(AL23+K23))) | AN23: 5 | AO23: 5 | AP23: 5 | AQ23: 56 | AR23: =IF(AND(K23=""),"",SUM(AN23:AQ23)) | AS23: =IF(AND(K23=""),"",ROUNDUP(AR23*15%,0)) | AT23: =IF(AND(K23=""),"",IF(AND(K23="NON ELIGIBLE"),AS23,(AS23+K23))) | AU23: 5 | AV23: 5 | AW23: 5 | AX23: 56 | AY23: =IF(AND(K23=""),"",SUM(AU23:AX23)) | AZ23: =IF(AND(K23=""),"",ROUNDUP(AY23*15%,0)) | BA23: =IF(AND(K23=""),"",IF(AND(K23="NON ELIGIBLE"),AZ23,(AZ23+K23))) | BB23: 17 | BC23: 18 | BD23: 18 | BE23: 18 | BF23: 18 | BG23: =IF(AND(E23=""),"",SUM(BB23,BC23,BD23,BE23,BF23)) | BH23: =IF(BG23=""," ",IF(BG23>90,"A+",IF(BG23>75,"A",IF(BG23>60,"B",IF(BG23>40,"C","D"))))) | BI23: 18 | BJ23: 17 | BK23: 18 | BL23: 17 | BM23: 18 | BN23: =IF(AND(E23=""),"",SUM(BI23,BJ23,BK23,BL23,BM23)) | BO23: =IF(BN23=""," ",IF(BN23>90,"A+",IF(BN23>75,"A",IF(BN23>60,"B",IF(BN23>40,"C","D"))))) | BP23: 17 | BQ23: 17 | BR23: 18 | BS23: 17 | BT23: 18 | BU23: =IF(AND(E23=""),"",SUM(BP23,BQ23,BR23,BS23,BT23)) | BV23: =IF(BU23=""," ",IF(BU23>90,"A+",IF(BU23>75,"A",IF(BU23>60,"B",IF(BU23>40,"C","D")))))
A24: 14 | F24: =IF(AND(B24=""),"",F$10) | G24: 210 | H24: =IF(AND(F24=""),"",IF(AND(G24=""),"",G24/F24*100)) | J24: =IF(AND(F24=""),"",IF(AND(G24=""),"",SUM(H24+I24))) | K24: =IF(J24="","",IF(J24>=86,5,IF(J24>=75,4,IF(J24>=65,3,"NON ELIGIBLE")))) | L24: 10 | M24: 10 | N24: 10 | O24: 65 | P24: =IF(AND(K24=""),"",SUM(L24:O24)) | Q24: =IF(AND(K24=""),"",ROUNDUP(P24*15%,0)) | R24: =IF(AND(K24=""),"",IF(AND(K24="NON ELIGIBLE"),Q24,(Q24+K24))) | S24: 5 | T24: 5 | U24: 5 | V24: 56 | W24: =IF(AND(K24=""),"",SUM(S24:V24)) | X24: =IF(AND(K24=""),"",ROUNDUP(W24*15%,0)) | Y24: =IF(AND(K24=""),"",IF(AND(K24="NON ELIGIBLE"),X24,(X24+K24))) | Z24: 5 | AA24: 5 | AB24: 5 | AC24: 56 | AD24: =IF(AND(K24=""),"",SUM(Z24:AC24)) | AE24: =IF(AND(K24=""),"",ROUNDUP(AD24*15%,0)) | AF24: =IF(AND(K24=""),"",IF(AND(K24="NON ELIGIBLE"),AE24,(AE24+K24))) | AG24: 5 | AH24: 5 | AI24: 5 | AJ24: 56 | AK24: =IF(AND(K24=""),"",SUM(AG24:AJ24)) | AL24: =IF(AND(K24=""),"",ROUNDUP(AK24*15%,0)) | AM24: =IF(AND(K24=""),"",IF(AND(K24="NON ELIGIBLE"),AL24,(AL24+K24))) | AN24: 5 | AO24: 5 | AP24: 5 | AQ24: 56 | AR24: =IF(AND(K24=""),"",SUM(AN24:AQ24)) | AS24: =IF(AND(K24=""),"",ROUNDUP(AR24*15%,0)) | AT24: =IF(AND(K24=""),"",IF(AND(K24="NON ELIGIBLE"),AS24,(AS24+K24))) | AU24: 5 | AV24: 5 | AW24: 5 | AX24: 56 | AY24: =IF(AND(K24=""),"",SUM(AU24:AX24)) | AZ24: =IF(AND(K24=""),"",ROUNDUP(AY24*15%,0)) | BA24: =IF(AND(K24=""),"",IF(AND(K24="NON ELIGIBLE"),AZ24,(AZ24+K24))) | BB24: 17 | BC24: 17 | BD24: 17 | BE24: 18 | BF24: 18 | BG24: =IF(AND(E24=""),"",SUM(BB24,BC24,BD24,BE24,BF24)) | BH24: =IF(BG24=""," ",IF(BG24>90,"A+",IF(BG24>75,"A",IF(BG24>60,"B",IF(BG24>40,"C","D"))))) | BI24: 17 | BJ24: 17 | BK24: 17 | BL24: 17 | BM24: 17 | BN24: =IF(AND(E24=""),"",SUM(BI24,BJ24,BK24,BL24,BM24)) | BO24: =IF(BN24=""," ",IF(BN24>90,"A+",IF(BN24>75,"A",IF(BN24>60,"B",IF(BN24>40,"C","D"))))) | BP24: 18 | BQ24: 17 | BR24: 18 | BS24: 17 | BT24: 18 | BU24: =IF(AND(E24=""),"",SUM(BP24,BQ24,BR24,BS24,BT24)) | BV24: =IF(BU24=""," ",IF(BU24>90,"A+",IF(BU24>75,"A",IF(BU24>60,"B",IF(BU24>40,"C","D")))))
A25: 15 | F25: =IF(AND(B25=""),"",F$10) | G25: 210 | H25: =IF(AND(F25=""),"",IF(AND(G25=""),"",G25/F25*100)) | J25: =IF(AND(F25=""),"",IF(AND(G25=""),"",SUM(H25+I25))) | K25: =IF(J25="","",IF(J25>=86,5,IF(J25>=75,4,IF(J25>=65,3,"NON ELIGIBLE")))) | L25: 5 | M25: 5 | N25: 5 | O25: 56 | P25: =IF(AND(K25=""),"",SUM(L25:O25)) | Q25: =IF(AND(K25=""),"",ROUNDUP(P25*15%,0)) | R25: =IF(AND(K25=""),"",IF(AND(K25="NON ELIGIBLE"),Q25,(Q25+K25))) | S25: 5 | T25: 5 | U25: 5 | V25: 56 | W25: =IF(AND(K25=""),"",SUM(S25:V25)) | X25: =IF(AND(K25=""),"",ROUNDUP(W25*15%,0)) | Y25: =IF(AND(K25=""),"",IF(AND(K25="NON ELIGIBLE"),X25,(X25+K25))) | Z25: 5 | AA25: 5 | AB25: 5 | AC25: 56 | AD25: =IF(AND(K25=""),"",SUM(Z25:AC25)) | AE25: =IF(AND(K25=""),"",ROUNDUP(AD25*15%,0)) | AF25: =IF(AND(K25=""),"",IF(AND(K25="NON ELIGIBLE"),AE25,(AE25+K25))) | AG25: 5 | AH25: 5 | AI25: 5 | AJ25: 56 | AK25: =IF(AND(K25=""),"",SUM(AG25:AJ25)) | AL25: =IF(AND(K25=""),"",ROUNDUP(AK25*15%,0)) | AM25: =IF(AND(K25=""),"",IF(AND(K25="NON ELIGIBLE"),AL25,(AL25+K25))) | AN25: 5 | AO25: 5 | AP25: 5 | AQ25: 56 | AR25: =IF(AND(K25=""),"",SUM(AN25:AQ25)) | AS25: =IF(AND(K25=""),"",ROUNDUP(AR25*15%,0)) | AT25: =IF(AND(K25=""),"",IF(AND(K25="NON ELIGIBLE"),AS25,(AS25+K25))) | AU25: 5 | AV25: 5 | AW25: 5 | AX25: 56 | AY25: =IF(AND(K25=""),"",SUM(AU25:AX25)) | AZ25: =IF(AND(K25=""),"",ROUNDUP(AY25*15%,0)) | BA25: =IF(AND(K25=""),"",IF(AND(K25="NON ELIGIBLE"),AZ25,(AZ25+K25))) | BB25: 19 | BC25: 19 | BD25: 19 | BE25: 19 | BF25: 19 | BG25: =IF(AND(E25=""),"",SUM(BB25,BC25,BD25,BE25,BF25)) | BH25: =IF(BG25=""," ",IF(BG25>90,"A+",IF(BG25>75,"A",IF(BG25>60,"B",IF(BG25>40,"C","D"))))) | BI25: 19 | BJ25: 19 | BK25: 19 | BL25: 19 | BM25: 19 | BN25: =IF(AND(E25=""),"",SUM(BI25,BJ25,BK25,BL25,BM25)) | BO25: =IF(BN25=""," ",IF(BN25>90,"A+",IF(BN25>75,"A",IF(BN25>60,"B",IF(BN25>40,"C","D"))))) | BP25: 18 | BQ25: 19 | BR25: 19 | BS25: 19 | BT25: 19 | BU25: =IF(AND(E25=""),"",SUM(BP25,BQ25,BR25,BS25,BT25)) | BV25: =IF(BU25=""," ",IF(BU25>90,"A+",IF(BU25>75,"A",IF(BU25>60,"B",IF(BU25>40,"C","D")))))
A26: 16 | F26: =IF(AND(B26=""),"",F$10) | G26: 210 | H26: =IF(AND(F26=""),"",IF(AND(G26=""),"",G26/F26*100)) | J26: =IF(AND(F26=""),"",IF(AND(G26=""),"",SUM(H26+I26))) | K26: =IF(J26="","",IF(J26>=86,5,IF(J26>=75,4,IF(J26>=65,3,"NON ELIGIBLE")))) | L26: 5 | M26: 5 | N26: 5 | O26: 56 | P26: =IF(AND(K26=""),"",SUM(L26:O26)) | Q26: =IF(AND(K26=""),"",ROUNDUP(P26*15%,0)) | R26: =IF(AND(K26=""),"",IF(AND(K26="NON ELIGIBLE"),Q26,(Q26+K26))) | S26: 5 | T26: 5 | U26: 5 | V26: 56 | W26: =IF(AND(K26=""),"",SUM(S26:V26)) | X26: =IF(AND(K26=""),"",ROUNDUP(W26*15%,0)) | Y26: =IF(AND(K26=""),"",IF(AND(K26="NON ELIGIBLE"),X26,(X26+K26))) | Z26: 5 | AA26: 5 | AB26: 5 | AC26: 56 | AD26: =IF(AND(K26=""),"",SUM(Z26:AC26)) | AE26: =IF(AND(K26=""),"",ROUNDUP(AD26*15%,0)) | AF26: =IF(AND(K26=""),"",IF(AND(K26="NON ELIGIBLE"),AE26,(AE26+K26))) | AG26: 5 | AH26: 5 | AI26: 5 | AJ26: 56 | AK26: =IF(AND(K26=""),"",SUM(AG26:AJ26)) | AL26: =IF(AND(K26=""),"",ROUNDUP(AK26*15%,0)) | AM26: =IF(AND(K26=""),"",IF(AND(K26="NON ELIGIBLE"),AL26,(AL26+K26))) | AN26: 5 | AO26: 5 | AP26: 5 | AQ26: 56 | AR26: =IF(AND(K26=""),"",SUM(AN26:AQ26)) | AS26: =IF(AND(K26=""),"",ROUNDUP(AR26*15%,0)) | AT26: =IF(AND(K26=""),"",IF(AND(K26="NON ELIGIBLE"),AS26,(AS26+K26))) | AU26: 5 | AV26: 5 | AW26: 5 | AX26: 56 | AY26: =IF(AND(K26=""),"",SUM(AU26:AX26)) | AZ26: =IF(AND(K26=""),"",ROUNDUP(AY26*15%,0)) | BA26: =IF(AND(K26=""),"",IF(AND(K26="NON ELIGIBLE"),AZ26,(AZ26+K26))) | BB26: 19 | BC26: 19 | BD26: 19 | BE26: 19 | BF26: 19 | BG26: =IF(AND(E26=""),"",SUM(BB26,BC26,BD26,BE26,BF26)) | BH26: =IF(BG26=""," ",IF(BG26>90,"A+",IF(BG26>75,"A",IF(BG26>60,"B",IF(BG26>40,"C","D"))))) | BI26: 18 | BJ26: 19 | BK26: 19 | BL26: 19 | BM26: 19 | BN26: =IF(AND(E26=""),"",SUM(BI26,BJ26,BK26,BL26,BM26)) | BO26: =IF(BN26=""," ",IF(BN26>90,"A+",IF(BN26>75,"A",IF(BN26>60,"B",IF(BN26>40,"C","D"))))) | BP26: 19 | BQ26: 19 | BR26: 19 | BS26: 19 | BT26: 19 | BU26: =IF(AND(E26=""),"",SUM(BP26,BQ26,BR26,BS26,BT26)) | BV26: =IF(BU26=""," ",IF(BU26>90,"A+",IF(BU26>75,"A",IF(BU26>60,"B",IF(BU26>40,"C","D")))))
A27: 17 | F27: =IF(AND(B27=""),"",F$10) | G27: 135 | H27: =IF(AND(F27=""),"",IF(AND(G27=""),"",G27/F27*100)) | J27: =IF(AND(F27=""),"",IF(AND(G27=""),"",SUM(H27+I27))) | K27: =IF(J27="","",IF(J27>=86,5,IF(J27>=75,4,IF(J27>=65,3,"NON ELIGIBLE")))) | L27: 5 | M27: 5 | N27: 5 | O27: 57 | P27: =IF(AND(K27=""),"",SUM(L27:O27)) | Q27: =IF(AND(K27=""),"",ROUNDUP(P27*15%,0)) | R27: =IF(AND(K27=""),"",IF(AND(K27="NON ELIGIBLE"),Q27,(Q27+K27))) | S27: 5 | T27: 5 | U27: 5 | V27: 56 | W27: =IF(AND(K27=""),"",SUM(S27:V27)) | X27: =IF(AND(K27=""),"",ROUNDUP(W27*15%,0)) | Y27: =IF(AND(K27=""),"",IF(AND(K27="NON ELIGIBLE"),X27,(X27+K27))) | Z27: 5 | AA27: 5 | AB27: 5 | AC27: 56 | AD27: =IF(AND(K27=""),"",SUM(Z27:AC27)) | AE27: =IF(AND(K27=""),"",ROUNDUP(AD27*15%,0)) | AF27: =IF(AND(K27=""),"",IF(AND(K27="NON ELIGIBLE"),AE27,(AE27+K27))) | AG27: 5 | AH27: 5 | AI27: 5 | AJ27: 56 | AK27: =IF(AND(K27=""),"",SUM(AG27:AJ27)) | AL27: =IF(AND(K27=""),"",ROUNDUP(AK27*15%,0)) | AM27: =IF(AND(K27=""),"",IF(AND(K27="NON ELIGIBLE"),AL27,(AL27+K27))) | AN27: 5 | AO27: 5 | AP27: 5 | AQ27: 56 | AR27: =IF(AND(K27=""),"",SUM(AN27:AQ27)) | AS27: =IF(AND(K27=""),"",ROUNDUP(AR27*15%,0)) | AT27: =IF(AND(K27=""),"",IF(AND(K27="NON ELIGIBLE"),AS27,(AS27+K27))) | AU27: 5 | AV27: 5 | AW27: 5 | AX27: 56 | AY27: =IF(AND(K27=""),"",SUM(AU27:AX27)) | AZ27: =IF(AND(K27=""),"",ROUNDUP(AY27*15%,0)) | BA27: =IF(AND(K27=""),"",IF(AND(K27="NON ELIGIBLE"),AZ27,(AZ27+K27))) | BB27: 18 | BC27: 18 | BD27: 18 | BE27: 19 | BF27: 19 | BG27: =IF(AND(E27=""),"",SUM(BB27,BC27,BD27,BE27,BF27)) | BH27: =IF(BG27=""," ",IF(BG27>90,"A+",IF(BG27>75,"A",IF(BG27>60,"B",IF(BG27>40,"C","D"))))) | BI27: 18 | BJ27: 18 | BK27: 19 | BL27: 18 | BM27: 19 | BN27: =IF(AND(E27=""),"",SUM(BI27,BJ27,BK27,BL27,BM27)) | BO27: =IF(BN27=""," ",IF(BN27>90,"A+",IF(BN27>75,"A",IF(BN27>60,"B",IF(BN27>40,"C","D"))))) | BP27: 18 | BQ27: 18 | BR27: 19 | BS27: 18 | BT27: 19 | BU27: =IF(AND(E27=""),"",SUM(BP27,BQ27,BR27,BS27,BT27)) | BV27: =IF(BU27=""," ",IF(BU27>90,"A+",IF(BU27>75,"A",IF(BU27>60,"B",IF(BU27>40,"C","D")))))
A28: 18 | F28: =IF(AND(B28=""),"",F$10) | G28: 210 | H28: =IF(AND(F28=""),"",IF(AND(G28=""),"",G28/F28*100)) | J28: =IF(AND(F28=""),"",IF(AND(G28=""),"",SUM(H28+I28))) | K28: =IF(J28="","",IF(J28>=86,5,IF(J28>=75,4,IF(J28>=65,3,"NON ELIGIBLE")))) | L28: 5 | M28: 5 | N28: 5 | O28: 58 | P28: =IF(AND(K28=""),"",SUM(L28:O28)) | Q28: =IF(AND(K28=""),"",ROUNDUP(P28*15%,0)) | R28: =IF(AND(K28=""),"",IF(AND(K28="NON ELIGIBLE"),Q28,(Q28+K28))) | S28: 5 | T28: 5 | U28: 5 | V28: 56 | W28: =IF(AND(K28=""),"",SUM(S28:V28)) | X28: =IF(AND(K28=""),"",ROUNDUP(W28*15%,0)) | Y28: =IF(AND(K28=""),"",IF(AND(K28="NON ELIGIBLE"),X28,(X28+K28))) | Z28: 5 | AA28: 5 | AB28: 5 | AC28: 56 | AD28: =IF(AND(K28=""),"",SUM(Z28:AC28)) | AE28: =IF(AND(K28=""),"",ROUNDUP(AD28*15%,0)) | AF28: =IF(AND(K28=""),"",IF(AND(K28="NON ELIGIBLE"),AE28,(AE28+K28))) | AG28: 5 | AH28: 5 | AI28: 5 | AJ28: 56 | AK28: =IF(AND(K28=""),"",SUM(AG28:AJ28)) | AL28: =IF(AND(K28=""),"",ROUNDUP(AK28*15%,0)) | AM28: =IF(AND(K28=""),"",IF(AND(K28="NON ELIGIBLE"),AL28,(AL28+K28))) | AN28: 5 | AO28: 5 | AP28: 5 | AQ28: 56 | AR28: =IF(AND(K28=""),"",SUM(AN28:AQ28)) | AS28: =IF(AND(K28=""),"",ROUNDUP(AR28*15%,0)) | AT28: =IF(AND(K28=""),"",IF(AND(K28="NON ELIGIBLE"),AS28,(AS28+K28))) | AU28: 5 | AV28: 5 | AW28: 5 | AX28: 56 | AY28: =IF(AND(K28=""),"",SUM(AU28:AX28)) | AZ28: =IF(AND(K28=""),"",ROUNDUP(AY28*15%,0)) | BA28: =IF(AND(K28=""),"",IF(AND(K28="NON ELIGIBLE"),AZ28,(AZ28+K28))) | BB28: 19 | BC28: 19 | BD28: 19 | BE28: 18 | BF28: 18 | BG28: =IF(AND(E28=""),"",SUM(BB28,BC28,BD28,BE28,BF28)) | BH28: =IF(BG28=""," ",IF(BG28>90,"A+",IF(BG28>75,"A",IF(BG28>60,"B",IF(BG28>40,"C","D"))))) | BI28: 19 | BJ28: 19 | BK28: 18 | BL28: 19 | BM28: 18 | BN28: =IF(AND(E28=""),"",SUM(BI28,BJ28,BK28,BL28,BM28)) | BO28: =IF(BN28=""," ",IF(BN28>90,"A+",IF(BN28>75,"A",IF(BN28>60,"B",IF(BN28>40,"C","D"))))) | BP28: 19 | BQ28: 18 | BR28: 18 | BS28: 19 | BT28: 19 | BU28: =IF(AND(E28=""),"",SUM(BP28,BQ28,BR28,BS28,BT28)) | BV28: =IF(BU28=""," ",IF(BU28>90,"A+",IF(BU28>75,"A",IF(BU28>60,"B",IF(BU28>40,"C","D")))))
A29: 19 | F29: =IF(AND(B29=""),"",F$10) | G29: 210 | H29: =IF(AND(F29=""),"",IF(AND(G29=""),"",G29/F29*100)) | J29: =IF(AND(F29=""),"",IF(AND(G29=""),"",SUM(H29+I29))) | K29: =IF(J29="","",IF(J29>=86,5,IF(J29>=75,4,IF(J29>=65,3,"NON ELIGIBLE")))) | L29: 5 | M29: 5 | N29: 5 | O29: 59 | P29: =IF(AND(K29=""),"",SUM(L29:O29)) | Q29: =IF(AND(K29=""),"",ROUNDUP(P29*15%,0)) | R29: =IF(AND(K29=""),"",IF(AND(K29="NON ELIGIBLE"),Q29,(Q29+K29))) | S29: 5 | T29: 5 | U29: 5 | V29: 56 | W29: =IF(AND(K29=""),"",SUM(S29:V29)) | X29: =IF(AND(K29=""),"",ROUNDUP(W29*15%,0)) | Y29: =IF(AND(K29=""),"",IF(AND(K29="NON ELIGIBLE"),X29,(X29+K29))) | Z29: 5 | AA29: 5 | AB29: 5 | AC29: 56 | AD29: =IF(AND(K29=""),"",SUM(Z29:AC29)) | AE29: =IF(AND(K29=""),"",ROUNDUP(AD29*15%,0)) | AF29: =IF(AND(K29=""),"",IF(AND(K29="NON ELIGIBLE"),AE29,(AE29+K29))) | AG29: 10 | AH29: 10 | AI29: 10 | AJ29: 56 | AK29: =IF(AND(K29=""),"",SUM(AG29:AJ29)) | AL29: =IF(AND(K29=""),"",ROUNDUP(AK29*15%,0)) | AM29: =IF(AND(K29=""),"",IF(AND(K29="NON ELIGIBLE"),AL29,(AL29+K29))) | AN29: 5 | AO29: 5 | AP29: 5 | AQ29: 56 | AR29: =IF(AND(K29=""),"",SUM(AN29:AQ29)) | AS29: =IF(AND(K29=""),"",ROUNDUP(AR29*15%,0)) | AT29: =IF(AND(K29=""),"",IF(AND(K29="NON ELIGIBLE"),AS29,(AS29+K29))) | AU29: 5 | AV29: 5 | AW29: 5 | AX29: 56 | AY29: =IF(AND(K29=""),"",SUM(AU29:AX29)) | AZ29: =IF(AND(K29=""),"",ROUNDUP(AY29*15%,0)) | BA29: =IF(AND(K29=""),"",IF(AND(K29="NON ELIGIBLE"),AZ29,(AZ29+K29))) | BB29: 18 | BC29: 18 | BG29: =IF(AND(E29=""),"",SUM(BB29,BC29,BD29,BE29,BF29)) | BH29: =IF(BG29=""," ",IF(BG29>90,"A+",IF(BG29>75,"A",IF(BG29>60,"B",IF(BG29>40,"C","D"))))) | BI29: 17 | BJ29: 18 | BN29: =IF(AND(E29=""),"",SUM(BI29,BJ29,BK29,BL29,BM29)) | BO29: =IF(BN29=""," ",IF(BN29>90,"A+",IF(BN29>75,"A",IF(BN29>60,"B",IF(BN29>40,"C","D"))))) | BP29: 19 | BQ29: 19 | BU29: =IF(AND(E29=""),"",SUM(BP29,BQ29,BR29,BS29,BT29)) | BV29: =IF(BU29=""," ",IF(BU29>90,"A+",IF(BU29>75,"A",IF(BU29>60,"B",IF(BU29>40,"C","D")))))
A30: 20 | F30: =IF(AND(B30=""),"",F$10) | G30: 210 | H30: =IF(AND(F30=""),"",IF(AND(G30=""),"",G30/F30*100)) | J30: =IF(AND(F30=""),"",IF(AND(G30=""),"",SUM(H30+I30))) | K30: =IF(J30="","",IF(J30>=86,5,IF(J30>=75,4,IF(J30>=65,3,"NON ELIGIBLE")))) | L30: 5 | M30: 5 | N30: 5 | O30: 60 | P30: =IF(AND(K30=""),"",SUM(L30:O30)) | Q30: =IF(AND(K30=""),"",ROUNDUP(P30*15%,0)) | R30: =IF(AND(K30=""),"",IF(AND(K30="NON ELIGIBLE"),Q30,(Q30+K30))) | S30: 5 | T30: 5 | U30: 5 | V30: 56 | W30: =IF(AND(K30=""),"",SUM(S30:V30)) | X30: =IF(AND(K30=""),"",ROUNDUP(W30*15%,0)) | Y30: =IF(AND(K30=""),"",IF(AND(K30="NON ELIGIBLE"),X30,(X30+K30))) | Z30: 5 | AA30: 5 | AB30: 5 | AC30: 56 | AD30: =IF(AND(K30=""),"",SUM(Z30:AC30)) | AE30: =IF(AND(K30=""),"",ROUNDUP(AD30*15%,0)) | AF30: =IF(AND(K30=""),"",IF(AND(K30="NON ELIGIBLE"),AE30,(AE30+K30))) | AG30: 5 | AH30: 5 | AI30: 5 | AJ30: 56 | AK30: =IF(AND(K30=""),"",SUM(AG30:AJ30)) | AL30: =IF(AND(K30=""),"",ROUNDUP(AK30*15%,0)) | AM30: =IF(AND(K30=""),"",IF(AND(K30="NON ELIGIBLE"),AL30,(AL30+K30))) | AN30: 5 | AO30: 5 | AP30: 5 | AQ30: 56 | AR30: =IF(AND(K30=""),"",SUM(AN30:AQ30)) | AS30: =IF(AND(K30=""),"",ROUNDUP(AR30*15%,0)) | AT30: =IF(AND(K30=""),"",IF(AND(K30="NON ELIGIBLE"),AS30,(AS30+K30))) | AU30: 5 | AV30: 5 | AW30: 5 | AX30: 56 | AY30: =IF(AND(K30=""),"",SUM(AU30:AX30)) | AZ30: =IF(AND(K30=""),"",ROUNDUP(AY30*15%,0)) | BA30: =IF(AND(K30=""),"",IF(AND(K30="NON ELIGIBLE"),AZ30,(AZ30+K30))) | BB30: 18 | BC30: 19 | BD30: 19 | BE30: 18 | BF30: 18 | BG30: =IF(AND(E30=""),"",SUM(BB30,BC30,BD30,BE30,BF30)) | BH30: =IF(BG30=""," ",IF(BG30>90,"A+",IF(BG30>75,"A",IF(BG30>60,"B",IF(BG30>40,"C","D"))))) | BI30: 18 | BJ30: 18 | BK30: 17 | BL30: 18 | BM30: 17 | BN30: =IF(AND(E30=""),"",SUM(BI30,BJ30,BK30,BL30,BM30)) | BO30: =IF(BN30=""," ",IF(BN30>90,"A+",IF(BN30>75,"A",IF(BN30>60,"B",IF(BN30>40,"C","D"))))) | BP30: 18 | BQ30: 17 | BR30: 18 | BS30: 17 | BT30: 18 | BU30: =IF(AND(E30=""),"",SUM(BP30,BQ30,BR30,BS30,BT30)) | BV30: =IF(BU30=""," ",IF(BU30>90,"A+",IF(BU30>75,"A",IF(BU30>60,"B",IF(BU30>40,"C","D")))))
A31: 21 | F31: =IF(AND(B31=""),"",F$10) | G31: 210 | H31: =IF(AND(F31=""),"",IF(AND(G31=""),"",G31/F31*100)) | J31: =IF(AND(F31=""),"",IF(AND(G31=""),"",SUM(H31+I31))) | K31: =IF(J31="","",IF(J31>=86,5,IF(J31>=75,4,IF(J31>=65,3,"NON ELIGIBLE")))) | L31: 5 | M31: 6 | N31: 5 | O31: 61 | P31: =IF(AND(K31=""),"",SUM(L31:O31)) | Q31: =IF(AND(K31=""),"",ROUNDUP(P31*15%,0)) | R31: =IF(AND(K31=""),"",IF(AND(K31="NON ELIGIBLE"),Q31,(Q31+K31))) | S31: 5 | T31: 5 | U31: 5 | V31: 56 | W31: =IF(AND(K31=""),"",SUM(S31:V31)) | X31: =IF(AND(K31=""),"",ROUNDUP(W31*15%,0)) | Y31: =IF(AND(K31=""),"",IF(AND(K31="NON ELIGIBLE"),X31,(X31+K31))) | Z31: 5 | AA31: 5 | AB31: 5 | AC31: 56 | AD31: =IF(AND(K31=""),"",SUM(Z31:AC31)) | AE31: =IF(AND(K31=""),"",ROUNDUP(AD31*15%,0)) | AF31: =IF(AND(K31=""),"",IF(AND(K31="NON ELIGIBLE"),AE31,(AE31+K31))) | AG31: 5 | AH31: 5 | AI31: 5 | AJ31: 56 | AK31: =IF(AND(K31=""),"",SUM(AG31:AJ31)) | AL31: =IF(AND(K31=""),"",ROUNDUP(AK31*15%,0)) | AM31: =IF(AND(K31=""),"",IF(AND(K31="NON ELIGIBLE"),AL31,(AL31+K31))) | AN31: 5 | AO31: 5 | AP31: 5 | AQ31: 56 | AR31: =IF(AND(K31=""),"",SUM(AN31:AQ31)) | AS31: =IF(AND(K31=""),"",ROUNDUP(AR31*15%,0)) | AT31: =IF(AND(K31=""),"",IF(AND(K31="NON ELIGIBLE"),AS31,(AS31+K31))) | AU31: 5 | AV31: 5 | AW31: 5 | AX31: 56 | AY31: =IF(AND(K31=""),"",SUM(AU31:AX31)) | AZ31: =IF(AND(K31=""),"",ROUNDUP(AY31*15%,0)) | BA31: =IF(AND(K31=""),"",IF(AND(K31="NON ELIGIBLE"),AZ31,(AZ31+K31))) | BB31: 18 | BC31: 18 | BD31: 19 | BE31: 18 | BF31: 18 | BG31: =IF(AND(E31=""),"",SUM(BB31,BC31,BD31,BE31,BF31)) | BH31: =IF(BG31=""," ",IF(BG31>90,"A+",IF(BG31>75,"A",IF(BG31>60,"B",IF(BG31>40,"C","D"))))) | BI31: 17 | BJ31: 17 | BK31: 17 | BL31: 18 | BM31: 18 | BN31: =IF(AND(E31=""),"",SUM(BI31,BJ31,BK31,BL31,BM31)) | BO31: =IF(BN31=""," ",IF(BN31>90,"A+",IF(BN31>75,"A",IF(BN31>60,"B",IF(BN31>40,"C","D"))))) | BP31: 19 | BQ31: 18 | BR31: 18 | BS31: 19 | BT31: 18 | BU31: =IF(AND(E31=""),"",SUM(BP31,BQ31,BR31,BS31,BT31)) | BV31: =IF(BU31=""," ",IF(BU31>90,"A+",IF(BU31>75,"A",IF(BU31>60,"B",IF(BU31>40,"C","D")))))
A32: 22 | F32: =IF(AND(B32=""),"",F$10) | G32: 210 | H32: =IF(AND(F32=""),"",IF(AND(G32=""),"",G32/F32*100)) | J32: =IF(AND(F32=""),"",IF(AND(G32=""),"",SUM(H32+I32))) | K32: =IF(J32="","",IF(J32>=86,5,IF(J32>=75,4,IF(J32>=65,3,"NON ELIGIBLE")))) | L32: 5 | M32: 7 | N32: 5 | O32: 62 | P32: =IF(AND(K32=""),"",SUM(L32:O32)) | Q32: =IF(AND(K32=""),"",ROUNDUP(P32*15%,0)) | R32: =IF(AND(K32=""),"",IF(AND(K32="NON ELIGIBLE"),Q32,(Q32+K32))) | S32: 5 | T32: 5 | U32: 5 | V32: 56 | W32: =IF(AND(K32=""),"",SUM(S32:V32)) | X32: =IF(AND(K32=""),"",ROUNDUP(W32*15%,0)) | Y32: =IF(AND(K32=""),"",IF(AND(K32="NON ELIGIBLE"),X32,(X32+K32))) | Z32: 5 | AA32: 5 | AB32: 5 | AC32: 56 | AD32: =IF(AND(K32=""),"",SUM(Z32:AC32)) | AE32: =IF(AND(K32=""),"",ROUNDUP(AD32*15%,0)) | AF32: =IF(AND(K32=""),"",IF(AND(K32="NON ELIGIBLE"),AE32,(AE32+K32))) | AG32: 5 | AH32: 5 | AI32: 5 | AJ32: 56 | AK32: =IF(AND(K32=""),"",SUM(AG32:AJ32)) | AL32: =IF(AND(K32=""),"",ROUNDUP(AK32*15%,0)) | AM32: =IF(AND(K32=""),"",IF(AND(K32="NON ELIGIBLE"),AL32,(AL32+K32))) | AN32: 5 | AO32: 5 | AP32: 5 | AQ32: 56 | AR32: =IF(AND(K32=""),"",SUM(AN32:AQ32)) | AS32: =IF(AND(K32=""),"",ROUNDUP(AR32*15%,0)) | AT32: =IF(AND(K32=""),"",IF(AND(K32="NON ELIGIBLE"),AS32,(AS32+K32))) | AU32: 5 | AV32: 5 | AW32: 5 | AX32: 56 | AY32: =IF(AND(K32=""),"",SUM(AU32:AX32)) | AZ32: =IF(AND(K32=""),"",ROUNDUP(AY32*15%,0)) | BA32: =IF(AND(K32=""),"",IF(AND(K32="NON ELIGIBLE"),AZ32,(AZ32+K32))) | BB32: 18 | BG32: =IF(AND(E32=""),"",SUM(BB32,BC32,BD32,BE32,BF32)) | BH32: =IF(BG32=""," ",IF(BG32>90,"A+",IF(BG32>75,"A",IF(BG32>60,"B",IF(BG32>40,"C","D"))))) | BI32: 17 | BN32: =IF(AND(E32=""),"",SUM(BI32,BJ32,BK32,BL32,BM32)) | BO32: =IF(BN32=""," ",IF(BN32>90,"A+",IF(BN32>75,"A",IF(BN32>60,"B",IF(BN32>40,"C","D"))))) | BP32: 18 | BU32: =IF(AND(E32=""),"",SUM(BP32,BQ32,BR32,BS32,BT32)) | BV32: =IF(BU32=""," ",IF(BU32>90,"A+",IF(BU32>75,"A",IF(BU32>60,"B",IF(BU32>40,"C","D")))))
A33: 23 | F33: =IF(AND(B33=""),"",F$10) | G33: 210 | H33: =IF(AND(F33=""),"",IF(AND(G33=""),"",G33/F33*100)) | J33: =IF(AND(F33=""),"",IF(AND(G33=""),"",SUM(H33+I33))) | K33: =IF(J33="","",IF(J33>=86,5,IF(J33>=75,4,IF(J33>=65,3,"NON ELIGIBLE")))) | L33: 5 | M33: 8 | N33: 5 | O33: 63 | P33: =IF(AND(K33=""),"",SUM(L33:O33)) | Q33: =IF(AND(K33=""),"",ROUNDUP(P33*15%,0)) | R33: =IF(AND(K33=""),"",IF(AND(K33="NON ELIGIBLE"),Q33,(Q33+K33))) | S33: 5 | T33: 5 | U33: 5 | V33: 56 | W33: =IF(AND(K33=""),"",SUM(S33:V33)) | X33: =IF(AND(K33=""),"",ROUNDUP(W33*15%,0)) | Y33: =IF(AND(K33=""),"",IF(AND(K33="NON ELIGIBLE"),X33,(X33+K33))) | Z33: 5 | AA33: 5 | AB33: 5 | AC33: 56 | AD33: =IF(AND(K33=""),"",SUM(Z33:AC33)) | AE33: =IF(AND(K33=""),"",ROUNDUP(AD33*15%,0)) | AF33: =IF(AND(K33=""),"",IF(AND(K33="NON ELIGIBLE"),AE33,(AE33+K33))) | AG33: 5 | AH33: 5 | AI33: 5 | AJ33: 56 | AK33: =IF(AND(K33=""),"",SUM(AG33:AJ33)) | AL33: =IF(AND(K33=""),"",ROUNDUP(AK33*15%,0)) | AM33: =IF(AND(K33=""),"",IF(AND(K33="NON ELIGIBLE"),AL33,(AL33+K33))) | AN33: 5 | AO33: 5 | AP33: 5 | AQ33: 56 | AR33: =IF(AND(K33=""),"",SUM(AN33:AQ33)) | AS33: =IF(AND(K33=""),"",ROUNDUP(AR33*15%,0)) | AT33: =IF(AND(K33=""),"",IF(AND(K33="NON ELIGIBLE"),AS33,(AS33+K33))) | AU33: 5 | AV33: 5 | AW33: 5 | AX33: 56 | AY33: =IF(AND(K33=""),"",SUM(AU33:AX33)) | AZ33: =IF(AND(K33=""),"",ROUNDUP(AY33*15%,0)) | BA33: =IF(AND(K33=""),"",IF(AND(K33="NON ELIGIBLE"),AZ33,(AZ33+K33))) | BB33: 17 | BC33: 17 | BD33: 16 | BE33: 17 | BF33: 17 | BG33: =IF(AND(E33=""),"",SUM(BB33,BC33,BD33,BE33,BF33)) | BH33: =IF(BG33=""," ",IF(BG33>90,"A+",IF(BG33>75,"A",IF(BG33>60,"B",IF(BG33>40,"C","D"))))) | BI33: 17 | BJ33: 17 | BK33: 17 | BL33: 17 | BM33: 17 | BN33: =IF(AND(E33=""),"",SUM(BI33,BJ33,BK33,BL33,BM33)) | BO33: =IF(BN33=""," ",IF(BN33>90,"A+",IF(BN33>75,"A",IF(BN33>60,"B",IF(BN33>40,"C","D"))))) | BP33: 17 | BQ33: 17 | BR33: 18 | BS33: 17 | BT33: 18 | BU33: =IF(AND(E33=""),"",SUM(BP33,BQ33,BR33,BS33,BT33)) | BV33: =IF(BU33=""," ",IF(BU33>90,"A+",IF(BU33>75,"A",IF(BU33>60,"B",IF(BU33>40,"C","D")))))
A34: 24 | F34: =IF(AND(B34=""),"",F$10) | G34: 210 | H34: =IF(AND(F34=""),"",IF(AND(G34=""),"",G34/F34*100)) | J34: =IF(AND(F34=""),"",IF(AND(G34=""),"",SUM(H34+I34))) | K34: =IF(J34="","",IF(J34>=86,5,IF(J34>=75,4,IF(J34>=65,3,"NON ELIGIBLE")))) | L34: 5 | M34: 9 | N34: 5 | O34: 64 | P34: =IF(AND(K34=""),"",SUM(L34:O34)) | Q34: =IF(AND(K34=""),"",ROUNDUP(P34*15%,0)) | R34: =IF(AND(K34=""),"",IF(AND(K34="NON ELIGIBLE"),Q34,(Q34+K34))) | S34: 5 | T34: 5 | U34: 5 | V34: 56 | W34: =IF(AND(K34=""),"",SUM(S34:V34)) | X34: =IF(AND(K34=""),"",ROUNDUP(W34*15%,0)) | Y34: =IF(AND(K34=""),"",IF(AND(K34="NON ELIGIBLE"),X34,(X34+K34))) | Z34: 5 | AA34: 5 | AB34: 5 | AC34: 56 | AD34: =IF(AND(K34=""),"",SUM(Z34:AC34)) | AE34: =IF(AND(K34=""),"",ROUNDUP(AD34*15%,0)) | AF34: =IF(AND(K34=""),"",IF(AND(K34="NON ELIGIBLE"),AE34,(AE34+K34))) | AG34: 5 | AH34: 5 | AI34: 5 | AJ34: 56 | AK34: =IF(AND(K34=""),"",SUM(AG34:AJ34)) | AL34: =IF(AND(K34=""),"",ROUNDUP(AK34*15%,0)) | AM34: =IF(AND(K34=""),"",IF(AND(K34="NON ELIGIBLE"),AL34,(AL34+K34))) | AN34: 5 | AO34: 5 | AP34: 5 | AQ34: 56 | AR34: =IF(AND(K34=""),"",SUM(AN34:AQ34)) | AS34: =IF(AND(K34=""),"",ROUNDUP(AR34*15%,0)) | AT34: =IF(AND(K34=""),"",IF(AND(K34="NON ELIGIBLE"),AS34,(AS34+K34))) | AU34: 5 | AV34: 5 | AW34: 5 | AX34: 56 | AY34: =IF(AND(K34=""),"",SUM(AU34:AX34)) | AZ34: =IF(AND(K34=""),"",ROUNDUP(AY34*15%,0)) | BA34: =IF(AND(K34=""),"",IF(AND(K34="NON ELIGIBLE"),AZ34,(AZ34+K34))) | BB34: 17 | BC34: 18 | BD34: 17 | BE34: 18 | BF34: 18 | BG34: =IF(AND(E34=""),"",SUM(BB34,BC34,BD34,BE34,BF34)) | BH34: =IF(BG34=""," ",IF(BG34>90,"A+",IF(BG34>75,"A",IF(BG34>60,"B",IF(BG34>40,"C","D"))))) | BI34: 18 | BJ34: 17 | BK34: 18 | BL34: 17 | BM34: 18 | BN34: =IF(AND(E34=""),"",SUM(BI34,BJ34,BK34,BL34,BM34)) | BO34: =IF(BN34=""," ",IF(BN34>90,"A+",IF(BN34>75,"A",IF(BN34>60,"B",IF(BN34>40,"C","D"))))) | BP34: 17 | BQ34: 17 | BR34: 17 | BS34: 18 | BT34: 17 | BU34: =IF(AND(E34=""),"",SUM(BP34,BQ34,BR34,BS34,BT34)) | BV34: =IF(BU34=""," ",IF(BU34>90,"A+",IF(BU34>75,"A",IF(BU34>60,"B",IF(BU34>40,"C","D")))))
A35: 25 | F35: =IF(AND(B35=""),"",F$10) | G35: 210 | H35: =IF(AND(F35=""),"",IF(AND(G35=""),"",G35/F35*100)) | J35: =IF(AND(F35=""),"",IF(AND(G35=""),"",SUM(H35+I35))) | K35: =IF(J35="","",IF(J35>=86,5,IF(J35>=75,4,IF(J35>=65,3,"NON ELIGIBLE")))) | L35: 5 | M35: 10 | N35: 5 | O35: 65 | P35: =IF(AND(K35=""),"",SUM(L35:O35)) | Q35: =IF(AND(K35=""),"",ROUNDUP(P35*15%,0)) | R35: =IF(AND(K35=""),"",IF(AND(K35="NON ELIGIBLE"),Q35,(Q35+K35))) | S35: 5 | T35: 5 | U35: 5 | V35: 56 | W35: =IF(AND(K35=""),"",SUM(S35:V35)) | X35: =IF(AND(K35=""),"",ROUNDUP(W35*15%,0)) | Y35: =IF(AND(K35=""),"",IF(AND(K35="NON ELIGIBLE"),X35,(X35+K35))) | Z35: 5 | AA35: 5 | AB35: 5 | AC35: 56 | AD35: =IF(AND(K35=""),"",SUM(Z35:AC35)) | AE35: =IF(AND(K35=""),"",ROUNDUP(AD35*15%,0)) | AF35: =IF(AND(K35=""),"",IF(AND(K35="NON ELIGIBLE"),AE35,(AE35+K35))) | AG35: 5 | AH35: 5 | AI35: 5 | AJ35: 56 | AK35: =IF(AND(K35=""),"",SUM(AG35:AJ35)) | AL35: =IF(AND(K35=""),"",ROUNDUP(AK35*15%,0)) | AM35: =IF(AND(K35=""),"",IF(AND(K35="NON ELIGIBLE"),AL35,(AL35+K35))) | AN35: 5 | AO35: 5 | AP35: 5 | AQ35: 56 | AR35: =IF(AND(K35=""),"",SUM(AN35:AQ35)) | AS35: =IF(AND(K35=""),"",ROUNDUP(AR35*15%,0)) | AT35: =IF(AND(K35=""),"",IF(AND(K35="NON ELIGIBLE"),AS35,(AS35+K35))) | AU35: 5 | AV35: 5 | AW35: 5 | AX35: 56 | AY35: =IF(AND(K35=""),"",SUM(AU35:AX35)) | AZ35: =IF(AND(K35=""),"",ROUNDUP(AY35*15%,0)) | BA35: =IF(AND(K35=""),"",IF(AND(K35="NON ELIGIBLE"),AZ35,(AZ35+K35))) | BC35: 19 | BD35: 19 | BE35: 19 | BF35: 18 | BG35: =IF(AND(E35=""),"",SUM(BB35,BC35,BD35,BE35,BF35)) | BH35: =IF(BG35=""," ",IF(BG35>90,"A+",IF(BG35>75,"A",IF(BG35>60,"B",IF(BG35>40,"C","D"))))) | BJ35: 19 | BK35: 19 | BL35: 19 | BM35: 19 | BN35: =IF(AND(E35=""),"",SUM(BI35,BJ35,BK35,BL35,BM35)) | BO35: =IF(BN35=""," ",IF(BN35>90,"A+",IF(BN35>75,"A",IF(BN35>60,"B",IF(BN35>40,"C","D"))))) | BQ35: 19 | BR35: 18 | BS35: 19 | BT35: 19 | BU35: =IF(AND(E35=""),"",SUM(BP35,BQ35,BR35,BS35,BT35)) | BV35: =IF(BU35=""," ",IF(BU35>90,"A+",IF(BU35>75,"A",IF(BU35>60,"B",IF(BU35>40,"C","D")))))
A36: 26 | F36: =IF(AND(B36=""),"",F$10) | G36: 210 | H36: =IF(AND(F36=""),"",IF(AND(G36=""),"",G36/F36*100)) | J36: =IF(AND(F36=""),"",IF(AND(G36=""),"",SUM(H36+I36))) | K36: =IF(J36="","",IF(J36>=86,5,IF(J36>=75,4,IF(J36>=65,3,"NON ELIGIBLE")))) | L36: 5 | M36: 6 | N36: 5 | O36: 66 | P36: =IF(AND(K36=""),"",SUM(L36:O36)) | Q36: =IF(AND(K36=""),"",ROUNDUP(P36*15%,0)) | R36: =IF(AND(K36=""),"",IF(AND(K36="NON ELIGIBLE"),Q36,(Q36+K36))) | S36: 5 | T36: 5 | U36: 5 | V36: 56 | W36: =IF(AND(K36=""),"",SUM(S36:V36)) | X36: =IF(AND(K36=""),"",ROUNDUP(W36*15%,0)) | Y36: =IF(AND(K36=""),"",IF(AND(K36="NON ELIGIBLE"),X36,(X36+K36))) | Z36: 5 | AA36: 5 | AB36: 5 | AC36: 56 | AD36: =IF(AND(K36=""),"",SUM(Z36:AC36)) | AE36: =IF(AND(K36=""),"",ROUNDUP(AD36*15%,0)) | AF36: =IF(AND(K36=""),"",IF(AND(K36="NON ELIGIBLE"),AE36,(AE36+K36))) | AG36: 5 | AH36: 5 | AI36: 5 | AJ36: 56 | AK36: =IF(AND(K36=""),"",SUM(AG36:AJ36)) | AL36: =IF(AND(K36=""),"",ROUNDUP(AK36*15%,0)) | AM36: =IF(AND(K36=""),"",IF(AND(K36="NON ELIGIBLE"),AL36,(AL36+K36))) | AN36: 5 | AO36: 5 | AP36: 5 | AQ36: 56 | AR36: =IF(AND(K36=""),"",SUM(AN36:AQ36)) | AS36: =IF(AND(K36=""),"",ROUNDUP(AR36*15%,0)) | AT36: =IF(AND(K36=""),"",IF(AND(K36="NON ELIGIBLE"),AS36,(AS36+K36))) | AU36: 5 | AV36: 5 | AW36: 5 | AX36: 56 | AY36: =IF(AND(K36=""),"",SUM(AU36:AX36)) | AZ36: =IF(AND(K36=""),"",ROUNDUP(AY36*15%,0)) | BA36: =IF(AND(K36=""),"",IF(AND(K36="NON ELIGIBLE"),AZ36,(AZ36+K36))) | BG36: =IF(AND(E36=""),"",SUM(BB36,BC36,BD36,BE36,BF36)) | BH36: =IF(BG36=""," ",IF(BG36>90,"A+",IF(BG36>75,"A",IF(BG36>60,"B",IF(BG36>40,"C","D"))))) | BN36: =IF(AND(E36=""),"",SUM(BI36,BJ36,BK36,BL36,BM36)) | BO36: =IF(BN36=""," ",IF(BN36>90,"A+",IF(BN36>75,"A",IF(BN36>60,"B",IF(BN36>40,"C","D"))))) | BU36: =IF(AND(E36=""),"",SUM(BP36,BQ36,BR36,BS36,BT36)) | BV36: =IF(BU36=""," ",IF(BU36>90,"A+",IF(BU36>75,"A",IF(BU36>60,"B",IF(BU36>40,"C","D")))))
A37: 27 | F37: =IF(AND(B37=""),"",F$10) | G37: 210 | H37: =IF(AND(F37=""),"",IF(AND(G37=""),"",G37/F37*100)) | J37: =IF(AND(F37=""),"",IF(AND(G37=""),"",SUM(H37+I37))) | K37: =IF(J37="","",IF(J37>=86,5,IF(J37>=75,4,IF(J37>=65,3,"NON ELIGIBLE")))) | L37: 5 | M37: 7 | N37: 5 | O37: 67 | P37: =IF(AND(K37=""),"",SUM(L37:O37)) | Q37: =IF(AND(K37=""),"",ROUNDUP(P37*15%,0)) | R37: =IF(AND(K37=""),"",IF(AND(K37="NON ELIGIBLE"),Q37,(Q37+K37))) | S37: 5 | T37: 5 | U37: 5 | V37: 56 | W37: =IF(AND(K37=""),"",SUM(S37:V37)) | X37: =IF(AND(K37=""),"",ROUNDUP(W37*15%,0)) | Y37: =IF(AND(K37=""),"",IF(AND(K37="NON ELIGIBLE"),X37,(X37+K37))) | Z37: 5 | AA37: 5 | AB37: 5 | AC37: 56 | AD37: =IF(AND(K37=""),"",SUM(Z37:AC37)) | AE37: =IF(AND(K37=""),"",ROUNDUP(AD37*15%,0)) | AF37: =IF(AND(K37=""),"",IF(AND(K37="NON ELIGIBLE"),AE37,(AE37+K37))) | AG37: 5 | AH37: 5 | AI37: 5 | AJ37: 56 | AK37: =IF(AND(K37=""),"",SUM(AG37:AJ37)) | AL37: =IF(AND(K37=""),"",ROUNDUP(AK37*15%,0)) | AM37: =IF(AND(K37=""),"",IF(AND(K37="NON ELIGIBLE"),AL37,(AL37+K37))) | AN37: 5 | AO37: 5 | AP37: 5 | AQ37: 56 | AR37: =IF(AND(K37=""),"",SUM(AN37:AQ37)) | AS37: =IF(AND(K37=""),"",ROUNDUP(AR37*15%,0)) | AT37: =IF(AND(K37=""),"",IF(AND(K37="NON ELIGIBLE"),AS37,(AS37+K37))) | AU37: 5 | AV37: 5 | AW37: 5 | AX37: 56 | AY37: =IF(AND(K37=""),"",SUM(AU37:AX37)) | AZ37: =IF(AND(K37=""),"",ROUNDUP(AY37*15%,0)) | BA37: =IF(AND(K37=""),"",IF(AND(K37="NON ELIGIBLE"),AZ37,(AZ37+K37))) | BG37: =IF(AND(E37=""),"",SUM(BB37,BC37,BD37,BE37,BF37)) | BH37: =IF(BG37=""," ",IF(BG37>90,"A+",IF(BG37>75,"A",IF(BG37>60,"B",IF(BG37>40,"C","D"))))) | BN37: =IF(AND(E37=""),"",SUM(BI37,BJ37,BK37,BL37,BM37)) | BO37: =IF(BN37=""," ",IF(BN37>90,"A+",IF(BN37>75,"A",IF(BN37>60,"B",IF(BN37>40,"C","D"))))) | BU37: =IF(AND(E37=""),"",SUM(BP37,BQ37,BR37,BS37,BT37)) | BV37: =IF(BU37=""," ",IF(BU37>90,"A+",IF(BU37>75,"A",IF(BU37>60,"B",IF(BU37>40,"C","D")))))
A38: 28 | F38: =IF(AND(B38=""),"",F$10) | H38: =IF(AND(F38=""),"",IF(AND(G38=""),"",G38/F38*100)) | J38: =IF(AND(F38=""),"",IF(AND(G38=""),"",SUM(H38+I38))) | K38: =IF(J38="","",IF(J38>=86,5,IF(J38>=75,4,IF(J38>=65,3,"NON ELIGIBLE")))) | P38: =IF(AND(K38=""),"",SUM(L38:O38)) | Q38: =IF(AND(K38=""),"",ROUNDUP(P38*15%,0)) | R38: =IF(AND(K38=""),"",IF(AND(K38="NON ELIGIBLE"),Q38,(Q38+K38))) | S38: 5 | T38: 5 | U38: 5 | V38: 56 | W38: =IF(AND(K38=""),"",SUM(S38:V38)) | X38: =IF(AND(K38=""),"",ROUNDUP(W38*15%,0)) | Y38: =IF(AND(K38=""),"",IF(AND(K38="NON ELIGIBLE"),X38,(X38+K38))) | Z38: 5 | AA38: 5 | AB38: 5 | AC38: 56 | AD38: =IF(AND(K38=""),"",SUM(Z38:AC38)) | AE38: =IF(AND(K38=""),"",ROUNDUP(AD38*15%,0)) | AF38: =IF(AND(K38=""),"",IF(AND(K38="NON ELIGIBLE"),AE38,(AE38+K38))) | AG38: 5 | AH38: 5 | AI38: 5 | AJ38: 56 | AK38: =IF(AND(K38=""),"",SUM(AG38:AJ38)) | AL38: =IF(AND(K38=""),"",ROUNDUP(AK38*15%,0)) | AM38: =IF(AND(K38=""),"",IF(AND(K38="NON ELIGIBLE"),AL38,(AL38+K38))) | AN38: 5 | AO38: 5 | AP38: 5 | AQ38: 56 | AR38: =IF(AND(K38=""),"",SUM(AN38:AQ38)) | AS38: =IF(AND(K38=""),"",ROUNDUP(AR38*15%,0)) | AT38: =IF(AND(K38=""),"",IF(AND(K38="NON ELIGIBLE"),AS38,(AS38+K38))) | AU38: 5 | AV38: 5 | AW38: 5 | AX38: 56 | AY38: =IF(AND(K38=""),"",SUM(AU38:AX38)) | AZ38: =IF(AND(K38=""),"",ROUNDUP(AY38*15%,0)) | BA38: =IF(AND(K38=""),"",IF(AND(K38="NON ELIGIBLE"),AZ38,(AZ38+K38))) | BG38: =IF(AND(E38=""),"",SUM(BB38,BC38,BD38,BE38,BF38)) | BH38: =IF(BG38=""," ",IF(BG38>90,"A+",IF(BG38>75,"A",IF(BG38>60,"B",IF(BG38>40,"C","D"))))) | BN38: =IF(AND(E38=""),"",SUM(BI38,BJ38,BK38,BL38,BM38)) | BO38: =IF(BN38=""," ",IF(BN38>90,"A+",IF(BN38>75,"A",IF(BN38>60,"B",IF(BN38>40,"C","D"))))) | BU38: =IF(AND(E38=""),"",SUM(BP38,BQ38,BR38,BS38,BT38)) | BV38: =IF(BU38=""," ",IF(BU38>90,"A+",IF(BU38>75,"A",IF(BU38>60,"B",IF(BU38>40,"C","D")))))
A39: 29 | F39: =IF(AND(B39=""),"",F$10) | H39: =IF(AND(F39=""),"",IF(AND(G39=""),"",G39/F39*100)) | J39: =IF(AND(F39=""),"",IF(AND(G39=""),"",SUM(H39+I39))) | K39: =IF(J39="","",IF(J39>=86,5,IF(J39>=75,4,IF(J39>=65,3,"NON ELIGIBLE")))) | P39: =IF(AND(K39=""),"",SUM(L39:O39)) | Q39: =IF(AND(K39=""),"",ROUNDUP(P39*15%,0)) | R39: =IF(AND(K39=""),"",IF(AND(K39="NON ELIGIBLE"),Q39,(Q39+K39))) | S39: 5 | T39: 5 | U39: 5 | V39: 56 | W39: =IF(AND(K39=""),"",SUM(S39:V39)) | X39: =IF(AND(K39=""),"",ROUNDUP(W39*15%,0)) | Y39: =IF(AND(K39=""),"",IF(AND(K39="NON ELIGIBLE"),X39,(X39+K39))) | Z39: 5 | AA39: 5 | AB39: 5 | AC39: 56 | AD39: =IF(AND(K39=""),"",SUM(Z39:AC39)) | AE39: =IF(AND(K39=""),"",ROUNDUP(AD39*15%,0)) | AF39: =IF(AND(K39=""),"",IF(AND(K39="NON ELIGIBLE"),AE39,(AE39+K39))) | AG39: 5 | AH39: 5 | AI39: 5 | AJ39: 56 | AK39: =IF(AND(K39=""),"",SUM(AG39:AJ39)) | AL39: =IF(AND(K39=""),"",ROUNDUP(AK39*15%,0)) | AM39: =IF(AND(K39=""),"",IF(AND(K39="NON ELIGIBLE"),AL39,(AL39+K39))) | AN39: 5 | AO39: 5 | AP39: 5 | AQ39: 56 | AR39: =IF(AND(K39=""),"",SUM(AN39:AQ39)) | AS39: =IF(AND(K39=""),"",ROUNDUP(AR39*15%,0)) | AT39: =IF(AND(K39=""),"",IF(AND(K39="NON ELIGIBLE"),AS39,(AS39+K39))) | AU39: 5 | AV39: 5 | AW39: 5 | AX39: 56 | AY39: =IF(AND(K39=""),"",SUM(AU39:AX39)) | AZ39: =IF(AND(K39=""),"",ROUNDUP(AY39*15%,0)) | BA39: =IF(AND(K39=""),"",IF(AND(K39="NON ELIGIBLE"),AZ39,(AZ39+K39))) | BG39: =IF(AND(E39=""),"",SUM(BB39,BC39,BD39,BE39,BF39)) | BH39: =IF(BG39=""," ",IF(BG39>90,"A+",IF(BG39>75,"A",IF(BG39>60,"B",IF(BG39>40,"C","D"))))) | BN39: =IF(AND(E39=""),"",SUM(BI39,BJ39,BK39,BL39,BM39)) | BO39: =IF(BN39=""," ",IF(BN39>90,"A+",IF(BN39>75,"A",IF(BN39>60,"B",IF(BN39>40,"C","D"))))) | BU39: =IF(AND(E39=""),"",SUM(BP39,BQ39,BR39,BS39,BT39)) | BV39: =IF(BU39=""," ",IF(BU39>90,"A+",IF(BU39>75,"A",IF(BU39>60,"B",IF(BU39>40,"C","D")))))
A40: 30 | F40: =IF(AND(B40=""),"",F$10) | H40: =IF(AND(F40=""),"",IF(AND(G40=""),"",G40/F40*100)) | J40: =IF(AND(F40=""),"",IF(AND(G40=""),"",SUM(H40+I40))) | K40: =IF(J40="","",IF(J40>=86,5,IF(J40>=75,4,IF(J40>=65,3,"NON ELIGIBLE")))) | P40: =IF(AND(K40=""),"",SUM(L40:O40)) | Q40: =IF(AND(K40=""),"",ROUNDUP(P40*15%,0)) | R40: =IF(AND(K40=""),"",IF(AND(K40="NON ELIGIBLE"),Q40,(Q40+K40))) | S40: 5 | T40: 5 | U40: 5 | V40: 56 | W40: =IF(AND(K40=""),"",SUM(S40:V40)) | X40: =IF(AND(K40=""),"",ROUNDUP(W40*15%,0)) | Y40: =IF(AND(K40=""),"",IF(AND(K40="NON ELIGIBLE"),X40,(X40+K40))) | Z40: 5 | AA40: 5 | AB40: 5 | AC40: 56 | AD40: =IF(AND(K40=""),"",SUM(Z40:AC40)) | AE40: =IF(AND(K40=""),"",ROUNDUP(AD40*15%,0)) | AF40: =IF(AND(K40=""),"",IF(AND(K40="NON ELIGIBLE"),AE40,(AE40+K40))) | AG40: 5 | AH40: 5 | AI40: 5 | AJ40: 56 | AK40: =IF(AND(K40=""),"",SUM(AG40:AJ40)) | AL40: =IF(AND(K40=""),"",ROUNDUP(AK40*15%,0)) | AM40: =IF(AND(K40=""),"",IF(AND(K40="NON ELIGIBLE"),AL40,(AL40+K40))) | AN40: 5 | AO40: 5 | AP40: 5 | AQ40: 56 | AR40: =IF(AND(K40=""),"",SUM(AN40:AQ40)) | AS40: =IF(AND(K40=""),"",ROUNDUP(AR40*15%,0)) | AT40: =IF(AND(K40=""),"",IF(AND(K40="NON ELIGIBLE"),AS40,(AS40+K40))) | AU40: 5 | AV40: 5 | AW40: 5 | AX40: 56 | AY40: =IF(AND(K40=""),"",SUM(AU40:AX40)) | AZ40: =IF(AND(K40=""),"",ROUNDUP(AY40*15%,0)) | BA40: =IF(AND(K40=""),"",IF(AND(K40="NON ELIGIBLE"),AZ40,(AZ40+K40))) | BG40: =IF(AND(E40=""),"",SUM(BB40,BC40,BD40,BE40,BF40)) | BH40: =IF(BG40=""," ",IF(BG40>90,"A+",IF(BG40>75,"A",IF(BG40>60,"B",IF(BG40>40,"C","D"))))) | BN40: =IF(AND(E40=""),"",SUM(BI40,BJ40,BK40,BL40,BM40)) | BO40: =IF(BN40=""," ",IF(BN40>90,"A+",IF(BN40>75,"A",IF(BN40>60,"B",IF(BN40>40,"C","D"))))) | BU40: =IF(AND(E40=""),"",SUM(BP40,BQ40,BR40,BS40,BT40)) | BV40: =IF(BU40=""," ",IF(BU40>90,"A+",IF(BU40>75,"A",IF(BU40>60,"B",IF(BU40>40,"C","D")))))
A41: 31 | F41: =IF(AND(B41=""),"",F$10) | H41: =IF(AND(F41=""),"",IF(AND(G41=""),"",G41/F41*100)) | J41: =IF(AND(F41=""),"",IF(AND(G41=""),"",SUM(H41+I41))) | K41: =IF(J41="","",IF(J41>=86,5,IF(J41>=75,4,IF(J41>=65,3,"NON ELIGIBLE")))) | P41: =IF(AND(K41=""),"",SUM(L41:O41)) | Q41: =IF(AND(K41=""),"",ROUNDUP(P41*15%,0)) | R41: =IF(AND(K41=""),"",IF(AND(K41="NON ELIGIBLE"),Q41,(Q41+K41))) | S41: 5 | T41: 5 | U41: 5 | V41: 56 | W41: =IF(AND(K41=""),"",SUM(S41:V41)) | X41: =IF(AND(K41=""),"",ROUNDUP(W41*15%,0)) | Y41: =IF(AND(K41=""),"",IF(AND(K41="NON ELIGIBLE"),X41,(X41+K41))) | Z41: 5 | AA41: 5 | AB41: 5 | AC41: 56 | AD41: =IF(AND(K41=""),"",SUM(Z41:AC41)) | AE41: =IF(AND(K41=""),"",ROUNDUP(AD41*15%,0)) | AF41: =IF(AND(K41=""),"",IF(AND(K41="NON ELIGIBLE"),AE41,(AE41+K41))) | AK41: =IF(AND(K41=""),"",SUM(AG41:AJ41)) | AL41: =IF(AND(K41=""),"",ROUNDUP(AK41*15%,0)) | AM41: =IF(AND(K41=""),"",IF(AND(K41="NON ELIGIBLE"),AL41,(AL41+K41))) | AR41: =IF(AND(K41=""),"",SUM(AN41:AQ41)) | AS41: =IF(AND(K41=""),"",ROUNDUP(AR41*15%,0)) | AT41: =IF(AND(K41=""),"",IF(AND(K41="NON ELIGIBLE"),AS41,(AS41+K41))) | AU41: 5 | AV41: 5 | AW41: 5 | AX41: 56 | AY41: =IF(AND(K41=""),"",SUM(AU41:AX41)) | AZ41: =IF(AND(K41=""),"",ROUNDUP(AY41*15%,0)) | BA41: =IF(AND(K41=""),"",IF(AND(K41="NON ELIGIBLE"),AZ41,(AZ41+K41))) | BG41: =IF(AND(E41=""),"",SUM(BB41,BC41,BD41,BE41,BF41)) | BH41: =IF(BG41=""," ",IF(BG41>90,"A+",IF(BG41>75,"A",IF(BG41>60,"B",IF(BG41>40,"C","D"))))) | BN41: =IF(AND(E41=""),"",SUM(BI41,BJ41,BK41,BL41,BM41)) | BO41: =IF(BN41=""," ",IF(BN41>90,"A+",IF(BN41>75,"A",IF(BN41>60,"B",IF(BN41>40,"C","D"))))) | BU41: =IF(AND(E41=""),"",SUM(BP41,BQ41,BR41,BS41,BT41)) | BV41: =IF(BU41=""," ",IF(BU41>90,"A+",IF(BU41>75,"A",IF(BU41>60,"B",IF(BU41>40,"C","D")))))
A42: 32 | F42: =IF(AND(B42=""),"",F$10) | H42: =IF(AND(F42=""),"",IF(AND(G42=""),"",G42/F42*100)) | J42: =IF(AND(F42=""),"",IF(AND(G42=""),"",SUM(H42+I42))) | K42: =IF(J42="","",IF(J42>=86,5,IF(J42>=75,4,IF(J42>=65,3,"NON ELIGIBLE")))) | P42: =IF(AND(K42=""),"",SUM(L42:O42)) | Q42: =IF(AND(K42=""),"",ROUNDUP(P42*15%,0)) | R42: =IF(AND(K42=""),"",IF(AND(K42="NON ELIGIBLE"),Q42,(Q42+K42))) | W42: =IF(AND(K42=""),"",SUM(S42:V42)) | X42: =IF(AND(K42=""),"",ROUNDUP(W42*15%,0)) | Y42: =IF(AND(K42=""),"",IF(AND(K42="NON ELIGIBLE"),X42,(X42+K42))) | AD42: =IF(AND(K42=""),"",SUM(Z42:AC42)) | AE42: =IF(AND(K42=""),"",ROUNDUP(AD42*15%,0)) | AF42: =IF(AND(K42=""),"",IF(AND(K42="NON ELIGIBLE"),AE42,(AE42+K42))) | AK42: =IF(AND(K42=""),"",SUM(AG42:AJ42)) | AL42: =IF(AND(K42=""),"",ROUNDUP(AK42*15%,0)) | AM42: =IF(AND(K42=""),"",IF(AND(K42="NON ELIGIBLE"),AL42,(AL42+K42))) | AR42: =IF(AND(K42=""),"",SUM(AN42:AQ42)) | AS42: =IF(AND(K42=""),"",ROUNDUP(AR42*15%,0)) | AT42: =IF(AND(K42=""),"",IF(AND(K42="NON ELIGIBLE"),AS42,(AS42+K42))) | AU42: 5 | AV42: 5 | AW42: 5 | AX42: 56 | AY42: =IF(AND(K42=""),"",SUM(AU42:AX42)) | AZ42: =IF(AND(K42=""),"",ROUNDUP(AY42*15%,0)) | BA42: =IF(AND(K42=""),"",IF(AND(K42="NON ELIGIBLE"),AZ42,(AZ42+K42))) | BG42: =IF(AND(E42=""),"",SUM(BB42,BC42,BD42,BE42,BF42)) | BH42: =IF(BG42=""," ",IF(BG42>90,"A+",IF(BG42>75,"A",IF(BG42>60,"B",IF(BG42>40,"C","D"))))) | BN42: =IF(AND(E42=""),"",SUM(BI42,BJ42,BK42,BL42,BM42)) | BO42: =IF(BN42=""," ",IF(BN42>90,"A+",IF(BN42>75,"A",IF(BN42>60,"B",IF(BN42>40,"C","D"))))) | BU42: =IF(AND(E42=""),"",SUM(BP42,BQ42,BR42,BS42,BT42)) | BV42: =IF(BU42=""," ",IF(BU42>90,"A+",IF(BU42>75,"A",IF(BU42>60,"B",IF(BU42>40,"C","D")))))
A43: 33 | F43: =IF(AND(B43=""),"",F$10) | H43: =IF(AND(F43=""),"",IF(AND(G43=""),"",G43/F43*100)) | J43: =IF(AND(F43=""),"",IF(AND(G43=""),"",SUM(H43+I43))) | K43: =IF(J43="","",IF(J43>=86,5,IF(J43>=75,4,IF(J43>=65,3,"NON ELIGIBLE")))) | P43: =IF(AND(K43=""),"",SUM(L43:O43)) | Q43: =IF(AND(K43=""),"",ROUNDUP(P43*15%,0)) | R43: =IF(AND(K43=""),"",IF(AND(K43="NON ELIGIBLE"),Q43,(Q43+K43))) | W43: =IF(AND(K43=""),"",SUM(S43:V43)) | X43: =IF(AND(K43=""),"",ROUNDUP(W43*15%,0)) | Y43: =IF(AND(K43=""),"",IF(AND(K43="NON ELIGIBLE"),X43,(X43+K43))) | AD43: =IF(AND(K43=""),"",SUM(Z43:AC43)) | AE43: =IF(AND(K43=""),"",ROUNDUP(AD43*15%,0)) | AF43: =IF(AND(K43=""),"",IF(AND(K43="NON ELIGIBLE"),AE43,(AE43+K43))) | AK43: =IF(AND(K43=""),"",SUM(AG43:AJ43)) | AL43: =IF(AND(K43=""),"",ROUNDUP(AK43*15%,0)) | AM43: =IF(AND(K43=""),"",IF(AND(K43="NON ELIGIBLE"),AL43,(AL43+K43))) | AR43: =IF(AND(K43=""),"",SUM(AN43:AQ43)) | AS43: =IF(AND(K43=""),"",ROUNDUP(AR43*15%,0)) | AT43: =IF(AND(K43=""),"",IF(AND(K43="NON ELIGIBLE"),AS43,(AS43+K43))) | AU43: 5 | AV43: 5 | AW43: 5 | AX43: 56 | AY43: =IF(AND(K43=""),"",SUM(AU43:AX43)) | AZ43: =IF(AND(K43=""),"",ROUNDUP(AY43*15%,0)) | BA43: =IF(AND(K43=""),"",IF(AND(K43="NON ELIGIBLE"),AZ43,(AZ43+K43))) | BG43: =IF(AND(E43=""),"",SUM(BB43,BC43,BD43,BE43,BF43)) | BH43: =IF(BG43=""," ",IF(BG43>90,"A+",IF(BG43>75,"A",IF(BG43>60,"B",IF(BG43>40,"C","D"))))) | BN43: =IF(AND(E43=""),"",SUM(BI43,BJ43,BK43,BL43,BM43)) | BO43: =IF(BN43=""," ",IF(BN43>90,"A+",IF(BN43>75,"A",IF(BN43>60,"B",IF(BN43>40,"C","D"))))) | BU43: =IF(AND(E43=""),"",SUM(BP43,BQ43,BR43,BS43,BT43)) | BV43: =IF(BU43=""," ",IF(BU43>90,"A+",IF(BU43>75,"A",IF(BU43>60,"B",IF(BU43>40,"C","D")))))
A44: 34 | F44: =IF(AND(B44=""),"",F$10) | H44: =IF(AND(F44=""),"",IF(AND(G44=""),"",G44/F44*100)) | J44: =IF(AND(F44=""),"",IF(AND(G44=""),"",SUM(H44+I44))) | K44: =IF(J44="","",IF(J44>=86,5,IF(J44>=75,4,IF(J44>=65,3,"NON ELIGIBLE")))) | P44: =IF(AND(K44=""),"",SUM(L44:O44)) | Q44: =IF(AND(K44=""),"",ROUNDUP(P44*15%,0)) | R44: =IF(AND(K44=""),"",IF(AND(K44="NON ELIGIBLE"),Q44,(Q44+K44))) | W44: =IF(AND(K44=""),"",SUM(S44:V44)) | X44: =IF(AND(K44=""),"",ROUNDUP(W44*15%,0)) | Y44: =IF(AND(K44=""),"",IF(AND(K44="NON ELIGIBLE"),X44,(X44+K44))) | AD44: =IF(AND(K44=""),"",SUM(Z44:AC44)) | AE44: =IF(AND(K44=""),"",ROUNDUP(AD44*15%,0)) | AF44: =IF(AND(K44=""),"",IF(AND(K44="NON ELIGIBLE"),AE44,(AE44+K44))) | AK44: =IF(AND(K44=""),"",SUM(AG44:AJ44)) | AL44: =IF(AND(K44=""),"",ROUNDUP(AK44*15%,0)) | AM44: =IF(AND(K44=""),"",IF(AND(K44="NON ELIGIBLE"),AL44,(AL44+K44))) | AR44: =IF(AND(K44=""),"",SUM(AN44:AQ44)) | AS44: =IF(AND(K44=""),"",ROUNDUP(AR44*15%,0)) | AT44: =IF(AND(K44=""),"",IF(AND(K44="NON ELIGIBLE"),AS44,(AS44+K44))) | AY44: =IF(AND(K44=""),"",SUM(AU44:AX44)) | AZ44: =IF(AND(K44=""),"",ROUNDUP(AY44*15%,0)) | BA44: =IF(AND(K44=""),"",IF(AND(K44="NON ELIGIBLE"),AZ44,(AZ44+K44))) | BG44: =IF(AND(E44=""),"",SUM(BB44,BC44,BD44,BE44,BF44)) | BH44: =IF(BG44=""," ",IF(BG44>90,"A+",IF(BG44>75,"A",IF(BG44>60,"B",IF(BG44>40,"C","D"))))) | BN44: =IF(AND(E44=""),"",SUM(BI44,BJ44,BK44,BL44,BM44)) | BO44: =IF(BN44=""," ",IF(BN44>90,"A+",IF(BN44>75,"A",IF(BN44>60,"B",IF(BN44>40,"C","D"))))) | BU44: =IF(AND(E44=""),"",SUM(BP44,BQ44,BR44,BS44,BT44)) | BV44: =IF(BU44=""," ",IF(BU44>90,"A+",IF(BU44>75,"A",IF(BU44>60,"B",IF(BU44>40,"C","D")))))
A45: 35 | F45: =IF(AND(B45=""),"",F$10) | H45: =IF(AND(F45=""),"",IF(AND(G45=""),"",G45/F45*100)) | J45: =IF(AND(F45=""),"",IF(AND(G45=""),"",SUM(H45+I45))) | K45: =IF(J45="","",IF(J45>=86,5,IF(J45>=75,4,IF(J45>=65,3,"NON ELIGIBLE")))) | P45: =IF(AND(K45=""),"",SUM(L45:O45)) | Q45: =IF(AND(K45=""),"",ROUNDUP(P45*15%,0)) | R45: =IF(AND(K45=""),"",IF(AND(K45="NON ELIGIBLE"),Q45,(Q45+K45))) | W45: =IF(AND(K45=""),"",SUM(S45:V45)) | X45: =IF(AND(K45=""),"",ROUNDUP(W45*15%,0)) | Y45: =IF(AND(K45=""),"",IF(AND(K45="NON ELIGIBLE"),X45,(X45+K45))) | AD45: =IF(AND(K45=""),"",SUM(Z45:AC45)) | AE45: =IF(AND(K45=""),"",ROUNDUP(AD45*15%,0)) | AF45: =IF(AND(K45=""),"",IF(AND(K45="NON ELIGIBLE"),AE45,(AE45+K45))) | AK45: =IF(AND(K45=""),"",SUM(AG45:AJ45)) | AL45: =IF(AND(K45=""),"",ROUNDUP(AK45*15%,0)) | AM45: =IF(AND(K45=""),"",IF(AND(K45="NON ELIGIBLE"),AL45,(AL45+K45))) | AR45: =IF(AND(K45=""),"",SUM(AN45:AQ45)) | AS45: =IF(AND(K45=""),"",ROUNDUP(AR45*15%,0)) | AT45: =IF(AND(K45=""),"",IF(AND(K45="NON ELIGIBLE"),AS45,(AS45+K45))) | AY45: =IF(AND(K45=""),"",SUM(AU45:AX45)) | AZ45: =IF(AND(K45=""),"",ROUNDUP(AY45*15%,0)) | BA45: =IF(AND(K45=""),"",IF(AND(K45="NON ELIGIBLE"),AZ45,(AZ45+K45))) | BG45: =IF(AND(E45=""),"",SUM(BB45,BC45,BD45,BE45,BF45)) | BH45: =IF(BG45=""," ",IF(BG45>90,"A+",IF(BG45>75,"A",IF(BG45>60,"B",IF(BG45>40,"C","D"))))) | BN45: =IF(AND(E45=""),"",SUM(BI45,BJ45,BK45,BL45,BM45)) | BO45: =IF(BN45=""," ",IF(BN45>90,"A+",IF(BN45>75,"A",IF(BN45>60,"B",IF(BN45>40,"C","D"))))) | BU45: =IF(AND(E45=""),"",SUM(BP45,BQ45,BR45,BS45,BT45)) | BV45: =IF(BU45=""," ",IF(BU45>90,"A+",IF(BU45>75,"A",IF(BU45>60,"B",IF(BU45>40,"C","D")))))
A46: 36 | F46: =IF(AND(B46=""),"",F$10) | H46: =IF(AND(F46=""),"",IF(AND(G46=""),"",G46/F46*100)) | J46: =IF(AND(F46=""),"",IF(AND(G46=""),"",SUM(H46+I46))) | K46: =IF(J46="","",IF(J46>=86,5,IF(J46>=75,4,IF(J46>=65,3,"NON ELIGIBLE")))) | P46: =IF(AND(K46=""),"",SUM(L46:O46)) | Q46: =IF(AND(K46=""),"",ROUNDUP(P46*15%,0)) | R46: =IF(AND(K46=""),"",IF(AND(K46="NON ELIGIBLE"),Q46,(Q46+K46))) | W46: =IF(AND(K46=""),"",SUM(S46:V46)) | X46: =IF(AND(K46=""),"",ROUNDUP(W46*15%,0)) | Y46: =IF(AND(K46=""),"",IF(AND(K46="NON ELIGIBLE"),X46,(X46+K46))) | AD46: =IF(AND(K46=""),"",SUM(Z46:AC46)) | AE46: =IF(AND(K46=""),"",ROUNDUP(AD46*15%,0)) | AF46: =IF(AND(K46=""),"",IF(AND(K46="NON ELIGIBLE"),AE46,(AE46+K46))) | AK46: =IF(AND(K46=""),"",SUM(AG46:AJ46)) | AL46: =IF(AND(K46=""),"",ROUNDUP(AK46*15%,0)) | AM46: =IF(AND(K46=""),"",IF(AND(K46="NON ELIGIBLE"),AL46,(AL46+K46))) | AR46: =IF(AND(K46=""),"",SUM(AN46:AQ46)) | AS46: =IF(AND(K46=""),"",ROUNDUP(AR46*15%,0)) | AT46: =IF(AND(K46=""),"",IF(AND(K46="NON ELIGIBLE"),AS46,(AS46+K46))) | AY46: =IF(AND(K46=""),"",SUM(AU46:AX46)) | AZ46: =IF(AND(K46=""),"",ROUNDUP(AY46*15%,0)) | BA46: =IF(AND(K46=""),"",IF(AND(K46="NON ELIGIBLE"),AZ46,(AZ46+K46))) | BG46: =IF(AND(E46=""),"",SUM(BB46,BC46,BD46,BE46,BF46)) | BH46: =IF(BG46=""," ",IF(BG46>90,"A+",IF(BG46>75,"A",IF(BG46>60,"B",IF(BG46>40,"C","D"))))) | BN46: =IF(AND(E46=""),"",SUM(BI46,BJ46,BK46,BL46,BM46)) | BO46: =IF(BN46=""," ",IF(BN46>90,"A+",IF(BN46>75,"A",IF(BN46>60,"B",IF(BN46>40,"C","D"))))) | BU46: =IF(AND(E46=""),"",SUM(BP46,BQ46,BR46,BS46,BT46)) | BV46: =IF(BU46=""," ",IF(BU46>90,"A+",IF(BU46>75,"A",IF(BU46>60,"B",IF(BU46>40,"C","D")))))
A47: 37 | F47: =IF(AND(B47=""),"",F$10) | H47: =IF(AND(F47=""),"",IF(AND(G47=""),"",G47/F47*100)) | J47: =IF(AND(F47=""),"",IF(AND(G47=""),"",SUM(H47+I47))) | K47: =IF(J47="","",IF(J47>=86,5,IF(J47>=75,4,IF(J47>=65,3,"NON ELIGIBLE")))) | P47: =IF(AND(K47=""),"",SUM(L47:O47)) | Q47: =IF(AND(K47=""),"",ROUNDUP(P47*15%,0)) | R47: =IF(AND(K47=""),"",IF(AND(K47="NON ELIGIBLE"),Q47,(Q47+K47))) | W47: =IF(AND(K47=""),"",SUM(S47:V47)) | X47: =IF(AND(K47=""),"",ROUNDUP(W47*15%,0)) | Y47: =IF(AND(K47=""),"",IF(AND(K47="NON ELIGIBLE"),X47,(X47+K47))) | AD47: =IF(AND(K47=""),"",SUM(Z47:AC47)) | AE47: =IF(AND(K47=""),"",ROUNDUP(AD47*15%,0)) | AF47: =IF(AND(K47=""),"",IF(AND(K47="NON ELIGIBLE"),AE47,(AE47+K47))) | AK47: =IF(AND(K47=""),"",SUM(AG47:AJ47)) | AL47: =IF(AND(K47=""),"",ROUNDUP(AK47*15%,0)) | AM47: =IF(AND(K47=""),"",IF(AND(K47="NON ELIGIBLE"),AL47,(AL47+K47))) | AR47: =IF(AND(K47=""),"",SUM(AN47:AQ47)) | AS47: =IF(AND(K47=""),"",ROUNDUP(AR47*15%,0)) | AT47: =IF(AND(K47=""),"",IF(AND(K47="NON ELIGIBLE"),AS47,(AS47+K47))) | AY47: =IF(AND(K47=""),"",SUM(AU47:AX47)) | AZ47: =IF(AND(K47=""),"",ROUNDUP(AY47*15%,0)) | BA47: =IF(AND(K47=""),"",IF(AND(K47="NON ELIGIBLE"),AZ47,(AZ47+K47))) | BG47: =IF(AND(E47=""),"",SUM(BB47,BC47,BD47,BE47,BF47)) | BH47: =IF(BG47=""," ",IF(BG47>90,"A+",IF(BG47>75,"A",IF(BG47>60,"B",IF(BG47>40,"C","D"))))) | BN47: =IF(AND(E47=""),"",SUM(BI47,BJ47,BK47,BL47,BM47)) | BO47: =IF(BN47=""," ",IF(BN47>90,"A+",IF(BN47>75,"A",IF(BN47>60,"B",IF(BN47>40,"C","D"))))) | BU47: =IF(AND(E47=""),"",SUM(BP47,BQ47,BR47,BS47,BT47)) | BV47: =IF(BU47=""," ",IF(BU47>90,"A+",IF(BU47>75,"A",IF(BU47>60,"B",IF(BU47>40,"C","D")))))
A48: 38 | F48: =IF(AND(B48=""),"",F$10) | H48: =IF(AND(F48=""),"",IF(AND(G48=""),"",G48/F48*100)) | J48: =IF(AND(F48=""),"",IF(AND(G48=""),"",SUM(H48+I48))) | K48: =IF(J48="","",IF(J48>=86,5,IF(J48>=75,4,IF(J48>=65,3,"NON ELIGIBLE")))) | P48: =IF(AND(K48=""),"",SUM(L48:O48)) | Q48: =IF(AND(K48=""),"",ROUNDUP(P48*15%,0)) | R48: =IF(AND(K48=""),"",IF(AND(K48="NON ELIGIBLE"),Q48,(Q48+K48))) | W48: =IF(AND(K48=""),"",SUM(S48:V48)) | X48: =IF(AND(K48=""),"",ROUNDUP(W48*15%,0)) | Y48: =IF(AND(K48=""),"",IF(AND(K48="NON ELIGIBLE"),X48,(X48+K48))) | AD48: =IF(AND(K48=""),"",SUM(Z48:AC48)) | AE48: =IF(AND(K48=""),"",ROUNDUP(AD48*15%,0)) | AF48: =IF(AND(K48=""),"",IF(AND(K48="NON ELIGIBLE"),AE48,(AE48+K48))) | AK48: =IF(AND(K48=""),"",SUM(AG48:AJ48)) | AL48: =IF(AND(K48=""),"",ROUNDUP(AK48*15%,0)) | AM48: =IF(AND(K48=""),"",IF(AND(K48="NON ELIGIBLE"),AL48,(AL48+K48))) | AR48: =IF(AND(K48=""),"",SUM(AN48:AQ48)) | AS48: =IF(AND(K48=""),"",ROUNDUP(AR48*15%,0)) | AT48: =IF(AND(K48=""),"",IF(AND(K48="NON ELIGIBLE"),AS48,(AS48+K48))) | AY48: =IF(AND(K48=""),"",SUM(AU48:AX48)) | AZ48: =IF(AND(K48=""),"",ROUNDUP(AY48*15%,0)) | BA48: =IF(AND(K48=""),"",IF(AND(K48="NON ELIGIBLE"),AZ48,(AZ48+K48))) | BG48: =IF(AND(E48=""),"",SUM(BB48,BC48,BD48,BE48,BF48)) | BH48: =IF(BG48=""," ",IF(BG48>90,"A+",IF(BG48>75,"A",IF(BG48>60,"B",IF(BG48>40,"C","D"))))) | BN48: =IF(AND(E48=""),"",SUM(BI48,BJ48,BK48,BL48,BM48)) | BO48: =IF(BN48=""," ",IF(BN48>90,"A+",IF(BN48>75,"A",IF(BN48>60,"B",IF(BN48>40,"C","D"))))) | BU48: =IF(AND(E48=""),"",SUM(BP48,BQ48,BR48,BS48,BT48)) | BV48: =IF(BU48=""," ",IF(BU48>90,"A+",IF(BU48>75,"A",IF(BU48>60,"B",IF(BU48>40,"C","D")))))
A49: 39 | F49: =IF(AND(B49=""),"",F$10) | H49: =IF(AND(F49=""),"",IF(AND(G49=""),"",G49/F49*100)) | J49: =IF(AND(F49=""),"",IF(AND(G49=""),"",SUM(H49+I49))) | K49: =IF(J49="","",IF(J49>=86,5,IF(J49>=75,4,IF(J49>=65,3,"NON ELIGIBLE")))) | P49: =IF(AND(K49=""),"",SUM(L49:O49)) | Q49: =IF(AND(K49=""),"",ROUNDUP(P49*15%,0)) | R49: =IF(AND(K49=""),"",IF(AND(K49="NON ELIGIBLE"),Q49,(Q49+K49))) | W49: =IF(AND(K49=""),"",SUM(S49:V49)) | X49: =IF(AND(K49=""),"",ROUNDUP(W49*15%,0)) | Y49: =IF(AND(K49=""),"",IF(AND(K49="NON ELIGIBLE"),X49,(X49+K49))) | AD49: =IF(AND(K49=""),"",SUM(Z49:AC49)) | AE49: =IF(AND(K49=""),"",ROUNDUP(AD49*15%,0)) | AF49: =IF(AND(K49=""),"",IF(AND(K49="NON ELIGIBLE"),AE49,(AE49+K49))) | AK49: =IF(AND(K49=""),"",SUM(AG49:AJ49)) | AL49: =IF(AND(K49=""),"",ROUNDUP(AK49*15%,0)) | AM49: =IF(AND(K49=""),"",IF(AND(K49="NON ELIGIBLE"),AL49,(AL49+K49))) | AR49: =IF(AND(K49=""),"",SUM(AN49:AQ49)) | AS49: =IF(AND(K49=""),"",ROUNDUP(AR49*15%,0)) | AT49: =IF(AND(K49=""),"",IF(AND(K49="NON ELIGIBLE"),AS49,(AS49+K49))) | AY49: =IF(AND(K49=""),"",SUM(AU49:AX49)) | AZ49: =IF(AND(K49=""),"",ROUNDUP(AY49*15%,0)) | BA49: =IF(AND(K49=""),"",IF(AND(K49="NON ELIGIBLE"),AZ49,(AZ49+K49))) | BG49: =IF(AND(E49=""),"",SUM(BB49,BC49,BD49,BE49,BF49)) | BH49: =IF(BG49=""," ",IF(BG49>90,"A+",IF(BG49>75,"A",IF(BG49>60,"B",IF(BG49>40,"C","D"))))) | BN49: =IF(AND(E49=""),"",SUM(BI49,BJ49,BK49,BL49,BM49)) | BO49: =IF(BN49=""," ",IF(BN49>90,"A+",IF(BN49>75,"A",IF(BN49>60,"B",IF(BN49>40,"C","D"))))) | BU49: =IF(AND(E49=""),"",SUM(BP49,BQ49,BR49,BS49,BT49)) | BV49: =IF(BU49=""," ",IF(BU49>90,"A+",IF(BU49>75,"A",IF(BU49>60,"B",IF(BU49>40,"C","D")))))
A50: 40 | F50: =IF(AND(B50=""),"",F$10) | H50: =IF(AND(F50=""),"",IF(AND(G50=""),"",G50/F50*100)) | J50: =IF(AND(F50=""),"",IF(AND(G50=""),"",SUM(H50+I50))) | K50: =IF(J50="","",IF(J50>=86,5,IF(J50>=75,4,IF(J50>=65,3,"NON ELIGIBLE")))) | P50: =IF(AND(K50=""),"",SUM(L50:O50)) | Q50: =IF(AND(K50=""),"",ROUNDUP(P50*15%,0)) | R50: =IF(AND(K50=""),"",IF(AND(K50="NON ELIGIBLE"),Q50,(Q50+K50))) | W50: =IF(AND(K50=""),"",SUM(S50:V50)) | X50: =IF(AND(K50=""),"",ROUNDUP(W50*15%,0)) | Y50: =IF(AND(K50=""),"",IF(AND(K50="NON ELIGIBLE"),X50,(X50+K50))) | AD50: =IF(AND(K50=""),"",SUM(Z50:AC50)) | AE50: =IF(AND(K50=""),"",ROUNDUP(AD50*15%,0)) | AF50: =IF(AND(K50=""),"",IF(AND(K50="NON ELIGIBLE"),AE50,(AE50+K50))) | AK50: =IF(AND(K50=""),"",SUM(AG50:AJ50)) | AL50: =IF(AND(K50=""),"",ROUNDUP(AK50*15%,0)) | AM50: =IF(AND(K50=""),"",IF(AND(K50="NON ELIGIBLE"),AL50,(AL50+K50))) | AR50: =IF(AND(K50=""),"",SUM(AN50:AQ50)) | AS50: =IF(AND(K50=""),"",ROUNDUP(AR50*15%,0)) | AT50: =IF(AND(K50=""),"",IF(AND(K50="NON ELIGIBLE"),AS50,(AS50+K50))) | AY50: =IF(AND(K50=""),"",SUM(AU50:AX50)) | AZ50: =IF(AND(K50=""),"",ROUNDUP(AY50*15%,0)) | BA50: =IF(AND(K50=""),"",IF(AND(K50="NON ELIGIBLE"),AZ50,(AZ50+K50))) | BG50: =IF(AND(E50=""),"",SUM(BB50,BC50,BD50,BE50,BF50)) | BH50: =IF(BG50=""," ",IF(BG50>90,"A+",IF(BG50>75,"A",IF(BG50>60,"B",IF(BG50>40,"C","D"))))) | BN50: =IF(AND(E50=""),"",SUM(BI50,BJ50,BK50,BL50,BM50)) | BO50: =IF(BN50=""," ",IF(BN50>90,"A+",IF(BN50>75,"A",IF(BN50>60,"B",IF(BN50>40,"C","D"))))) | BU50: =IF(AND(E50=""),"",SUM(BP50,BQ50,BR50,BS50,BT50)) | BV50: =IF(BU50=""," ",IF(BU50>90,"A+",IF(BU50>75,"A",IF(BU50>60,"B",IF(BU50>40,"C","D")))))
A51: 41 | F51: =IF(AND(B51=""),"",F$10) | H51: =IF(AND(F51=""),"",IF(AND(G51=""),"",G51/F51*100)) | J51: =IF(AND(F51=""),"",IF(AND(G51=""),"",SUM(H51+I51))) | K51: =IF(J51="","",IF(J51>=86,5,IF(J51>=75,4,IF(J51>=65,3,"NON ELIGIBLE")))) | P51: =IF(AND(K51=""),"",SUM(L51:O51)) | Q51: =IF(AND(K51=""),"",ROUNDUP(P51*15%,0)) | R51: =IF(AND(K51=""),"",IF(AND(K51="NON ELIGIBLE"),Q51,(Q51+K51))) | W51: =IF(AND(K51=""),"",SUM(S51:V51)) | X51: =IF(AND(K51=""),"",ROUNDUP(W51*15%,0)) | Y51: =IF(AND(K51=""),"",IF(AND(K51="NON ELIGIBLE"),X51,(X51+K51))) | AD51: =IF(AND(K51=""),"",SUM(Z51:AC51)) | AE51: =IF(AND(K51=""),"",ROUNDUP(AD51*15%,0)) | AF51: =IF(AND(K51=""),"",IF(AND(K51="NON ELIGIBLE"),AE51,(AE51+K51))) | AK51: =IF(AND(K51=""),"",SUM(AG51:AJ51)) | AL51: =IF(AND(K51=""),"",ROUNDUP(AK51*15%,0)) | AM51: =IF(AND(K51=""),"",IF(AND(K51="NON ELIGIBLE"),AL51,(AL51+K51))) | AR51: =IF(AND(K51=""),"",SUM(AN51:AQ51)) | AS51: =IF(AND(K51=""),"",ROUNDUP(AR51*15%,0)) | AT51: =IF(AND(K51=""),"",IF(AND(K51="NON ELIGIBLE"),AS51,(AS51+K51))) | AY51: =IF(AND(K51=""),"",SUM(AU51:AX51)) | AZ51: =IF(AND(K51=""),"",ROUNDUP(AY51*15%,0)) | BA51: =IF(AND(K51=""),"",IF(AND(K51="NON ELIGIBLE"),AZ51,(AZ51+K51))) | BG51: =IF(AND(E51=""),"",SUM(BB51,BC51,BD51,BE51,BF51)) | BH51: =IF(BG51=""," ",IF(BG51>90,"A+",IF(BG51>75,"A",IF(BG51>60,"B",IF(BG51>40,"C","D"))))) | BN51: =IF(AND(E51=""),"",SUM(BI51,BJ51,BK51,BL51,BM51)) | BO51: =IF(BN51=""," ",IF(BN51>90,"A+",IF(BN51>75,"A",IF(BN51>60,"B",IF(BN51>40,"C","D"))))) | BU51: =IF(AND(E51=""),"",SUM(BP51,BQ51,BR51,BS51,BT51)) | BV51: =IF(BU51=""," ",IF(BU51>90,"A+",IF(BU51>75,"A",IF(BU51>60,"B",IF(BU51>40,"C","D")))))
A52: 42 | F52: =IF(AND(B52=""),"",F$10) | H52: =IF(AND(F52=""),"",IF(AND(G52=""),"",G52/F52*100)) | J52: =IF(AND(F52=""),"",IF(AND(G52=""),"",SUM(H52+I52))) | K52: =IF(J52="","",IF(J52>=86,5,IF(J52>=75,4,IF(J52>=65,3,"NON ELIGIBLE")))) | P52: =IF(AND(K52=""),"",SUM(L52:O52)) | Q52: =IF(AND(K52=""),"",ROUNDUP(P52*15%,0)) | R52: =IF(AND(K52=""),"",IF(AND(K52="NON ELIGIBLE"),Q52,(Q52+K52))) | W52: =IF(AND(K52=""),"",SUM(S52:V52)) | X52: =IF(AND(K52=""),"",ROUNDUP(W52*15%,0)) | Y52: =IF(AND(K52=""),"",IF(AND(K52="NON ELIGIBLE"),X52,(X52+K52))) | AD52: =IF(AND(K52=""),"",SUM(Z52:AC52)) | AE52: =IF(AND(K52=""),"",ROUNDUP(AD52*15%,0)) | AF52: =IF(AND(K52=""),"",IF(AND(K52="NON ELIGIBLE"),AE52,(AE52+K52))) | AK52: =IF(AND(K52=""),"",SUM(AG52:AJ52)) | AL52: =IF(AND(K52=""),"",ROUNDUP(AK52*15%,0)) | AM52: =IF(AND(K52=""),"",IF(AND(K52="NON ELIGIBLE"),AL52,(AL52+K52))) | AR52: =IF(AND(K52=""),"",SUM(AN52:AQ52)) | AS52: =IF(AND(K52=""),"",ROUNDUP(AR52*15%,0)) | AT52: =IF(AND(K52=""),"",IF(AND(K52="NON ELIGIBLE"),AS52,(AS52+K52))) | AY52: =IF(AND(K52=""),"",SUM(AU52:AX52)) | AZ52: =IF(AND(K52=""),"",ROUNDUP(AY52*15%,0)) | BA52: =IF(AND(K52=""),"",IF(AND(K52="NON ELIGIBLE"),AZ52,(AZ52+K52))) | BG52: =IF(AND(E52=""),"",SUM(BB52,BC52,BD52,BE52,BF52)) | BH52: =IF(BG52=""," ",IF(BG52>90,"A+",IF(BG52>75,"A",IF(BG52>60,"B",IF(BG52>40,"C","D"))))) | BN52: =IF(AND(E52=""),"",SUM(BI52,BJ52,BK52,BL52,BM52)) | BO52: =IF(BN52=""," ",IF(BN52>90,"A+",IF(BN52>75,"A",IF(BN52>60,"B",IF(BN52>40,"C","D"))))) | BU52: =IF(AND(E52=""),"",SUM(BP52,BQ52,BR52,BS52,BT52)) | BV52: =IF(BU52=""," ",IF(BU52>90,"A+",IF(BU52>75,"A",IF(BU52>60,"B",IF(BU52>40,"C","D")))))
A53: 43 | F53: =IF(AND(B53=""),"",F$10) | H53: =IF(AND(F53=""),"",IF(AND(G53=""),"",G53/F53*100)) | J53: =IF(AND(F53=""),"",IF(AND(G53=""),"",SUM(H53+I53))) | K53: =IF(J53="","",IF(J53>=86,5,IF(J53>=75,4,IF(J53>=65,3,"NON ELIGIBLE")))) | P53: =IF(AND(K53=""),"",SUM(L53:O53)) | Q53: =IF(AND(K53=""),"",ROUNDUP(P53*15%,0)) | R53: =IF(AND(K53=""),"",IF(AND(K53="NON ELIGIBLE"),Q53,(Q53+K53))) | W53: =IF(AND(K53=""),"",SUM(S53:V53)) | X53: =IF(AND(K53=""),"",ROUNDUP(W53*15%,0)) | Y53: =IF(AND(K53=""),"",IF(AND(K53="NON ELIGIBLE"),X53,(X53+K53))) | AD53: =IF(AND(K53=""),"",SUM(Z53:AC53)) | AE53: =IF(AND(K53=""),"",ROUNDUP(AD53*15%,0)) | AF53: =IF(AND(K53=""),"",IF(AND(K53="NON ELIGIBLE"),AE53,(AE53+K53))) | AK53: =IF(AND(K53=""),"",SUM(AG53:AJ53)) | AL53: =IF(AND(K53=""),"",ROUNDUP(AK53*15%,0)) | AM53: =IF(AND(K53=""),"",IF(AND(K53="NON ELIGIBLE"),AL53,(AL53+K53))) | AR53: =IF(AND(K53=""),"",SUM(AN53:AQ53)) | AS53: =IF(AND(K53=""),"",ROUNDUP(AR53*15%,0)) | AT53: =IF(AND(K53=""),"",IF(AND(K53="NON ELIGIBLE"),AS53,(AS53+K53))) | AY53: =IF(AND(K53=""),"",SUM(AU53:AX53)) | AZ53: =IF(AND(K53=""),"",ROUNDUP(AY53*15%,0)) | BA53: =IF(AND(K53=""),"",IF(AND(K53="NON ELIGIBLE"),AZ53,(AZ53+K53))) | BG53: =IF(AND(E53=""),"",SUM(BB53,BC53,BD53,BE53,BF53)) | BH53: =IF(BG53=""," ",IF(BG53>90,"A+",IF(BG53>75,"A",IF(BG53>60,"B",IF(BG53>40,"C","D"))))) | BN53: =IF(AND(E53=""),"",SUM(BI53,BJ53,BK53,BL53,BM53)) | BO53: =IF(BN53=""," ",IF(BN53>90,"A+",IF(BN53>75,"A",IF(BN53>60,"B",IF(BN53>40,"C","D"))))) | BU53: =IF(AND(E53=""),"",SUM(BP53,BQ53,BR53,BS53,BT53)) | BV53: =IF(BU53=""," ",IF(BU53>90,"A+",IF(BU53>75,"A",IF(BU53>60,"B",IF(BU53>40,"C","D")))))
A54: 44 | F54: =IF(AND(B54=""),"",F$10) | H54: =IF(AND(F54=""),"",IF(AND(G54=""),"",G54/F54*100)) | J54: =IF(AND(F54=""),"",IF(AND(G54=""),"",SUM(H54+I54))) | K54: =IF(J54="","",IF(J54>=86,5,IF(J54>=75,4,IF(J54>=65,3,"NON ELIGIBLE")))) | P54: =IF(AND(K54=""),"",SUM(L54:O54)) | Q54: =IF(AND(K54=""),"",ROUNDUP(P54*15%,0)) | R54: =IF(AND(K54=""),"",IF(AND(K54="NON ELIGIBLE"),Q54,(Q54+K54))) | W54: =IF(AND(K54=""),"",SUM(S54:V54)) | X54: =IF(AND(K54=""),"",ROUNDUP(W54*15%,0)) | Y54: =IF(AND(K54=""),"",IF(AND(K54="NON ELIGIBLE"),X54,(X54+K54))) | AD54: =IF(AND(K54=""),"",SUM(Z54:AC54)) | AE54: =IF(AND(K54=""),"",ROUNDUP(AD54*15%,0)) | AF54: =IF(AND(K54=""),"",IF(AND(K54="NON ELIGIBLE"),AE54,(AE54+K54))) | AK54: =IF(AND(K54=""),"",SUM(AG54:AJ54)) | AL54: =IF(AND(K54=""),"",ROUNDUP(AK54*15%,0)) | AM54: =IF(AND(K54=""),"",IF(AND(K54="NON ELIGIBLE"),AL54,(AL54+K54))) | AR54: =IF(AND(K54=""),"",SUM(AN54:AQ54)) | AS54: =IF(AND(K54=""),"",ROUNDUP(AR54*15%,0)) | AT54: =IF(AND(K54=""),"",IF(AND(K54="NON ELIGIBLE"),AS54,(AS54+K54))) | AY54: =IF(AND(K54=""),"",SUM(AU54:AX54)) | AZ54: =IF(AND(K54=""),"",ROUNDUP(AY54*15%,0)) | BA54: =IF(AND(K54=""),"",IF(AND(K54="NON ELIGIBLE"),AZ54,(AZ54+K54))) | BG54: =IF(AND(E54=""),"",SUM(BB54,BC54,BD54,BE54,BF54)) | BH54: =IF(BG54=""," ",IF(BG54>90,"A+",IF(BG54>75,"A",IF(BG54>60,"B",IF(BG54>40,"C","D"))))) | BN54: =IF(AND(E54=""),"",SUM(BI54,BJ54,BK54,BL54,BM54)) | BO54: =IF(BN54=""," ",IF(BN54>90,"A+",IF(BN54>75,"A",IF(BN54>60,"B",IF(BN54>40,"C","D"))))) | BU54: =IF(AND(E54=""),"",SUM(BP54,BQ54,BR54,BS54,BT54)) | BV54: =IF(BU54=""," ",IF(BU54>90,"A+",IF(BU54>75,"A",IF(BU54>60,"B",IF(BU54>40,"C","D")))))
A55: 45 | F55: =IF(AND(B55=""),"",F$10) | H55: =IF(AND(F55=""),"",IF(AND(G55=""),"",G55/F55*100)) | J55: =IF(AND(F55=""),"",IF(AND(G55=""),"",SUM(H55+I55))) | K55: =IF(J55="","",IF(J55>=86,5,IF(J55>=75,4,IF(J55>=65,3,"NON ELIGIBLE")))) | P55: =IF(AND(K55=""),"",SUM(L55:O55)) | Q55: =IF(AND(K55=""),"",ROUNDUP(P55*15%,0)) | R55: =IF(AND(K55=""),"",IF(AND(K55="NON ELIGIBLE"),Q55,(Q55+K55))) | W55: =IF(AND(K55=""),"",SUM(S55:V55)) | X55: =IF(AND(K55=""),"",ROUNDUP(W55*15%,0)) | Y55: =IF(AND(K55=""),"",IF(AND(K55="NON ELIGIBLE"),X55,(X55+K55))) | AD55: =IF(AND(K55=""),"",SUM(Z55:AC55)) | AE55: =IF(AND(K55=""),"",ROUNDUP(AD55*15%,0)) | AF55: =IF(AND(K55=""),"",IF(AND(K55="NON ELIGIBLE"),AE55,(AE55+K55))) | AK55: =IF(AND(K55=""),"",SUM(AG55:AJ55)) | AL55: =IF(AND(K55=""),"",ROUNDUP(AK55*15%,0)) | AM55: =IF(AND(K55=""),"",IF(AND(K55="NON ELIGIBLE"),AL55,(AL55+K55))) | AR55: =IF(AND(K55=""),"",SUM(AN55:AQ55)) | AS55: =IF(AND(K55=""),"",ROUNDUP(AR55*15%,0)) | AT55: =IF(AND(K55=""),"",IF(AND(K55="NON ELIGIBLE"),AS55,(AS55+K55))) | AY55: =IF(AND(K55=""),"",SUM(AU55:AX55)) | AZ55: =IF(AND(K55=""),"",ROUNDUP(AY55*15%,0)) | BA55: =IF(AND(K55=""),"",IF(AND(K55="NON ELIGIBLE"),AZ55,(AZ55+K55))) | BG55: =IF(AND(E55=""),"",SUM(BB55,BC55,BD55,BE55,BF55)) | BH55: =IF(BG55=""," ",IF(BG55>90,"A+",IF(BG55>75,"A",IF(BG55>60,"B",IF(BG55>40,"C","D"))))) | BN55: =IF(AND(E55=""),"",SUM(BI55,BJ55,BK55,BL55,BM55)) | BO55: =IF(BN55=""," ",IF(BN55>90,"A+",IF(BN55>75,"A",IF(BN55>60,"B",IF(BN55>40,"C","D"))))) | BU55: =IF(AND(E55=""),"",SUM(BP55,BQ55,BR55,BS55,BT55)) | BV55: =IF(BU55=""," ",IF(BU55>90,"A+",IF(BU55>75,"A",IF(BU55>60,"B",IF(BU55>40,"C","D")))))
... A211: 201 | F211: =IF(AND(B211=""),"",F$10) | H211: =IF(AND(F211=""),"",IF(AND(G211=""),"",G211/F211*100)) | J211: =IF(AND(F211=""),"",IF(AND(G211=""),"",SUM(H211+I211))) | K211: =IF(J211="","",IF(J211>=86,5,IF(J211>=75,4,IF(J211>=65,3,"NON ELIGIBLE")))) | P211: =IF(AND(K211=""),"",SUM(L211:O211)) | Q211: =IF(AND(K211=""),"",ROUNDUP(P211*15%,0)) | R211: =IF(AND(K211=""),"",IF(AND(K211="NON ELIGIBLE"),Q211,(Q211+K211))) | W211: =IF(AND(K211=""),"",SUM(S211:V211)) | X211: =IF(AND(K211=""),"",ROUNDUP(W211*15%,0)) | Y211: =IF(AND(K211=""),"",IF(AND(K211="NON ELIGIBLE"),X211,(X211+K211))) | AD211: =IF(AND(K211=""),"",SUM(Z211:AC211)) | AE211: =IF(AND(K211=""),"",ROUNDUP(AD211*15%,0)) | AF211: =IF(AND(K211=""),"",IF(AND(K211="NON ELIGIBLE"),AE211,(AE211+K211))) | AK211: =IF(AND(K211=""),"",SUM(AG211:AJ211)) | AL211: =IF(AND(K211=""),"",ROUNDUP(AK211*15%,0)) | AM211: =IF(AND(K211=""),"",IF(AND(K211="NON ELIGIBLE"),AL211,(AL211+K211))) | AR211: =IF(AND(K211=""),"",SUM(AN211:AQ211)) | AS211: =IF(AND(K211=""),"",ROUNDUP(AR211*15%,0)) | AT211: =IF(AND(K211=""),"",IF(AND(K211="NON ELIGIBLE"),AS211,(AS211+K211))) | AY211: =IF(AND(K211=""),"",SUM(AU211:AX211)) | AZ211: =IF(AND(K211=""),"",ROUNDUP(AY211*15%,0)) | BA211: =IF(AND(K211=""),"",IF(AND(K211="NON ELIGIBLE"),AZ211,(AZ211+K211))) | BG211: =IF(AND(E211=""),"",SUM(BB211,BC211,BD211,BE211,BF211)) | BH211: =IF(BG211=""," ",IF(BG211>90,"A+",IF(BG211>75,"A",IF(BG211>60,"B",IF(BG211>40,"C","D"))))) | BN211: =IF(AND(E211=""),"",SUM(BI211,BJ211,BK211,BL211,BM211)) | BO211: =IF(BN211=""," ",IF(BN211>90,"A+",IF(BN211>75,"A",IF(BN211>60,"B",IF(BN211>40,"C","D"))))) | BU211: =IF(AND(E211=""),"",SUM(BP211,BQ211,BR211,BS211,BT211)) | BV211: =IF(BU211=""," ",IF(BU211>90,"A+",IF(BU211>75,"A",IF(BU211>60,"B",IF(BU211>40,"C","D")))))

Sheet 6 sub. 20%
A1: fo|ky; dk uke %& | C1: =IF(AND(G3=""),"",'Master Sheet'!E1) -> jktdh; vkn'kZ mPPk ek/;fed fo|ky; bUnjokM+k] ia-l-& jkuh ¼ikyh½
A2: vkBoha cksMZ ijh{kk l=kad & | F2: 2018-19
A3: fo"k;k/;kid dk uke %& | E3: fo"k; %& | G3: English
A5: Ø-l- | B5: fo|kFkhZ dk uke | C5: cksMZ jksy uEcj | D5: izFke ewY;ka- | E5: f}rh; ewY;k- | F5: r`rh; ewY;k- | G5: v)Z okf"kZd | H5: loZ ;ksx | I5: l=kad
D6: 10 | E6: 10 | F6: 70 | G6: 10 | H6: 100 | I6: 15 | J6: 5 | K6: 20 | AP6: ist | AQ6: 2nd | AR6: 3rd | AS6: 4th | AT6: total | AU6: 0.15 | AV6: ist | AW6: 2nd | AX6: 3rd | AY6: 4th | AZ6: total | BA6: 0.15 | BB6: ist | BC6: 2nd | BD6: 3rd | BE6: 4th | BF6: total | BG6: 0.15 | BH6: ist | BI6: 2nd | BJ6: 3rd | BK6: 4th | BL6: total | BM6: 0.15 | BN6: ist | BO6: 2nd | BP6: 3rd | BQ6: 4th | BR6: total | BS6: 0.15 | BT6: ist | BU6: 2nd | BV6: 3rd | BW6: 4th | BX6: total | BY6: 0.15
A7: 1 | B7: =IF(AND(C7=""),"",IF(ISNA(VLOOKUP(A7,'Master Sheet'!A$11:CA$294,4,FALSE)),"",VLOOKUP(A7,'Master Sheet'!A$11:CA$294,4,FALSE))) -> Anil | C7: =IF(AND(G$3=""),"",IF(AND('Master Sheet'!E11=""),"",'Master Sheet'!E11)) -> 208600 | D7: =IF(AND(B7=""),"",IF(AND($G$3=""),"",IF(AND($G$3="Hindi"),AP7,IF(AND($G$3="English"),AV7,IF(AND($G$3="Maths"),BB7,IF(AND($G$3="Sanskrit"),BH7,IF(AND($G$3="Science"),BN7,IF(AND($G$3="Social Science"),BT7,"")))))))) -> 3 | E7: =IF(AND(B7=""),"",IF(AND($G$3=""),"",IF(AND($G$3="Hindi"),AQ7,IF(AND($G$3="English"),AW7,IF(AND($G$3="Maths"),BC7,IF(AND($G$3="Sanskrit"),BI7,IF(AND($G$3="Science"),BO7,IF(AND($G$3="Social Science"),BU7,"")))))))) -> 1 | F7: =IF(AND(B7=""),"",IF(AND($G$3=""),"",IF(AND($G$3="Hindi"),AR7,IF(AND($G$3="English"),AX7,IF(AND($G$3="Maths"),BD7,IF(AND($G$3="Sanskrit"),BJ7,IF(AND($G$3="Science"),BP7,IF(AND($G$3="Social Science"),BV7,"")))))))) -> 3 | G7: =IF(AND(B7=""),"",IF(AND($G$3=""),"",IF(AND($G$3="Hindi"),AS7,IF(AND($G$3="English"),AY7,IF(AND($G$3="Maths"),BE7,IF(AND($G$3="Sanskrit"),BK7,IF(AND($G$3="Science"),BQ7,IF(AND($G$3="Social Science"),BW7,"")))))))) -> 13 | H7: =IF(AND(B7=""),"",IF(AND($G$3=""),"",IF(AND($G$3="Hindi"),AT7,IF(AND($G$3="English"),AZ7,IF(AND($G$3="Maths"),BF7,IF(AND($G$3="Sanskrit"),BL7,IF(AND($G$3="Science"),BR7,IF(AND($G$3="Social Science"),BX7,"")))))))) -> 20 | I7: =IF(AND(B7=""),"",IF(AND($G$3=""),"",IF(AND($G$3="Hindi"),AU7,IF(AND($G$3="English"),BA7,IF(AND($G$3="Maths"),BG7,IF(AND($G$3="Sanskrit"),BM7,IF(AND($G$3="Science"),BS7,IF(AND($G$3="Social Science"),BY7,"")))))))) -> 3 | J7: =IF(AND(C7=""),"",IF(ISNA(VLOOKUP(A7,'Master Sheet'!A$11:CA$294,11,FALSE)),"",VLOOKUP(A7,'Master Sheet'!A$11:CA$294,11,FALSE))) -> 5 | K7: =IF(AND(G$3=""),"",IF(AND(B7=""),"",IF(AND(J7="NON ELIGIBLE"),I7,(I7+J7)))) -> 8 | AP7: ='Master Sheet'!L11 -> 3 | AQ7: ='Master Sheet'!M11 -> 1 | AR7: ='Master Sheet'!N11 -> 3 | AS7: ='Master Sheet'!O11 -> 13 | AT7: ='Master Sheet'!P11 -> 20 | AU7: ='Master Sheet'!Q11 -> 3 | AV7: ='Master Sheet'!S11 -> 3 | AW7: ='Master Sheet'!T11 -> 1 | AX7: ='Master Sheet'!U11 -> 3 | AY7: ='Master Sheet'!V11 -> 13 | AZ7: ='Master Sheet'!W11 -> 20 | BA7: ='Master Sheet'!X11 -> 3 | BB7: ='Master Sheet'!Z11 -> 3 | BC7: ='Master Sheet'!AA11 -> 1 | BD7: ='Master Sheet'!AB11 -> 3 | BE7: ='Master Sheet'!AC11 -> 13 | BF7: ='Master Sheet'!AD11 -> 20 | BG7: ='Master Sheet'!AE11 -> 3 | BH7: ='Master Sheet'!AG11 -> 3 | BI7: ='Master Sheet'!AH11 -> 1 | BJ7: ='Master Sheet'!AI11 -> 3 | BK7: ='Master Sheet'!AJ11 -> 13 | BL7: ='Master Sheet'!AK11 -> 20 | BM7: ='Master Sheet'!AL11 -> 3 | BN7: ='Master Sheet'!AN11 -> 3 | BO7: ='Master Sheet'!AO11 -> 1 | BP7: ='Master Sheet'!AP11 -> 3 | BQ7: ='Master Sheet'!AQ11 -> 13 | BR7: ='Master Sheet'!AR11 -> 20 | BS7: ='Master Sheet'!AS11 -> 3 | BT7: ='Master Sheet'!AU11 -> 3 | BU7: ='Master Sheet'!AV11 -> 1 | BV7: ='Master Sheet'!AW11 -> 3 | BW7: ='Master Sheet'!AX11 -> 13 | BX7: ='Master Sheet'!AY11 -> 20 | BY7: ='Master Sheet'!AZ11 -> 3
A8: 2 | B8: =IF(AND(C8=""),"",IF(ISNA(VLOOKUP(A8,'Master Sheet'!A$11:CA$294,4,FALSE)),"",VLOOKUP(A8,'Master Sheet'!A$11:CA$294,4,FALSE))) -> Akash | C8: =IF(AND(G$3=""),"",IF(AND('Master Sheet'!E12=""),"",'Master Sheet'!E12)) -> 208601 | D8: =IF(AND(B8=""),"",IF(AND($G$3=""),"",IF(AND($G$3="Hindi"),AP8,IF(AND($G$3="English"),AV8,IF(AND($G$3="Maths"),BB8,IF(AND($G$3="Sanskrit"),BH8,IF(AND($G$3="Science"),BN8,IF(AND($G$3="Social Science"),BT8,"")))))))) -> 10 | E8: =IF(AND(B8=""),"",IF(AND($G$3=""),"",IF(AND($G$3="Hindi"),AQ8,IF(AND($G$3="English"),AW8,IF(AND($G$3="Maths"),BC8,IF(AND($G$3="Sanskrit"),BI8,IF(AND($G$3="Science"),BO8,IF(AND($G$3="Social Science"),BU8,"")))))))) -> 5 | F8: =IF(AND(B8=""),"",IF(AND($G$3=""),"",IF(AND($G$3="Hindi"),AR8,IF(AND($G$3="English"),AX8,IF(AND($G$3="Maths"),BD8,IF(AND($G$3="Sanskrit"),BJ8,IF(AND($G$3="Science"),BP8,IF(AND($G$3="Social Science"),BV8,"")))))))) -> 7 | G8: =IF(AND(B8=""),"",IF(AND($G$3=""),"",IF(AND($G$3="Hindi"),AS8,IF(AND($G$3="English"),AY8,IF(AND($G$3="Maths"),BE8,IF(AND($G$3="Sanskrit"),BK8,IF(AND($G$3="Science"),BQ8,IF(AND($G$3="Social Science"),BW8,"")))))))) -> 45 | H8: =IF(AND(B8=""),"",IF(AND($G$3=""),"",IF(AND($G$3="Hindi"),AT8,IF(AND($G$3="English"),AZ8,IF(AND($G$3="Maths"),BF8,IF(AND($G$3="Sanskrit"),BL8,IF(AND($G$3="Science"),BR8,IF(AND($G$3="Social Science"),BX8,"")))))))) -> 67 | I8: =IF(AND(B8=""),"",IF(AND($G$3=""),"",IF(AND($G$3="Hindi"),AU8,IF(AND($G$3="English"),BA8,IF(AND($G$3="Maths"),BG8,IF(AND($G$3="Sanskrit"),BM8,IF(AND($G$3="Science"),BS8,IF(AND($G$3="Social Science"),BY8,"")))))))) -> 11 | J8: =IF(AND(C8=""),"",IF(ISNA(VLOOKUP(A8,'Master Sheet'!A$11:CA$294,11,FALSE)),"",VLOOKUP(A8,'Master Sheet'!A$11:CA$294,11,FALSE))) -> 5 | K8: =IF(AND(G$3=""),"",IF(AND(B8=""),"",IF(AND(J8="NON ELIGIBLE"),I8,(I8+J8)))) -> 16 | AK8: Hindi | AP8: ='Master Sheet'!L12 -> 10 | AQ8: ='Master Sheet'!M12 -> 5 | AR8: ='Master Sheet'!N12 -> 7 | AS8: ='Master Sheet'!O12 -> 45 | AT8: ='Master Sheet'!P12 -> 67 | AU8: ='Master Sheet'!Q12 -> 11 | AV8: ='Master Sheet'!S12 -> 10 | AW8: ='Master Sheet'!T12 -> 5 | AX8: ='Master Sheet'!U12 -> 7 | AY8: ='Master Sheet'!V12 -> 45 | AZ8: ='Master Sheet'!W12 -> 67 | BA8: ='Master Sheet'!X12 -> 11 | BB8: ='Master Sheet'!Z12 -> 10 | BC8: ='Master Sheet'!AA12 -> 5 | BD8: ='Master Sheet'!AB12 -> 7 | BE8: ='Master Sheet'!AC12 -> 45 | BF8: ='Master Sheet'!AD12 -> 67 | BG8: ='Master Sheet'!AE12 -> 11 | BH8: ='Master Sheet'!AG12 -> 10 | BI8: ='Master Sheet'!AH12 -> 5 | BJ8: ='Master Sheet'!AI12 -> 7 | BK8: ='Master Sheet'!AJ12 -> 45 | BL8: ='Master Sheet'!AK12 -> 67 | BM8: ='Master Sheet'!AL12 -> 11 | BN8: ='Master Sheet'!AN12 -> 10 | BO8: ='Master Sheet'!AO12 -> 5 | BP8: ='Master Sheet'!AP12 -> 7 | BQ8: ='Master Sheet'!AQ12 -> 45 | BR8: ='Master Sheet'!AR12 -> 67 | BS8: ='Master Sheet'!AS12 -> 11 | BT8: ='Master Sheet'!AU12 -> 10 | BU8: ='Master Sheet'!AV12 -> 5 | BV8: ='Master Sheet'!AW12 -> 7 | BW8: ='Master Sheet'!AX12 -> 45 | BX8: ='Master Sheet'!AY12 -> 67 | BY8: ='Master Sheet'!AZ12 -> 11
A9: 3 | B9: =IF(AND(C9=""),"",IF(ISNA(VLOOKUP(A9,'Master Sheet'!A$11:CA$294,4,FALSE)),"",VLOOKUP(A9,'Master Sheet'!A$11:CA$294,4,FALSE))) -> Ashish | C9: =IF(AND(G$3=""),"",IF(AND('Master Sheet'!E13=""),"",'Master Sheet'!E13)) -> 208602 | D9: =IF(AND(B9=""),"",IF(AND($G$3=""),"",IF(AND($G$3="Hindi"),AP9,IF(AND($G$3="English"),AV9,IF(AND($G$3="Maths"),BB9,IF(AND($G$3="Sanskrit"),BH9,IF(AND($G$3="Science"),BN9,IF(AND($G$3="Social Science"),BT9,"")))))))) -> 3 | E9: =IF(AND(B9=""),"",IF(AND($G$3=""),"",IF(AND($G$3="Hindi"),AQ9,IF(AND($G$3="English"),AW9,IF(AND($G$3="Maths"),BC9,IF(AND($G$3="Sanskrit"),BI9,IF(AND($G$3="Science"),BO9,IF(AND($G$3="Social Science"),BU9,"")))))))) -> 6 | F9: =IF(AND(B9=""),"",IF(AND($G$3=""),"",IF(AND($G$3="Hindi"),AR9,IF(AND($G$3="English"),AX9,IF(AND($G$3="Maths"),BD9,IF(AND($G$3="Sanskrit"),BJ9,IF(AND($G$3="Science"),BP9,IF(AND($G$3="Social Science"),BV9,"")))))))) -> 9 | G9: =IF(AND(B9=""),"",IF(AND($G$3=""),"",IF(AND($G$3="Hindi"),AS9,IF(AND($G$3="English"),AY9,IF(AND($G$3="Maths"),BE9,IF(AND($G$3="Sanskrit"),BK9,IF(AND($G$3="Science"),BQ9,IF(AND($G$3="Social Science"),BW9,"")))))))) -> 38 | H9: =IF(AND(B9=""),"",IF(AND($G$3=""),"",IF(AND($G$3="Hindi"),AT9,IF(AND($G$3="English"),AZ9,IF(AND($G$3="Maths"),BF9,IF(AND($G$3="Sanskrit"),BL9,IF(AND($G$3="Science"),BR9,IF(AND($G$3="Social Science"),BX9,"")))))))) -> 56 | I9: =IF(AND(B9=""),"",IF(AND($G$3=""),"",IF(AND($G$3="Hindi"),AU9,IF(AND($G$3="English"),BA9,IF(AND($G$3="Maths"),BG9,IF(AND($G$3="Sanskrit"),BM9,IF(AND($G$3="Science"),BS9,IF(AND($G$3="Social Science"),BY9,"")))))))) -> 9 | J9: =IF(AND(C9=""),"",IF(ISNA(VLOOKUP(A9,'Master Sheet'!A$11:CA$294,11,FALSE)),"",VLOOKUP(A9,'Master Sheet'!A$11:CA$294,11,FALSE))) -> 3 | K9: =IF(AND(G$3=""),"",IF(AND(B9=""),"",IF(AND(J9="NON ELIGIBLE"),I9,(I9+J9)))) -> 12 | S9: vki ;gkW ij d{kk 8 ds l=kad N% fo"k;ksa ds ,d& ,d djds vki fo"k; lysDV djds fudky ldrs gSa A blds ek/;e ls vki G3 lsy esa fo"k; lysDV dj ml fo"k; ls lEcfU/kr fjiksVZ fudky ldrs gSaA dqy 3 ist gSa A vki vko';drkuqlkj vius fo|ky; ds fo|kfFkZ;ksa ds fglkc ls ist fizUV dj ldrs gSaA isij dh lkbZt A4 gh gSaA | AK9: English | AP9: ='Master Sheet'!L13 -> 3 | AQ9: ='Master Sheet'!M13 -> 6 | AR9: ='Master Sheet'!N13 -> 9 | AS9: ='Master Sheet'!O13 -> 38 | AT9: ='Master Sheet'!P13 -> 56 | AU9: ='Master Sheet'!Q13 -> 9 | AV9: ='Master Sheet'!S13 -> 3 | AW9: ='Master Sheet'!T13 -> 6 | AX9: ='Master Sheet'!U13 -> 9 | AY9: ='Master Sheet'!V13 -> 38 | AZ9: ='Master Sheet'!W13 -> 56 | BA9: ='Master Sheet'!X13 -> 9 | BB9: ='Master Sheet'!Z13 -> 3 | BC9: ='Master Sheet'!AA13 -> 6 | BD9: ='Master Sheet'!AB13 -> 9 | BE9: ='Master Sheet'!AC13 -> 38 | BF9: ='Master Sheet'!AD13 -> 56 | BG9: ='Master Sheet'!AE13 -> 9 | BH9: ='Master Sheet'!AG13 -> 3 | BI9: ='Master Sheet'!AH13 -> 6 | BJ9: ='Master Sheet'!AI13 -> 9 | BK9: ='Master Sheet'!AJ13 -> 38 | BL9: ='Master Sheet'!AK13 -> 56 | BM9: ='Master Sheet'!AL13 -> 9 | BN9: ='Master Sheet'!AN13 -> 3 | BO9: ='Master Sheet'!AO13 -> 6 | BP9: ='Master Sheet'!AP13 -> 9 | BQ9: ='Master Sheet'!AQ13 -> 38 | BR9: ='Master Sheet'!AR13 -> 56 | BS9: ='Master Sheet'!AS13 -> 9 | BT9: ='Master Sheet'!AU13 -> 3 | BU9: ='Master Sheet'!AV13 -> 6 | BV9: ='Master Sheet'!AW13 -> 9 | BW9: ='Master Sheet'!AX13 -> 38 | BX9: ='Master Sheet'!AY13 -> 56 | BY9: ='Master Sheet'!AZ13 -> 9
A10: 4 | B10: =IF(AND(C10=""),"",IF(ISNA(VLOOKUP(A10,'Master Sheet'!A$11:CA$294,4,FALSE)),"",VLOOKUP(A10,'Master Sheet'!A$11:CA$294,4,FALSE))) -> Arun | C10: =IF(AND(G$3=""),"",IF(AND('Master Sheet'!E14=""),"",'Master Sheet'!E14)) -> 208603 | D10: =IF(AND(B10=""),"",IF(AND($G$3=""),"",IF(AND($G$3="Hindi"),AP10,IF(AND($G$3="English"),AV10,IF(AND($G$3="Maths"),BB10,IF(AND($G$3="Sanskrit"),BH10,IF(AND($G$3="Science"),BN10,IF(AND($G$3="Social Science"),BT10,"")))))))) -> 7 | E10: =IF(AND(B10=""),"",IF(AND($G$3=""),"",IF(AND($G$3="Hindi"),AQ10,IF(AND($G$3="English"),AW10,IF(AND($G$3="Maths"),BC10,IF(AND($G$3="Sanskrit"),BI10,IF(AND($G$3="Science"),BO10,IF(AND($G$3="Social Science"),BU10,"")))))))) -> 6 | F10: =IF(AND(B10=""),"",IF(AND($G$3=""),"",IF(AND($G$3="Hindi"),AR10,IF(AND($G$3="English"),AX10,IF(AND($G$3="Maths"),BD10,IF(AND($G$3="Sanskrit"),BJ10,IF(AND($G$3="Science"),BP10,IF(AND($G$3="Social Science"),BV10,"")))))))) -> 8 | G10: =IF(AND(B10=""),"",IF(AND($G$3=""),"",IF(AND($G$3="Hindi"),AS10,IF(AND($G$3="English"),AY10,IF(AND($G$3="Maths"),BE10,IF(AND($G$3="Sanskrit"),BK10,IF(AND($G$3="Science"),BQ10,IF(AND($G$3="Social Science"),BW10,"")))))))) -> 56 | H10: =IF(AND(B10=""),"",IF(AND($G$3=""),"",IF(AND($G$3="Hindi"),AT10,IF(AND($G$3="English"),AZ10,IF(AND($G$3="Maths"),BF10,IF(AND($G$3="Sanskrit"),BL10,IF(AND($G$3="Science"),BR10,IF(AND($G$3="Social Science"),BX10,"")))))))) -> 77 | I10: =IF(AND(B10=""),"",IF(AND($G$3=""),"",IF(AND($G$3="Hindi"),AU10,IF(AND($G$3="English"),BA10,IF(AND($G$3="Maths"),BG10,IF(AND($G$3="Sanskrit"),BM10,IF(AND($G$3="Science"),BS10,IF(AND($G$3="Social Science"),BY10,"")))))))) -> 12 | J10: =IF(AND(C10=""),"",IF(ISNA(VLOOKUP(A10,'Master Sheet'!A$11:CA$294,11,FALSE)),"",VLOOKUP(A10,'Master Sheet'!A$11:CA$294,11,FALSE))) -> 5 | K10: =IF(AND(G$3=""),"",IF(AND(B10=""),"",IF(AND(J10="NON ELIGIBLE"),I10,(I10+J10)))) -> 17 | AK10: Maths | AP10: ='Master Sheet'!L14 -> 7 | AQ10: ='Master Sheet'!M14 -> 6 | AR10: ='Master Sheet'!N14 -> 8 | AS10: ='Master Sheet'!O14 -> 56 | AT10: ='Master Sheet'!P14 -> 77 | AU10: ='Master Sheet'!Q14 -> 12 | AV10: ='Master Sheet'!S14 -> 7 | AW10: ='Master Sheet'!T14 -> 6 | AX10: ='Master Sheet'!U14 -> 8 | AY10: ='Master Sheet'!V14 -> 56 | AZ10: ='Master Sheet'!W14 -> 77 | BA10: ='Master Sheet'!X14 -> 12 | BB10: ='Master Sheet'!Z14 -> 7 | BC10: ='Master Sheet'!AA14 -> 6 | BD10: ='Master Sheet'!AB14 -> 8 | BE10: ='Master Sheet'!AC14 -> 56 | BF10: ='Master Sheet'!AD14 -> 77 | BG10: ='Master Sheet'!AE14 -> 12 | BH10: ='Master Sheet'!AG14 -> 7 | BI10: ='Master Sheet'!AH14 -> 6 | BJ10: ='Master Sheet'!AI14 -> 8 | BK10: ='Master Sheet'!AJ14 -> 56 | BL10: ='Master Sheet'!AK14 -> 77 | BM10: ='Master Sheet'!AL14 -> 12 | BN10: ='Master Sheet'!AN14 -> 7 | BO10: ='Master Sheet'!AO14 -> 6 | BP10: ='Master Sheet'!AP14 -> 8 | BQ10: ='Master Sheet'!AQ14 -> 56 | BR10: ='Master Sheet'!AR14 -> 77 | BS10: ='Master Sheet'!AS14 -> 12 | BT10: ='Master Sheet'!AU14 -> 7 | BU10: ='Master Sheet'!AV14 -> 6 | BV10: ='Master Sheet'!AW14 -> 8 | BW10: ='Master Sheet'!AX14 -> 56 | BX10: ='Master Sheet'!AY14 -> 77 | BY10: ='Master Sheet'!AZ14 -> 12
A11: 5 | B11: =IF(AND(C11=""),"",IF(ISNA(VLOOKUP(A11,'Master Sheet'!A$11:CA$294,4,FALSE)),"",VLOOKUP(A11,'Master Sheet'!A$11:CA$294,4,FALSE))) -> Abhisek | C11: =IF(AND(G$3=""),"",IF(AND('Master Sheet'!E15=""),"",'Master Sheet'!E15)) -> 208604 | D11: =IF(AND(B11=""),"",IF(AND($G$3=""),"",IF(AND($G$3="Hindi"),AP11,IF(AND($G$3="English"),AV11,IF(AND($G$3="Maths"),BB11,IF(AND($G$3="Sanskrit"),BH11,IF(AND($G$3="Science"),BN11,IF(AND($G$3="Social Science"),BT11,"")))))))) -> 5 | E11: =IF(AND(B11=""),"",IF(AND($G$3=""),"",IF(AND($G$3="Hindi"),AQ11,IF(AND($G$3="English"),AW11,IF(AND($G$3="Maths"),BC11,IF(AND($G$3="Sanskrit"),BI11,IF(AND($G$3="Science"),BO11,IF(AND($G$3="Social Science"),BU11,"")))))))) -> 5 | F11: =IF(AND(B11=""),"",IF(AND($G$3=""),"",IF(AND($G$3="Hindi"),AR11,IF(AND($G$3="English"),AX11,IF(AND($G$3="Maths"),BD11,IF(AND($G$3="Sanskrit"),BJ11,IF(AND($G$3="Science"),BP11,IF(AND($G$3="Social Science"),BV11,"")))))))) -> 5 | G11: =IF(AND(B11=""),"",IF(AND($G$3=""),"",IF(AND($G$3="Hindi"),AS11,IF(AND($G$3="English"),AY11,IF(AND($G$3="Maths"),BE11,IF(AND($G$3="Sanskrit"),BK11,IF(AND($G$3="Science"),BQ11,IF(AND($G$3="Social Science"),BW11,"")))))))) -> 56 | H11: =IF(AND(B11=""),"",IF(AND($G$3=""),"",IF(AND($G$3="Hindi"),AT11,IF(AND($G$3="English"),AZ11,IF(AND($G$3="Maths"),BF11,IF(AND($G$3="Sanskrit"),BL11,IF(AND($G$3="Science"),BR11,IF(AND($G$3="Social Science"),BX11,"")))))))) -> 71 | I11: =IF(AND(B11=""),"",IF(AND($G$3=""),"",IF(AND($G$3="Hindi"),AU11,IF(AND($G$3="English"),BA11,IF(AND($G$3="Maths"),BG11,IF(AND($G$3="Sanskrit"),BM11,IF(AND($G$3="Science"),BS11,IF(AND($G$3="Social Science"),BY11,"")))))))) -> 11 | J11: =IF(AND(C11=""),"",IF(ISNA(VLOOKUP(A11,'Master Sheet'!A$11:CA$294,11,FALSE)),"",VLOOKUP(A11,'Master Sheet'!A$11:CA$294,11,FALSE))) -> 4 | K11: =IF(AND(G$3=""),"",IF(AND(B11=""),"",IF(AND(J11="NON ELIGIBLE"),I11,(I11+J11)))) -> 15 | AK11: Sanskrit | AP11: ='Master Sheet'!L15 -> 5 | AQ11: ='Master Sheet'!M15 -> 5 | AR11: ='Master Sheet'!N15 -> 5 | AS11: ='Master Sheet'!O15 -> 56 | AT11: ='Master Sheet'!P15 -> 71 | AU11: ='Master Sheet'!Q15 -> 11 | AV11: ='Master Sheet'!S15 -> 5 | AW11: ='Master Sheet'!T15 -> 5 | AX11: ='Master Sheet'!U15 -> 5 | AY11: ='Master Sheet'!V15 -> 56 | AZ11: ='Master Sheet'!W15 -> 71 | BA11: ='Master Sheet'!X15 -> 11 | BB11: ='Master Sheet'!Z15 -> 5 | BC11: ='Master Sheet'!AA15 -> 5 | BD11: ='Master Sheet'!AB15 -> 5 | BE11: ='Master Sheet'!AC15 -> 15 | BF11: ='Master Sheet'!AD15 -> 30 | BG11: ='Master Sheet'!AE15 -> 5 | BH11: ='Master Sheet'!AG15 -> 5 | BI11: ='Master Sheet'!AH15 -> 5 | BJ11: ='Master Sheet'!AI15 -> 5 | BK11: ='Master Sheet'!AJ15 -> 30 | BL11: ='Master Sheet'!AK15 -> 45 | BM11: ='Master Sheet'!AL15 -> 7 | BN11: ='Master Sheet'!AN15 -> 5 | BO11: ='Master Sheet'!AO15 -> 5 | BP11: ='Master Sheet'!AP15 -> 5 | BQ11: ='Master Sheet'!AQ15 -> 56 | BR11: ='Master Sheet'!AR15 -> 71 | BS11: ='Master Sheet'!AS15 -> 11 | BT11: ='Master Sheet'!AU15 -> 5 | BU11: ='Master Sheet'!AV15 -> 5 | BV11: ='Master Sheet'!AW15 -> 5 | BW11: ='Master Sheet'!AX15 -> 56 | BX11: ='Master Sheet'!AY15 -> 71 | BY11: ='Master Sheet'!AZ15 -> 11
A12: 6 | B12: =IF(AND(C12=""),"",IF(ISNA(VLOOKUP(A12,'Master Sheet'!A$11:CA$294,4,FALSE)),"",VLOOKUP(A12,'Master Sheet'!A$11:CA$294,4,FALSE))) -> Adesh | C12: =IF(AND(G$3=""),"",IF(AND('Master Sheet'!E16=""),"",'Master Sheet'!E16)) -> 208605 | D12: =IF(AND(B12=""),"",IF(AND($G$3=""),"",IF(AND($G$3="Hindi"),AP12,IF(AND($G$3="English"),AV12,IF(AND($G$3="Maths"),BB12,IF(AND($G$3="Sanskrit"),BH12,IF(AND($G$3="Science"),BN12,IF(AND($G$3="Social Science"),BT12,"")))))))) -> 6 | E12: =IF(AND(B12=""),"",IF(AND($G$3=""),"",IF(AND($G$3="Hindi"),AQ12,IF(AND($G$3="English"),AW12,IF(AND($G$3="Maths"),BC12,IF(AND($G$3="Sanskrit"),BI12,IF(AND($G$3="Science"),BO12,IF(AND($G$3="Social Science"),BU12,"")))))))) -> 6 | F12: =IF(AND(B12=""),"",IF(AND($G$3=""),"",IF(AND($G$3="Hindi"),AR12,IF(AND($G$3="English"),AX12,IF(AND($G$3="Maths"),BD12,IF(AND($G$3="Sanskrit"),BJ12,IF(AND($G$3="Science"),BP12,IF(AND($G$3="Social Science"),BV12,"")))))))) -> 6 | G12: =IF(AND(B12=""),"",IF(AND($G$3=""),"",IF(AND($G$3="Hindi"),AS12,IF(AND($G$3="English"),AY12,IF(AND($G$3="Maths"),BE12,IF(AND($G$3="Sanskrit"),BK12,IF(AND($G$3="Science"),BQ12,IF(AND($G$3="Social Science"),BW12,"")))))))) -> 58 | H12: =IF(AND(B12=""),"",IF(AND($G$3=""),"",IF(AND($G$3="Hindi"),AT12,IF(AND($G$3="English"),AZ12,IF(AND($G$3="Maths"),BF12,IF(AND($G$3="Sanskrit"),BL12,IF(AND($G$3="Science"),BR12,IF(AND($G$3="Social Science"),BX12,"")))))))) -> 76 | I12: =IF(AND(B12=""),"",IF(AND($G$3=""),"",IF(AND($G$3="Hindi"),AU12,IF(AND($G$3="English"),BA12,IF(AND($G$3="Maths"),BG12,IF(AND($G$3="Sanskrit"),BM12,IF(AND($G$3="Science"),BS12,IF(AND($G$3="Social Science"),BY12,"")))))))) -> 12 | J12: =IF(AND(C12=""),"",IF(ISNA(VLOOKUP(A12,'Master Sheet'!A$11:CA$294,11,FALSE)),"",VLOOKUP(A12,'Master Sheet'!A$11:CA$294,11,FALSE))) -> 3 | K12: =IF(AND(G$3=""),"",IF(AND(B12=""),"",IF(AND(J12="NON ELIGIBLE"),I12,(I12+J12)))) -> 15 | AK12: Science | AP12: ='Master Sheet'!L16 -> 6 | AQ12: ='Master Sheet'!M16 -> 6 | AR12: ='Master Sheet'!N16 -> 6 | AS12: ='Master Sheet'!O16 -> 58 | AT12: ='Master Sheet'!P16 -> 76 | AU12: ='Master Sheet'!Q16 -> 12 | AV12: ='Master Sheet'!S16 -> 6 | AW12: ='Master Sheet'!T16 -> 6 | AX12: ='Master Sheet'!U16 -> 6 | AY12: ='Master Sheet'!V16 -> 58 | AZ12: ='Master Sheet'!W16 -> 76 | BA12: ='Master Sheet'!X16 -> 12 | BB12: ='Master Sheet'!Z16 -> 6 | BC12: ='Master Sheet'!AA16 -> 6 | BD12: ='Master Sheet'!AB16 -> 6 | BE12: ='Master Sheet'!AC16 -> 58 | BF12: ='Master Sheet'!AD16 -> 76 | BG12: ='Master Sheet'!AE16 -> 12 | BH12: ='Master Sheet'!AG16 -> 6 | BI12: ='Master Sheet'!AH16 -> 6 | BJ12: ='Master Sheet'!AI16 -> 6 | BK12: ='Master Sheet'!AJ16 -> 58 | BL12: ='Master Sheet'!AK16 -> 76 | BM12: ='Master Sheet'!AL16 -> 12 | BN12: ='Master Sheet'!AN16 -> 6 | BO12: ='Master Sheet'!AO16 -> 6 | BP12: ='Master Sheet'!AP16 -> 6 | BQ12: ='Master Sheet'!AQ16 -> 58 | BR12: ='Master Sheet'!AR16 -> 76 | BS12: ='Master Sheet'!AS16 -> 12 | BT12: ='Master Sheet'!AU16 -> 6 | BU12: ='Master Sheet'!AV16 -> 6 | BV12: ='Master Sheet'!AW16 -> 6 | BW12: ='Master Sheet'!AX16 -> 58 | BX12: ='Master Sheet'!AY16 -> 76 | BY12: ='Master Sheet'!AZ16 -> 12
A13: 7 | B13: =IF(AND(C13=""),"",IF(ISNA(VLOOKUP(A13,'Master Sheet'!A$11:CA$294,4,FALSE)),"",VLOOKUP(A13,'Master Sheet'!A$11:CA$294,4,FALSE))) -> Ankur | C13: =IF(AND(G$3=""),"",IF(AND('Master Sheet'!E17=""),"",'Master Sheet'!E17)) -> 208606 | D13: =IF(AND(B13=""),"",IF(AND($G$3=""),"",IF(AND($G$3="Hindi"),AP13,IF(AND($G$3="English"),AV13,IF(AND($G$3="Maths"),BB13,IF(AND($G$3="Sanskrit"),BH13,IF(AND($G$3="Science"),BN13,IF(AND($G$3="Social Science"),BT13,"")))))))) -> 7 | E13: =IF(AND(B13=""),"",IF(AND($G$3=""),"",IF(AND($G$3="Hindi"),AQ13,IF(AND($G$3="English"),AW13,IF(AND($G$3="Maths"),BC13,IF(AND($G$3="Sanskrit"),BI13,IF(AND($G$3="Science"),BO13,IF(AND($G$3="Social Science"),BU13,"")))))))) -> 7 | F13: =IF(AND(B13=""),"",IF(AND($G$3=""),"",IF(AND($G$3="Hindi"),AR13,IF(AND($G$3="English"),AX13,IF(AND($G$3="Maths"),BD13,IF(AND($G$3="Sanskrit"),BJ13,IF(AND($G$3="Science"),BP13,IF(AND($G$3="Social Science"),BV13,"")))))))) -> 7 | G13: =IF(AND(B13=""),"",IF(AND($G$3=""),"",IF(AND($G$3="Hindi"),AS13,IF(AND($G$3="English"),AY13,IF(AND($G$3="Maths"),BE13,IF(AND($G$3="Sanskrit"),BK13,IF(AND($G$3="Science"),BQ13,IF(AND($G$3="Social Science"),BW13,"")))))))) -> 67 | H13: =IF(AND(B13=""),"",IF(AND($G$3=""),"",IF(AND($G$3="Hindi"),AT13,IF(AND($G$3="English"),AZ13,IF(AND($G$3="Maths"),BF13,IF(AND($G$3="Sanskrit"),BL13,IF(AND($G$3="Science"),BR13,IF(AND($G$3="Social Science"),BX13,"")))))))) -> 88 | I13: =IF(AND(B13=""),"",IF(AND($G$3=""),"",IF(AND($G$3="Hindi"),AU13,IF(AND($G$3="English"),BA13,IF(AND($G$3="Maths"),BG13,IF(AND($G$3="Sanskrit"),BM13,IF(AND($G$3="Science"),BS13,IF(AND($G$3="Social Science"),BY13,"")))))))) -> 14 | J13: =IF(AND(C13=""),"",IF(ISNA(VLOOKUP(A13,'Master Sheet'!A$11:CA$294,11,FALSE)),"",VLOOKUP(A13,'Master Sheet'!A$11:CA$294,11,FALSE))) -> 4 | K13: =IF(AND(G$3=""),"",IF(AND(B13=""),"",IF(AND(J13="NON ELIGIBLE"),I13,(I13+J13)))) -> 18 | AK13: Social science | AP13: ='Master Sheet'!L17 -> 7 | AQ13: ='Master Sheet'!M17 -> 5 | AR13: ='Master Sheet'!N17 -> 7 | AS13: ='Master Sheet'!O17 -> 67 | AT13: ='Master Sheet'!P17 -> 86 | AU13: ='Master Sheet'!Q17 -> 13 | AV13: ='Master Sheet'!S17 -> 7 | AW13: ='Master Sheet'!T17 -> 7 | AX13: ='Master Sheet'!U17 -> 7 | AY13: ='Master Sheet'!V17 -> 67 | AZ13: ='Master Sheet'!W17 -> 88 | BA13: ='Master Sheet'!X17 -> 14 | BB13: ='Master Sheet'!Z17 -> 7 | BC13: ='Master Sheet'!AA17 -> 7 | BD13: ='Master Sheet'!AB17 -> 7 | BE13: ='Master Sheet'!AC17 -> 67 | BF13: ='Master Sheet'!AD17 -> 88 | BG13: ='Master Sheet'!AE17 -> 14 | BH13: ='Master Sheet'!AG17 -> 7 | BI13: ='Master Sheet'!AH17 -> 7 | BJ13: ='Master Sheet'!AI17 -> 7 | BK13: ='Master Sheet'!AJ17 -> 67 | BL13: ='Master Sheet'!AK17 -> 88 | BM13: ='Master Sheet'!AL17 -> 14 | BN13: ='Master Sheet'!AN17 -> 7 | BO13: ='Master Sheet'!AO17 -> 7 | BP13: ='Master Sheet'!AP17 -> 7 | BQ13: ='Master Sheet'!AQ17 -> 67 | BR13: ='Master Sheet'!AR17 -> 88 | BS13: ='Master Sheet'!AS17 -> 14 | BT13: ='Master Sheet'!AU17 -> 7 | BU13: ='Master Sheet'!AV17 -> 7 | BV13: ='Master Sheet'!AW17 -> 7 | BW13: ='Master Sheet'!AX17 -> 67 | BX13: ='Master Sheet'!AY17 -> 88 | BY13: ='Master Sheet'!AZ17 -> 14
A14: 8 | B14: =IF(AND(C14=""),"",IF(ISNA(VLOOKUP(A14,'Master Sheet'!A$11:CA$294,4,FALSE)),"",VLOOKUP(A14,'Master Sheet'!A$11:CA$294,4,FALSE))) | C14: =IF(AND(G$3=""),"",IF(AND('Master Sheet'!E18=""),"",'Master Sheet'!E18)) | D14: =IF(AND(B14=""),"",IF(AND($G$3=""),"",IF(AND($G$3="Hindi"),AP14,IF(AND($G$3="English"),AV14,IF(AND($G$3="Maths"),BB14,IF(AND($G$3="Sanskrit"),BH14,IF(AND($G$3="Science"),BN14,IF(AND($G$3="Social Science"),BT14,"")))))))) | E14: =IF(AND(B14=""),"",IF(AND($G$3=""),"",IF(AND($G$3="Hindi"),AQ14,IF(AND($G$3="English"),AW14,IF(AND($G$3="Maths"),BC14,IF(AND($G$3="Sanskrit"),BI14,IF(AND($G$3="Science"),BO14,IF(AND($G$3="Social Science"),BU14,"")))))))) | F14: =IF(AND(B14=""),"",IF(AND($G$3=""),"",IF(AND($G$3="Hindi"),AR14,IF(AND($G$3="English"),AX14,IF(AND($G$3="Maths"),BD14,IF(AND($G$3="Sanskrit"),BJ14,IF(AND($G$3="Science"),BP14,IF(AND($G$3="Social Science"),BV14,"")))))))) | G14: =IF(AND(B14=""),"",IF(AND($G$3=""),"",IF(AND($G$3="Hindi"),AS14,IF(AND($G$3="English"),AY14,IF(AND($G$3="Maths"),BE14,IF(AND($G$3="Sanskrit"),BK14,IF(AND($G$3="Science"),BQ14,IF(AND($G$3="Social Science"),BW14,"")))))))) | H14: =IF(AND(B14=""),"",IF(AND($G$3=""),"",IF(AND($G$3="Hindi"),AT14,IF(AND($G$3="English"),AZ14,IF(AND($G$3="Maths"),BF14,IF(AND($G$3="Sanskrit"),BL14,IF(AND($G$3="Science"),BR14,IF(AND($G$3="Social Science"),BX14,"")))))))) | I14: =IF(AND(B14=""),"",IF(AND($G$3=""),"",IF(AND($G$3="Hindi"),AU14,IF(AND($G$3="English"),BA14,IF(AND($G$3="Maths"),BG14,IF(AND($G$3="Sanskrit"),BM14,IF(AND($G$3="Science"),BS14,IF(AND($G$3="Social Science"),BY14,"")))))))) | J14: =IF(AND(C14=""),"",IF(ISNA(VLOOKUP(A14,'Master Sheet'!A$11:CA$294,11,FALSE)),"",VLOOKUP(A14,'Master Sheet'!A$11:CA$294,11,FALSE))) | K14: =IF(AND(G$3=""),"",IF(AND(B14=""),"",IF(AND(J14="NON ELIGIBLE"),I14,(I14+J14)))) | AP14: ='Master Sheet'!L18 -> 8 | AQ14: ='Master Sheet'!M18 -> 8 | AR14: ='Master Sheet'!N18 -> 8 | AS14: ='Master Sheet'!O18 -> 56 | AT14: ='Master Sheet'!P18 | AU14: ='Master Sheet'!Q18 | AV14: ='Master Sheet'!S18 -> 8 | AW14: ='Master Sheet'!T18 -> 8 | AX14: ='Master Sheet'!U18 -> 8 | AY14: ='Master Sheet'!V18 -> 56 | AZ14: ='Master Sheet'!W18 | BA14: ='Master Sheet'!X18 | BB14: ='Master Sheet'!Z18 -> 8 | BC14: ='Master Sheet'!AA18 -> 8 | BD14: ='Master Sheet'!AB18 -> 8 | BE14: ='Master Sheet'!AC18 -> 56 | BF14: ='Master Sheet'!AD18 | BG14: ='Master Sheet'!AE18 | BH14: ='Master Sheet'!AG18 -> 8 | BI14: ='Master Sheet'!AH18 -> 8 | BJ14: ='Master Sheet'!AI18 -> 8 | BK14: ='Master Sheet'!AJ18 -> 56 | BL14: ='Master Sheet'!AK18 | BM14: ='Master Sheet'!AL18 | BN14: ='Master Sheet'!AN18 -> 8 | BO14: ='Master Sheet'!AO18 -> 8 | BP14: ='Master Sheet'!AP18 -> 8 | BQ14: ='Master Sheet'!AQ18 -> 56 | BR14: ='Master Sheet'!AR18 | BS14: ='Master Sheet'!AS18 | BT14: ='Master Sheet'!AU18 -> 8 | BU14: ='Master Sheet'!AV18 -> 8 | BV14: ='Master Sheet'!AW18 -> 8 | BW14: ='Master Sheet'!AX18 -> 56 | BX14: ='Master Sheet'!AY18 | BY14: ='Master Sheet'!AZ18
A15: 9 | B15: =IF(AND(C15=""),"",IF(ISNA(VLOOKUP(A15,'Master Sheet'!A$11:CA$294,4,FALSE)),"",VLOOKUP(A15,'Master Sheet'!A$11:CA$294,4,FALSE))) | C15: =IF(AND(G$3=""),"",IF(AND('Master Sheet'!E19=""),"",'Master Sheet'!E19)) | D15: =IF(AND(B15=""),"",IF(AND($G$3=""),"",IF(AND($G$3="Hindi"),AP15,IF(AND($G$3="English"),AV15,IF(AND($G$3="Maths"),BB15,IF(AND($G$3="Sanskrit"),BH15,IF(AND($G$3="Science"),BN15,IF(AND($G$3="Social Science"),BT15,"")))))))) | E15: =IF(AND(B15=""),"",IF(AND($G$3=""),"",IF(AND($G$3="Hindi"),AQ15,IF(AND($G$3="English"),AW15,IF(AND($G$3="Maths"),BC15,IF(AND($G$3="Sanskrit"),BI15,IF(AND($G$3="Science"),BO15,IF(AND($G$3="Social Science"),BU15,"")))))))) | F15: =IF(AND(B15=""),"",IF(AND($G$3=""),"",IF(AND($G$3="Hindi"),AR15,IF(AND($G$3="English"),AX15,IF(AND($G$3="Maths"),BD15,IF(AND($G$3="Sanskrit"),BJ15,IF(AND($G$3="Science"),BP15,IF(AND($G$3="Social Science"),BV15,"")))))))) | G15: =IF(AND(B15=""),"",IF(AND($G$3=""),"",IF(AND($G$3="Hindi"),AS15,IF(AND($G$3="English"),AY15,IF(AND($G$3="Maths"),BE15,IF(AND($G$3="Sanskrit"),BK15,IF(AND($G$3="Science"),BQ15,IF(AND($G$3="Social Science"),BW15,"")))))))) | H15: =IF(AND(B15=""),"",IF(AND($G$3=""),"",IF(AND($G$3="Hindi"),AT15,IF(AND($G$3="English"),AZ15,IF(AND($G$3="Maths"),BF15,IF(AND($G$3="Sanskrit"),BL15,IF(AND($G$3="Science"),BR15,IF(AND($G$3="Social Science"),BX15,"")))))))) | I15: =IF(AND(B15=""),"",IF(AND($G$3=""),"",IF(AND($G$3="Hindi"),AU15,IF(AND($G$3="English"),BA15,IF(AND($G$3="Maths"),BG15,IF(AND($G$3="Sanskrit"),BM15,IF(AND($G$3="Science"),BS15,IF(AND($G$3="Social Science"),BY15,"")))))))) | J15: =IF(AND(C15=""),"",IF(ISNA(VLOOKUP(A15,'Master Sheet'!A$11:CA$294,11,FALSE)),"",VLOOKUP(A15,'Master Sheet'!A$11:CA$294,11,FALSE))) | K15: =IF(AND(G$3=""),"",IF(AND(B15=""),"",IF(AND(J15="NON ELIGIBLE"),I15,(I15+J15)))) | AP15: ='Master Sheet'!L19 -> 9 | AQ15: ='Master Sheet'!M19 -> 9 | AR15: ='Master Sheet'!N19 -> 9 | AS15: ='Master Sheet'!O19 -> 45 | AT15: ='Master Sheet'!P19 | AU15: ='Master Sheet'!Q19 | AV15: ='Master Sheet'!S19 -> 9 | AW15: ='Master Sheet'!T19 -> 9 | AX15: ='Master Sheet'!U19 -> 9 | AY15: ='Master Sheet'!V19 -> 45 | AZ15: ='Master Sheet'!W19 | BA15: ='Master Sheet'!X19 | BB15: ='Master Sheet'!Z19 -> 9 | BC15: ='Master Sheet'!AA19 -> 9 | BD15: ='Master Sheet'!AB19 -> 9 | BE15: ='Master Sheet'!AC19 -> 45 | BF15: ='Master Sheet'!AD19 | BG15: ='Master Sheet'!AE19 | BH15: ='Master Sheet'!AG19 -> 9 | BI15: ='Master Sheet'!AH19 -> 9 | BJ15: ='Master Sheet'!AI19 -> 9 | BK15: ='Master Sheet'!AJ19 -> 45 | BL15: ='Master Sheet'!AK19 | BM15: ='Master Sheet'!AL19 | BN15: ='Master Sheet'!AN19 -> 9 | BO15: ='Master Sheet'!AO19 -> 9 | BP15: ='Master Sheet'!AP19 -> 9 | BQ15: ='Master Sheet'!AQ19 -> 45 | BR15: ='Master Sheet'!AR19 | BS15: ='Master Sheet'!AS19 | BT15: ='Master Sheet'!AU19 -> 9 | BU15: ='Master Sheet'!AV19 -> 9 | BV15: ='Master Sheet'!AW19 -> 9 | BW15: ='Master Sheet'!AX19 -> 45 | BX15: ='Master Sheet'!AY19 | BY15: ='Master Sheet'!AZ19
A16: 10 | B16: =IF(AND(C16=""),"",IF(ISNA(VLOOKUP(A16,'Master Sheet'!A$11:CA$294,4,FALSE)),"",VLOOKUP(A16,'Master Sheet'!A$11:CA$294,4,FALSE))) | C16: =IF(AND(G$3=""),"",IF(AND('Master Sheet'!E20=""),"",'Master Sheet'!E20)) | D16: =IF(AND(B16=""),"",IF(AND($G$3=""),"",IF(AND($G$3="Hindi"),AP16,IF(AND($G$3="English"),AV16,IF(AND($G$3="Maths"),BB16,IF(AND($G$3="Sanskrit"),BH16,IF(AND($G$3="Science"),BN16,IF(AND($G$3="Social Science"),BT16,"")))))))) | E16: =IF(AND(B16=""),"",IF(AND($G$3=""),"",IF(AND($G$3="Hindi"),AQ16,IF(AND($G$3="English"),AW16,IF(AND($G$3="Maths"),BC16,IF(AND($G$3="Sanskrit"),BI16,IF(AND($G$3="Science"),BO16,IF(AND($G$3="Social Science"),BU16,"")))))))) | F16: =IF(AND(B16=""),"",IF(AND($G$3=""),"",IF(AND($G$3="Hindi"),AR16,IF(AND($G$3="English"),AX16,IF(AND($G$3="Maths"),BD16,IF(AND($G$3="Sanskrit"),BJ16,IF(AND($G$3="Science"),BP16,IF(AND($G$3="Social Science"),BV16,"")))))))) | G16: =IF(AND(B16=""),"",IF(AND($G$3=""),"",IF(AND($G$3="Hindi"),AS16,IF(AND($G$3="English"),AY16,IF(AND($G$3="Maths"),BE16,IF(AND($G$3="Sanskrit"),BK16,IF(AND($G$3="Science"),BQ16,IF(AND($G$3="Social Science"),BW16,"")))))))) | H16: =IF(AND(B16=""),"",IF(AND($G$3=""),"",IF(AND($G$3="Hindi"),AT16,IF(AND($G$3="English"),AZ16,IF(AND($G$3="Maths"),BF16,IF(AND($G$3="Sanskrit"),BL16,IF(AND($G$3="Science"),BR16,IF(AND($G$3="Social Science"),BX16,"")))))))) | I16: =IF(AND(B16=""),"",IF(AND($G$3=""),"",IF(AND($G$3="Hindi"),AU16,IF(AND($G$3="English"),BA16,IF(AND($G$3="Maths"),BG16,IF(AND($G$3="Sanskrit"),BM16,IF(AND($G$3="Science"),BS16,IF(AND($G$3="Social Science"),BY16,"")))))))) | J16: =IF(AND(C16=""),"",IF(ISNA(VLOOKUP(A16,'Master Sheet'!A$11:CA$294,11,FALSE)),"",VLOOKUP(A16,'Master Sheet'!A$11:CA$294,11,FALSE))) | K16: =IF(AND(G$3=""),"",IF(AND(B16=""),"",IF(AND(J16="NON ELIGIBLE"),I16,(I16+J16)))) | AP16: ='Master Sheet'!L20 -> 7 | AQ16: ='Master Sheet'!M20 -> 7 | AR16: ='Master Sheet'!N20 -> 7 | AS16: ='Master Sheet'!O20 -> 45 | AT16: ='Master Sheet'!P20 | AU16: ='Master Sheet'!Q20 | AV16: ='Master Sheet'!S20 -> 7 | AW16: ='Master Sheet'!T20 -> 7 | AX16: ='Master Sheet'!U20 -> 7 | AY16: ='Master Sheet'!V20 -> 45 | AZ16: ='Master Sheet'!W20 | BA16: ='Master Sheet'!X20 | BB16: ='Master Sheet'!Z20 -> 7 | BC16: ='Master Sheet'!AA20 -> 7 | BD16: ='Master Sheet'!AB20 -> 7 | BE16: ='Master Sheet'!AC20 -> 45 | BF16: ='Master Sheet'!AD20 | BG16: ='Master Sheet'!AE20 | BH16: ='Master Sheet'!AG20 -> 7 | BI16: ='Master Sheet'!AH20 -> 7 | BJ16: ='Master Sheet'!AI20 -> 7 | BK16: ='Master Sheet'!AJ20 -> 45 | BL16: ='Master Sheet'!AK20 | BM16: ='Master Sheet'!AL20 | BN16: ='Master Sheet'!AN20 -> 7 | BO16: ='Master Sheet'!AO20 -> 7 | BP16: ='Master Sheet'!AP20 -> 7 | BQ16: ='Master Sheet'!AQ20 -> 45 | BR16: ='Master Sheet'!AR20 | BS16: ='Master Sheet'!AS20 | BT16: ='Master Sheet'!AU20 -> 7 | BU16: ='Master Sheet'!AV20 -> 7 | BV16: ='Master Sheet'!AW20 -> 7 | BW16: ='Master Sheet'!AX20 -> 45 | BX16: ='Master Sheet'!AY20 | BY16: ='Master Sheet'!AZ20
A17: 11 | B17: =IF(AND(C17=""),"",IF(ISNA(VLOOKUP(A17,'Master Sheet'!A$11:CA$294,4,FALSE)),"",VLOOKUP(A17,'Master Sheet'!A$11:CA$294,4,FALSE))) | C17: =IF(AND(G$3=""),"",IF(AND('Master Sheet'!E21=""),"",'Master Sheet'!E21)) | D17: =IF(AND(B17=""),"",IF(AND($G$3=""),"",IF(AND($G$3="Hindi"),AP17,IF(AND($G$3="English"),AV17,IF(AND($G$3="Maths"),BB17,IF(AND($G$3="Sanskrit"),BH17,IF(AND($G$3="Science"),BN17,IF(AND($G$3="Social Science"),BT17,"")))))))) | E17: =IF(AND(B17=""),"",IF(AND($G$3=""),"",IF(AND($G$3="Hindi"),AQ17,IF(AND($G$3="English"),AW17,IF(AND($G$3="Maths"),BC17,IF(AND($G$3="Sanskrit"),BI17,IF(AND($G$3="Science"),BO17,IF(AND($G$3="Social Science"),BU17,"")))))))) | F17: =IF(AND(B17=""),"",IF(AND($G$3=""),"",IF(AND($G$3="Hindi"),AR17,IF(AND($G$3="English"),AX17,IF(AND($G$3="Maths"),BD17,IF(AND($G$3="Sanskrit"),BJ17,IF(AND($G$3="Science"),BP17,IF(AND($G$3="Social Science"),BV17,"")))))))) | G17: =IF(AND(B17=""),"",IF(AND($G$3=""),"",IF(AND($G$3="Hindi"),AS17,IF(AND($G$3="English"),AY17,IF(AND($G$3="Maths"),BE17,IF(AND($G$3="Sanskrit"),BK17,IF(AND($G$3="Science"),BQ17,IF(AND($G$3="Social Science"),BW17,"")))))))) | H17: =IF(AND(B17=""),"",IF(AND($G$3=""),"",IF(AND($G$3="Hindi"),AT17,IF(AND($G$3="English"),AZ17,IF(AND($G$3="Maths"),BF17,IF(AND($G$3="Sanskrit"),BL17,IF(AND($G$3="Science"),BR17,IF(AND($G$3="Social Science"),BX17,"")))))))) | I17: =IF(AND(B17=""),"",IF(AND($G$3=""),"",IF(AND($G$3="Hindi"),AU17,IF(AND($G$3="English"),BA17,IF(AND($G$3="Maths"),BG17,IF(AND($G$3="Sanskrit"),BM17,IF(AND($G$3="Science"),BS17,IF(AND($G$3="Social Science"),BY17,"")))))))) | J17: =IF(AND(C17=""),"",IF(ISNA(VLOOKUP(A17,'Master Sheet'!A$11:CA$294,11,FALSE)),"",VLOOKUP(A17,'Master Sheet'!A$11:CA$294,11,FALSE))) | K17: =IF(AND(G$3=""),"",IF(AND(B17=""),"",IF(AND(J17="NON ELIGIBLE"),I17,(I17+J17)))) | AP17: ='Master Sheet'!L21 -> 8 | AQ17: ='Master Sheet'!M21 -> 8 | AR17: ='Master Sheet'!N21 -> 8 | AS17: ='Master Sheet'!O21 -> 37 | AT17: ='Master Sheet'!P21 | AU17: ='Master Sheet'!Q21 | AV17: ='Master Sheet'!S21 -> 8 | AW17: ='Master Sheet'!T21 -> 8 | AX17: ='Master Sheet'!U21 -> 8 | AY17: ='Master Sheet'!V21 -> 37 | AZ17: ='Master Sheet'!W21 | BA17: ='Master Sheet'!X21 | BB17: ='Master Sheet'!Z21 -> 8 | BC17: ='Master Sheet'!AA21 -> 8 | BD17: ='Master Sheet'!AB21 -> 8 | BE17: ='Master Sheet'!AC21 -> 37 | BF17: ='Master Sheet'!AD21 | BG17: ='Master Sheet'!AE21 | BH17: ='Master Sheet'!AG21 -> 8 | BI17: ='Master Sheet'!AH21 -> 8 | BJ17: ='Master Sheet'!AI21 -> 8 | BK17: ='Master Sheet'!AJ21 -> 50 | BL17: ='Master Sheet'!AK21 | BM17: ='Master Sheet'!AL21 | BN17: ='Master Sheet'!AN21 -> 8 | BO17: ='Master Sheet'!AO21 -> 8 | BP17: ='Master Sheet'!AP21 -> 8 | BQ17: ='Master Sheet'!AQ21 -> 37 | BR17: ='Master Sheet'!AR21 | BS17: ='Master Sheet'!AS21 | BT17: ='Master Sheet'!AU21 -> 8 | BU17: ='Master Sheet'!AV21 -> 8 | BV17: ='Master Sheet'!AW21 -> 8 | BW17: ='Master Sheet'!AX21 -> 37 | BX17: ='Master Sheet'!AY21 | BY17: ='Master Sheet'!AZ21
A18: 12 | B18: =IF(AND(C18=""),"",IF(ISNA(VLOOKUP(A18,'Master Sheet'!A$11:CA$294,4,FALSE)),"",VLOOKUP(A18,'Master Sheet'!A$11:CA$294,4,FALSE))) | C18: =IF(AND(G$3=""),"",IF(AND('Master Sheet'!E22=""),"",'Master Sheet'!E22)) | D18: =IF(AND(B18=""),"",IF(AND($G$3=""),"",IF(AND($G$3="Hindi"),AP18,IF(AND($G$3="English"),AV18,IF(AND($G$3="Maths"),BB18,IF(AND($G$3="Sanskrit"),BH18,IF(AND($G$3="Science"),BN18,IF(AND($G$3="Social Science"),BT18,"")))))))) | E18: =IF(AND(B18=""),"",IF(AND($G$3=""),"",IF(AND($G$3="Hindi"),AQ18,IF(AND($G$3="English"),AW18,IF(AND($G$3="Maths"),BC18,IF(AND($G$3="Sanskrit"),BI18,IF(AND($G$3="Science"),BO18,IF(AND($G$3="Social Science"),BU18,"")))))))) | F18: =IF(AND(B18=""),"",IF(AND($G$3=""),"",IF(AND($G$3="Hindi"),AR18,IF(AND($G$3="English"),AX18,IF(AND($G$3="Maths"),BD18,IF(AND($G$3="Sanskrit"),BJ18,IF(AND($G$3="Science"),BP18,IF(AND($G$3="Social Science"),BV18,"")))))))) | G18: =IF(AND(B18=""),"",IF(AND($G$3=""),"",IF(AND($G$3="Hindi"),AS18,IF(AND($G$3="English"),AY18,IF(AND($G$3="Maths"),BE18,IF(AND($G$3="Sanskrit"),BK18,IF(AND($G$3="Science"),BQ18,IF(AND($G$3="Social Science"),BW18,"")))))))) | H18: =IF(AND(B18=""),"",IF(AND($G$3=""),"",IF(AND($G$3="Hindi"),AT18,IF(AND($G$3="English"),AZ18,IF(AND($G$3="Maths"),BF18,IF(AND($G$3="Sanskrit"),BL18,IF(AND($G$3="Science"),BR18,IF(AND($G$3="Social Science"),BX18,"")))))))) | I18: =IF(AND(B18=""),"",IF(AND($G$3=""),"",IF(AND($G$3="Hindi"),AU18,IF(AND($G$3="English"),BA18,IF(AND($G$3="Maths"),BG18,IF(AND($G$3="Sanskrit"),BM18,IF(AND($G$3="Science"),BS18,IF(AND($G$3="Social Science"),BY18,"")))))))) | J18: =IF(AND(C18=""),"",IF(ISNA(VLOOKUP(A18,'Master Sheet'!A$11:CA$294,11,FALSE)),"",VLOOKUP(A18,'Master Sheet'!A$11:CA$294,11,FALSE))) | K18: =IF(AND(G$3=""),"",IF(AND(B18=""),"",IF(AND(J18="NON ELIGIBLE"),I18,(I18+J18)))) | AP18: ='Master Sheet'!L22 -> 6 | AQ18: ='Master Sheet'!M22 -> 6 | AR18: ='Master Sheet'!N22 -> 6 | AS18: ='Master Sheet'!O22 -> 67 | AT18: ='Master Sheet'!P22 | AU18: ='Master Sheet'!Q22 | AV18: ='Master Sheet'!S22 -> 6 | AW18: ='Master Sheet'!T22 -> 6 | AX18: ='Master Sheet'!U22 -> 6 | AY18: ='Master Sheet'!V22 -> 67 | AZ18: ='Master Sheet'!W22 | BA18: ='Master Sheet'!X22 | BB18: ='Master Sheet'!Z22 -> 6 | BC18: ='Master Sheet'!AA22 -> 6 | BD18: ='Master Sheet'!AB22 -> 6 | BE18: ='Master Sheet'!AC22 -> 67 | BF18: ='Master Sheet'!AD22 | BG18: ='Master Sheet'!AE22 | BH18: ='Master Sheet'!AG22 -> 6 | BI18: ='Master Sheet'!AH22 -> 6 | BJ18: ='Master Sheet'!AI22 -> 6 | BK18: ='Master Sheet'!AJ22 -> 67 | BL18: ='Master Sheet'!AK22 | BM18: ='Master Sheet'!AL22 | BN18: ='Master Sheet'!AN22 -> 6 | BO18: ='Master Sheet'!AO22 -> 6 | BP18: ='Master Sheet'!AP22 -> 6 | BQ18: ='Master Sheet'!AQ22 -> 67 | BR18: ='Master Sheet'!AR22 | BS18: ='Master Sheet'!AS22 | BT18: ='Master Sheet'!AU22 -> 6 | BU18: ='Master Sheet'!AV22 -> 6 | BV18: ='Master Sheet'!AW22 -> 6 | BW18: ='Master Sheet'!AX22 -> 67 | BX18: ='Master Sheet'!AY22 | BY18: ='Master Sheet'!AZ22
A19: 13 | B19: =IF(AND(C19=""),"",IF(ISNA(VLOOKUP(A19,'Master Sheet'!A$11:CA$294,4,FALSE)),"",VLOOKUP(A19,'Master Sheet'!A$11:CA$294,4,FALSE))) | C19: =IF(AND(G$3=""),"",IF(AND('Master Sheet'!E23=""),"",'Master Sheet'!E23)) | D19: =IF(AND(B19=""),"",IF(AND($G$3=""),"",IF(AND($G$3="Hindi"),AP19,IF(AND($G$3="English"),AV19,IF(AND($G$3="Maths"),BB19,IF(AND($G$3="Sanskrit"),BH19,IF(AND($G$3="Science"),BN19,IF(AND($G$3="Social Science"),BT19,"")))))))) | E19: =IF(AND(B19=""),"",IF(AND($G$3=""),"",IF(AND($G$3="Hindi"),AQ19,IF(AND($G$3="English"),AW19,IF(AND($G$3="Maths"),BC19,IF(AND($G$3="Sanskrit"),BI19,IF(AND($G$3="Science"),BO19,IF(AND($G$3="Social Science"),BU19,"")))))))) | F19: =IF(AND(B19=""),"",IF(AND($G$3=""),"",IF(AND($G$3="Hindi"),AR19,IF(AND($G$3="English"),AX19,IF(AND($G$3="Maths"),BD19,IF(AND($G$3="Sanskrit"),BJ19,IF(AND($G$3="Science"),BP19,IF(AND($G$3="Social Science"),BV19,"")))))))) | G19: =IF(AND(B19=""),"",IF(AND($G$3=""),"",IF(AND($G$3="Hindi"),AS19,IF(AND($G$3="English"),AY19,IF(AND($G$3="Maths"),BE19,IF(AND($G$3="Sanskrit"),BK19,IF(AND($G$3="Science"),BQ19,IF(AND($G$3="Social Science"),BW19,"")))))))) | H19: =IF(AND(B19=""),"",IF(AND($G$3=""),"",IF(AND($G$3="Hindi"),AT19,IF(AND($G$3="English"),AZ19,IF(AND($G$3="Maths"),BF19,IF(AND($G$3="Sanskrit"),BL19,IF(AND($G$3="Science"),BR19,IF(AND($G$3="Social Science"),BX19,"")))))))) | I19: =IF(AND(B19=""),"",IF(AND($G$3=""),"",IF(AND($G$3="Hindi"),AU19,IF(AND($G$3="English"),BA19,IF(AND($G$3="Maths"),BG19,IF(AND($G$3="Sanskrit"),BM19,IF(AND($G$3="Science"),BS19,IF(AND($G$3="Social Science"),BY19,"")))))))) | J19: =IF(AND(C19=""),"",IF(ISNA(VLOOKUP(A19,'Master Sheet'!A$11:CA$294,11,FALSE)),"",VLOOKUP(A19,'Master Sheet'!A$11:CA$294,11,FALSE))) | K19: =IF(AND(G$3=""),"",IF(AND(B19=""),"",IF(AND(J19="NON ELIGIBLE"),I19,(I19+J19)))) | AP19: ='Master Sheet'!L23 -> 10 | AQ19: ='Master Sheet'!M23 -> 10 | AR19: ='Master Sheet'!N23 -> 8 | AS19: ='Master Sheet'!O23 -> 66 | AT19: ='Master Sheet'!P23 | AU19: ='Master Sheet'!Q23 | AV19: ='Master Sheet'!S23 -> 5 | AW19: ='Master Sheet'!T23 -> 5 | AX19: ='Master Sheet'!U23 -> 5 | AY19: ='Master Sheet'!V23 -> 56 | AZ19: ='Master Sheet'!W23 | BA19: ='Master Sheet'!X23 | BB19: ='Master Sheet'!Z23 -> 5 | BC19: ='Master Sheet'!AA23 -> 5 | BD19: ='Master Sheet'!AB23 -> 5 | BE19: ='Master Sheet'!AC23 -> 56 | BF19: ='Master Sheet'!AD23 | BG19: ='Master Sheet'!AE23 | BH19: ='Master Sheet'!AG23 -> 5 | BI19: ='Master Sheet'!AH23 -> 5 | BJ19: ='Master Sheet'!AI23 -> 5 | BK19: ='Master Sheet'!AJ23 -> 56 | BL19: ='Master Sheet'!AK23 | BM19: ='Master Sheet'!AL23 | BN19: ='Master Sheet'!AN23 -> 5 | BO19: ='Master Sheet'!AO23 -> 5 | BP19: ='Master Sheet'!AP23 -> 5 | BQ19: ='Master Sheet'!AQ23 -> 56 | BR19: ='Master Sheet'!AR23 | BS19: ='Master Sheet'!AS23 | BT19: ='Master Sheet'!AU23 -> 5 | BU19: ='Master Sheet'!AV23 -> 5 | BV19: ='Master Sheet'!AW23 -> 5 | BW19: ='Master Sheet'!AX23 -> 56 | BX19: ='Master Sheet'!AY23 | BY19: ='Master Sheet'!AZ23
A20: 14 | B20: =IF(AND(C20=""),"",IF(ISNA(VLOOKUP(A20,'Master Sheet'!A$11:CA$294,4,FALSE)),"",VLOOKUP(A20,'Master Sheet'!A$11:CA$294,4,FALSE))) | C20: =IF(AND(G$3=""),"",IF(AND('Master Sheet'!E24=""),"",'Master Sheet'!E24)) | D20: =IF(AND(B20=""),"",IF(AND($G$3=""),"",IF(AND($G$3="Hindi"),AP20,IF(AND($G$3="English"),AV20,IF(AND($G$3="Maths"),BB20,IF(AND($G$3="Sanskrit"),BH20,IF(AND($G$3="Science"),BN20,IF(AND($G$3="Social Science"),BT20,"")))))))) | E20: =IF(AND(B20=""),"",IF(AND($G$3=""),"",IF(AND($G$3="Hindi"),AQ20,IF(AND($G$3="English"),AW20,IF(AND($G$3="Maths"),BC20,IF(AND($G$3="Sanskrit"),BI20,IF(AND($G$3="Science"),BO20,IF(AND($G$3="Social Science"),BU20,"")))))))) | F20: =IF(AND(B20=""),"",IF(AND($G$3=""),"",IF(AND($G$3="Hindi"),AR20,IF(AND($G$3="English"),AX20,IF(AND($G$3="Maths"),BD20,IF(AND($G$3="Sanskrit"),BJ20,IF(AND($G$3="Science"),BP20,IF(AND($G$3="Social Science"),BV20,"")))))))) | G20: =IF(AND(B20=""),"",IF(AND($G$3=""),"",IF(AND($G$3="Hindi"),AS20,IF(AND($G$3="English"),AY20,IF(AND($G$3="Maths"),BE20,IF(AND($G$3="Sanskrit"),BK20,IF(AND($G$3="Science"),BQ20,IF(AND($G$3="Social Science"),BW20,"")))))))) | H20: =IF(AND(B20=""),"",IF(AND($G$3=""),"",IF(AND($G$3="Hindi"),AT20,IF(AND($G$3="English"),AZ20,IF(AND($G$3="Maths"),BF20,IF(AND($G$3="Sanskrit"),BL20,IF(AND($G$3="Science"),BR20,IF(AND($G$3="Social Science"),BX20,"")))))))) | I20: =IF(AND(B20=""),"",IF(AND($G$3=""),"",IF(AND($G$3="Hindi"),AU20,IF(AND($G$3="English"),BA20,IF(AND($G$3="Maths"),BG20,IF(AND($G$3="Sanskrit"),BM20,IF(AND($G$3="Science"),BS20,IF(AND($G$3="Social Science"),BY20,"")))))))) | J20: =IF(AND(C20=""),"",IF(ISNA(VLOOKUP(A20,'Master Sheet'!A$11:CA$294,11,FALSE)),"",VLOOKUP(A20,'Master Sheet'!A$11:CA$294,11,FALSE))) | K20: =IF(AND(G$3=""),"",IF(AND(B20=""),"",IF(AND(J20="NON ELIGIBLE"),I20,(I20+J20)))) | AP20: ='Master Sheet'!L24 -> 10 | AQ20: ='Master Sheet'!M24 -> 10 | AR20: ='Master Sheet'!N24 -> 10 | AS20: ='Master Sheet'!O24 -> 65 | AT20: ='Master Sheet'!P24 | AU20: ='Master Sheet'!Q24 | AV20: ='Master Sheet'!S24 -> 5 | AW20: ='Master Sheet'!T24 -> 5 | AX20: ='Master Sheet'!U24 -> 5 | AY20: ='Master Sheet'!V24 -> 56 | AZ20: ='Master Sheet'!W24 | BA20: ='Master Sheet'!X24 | BB20: ='Master Sheet'!Z24 -> 5 | BC20: ='Master Sheet'!AA24 -> 5 | BD20: ='Master Sheet'!AB24 -> 5 | BE20: ='Master Sheet'!AC24 -> 56 | BF20: ='Master Sheet'!AD24 | BG20: ='Master Sheet'!AE24 | BH20: ='Master Sheet'!AG24 -> 5 | BI20: ='Master Sheet'!AH24 -> 5 | BJ20: ='Master Sheet'!AI24 -> 5 | BK20: ='Master Sheet'!AJ24 -> 56 | BL20: ='Master Sheet'!AK24 | BM20: ='Master Sheet'!AL24 | BN20: ='Master Sheet'!AN24 -> 5 | BO20: ='Master Sheet'!AO24 -> 5 | BP20: ='Master Sheet'!AP24 -> 5 | BQ20: ='Master Sheet'!AQ24 -> 56 | BR20: ='Master Sheet'!AR24 | BS20: ='Master Sheet'!AS24 | BT20: ='Master Sheet'!AU24 -> 5 | BU20: ='Master Sheet'!AV24 -> 5 | BV20: ='Master Sheet'!AW24 -> 5 | BW20: ='Master Sheet'!AX24 -> 56 | BX20: ='Master Sheet'!AY24 | BY20: ='Master Sheet'!AZ24
A21: 15 | B21: =IF(AND(C21=""),"",IF(ISNA(VLOOKUP(A21,'Master Sheet'!A$11:CA$294,4,FALSE)),"",VLOOKUP(A21,'Master Sheet'!A$11:CA$294,4,FALSE))) | C21: =IF(AND(G$3=""),"",IF(AND('Master Sheet'!E25=""),"",'Master Sheet'!E25)) | D21: =IF(AND(B21=""),"",IF(AND($G$3=""),"",IF(AND($G$3="Hindi"),AP21,IF(AND($G$3="English"),AV21,IF(AND($G$3="Maths"),BB21,IF(AND($G$3="Sanskrit"),BH21,IF(AND($G$3="Science"),BN21,IF(AND($G$3="Social Science"),BT21,"")))))))) | E21: =IF(AND(B21=""),"",IF(AND($G$3=""),"",IF(AND($G$3="Hindi"),AQ21,IF(AND($G$3="English"),AW21,IF(AND($G$3="Maths"),BC21,IF(AND($G$3="Sanskrit"),BI21,IF(AND($G$3="Science"),BO21,IF(AND($G$3="Social Science"),BU21,"")))))))) | F21: =IF(AND(B21=""),"",IF(AND($G$3=""),"",IF(AND($G$3="Hindi"),AR21,IF(AND($G$3="English"),AX21,IF(AND($G$3="Maths"),BD21,IF(AND($G$3="Sanskrit"),BJ21,IF(AND($G$3="Science"),BP21,IF(AND($G$3="Social Science"),BV21,"")))))))) | G21: =IF(AND(B21=""),"",IF(AND($G$3=""),"",IF(AND($G$3="Hindi"),AS21,IF(AND($G$3="English"),AY21,IF(AND($G$3="Maths"),BE21,IF(AND($G$3="Sanskrit"),BK21,IF(AND($G$3="Science"),BQ21,IF(AND($G$3="Social Science"),BW21,"")))))))) | H21: =IF(AND(B21=""),"",IF(AND($G$3=""),"",IF(AND($G$3="Hindi"),AT21,IF(AND($G$3="English"),AZ21,IF(AND($G$3="Maths"),BF21,IF(AND($G$3="Sanskrit"),BL21,IF(AND($G$3="Science"),BR21,IF(AND($G$3="Social Science"),BX21,"")))))))) | I21: =IF(AND(B21=""),"",IF(AND($G$3=""),"",IF(AND($G$3="Hindi"),AU21,IF(AND($G$3="English"),BA21,IF(AND($G$3="Maths"),BG21,IF(AND($G$3="Sanskrit"),BM21,IF(AND($G$3="Science"),BS21,IF(AND($G$3="Social Science"),BY21,"")))))))) | J21: =IF(AND(C21=""),"",IF(ISNA(VLOOKUP(A21,'Master Sheet'!A$11:CA$294,11,FALSE)),"",VLOOKUP(A21,'Master Sheet'!A$11:CA$294,11,FALSE))) | K21: =IF(AND(G$3=""),"",IF(AND(B21=""),"",IF(AND(J21="NON ELIGIBLE"),I21,(I21+J21)))) | AP21: ='Master Sheet'!L25 -> 5 | AQ21: ='Master Sheet'!M25 -> 5 | AR21: ='Master Sheet'!N25 -> 5 | AS21: ='Master Sheet'!O25 -> 56 | AT21: ='Master Sheet'!P25 | AU21: ='Master Sheet'!Q25 | AV21: ='Master Sheet'!S25 -> 5 | AW21: ='Master Sheet'!T25 -> 5 | AX21: ='Master Sheet'!U25 -> 5 | AY21: ='Master Sheet'!V25 -> 56 | AZ21: ='Master Sheet'!W25 | BA21: ='Master Sheet'!X25 | BB21: ='Master Sheet'!Z25 -> 5 | BC21: ='Master Sheet'!AA25 -> 5 | BD21: ='Master Sheet'!AB25 -> 5 | BE21: ='Master Sheet'!AC25 -> 56 | BF21: ='Master Sheet'!AD25 | BG21: ='Master Sheet'!AE25 | BH21: ='Master Sheet'!AG25 -> 5 | BI21: ='Master Sheet'!AH25 -> 5 | BJ21: ='Master Sheet'!AI25 -> 5 | BK21: ='Master Sheet'!AJ25 -> 56 | BL21: ='Master Sheet'!AK25 | BM21: ='Master Sheet'!AL25 | BN21: ='Master Sheet'!AN25 -> 5 | BO21: ='Master Sheet'!AO25 -> 5 | BP21: ='Master Sheet'!AP25 -> 5 | BQ21: ='Master Sheet'!AQ25 -> 56 | BR21: ='Master Sheet'!AR25 | BS21: ='Master Sheet'!AS25 | BT21: ='Master Sheet'!AU25 -> 5 | BU21: ='Master Sheet'!AV25 -> 5 | BV21: ='Master Sheet'!AW25 -> 5 | BW21: ='Master Sheet'!AX25 -> 56 | BX21: ='Master Sheet'!AY25 | BY21: ='Master Sheet'!AZ25
A22: 16 | B22: =IF(AND(C22=""),"",IF(ISNA(VLOOKUP(A22,'Master Sheet'!A$11:CA$294,4,FALSE)),"",VLOOKUP(A22,'Master Sheet'!A$11:CA$294,4,FALSE))) | C22: =IF(AND(G$3=""),"",IF(AND('Master Sheet'!E26=""),"",'Master Sheet'!E26)) | D22: =IF(AND(B22=""),"",IF(AND($G$3=""),"",IF(AND($G$3="Hindi"),AP22,IF(AND($G$3="English"),AV22,IF(AND($G$3="Maths"),BB22,IF(AND($G$3="Sanskrit"),BH22,IF(AND($G$3="Science"),BN22,IF(AND($G$3="Social Science"),BT22,"")))))))) | E22: =IF(AND(B22=""),"",IF(AND($G$3=""),"",IF(AND($G$3="Hindi"),AQ22,IF(AND($G$3="English"),AW22,IF(AND($G$3="Maths"),BC22,IF(AND($G$3="Sanskrit"),BI22,IF(AND($G$3="Science"),BO22,IF(AND($G$3="Social Science"),BU22,"")))))))) | F22: =IF(AND(B22=""),"",IF(AND($G$3=""),"",IF(AND($G$3="Hindi"),AR22,IF(AND($G$3="English"),AX22,IF(AND($G$3="Maths"),BD22,IF(AND($G$3="Sanskrit"),BJ22,IF(AND($G$3="Science"),BP22,IF(AND($G$3="Social Science"),BV22,"")))))))) | G22: =IF(AND(B22=""),"",IF(AND($G$3=""),"",IF(AND($G$3="Hindi"),AS22,IF(AND($G$3="English"),AY22,IF(AND($G$3="Maths"),BE22,IF(AND($G$3="Sanskrit"),BK22,IF(AND($G$3="Science"),BQ22,IF(AND($G$3="Social Science"),BW22,"")))))))) | H22: =IF(AND(B22=""),"",IF(AND($G$3=""),"",IF(AND($G$3="Hindi"),AT22,IF(AND($G$3="English"),AZ22,IF(AND($G$3="Maths"),BF22,IF(AND($G$3="Sanskrit"),BL22,IF(AND($G$3="Science"),BR22,IF(AND($G$3="Social Science"),BX22,"")))))))) | I22: =IF(AND(B22=""),"",IF(AND($G$3=""),"",IF(AND($G$3="Hindi"),AU22,IF(AND($G$3="English"),BA22,IF(AND($G$3="Maths"),BG22,IF(AND($G$3="Sanskrit"),BM22,IF(AND($G$3="Science"),BS22,IF(AND($G$3="Social Science"),BY22,"")))))))) | J22: =IF(AND(C22=""),"",IF(ISNA(VLOOKUP(A22,'Master Sheet'!A$11:CA$294,11,FALSE)),"",VLOOKUP(A22,'Master Sheet'!A$11:CA$294,11,FALSE))) | K22: =IF(AND(G$3=""),"",IF(AND(B22=""),"",IF(AND(J22="NON ELIGIBLE"),I22,(I22+J22)))) | AP22: ='Master Sheet'!L26 -> 5 | AQ22: ='Master Sheet'!M26 -> 5 | AR22: ='Master Sheet'!N26 -> 5 | AS22: ='Master Sheet'!O26 -> 56 | AT22: ='Master Sheet'!P26 | AU22: ='Master Sheet'!Q26 | AV22: ='Master Sheet'!S26 -> 5 | AW22: ='Master Sheet'!T26 -> 5 | AX22: ='Master Sheet'!U26 -> 5 | AY22: ='Master Sheet'!V26 -> 56 | AZ22: ='Master Sheet'!W26 | BA22: ='Master Sheet'!X26 | BB22: ='Master Sheet'!Z26 -> 5 | BC22: ='Master Sheet'!AA26 -> 5 | BD22: ='Master Sheet'!AB26 -> 5 | BE22: ='Master Sheet'!AC26 -> 56 | BF22: ='Master Sheet'!AD26 | BG22: ='Master Sheet'!AE26 | BH22: ='Master Sheet'!AG26 -> 5 | BI22: ='Master Sheet'!AH26 -> 5 | BJ22: ='Master Sheet'!AI26 -> 5 | BK22: ='Master Sheet'!AJ26 -> 56 | BL22: ='Master Sheet'!AK26 | BM22: ='Master Sheet'!AL26 | BN22: ='Master Sheet'!AN26 -> 5 | BO22: ='Master Sheet'!AO26 -> 5 | BP22: ='Master Sheet'!AP26 -> 5 | BQ22: ='Master Sheet'!AQ26 -> 56 | BR22: ='Master Sheet'!AR26 | BS22: ='Master Sheet'!AS26 | BT22: ='Master Sheet'!AU26 -> 5 | BU22: ='Master Sheet'!AV26 -> 5 | BV22: ='Master Sheet'!AW26 -> 5 | BW22: ='Master Sheet'!AX26 -> 56 | BX22: ='Master Sheet'!AY26 | BY22: ='Master Sheet'!AZ26
A23: 17 | B23: =IF(AND(C23=""),"",IF(ISNA(VLOOKUP(A23,'Master Sheet'!A$11:CA$294,4,FALSE)),"",VLOOKUP(A23,'Master Sheet'!A$11:CA$294,4,FALSE))) | C23: =IF(AND(G$3=""),"",IF(AND('Master Sheet'!E27=""),"",'Master Sheet'!E27)) | D23: =IF(AND(B23=""),"",IF(AND($G$3=""),"",IF(AND($G$3="Hindi"),AP23,IF(AND($G$3="English"),AV23,IF(AND($G$3="Maths"),BB23,IF(AND($G$3="Sanskrit"),BH23,IF(AND($G$3="Science"),BN23,IF(AND($G$3="Social Science"),BT23,"")))))))) | E23: =IF(AND(B23=""),"",IF(AND($G$3=""),"",IF(AND($G$3="Hindi"),AQ23,IF(AND($G$3="English"),AW23,IF(AND($G$3="Maths"),BC23,IF(AND($G$3="Sanskrit"),BI23,IF(AND($G$3="Science"),BO23,IF(AND($G$3="Social Science"),BU23,"")))))))) | F23: =IF(AND(B23=""),"",IF(AND($G$3=""),"",IF(AND($G$3="Hindi"),AR23,IF(AND($G$3="English"),AX23,IF(AND($G$3="Maths"),BD23,IF(AND($G$3="Sanskrit"),BJ23,IF(AND($G$3="Science"),BP23,IF(AND($G$3="Social Science"),BV23,"")))))))) | G23: =IF(AND(B23=""),"",IF(AND($G$3=""),"",IF(AND($G$3="Hindi"),AS23,IF(AND($G$3="English"),AY23,IF(AND($G$3="Maths"),BE23,IF(AND($G$3="Sanskrit"),BK23,IF(AND($G$3="Science"),BQ23,IF(AND($G$3="Social Science"),BW23,"")))))))) | H23: =IF(AND(B23=""),"",IF(AND($G$3=""),"",IF(AND($G$3="Hindi"),AT23,IF(AND($G$3="English"),AZ23,IF(AND($G$3="Maths"),BF23,IF(AND($G$3="Sanskrit"),BL23,IF(AND($G$3="Science"),BR23,IF(AND($G$3="Social Science"),BX23,"")))))))) | I23: =IF(AND(B23=""),"",IF(AND($G$3=""),"",IF(AND($G$3="Hindi"),AU23,IF(AND($G$3="English"),BA23,IF(AND($G$3="Maths"),BG23,IF(AND($G$3="Sanskrit"),BM23,IF(AND($G$3="Science"),BS23,IF(AND($G$3="Social Science"),BY23,"")))))))) | J23: =IF(AND(C23=""),"",IF(ISNA(VLOOKUP(A23,'Master Sheet'!A$11:CA$294,11,FALSE)),"",VLOOKUP(A23,'Master Sheet'!A$11:CA$294,11,FALSE))) | K23: =IF(AND(G$3=""),"",IF(AND(B23=""),"",IF(AND(J23="NON ELIGIBLE"),I23,(I23+J23)))) | AP23: ='Master Sheet'!L27 -> 5 | AQ23: ='Master Sheet'!M27 -> 5 | AR23: ='Master Sheet'!N27 -> 5 | AS23: ='Master Sheet'!O27 -> 57 | AT23: ='Master Sheet'!P27 | AU23: ='Master Sheet'!Q27 | AV23: ='Master Sheet'!S27 -> 5 | AW23: ='Master Sheet'!T27 -> 5 | AX23: ='Master Sheet'!U27 -> 5 | AY23: ='Master Sheet'!V27 -> 56 | AZ23: ='Master Sheet'!W27 | BA23: ='Master Sheet'!X27 | BB23: ='Master Sheet'!Z27 -> 5 | BC23: ='Master Sheet'!AA27 -> 5 | BD23: ='Master Sheet'!AB27 -> 5 | BE23: ='Master Sheet'!AC27 -> 56 | BF23: ='Master Sheet'!AD27 | BG23: ='Master Sheet'!AE27 | BH23: ='Master Sheet'!AG27 -> 5 | BI23: ='Master Sheet'!AH27 -> 5 | BJ23: ='Master Sheet'!AI27 -> 5 | BK23: ='Master Sheet'!AJ27 -> 56 | BL23: ='Master Sheet'!AK27 | BM23: ='Master Sheet'!AL27 | BN23: ='Master Sheet'!AN27 -> 5 | BO23: ='Master Sheet'!AO27 -> 5 | BP23: ='Master Sheet'!AP27 -> 5 | BQ23: ='Master Sheet'!AQ27 -> 56 | BR23: ='Master Sheet'!AR27 | BS23: ='Master Sheet'!AS27 | BT23: ='Master Sheet'!AU27 -> 5 | BU23: ='Master Sheet'!AV27 -> 5 | BV23: ='Master Sheet'!AW27 -> 5 | BW23: ='Master Sheet'!AX27 -> 56 | BX23: ='Master Sheet'!AY27 | BY23: ='Master Sheet'!AZ27
A24: 18 | B24: =IF(AND(C24=""),"",IF(ISNA(VLOOKUP(A24,'Master Sheet'!A$11:CA$294,4,FALSE)),"",VLOOKUP(A24,'Master Sheet'!A$11:CA$294,4,FALSE))) | C24: =IF(AND(G$3=""),"",IF(AND('Master Sheet'!E28=""),"",'Master Sheet'!E28)) | D24: =IF(AND(B24=""),"",IF(AND($G$3=""),"",IF(AND($G$3="Hindi"),AP24,IF(AND($G$3="English"),AV24,IF(AND($G$3="Maths"),BB24,IF(AND($G$3="Sanskrit"),BH24,IF(AND($G$3="Science"),BN24,IF(AND($G$3="Social Science"),BT24,"")))))))) | E24: =IF(AND(B24=""),"",IF(AND($G$3=""),"",IF(AND($G$3="Hindi"),AQ24,IF(AND($G$3="English"),AW24,IF(AND($G$3="Maths"),BC24,IF(AND($G$3="Sanskrit"),BI24,IF(AND($G$3="Science"),BO24,IF(AND($G$3="Social Science"),BU24,"")))))))) | F24: =IF(AND(B24=""),"",IF(AND($G$3=""),"",IF(AND($G$3="Hindi"),AR24,IF(AND($G$3="English"),AX24,IF(AND($G$3="Maths"),BD24,IF(AND($G$3="Sanskrit"),BJ24,IF(AND($G$3="Science"),BP24,IF(AND($G$3="Social Science"),BV24,"")))))))) | G24: =IF(AND(B24=""),"",IF(AND($G$3=""),"",IF(AND($G$3="Hindi"),AS24,IF(AND($G$3="English"),AY24,IF(AND($G$3="Maths"),BE24,IF(AND($G$3="Sanskrit"),BK24,IF(AND($G$3="Science"),BQ24,IF(AND($G$3="Social Science"),BW24,"")))))))) | H24: =IF(AND(B24=""),"",IF(AND($G$3=""),"",IF(AND($G$3="Hindi"),AT24,IF(AND($G$3="English"),AZ24,IF(AND($G$3="Maths"),BF24,IF(AND($G$3="Sanskrit"),BL24,IF(AND($G$3="Science"),BR24,IF(AND($G$3="Social Science"),BX24,"")))))))) | I24: =IF(AND(B24=""),"",IF(AND($G$3=""),"",IF(AND($G$3="Hindi"),AU24,IF(AND($G$3="English"),BA24,IF(AND($G$3="Maths"),BG24,IF(AND($G$3="Sanskrit"),BM24,IF(AND($G$3="Science"),BS24,IF(AND($G$3="Social Science"),BY24,"")))))))) | J24: =IF(AND(C24=""),"",IF(ISNA(VLOOKUP(A24,'Master Sheet'!A$11:CA$294,11,FALSE)),"",VLOOKUP(A24,'Master Sheet'!A$11:CA$294,11,FALSE))) | K24: =IF(AND(G$3=""),"",IF(AND(B24=""),"",IF(AND(J24="NON ELIGIBLE"),I24,(I24+J24)))) | AP24: ='Master Sheet'!L28 -> 5 | AQ24: ='Master Sheet'!M28 -> 5 | AR24: ='Master Sheet'!N28 -> 5 | AS24: ='Master Sheet'!O28 -> 58 | AT24: ='Master Sheet'!P28 | AU24: ='Master Sheet'!Q28 | AV24: ='Master Sheet'!S28 -> 5 | AW24: ='Master Sheet'!T28 -> 5 | AX24: ='Master Sheet'!U28 -> 5 | AY24: ='Master Sheet'!V28 -> 56 | AZ24: ='Master Sheet'!W28 | BA24: ='Master Sheet'!X28 | BB24: ='Master Sheet'!Z28 -> 5 | BC24: ='Master Sheet'!AA28 -> 5 | BD24: ='Master Sheet'!AB28 -> 5 | BE24: ='Master Sheet'!AC28 -> 56 | BF24: ='Master Sheet'!AD28 | BG24: ='Master Sheet'!AE28 | BH24: ='Master Sheet'!AG28 -> 5 | BI24: ='Master Sheet'!AH28 -> 5 | BJ24: ='Master Sheet'!AI28 -> 5 | BK24: ='Master Sheet'!AJ28 -> 56 | BL24: ='Master Sheet'!AK28 | BM24: ='Master Sheet'!AL28 | BN24: ='Master Sheet'!AN28 -> 5 | BO24: ='Master Sheet'!AO28 -> 5 | BP24: ='Master Sheet'!AP28 -> 5 | BQ24: ='Master Sheet'!AQ28 -> 56 | BR24: ='Master Sheet'!AR28 | BS24: ='Master Sheet'!AS28 | BT24: ='Master Sheet'!AU28 -> 5 | BU24: ='Master Sheet'!AV28 -> 5 | BV24: ='Master Sheet'!AW28 -> 5 | BW24: ='Master Sheet'!AX28 -> 56 | BX24: ='Master Sheet'!AY28 | BY24: ='Master Sheet'!AZ28
A25: 19 | B25: =IF(AND(C25=""),"",IF(ISNA(VLOOKUP(A25,'Master Sheet'!A$11:CA$294,4,FALSE)),"",VLOOKUP(A25,'Master Sheet'!A$11:CA$294,4,FALSE))) | C25: =IF(AND(G$3=""),"",IF(AND('Master Sheet'!E29=""),"",'Master Sheet'!E29)) | D25: =IF(AND(B25=""),"",IF(AND($G$3=""),"",IF(AND($G$3="Hindi"),AP25,IF(AND($G$3="English"),AV25,IF(AND($G$3="Maths"),BB25,IF(AND($G$3="Sanskrit"),BH25,IF(AND($G$3="Science"),BN25,IF(AND($G$3="Social Science"),BT25,"")))))))) | E25: =IF(AND(B25=""),"",IF(AND($G$3=""),"",IF(AND($G$3="Hindi"),AQ25,IF(AND($G$3="English"),AW25,IF(AND($G$3="Maths"),BC25,IF(AND($G$3="Sanskrit"),BI25,IF(AND($G$3="Science"),BO25,IF(AND($G$3="Social Science"),BU25,"")))))))) | F25: =IF(AND(B25=""),"",IF(AND($G$3=""),"",IF(AND($G$3="Hindi"),AR25,IF(AND($G$3="English"),AX25,IF(AND($G$3="Maths"),BD25,IF(AND($G$3="Sanskrit"),BJ25,IF(AND($G$3="Science"),BP25,IF(AND($G$3="Social Science"),BV25,"")))))))) | G25: =IF(AND(B25=""),"",IF(AND($G$3=""),"",IF(AND($G$3="Hindi"),AS25,IF(AND($G$3="English"),AY25,IF(AND($G$3="Maths"),BE25,IF(AND($G$3="Sanskrit"),BK25,IF(AND($G$3="Science"),BQ25,IF(AND($G$3="Social Science"),BW25,"")))))))) | H25: =IF(AND(B25=""),"",IF(AND($G$3=""),"",IF(AND($G$3="Hindi"),AT25,IF(AND($G$3="English"),AZ25,IF(AND($G$3="Maths"),BF25,IF(AND($G$3="Sanskrit"),BL25,IF(AND($G$3="Science"),BR25,IF(AND($G$3="Social Science"),BX25,"")))))))) | I25: =IF(AND(B25=""),"",IF(AND($G$3=""),"",IF(AND($G$3="Hindi"),AU25,IF(AND($G$3="English"),BA25,IF(AND($G$3="Maths"),BG25,IF(AND($G$3="Sanskrit"),BM25,IF(AND($G$3="Science"),BS25,IF(AND($G$3="Social Science"),BY25,"")))))))) | J25: =IF(AND(C25=""),"",IF(ISNA(VLOOKUP(A25,'Master Sheet'!A$11:CA$294,11,FALSE)),"",VLOOKUP(A25,'Master Sheet'!A$11:CA$294,11,FALSE))) | K25: =IF(AND(G$3=""),"",IF(AND(B25=""),"",IF(AND(J25="NON ELIGIBLE"),I25,(I25+J25)))) | AP25: ='Master Sheet'!L29 -> 5 | AQ25: ='Master Sheet'!M29 -> 5 | AR25: ='Master Sheet'!N29 -> 5 | AS25: ='Master Sheet'!O29 -> 59 | AT25: ='Master Sheet'!P29 | AU25: ='Master Sheet'!Q29 | AV25: ='Master Sheet'!S29 -> 5 | AW25: ='Master Sheet'!T29 -> 5 | AX25: ='Master Sheet'!U29 -> 5 | AY25: ='Master Sheet'!V29 -> 56 | AZ25: ='Master Sheet'!W29 | BA25: ='Master Sheet'!X29 | BB25: ='Master Sheet'!Z29 -> 5 | BC25: ='Master Sheet'!AA29 -> 5 | BD25: ='Master Sheet'!AB29 -> 5 | BE25: ='Master Sheet'!AC29 -> 56 | BF25: ='Master Sheet'!AD29 | BG25: ='Master Sheet'!AE29 | BH25: ='Master Sheet'!AG29 -> 10 | BI25: ='Master Sheet'!AH29 -> 10 | BJ25: ='Master Sheet'!AI29 -> 10 | BK25: ='Master Sheet'!AJ29 -> 56 | BL25: ='Master Sheet'!AK29 | BM25: ='Master Sheet'!AL29 | BN25: ='Master Sheet'!AN29 -> 5 | BO25: ='Master Sheet'!AO29 -> 5 | BP25: ='Master Sheet'!AP29 -> 5 | BQ25: ='Master Sheet'!AQ29 -> 56 | BR25: ='Master Sheet'!AR29 | BS25: ='Master Sheet'!AS29 | BT25: ='Master Sheet'!AU29 -> 5 | BU25: ='Master Sheet'!AV29 -> 5 | BV25: ='Master Sheet'!AW29 -> 5 | BW25: ='Master Sheet'!AX29 -> 56 | BX25: ='Master Sheet'!AY29 | BY25: ='Master Sheet'!AZ29
... A46: 40 | B46: =IF(AND(C46=""),"",IF(ISNA(VLOOKUP(A46,'Master Sheet'!A$11:CA$294,4,FALSE)),"",VLOOKUP(A46,'Master Sheet'!A$11:CA$294,4,FALSE))) | C46: =IF(AND(G$3=""),"",IF(AND('Master Sheet'!E50=""),"",'Master Sheet'!E50)) | D46: =IF(AND(B46=""),"",IF(AND($G$3=""),"",IF(AND($G$3="Hindi"),AP46,IF(AND($G$3="English"),AV46,IF(AND($G$3="Maths"),BB46,IF(AND($G$3="Sanskrit"),BH46,IF(AND($G$3="Science"),BN46,IF(AND($G$3="Social Science"),BT46,"")))))))) | E46: =IF(AND(B46=""),"",IF(AND($G$3=""),"",IF(AND($G$3="Hindi"),AQ46,IF(AND($G$3="English"),AW46,IF(AND($G$3="Maths"),BC46,IF(AND($G$3="Sanskrit"),BI46,IF(AND($G$3="Science"),BO46,IF(AND($G$3="Social Science"),BU46,"")))))))) | F46: =IF(AND(B46=""),"",IF(AND($G$3=""),"",IF(AND($G$3="Hindi"),AR46,IF(AND($G$3="English"),AX46,IF(AND($G$3="Maths"),BD46,IF(AND($G$3="Sanskrit"),BJ46,IF(AND($G$3="Science"),BP46,IF(AND($G$3="Social Science"),BV46,"")))))))) | G46: =IF(AND(B46=""),"",IF(AND($G$3=""),"",IF(AND($G$3="Hindi"),AS46,IF(AND($G$3="English"),AY46,IF(AND($G$3="Maths"),BE46,IF(AND($G$3="Sanskrit"),BK46,IF(AND($G$3="Science"),BQ46,IF(AND($G$3="Social Science"),BW46,"")))))))) | H46: =IF(AND(B46=""),"",IF(AND($G$3=""),"",IF(AND($G$3="Hindi"),AT46,IF(AND($G$3="English"),AZ46,IF(AND($G$3="Maths"),BF46,IF(AND($G$3="Sanskrit"),BL46,IF(AND($G$3="Science"),BR46,IF(AND($G$3="Social Science"),BX46,"")))))))) | I46: =IF(AND(B46=""),"",IF(AND($G$3=""),"",IF(AND($G$3="Hindi"),AU46,IF(AND($G$3="English"),BA46,IF(AND($G$3="Maths"),BG46,IF(AND($G$3="Sanskrit"),BM46,IF(AND($G$3="Science"),BS46,IF(AND($G$3="Social Science"),BY46,"")))))))) | J46: =IF(AND(C46=""),"",IF(ISNA(VLOOKUP(A46,'Master Sheet'!A$11:CA$294,11,FALSE)),"",VLOOKUP(A46,'Master Sheet'!A$11:CA$294,11,FALSE))) | K46: =IF(AND(G$3=""),"",IF(AND(B46=""),"",IF(AND(J46="NON ELIGIBLE"),I46,(I46+J46)))) | AP46: ='Master Sheet'!L50 -> 0 | AQ46: ='Master Sheet'!M50 -> 0 | AR46: ='Master Sheet'!N50 -> 0 | AS46: ='Master Sheet'!O50 -> 0 | AT46: ='Master Sheet'!P50 | AU46: ='Master Sheet'!Q50 | AV46: ='Master Sheet'!S50 -> 0 | AW46: ='Master Sheet'!T50 -> 0 | AX46: ='Master Sheet'!U50 -> 0 | AY46: ='Master Sheet'!V50 -> 0 | AZ46: ='Master Sheet'!W50 | BA46: ='Master Sheet'!X50 | BB46: ='Master Sheet'!Z50 -> 0 | BC46: ='Master Sheet'!AA50 -> 0 | BD46: ='Master Sheet'!AB50 -> 0 | BE46: ='Master Sheet'!AC50 -> 0 | BF46: ='Master Sheet'!AD50 | BG46: ='Master Sheet'!AE50 | BH46: ='Master Sheet'!AG50 -> 0 | BI46: ='Master Sheet'!AH50 -> 0 | BJ46: ='Master Sheet'!AI50 -> 0 | BK46: ='Master Sheet'!AJ50 -> 0 | BL46: ='Master Sheet'!AK50 | BM46: ='Master Sheet'!AL50 | BN46: ='Master Sheet'!AN50 -> 0 | BO46: ='Master Sheet'!AO50 -> 0 | BP46: ='Master Sheet'!AP50 -> 0 | BQ46: ='Master Sheet'!AQ50 -> 0 | BR46: ='Master Sheet'!AR50 | BS46: ='Master Sheet'!AS50 | BT46: ='Master Sheet'!AU50 -> 0 | BU46: ='Master Sheet'!AV50 -> 0 | BV46: ='Master Sheet'!AW50 -> 0 | BW46: ='Master Sheet'!AX50 -> 0 | BX46: ='Master Sheet'!AY50 | BY46: ='Master Sheet'!AZ50
B47: fo"k;k/;kid | G47: iz/kkuk/;kid | AP47: ='Master Sheet'!L51 -> 0 | AQ47: ='Master Sheet'!M51 -> 0 | AR47: ='Master Sheet'!N51 -> 0 | AS47: ='Master Sheet'!O51 -> 0 | AT47: ='Master Sheet'!P51 | AU47: ='Master Sheet'!Q51 | AV47: ='Master Sheet'!S51 -> 0 | AW47: ='Master Sheet'!T51 -> 0 | AX47: ='Master Sheet'!U51 -> 0 | AY47: ='Master Sheet'!V51 -> 0 | AZ47: ='Master Sheet'!W51 | BA47: ='Master Sheet'!X51 | BB47: ='Master Sheet'!Z51 -> 0 | BC47: ='Master Sheet'!AA51 -> 0 | BD47: ='Master Sheet'!AB51 -> 0 | BE47: ='Master Sheet'!AC51 -> 0 | BF47: ='Master Sheet'!AD51 | BG47: ='Master Sheet'!AE51 | BH47: ='Master Sheet'!AG51 -> 0 | BI47: ='Master Sheet'!AH51 -> 0 | BJ47: ='Master Sheet'!AI51 -> 0 | BK47: ='Master Sheet'!AJ51 -> 0 | BL47: ='Master Sheet'!AK51 | BM47: ='Master Sheet'!AL51 | BN47: ='Master Sheet'!AN51 -> 0 | BO47: ='Master Sheet'!AO51 -> 0 | BP47: ='Master Sheet'!AP51 -> 0 | BQ47: ='Master Sheet'!AQ51 -> 0 | BR47: ='Master Sheet'!AR51 | BS47: ='Master Sheet'!AS51 | BT47: ='Master Sheet'!AU51 -> 0 | BU47: ='Master Sheet'!AV51 -> 0 | BV47: ='Master Sheet'!AW51 -> 0 | BW47: ='Master Sheet'!AX51 -> 0 | BX47: ='Master Sheet'!AY51 | BY47: ='Master Sheet'!AZ51
A48: Ø-l- | B48: fo|kFkhZ dk uke | C48: cksMZ jksy uEcj | D48: izFke ewY;ka- | E48: f}rh; ewY;k- | F48: r`rh; ewY;k- | G48: v)Z okf"kZd | H48: loZ ;ksx | I48: l=kad | AP48: ='Master Sheet'!L52 -> 0 | AQ48: ='Master Sheet'!M52 -> 0 | AR48: ='Master Sheet'!N52 -> 0 | AS48: ='Master Sheet'!O52 -> 0 | AT48: ='Master Sheet'!P52 | AU48: ='Master Sheet'!Q52 | AV48: ='Master Sheet'!S52 -> 0 | AW48: ='Master Sheet'!T52 -> 0 | AX48: ='Master Sheet'!U52 -> 0 | AY48: ='Master Sheet'!V52 -> 0 | AZ48: ='Master Sheet'!W52 | BA48: ='Master Sheet'!X52 | BB48: ='Master Sheet'!Z52 -> 0 | BC48: ='Master Sheet'!AA52 -> 0 | BD48: ='Master Sheet'!AB52 -> 0 | BE48: ='Master Sheet'!AC52 -> 0 | BF48: ='Master Sheet'!AD52 | BG48: ='Master Sheet'!AE52 | BH48: ='Master Sheet'!AG52 -> 0 | BI48: ='Master Sheet'!AH52 -> 0 | BJ48: ='Master Sheet'!AI52 -> 0 | BK48: ='Master Sheet'!AJ52 -> 0 | BL48: ='Master Sheet'!AK52 | BM48: ='Master Sheet'!AL52 | BN48: ='Master Sheet'!AN52 -> 0 | BO48: ='Master Sheet'!AO52 -> 0 | BP48: ='Master Sheet'!AP52 -> 0 | BQ48: ='Master Sheet'!AQ52 -> 0 | BR48: ='Master Sheet'!AR52 | BS48: ='Master Sheet'!AS52 | BT48: ='Master Sheet'!AU52 -> 0 | BU48: ='Master Sheet'!AV52 -> 0 | BV48: ='Master Sheet'!AW52 -> 0 | BW48: ='Master Sheet'!AX52 -> 0 | BX48: ='Master Sheet'!AY52 | BY48: ='Master Sheet'!AZ52
D49: 10 | E49: 10 | F49: 70 | G49: 10 | H49: 100 | I49: 15 | J49: 5 | K49: 20 | AP49: ='Master Sheet'!L53 -> 0 | AQ49: ='Master Sheet'!M53 -> 0 | AR49: ='Master Sheet'!N53 -> 0 | AS49: ='Master Sheet'!O53 -> 0 | AT49: ='Master Sheet'!P53 | AU49: ='Master Sheet'!Q53 | AV49: ='Master Sheet'!S53 -> 0 | AW49: ='Master Sheet'!T53 -> 0 | AX49: ='Master Sheet'!U53 -> 0 | AY49: ='Master Sheet'!V53 -> 0 | AZ49: ='Master Sheet'!W53 | BA49: ='Master Sheet'!X53 | BB49: ='Master Sheet'!Z53 -> 0 | BC49: ='Master Sheet'!AA53 -> 0 | BD49: ='Master Sheet'!AB53 -> 0 | BE49: ='Master Sheet'!AC53 -> 0 | BF49: ='Master Sheet'!AD53 | BG49: ='Master Sheet'!AE53 | BH49: ='Master Sheet'!AG53 -> 0 | BI49: ='Master Sheet'!AH53 -> 0 | BJ49: ='Master Sheet'!AI53 -> 0 | BK49: ='Master Sheet'!AJ53 -> 0 | BL49: ='Master Sheet'!AK53 | BM49: ='Master Sheet'!AL53 | BN49: ='Master Sheet'!AN53 -> 0 | BO49: ='Master Sheet'!AO53 -> 0 | BP49: ='Master Sheet'!AP53 -> 0 | BQ49: ='Master Sheet'!AQ53 -> 0 | BR49: ='Master Sheet'!AR53 | BS49: ='Master Sheet'!AS53 | BT49: ='Master Sheet'!AU53 -> 0 | BU49: ='Master Sheet'!AV53 -> 0 | BV49: ='Master Sheet'!AW53 -> 0 | BW49: ='Master Sheet'!AX53 -> 0 | BX49: ='Master Sheet'!AY53 | BY49: ='Master Sheet'!AZ53
A50: 41 | B50: =IF(AND(C50=""),"",IF(ISNA(VLOOKUP(A50,'Master Sheet'!A$11:CA$294,4,FALSE)),"",VLOOKUP(A50,'Master Sheet'!A$11:CA$294,4,FALSE))) | C50: =IF(AND(G$3=""),"",IF(AND('Master Sheet'!E51=""),"",'Master Sheet'!E51)) | D50: =IF(AND(B50=""),"",IF(AND($G$3=""),"",IF(AND($G$3="Hindi"),AP47,IF(AND($G$3="English"),AV47,IF(AND($G$3="Maths"),BB47,IF(AND($G$3="Sanskrit"),BH47,IF(AND($G$3="Science"),BN47,IF(AND($G$3="Social Science"),BT47,"")))))))) | E50: =IF(AND(B50=""),"",IF(AND($G$3=""),"",IF(AND($G$3="Hindi"),AQ47,IF(AND($G$3="English"),AW47,IF(AND($G$3="Maths"),BC47,IF(AND($G$3="Sanskrit"),BI47,IF(AND($G$3="Science"),BO47,IF(AND($G$3="Social Science"),BU47,"")))))))) | F50: =IF(AND(B50=""),"",IF(AND($G$3=""),"",IF(AND($G$3="Hindi"),AR47,IF(AND($G$3="English"),AX47,IF(AND($G$3="Maths"),BD47,IF(AND($G$3="Sanskrit"),BJ47,IF(AND($G$3="Science"),BP47,IF(AND($G$3="Social Science"),BV47,"")))))))) | G50: =IF(AND(B50=""),"",IF(AND($G$3=""),"",IF(AND($G$3="Hindi"),AS47,IF(AND($G$3="English"),AY47,IF(AND($G$3="Maths"),BE47,IF(AND($G$3="Sanskrit"),BK47,IF(AND($G$3="Science"),BQ47,IF(AND($G$3="Social Science"),BW47,"")))))))) | H50: =IF(AND(B50=""),"",IF(AND($G$3=""),"",IF(AND($G$3="Hindi"),AT47,IF(AND($G$3="English"),AZ47,IF(AND($G$3="Maths"),BF47,IF(AND($G$3="Sanskrit"),BL47,IF(AND($G$3="Science"),BR47,IF(AND($G$3="Social Science"),BX47,"")))))))) | I50: =IF(AND(B50=""),"",IF(AND($G$3=""),"",IF(AND($G$3="Hindi"),AU47,IF(AND($G$3="English"),BA47,IF(AND($G$3="Maths"),BG47,IF(AND($G$3="Sanskrit"),BM47,IF(AND($G$3="Science"),BS47,IF(AND($G$3="Social Science"),BY47,"")))))))) | J50: =IF(AND(C50=""),"",IF(ISNA(VLOOKUP(A50,'Master Sheet'!A$11:CA$294,11,FALSE)),"",VLOOKUP(A50,'Master Sheet'!A$11:CA$294,11,FALSE))) | K50: =IF(AND(G$3=""),"",IF(AND(B50=""),"",IF(AND(J50="NON ELIGIBLE"),I50,(I50+J50)))) | AP50: ='Master Sheet'!L54 -> 0 | AQ50: ='Master Sheet'!M54 -> 0 | AR50: ='Master Sheet'!N54 -> 0 | AS50: ='Master Sheet'!O54 -> 0 | AT50: ='Master Sheet'!P54 | AU50: ='Master Sheet'!Q54 | AV50: ='Master Sheet'!S54 -> 0 | AW50: ='Master Sheet'!T54 -> 0 | AX50: ='Master Sheet'!U54 -> 0 | AY50: ='Master Sheet'!V54 -> 0 | AZ50: ='Master Sheet'!W54 | BA50: ='Master Sheet'!X54 | BB50: ='Master Sheet'!Z54 -> 0 | BC50: ='Master Sheet'!AA54 -> 0 | BD50: ='Master Sheet'!AB54 -> 0 | BE50: ='Master Sheet'!AC54 -> 0 | BF50: ='Master Sheet'!AD54 | BG50: ='Master Sheet'!AE54 | BH50: ='Master Sheet'!AG54 -> 0 | BI50: ='Master Sheet'!AH54 -> 0 | BJ50: ='Master Sheet'!AI54 -> 0 | BK50: ='Master Sheet'!AJ54 -> 0 | BL50: ='Master Sheet'!AK54 | BM50: ='Master Sheet'!AL54 | BN50: ='Master Sheet'!AN54 -> 0 | BO50: ='Master Sheet'!AO54 -> 0 | BP50: ='Master Sheet'!AP54 -> 0 | BQ50: ='Master Sheet'!AQ54 -> 0 | BR50: ='Master Sheet'!AR54 | BS50: ='Master Sheet'!AS54 | BT50: ='Master Sheet'!AU54 -> 0 | BU50: ='Master Sheet'!AV54 -> 0 | BV50: ='Master Sheet'!AW54 -> 0 | BW50: ='Master Sheet'!AX54 -> 0 | BX50: ='Master Sheet'!AY54 | BY50: ='Master Sheet'!AZ54
A51: 42 | B51: =IF(AND(C51=""),"",IF(ISNA(VLOOKUP(A51,'Master Sheet'!A$11:CA$294,4,FALSE)),"",VLOOKUP(A51,'Master Sheet'!A$11:CA$294,4,FALSE))) | C51: =IF(AND(G$3=""),"",IF(AND('Master Sheet'!E52=""),"",'Master Sheet'!E52)) | D51: =IF(AND(B51=""),"",IF(AND($G$3=""),"",IF(AND($G$3="Hindi"),AP48,IF(AND($G$3="English"),AV48,IF(AND($G$3="Maths"),BB48,IF(AND($G$3="Sanskrit"),BH48,IF(AND($G$3="Science"),BN48,IF(AND($G$3="Social Science"),BT48,"")))))))) | E51: =IF(AND(B51=""),"",IF(AND($G$3=""),"",IF(AND($G$3="Hindi"),AQ48,IF(AND($G$3="English"),AW48,IF(AND($G$3="Maths"),BC48,IF(AND($G$3="Sanskrit"),BI48,IF(AND($G$3="Science"),BO48,IF(AND($G$3="Social Science"),BU48,"")))))))) | F51: =IF(AND(B51=""),"",IF(AND($G$3=""),"",IF(AND($G$3="Hindi"),AR48,IF(AND($G$3="English"),AX48,IF(AND($G$3="Maths"),BD48,IF(AND($G$3="Sanskrit"),BJ48,IF(AND($G$3="Science"),BP48,IF(AND($G$3="Social Science"),BV48,"")))))))) | G51: =IF(AND(B51=""),"",IF(AND($G$3=""),"",IF(AND($G$3="Hindi"),AS48,IF(AND($G$3="English"),AY48,IF(AND($G$3="Maths"),BE48,IF(AND($G$3="Sanskrit"),BK48,IF(AND($G$3="Science"),BQ48,IF(AND($G$3="Social Science"),BW48,"")))))))) | H51: =IF(AND(B51=""),"",IF(AND($G$3=""),"",IF(AND($G$3="Hindi"),AT48,IF(AND($G$3="English"),AZ48,IF(AND($G$3="Maths"),BF48,IF(AND($G$3="Sanskrit"),BL48,IF(AND($G$3="Science"),BR48,IF(AND($G$3="Social Science"),BX48,"")))))))) | I51: =IF(AND(B51=""),"",IF(AND($G$3=""),"",IF(AND($G$3="Hindi"),AU48,IF(AND($G$3="English"),BA48,IF(AND($G$3="Maths"),BG48,IF(AND($G$3="Sanskrit"),BM48,IF(AND($G$3="Science"),BS48,IF(AND($G$3="Social Science"),BY48,"")))))))) | J51: =IF(AND(C51=""),"",IF(ISNA(VLOOKUP(A51,'Master Sheet'!A$11:CA$294,11,FALSE)),"",VLOOKUP(A51,'Master Sheet'!A$11:CA$294,11,FALSE))) | K51: =IF(AND(G$3=""),"",IF(AND(B51=""),"",IF(AND(J51="NON ELIGIBLE"),I51,(I51+J51)))) | AP51: ='Master Sheet'!L55 -> 0 | AQ51: ='Master Sheet'!M55 -> 0 | AR51: ='Master Sheet'!N55 -> 0 | AS51: ='Master Sheet'!O55 -> 0 | AT51: ='Master Sheet'!P55 | AU51: ='Master Sheet'!Q55 | AV51: ='Master Sheet'!S55 -> 0 | AW51: ='Master Sheet'!T55 -> 0 | AX51: ='Master Sheet'!U55 -> 0 | AY51: ='Master Sheet'!V55 -> 0 | AZ51: ='Master Sheet'!W55 | BA51: ='Master Sheet'!X55 | BB51: ='Master Sheet'!Z55 -> 0 | BC51: ='Master Sheet'!AA55 -> 0 | BD51: ='Master Sheet'!AB55 -> 0 | BE51: ='Master Sheet'!AC55 -> 0 | BF51: ='Master Sheet'!AD55 | BG51: ='Master Sheet'!AE55 | BH51: ='Master Sheet'!AG55 -> 0 | BI51: ='Master Sheet'!AH55 -> 0 | BJ51: ='Master Sheet'!AI55 -> 0 | BK51: ='Master Sheet'!AJ55 -> 0 | BL51: ='Master Sheet'!AK55 | BM51: ='Master Sheet'!AL55 | BN51: ='Master Sheet'!AN55 -> 0 | BO51: ='Master Sheet'!AO55 -> 0 | BP51: ='Master Sheet'!AP55 -> 0 | BQ51: ='Master Sheet'!AQ55 -> 0 | BR51: ='Master Sheet'!AR55 | BS51: ='Master Sheet'!AS55 | BT51: ='Master Sheet'!AU55 -> 0 | BU51: ='Master Sheet'!AV55 -> 0 | BV51: ='Master Sheet'!AW55 -> 0 | BW51: ='Master Sheet'!AX55 -> 0 | BX51: ='Master Sheet'!AY55 | BY51: ='Master Sheet'!AZ55
A52: 43 | B52: =IF(AND(C52=""),"",IF(ISNA(VLOOKUP(A52,'Master Sheet'!A$11:CA$294,4,FALSE)),"",VLOOKUP(A52,'Master Sheet'!A$11:CA$294,4,FALSE))) | C52: =IF(AND(G$3=""),"",IF(AND('Master Sheet'!E53=""),"",'Master Sheet'!E53)) | D52: =IF(AND(B52=""),"",IF(AND($G$3=""),"",IF(AND($G$3="Hindi"),AP49,IF(AND($G$3="English"),AV49,IF(AND($G$3="Maths"),BB49,IF(AND($G$3="Sanskrit"),BH49,IF(AND($G$3="Science"),BN49,IF(AND($G$3="Social Science"),BT49,"")))))))) | E52: =IF(AND(B52=""),"",IF(AND($G$3=""),"",IF(AND($G$3="Hindi"),AQ49,IF(AND($G$3="English"),AW49,IF(AND($G$3="Maths"),BC49,IF(AND($G$3="Sanskrit"),BI49,IF(AND($G$3="Science"),BO49,IF(AND($G$3="Social Science"),BU49,"")))))))) | F52: =IF(AND(B52=""),"",IF(AND($G$3=""),"",IF(AND($G$3="Hindi"),AR49,IF(AND($G$3="English"),AX49,IF(AND($G$3="Maths"),BD49,IF(AND($G$3="Sanskrit"),BJ49,IF(AND($G$3="Science"),BP49,IF(AND($G$3="Social Science"),BV49,"")))))))) | G52: =IF(AND(B52=""),"",IF(AND($G$3=""),"",IF(AND($G$3="Hindi"),AS49,IF(AND($G$3="English"),AY49,IF(AND($G$3="Maths"),BE49,IF(AND($G$3="Sanskrit"),BK49,IF(AND($G$3="Science"),BQ49,IF(AND($G$3="Social Science"),BW49,"")))))))) | H52: =IF(AND(B52=""),"",IF(AND($G$3=""),"",IF(AND($G$3="Hindi"),AT49,IF(AND($G$3="English"),AZ49,IF(AND($G$3="Maths"),BF49,IF(AND($G$3="Sanskrit"),BL49,IF(AND($G$3="Science"),BR49,IF(AND($G$3="Social Science"),BX49,"")))))))) | I52: =IF(AND(B52=""),"",IF(AND($G$3=""),"",IF(AND($G$3="Hindi"),AU49,IF(AND($G$3="English"),BA49,IF(AND($G$3="Maths"),BG49,IF(AND($G$3="Sanskrit"),BM49,IF(AND($G$3="Science"),BS49,IF(AND($G$3="Social Science"),BY49,"")))))))) | J52: =IF(AND(C52=""),"",IF(ISNA(VLOOKUP(A52,'Master Sheet'!A$11:CA$294,11,FALSE)),"",VLOOKUP(A52,'Master Sheet'!A$11:CA$294,11,FALSE))) | K52: =IF(AND(G$3=""),"",IF(AND(B52=""),"",IF(AND(J52="NON ELIGIBLE"),I52,(I52+J52)))) | AP52: ='Master Sheet'!L56 -> 0 | AQ52: ='Master Sheet'!M56 -> 0 | AR52: ='Master Sheet'!N56 -> 0 | AS52: ='Master Sheet'!O56 -> 0 | AT52: ='Master Sheet'!P56 | AU52: ='Master Sheet'!Q56 | AV52: ='Master Sheet'!S56 -> 0 | AW52: ='Master Sheet'!T56 -> 0 | AX52: ='Master Sheet'!U56 -> 0 | AY52: ='Master Sheet'!V56 -> 0 | AZ52: ='Master Sheet'!W56 | BA52: ='Master Sheet'!X56 | BB52: ='Master Sheet'!Z56 -> 0 | BC52: ='Master Sheet'!AA56 -> 0 | BD52: ='Master Sheet'!AB56 -> 0 | BE52: ='Master Sheet'!AC56 -> 0 | BF52: ='Master Sheet'!AD56 | BG52: ='Master Sheet'!AE56 | BH52: ='Master Sheet'!AG56 -> 0 | BI52: ='Master Sheet'!AH56 -> 0 | BJ52: ='Master Sheet'!AI56 -> 0 | BK52: ='Master Sheet'!AJ56 -> 0 | BL52: ='Master Sheet'!AK56 | BM52: ='Master Sheet'!AL56 | BN52: ='Master Sheet'!AN56 -> 0 | BO52: ='Master Sheet'!AO56 -> 0 | BP52: ='Master Sheet'!AP56 -> 0 | BQ52: ='Master Sheet'!AQ56 -> 0 | BR52: ='Master Sheet'!AR56 | BS52: ='Master Sheet'!AS56 | BT52: ='Master Sheet'!AU56 -> 0 | BU52: ='Master Sheet'!AV56 -> 0 | BV52: ='Master Sheet'!AW56 -> 0 | BW52: ='Master Sheet'!AX56 -> 0 | BX52: ='Master Sheet'!AY56 | BY52: ='Master Sheet'!AZ56
A53: 44 | B53: =IF(AND(C53=""),"",IF(ISNA(VLOOKUP(A53,'Master Sheet'!A$11:CA$294,4,FALSE)),"",VLOOKUP(A53,'Master Sheet'!A$11:CA$294,4,FALSE))) | C53: =IF(AND(G$3=""),"",IF(AND('Master Sheet'!E54=""),"",'Master Sheet'!E54)) | D53: =IF(AND(B53=""),"",IF(AND($G$3=""),"",IF(AND($G$3="Hindi"),AP50,IF(AND($G$3="English"),AV50,IF(AND($G$3="Maths"),BB50,IF(AND($G$3="Sanskrit"),BH50,IF(AND($G$3="Science"),BN50,IF(AND($G$3="Social Science"),BT50,"")))))))) | E53: =IF(AND(B53=""),"",IF(AND($G$3=""),"",IF(AND($G$3="Hindi"),AQ50,IF(AND($G$3="English"),AW50,IF(AND($G$3="Maths"),BC50,IF(AND($G$3="Sanskrit"),BI50,IF(AND($G$3="Science"),BO50,IF(AND($G$3="Social Science"),BU50,"")))))))) | F53: =IF(AND(B53=""),"",IF(AND($G$3=""),"",IF(AND($G$3="Hindi"),AR50,IF(AND($G$3="English"),AX50,IF(AND($G$3="Maths"),BD50,IF(AND($G$3="Sanskrit"),BJ50,IF(AND($G$3="Science"),BP50,IF(AND($G$3="Social Science"),BV50,"")))))))) | G53: =IF(AND(B53=""),"",IF(AND($G$3=""),"",IF(AND($G$3="Hindi"),AS50,IF(AND($G$3="English"),AY50,IF(AND($G$3="Maths"),BE50,IF(AND($G$3="Sanskrit"),BK50,IF(AND($G$3="Science"),BQ50,IF(AND($G$3="Social Science"),BW50,"")))))))) | H53: =IF(AND(B53=""),"",IF(AND($G$3=""),"",IF(AND($G$3="Hindi"),AT50,IF(AND($G$3="English"),AZ50,IF(AND($G$3="Maths"),BF50,IF(AND($G$3="Sanskrit"),BL50,IF(AND($G$3="Science"),BR50,IF(AND($G$3="Social Science"),BX50,"")))))))) | I53: =IF(AND(B53=""),"",IF(AND($G$3=""),"",IF(AND($G$3="Hindi"),AU50,IF(AND($G$3="English"),BA50,IF(AND($G$3="Maths"),BG50,IF(AND($G$3="Sanskrit"),BM50,IF(AND($G$3="Science"),BS50,IF(AND($G$3="Social Science"),BY50,"")))))))) | J53: =IF(AND(C53=""),"",IF(ISNA(VLOOKUP(A53,'Master Sheet'!A$11:CA$294,11,FALSE)),"",VLOOKUP(A53,'Master Sheet'!A$11:CA$294,11,FALSE))) | K53: =IF(AND(G$3=""),"",IF(AND(B53=""),"",IF(AND(J53="NON ELIGIBLE"),I53,(I53+J53)))) | AP53: ='Master Sheet'!L57 -> 0 | AQ53: ='Master Sheet'!M57 -> 0 | AR53: ='Master Sheet'!N57 -> 0 | AS53: ='Master Sheet'!O57 -> 0 | AT53: ='Master Sheet'!P57 | AU53: ='Master Sheet'!Q57 | AV53: ='Master Sheet'!S57 -> 0 | AW53: ='Master Sheet'!T57 -> 0 | AX53: ='Master Sheet'!U57 -> 0 | AY53: ='Master Sheet'!V57 -> 0 | AZ53: ='Master Sheet'!W57 | BA53: ='Master Sheet'!X57 | BB53: ='Master Sheet'!Z57 -> 0 | BC53: ='Master Sheet'!AA57 -> 0 | BD53: ='Master Sheet'!AB57 -> 0 | BE53: ='Master Sheet'!AC57 -> 0 | BF53: ='Master Sheet'!AD57 | BG53: ='Master Sheet'!AE57 | BH53: ='Master Sheet'!AG57 -> 0 | BI53: ='Master Sheet'!AH57 -> 0 | BJ53: ='Master Sheet'!AI57 -> 0 | BK53: ='Master Sheet'!AJ57 -> 0 | BL53: ='Master Sheet'!AK57 | BM53: ='Master Sheet'!AL57 | BN53: ='Master Sheet'!AN57 -> 0 | BO53: ='Master Sheet'!AO57 -> 0 | BP53: ='Master Sheet'!AP57 -> 0 | BQ53: ='Master Sheet'!AQ57 -> 0 | BR53: ='Master Sheet'!AR57 | BS53: ='Master Sheet'!AS57 | BT53: ='Master Sheet'!AU57 -> 0 | BU53: ='Master Sheet'!AV57 -> 0 | BV53: ='Master Sheet'!AW57 -> 0 | BW53: ='Master Sheet'!AX57 -> 0 | BX53: ='Master Sheet'!AY57 | BY53: ='Master Sheet'!AZ57
A54: 45 | B54: =IF(AND(C54=""),"",IF(ISNA(VLOOKUP(A54,'Master Sheet'!A$11:CA$294,4,FALSE)),"",VLOOKUP(A54,'Master Sheet'!A$11:CA$294,4,FALSE))) | C54: =IF(AND(G$3=""),"",IF(AND('Master Sheet'!E55=""),"",'Master Sheet'!E55)) | D54: =IF(AND(B54=""),"",IF(AND($G$3=""),"",IF(AND($G$3="Hindi"),AP51,IF(AND($G$3="English"),AV51,IF(AND($G$3="Maths"),BB51,IF(AND($G$3="Sanskrit"),BH51,IF(AND($G$3="Science"),BN51,IF(AND($G$3="Social Science"),BT51,"")))))))) | E54: =IF(AND(B54=""),"",IF(AND($G$3=""),"",IF(AND($G$3="Hindi"),AQ51,IF(AND($G$3="English"),AW51,IF(AND($G$3="Maths"),BC51,IF(AND($G$3="Sanskrit"),BI51,IF(AND($G$3="Science"),BO51,IF(AND($G$3="Social Science"),BU51,"")))))))) | F54: =IF(AND(B54=""),"",IF(AND($G$3=""),"",IF(AND($G$3="Hindi"),AR51,IF(AND($G$3="English"),AX51,IF(AND($G$3="Maths"),BD51,IF(AND($G$3="Sanskrit"),BJ51,IF(AND($G$3="Science"),BP51,IF(AND($G$3="Social Science"),BV51,"")))))))) | G54: =IF(AND(B54=""),"",IF(AND($G$3=""),"",IF(AND($G$3="Hindi"),AS51,IF(AND($G$3="English"),AY51,IF(AND($G$3="Maths"),BE51,IF(AND($G$3="Sanskrit"),BK51,IF(AND($G$3="Science"),BQ51,IF(AND($G$3="Social Science"),BW51,"")))))))) | H54: =IF(AND(B54=""),"",IF(AND($G$3=""),"",IF(AND($G$3="Hindi"),AT51,IF(AND($G$3="English"),AZ51,IF(AND($G$3="Maths"),BF51,IF(AND($G$3="Sanskrit"),BL51,IF(AND($G$3="Science"),BR51,IF(AND($G$3="Social Science"),BX51,"")))))))) | I54: =IF(AND(B54=""),"",IF(AND($G$3=""),"",IF(AND($G$3="Hindi"),AU51,IF(AND($G$3="English"),BA51,IF(AND($G$3="Maths"),BG51,IF(AND($G$3="Sanskrit"),BM51,IF(AND($G$3="Science"),BS51,IF(AND($G$3="Social Science"),BY51,"")))))))) | J54: =IF(AND(C54=""),"",IF(ISNA(VLOOKUP(A54,'Master Sheet'!A$11:CA$294,11,FALSE)),"",VLOOKUP(A54,'Master Sheet'!A$11:CA$294,11,FALSE))) | K54: =IF(AND(G$3=""),"",IF(AND(B54=""),"",IF(AND(J54="NON ELIGIBLE"),I54,(I54+J54)))) | AP54: ='Master Sheet'!L58 -> 0 | AQ54: ='Master Sheet'!M58 -> 0 | AR54: ='Master Sheet'!N58 -> 0 | AS54: ='Master Sheet'!O58 -> 0 | AT54: ='Master Sheet'!P58 | AU54: ='Master Sheet'!Q58 | AV54: ='Master Sheet'!S58 -> 0 | AW54: ='Master Sheet'!T58 -> 0 | AX54: ='Master Sheet'!U58 -> 0 | AY54: ='Master Sheet'!V58 -> 0 | AZ54: ='Master Sheet'!W58 | BA54: ='Master Sheet'!X58 | BB54: ='Master Sheet'!Z58 -> 0 | BC54: ='Master Sheet'!AA58 -> 0 | BD54: ='Master Sheet'!AB58 -> 0 | BE54: ='Master Sheet'!AC58 -> 0 | BF54: ='Master Sheet'!AD58 | BG54: ='Master Sheet'!AE58 | BH54: ='Master Sheet'!AG58 -> 0 | BI54: ='Master Sheet'!AH58 -> 0 | BJ54: ='Master Sheet'!AI58 -> 0 | BK54: ='Master Sheet'!AJ58 -> 0 | BL54: ='Master Sheet'!AK58 | BM54: ='Master Sheet'!AL58 | BN54: ='Master Sheet'!AN58 -> 0 | BO54: ='Master Sheet'!AO58 -> 0 | BP54: ='Master Sheet'!AP58 -> 0 | BQ54: ='Master Sheet'!AQ58 -> 0 | BR54: ='Master Sheet'!AR58 | BS54: ='Master Sheet'!AS58 | BT54: ='Master Sheet'!AU58 -> 0 | BU54: ='Master Sheet'!AV58 -> 0 | BV54: ='Master Sheet'!AW58 -> 0 | BW54: ='Master Sheet'!AX58 -> 0 | BX54: ='Master Sheet'!AY58 | BY54: ='Master Sheet'!AZ58
A55: 46 | B55: =IF(AND(C55=""),"",IF(ISNA(VLOOKUP(A55,'Master Sheet'!A$11:CA$294,4,FALSE)),"",VLOOKUP(A55,'Master Sheet'!A$11:CA$294,4,FALSE))) | C55: =IF(AND(G$3=""),"",IF(AND('Master Sheet'!E56=""),"",'Master Sheet'!E56)) | D55: =IF(AND(B55=""),"",IF(AND($G$3=""),"",IF(AND($G$3="Hindi"),AP52,IF(AND($G$3="English"),AV52,IF(AND($G$3="Maths"),BB52,IF(AND($G$3="Sanskrit"),BH52,IF(AND($G$3="Science"),BN52,IF(AND($G$3="Social Science"),BT52,"")))))))) | E55: =IF(AND(B55=""),"",IF(AND($G$3=""),"",IF(AND($G$3="Hindi"),AQ52,IF(AND($G$3="English"),AW52,IF(AND($G$3="Maths"),BC52,IF(AND($G$3="Sanskrit"),BI52,IF(AND($G$3="Science"),BO52,IF(AND($G$3="Social Science"),BU52,"")))))))) | F55: =IF(AND(B55=""),"",IF(AND($G$3=""),"",IF(AND($G$3="Hindi"),AR52,IF(AND($G$3="English"),AX52,IF(AND($G$3="Maths"),BD52,IF(AND($G$3="Sanskrit"),BJ52,IF(AND($G$3="Science"),BP52,IF(AND($G$3="Social Science"),BV52,"")))))))) | G55: =IF(AND(B55=""),"",IF(AND($G$3=""),"",IF(AND($G$3="Hindi"),AS52,IF(AND($G$3="English"),AY52,IF(AND($G$3="Maths"),BE52,IF(AND($G$3="Sanskrit"),BK52,IF(AND($G$3="Science"),BQ52,IF(AND($G$3="Social Science"),BW52,"")))))))) | H55: =IF(AND(B55=""),"",IF(AND($G$3=""),"",IF(AND($G$3="Hindi"),AT52,IF(AND($G$3="English"),AZ52,IF(AND($G$3="Maths"),BF52,IF(AND($G$3="Sanskrit"),BL52,IF(AND($G$3="Science"),BR52,IF(AND($G$3="Social Science"),BX52,"")))))))) | I55: =IF(AND(B55=""),"",IF(AND($G$3=""),"",IF(AND($G$3="Hindi"),AU52,IF(AND($G$3="English"),BA52,IF(AND($G$3="Maths"),BG52,IF(AND($G$3="Sanskrit"),BM52,IF(AND($G$3="Science"),BS52,IF(AND($G$3="Social Science"),BY52,"")))))))) | J55: =IF(AND(C55=""),"",IF(ISNA(VLOOKUP(A55,'Master Sheet'!A$11:CA$294,11,FALSE)),"",VLOOKUP(A55,'Master Sheet'!A$11:CA$294,11,FALSE))) | K55: =IF(AND(G$3=""),"",IF(AND(B55=""),"",IF(AND(J55="NON ELIGIBLE"),I55,(I55+J55)))) | AP55: ='Master Sheet'!L59 -> 0 | AQ55: ='Master Sheet'!M59 -> 0 | AR55: ='Master Sheet'!N59 -> 0 | AS55: ='Master Sheet'!O59 -> 0 | AT55: ='Master Sheet'!P59 | AU55: ='Master Sheet'!Q59 | AV55: ='Master Sheet'!S59 -> 0 | AW55: ='Master Sheet'!T59 -> 0 | AX55: ='Master Sheet'!U59 -> 0 | AY55: ='Master Sheet'!V59 -> 0 | AZ55: ='Master Sheet'!W59 | BA55: ='Master Sheet'!X59 | BB55: ='Master Sheet'!Z59 -> 0 | BC55: ='Master Sheet'!AA59 -> 0 | BD55: ='Master Sheet'!AB59 -> 0 | BE55: ='Master Sheet'!AC59 -> 0 | BF55: ='Master Sheet'!AD59 | BG55: ='Master Sheet'!AE59 | BH55: ='Master Sheet'!AG59 -> 0 | BI55: ='Master Sheet'!AH59 -> 0 | BJ55: ='Master Sheet'!AI59 -> 0 | BK55: ='Master Sheet'!AJ59 -> 0 | BL55: ='Master Sheet'!AK59 | BM55: ='Master Sheet'!AL59 | BN55: ='Master Sheet'!AN59 -> 0 | BO55: ='Master Sheet'!AO59 -> 0 | BP55: ='Master Sheet'!AP59 -> 0 | BQ55: ='Master Sheet'!AQ59 -> 0 | BR55: ='Master Sheet'!AR59 | BS55: ='Master Sheet'!AS59 | BT55: ='Master Sheet'!AU59 -> 0 | BU55: ='Master Sheet'!AV59 -> 0 | BV55: ='Master Sheet'!AW59 -> 0 | BW55: ='Master Sheet'!AX59 -> 0 | BX55: ='Master Sheet'!AY59 | BY55: ='Master Sheet'!AZ59
A56: 47 | B56: =IF(AND(C56=""),"",IF(ISNA(VLOOKUP(A56,'Master Sheet'!A$11:CA$294,4,FALSE)),"",VLOOKUP(A56,'Master Sheet'!A$11:CA$294,4,FALSE))) | C56: =IF(AND(G$3=""),"",IF(AND('Master Sheet'!E57=""),"",'Master Sheet'!E57)) | D56: =IF(AND(B56=""),"",IF(AND($G$3=""),"",IF(AND($G$3="Hindi"),AP53,IF(AND($G$3="English"),AV53,IF(AND($G$3="Maths"),BB53,IF(AND($G$3="Sanskrit"),BH53,IF(AND($G$3="Science"),BN53,IF(AND($G$3="Social Science"),BT53,"")))))))) | E56: =IF(AND(B56=""),"",IF(AND($G$3=""),"",IF(AND($G$3="Hindi"),AQ53,IF(AND($G$3="English"),AW53,IF(AND($G$3="Maths"),BC53,IF(AND($G$3="Sanskrit"),BI53,IF(AND($G$3="Science"),BO53,IF(AND($G$3="Social Science"),BU53,"")))))))) | F56: =IF(AND(B56=""),"",IF(AND($G$3=""),"",IF(AND($G$3="Hindi"),AR53,IF(AND($G$3="English"),AX53,IF(AND($G$3="Maths"),BD53,IF(AND($G$3="Sanskrit"),BJ53,IF(AND($G$3="Science"),BP53,IF(AND($G$3="Social Science"),BV53,"")))))))) | G56: =IF(AND(B56=""),"",IF(AND($G$3=""),"",IF(AND($G$3="Hindi"),AS53,IF(AND($G$3="English"),AY53,IF(AND($G$3="Maths"),BE53,IF(AND($G$3="Sanskrit"),BK53,IF(AND($G$3="Science"),BQ53,IF(AND($G$3="Social Science"),BW53,"")))))))) | H56: =IF(AND(B56=""),"",IF(AND($G$3=""),"",IF(AND($G$3="Hindi"),AT53,IF(AND($G$3="English"),AZ53,IF(AND($G$3="Maths"),BF53,IF(AND($G$3="Sanskrit"),BL53,IF(AND($G$3="Science"),BR53,IF(AND($G$3="Social Science"),BX53,"")))))))) | I56: =IF(AND(B56=""),"",IF(AND($G$3=""),"",IF(AND($G$3="Hindi"),AU53,IF(AND($G$3="English"),BA53,IF(AND($G$3="Maths"),BG53,IF(AND($G$3="Sanskrit"),BM53,IF(AND($G$3="Science"),BS53,IF(AND($G$3="Social Science"),BY53,"")))))))) | J56: =IF(AND(C56=""),"",IF(ISNA(VLOOKUP(A56,'Master Sheet'!A$11:CA$294,11,FALSE)),"",VLOOKUP(A56,'Master Sheet'!A$11:CA$294,11,FALSE))) | K56: =IF(AND(G$3=""),"",IF(AND(B56=""),"",IF(AND(J56="NON ELIGIBLE"),I56,(I56+J56)))) | AP56: ='Master Sheet'!L60 -> 0 | AQ56: ='Master Sheet'!M60 -> 0 | AR56: ='Master Sheet'!N60 -> 0 | AS56: ='Master Sheet'!O60 -> 0 | AT56: ='Master Sheet'!P60 | AU56: ='Master Sheet'!Q60 | AV56: ='Master Sheet'!S60 -> 0 | AW56: ='Master Sheet'!T60 -> 0 | AX56: ='Master Sheet'!U60 -> 0 | AY56: ='Master Sheet'!V60 -> 0 | AZ56: ='Master Sheet'!W60 | BA56: ='Master Sheet'!X60 | BB56: ='Master Sheet'!Z60 -> 0 | BC56: ='Master Sheet'!AA60 -> 0 | BD56: ='Master Sheet'!AB60 -> 0 | BE56: ='Master Sheet'!AC60 -> 0 | BF56: ='Master Sheet'!AD60 | BG56: ='Master Sheet'!AE60 | BH56: ='Master Sheet'!AG60 -> 0 | BI56: ='Master Sheet'!AH60 -> 0 | BJ56: ='Master Sheet'!AI60 -> 0 | BK56: ='Master Sheet'!AJ60 -> 0 | BL56: ='Master Sheet'!AK60 | BM56: ='Master Sheet'!AL60 | BN56: ='Master Sheet'!AN60 -> 0 | BO56: ='Master Sheet'!AO60 -> 0 | BP56: ='Master Sheet'!AP60 -> 0 | BQ56: ='Master Sheet'!AQ60 -> 0 | BR56: ='Master Sheet'!AR60 | BS56: ='Master Sheet'!AS60 | BT56: ='Master Sheet'!AU60 -> 0 | BU56: ='Master Sheet'!AV60 -> 0 | BV56: ='Master Sheet'!AW60 -> 0 | BW56: ='Master Sheet'!AX60 -> 0 | BX56: ='Master Sheet'!AY60 | BY56: ='Master Sheet'!AZ60
A57: 48 | B57: =IF(AND(C57=""),"",IF(ISNA(VLOOKUP(A57,'Master Sheet'!A$11:CA$294,4,FALSE)),"",VLOOKUP(A57,'Master Sheet'!A$11:CA$294,4,FALSE))) | C57: =IF(AND(G$3=""),"",IF(AND('Master Sheet'!E58=""),"",'Master Sheet'!E58)) | D57: =IF(AND(B57=""),"",IF(AND($G$3=""),"",IF(AND($G$3="Hindi"),AP54,IF(AND($G$3="English"),AV54,IF(AND($G$3="Maths"),BB54,IF(AND($G$3="Sanskrit"),BH54,IF(AND($G$3="Science"),BN54,IF(AND($G$3="Social Science"),BT54,"")))))))) | E57: =IF(AND(B57=""),"",IF(AND($G$3=""),"",IF(AND($G$3="Hindi"),AQ54,IF(AND($G$3="English"),AW54,IF(AND($G$3="Maths"),BC54,IF(AND($G$3="Sanskrit"),BI54,IF(AND($G$3="Science"),BO54,IF(AND($G$3="Social Science"),BU54,"")))))))) | F57: =IF(AND(B57=""),"",IF(AND($G$3=""),"",IF(AND($G$3="Hindi"),AR54,IF(AND($G$3="English"),AX54,IF(AND($G$3="Maths"),BD54,IF(AND($G$3="Sanskrit"),BJ54,IF(AND($G$3="Science"),BP54,IF(AND($G$3="Social Science"),BV54,"")))))))) | G57: =IF(AND(B57=""),"",IF(AND($G$3=""),"",IF(AND($G$3="Hindi"),AS54,IF(AND($G$3="English"),AY54,IF(AND($G$3="Maths"),BE54,IF(AND($G$3="Sanskrit"),BK54,IF(AND($G$3="Science"),BQ54,IF(AND($G$3="Social Science"),BW54,"")))))))) | H57: =IF(AND(B57=""),"",IF(AND($G$3=""),"",IF(AND($G$3="Hindi"),AT54,IF(AND($G$3="English"),AZ54,IF(AND($G$3="Maths"),BF54,IF(AND($G$3="Sanskrit"),BL54,IF(AND($G$3="Science"),BR54,IF(AND($G$3="Social Science"),BX54,"")))))))) | I57: =IF(AND(B57=""),"",IF(AND($G$3=""),"",IF(AND($G$3="Hindi"),AU54,IF(AND($G$3="English"),BA54,IF(AND($G$3="Maths"),BG54,IF(AND($G$3="Sanskrit"),BM54,IF(AND($G$3="Science"),BS54,IF(AND($G$3="Social Science"),BY54,"")))))))) | J57: =IF(AND(C57=""),"",IF(ISNA(VLOOKUP(A57,'Master Sheet'!A$11:CA$294,11,FALSE)),"",VLOOKUP(A57,'Master Sheet'!A$11:CA$294,11,FALSE))) | K57: =IF(AND(G$3=""),"",IF(AND(B57=""),"",IF(AND(J57="NON ELIGIBLE"),I57,(I57+J57)))) | AP57: ='Master Sheet'!L61 -> 0 | AQ57: ='Master Sheet'!M61 -> 0 | AR57: ='Master Sheet'!N61 -> 0 | AS57: ='Master Sheet'!O61 -> 0 | AT57: ='Master Sheet'!P61 | AU57: ='Master Sheet'!Q61 | AV57: ='Master Sheet'!S61 -> 0 | AW57: ='Master Sheet'!T61 -> 0 | AX57: ='Master Sheet'!U61 -> 0 | AY57: ='Master Sheet'!V61 -> 0 | AZ57: ='Master Sheet'!W61 | BA57: ='Master Sheet'!X61 | BB57: ='Master Sheet'!Z61 -> 0 | BC57: ='Master Sheet'!AA61 -> 0 | BD57: ='Master Sheet'!AB61 -> 0 | BE57: ='Master Sheet'!AC61 -> 0 | BF57: ='Master Sheet'!AD61 | BG57: ='Master Sheet'!AE61 | BH57: ='Master Sheet'!AG61 -> 0 | BI57: ='Master Sheet'!AH61 -> 0 | BJ57: ='Master Sheet'!AI61 -> 0 | BK57: ='Master Sheet'!AJ61 -> 0 | BL57: ='Master Sheet'!AK61 | BM57: ='Master Sheet'!AL61 | BN57: ='Master Sheet'!AN61 -> 0 | BO57: ='Master Sheet'!AO61 -> 0 | BP57: ='Master Sheet'!AP61 -> 0 | BQ57: ='Master Sheet'!AQ61 -> 0 | BR57: ='Master Sheet'!AR61 | BS57: ='Master Sheet'!AS61 | BT57: ='Master Sheet'!AU61 -> 0 | BU57: ='Master Sheet'!AV61 -> 0 | BV57: ='Master Sheet'!AW61 -> 0 | BW57: ='Master Sheet'!AX61 -> 0 | BX57: ='Master Sheet'!AY61 | BY57: ='Master Sheet'!AZ61
A58: 49 | B58: =IF(AND(C58=""),"",IF(ISNA(VLOOKUP(A58,'Master Sheet'!A$11:CA$294,4,FALSE)),"",VLOOKUP(A58,'Master Sheet'!A$11:CA$294,4,FALSE))) | C58: =IF(AND(G$3=""),"",IF(AND('Master Sheet'!E59=""),"",'Master Sheet'!E59)) | D58: =IF(AND(B58=""),"",IF(AND($G$3=""),"",IF(AND($G$3="Hindi"),AP55,IF(AND($G$3="English"),AV55,IF(AND($G$3="Maths"),BB55,IF(AND($G$3="Sanskrit"),BH55,IF(AND($G$3="Science"),BN55,IF(AND($G$3="Social Science"),BT55,"")))))))) | E58: =IF(AND(B58=""),"",IF(AND($G$3=""),"",IF(AND($G$3="Hindi"),AQ55,IF(AND($G$3="English"),AW55,IF(AND($G$3="Maths"),BC55,IF(AND($G$3="Sanskrit"),BI55,IF(AND($G$3="Science"),BO55,IF(AND($G$3="Social Science"),BU55,"")))))))) | F58: =IF(AND(B58=""),"",IF(AND($G$3=""),"",IF(AND($G$3="Hindi"),AR55,IF(AND($G$3="English"),AX55,IF(AND($G$3="Maths"),BD55,IF(AND($G$3="Sanskrit"),BJ55,IF(AND($G$3="Science"),BP55,IF(AND($G$3="Social Science"),BV55,"")))))))) | G58: =IF(AND(B58=""),"",IF(AND($G$3=""),"",IF(AND($G$3="Hindi"),AS55,IF(AND($G$3="English"),AY55,IF(AND($G$3="Maths"),BE55,IF(AND($G$3="Sanskrit"),BK55,IF(AND($G$3="Science"),BQ55,IF(AND($G$3="Social Science"),BW55,"")))))))) | H58: =IF(AND(B58=""),"",IF(AND($G$3=""),"",IF(AND($G$3="Hindi"),AT55,IF(AND($G$3="English"),AZ55,IF(AND($G$3="Maths"),BF55,IF(AND($G$3="Sanskrit"),BL55,IF(AND($G$3="Science"),BR55,IF(AND($G$3="Social Science"),BX55,"")))))))) | I58: =IF(AND(B58=""),"",IF(AND($G$3=""),"",IF(AND($G$3="Hindi"),AU55,IF(AND($G$3="English"),BA55,IF(AND($G$3="Maths"),BG55,IF(AND($G$3="Sanskrit"),BM55,IF(AND($G$3="Science"),BS55,IF(AND($G$3="Social Science"),BY55,"")))))))) | J58: =IF(AND(C58=""),"",IF(ISNA(VLOOKUP(A58,'Master Sheet'!A$11:CA$294,11,FALSE)),"",VLOOKUP(A58,'Master Sheet'!A$11:CA$294,11,FALSE))) | K58: =IF(AND(G$3=""),"",IF(AND(B58=""),"",IF(AND(J58="NON ELIGIBLE"),I58,(I58+J58)))) | AP58: ='Master Sheet'!L62 -> 0 | AQ58: ='Master Sheet'!M62 -> 0 | AR58: ='Master Sheet'!N62 -> 0 | AS58: ='Master Sheet'!O62 -> 0 | AT58: ='Master Sheet'!P62 | AU58: ='Master Sheet'!Q62 | AV58: ='Master Sheet'!S62 -> 0 | AW58: ='Master Sheet'!T62 -> 0 | AX58: ='Master Sheet'!U62 -> 0 | AY58: ='Master Sheet'!V62 -> 0 | AZ58: ='Master Sheet'!W62 | BA58: ='Master Sheet'!X62 | BB58: ='Master Sheet'!Z62 -> 0 | BC58: ='Master Sheet'!AA62 -> 0 | BD58: ='Master Sheet'!AB62 -> 0 | BE58: ='Master Sheet'!AC62 -> 0 | BF58: ='Master Sheet'!AD62 | BG58: ='Master Sheet'!AE62 | BH58: ='Master Sheet'!AG62 -> 0 | BI58: ='Master Sheet'!AH62 -> 0 | BJ58: ='Master Sheet'!AI62 -> 0 | BK58: ='Master Sheet'!AJ62 -> 0 | BL58: ='Master Sheet'!AK62 | BM58: ='Master Sheet'!AL62 | BN58: ='Master Sheet'!AN62 -> 0 | BO58: ='Master Sheet'!AO62 -> 0 | BP58: ='Master Sheet'!AP62 -> 0 | BQ58: ='Master Sheet'!AQ62 -> 0 | BR58: ='Master Sheet'!AR62 | BS58: ='Master Sheet'!AS62 | BT58: ='Master Sheet'!AU62 -> 0 | BU58: ='Master Sheet'!AV62 -> 0 | BV58: ='Master Sheet'!AW62 -> 0 | BW58: ='Master Sheet'!AX62 -> 0 | BX58: ='Master Sheet'!AY62 | BY58: ='Master Sheet'!AZ62
A59: 50 | B59: =IF(AND(C59=""),"",IF(ISNA(VLOOKUP(A59,'Master Sheet'!A$11:CA$294,4,FALSE)),"",VLOOKUP(A59,'Master Sheet'!A$11:CA$294,4,FALSE))) | C59: =IF(AND(G$3=""),"",IF(AND('Master Sheet'!E60=""),"",'Master Sheet'!E60)) | D59: =IF(AND(B59=""),"",IF(AND($G$3=""),"",IF(AND($G$3="Hindi"),AP56,IF(AND($G$3="English"),AV56,IF(AND($G$3="Maths"),BB56,IF(AND($G$3="Sanskrit"),BH56,IF(AND($G$3="Science"),BN56,IF(AND($G$3="Social Science"),BT56,"")))))))) | E59: =IF(AND(B59=""),"",IF(AND($G$3=""),"",IF(AND($G$3="Hindi"),AQ56,IF(AND($G$3="English"),AW56,IF(AND($G$3="Maths"),BC56,IF(AND($G$3="Sanskrit"),BI56,IF(AND($G$3="Science"),BO56,IF(AND($G$3="Social Science"),BU56,"")))))))) | F59: =IF(AND(B59=""),"",IF(AND($G$3=""),"",IF(AND($G$3="Hindi"),AR56,IF(AND($G$3="English"),AX56,IF(AND($G$3="Maths"),BD56,IF(AND($G$3="Sanskrit"),BJ56,IF(AND($G$3="Science"),BP56,IF(AND($G$3="Social Science"),BV56,"")))))))) | G59: =IF(AND(B59=""),"",IF(AND($G$3=""),"",IF(AND($G$3="Hindi"),AS56,IF(AND($G$3="English"),AY56,IF(AND($G$3="Maths"),BE56,IF(AND($G$3="Sanskrit"),BK56,IF(AND($G$3="Science"),BQ56,IF(AND($G$3="Social Science"),BW56,"")))))))) | H59: =IF(AND(B59=""),"",IF(AND($G$3=""),"",IF(AND($G$3="Hindi"),AT56,IF(AND($G$3="English"),AZ56,IF(AND($G$3="Maths"),BF56,IF(AND($G$3="Sanskrit"),BL56,IF(AND($G$3="Science"),BR56,IF(AND($G$3="Social Science"),BX56,"")))))))) | I59: =IF(AND(B59=""),"",IF(AND($G$3=""),"",IF(AND($G$3="Hindi"),AU56,IF(AND($G$3="English"),BA56,IF(AND($G$3="Maths"),BG56,IF(AND($G$3="Sanskrit"),BM56,IF(AND($G$3="Science"),BS56,IF(AND($G$3="Social Science"),BY56,"")))))))) | J59: =IF(AND(C59=""),"",IF(ISNA(VLOOKUP(A59,'Master Sheet'!A$11:CA$294,11,FALSE)),"",VLOOKUP(A59,'Master Sheet'!A$11:CA$294,11,FALSE))) | K59: =IF(AND(G$3=""),"",IF(AND(B59=""),"",IF(AND(J59="NON ELIGIBLE"),I59,(I59+J59)))) | AP59: ='Master Sheet'!L63 -> 0 | AQ59: ='Master Sheet'!M63 -> 0 | AR59: ='Master Sheet'!N63 -> 0 | AS59: ='Master Sheet'!O63 -> 0 | AT59: ='Master Sheet'!P63 | AU59: ='Master Sheet'!Q63 | AV59: ='Master Sheet'!S63 -> 0 | AW59: ='Master Sheet'!T63 -> 0 | AX59: ='Master Sheet'!U63 -> 0 | AY59: ='Master Sheet'!V63 -> 0 | AZ59: ='Master Sheet'!W63 | BA59: ='Master Sheet'!X63 | BB59: ='Master Sheet'!Z63 -> 0 | BC59: ='Master Sheet'!AA63 -> 0 | BD59: ='Master Sheet'!AB63 -> 0 | BE59: ='Master Sheet'!AC63 -> 0 | BF59: ='Master Sheet'!AD63 | BG59: ='Master Sheet'!AE63 | BH59: ='Master Sheet'!AG63 -> 0 | BI59: ='Master Sheet'!AH63 -> 0 | BJ59: ='Master Sheet'!AI63 -> 0 | BK59: ='Master Sheet'!AJ63 -> 0 | BL59: ='Master Sheet'!AK63 | BM59: ='Master Sheet'!AL63 | BN59: ='Master Sheet'!AN63 -> 0 | BO59: ='Master Sheet'!AO63 -> 0 | BP59: ='Master Sheet'!AP63 -> 0 | BQ59: ='Master Sheet'!AQ63 -> 0 | BR59: ='Master Sheet'!AR63 | BS59: ='Master Sheet'!AS63 | BT59: ='Master Sheet'!AU63 -> 0 | BU59: ='Master Sheet'!AV63 -> 0 | BV59: ='Master Sheet'!AW63 -> 0 | BW59: ='Master Sheet'!AX63 -> 0 | BX59: ='Master Sheet'!AY63 | BY59: ='Master Sheet'!AZ63
A60: 51 | B60: =IF(AND(C60=""),"",IF(ISNA(VLOOKUP(A60,'Master Sheet'!A$11:CA$294,4,FALSE)),"",VLOOKUP(A60,'Master Sheet'!A$11:CA$294,4,FALSE))) | C60: =IF(AND(G$3=""),"",IF(AND('Master Sheet'!E61=""),"",'Master Sheet'!E61)) | D60: =IF(AND(B60=""),"",IF(AND($G$3=""),"",IF(AND($G$3="Hindi"),AP57,IF(AND($G$3="English"),AV57,IF(AND($G$3="Maths"),BB57,IF(AND($G$3="Sanskrit"),BH57,IF(AND($G$3="Science"),BN57,IF(AND($G$3="Social Science"),BT57,"")))))))) | E60: =IF(AND(B60=""),"",IF(AND($G$3=""),"",IF(AND($G$3="Hindi"),AQ57,IF(AND($G$3="English"),AW57,IF(AND($G$3="Maths"),BC57,IF(AND($G$3="Sanskrit"),BI57,IF(AND($G$3="Science"),BO57,IF(AND($G$3="Social Science"),BU57,"")))))))) | F60: =IF(AND(B60=""),"",IF(AND($G$3=""),"",IF(AND($G$3="Hindi"),AR57,IF(AND($G$3="English"),AX57,IF(AND($G$3="Maths"),BD57,IF(AND($G$3="Sanskrit"),BJ57,IF(AND($G$3="Science"),BP57,IF(AND($G$3="Social Science"),BV57,"")))))))) | G60: =IF(AND(B60=""),"",IF(AND($G$3=""),"",IF(AND($G$3="Hindi"),AS57,IF(AND($G$3="English"),AY57,IF(AND($G$3="Maths"),BE57,IF(AND($G$3="Sanskrit"),BK57,IF(AND($G$3="Science"),BQ57,IF(AND($G$3="Social Science"),BW57,"")))))))) | H60: =IF(AND(B60=""),"",IF(AND($G$3=""),"",IF(AND($G$3="Hindi"),AT57,IF(AND($G$3="English"),AZ57,IF(AND($G$3="Maths"),BF57,IF(AND($G$3="Sanskrit"),BL57,IF(AND($G$3="Science"),BR57,IF(AND($G$3="Social Science"),BX57,"")))))))) | I60: =IF(AND(B60=""),"",IF(AND($G$3=""),"",IF(AND($G$3="Hindi"),AU57,IF(AND($G$3="English"),BA57,IF(AND($G$3="Maths"),BG57,IF(AND($G$3="Sanskrit"),BM57,IF(AND($G$3="Science"),BS57,IF(AND($G$3="Social Science"),BY57,"")))))))) | J60: =IF(AND(C60=""),"",IF(ISNA(VLOOKUP(A60,'Master Sheet'!A$11:CA$294,11,FALSE)),"",VLOOKUP(A60,'Master Sheet'!A$11:CA$294,11,FALSE))) | K60: =IF(AND(G$3=""),"",IF(AND(B60=""),"",IF(AND(J60="NON ELIGIBLE"),I60,(I60+J60)))) | AP60: ='Master Sheet'!L64 -> 0 | AQ60: ='Master Sheet'!M64 -> 0 | AR60: ='Master Sheet'!N64 -> 0 | AS60: ='Master Sheet'!O64 -> 0 | AT60: ='Master Sheet'!P64 | AU60: ='Master Sheet'!Q64 | AV60: ='Master Sheet'!S64 -> 0 | AW60: ='Master Sheet'!T64 -> 0 | AX60: ='Master Sheet'!U64 -> 0 | AY60: ='Master Sheet'!V64 -> 0 | AZ60: ='Master Sheet'!W64 | BA60: ='Master Sheet'!X64 | BB60: ='Master Sheet'!Z64 -> 0 | BC60: ='Master Sheet'!AA64 -> 0 | BD60: ='Master Sheet'!AB64 -> 0 | BE60: ='Master Sheet'!AC64 -> 0 | BF60: ='Master Sheet'!AD64 | BG60: ='Master Sheet'!AE64 | BH60: ='Master Sheet'!AG64 -> 0 | BI60: ='Master Sheet'!AH64 -> 0 | BJ60: ='Master Sheet'!AI64 -> 0 | BK60: ='Master Sheet'!AJ64 -> 0 | BL60: ='Master Sheet'!AK64 | BM60: ='Master Sheet'!AL64 | BN60: ='Master Sheet'!AN64 -> 0 | BO60: ='Master Sheet'!AO64 -> 0 | BP60: ='Master Sheet'!AP64 -> 0 | BQ60: ='Master Sheet'!AQ64 -> 0 | BR60: ='Master Sheet'!AR64 | BS60: ='Master Sheet'!AS64 | BT60: ='Master Sheet'!AU64 -> 0 | BU60: ='Master Sheet'!AV64 -> 0 | BV60: ='Master Sheet'!AW64 -> 0 | BW60: ='Master Sheet'!AX64 -> 0 | BX60: ='Master Sheet'!AY64 | BY60: ='Master Sheet'!AZ64
A61: 52 | B61: =IF(AND(C61=""),"",IF(ISNA(VLOOKUP(A61,'Master Sheet'!A$11:CA$294,4,FALSE)),"",VLOOKUP(A61,'Master Sheet'!A$11:CA$294,4,FALSE))) | C61: =IF(AND(G$3=""),"",IF(AND('Master Sheet'!E62=""),"",'Master Sheet'!E62)) | D61: =IF(AND(B61=""),"",IF(AND($G$3=""),"",IF(AND($G$3="Hindi"),AP58,IF(AND($G$3="English"),AV58,IF(AND($G$3="Maths"),BB58,IF(AND($G$3="Sanskrit"),BH58,IF(AND($G$3="Science"),BN58,IF(AND($G$3="Social Science"),BT58,"")))))))) | E61: =IF(AND(B61=""),"",IF(AND($G$3=""),"",IF(AND($G$3="Hindi"),AQ58,IF(AND($G$3="English"),AW58,IF(AND($G$3="Maths"),BC58,IF(AND($G$3="Sanskrit"),BI58,IF(AND($G$3="Science"),BO58,IF(AND($G$3="Social Science"),BU58,"")))))))) | F61: =IF(AND(B61=""),"",IF(AND($G$3=""),"",IF(AND($G$3="Hindi"),AR58,IF(AND($G$3="English"),AX58,IF(AND($G$3="Maths"),BD58,IF(AND($G$3="Sanskrit"),BJ58,IF(AND($G$3="Science"),BP58,IF(AND($G$3="Social Science"),BV58,"")))))))) | G61: =IF(AND(B61=""),"",IF(AND($G$3=""),"",IF(AND($G$3="Hindi"),AS58,IF(AND($G$3="English"),AY58,IF(AND($G$3="Maths"),BE58,IF(AND($G$3="Sanskrit"),BK58,IF(AND($G$3="Science"),BQ58,IF(AND($G$3="Social Science"),BW58,"")))))))) | H61: =IF(AND(B61=""),"",IF(AND($G$3=""),"",IF(AND($G$3="Hindi"),AT58,IF(AND($G$3="English"),AZ58,IF(AND($G$3="Maths"),BF58,IF(AND($G$3="Sanskrit"),BL58,IF(AND($G$3="Science"),BR58,IF(AND($G$3="Social Science"),BX58,"")))))))) | I61: =IF(AND(B61=""),"",IF(AND($G$3=""),"",IF(AND($G$3="Hindi"),AU58,IF(AND($G$3="English"),BA58,IF(AND($G$3="Maths"),BG58,IF(AND($G$3="Sanskrit"),BM58,IF(AND($G$3="Science"),BS58,IF(AND($G$3="Social Science"),BY58,"")))))))) | J61: =IF(AND(C61=""),"",IF(ISNA(VLOOKUP(A61,'Master Sheet'!A$11:CA$294,11,FALSE)),"",VLOOKUP(A61,'Master Sheet'!A$11:CA$294,11,FALSE))) | K61: =IF(AND(G$3=""),"",IF(AND(B61=""),"",IF(AND(J61="NON ELIGIBLE"),I61,(I61+J61)))) | AP61: ='Master Sheet'!L65 -> 0 | AQ61: ='Master Sheet'!M65 -> 0 | AR61: ='Master Sheet'!N65 -> 0 | AS61: ='Master Sheet'!O65 -> 0 | AT61: ='Master Sheet'!P65 | AU61: ='Master Sheet'!Q65 | AV61: ='Master Sheet'!S65 -> 0 | AW61: ='Master Sheet'!T65 -> 0 | AX61: ='Master Sheet'!U65 -> 0 | AY61: ='Master Sheet'!V65 -> 0 | AZ61: ='Master Sheet'!W65 | BA61: ='Master Sheet'!X65 | BB61: ='Master Sheet'!Z65 -> 0 | BC61: ='Master Sheet'!AA65 -> 0 | BD61: ='Master Sheet'!AB65 -> 0 | BE61: ='Master Sheet'!AC65 -> 0 | BF61: ='Master Sheet'!AD65 | BG61: ='Master Sheet'!AE65 | BH61: ='Master Sheet'!AG65 -> 0 | BI61: ='Master Sheet'!AH65 -> 0 | BJ61: ='Master Sheet'!AI65 -> 0 | BK61: ='Master Sheet'!AJ65 -> 0 | BL61: ='Master Sheet'!AK65 | BM61: ='Master Sheet'!AL65 | BN61: ='Master Sheet'!AN65 -> 0 | BO61: ='Master Sheet'!AO65 -> 0 | BP61: ='Master Sheet'!AP65 -> 0 | BQ61: ='Master Sheet'!AQ65 -> 0 | BR61: ='Master Sheet'!AR65 | BS61: ='Master Sheet'!AS65 | BT61: ='Master Sheet'!AU65 -> 0 | BU61: ='Master Sheet'!AV65 -> 0 | BV61: ='Master Sheet'!AW65 -> 0 | BW61: ='Master Sheet'!AX65 -> 0 | BX61: ='Master Sheet'!AY65 | BY61: ='Master Sheet'!AZ65
... A94: 85 | B94: =IF(AND(C94=""),"",IF(ISNA(VLOOKUP(A94,'Master Sheet'!A$11:CA$294,4,FALSE)),"",VLOOKUP(A94,'Master Sheet'!A$11:CA$294,4,FALSE))) | C94: =IF(AND(G$3=""),"",IF(AND('Master Sheet'!E95=""),"",'Master Sheet'!E95)) | D94: =IF(AND(B94=""),"",IF(AND($G$3=""),"",IF(AND($G$3="Hindi"),AP91,IF(AND($G$3="English"),AV91,IF(AND($G$3="Maths"),BB91,IF(AND($G$3="Sanskrit"),BH91,IF(AND($G$3="Science"),BN91,IF(AND($G$3="Social Science"),BT91,"")))))))) | E94: =IF(AND(B94=""),"",IF(AND($G$3=""),"",IF(AND($G$3="Hindi"),AQ91,IF(AND($G$3="English"),AW91,IF(AND($G$3="Maths"),BC91,IF(AND($G$3="Sanskrit"),BI91,IF(AND($G$3="Science"),BO91,IF(AND($G$3="Social Science"),BU91,"")))))))) | F94: =IF(AND(B94=""),"",IF(AND($G$3=""),"",IF(AND($G$3="Hindi"),AR91,IF(AND($G$3="English"),AX91,IF(AND($G$3="Maths"),BD91,IF(AND($G$3="Sanskrit"),BJ91,IF(AND($G$3="Science"),BP91,IF(AND($G$3="Social Science"),BV91,"")))))))) | G94: =IF(AND(B94=""),"",IF(AND($G$3=""),"",IF(AND($G$3="Hindi"),AS91,IF(AND($G$3="English"),AY91,IF(AND($G$3="Maths"),BE91,IF(AND($G$3="Sanskrit"),BK91,IF(AND($G$3="Science"),BQ91,IF(AND($G$3="Social Science"),BW91,"")))))))) | H94: =IF(AND(B94=""),"",IF(AND($G$3=""),"",IF(AND($G$3="Hindi"),AT91,IF(AND($G$3="English"),AZ91,IF(AND($G$3="Maths"),BF91,IF(AND($G$3="Sanskrit"),BL91,IF(AND($G$3="Science"),BR91,IF(AND($G$3="Social Science"),BX91,"")))))))) | I94: =IF(AND(B94=""),"",IF(AND($G$3=""),"",IF(AND($G$3="Hindi"),AU91,IF(AND($G$3="English"),BA91,IF(AND($G$3="Maths"),BG91,IF(AND($G$3="Sanskrit"),BM91,IF(AND($G$3="Science"),BS91,IF(AND($G$3="Social Science"),BY91,"")))))))) | J94: =IF(AND(C94=""),"",IF(ISNA(VLOOKUP(A94,'Master Sheet'!A$11:CA$294,11,FALSE)),"",VLOOKUP(A94,'Master Sheet'!A$11:CA$294,11,FALSE))) | K94: =IF(AND(G$3=""),"",IF(AND(B94=""),"",IF(AND(J94="NON ELIGIBLE"),I94,(I94+J94)))) | AP94: ='Master Sheet'!L98 -> 0 | AQ94: ='Master Sheet'!M98 -> 0 | AR94: ='Master Sheet'!N98 -> 0 | AS94: ='Master Sheet'!O98 -> 0 | AT94: ='Master Sheet'!P98 | AU94: ='Master Sheet'!Q98 | AV94: ='Master Sheet'!S98 -> 0 | AW94: ='Master Sheet'!T98 -> 0 | AX94: ='Master Sheet'!U98 -> 0 | AY94: ='Master Sheet'!V98 -> 0 | AZ94: ='Master Sheet'!W98 | BA94: ='Master Sheet'!X98 | BB94: ='Master Sheet'!Z98 -> 0 | BC94: ='Master Sheet'!AA98 -> 0 | BD94: ='Master Sheet'!AB98 -> 0 | BE94: ='Master Sheet'!AC98 -> 0 | BF94: ='Master Sheet'!AD98 | BG94: ='Master Sheet'!AE98 | BH94: ='Master Sheet'!AG98 -> 0 | BI94: ='Master Sheet'!AH98 -> 0 | BJ94: ='Master Sheet'!AI98 -> 0 | BK94: ='Master Sheet'!AJ98 -> 0 | BL94: ='Master Sheet'!AK98 | BM94: ='Master Sheet'!AL98 | BN94: ='Master Sheet'!AN98 -> 0 | BO94: ='Master Sheet'!AO98 -> 0 | BP94: ='Master Sheet'!AP98 -> 0 | BQ94: ='Master Sheet'!AQ98 -> 0 | BR94: ='Master Sheet'!AR98 | BS94: ='Master Sheet'!AS98 | BT94: ='Master Sheet'!AU98 -> 0 | BU94: ='Master Sheet'!AV98 -> 0 | BV94: ='Master Sheet'!AW98 -> 0 | BW94: ='Master Sheet'!AX98 -> 0 | BX94: ='Master Sheet'!AY98 | BY94: ='Master Sheet'!AZ98
B95: fo"k;k/;kid | G95: gLrk{kj laLFkk iz/kku | AP95: ='Master Sheet'!L99 -> 0 | AQ95: ='Master Sheet'!M99 -> 0 | AR95: ='Master Sheet'!N99 -> 0 | AS95: ='Master Sheet'!O99 -> 0 | AT95: ='Master Sheet'!P99 | AU95: ='Master Sheet'!Q99 | AV95: ='Master Sheet'!S99 -> 0 | AW95: ='Master Sheet'!T99 -> 0 | AX95: ='Master Sheet'!U99 -> 0 | AY95: ='Master Sheet'!V99 -> 0 | AZ95: ='Master Sheet'!W99 | BA95: ='Master Sheet'!X99 | BB95: ='Master Sheet'!Z99 -> 0 | BC95: ='Master Sheet'!AA99 -> 0 | BD95: ='Master Sheet'!AB99 -> 0 | BE95: ='Master Sheet'!AC99 -> 0 | BF95: ='Master Sheet'!AD99 | BG95: ='Master Sheet'!AE99 | BH95: ='Master Sheet'!AG99 -> 0 | BI95: ='Master Sheet'!AH99 -> 0 | BJ95: ='Master Sheet'!AI99 -> 0 | BK95: ='Master Sheet'!AJ99 -> 0 | BL95: ='Master Sheet'!AK99 | BM95: ='Master Sheet'!AL99 | BN95: ='Master Sheet'!AN99 -> 0 | BO95: ='Master Sheet'!AO99 -> 0 | BP95: ='Master Sheet'!AP99 -> 0 | BQ95: ='Master Sheet'!AQ99 -> 0 | BR95: ='Master Sheet'!AR99 | BS95: ='Master Sheet'!AS99 | BT95: ='Master Sheet'!AU99 -> 0 | BU95: ='Master Sheet'!AV99 -> 0 | BV95: ='Master Sheet'!AW99 -> 0 | BW95: ='Master Sheet'!AX99 -> 0 | BX95: ='Master Sheet'!AY99 | BY95: ='Master Sheet'!AZ99
A96: Ø-l- | B96: fo|kFkhZ dk uke | C96: cksMZ jksy uEcj | D96: izFke ewY;ka- | E96: f}rh; ewY;k- | F96: r`rh; ewY;k- | G96: v)Z okf"kZd | H96: loZ ;ksx | I96: l=kad | AP96: ='Master Sheet'!L100 -> 0 | AQ96: ='Master Sheet'!M100 -> 0 | AR96: ='Master Sheet'!N100 -> 0 | AS96: ='Master Sheet'!O100 -> 0 | AT96: ='Master Sheet'!P100 | AU96: ='Master Sheet'!Q100 | AV96: ='Master Sheet'!S100 -> 0 | AW96: ='Master Sheet'!T100 -> 0 | AX96: ='Master Sheet'!U100 -> 0 | AY96: ='Master Sheet'!V100 -> 0 | AZ96: ='Master Sheet'!W100 | BA96: ='Master Sheet'!X100 | BB96: ='Master Sheet'!Z100 -> 0 | BC96: ='Master Sheet'!AA100 -> 0 | BD96: ='Master Sheet'!AB100 -> 0 | BE96: ='Master Sheet'!AC100 -> 0 | BF96: ='Master Sheet'!AD100 | BG96: ='Master Sheet'!AE100 | BH96: ='Master Sheet'!AG100 -> 0 | BI96: ='Master Sheet'!AH100 -> 0 | BJ96: ='Master Sheet'!AI100 -> 0 | BK96: ='Master Sheet'!AJ100 -> 0 | BL96: ='Master Sheet'!AK100 | BM96: ='Master Sheet'!AL100 | BN96: ='Master Sheet'!AN100 -> 0 | BO96: ='Master Sheet'!AO100 -> 0 | BP96: ='Master Sheet'!AP100 -> 0 | BQ96: ='Master Sheet'!AQ100 -> 0 | BR96: ='Master Sheet'!AR100 | BS96: ='Master Sheet'!AS100 | BT96: ='Master Sheet'!AU100 -> 0 | BU96: ='Master Sheet'!AV100 -> 0 | BV96: ='Master Sheet'!AW100 -> 0 | BW96: ='Master Sheet'!AX100 -> 0 | BX96: ='Master Sheet'!AY100 | BY96: ='Master Sheet'!AZ100
